{"text_format":"1","workbook":"xlsx","n_sheets":18,"sheets":["地区選手権","注意事項","①団体情報入力","②選手情報入力","③リレー情報確認","④種目別人数","⑤大会前 提出用","⑥大会後 個人管理用","⑦ADカード申請","⑧リレーの選手が反映されない","⑨日付が数字になる","　　　　　","種目情報","data_kyogisha","data_team","資格","Sheet6","Sheet3"],"not_rendered":{"charts":0,"images":9,"macros":0,"external_links":4,"defined_names":67,"comments":2,"pivot_tables":0},"unopened":[],"bounds":{"document_bytes":16777216,"sheet_cells":100000,"rows_first":2000,"rows_last":500,"rows_between":2000,"halvings":0,"cell_chars":16384,"cell_head_chars":4096},"cells_cut":0,"cells_raw":0,"read":"whole","date_system":"1900"}

{"sheet":"地区選手権","index":0,"n_rows":103,"n_cols":8,"rows_kept":103,"cut":false,"hidden":false,"merged":[[102,1,102,2],[102,5,102,6],[96,7,97,7],[98,0,99,0],[98,3,99,3],[98,4,99,4],[98,5,99,6],[98,7,99,7],[100,0,101,0],[100,3,101,3],[100,4,101,4],[100,5,101,6],[100,7,101,7],[94,1,94,2],[94,5,94,6],[95,1,95,2],[95,5,95,6],[96,0,97,0],[96,3,97,3],[96,4,97,4],[96,5,97,6],[91,1,91,2],[91,4,91,7],[92,1,92,2],[92,5,92,6],[93,1,93,2],[93,5,93,6],[88,1,88,2],[88,5,88,6],[89,1,89,2],[89,5,89,6],[90,1,90,2],[90,5,90,6],[85,1,85,2],[85,5,85,6],[86,1,86,2],[86,5,86,6],[87,1,87,2],[87,5,87,6],[82,1,82,2],[82,5,82,6],[83,1,83,2],[83,5,83,6],[84,1,84,2],[84,5,84,6],[81,0,81,3],[81,4,81,7],[56,2,56,3],[56,5,56,7],[57,1,57,7],[66,1,66,6],[68,1,68,6],[69,1,69,6],[70,1,70,6],[72,1,72,6],[76,1,76,6],[77,1,77,6],[79,0,80,7],[0,0,0,5],[51,1,51,6],[1,0,1,7],[2,0,4,7],[6,1,6,2],[6,3,6,4],[6,5,6,6],[7,5,7,6],[8,2,8,3],[9,1,9,6],[16,2,16,3],[30,1,30,6]]}
["第４９回名古屋地区陸上競技選手権大会　",null,null,null,null,null,"訂正版"]
["＊人数制限のため、ターゲットナンバーを設定しました。"]
["各種目の出場可能な人数をターゲットナンバーとして設定します。エントリー数でターゲットナンバーを超えることが生じた場合は、下記記の参加標準記録を有する競技者であっても参加を制限されることがあります。"]
[]
[]
[]
["１．期  日 ","2021-10-02",null,"2021-10-03"]
["２．場  所","パロマ瑞穂北陸上競技場"]
["３．種　目","◎第１日",{"$f":"B7","v":"2021-10-02"}]
[null,"※今年度は、男子１００００ｍ，男女５０００ｍＷは6月の夏季競技会で実施します。"]
[null,"（男子）"]
[null,"１００ｍ，４００ｍ，１５００ｍ，１１０ｍＨ(1.067m)，３０００ｍＳＣ(0.914m)，"]
[null,"４×１００ｍＲ，棒高跳，三段跳，砲丸投(7.260kg)，やり投(0.800kg)"]
[null,"（女子）"]
[null,"１００ｍ，４００ｍ，１５００ｍ，１００ｍＨ(0.840m)，４×１００ｍＲ，"]
[null,"棒高跳，走幅跳，砲丸投(4.000kg)，やり投(0.600kg)"]
[null,"◎第２日",{"$f":"D7","v":"2021-10-03"}]
[null,"（男子）"]
[null,"２００ｍ，８００ｍ，５０００ｍ，４００ｍＨ(0.914m)，４×４００ｍＲ，"]
[null,"走高跳，走幅跳，円盤投(2.000kg)，ハンマー投(7.260kg)"]
[null,"（女子）"]
[null,"２００ｍ，８００ｍ，４００ｍＨ(0.762m)，５０００ｍ，４×４００ｍＲ，"]
[null,"走高跳，三段跳，円盤投(1.000kg)，ハンマー投(4.000kg)"]
["４．参加について","＊各種目のターゲットナンバー（出場数の上限）を上限に正式参加者とします。"]
[null,"＊下記標準記録を超えた方のみ申込できます。"]
[null," ●申込締切後、資格審査を行い正式参加者を９月１７日（金）までに "]
[null,"　　名古屋地区陸協ホームページに掲載します。 "]
[null,"　　発表後に参加料を振り込んでください。振込票は一覧表に添付して"]
[null,"　　守山郵便局私書箱１４号にに郵送してください。"]
[null,"・１人１日１種目（リレー種目は除く）、リレーは１団体１チームとします。"]
[null,"・中学生は愛知陸協（名古屋地区）の登録番号で申し込んでください。\n　 中体連学校番号では、出場できません。"]
[null,"・他地区、他県登録者の参加は認めていません。"]
[null,"・中学生は、太字で示した種目に限りの出場できます。"]
[null,"・団体情報シートをプリントアウトして、参加料振込用紙のコピーを添付して"]
[null,"　　 〒463-8799 守山郵便局私書箱１４号まで郵送してください。"]
[]
["５．参加料","１種目　高校生以上８００円　中学生６００円　　"]
[null,"リレー　１チーム１２００円"]
[null,"プログラム事前申し込み１部",null,"１４００円","プロクラムの当日販売は行いません"]
[]
[null,"メールアドレス　　　","nagoyasensyuken.99@gmail.com"]
[]
["６．申込について","＊申し込みはメールを最優先してください。メール未送信の場合は受け付けできません。"]
[null,"＊申し込みのファイルは、各カテゴリーのものを使用してください。"]
[]
[null,"メール送信期間９月６日(月)～９月１３日(月)"]
[null,"振込期間９月１７日(金)～９月２４日（金)",null,null,"⬅正式な参加者が確定後に振込を行ってください。"]
[null,"郵送期間９月２１日(火)～９月２５日(土)"]
[]
["７．大会参加料の納入先"]
[null,"☆郵便振替"]
[null,"払込取扱票に必要事項を記入し、郵便振替払込請求書兼受領証の写しを「種目別申込人数一覧表」の貼付欄に貼付してください。振替用紙は郵便局に備え付けの青の振込取扱票を使用し、下記の事項を必ず記入してください。"]
[null,"口座番号",null,"00870 = 3 = 90904"]
[null,"加入者名",null,"名古屋地区陸上競技協会"]
[null,"金　　額",null,"参加料（プログラム代も含める）【申込一覧表の合計金額】"]
[null,"通信欄に記入事項（おところ、おなまえの他に）"]
[null,null,"①申込大会名（大会期日）",null,null,"②申込団体名・学校名のいずれか"]
[null,"ゆうちょ銀行以外からの振り込みを行う場合は、以下の番号を使用してください。"]
[null,"店名","〇八九","店",null,"店番","０８９"]
[null,null,"ｾﾞﾛﾊﾁｷｭｳ"]
[null,"預金項目","２","当座預金",null,"口座番号","００９０９０４"]
[]
[null,"振込口座の間違いにお気をつけください。"]
[null,"団体名が判らなくなりますので、"]
[null,"振込団体名に、ｱｲﾁｹﾝﾘﾂやﾅｺﾞﾔｼﾘﾂなどは、絶対に付けないでください"]
[]
["８．表彰について","各種目とも優勝者には賞状と選手権賞、２位～８位までには賞状を授与しますが、表彰式は行いません。"]
[]
["９．その他","・棒高跳の試技は、男子３ｍ５０、女子２ｍ２０から行います。（天候・その他の理由で開始の高さを変更する場合があります）"]
[null,"・三段跳の踏切版は、男子１０ｍ、女子８ｍで実施します。"]
[null,"・時間プログラム、受付一覧、大会注意事項は、大会7日前程度に愛知陸協ホームページ"]
[null,"    （愛知陸協で検索）にアップします。"]
[null,"http://www.aichi-rk.jp/01_01nittei.htm"]
[null,"・メールの件名には、必ず団体名を記入してください。"]
[null,"・申込ファイル名も団体名に変えてから送信してください。"]
[null,"・問合せは、申込みアドレスに件名を問合せとして送信願います。"]
[null,"・競技中に発生した負傷・傷病の応急処置は主催者において行いますが、以後の責任は負いません。"]
[null,"・個人情報の扱いについて\n　名古屋地区陸協は、個人情報保護に関する法令を遵守し、日本陸上競技連盟個人情報保護方針に基づいて取り扱います。尚、取得した個人情報は大会の資格審査、プログラム編成及び作成、記録発表、その他競技運営及び陸上競技に必要な連絡等に使用します。\n＊この競技会の記録は、日本陸連の公認対象です。\n＊本競技会の結果は、記録速報のほかリザルトが公表されます。結果には、順位・記録のほか選手の氏名・所属・学年を含みます。\n"]
["10.標準記録等","・2021年度から、選手権のみ実施します。"]
["参加標準記録(上記の記録）を規定有効期間内に突破した競技者。\n（有効期間２０１９年１月１日～２０２１年９月１２日）\n\n各種目の出場可能な人数をターゲットナンバーとして設定します。エントリー数でターゲットナンバーを超えることが生じた場合は、上記の参加標準記録を有する競技者であっても参加を制限されることがあります。"]
[]
["男子",null,null,null,"女子"]
["種目","記録",null,"ターゲットナンバー","種目","記録",null,"ターゲットナンバー"]
["100m","11.20",null,56,"100m","12.64",null,56]
["200m",22.94,null,56,"200m",27.94,null,56]
["400m",52.04,null,48,"400m","1.02.04",null,48]
["800m","2.02.54",null,48,"800m","2.32.00",null,48]
["1500m","4.15.00",null,56,"1500m","5.15.00",null,56]
["5000m","15.45.00\n(20分で競技を打切ります)",null,30,"5000m","設定しません\n(25分で競技を打切ります)",null,30]
["110mH",16.940000000000001,null,32,"100mH",16.940000000000001,null,32]
["400mH","設定しません",null,32,"400mH","設定しません",null,32]
["3000mSC","10.45.00",null,20]
["走高跳","1m75",null,24,"走高跳","1m45",null,24]
["棒高跳","設定しません",null,20,"棒高跳","設定しません",null,20]
["走幅跳","6m３０",null,32,"走幅跳","５m００",null,32]
["三段跳","1１m７0",null,32,"三段跳","9m10",null,32]
["砲丸投(7.260kg)","7.260kg","８ｍ５０",30,"砲丸投(4.000kg)","１０ｍ００",null,30]
[null,"6.000kg","１１ｍ５０"]
["円盤投(2.000kg)","2.000kg","３０ｍ００",24,"円盤投(1.000kg)","25m00",null,24]
[null,"1.750kg","３３ｍ００"]
["ハンマー投\n(7.260kg)","7.260kg","３０ｍ００",24,"ハンマー投\n(4.000kg)","３０ｍ００",null,24]
[null,"6.000kg","３５ｍ００"]
["やり投","４５ｍ００",null,32,"やり投","３５ｍ００",null,32]

{"sheet":"注意事項","index":1,"n_rows":71,"n_cols":10,"rows_kept":71,"cut":false,"hidden":false,"merged":[[2,2,2,11],[0,0,0,13],[4,2,4,7],[3,2,3,5],[3,6,3,8],[23,1,23,9],[32,1,32,19],[16,1,16,14],[6,1,6,7],[7,1,7,7],[8,1,8,7]]}
["　★データ入力前にこのページの内容を必ずお読みください。"]
[]
[null,"大会名",{"$f":"地区選手権!A1","v":"第４９回名古屋地区陸上競技選手権大会　"}]
[null,"期　日",{"$f":"地区選手権!B7","v":"2021-10-02"},null,null,null,{"$f":"地区選手権!D7","v":"2021-10-03"}]
[null,"会　場",{"$f":"地区選手権!B8","v":"パロマ瑞穂北陸上競技場"}]
[]
[null,{"$f":"地区選手権!B46","v":"メール送信期間９月６日(月)～９月１３日(月)"}]
[null,{"$f":"地区選手権!B47","v":"振込期間９月１７日(金)～９月２４日（金)"},null,null,null,null,null,null,"⬅","参加者が確定してから振込をしてください。"]
[null,{"$f":"地区選手権!B48","v":"郵送期間９月２１日(火)～９月２５日(土)"}]
[null,"日付が数字になる場合には、ホームタブの数値メニューのリストから"]
[null,"短い日付表示を選択してください。⑧日付が数字になる場合を参照してください。"]
["　＜注意事項等＞",null,"このファイルでは、個人登録(愛知陸協・マスターズ名古屋)の方は申し込めません."]
[]
[null,"エントリー確定後、参加が認められなかった選手・種目を削除してから、④種目別人数を印刷して"]
[null,"振込票のコピーを添付して郵送してください。このファイルは再送信の必要はありません。"]
[]
[null,"このファイルに、必要事項を入力してそのままのファイル形式でメールに添付して送信願います。\nエクセル互換ソフト・ＰＤＦ等では受付不可です。"]
[null,"※申込みファイルは全カテゴリー共通としました。①団体情報入力で、中学、一般大学高校の選択をお願いします。"]
[null,"　ドロップダウンリストは一般高校と中学生が別れています。選択間違えの無いように御気を付けください。"]
[null,"日本陸連の陸上競技活動再開のガイダンスに基づき、名古屋地区陸上競技協会は、感染防止に最大限の注意を払った上、"]
[null,"できる限り感染リスクを軽減させた競技会の運営に務めてまいります。"]
[null,"そこで、競技会に参加される皆様には、大会前後の体調を確認・記録し、大会前の体調については大会当日に提出をして頂きます。"]
[null,"①団体情報入力と②選手情報入力を行ってから、⑤大会前提出用⑥大会後個人管理用を印刷してお使いください。"]
[null,"※このファイルをメールに添付して送信してください！"]
[null,"　①ファイルの送信がないと受付けしたことにはなりません。"]
[null,"　②必ず、ファイル名を団体名に変更して下さい。また、メールの件名(タイトル：Subject)にも団体名を入れて下さい。"]
[null,"　③ファイルの内容に訂正がある場合は、ファイル名の後に必ず訂正版等の文字を入れて下さい。"]
[null,"　　選手を追加する場合に差分だけではなく、全員分のデータに追加する人を入力してください。"]
[null,"　④ファイルの送信忘れ・訂正時のファイル名の変更がない場合等によりプログラムから漏れた場合には、"]
[null,"　　トラックレースでは最後の組以降に新たに組を追加する場合があります。リレーの場合は、再番編を行う場合があります。"]
[null,"　　フィールド種目では、記録の近い組の最後に追加します。"]
[null,"　⑤リレー情報確認で、メンバーが反映されていることを必ず確認してください。"]
[null,"　　ナンバーが正しく入力されていて情報が反映されていない場合、選手情報入力シートのナンバーが左寄りになってい 　\n　　ます。この場合、ナンバーのセルが文字列になっていますので数値に変換してください。\n    方法は、⑦リレーの選手が反映されない場合の対処をご覧ください。"]
[null,"　⑥選手データ入力で、項目が変更･追加されています。JAAF登録データから貼り付けをお願いします。"]
[]
["　★作業の流れは次のとおりです。　データの入力は①②のシートのみです。"]
["　　①団体情報の入力"]
["↓","　・必要事項を入力してください。",null,null,null,"・プログラム購入部数もこちらで入力となります。"]
["　　②選手情報の入力"]
["↓","　　※種目はドロップダウンリストから選択してください。"]
["↓","　・参加選手のデータ、申込種目、記録を入力してください。"]
["↓","　　※入力は、男子を先に入力し、続けて女子を入力してください。"]
["↓","　　※氏名については、姓と名の間に全角スペースを１つ入れてください。"]
["↓","　　※ﾌﾘｶﾞﾅについては、姓と名の間に半角スペースを１つ入れてください。"]
["↓","　　※記録は、次のとおり入力してください。"]
["↓",null,"◎トラック種目・・・・分秒をドット「．」で区切り、100分の1秒まで入力"]
["↓",null,"例１",null,"54秒23","⇒",54.23]
["↓",null,"例２",null,"4分07秒00","⇒","4.07.00"]
["↓",null,null,"　 ※記録が１分未満で、10分の1以下が「00」"]
["↓",null,null,"　　 のときは整数で表示されます。"]
["↓",null,null,"例","12秒00","⇒",12]
["↓",null,"◎フィールド種目・・・メートルを「m」で区切り、cm単位まで入力（「cm」の文字は入れない）"]
["↓",null,"例３",null,"20m","⇒","20m00"]
["↓",null,"★記録がない場合は空欄にしてください。"]
["↓","　　※リレーに出場する選手は、リレー種目の欄へ「○」を入力してください。"]
["↓","　  ※リレーメンバーは、③リレー情報確認タブでご確認ください。"]
["　　③種目別人数の確認・印刷"]
["↓","　・種目ごとの申込人数と申込金額を確認してください。"]
["　　④ファイルの保存"]
["↓","　・ファイル名をチーム名（例：○○○）に変更し保存してください。メールに添付するときは、ファイル名がチーム名に"]
["↓","　　なっていることを確認してください。"]
["　　⑤メール送信"]
["↓","　・入力したファイルを添付して送信してください。アドレスは要項を確認してください。"]
["↓","　・メールの件名に「大会名」と「団体名」を入力してください。"]
["　　⑥参加料の振込"]
["↓","　・参加料を振り込んでください。"]
["　　⑦郵送"]
["↓","　・「④申し込み表」の余白に振込明細書のコピーを添付して郵送してください。"]
["↓",null,"送付先"]
["↓",null,"〒463-8799　守山郵便局　私書箱１４号　名古屋地区陸上競技協会"]
["　　⑧申込完了"]

{"sheet":"①団体情報入力","index":2,"n_rows":77,"n_cols":17,"rows_kept":77,"cut":false,"hidden":false,"merged":[[2,2,2,4],[1,0,1,1],[13,0,13,3],[13,4,13,7],[1,2,1,4],[13,8,13,9],[8,0,8,1],[8,2,8,4],[9,0,9,1],[9,2,9,4],[10,0,10,1],[11,0,11,7],[11,8,11,9],[12,0,12,3],[12,4,12,7],[12,8,12,9],[0,2,0,4],[10,8,10,11],[5,2,5,4],[6,0,6,1],[6,2,6,4],[7,0,7,1],[7,2,7,4],[2,5,2,11],[3,0,3,1],[3,2,3,4],[3,5,3,11],[4,0,4,1],[4,2,4,4],[4,5,6,9],[5,0,5,1],[2,0,2,1]]}
["①団体情報入力",null,"⬇　必ずカテゴリーを選択してください",null,null,"個人登録の方は、個人登録用のファイルを利用してください、"]
["参加料設定➡➡",null,"一般大学高校",null,null,"⬅参加料が中学生と一般大学高校で異なります。必ず選択してください。"]
["団体名検索",null,null,null,null,"←団体名最初の一文字を入力してください。",null,null,null,null,null,null,null,{"$f":"C3","v":0}]
["団体名",null,null,null,null,"←団体名の一部を入力すると、候補がドロップダウンに表示されますので選択してください。",null,null,null,null,null,null,1,{"$f":"VLOOKUP(\"*\"&$N$3&\"*\",Sheet6!D2:F439,1,FALSE)","v":{"$error":"#N/A"}},{"$f":"VLOOKUP(\"*\"&N3&\"*\",Sheet6!B2:F406,5,FALSE)","v":{"$error":"#N/A"}}]
["団体コード",null,{"$f":"IF(C4=\"\",\"\",VLOOKUP(C4,Sheet6!B:C,2,0))","v":""},null,null,"←団体名を選択すると、自動で入力されます。",null,null,null,null,null,null,2,{"$f":"VLOOKUP(\"*\"&$N$3&\"*\",OFFSET(Sheet6!$B$2:$F$439,O4,0),1,FALSE)","v":{"$error":"#N/A"}},{"$f":"VLOOKUP(\"*\"&$N$3&\"*\",OFFSET(Sheet6!$B$2:$F$406,O4,0),5,FALSE)","v":{"$error":"#N/A"}}]
["略称団体名",null,{"$f":"IF(C4=\"\",\"\",C4)","v":""},null,null,null,null,null,null,null,null,null,3,{"$f":"VLOOKUP(\"*\"&$N$3&\"*\",OFFSET(Sheet6!$B$2:$F$439,O5,0),1,FALSE)","v":{"$error":"#N/A"}},{"$f":"VLOOKUP(\"*\"&$N$3&\"*\",OFFSET(Sheet6!$B$2:$F$406,O5,0),5,FALSE)","v":{"$error":"#N/A"}}]
["団体名ﾌﾘｶﾞﾅ",null,{"$f":"IF(C4=\"\",\"\",VLOOKUP(C4,Sheet6!B:E,4,0))","v":""},null,null,null,null,null,null,null,null,null,4,{"$f":"VLOOKUP(\"*\"&$N$3&\"*\",OFFSET(Sheet6!$B$2:$F$439,O6,0),1,FALSE)","v":{"$error":"#N/A"}},{"$f":"VLOOKUP(\"*\"&$N$3&\"*\",OFFSET(Sheet6!$B$2:$F$406,O6,0),5,FALSE)","v":{"$error":"#N/A"}}]
["申込責任者",null,null,null,null,"←入力",null,null,null,null,null,null,5,{"$f":"VLOOKUP(\"*\"&$N$3&\"*\",OFFSET(Sheet6!$B$2:$F$439,O7,0),1,FALSE)","v":{"$error":"#N/A"}},{"$f":"VLOOKUP(\"*\"&$N$3&\"*\",OFFSET(Sheet6!$B$2:$F$406,O7,0),5,FALSE)","v":{"$error":"#N/A"}},null,"一般大学高校"]
["連絡先電話番号",null,null,null,null,"←入力(ハイフンを入れる)　※緊急時に連絡がとれる番号",null,null,null,null,null,null,6,{"$f":"VLOOKUP(\"*\"&$N$3&\"*\",OFFSET(Sheet6!$B$2:$F$439,O8,0),1,FALSE)","v":{"$error":"#N/A"}},{"$f":"VLOOKUP(\"*\"&$N$3&\"*\",OFFSET(Sheet6!$B$2:$F$406,O8,0),5,FALSE)","v":{"$error":"#N/A"}},null,"中　　　学"]
["大学生のみ学連地域コードをハイフンを付けて入力",null,null,null,null,"←大学生のみ、地域学連コードをハイフンを含めて入力してください。",null,null,null,null,null,null,7,{"$f":"VLOOKUP(\"*\"&$N$3&\"*\",OFFSET(Sheet6!$B$2:$F$439,O9,0),1,FALSE)","v":{"$error":"#N/A"}},{"$f":"VLOOKUP(\"*\"&$N$3&\"*\",OFFSET(Sheet6!$B$2:$F$406,O9,0),5,FALSE)","v":{"$error":"#N/A"}}]
["プログラム購入部数",null,null,"部",null,null,null,null,"新規登録団体(検索できない団体)の場合は以下に団体名とフリガナを入力してください",null,null,null,8,{"$f":"VLOOKUP(\"*\"&$N$3&\"*\",OFFSET(Sheet6!$B$2:$F$439,O10,0),1,FALSE)","v":{"$error":"#N/A"}},{"$f":"VLOOKUP(\"*\"&$N$3&\"*\",OFFSET(Sheet6!$B$2:$F$406,O10,0),5,FALSE)","v":{"$error":"#N/A"}}]
["役員のできる方のお名前を入力してください",null,null,null,null,null,null,null,"団体名",null,null,null,9,{"$f":"VLOOKUP(\"*\"&$N$3&\"*\",OFFSET(Sheet6!$B$2:$F$439,O11,0),1,FALSE)","v":{"$error":"#N/A"}},{"$f":"VLOOKUP(\"*\"&$N$3&\"*\",OFFSET(Sheet6!$B$2:$F$406,O11,0),5,FALSE)","v":{"$error":"#N/A"}}]
[null,null,null,null,null,null,null,null,"略称団体名",null,null,null,10,{"$f":"VLOOKUP(\"*\"&$N$3&\"*\",OFFSET(Sheet6!$B$2:$F$439,O12,0),1,FALSE)","v":{"$error":"#N/A"}},{"$f":"VLOOKUP(\"*\"&$N$3&\"*\",OFFSET(Sheet6!$B$2:$F$406,O12,0),5,FALSE)","v":{"$error":"#N/A"}}]
[null,null,null,null,null,null,null,null,"団体名ﾌﾘｶﾞﾅ",null,null,null,11,{"$f":"VLOOKUP(\"*\"&$N$3&\"*\",OFFSET(Sheet6!$B$2:$F$439,O13,0),1,FALSE)","v":{"$error":"#N/A"}},{"$f":"VLOOKUP(\"*\"&$N$3&\"*\",OFFSET(Sheet6!$B$2:$F$406,O13,0),5,FALSE)","v":{"$error":"#N/A"}}]
[null,null,null,null,null,null,null,null,null,null,null,null,12,{"$f":"VLOOKUP(\"*\"&$N$3&\"*\",OFFSET(Sheet6!$B$2:$F$439,O14,0),1,FALSE)","v":{"$error":"#N/A"}},{"$f":"VLOOKUP(\"*\"&$N$3&\"*\",OFFSET(Sheet6!$B$2:$F$406,O14,0),5,FALSE)","v":{"$error":"#N/A"}}]
[null,null,null,null,null,null,null,null,null,null,null,null,13,{"$f":"VLOOKUP(\"*\"&$N$3&\"*\",OFFSET(Sheet6!$B$2:$F$439,O15,0),1,FALSE)","v":{"$error":"#N/A"}},{"$f":"VLOOKUP(\"*\"&$N$3&\"*\",OFFSET(Sheet6!$B$2:$F$406,O15,0),5,FALSE)","v":{"$error":"#N/A"}}]
[null,null,null,null,null,null,null,null,null,null,null,null,14,{"$f":"VLOOKUP(\"*\"&$N$3&\"*\",OFFSET(Sheet6!$B$2:$F$439,O16,0),1,FALSE)","v":{"$error":"#N/A"}},{"$f":"VLOOKUP(\"*\"&$N$3&\"*\",OFFSET(Sheet6!$B$2:$F$406,O16,0),5,FALSE)","v":{"$error":"#N/A"}}]
[null,null,null,null,null,null,null,null,null,null,null,null,15,{"$f":"VLOOKUP(\"*\"&$N$3&\"*\",OFFSET(Sheet6!$B$2:$F$439,O17,0),1,FALSE)","v":{"$error":"#N/A"}},{"$f":"VLOOKUP(\"*\"&$N$3&\"*\",OFFSET(Sheet6!$B$2:$F$406,O17,0),5,FALSE)","v":{"$error":"#N/A"}}]
[null,null,null,null,null,null,null,null,null,null,null,null,16,{"$f":"VLOOKUP(\"*\"&$N$3&\"*\",OFFSET(Sheet6!$B$2:$F$439,O18,0),1,FALSE)","v":{"$error":"#N/A"}},{"$f":"VLOOKUP(\"*\"&$N$3&\"*\",OFFSET(Sheet6!$B$2:$F$406,O18,0),5,FALSE)","v":{"$error":"#N/A"}}]
[null,null,null,null,null,null,null,null,null,null,null,null,17,{"$f":"VLOOKUP(\"*\"&$N$3&\"*\",OFFSET(Sheet6!$B$2:$F$439,O19,0),1,FALSE)","v":{"$error":"#N/A"}},{"$f":"VLOOKUP(\"*\"&$N$3&\"*\",OFFSET(Sheet6!$B$2:$F$406,O19,0),5,FALSE)","v":{"$error":"#N/A"}}]
[null,null,null,null,null,null,null,null,null,null,null,null,18,{"$f":"VLOOKUP(\"*\"&$N$3&\"*\",OFFSET(Sheet6!$B$2:$F$439,O20,0),1,FALSE)","v":{"$error":"#N/A"}},{"$f":"VLOOKUP(\"*\"&$N$3&\"*\",OFFSET(Sheet6!$B$2:$F$406,O20,0),5,FALSE)","v":{"$error":"#N/A"}}]
[null,null,null,null,null,null,null,null,null,null,null,null,19,{"$f":"VLOOKUP(\"*\"&$N$3&\"*\",OFFSET(Sheet6!$B$2:$F$439,O21,0),1,FALSE)","v":{"$error":"#N/A"}},{"$f":"VLOOKUP(\"*\"&$N$3&\"*\",OFFSET(Sheet6!$B$2:$F$406,O21,0),5,FALSE)","v":{"$error":"#N/A"}}]
[null,null,null,null,null,null,null,null,null,null,null,null,20,{"$f":"VLOOKUP(\"*\"&$N$3&\"*\",OFFSET(Sheet6!$B$2:$F$439,O22,0),1,FALSE)","v":{"$error":"#N/A"}},{"$f":"VLOOKUP(\"*\"&$N$3&\"*\",OFFSET(Sheet6!$B$2:$F$406,O22,0),5,FALSE)","v":{"$error":"#N/A"}}]
[null,null,null,null,null,null,null,null,null,null,null,null,21,{"$f":"VLOOKUP(\"*\"&$N$3&\"*\",OFFSET(Sheet6!$B$2:$F$439,O23,0),1,FALSE)","v":{"$error":"#N/A"}},{"$f":"VLOOKUP(\"*\"&$N$3&\"*\",OFFSET(Sheet6!$B$2:$F$406,O23,0),5,FALSE)","v":{"$error":"#N/A"}}]
[null,null,null,null,null,null,null,null,null,null,null,null,22,{"$f":"VLOOKUP(\"*\"&$N$3&\"*\",OFFSET(Sheet6!$B$2:$F$439,O24,0),1,FALSE)","v":{"$error":"#N/A"}},{"$f":"VLOOKUP(\"*\"&$N$3&\"*\",OFFSET(Sheet6!$B$2:$F$406,O24,0),5,FALSE)","v":{"$error":"#N/A"}}]
[null,null,null,null,null,null,null,null,null,null,null,null,23,{"$f":"VLOOKUP(\"*\"&$N$3&\"*\",OFFSET(Sheet6!$B$2:$F$439,O25,0),1,FALSE)","v":{"$error":"#N/A"}},{"$f":"VLOOKUP(\"*\"&$N$3&\"*\",OFFSET(Sheet6!$B$2:$F$406,O25,0),5,FALSE)","v":{"$error":"#N/A"}}]
[null,null,null,null,null,null,null,null,null,null,null,null,24,{"$f":"VLOOKUP(\"*\"&$N$3&\"*\",OFFSET(Sheet6!$B$2:$F$439,O26,0),1,FALSE)","v":{"$error":"#N/A"}},{"$f":"VLOOKUP(\"*\"&$N$3&\"*\",OFFSET(Sheet6!$B$2:$F$406,O26,0),5,FALSE)","v":{"$error":"#N/A"}}]
[null,null,null,null,null,null,null,null,null,null,null,null,25,{"$f":"VLOOKUP(\"*\"&$N$3&\"*\",OFFSET(Sheet6!$B$2:$F$439,O27,0),1,FALSE)","v":{"$error":"#N/A"}},{"$f":"VLOOKUP(\"*\"&$N$3&\"*\",OFFSET(Sheet6!$B$2:$F$406,O27,0),5,FALSE)","v":{"$error":"#N/A"}}]
[null,null,null,null,null,null,null,null,null,null,null,null,26,{"$f":"VLOOKUP(\"*\"&$N$3&\"*\",OFFSET(Sheet6!$B$2:$F$439,O28,0),1,FALSE)","v":{"$error":"#N/A"}},{"$f":"VLOOKUP(\"*\"&$N$3&\"*\",OFFSET(Sheet6!$B$2:$F$406,O28,0),5,FALSE)","v":{"$error":"#N/A"}}]
[null,null,null,null,null,null,null,null,null,null,null,null,27,{"$f":"VLOOKUP(\"*\"&$N$3&\"*\",OFFSET(Sheet6!$B$2:$F$439,O29,0),1,FALSE)","v":{"$error":"#N/A"}},{"$f":"VLOOKUP(\"*\"&$N$3&\"*\",OFFSET(Sheet6!$B$2:$F$406,O29,0),5,FALSE)","v":{"$error":"#N/A"}}]
[null,null,null,null,null,null,null,null,null,null,null,null,28,{"$f":"VLOOKUP(\"*\"&$N$3&\"*\",OFFSET(Sheet6!$B$2:$F$439,O30,0),1,FALSE)","v":{"$error":"#N/A"}},{"$f":"VLOOKUP(\"*\"&$N$3&\"*\",OFFSET(Sheet6!$B$2:$F$406,O30,0),5,FALSE)","v":{"$error":"#N/A"}}]
[null,null,null,null,null,null,null,null,null,null,null,null,29,{"$f":"VLOOKUP(\"*\"&$N$3&\"*\",OFFSET(Sheet6!$B$2:$F$439,O31,0),1,FALSE)","v":{"$error":"#N/A"}},{"$f":"VLOOKUP(\"*\"&$N$3&\"*\",OFFSET(Sheet6!$B$2:$F$406,O31,0),5,FALSE)","v":{"$error":"#N/A"}}]
[null,null,null,null,null,null,null,null,null,null,null,null,30,{"$f":"VLOOKUP(\"*\"&$N$3&\"*\",OFFSET(Sheet6!$B$2:$F$439,O32,0),1,FALSE)","v":{"$error":"#N/A"}},{"$f":"VLOOKUP(\"*\"&$N$3&\"*\",OFFSET(Sheet6!$B$2:$F$406,O32,0),5,FALSE)","v":{"$error":"#N/A"}}]
[null,null,null,null,null,null,null,null,null,null,null,null,31,{"$f":"VLOOKUP(\"*\"&$N$3&\"*\",OFFSET(Sheet6!$B$2:$F$439,O33,0),1,FALSE)","v":{"$error":"#N/A"}},{"$f":"VLOOKUP(\"*\"&$N$3&\"*\",OFFSET(Sheet6!$B$2:$F$406,O33,0),5,FALSE)","v":{"$error":"#N/A"}}]
[null,null,null,null,null,null,null,null,null,null,null,null,32,{"$f":"VLOOKUP(\"*\"&$N$3&\"*\",OFFSET(Sheet6!$B$2:$F$439,O34,0),1,FALSE)","v":{"$error":"#N/A"}},{"$f":"VLOOKUP(\"*\"&$N$3&\"*\",OFFSET(Sheet6!$B$2:$F$406,O34,0),5,FALSE)","v":{"$error":"#N/A"}}]
[null,null,null,null,null,null,null,null,null,null,null,null,33,{"$f":"VLOOKUP(\"*\"&$N$3&\"*\",OFFSET(Sheet6!$B$2:$F$439,O35,0),1,FALSE)","v":{"$error":"#N/A"}},{"$f":"VLOOKUP(\"*\"&$N$3&\"*\",OFFSET(Sheet6!$B$2:$F$406,O35,0),5,FALSE)","v":{"$error":"#N/A"}}]
[null,null,null,null,null,null,null,null,null,null,null,null,34,{"$f":"VLOOKUP(\"*\"&$N$3&\"*\",OFFSET(Sheet6!$B$2:$F$439,O36,0),1,FALSE)","v":{"$error":"#N/A"}},{"$f":"VLOOKUP(\"*\"&$N$3&\"*\",OFFSET(Sheet6!$B$2:$F$406,O36,0),5,FALSE)","v":{"$error":"#N/A"}}]
[null,null,null,null,null,null,null,null,null,null,null,null,35,{"$f":"VLOOKUP(\"*\"&$N$3&\"*\",OFFSET(Sheet6!$B$2:$F$439,O37,0),1,FALSE)","v":{"$error":"#N/A"}},{"$f":"VLOOKUP(\"*\"&$N$3&\"*\",OFFSET(Sheet6!$B$2:$F$406,O37,0),5,FALSE)","v":{"$error":"#N/A"}}]
[null,null,null,null,null,null,null,null,null,null,null,null,36,{"$f":"VLOOKUP(\"*\"&$N$3&\"*\",OFFSET(Sheet6!$B$2:$F$439,O38,0),1,FALSE)","v":{"$error":"#N/A"}},{"$f":"VLOOKUP(\"*\"&$N$3&\"*\",OFFSET(Sheet6!$B$2:$F$406,O38,0),5,FALSE)","v":{"$error":"#N/A"}}]
[null,null,null,null,null,null,null,null,null,null,null,null,37,{"$f":"VLOOKUP(\"*\"&$N$3&\"*\",OFFSET(Sheet6!$B$2:$F$439,O39,0),1,FALSE)","v":{"$error":"#N/A"}},{"$f":"VLOOKUP(\"*\"&$N$3&\"*\",OFFSET(Sheet6!$B$2:$F$406,O39,0),5,FALSE)","v":{"$error":"#N/A"}}]
[null,null,null,null,null,null,null,null,null,null,null,null,38,{"$f":"VLOOKUP(\"*\"&$N$3&\"*\",OFFSET(Sheet6!$B$2:$F$439,O40,0),1,FALSE)","v":{"$error":"#N/A"}},{"$f":"VLOOKUP(\"*\"&$N$3&\"*\",OFFSET(Sheet6!$B$2:$F$406,O40,0),5,FALSE)","v":{"$error":"#N/A"}}]
[null,null,null,null,null,null,null,null,null,null,null,null,39,{"$f":"VLOOKUP(\"*\"&$N$3&\"*\",OFFSET(Sheet6!$B$2:$F$439,O41,0),1,FALSE)","v":{"$error":"#N/A"}},{"$f":"VLOOKUP(\"*\"&$N$3&\"*\",OFFSET(Sheet6!$B$2:$F$406,O41,0),5,FALSE)","v":{"$error":"#N/A"}}]
[null,null,null,null,null,null,null,null,null,null,null,null,40,{"$f":"VLOOKUP(\"*\"&$N$3&\"*\",OFFSET(Sheet6!$B$2:$F$439,O42,0),1,FALSE)","v":{"$error":"#N/A"}},{"$f":"VLOOKUP(\"*\"&$N$3&\"*\",OFFSET(Sheet6!$B$2:$F$406,O42,0),5,FALSE)","v":{"$error":"#N/A"}}]
[null,null,null,null,null,null,null,null,null,null,null,null,41,{"$f":"VLOOKUP(\"*\"&$N$3&\"*\",OFFSET(Sheet6!$B$2:$F$439,O43,0),1,FALSE)","v":{"$error":"#N/A"}},{"$f":"VLOOKUP(\"*\"&$N$3&\"*\",OFFSET(Sheet6!$B$2:$F$406,O43,0),5,FALSE)","v":{"$error":"#N/A"}}]
[null,null,null,null,null,null,null,null,null,null,null,null,42,{"$f":"VLOOKUP(\"*\"&$N$3&\"*\",OFFSET(Sheet6!$B$2:$F$439,O44,0),1,FALSE)","v":{"$error":"#N/A"}},{"$f":"VLOOKUP(\"*\"&$N$3&\"*\",OFFSET(Sheet6!$B$2:$F$406,O44,0),5,FALSE)","v":{"$error":"#N/A"}}]
[null,null,null,null,null,null,null,null,null,null,null,null,43,{"$f":"VLOOKUP(\"*\"&$N$3&\"*\",OFFSET(Sheet6!$B$2:$F$439,O45,0),1,FALSE)","v":{"$error":"#N/A"}},{"$f":"VLOOKUP(\"*\"&$N$3&\"*\",OFFSET(Sheet6!$B$2:$F$406,O45,0),5,FALSE)","v":{"$error":"#N/A"}}]
[null,null,null,null,null,null,null,null,null,null,null,null,44,{"$f":"VLOOKUP(\"*\"&$N$3&\"*\",OFFSET(Sheet6!$B$2:$F$439,O46,0),1,FALSE)","v":{"$error":"#N/A"}},{"$f":"VLOOKUP(\"*\"&$N$3&\"*\",OFFSET(Sheet6!$B$2:$F$406,O46,0),5,FALSE)","v":{"$error":"#N/A"}}]
[null,null,null,null,null,null,null,null,null,null,null,null,45,{"$f":"VLOOKUP(\"*\"&$N$3&\"*\",OFFSET(Sheet6!$B$2:$F$439,O47,0),1,FALSE)","v":{"$error":"#N/A"}},{"$f":"VLOOKUP(\"*\"&$N$3&\"*\",OFFSET(Sheet6!$B$2:$F$406,O47,0),5,FALSE)","v":{"$error":"#N/A"}}]
[null,null,null,null,null,null,null,null,null,null,null,null,46,{"$f":"VLOOKUP(\"*\"&$N$3&\"*\",OFFSET(Sheet6!$B$2:$F$439,O48,0),1,FALSE)","v":{"$error":"#N/A"}},{"$f":"VLOOKUP(\"*\"&$N$3&\"*\",OFFSET(Sheet6!$B$2:$F$406,O48,0),5,FALSE)","v":{"$error":"#N/A"}}]
[null,null,null,null,null,null,null,null,null,null,null,null,47,{"$f":"VLOOKUP(\"*\"&$N$3&\"*\",OFFSET(Sheet6!$B$2:$F$439,O49,0),1,FALSE)","v":{"$error":"#N/A"}},{"$f":"VLOOKUP(\"*\"&$N$3&\"*\",OFFSET(Sheet6!$B$2:$F$406,O49,0),5,FALSE)","v":{"$error":"#N/A"}}]
[null,null,null,null,null,null,null,null,null,null,null,null,48,{"$f":"VLOOKUP(\"*\"&$N$3&\"*\",OFFSET(Sheet6!$B$2:$F$439,O50,0),1,FALSE)","v":{"$error":"#N/A"}},{"$f":"VLOOKUP(\"*\"&$N$3&\"*\",OFFSET(Sheet6!$B$2:$F$406,O50,0),5,FALSE)","v":{"$error":"#N/A"}}]
[null,null,null,null,null,null,null,null,null,null,null,null,49,{"$f":"VLOOKUP(\"*\"&$N$3&\"*\",OFFSET(Sheet6!$B$2:$F$439,O51,0),1,FALSE)","v":{"$error":"#N/A"}},{"$f":"VLOOKUP(\"*\"&$N$3&\"*\",OFFSET(Sheet6!$B$2:$F$406,O51,0),5,FALSE)","v":{"$error":"#N/A"}}]
[null,null,null,null,null,null,null,null,null,null,null,null,50,{"$f":"VLOOKUP(\"*\"&$N$3&\"*\",OFFSET(Sheet6!$B$2:$F$439,O52,0),1,FALSE)","v":{"$error":"#N/A"}},{"$f":"VLOOKUP(\"*\"&$N$3&\"*\",OFFSET(Sheet6!$B$2:$F$406,O52,0),5,FALSE)","v":{"$error":"#N/A"}}]
[null,null,null,null,null,null,null,null,null,null,null,null,51,{"$f":"VLOOKUP(\"*\"&$N$3&\"*\",OFFSET(Sheet6!$B$2:$F$439,O53,0),1,FALSE)","v":{"$error":"#N/A"}},{"$f":"VLOOKUP(\"*\"&$N$3&\"*\",OFFSET(Sheet6!$B$2:$F$406,O53,0),5,FALSE)","v":{"$error":"#N/A"}}]
[null,null,null,null,null,null,null,null,null,null,null,null,52,{"$f":"VLOOKUP(\"*\"&$N$3&\"*\",OFFSET(Sheet6!$B$2:$F$439,O54,0),1,FALSE)","v":{"$error":"#N/A"}},{"$f":"VLOOKUP(\"*\"&$N$3&\"*\",OFFSET(Sheet6!$B$2:$F$406,O54,0),5,FALSE)","v":{"$error":"#N/A"}}]
[null,null,null,null,null,null,null,null,null,null,null,null,53,{"$f":"VLOOKUP(\"*\"&$N$3&\"*\",OFFSET(Sheet6!$B$2:$F$439,O55,0),1,FALSE)","v":{"$error":"#N/A"}},{"$f":"VLOOKUP(\"*\"&$N$3&\"*\",OFFSET(Sheet6!$B$2:$F$406,O55,0),5,FALSE)","v":{"$error":"#N/A"}}]
[null,null,null,null,null,null,null,null,null,null,null,null,54,{"$f":"VLOOKUP(\"*\"&$N$3&\"*\",OFFSET(Sheet6!$B$2:$F$439,O56,0),1,FALSE)","v":{"$error":"#N/A"}},{"$f":"VLOOKUP(\"*\"&$N$3&\"*\",OFFSET(Sheet6!$B$2:$F$406,O56,0),5,FALSE)","v":{"$error":"#N/A"}}]
[null,null,null,null,null,null,null,null,null,null,null,null,55,{"$f":"VLOOKUP(\"*\"&$N$3&\"*\",OFFSET(Sheet6!$B$2:$F$439,O57,0),1,FALSE)","v":{"$error":"#N/A"}},{"$f":"VLOOKUP(\"*\"&$N$3&\"*\",OFFSET(Sheet6!$B$2:$F$406,O57,0),5,FALSE)","v":{"$error":"#N/A"}}]
[null,null,null,null,null,null,null,null,null,null,null,null,56,{"$f":"VLOOKUP(\"*\"&$N$3&\"*\",OFFSET(Sheet6!$B$2:$F$439,O58,0),1,FALSE)","v":{"$error":"#N/A"}},{"$f":"VLOOKUP(\"*\"&$N$3&\"*\",OFFSET(Sheet6!$B$2:$F$406,O58,0),5,FALSE)","v":{"$error":"#N/A"}}]
[null,null,null,null,null,null,null,null,null,null,null,null,57,{"$f":"VLOOKUP(\"*\"&$N$3&\"*\",OFFSET(Sheet6!$B$2:$F$439,O59,0),1,FALSE)","v":{"$error":"#N/A"}},{"$f":"VLOOKUP(\"*\"&$N$3&\"*\",OFFSET(Sheet6!$B$2:$F$406,O59,0),5,FALSE)","v":{"$error":"#N/A"}}]
[null,null,null,null,null,null,null,null,null,null,null,null,58,{"$f":"VLOOKUP(\"*\"&$N$3&\"*\",OFFSET(Sheet6!$B$2:$F$439,O60,0),1,FALSE)","v":{"$error":"#N/A"}},{"$f":"VLOOKUP(\"*\"&$N$3&\"*\",OFFSET(Sheet6!$B$2:$F$406,O60,0),5,FALSE)","v":{"$error":"#N/A"}}]
[null,null,null,null,null,null,null,null,null,null,null,null,59,{"$f":"VLOOKUP(\"*\"&$N$3&\"*\",OFFSET(Sheet6!$B$2:$F$439,O61,0),1,FALSE)","v":{"$error":"#N/A"}},{"$f":"VLOOKUP(\"*\"&$N$3&\"*\",OFFSET(Sheet6!$B$2:$F$406,O61,0),5,FALSE)","v":{"$error":"#N/A"}}]
[null,null,null,null,null,null,null,null,null,null,null,null,60,{"$f":"VLOOKUP(\"*\"&$N$3&\"*\",OFFSET(Sheet6!$B$2:$F$439,O62,0),1,FALSE)","v":{"$error":"#N/A"}},{"$f":"VLOOKUP(\"*\"&$N$3&\"*\",OFFSET(Sheet6!$B$2:$F$406,O62,0),5,FALSE)","v":{"$error":"#N/A"}}]
[null,null,null,null,null,null,null,null,null,null,null,null,61,{"$f":"VLOOKUP(\"*\"&$N$3&\"*\",OFFSET(Sheet6!$B$2:$F$439,O63,0),1,FALSE)","v":{"$error":"#N/A"}},{"$f":"VLOOKUP(\"*\"&$N$3&\"*\",OFFSET(Sheet6!$B$2:$F$406,O63,0),5,FALSE)","v":{"$error":"#N/A"}}]
[null,null,null,null,null,null,null,null,null,null,null,null,62,{"$f":"VLOOKUP(\"*\"&$N$3&\"*\",OFFSET(Sheet6!$B$2:$F$439,O64,0),1,FALSE)","v":{"$error":"#N/A"}},{"$f":"VLOOKUP(\"*\"&$N$3&\"*\",OFFSET(Sheet6!$B$2:$F$406,O64,0),5,FALSE)","v":{"$error":"#N/A"}}]
[null,null,null,null,null,null,null,null,null,null,null,null,63,{"$f":"VLOOKUP(\"*\"&$N$3&\"*\",OFFSET(Sheet6!$B$2:$F$439,O65,0),1,FALSE)","v":{"$error":"#N/A"}},{"$f":"VLOOKUP(\"*\"&$N$3&\"*\",OFFSET(Sheet6!$B$2:$F$406,O65,0),5,FALSE)","v":{"$error":"#N/A"}}]
[null,null,null,null,null,null,null,null,null,null,null,null,64,{"$f":"VLOOKUP(\"*\"&$N$3&\"*\",OFFSET(Sheet6!$B$2:$F$439,O66,0),1,FALSE)","v":{"$error":"#N/A"}},{"$f":"VLOOKUP(\"*\"&$N$3&\"*\",OFFSET(Sheet6!$B$2:$F$406,O66,0),5,FALSE)","v":{"$error":"#N/A"}}]
[null,null,null,null,null,null,null,null,null,null,null,null,65,{"$f":"VLOOKUP(\"*\"&$N$3&\"*\",OFFSET(Sheet6!$B$2:$F$439,O67,0),1,FALSE)","v":{"$error":"#N/A"}},{"$f":"VLOOKUP(\"*\"&$N$3&\"*\",OFFSET(Sheet6!$B$2:$F$406,O67,0),5,FALSE)","v":{"$error":"#N/A"}}]
[null,null,null,null,null,null,null,null,null,null,null,null,66,{"$f":"VLOOKUP(\"*\"&$N$3&\"*\",OFFSET(Sheet6!$B$2:$F$439,O68,0),1,FALSE)","v":{"$error":"#N/A"}},{"$f":"VLOOKUP(\"*\"&$N$3&\"*\",OFFSET(Sheet6!$B$2:$F$406,O68,0),5,FALSE)","v":{"$error":"#N/A"}}]
[null,null,null,null,null,null,null,null,null,null,null,null,67,{"$f":"VLOOKUP(\"*\"&$N$3&\"*\",OFFSET(Sheet6!$B$2:$F$439,O69,0),1,FALSE)","v":{"$error":"#N/A"}},{"$f":"VLOOKUP(\"*\"&$N$3&\"*\",OFFSET(Sheet6!$B$2:$F$406,O69,0),5,FALSE)","v":{"$error":"#N/A"}}]
[null,null,null,null,null,null,null,null,null,null,null,null,68,{"$f":"VLOOKUP(\"*\"&$N$3&\"*\",OFFSET(Sheet6!$B$2:$F$439,O70,0),1,FALSE)","v":{"$error":"#N/A"}},{"$f":"VLOOKUP(\"*\"&$N$3&\"*\",OFFSET(Sheet6!$B$2:$F$406,O70,0),5,FALSE)","v":{"$error":"#N/A"}}]
[null,null,null,null,null,null,null,null,null,null,null,null,69,{"$f":"VLOOKUP(\"*\"&$N$3&\"*\",OFFSET(Sheet6!$B$2:$F$439,O71,0),1,FALSE)","v":{"$error":"#N/A"}},{"$f":"VLOOKUP(\"*\"&$N$3&\"*\",OFFSET(Sheet6!$B$2:$F$406,O71,0),5,FALSE)","v":{"$error":"#N/A"}}]
[null,null,null,null,null,null,null,null,null,null,null,null,70,{"$f":"VLOOKUP(\"*\"&$N$3&\"*\",OFFSET(Sheet6!$B$2:$F$439,O72,0),1,FALSE)","v":{"$error":"#N/A"}},{"$f":"VLOOKUP(\"*\"&$N$3&\"*\",OFFSET(Sheet6!$B$2:$F$406,O72,0),5,FALSE)","v":{"$error":"#N/A"}}]
[null,null,null,null,null,null,null,null,null,null,null,null,71,{"$f":"VLOOKUP(\"*\"&$N$3&\"*\",OFFSET(Sheet6!$B$2:$F$439,O73,0),1,FALSE)","v":{"$error":"#N/A"}},{"$f":"VLOOKUP(\"*\"&$N$3&\"*\",OFFSET(Sheet6!$B$2:$F$406,O73,0),5,FALSE)","v":{"$error":"#N/A"}}]
[null,null,null,null,null,null,null,null,null,null,null,null,72,{"$f":"VLOOKUP(\"*\"&$N$3&\"*\",OFFSET(Sheet6!$B$2:$F$439,O74,0),1,FALSE)","v":{"$error":"#N/A"}},{"$f":"VLOOKUP(\"*\"&$N$3&\"*\",OFFSET(Sheet6!$B$2:$F$406,O74,0),5,FALSE)","v":{"$error":"#N/A"}}]
[null,null,null,null,null,null,null,null,null,null,null,null,73,{"$f":"VLOOKUP(\"*\"&$N$3&\"*\",OFFSET(Sheet6!$B$2:$F$439,O75,0),1,FALSE)","v":{"$error":"#N/A"}},{"$f":"VLOOKUP(\"*\"&$N$3&\"*\",OFFSET(Sheet6!$B$2:$F$406,O75,0),5,FALSE)","v":{"$error":"#N/A"}}]
[null,null,null,null,null,null,null,null,null,null,null,null,74,{"$f":"VLOOKUP(\"*\"&$N$3&\"*\",OFFSET(Sheet6!$B$2:$F$439,O76,0),1,FALSE)","v":{"$error":"#N/A"}},{"$f":"VLOOKUP(\"*\"&$N$3&\"*\",OFFSET(Sheet6!$B$2:$F$406,O76,0),5,FALSE)","v":{"$error":"#N/A"}}]

{"sheet":"②選手情報入力","index":3,"n_rows":238,"n_cols":51,"rows_kept":238,"cut":false,"hidden":false,"merged":[[3,21,3,22],[3,18,4,18],[8,5,8,6],[3,16,4,16],[12,19,12,20],[13,19,13,20],[14,19,14,20],[15,19,15,20],[16,19,16,20],[8,19,8,20],[9,19,9,20],[10,19,10,20],[11,19,11,20],[22,19,22,20],[23,19,23,20],[24,19,24,20],[25,19,25,20],[26,19,26,20],[17,19,17,20],[18,19,18,20],[19,19,19,20],[20,19,20,20],[21,19,21,20],[32,19,32,20],[33,19,33,20],[34,19,34,20],[35,19,35,20],[36,19,36,20],[27,19,27,20],[28,19,28,20],[29,19,29,20],[30,19,30,20],[31,19,31,20],[42,19,42,20],[43,19,43,20],[44,19,44,20],[45,19,45,20],[46,19,46,20],[37,19,37,20],[38,19,38,20],[39,19,39,20],[40,19,40,20],[41,19,41,20],[52,19,52,20],[53,19,53,20],[54,19,54,20],[55,19,55,20],[56,19,56,20],[47,19,47,20],[48,19,48,20],[49,19,49,20],[50,19,50,20],[51,19,51,20],[62,19,62,20],[63,19,63,20],[64,19,64,20],[65,19,65,20],[66,19,66,20],[57,19,57,20],[58,19,58,20],[59,19,59,20],[60,19,60,20],[61,19,61,20],[72,19,72,20],[73,19,73,20],[74,19,74,20],[75,19,75,20],[76,19,76,20],[67,19,67,20],[68,19,68,20],[69,19,69,20],[70,19,70,20],[71,19,71,20],[90,19,90,20],[91,19,91,20],[82,19,82,20],[83,19,83,20],[84,19,84,20],[85,19,85,20],[86,19,86,20],[77,19,77,20],[78,19,78,20],[79,19,79,20],[80,19,80,20],[81,19,81,20],[97,19,97,20],[98,19,98,20],[99,19,99,20],[3,19,3,20],[8,21,8,22],[9,21,9,22],[10,21,10,22],[11,21,11,22],[12,21,12,22],[13,21,13,22],[14,21,14,22],[15,21,15,22],[16,21,16,22],[17,21,17,22],[18,21,18,22],[19,21,19,22],[92,19,92,20],[93,19,93,20],[94,19,94,20],[95,19,95,20],[96,19,96,20],[87,19,87,20],[88,19,88,20],[89,19,89,20],[25,21,25,22],[26,21,26,22],[27,21,27,22],[28,21,28,22],[29,21,29,22],[20,21,20,22],[21,21,21,22],[22,21,22,22],[23,21,23,22],[24,21,24,22],[35,21,35,22],[36,21,36,22],[37,21,37,22],[38,21,38,22],[39,21,39,22],[30,21,30,22],[31,21,31,22],[32,21,32,22],[33,21,33,22],[34,21,34,22],[45,21,45,22],[46,21,46,22],[47,21,47,22],[48,21,48,22],[49,21,49,22],[40,21,40,22],[41,21,41,22],[42,21,42,22],[43,21,43,22],[44,21,44,22],[55,21,55,22],[56,21,56,22],[57,21,57,22],[58,21,58,22],[59,21,59,22],[50,21,50,22],[51,21,51,22],[52,21,52,22],[53,21,53,22],[54,21,54,22],[65,21,65,22],[66,21,66,22],[67,21,67,22],[68,21,68,22],[69,21,69,22],[60,21,60,22],[61,21,61,22],[62,21,62,22],[63,21,63,22],[64,21,64,22],[75,21,75,22],[76,21,76,22],[77,21,77,22],[78,21,78,22],[79,21,79,22],[70,21,70,22],[71,21,71,22],[72,21,72,22],[73,21,73,22],[74,21,74,22],[85,21,85,22],[86,21,86,22],[87,21,87,22],[88,21,88,22],[89,21,89,22],[80,21,80,22],[81,21,81,22],[82,21,82,22],[83,21,83,22],[84,21,84,22],[95,21,95,22],[96,21,96,22],[97,21,97,22],[98,21,98,22],[99,21,99,22],[90,21,90,22],[91,21,91,22],[92,21,92,22],[93,21,93,22],[94,21,94,22]]}
["③選手情報入力",null,null,null,null,{"$f":"IF(①団体情報入力!D6=\"\",\"\",①団体情報入力!D6)","v":""},null,null,null,null,null,null,null,null,null,null,null,null,null,null,null,null,null,null,null,null,null,null,null,null,null,null,null,null,null,null,null,null,null,null,null,null,null,null,null,null,null,null,null,null,"AND　アンドラ公国"]
[null,null,"絶対に、行を空けて入力しないでください。",null,null,null,null,null,null,null,null,null,null,null,null,null,null,null,null,null,null,null,null,null,null,null,null,null,null,null,null,null,null,null,null,null,null,null,null,null,null,null,null,null,null,null,null,null,null,null,"ARE　アラブ首長国連邦"]
[null,null,"※必要事項を全て入力してください。",null,null,null,null,null,null,null,null,null,null,null,null,null,"リレー記録",null,null,null,null,null,null,null,null,null,null,null,null,null,null,null,null,null,null,null,null,null,null,null,null,null,null,null,null,null,null,null,null,null,"AFG　アフガニスタン・イスラム国"]
[null,null,"※リレー種目にエントリーをする場合は○を選択し、「③リレー情報確認」でメンバーを確認してください。",null,null,null,null,null,null,null,null,null,null,null,null,null,null,null,null,"4X100mR",null,"4X400mR",null,null,null,null,null,null,null,null,null,null,null,null,null,null,null,null,null,null,null,null,null,null,null,null,null,null,null,null,"ATG　アンチグア・バーブーダ"]
[null,null,"※ナンバーを入力してもリレーメンバーが反映されない場合、ナンバーのセルが文字列になっています。",null,null,null,null,null,null,null,null,null,null,null,null,null,null,null,null,"OP","記録","OP","記録",null,null,null,null,null,null,null,null,null,null,null,null,null,null,null,null,null,null,null,null,null,null,null,null,null,null,null,"AIA　アンギラ"]
[null,null,"※コピーしたデータを貼り付ける場合は、「形式を選択して貼り付け」から「値」で貼り付けてください。",null,null,null,null,null,null,null,null,null,null,null,null,null,"男子",null,"男子",null,null,null,null,null,null,null,null,null,null,null,null,null,null,null,null,null,null,null,null,null,null,null,null,null,null,null,null,null,null,null,"ALB　アルバニア共和国"]
[null,null,"※データを修正する場合は、必ず「Delete」キーを使用してください。",null,null,null,null,null,null,null,null,null,null,null,null,null,"女子",null,"女子",null,null,null,null,null,null,null,null,null,null,null,null,null,null,null,null,null,null,null,null,null,null,null,null,null,null,null,null,null,null,null,"ARM　アルメニア共和国"]
[null,null,null,null,null,null,null,null,null,null,null,null,null,null,null,null,null,null,null,null,null,null,null,null,null,null,null,null,null,null,null,null,null,null,null,null,null,null,null,null,null,null,null,null,null,null,null,null,null,null,"ANT　オランダ領アンチル"]
[null,"JAAF ID","ナンバー","氏　名\n姓と名の間に\n全角ｽﾍﾟｰｽ1つ","ﾌﾘｶﾞﾅ\n姓と名の間に\n半角ｽﾍﾟｰｽ1つ","英字名",null,"国籍","性別","学年","生年月日","１日目種目","記録１日目","資格習得競技会","２日目種目","記録２日目","資格習得競技会","種目３","記録３","4X100mR",null,"4X400mR",null,null,null,null,null,null,null,null,null,null,null,null,null,null,null,null,null,null,null,null,null,null,null,null,null,null,null,null,"AGO　アンゴラ共和国"]
["例",123456789,1234,"名古屋　太郎","ﾅｺﾞﾔ ﾀﾛｳ","英字(姓)NAGOYA","英字(名)taro","JPN 日本","男","高2",20000101,"男100m",12.53,"2021地区クラス別","男砲丸投","12m00","2019日本選手権","男1500m","4.35.67","○",null,"○",null,null,null,null,null,null,null,"ﾅﾝﾊﾞｰ","氏　名","ﾌﾘｶﾞﾅ","性別","学年","競技者NO","ﾅﾝﾊﾞｰ","氏　名","ﾌﾘｶﾞﾅ","性別","学年","競技者NO","男400R",{"$f":"COUNT(AQ11:AQ100)","v":0},"男1600R",{"$f":"COUNT(AS11:AS100)","v":0},"女400R",{"$f":"COUNT(AU11:AU100)","v":0},"女1600R",{"$f":"COUNT(AW11:AW100)","v":0},null,"ATA　南極"]
[1,null,null,null,null,null,null,null,null,null,null,null,null,null,null,null,null,null,null,null,null,null,null,null,null,null,null,null,null,{"$f":"IF(I11=\"男\",C11,\"\")","v":""},{"$f":"IF(I11=\"男\",D11,\"\")","v":""},{"$f":"IF(I11=\"男\",F11,\"\")","v":""},{"$f":"IF(I11=\"男\",I11,\"\")","v":""},{"$f":"IF(I11=\"男\",IF(J11=\"\",\"\",J11),\"\")","v":""},{"$f":"IF(I11=\"男\",data_kyogisha!A2,\"\")","v":""},{"$f":"IF(I11=\"女\",C11,\"\")","v":""},{"$f":"IF(I11=\"女\",D11,\"\")","v":""},{"$f":"IF(I11=\"女\",F11,\"\")","v":""},{"$f":"IF(I11=\"女\",I11,\"\")","v":""},{"$f":"IF(I11=\"女\",IF(J11=\"\",\"\",J11),\"\")","v":""},{"$f":"IF(I11=\"女\",data_kyogisha!A2,\"\")","v":""},{"$f":"IF(AND(I11=\"男\",T11=\"○\"),1,0)","v":0},{"$f":"IF(AND($I11=\"男\",$T11=\"○\"),$C11,\"\")","v":""},{"$f":"IF(AND(I11=\"男\",V11=\"○\"),1,0)","v":0},{"$f":"IF(AND($I11=\"男\",$V11=\"○\"),$C11,\"\")","v":""},{"$f":"IF(AND(I11=\"女\",T11=\"○\"),1,0)","v":0},{"$f":"IF(AND($I11=\"女\",$T11=\"○\"),$C11,\"\")","v":""},{"$f":"IF(AND(I11=\"女\",V11=\"○\"),1,0)","v":0},{"$f":"IF(AND($I11=\"女\",$V11=\"○\"),$C11,\"\")","v":""},null,"ARG　アルゼンチン共和国"]
[2,null,null,null,null,null,null,null,null,null,null,null,null,null,null,null,null,null,null,null,null,null,null,null,null,"男",{"$f":"IF(種目情報!A4=\"\",\"\",種目情報!A4)","v":"男100m"},{"$f":"IF(種目情報!E4=\"\",\"\",種目情報!E4)","v":"女100m"},"○","","","","","",{"$f":"IF(I12=\"男\",data_kyogisha!A3,\"\")","v":""},"","","","","",{"$f":"IF(I12=\"女\",data_kyogisha!A3,\"\")","v":""},{"$f":"IF(AND(I12=\"男\",T12=\"○\"),AP11+1,AP11)","v":0},{"$f":"IF(AND(I12=\"男\",T12=\"○\"),C12,\"\")","v":""},{"$f":"IF(AND(I12=\"男\",V12=\"○\"),AR11+1,AR11)","v":0},{"$f":"IF(AND(I12=\"男\",V12=\"○\"),C12,\"\")","v":""},{"$f":"IF(AND(I12=\"女\",T12=\"○\"),AT11+1,AT11)","v":0},"",{"$f":"IF(AND(I12=\"女\",V12=\"○\"),AV11+1,AV11)","v":0},"",null,"ASM　米領サモア"]
[3,null,null,null,null,null,null,null,null,null,null,null,null,null,null,null,null,null,null,null,null,null,null,null,null,"女",{"$f":"IF(種目情報!A5=\"\",\"\",種目情報!A5)","v":"男200m"},{"$f":"IF(種目情報!E5=\"\",\"\",種目情報!E5)","v":"女200m"},null,"","","","","",{"$f":"IF(I13=\"男\",data_kyogisha!A4,\"\")","v":""},"","","","","",{"$f":"IF(I13=\"女\",data_kyogisha!A4,\"\")","v":""},0,"",0,"",0,"",0,"",null,"AUT　オーストリア共和国"]
[4,null,null,null,null,null,null,null,null,null,null,null,null,null,null,null,null,null,null,null,null,null,null,null,null,null,{"$f":"IF(種目情報!A6=\"\",\"\",種目情報!A6)","v":"男400m"},{"$f":"IF(種目情報!E6=\"\",\"\",種目情報!E6)","v":"女400m"},null,"","","","","",{"$f":"IF(I14=\"男\",data_kyogisha!A5,\"\")","v":""},"","","","","",{"$f":"IF(I14=\"女\",data_kyogisha!A5,\"\")","v":""},0,"",0,"",0,"",0,"",null,"AUS　オーストラリア"]
[5,null,null,null,null,null,null,null,null,null,null,null,null,null,null,null,null,null,null,null,null,null,null,null,null,null,{"$f":"IF(種目情報!A7=\"\",\"\",種目情報!A7)","v":"男800m"},{"$f":"IF(種目情報!E7=\"\",\"\",種目情報!E7)","v":"女800m"},null,"","","","","",{"$f":"IF(I15=\"男\",data_kyogisha!A6,\"\")","v":""},"","","","","",{"$f":"IF(I15=\"女\",data_kyogisha!A6,\"\")","v":""},0,"",0,"",0,"",0,"",null,"ABW　アルバ"]
[6,null,null,null,null,null,null,null,null,null,null,null,null,null,null,null,null,null,null,null,null,null,null,null,null,null,{"$f":"IF(種目情報!A8=\"\",\"\",種目情報!A8)","v":"男1500m"},{"$f":"IF(種目情報!E8=\"\",\"\",種目情報!E8)","v":"女1500m"},null,"","","","","",{"$f":"IF(I16=\"男\",data_kyogisha!A7,\"\")","v":""},"","","","","",{"$f":"IF(I16=\"女\",data_kyogisha!A7,\"\")","v":""},0,"",0,"",0,"",0,"",null,"AZE　アゼルバイジャン共和国"]
[7,null,null,null,null,null,null,null,null,null,null,null,null,null,null,null,null,null,null,null,null,null,null,null,null,"中１",{"$f":"IF(種目情報!A9=\"\",\"\",種目情報!A9)","v":"男5000m"},{"$f":"IF(種目情報!E9=\"\",\"\",種目情報!E9)","v":"女5000m"},null,"","","","","",{"$f":"IF(I17=\"男\",data_kyogisha!A8,\"\")","v":""},"","","","","",{"$f":"IF(I17=\"女\",data_kyogisha!A8,\"\")","v":""},0,"",0,"",0,"",0,"",null,"BIH　(ボスニア・ヘルツェゴビナ共和国)"]
[8,null,null,null,null,null,null,null,null,null,null,null,null,null,null,null,null,null,null,null,null,null,null,null,null,"中２",{"$f":"IF(種目情報!A10=\"\",\"\",種目情報!A10)","v":"男110mH(1.067m)"},{"$f":"IF(種目情報!E10=\"\",\"\",種目情報!E10)","v":"女100mH(0.838m)"},null,"","","","","",{"$f":"IF(I18=\"男\",data_kyogisha!A9,\"\")","v":""},"","","","","",{"$f":"IF(I18=\"女\",data_kyogisha!A9,\"\")","v":""},0,"",0,"",0,"",0,"",null,"BRB　バルバドス"]
[9,null,null,null,null,null,null,null,null,null,null,null,null,null,null,null,null,null,null,null,null,null,null,null,null,"中３",{"$f":"IF(種目情報!A11=\"\",\"\",種目情報!A11)","v":"男400mH(0.914m)"},{"$f":"IF(種目情報!E11=\"\",\"\",種目情報!E11)","v":"女400mH(0.762m)"},null,"","","","","",{"$f":"IF(I19=\"男\",data_kyogisha!A10,\"\")","v":""},"","","","","",{"$f":"IF(I19=\"女\",data_kyogisha!A10,\"\")","v":""},0,"",0,"",0,"",0,"",null,"BGD　バングラデシュ人民共和国"]
[10,null,null,null,null,null,null,null,null,null,null,null,null,null,null,null,null,null,null,null,null,null,null,null,null,"高１",{"$f":"IF(種目情報!A12=\"\",\"\",種目情報!A12)","v":"男3000mSC(0.914m)"},{"$f":"IF(種目情報!E12=\"\",\"\",種目情報!E12)","v":"女走高跳"},null,"","","","","",{"$f":"IF(I20=\"男\",data_kyogisha!A11,\"\")","v":""},"","","","","",{"$f":"IF(I20=\"女\",data_kyogisha!A11,\"\")","v":""},0,"",0,"",0,"",0,"",null,"BEL　ベルギー王国"]
[11,null,null,null,null,null,null,null,null,null,null,null,null,null,null,null,null,null,null,null,null,null,null,null,null,"高２",{"$f":"IF(種目情報!A13=\"\",\"\",種目情報!A13)","v":"男走高跳"},{"$f":"IF(種目情報!E13=\"\",\"\",種目情報!E13)","v":"女棒高跳"},null,"","","","","",{"$f":"IF(I21=\"男\",data_kyogisha!A12,\"\")","v":""},"","","","","",{"$f":"IF(I21=\"女\",data_kyogisha!A12,\"\")","v":""},0,"",0,"",0,"",0,"",null,"BFA　ブルキナファソ"]
[12,null,null,null,null,null,null,null,null,null,null,null,null,null,null,null,null,null,null,null,null,null,null,null,null,"高３",{"$f":"IF(種目情報!A14=\"\",\"\",種目情報!A14)","v":"男棒高跳"},{"$f":"IF(種目情報!E14=\"\",\"\",種目情報!E14)","v":"女走幅跳"},null,"","","","","",{"$f":"IF(I22=\"男\",data_kyogisha!A13,\"\")","v":""},"","","","","",{"$f":"IF(I22=\"女\",data_kyogisha!A13,\"\")","v":""},0,"",0,"",0,"",0,"",null,"BGR　ブルガリア共和国"]
[13,null,null,null,null,null,null,null,null,null,null,null,null,null,null,null,null,null,null,null,null,null,null,null,null,"高４",{"$f":"IF(種目情報!A15=\"\",\"\",種目情報!A15)","v":"男走幅跳"},{"$f":"IF(種目情報!E15=\"\",\"\",種目情報!E15)","v":"女三段跳"},null,"","","","","",{"$f":"IF(I23=\"男\",data_kyogisha!A14,\"\")","v":""},"","","","","",{"$f":"IF(I23=\"女\",data_kyogisha!A14,\"\")","v":""},0,"",0,"",0,"",0,"",null,"BHR　バーレーン国"]
[14,null,null,null,null,null,null,null,null,null,null,null,null,null,null,null,null,null,null,null,null,null,null,null,null,"大１",{"$f":"IF(種目情報!A16=\"\",\"\",種目情報!A16)","v":"男三段跳"},{"$f":"IF(種目情報!E16=\"\",\"\",種目情報!E16)","v":"女砲丸投(4.000kg)"},null,"","","","","",{"$f":"IF(I24=\"男\",data_kyogisha!A15,\"\")","v":""},"","","","","",{"$f":"IF(I24=\"女\",data_kyogisha!A15,\"\")","v":""},0,"",0,"",0,"",0,"",null,"BDI　ブルンジ共和国"]
[15,null,null,null,null,null,null,null,null,null,null,null,null,null,null,null,null,null,null,null,null,null,null,null,null,"大２",{"$f":"IF(種目情報!A17=\"\",\"\",種目情報!A17)","v":"男砲丸投(7.260kg)"},{"$f":"IF(種目情報!E17=\"\",\"\",種目情報!E17)","v":"女円盤投(1.000kg)"},null,"","","","","",{"$f":"IF(I25=\"男\",data_kyogisha!A16,\"\")","v":""},"","","","","",{"$f":"IF(I25=\"女\",data_kyogisha!A16,\"\")","v":""},0,"",0,"",0,"",0,"",null,"BEN　ベナン共和国"]
[16,null,null,null,null,null,null,null,null,null,null,null,null,null,null,null,null,null,null,null,null,null,null,null,null,"大３",{"$f":"IF(種目情報!A18=\"\",\"\",種目情報!A18)","v":"男円盤投(2.000kg)"},{"$f":"IF(種目情報!E18=\"\",\"\",種目情報!E18)","v":"女ハンマー投(4.000kg)"},null,"","","","","",{"$f":"IF(I26=\"男\",data_kyogisha!A17,\"\")","v":""},"","","","","",{"$f":"IF(I26=\"女\",data_kyogisha!A17,\"\")","v":""},0,"",0,"",0,"",0,"",null,"BMU　バーミューダ諸島"]
[17,null,null,null,null,null,null,null,null,null,null,null,null,null,null,null,null,null,null,null,null,null,null,null,null,"大４",{"$f":"IF(種目情報!A19=\"\",\"\",種目情報!A19)","v":"男ハンマー投(7.260kg)"},{"$f":"IF(種目情報!E19=\"\",\"\",種目情報!E19)","v":"女やり投(0.600kg)"},null,"","","","","",{"$f":"IF(I27=\"男\",data_kyogisha!A18,\"\")","v":""},"","","","","",{"$f":"IF(I27=\"女\",data_kyogisha!A18,\"\")","v":""},0,"",0,"",0,"",0,"",null,"BRN　ブルネイ・ダルサラーム国"]
[18,null,null,null,null,null,null,null,null,null,null,null,null,null,null,null,null,null,null,null,null,null,null,null,null,"大５",{"$f":"IF(種目情報!A20=\"\",\"\",種目情報!A20)","v":"男やり投(0.800kg)"},null,null,"","","","","",{"$f":"IF(I28=\"男\",data_kyogisha!A19,\"\")","v":""},"","","","","",{"$f":"IF(I28=\"女\",data_kyogisha!A19,\"\")","v":""},0,"",0,"",0,"",0,"",null,"BOL　ボリビア共和国"]
[19,null,null,null,null,null,null,null,null,null,null,null,null,null,null,null,null,null,null,null,null,null,null,null,null,"大６",null,null,null,"","","","","",{"$f":"IF(I29=\"男\",data_kyogisha!A20,\"\")","v":""},"","","","","",{"$f":"IF(I29=\"女\",data_kyogisha!A20,\"\")","v":""},0,"",0,"",0,"",0,"",null,"BRA　ブラジル連邦共和国"]
[20,null,null,null,null,null,null,null,null,null,null,null,null,null,null,null,null,null,null,null,null,null,null,null,null,"Ｍ１",{"$f":"IF(種目情報!A22=\"\",\"\",種目情報!A22)","v":"　１日目 一般高校"},{"$f":"IF(種目情報!E22=\"\",\"\",種目情報!E22)","v":"　１日目 一般高校"},null,"","","","","",{"$f":"IF(I30=\"男\",data_kyogisha!A21,\"\")","v":""},"","","","","",{"$f":"IF(I30=\"女\",data_kyogisha!A21,\"\")","v":""},0,"",0,"",0,"",0,"",null,"BHS　バハマ国"]
[21,null,null,null,null,null,null,null,null,null,null,null,null,null,null,null,null,null,null,null,null,null,null,null,null,"Ｍ２",{"$f":"IF(種目情報!A23=\"\",\"\",種目情報!A23)","v":"男100m"},{"$f":"IF(種目情報!E23=\"\",\"\",種目情報!E23)","v":"女100m"},null,"","","","","",{"$f":"IF(I31=\"男\",data_kyogisha!A22,\"\")","v":""},"","","","","",{"$f":"IF(I31=\"女\",data_kyogisha!A22,\"\")","v":""},0,"",0,"",0,"",0,"",null,"BTN　ブータン王国"]
[22,null,null,null,null,null,null,null,null,null,null,null,null,null,null,null,null,null,null,null,null,null,null,null,null,"Ｄ１",{"$f":"IF(種目情報!A24=\"\",\"\",種目情報!A24)","v":"男400m"},{"$f":"IF(種目情報!E24=\"\",\"\",種目情報!E24)","v":"女400m"},null,"","","","","",{"$f":"IF(I32=\"男\",data_kyogisha!A23,\"\")","v":""},"","","","","",{"$f":"IF(I32=\"女\",data_kyogisha!A23,\"\")","v":""},0,"",0,"",0,"",0,"",null,"BVT　ブーベ島"]
[23,null,null,null,null,null,null,null,null,null,null,null,null,null,null,null,null,null,null,null,null,null,null,null,null,"Ｄ２",{"$f":"IF(種目情報!A25=\"\",\"\",種目情報!A25)","v":"男1500m"},{"$f":"IF(種目情報!E25=\"\",\"\",種目情報!E25)","v":"女1500m"},null,"","","","","",{"$f":"IF(I33=\"男\",data_kyogisha!A24,\"\")","v":""},"","","","","",{"$f":"IF(I33=\"女\",data_kyogisha!A24,\"\")","v":""},0,"",0,"",0,"",0,"",null,"BWA　ボツワナ共和国"]
[24,null,null,null,null,null,null,null,null,null,null,null,null,null,null,null,null,null,null,null,null,null,null,null,null,"Ｄ３",{"$f":"IF(種目情報!A26=\"\",\"\",種目情報!A26)","v":"男110mH(1.067m)"},{"$f":"IF(種目情報!E26=\"\",\"\",種目情報!E26)","v":"女100mH(0.838m)"},null,"","","","","",{"$f":"IF(I34=\"男\",data_kyogisha!A25,\"\")","v":""},"","","","","",{"$f":"IF(I34=\"女\",data_kyogisha!A25,\"\")","v":""},0,"",0,"",0,"",0,"",null,"BLR　ベラルーシ共和国"]
[25,null,null,null,null,null,null,null,null,null,null,null,null,null,null,null,null,null,null,null,null,null,null,null,null,"Ｄ４",{"$f":"IF(種目情報!A27=\"\",\"\",種目情報!A27)","v":"男3000mSC(0.914m)"},{"$f":"IF(種目情報!E27=\"\",\"\",種目情報!E27)","v":"女棒高跳"},null,"","","","","",{"$f":"IF(I35=\"男\",data_kyogisha!A26,\"\")","v":""},"","","","","",{"$f":"IF(I35=\"女\",data_kyogisha!A26,\"\")","v":""},0,"",0,"",0,"",0,"",null,"BLZ　ベリーズ"]
[26,null,null,null,null,null,null,null,null,null,null,null,null,null,null,null,null,null,null,null,null,null,null,null,null,null,{"$f":"IF(種目情報!A28=\"\",\"\",種目情報!A28)","v":"男棒高跳"},{"$f":"IF(種目情報!E28=\"\",\"\",種目情報!E28)","v":"女走幅跳"},null,"","","","","",{"$f":"IF(I36=\"男\",data_kyogisha!A27,\"\")","v":""},"","","","","",{"$f":"IF(I36=\"女\",data_kyogisha!A27,\"\")","v":""},0,"",0,"",0,"",0,"",null,"CAN　カナダ"]
[27,null,null,null,null,null,null,null,null,null,null,null,null,null,null,null,null,null,null,null,null,null,null,null,null,null,{"$f":"IF(種目情報!A29=\"\",\"\",種目情報!A29)","v":"男三段跳"},{"$f":"IF(種目情報!E29=\"\",\"\",種目情報!E29)","v":"女砲丸投(4.000kg)"},null,"","","","","",{"$f":"IF(I37=\"男\",data_kyogisha!A28,\"\")","v":""},"","","","","",{"$f":"IF(I37=\"女\",data_kyogisha!A28,\"\")","v":""},0,"",0,"",0,"",0,"",null,"CCK　ココス諸島"]
[28,null,null,null,null,null,null,null,null,null,null,null,null,null,null,null,null,null,null,null,null,null,null,null,null,null,{"$f":"IF(種目情報!A30=\"\",\"\",種目情報!A30)","v":"男砲丸投(7.260kg)"},{"$f":"IF(種目情報!E30=\"\",\"\",種目情報!E30)","v":"女やり投(0.600kg)"},null,"","","","","",{"$f":"IF(I38=\"男\",data_kyogisha!A29,\"\")","v":""},"","","","","",{"$f":"IF(I38=\"女\",data_kyogisha!A29,\"\")","v":""},0,"",0,"",0,"",0,"",null,"CAF　中央アフリカ共和国"]
[29,null,null,null,null,null,null,null,null,null,null,null,null,null,null,null,null,null,null,null,null,null,null,null,null,null,{"$f":"IF(種目情報!A31=\"\",\"\",種目情報!A31)","v":"男やり投(0.800kg)"},{"$f":"IF(種目情報!E31=\"\",\"\",種目情報!E31)","v":"　１日目 中学"},null,"","","","","",{"$f":"IF(I39=\"男\",data_kyogisha!A30,\"\")","v":""},"","","","","",{"$f":"IF(I39=\"女\",data_kyogisha!A30,\"\")","v":""},0,"",0,"",0,"",0,"",null,"COG　コンゴ共和国"]
[30,null,null,null,null,null,null,null,null,null,null,null,null,null,null,null,null,null,null,null,null,null,null,null,null,null,{"$f":"IF(種目情報!A32=\"\",\"\",種目情報!A32)","v":"　１日目 中学"},{"$f":"IF(種目情報!E32=\"\",\"\",種目情報!E32)","v":"女100m"},null,"","","","","",{"$f":"IF(I40=\"男\",data_kyogisha!A31,\"\")","v":""},"","","","","",{"$f":"IF(I40=\"女\",data_kyogisha!A31,\"\")","v":""},0,"",0,"",0,"",0,"",null,"CHE　スイス連邦"]
[31,null,null,null,null,null,null,null,null,null,null,null,null,null,null,null,null,null,null,null,null,null,null,null,null,null,{"$f":"IF(種目情報!A33=\"\",\"\",種目情報!A33)","v":"男100m"},{"$f":"IF(種目情報!E33=\"\",\"\",種目情報!E33)","v":"女400m"},null,"","","","","",{"$f":"IF(I41=\"男\",data_kyogisha!A32,\"\")","v":""},"","","","","",{"$f":"IF(I41=\"女\",data_kyogisha!A32,\"\")","v":""},0,"",0,"",0,"",0,"",null,"CIV　コートジボアール共和国"]
[32,null,null,null,null,null,null,null,null,null,null,null,null,null,null,null,null,null,null,null,null,null,null,null,null,null,{"$f":"IF(種目情報!A34=\"\",\"\",種目情報!A34)","v":"男400m"},{"$f":"IF(種目情報!E34=\"\",\"\",種目情報!E34)","v":"女1500m"},null,"","","","","",{"$f":"IF(I42=\"男\",data_kyogisha!A33,\"\")","v":""},"","","","","",{"$f":"IF(I42=\"女\",data_kyogisha!A33,\"\")","v":""},0,"",0,"",0,"",0,"",null,"COK　クック諸島"]
[33,null,null,null,null,null,null,null,null,null,null,null,null,null,null,null,null,null,null,null,null,null,null,null,null,null,{"$f":"IF(種目情報!A35=\"\",\"\",種目情報!A35)","v":"男1500m"},{"$f":"IF(種目情報!E35=\"\",\"\",種目情報!E35)","v":"女棒高跳"},null,{"$f":"IF(I43=\"男\",C43,\"\")","v":""},{"$f":"IF(I43=\"男\",D43,\"\")","v":""},{"$f":"IF(I43=\"男\",F43,\"\")","v":""},{"$f":"IF(I43=\"男\",I43,\"\")","v":""},{"$f":"IF(I43=\"男\",IF(J43=\"\",\"\",J43),\"\")","v":""},{"$f":"IF(I43=\"男\",data_kyogisha!A34,\"\")","v":""},{"$f":"IF(I43=\"女\",C43,\"\")","v":""},{"$f":"IF(I43=\"女\",D43,\"\")","v":""},{"$f":"IF(I43=\"女\",F43,\"\")","v":""},{"$f":"IF(I43=\"女\",I43,\"\")","v":""},{"$f":"IF(I43=\"女\",IF(J43=\"\",\"\",J43),\"\")","v":""},{"$f":"IF(I43=\"女\",data_kyogisha!A34,\"\")","v":""},0,"",0,"",0,{"$f":"IF(AND($I43=\"女\",$T43=\"○\"),$C43,\"\")","v":""},0,{"$f":"IF(AND($I43=\"女\",$V43=\"○\"),$C43,\"\")","v":""},null,"CHL　チリ共和国"]
[34,null,null,null,null,null,null,null,null,null,null,null,null,null,null,null,null,null,null,null,null,null,null,null,null,null,{"$f":"IF(種目情報!A36=\"\",\"\",種目情報!A36)","v":"男棒高跳"},{"$f":"IF(種目情報!E36=\"\",\"\",種目情報!E36)","v":"女走幅跳"},null,"","","","","",{"$f":"IF(I44=\"男\",data_kyogisha!A35,\"\")","v":""},"","","","","",{"$f":"IF(I44=\"女\",data_kyogisha!A35,\"\")","v":""},{"$f":"IF(AND(I44=\"男\",T44=\"○\"),AP43+1,AP43)","v":0},{"$f":"IF(AND(I44=\"男\",T44=\"○\"),C44,\"\")","v":""},{"$f":"IF(AND(I44=\"男\",V44=\"○\"),AR43+1,AR43)","v":0},{"$f":"IF(AND(I44=\"男\",V44=\"○\"),C44,\"\")","v":""},{"$f":"IF(AND(I44=\"女\",T44=\"○\"),AT43+1,AT43)","v":0},"",{"$f":"IF(AND(I44=\"女\",V44=\"○\"),AV43+1,AV43)","v":0},"",null,"CMR　カメルーン共和国"]
[35,null,null,null,null,null,null,null,null,null,null,null,null,null,null,null,null,null,null,null,null,null,null,null,null,null,{"$f":"IF(種目情報!A37=\"\",\"\",種目情報!A37)","v":"男三段跳"},null,null,"","","","","",{"$f":"IF(I45=\"男\",data_kyogisha!A36,\"\")","v":""},"","","","","",{"$f":"IF(I45=\"女\",data_kyogisha!A36,\"\")","v":""},0,"",0,"",0,"",0,"",null,"CHN　中華人民共和国"]
[36,null,null,null,null,null,null,null,null,null,null,null,null,null,null,null,null,null,null,null,null,null,null,null,null,null,null,{"$f":"IF(種目情報!E38=\"\",\"\",種目情報!E38)","v":"　２日目　一般高校"},null,"","","","","",{"$f":"IF(I46=\"男\",data_kyogisha!A37,\"\")","v":""},"","","","","",{"$f":"IF(I46=\"女\",data_kyogisha!A37,\"\")","v":""},0,"",0,"",0,"",0,"",null,"COL　コロンビア共和国"]
[37,null,null,null,null,null,null,null,null,null,null,null,null,null,null,null,null,null,null,null,null,null,null,null,null,null,{"$f":"IF(種目情報!A39=\"\",\"\",種目情報!A39)","v":"　２日目　一般高校"},{"$f":"IF(種目情報!E39=\"\",\"\",種目情報!E39)","v":"女200m"},null,"","","","","",{"$f":"IF(I47=\"男\",data_kyogisha!A38,\"\")","v":""},"","","","","",{"$f":"IF(I47=\"女\",data_kyogisha!A38,\"\")","v":""},0,"",0,"",0,"",0,"",null,"CRI　コスタリカ共和国"]
[38,null,null,null,null,null,null,null,null,null,null,null,null,null,null,null,null,null,null,null,null,null,null,null,null,null,{"$f":"IF(種目情報!A40=\"\",\"\",種目情報!A40)","v":"男200m"},{"$f":"IF(種目情報!E40=\"\",\"\",種目情報!E40)","v":"女800m"},null,"","","","","",{"$f":"IF(I48=\"男\",data_kyogisha!A39,\"\")","v":""},"","","","","",{"$f":"IF(I48=\"女\",data_kyogisha!A39,\"\")","v":""},0,"",0,"",0,"",0,"",null,"CUB　キューバ共和国"]
[39,null,null,null,null,null,null,null,null,null,null,null,null,null,null,null,null,null,null,null,null,null,null,null,null,null,{"$f":"IF(種目情報!A41=\"\",\"\",種目情報!A41)","v":"男800m"},{"$f":"IF(種目情報!E41=\"\",\"\",種目情報!E41)","v":"女5000m"},null,"","","","","",{"$f":"IF(I49=\"男\",data_kyogisha!A40,\"\")","v":""},"","","","","",{"$f":"IF(I49=\"女\",data_kyogisha!A40,\"\")","v":""},0,"",0,"",0,"",0,"",null,"CPV　カーボベルデ共和国"]
[40,null,null,null,null,null,null,null,null,null,null,null,null,null,null,null,null,null,null,null,null,null,null,null,null,null,{"$f":"IF(種目情報!A42=\"\",\"\",種目情報!A42)","v":"男5000m"},{"$f":"IF(種目情報!E42=\"\",\"\",種目情報!E42)","v":"女400mH(0.762m)"},null,"","","","","",{"$f":"IF(I50=\"男\",data_kyogisha!A41,\"\")","v":""},"","","","","",{"$f":"IF(I50=\"女\",data_kyogisha!A41,\"\")","v":""},0,"",0,"",0,"",0,"",null,"CXR　クリスマス島"]
[41,null,null,null,null,null,null,null,null,null,null,null,null,null,null,null,null,null,null,null,null,null,null,null,null,null,{"$f":"IF(種目情報!A43=\"\",\"\",種目情報!A43)","v":"男400mH(0.914m)"},{"$f":"IF(種目情報!E43=\"\",\"\",種目情報!E43)","v":"女走高跳"},null,"","","","","",{"$f":"IF(I51=\"男\",data_kyogisha!A42,\"\")","v":""},"","","","","",{"$f":"IF(I51=\"女\",data_kyogisha!A42,\"\")","v":""},0,"",0,"",0,"",0,"",null,"CYP　キプロス共和国"]
[42,null,null,null,null,null,null,null,null,null,null,null,null,null,null,null,null,null,null,null,null,null,null,null,null,null,{"$f":"IF(種目情報!A44=\"\",\"\",種目情報!A44)","v":"男走高跳"},{"$f":"IF(種目情報!E44=\"\",\"\",種目情報!E44)","v":"女三段跳"},null,"","","","","",{"$f":"IF(I52=\"男\",data_kyogisha!A43,\"\")","v":""},"","","","","",{"$f":"IF(I52=\"女\",data_kyogisha!A43,\"\")","v":""},0,"",0,"",0,"",0,"",null,"CZE　チェコ共和国"]
[43,null,null,null,null,null,null,null,null,null,null,null,null,null,null,null,null,null,null,null,null,null,null,null,null,null,{"$f":"IF(種目情報!A45=\"\",\"\",種目情報!A45)","v":"男走幅跳"},{"$f":"IF(種目情報!E45=\"\",\"\",種目情報!E45)","v":"女円盤投(1.000kg)"},null,"","","","","",{"$f":"IF(I53=\"男\",data_kyogisha!A44,\"\")","v":""},"","","","","",{"$f":"IF(I53=\"女\",data_kyogisha!A44,\"\")","v":""},0,"",0,"",0,"",0,"",null,"DEU　ドイツ連邦共和国"]
[44,null,null,null,null,null,null,null,null,null,null,null,null,null,null,null,null,null,null,null,null,null,null,null,null,null,{"$f":"IF(種目情報!A46=\"\",\"\",種目情報!A46)","v":"男円盤投(2.000kg)"},{"$f":"IF(種目情報!E46=\"\",\"\",種目情報!E46)","v":"女ハンマー投(4.000kg)"},null,"","","","","",{"$f":"IF(I54=\"男\",data_kyogisha!A45,\"\")","v":""},"","","","","",{"$f":"IF(I54=\"女\",data_kyogisha!A45,\"\")","v":""},0,"",0,"",0,"",0,"",null,"DJI　ジブチ共和国"]
[45,null,null,null,null,null,null,null,null,null,null,null,null,null,null,null,null,null,null,null,null,null,null,null,null,null,{"$f":"IF(種目情報!A47=\"\",\"\",種目情報!A47)","v":"男ハンマー投(7.260kg)"},{"$f":"IF(種目情報!E47=\"\",\"\",種目情報!E47)","v":"　２日目 中学"},null,"","","","","",{"$f":"IF(I55=\"男\",data_kyogisha!A46,\"\")","v":""},"","","","","",{"$f":"IF(I55=\"女\",data_kyogisha!A46,\"\")","v":""},0,"",0,"",0,"",0,"",null,"DNK　デンマーク王国"]
[46,null,null,null,null,null,null,null,null,null,null,null,null,null,null,null,null,null,null,null,null,null,null,null,null,null,{"$f":"IF(種目情報!A48=\"\",\"\",種目情報!A48)","v":"　２日目 中学"},{"$f":"IF(種目情報!E48=\"\",\"\",種目情報!E48)","v":"女200m"},null,"","","","","",{"$f":"IF(I56=\"男\",data_kyogisha!A47,\"\")","v":""},"","","","","",{"$f":"IF(I56=\"女\",data_kyogisha!A47,\"\")","v":""},0,"",0,"",0,"",0,"",null,"DMA　ドミニカ国"]
[47,null,null,null,null,null,null,null,null,null,null,null,null,null,null,null,null,null,null,null,null,null,null,null,null,null,{"$f":"IF(種目情報!A49=\"\",\"\",種目情報!A49)","v":"男200m"},{"$f":"IF(種目情報!E49=\"\",\"\",種目情報!E49)","v":"女800m"},null,"","","","","",{"$f":"IF(I57=\"男\",data_kyogisha!A48,\"\")","v":""},"","","","","",{"$f":"IF(I57=\"女\",data_kyogisha!A48,\"\")","v":""},0,"",0,"",0,"",0,"",null,"DOM　ドミニカ共和国"]
[48,null,null,null,null,null,null,null,null,null,null,null,null,null,null,null,null,null,null,null,null,null,null,null,null,null,{"$f":"IF(種目情報!A50=\"\",\"\",種目情報!A50)","v":"男800m"},{"$f":"IF(種目情報!E50=\"\",\"\",種目情報!E50)","v":"女走高跳"},null,"","","","","",{"$f":"IF(I58=\"男\",data_kyogisha!A49,\"\")","v":""},"","","","","",{"$f":"IF(I58=\"女\",data_kyogisha!A49,\"\")","v":""},0,"",0,"",0,"",0,"",null,"DZA　アルジェリア民主人民共和国"]
[49,null,null,null,null,null,null,null,null,null,null,null,null,null,null,null,null,null,null,null,null,null,null,null,null,null,{"$f":"IF(種目情報!A51=\"\",\"\",種目情報!A51)","v":"男走高跳"},{"$f":"IF(種目情報!E51=\"\",\"\",種目情報!E51)","v":"女三段跳"},null,"","","","","",{"$f":"IF(I59=\"男\",data_kyogisha!A50,\"\")","v":""},"","","","","",{"$f":"IF(I59=\"女\",data_kyogisha!A50,\"\")","v":""},0,"",0,"",0,"",0,"",null,"ECU　エクアドル共和国"]
[50,null,null,null,null,null,null,null,null,null,null,null,null,null,null,null,null,null,null,null,null,null,null,null,null,null,{"$f":"IF(種目情報!A52=\"\",\"\",種目情報!A52)","v":"男走幅跳"},{"$f":"IF(種目情報!E52=\"\",\"\",種目情報!E52)","v":"女円盤投(1.000kg)"},null,"","","","","",{"$f":"IF(I60=\"男\",data_kyogisha!A51,\"\")","v":""},"","","","","",{"$f":"IF(I60=\"女\",data_kyogisha!A51,\"\")","v":""},0,"",0,"",0,"",0,"",null,"EST　エストニア共和国"]
[51,null,null,null,null,null,null,null,null,null,null,null,null,null,null,null,null,null,null,null,null,null,null,null,null,null,null,null,null,"","","","","",{"$f":"IF(I61=\"男\",data_kyogisha!A52,\"\")","v":""},"","","","","",{"$f":"IF(I61=\"女\",data_kyogisha!A52,\"\")","v":""},0,"",0,"",0,"",0,"",null,"EGY　エジプト・アラブ共和国"]
[52,null,null,null,null,null,null,null,null,null,null,null,null,null,null,null,null,null,null,null,null,null,null,null,null,null,null,null,null,"","","","","",{"$f":"IF(I62=\"男\",data_kyogisha!A53,\"\")","v":""},"","","","","",{"$f":"IF(I62=\"女\",data_kyogisha!A53,\"\")","v":""},0,"",0,"",0,"",0,"",null,"ESH　西サハラ"]
[53,null,null,null,null,null,null,null,null,null,null,null,null,null,null,null,null,null,null,null,null,null,null,null,null,null,null,null,null,"","","","","",{"$f":"IF(I63=\"男\",data_kyogisha!A54,\"\")","v":""},"","","","","",{"$f":"IF(I63=\"女\",data_kyogisha!A54,\"\")","v":""},0,"",0,"",0,"",0,"",null,"ERI　エリトリア"]
[54,null,null,null,null,null,null,null,null,null,null,null,null,null,null,null,null,null,null,null,null,null,null,null,null,null,null,null,null,"","","","","",{"$f":"IF(I64=\"男\",data_kyogisha!A55,\"\")","v":""},"","","","","",{"$f":"IF(I64=\"女\",data_kyogisha!A55,\"\")","v":""},0,"",0,"",0,"",0,"",null,"ESP　スペイン"]
[55,null,null,null,null,null,null,null,null,null,null,null,null,null,null,null,null,null,null,null,null,null,null,null,null,null,null,null,null,"","","","","",{"$f":"IF(I65=\"男\",data_kyogisha!A56,\"\")","v":""},"","","","","",{"$f":"IF(I65=\"女\",data_kyogisha!A56,\"\")","v":""},0,"",0,"",0,"",0,"",null,"ETH　エチオピア"]
[56,null,null,null,null,null,null,null,null,null,null,null,null,null,null,null,null,null,null,null,null,null,null,null,null,null,null,null,null,"","","","","",{"$f":"IF(I66=\"男\",data_kyogisha!A57,\"\")","v":""},"","","","","",{"$f":"IF(I66=\"女\",data_kyogisha!A57,\"\")","v":""},0,"",0,"",0,"",0,"",null,"FIN　フィンランド共和国"]
[57,null,null,null,null,null,null,null,null,null,null,null,null,null,null,null,null,null,null,null,null,null,null,null,null,null,null,null,null,"","","","","",{"$f":"IF(I67=\"男\",data_kyogisha!A58,\"\")","v":""},"","","","","",{"$f":"IF(I67=\"女\",data_kyogisha!A58,\"\")","v":""},0,"",0,"",0,"",0,"",null,"FJI　フィジー共和国"]
[58,null,null,null,null,null,null,null,null,null,null,null,null,null,null,null,null,null,null,null,null,null,null,null,null,null,null,null,null,"","","","","",{"$f":"IF(I68=\"男\",data_kyogisha!A59,\"\")","v":""},"","","","","",{"$f":"IF(I68=\"女\",data_kyogisha!A59,\"\")","v":""},0,"",0,"",0,"",0,"",null,"FLK　フォークランド(マルビナス)諸島"]
[59,null,null,null,null,null,null,null,null,null,null,null,null,null,null,null,null,null,null,null,null,null,null,null,null,null,null,null,null,"","","","","",{"$f":"IF(I69=\"男\",data_kyogisha!A60,\"\")","v":""},"","","","","",{"$f":"IF(I69=\"女\",data_kyogisha!A60,\"\")","v":""},0,"",0,"",0,"",0,"",null,"FSM　ミクロネシア連邦"]
[60,null,null,null,null,null,null,null,null,null,null,null,null,null,null,null,null,null,null,null,null,null,null,null,null,null,"","",null,"","","","","",{"$f":"IF(I70=\"男\",data_kyogisha!A61,\"\")","v":""},"","","","","",{"$f":"IF(I70=\"女\",data_kyogisha!A61,\"\")","v":""},0,"",0,"",0,"",0,"",null,"FRO　フェロー諸島"]
[61,null,null,null,null,null,null,null,null,null,null,null,null,null,null,null,null,null,null,null,null,null,null,null,null,null,"","",null,"","","","","",{"$f":"IF(I71=\"男\",data_kyogisha!A62,\"\")","v":""},"","","","","",{"$f":"IF(I71=\"女\",data_kyogisha!A62,\"\")","v":""},0,"",0,"",0,"",0,"",null,"FRA　フランス共和国"]
[62,null,null,null,null,null,null,null,null,null,null,null,null,null,null,null,null,null,null,null,null,null,null,null,null,null,"","",null,"","","","","",{"$f":"IF(I72=\"男\",data_kyogisha!A63,\"\")","v":""},"","","","","",{"$f":"IF(I72=\"女\",data_kyogisha!A63,\"\")","v":""},0,"",0,"",0,"",0,"",null,"FXX　フランス本国"]
[63,null,null,null,null,null,null,null,null,null,null,null,null,null,null,null,null,null,null,null,null,null,null,null,null,null,"","",null,"","","","","",{"$f":"IF(I73=\"男\",data_kyogisha!A64,\"\")","v":""},"","","","","",{"$f":"IF(I73=\"女\",data_kyogisha!A64,\"\")","v":""},0,"",0,"",0,"",0,"",null,"GAB　ガボン共和国"]
[64,null,null,null,null,null,null,null,null,null,null,null,null,null,null,null,null,null,null,null,null,null,null,null,null,null,"","",null,"","","","","",{"$f":"IF(I74=\"男\",data_kyogisha!A65,\"\")","v":""},"","","","","",{"$f":"IF(I74=\"女\",data_kyogisha!A65,\"\")","v":""},0,"",0,"",0,"",0,"",null,"GBR　グレートブリテン及び北部アイルランド連合王国(英国)"]
[65,null,null,null,null,null,null,null,null,null,null,null,null,null,null,null,null,null,null,null,null,null,null,null,null,null,"","",null,{"$f":"IF(I75=\"男\",C75,\"\")","v":""},{"$f":"IF(I75=\"男\",D75,\"\")","v":""},{"$f":"IF(I75=\"男\",F75,\"\")","v":""},{"$f":"IF(I75=\"男\",I75,\"\")","v":""},{"$f":"IF(I75=\"男\",IF(J75=\"\",\"\",J75),\"\")","v":""},{"$f":"IF(I75=\"男\",data_kyogisha!A66,\"\")","v":""},{"$f":"IF(I75=\"女\",C75,\"\")","v":""},{"$f":"IF(I75=\"女\",D75,\"\")","v":""},{"$f":"IF(I75=\"女\",F75,\"\")","v":""},{"$f":"IF(I75=\"女\",I75,\"\")","v":""},{"$f":"IF(I75=\"女\",IF(J75=\"\",\"\",J75),\"\")","v":""},{"$f":"IF(I75=\"女\",data_kyogisha!A66,\"\")","v":""},0,"",0,"",0,{"$f":"IF(AND($I75=\"女\",$T75=\"○\"),$C75,\"\")","v":""},0,{"$f":"IF(AND($I75=\"女\",$V75=\"○\"),$C75,\"\")","v":""},null,"GRD　グレナダ"]
[66,null,null,null,null,null,null,null,null,null,null,null,null,null,null,null,null,null,null,null,null,null,null,null,null,null,"","",null,"","","","","",{"$f":"IF(I76=\"男\",data_kyogisha!A67,\"\")","v":""},"","","","","",{"$f":"IF(I76=\"女\",data_kyogisha!A67,\"\")","v":""},{"$f":"IF(AND(I76=\"男\",T76=\"○\"),AP75+1,AP75)","v":0},{"$f":"IF(AND(I76=\"男\",T76=\"○\"),C76,\"\")","v":""},{"$f":"IF(AND(I76=\"男\",V76=\"○\"),AR75+1,AR75)","v":0},{"$f":"IF(AND(I76=\"男\",V76=\"○\"),C76,\"\")","v":""},{"$f":"IF(AND(I76=\"女\",T76=\"○\"),AT75+1,AT75)","v":0},"",{"$f":"IF(AND(I76=\"女\",V76=\"○\"),AV75+1,AV75)","v":0},"",null,"GEO　グルジア共和国"]
[67,null,null,null,null,null,null,null,null,null,null,null,null,null,null,null,null,null,null,null,null,null,null,null,null,null,"","",null,"","","","","",{"$f":"IF(I77=\"男\",data_kyogisha!A68,\"\")","v":""},"","","","","",{"$f":"IF(I77=\"女\",data_kyogisha!A68,\"\")","v":""},0,"",0,"",0,"",0,"",null,"GUF　仏領ギアナ"]
[68,null,null,null,null,null,null,null,null,null,null,null,null,null,null,null,null,null,null,null,null,null,null,null,null,null,"","",null,"","","","","",{"$f":"IF(I78=\"男\",data_kyogisha!A69,\"\")","v":""},"","","","","",{"$f":"IF(I78=\"女\",data_kyogisha!A69,\"\")","v":""},0,"",0,"",0,"",0,"",null,"GHA　ガーナ共和国"]
[69,null,null,null,null,null,null,null,null,null,null,null,null,null,null,null,null,null,null,null,null,null,null,null,null,null,"","",null,"","","","","",{"$f":"IF(I79=\"男\",data_kyogisha!A70,\"\")","v":""},"","","","","",{"$f":"IF(I79=\"女\",data_kyogisha!A70,\"\")","v":""},0,"",0,"",0,"",0,"",null,"GIB　ジブラルタル"]
[70,null,null,null,null,null,null,null,null,null,null,null,null,null,null,null,null,null,null,null,null,null,null,null,null,null,"","",null,"","","","","",{"$f":"IF(I80=\"男\",data_kyogisha!A71,\"\")","v":""},"","","","","",{"$f":"IF(I80=\"女\",data_kyogisha!A71,\"\")","v":""},0,"",0,"",0,"",0,"",null,"GRL　グリーンランド"]
[71,null,null,null,null,null,null,null,null,null,null,null,null,null,null,null,null,null,null,null,null,null,null,null,null,null,"","",null,"","","","","",{"$f":"IF(I81=\"男\",data_kyogisha!A72,\"\")","v":""},"","","","","",{"$f":"IF(I81=\"女\",data_kyogisha!A72,\"\")","v":""},0,"",0,"",0,"",0,"",null,"GMB　ガンビア共和国"]
[72,null,null,null,null,null,null,null,null,null,null,null,null,null,null,null,null,null,null,null,null,null,null,null,null,null,"","",null,"","","","","",{"$f":"IF(I82=\"男\",data_kyogisha!A73,\"\")","v":""},"","","","","",{"$f":"IF(I82=\"女\",data_kyogisha!A73,\"\")","v":""},0,"",0,"",0,"",0,"",null,"GIN　ギニア共和国"]
[73,null,null,null,null,null,null,null,null,null,null,null,null,null,null,null,null,null,null,null,null,null,null,null,null,null,"","",null,"","","","","",{"$f":"IF(I83=\"男\",data_kyogisha!A74,\"\")","v":""},"","","","","",{"$f":"IF(I83=\"女\",data_kyogisha!A74,\"\")","v":""},0,"",0,"",0,"",0,"",null,"GLP　グアドループ島"]
[74,null,null,null,null,null,null,null,null,null,null,null,null,null,null,null,null,null,null,null,null,null,null,null,null,null,"","",null,"","","","","",{"$f":"IF(I84=\"男\",data_kyogisha!A75,\"\")","v":""},"","","","","",{"$f":"IF(I84=\"女\",data_kyogisha!A75,\"\")","v":""},0,"",0,"",0,"",0,"",null,"GNQ　赤道ギニア共和国"]
[75,null,null,null,null,null,null,null,null,null,null,null,null,null,null,null,null,null,null,null,null,null,null,null,null,null,"","",null,"","","","","",{"$f":"IF(I85=\"男\",data_kyogisha!A76,\"\")","v":""},"","","","","",{"$f":"IF(I85=\"女\",data_kyogisha!A76,\"\")","v":""},0,"",0,"",0,"",0,"",null,"GRC　ギリシア共和国"]
[76,null,null,null,null,null,null,null,null,null,null,null,null,null,null,null,null,null,null,null,null,null,null,null,null,null,"","",null,"","","","","",{"$f":"IF(I86=\"男\",data_kyogisha!A77,\"\")","v":""},"","","","","",{"$f":"IF(I86=\"女\",data_kyogisha!A77,\"\")","v":""},0,"",0,"",0,"",0,"",null,"SGS　南ジョージア島・南サンドイッチ諸島"]
[77,null,null,null,null,null,null,null,null,null,null,null,null,null,null,null,null,null,null,null,null,null,null,null,null,null,"","",null,"","","","","",{"$f":"IF(I87=\"男\",data_kyogisha!A78,\"\")","v":""},"","","","","",{"$f":"IF(I87=\"女\",data_kyogisha!A78,\"\")","v":""},0,"",0,"",0,"",0,"",null,"GTM　グアテマラ共和国"]
[78,null,null,null,null,null,null,null,null,null,null,null,null,null,null,null,null,null,null,null,null,null,null,null,null,null,"","",null,"","","","","",{"$f":"IF(I88=\"男\",data_kyogisha!A79,\"\")","v":""},"","","","","",{"$f":"IF(I88=\"女\",data_kyogisha!A79,\"\")","v":""},0,"",0,"",0,"",0,"",null,"GUM　グアム"]
[79,null,null,null,null,null,null,null,null,null,null,null,null,null,null,null,null,null,null,null,null,null,null,null,null,null,"","",null,"","","","","",{"$f":"IF(I89=\"男\",data_kyogisha!A80,\"\")","v":""},"","","","","",{"$f":"IF(I89=\"女\",data_kyogisha!A80,\"\")","v":""},0,"",0,"",0,"",0,"",null,"GNB　ギニアビサオ共和国"]
[80,null,null,null,null,null,null,null,null,null,null,null,null,null,null,null,null,null,null,null,null,null,null,null,null,null,"","",null,"","","","","",{"$f":"IF(I90=\"男\",data_kyogisha!A81,\"\")","v":""},"","","","","",{"$f":"IF(I90=\"女\",data_kyogisha!A81,\"\")","v":""},0,"",0,"",0,"",0,"",null,"GUY　ガイアナ協同共和国"]
[81,null,null,null,null,null,null,null,null,null,null,null,null,null,null,null,null,null,null,null,null,null,null,null,null,null,"","",null,"","","","","",{"$f":"IF(I91=\"男\",data_kyogisha!A82,\"\")","v":""},"","","","","",{"$f":"IF(I91=\"女\",data_kyogisha!A82,\"\")","v":""},0,"",0,"",0,"",0,"",null,"HKG　ホンコン (香港)"]
[82,null,null,null,null,null,null,null,null,null,null,null,null,null,null,null,null,null,null,null,null,null,null,null,null,null,"","",null,"","","","","",{"$f":"IF(I92=\"男\",data_kyogisha!A83,\"\")","v":""},"","","","","",{"$f":"IF(I92=\"女\",data_kyogisha!A83,\"\")","v":""},0,"",0,"",0,"",0,"",null,"HMD　ヘアド島・マクドナルド諸島"]
[83,null,null,null,null,null,null,null,null,null,null,null,null,null,null,null,null,null,null,null,null,null,null,null,null,null,"","",null,"","","","","",{"$f":"IF(I93=\"男\",data_kyogisha!A84,\"\")","v":""},"","","","","",{"$f":"IF(I93=\"女\",data_kyogisha!A84,\"\")","v":""},0,"",0,"",0,"",0,"",null,"HND　ホンジュラス共和国"]
[84,null,null,null,null,null,null,null,null,null,null,null,null,null,null,null,null,null,null,null,null,null,null,null,null,null,"","",null,"","","","","",{"$f":"IF(I94=\"男\",data_kyogisha!A85,\"\")","v":""},"","","","","",{"$f":"IF(I94=\"女\",data_kyogisha!A85,\"\")","v":""},0,"",0,"",0,"",0,"",null,"HRV　クロアチア共和国"]
[85,null,null,null,null,null,null,null,null,null,null,null,null,null,null,null,null,null,null,null,null,null,null,null,null,null,"","",null,"","","","","",{"$f":"IF(I95=\"男\",data_kyogisha!A86,\"\")","v":""},"","","","","",{"$f":"IF(I95=\"女\",data_kyogisha!A86,\"\")","v":""},0,"",0,"",0,"",0,"",null,"HTI　ハイチ共和国"]
[86,null,null,null,null,null,null,null,null,null,null,null,null,null,null,null,null,null,null,null,null,null,null,null,null,null,"","",null,"","","","","",{"$f":"IF(I96=\"男\",data_kyogisha!A87,\"\")","v":""},"","","","","",{"$f":"IF(I96=\"女\",data_kyogisha!A87,\"\")","v":""},0,"",0,"",0,"",0,"",null,"HUN　ハンガリー共和国"]
[87,null,null,null,null,null,null,null,null,null,null,null,null,null,null,null,null,null,null,null,null,null,null,null,null,null,"","",null,"","","","","",{"$f":"IF(I97=\"男\",data_kyogisha!A88,\"\")","v":""},"","","","","",{"$f":"IF(I97=\"女\",data_kyogisha!A88,\"\")","v":""},0,"",0,"",0,"",0,"",null,"IDN　インドネシア共和国"]
[88,null,null,null,null,null,null,null,null,null,null,null,null,null,null,null,null,null,null,null,null,null,null,null,null,null,"","",null,"","","","","",{"$f":"IF(I98=\"男\",data_kyogisha!A89,\"\")","v":""},"","","","","",{"$f":"IF(I98=\"女\",data_kyogisha!A89,\"\")","v":""},0,"",0,"",0,"",0,"",null,"IRL　アイルランド"]
[89,null,null,null,null,null,null,null,null,null,null,null,null,null,null,null,null,null,null,null,null,null,null,null,null,null,null,null,null,"","","","","",{"$f":"IF(I99=\"男\",data_kyogisha!A90,\"\")","v":""},"","","","","",{"$f":"IF(I99=\"女\",data_kyogisha!A90,\"\")","v":""},0,"",0,"",0,"",0,"",null,"ISR　イスラエル国"]
[90,null,null,null,null,null,null,null,null,null,null,null,null,null,null,null,null,null,null,null,null,null,null,null,null,null,null,null,null,"","","","","",{"$f":"IF(I100=\"男\",data_kyogisha!A91,\"\")","v":""},"","","","","",{"$f":"IF(I100=\"女\",data_kyogisha!A91,\"\")","v":""},0,"",0,"",0,"",0,"",null,"IND　インド"]
[null,null,null,null,null,null,"種目計",null,{"$f":"SUM(L101:R101)","v":0},null,null,{"$f":"COUNTA(L11:L100)","v":0},null,null,{"$f":"COUNTA(O11:O100)","v":0},null,null,{"$f":"COUNTA(R11:R100)","v":0},null,null,null,null,null,null,null,null,null,null,null,null,null,null,null,null,null,null,null,null,null,null,null,null,null,null,null,null,null,null,null,null,"IOT　英領インド洋地域"]
[null,null,null,null,null,null,"リレー計",null,{"$f":"③リレー情報確認!F14+③リレー情報確認!L14+③リレー情報確認!R14+③リレー情報確認!X14","v":0},null,null,null,null,null,null,null,null,null,null,null,null,null,null,null,null,null,null,null,null,null,null,null,null,null,null,null,null,null,null,null,null,null,null,null,null,null,null,null,null,null,"IRQ　イラク共和国"]
[null,null,null,null,null,null,"男",null,{"$f":"COUNTIF(I11:I100,\"男\")","v":0},null,null,null,null,null,null,null,null,null,null,null,null,null,null,null,null,null,null,null,null,null,null,null,null,null,null,null,null,null,null,null,null,null,null,null,null,null,null,null,null,null,"IRN　イラン・イスラム共和国"]
[null,null,null,null,null,null,"女",null,{"$f":"COUNTIF(I11:I100,\"女\")","v":0},null,null,null,null,null,null,null,null,null,null,null,null,null,null,null,null,null,null,null,null,null,null,null,null,null,null,null,null,null,null,null,null,null,null,null,null,null,null,null,null,null,"ISL　アイスランド共和国"]
[null,null,null,null,null,null,"男女計",null,{"$f":"SUM(I103:I104)","v":0},null,null,null,null,null,null,null,null,null,null,null,null,null,null,null,null,null,null,null,null,null,null,null,null,null,null,null,null,null,null,null,null,null,null,null,null,null,null,null,null,null,"ITA　イタリア共和国"]
[null,null,null,null,null,null,null,null,null,null,null,null,null,null,null,null,null,null,null,null,null,null,null,null,null,null,null,null,null,null,null,null,null,null,null,null,null,null,null,null,null,null,null,null,null,null,null,null,null,null,"JAM　ジャマイカ"]
[null,null,null,null,null,null,null,null,null,null,null,null,null,null,null,null,null,null,null,null,null,null,null,null,null,null,null,null,null,null,null,null,null,null,null,null,null,null,null,null,null,null,null,null,null,null,null,null,null,null,"JOR　ヨルダン・ハシミテ王国"]
[null,null,null,null,null,null,null,null,null,null,null,null,null,null,null,null,null,null,null,null,null,null,null,null,null,null,null,null,null,null,null,null,null,null,null,null,null,null,null,null,null,null,null,null,null,null,null,null,null,null,"JPN　日本国"]
[null,null,null,null,null,null,null,null,null,null,null,null,null,null,null,null,null,null,null,null,null,null,null,null,null,null,null,null,null,null,null,null,null,null,null,null,null,null,null,null,null,null,null,null,null,null,null,null,null,null,"KEN　ケニア共和国"]
[null,null,null,null,null,null,null,null,null,null,null,null,null,null,null,null,null,null,null,null,null,null,null,null,null,null,null,null,null,null,null,null,null,null,null,null,null,null,null,null,null,null,null,null,null,null,null,null,null,null,"KGZ　キルギスタン共和国"]
[null,null,null,null,null,null,null,null,null,null,null,null,null,null,null,null,null,null,null,null,null,null,null,null,null,null,null,null,null,null,null,null,null,null,null,null,null,null,null,null,null,null,null,null,null,null,null,null,null,null,"KHM　カンボディア王国"]
[null,null,null,null,null,null,null,null,null,null,null,null,null,null,null,null,null,null,null,null,null,null,null,null,null,null,null,null,null,null,null,null,null,null,null,null,null,null,null,null,null,null,null,null,null,null,null,null,null,null,"KIR　キリバス共和国"]
[null,null,null,null,null,null,null,null,null,null,null,null,null,null,null,null,null,null,null,null,null,null,null,null,null,null,null,null,null,null,null,null,null,null,null,null,null,null,null,null,null,null,null,null,null,null,null,null,null,null,"COM　コモロ・イスラム連邦共和国"]
[null,null,null,null,null,null,null,null,null,null,null,null,null,null,null,null,null,null,null,null,null,null,null,null,null,null,null,null,null,null,null,null,null,null,null,null,null,null,null,null,null,null,null,null,null,null,null,null,null,null,"KNA　セントクリストファー・ネイビス"]
[null,null,null,null,null,null,null,null,null,null,null,null,null,null,null,null,null,null,null,null,null,null,null,null,null,null,null,null,null,null,null,null,null,null,null,null,null,null,null,null,null,null,null,null,null,null,null,null,null,null,"PRK　(北朝鮮=朝鮮民主主義人民共和国)"]
[null,null,null,null,null,null,null,null,null,null,null,null,null,null,null,null,null,null,null,null,null,null,null,null,null,null,null,null,null,null,null,null,null,null,null,null,null,null,null,null,null,null,null,null,null,null,null,null,null,null,"KOR　大韓民国"]
[null,null,null,null,null,null,null,null,null,null,null,null,null,null,null,null,null,null,null,null,null,null,null,null,null,null,null,null,null,null,null,null,null,null,null,null,null,null,null,null,null,null,null,null,null,null,null,null,null,null,"KWT　クウェート国"]
[null,null,null,null,null,null,null,null,null,null,null,null,null,null,null,null,null,null,null,null,null,null,null,null,null,null,null,null,null,null,null,null,null,null,null,null,null,null,null,null,null,null,null,null,null,null,null,null,null,null,"CYM　ケイマン諸島"]
[null,null,null,null,null,null,null,null,null,null,null,null,null,null,null,null,null,null,null,null,null,null,null,null,null,null,null,null,null,null,null,null,null,null,null,null,null,null,null,null,null,null,null,null,null,null,null,null,null,null,"KAZ　カザフスタン共和国"]
[null,null,null,null,null,null,null,null,null,null,null,null,null,null,null,null,null,null,null,null,null,null,null,null,null,null,null,null,null,null,null,null,null,null,null,null,null,null,null,null,null,null,null,null,null,null,null,null,null,null,"LAO　ラオス人民民主共和国"]
[null,null,null,null,null,null,null,null,null,null,null,null,null,null,null,null,null,null,null,null,null,null,null,null,null,null,null,null,null,null,null,null,null,null,null,null,null,null,null,null,null,null,null,null,null,null,null,null,null,null,"LBN　レバノン共和国"]
[null,null,null,null,null,null,null,null,null,null,null,null,null,null,null,null,null,null,null,null,null,null,null,null,null,null,null,null,null,null,null,null,null,null,null,null,null,null,null,null,null,null,null,null,null,null,null,null,null,null,"LCA　セントルシア"]
[null,null,null,null,null,null,null,null,null,null,null,null,null,null,null,null,null,null,null,null,null,null,null,null,null,null,null,null,null,null,null,null,null,null,null,null,null,null,null,null,null,null,null,null,null,null,null,null,null,null,"LIE　リヒテンシュタイン公国"]
[null,null,null,null,null,null,null,null,null,null,null,null,null,null,null,null,null,null,null,null,null,null,null,null,null,null,null,null,null,null,null,null,null,null,null,null,null,null,null,null,null,null,null,null,null,null,null,null,null,null,"LKA　スリランカ民主社会主義共和国"]
[null,null,null,null,null,null,null,null,null,null,null,null,null,null,null,null,null,null,null,null,null,null,null,null,null,null,null,null,null,null,null,null,null,null,null,null,null,null,null,null,null,null,null,null,null,null,null,null,null,null,"LBR　リベリア共和国"]
[null,null,null,null,null,null,null,null,null,null,null,null,null,null,null,null,null,null,null,null,null,null,null,null,null,null,null,null,null,null,null,null,null,null,null,null,null,null,null,null,null,null,null,null,null,null,null,null,null,null,"LSO　レソト王国"]
[null,null,null,null,null,null,null,null,null,null,null,null,null,null,null,null,null,null,null,null,null,null,null,null,null,null,null,null,null,null,null,null,null,null,null,null,null,null,null,null,null,null,null,null,null,null,null,null,null,null,"LTU　リトアニア共和国"]
[null,null,null,null,null,null,null,null,null,null,null,null,null,null,null,null,null,null,null,null,null,null,null,null,null,null,null,null,null,null,null,null,null,null,null,null,null,null,null,null,null,null,null,null,null,null,null,null,null,null,"LUX　ルクセンブルク大公国"]
[null,null,null,null,null,null,null,null,null,null,null,null,null,null,null,null,null,null,null,null,null,null,null,null,null,null,null,null,null,null,null,null,null,null,null,null,null,null,null,null,null,null,null,null,null,null,null,null,null,null,"LVA　ラトビア共和国"]
[null,null,null,null,null,null,null,null,null,null,null,null,null,null,null,null,null,null,null,null,null,null,null,null,null,null,null,null,null,null,null,null,null,null,null,null,null,null,null,null,null,null,null,null,null,null,null,null,null,null,"LBY　社会主義人民リビア・アラブ国"]
[null,null,null,null,null,null,null,null,null,null,null,null,null,null,null,null,null,null,null,null,null,null,null,null,null,null,null,null,null,null,null,null,null,null,null,null,null,null,null,null,null,null,null,null,null,null,null,null,null,null,"MAR　モロッコ王国"]
[null,null,null,null,null,null,null,null,null,null,null,null,null,null,null,null,null,null,null,null,null,null,null,null,null,null,null,null,null,null,null,null,null,null,null,null,null,null,null,null,null,null,null,null,null,null,null,null,null,null,"MCO　モナコ公国"]
[null,null,null,null,null,null,null,null,null,null,null,null,null,null,null,null,null,null,null,null,null,null,null,null,null,null,null,null,null,null,null,null,null,null,null,null,null,null,null,null,null,null,null,null,null,null,null,null,null,null,"MDA　モルドバ共和国"]
[null,null,null,null,null,null,null,null,null,null,null,null,null,null,null,null,null,null,null,null,null,null,null,null,null,null,null,null,null,null,null,null,null,null,null,null,null,null,null,null,null,null,null,null,null,null,null,null,null,null,"MDG　マダガスカル共和国"]
[null,null,null,null,null,null,null,null,null,null,null,null,null,null,null,null,null,null,null,null,null,null,null,null,null,null,null,null,null,null,null,null,null,null,null,null,null,null,null,null,null,null,null,null,null,null,null,null,null,null,"MHL　マーシャル諸島共和国"]
[null,null,null,null,null,null,null,null,null,null,null,null,null,null,null,null,null,null,null,null,null,null,null,null,null,null,null,null,null,null,null,null,null,null,null,null,null,null,null,null,null,null,null,null,null,null,null,null,null,null,"MLI　マリ共和国"]
[null,null,null,null,null,null,null,null,null,null,null,null,null,null,null,null,null,null,null,null,null,null,null,null,null,null,null,null,null,null,null,null,null,null,null,null,null,null,null,null,null,null,null,null,null,null,null,null,null,null,"MMR　ミャンマー連邦"]
[null,null,null,null,null,null,null,null,null,null,null,null,null,null,null,null,null,null,null,null,null,null,null,null,null,null,null,null,null,null,null,null,null,null,null,null,null,null,null,null,null,null,null,null,null,null,null,null,null,null,"MNG　モンゴル国"]
[null,null,null,null,null,null,null,null,null,null,null,null,null,null,null,null,null,null,null,null,null,null,null,null,null,null,null,null,null,null,null,null,null,null,null,null,null,null,null,null,null,null,null,null,null,null,null,null,null,null,"MAC　マカオ(澳門)"]
[null,null,null,null,null,null,null,null,null,null,null,null,null,null,null,null,null,null,null,null,null,null,null,null,null,null,null,null,null,null,null,null,null,null,null,null,null,null,null,null,null,null,null,null,null,null,null,null,null,null,"MNP　北マリアナ諸島"]
[null,null,null,null,null,null,null,null,null,null,null,null,null,null,null,null,null,null,null,null,null,null,null,null,null,null,null,null,null,null,null,null,null,null,null,null,null,null,null,null,null,null,null,null,null,null,null,null,null,null,"MTQ　マルチニーク島"]
[null,null,null,null,null,null,null,null,null,null,null,null,null,null,null,null,null,null,null,null,null,null,null,null,null,null,null,null,null,null,null,null,null,null,null,null,null,null,null,null,null,null,null,null,null,null,null,null,null,null,"MRT　モーリタニア・イスラム共和国"]
[null,null,null,null,null,null,null,null,null,null,null,null,null,null,null,null,null,null,null,null,null,null,null,null,null,null,null,null,null,null,null,null,null,null,null,null,null,null,null,null,null,null,null,null,null,null,null,null,null,null,"MSR　モントセラト"]
[null,null,null,null,null,null,null,null,null,null,null,null,null,null,null,null,null,null,null,null,null,null,null,null,null,null,null,null,null,null,null,null,null,null,null,null,null,null,null,null,null,null,null,null,null,null,null,null,null,null,"MLT　マルタ共和国"]
[null,null,null,null,null,null,null,null,null,null,null,null,null,null,null,null,null,null,null,null,null,null,null,null,null,null,null,null,null,null,null,null,null,null,null,null,null,null,null,null,null,null,null,null,null,null,null,null,null,null,"MUS　モーリシャス共和国"]
[null,null,null,null,null,null,null,null,null,null,null,null,null,null,null,null,null,null,null,null,null,null,null,null,null,null,null,null,null,null,null,null,null,null,null,null,null,null,null,null,null,null,null,null,null,null,null,null,null,null,"MDV　モルジブ共和国"]
[null,null,null,null,null,null,null,null,null,null,null,null,null,null,null,null,null,null,null,null,null,null,null,null,null,null,null,null,null,null,null,null,null,null,null,null,null,null,null,null,null,null,null,null,null,null,null,null,null,null,"MWI　マラウイ共和国"]
[null,null,null,null,null,null,null,null,null,null,null,null,null,null,null,null,null,null,null,null,null,null,null,null,null,null,null,null,null,null,null,null,null,null,null,null,null,null,null,null,null,null,null,null,null,null,null,null,null,null,"MEX　メキシコ合衆国"]
[null,null,null,null,null,null,null,null,null,null,null,null,null,null,null,null,null,null,null,null,null,null,null,null,null,null,null,null,null,null,null,null,null,null,null,null,null,null,null,null,null,null,null,null,null,null,null,null,null,null,"MYS　マレーシア"]
[null,null,null,null,null,null,null,null,null,null,null,null,null,null,null,null,null,null,null,null,null,null,null,null,null,null,null,null,null,null,null,null,null,null,null,null,null,null,null,null,null,null,null,null,null,null,null,null,null,null,"MOZ　モザンビーク共和国"]
[null,null,null,null,null,null,null,null,null,null,null,null,null,null,null,null,null,null,null,null,null,null,null,null,null,null,null,null,null,null,null,null,null,null,null,null,null,null,null,null,null,null,null,null,null,null,null,null,null,null,"NAM　ナミビア共和国"]
[null,null,null,null,null,null,null,null,null,null,null,null,null,null,null,null,null,null,null,null,null,null,null,null,null,null,null,null,null,null,null,null,null,null,null,null,null,null,null,null,null,null,null,null,null,null,null,null,null,null,"NCL　ニューカレドニア"]
[null,null,null,null,null,null,null,null,null,null,null,null,null,null,null,null,null,null,null,null,null,null,null,null,null,null,null,null,null,null,null,null,null,null,null,null,null,null,null,null,null,null,null,null,null,null,null,null,null,null,"NER　ニジェール共和国"]
[null,null,null,null,null,null,null,null,null,null,null,null,null,null,null,null,null,null,null,null,null,null,null,null,null,null,null,null,null,null,null,null,null,null,null,null,null,null,null,null,null,null,null,null,null,null,null,null,null,null,"NFK　ノーフォーク島"]
[null,null,null,null,null,null,null,null,null,null,null,null,null,null,null,null,null,null,null,null,null,null,null,null,null,null,null,null,null,null,null,null,null,null,null,null,null,null,null,null,null,null,null,null,null,null,null,null,null,null,"NGA　ナイジェリア連邦共和国"]
[null,null,null,null,null,null,null,null,null,null,null,null,null,null,null,null,null,null,null,null,null,null,null,null,null,null,null,null,null,null,null,null,null,null,null,null,null,null,null,null,null,null,null,null,null,null,null,null,null,null,"NIC　ニカラグア共和国"]
[null,null,null,null,null,null,null,null,null,null,null,null,null,null,null,null,null,null,null,null,null,null,null,null,null,null,null,null,null,null,null,null,null,null,null,null,null,null,null,null,null,null,null,null,null,null,null,null,null,null,"NLD　オランダ王国"]
[null,null,null,null,null,null,null,null,null,null,null,null,null,null,null,null,null,null,null,null,null,null,null,null,null,null,null,null,null,null,null,null,null,null,null,null,null,null,null,null,null,null,null,null,null,null,null,null,null,null,"NOR　ノルウェー王国"]
[null,null,null,null,null,null,null,null,null,null,null,null,null,null,null,null,null,null,null,null,null,null,null,null,null,null,null,null,null,null,null,null,null,null,null,null,null,null,null,null,null,null,null,null,null,null,null,null,null,null,"NPL　ネパール王国"]
[null,null,null,null,null,null,null,null,null,null,null,null,null,null,null,null,null,null,null,null,null,null,null,null,null,null,null,null,null,null,null,null,null,null,null,null,null,null,null,null,null,null,null,null,null,null,null,null,null,null,"NRU　ナウル共和国"]
[null,null,null,null,null,null,null,null,null,null,null,null,null,null,null,null,null,null,null,null,null,null,null,null,null,null,null,null,null,null,null,null,null,null,null,null,null,null,null,null,null,null,null,null,null,null,null,null,null,null,"NIU　ニウエ"]
[null,null,null,null,null,null,null,null,null,null,null,null,null,null,null,null,null,null,null,null,null,null,null,null,null,null,null,null,null,null,null,null,null,null,null,null,null,null,null,null,null,null,null,null,null,null,null,null,null,null,"NZL　ニュージーランド"]
[null,null,null,null,null,null,null,null,null,null,null,null,null,null,null,null,null,null,null,null,null,null,null,null,null,null,null,null,null,null,null,null,null,null,null,null,null,null,null,null,null,null,null,null,null,null,null,null,null,null,"OMN　オマーン国"]
[null,null,null,null,null,null,null,null,null,null,null,null,null,null,null,null,null,null,null,null,null,null,null,null,null,null,null,null,null,null,null,null,null,null,null,null,null,null,null,null,null,null,null,null,null,null,null,null,null,null,"PAN　パナマ共和国"]
[null,null,null,null,null,null,null,null,null,null,null,null,null,null,null,null,null,null,null,null,null,null,null,null,null,null,null,null,null,null,null,null,null,null,null,null,null,null,null,null,null,null,null,null,null,null,null,null,null,null,"PER　ペルー共和国"]
[null,null,null,null,null,null,null,null,null,null,null,null,null,null,null,null,null,null,null,null,null,null,null,null,null,null,null,null,null,null,null,null,null,null,null,null,null,null,null,null,null,null,null,null,null,null,null,null,null,null,"PYF　仏領ポリネシア"]
[null,null,null,null,null,null,null,null,null,null,null,null,null,null,null,null,null,null,null,null,null,null,null,null,null,null,null,null,null,null,null,null,null,null,null,null,null,null,null,null,null,null,null,null,null,null,null,null,null,null,"PNG　パプアニューギニア"]
[null,null,null,null,null,null,null,null,null,null,null,null,null,null,null,null,null,null,null,null,null,null,null,null,null,null,null,null,null,null,null,null,null,null,null,null,null,null,null,null,null,null,null,null,null,null,null,null,null,null,"PHL　フィリピン共和国"]
[null,null,null,null,null,null,null,null,null,null,null,null,null,null,null,null,null,null,null,null,null,null,null,null,null,null,null,null,null,null,null,null,null,null,null,null,null,null,null,null,null,null,null,null,null,null,null,null,null,null,"PAK　パキスタン・イスラム共和国"]
[null,null,null,null,null,null,null,null,null,null,null,null,null,null,null,null,null,null,null,null,null,null,null,null,null,null,null,null,null,null,null,null,null,null,null,null,null,null,null,null,null,null,null,null,null,null,null,null,null,null,"POL　ポーランド共和国"]
[null,null,null,null,null,null,null,null,null,null,null,null,null,null,null,null,null,null,null,null,null,null,null,null,null,null,null,null,null,null,null,null,null,null,null,null,null,null,null,null,null,null,null,null,null,null,null,null,null,null,"SPM　サンピエール島・ミクロン島"]
[null,null,null,null,null,null,null,null,null,null,null,null,null,null,null,null,null,null,null,null,null,null,null,null,null,null,null,null,null,null,null,null,null,null,null,null,null,null,null,null,null,null,null,null,null,null,null,null,null,null,"PCN　ピトケアン島"]
[null,null,null,null,null,null,null,null,null,null,null,null,null,null,null,null,null,null,null,null,null,null,null,null,null,null,null,null,null,null,null,null,null,null,null,null,null,null,null,null,null,null,null,null,null,null,null,null,null,null,"PRI　プエルトリコ"]
[null,null,null,null,null,null,null,null,null,null,null,null,null,null,null,null,null,null,null,null,null,null,null,null,null,null,null,null,null,null,null,null,null,null,null,null,null,null,null,null,null,null,null,null,null,null,null,null,null,null,"PRT　ポルトガル共和国"]
[null,null,null,null,null,null,null,null,null,null,null,null,null,null,null,null,null,null,null,null,null,null,null,null,null,null,null,null,null,null,null,null,null,null,null,null,null,null,null,null,null,null,null,null,null,null,null,null,null,null,"PLW　パラオ"]
[null,null,null,null,null,null,null,null,null,null,null,null,null,null,null,null,null,null,null,null,null,null,null,null,null,null,null,null,null,null,null,null,null,null,null,null,null,null,null,null,null,null,null,null,null,null,null,null,null,null,"PRY　パラグアイ共和国"]
[null,null,null,null,null,null,null,null,null,null,null,null,null,null,null,null,null,null,null,null,null,null,null,null,null,null,null,null,null,null,null,null,null,null,null,null,null,null,null,null,null,null,null,null,null,null,null,null,null,null,"QAT　カタール国"]
[null,null,null,null,null,null,null,null,null,null,null,null,null,null,null,null,null,null,null,null,null,null,null,null,null,null,null,null,null,null,null,null,null,null,null,null,null,null,null,null,null,null,null,null,null,null,null,null,null,null,"REU　レユニオン"]
[null,null,null,null,null,null,null,null,null,null,null,null,null,null,null,null,null,null,null,null,null,null,null,null,null,null,null,null,null,null,null,null,null,null,null,null,null,null,null,null,null,null,null,null,null,null,null,null,null,null,"ROM　ルーマニア"]
[null,null,null,null,null,null,null,null,null,null,null,null,null,null,null,null,null,null,null,null,null,null,null,null,null,null,null,null,null,null,null,null,null,null,null,null,null,null,null,null,null,null,null,null,null,null,null,null,null,null,"RUS　ロシア連邦"]
[null,null,null,null,null,null,null,null,null,null,null,null,null,null,null,null,null,null,null,null,null,null,null,null,null,null,null,null,null,null,null,null,null,null,null,null,null,null,null,null,null,null,null,null,null,null,null,null,null,null,"RWA　ルワンダ共和国"]
[null,null,null,null,null,null,null,null,null,null,null,null,null,null,null,null,null,null,null,null,null,null,null,null,null,null,null,null,null,null,null,null,null,null,null,null,null,null,null,null,null,null,null,null,null,null,null,null,null,null,"SAU　サウジアラビア王国"]
[null,null,null,null,null,null,null,null,null,null,null,null,null,null,null,null,null,null,null,null,null,null,null,null,null,null,null,null,null,null,null,null,null,null,null,null,null,null,null,null,null,null,null,null,null,null,null,null,null,null,"SLB　ソロモン諸島"]
[null,null,null,null,null,null,null,null,null,null,null,null,null,null,null,null,null,null,null,null,null,null,null,null,null,null,null,null,null,null,null,null,null,null,null,null,null,null,null,null,null,null,null,null,null,null,null,null,null,null,"SYC　セイシェル共和国"]
[null,null,null,null,null,null,null,null,null,null,null,null,null,null,null,null,null,null,null,null,null,null,null,null,null,null,null,null,null,null,null,null,null,null,null,null,null,null,null,null,null,null,null,null,null,null,null,null,null,null,"SDN　スーダン共和国"]
[null,null,null,null,null,null,null,null,null,null,null,null,null,null,null,null,null,null,null,null,null,null,null,null,null,null,null,null,null,null,null,null,null,null,null,null,null,null,null,null,null,null,null,null,null,null,null,null,null,null,"SWE　スウェーデン王国"]
[null,null,null,null,null,null,null,null,null,null,null,null,null,null,null,null,null,null,null,null,null,null,null,null,null,null,null,null,null,null,null,null,null,null,null,null,null,null,null,null,null,null,null,null,null,null,null,null,null,null,"SGP　シンガポール共和国"]
[null,null,null,null,null,null,null,null,null,null,null,null,null,null,null,null,null,null,null,null,null,null,null,null,null,null,null,null,null,null,null,null,null,null,null,null,null,null,null,null,null,null,null,null,null,null,null,null,null,null,"SHN　セントヘレナ島"]
[null,null,null,null,null,null,null,null,null,null,null,null,null,null,null,null,null,null,null,null,null,null,null,null,null,null,null,null,null,null,null,null,null,null,null,null,null,null,null,null,null,null,null,null,null,null,null,null,null,null,"SVN　スロベニア共和国"]
[null,null,null,null,null,null,null,null,null,null,null,null,null,null,null,null,null,null,null,null,null,null,null,null,null,null,null,null,null,null,null,null,null,null,null,null,null,null,null,null,null,null,null,null,null,null,null,null,null,null,"SJM　スバールバル諸島・ヤンマイエン島"]
[null,null,null,null,null,null,null,null,null,null,null,null,null,null,null,null,null,null,null,null,null,null,null,null,null,null,null,null,null,null,null,null,null,null,null,null,null,null,null,null,null,null,null,null,null,null,null,null,null,null,"SVK　スロバキア共和国"]
[null,null,null,null,null,null,null,null,null,null,null,null,null,null,null,null,null,null,null,null,null,null,null,null,null,null,null,null,null,null,null,null,null,null,null,null,null,null,null,null,null,null,null,null,null,null,null,null,null,null,"SLE　シエラレオネ共和国"]
[null,null,null,null,null,null,null,null,null,null,null,null,null,null,null,null,null,null,null,null,null,null,null,null,null,null,null,null,null,null,null,null,null,null,null,null,null,null,null,null,null,null,null,null,null,null,null,null,null,null,"SMR　サンマリノ共和国"]
[null,null,null,null,null,null,null,null,null,null,null,null,null,null,null,null,null,null,null,null,null,null,null,null,null,null,null,null,null,null,null,null,null,null,null,null,null,null,null,null,null,null,null,null,null,null,null,null,null,null,"SEN　セネガル共和国"]
[null,null,null,null,null,null,null,null,null,null,null,null,null,null,null,null,null,null,null,null,null,null,null,null,null,null,null,null,null,null,null,null,null,null,null,null,null,null,null,null,null,null,null,null,null,null,null,null,null,null,"SOM　ソマリア民主共和国"]
[null,null,null,null,null,null,null,null,null,null,null,null,null,null,null,null,null,null,null,null,null,null,null,null,null,null,null,null,null,null,null,null,null,null,null,null,null,null,null,null,null,null,null,null,null,null,null,null,null,null,"SUR　スリナム共和国"]
[null,null,null,null,null,null,null,null,null,null,null,null,null,null,null,null,null,null,null,null,null,null,null,null,null,null,null,null,null,null,null,null,null,null,null,null,null,null,null,null,null,null,null,null,null,null,null,null,null,null,"STP　サントメ・プリンシペ民主共和国"]
[null,null,null,null,null,null,null,null,null,null,null,null,null,null,null,null,null,null,null,null,null,null,null,null,null,null,null,null,null,null,null,null,null,null,null,null,null,null,null,null,null,null,null,null,null,null,null,null,null,null,"SLV　エルサルバドル共和国"]
[null,null,null,null,null,null,null,null,null,null,null,null,null,null,null,null,null,null,null,null,null,null,null,null,null,null,null,null,null,null,null,null,null,null,null,null,null,null,null,null,null,null,null,null,null,null,null,null,null,null,"SYR　シリア・アラブ共和国"]
[null,null,null,null,null,null,null,null,null,null,null,null,null,null,null,null,null,null,null,null,null,null,null,null,null,null,null,null,null,null,null,null,null,null,null,null,null,null,null,null,null,null,null,null,null,null,null,null,null,null,"SWZ　スワジランド王国"]
[null,null,null,null,null,null,null,null,null,null,null,null,null,null,null,null,null,null,null,null,null,null,null,null,null,null,null,null,null,null,null,null,null,null,null,null,null,null,null,null,null,null,null,null,null,null,null,null,null,null,"TCA　タークス諸島・カイコス諸島"]
[null,null,null,null,null,null,null,null,null,null,null,null,null,null,null,null,null,null,null,null,null,null,null,null,null,null,null,null,null,null,null,null,null,null,null,null,null,null,null,null,null,null,null,null,null,null,null,null,null,null,"TCD　チャド共和国"]
[null,null,null,null,null,null,null,null,null,null,null,null,null,null,null,null,null,null,null,null,null,null,null,null,null,null,null,null,null,null,null,null,null,null,null,null,null,null,null,null,null,null,null,null,null,null,null,null,null,null,"ATF　仏領極南諸島"]
[null,null,null,null,null,null,null,null,null,null,null,null,null,null,null,null,null,null,null,null,null,null,null,null,null,null,null,null,null,null,null,null,null,null,null,null,null,null,null,null,null,null,null,null,null,null,null,null,null,null,"TGO　トーゴ共和国"]
[null,null,null,null,null,null,null,null,null,null,null,null,null,null,null,null,null,null,null,null,null,null,null,null,null,null,null,null,null,null,null,null,null,null,null,null,null,null,null,null,null,null,null,null,null,null,null,null,null,null,"THA　タイ王国"]
[null,null,null,null,null,null,null,null,null,null,null,null,null,null,null,null,null,null,null,null,null,null,null,null,null,null,null,null,null,null,null,null,null,null,null,null,null,null,null,null,null,null,null,null,null,null,null,null,null,null,"TJK　タジキスタン共和国"]
[null,null,null,null,null,null,null,null,null,null,null,null,null,null,null,null,null,null,null,null,null,null,null,null,null,null,null,null,null,null,null,null,null,null,null,null,null,null,null,null,null,null,null,null,null,null,null,null,null,null,"TKL　トケラウ諸島"]
[null,null,null,null,null,null,null,null,null,null,null,null,null,null,null,null,null,null,null,null,null,null,null,null,null,null,null,null,null,null,null,null,null,null,null,null,null,null,null,null,null,null,null,null,null,null,null,null,null,null,"TKM　トルクメニスタン"]
[null,null,null,null,null,null,null,null,null,null,null,null,null,null,null,null,null,null,null,null,null,null,null,null,null,null,null,null,null,null,null,null,null,null,null,null,null,null,null,null,null,null,null,null,null,null,null,null,null,null,"TUN　チュニジア共和国"]
[null,null,null,null,null,null,null,null,null,null,null,null,null,null,null,null,null,null,null,null,null,null,null,null,null,null,null,null,null,null,null,null,null,null,null,null,null,null,null,null,null,null,null,null,null,null,null,null,null,null,"TON　トンガ王国"]
[null,null,null,null,null,null,null,null,null,null,null,null,null,null,null,null,null,null,null,null,null,null,null,null,null,null,null,null,null,null,null,null,null,null,null,null,null,null,null,null,null,null,null,null,null,null,null,null,null,null,"TMP　東チモール"]
[null,null,null,null,null,null,null,null,null,null,null,null,null,null,null,null,null,null,null,null,null,null,null,null,null,null,null,null,null,null,null,null,null,null,null,null,null,null,null,null,null,null,null,null,null,null,null,null,null,null,"TUR　トルコ共和国"]
[null,null,null,null,null,null,null,null,null,null,null,null,null,null,null,null,null,null,null,null,null,null,null,null,null,null,null,null,null,null,null,null,null,null,null,null,null,null,null,null,null,null,null,null,null,null,null,null,null,null,"TTO　トリニダード・トバゴ共和国"]
[null,null,null,null,null,null,null,null,null,null,null,null,null,null,null,null,null,null,null,null,null,null,null,null,null,null,null,null,null,null,null,null,null,null,null,null,null,null,null,null,null,null,null,null,null,null,null,null,null,null,"TUV　ツバル"]
[null,null,null,null,null,null,null,null,null,null,null,null,null,null,null,null,null,null,null,null,null,null,null,null,null,null,null,null,null,null,null,null,null,null,null,null,null,null,null,null,null,null,null,null,null,null,null,null,null,null,"TWN　台湾"]
[null,null,null,null,null,null,null,null,null,null,null,null,null,null,null,null,null,null,null,null,null,null,null,null,null,null,null,null,null,null,null,null,null,null,null,null,null,null,null,null,null,null,null,null,null,null,null,null,null,null,"TZA　タンザニア連合共和国"]
[null,null,null,null,null,null,null,null,null,null,null,null,null,null,null,null,null,null,null,null,null,null,null,null,null,null,null,null,null,null,null,null,null,null,null,null,null,null,null,null,null,null,null,null,null,null,null,null,null,null,"UKR　ウクライナ"]
[null,null,null,null,null,null,null,null,null,null,null,null,null,null,null,null,null,null,null,null,null,null,null,null,null,null,null,null,null,null,null,null,null,null,null,null,null,null,null,null,null,null,null,null,null,null,null,null,null,null,"UGA　ウガンダ共和国"]
[null,null,null,null,null,null,null,null,null,null,null,null,null,null,null,null,null,null,null,null,null,null,null,null,null,null,null,null,null,null,null,null,null,null,null,null,null,null,null,null,null,null,null,null,null,null,null,null,null,null,"UMI　米領太平洋諸島"]
[null,null,null,null,null,null,null,null,null,null,null,null,null,null,null,null,null,null,null,null,null,null,null,null,null,null,null,null,null,null,null,null,null,null,null,null,null,null,null,null,null,null,null,null,null,null,null,null,null,null,"USA　アメリカ合衆国(米国)"]
[null,null,null,null,null,null,null,null,null,null,null,null,null,null,null,null,null,null,null,null,null,null,null,null,null,null,null,null,null,null,null,null,null,null,null,null,null,null,null,null,null,null,null,null,null,null,null,null,null,null,"URY　ウルグアイ東方共和国"]
[null,null,null,null,null,null,null,null,null,null,null,null,null,null,null,null,null,null,null,null,null,null,null,null,null,null,null,null,null,null,null,null,null,null,null,null,null,null,null,null,null,null,null,null,null,null,null,null,null,null,"UZB　ウズベキスタン共和国"]
[null,null,null,null,null,null,null,null,null,null,null,null,null,null,null,null,null,null,null,null,null,null,null,null,null,null,null,null,null,null,null,null,null,null,null,null,null,null,null,null,null,null,null,null,null,null,null,null,null,null,"VAT　バチカン市国"]
[null,null,null,null,null,null,null,null,null,null,null,null,null,null,null,null,null,null,null,null,null,null,null,null,null,null,null,null,null,null,null,null,null,null,null,null,null,null,null,null,null,null,null,null,null,null,null,null,null,null,"VCT　セントビンセント及びグレナディーン諸島"]
[null,null,null,null,null,null,null,null,null,null,null,null,null,null,null,null,null,null,null,null,null,null,null,null,null,null,null,null,null,null,null,null,null,null,null,null,null,null,null,null,null,null,null,null,null,null,null,null,null,null,"VEN　ベネズエラ共和国"]
[null,null,null,null,null,null,null,null,null,null,null,null,null,null,null,null,null,null,null,null,null,null,null,null,null,null,null,null,null,null,null,null,null,null,null,null,null,null,null,null,null,null,null,null,null,null,null,null,null,null,"VGB　英領バージン諸島"]
[null,null,null,null,null,null,null,null,null,null,null,null,null,null,null,null,null,null,null,null,null,null,null,null,null,null,null,null,null,null,null,null,null,null,null,null,null,null,null,null,null,null,null,null,null,null,null,null,null,null,"VIR　米領バージン諸島"]
[null,null,null,null,null,null,null,null,null,null,null,null,null,null,null,null,null,null,null,null,null,null,null,null,null,null,null,null,null,null,null,null,null,null,null,null,null,null,null,null,null,null,null,null,null,null,null,null,null,null,"VNM　ベトナム社会主義共和国"]
[null,null,null,null,null,null,null,null,null,null,null,null,null,null,null,null,null,null,null,null,null,null,null,null,null,null,null,null,null,null,null,null,null,null,null,null,null,null,null,null,null,null,null,null,null,null,null,null,null,null,"VUT　バヌアツ共和国"]
[null,null,null,null,null,null,null,null,null,null,null,null,null,null,null,null,null,null,null,null,null,null,null,null,null,null,null,null,null,null,null,null,null,null,null,null,null,null,null,null,null,null,null,null,null,null,null,null,null,null,"WLF　ワリス・フテュナ諸島"]
[null,null,null,null,null,null,null,null,null,null,null,null,null,null,null,null,null,null,null,null,null,null,null,null,null,null,null,null,null,null,null,null,null,null,null,null,null,null,null,null,null,null,null,null,null,null,null,null,null,null,"WSM　西サモア"]
[null,null,null,null,null,null,null,null,null,null,null,null,null,null,null,null,null,null,null,null,null,null,null,null,null,null,null,null,null,null,null,null,null,null,null,null,null,null,null,null,null,null,null,null,null,null,null,null,null,null,"YEM　イエメン共和国"]
[null,null,null,null,null,null,null,null,null,null,null,null,null,null,null,null,null,null,null,null,null,null,null,null,null,null,null,null,null,null,null,null,null,null,null,null,null,null,null,null,null,null,null,null,null,null,null,null,null,null,"MYT　マイヨット島"]
[null,null,null,null,null,null,null,null,null,null,null,null,null,null,null,null,null,null,null,null,null,null,null,null,null,null,null,null,null,null,null,null,null,null,null,null,null,null,null,null,null,null,null,null,null,null,null,null,null,null,"YUG　(ユーゴスラビア連邦共和国)"]
[null,null,null,null,null,null,null,null,null,null,null,null,null,null,null,null,null,null,null,null,null,null,null,null,null,null,null,null,null,null,null,null,null,null,null,null,null,null,null,null,null,null,null,null,null,null,null,null,null,null,"ZAF　南アフリカ共和国"]
[null,null,null,null,null,null,null,null,null,null,null,null,null,null,null,null,null,null,null,null,null,null,null,null,null,null,null,null,null,null,null,null,null,null,null,null,null,null,null,null,null,null,null,null,null,null,null,null,null,null,"ZMB　ザンビア共和国"]
[null,null,null,null,null,null,null,null,null,null,null,null,null,null,null,null,null,null,null,null,null,null,null,null,null,null,null,null,null,null,null,null,null,null,null,null,null,null,null,null,null,null,null,null,null,null,null,null,null,null,"ZAR　ザイール共和国"]
[null,null,null,null,null,null,null,null,null,null,null,null,null,null,null,null,null,null,null,null,null,null,null,null,null,null,null,null,null,null,null,null,null,null,null,null,null,null,null,null,null,null,null,null,null,null,null,null,null,null,"ZWE　ジンバブエ共和国"]

{"sheet":"③リレー情報確認","index":4,"n_rows":14,"n_cols":24,"rows_kept":14,"cut":false,"hidden":false,"merged":[[0,9,0,11],[7,17,12,17],[7,5,12,5],[5,1,5,5],[7,23,12,23],[5,13,5,17],[5,19,5,23],[5,7,5,11],[7,11,12,11],[0,15,0,17]]}
["④リレー情報確認",null,null,null,null,null,null,null,"チーム名 ",{"$f":"IF(①団体情報入力!C6=\"\",\"\",①団体情報入力!C6)","v":""},null,null,null,null,"ｶﾅ",{"$f":"IF(①団体情報入力!C7=\"\",\"\",①団体情報入力!C7)","v":""}]
[]
[null,null,"※リレーにエントリーをする選手とチームの記録を確認してください。"]
[null,null,"※修正をする場合は「②選手情報入力」で修正してください。"]
[null,null,"※リレーエントリーに○を付けても、データが反映されない場合、「②選手権情報入力」のナンバーのセルが文字列になっていますので数値に変換してください。"]
[null,"男4X100mR",null,null,null,null,null,"男4X400mR",null,null,null,null,null,"女4X100mR",null,null,null,null,null,"女4X400mR"]
[null,"Ord","ﾅﾝﾊﾞｰ","氏　名","競技者NO","記録",null,"Ord","ﾅﾝﾊﾞｰ","氏　名","競技者NO","記録",null,"Ord","ﾅﾝﾊﾞｰ","氏　名","競技者NO","記録",null,"Ord","ﾅﾝﾊﾞｰ","氏　名","競技者NO","記録"]
[null,1,{"$f":"IF(②選手情報入力!$AQ$10<1,\"\",VLOOKUP(B8,②選手情報入力!$AP$11:$AQ$100,2,FALSE))","v":""},{"$f":"IF(C8=\"\",\"\",VLOOKUP(C8,②選手情報入力!$AD$11:$AE$100,2,FALSE))","v":""},{"$f":"IF(C8=\"\",\"\",VLOOKUP(C8,②選手情報入力!$AD$11:$AJ$100,6,FALSE))","v":""},{"$f":"IF(②選手情報入力!U6=\"\",\"\",②選手情報入力!U6)","v":""},null,1,{"$f":"IF(②選手情報入力!$AS$10<1,\"\",VLOOKUP(H8,②選手情報入力!$AR$11:$AS$100,2,FALSE))","v":""},{"$f":"IF(I8=\"\",\"\",VLOOKUP(I8,②選手情報入力!$AD$11:$AE$100,2,FALSE))","v":""},{"$f":"IF(I8=\"\",\"\",VLOOKUP(I8,②選手情報入力!$AD$11:$AJ$100,6,FALSE))","v":""},{"$f":"IF(②選手情報入力!W6=\"\",\"\",②選手情報入力!W6)","v":""},null,1,{"$f":"IF(②選手情報入力!$AU$10<1,\"\",VLOOKUP(N8,②選手情報入力!$AT$11:$AU$100,2,FALSE))","v":""},{"$f":"IF(O8=\"\",\"\",VLOOKUP(O8,②選手情報入力!$AJ$11:$AK$100,2,FALSE))","v":""},{"$f":"IF(O8=\"\",\"\",VLOOKUP(O8,②選手情報入力!$AJ$11:$AQ$100,6,FALSE))","v":""},{"$f":"IF(②選手情報入力!U7=\"\",\"\",②選手情報入力!U7)","v":""},null,1,{"$f":"IF(②選手情報入力!$AW$10<1,\"\",VLOOKUP(T8,②選手情報入力!$AV$11:$AW$100,2,FALSE))","v":""},{"$f":"IF(U8=\"\",\"\",VLOOKUP(U8,②選手情報入力!$AJ$11:$AK$100,2,FALSE))","v":""},{"$f":"IF(U8=\"\",\"\",VLOOKUP(U8,②選手情報入力!$AJ$11:$AQ$100,6,FALSE))","v":""},{"$f":"IF(②選手情報入力!W7=\"\",\"\",②選手情報入力!W7)","v":""}]
[null,2,{"$f":"IF(②選手情報入力!$AQ$10<2,\"\",VLOOKUP(B9,②選手情報入力!$AP$11:$AQ$100,2,FALSE))","v":""},{"$f":"IF(C9=\"\",\"\",VLOOKUP(C9,②選手情報入力!$AD$11:$AE$100,2,FALSE))","v":""},{"$f":"IF(C9=\"\",\"\",VLOOKUP(C9,②選手情報入力!$AD$11:$AJ$100,6,FALSE))","v":""},null,null,2,{"$f":"IF(②選手情報入力!$AS$10<2,\"\",VLOOKUP(H9,②選手情報入力!$AR$11:$AS$100,2,FALSE))","v":""},{"$f":"IF(I9=\"\",\"\",VLOOKUP(I9,②選手情報入力!$AD$11:$AE$100,2,FALSE))","v":""},{"$f":"IF(I9=\"\",\"\",VLOOKUP(I9,②選手情報入力!$AD$11:$AJ$100,6,FALSE))","v":""},null,null,2,{"$f":"IF(②選手情報入力!$AU$10<2,\"\",VLOOKUP(N9,②選手情報入力!$AT$11:$AU$100,2,FALSE))","v":""},{"$f":"IF(O9=\"\",\"\",VLOOKUP(O9,②選手情報入力!$AJ$11:$AK$100,2,FALSE))","v":""},{"$f":"IF(O9=\"\",\"\",VLOOKUP(O9,②選手情報入力!$AJ$11:$AQ$100,6,FALSE))","v":""},null,null,2,{"$f":"IF(②選手情報入力!$AW$10<2,\"\",VLOOKUP(T9,②選手情報入力!$AV$11:$AW$100,2,FALSE))","v":""},{"$f":"IF(U9=\"\",\"\",VLOOKUP(U9,②選手情報入力!$AJ$11:$AK$100,2,FALSE))","v":""},{"$f":"IF(U9=\"\",\"\",VLOOKUP(U9,②選手情報入力!$AJ$11:$AQ$100,6,FALSE))","v":""}]
[null,3,{"$f":"IF(②選手情報入力!$AQ$10<3,\"\",VLOOKUP(B10,②選手情報入力!$AP$11:$AQ$100,2,FALSE))","v":""},{"$f":"IF(C10=\"\",\"\",VLOOKUP(C10,②選手情報入力!$AD$11:$AE$100,2,FALSE))","v":""},{"$f":"IF(C10=\"\",\"\",VLOOKUP(C10,②選手情報入力!$AD$11:$AJ$100,6,FALSE))","v":""},null,null,3,{"$f":"IF(②選手情報入力!$AS$10<3,\"\",VLOOKUP(H10,②選手情報入力!$AR$11:$AS$100,2,FALSE))","v":""},{"$f":"IF(I10=\"\",\"\",VLOOKUP(I10,②選手情報入力!$AD$11:$AE$100,2,FALSE))","v":""},{"$f":"IF(I10=\"\",\"\",VLOOKUP(I10,②選手情報入力!$AD$11:$AJ$100,6,FALSE))","v":""},null,null,3,{"$f":"IF(②選手情報入力!$AU$10<3,\"\",VLOOKUP(N10,②選手情報入力!$AT$11:$AU$100,2,FALSE))","v":""},{"$f":"IF(O10=\"\",\"\",VLOOKUP(O10,②選手情報入力!$AJ$11:$AK$100,2,FALSE))","v":""},{"$f":"IF(O10=\"\",\"\",VLOOKUP(O10,②選手情報入力!$AJ$11:$AQ$100,6,FALSE))","v":""},null,null,3,{"$f":"IF(②選手情報入力!$AW$10<3,\"\",VLOOKUP(T10,②選手情報入力!$AV$11:$AW$100,2,FALSE))","v":""},{"$f":"IF(U10=\"\",\"\",VLOOKUP(U10,②選手情報入力!$AJ$11:$AK$100,2,FALSE))","v":""},{"$f":"IF(U10=\"\",\"\",VLOOKUP(U10,②選手情報入力!$AJ$11:$AQ$100,6,FALSE))","v":""}]
[null,4,{"$f":"IF(②選手情報入力!$AQ$10<4,\"\",VLOOKUP(B11,②選手情報入力!$AP$11:$AQ$100,2,FALSE))","v":""},{"$f":"IF(C11=\"\",\"\",VLOOKUP(C11,②選手情報入力!$AD$11:$AE$100,2,FALSE))","v":""},{"$f":"IF(C11=\"\",\"\",VLOOKUP(C11,②選手情報入力!$AD$11:$AJ$100,6,FALSE))","v":""},null,null,4,{"$f":"IF(②選手情報入力!$AS$10<4,\"\",VLOOKUP(H11,②選手情報入力!$AR$11:$AS$100,2,FALSE))","v":""},{"$f":"IF(I11=\"\",\"\",VLOOKUP(I11,②選手情報入力!$AD$11:$AE$100,2,FALSE))","v":""},{"$f":"IF(I11=\"\",\"\",VLOOKUP(I11,②選手情報入力!$AD$11:$AJ$100,6,FALSE))","v":""},null,null,4,{"$f":"IF(②選手情報入力!$AU$10<4,\"\",VLOOKUP(N11,②選手情報入力!$AT$11:$AU$100,2,FALSE))","v":""},{"$f":"IF(O11=\"\",\"\",VLOOKUP(O11,②選手情報入力!$AJ$11:$AK$100,2,FALSE))","v":""},{"$f":"IF(O11=\"\",\"\",VLOOKUP(O11,②選手情報入力!$AJ$11:$AQ$100,6,FALSE))","v":""},null,null,4,{"$f":"IF(②選手情報入力!$AW$10<4,\"\",VLOOKUP(T11,②選手情報入力!$AV$11:$AW$100,2,FALSE))","v":""},{"$f":"IF(U11=\"\",\"\",VLOOKUP(U11,②選手情報入力!$AJ$11:$AK$100,2,FALSE))","v":""},{"$f":"IF(U11=\"\",\"\",VLOOKUP(U11,②選手情報入力!$AJ$11:$AQ$100,6,FALSE))","v":""}]
[null,5,{"$f":"IF(②選手情報入力!$AQ$10<5,\"\",VLOOKUP(B12,②選手情報入力!$AP$11:$AQ$100,2,FALSE))","v":""},{"$f":"IF(C12=\"\",\"\",VLOOKUP(C12,②選手情報入力!$AD$11:$AE$100,2,FALSE))","v":""},{"$f":"IF(C12=\"\",\"\",VLOOKUP(C12,②選手情報入力!$AD$11:$AJ$100,6,FALSE))","v":""},null,null,5,{"$f":"IF(②選手情報入力!$AS$10<5,\"\",VLOOKUP(H12,②選手情報入力!$AR$11:$AS$100,2,FALSE))","v":""},{"$f":"IF(I12=\"\",\"\",VLOOKUP(I12,②選手情報入力!$AD$11:$AE$100,2,FALSE))","v":""},{"$f":"IF(I12=\"\",\"\",VLOOKUP(I12,②選手情報入力!$AD$11:$AJ$100,6,FALSE))","v":""},null,null,5,{"$f":"IF(②選手情報入力!$AU$10<5,\"\",VLOOKUP(N12,②選手情報入力!$AT$11:$AU$100,2,FALSE))","v":""},{"$f":"IF(O12=\"\",\"\",VLOOKUP(O12,②選手情報入力!$AJ$11:$AK$100,2,FALSE))","v":""},{"$f":"IF(O12=\"\",\"\",VLOOKUP(O12,②選手情報入力!$AJ$11:$AQ$100,6,FALSE))","v":""},null,null,5,{"$f":"IF(②選手情報入力!$AW$10<5,\"\",VLOOKUP(T12,②選手情報入力!$AV$11:$AW$100,2,FALSE))","v":""},{"$f":"IF(U12=\"\",\"\",VLOOKUP(U12,②選手情報入力!$AJ$11:$AK$100,2,FALSE))","v":""},{"$f":"IF(U12=\"\",\"\",VLOOKUP(U12,②選手情報入力!$AJ$11:$AQ$100,6,FALSE))","v":""}]
[null,6,{"$f":"IF(②選手情報入力!$AQ$10<6,\"\",VLOOKUP(B13,②選手情報入力!$AP$11:$AQ$100,2,FALSE))","v":""},{"$f":"IF(C13=\"\",\"\",VLOOKUP(C13,②選手情報入力!$AD$11:$AE$100,2,FALSE))","v":""},{"$f":"IF(C13=\"\",\"\",VLOOKUP(C13,②選手情報入力!$AD$11:$AJ$100,6,FALSE))","v":""},null,null,6,{"$f":"IF(②選手情報入力!$AS$10<6,\"\",VLOOKUP(H13,②選手情報入力!$AR$11:$AS$100,2,FALSE))","v":""},{"$f":"IF(I13=\"\",\"\",VLOOKUP(I13,②選手情報入力!$AD$11:$AE$100,2,FALSE))","v":""},{"$f":"IF(I13=\"\",\"\",VLOOKUP(I13,②選手情報入力!$AD$11:$AJ$100,6,FALSE))","v":""},null,null,6,{"$f":"IF(②選手情報入力!$AU$10<6,\"\",VLOOKUP(N13,②選手情報入力!$AT$11:$AU$100,2,FALSE))","v":""},{"$f":"IF(O13=\"\",\"\",VLOOKUP(O13,②選手情報入力!$AJ$11:$AK$100,2,FALSE))","v":""},{"$f":"IF(O13=\"\",\"\",VLOOKUP(O13,②選手情報入力!$AJ$11:$AQ$100,6,FALSE))","v":""},null,null,6,{"$f":"IF(②選手情報入力!$AW$10<6,\"\",VLOOKUP(T13,②選手情報入力!$AV$11:$AW$100,2,FALSE))","v":""},{"$f":"IF(U13=\"\",\"\",VLOOKUP(U13,②選手情報入力!$AJ$11:$AK$100,2,FALSE))","v":""},{"$f":"IF(U13=\"\",\"\",VLOOKUP(U13,②選手情報入力!$AJ$11:$AQ$100,6,FALSE))","v":""}]
[null,null,null,"申込チーム数",null,{"$f":"IF(②選手情報入力!AQ10>=4,1,0)","v":0},null,null,null,"申込チーム数",null,{"$f":"IF(②選手情報入力!AS10>=4,1,0)","v":0},null,null,null,"申込チーム数",null,{"$f":"IF(②選手情報入力!AU10>=4,1,0)","v":0},null,null,null,"申込チーム数",null,{"$f":"IF(②選手情報入力!AW10>=4,1,0)","v":0}]

{"sheet":"④種目別人数","index":5,"n_rows":16,"n_cols":18,"rows_kept":16,"cut":false,"hidden":false,"merged":[[0,2,0,5],[6,9,8,14],[13,5,13,6],[6,1,6,2],[13,2,13,4],[7,2,7,3],[12,2,12,4],[11,1,11,4],[8,2,8,3],[1,0,1,7],[3,0,3,7],[5,3,5,6],[4,2,4,5],[2,0,2,6]]}
["⑤種目別人数一覧表",null,"団体用"]
["※種目数・参加料等を確認してから印刷をしてください。"]
[{"$f":"注意事項!C3","v":"第４９回名古屋地区陸上競技選手権大会　"}]
["種目別申込人数一覧表"]
[null,"申込責任者",{"$f":"IF(①団体情報入力!C8=\"\",\"\",①団体情報入力!C8)","v":""},null,null,null,"A4サイズ"]
[null,{"$f":"IF(①団体情報入力!C9=\"\",\"\",①団体情報入力!C9)","v":""},"団体名",{"$f":"IF(①団体情報入力!C6=\"\",\"\",①団体情報入力!C6)","v":""}]
[null,"種　目　数",null,null,null,{"$f":"①団体情報入力!C2","v":"一般大学高校"},"参　加　料",null,"⬅","中学生と一般で参加料が異なります。①団体情報入力で正しいカテゴリーが選択されているか確認願います。"]
[null,"種目数",{"$f":"②選手情報入力!I101","v":0},null,null,{"$f":"IF(①団体情報入力!C2=\"一般大学高校\",\"参加数✕800円\",\"参加数✕600円\")","v":"参加数✕800円"},{"$f":"IF(①団体情報入力!C2=\"一般大学高校\",C8*800,C8*600)","v":0},null,"⬅",null,null,null,null,null,null,null,null,"種目数×800円"]
[null,"リレー",{"$f":"②選手情報入力!I102","v":0},null,null,"リレー参加数✕1200円",{"$f":"C9*1200","v":0}]
[null,"プログラム購入部数",{"$f":"IF(①団体情報入力!C11=\"\",0,①団体情報入力!C11)","v":0},"部",null,"プログラム部数✕1000円",{"$f":"C10*1000","v":0}]
[null,null,null,null,null,"合計",{"$f":"SUM(G8:G10)","v":0}]
[null,"役員のできる方のお名前",null,null,null,"参加人数",{"$f":"IF(②選手情報入力!I105=0,\"\",②選手情報入力!I105)","v":""}]
[null,{"$f":"IF(①団体情報入力!B12=\"\",\"\",①団体情報入力!B12)","v":""},{"$f":"IF(①団体情報入力!F12=\"\",\"\",①団体情報入力!F12)","v":""}]
[null,{"$f":"IF(①団体情報入力!B13=\"\",\"\",①団体情報入力!B13)","v":""},{"$f":"IF(①団体情報入力!F13=\"\",\"\",①団体情報入力!F13)","v":""},null,null,{"$f":"TODAY()","v":"2021-09-04"}]
[]
[null,"振込明細書のコピーを余白に添付してください"]

{"sheet":"⑤大会前 提出用","index":6,"n_rows":26,"n_cols":11,"rows_kept":26,"cut":false,"hidden":false,"merged":[[23,0,23,1],[24,0,24,1],[24,3,24,4],[24,5,24,10],[25,0,26,1],[25,2,26,2],[25,3,26,10],[22,0,22,1],[5,0,9,10],[12,0,12,1],[13,0,13,1],[14,0,14,1],[15,0,15,1],[16,0,16,1],[17,0,17,1],[18,0,18,1],[19,0,19,1],[20,0,20,1],[21,0,21,1]]}
[null,"①団体情報入力を行ってから、⑤大会前提出用⑥大会後個人管理用を必要数印刷してお使いください。"]
[]
[null,"　　　　　　　　　　　　　　　　　　　　]ＡＡＦ"]
[null,"【大会前／提出用】新型コロナウイルス感染症についての体調管理チェツクシート"]
[]
["本チェックシートは各種大会において新型コロナウイルス感染症の拡大を防⽌するため、参加者の健康状態を確認することを⽬的としています。本チェックシートに記入いただいた個⼈情報については、厳正なる管理のもとに保管し、健康状態の把握、来場可否の判断および必要なご連絡のためにのみ利⽤します。また、個⼈情報保護法等の法令において認められる場合を除きご本⼈の同意を得ずに第三者に提供いたしません。但し、大会会場にて感染症患者またはその疑いのある⽅が発⾒された場合に必要な範囲で保健所等に提供することがあります。"]
[]
[]
[]
[]
["※犬会1週間前から記入し、犬会当日、主催者の指示に従い指定の場所に提出すること"]
["※該当しない場合は☓を入れ、該当する場合は○を記入すること（体温0.1℃単位の数字を記入）"]
["N0.",null,"チェックリスト",{"$f":"E13-1","v":"2021-09-24"},"2021-09-25","2021-09-26","2021-09-27","2021-09-28","2021-09-29",{"$f":"K13-1","v":"2021-09-30"},{"$f":"注意事項!C4-1","v":"2021-10-01"}]
["]．",null,"のどの痛みがある"]
["２",null,"咳（せき）が出る"]
["３",null,"痰（たん）がでたリ、からんだリする"]
["４",null,"鼻水（はなみず）、鼻づまリがある　※アレルギーを除く"]
["５",null,"頭が痛い"]
["６",null,"体のだるさなどがある"]
["７",null,"発熱の症状がある"]
["８",null,"息苦しさがある"]
["９",null,"味覚異常(味がしない)"]
[10,null,"咬覚異常(匂いがしない)"]
[11,null,"体温","゜Ｃ","゜Ｃ","゜Ｃ","゜Ｃ","゜Ｃ","゜Ｃ","゜Ｃ","゜Ｃ"]
["氏名",null,null,"所属（学校名など）",null,{"$f":"IF(①団体情報入力!C4=\"\",\"\",①団体情報入力!C4)","v":""}]
["連絡先（電話番号）",null,{"$f":"IF(①団体情報入力!C9=\"\",\"\",①団体情報入力!C9)","v":""},"保護者氏名\n(中学生･高校生のみ)"]

{"sheet":"⑥大会後 個人管理用","index":7,"n_rows":22,"n_cols":17,"rows_kept":22,"cut":false,"hidden":false,"merged":[[19,2,19,4],[19,5,19,16],[13,5,13,6],[14,5,14,6],[15,5,15,6],[16,5,16,6],[17,5,17,6],[18,5,18,6],[12,5,12,6],[7,5,7,6],[8,5,8,6],[9,5,9,6],[10,5,10,6],[11,5,11,6]]}
[null,"①団体情報入力を行ってから、⑤大会前提出用⑥大会後個人管理用を必要数印刷してお使いください。"]
[]
[null,null,null,null,null,null,"]ＡＡＦ"]
["　【大会後／個人管理用】新型コロナウイルス感染症についての体調管理チェツクシート"]
["※犬会終了後２週間は健康チェックをすること。"]
["※該当しない場合は☓を入れ、該当する場合は○を記入すること［体温は0.1℃単位の数字を記入］"]
[]
["N0.","チェックリスト",{"$f":"注意事項!C4+1","v":"2021-10-03"},{"$f":"C8+1","v":"2021-10-04"},{"$f":"D8+1","v":"2021-10-05"},{"$f":"E8+1","v":"2021-10-06"},null,{"$f":"F8+1","v":"2021-10-07"},{"$f":"H8+1","v":"2021-10-08"},{"$f":"I8+1","v":"2021-10-09"},"2021-10-10","2021-10-11","2021-10-12","2021-10-13","2021-10-14","2021-10-15","2021-10-16"]
["１","のどの痛みがある"]
["２","咳（せき）が出る"]
["３","痰（たん）がでたり、からんだりする"]
["４","鼻水、鼻づまりがある　ﾒｱﾚﾉﾚｷﾞｰを匹"]
["５","頭が痛い"]
["６","体のだるさなどがある"]
["７","発熱の症状がある"]
["８","息苦しさがある"]
["９","味覚異常(味がしない)"]
[10,"嗅覚異常(匂いがしない)"]
[11,"体温","゜ Ｃ","゜ Ｃ","゜ Ｃ","゜ Ｃ",null,"゜ Ｃ","゜ Ｃ","゜ Ｃ","゜ Ｃ","゜ Ｃ","゜ Ｃ","゜ Ｃ","゜ Ｃ","゜ Ｃ","゜ Ｃ"]
["氏名",null,"所属（学校名など）",null,null,{"$f":"IF(①団体情報入力!C4=\"\",\"\",①団体情報入力!C4)","v":""}]
["※症状が４日以上続く場合は必ず最寄りの保健所、医師会、診療所等に報告してください。症状には個人差がありますので、強い症状と思う場合にはすぐに報告してください。"]
["※保健所、医師会、診療所等に相談後、必ず大会主催者に報告してください。"]

{"sheet":"⑦ADカード申請","index":8,"n_rows":43,"n_cols":7,"rows_kept":43,"cut":false,"hidden":false,"merged":[[35,0,35,1],[38,0,38,8],[39,0,39,8],[13,3,14,5],[16,0,16,8],[18,6,18,8],[24,0,24,1],[30,0,30,1],[33,0,33,1],[27,0,27,1]]}
[]
[null,"アクレディテーションカード"]
[null,"Accreditation Card",null,"試合のときに発行する入場許可証"]
[]
["当分の間、名古屋地区の競技会は無観客で実施します。"]
[]
["個人参加者の引率などについて、選手1名に付き1名の帯同を認めます。"]
["学校等の引率で、審判をされない方も１団体１名の帯同を認めます。"]
["ただし、事前申請に限ります。当日発行はいたしませんのでご注意ください。"]
["選手同様、大会前後の検温等の実施・提出も合わせてお願い致します。"]
[]
["この用紙を印刷の上、必要事項を記入し④種目別人数と一緒に郵送してください"]
[]
[null,null,null,"キ　　　リ　　　ト　　リ"]
[]
[]
["ADカード申請書"]
[]
[null,null,null,null,null,"申請日","令和２年　　　　月　　　　日"]
[]
["名古屋地区陸上競技協会　会長　坂井田　酵三殿"]
[]
[]
[]
["団　体　名"]
[]
[]
["選手との続柄"]
[]
[]
["申請者 氏名"]
[]
[]
["申請者住所"]
[]
["電話番号\n（携帯が望ましい）"]
[]
[]
["大会要項・競技注意事項等に記されている注意事項を厳守し引率します。"]
["これらの項目が守られない場合には退場して頂く場合があります。、"]
[]
[]
[null,null,null,null,"本人自署"]

{"sheet":"⑧リレーの選手が反映されない","index":9,"n_rows":23,"n_cols":2,"rows_kept":23,"cut":false,"hidden":false,"merged":[]}
[]
[null,"文字列を数値に変換する"]
[null,"エクセルでは数値と判断できる文字列を数式に使用したとき、自動で数値に変換されます。"]
[]
[]
[]
[]
[]
[]
[]
[]
[]
[null,"これらの文字列を数値に変換するには、[セル] をクリックしてエラーチェックの機能から [数値に変換する] をクリックします。変換したいセルを範囲選択してから行うと一括で変換できます。"]
[]
[]
[]
[]
[]
[]
[]
[]
[]
[null,"文字列が数値に変換されます。"]

{"sheet":"⑨日付が数字になる","index":10,"n_rows":5,"n_cols":1,"rows_kept":5,"cut":false,"hidden":false,"merged":[]}
["表示形式を日付に戻す"]
[]
["日付の表示形式が失われてシリアル値になったデータは、簡単に日付の形に戻すことができます。"]
[]
["操作方法は対象のセル（例ではB5:B14）をアクティブにし、「ホーム」タブの「表示形式」の▼をクリックし、一覧から「短い日付形式」もしくは「長い日付形式」をクリックします。"]

{"sheet":"　　　　　","index":11,"n_rows":0,"n_cols":0,"rows_kept":0,"cut":false,"hidden":false,"merged":[]}

{"sheet":"種目情報","index":12,"n_rows":52,"n_cols":15,"rows_kept":52,"cut":false,"hidden":false,"merged":[[1,13,1,14],[0,0,0,2],[0,4,0,6],[0,8,0,10],[1,0,2,0],[1,4,2,4],[1,8,2,8]]}
["男子",null,null,null,"女子",null,null,null,"リレー"]
["種目","種目","記録",null,"種目","種目","記録",null,"種目","種目","記録"]
[null,"No","FLAG",null,null,"No","FLAG",null,null,"No","FLAG",null,null,"◎第１日",44471]
["男100m",1,2,null,"女100m",20,2,null,"男4X100mR",10,2,null,null,"※今年度は、男子１００００ｍ，男女５０００ｍＷは6月の夏季競技会で実施します。"]
["男200m",2,2,null,"女200m",21,2,null,"男4X400mR",11,2,null,null,"（男子）"]
["男400m",3,2,null,"女400m",22,2,null,"女4X100mR",28,2,null,null,"１００ｍ，４００ｍ，１５００ｍ，１１０ｍＨ(1.067m)，３０００ｍＳＣ(0.914m)，"]
["男800m",4,2,null,"女800m",23,2,null,"女4X400mR",29,2,null,null,"４×１００ｍＲ，棒高跳，三段跳，砲丸投(7.260kg)，やり投(0.800kg)"]
["男1500m",5,2,null,"女1500m",24,2,null,null,null,null,null,null,"（女子）"]
["男5000m",6,2,null,"女5000m",25,2,null,null,null,null,null,null,"１００ｍ，４００ｍ，１５００ｍ，１００ｍＨ(0.840m)，４×１００ｍＲ，"]
["男110mH(1.067m)",7,2,null,"女100mH(0.838m)",26,2,null,null,null,null,null,null,"棒高跳，走幅跳，砲丸投(4.000kg)，やり投(0.600kg)"]
["男400mH(0.914m)",8,2,null,"女400mH(0.762m)",27,2,null,null,null,null,null,null,"◎第２日",44472]
["男3000mSC(0.914m)",9,2,null,"女走高跳",30,0,null,null,null,null,null,null,"（男子）"]
["男走高跳",12,0,null,"女棒高跳",31,0,null,null,null,null,null,null,"２００ｍ，８００ｍ，５０００ｍ，４００ｍＨ(0.914m)，４×４００ｍＲ，"]
["男棒高跳",13,0,null,"女走幅跳",32,0,null,null,null,null,null,null,"走高跳，走幅跳，円盤投(2.000kg)，ハンマー投(7.260kg)"]
["男走幅跳",14,0,null,"女三段跳",33,0,null,null,null,null,null,null,"（女子）"]
["男三段跳",15,0,null,"女砲丸投(4.000kg)",34,0,null,null,null,null,null,null,"２００ｍ，８００ｍ，４００ｍＨ(0.762m)，５０００ｍ，４×４００ｍＲ，"]
["男砲丸投(7.260kg)",16,0,null,"女円盤投(1.000kg)",35,0,null,null,null,null,null,null,"走高跳，三段跳，円盤投(1.000kg)，ハンマー投(4.000kg)"]
["男円盤投(2.000kg)",17,0,null,"女ハンマー投(4.000kg)",36,0]
["男ハンマー投(7.260kg)",18,0,null,"女やり投(0.600kg)",37,0]
["男やり投(0.800kg)",19,0]
[]
["　１日目 一般高校",null,null,null,"　１日目 一般高校"]
["男100m",null,null,null,"女100m"]
["男400m",null,null,null,"女400m"]
["男1500m",null,null,null,"女1500m"]
["男110mH(1.067m)",null,null,null,"女100mH(0.838m)"]
["男3000mSC(0.914m)",null,null,null,"女棒高跳"]
["男棒高跳",null,null,null,"女走幅跳"]
["男三段跳",null,null,null,"女砲丸投(4.000kg)"]
["男砲丸投(7.260kg)",null,null,null,"女やり投(0.600kg)"]
["男やり投(0.800kg)",null,null,null,"　１日目 中学"]
["　１日目 中学",null,null,null,"女100m"]
["男100m",null,null,null,"女400m"]
["男400m",null,null,null,"女1500m"]
["男1500m",null,null,null,"女棒高跳"]
["男棒高跳",null,null,null,"女走幅跳"]
["男三段跳"]
[null,null,null,null,"　２日目　一般高校"]
["　２日目　一般高校",null,null,null,"女200m"]
["男200m",null,null,null,"女800m"]
["男800m",null,null,null,"女5000m"]
["男5000m",null,null,null,"女400mH(0.762m)"]
["男400mH(0.914m)",null,null,null,"女走高跳"]
["男走高跳",null,null,null,"女三段跳"]
["男走幅跳",null,null,null,"女円盤投(1.000kg)"]
["男円盤投(2.000kg)",null,null,null,"女ハンマー投(4.000kg)"]
["男ハンマー投(7.260kg)",null,null,null,"　２日目 中学"]
["　２日目 中学",null,null,null,"女200m"]
["男200m",null,null,null,"女800m"]
["男800m",null,null,null,"女走高跳"]
["男走高跳",null,null,null,"女三段跳"]
["男走幅跳",null,null,null,"女円盤投(1.000kg)"]

{"sheet":"data_kyogisha","index":13,"n_rows":91,"n_cols":36,"rows_kept":91,"cut":false,"hidden":false,"merged":[]}
["競技者NO","所属コード1","所属コード2","ナンバー","ナンバー2","競技者名","競技者名カナ","競技者名略称","競技者名英字","国籍","性別","学年","生年","月日","個人所属地名","陸連コード","参加競技-競技コード1","参加競技-自己記録1","参加競技-オープン参加FLG1","参加競技-記録FLG1","参加競技-競技コード2","参加競技-自己記録2","参加競技-オープン参加FLG2","参加競技-記録FLG2","参加競技-競技コード3","参加競技-自己記録3","参加競技-オープン参加FLG3","参加競技-記録FLG3","参加競技-競技コード4","参加競技-自己記録4","参加競技-オープン参加FLG4","参加競技-記録FLG4","参加競技-競技コード5","参加競技-自己記録5","参加競技-オープン参加FLG5","参加競技-記録FLG5"]
[{"$f":"IF(E2=\"\",\"\",K2&K2&K2&\"23\"&C2+E2)","v":""},{"$f":"IF(E2=\"\",\"\",①団体情報入力!$C$5)","v":""},null,{"$f":"IF(E2=\"\",\"\",①団体情報入力!C$10)","v":""},{"$f":"IF(②選手情報入力!C11=\"\",\"\",②選手情報入力!C11)","v":""},{"$f":"IF(E2=\"\",\"\",②選手情報入力!D11)","v":""},{"$f":"IF(E2=\"\",\"\",ASC(②選手情報入力!E11))","v":""},{"$f":"IF(E2=\"\",\"\",F2)","v":""},{"$f":"IF(E2=\"\",\"\",②選手情報入力!F11&\" \"&②選手情報入力!G11)","v":""},{"$f":"IF(E2=\"\",\"\",IF(②選手情報入力!H11=\"\",\"JPN\",LEFT(②選手情報入力!H11,3)))","v":""},{"$f":"IF(E2=\"\",\"\",IF(②選手情報入力!I11=\"男\",1,2))","v":""},{"$f":"IF(E2=\"\",\"\",IF(②選手情報入力!J11=\"\",\"\",②選手情報入力!J11))","v":""},{"$f":"IF(E2=\"\",\"\",LEFT(②選手情報入力!K11,4))","v":""},{"$f":"IF(E2=\"\",\"\",RIGHT(②選手情報入力!K11,4))","v":""},{"$f":"IF(E2=\"\",\"\",\"愛知\")","v":""},null,{"$f":"IF(E2=\"\",\"\",IF(②選手情報入力!L11=\"\",\"\",IF(K2=1,VLOOKUP(②選手情報入力!L11,種目情報!$A$4:$B$167,2,FALSE),VLOOKUP(②選手情報入力!L11,種目情報!$E$4:$F$142,2,FALSE))))","v":""},{"$f":"IF(E2=\"\",\"\",IF(②選手情報入力!M11=\"\",\"\",②選手情報入力!M11))","v":""},null,{"$f":"IF(E2=\"\",\"\",IF(②選手情報入力!L11=\"\",\"\",IF(K2=1,VLOOKUP(②選手情報入力!L11,種目情報!$A$4:$C$135,3,FALSE),VLOOKUP(②選手情報入力!L11,種目情報!$E$4:$G$135,3,FALSE))))","v":""},{"$f":"IF(E2=\"\",\"\",IF(②選手情報入力!O11=\"\",\"\",IF(K2=1,VLOOKUP(②選手情報入力!O11,種目情報!$A$5:$B$151,2,FALSE),VLOOKUP(②選手情報入力!O11,種目情報!$E$5:$F$135,2,FALSE))))","v":""},{"$f":"IF(E2=\"\",\"\",IF(②選手情報入力!P11=\"\",\"\",②選手情報入力!P11))","v":""},null,{"$f":"IF(E2=\"\",\"\",IF(②選手情報入力!O11=\"\",\"\",IF(K2=1,VLOOKUP(②選手情報入力!O11,種目情報!$A$5:$C$135,3,FALSE),VLOOKUP(②選手情報入力!O11,種目情報!$E$5:$G$135,3,FALSE))))","v":""},{"$f":"IF(E2=\"\",\"\",IF(②選手情報入力!R11=\"\",\"\",IF(K2=1,VLOOKUP(②選手情報入力!R11,種目情報!$A$5:$B$151,2,FALSE),VLOOKUP(②選手情報入力!R11,種目情報!$E$5:$F$135,2,FALSE))))","v":""},{"$f":"IF(E2=\"\",\"\",IF(②選手情報入力!S11=\"\",\"\",②選手情報入力!S11))","v":""},null,{"$f":"IF(E2=\"\",\"\",IF(②選手情報入力!R11=\"\",\"\",IF(K2=1,VLOOKUP(②選手情報入力!R11,種目情報!$A$5:$C$135,3,FALSE),VLOOKUP(②選手情報入力!R11,種目情報!$E$5:$G$135,3,FALSE))))","v":""},{"$f":"IF(E2=\"\",\"\",IF(②選手情報入力!T11=\"\",\"\",IF(K2=1,種目情報!$J$4,種目情報!$J$6)))","v":""},{"$f":"IF(E2=\"\",\"\",IF(②選手情報入力!T11=\"\",\"\",IF(K2=1,IF(②選手情報入力!$U$7=\"\",\"\",②選手情報入力!$U$7),IF(②選手情報入力!$U$8=\"\",\"\",②選手情報入力!$U$8))))","v":""},{"$f":"IF(E2=\"\",\"\",IF(②選手情報入力!T11=\"\",\"\",IF(K2=1,IF(②選手情報入力!$T$7=\"\",0,1),IF(②選手情報入力!$T$8=\"\",0,1))))","v":""},{"$f":"IF(E2=\"\",\"\",IF(②選手情報入力!T11=\"\",\"\",2))","v":""},{"$f":"IF(E2=\"\",\"\",IF(②選手情報入力!V11=\"\",\"\",IF(K2=1,種目情報!$J$5,種目情報!$J$7)))","v":""},{"$f":"IF(E2=\"\",\"\",IF(②選手情報入力!V11=\"\",\"\",IF(K2=1,IF(②選手情報入力!$W$7=\"\",\"\",②選手情報入力!$W$7),IF(②選手情報入力!$W$8=\"\",\"\",②選手情報入力!$W$8))))","v":""},{"$f":"IF(E2=\"\",\"\",IF(②選手情報入力!V11=\"\",\"\",IF(K2=1,IF(②選手情報入力!$V$7=\"\",0,1),IF(②選手情報入力!$V$8=\"\",0,1))))","v":""},{"$f":"IF(E2=\"\",\"\",IF(②選手情報入力!V11=\"\",\"\",2))","v":""}]
[{"$f":"IF(E3=\"\",\"\",K3&K3&K3&\"23\"&C3+E3)","v":""},{"$f":"IF(E3=\"\",\"\",①団体情報入力!$C$5)","v":""},null,{"$f":"IF(E3=\"\",\"\",①団体情報入力!C$10)","v":""},{"$f":"IF(②選手情報入力!C12=\"\",\"\",②選手情報入力!C12)","v":""},{"$f":"IF(E3=\"\",\"\",②選手情報入力!D12)","v":""},{"$f":"IF(E3=\"\",\"\",ASC(②選手情報入力!E12))","v":""},{"$f":"IF(E3=\"\",\"\",F3)","v":""},{"$f":"IF(E3=\"\",\"\",②選手情報入力!F12&\" \"&②選手情報入力!G12)","v":""},{"$f":"IF(E3=\"\",\"\",IF(②選手情報入力!H12=\"\",\"JPN\",LEFT(②選手情報入力!H12,3)))","v":""},{"$f":"IF(E3=\"\",\"\",IF(②選手情報入力!I12=\"男\",1,2))","v":""},{"$f":"IF(E3=\"\",\"\",IF(②選手情報入力!J12=\"\",\"\",②選手情報入力!J12))","v":""},{"$f":"IF(E3=\"\",\"\",LEFT(②選手情報入力!K12,4))","v":""},{"$f":"IF(E3=\"\",\"\",RIGHT(②選手情報入力!K12,4))","v":""},{"$f":"IF(E3=\"\",\"\",\"愛知\")","v":""},null,{"$f":"IF(E3=\"\",\"\",IF(②選手情報入力!L12=\"\",\"\",IF(K3=1,VLOOKUP(②選手情報入力!L12,種目情報!$A$4:$B$167,2,FALSE),VLOOKUP(②選手情報入力!L12,種目情報!$E$4:$F$142,2,FALSE))))","v":""},{"$f":"IF(E3=\"\",\"\",IF(②選手情報入力!M12=\"\",\"\",②選手情報入力!M12))","v":""},null,{"$f":"IF(E3=\"\",\"\",IF(②選手情報入力!L12=\"\",\"\",IF(K3=1,VLOOKUP(②選手情報入力!L12,種目情報!$A$4:$C$135,3,FALSE),VLOOKUP(②選手情報入力!L12,種目情報!$E$4:$G$135,3,FALSE))))","v":""},{"$f":"IF(E3=\"\",\"\",IF(②選手情報入力!O12=\"\",\"\",IF(K3=1,VLOOKUP(②選手情報入力!O12,種目情報!$A$5:$B$151,2,FALSE),VLOOKUP(②選手情報入力!O12,種目情報!$E$5:$F$135,2,FALSE))))","v":""},{"$f":"IF(E3=\"\",\"\",IF(②選手情報入力!P12=\"\",\"\",②選手情報入力!P12))","v":""},null,{"$f":"IF(E3=\"\",\"\",IF(②選手情報入力!O12=\"\",\"\",IF(K3=1,VLOOKUP(②選手情報入力!O12,種目情報!$A$5:$C$135,3,FALSE),VLOOKUP(②選手情報入力!O12,種目情報!$E$5:$G$135,3,FALSE))))","v":""},{"$f":"IF(E3=\"\",\"\",IF(②選手情報入力!R12=\"\",\"\",IF(K3=1,VLOOKUP(②選手情報入力!R12,種目情報!$A$5:$B$151,2,FALSE),VLOOKUP(②選手情報入力!R12,種目情報!$E$5:$F$135,2,FALSE))))","v":""},{"$f":"IF(E3=\"\",\"\",IF(②選手情報入力!S12=\"\",\"\",②選手情報入力!S12))","v":""},null,{"$f":"IF(E3=\"\",\"\",IF(②選手情報入力!R12=\"\",\"\",IF(K3=1,VLOOKUP(②選手情報入力!R12,種目情報!$A$5:$C$135,3,FALSE),VLOOKUP(②選手情報入力!R12,種目情報!$E$5:$G$135,3,FALSE))))","v":""},{"$f":"IF(E3=\"\",\"\",IF(②選手情報入力!T12=\"\",\"\",IF(K3=1,種目情報!$J$4,種目情報!$J$6)))","v":""},{"$f":"IF(E3=\"\",\"\",IF(②選手情報入力!T12=\"\",\"\",IF(K3=1,IF(②選手情報入力!$U$7=\"\",\"\",②選手情報入力!$U$7),IF(②選手情報入力!$U$8=\"\",\"\",②選手情報入力!$U$8))))","v":""},{"$f":"IF(E3=\"\",\"\",IF(②選手情報入力!T12=\"\",\"\",IF(K3=1,IF(②選手情報入力!$T$7=\"\",0,1),IF(②選手情報入力!$T$8=\"\",0,1))))","v":""},{"$f":"IF(E3=\"\",\"\",IF(②選手情報入力!T12=\"\",\"\",2))","v":""},{"$f":"IF(E3=\"\",\"\",IF(②選手情報入力!V12=\"\",\"\",IF(K3=1,種目情報!$J$5,種目情報!$J$7)))","v":""},{"$f":"IF(E3=\"\",\"\",IF(②選手情報入力!V12=\"\",\"\",IF(K3=1,IF(②選手情報入力!$W$7=\"\",\"\",②選手情報入力!$W$7),IF(②選手情報入力!$W$8=\"\",\"\",②選手情報入力!$W$8))))","v":""},{"$f":"IF(E3=\"\",\"\",IF(②選手情報入力!V12=\"\",\"\",IF(K3=1,IF(②選手情報入力!$V$7=\"\",0,1),IF(②選手情報入力!$V$8=\"\",0,1))))","v":""},{"$f":"IF(E3=\"\",\"\",IF(②選手情報入力!V12=\"\",\"\",2))","v":""}]
["",{"$f":"IF(E4=\"\",\"\",①団体情報入力!$C$5)","v":""},null,{"$f":"IF(E4=\"\",\"\",①団体情報入力!C$10)","v":""},{"$f":"IF(②選手情報入力!C13=\"\",\"\",②選手情報入力!C13)","v":""},{"$f":"IF(E4=\"\",\"\",②選手情報入力!D13)","v":""},{"$f":"IF(E4=\"\",\"\",ASC(②選手情報入力!E13))","v":""},"",{"$f":"IF(E4=\"\",\"\",②選手情報入力!F13&\" \"&②選手情報入力!G13)","v":""},{"$f":"IF(E4=\"\",\"\",IF(②選手情報入力!H13=\"\",\"JPN\",LEFT(②選手情報入力!H13,3)))","v":""},{"$f":"IF(E4=\"\",\"\",IF(②選手情報入力!I13=\"男\",1,2))","v":""},{"$f":"IF(E4=\"\",\"\",IF(②選手情報入力!J13=\"\",\"\",②選手情報入力!J13))","v":""},{"$f":"IF(E4=\"\",\"\",LEFT(②選手情報入力!K13,4))","v":""},{"$f":"IF(E4=\"\",\"\",RIGHT(②選手情報入力!K13,4))","v":""},"",null,{"$f":"IF(E4=\"\",\"\",IF(②選手情報入力!L13=\"\",\"\",IF(K4=1,VLOOKUP(②選手情報入力!L13,種目情報!$A$4:$B$167,2,FALSE),VLOOKUP(②選手情報入力!L13,種目情報!$E$4:$F$142,2,FALSE))))","v":""},{"$f":"IF(E4=\"\",\"\",IF(②選手情報入力!M13=\"\",\"\",②選手情報入力!M13))","v":""},null,{"$f":"IF(E4=\"\",\"\",IF(②選手情報入力!L13=\"\",\"\",IF(K4=1,VLOOKUP(②選手情報入力!L13,種目情報!$A$4:$C$135,3,FALSE),VLOOKUP(②選手情報入力!L13,種目情報!$E$4:$G$135,3,FALSE))))","v":""},{"$f":"IF(E4=\"\",\"\",IF(②選手情報入力!O13=\"\",\"\",IF(K4=1,VLOOKUP(②選手情報入力!O13,種目情報!$A$5:$B$151,2,FALSE),VLOOKUP(②選手情報入力!O13,種目情報!$E$5:$F$135,2,FALSE))))","v":""},{"$f":"IF(E4=\"\",\"\",IF(②選手情報入力!P13=\"\",\"\",②選手情報入力!P13))","v":""},null,{"$f":"IF(E4=\"\",\"\",IF(②選手情報入力!O13=\"\",\"\",IF(K4=1,VLOOKUP(②選手情報入力!O13,種目情報!$A$5:$C$135,3,FALSE),VLOOKUP(②選手情報入力!O13,種目情報!$E$5:$G$135,3,FALSE))))","v":""},{"$f":"IF(E4=\"\",\"\",IF(②選手情報入力!R13=\"\",\"\",IF(K4=1,VLOOKUP(②選手情報入力!R13,種目情報!$A$5:$B$151,2,FALSE),VLOOKUP(②選手情報入力!R13,種目情報!$E$5:$F$135,2,FALSE))))","v":""},{"$f":"IF(E4=\"\",\"\",IF(②選手情報入力!S13=\"\",\"\",②選手情報入力!S13))","v":""},null,{"$f":"IF(E4=\"\",\"\",IF(②選手情報入力!R13=\"\",\"\",IF(K4=1,VLOOKUP(②選手情報入力!R13,種目情報!$A$5:$C$135,3,FALSE),VLOOKUP(②選手情報入力!R13,種目情報!$E$5:$G$135,3,FALSE))))","v":""},{"$f":"IF(E4=\"\",\"\",IF(②選手情報入力!T13=\"\",\"\",IF(K4=1,種目情報!$J$4,種目情報!$J$6)))","v":""},{"$f":"IF(E4=\"\",\"\",IF(②選手情報入力!T13=\"\",\"\",IF(K4=1,IF(②選手情報入力!$U$7=\"\",\"\",②選手情報入力!$U$7),IF(②選手情報入力!$U$8=\"\",\"\",②選手情報入力!$U$8))))","v":""},{"$f":"IF(E4=\"\",\"\",IF(②選手情報入力!T13=\"\",\"\",IF(K4=1,IF(②選手情報入力!$T$7=\"\",0,1),IF(②選手情報入力!$T$8=\"\",0,1))))","v":""},{"$f":"IF(E4=\"\",\"\",IF(②選手情報入力!T13=\"\",\"\",2))","v":""},{"$f":"IF(E4=\"\",\"\",IF(②選手情報入力!V13=\"\",\"\",IF(K4=1,種目情報!$J$5,種目情報!$J$7)))","v":""},{"$f":"IF(E4=\"\",\"\",IF(②選手情報入力!V13=\"\",\"\",IF(K4=1,IF(②選手情報入力!$W$7=\"\",\"\",②選手情報入力!$W$7),IF(②選手情報入力!$W$8=\"\",\"\",②選手情報入力!$W$8))))","v":""},{"$f":"IF(E4=\"\",\"\",IF(②選手情報入力!V13=\"\",\"\",IF(K4=1,IF(②選手情報入力!$V$7=\"\",0,1),IF(②選手情報入力!$V$8=\"\",0,1))))","v":""},{"$f":"IF(E4=\"\",\"\",IF(②選手情報入力!V13=\"\",\"\",2))","v":""}]
["",{"$f":"IF(E5=\"\",\"\",①団体情報入力!$C$5)","v":""},null,{"$f":"IF(E5=\"\",\"\",①団体情報入力!C$10)","v":""},{"$f":"IF(②選手情報入力!C14=\"\",\"\",②選手情報入力!C14)","v":""},{"$f":"IF(E5=\"\",\"\",②選手情報入力!D14)","v":""},{"$f":"IF(E5=\"\",\"\",ASC(②選手情報入力!E14))","v":""},"",{"$f":"IF(E5=\"\",\"\",②選手情報入力!F14&\" \"&②選手情報入力!G14)","v":""},{"$f":"IF(E5=\"\",\"\",IF(②選手情報入力!H14=\"\",\"JPN\",LEFT(②選手情報入力!H14,3)))","v":""},{"$f":"IF(E5=\"\",\"\",IF(②選手情報入力!I14=\"男\",1,2))","v":""},{"$f":"IF(E5=\"\",\"\",IF(②選手情報入力!J14=\"\",\"\",②選手情報入力!J14))","v":""},{"$f":"IF(E5=\"\",\"\",LEFT(②選手情報入力!K14,4))","v":""},{"$f":"IF(E5=\"\",\"\",RIGHT(②選手情報入力!K14,4))","v":""},"",null,{"$f":"IF(E5=\"\",\"\",IF(②選手情報入力!L14=\"\",\"\",IF(K5=1,VLOOKUP(②選手情報入力!L14,種目情報!$A$4:$B$167,2,FALSE),VLOOKUP(②選手情報入力!L14,種目情報!$E$4:$F$142,2,FALSE))))","v":""},{"$f":"IF(E5=\"\",\"\",IF(②選手情報入力!M14=\"\",\"\",②選手情報入力!M14))","v":""},null,{"$f":"IF(E5=\"\",\"\",IF(②選手情報入力!L14=\"\",\"\",IF(K5=1,VLOOKUP(②選手情報入力!L14,種目情報!$A$4:$C$135,3,FALSE),VLOOKUP(②選手情報入力!L14,種目情報!$E$4:$G$135,3,FALSE))))","v":""},{"$f":"IF(E5=\"\",\"\",IF(②選手情報入力!O14=\"\",\"\",IF(K5=1,VLOOKUP(②選手情報入力!O14,種目情報!$A$5:$B$151,2,FALSE),VLOOKUP(②選手情報入力!O14,種目情報!$E$5:$F$135,2,FALSE))))","v":""},{"$f":"IF(E5=\"\",\"\",IF(②選手情報入力!P14=\"\",\"\",②選手情報入力!P14))","v":""},null,{"$f":"IF(E5=\"\",\"\",IF(②選手情報入力!O14=\"\",\"\",IF(K5=1,VLOOKUP(②選手情報入力!O14,種目情報!$A$5:$C$135,3,FALSE),VLOOKUP(②選手情報入力!O14,種目情報!$E$5:$G$135,3,FALSE))))","v":""},{"$f":"IF(E5=\"\",\"\",IF(②選手情報入力!R14=\"\",\"\",IF(K5=1,VLOOKUP(②選手情報入力!R14,種目情報!$A$5:$B$151,2,FALSE),VLOOKUP(②選手情報入力!R14,種目情報!$E$5:$F$135,2,FALSE))))","v":""},{"$f":"IF(E5=\"\",\"\",IF(②選手情報入力!S14=\"\",\"\",②選手情報入力!S14))","v":""},null,{"$f":"IF(E5=\"\",\"\",IF(②選手情報入力!R14=\"\",\"\",IF(K5=1,VLOOKUP(②選手情報入力!R14,種目情報!$A$5:$C$135,3,FALSE),VLOOKUP(②選手情報入力!R14,種目情報!$E$5:$G$135,3,FALSE))))","v":""},{"$f":"IF(E5=\"\",\"\",IF(②選手情報入力!T14=\"\",\"\",IF(K5=1,種目情報!$J$4,種目情報!$J$6)))","v":""},{"$f":"IF(E5=\"\",\"\",IF(②選手情報入力!T14=\"\",\"\",IF(K5=1,IF(②選手情報入力!$U$7=\"\",\"\",②選手情報入力!$U$7),IF(②選手情報入力!$U$8=\"\",\"\",②選手情報入力!$U$8))))","v":""},{"$f":"IF(E5=\"\",\"\",IF(②選手情報入力!T14=\"\",\"\",IF(K5=1,IF(②選手情報入力!$T$7=\"\",0,1),IF(②選手情報入力!$T$8=\"\",0,1))))","v":""},{"$f":"IF(E5=\"\",\"\",IF(②選手情報入力!T14=\"\",\"\",2))","v":""},{"$f":"IF(E5=\"\",\"\",IF(②選手情報入力!V14=\"\",\"\",IF(K5=1,種目情報!$J$5,種目情報!$J$7)))","v":""},{"$f":"IF(E5=\"\",\"\",IF(②選手情報入力!V14=\"\",\"\",IF(K5=1,IF(②選手情報入力!$W$7=\"\",\"\",②選手情報入力!$W$7),IF(②選手情報入力!$W$8=\"\",\"\",②選手情報入力!$W$8))))","v":""},{"$f":"IF(E5=\"\",\"\",IF(②選手情報入力!V14=\"\",\"\",IF(K5=1,IF(②選手情報入力!$V$7=\"\",0,1),IF(②選手情報入力!$V$8=\"\",0,1))))","v":""},{"$f":"IF(E5=\"\",\"\",IF(②選手情報入力!V14=\"\",\"\",2))","v":""}]
["",{"$f":"IF(E6=\"\",\"\",①団体情報入力!$C$5)","v":""},null,{"$f":"IF(E6=\"\",\"\",①団体情報入力!C$10)","v":""},{"$f":"IF(②選手情報入力!C15=\"\",\"\",②選手情報入力!C15)","v":""},{"$f":"IF(E6=\"\",\"\",②選手情報入力!D15)","v":""},{"$f":"IF(E6=\"\",\"\",ASC(②選手情報入力!E15))","v":""},"",{"$f":"IF(E6=\"\",\"\",②選手情報入力!F15&\" \"&②選手情報入力!G15)","v":""},{"$f":"IF(E6=\"\",\"\",IF(②選手情報入力!H15=\"\",\"JPN\",LEFT(②選手情報入力!H15,3)))","v":""},{"$f":"IF(E6=\"\",\"\",IF(②選手情報入力!I15=\"男\",1,2))","v":""},{"$f":"IF(E6=\"\",\"\",IF(②選手情報入力!J15=\"\",\"\",②選手情報入力!J15))","v":""},{"$f":"IF(E6=\"\",\"\",LEFT(②選手情報入力!K15,4))","v":""},{"$f":"IF(E6=\"\",\"\",RIGHT(②選手情報入力!K15,4))","v":""},"",null,{"$f":"IF(E6=\"\",\"\",IF(②選手情報入力!L15=\"\",\"\",IF(K6=1,VLOOKUP(②選手情報入力!L15,種目情報!$A$4:$B$167,2,FALSE),VLOOKUP(②選手情報入力!L15,種目情報!$E$4:$F$142,2,FALSE))))","v":""},{"$f":"IF(E6=\"\",\"\",IF(②選手情報入力!M15=\"\",\"\",②選手情報入力!M15))","v":""},null,{"$f":"IF(E6=\"\",\"\",IF(②選手情報入力!L15=\"\",\"\",IF(K6=1,VLOOKUP(②選手情報入力!L15,種目情報!$A$4:$C$135,3,FALSE),VLOOKUP(②選手情報入力!L15,種目情報!$E$4:$G$135,3,FALSE))))","v":""},{"$f":"IF(E6=\"\",\"\",IF(②選手情報入力!O15=\"\",\"\",IF(K6=1,VLOOKUP(②選手情報入力!O15,種目情報!$A$5:$B$151,2,FALSE),VLOOKUP(②選手情報入力!O15,種目情報!$E$5:$F$135,2,FALSE))))","v":""},{"$f":"IF(E6=\"\",\"\",IF(②選手情報入力!P15=\"\",\"\",②選手情報入力!P15))","v":""},null,{"$f":"IF(E6=\"\",\"\",IF(②選手情報入力!O15=\"\",\"\",IF(K6=1,VLOOKUP(②選手情報入力!O15,種目情報!$A$5:$C$135,3,FALSE),VLOOKUP(②選手情報入力!O15,種目情報!$E$5:$G$135,3,FALSE))))","v":""},{"$f":"IF(E6=\"\",\"\",IF(②選手情報入力!R15=\"\",\"\",IF(K6=1,VLOOKUP(②選手情報入力!R15,種目情報!$A$5:$B$151,2,FALSE),VLOOKUP(②選手情報入力!R15,種目情報!$E$5:$F$135,2,FALSE))))","v":""},{"$f":"IF(E6=\"\",\"\",IF(②選手情報入力!S15=\"\",\"\",②選手情報入力!S15))","v":""},null,{"$f":"IF(E6=\"\",\"\",IF(②選手情報入力!R15=\"\",\"\",IF(K6=1,VLOOKUP(②選手情報入力!R15,種目情報!$A$5:$C$135,3,FALSE),VLOOKUP(②選手情報入力!R15,種目情報!$E$5:$G$135,3,FALSE))))","v":""},{"$f":"IF(E6=\"\",\"\",IF(②選手情報入力!T15=\"\",\"\",IF(K6=1,種目情報!$J$4,種目情報!$J$6)))","v":""},{"$f":"IF(E6=\"\",\"\",IF(②選手情報入力!T15=\"\",\"\",IF(K6=1,IF(②選手情報入力!$U$7=\"\",\"\",②選手情報入力!$U$7),IF(②選手情報入力!$U$8=\"\",\"\",②選手情報入力!$U$8))))","v":""},{"$f":"IF(E6=\"\",\"\",IF(②選手情報入力!T15=\"\",\"\",IF(K6=1,IF(②選手情報入力!$T$7=\"\",0,1),IF(②選手情報入力!$T$8=\"\",0,1))))","v":""},{"$f":"IF(E6=\"\",\"\",IF(②選手情報入力!T15=\"\",\"\",2))","v":""},{"$f":"IF(E6=\"\",\"\",IF(②選手情報入力!V15=\"\",\"\",IF(K6=1,種目情報!$J$5,種目情報!$J$7)))","v":""},{"$f":"IF(E6=\"\",\"\",IF(②選手情報入力!V15=\"\",\"\",IF(K6=1,IF(②選手情報入力!$W$7=\"\",\"\",②選手情報入力!$W$7),IF(②選手情報入力!$W$8=\"\",\"\",②選手情報入力!$W$8))))","v":""},{"$f":"IF(E6=\"\",\"\",IF(②選手情報入力!V15=\"\",\"\",IF(K6=1,IF(②選手情報入力!$V$7=\"\",0,1),IF(②選手情報入力!$V$8=\"\",0,1))))","v":""},{"$f":"IF(E6=\"\",\"\",IF(②選手情報入力!V15=\"\",\"\",2))","v":""}]
["",{"$f":"IF(E7=\"\",\"\",①団体情報入力!$C$5)","v":""},null,{"$f":"IF(E7=\"\",\"\",①団体情報入力!C$10)","v":""},{"$f":"IF(②選手情報入力!C16=\"\",\"\",②選手情報入力!C16)","v":""},{"$f":"IF(E7=\"\",\"\",②選手情報入力!D16)","v":""},{"$f":"IF(E7=\"\",\"\",ASC(②選手情報入力!E16))","v":""},"",{"$f":"IF(E7=\"\",\"\",②選手情報入力!F16&\" \"&②選手情報入力!G16)","v":""},{"$f":"IF(E7=\"\",\"\",IF(②選手情報入力!H16=\"\",\"JPN\",LEFT(②選手情報入力!H16,3)))","v":""},{"$f":"IF(E7=\"\",\"\",IF(②選手情報入力!I16=\"男\",1,2))","v":""},{"$f":"IF(E7=\"\",\"\",IF(②選手情報入力!J16=\"\",\"\",②選手情報入力!J16))","v":""},{"$f":"IF(E7=\"\",\"\",LEFT(②選手情報入力!K16,4))","v":""},{"$f":"IF(E7=\"\",\"\",RIGHT(②選手情報入力!K16,4))","v":""},"",null,{"$f":"IF(E7=\"\",\"\",IF(②選手情報入力!L16=\"\",\"\",IF(K7=1,VLOOKUP(②選手情報入力!L16,種目情報!$A$4:$B$167,2,FALSE),VLOOKUP(②選手情報入力!L16,種目情報!$E$4:$F$142,2,FALSE))))","v":""},{"$f":"IF(E7=\"\",\"\",IF(②選手情報入力!M16=\"\",\"\",②選手情報入力!M16))","v":""},null,{"$f":"IF(E7=\"\",\"\",IF(②選手情報入力!L16=\"\",\"\",IF(K7=1,VLOOKUP(②選手情報入力!L16,種目情報!$A$4:$C$135,3,FALSE),VLOOKUP(②選手情報入力!L16,種目情報!$E$4:$G$135,3,FALSE))))","v":""},{"$f":"IF(E7=\"\",\"\",IF(②選手情報入力!O16=\"\",\"\",IF(K7=1,VLOOKUP(②選手情報入力!O16,種目情報!$A$5:$B$151,2,FALSE),VLOOKUP(②選手情報入力!O16,種目情報!$E$5:$F$135,2,FALSE))))","v":""},{"$f":"IF(E7=\"\",\"\",IF(②選手情報入力!P16=\"\",\"\",②選手情報入力!P16))","v":""},null,{"$f":"IF(E7=\"\",\"\",IF(②選手情報入力!O16=\"\",\"\",IF(K7=1,VLOOKUP(②選手情報入力!O16,種目情報!$A$5:$C$135,3,FALSE),VLOOKUP(②選手情報入力!O16,種目情報!$E$5:$G$135,3,FALSE))))","v":""},{"$f":"IF(E7=\"\",\"\",IF(②選手情報入力!R16=\"\",\"\",IF(K7=1,VLOOKUP(②選手情報入力!R16,種目情報!$A$5:$B$151,2,FALSE),VLOOKUP(②選手情報入力!R16,種目情報!$E$5:$F$135,2,FALSE))))","v":""},{"$f":"IF(E7=\"\",\"\",IF(②選手情報入力!S16=\"\",\"\",②選手情報入力!S16))","v":""},null,{"$f":"IF(E7=\"\",\"\",IF(②選手情報入力!R16=\"\",\"\",IF(K7=1,VLOOKUP(②選手情報入力!R16,種目情報!$A$5:$C$135,3,FALSE),VLOOKUP(②選手情報入力!R16,種目情報!$E$5:$G$135,3,FALSE))))","v":""},{"$f":"IF(E7=\"\",\"\",IF(②選手情報入力!T16=\"\",\"\",IF(K7=1,種目情報!$J$4,種目情報!$J$6)))","v":""},{"$f":"IF(E7=\"\",\"\",IF(②選手情報入力!T16=\"\",\"\",IF(K7=1,IF(②選手情報入力!$U$7=\"\",\"\",②選手情報入力!$U$7),IF(②選手情報入力!$U$8=\"\",\"\",②選手情報入力!$U$8))))","v":""},{"$f":"IF(E7=\"\",\"\",IF(②選手情報入力!T16=\"\",\"\",IF(K7=1,IF(②選手情報入力!$T$7=\"\",0,1),IF(②選手情報入力!$T$8=\"\",0,1))))","v":""},{"$f":"IF(E7=\"\",\"\",IF(②選手情報入力!T16=\"\",\"\",2))","v":""},{"$f":"IF(E7=\"\",\"\",IF(②選手情報入力!V16=\"\",\"\",IF(K7=1,種目情報!$J$5,種目情報!$J$7)))","v":""},{"$f":"IF(E7=\"\",\"\",IF(②選手情報入力!V16=\"\",\"\",IF(K7=1,IF(②選手情報入力!$W$7=\"\",\"\",②選手情報入力!$W$7),IF(②選手情報入力!$W$8=\"\",\"\",②選手情報入力!$W$8))))","v":""},{"$f":"IF(E7=\"\",\"\",IF(②選手情報入力!V16=\"\",\"\",IF(K7=1,IF(②選手情報入力!$V$7=\"\",0,1),IF(②選手情報入力!$V$8=\"\",0,1))))","v":""},{"$f":"IF(E7=\"\",\"\",IF(②選手情報入力!V16=\"\",\"\",2))","v":""}]
["",{"$f":"IF(E8=\"\",\"\",①団体情報入力!$C$5)","v":""},null,{"$f":"IF(E8=\"\",\"\",①団体情報入力!C$10)","v":""},{"$f":"IF(②選手情報入力!C17=\"\",\"\",②選手情報入力!C17)","v":""},{"$f":"IF(E8=\"\",\"\",②選手情報入力!D17)","v":""},{"$f":"IF(E8=\"\",\"\",ASC(②選手情報入力!E17))","v":""},"",{"$f":"IF(E8=\"\",\"\",②選手情報入力!F17&\" \"&②選手情報入力!G17)","v":""},{"$f":"IF(E8=\"\",\"\",IF(②選手情報入力!H17=\"\",\"JPN\",LEFT(②選手情報入力!H17,3)))","v":""},{"$f":"IF(E8=\"\",\"\",IF(②選手情報入力!I17=\"男\",1,2))","v":""},{"$f":"IF(E8=\"\",\"\",IF(②選手情報入力!J17=\"\",\"\",②選手情報入力!J17))","v":""},{"$f":"IF(E8=\"\",\"\",LEFT(②選手情報入力!K17,4))","v":""},{"$f":"IF(E8=\"\",\"\",RIGHT(②選手情報入力!K17,4))","v":""},"",null,{"$f":"IF(E8=\"\",\"\",IF(②選手情報入力!L17=\"\",\"\",IF(K8=1,VLOOKUP(②選手情報入力!L17,種目情報!$A$4:$B$167,2,FALSE),VLOOKUP(②選手情報入力!L17,種目情報!$E$4:$F$142,2,FALSE))))","v":""},{"$f":"IF(E8=\"\",\"\",IF(②選手情報入力!M17=\"\",\"\",②選手情報入力!M17))","v":""},null,{"$f":"IF(E8=\"\",\"\",IF(②選手情報入力!L17=\"\",\"\",IF(K8=1,VLOOKUP(②選手情報入力!L17,種目情報!$A$4:$C$135,3,FALSE),VLOOKUP(②選手情報入力!L17,種目情報!$E$4:$G$135,3,FALSE))))","v":""},{"$f":"IF(E8=\"\",\"\",IF(②選手情報入力!O17=\"\",\"\",IF(K8=1,VLOOKUP(②選手情報入力!O17,種目情報!$A$5:$B$151,2,FALSE),VLOOKUP(②選手情報入力!O17,種目情報!$E$5:$F$135,2,FALSE))))","v":""},{"$f":"IF(E8=\"\",\"\",IF(②選手情報入力!P17=\"\",\"\",②選手情報入力!P17))","v":""},null,{"$f":"IF(E8=\"\",\"\",IF(②選手情報入力!O17=\"\",\"\",IF(K8=1,VLOOKUP(②選手情報入力!O17,種目情報!$A$5:$C$135,3,FALSE),VLOOKUP(②選手情報入力!O17,種目情報!$E$5:$G$135,3,FALSE))))","v":""},{"$f":"IF(E8=\"\",\"\",IF(②選手情報入力!R17=\"\",\"\",IF(K8=1,VLOOKUP(②選手情報入力!R17,種目情報!$A$5:$B$151,2,FALSE),VLOOKUP(②選手情報入力!R17,種目情報!$E$5:$F$135,2,FALSE))))","v":""},{"$f":"IF(E8=\"\",\"\",IF(②選手情報入力!S17=\"\",\"\",②選手情報入力!S17))","v":""},null,{"$f":"IF(E8=\"\",\"\",IF(②選手情報入力!R17=\"\",\"\",IF(K8=1,VLOOKUP(②選手情報入力!R17,種目情報!$A$5:$C$135,3,FALSE),VLOOKUP(②選手情報入力!R17,種目情報!$E$5:$G$135,3,FALSE))))","v":""},{"$f":"IF(E8=\"\",\"\",IF(②選手情報入力!T17=\"\",\"\",IF(K8=1,種目情報!$J$4,種目情報!$J$6)))","v":""},{"$f":"IF(E8=\"\",\"\",IF(②選手情報入力!T17=\"\",\"\",IF(K8=1,IF(②選手情報入力!$U$7=\"\",\"\",②選手情報入力!$U$7),IF(②選手情報入力!$U$8=\"\",\"\",②選手情報入力!$U$8))))","v":""},{"$f":"IF(E8=\"\",\"\",IF(②選手情報入力!T17=\"\",\"\",IF(K8=1,IF(②選手情報入力!$T$7=\"\",0,1),IF(②選手情報入力!$T$8=\"\",0,1))))","v":""},{"$f":"IF(E8=\"\",\"\",IF(②選手情報入力!T17=\"\",\"\",2))","v":""},{"$f":"IF(E8=\"\",\"\",IF(②選手情報入力!V17=\"\",\"\",IF(K8=1,種目情報!$J$5,種目情報!$J$7)))","v":""},{"$f":"IF(E8=\"\",\"\",IF(②選手情報入力!V17=\"\",\"\",IF(K8=1,IF(②選手情報入力!$W$7=\"\",\"\",②選手情報入力!$W$7),IF(②選手情報入力!$W$8=\"\",\"\",②選手情報入力!$W$8))))","v":""},{"$f":"IF(E8=\"\",\"\",IF(②選手情報入力!V17=\"\",\"\",IF(K8=1,IF(②選手情報入力!$V$7=\"\",0,1),IF(②選手情報入力!$V$8=\"\",0,1))))","v":""},{"$f":"IF(E8=\"\",\"\",IF(②選手情報入力!V17=\"\",\"\",2))","v":""}]
["",{"$f":"IF(E9=\"\",\"\",①団体情報入力!$C$5)","v":""},null,{"$f":"IF(E9=\"\",\"\",①団体情報入力!C$10)","v":""},{"$f":"IF(②選手情報入力!C18=\"\",\"\",②選手情報入力!C18)","v":""},{"$f":"IF(E9=\"\",\"\",②選手情報入力!D18)","v":""},{"$f":"IF(E9=\"\",\"\",ASC(②選手情報入力!E18))","v":""},"",{"$f":"IF(E9=\"\",\"\",②選手情報入力!F18&\" \"&②選手情報入力!G18)","v":""},{"$f":"IF(E9=\"\",\"\",IF(②選手情報入力!H18=\"\",\"JPN\",LEFT(②選手情報入力!H18,3)))","v":""},{"$f":"IF(E9=\"\",\"\",IF(②選手情報入力!I18=\"男\",1,2))","v":""},{"$f":"IF(E9=\"\",\"\",IF(②選手情報入力!J18=\"\",\"\",②選手情報入力!J18))","v":""},{"$f":"IF(E9=\"\",\"\",LEFT(②選手情報入力!K18,4))","v":""},{"$f":"IF(E9=\"\",\"\",RIGHT(②選手情報入力!K18,4))","v":""},"",null,{"$f":"IF(E9=\"\",\"\",IF(②選手情報入力!L18=\"\",\"\",IF(K9=1,VLOOKUP(②選手情報入力!L18,種目情報!$A$4:$B$167,2,FALSE),VLOOKUP(②選手情報入力!L18,種目情報!$E$4:$F$142,2,FALSE))))","v":""},{"$f":"IF(E9=\"\",\"\",IF(②選手情報入力!M18=\"\",\"\",②選手情報入力!M18))","v":""},null,{"$f":"IF(E9=\"\",\"\",IF(②選手情報入力!L18=\"\",\"\",IF(K9=1,VLOOKUP(②選手情報入力!L18,種目情報!$A$4:$C$135,3,FALSE),VLOOKUP(②選手情報入力!L18,種目情報!$E$4:$G$135,3,FALSE))))","v":""},{"$f":"IF(E9=\"\",\"\",IF(②選手情報入力!O18=\"\",\"\",IF(K9=1,VLOOKUP(②選手情報入力!O18,種目情報!$A$5:$B$151,2,FALSE),VLOOKUP(②選手情報入力!O18,種目情報!$E$5:$F$135,2,FALSE))))","v":""},{"$f":"IF(E9=\"\",\"\",IF(②選手情報入力!P18=\"\",\"\",②選手情報入力!P18))","v":""},null,{"$f":"IF(E9=\"\",\"\",IF(②選手情報入力!O18=\"\",\"\",IF(K9=1,VLOOKUP(②選手情報入力!O18,種目情報!$A$5:$C$135,3,FALSE),VLOOKUP(②選手情報入力!O18,種目情報!$E$5:$G$135,3,FALSE))))","v":""},{"$f":"IF(E9=\"\",\"\",IF(②選手情報入力!R18=\"\",\"\",IF(K9=1,VLOOKUP(②選手情報入力!R18,種目情報!$A$5:$B$151,2,FALSE),VLOOKUP(②選手情報入力!R18,種目情報!$E$5:$F$135,2,FALSE))))","v":""},{"$f":"IF(E9=\"\",\"\",IF(②選手情報入力!S18=\"\",\"\",②選手情報入力!S18))","v":""},null,{"$f":"IF(E9=\"\",\"\",IF(②選手情報入力!R18=\"\",\"\",IF(K9=1,VLOOKUP(②選手情報入力!R18,種目情報!$A$5:$C$135,3,FALSE),VLOOKUP(②選手情報入力!R18,種目情報!$E$5:$G$135,3,FALSE))))","v":""},{"$f":"IF(E9=\"\",\"\",IF(②選手情報入力!T18=\"\",\"\",IF(K9=1,種目情報!$J$4,種目情報!$J$6)))","v":""},{"$f":"IF(E9=\"\",\"\",IF(②選手情報入力!T18=\"\",\"\",IF(K9=1,IF(②選手情報入力!$U$7=\"\",\"\",②選手情報入力!$U$7),IF(②選手情報入力!$U$8=\"\",\"\",②選手情報入力!$U$8))))","v":""},{"$f":"IF(E9=\"\",\"\",IF(②選手情報入力!T18=\"\",\"\",IF(K9=1,IF(②選手情報入力!$T$7=\"\",0,1),IF(②選手情報入力!$T$8=\"\",0,1))))","v":""},{"$f":"IF(E9=\"\",\"\",IF(②選手情報入力!T18=\"\",\"\",2))","v":""},{"$f":"IF(E9=\"\",\"\",IF(②選手情報入力!V18=\"\",\"\",IF(K9=1,種目情報!$J$5,種目情報!$J$7)))","v":""},{"$f":"IF(E9=\"\",\"\",IF(②選手情報入力!V18=\"\",\"\",IF(K9=1,IF(②選手情報入力!$W$7=\"\",\"\",②選手情報入力!$W$7),IF(②選手情報入力!$W$8=\"\",\"\",②選手情報入力!$W$8))))","v":""},{"$f":"IF(E9=\"\",\"\",IF(②選手情報入力!V18=\"\",\"\",IF(K9=1,IF(②選手情報入力!$V$7=\"\",0,1),IF(②選手情報入力!$V$8=\"\",0,1))))","v":""},{"$f":"IF(E9=\"\",\"\",IF(②選手情報入力!V18=\"\",\"\",2))","v":""}]
["",{"$f":"IF(E10=\"\",\"\",①団体情報入力!$C$5)","v":""},null,{"$f":"IF(E10=\"\",\"\",①団体情報入力!C$10)","v":""},{"$f":"IF(②選手情報入力!C19=\"\",\"\",②選手情報入力!C19)","v":""},{"$f":"IF(E10=\"\",\"\",②選手情報入力!D19)","v":""},{"$f":"IF(E10=\"\",\"\",ASC(②選手情報入力!E19))","v":""},"",{"$f":"IF(E10=\"\",\"\",②選手情報入力!F19&\" \"&②選手情報入力!G19)","v":""},{"$f":"IF(E10=\"\",\"\",IF(②選手情報入力!H19=\"\",\"JPN\",LEFT(②選手情報入力!H19,3)))","v":""},{"$f":"IF(E10=\"\",\"\",IF(②選手情報入力!I19=\"男\",1,2))","v":""},{"$f":"IF(E10=\"\",\"\",IF(②選手情報入力!J19=\"\",\"\",②選手情報入力!J19))","v":""},{"$f":"IF(E10=\"\",\"\",LEFT(②選手情報入力!K19,4))","v":""},{"$f":"IF(E10=\"\",\"\",RIGHT(②選手情報入力!K19,4))","v":""},"",null,{"$f":"IF(E10=\"\",\"\",IF(②選手情報入力!L19=\"\",\"\",IF(K10=1,VLOOKUP(②選手情報入力!L19,種目情報!$A$4:$B$167,2,FALSE),VLOOKUP(②選手情報入力!L19,種目情報!$E$4:$F$142,2,FALSE))))","v":""},{"$f":"IF(E10=\"\",\"\",IF(②選手情報入力!M19=\"\",\"\",②選手情報入力!M19))","v":""},null,{"$f":"IF(E10=\"\",\"\",IF(②選手情報入力!L19=\"\",\"\",IF(K10=1,VLOOKUP(②選手情報入力!L19,種目情報!$A$4:$C$135,3,FALSE),VLOOKUP(②選手情報入力!L19,種目情報!$E$4:$G$135,3,FALSE))))","v":""},{"$f":"IF(E10=\"\",\"\",IF(②選手情報入力!O19=\"\",\"\",IF(K10=1,VLOOKUP(②選手情報入力!O19,種目情報!$A$5:$B$151,2,FALSE),VLOOKUP(②選手情報入力!O19,種目情報!$E$5:$F$135,2,FALSE))))","v":""},{"$f":"IF(E10=\"\",\"\",IF(②選手情報入力!P19=\"\",\"\",②選手情報入力!P19))","v":""},null,{"$f":"IF(E10=\"\",\"\",IF(②選手情報入力!O19=\"\",\"\",IF(K10=1,VLOOKUP(②選手情報入力!O19,種目情報!$A$5:$C$135,3,FALSE),VLOOKUP(②選手情報入力!O19,種目情報!$E$5:$G$135,3,FALSE))))","v":""},{"$f":"IF(E10=\"\",\"\",IF(②選手情報入力!R19=\"\",\"\",IF(K10=1,VLOOKUP(②選手情報入力!R19,種目情報!$A$5:$B$151,2,FALSE),VLOOKUP(②選手情報入力!R19,種目情報!$E$5:$F$135,2,FALSE))))","v":""},{"$f":"IF(E10=\"\",\"\",IF(②選手情報入力!S19=\"\",\"\",②選手情報入力!S19))","v":""},null,{"$f":"IF(E10=\"\",\"\",IF(②選手情報入力!R19=\"\",\"\",IF(K10=1,VLOOKUP(②選手情報入力!R19,種目情報!$A$5:$C$135,3,FALSE),VLOOKUP(②選手情報入力!R19,種目情報!$E$5:$G$135,3,FALSE))))","v":""},{"$f":"IF(E10=\"\",\"\",IF(②選手情報入力!T19=\"\",\"\",IF(K10=1,種目情報!$J$4,種目情報!$J$6)))","v":""},{"$f":"IF(E10=\"\",\"\",IF(②選手情報入力!T19=\"\",\"\",IF(K10=1,IF(②選手情報入力!$U$7=\"\",\"\",②選手情報入力!$U$7),IF(②選手情報入力!$U$8=\"\",\"\",②選手情報入力!$U$8))))","v":""},{"$f":"IF(E10=\"\",\"\",IF(②選手情報入力!T19=\"\",\"\",IF(K10=1,IF(②選手情報入力!$T$7=\"\",0,1),IF(②選手情報入力!$T$8=\"\",0,1))))","v":""},{"$f":"IF(E10=\"\",\"\",IF(②選手情報入力!T19=\"\",\"\",2))","v":""},{"$f":"IF(E10=\"\",\"\",IF(②選手情報入力!V19=\"\",\"\",IF(K10=1,種目情報!$J$5,種目情報!$J$7)))","v":""},{"$f":"IF(E10=\"\",\"\",IF(②選手情報入力!V19=\"\",\"\",IF(K10=1,IF(②選手情報入力!$W$7=\"\",\"\",②選手情報入力!$W$7),IF(②選手情報入力!$W$8=\"\",\"\",②選手情報入力!$W$8))))","v":""},{"$f":"IF(E10=\"\",\"\",IF(②選手情報入力!V19=\"\",\"\",IF(K10=1,IF(②選手情報入力!$V$7=\"\",0,1),IF(②選手情報入力!$V$8=\"\",0,1))))","v":""},{"$f":"IF(E10=\"\",\"\",IF(②選手情報入力!V19=\"\",\"\",2))","v":""}]
["",{"$f":"IF(E11=\"\",\"\",①団体情報入力!$C$5)","v":""},null,{"$f":"IF(E11=\"\",\"\",①団体情報入力!C$10)","v":""},{"$f":"IF(②選手情報入力!C20=\"\",\"\",②選手情報入力!C20)","v":""},{"$f":"IF(E11=\"\",\"\",②選手情報入力!D20)","v":""},{"$f":"IF(E11=\"\",\"\",ASC(②選手情報入力!E20))","v":""},"",{"$f":"IF(E11=\"\",\"\",②選手情報入力!F20&\" \"&②選手情報入力!G20)","v":""},{"$f":"IF(E11=\"\",\"\",IF(②選手情報入力!H20=\"\",\"JPN\",LEFT(②選手情報入力!H20,3)))","v":""},{"$f":"IF(E11=\"\",\"\",IF(②選手情報入力!I20=\"男\",1,2))","v":""},{"$f":"IF(E11=\"\",\"\",IF(②選手情報入力!J20=\"\",\"\",②選手情報入力!J20))","v":""},{"$f":"IF(E11=\"\",\"\",LEFT(②選手情報入力!K20,4))","v":""},{"$f":"IF(E11=\"\",\"\",RIGHT(②選手情報入力!K20,4))","v":""},"",null,{"$f":"IF(E11=\"\",\"\",IF(②選手情報入力!L20=\"\",\"\",IF(K11=1,VLOOKUP(②選手情報入力!L20,種目情報!$A$4:$B$167,2,FALSE),VLOOKUP(②選手情報入力!L20,種目情報!$E$4:$F$142,2,FALSE))))","v":""},{"$f":"IF(E11=\"\",\"\",IF(②選手情報入力!M20=\"\",\"\",②選手情報入力!M20))","v":""},null,{"$f":"IF(E11=\"\",\"\",IF(②選手情報入力!L20=\"\",\"\",IF(K11=1,VLOOKUP(②選手情報入力!L20,種目情報!$A$4:$C$135,3,FALSE),VLOOKUP(②選手情報入力!L20,種目情報!$E$4:$G$135,3,FALSE))))","v":""},{"$f":"IF(E11=\"\",\"\",IF(②選手情報入力!O20=\"\",\"\",IF(K11=1,VLOOKUP(②選手情報入力!O20,種目情報!$A$5:$B$151,2,FALSE),VLOOKUP(②選手情報入力!O20,種目情報!$E$5:$F$135,2,FALSE))))","v":""},{"$f":"IF(E11=\"\",\"\",IF(②選手情報入力!P20=\"\",\"\",②選手情報入力!P20))","v":""},null,{"$f":"IF(E11=\"\",\"\",IF(②選手情報入力!O20=\"\",\"\",IF(K11=1,VLOOKUP(②選手情報入力!O20,種目情報!$A$5:$C$135,3,FALSE),VLOOKUP(②選手情報入力!O20,種目情報!$E$5:$G$135,3,FALSE))))","v":""},{"$f":"IF(E11=\"\",\"\",IF(②選手情報入力!R20=\"\",\"\",IF(K11=1,VLOOKUP(②選手情報入力!R20,種目情報!$A$5:$B$151,2,FALSE),VLOOKUP(②選手情報入力!R20,種目情報!$E$5:$F$135,2,FALSE))))","v":""},{"$f":"IF(E11=\"\",\"\",IF(②選手情報入力!S20=\"\",\"\",②選手情報入力!S20))","v":""},null,{"$f":"IF(E11=\"\",\"\",IF(②選手情報入力!R20=\"\",\"\",IF(K11=1,VLOOKUP(②選手情報入力!R20,種目情報!$A$5:$C$135,3,FALSE),VLOOKUP(②選手情報入力!R20,種目情報!$E$5:$G$135,3,FALSE))))","v":""},{"$f":"IF(E11=\"\",\"\",IF(②選手情報入力!T20=\"\",\"\",IF(K11=1,種目情報!$J$4,種目情報!$J$6)))","v":""},{"$f":"IF(E11=\"\",\"\",IF(②選手情報入力!T20=\"\",\"\",IF(K11=1,IF(②選手情報入力!$U$7=\"\",\"\",②選手情報入力!$U$7),IF(②選手情報入力!$U$8=\"\",\"\",②選手情報入力!$U$8))))","v":""},{"$f":"IF(E11=\"\",\"\",IF(②選手情報入力!T20=\"\",\"\",IF(K11=1,IF(②選手情報入力!$T$7=\"\",0,1),IF(②選手情報入力!$T$8=\"\",0,1))))","v":""},{"$f":"IF(E11=\"\",\"\",IF(②選手情報入力!T20=\"\",\"\",2))","v":""},{"$f":"IF(E11=\"\",\"\",IF(②選手情報入力!V20=\"\",\"\",IF(K11=1,種目情報!$J$5,種目情報!$J$7)))","v":""},{"$f":"IF(E11=\"\",\"\",IF(②選手情報入力!V20=\"\",\"\",IF(K11=1,IF(②選手情報入力!$W$7=\"\",\"\",②選手情報入力!$W$7),IF(②選手情報入力!$W$8=\"\",\"\",②選手情報入力!$W$8))))","v":""},{"$f":"IF(E11=\"\",\"\",IF(②選手情報入力!V20=\"\",\"\",IF(K11=1,IF(②選手情報入力!$V$7=\"\",0,1),IF(②選手情報入力!$V$8=\"\",0,1))))","v":""},{"$f":"IF(E11=\"\",\"\",IF(②選手情報入力!V20=\"\",\"\",2))","v":""}]
["",{"$f":"IF(E12=\"\",\"\",①団体情報入力!$C$5)","v":""},null,{"$f":"IF(E12=\"\",\"\",①団体情報入力!C$10)","v":""},{"$f":"IF(②選手情報入力!C21=\"\",\"\",②選手情報入力!C21)","v":""},{"$f":"IF(E12=\"\",\"\",②選手情報入力!D21)","v":""},{"$f":"IF(E12=\"\",\"\",ASC(②選手情報入力!E21))","v":""},"",{"$f":"IF(E12=\"\",\"\",②選手情報入力!F21&\" \"&②選手情報入力!G21)","v":""},{"$f":"IF(E12=\"\",\"\",IF(②選手情報入力!H21=\"\",\"JPN\",LEFT(②選手情報入力!H21,3)))","v":""},{"$f":"IF(E12=\"\",\"\",IF(②選手情報入力!I21=\"男\",1,2))","v":""},{"$f":"IF(E12=\"\",\"\",IF(②選手情報入力!J21=\"\",\"\",②選手情報入力!J21))","v":""},{"$f":"IF(E12=\"\",\"\",LEFT(②選手情報入力!K21,4))","v":""},{"$f":"IF(E12=\"\",\"\",RIGHT(②選手情報入力!K21,4))","v":""},"",null,{"$f":"IF(E12=\"\",\"\",IF(②選手情報入力!L21=\"\",\"\",IF(K12=1,VLOOKUP(②選手情報入力!L21,種目情報!$A$4:$B$167,2,FALSE),VLOOKUP(②選手情報入力!L21,種目情報!$E$4:$F$142,2,FALSE))))","v":""},{"$f":"IF(E12=\"\",\"\",IF(②選手情報入力!M21=\"\",\"\",②選手情報入力!M21))","v":""},null,{"$f":"IF(E12=\"\",\"\",IF(②選手情報入力!L21=\"\",\"\",IF(K12=1,VLOOKUP(②選手情報入力!L21,種目情報!$A$4:$C$135,3,FALSE),VLOOKUP(②選手情報入力!L21,種目情報!$E$4:$G$135,3,FALSE))))","v":""},{"$f":"IF(E12=\"\",\"\",IF(②選手情報入力!O21=\"\",\"\",IF(K12=1,VLOOKUP(②選手情報入力!O21,種目情報!$A$5:$B$151,2,FALSE),VLOOKUP(②選手情報入力!O21,種目情報!$E$5:$F$135,2,FALSE))))","v":""},{"$f":"IF(E12=\"\",\"\",IF(②選手情報入力!P21=\"\",\"\",②選手情報入力!P21))","v":""},null,{"$f":"IF(E12=\"\",\"\",IF(②選手情報入力!O21=\"\",\"\",IF(K12=1,VLOOKUP(②選手情報入力!O21,種目情報!$A$5:$C$135,3,FALSE),VLOOKUP(②選手情報入力!O21,種目情報!$E$5:$G$135,3,FALSE))))","v":""},{"$f":"IF(E12=\"\",\"\",IF(②選手情報入力!R21=\"\",\"\",IF(K12=1,VLOOKUP(②選手情報入力!R21,種目情報!$A$5:$B$151,2,FALSE),VLOOKUP(②選手情報入力!R21,種目情報!$E$5:$F$135,2,FALSE))))","v":""},{"$f":"IF(E12=\"\",\"\",IF(②選手情報入力!S21=\"\",\"\",②選手情報入力!S21))","v":""},null,{"$f":"IF(E12=\"\",\"\",IF(②選手情報入力!R21=\"\",\"\",IF(K12=1,VLOOKUP(②選手情報入力!R21,種目情報!$A$5:$C$135,3,FALSE),VLOOKUP(②選手情報入力!R21,種目情報!$E$5:$G$135,3,FALSE))))","v":""},{"$f":"IF(E12=\"\",\"\",IF(②選手情報入力!T21=\"\",\"\",IF(K12=1,種目情報!$J$4,種目情報!$J$6)))","v":""},{"$f":"IF(E12=\"\",\"\",IF(②選手情報入力!T21=\"\",\"\",IF(K12=1,IF(②選手情報入力!$U$7=\"\",\"\",②選手情報入力!$U$7),IF(②選手情報入力!$U$8=\"\",\"\",②選手情報入力!$U$8))))","v":""},{"$f":"IF(E12=\"\",\"\",IF(②選手情報入力!T21=\"\",\"\",IF(K12=1,IF(②選手情報入力!$T$7=\"\",0,1),IF(②選手情報入力!$T$8=\"\",0,1))))","v":""},{"$f":"IF(E12=\"\",\"\",IF(②選手情報入力!T21=\"\",\"\",2))","v":""},{"$f":"IF(E12=\"\",\"\",IF(②選手情報入力!V21=\"\",\"\",IF(K12=1,種目情報!$J$5,種目情報!$J$7)))","v":""},{"$f":"IF(E12=\"\",\"\",IF(②選手情報入力!V21=\"\",\"\",IF(K12=1,IF(②選手情報入力!$W$7=\"\",\"\",②選手情報入力!$W$7),IF(②選手情報入力!$W$8=\"\",\"\",②選手情報入力!$W$8))))","v":""},{"$f":"IF(E12=\"\",\"\",IF(②選手情報入力!V21=\"\",\"\",IF(K12=1,IF(②選手情報入力!$V$7=\"\",0,1),IF(②選手情報入力!$V$8=\"\",0,1))))","v":""},{"$f":"IF(E12=\"\",\"\",IF(②選手情報入力!V21=\"\",\"\",2))","v":""}]
["",{"$f":"IF(E13=\"\",\"\",①団体情報入力!$C$5)","v":""},null,{"$f":"IF(E13=\"\",\"\",①団体情報入力!C$10)","v":""},{"$f":"IF(②選手情報入力!C22=\"\",\"\",②選手情報入力!C22)","v":""},{"$f":"IF(E13=\"\",\"\",②選手情報入力!D22)","v":""},{"$f":"IF(E13=\"\",\"\",ASC(②選手情報入力!E22))","v":""},"",{"$f":"IF(E13=\"\",\"\",②選手情報入力!F22&\" \"&②選手情報入力!G22)","v":""},{"$f":"IF(E13=\"\",\"\",IF(②選手情報入力!H22=\"\",\"JPN\",LEFT(②選手情報入力!H22,3)))","v":""},{"$f":"IF(E13=\"\",\"\",IF(②選手情報入力!I22=\"男\",1,2))","v":""},{"$f":"IF(E13=\"\",\"\",IF(②選手情報入力!J22=\"\",\"\",②選手情報入力!J22))","v":""},{"$f":"IF(E13=\"\",\"\",LEFT(②選手情報入力!K22,4))","v":""},{"$f":"IF(E13=\"\",\"\",RIGHT(②選手情報入力!K22,4))","v":""},"",null,{"$f":"IF(E13=\"\",\"\",IF(②選手情報入力!L22=\"\",\"\",IF(K13=1,VLOOKUP(②選手情報入力!L22,種目情報!$A$4:$B$167,2,FALSE),VLOOKUP(②選手情報入力!L22,種目情報!$E$4:$F$142,2,FALSE))))","v":""},{"$f":"IF(E13=\"\",\"\",IF(②選手情報入力!M22=\"\",\"\",②選手情報入力!M22))","v":""},null,{"$f":"IF(E13=\"\",\"\",IF(②選手情報入力!L22=\"\",\"\",IF(K13=1,VLOOKUP(②選手情報入力!L22,種目情報!$A$4:$C$135,3,FALSE),VLOOKUP(②選手情報入力!L22,種目情報!$E$4:$G$135,3,FALSE))))","v":""},{"$f":"IF(E13=\"\",\"\",IF(②選手情報入力!O22=\"\",\"\",IF(K13=1,VLOOKUP(②選手情報入力!O22,種目情報!$A$5:$B$151,2,FALSE),VLOOKUP(②選手情報入力!O22,種目情報!$E$5:$F$135,2,FALSE))))","v":""},{"$f":"IF(E13=\"\",\"\",IF(②選手情報入力!P22=\"\",\"\",②選手情報入力!P22))","v":""},null,{"$f":"IF(E13=\"\",\"\",IF(②選手情報入力!O22=\"\",\"\",IF(K13=1,VLOOKUP(②選手情報入力!O22,種目情報!$A$5:$C$135,3,FALSE),VLOOKUP(②選手情報入力!O22,種目情報!$E$5:$G$135,3,FALSE))))","v":""},{"$f":"IF(E13=\"\",\"\",IF(②選手情報入力!R22=\"\",\"\",IF(K13=1,VLOOKUP(②選手情報入力!R22,種目情報!$A$5:$B$151,2,FALSE),VLOOKUP(②選手情報入力!R22,種目情報!$E$5:$F$135,2,FALSE))))","v":""},{"$f":"IF(E13=\"\",\"\",IF(②選手情報入力!S22=\"\",\"\",②選手情報入力!S22))","v":""},null,{"$f":"IF(E13=\"\",\"\",IF(②選手情報入力!R22=\"\",\"\",IF(K13=1,VLOOKUP(②選手情報入力!R22,種目情報!$A$5:$C$135,3,FALSE),VLOOKUP(②選手情報入力!R22,種目情報!$E$5:$G$135,3,FALSE))))","v":""},{"$f":"IF(E13=\"\",\"\",IF(②選手情報入力!T22=\"\",\"\",IF(K13=1,種目情報!$J$4,種目情報!$J$6)))","v":""},{"$f":"IF(E13=\"\",\"\",IF(②選手情報入力!T22=\"\",\"\",IF(K13=1,IF(②選手情報入力!$U$7=\"\",\"\",②選手情報入力!$U$7),IF(②選手情報入力!$U$8=\"\",\"\",②選手情報入力!$U$8))))","v":""},{"$f":"IF(E13=\"\",\"\",IF(②選手情報入力!T22=\"\",\"\",IF(K13=1,IF(②選手情報入力!$T$7=\"\",0,1),IF(②選手情報入力!$T$8=\"\",0,1))))","v":""},{"$f":"IF(E13=\"\",\"\",IF(②選手情報入力!T22=\"\",\"\",2))","v":""},{"$f":"IF(E13=\"\",\"\",IF(②選手情報入力!V22=\"\",\"\",IF(K13=1,種目情報!$J$5,種目情報!$J$7)))","v":""},{"$f":"IF(E13=\"\",\"\",IF(②選手情報入力!V22=\"\",\"\",IF(K13=1,IF(②選手情報入力!$W$7=\"\",\"\",②選手情報入力!$W$7),IF(②選手情報入力!$W$8=\"\",\"\",②選手情報入力!$W$8))))","v":""},{"$f":"IF(E13=\"\",\"\",IF(②選手情報入力!V22=\"\",\"\",IF(K13=1,IF(②選手情報入力!$V$7=\"\",0,1),IF(②選手情報入力!$V$8=\"\",0,1))))","v":""},{"$f":"IF(E13=\"\",\"\",IF(②選手情報入力!V22=\"\",\"\",2))","v":""}]
["",{"$f":"IF(E14=\"\",\"\",①団体情報入力!$C$5)","v":""},null,{"$f":"IF(E14=\"\",\"\",①団体情報入力!C$10)","v":""},{"$f":"IF(②選手情報入力!C23=\"\",\"\",②選手情報入力!C23)","v":""},{"$f":"IF(E14=\"\",\"\",②選手情報入力!D23)","v":""},{"$f":"IF(E14=\"\",\"\",ASC(②選手情報入力!E23))","v":""},"",{"$f":"IF(E14=\"\",\"\",②選手情報入力!F23&\" \"&②選手情報入力!G23)","v":""},{"$f":"IF(E14=\"\",\"\",IF(②選手情報入力!H23=\"\",\"JPN\",LEFT(②選手情報入力!H23,3)))","v":""},{"$f":"IF(E14=\"\",\"\",IF(②選手情報入力!I23=\"男\",1,2))","v":""},{"$f":"IF(E14=\"\",\"\",IF(②選手情報入力!J23=\"\",\"\",②選手情報入力!J23))","v":""},{"$f":"IF(E14=\"\",\"\",LEFT(②選手情報入力!K23,4))","v":""},{"$f":"IF(E14=\"\",\"\",RIGHT(②選手情報入力!K23,4))","v":""},"",null,{"$f":"IF(E14=\"\",\"\",IF(②選手情報入力!L23=\"\",\"\",IF(K14=1,VLOOKUP(②選手情報入力!L23,種目情報!$A$4:$B$167,2,FALSE),VLOOKUP(②選手情報入力!L23,種目情報!$E$4:$F$142,2,FALSE))))","v":""},{"$f":"IF(E14=\"\",\"\",IF(②選手情報入力!M23=\"\",\"\",②選手情報入力!M23))","v":""},null,{"$f":"IF(E14=\"\",\"\",IF(②選手情報入力!L23=\"\",\"\",IF(K14=1,VLOOKUP(②選手情報入力!L23,種目情報!$A$4:$C$135,3,FALSE),VLOOKUP(②選手情報入力!L23,種目情報!$E$4:$G$135,3,FALSE))))","v":""},{"$f":"IF(E14=\"\",\"\",IF(②選手情報入力!O23=\"\",\"\",IF(K14=1,VLOOKUP(②選手情報入力!O23,種目情報!$A$5:$B$151,2,FALSE),VLOOKUP(②選手情報入力!O23,種目情報!$E$5:$F$135,2,FALSE))))","v":""},{"$f":"IF(E14=\"\",\"\",IF(②選手情報入力!P23=\"\",\"\",②選手情報入力!P23))","v":""},null,{"$f":"IF(E14=\"\",\"\",IF(②選手情報入力!O23=\"\",\"\",IF(K14=1,VLOOKUP(②選手情報入力!O23,種目情報!$A$5:$C$135,3,FALSE),VLOOKUP(②選手情報入力!O23,種目情報!$E$5:$G$135,3,FALSE))))","v":""},{"$f":"IF(E14=\"\",\"\",IF(②選手情報入力!R23=\"\",\"\",IF(K14=1,VLOOKUP(②選手情報入力!R23,種目情報!$A$5:$B$151,2,FALSE),VLOOKUP(②選手情報入力!R23,種目情報!$E$5:$F$135,2,FALSE))))","v":""},{"$f":"IF(E14=\"\",\"\",IF(②選手情報入力!S23=\"\",\"\",②選手情報入力!S23))","v":""},null,{"$f":"IF(E14=\"\",\"\",IF(②選手情報入力!R23=\"\",\"\",IF(K14=1,VLOOKUP(②選手情報入力!R23,種目情報!$A$5:$C$135,3,FALSE),VLOOKUP(②選手情報入力!R23,種目情報!$E$5:$G$135,3,FALSE))))","v":""},{"$f":"IF(E14=\"\",\"\",IF(②選手情報入力!T23=\"\",\"\",IF(K14=1,種目情報!$J$4,種目情報!$J$6)))","v":""},{"$f":"IF(E14=\"\",\"\",IF(②選手情報入力!T23=\"\",\"\",IF(K14=1,IF(②選手情報入力!$U$7=\"\",\"\",②選手情報入力!$U$7),IF(②選手情報入力!$U$8=\"\",\"\",②選手情報入力!$U$8))))","v":""},{"$f":"IF(E14=\"\",\"\",IF(②選手情報入力!T23=\"\",\"\",IF(K14=1,IF(②選手情報入力!$T$7=\"\",0,1),IF(②選手情報入力!$T$8=\"\",0,1))))","v":""},{"$f":"IF(E14=\"\",\"\",IF(②選手情報入力!T23=\"\",\"\",2))","v":""},{"$f":"IF(E14=\"\",\"\",IF(②選手情報入力!V23=\"\",\"\",IF(K14=1,種目情報!$J$5,種目情報!$J$7)))","v":""},{"$f":"IF(E14=\"\",\"\",IF(②選手情報入力!V23=\"\",\"\",IF(K14=1,IF(②選手情報入力!$W$7=\"\",\"\",②選手情報入力!$W$7),IF(②選手情報入力!$W$8=\"\",\"\",②選手情報入力!$W$8))))","v":""},{"$f":"IF(E14=\"\",\"\",IF(②選手情報入力!V23=\"\",\"\",IF(K14=1,IF(②選手情報入力!$V$7=\"\",0,1),IF(②選手情報入力!$V$8=\"\",0,1))))","v":""},{"$f":"IF(E14=\"\",\"\",IF(②選手情報入力!V23=\"\",\"\",2))","v":""}]
["",{"$f":"IF(E15=\"\",\"\",①団体情報入力!$C$5)","v":""},null,{"$f":"IF(E15=\"\",\"\",①団体情報入力!C$10)","v":""},{"$f":"IF(②選手情報入力!C24=\"\",\"\",②選手情報入力!C24)","v":""},{"$f":"IF(E15=\"\",\"\",②選手情報入力!D24)","v":""},{"$f":"IF(E15=\"\",\"\",ASC(②選手情報入力!E24))","v":""},"",{"$f":"IF(E15=\"\",\"\",②選手情報入力!F24&\" \"&②選手情報入力!G24)","v":""},{"$f":"IF(E15=\"\",\"\",IF(②選手情報入力!H24=\"\",\"JPN\",LEFT(②選手情報入力!H24,3)))","v":""},{"$f":"IF(E15=\"\",\"\",IF(②選手情報入力!I24=\"男\",1,2))","v":""},{"$f":"IF(E15=\"\",\"\",IF(②選手情報入力!J24=\"\",\"\",②選手情報入力!J24))","v":""},{"$f":"IF(E15=\"\",\"\",LEFT(②選手情報入力!K24,4))","v":""},{"$f":"IF(E15=\"\",\"\",RIGHT(②選手情報入力!K24,4))","v":""},"",null,{"$f":"IF(E15=\"\",\"\",IF(②選手情報入力!L24=\"\",\"\",IF(K15=1,VLOOKUP(②選手情報入力!L24,種目情報!$A$4:$B$167,2,FALSE),VLOOKUP(②選手情報入力!L24,種目情報!$E$4:$F$142,2,FALSE))))","v":""},{"$f":"IF(E15=\"\",\"\",IF(②選手情報入力!M24=\"\",\"\",②選手情報入力!M24))","v":""},null,{"$f":"IF(E15=\"\",\"\",IF(②選手情報入力!L24=\"\",\"\",IF(K15=1,VLOOKUP(②選手情報入力!L24,種目情報!$A$4:$C$135,3,FALSE),VLOOKUP(②選手情報入力!L24,種目情報!$E$4:$G$135,3,FALSE))))","v":""},{"$f":"IF(E15=\"\",\"\",IF(②選手情報入力!O24=\"\",\"\",IF(K15=1,VLOOKUP(②選手情報入力!O24,種目情報!$A$5:$B$151,2,FALSE),VLOOKUP(②選手情報入力!O24,種目情報!$E$5:$F$135,2,FALSE))))","v":""},{"$f":"IF(E15=\"\",\"\",IF(②選手情報入力!P24=\"\",\"\",②選手情報入力!P24))","v":""},null,{"$f":"IF(E15=\"\",\"\",IF(②選手情報入力!O24=\"\",\"\",IF(K15=1,VLOOKUP(②選手情報入力!O24,種目情報!$A$5:$C$135,3,FALSE),VLOOKUP(②選手情報入力!O24,種目情報!$E$5:$G$135,3,FALSE))))","v":""},{"$f":"IF(E15=\"\",\"\",IF(②選手情報入力!R24=\"\",\"\",IF(K15=1,VLOOKUP(②選手情報入力!R24,種目情報!$A$5:$B$151,2,FALSE),VLOOKUP(②選手情報入力!R24,種目情報!$E$5:$F$135,2,FALSE))))","v":""},{"$f":"IF(E15=\"\",\"\",IF(②選手情報入力!S24=\"\",\"\",②選手情報入力!S24))","v":""},null,{"$f":"IF(E15=\"\",\"\",IF(②選手情報入力!R24=\"\",\"\",IF(K15=1,VLOOKUP(②選手情報入力!R24,種目情報!$A$5:$C$135,3,FALSE),VLOOKUP(②選手情報入力!R24,種目情報!$E$5:$G$135,3,FALSE))))","v":""},{"$f":"IF(E15=\"\",\"\",IF(②選手情報入力!T24=\"\",\"\",IF(K15=1,種目情報!$J$4,種目情報!$J$6)))","v":""},{"$f":"IF(E15=\"\",\"\",IF(②選手情報入力!T24=\"\",\"\",IF(K15=1,IF(②選手情報入力!$U$7=\"\",\"\",②選手情報入力!$U$7),IF(②選手情報入力!$U$8=\"\",\"\",②選手情報入力!$U$8))))","v":""},{"$f":"IF(E15=\"\",\"\",IF(②選手情報入力!T24=\"\",\"\",IF(K15=1,IF(②選手情報入力!$T$7=\"\",0,1),IF(②選手情報入力!$T$8=\"\",0,1))))","v":""},{"$f":"IF(E15=\"\",\"\",IF(②選手情報入力!T24=\"\",\"\",2))","v":""},{"$f":"IF(E15=\"\",\"\",IF(②選手情報入力!V24=\"\",\"\",IF(K15=1,種目情報!$J$5,種目情報!$J$7)))","v":""},{"$f":"IF(E15=\"\",\"\",IF(②選手情報入力!V24=\"\",\"\",IF(K15=1,IF(②選手情報入力!$W$7=\"\",\"\",②選手情報入力!$W$7),IF(②選手情報入力!$W$8=\"\",\"\",②選手情報入力!$W$8))))","v":""},{"$f":"IF(E15=\"\",\"\",IF(②選手情報入力!V24=\"\",\"\",IF(K15=1,IF(②選手情報入力!$V$7=\"\",0,1),IF(②選手情報入力!$V$8=\"\",0,1))))","v":""},{"$f":"IF(E15=\"\",\"\",IF(②選手情報入力!V24=\"\",\"\",2))","v":""}]
["",{"$f":"IF(E16=\"\",\"\",①団体情報入力!$C$5)","v":""},null,{"$f":"IF(E16=\"\",\"\",①団体情報入力!C$10)","v":""},{"$f":"IF(②選手情報入力!C25=\"\",\"\",②選手情報入力!C25)","v":""},{"$f":"IF(E16=\"\",\"\",②選手情報入力!D25)","v":""},{"$f":"IF(E16=\"\",\"\",ASC(②選手情報入力!E25))","v":""},"",{"$f":"IF(E16=\"\",\"\",②選手情報入力!F25&\" \"&②選手情報入力!G25)","v":""},{"$f":"IF(E16=\"\",\"\",IF(②選手情報入力!H25=\"\",\"JPN\",LEFT(②選手情報入力!H25,3)))","v":""},{"$f":"IF(E16=\"\",\"\",IF(②選手情報入力!I25=\"男\",1,2))","v":""},{"$f":"IF(E16=\"\",\"\",IF(②選手情報入力!J25=\"\",\"\",②選手情報入力!J25))","v":""},{"$f":"IF(E16=\"\",\"\",LEFT(②選手情報入力!K25,4))","v":""},{"$f":"IF(E16=\"\",\"\",RIGHT(②選手情報入力!K25,4))","v":""},"",null,{"$f":"IF(E16=\"\",\"\",IF(②選手情報入力!L25=\"\",\"\",IF(K16=1,VLOOKUP(②選手情報入力!L25,種目情報!$A$4:$B$167,2,FALSE),VLOOKUP(②選手情報入力!L25,種目情報!$E$4:$F$142,2,FALSE))))","v":""},{"$f":"IF(E16=\"\",\"\",IF(②選手情報入力!M25=\"\",\"\",②選手情報入力!M25))","v":""},null,{"$f":"IF(E16=\"\",\"\",IF(②選手情報入力!L25=\"\",\"\",IF(K16=1,VLOOKUP(②選手情報入力!L25,種目情報!$A$4:$C$135,3,FALSE),VLOOKUP(②選手情報入力!L25,種目情報!$E$4:$G$135,3,FALSE))))","v":""},{"$f":"IF(E16=\"\",\"\",IF(②選手情報入力!O25=\"\",\"\",IF(K16=1,VLOOKUP(②選手情報入力!O25,種目情報!$A$5:$B$151,2,FALSE),VLOOKUP(②選手情報入力!O25,種目情報!$E$5:$F$135,2,FALSE))))","v":""},{"$f":"IF(E16=\"\",\"\",IF(②選手情報入力!P25=\"\",\"\",②選手情報入力!P25))","v":""},null,{"$f":"IF(E16=\"\",\"\",IF(②選手情報入力!O25=\"\",\"\",IF(K16=1,VLOOKUP(②選手情報入力!O25,種目情報!$A$5:$C$135,3,FALSE),VLOOKUP(②選手情報入力!O25,種目情報!$E$5:$G$135,3,FALSE))))","v":""},{"$f":"IF(E16=\"\",\"\",IF(②選手情報入力!R25=\"\",\"\",IF(K16=1,VLOOKUP(②選手情報入力!R25,種目情報!$A$5:$B$151,2,FALSE),VLOOKUP(②選手情報入力!R25,種目情報!$E$5:$F$135,2,FALSE))))","v":""},{"$f":"IF(E16=\"\",\"\",IF(②選手情報入力!S25=\"\",\"\",②選手情報入力!S25))","v":""},null,{"$f":"IF(E16=\"\",\"\",IF(②選手情報入力!R25=\"\",\"\",IF(K16=1,VLOOKUP(②選手情報入力!R25,種目情報!$A$5:$C$135,3,FALSE),VLOOKUP(②選手情報入力!R25,種目情報!$E$5:$G$135,3,FALSE))))","v":""},{"$f":"IF(E16=\"\",\"\",IF(②選手情報入力!T25=\"\",\"\",IF(K16=1,種目情報!$J$4,種目情報!$J$6)))","v":""},{"$f":"IF(E16=\"\",\"\",IF(②選手情報入力!T25=\"\",\"\",IF(K16=1,IF(②選手情報入力!$U$7=\"\",\"\",②選手情報入力!$U$7),IF(②選手情報入力!$U$8=\"\",\"\",②選手情報入力!$U$8))))","v":""},{"$f":"IF(E16=\"\",\"\",IF(②選手情報入力!T25=\"\",\"\",IF(K16=1,IF(②選手情報入力!$T$7=\"\",0,1),IF(②選手情報入力!$T$8=\"\",0,1))))","v":""},{"$f":"IF(E16=\"\",\"\",IF(②選手情報入力!T25=\"\",\"\",2))","v":""},{"$f":"IF(E16=\"\",\"\",IF(②選手情報入力!V25=\"\",\"\",IF(K16=1,種目情報!$J$5,種目情報!$J$7)))","v":""},{"$f":"IF(E16=\"\",\"\",IF(②選手情報入力!V25=\"\",\"\",IF(K16=1,IF(②選手情報入力!$W$7=\"\",\"\",②選手情報入力!$W$7),IF(②選手情報入力!$W$8=\"\",\"\",②選手情報入力!$W$8))))","v":""},{"$f":"IF(E16=\"\",\"\",IF(②選手情報入力!V25=\"\",\"\",IF(K16=1,IF(②選手情報入力!$V$7=\"\",0,1),IF(②選手情報入力!$V$8=\"\",0,1))))","v":""},{"$f":"IF(E16=\"\",\"\",IF(②選手情報入力!V25=\"\",\"\",2))","v":""}]
["",{"$f":"IF(E17=\"\",\"\",①団体情報入力!$C$5)","v":""},null,{"$f":"IF(E17=\"\",\"\",①団体情報入力!C$10)","v":""},{"$f":"IF(②選手情報入力!C26=\"\",\"\",②選手情報入力!C26)","v":""},{"$f":"IF(E17=\"\",\"\",②選手情報入力!D26)","v":""},{"$f":"IF(E17=\"\",\"\",ASC(②選手情報入力!E26))","v":""},"",{"$f":"IF(E17=\"\",\"\",②選手情報入力!F26&\" \"&②選手情報入力!G26)","v":""},{"$f":"IF(E17=\"\",\"\",IF(②選手情報入力!H26=\"\",\"JPN\",LEFT(②選手情報入力!H26,3)))","v":""},{"$f":"IF(E17=\"\",\"\",IF(②選手情報入力!I26=\"男\",1,2))","v":""},{"$f":"IF(E17=\"\",\"\",IF(②選手情報入力!J26=\"\",\"\",②選手情報入力!J26))","v":""},{"$f":"IF(E17=\"\",\"\",LEFT(②選手情報入力!K26,4))","v":""},{"$f":"IF(E17=\"\",\"\",RIGHT(②選手情報入力!K26,4))","v":""},"",null,{"$f":"IF(E17=\"\",\"\",IF(②選手情報入力!L26=\"\",\"\",IF(K17=1,VLOOKUP(②選手情報入力!L26,種目情報!$A$4:$B$167,2,FALSE),VLOOKUP(②選手情報入力!L26,種目情報!$E$4:$F$142,2,FALSE))))","v":""},{"$f":"IF(E17=\"\",\"\",IF(②選手情報入力!M26=\"\",\"\",②選手情報入力!M26))","v":""},null,{"$f":"IF(E17=\"\",\"\",IF(②選手情報入力!L26=\"\",\"\",IF(K17=1,VLOOKUP(②選手情報入力!L26,種目情報!$A$4:$C$135,3,FALSE),VLOOKUP(②選手情報入力!L26,種目情報!$E$4:$G$135,3,FALSE))))","v":""},{"$f":"IF(E17=\"\",\"\",IF(②選手情報入力!O26=\"\",\"\",IF(K17=1,VLOOKUP(②選手情報入力!O26,種目情報!$A$5:$B$151,2,FALSE),VLOOKUP(②選手情報入力!O26,種目情報!$E$5:$F$135,2,FALSE))))","v":""},{"$f":"IF(E17=\"\",\"\",IF(②選手情報入力!P26=\"\",\"\",②選手情報入力!P26))","v":""},null,{"$f":"IF(E17=\"\",\"\",IF(②選手情報入力!O26=\"\",\"\",IF(K17=1,VLOOKUP(②選手情報入力!O26,種目情報!$A$5:$C$135,3,FALSE),VLOOKUP(②選手情報入力!O26,種目情報!$E$5:$G$135,3,FALSE))))","v":""},{"$f":"IF(E17=\"\",\"\",IF(②選手情報入力!R26=\"\",\"\",IF(K17=1,VLOOKUP(②選手情報入力!R26,種目情報!$A$5:$B$151,2,FALSE),VLOOKUP(②選手情報入力!R26,種目情報!$E$5:$F$135,2,FALSE))))","v":""},{"$f":"IF(E17=\"\",\"\",IF(②選手情報入力!S26=\"\",\"\",②選手情報入力!S26))","v":""},null,{"$f":"IF(E17=\"\",\"\",IF(②選手情報入力!R26=\"\",\"\",IF(K17=1,VLOOKUP(②選手情報入力!R26,種目情報!$A$5:$C$135,3,FALSE),VLOOKUP(②選手情報入力!R26,種目情報!$E$5:$G$135,3,FALSE))))","v":""},{"$f":"IF(E17=\"\",\"\",IF(②選手情報入力!T26=\"\",\"\",IF(K17=1,種目情報!$J$4,種目情報!$J$6)))","v":""},{"$f":"IF(E17=\"\",\"\",IF(②選手情報入力!T26=\"\",\"\",IF(K17=1,IF(②選手情報入力!$U$7=\"\",\"\",②選手情報入力!$U$7),IF(②選手情報入力!$U$8=\"\",\"\",②選手情報入力!$U$8))))","v":""},{"$f":"IF(E17=\"\",\"\",IF(②選手情報入力!T26=\"\",\"\",IF(K17=1,IF(②選手情報入力!$T$7=\"\",0,1),IF(②選手情報入力!$T$8=\"\",0,1))))","v":""},{"$f":"IF(E17=\"\",\"\",IF(②選手情報入力!T26=\"\",\"\",2))","v":""},{"$f":"IF(E17=\"\",\"\",IF(②選手情報入力!V26=\"\",\"\",IF(K17=1,種目情報!$J$5,種目情報!$J$7)))","v":""},{"$f":"IF(E17=\"\",\"\",IF(②選手情報入力!V26=\"\",\"\",IF(K17=1,IF(②選手情報入力!$W$7=\"\",\"\",②選手情報入力!$W$7),IF(②選手情報入力!$W$8=\"\",\"\",②選手情報入力!$W$8))))","v":""},{"$f":"IF(E17=\"\",\"\",IF(②選手情報入力!V26=\"\",\"\",IF(K17=1,IF(②選手情報入力!$V$7=\"\",0,1),IF(②選手情報入力!$V$8=\"\",0,1))))","v":""},{"$f":"IF(E17=\"\",\"\",IF(②選手情報入力!V26=\"\",\"\",2))","v":""}]
["",{"$f":"IF(E18=\"\",\"\",①団体情報入力!$C$5)","v":""},null,{"$f":"IF(E18=\"\",\"\",①団体情報入力!C$10)","v":""},{"$f":"IF(②選手情報入力!C27=\"\",\"\",②選手情報入力!C27)","v":""},{"$f":"IF(E18=\"\",\"\",②選手情報入力!D27)","v":""},{"$f":"IF(E18=\"\",\"\",ASC(②選手情報入力!E27))","v":""},"",{"$f":"IF(E18=\"\",\"\",②選手情報入力!F27&\" \"&②選手情報入力!G27)","v":""},{"$f":"IF(E18=\"\",\"\",IF(②選手情報入力!H27=\"\",\"JPN\",LEFT(②選手情報入力!H27,3)))","v":""},{"$f":"IF(E18=\"\",\"\",IF(②選手情報入力!I27=\"男\",1,2))","v":""},{"$f":"IF(E18=\"\",\"\",IF(②選手情報入力!J27=\"\",\"\",②選手情報入力!J27))","v":""},{"$f":"IF(E18=\"\",\"\",LEFT(②選手情報入力!K27,4))","v":""},{"$f":"IF(E18=\"\",\"\",RIGHT(②選手情報入力!K27,4))","v":""},"",null,{"$f":"IF(E18=\"\",\"\",IF(②選手情報入力!L27=\"\",\"\",IF(K18=1,VLOOKUP(②選手情報入力!L27,種目情報!$A$4:$B$167,2,FALSE),VLOOKUP(②選手情報入力!L27,種目情報!$E$4:$F$142,2,FALSE))))","v":""},{"$f":"IF(E18=\"\",\"\",IF(②選手情報入力!M27=\"\",\"\",②選手情報入力!M27))","v":""},null,{"$f":"IF(E18=\"\",\"\",IF(②選手情報入力!L27=\"\",\"\",IF(K18=1,VLOOKUP(②選手情報入力!L27,種目情報!$A$4:$C$135,3,FALSE),VLOOKUP(②選手情報入力!L27,種目情報!$E$4:$G$135,3,FALSE))))","v":""},{"$f":"IF(E18=\"\",\"\",IF(②選手情報入力!O27=\"\",\"\",IF(K18=1,VLOOKUP(②選手情報入力!O27,種目情報!$A$5:$B$151,2,FALSE),VLOOKUP(②選手情報入力!O27,種目情報!$E$5:$F$135,2,FALSE))))","v":""},{"$f":"IF(E18=\"\",\"\",IF(②選手情報入力!P27=\"\",\"\",②選手情報入力!P27))","v":""},null,{"$f":"IF(E18=\"\",\"\",IF(②選手情報入力!O27=\"\",\"\",IF(K18=1,VLOOKUP(②選手情報入力!O27,種目情報!$A$5:$C$135,3,FALSE),VLOOKUP(②選手情報入力!O27,種目情報!$E$5:$G$135,3,FALSE))))","v":""},{"$f":"IF(E18=\"\",\"\",IF(②選手情報入力!R27=\"\",\"\",IF(K18=1,VLOOKUP(②選手情報入力!R27,種目情報!$A$5:$B$151,2,FALSE),VLOOKUP(②選手情報入力!R27,種目情報!$E$5:$F$135,2,FALSE))))","v":""},{"$f":"IF(E18=\"\",\"\",IF(②選手情報入力!S27=\"\",\"\",②選手情報入力!S27))","v":""},null,{"$f":"IF(E18=\"\",\"\",IF(②選手情報入力!R27=\"\",\"\",IF(K18=1,VLOOKUP(②選手情報入力!R27,種目情報!$A$5:$C$135,3,FALSE),VLOOKUP(②選手情報入力!R27,種目情報!$E$5:$G$135,3,FALSE))))","v":""},{"$f":"IF(E18=\"\",\"\",IF(②選手情報入力!T27=\"\",\"\",IF(K18=1,種目情報!$J$4,種目情報!$J$6)))","v":""},{"$f":"IF(E18=\"\",\"\",IF(②選手情報入力!T27=\"\",\"\",IF(K18=1,IF(②選手情報入力!$U$7=\"\",\"\",②選手情報入力!$U$7),IF(②選手情報入力!$U$8=\"\",\"\",②選手情報入力!$U$8))))","v":""},{"$f":"IF(E18=\"\",\"\",IF(②選手情報入力!T27=\"\",\"\",IF(K18=1,IF(②選手情報入力!$T$7=\"\",0,1),IF(②選手情報入力!$T$8=\"\",0,1))))","v":""},{"$f":"IF(E18=\"\",\"\",IF(②選手情報入力!T27=\"\",\"\",2))","v":""},{"$f":"IF(E18=\"\",\"\",IF(②選手情報入力!V27=\"\",\"\",IF(K18=1,種目情報!$J$5,種目情報!$J$7)))","v":""},{"$f":"IF(E18=\"\",\"\",IF(②選手情報入力!V27=\"\",\"\",IF(K18=1,IF(②選手情報入力!$W$7=\"\",\"\",②選手情報入力!$W$7),IF(②選手情報入力!$W$8=\"\",\"\",②選手情報入力!$W$8))))","v":""},{"$f":"IF(E18=\"\",\"\",IF(②選手情報入力!V27=\"\",\"\",IF(K18=1,IF(②選手情報入力!$V$7=\"\",0,1),IF(②選手情報入力!$V$8=\"\",0,1))))","v":""},{"$f":"IF(E18=\"\",\"\",IF(②選手情報入力!V27=\"\",\"\",2))","v":""}]
["",{"$f":"IF(E19=\"\",\"\",①団体情報入力!$C$5)","v":""},null,{"$f":"IF(E19=\"\",\"\",①団体情報入力!C$10)","v":""},{"$f":"IF(②選手情報入力!C28=\"\",\"\",②選手情報入力!C28)","v":""},{"$f":"IF(E19=\"\",\"\",②選手情報入力!D28)","v":""},{"$f":"IF(E19=\"\",\"\",ASC(②選手情報入力!E28))","v":""},"",{"$f":"IF(E19=\"\",\"\",②選手情報入力!F28&\" \"&②選手情報入力!G28)","v":""},{"$f":"IF(E19=\"\",\"\",IF(②選手情報入力!H28=\"\",\"JPN\",LEFT(②選手情報入力!H28,3)))","v":""},{"$f":"IF(E19=\"\",\"\",IF(②選手情報入力!I28=\"男\",1,2))","v":""},{"$f":"IF(E19=\"\",\"\",IF(②選手情報入力!J28=\"\",\"\",②選手情報入力!J28))","v":""},{"$f":"IF(E19=\"\",\"\",LEFT(②選手情報入力!K28,4))","v":""},{"$f":"IF(E19=\"\",\"\",RIGHT(②選手情報入力!K28,4))","v":""},"",null,{"$f":"IF(E19=\"\",\"\",IF(②選手情報入力!L28=\"\",\"\",IF(K19=1,VLOOKUP(②選手情報入力!L28,種目情報!$A$4:$B$167,2,FALSE),VLOOKUP(②選手情報入力!L28,種目情報!$E$4:$F$142,2,FALSE))))","v":""},{"$f":"IF(E19=\"\",\"\",IF(②選手情報入力!M28=\"\",\"\",②選手情報入力!M28))","v":""},null,{"$f":"IF(E19=\"\",\"\",IF(②選手情報入力!L28=\"\",\"\",IF(K19=1,VLOOKUP(②選手情報入力!L28,種目情報!$A$4:$C$135,3,FALSE),VLOOKUP(②選手情報入力!L28,種目情報!$E$4:$G$135,3,FALSE))))","v":""},{"$f":"IF(E19=\"\",\"\",IF(②選手情報入力!O28=\"\",\"\",IF(K19=1,VLOOKUP(②選手情報入力!O28,種目情報!$A$5:$B$151,2,FALSE),VLOOKUP(②選手情報入力!O28,種目情報!$E$5:$F$135,2,FALSE))))","v":""},{"$f":"IF(E19=\"\",\"\",IF(②選手情報入力!P28=\"\",\"\",②選手情報入力!P28))","v":""},null,{"$f":"IF(E19=\"\",\"\",IF(②選手情報入力!O28=\"\",\"\",IF(K19=1,VLOOKUP(②選手情報入力!O28,種目情報!$A$5:$C$135,3,FALSE),VLOOKUP(②選手情報入力!O28,種目情報!$E$5:$G$135,3,FALSE))))","v":""},{"$f":"IF(E19=\"\",\"\",IF(②選手情報入力!R28=\"\",\"\",IF(K19=1,VLOOKUP(②選手情報入力!R28,種目情報!$A$5:$B$151,2,FALSE),VLOOKUP(②選手情報入力!R28,種目情報!$E$5:$F$135,2,FALSE))))","v":""},{"$f":"IF(E19=\"\",\"\",IF(②選手情報入力!S28=\"\",\"\",②選手情報入力!S28))","v":""},null,{"$f":"IF(E19=\"\",\"\",IF(②選手情報入力!R28=\"\",\"\",IF(K19=1,VLOOKUP(②選手情報入力!R28,種目情報!$A$5:$C$135,3,FALSE),VLOOKUP(②選手情報入力!R28,種目情報!$E$5:$G$135,3,FALSE))))","v":""},{"$f":"IF(E19=\"\",\"\",IF(②選手情報入力!T28=\"\",\"\",IF(K19=1,種目情報!$J$4,種目情報!$J$6)))","v":""},{"$f":"IF(E19=\"\",\"\",IF(②選手情報入力!T28=\"\",\"\",IF(K19=1,IF(②選手情報入力!$U$7=\"\",\"\",②選手情報入力!$U$7),IF(②選手情報入力!$U$8=\"\",\"\",②選手情報入力!$U$8))))","v":""},{"$f":"IF(E19=\"\",\"\",IF(②選手情報入力!T28=\"\",\"\",IF(K19=1,IF(②選手情報入力!$T$7=\"\",0,1),IF(②選手情報入力!$T$8=\"\",0,1))))","v":""},{"$f":"IF(E19=\"\",\"\",IF(②選手情報入力!T28=\"\",\"\",2))","v":""},{"$f":"IF(E19=\"\",\"\",IF(②選手情報入力!V28=\"\",\"\",IF(K19=1,種目情報!$J$5,種目情報!$J$7)))","v":""},{"$f":"IF(E19=\"\",\"\",IF(②選手情報入力!V28=\"\",\"\",IF(K19=1,IF(②選手情報入力!$W$7=\"\",\"\",②選手情報入力!$W$7),IF(②選手情報入力!$W$8=\"\",\"\",②選手情報入力!$W$8))))","v":""},{"$f":"IF(E19=\"\",\"\",IF(②選手情報入力!V28=\"\",\"\",IF(K19=1,IF(②選手情報入力!$V$7=\"\",0,1),IF(②選手情報入力!$V$8=\"\",0,1))))","v":""},{"$f":"IF(E19=\"\",\"\",IF(②選手情報入力!V28=\"\",\"\",2))","v":""}]
["",{"$f":"IF(E20=\"\",\"\",①団体情報入力!$C$5)","v":""},null,{"$f":"IF(E20=\"\",\"\",①団体情報入力!C$10)","v":""},{"$f":"IF(②選手情報入力!C29=\"\",\"\",②選手情報入力!C29)","v":""},{"$f":"IF(E20=\"\",\"\",②選手情報入力!D29)","v":""},{"$f":"IF(E20=\"\",\"\",ASC(②選手情報入力!E29))","v":""},"",{"$f":"IF(E20=\"\",\"\",②選手情報入力!F29&\" \"&②選手情報入力!G29)","v":""},{"$f":"IF(E20=\"\",\"\",IF(②選手情報入力!H29=\"\",\"JPN\",LEFT(②選手情報入力!H29,3)))","v":""},{"$f":"IF(E20=\"\",\"\",IF(②選手情報入力!I29=\"男\",1,2))","v":""},{"$f":"IF(E20=\"\",\"\",IF(②選手情報入力!J29=\"\",\"\",②選手情報入力!J29))","v":""},{"$f":"IF(E20=\"\",\"\",LEFT(②選手情報入力!K29,4))","v":""},{"$f":"IF(E20=\"\",\"\",RIGHT(②選手情報入力!K29,4))","v":""},"",null,{"$f":"IF(E20=\"\",\"\",IF(②選手情報入力!L29=\"\",\"\",IF(K20=1,VLOOKUP(②選手情報入力!L29,種目情報!$A$4:$B$167,2,FALSE),VLOOKUP(②選手情報入力!L29,種目情報!$E$4:$F$142,2,FALSE))))","v":""},{"$f":"IF(E20=\"\",\"\",IF(②選手情報入力!M29=\"\",\"\",②選手情報入力!M29))","v":""},null,{"$f":"IF(E20=\"\",\"\",IF(②選手情報入力!L29=\"\",\"\",IF(K20=1,VLOOKUP(②選手情報入力!L29,種目情報!$A$4:$C$135,3,FALSE),VLOOKUP(②選手情報入力!L29,種目情報!$E$4:$G$135,3,FALSE))))","v":""},{"$f":"IF(E20=\"\",\"\",IF(②選手情報入力!O29=\"\",\"\",IF(K20=1,VLOOKUP(②選手情報入力!O29,種目情報!$A$5:$B$151,2,FALSE),VLOOKUP(②選手情報入力!O29,種目情報!$E$5:$F$135,2,FALSE))))","v":""},{"$f":"IF(E20=\"\",\"\",IF(②選手情報入力!P29=\"\",\"\",②選手情報入力!P29))","v":""},null,{"$f":"IF(E20=\"\",\"\",IF(②選手情報入力!O29=\"\",\"\",IF(K20=1,VLOOKUP(②選手情報入力!O29,種目情報!$A$5:$C$135,3,FALSE),VLOOKUP(②選手情報入力!O29,種目情報!$E$5:$G$135,3,FALSE))))","v":""},{"$f":"IF(E20=\"\",\"\",IF(②選手情報入力!R29=\"\",\"\",IF(K20=1,VLOOKUP(②選手情報入力!R29,種目情報!$A$5:$B$151,2,FALSE),VLOOKUP(②選手情報入力!R29,種目情報!$E$5:$F$135,2,FALSE))))","v":""},{"$f":"IF(E20=\"\",\"\",IF(②選手情報入力!S29=\"\",\"\",②選手情報入力!S29))","v":""},null,{"$f":"IF(E20=\"\",\"\",IF(②選手情報入力!R29=\"\",\"\",IF(K20=1,VLOOKUP(②選手情報入力!R29,種目情報!$A$5:$C$135,3,FALSE),VLOOKUP(②選手情報入力!R29,種目情報!$E$5:$G$135,3,FALSE))))","v":""},{"$f":"IF(E20=\"\",\"\",IF(②選手情報入力!T29=\"\",\"\",IF(K20=1,種目情報!$J$4,種目情報!$J$6)))","v":""},{"$f":"IF(E20=\"\",\"\",IF(②選手情報入力!T29=\"\",\"\",IF(K20=1,IF(②選手情報入力!$U$7=\"\",\"\",②選手情報入力!$U$7),IF(②選手情報入力!$U$8=\"\",\"\",②選手情報入力!$U$8))))","v":""},{"$f":"IF(E20=\"\",\"\",IF(②選手情報入力!T29=\"\",\"\",IF(K20=1,IF(②選手情報入力!$T$7=\"\",0,1),IF(②選手情報入力!$T$8=\"\",0,1))))","v":""},{"$f":"IF(E20=\"\",\"\",IF(②選手情報入力!T29=\"\",\"\",2))","v":""},{"$f":"IF(E20=\"\",\"\",IF(②選手情報入力!V29=\"\",\"\",IF(K20=1,種目情報!$J$5,種目情報!$J$7)))","v":""},{"$f":"IF(E20=\"\",\"\",IF(②選手情報入力!V29=\"\",\"\",IF(K20=1,IF(②選手情報入力!$W$7=\"\",\"\",②選手情報入力!$W$7),IF(②選手情報入力!$W$8=\"\",\"\",②選手情報入力!$W$8))))","v":""},{"$f":"IF(E20=\"\",\"\",IF(②選手情報入力!V29=\"\",\"\",IF(K20=1,IF(②選手情報入力!$V$7=\"\",0,1),IF(②選手情報入力!$V$8=\"\",0,1))))","v":""},{"$f":"IF(E20=\"\",\"\",IF(②選手情報入力!V29=\"\",\"\",2))","v":""}]
["",{"$f":"IF(E21=\"\",\"\",①団体情報入力!$C$5)","v":""},null,{"$f":"IF(E21=\"\",\"\",①団体情報入力!C$10)","v":""},{"$f":"IF(②選手情報入力!C30=\"\",\"\",②選手情報入力!C30)","v":""},{"$f":"IF(E21=\"\",\"\",②選手情報入力!D30)","v":""},{"$f":"IF(E21=\"\",\"\",ASC(②選手情報入力!E30))","v":""},"",{"$f":"IF(E21=\"\",\"\",②選手情報入力!F30&\" \"&②選手情報入力!G30)","v":""},{"$f":"IF(E21=\"\",\"\",IF(②選手情報入力!H30=\"\",\"JPN\",LEFT(②選手情報入力!H30,3)))","v":""},{"$f":"IF(E21=\"\",\"\",IF(②選手情報入力!I30=\"男\",1,2))","v":""},{"$f":"IF(E21=\"\",\"\",IF(②選手情報入力!J30=\"\",\"\",②選手情報入力!J30))","v":""},{"$f":"IF(E21=\"\",\"\",LEFT(②選手情報入力!K30,4))","v":""},{"$f":"IF(E21=\"\",\"\",RIGHT(②選手情報入力!K30,4))","v":""},"",null,{"$f":"IF(E21=\"\",\"\",IF(②選手情報入力!L30=\"\",\"\",IF(K21=1,VLOOKUP(②選手情報入力!L30,種目情報!$A$4:$B$167,2,FALSE),VLOOKUP(②選手情報入力!L30,種目情報!$E$4:$F$142,2,FALSE))))","v":""},{"$f":"IF(E21=\"\",\"\",IF(②選手情報入力!M30=\"\",\"\",②選手情報入力!M30))","v":""},null,{"$f":"IF(E21=\"\",\"\",IF(②選手情報入力!L30=\"\",\"\",IF(K21=1,VLOOKUP(②選手情報入力!L30,種目情報!$A$4:$C$135,3,FALSE),VLOOKUP(②選手情報入力!L30,種目情報!$E$4:$G$135,3,FALSE))))","v":""},{"$f":"IF(E21=\"\",\"\",IF(②選手情報入力!O30=\"\",\"\",IF(K21=1,VLOOKUP(②選手情報入力!O30,種目情報!$A$5:$B$151,2,FALSE),VLOOKUP(②選手情報入力!O30,種目情報!$E$5:$F$135,2,FALSE))))","v":""},{"$f":"IF(E21=\"\",\"\",IF(②選手情報入力!P30=\"\",\"\",②選手情報入力!P30))","v":""},null,{"$f":"IF(E21=\"\",\"\",IF(②選手情報入力!O30=\"\",\"\",IF(K21=1,VLOOKUP(②選手情報入力!O30,種目情報!$A$5:$C$135,3,FALSE),VLOOKUP(②選手情報入力!O30,種目情報!$E$5:$G$135,3,FALSE))))","v":""},{"$f":"IF(E21=\"\",\"\",IF(②選手情報入力!R30=\"\",\"\",IF(K21=1,VLOOKUP(②選手情報入力!R30,種目情報!$A$5:$B$151,2,FALSE),VLOOKUP(②選手情報入力!R30,種目情報!$E$5:$F$135,2,FALSE))))","v":""},{"$f":"IF(E21=\"\",\"\",IF(②選手情報入力!S30=\"\",\"\",②選手情報入力!S30))","v":""},null,{"$f":"IF(E21=\"\",\"\",IF(②選手情報入力!R30=\"\",\"\",IF(K21=1,VLOOKUP(②選手情報入力!R30,種目情報!$A$5:$C$135,3,FALSE),VLOOKUP(②選手情報入力!R30,種目情報!$E$5:$G$135,3,FALSE))))","v":""},{"$f":"IF(E21=\"\",\"\",IF(②選手情報入力!T30=\"\",\"\",IF(K21=1,種目情報!$J$4,種目情報!$J$6)))","v":""},{"$f":"IF(E21=\"\",\"\",IF(②選手情報入力!T30=\"\",\"\",IF(K21=1,IF(②選手情報入力!$U$7=\"\",\"\",②選手情報入力!$U$7),IF(②選手情報入力!$U$8=\"\",\"\",②選手情報入力!$U$8))))","v":""},{"$f":"IF(E21=\"\",\"\",IF(②選手情報入力!T30=\"\",\"\",IF(K21=1,IF(②選手情報入力!$T$7=\"\",0,1),IF(②選手情報入力!$T$8=\"\",0,1))))","v":""},{"$f":"IF(E21=\"\",\"\",IF(②選手情報入力!T30=\"\",\"\",2))","v":""},{"$f":"IF(E21=\"\",\"\",IF(②選手情報入力!V30=\"\",\"\",IF(K21=1,種目情報!$J$5,種目情報!$J$7)))","v":""},{"$f":"IF(E21=\"\",\"\",IF(②選手情報入力!V30=\"\",\"\",IF(K21=1,IF(②選手情報入力!$W$7=\"\",\"\",②選手情報入力!$W$7),IF(②選手情報入力!$W$8=\"\",\"\",②選手情報入力!$W$8))))","v":""},{"$f":"IF(E21=\"\",\"\",IF(②選手情報入力!V30=\"\",\"\",IF(K21=1,IF(②選手情報入力!$V$7=\"\",0,1),IF(②選手情報入力!$V$8=\"\",0,1))))","v":""},{"$f":"IF(E21=\"\",\"\",IF(②選手情報入力!V30=\"\",\"\",2))","v":""}]
["",{"$f":"IF(E22=\"\",\"\",①団体情報入力!$C$5)","v":""},null,{"$f":"IF(E22=\"\",\"\",①団体情報入力!C$10)","v":""},{"$f":"IF(②選手情報入力!C31=\"\",\"\",②選手情報入力!C31)","v":""},{"$f":"IF(E22=\"\",\"\",②選手情報入力!D31)","v":""},{"$f":"IF(E22=\"\",\"\",ASC(②選手情報入力!E31))","v":""},"",{"$f":"IF(E22=\"\",\"\",②選手情報入力!F31&\" \"&②選手情報入力!G31)","v":""},{"$f":"IF(E22=\"\",\"\",IF(②選手情報入力!H31=\"\",\"JPN\",LEFT(②選手情報入力!H31,3)))","v":""},{"$f":"IF(E22=\"\",\"\",IF(②選手情報入力!I31=\"男\",1,2))","v":""},{"$f":"IF(E22=\"\",\"\",IF(②選手情報入力!J31=\"\",\"\",②選手情報入力!J31))","v":""},{"$f":"IF(E22=\"\",\"\",LEFT(②選手情報入力!K31,4))","v":""},{"$f":"IF(E22=\"\",\"\",RIGHT(②選手情報入力!K31,4))","v":""},"",null,{"$f":"IF(E22=\"\",\"\",IF(②選手情報入力!L31=\"\",\"\",IF(K22=1,VLOOKUP(②選手情報入力!L31,種目情報!$A$4:$B$167,2,FALSE),VLOOKUP(②選手情報入力!L31,種目情報!$E$4:$F$142,2,FALSE))))","v":""},{"$f":"IF(E22=\"\",\"\",IF(②選手情報入力!M31=\"\",\"\",②選手情報入力!M31))","v":""},null,{"$f":"IF(E22=\"\",\"\",IF(②選手情報入力!L31=\"\",\"\",IF(K22=1,VLOOKUP(②選手情報入力!L31,種目情報!$A$4:$C$135,3,FALSE),VLOOKUP(②選手情報入力!L31,種目情報!$E$4:$G$135,3,FALSE))))","v":""},{"$f":"IF(E22=\"\",\"\",IF(②選手情報入力!O31=\"\",\"\",IF(K22=1,VLOOKUP(②選手情報入力!O31,種目情報!$A$5:$B$151,2,FALSE),VLOOKUP(②選手情報入力!O31,種目情報!$E$5:$F$135,2,FALSE))))","v":""},{"$f":"IF(E22=\"\",\"\",IF(②選手情報入力!P31=\"\",\"\",②選手情報入力!P31))","v":""},null,{"$f":"IF(E22=\"\",\"\",IF(②選手情報入力!O31=\"\",\"\",IF(K22=1,VLOOKUP(②選手情報入力!O31,種目情報!$A$5:$C$135,3,FALSE),VLOOKUP(②選手情報入力!O31,種目情報!$E$5:$G$135,3,FALSE))))","v":""},{"$f":"IF(E22=\"\",\"\",IF(②選手情報入力!R31=\"\",\"\",IF(K22=1,VLOOKUP(②選手情報入力!R31,種目情報!$A$5:$B$151,2,FALSE),VLOOKUP(②選手情報入力!R31,種目情報!$E$5:$F$135,2,FALSE))))","v":""},{"$f":"IF(E22=\"\",\"\",IF(②選手情報入力!S31=\"\",\"\",②選手情報入力!S31))","v":""},null,{"$f":"IF(E22=\"\",\"\",IF(②選手情報入力!R31=\"\",\"\",IF(K22=1,VLOOKUP(②選手情報入力!R31,種目情報!$A$5:$C$135,3,FALSE),VLOOKUP(②選手情報入力!R31,種目情報!$E$5:$G$135,3,FALSE))))","v":""},{"$f":"IF(E22=\"\",\"\",IF(②選手情報入力!T31=\"\",\"\",IF(K22=1,種目情報!$J$4,種目情報!$J$6)))","v":""},{"$f":"IF(E22=\"\",\"\",IF(②選手情報入力!T31=\"\",\"\",IF(K22=1,IF(②選手情報入力!$U$7=\"\",\"\",②選手情報入力!$U$7),IF(②選手情報入力!$U$8=\"\",\"\",②選手情報入力!$U$8))))","v":""},{"$f":"IF(E22=\"\",\"\",IF(②選手情報入力!T31=\"\",\"\",IF(K22=1,IF(②選手情報入力!$T$7=\"\",0,1),IF(②選手情報入力!$T$8=\"\",0,1))))","v":""},{"$f":"IF(E22=\"\",\"\",IF(②選手情報入力!T31=\"\",\"\",2))","v":""},{"$f":"IF(E22=\"\",\"\",IF(②選手情報入力!V31=\"\",\"\",IF(K22=1,種目情報!$J$5,種目情報!$J$7)))","v":""},{"$f":"IF(E22=\"\",\"\",IF(②選手情報入力!V31=\"\",\"\",IF(K22=1,IF(②選手情報入力!$W$7=\"\",\"\",②選手情報入力!$W$7),IF(②選手情報入力!$W$8=\"\",\"\",②選手情報入力!$W$8))))","v":""},{"$f":"IF(E22=\"\",\"\",IF(②選手情報入力!V31=\"\",\"\",IF(K22=1,IF(②選手情報入力!$V$7=\"\",0,1),IF(②選手情報入力!$V$8=\"\",0,1))))","v":""},{"$f":"IF(E22=\"\",\"\",IF(②選手情報入力!V31=\"\",\"\",2))","v":""}]
["",{"$f":"IF(E23=\"\",\"\",①団体情報入力!$C$5)","v":""},null,{"$f":"IF(E23=\"\",\"\",①団体情報入力!C$10)","v":""},{"$f":"IF(②選手情報入力!C32=\"\",\"\",②選手情報入力!C32)","v":""},{"$f":"IF(E23=\"\",\"\",②選手情報入力!D32)","v":""},{"$f":"IF(E23=\"\",\"\",ASC(②選手情報入力!E32))","v":""},"",{"$f":"IF(E23=\"\",\"\",②選手情報入力!F32&\" \"&②選手情報入力!G32)","v":""},{"$f":"IF(E23=\"\",\"\",IF(②選手情報入力!H32=\"\",\"JPN\",LEFT(②選手情報入力!H32,3)))","v":""},{"$f":"IF(E23=\"\",\"\",IF(②選手情報入力!I32=\"男\",1,2))","v":""},{"$f":"IF(E23=\"\",\"\",IF(②選手情報入力!J32=\"\",\"\",②選手情報入力!J32))","v":""},{"$f":"IF(E23=\"\",\"\",LEFT(②選手情報入力!K32,4))","v":""},{"$f":"IF(E23=\"\",\"\",RIGHT(②選手情報入力!K32,4))","v":""},"",null,{"$f":"IF(E23=\"\",\"\",IF(②選手情報入力!L32=\"\",\"\",IF(K23=1,VLOOKUP(②選手情報入力!L32,種目情報!$A$4:$B$167,2,FALSE),VLOOKUP(②選手情報入力!L32,種目情報!$E$4:$F$142,2,FALSE))))","v":""},{"$f":"IF(E23=\"\",\"\",IF(②選手情報入力!M32=\"\",\"\",②選手情報入力!M32))","v":""},null,{"$f":"IF(E23=\"\",\"\",IF(②選手情報入力!L32=\"\",\"\",IF(K23=1,VLOOKUP(②選手情報入力!L32,種目情報!$A$4:$C$135,3,FALSE),VLOOKUP(②選手情報入力!L32,種目情報!$E$4:$G$135,3,FALSE))))","v":""},{"$f":"IF(E23=\"\",\"\",IF(②選手情報入力!O32=\"\",\"\",IF(K23=1,VLOOKUP(②選手情報入力!O32,種目情報!$A$5:$B$151,2,FALSE),VLOOKUP(②選手情報入力!O32,種目情報!$E$5:$F$135,2,FALSE))))","v":""},{"$f":"IF(E23=\"\",\"\",IF(②選手情報入力!P32=\"\",\"\",②選手情報入力!P32))","v":""},null,{"$f":"IF(E23=\"\",\"\",IF(②選手情報入力!O32=\"\",\"\",IF(K23=1,VLOOKUP(②選手情報入力!O32,種目情報!$A$5:$C$135,3,FALSE),VLOOKUP(②選手情報入力!O32,種目情報!$E$5:$G$135,3,FALSE))))","v":""},{"$f":"IF(E23=\"\",\"\",IF(②選手情報入力!R32=\"\",\"\",IF(K23=1,VLOOKUP(②選手情報入力!R32,種目情報!$A$5:$B$151,2,FALSE),VLOOKUP(②選手情報入力!R32,種目情報!$E$5:$F$135,2,FALSE))))","v":""},{"$f":"IF(E23=\"\",\"\",IF(②選手情報入力!S32=\"\",\"\",②選手情報入力!S32))","v":""},null,{"$f":"IF(E23=\"\",\"\",IF(②選手情報入力!R32=\"\",\"\",IF(K23=1,VLOOKUP(②選手情報入力!R32,種目情報!$A$5:$C$135,3,FALSE),VLOOKUP(②選手情報入力!R32,種目情報!$E$5:$G$135,3,FALSE))))","v":""},{"$f":"IF(E23=\"\",\"\",IF(②選手情報入力!T32=\"\",\"\",IF(K23=1,種目情報!$J$4,種目情報!$J$6)))","v":""},{"$f":"IF(E23=\"\",\"\",IF(②選手情報入力!T32=\"\",\"\",IF(K23=1,IF(②選手情報入力!$U$7=\"\",\"\",②選手情報入力!$U$7),IF(②選手情報入力!$U$8=\"\",\"\",②選手情報入力!$U$8))))","v":""},{"$f":"IF(E23=\"\",\"\",IF(②選手情報入力!T32=\"\",\"\",IF(K23=1,IF(②選手情報入力!$T$7=\"\",0,1),IF(②選手情報入力!$T$8=\"\",0,1))))","v":""},{"$f":"IF(E23=\"\",\"\",IF(②選手情報入力!T32=\"\",\"\",2))","v":""},{"$f":"IF(E23=\"\",\"\",IF(②選手情報入力!V32=\"\",\"\",IF(K23=1,種目情報!$J$5,種目情報!$J$7)))","v":""},{"$f":"IF(E23=\"\",\"\",IF(②選手情報入力!V32=\"\",\"\",IF(K23=1,IF(②選手情報入力!$W$7=\"\",\"\",②選手情報入力!$W$7),IF(②選手情報入力!$W$8=\"\",\"\",②選手情報入力!$W$8))))","v":""},{"$f":"IF(E23=\"\",\"\",IF(②選手情報入力!V32=\"\",\"\",IF(K23=1,IF(②選手情報入力!$V$7=\"\",0,1),IF(②選手情報入力!$V$8=\"\",0,1))))","v":""},{"$f":"IF(E23=\"\",\"\",IF(②選手情報入力!V32=\"\",\"\",2))","v":""}]
["",{"$f":"IF(E24=\"\",\"\",①団体情報入力!$C$5)","v":""},null,{"$f":"IF(E24=\"\",\"\",①団体情報入力!C$10)","v":""},{"$f":"IF(②選手情報入力!C33=\"\",\"\",②選手情報入力!C33)","v":""},{"$f":"IF(E24=\"\",\"\",②選手情報入力!D33)","v":""},{"$f":"IF(E24=\"\",\"\",ASC(②選手情報入力!E33))","v":""},"",{"$f":"IF(E24=\"\",\"\",②選手情報入力!F33&\" \"&②選手情報入力!G33)","v":""},{"$f":"IF(E24=\"\",\"\",IF(②選手情報入力!H33=\"\",\"JPN\",LEFT(②選手情報入力!H33,3)))","v":""},{"$f":"IF(E24=\"\",\"\",IF(②選手情報入力!I33=\"男\",1,2))","v":""},{"$f":"IF(E24=\"\",\"\",IF(②選手情報入力!J33=\"\",\"\",②選手情報入力!J33))","v":""},{"$f":"IF(E24=\"\",\"\",LEFT(②選手情報入力!K33,4))","v":""},{"$f":"IF(E24=\"\",\"\",RIGHT(②選手情報入力!K33,4))","v":""},"",null,{"$f":"IF(E24=\"\",\"\",IF(②選手情報入力!L33=\"\",\"\",IF(K24=1,VLOOKUP(②選手情報入力!L33,種目情報!$A$4:$B$167,2,FALSE),VLOOKUP(②選手情報入力!L33,種目情報!$E$4:$F$142,2,FALSE))))","v":""},{"$f":"IF(E24=\"\",\"\",IF(②選手情報入力!M33=\"\",\"\",②選手情報入力!M33))","v":""},null,{"$f":"IF(E24=\"\",\"\",IF(②選手情報入力!L33=\"\",\"\",IF(K24=1,VLOOKUP(②選手情報入力!L33,種目情報!$A$4:$C$135,3,FALSE),VLOOKUP(②選手情報入力!L33,種目情報!$E$4:$G$135,3,FALSE))))","v":""},{"$f":"IF(E24=\"\",\"\",IF(②選手情報入力!O33=\"\",\"\",IF(K24=1,VLOOKUP(②選手情報入力!O33,種目情報!$A$5:$B$151,2,FALSE),VLOOKUP(②選手情報入力!O33,種目情報!$E$5:$F$135,2,FALSE))))","v":""},{"$f":"IF(E24=\"\",\"\",IF(②選手情報入力!P33=\"\",\"\",②選手情報入力!P33))","v":""},null,{"$f":"IF(E24=\"\",\"\",IF(②選手情報入力!O33=\"\",\"\",IF(K24=1,VLOOKUP(②選手情報入力!O33,種目情報!$A$5:$C$135,3,FALSE),VLOOKUP(②選手情報入力!O33,種目情報!$E$5:$G$135,3,FALSE))))","v":""},{"$f":"IF(E24=\"\",\"\",IF(②選手情報入力!R33=\"\",\"\",IF(K24=1,VLOOKUP(②選手情報入力!R33,種目情報!$A$5:$B$151,2,FALSE),VLOOKUP(②選手情報入力!R33,種目情報!$E$5:$F$135,2,FALSE))))","v":""},{"$f":"IF(E24=\"\",\"\",IF(②選手情報入力!S33=\"\",\"\",②選手情報入力!S33))","v":""},null,{"$f":"IF(E24=\"\",\"\",IF(②選手情報入力!R33=\"\",\"\",IF(K24=1,VLOOKUP(②選手情報入力!R33,種目情報!$A$5:$C$135,3,FALSE),VLOOKUP(②選手情報入力!R33,種目情報!$E$5:$G$135,3,FALSE))))","v":""},{"$f":"IF(E24=\"\",\"\",IF(②選手情報入力!T33=\"\",\"\",IF(K24=1,種目情報!$J$4,種目情報!$J$6)))","v":""},{"$f":"IF(E24=\"\",\"\",IF(②選手情報入力!T33=\"\",\"\",IF(K24=1,IF(②選手情報入力!$U$7=\"\",\"\",②選手情報入力!$U$7),IF(②選手情報入力!$U$8=\"\",\"\",②選手情報入力!$U$8))))","v":""},{"$f":"IF(E24=\"\",\"\",IF(②選手情報入力!T33=\"\",\"\",IF(K24=1,IF(②選手情報入力!$T$7=\"\",0,1),IF(②選手情報入力!$T$8=\"\",0,1))))","v":""},{"$f":"IF(E24=\"\",\"\",IF(②選手情報入力!T33=\"\",\"\",2))","v":""},{"$f":"IF(E24=\"\",\"\",IF(②選手情報入力!V33=\"\",\"\",IF(K24=1,種目情報!$J$5,種目情報!$J$7)))","v":""},{"$f":"IF(E24=\"\",\"\",IF(②選手情報入力!V33=\"\",\"\",IF(K24=1,IF(②選手情報入力!$W$7=\"\",\"\",②選手情報入力!$W$7),IF(②選手情報入力!$W$8=\"\",\"\",②選手情報入力!$W$8))))","v":""},{"$f":"IF(E24=\"\",\"\",IF(②選手情報入力!V33=\"\",\"\",IF(K24=1,IF(②選手情報入力!$V$7=\"\",0,1),IF(②選手情報入力!$V$8=\"\",0,1))))","v":""},{"$f":"IF(E24=\"\",\"\",IF(②選手情報入力!V33=\"\",\"\",2))","v":""}]
["",{"$f":"IF(E25=\"\",\"\",①団体情報入力!$C$5)","v":""},null,{"$f":"IF(E25=\"\",\"\",①団体情報入力!C$10)","v":""},{"$f":"IF(②選手情報入力!C34=\"\",\"\",②選手情報入力!C34)","v":""},{"$f":"IF(E25=\"\",\"\",②選手情報入力!D34)","v":""},{"$f":"IF(E25=\"\",\"\",ASC(②選手情報入力!E34))","v":""},"",{"$f":"IF(E25=\"\",\"\",②選手情報入力!F34&\" \"&②選手情報入力!G34)","v":""},{"$f":"IF(E25=\"\",\"\",IF(②選手情報入力!H34=\"\",\"JPN\",LEFT(②選手情報入力!H34,3)))","v":""},{"$f":"IF(E25=\"\",\"\",IF(②選手情報入力!I34=\"男\",1,2))","v":""},{"$f":"IF(E25=\"\",\"\",IF(②選手情報入力!J34=\"\",\"\",②選手情報入力!J34))","v":""},{"$f":"IF(E25=\"\",\"\",LEFT(②選手情報入力!K34,4))","v":""},{"$f":"IF(E25=\"\",\"\",RIGHT(②選手情報入力!K34,4))","v":""},"",null,{"$f":"IF(E25=\"\",\"\",IF(②選手情報入力!L34=\"\",\"\",IF(K25=1,VLOOKUP(②選手情報入力!L34,種目情報!$A$4:$B$167,2,FALSE),VLOOKUP(②選手情報入力!L34,種目情報!$E$4:$F$142,2,FALSE))))","v":""},{"$f":"IF(E25=\"\",\"\",IF(②選手情報入力!M34=\"\",\"\",②選手情報入力!M34))","v":""},null,{"$f":"IF(E25=\"\",\"\",IF(②選手情報入力!L34=\"\",\"\",IF(K25=1,VLOOKUP(②選手情報入力!L34,種目情報!$A$4:$C$135,3,FALSE),VLOOKUP(②選手情報入力!L34,種目情報!$E$4:$G$135,3,FALSE))))","v":""},{"$f":"IF(E25=\"\",\"\",IF(②選手情報入力!O34=\"\",\"\",IF(K25=1,VLOOKUP(②選手情報入力!O34,種目情報!$A$5:$B$151,2,FALSE),VLOOKUP(②選手情報入力!O34,種目情報!$E$5:$F$135,2,FALSE))))","v":""},{"$f":"IF(E25=\"\",\"\",IF(②選手情報入力!P34=\"\",\"\",②選手情報入力!P34))","v":""},null,{"$f":"IF(E25=\"\",\"\",IF(②選手情報入力!O34=\"\",\"\",IF(K25=1,VLOOKUP(②選手情報入力!O34,種目情報!$A$5:$C$135,3,FALSE),VLOOKUP(②選手情報入力!O34,種目情報!$E$5:$G$135,3,FALSE))))","v":""},{"$f":"IF(E25=\"\",\"\",IF(②選手情報入力!R34=\"\",\"\",IF(K25=1,VLOOKUP(②選手情報入力!R34,種目情報!$A$5:$B$151,2,FALSE),VLOOKUP(②選手情報入力!R34,種目情報!$E$5:$F$135,2,FALSE))))","v":""},{"$f":"IF(E25=\"\",\"\",IF(②選手情報入力!S34=\"\",\"\",②選手情報入力!S34))","v":""},null,{"$f":"IF(E25=\"\",\"\",IF(②選手情報入力!R34=\"\",\"\",IF(K25=1,VLOOKUP(②選手情報入力!R34,種目情報!$A$5:$C$135,3,FALSE),VLOOKUP(②選手情報入力!R34,種目情報!$E$5:$G$135,3,FALSE))))","v":""},{"$f":"IF(E25=\"\",\"\",IF(②選手情報入力!T34=\"\",\"\",IF(K25=1,種目情報!$J$4,種目情報!$J$6)))","v":""},{"$f":"IF(E25=\"\",\"\",IF(②選手情報入力!T34=\"\",\"\",IF(K25=1,IF(②選手情報入力!$U$7=\"\",\"\",②選手情報入力!$U$7),IF(②選手情報入力!$U$8=\"\",\"\",②選手情報入力!$U$8))))","v":""},{"$f":"IF(E25=\"\",\"\",IF(②選手情報入力!T34=\"\",\"\",IF(K25=1,IF(②選手情報入力!$T$7=\"\",0,1),IF(②選手情報入力!$T$8=\"\",0,1))))","v":""},{"$f":"IF(E25=\"\",\"\",IF(②選手情報入力!T34=\"\",\"\",2))","v":""},{"$f":"IF(E25=\"\",\"\",IF(②選手情報入力!V34=\"\",\"\",IF(K25=1,種目情報!$J$5,種目情報!$J$7)))","v":""},{"$f":"IF(E25=\"\",\"\",IF(②選手情報入力!V34=\"\",\"\",IF(K25=1,IF(②選手情報入力!$W$7=\"\",\"\",②選手情報入力!$W$7),IF(②選手情報入力!$W$8=\"\",\"\",②選手情報入力!$W$8))))","v":""},{"$f":"IF(E25=\"\",\"\",IF(②選手情報入力!V34=\"\",\"\",IF(K25=1,IF(②選手情報入力!$V$7=\"\",0,1),IF(②選手情報入力!$V$8=\"\",0,1))))","v":""},{"$f":"IF(E25=\"\",\"\",IF(②選手情報入力!V34=\"\",\"\",2))","v":""}]
["",{"$f":"IF(E26=\"\",\"\",①団体情報入力!$C$5)","v":""},null,{"$f":"IF(E26=\"\",\"\",①団体情報入力!C$10)","v":""},{"$f":"IF(②選手情報入力!C35=\"\",\"\",②選手情報入力!C35)","v":""},{"$f":"IF(E26=\"\",\"\",②選手情報入力!D35)","v":""},{"$f":"IF(E26=\"\",\"\",ASC(②選手情報入力!E35))","v":""},"",{"$f":"IF(E26=\"\",\"\",②選手情報入力!F35&\" \"&②選手情報入力!G35)","v":""},{"$f":"IF(E26=\"\",\"\",IF(②選手情報入力!H35=\"\",\"JPN\",LEFT(②選手情報入力!H35,3)))","v":""},{"$f":"IF(E26=\"\",\"\",IF(②選手情報入力!I35=\"男\",1,2))","v":""},{"$f":"IF(E26=\"\",\"\",IF(②選手情報入力!J35=\"\",\"\",②選手情報入力!J35))","v":""},{"$f":"IF(E26=\"\",\"\",LEFT(②選手情報入力!K35,4))","v":""},{"$f":"IF(E26=\"\",\"\",RIGHT(②選手情報入力!K35,4))","v":""},"",null,{"$f":"IF(E26=\"\",\"\",IF(②選手情報入力!L35=\"\",\"\",IF(K26=1,VLOOKUP(②選手情報入力!L35,種目情報!$A$4:$B$167,2,FALSE),VLOOKUP(②選手情報入力!L35,種目情報!$E$4:$F$142,2,FALSE))))","v":""},{"$f":"IF(E26=\"\",\"\",IF(②選手情報入力!M35=\"\",\"\",②選手情報入力!M35))","v":""},null,{"$f":"IF(E26=\"\",\"\",IF(②選手情報入力!L35=\"\",\"\",IF(K26=1,VLOOKUP(②選手情報入力!L35,種目情報!$A$4:$C$135,3,FALSE),VLOOKUP(②選手情報入力!L35,種目情報!$E$4:$G$135,3,FALSE))))","v":""},{"$f":"IF(E26=\"\",\"\",IF(②選手情報入力!O35=\"\",\"\",IF(K26=1,VLOOKUP(②選手情報入力!O35,種目情報!$A$5:$B$151,2,FALSE),VLOOKUP(②選手情報入力!O35,種目情報!$E$5:$F$135,2,FALSE))))","v":""},{"$f":"IF(E26=\"\",\"\",IF(②選手情報入力!P35=\"\",\"\",②選手情報入力!P35))","v":""},null,{"$f":"IF(E26=\"\",\"\",IF(②選手情報入力!O35=\"\",\"\",IF(K26=1,VLOOKUP(②選手情報入力!O35,種目情報!$A$5:$C$135,3,FALSE),VLOOKUP(②選手情報入力!O35,種目情報!$E$5:$G$135,3,FALSE))))","v":""},{"$f":"IF(E26=\"\",\"\",IF(②選手情報入力!R35=\"\",\"\",IF(K26=1,VLOOKUP(②選手情報入力!R35,種目情報!$A$5:$B$151,2,FALSE),VLOOKUP(②選手情報入力!R35,種目情報!$E$5:$F$135,2,FALSE))))","v":""},{"$f":"IF(E26=\"\",\"\",IF(②選手情報入力!S35=\"\",\"\",②選手情報入力!S35))","v":""},null,{"$f":"IF(E26=\"\",\"\",IF(②選手情報入力!R35=\"\",\"\",IF(K26=1,VLOOKUP(②選手情報入力!R35,種目情報!$A$5:$C$135,3,FALSE),VLOOKUP(②選手情報入力!R35,種目情報!$E$5:$G$135,3,FALSE))))","v":""},{"$f":"IF(E26=\"\",\"\",IF(②選手情報入力!T35=\"\",\"\",IF(K26=1,種目情報!$J$4,種目情報!$J$6)))","v":""},{"$f":"IF(E26=\"\",\"\",IF(②選手情報入力!T35=\"\",\"\",IF(K26=1,IF(②選手情報入力!$U$7=\"\",\"\",②選手情報入力!$U$7),IF(②選手情報入力!$U$8=\"\",\"\",②選手情報入力!$U$8))))","v":""},{"$f":"IF(E26=\"\",\"\",IF(②選手情報入力!T35=\"\",\"\",IF(K26=1,IF(②選手情報入力!$T$7=\"\",0,1),IF(②選手情報入力!$T$8=\"\",0,1))))","v":""},{"$f":"IF(E26=\"\",\"\",IF(②選手情報入力!T35=\"\",\"\",2))","v":""},{"$f":"IF(E26=\"\",\"\",IF(②選手情報入力!V35=\"\",\"\",IF(K26=1,種目情報!$J$5,種目情報!$J$7)))","v":""},{"$f":"IF(E26=\"\",\"\",IF(②選手情報入力!V35=\"\",\"\",IF(K26=1,IF(②選手情報入力!$W$7=\"\",\"\",②選手情報入力!$W$7),IF(②選手情報入力!$W$8=\"\",\"\",②選手情報入力!$W$8))))","v":""},{"$f":"IF(E26=\"\",\"\",IF(②選手情報入力!V35=\"\",\"\",IF(K26=1,IF(②選手情報入力!$V$7=\"\",0,1),IF(②選手情報入力!$V$8=\"\",0,1))))","v":""},{"$f":"IF(E26=\"\",\"\",IF(②選手情報入力!V35=\"\",\"\",2))","v":""}]
["",{"$f":"IF(E27=\"\",\"\",①団体情報入力!$C$5)","v":""},null,{"$f":"IF(E27=\"\",\"\",①団体情報入力!C$10)","v":""},{"$f":"IF(②選手情報入力!C36=\"\",\"\",②選手情報入力!C36)","v":""},{"$f":"IF(E27=\"\",\"\",②選手情報入力!D36)","v":""},{"$f":"IF(E27=\"\",\"\",ASC(②選手情報入力!E36))","v":""},"",{"$f":"IF(E27=\"\",\"\",②選手情報入力!F36&\" \"&②選手情報入力!G36)","v":""},{"$f":"IF(E27=\"\",\"\",IF(②選手情報入力!H36=\"\",\"JPN\",LEFT(②選手情報入力!H36,3)))","v":""},{"$f":"IF(E27=\"\",\"\",IF(②選手情報入力!I36=\"男\",1,2))","v":""},{"$f":"IF(E27=\"\",\"\",IF(②選手情報入力!J36=\"\",\"\",②選手情報入力!J36))","v":""},{"$f":"IF(E27=\"\",\"\",LEFT(②選手情報入力!K36,4))","v":""},{"$f":"IF(E27=\"\",\"\",RIGHT(②選手情報入力!K36,4))","v":""},"",null,{"$f":"IF(E27=\"\",\"\",IF(②選手情報入力!L36=\"\",\"\",IF(K27=1,VLOOKUP(②選手情報入力!L36,種目情報!$A$4:$B$167,2,FALSE),VLOOKUP(②選手情報入力!L36,種目情報!$E$4:$F$142,2,FALSE))))","v":""},{"$f":"IF(E27=\"\",\"\",IF(②選手情報入力!M36=\"\",\"\",②選手情報入力!M36))","v":""},null,{"$f":"IF(E27=\"\",\"\",IF(②選手情報入力!L36=\"\",\"\",IF(K27=1,VLOOKUP(②選手情報入力!L36,種目情報!$A$4:$C$135,3,FALSE),VLOOKUP(②選手情報入力!L36,種目情報!$E$4:$G$135,3,FALSE))))","v":""},{"$f":"IF(E27=\"\",\"\",IF(②選手情報入力!O36=\"\",\"\",IF(K27=1,VLOOKUP(②選手情報入力!O36,種目情報!$A$5:$B$151,2,FALSE),VLOOKUP(②選手情報入力!O36,種目情報!$E$5:$F$135,2,FALSE))))","v":""},{"$f":"IF(E27=\"\",\"\",IF(②選手情報入力!P36=\"\",\"\",②選手情報入力!P36))","v":""},null,{"$f":"IF(E27=\"\",\"\",IF(②選手情報入力!O36=\"\",\"\",IF(K27=1,VLOOKUP(②選手情報入力!O36,種目情報!$A$5:$C$135,3,FALSE),VLOOKUP(②選手情報入力!O36,種目情報!$E$5:$G$135,3,FALSE))))","v":""},{"$f":"IF(E27=\"\",\"\",IF(②選手情報入力!R36=\"\",\"\",IF(K27=1,VLOOKUP(②選手情報入力!R36,種目情報!$A$5:$B$151,2,FALSE),VLOOKUP(②選手情報入力!R36,種目情報!$E$5:$F$135,2,FALSE))))","v":""},{"$f":"IF(E27=\"\",\"\",IF(②選手情報入力!S36=\"\",\"\",②選手情報入力!S36))","v":""},null,{"$f":"IF(E27=\"\",\"\",IF(②選手情報入力!R36=\"\",\"\",IF(K27=1,VLOOKUP(②選手情報入力!R36,種目情報!$A$5:$C$135,3,FALSE),VLOOKUP(②選手情報入力!R36,種目情報!$E$5:$G$135,3,FALSE))))","v":""},{"$f":"IF(E27=\"\",\"\",IF(②選手情報入力!T36=\"\",\"\",IF(K27=1,種目情報!$J$4,種目情報!$J$6)))","v":""},{"$f":"IF(E27=\"\",\"\",IF(②選手情報入力!T36=\"\",\"\",IF(K27=1,IF(②選手情報入力!$U$7=\"\",\"\",②選手情報入力!$U$7),IF(②選手情報入力!$U$8=\"\",\"\",②選手情報入力!$U$8))))","v":""},{"$f":"IF(E27=\"\",\"\",IF(②選手情報入力!T36=\"\",\"\",IF(K27=1,IF(②選手情報入力!$T$7=\"\",0,1),IF(②選手情報入力!$T$8=\"\",0,1))))","v":""},{"$f":"IF(E27=\"\",\"\",IF(②選手情報入力!T36=\"\",\"\",2))","v":""},{"$f":"IF(E27=\"\",\"\",IF(②選手情報入力!V36=\"\",\"\",IF(K27=1,種目情報!$J$5,種目情報!$J$7)))","v":""},{"$f":"IF(E27=\"\",\"\",IF(②選手情報入力!V36=\"\",\"\",IF(K27=1,IF(②選手情報入力!$W$7=\"\",\"\",②選手情報入力!$W$7),IF(②選手情報入力!$W$8=\"\",\"\",②選手情報入力!$W$8))))","v":""},{"$f":"IF(E27=\"\",\"\",IF(②選手情報入力!V36=\"\",\"\",IF(K27=1,IF(②選手情報入力!$V$7=\"\",0,1),IF(②選手情報入力!$V$8=\"\",0,1))))","v":""},{"$f":"IF(E27=\"\",\"\",IF(②選手情報入力!V36=\"\",\"\",2))","v":""}]
["",{"$f":"IF(E28=\"\",\"\",①団体情報入力!$C$5)","v":""},null,{"$f":"IF(E28=\"\",\"\",①団体情報入力!C$10)","v":""},{"$f":"IF(②選手情報入力!C37=\"\",\"\",②選手情報入力!C37)","v":""},{"$f":"IF(E28=\"\",\"\",②選手情報入力!D37)","v":""},{"$f":"IF(E28=\"\",\"\",ASC(②選手情報入力!E37))","v":""},"",{"$f":"IF(E28=\"\",\"\",②選手情報入力!F37&\" \"&②選手情報入力!G37)","v":""},{"$f":"IF(E28=\"\",\"\",IF(②選手情報入力!H37=\"\",\"JPN\",LEFT(②選手情報入力!H37,3)))","v":""},{"$f":"IF(E28=\"\",\"\",IF(②選手情報入力!I37=\"男\",1,2))","v":""},{"$f":"IF(E28=\"\",\"\",IF(②選手情報入力!J37=\"\",\"\",②選手情報入力!J37))","v":""},{"$f":"IF(E28=\"\",\"\",LEFT(②選手情報入力!K37,4))","v":""},{"$f":"IF(E28=\"\",\"\",RIGHT(②選手情報入力!K37,4))","v":""},"",null,{"$f":"IF(E28=\"\",\"\",IF(②選手情報入力!L37=\"\",\"\",IF(K28=1,VLOOKUP(②選手情報入力!L37,種目情報!$A$4:$B$167,2,FALSE),VLOOKUP(②選手情報入力!L37,種目情報!$E$4:$F$142,2,FALSE))))","v":""},{"$f":"IF(E28=\"\",\"\",IF(②選手情報入力!M37=\"\",\"\",②選手情報入力!M37))","v":""},null,{"$f":"IF(E28=\"\",\"\",IF(②選手情報入力!L37=\"\",\"\",IF(K28=1,VLOOKUP(②選手情報入力!L37,種目情報!$A$4:$C$135,3,FALSE),VLOOKUP(②選手情報入力!L37,種目情報!$E$4:$G$135,3,FALSE))))","v":""},{"$f":"IF(E28=\"\",\"\",IF(②選手情報入力!O37=\"\",\"\",IF(K28=1,VLOOKUP(②選手情報入力!O37,種目情報!$A$5:$B$151,2,FALSE),VLOOKUP(②選手情報入力!O37,種目情報!$E$5:$F$135,2,FALSE))))","v":""},{"$f":"IF(E28=\"\",\"\",IF(②選手情報入力!P37=\"\",\"\",②選手情報入力!P37))","v":""},null,{"$f":"IF(E28=\"\",\"\",IF(②選手情報入力!O37=\"\",\"\",IF(K28=1,VLOOKUP(②選手情報入力!O37,種目情報!$A$5:$C$135,3,FALSE),VLOOKUP(②選手情報入力!O37,種目情報!$E$5:$G$135,3,FALSE))))","v":""},{"$f":"IF(E28=\"\",\"\",IF(②選手情報入力!R37=\"\",\"\",IF(K28=1,VLOOKUP(②選手情報入力!R37,種目情報!$A$5:$B$151,2,FALSE),VLOOKUP(②選手情報入力!R37,種目情報!$E$5:$F$135,2,FALSE))))","v":""},{"$f":"IF(E28=\"\",\"\",IF(②選手情報入力!S37=\"\",\"\",②選手情報入力!S37))","v":""},null,{"$f":"IF(E28=\"\",\"\",IF(②選手情報入力!R37=\"\",\"\",IF(K28=1,VLOOKUP(②選手情報入力!R37,種目情報!$A$5:$C$135,3,FALSE),VLOOKUP(②選手情報入力!R37,種目情報!$E$5:$G$135,3,FALSE))))","v":""},{"$f":"IF(E28=\"\",\"\",IF(②選手情報入力!T37=\"\",\"\",IF(K28=1,種目情報!$J$4,種目情報!$J$6)))","v":""},{"$f":"IF(E28=\"\",\"\",IF(②選手情報入力!T37=\"\",\"\",IF(K28=1,IF(②選手情報入力!$U$7=\"\",\"\",②選手情報入力!$U$7),IF(②選手情報入力!$U$8=\"\",\"\",②選手情報入力!$U$8))))","v":""},{"$f":"IF(E28=\"\",\"\",IF(②選手情報入力!T37=\"\",\"\",IF(K28=1,IF(②選手情報入力!$T$7=\"\",0,1),IF(②選手情報入力!$T$8=\"\",0,1))))","v":""},{"$f":"IF(E28=\"\",\"\",IF(②選手情報入力!T37=\"\",\"\",2))","v":""},{"$f":"IF(E28=\"\",\"\",IF(②選手情報入力!V37=\"\",\"\",IF(K28=1,種目情報!$J$5,種目情報!$J$7)))","v":""},{"$f":"IF(E28=\"\",\"\",IF(②選手情報入力!V37=\"\",\"\",IF(K28=1,IF(②選手情報入力!$W$7=\"\",\"\",②選手情報入力!$W$7),IF(②選手情報入力!$W$8=\"\",\"\",②選手情報入力!$W$8))))","v":""},{"$f":"IF(E28=\"\",\"\",IF(②選手情報入力!V37=\"\",\"\",IF(K28=1,IF(②選手情報入力!$V$7=\"\",0,1),IF(②選手情報入力!$V$8=\"\",0,1))))","v":""},{"$f":"IF(E28=\"\",\"\",IF(②選手情報入力!V37=\"\",\"\",2))","v":""}]
["",{"$f":"IF(E29=\"\",\"\",①団体情報入力!$C$5)","v":""},null,{"$f":"IF(E29=\"\",\"\",①団体情報入力!C$10)","v":""},{"$f":"IF(②選手情報入力!C38=\"\",\"\",②選手情報入力!C38)","v":""},{"$f":"IF(E29=\"\",\"\",②選手情報入力!D38)","v":""},{"$f":"IF(E29=\"\",\"\",ASC(②選手情報入力!E38))","v":""},"",{"$f":"IF(E29=\"\",\"\",②選手情報入力!F38&\" \"&②選手情報入力!G38)","v":""},{"$f":"IF(E29=\"\",\"\",IF(②選手情報入力!H38=\"\",\"JPN\",LEFT(②選手情報入力!H38,3)))","v":""},{"$f":"IF(E29=\"\",\"\",IF(②選手情報入力!I38=\"男\",1,2))","v":""},{"$f":"IF(E29=\"\",\"\",IF(②選手情報入力!J38=\"\",\"\",②選手情報入力!J38))","v":""},{"$f":"IF(E29=\"\",\"\",LEFT(②選手情報入力!K38,4))","v":""},{"$f":"IF(E29=\"\",\"\",RIGHT(②選手情報入力!K38,4))","v":""},"",null,{"$f":"IF(E29=\"\",\"\",IF(②選手情報入力!L38=\"\",\"\",IF(K29=1,VLOOKUP(②選手情報入力!L38,種目情報!$A$4:$B$167,2,FALSE),VLOOKUP(②選手情報入力!L38,種目情報!$E$4:$F$142,2,FALSE))))","v":""},{"$f":"IF(E29=\"\",\"\",IF(②選手情報入力!M38=\"\",\"\",②選手情報入力!M38))","v":""},null,{"$f":"IF(E29=\"\",\"\",IF(②選手情報入力!L38=\"\",\"\",IF(K29=1,VLOOKUP(②選手情報入力!L38,種目情報!$A$4:$C$135,3,FALSE),VLOOKUP(②選手情報入力!L38,種目情報!$E$4:$G$135,3,FALSE))))","v":""},{"$f":"IF(E29=\"\",\"\",IF(②選手情報入力!O38=\"\",\"\",IF(K29=1,VLOOKUP(②選手情報入力!O38,種目情報!$A$5:$B$151,2,FALSE),VLOOKUP(②選手情報入力!O38,種目情報!$E$5:$F$135,2,FALSE))))","v":""},{"$f":"IF(E29=\"\",\"\",IF(②選手情報入力!P38=\"\",\"\",②選手情報入力!P38))","v":""},null,{"$f":"IF(E29=\"\",\"\",IF(②選手情報入力!O38=\"\",\"\",IF(K29=1,VLOOKUP(②選手情報入力!O38,種目情報!$A$5:$C$135,3,FALSE),VLOOKUP(②選手情報入力!O38,種目情報!$E$5:$G$135,3,FALSE))))","v":""},{"$f":"IF(E29=\"\",\"\",IF(②選手情報入力!R38=\"\",\"\",IF(K29=1,VLOOKUP(②選手情報入力!R38,種目情報!$A$5:$B$151,2,FALSE),VLOOKUP(②選手情報入力!R38,種目情報!$E$5:$F$135,2,FALSE))))","v":""},{"$f":"IF(E29=\"\",\"\",IF(②選手情報入力!S38=\"\",\"\",②選手情報入力!S38))","v":""},null,{"$f":"IF(E29=\"\",\"\",IF(②選手情報入力!R38=\"\",\"\",IF(K29=1,VLOOKUP(②選手情報入力!R38,種目情報!$A$5:$C$135,3,FALSE),VLOOKUP(②選手情報入力!R38,種目情報!$E$5:$G$135,3,FALSE))))","v":""},{"$f":"IF(E29=\"\",\"\",IF(②選手情報入力!T38=\"\",\"\",IF(K29=1,種目情報!$J$4,種目情報!$J$6)))","v":""},{"$f":"IF(E29=\"\",\"\",IF(②選手情報入力!T38=\"\",\"\",IF(K29=1,IF(②選手情報入力!$U$7=\"\",\"\",②選手情報入力!$U$7),IF(②選手情報入力!$U$8=\"\",\"\",②選手情報入力!$U$8))))","v":""},{"$f":"IF(E29=\"\",\"\",IF(②選手情報入力!T38=\"\",\"\",IF(K29=1,IF(②選手情報入力!$T$7=\"\",0,1),IF(②選手情報入力!$T$8=\"\",0,1))))","v":""},{"$f":"IF(E29=\"\",\"\",IF(②選手情報入力!T38=\"\",\"\",2))","v":""},{"$f":"IF(E29=\"\",\"\",IF(②選手情報入力!V38=\"\",\"\",IF(K29=1,種目情報!$J$5,種目情報!$J$7)))","v":""},{"$f":"IF(E29=\"\",\"\",IF(②選手情報入力!V38=\"\",\"\",IF(K29=1,IF(②選手情報入力!$W$7=\"\",\"\",②選手情報入力!$W$7),IF(②選手情報入力!$W$8=\"\",\"\",②選手情報入力!$W$8))))","v":""},{"$f":"IF(E29=\"\",\"\",IF(②選手情報入力!V38=\"\",\"\",IF(K29=1,IF(②選手情報入力!$V$7=\"\",0,1),IF(②選手情報入力!$V$8=\"\",0,1))))","v":""},{"$f":"IF(E29=\"\",\"\",IF(②選手情報入力!V38=\"\",\"\",2))","v":""}]
["",{"$f":"IF(E30=\"\",\"\",①団体情報入力!$C$5)","v":""},null,{"$f":"IF(E30=\"\",\"\",①団体情報入力!C$10)","v":""},{"$f":"IF(②選手情報入力!C39=\"\",\"\",②選手情報入力!C39)","v":""},{"$f":"IF(E30=\"\",\"\",②選手情報入力!D39)","v":""},{"$f":"IF(E30=\"\",\"\",ASC(②選手情報入力!E39))","v":""},"",{"$f":"IF(E30=\"\",\"\",②選手情報入力!F39&\" \"&②選手情報入力!G39)","v":""},{"$f":"IF(E30=\"\",\"\",IF(②選手情報入力!H39=\"\",\"JPN\",LEFT(②選手情報入力!H39,3)))","v":""},{"$f":"IF(E30=\"\",\"\",IF(②選手情報入力!I39=\"男\",1,2))","v":""},{"$f":"IF(E30=\"\",\"\",IF(②選手情報入力!J39=\"\",\"\",②選手情報入力!J39))","v":""},{"$f":"IF(E30=\"\",\"\",LEFT(②選手情報入力!K39,4))","v":""},{"$f":"IF(E30=\"\",\"\",RIGHT(②選手情報入力!K39,4))","v":""},"",null,{"$f":"IF(E30=\"\",\"\",IF(②選手情報入力!L39=\"\",\"\",IF(K30=1,VLOOKUP(②選手情報入力!L39,種目情報!$A$4:$B$167,2,FALSE),VLOOKUP(②選手情報入力!L39,種目情報!$E$4:$F$142,2,FALSE))))","v":""},{"$f":"IF(E30=\"\",\"\",IF(②選手情報入力!M39=\"\",\"\",②選手情報入力!M39))","v":""},null,{"$f":"IF(E30=\"\",\"\",IF(②選手情報入力!L39=\"\",\"\",IF(K30=1,VLOOKUP(②選手情報入力!L39,種目情報!$A$4:$C$135,3,FALSE),VLOOKUP(②選手情報入力!L39,種目情報!$E$4:$G$135,3,FALSE))))","v":""},{"$f":"IF(E30=\"\",\"\",IF(②選手情報入力!O39=\"\",\"\",IF(K30=1,VLOOKUP(②選手情報入力!O39,種目情報!$A$5:$B$151,2,FALSE),VLOOKUP(②選手情報入力!O39,種目情報!$E$5:$F$135,2,FALSE))))","v":""},{"$f":"IF(E30=\"\",\"\",IF(②選手情報入力!P39=\"\",\"\",②選手情報入力!P39))","v":""},null,{"$f":"IF(E30=\"\",\"\",IF(②選手情報入力!O39=\"\",\"\",IF(K30=1,VLOOKUP(②選手情報入力!O39,種目情報!$A$5:$C$135,3,FALSE),VLOOKUP(②選手情報入力!O39,種目情報!$E$5:$G$135,3,FALSE))))","v":""},{"$f":"IF(E30=\"\",\"\",IF(②選手情報入力!R39=\"\",\"\",IF(K30=1,VLOOKUP(②選手情報入力!R39,種目情報!$A$5:$B$151,2,FALSE),VLOOKUP(②選手情報入力!R39,種目情報!$E$5:$F$135,2,FALSE))))","v":""},{"$f":"IF(E30=\"\",\"\",IF(②選手情報入力!S39=\"\",\"\",②選手情報入力!S39))","v":""},null,{"$f":"IF(E30=\"\",\"\",IF(②選手情報入力!R39=\"\",\"\",IF(K30=1,VLOOKUP(②選手情報入力!R39,種目情報!$A$5:$C$135,3,FALSE),VLOOKUP(②選手情報入力!R39,種目情報!$E$5:$G$135,3,FALSE))))","v":""},{"$f":"IF(E30=\"\",\"\",IF(②選手情報入力!T39=\"\",\"\",IF(K30=1,種目情報!$J$4,種目情報!$J$6)))","v":""},{"$f":"IF(E30=\"\",\"\",IF(②選手情報入力!T39=\"\",\"\",IF(K30=1,IF(②選手情報入力!$U$7=\"\",\"\",②選手情報入力!$U$7),IF(②選手情報入力!$U$8=\"\",\"\",②選手情報入力!$U$8))))","v":""},{"$f":"IF(E30=\"\",\"\",IF(②選手情報入力!T39=\"\",\"\",IF(K30=1,IF(②選手情報入力!$T$7=\"\",0,1),IF(②選手情報入力!$T$8=\"\",0,1))))","v":""},{"$f":"IF(E30=\"\",\"\",IF(②選手情報入力!T39=\"\",\"\",2))","v":""},{"$f":"IF(E30=\"\",\"\",IF(②選手情報入力!V39=\"\",\"\",IF(K30=1,種目情報!$J$5,種目情報!$J$7)))","v":""},{"$f":"IF(E30=\"\",\"\",IF(②選手情報入力!V39=\"\",\"\",IF(K30=1,IF(②選手情報入力!$W$7=\"\",\"\",②選手情報入力!$W$7),IF(②選手情報入力!$W$8=\"\",\"\",②選手情報入力!$W$8))))","v":""},{"$f":"IF(E30=\"\",\"\",IF(②選手情報入力!V39=\"\",\"\",IF(K30=1,IF(②選手情報入力!$V$7=\"\",0,1),IF(②選手情報入力!$V$8=\"\",0,1))))","v":""},{"$f":"IF(E30=\"\",\"\",IF(②選手情報入力!V39=\"\",\"\",2))","v":""}]
["",{"$f":"IF(E31=\"\",\"\",①団体情報入力!$C$5)","v":""},null,{"$f":"IF(E31=\"\",\"\",①団体情報入力!C$10)","v":""},{"$f":"IF(②選手情報入力!C40=\"\",\"\",②選手情報入力!C40)","v":""},{"$f":"IF(E31=\"\",\"\",②選手情報入力!D40)","v":""},{"$f":"IF(E31=\"\",\"\",ASC(②選手情報入力!E40))","v":""},"",{"$f":"IF(E31=\"\",\"\",②選手情報入力!F40&\" \"&②選手情報入力!G40)","v":""},{"$f":"IF(E31=\"\",\"\",IF(②選手情報入力!H40=\"\",\"JPN\",LEFT(②選手情報入力!H40,3)))","v":""},{"$f":"IF(E31=\"\",\"\",IF(②選手情報入力!I40=\"男\",1,2))","v":""},{"$f":"IF(E31=\"\",\"\",IF(②選手情報入力!J40=\"\",\"\",②選手情報入力!J40))","v":""},{"$f":"IF(E31=\"\",\"\",LEFT(②選手情報入力!K40,4))","v":""},{"$f":"IF(E31=\"\",\"\",RIGHT(②選手情報入力!K40,4))","v":""},"",null,{"$f":"IF(E31=\"\",\"\",IF(②選手情報入力!L40=\"\",\"\",IF(K31=1,VLOOKUP(②選手情報入力!L40,種目情報!$A$4:$B$167,2,FALSE),VLOOKUP(②選手情報入力!L40,種目情報!$E$4:$F$142,2,FALSE))))","v":""},{"$f":"IF(E31=\"\",\"\",IF(②選手情報入力!M40=\"\",\"\",②選手情報入力!M40))","v":""},null,{"$f":"IF(E31=\"\",\"\",IF(②選手情報入力!L40=\"\",\"\",IF(K31=1,VLOOKUP(②選手情報入力!L40,種目情報!$A$4:$C$135,3,FALSE),VLOOKUP(②選手情報入力!L40,種目情報!$E$4:$G$135,3,FALSE))))","v":""},{"$f":"IF(E31=\"\",\"\",IF(②選手情報入力!O40=\"\",\"\",IF(K31=1,VLOOKUP(②選手情報入力!O40,種目情報!$A$5:$B$151,2,FALSE),VLOOKUP(②選手情報入力!O40,種目情報!$E$5:$F$135,2,FALSE))))","v":""},{"$f":"IF(E31=\"\",\"\",IF(②選手情報入力!P40=\"\",\"\",②選手情報入力!P40))","v":""},null,{"$f":"IF(E31=\"\",\"\",IF(②選手情報入力!O40=\"\",\"\",IF(K31=1,VLOOKUP(②選手情報入力!O40,種目情報!$A$5:$C$135,3,FALSE),VLOOKUP(②選手情報入力!O40,種目情報!$E$5:$G$135,3,FALSE))))","v":""},{"$f":"IF(E31=\"\",\"\",IF(②選手情報入力!R40=\"\",\"\",IF(K31=1,VLOOKUP(②選手情報入力!R40,種目情報!$A$5:$B$151,2,FALSE),VLOOKUP(②選手情報入力!R40,種目情報!$E$5:$F$135,2,FALSE))))","v":""},{"$f":"IF(E31=\"\",\"\",IF(②選手情報入力!S40=\"\",\"\",②選手情報入力!S40))","v":""},null,{"$f":"IF(E31=\"\",\"\",IF(②選手情報入力!R40=\"\",\"\",IF(K31=1,VLOOKUP(②選手情報入力!R40,種目情報!$A$5:$C$135,3,FALSE),VLOOKUP(②選手情報入力!R40,種目情報!$E$5:$G$135,3,FALSE))))","v":""},{"$f":"IF(E31=\"\",\"\",IF(②選手情報入力!T40=\"\",\"\",IF(K31=1,種目情報!$J$4,種目情報!$J$6)))","v":""},{"$f":"IF(E31=\"\",\"\",IF(②選手情報入力!T40=\"\",\"\",IF(K31=1,IF(②選手情報入力!$U$7=\"\",\"\",②選手情報入力!$U$7),IF(②選手情報入力!$U$8=\"\",\"\",②選手情報入力!$U$8))))","v":""},{"$f":"IF(E31=\"\",\"\",IF(②選手情報入力!T40=\"\",\"\",IF(K31=1,IF(②選手情報入力!$T$7=\"\",0,1),IF(②選手情報入力!$T$8=\"\",0,1))))","v":""},{"$f":"IF(E31=\"\",\"\",IF(②選手情報入力!T40=\"\",\"\",2))","v":""},{"$f":"IF(E31=\"\",\"\",IF(②選手情報入力!V40=\"\",\"\",IF(K31=1,種目情報!$J$5,種目情報!$J$7)))","v":""},{"$f":"IF(E31=\"\",\"\",IF(②選手情報入力!V40=\"\",\"\",IF(K31=1,IF(②選手情報入力!$W$7=\"\",\"\",②選手情報入力!$W$7),IF(②選手情報入力!$W$8=\"\",\"\",②選手情報入力!$W$8))))","v":""},{"$f":"IF(E31=\"\",\"\",IF(②選手情報入力!V40=\"\",\"\",IF(K31=1,IF(②選手情報入力!$V$7=\"\",0,1),IF(②選手情報入力!$V$8=\"\",0,1))))","v":""},{"$f":"IF(E31=\"\",\"\",IF(②選手情報入力!V40=\"\",\"\",2))","v":""}]
["",{"$f":"IF(E32=\"\",\"\",①団体情報入力!$C$5)","v":""},null,{"$f":"IF(E32=\"\",\"\",①団体情報入力!C$10)","v":""},{"$f":"IF(②選手情報入力!C41=\"\",\"\",②選手情報入力!C41)","v":""},{"$f":"IF(E32=\"\",\"\",②選手情報入力!D41)","v":""},{"$f":"IF(E32=\"\",\"\",ASC(②選手情報入力!E41))","v":""},"",{"$f":"IF(E32=\"\",\"\",②選手情報入力!F41&\" \"&②選手情報入力!G41)","v":""},{"$f":"IF(E32=\"\",\"\",IF(②選手情報入力!H41=\"\",\"JPN\",LEFT(②選手情報入力!H41,3)))","v":""},{"$f":"IF(E32=\"\",\"\",IF(②選手情報入力!I41=\"男\",1,2))","v":""},{"$f":"IF(E32=\"\",\"\",IF(②選手情報入力!J41=\"\",\"\",②選手情報入力!J41))","v":""},{"$f":"IF(E32=\"\",\"\",LEFT(②選手情報入力!K41,4))","v":""},{"$f":"IF(E32=\"\",\"\",RIGHT(②選手情報入力!K41,4))","v":""},"",null,{"$f":"IF(E32=\"\",\"\",IF(②選手情報入力!L41=\"\",\"\",IF(K32=1,VLOOKUP(②選手情報入力!L41,種目情報!$A$4:$B$167,2,FALSE),VLOOKUP(②選手情報入力!L41,種目情報!$E$4:$F$142,2,FALSE))))","v":""},{"$f":"IF(E32=\"\",\"\",IF(②選手情報入力!M41=\"\",\"\",②選手情報入力!M41))","v":""},null,{"$f":"IF(E32=\"\",\"\",IF(②選手情報入力!L41=\"\",\"\",IF(K32=1,VLOOKUP(②選手情報入力!L41,種目情報!$A$4:$C$135,3,FALSE),VLOOKUP(②選手情報入力!L41,種目情報!$E$4:$G$135,3,FALSE))))","v":""},{"$f":"IF(E32=\"\",\"\",IF(②選手情報入力!O41=\"\",\"\",IF(K32=1,VLOOKUP(②選手情報入力!O41,種目情報!$A$5:$B$151,2,FALSE),VLOOKUP(②選手情報入力!O41,種目情報!$E$5:$F$135,2,FALSE))))","v":""},{"$f":"IF(E32=\"\",\"\",IF(②選手情報入力!P41=\"\",\"\",②選手情報入力!P41))","v":""},null,{"$f":"IF(E32=\"\",\"\",IF(②選手情報入力!O41=\"\",\"\",IF(K32=1,VLOOKUP(②選手情報入力!O41,種目情報!$A$5:$C$135,3,FALSE),VLOOKUP(②選手情報入力!O41,種目情報!$E$5:$G$135,3,FALSE))))","v":""},{"$f":"IF(E32=\"\",\"\",IF(②選手情報入力!R41=\"\",\"\",IF(K32=1,VLOOKUP(②選手情報入力!R41,種目情報!$A$5:$B$151,2,FALSE),VLOOKUP(②選手情報入力!R41,種目情報!$E$5:$F$135,2,FALSE))))","v":""},{"$f":"IF(E32=\"\",\"\",IF(②選手情報入力!S41=\"\",\"\",②選手情報入力!S41))","v":""},null,{"$f":"IF(E32=\"\",\"\",IF(②選手情報入力!R41=\"\",\"\",IF(K32=1,VLOOKUP(②選手情報入力!R41,種目情報!$A$5:$C$135,3,FALSE),VLOOKUP(②選手情報入力!R41,種目情報!$E$5:$G$135,3,FALSE))))","v":""},{"$f":"IF(E32=\"\",\"\",IF(②選手情報入力!T41=\"\",\"\",IF(K32=1,種目情報!$J$4,種目情報!$J$6)))","v":""},{"$f":"IF(E32=\"\",\"\",IF(②選手情報入力!T41=\"\",\"\",IF(K32=1,IF(②選手情報入力!$U$7=\"\",\"\",②選手情報入力!$U$7),IF(②選手情報入力!$U$8=\"\",\"\",②選手情報入力!$U$8))))","v":""},{"$f":"IF(E32=\"\",\"\",IF(②選手情報入力!T41=\"\",\"\",IF(K32=1,IF(②選手情報入力!$T$7=\"\",0,1),IF(②選手情報入力!$T$8=\"\",0,1))))","v":""},{"$f":"IF(E32=\"\",\"\",IF(②選手情報入力!T41=\"\",\"\",2))","v":""},{"$f":"IF(E32=\"\",\"\",IF(②選手情報入力!V41=\"\",\"\",IF(K32=1,種目情報!$J$5,種目情報!$J$7)))","v":""},{"$f":"IF(E32=\"\",\"\",IF(②選手情報入力!V41=\"\",\"\",IF(K32=1,IF(②選手情報入力!$W$7=\"\",\"\",②選手情報入力!$W$7),IF(②選手情報入力!$W$8=\"\",\"\",②選手情報入力!$W$8))))","v":""},{"$f":"IF(E32=\"\",\"\",IF(②選手情報入力!V41=\"\",\"\",IF(K32=1,IF(②選手情報入力!$V$7=\"\",0,1),IF(②選手情報入力!$V$8=\"\",0,1))))","v":""},{"$f":"IF(E32=\"\",\"\",IF(②選手情報入力!V41=\"\",\"\",2))","v":""}]
["",{"$f":"IF(E33=\"\",\"\",①団体情報入力!$C$5)","v":""},null,{"$f":"IF(E33=\"\",\"\",①団体情報入力!C$10)","v":""},{"$f":"IF(②選手情報入力!C42=\"\",\"\",②選手情報入力!C42)","v":""},{"$f":"IF(E33=\"\",\"\",②選手情報入力!D42)","v":""},{"$f":"IF(E33=\"\",\"\",ASC(②選手情報入力!E42))","v":""},"",{"$f":"IF(E33=\"\",\"\",②選手情報入力!F42&\" \"&②選手情報入力!G42)","v":""},{"$f":"IF(E33=\"\",\"\",IF(②選手情報入力!H42=\"\",\"JPN\",LEFT(②選手情報入力!H42,3)))","v":""},{"$f":"IF(E33=\"\",\"\",IF(②選手情報入力!I42=\"男\",1,2))","v":""},{"$f":"IF(E33=\"\",\"\",IF(②選手情報入力!J42=\"\",\"\",②選手情報入力!J42))","v":""},{"$f":"IF(E33=\"\",\"\",LEFT(②選手情報入力!K42,4))","v":""},{"$f":"IF(E33=\"\",\"\",RIGHT(②選手情報入力!K42,4))","v":""},"",null,{"$f":"IF(E33=\"\",\"\",IF(②選手情報入力!L42=\"\",\"\",IF(K33=1,VLOOKUP(②選手情報入力!L42,種目情報!$A$4:$B$167,2,FALSE),VLOOKUP(②選手情報入力!L42,種目情報!$E$4:$F$142,2,FALSE))))","v":""},{"$f":"IF(E33=\"\",\"\",IF(②選手情報入力!M42=\"\",\"\",②選手情報入力!M42))","v":""},null,{"$f":"IF(E33=\"\",\"\",IF(②選手情報入力!L42=\"\",\"\",IF(K33=1,VLOOKUP(②選手情報入力!L42,種目情報!$A$4:$C$135,3,FALSE),VLOOKUP(②選手情報入力!L42,種目情報!$E$4:$G$135,3,FALSE))))","v":""},{"$f":"IF(E33=\"\",\"\",IF(②選手情報入力!O42=\"\",\"\",IF(K33=1,VLOOKUP(②選手情報入力!O42,種目情報!$A$5:$B$151,2,FALSE),VLOOKUP(②選手情報入力!O42,種目情報!$E$5:$F$135,2,FALSE))))","v":""},{"$f":"IF(E33=\"\",\"\",IF(②選手情報入力!P42=\"\",\"\",②選手情報入力!P42))","v":""},null,{"$f":"IF(E33=\"\",\"\",IF(②選手情報入力!O42=\"\",\"\",IF(K33=1,VLOOKUP(②選手情報入力!O42,種目情報!$A$5:$C$135,3,FALSE),VLOOKUP(②選手情報入力!O42,種目情報!$E$5:$G$135,3,FALSE))))","v":""},{"$f":"IF(E33=\"\",\"\",IF(②選手情報入力!R42=\"\",\"\",IF(K33=1,VLOOKUP(②選手情報入力!R42,種目情報!$A$5:$B$151,2,FALSE),VLOOKUP(②選手情報入力!R42,種目情報!$E$5:$F$135,2,FALSE))))","v":""},{"$f":"IF(E33=\"\",\"\",IF(②選手情報入力!S42=\"\",\"\",②選手情報入力!S42))","v":""},null,{"$f":"IF(E33=\"\",\"\",IF(②選手情報入力!R42=\"\",\"\",IF(K33=1,VLOOKUP(②選手情報入力!R42,種目情報!$A$5:$C$135,3,FALSE),VLOOKUP(②選手情報入力!R42,種目情報!$E$5:$G$135,3,FALSE))))","v":""},{"$f":"IF(E33=\"\",\"\",IF(②選手情報入力!T42=\"\",\"\",IF(K33=1,種目情報!$J$4,種目情報!$J$6)))","v":""},{"$f":"IF(E33=\"\",\"\",IF(②選手情報入力!T42=\"\",\"\",IF(K33=1,IF(②選手情報入力!$U$7=\"\",\"\",②選手情報入力!$U$7),IF(②選手情報入力!$U$8=\"\",\"\",②選手情報入力!$U$8))))","v":""},{"$f":"IF(E33=\"\",\"\",IF(②選手情報入力!T42=\"\",\"\",IF(K33=1,IF(②選手情報入力!$T$7=\"\",0,1),IF(②選手情報入力!$T$8=\"\",0,1))))","v":""},{"$f":"IF(E33=\"\",\"\",IF(②選手情報入力!T42=\"\",\"\",2))","v":""},{"$f":"IF(E33=\"\",\"\",IF(②選手情報入力!V42=\"\",\"\",IF(K33=1,種目情報!$J$5,種目情報!$J$7)))","v":""},{"$f":"IF(E33=\"\",\"\",IF(②選手情報入力!V42=\"\",\"\",IF(K33=1,IF(②選手情報入力!$W$7=\"\",\"\",②選手情報入力!$W$7),IF(②選手情報入力!$W$8=\"\",\"\",②選手情報入力!$W$8))))","v":""},{"$f":"IF(E33=\"\",\"\",IF(②選手情報入力!V42=\"\",\"\",IF(K33=1,IF(②選手情報入力!$V$7=\"\",0,1),IF(②選手情報入力!$V$8=\"\",0,1))))","v":""},{"$f":"IF(E33=\"\",\"\",IF(②選手情報入力!V42=\"\",\"\",2))","v":""}]
["",{"$f":"IF(E34=\"\",\"\",①団体情報入力!$C$5)","v":""},null,{"$f":"IF(E34=\"\",\"\",①団体情報入力!C$10)","v":""},{"$f":"IF(②選手情報入力!C43=\"\",\"\",②選手情報入力!C43)","v":""},{"$f":"IF(E34=\"\",\"\",②選手情報入力!D43)","v":""},{"$f":"IF(E34=\"\",\"\",ASC(②選手情報入力!E43))","v":""},"",{"$f":"IF(E34=\"\",\"\",②選手情報入力!F43&\" \"&②選手情報入力!G43)","v":""},{"$f":"IF(E34=\"\",\"\",IF(②選手情報入力!H43=\"\",\"JPN\",LEFT(②選手情報入力!H43,3)))","v":""},{"$f":"IF(E34=\"\",\"\",IF(②選手情報入力!I43=\"男\",1,2))","v":""},{"$f":"IF(E34=\"\",\"\",IF(②選手情報入力!J43=\"\",\"\",②選手情報入力!J43))","v":""},{"$f":"IF(E34=\"\",\"\",LEFT(②選手情報入力!K43,4))","v":""},{"$f":"IF(E34=\"\",\"\",RIGHT(②選手情報入力!K43,4))","v":""},"",null,{"$f":"IF(E34=\"\",\"\",IF(②選手情報入力!L43=\"\",\"\",IF(K34=1,VLOOKUP(②選手情報入力!L43,種目情報!$A$4:$B$167,2,FALSE),VLOOKUP(②選手情報入力!L43,種目情報!$E$4:$F$142,2,FALSE))))","v":""},{"$f":"IF(E34=\"\",\"\",IF(②選手情報入力!M43=\"\",\"\",②選手情報入力!M43))","v":""},null,{"$f":"IF(E34=\"\",\"\",IF(②選手情報入力!L43=\"\",\"\",IF(K34=1,VLOOKUP(②選手情報入力!L43,種目情報!$A$4:$C$135,3,FALSE),VLOOKUP(②選手情報入力!L43,種目情報!$E$4:$G$135,3,FALSE))))","v":""},{"$f":"IF(E34=\"\",\"\",IF(②選手情報入力!O43=\"\",\"\",IF(K34=1,VLOOKUP(②選手情報入力!O43,種目情報!$A$5:$B$151,2,FALSE),VLOOKUP(②選手情報入力!O43,種目情報!$E$5:$F$135,2,FALSE))))","v":""},{"$f":"IF(E34=\"\",\"\",IF(②選手情報入力!P43=\"\",\"\",②選手情報入力!P43))","v":""},null,{"$f":"IF(E34=\"\",\"\",IF(②選手情報入力!O43=\"\",\"\",IF(K34=1,VLOOKUP(②選手情報入力!O43,種目情報!$A$5:$C$135,3,FALSE),VLOOKUP(②選手情報入力!O43,種目情報!$E$5:$G$135,3,FALSE))))","v":""},{"$f":"IF(E34=\"\",\"\",IF(②選手情報入力!R43=\"\",\"\",IF(K34=1,VLOOKUP(②選手情報入力!R43,種目情報!$A$5:$B$151,2,FALSE),VLOOKUP(②選手情報入力!R43,種目情報!$E$5:$F$135,2,FALSE))))","v":""},{"$f":"IF(E34=\"\",\"\",IF(②選手情報入力!S43=\"\",\"\",②選手情報入力!S43))","v":""},null,{"$f":"IF(E34=\"\",\"\",IF(②選手情報入力!R43=\"\",\"\",IF(K34=1,VLOOKUP(②選手情報入力!R43,種目情報!$A$5:$C$135,3,FALSE),VLOOKUP(②選手情報入力!R43,種目情報!$E$5:$G$135,3,FALSE))))","v":""},{"$f":"IF(E34=\"\",\"\",IF(②選手情報入力!T43=\"\",\"\",IF(K34=1,種目情報!$J$4,種目情報!$J$6)))","v":""},{"$f":"IF(E34=\"\",\"\",IF(②選手情報入力!T43=\"\",\"\",IF(K34=1,IF(②選手情報入力!$U$7=\"\",\"\",②選手情報入力!$U$7),IF(②選手情報入力!$U$8=\"\",\"\",②選手情報入力!$U$8))))","v":""},{"$f":"IF(E34=\"\",\"\",IF(②選手情報入力!T43=\"\",\"\",IF(K34=1,IF(②選手情報入力!$T$7=\"\",0,1),IF(②選手情報入力!$T$8=\"\",0,1))))","v":""},{"$f":"IF(E34=\"\",\"\",IF(②選手情報入力!T43=\"\",\"\",2))","v":""},{"$f":"IF(E34=\"\",\"\",IF(②選手情報入力!V43=\"\",\"\",IF(K34=1,種目情報!$J$5,種目情報!$J$7)))","v":""},{"$f":"IF(E34=\"\",\"\",IF(②選手情報入力!V43=\"\",\"\",IF(K34=1,IF(②選手情報入力!$W$7=\"\",\"\",②選手情報入力!$W$7),IF(②選手情報入力!$W$8=\"\",\"\",②選手情報入力!$W$8))))","v":""},{"$f":"IF(E34=\"\",\"\",IF(②選手情報入力!V43=\"\",\"\",IF(K34=1,IF(②選手情報入力!$V$7=\"\",0,1),IF(②選手情報入力!$V$8=\"\",0,1))))","v":""},{"$f":"IF(E34=\"\",\"\",IF(②選手情報入力!V43=\"\",\"\",2))","v":""}]
["",{"$f":"IF(E35=\"\",\"\",①団体情報入力!$C$5)","v":""},null,{"$f":"IF(E35=\"\",\"\",①団体情報入力!C$10)","v":""},{"$f":"IF(②選手情報入力!C44=\"\",\"\",②選手情報入力!C44)","v":""},{"$f":"IF(E35=\"\",\"\",②選手情報入力!D44)","v":""},{"$f":"IF(E35=\"\",\"\",ASC(②選手情報入力!E44))","v":""},"",{"$f":"IF(E35=\"\",\"\",②選手情報入力!F44&\" \"&②選手情報入力!G44)","v":""},{"$f":"IF(E35=\"\",\"\",IF(②選手情報入力!H44=\"\",\"JPN\",LEFT(②選手情報入力!H44,3)))","v":""},{"$f":"IF(E35=\"\",\"\",IF(②選手情報入力!I44=\"男\",1,2))","v":""},{"$f":"IF(E35=\"\",\"\",IF(②選手情報入力!J44=\"\",\"\",②選手情報入力!J44))","v":""},{"$f":"IF(E35=\"\",\"\",LEFT(②選手情報入力!K44,4))","v":""},{"$f":"IF(E35=\"\",\"\",RIGHT(②選手情報入力!K44,4))","v":""},"",null,{"$f":"IF(E35=\"\",\"\",IF(②選手情報入力!L44=\"\",\"\",IF(K35=1,VLOOKUP(②選手情報入力!L44,種目情報!$A$4:$B$167,2,FALSE),VLOOKUP(②選手情報入力!L44,種目情報!$E$4:$F$142,2,FALSE))))","v":""},{"$f":"IF(E35=\"\",\"\",IF(②選手情報入力!M44=\"\",\"\",②選手情報入力!M44))","v":""},null,{"$f":"IF(E35=\"\",\"\",IF(②選手情報入力!L44=\"\",\"\",IF(K35=1,VLOOKUP(②選手情報入力!L44,種目情報!$A$4:$C$135,3,FALSE),VLOOKUP(②選手情報入力!L44,種目情報!$E$4:$G$135,3,FALSE))))","v":""},{"$f":"IF(E35=\"\",\"\",IF(②選手情報入力!O44=\"\",\"\",IF(K35=1,VLOOKUP(②選手情報入力!O44,種目情報!$A$5:$B$151,2,FALSE),VLOOKUP(②選手情報入力!O44,種目情報!$E$5:$F$135,2,FALSE))))","v":""},{"$f":"IF(E35=\"\",\"\",IF(②選手情報入力!P44=\"\",\"\",②選手情報入力!P44))","v":""},null,{"$f":"IF(E35=\"\",\"\",IF(②選手情報入力!O44=\"\",\"\",IF(K35=1,VLOOKUP(②選手情報入力!O44,種目情報!$A$5:$C$135,3,FALSE),VLOOKUP(②選手情報入力!O44,種目情報!$E$5:$G$135,3,FALSE))))","v":""},{"$f":"IF(E35=\"\",\"\",IF(②選手情報入力!R44=\"\",\"\",IF(K35=1,VLOOKUP(②選手情報入力!R44,種目情報!$A$5:$B$151,2,FALSE),VLOOKUP(②選手情報入力!R44,種目情報!$E$5:$F$135,2,FALSE))))","v":""},{"$f":"IF(E35=\"\",\"\",IF(②選手情報入力!S44=\"\",\"\",②選手情報入力!S44))","v":""},null,{"$f":"IF(E35=\"\",\"\",IF(②選手情報入力!R44=\"\",\"\",IF(K35=1,VLOOKUP(②選手情報入力!R44,種目情報!$A$5:$C$135,3,FALSE),VLOOKUP(②選手情報入力!R44,種目情報!$E$5:$G$135,3,FALSE))))","v":""},{"$f":"IF(E35=\"\",\"\",IF(②選手情報入力!T44=\"\",\"\",IF(K35=1,種目情報!$J$4,種目情報!$J$6)))","v":""},{"$f":"IF(E35=\"\",\"\",IF(②選手情報入力!T44=\"\",\"\",IF(K35=1,IF(②選手情報入力!$U$7=\"\",\"\",②選手情報入力!$U$7),IF(②選手情報入力!$U$8=\"\",\"\",②選手情報入力!$U$8))))","v":""},{"$f":"IF(E35=\"\",\"\",IF(②選手情報入力!T44=\"\",\"\",IF(K35=1,IF(②選手情報入力!$T$7=\"\",0,1),IF(②選手情報入力!$T$8=\"\",0,1))))","v":""},{"$f":"IF(E35=\"\",\"\",IF(②選手情報入力!T44=\"\",\"\",2))","v":""},{"$f":"IF(E35=\"\",\"\",IF(②選手情報入力!V44=\"\",\"\",IF(K35=1,種目情報!$J$5,種目情報!$J$7)))","v":""},{"$f":"IF(E35=\"\",\"\",IF(②選手情報入力!V44=\"\",\"\",IF(K35=1,IF(②選手情報入力!$W$7=\"\",\"\",②選手情報入力!$W$7),IF(②選手情報入力!$W$8=\"\",\"\",②選手情報入力!$W$8))))","v":""},{"$f":"IF(E35=\"\",\"\",IF(②選手情報入力!V44=\"\",\"\",IF(K35=1,IF(②選手情報入力!$V$7=\"\",0,1),IF(②選手情報入力!$V$8=\"\",0,1))))","v":""},{"$f":"IF(E35=\"\",\"\",IF(②選手情報入力!V44=\"\",\"\",2))","v":""}]
["",{"$f":"IF(E36=\"\",\"\",①団体情報入力!$C$5)","v":""},null,{"$f":"IF(E36=\"\",\"\",①団体情報入力!C$10)","v":""},{"$f":"IF(②選手情報入力!C45=\"\",\"\",②選手情報入力!C45)","v":""},{"$f":"IF(E36=\"\",\"\",②選手情報入力!D45)","v":""},{"$f":"IF(E36=\"\",\"\",ASC(②選手情報入力!E45))","v":""},"",{"$f":"IF(E36=\"\",\"\",②選手情報入力!F45&\" \"&②選手情報入力!G45)","v":""},{"$f":"IF(E36=\"\",\"\",IF(②選手情報入力!H45=\"\",\"JPN\",LEFT(②選手情報入力!H45,3)))","v":""},{"$f":"IF(E36=\"\",\"\",IF(②選手情報入力!I45=\"男\",1,2))","v":""},{"$f":"IF(E36=\"\",\"\",IF(②選手情報入力!J45=\"\",\"\",②選手情報入力!J45))","v":""},{"$f":"IF(E36=\"\",\"\",LEFT(②選手情報入力!K45,4))","v":""},{"$f":"IF(E36=\"\",\"\",RIGHT(②選手情報入力!K45,4))","v":""},"",null,{"$f":"IF(E36=\"\",\"\",IF(②選手情報入力!L45=\"\",\"\",IF(K36=1,VLOOKUP(②選手情報入力!L45,種目情報!$A$4:$B$167,2,FALSE),VLOOKUP(②選手情報入力!L45,種目情報!$E$4:$F$142,2,FALSE))))","v":""},{"$f":"IF(E36=\"\",\"\",IF(②選手情報入力!M45=\"\",\"\",②選手情報入力!M45))","v":""},null,{"$f":"IF(E36=\"\",\"\",IF(②選手情報入力!L45=\"\",\"\",IF(K36=1,VLOOKUP(②選手情報入力!L45,種目情報!$A$4:$C$135,3,FALSE),VLOOKUP(②選手情報入力!L45,種目情報!$E$4:$G$135,3,FALSE))))","v":""},{"$f":"IF(E36=\"\",\"\",IF(②選手情報入力!O45=\"\",\"\",IF(K36=1,VLOOKUP(②選手情報入力!O45,種目情報!$A$5:$B$151,2,FALSE),VLOOKUP(②選手情報入力!O45,種目情報!$E$5:$F$135,2,FALSE))))","v":""},{"$f":"IF(E36=\"\",\"\",IF(②選手情報入力!P45=\"\",\"\",②選手情報入力!P45))","v":""},null,{"$f":"IF(E36=\"\",\"\",IF(②選手情報入力!O45=\"\",\"\",IF(K36=1,VLOOKUP(②選手情報入力!O45,種目情報!$A$5:$C$135,3,FALSE),VLOOKUP(②選手情報入力!O45,種目情報!$E$5:$G$135,3,FALSE))))","v":""},{"$f":"IF(E36=\"\",\"\",IF(②選手情報入力!R45=\"\",\"\",IF(K36=1,VLOOKUP(②選手情報入力!R45,種目情報!$A$5:$B$151,2,FALSE),VLOOKUP(②選手情報入力!R45,種目情報!$E$5:$F$135,2,FALSE))))","v":""},{"$f":"IF(E36=\"\",\"\",IF(②選手情報入力!S45=\"\",\"\",②選手情報入力!S45))","v":""},null,{"$f":"IF(E36=\"\",\"\",IF(②選手情報入力!R45=\"\",\"\",IF(K36=1,VLOOKUP(②選手情報入力!R45,種目情報!$A$5:$C$135,3,FALSE),VLOOKUP(②選手情報入力!R45,種目情報!$E$5:$G$135,3,FALSE))))","v":""},{"$f":"IF(E36=\"\",\"\",IF(②選手情報入力!T45=\"\",\"\",IF(K36=1,種目情報!$J$4,種目情報!$J$6)))","v":""},{"$f":"IF(E36=\"\",\"\",IF(②選手情報入力!T45=\"\",\"\",IF(K36=1,IF(②選手情報入力!$U$7=\"\",\"\",②選手情報入力!$U$7),IF(②選手情報入力!$U$8=\"\",\"\",②選手情報入力!$U$8))))","v":""},{"$f":"IF(E36=\"\",\"\",IF(②選手情報入力!T45=\"\",\"\",IF(K36=1,IF(②選手情報入力!$T$7=\"\",0,1),IF(②選手情報入力!$T$8=\"\",0,1))))","v":""},{"$f":"IF(E36=\"\",\"\",IF(②選手情報入力!T45=\"\",\"\",2))","v":""},{"$f":"IF(E36=\"\",\"\",IF(②選手情報入力!V45=\"\",\"\",IF(K36=1,種目情報!$J$5,種目情報!$J$7)))","v":""},{"$f":"IF(E36=\"\",\"\",IF(②選手情報入力!V45=\"\",\"\",IF(K36=1,IF(②選手情報入力!$W$7=\"\",\"\",②選手情報入力!$W$7),IF(②選手情報入力!$W$8=\"\",\"\",②選手情報入力!$W$8))))","v":""},{"$f":"IF(E36=\"\",\"\",IF(②選手情報入力!V45=\"\",\"\",IF(K36=1,IF(②選手情報入力!$V$7=\"\",0,1),IF(②選手情報入力!$V$8=\"\",0,1))))","v":""},{"$f":"IF(E36=\"\",\"\",IF(②選手情報入力!V45=\"\",\"\",2))","v":""}]
["",{"$f":"IF(E37=\"\",\"\",①団体情報入力!$C$5)","v":""},null,{"$f":"IF(E37=\"\",\"\",①団体情報入力!C$10)","v":""},{"$f":"IF(②選手情報入力!C46=\"\",\"\",②選手情報入力!C46)","v":""},{"$f":"IF(E37=\"\",\"\",②選手情報入力!D46)","v":""},{"$f":"IF(E37=\"\",\"\",ASC(②選手情報入力!E46))","v":""},"",{"$f":"IF(E37=\"\",\"\",②選手情報入力!F46&\" \"&②選手情報入力!G46)","v":""},{"$f":"IF(E37=\"\",\"\",IF(②選手情報入力!H46=\"\",\"JPN\",LEFT(②選手情報入力!H46,3)))","v":""},{"$f":"IF(E37=\"\",\"\",IF(②選手情報入力!I46=\"男\",1,2))","v":""},{"$f":"IF(E37=\"\",\"\",IF(②選手情報入力!J46=\"\",\"\",②選手情報入力!J46))","v":""},{"$f":"IF(E37=\"\",\"\",LEFT(②選手情報入力!K46,4))","v":""},{"$f":"IF(E37=\"\",\"\",RIGHT(②選手情報入力!K46,4))","v":""},"",null,{"$f":"IF(E37=\"\",\"\",IF(②選手情報入力!L46=\"\",\"\",IF(K37=1,VLOOKUP(②選手情報入力!L46,種目情報!$A$4:$B$167,2,FALSE),VLOOKUP(②選手情報入力!L46,種目情報!$E$4:$F$142,2,FALSE))))","v":""},{"$f":"IF(E37=\"\",\"\",IF(②選手情報入力!M46=\"\",\"\",②選手情報入力!M46))","v":""},null,{"$f":"IF(E37=\"\",\"\",IF(②選手情報入力!L46=\"\",\"\",IF(K37=1,VLOOKUP(②選手情報入力!L46,種目情報!$A$4:$C$135,3,FALSE),VLOOKUP(②選手情報入力!L46,種目情報!$E$4:$G$135,3,FALSE))))","v":""},{"$f":"IF(E37=\"\",\"\",IF(②選手情報入力!O46=\"\",\"\",IF(K37=1,VLOOKUP(②選手情報入力!O46,種目情報!$A$5:$B$151,2,FALSE),VLOOKUP(②選手情報入力!O46,種目情報!$E$5:$F$135,2,FALSE))))","v":""},{"$f":"IF(E37=\"\",\"\",IF(②選手情報入力!P46=\"\",\"\",②選手情報入力!P46))","v":""},null,{"$f":"IF(E37=\"\",\"\",IF(②選手情報入力!O46=\"\",\"\",IF(K37=1,VLOOKUP(②選手情報入力!O46,種目情報!$A$5:$C$135,3,FALSE),VLOOKUP(②選手情報入力!O46,種目情報!$E$5:$G$135,3,FALSE))))","v":""},{"$f":"IF(E37=\"\",\"\",IF(②選手情報入力!R46=\"\",\"\",IF(K37=1,VLOOKUP(②選手情報入力!R46,種目情報!$A$5:$B$151,2,FALSE),VLOOKUP(②選手情報入力!R46,種目情報!$E$5:$F$135,2,FALSE))))","v":""},{"$f":"IF(E37=\"\",\"\",IF(②選手情報入力!S46=\"\",\"\",②選手情報入力!S46))","v":""},null,{"$f":"IF(E37=\"\",\"\",IF(②選手情報入力!R46=\"\",\"\",IF(K37=1,VLOOKUP(②選手情報入力!R46,種目情報!$A$5:$C$135,3,FALSE),VLOOKUP(②選手情報入力!R46,種目情報!$E$5:$G$135,3,FALSE))))","v":""},{"$f":"IF(E37=\"\",\"\",IF(②選手情報入力!T46=\"\",\"\",IF(K37=1,種目情報!$J$4,種目情報!$J$6)))","v":""},{"$f":"IF(E37=\"\",\"\",IF(②選手情報入力!T46=\"\",\"\",IF(K37=1,IF(②選手情報入力!$U$7=\"\",\"\",②選手情報入力!$U$7),IF(②選手情報入力!$U$8=\"\",\"\",②選手情報入力!$U$8))))","v":""},{"$f":"IF(E37=\"\",\"\",IF(②選手情報入力!T46=\"\",\"\",IF(K37=1,IF(②選手情報入力!$T$7=\"\",0,1),IF(②選手情報入力!$T$8=\"\",0,1))))","v":""},{"$f":"IF(E37=\"\",\"\",IF(②選手情報入力!T46=\"\",\"\",2))","v":""},{"$f":"IF(E37=\"\",\"\",IF(②選手情報入力!V46=\"\",\"\",IF(K37=1,種目情報!$J$5,種目情報!$J$7)))","v":""},{"$f":"IF(E37=\"\",\"\",IF(②選手情報入力!V46=\"\",\"\",IF(K37=1,IF(②選手情報入力!$W$7=\"\",\"\",②選手情報入力!$W$7),IF(②選手情報入力!$W$8=\"\",\"\",②選手情報入力!$W$8))))","v":""},{"$f":"IF(E37=\"\",\"\",IF(②選手情報入力!V46=\"\",\"\",IF(K37=1,IF(②選手情報入力!$V$7=\"\",0,1),IF(②選手情報入力!$V$8=\"\",0,1))))","v":""},{"$f":"IF(E37=\"\",\"\",IF(②選手情報入力!V46=\"\",\"\",2))","v":""}]
["",{"$f":"IF(E38=\"\",\"\",①団体情報入力!$C$5)","v":""},null,{"$f":"IF(E38=\"\",\"\",①団体情報入力!C$10)","v":""},{"$f":"IF(②選手情報入力!C47=\"\",\"\",②選手情報入力!C47)","v":""},{"$f":"IF(E38=\"\",\"\",②選手情報入力!D47)","v":""},{"$f":"IF(E38=\"\",\"\",ASC(②選手情報入力!E47))","v":""},"",{"$f":"IF(E38=\"\",\"\",②選手情報入力!F47&\" \"&②選手情報入力!G47)","v":""},{"$f":"IF(E38=\"\",\"\",IF(②選手情報入力!H47=\"\",\"JPN\",LEFT(②選手情報入力!H47,3)))","v":""},{"$f":"IF(E38=\"\",\"\",IF(②選手情報入力!I47=\"男\",1,2))","v":""},{"$f":"IF(E38=\"\",\"\",IF(②選手情報入力!J47=\"\",\"\",②選手情報入力!J47))","v":""},{"$f":"IF(E38=\"\",\"\",LEFT(②選手情報入力!K47,4))","v":""},{"$f":"IF(E38=\"\",\"\",RIGHT(②選手情報入力!K47,4))","v":""},"",null,{"$f":"IF(E38=\"\",\"\",IF(②選手情報入力!L47=\"\",\"\",IF(K38=1,VLOOKUP(②選手情報入力!L47,種目情報!$A$4:$B$167,2,FALSE),VLOOKUP(②選手情報入力!L47,種目情報!$E$4:$F$142,2,FALSE))))","v":""},{"$f":"IF(E38=\"\",\"\",IF(②選手情報入力!M47=\"\",\"\",②選手情報入力!M47))","v":""},null,{"$f":"IF(E38=\"\",\"\",IF(②選手情報入力!L47=\"\",\"\",IF(K38=1,VLOOKUP(②選手情報入力!L47,種目情報!$A$4:$C$135,3,FALSE),VLOOKUP(②選手情報入力!L47,種目情報!$E$4:$G$135,3,FALSE))))","v":""},{"$f":"IF(E38=\"\",\"\",IF(②選手情報入力!O47=\"\",\"\",IF(K38=1,VLOOKUP(②選手情報入力!O47,種目情報!$A$5:$B$151,2,FALSE),VLOOKUP(②選手情報入力!O47,種目情報!$E$5:$F$135,2,FALSE))))","v":""},{"$f":"IF(E38=\"\",\"\",IF(②選手情報入力!P47=\"\",\"\",②選手情報入力!P47))","v":""},null,{"$f":"IF(E38=\"\",\"\",IF(②選手情報入力!O47=\"\",\"\",IF(K38=1,VLOOKUP(②選手情報入力!O47,種目情報!$A$5:$C$135,3,FALSE),VLOOKUP(②選手情報入力!O47,種目情報!$E$5:$G$135,3,FALSE))))","v":""},{"$f":"IF(E38=\"\",\"\",IF(②選手情報入力!R47=\"\",\"\",IF(K38=1,VLOOKUP(②選手情報入力!R47,種目情報!$A$5:$B$151,2,FALSE),VLOOKUP(②選手情報入力!R47,種目情報!$E$5:$F$135,2,FALSE))))","v":""},{"$f":"IF(E38=\"\",\"\",IF(②選手情報入力!S47=\"\",\"\",②選手情報入力!S47))","v":""},null,{"$f":"IF(E38=\"\",\"\",IF(②選手情報入力!R47=\"\",\"\",IF(K38=1,VLOOKUP(②選手情報入力!R47,種目情報!$A$5:$C$135,3,FALSE),VLOOKUP(②選手情報入力!R47,種目情報!$E$5:$G$135,3,FALSE))))","v":""},{"$f":"IF(E38=\"\",\"\",IF(②選手情報入力!T47=\"\",\"\",IF(K38=1,種目情報!$J$4,種目情報!$J$6)))","v":""},{"$f":"IF(E38=\"\",\"\",IF(②選手情報入力!T47=\"\",\"\",IF(K38=1,IF(②選手情報入力!$U$7=\"\",\"\",②選手情報入力!$U$7),IF(②選手情報入力!$U$8=\"\",\"\",②選手情報入力!$U$8))))","v":""},{"$f":"IF(E38=\"\",\"\",IF(②選手情報入力!T47=\"\",\"\",IF(K38=1,IF(②選手情報入力!$T$7=\"\",0,1),IF(②選手情報入力!$T$8=\"\",0,1))))","v":""},{"$f":"IF(E38=\"\",\"\",IF(②選手情報入力!T47=\"\",\"\",2))","v":""},{"$f":"IF(E38=\"\",\"\",IF(②選手情報入力!V47=\"\",\"\",IF(K38=1,種目情報!$J$5,種目情報!$J$7)))","v":""},{"$f":"IF(E38=\"\",\"\",IF(②選手情報入力!V47=\"\",\"\",IF(K38=1,IF(②選手情報入力!$W$7=\"\",\"\",②選手情報入力!$W$7),IF(②選手情報入力!$W$8=\"\",\"\",②選手情報入力!$W$8))))","v":""},{"$f":"IF(E38=\"\",\"\",IF(②選手情報入力!V47=\"\",\"\",IF(K38=1,IF(②選手情報入力!$V$7=\"\",0,1),IF(②選手情報入力!$V$8=\"\",0,1))))","v":""},{"$f":"IF(E38=\"\",\"\",IF(②選手情報入力!V47=\"\",\"\",2))","v":""}]
["",{"$f":"IF(E39=\"\",\"\",①団体情報入力!$C$5)","v":""},null,{"$f":"IF(E39=\"\",\"\",①団体情報入力!C$10)","v":""},{"$f":"IF(②選手情報入力!C48=\"\",\"\",②選手情報入力!C48)","v":""},{"$f":"IF(E39=\"\",\"\",②選手情報入力!D48)","v":""},{"$f":"IF(E39=\"\",\"\",ASC(②選手情報入力!E48))","v":""},"",{"$f":"IF(E39=\"\",\"\",②選手情報入力!F48&\" \"&②選手情報入力!G48)","v":""},{"$f":"IF(E39=\"\",\"\",IF(②選手情報入力!H48=\"\",\"JPN\",LEFT(②選手情報入力!H48,3)))","v":""},{"$f":"IF(E39=\"\",\"\",IF(②選手情報入力!I48=\"男\",1,2))","v":""},{"$f":"IF(E39=\"\",\"\",IF(②選手情報入力!J48=\"\",\"\",②選手情報入力!J48))","v":""},{"$f":"IF(E39=\"\",\"\",LEFT(②選手情報入力!K48,4))","v":""},{"$f":"IF(E39=\"\",\"\",RIGHT(②選手情報入力!K48,4))","v":""},"",null,{"$f":"IF(E39=\"\",\"\",IF(②選手情報入力!L48=\"\",\"\",IF(K39=1,VLOOKUP(②選手情報入力!L48,種目情報!$A$4:$B$167,2,FALSE),VLOOKUP(②選手情報入力!L48,種目情報!$E$4:$F$142,2,FALSE))))","v":""},{"$f":"IF(E39=\"\",\"\",IF(②選手情報入力!M48=\"\",\"\",②選手情報入力!M48))","v":""},null,{"$f":"IF(E39=\"\",\"\",IF(②選手情報入力!L48=\"\",\"\",IF(K39=1,VLOOKUP(②選手情報入力!L48,種目情報!$A$4:$C$135,3,FALSE),VLOOKUP(②選手情報入力!L48,種目情報!$E$4:$G$135,3,FALSE))))","v":""},{"$f":"IF(E39=\"\",\"\",IF(②選手情報入力!O48=\"\",\"\",IF(K39=1,VLOOKUP(②選手情報入力!O48,種目情報!$A$5:$B$151,2,FALSE),VLOOKUP(②選手情報入力!O48,種目情報!$E$5:$F$135,2,FALSE))))","v":""},{"$f":"IF(E39=\"\",\"\",IF(②選手情報入力!P48=\"\",\"\",②選手情報入力!P48))","v":""},null,{"$f":"IF(E39=\"\",\"\",IF(②選手情報入力!O48=\"\",\"\",IF(K39=1,VLOOKUP(②選手情報入力!O48,種目情報!$A$5:$C$135,3,FALSE),VLOOKUP(②選手情報入力!O48,種目情報!$E$5:$G$135,3,FALSE))))","v":""},{"$f":"IF(E39=\"\",\"\",IF(②選手情報入力!R48=\"\",\"\",IF(K39=1,VLOOKUP(②選手情報入力!R48,種目情報!$A$5:$B$151,2,FALSE),VLOOKUP(②選手情報入力!R48,種目情報!$E$5:$F$135,2,FALSE))))","v":""},{"$f":"IF(E39=\"\",\"\",IF(②選手情報入力!S48=\"\",\"\",②選手情報入力!S48))","v":""},null,{"$f":"IF(E39=\"\",\"\",IF(②選手情報入力!R48=\"\",\"\",IF(K39=1,VLOOKUP(②選手情報入力!R48,種目情報!$A$5:$C$135,3,FALSE),VLOOKUP(②選手情報入力!R48,種目情報!$E$5:$G$135,3,FALSE))))","v":""},{"$f":"IF(E39=\"\",\"\",IF(②選手情報入力!T48=\"\",\"\",IF(K39=1,種目情報!$J$4,種目情報!$J$6)))","v":""},{"$f":"IF(E39=\"\",\"\",IF(②選手情報入力!T48=\"\",\"\",IF(K39=1,IF(②選手情報入力!$U$7=\"\",\"\",②選手情報入力!$U$7),IF(②選手情報入力!$U$8=\"\",\"\",②選手情報入力!$U$8))))","v":""},{"$f":"IF(E39=\"\",\"\",IF(②選手情報入力!T48=\"\",\"\",IF(K39=1,IF(②選手情報入力!$T$7=\"\",0,1),IF(②選手情報入力!$T$8=\"\",0,1))))","v":""},{"$f":"IF(E39=\"\",\"\",IF(②選手情報入力!T48=\"\",\"\",2))","v":""},{"$f":"IF(E39=\"\",\"\",IF(②選手情報入力!V48=\"\",\"\",IF(K39=1,種目情報!$J$5,種目情報!$J$7)))","v":""},{"$f":"IF(E39=\"\",\"\",IF(②選手情報入力!V48=\"\",\"\",IF(K39=1,IF(②選手情報入力!$W$7=\"\",\"\",②選手情報入力!$W$7),IF(②選手情報入力!$W$8=\"\",\"\",②選手情報入力!$W$8))))","v":""},{"$f":"IF(E39=\"\",\"\",IF(②選手情報入力!V48=\"\",\"\",IF(K39=1,IF(②選手情報入力!$V$7=\"\",0,1),IF(②選手情報入力!$V$8=\"\",0,1))))","v":""},{"$f":"IF(E39=\"\",\"\",IF(②選手情報入力!V48=\"\",\"\",2))","v":""}]
["",{"$f":"IF(E40=\"\",\"\",①団体情報入力!$C$5)","v":""},null,{"$f":"IF(E40=\"\",\"\",①団体情報入力!C$10)","v":""},{"$f":"IF(②選手情報入力!C49=\"\",\"\",②選手情報入力!C49)","v":""},{"$f":"IF(E40=\"\",\"\",②選手情報入力!D49)","v":""},{"$f":"IF(E40=\"\",\"\",ASC(②選手情報入力!E49))","v":""},"",{"$f":"IF(E40=\"\",\"\",②選手情報入力!F49&\" \"&②選手情報入力!G49)","v":""},{"$f":"IF(E40=\"\",\"\",IF(②選手情報入力!H49=\"\",\"JPN\",LEFT(②選手情報入力!H49,3)))","v":""},{"$f":"IF(E40=\"\",\"\",IF(②選手情報入力!I49=\"男\",1,2))","v":""},{"$f":"IF(E40=\"\",\"\",IF(②選手情報入力!J49=\"\",\"\",②選手情報入力!J49))","v":""},{"$f":"IF(E40=\"\",\"\",LEFT(②選手情報入力!K49,4))","v":""},{"$f":"IF(E40=\"\",\"\",RIGHT(②選手情報入力!K49,4))","v":""},"",null,{"$f":"IF(E40=\"\",\"\",IF(②選手情報入力!L49=\"\",\"\",IF(K40=1,VLOOKUP(②選手情報入力!L49,種目情報!$A$4:$B$167,2,FALSE),VLOOKUP(②選手情報入力!L49,種目情報!$E$4:$F$142,2,FALSE))))","v":""},{"$f":"IF(E40=\"\",\"\",IF(②選手情報入力!M49=\"\",\"\",②選手情報入力!M49))","v":""},null,{"$f":"IF(E40=\"\",\"\",IF(②選手情報入力!L49=\"\",\"\",IF(K40=1,VLOOKUP(②選手情報入力!L49,種目情報!$A$4:$C$135,3,FALSE),VLOOKUP(②選手情報入力!L49,種目情報!$E$4:$G$135,3,FALSE))))","v":""},{"$f":"IF(E40=\"\",\"\",IF(②選手情報入力!O49=\"\",\"\",IF(K40=1,VLOOKUP(②選手情報入力!O49,種目情報!$A$5:$B$151,2,FALSE),VLOOKUP(②選手情報入力!O49,種目情報!$E$5:$F$135,2,FALSE))))","v":""},{"$f":"IF(E40=\"\",\"\",IF(②選手情報入力!P49=\"\",\"\",②選手情報入力!P49))","v":""},null,{"$f":"IF(E40=\"\",\"\",IF(②選手情報入力!O49=\"\",\"\",IF(K40=1,VLOOKUP(②選手情報入力!O49,種目情報!$A$5:$C$135,3,FALSE),VLOOKUP(②選手情報入力!O49,種目情報!$E$5:$G$135,3,FALSE))))","v":""},{"$f":"IF(E40=\"\",\"\",IF(②選手情報入力!R49=\"\",\"\",IF(K40=1,VLOOKUP(②選手情報入力!R49,種目情報!$A$5:$B$151,2,FALSE),VLOOKUP(②選手情報入力!R49,種目情報!$E$5:$F$135,2,FALSE))))","v":""},{"$f":"IF(E40=\"\",\"\",IF(②選手情報入力!S49=\"\",\"\",②選手情報入力!S49))","v":""},null,{"$f":"IF(E40=\"\",\"\",IF(②選手情報入力!R49=\"\",\"\",IF(K40=1,VLOOKUP(②選手情報入力!R49,種目情報!$A$5:$C$135,3,FALSE),VLOOKUP(②選手情報入力!R49,種目情報!$E$5:$G$135,3,FALSE))))","v":""},{"$f":"IF(E40=\"\",\"\",IF(②選手情報入力!T49=\"\",\"\",IF(K40=1,種目情報!$J$4,種目情報!$J$6)))","v":""},{"$f":"IF(E40=\"\",\"\",IF(②選手情報入力!T49=\"\",\"\",IF(K40=1,IF(②選手情報入力!$U$7=\"\",\"\",②選手情報入力!$U$7),IF(②選手情報入力!$U$8=\"\",\"\",②選手情報入力!$U$8))))","v":""},{"$f":"IF(E40=\"\",\"\",IF(②選手情報入力!T49=\"\",\"\",IF(K40=1,IF(②選手情報入力!$T$7=\"\",0,1),IF(②選手情報入力!$T$8=\"\",0,1))))","v":""},{"$f":"IF(E40=\"\",\"\",IF(②選手情報入力!T49=\"\",\"\",2))","v":""},{"$f":"IF(E40=\"\",\"\",IF(②選手情報入力!V49=\"\",\"\",IF(K40=1,種目情報!$J$5,種目情報!$J$7)))","v":""},{"$f":"IF(E40=\"\",\"\",IF(②選手情報入力!V49=\"\",\"\",IF(K40=1,IF(②選手情報入力!$W$7=\"\",\"\",②選手情報入力!$W$7),IF(②選手情報入力!$W$8=\"\",\"\",②選手情報入力!$W$8))))","v":""},{"$f":"IF(E40=\"\",\"\",IF(②選手情報入力!V49=\"\",\"\",IF(K40=1,IF(②選手情報入力!$V$7=\"\",0,1),IF(②選手情報入力!$V$8=\"\",0,1))))","v":""},{"$f":"IF(E40=\"\",\"\",IF(②選手情報入力!V49=\"\",\"\",2))","v":""}]
["",{"$f":"IF(E41=\"\",\"\",①団体情報入力!$C$5)","v":""},null,{"$f":"IF(E41=\"\",\"\",①団体情報入力!C$10)","v":""},{"$f":"IF(②選手情報入力!C50=\"\",\"\",②選手情報入力!C50)","v":""},{"$f":"IF(E41=\"\",\"\",②選手情報入力!D50)","v":""},{"$f":"IF(E41=\"\",\"\",ASC(②選手情報入力!E50))","v":""},"",{"$f":"IF(E41=\"\",\"\",②選手情報入力!F50&\" \"&②選手情報入力!G50)","v":""},{"$f":"IF(E41=\"\",\"\",IF(②選手情報入力!H50=\"\",\"JPN\",LEFT(②選手情報入力!H50,3)))","v":""},{"$f":"IF(E41=\"\",\"\",IF(②選手情報入力!I50=\"男\",1,2))","v":""},{"$f":"IF(E41=\"\",\"\",IF(②選手情報入力!J50=\"\",\"\",②選手情報入力!J50))","v":""},{"$f":"IF(E41=\"\",\"\",LEFT(②選手情報入力!K50,4))","v":""},{"$f":"IF(E41=\"\",\"\",RIGHT(②選手情報入力!K50,4))","v":""},"",null,{"$f":"IF(E41=\"\",\"\",IF(②選手情報入力!L50=\"\",\"\",IF(K41=1,VLOOKUP(②選手情報入力!L50,種目情報!$A$4:$B$167,2,FALSE),VLOOKUP(②選手情報入力!L50,種目情報!$E$4:$F$142,2,FALSE))))","v":""},{"$f":"IF(E41=\"\",\"\",IF(②選手情報入力!M50=\"\",\"\",②選手情報入力!M50))","v":""},null,{"$f":"IF(E41=\"\",\"\",IF(②選手情報入力!L50=\"\",\"\",IF(K41=1,VLOOKUP(②選手情報入力!L50,種目情報!$A$4:$C$135,3,FALSE),VLOOKUP(②選手情報入力!L50,種目情報!$E$4:$G$135,3,FALSE))))","v":""},{"$f":"IF(E41=\"\",\"\",IF(②選手情報入力!O50=\"\",\"\",IF(K41=1,VLOOKUP(②選手情報入力!O50,種目情報!$A$5:$B$151,2,FALSE),VLOOKUP(②選手情報入力!O50,種目情報!$E$5:$F$135,2,FALSE))))","v":""},{"$f":"IF(E41=\"\",\"\",IF(②選手情報入力!P50=\"\",\"\",②選手情報入力!P50))","v":""},null,{"$f":"IF(E41=\"\",\"\",IF(②選手情報入力!O50=\"\",\"\",IF(K41=1,VLOOKUP(②選手情報入力!O50,種目情報!$A$5:$C$135,3,FALSE),VLOOKUP(②選手情報入力!O50,種目情報!$E$5:$G$135,3,FALSE))))","v":""},{"$f":"IF(E41=\"\",\"\",IF(②選手情報入力!R50=\"\",\"\",IF(K41=1,VLOOKUP(②選手情報入力!R50,種目情報!$A$5:$B$151,2,FALSE),VLOOKUP(②選手情報入力!R50,種目情報!$E$5:$F$135,2,FALSE))))","v":""},{"$f":"IF(E41=\"\",\"\",IF(②選手情報入力!S50=\"\",\"\",②選手情報入力!S50))","v":""},null,{"$f":"IF(E41=\"\",\"\",IF(②選手情報入力!R50=\"\",\"\",IF(K41=1,VLOOKUP(②選手情報入力!R50,種目情報!$A$5:$C$135,3,FALSE),VLOOKUP(②選手情報入力!R50,種目情報!$E$5:$G$135,3,FALSE))))","v":""},{"$f":"IF(E41=\"\",\"\",IF(②選手情報入力!T50=\"\",\"\",IF(K41=1,種目情報!$J$4,種目情報!$J$6)))","v":""},{"$f":"IF(E41=\"\",\"\",IF(②選手情報入力!T50=\"\",\"\",IF(K41=1,IF(②選手情報入力!$U$7=\"\",\"\",②選手情報入力!$U$7),IF(②選手情報入力!$U$8=\"\",\"\",②選手情報入力!$U$8))))","v":""},{"$f":"IF(E41=\"\",\"\",IF(②選手情報入力!T50=\"\",\"\",IF(K41=1,IF(②選手情報入力!$T$7=\"\",0,1),IF(②選手情報入力!$T$8=\"\",0,1))))","v":""},{"$f":"IF(E41=\"\",\"\",IF(②選手情報入力!T50=\"\",\"\",2))","v":""},{"$f":"IF(E41=\"\",\"\",IF(②選手情報入力!V50=\"\",\"\",IF(K41=1,種目情報!$J$5,種目情報!$J$7)))","v":""},{"$f":"IF(E41=\"\",\"\",IF(②選手情報入力!V50=\"\",\"\",IF(K41=1,IF(②選手情報入力!$W$7=\"\",\"\",②選手情報入力!$W$7),IF(②選手情報入力!$W$8=\"\",\"\",②選手情報入力!$W$8))))","v":""},{"$f":"IF(E41=\"\",\"\",IF(②選手情報入力!V50=\"\",\"\",IF(K41=1,IF(②選手情報入力!$V$7=\"\",0,1),IF(②選手情報入力!$V$8=\"\",0,1))))","v":""},{"$f":"IF(E41=\"\",\"\",IF(②選手情報入力!V50=\"\",\"\",2))","v":""}]
["",{"$f":"IF(E42=\"\",\"\",①団体情報入力!$C$5)","v":""},null,{"$f":"IF(E42=\"\",\"\",①団体情報入力!C$10)","v":""},{"$f":"IF(②選手情報入力!C51=\"\",\"\",②選手情報入力!C51)","v":""},{"$f":"IF(E42=\"\",\"\",②選手情報入力!D51)","v":""},{"$f":"IF(E42=\"\",\"\",ASC(②選手情報入力!E51))","v":""},"",{"$f":"IF(E42=\"\",\"\",②選手情報入力!F51&\" \"&②選手情報入力!G51)","v":""},{"$f":"IF(E42=\"\",\"\",IF(②選手情報入力!H51=\"\",\"JPN\",LEFT(②選手情報入力!H51,3)))","v":""},{"$f":"IF(E42=\"\",\"\",IF(②選手情報入力!I51=\"男\",1,2))","v":""},{"$f":"IF(E42=\"\",\"\",IF(②選手情報入力!J51=\"\",\"\",②選手情報入力!J51))","v":""},{"$f":"IF(E42=\"\",\"\",LEFT(②選手情報入力!K51,4))","v":""},{"$f":"IF(E42=\"\",\"\",RIGHT(②選手情報入力!K51,4))","v":""},"",null,{"$f":"IF(E42=\"\",\"\",IF(②選手情報入力!L51=\"\",\"\",IF(K42=1,VLOOKUP(②選手情報入力!L51,種目情報!$A$4:$B$167,2,FALSE),VLOOKUP(②選手情報入力!L51,種目情報!$E$4:$F$142,2,FALSE))))","v":""},{"$f":"IF(E42=\"\",\"\",IF(②選手情報入力!M51=\"\",\"\",②選手情報入力!M51))","v":""},null,{"$f":"IF(E42=\"\",\"\",IF(②選手情報入力!L51=\"\",\"\",IF(K42=1,VLOOKUP(②選手情報入力!L51,種目情報!$A$4:$C$135,3,FALSE),VLOOKUP(②選手情報入力!L51,種目情報!$E$4:$G$135,3,FALSE))))","v":""},{"$f":"IF(E42=\"\",\"\",IF(②選手情報入力!O51=\"\",\"\",IF(K42=1,VLOOKUP(②選手情報入力!O51,種目情報!$A$5:$B$151,2,FALSE),VLOOKUP(②選手情報入力!O51,種目情報!$E$5:$F$135,2,FALSE))))","v":""},{"$f":"IF(E42=\"\",\"\",IF(②選手情報入力!P51=\"\",\"\",②選手情報入力!P51))","v":""},null,{"$f":"IF(E42=\"\",\"\",IF(②選手情報入力!O51=\"\",\"\",IF(K42=1,VLOOKUP(②選手情報入力!O51,種目情報!$A$5:$C$135,3,FALSE),VLOOKUP(②選手情報入力!O51,種目情報!$E$5:$G$135,3,FALSE))))","v":""},{"$f":"IF(E42=\"\",\"\",IF(②選手情報入力!R51=\"\",\"\",IF(K42=1,VLOOKUP(②選手情報入力!R51,種目情報!$A$5:$B$151,2,FALSE),VLOOKUP(②選手情報入力!R51,種目情報!$E$5:$F$135,2,FALSE))))","v":""},{"$f":"IF(E42=\"\",\"\",IF(②選手情報入力!S51=\"\",\"\",②選手情報入力!S51))","v":""},null,{"$f":"IF(E42=\"\",\"\",IF(②選手情報入力!R51=\"\",\"\",IF(K42=1,VLOOKUP(②選手情報入力!R51,種目情報!$A$5:$C$135,3,FALSE),VLOOKUP(②選手情報入力!R51,種目情報!$E$5:$G$135,3,FALSE))))","v":""},{"$f":"IF(E42=\"\",\"\",IF(②選手情報入力!T51=\"\",\"\",IF(K42=1,種目情報!$J$4,種目情報!$J$6)))","v":""},{"$f":"IF(E42=\"\",\"\",IF(②選手情報入力!T51=\"\",\"\",IF(K42=1,IF(②選手情報入力!$U$7=\"\",\"\",②選手情報入力!$U$7),IF(②選手情報入力!$U$8=\"\",\"\",②選手情報入力!$U$8))))","v":""},{"$f":"IF(E42=\"\",\"\",IF(②選手情報入力!T51=\"\",\"\",IF(K42=1,IF(②選手情報入力!$T$7=\"\",0,1),IF(②選手情報入力!$T$8=\"\",0,1))))","v":""},{"$f":"IF(E42=\"\",\"\",IF(②選手情報入力!T51=\"\",\"\",2))","v":""},{"$f":"IF(E42=\"\",\"\",IF(②選手情報入力!V51=\"\",\"\",IF(K42=1,種目情報!$J$5,種目情報!$J$7)))","v":""},{"$f":"IF(E42=\"\",\"\",IF(②選手情報入力!V51=\"\",\"\",IF(K42=1,IF(②選手情報入力!$W$7=\"\",\"\",②選手情報入力!$W$7),IF(②選手情報入力!$W$8=\"\",\"\",②選手情報入力!$W$8))))","v":""},{"$f":"IF(E42=\"\",\"\",IF(②選手情報入力!V51=\"\",\"\",IF(K42=1,IF(②選手情報入力!$V$7=\"\",0,1),IF(②選手情報入力!$V$8=\"\",0,1))))","v":""},{"$f":"IF(E42=\"\",\"\",IF(②選手情報入力!V51=\"\",\"\",2))","v":""}]
["",{"$f":"IF(E43=\"\",\"\",①団体情報入力!$C$5)","v":""},null,{"$f":"IF(E43=\"\",\"\",①団体情報入力!C$10)","v":""},{"$f":"IF(②選手情報入力!C52=\"\",\"\",②選手情報入力!C52)","v":""},{"$f":"IF(E43=\"\",\"\",②選手情報入力!D52)","v":""},{"$f":"IF(E43=\"\",\"\",ASC(②選手情報入力!E52))","v":""},"",{"$f":"IF(E43=\"\",\"\",②選手情報入力!F52&\" \"&②選手情報入力!G52)","v":""},{"$f":"IF(E43=\"\",\"\",IF(②選手情報入力!H52=\"\",\"JPN\",LEFT(②選手情報入力!H52,3)))","v":""},{"$f":"IF(E43=\"\",\"\",IF(②選手情報入力!I52=\"男\",1,2))","v":""},{"$f":"IF(E43=\"\",\"\",IF(②選手情報入力!J52=\"\",\"\",②選手情報入力!J52))","v":""},{"$f":"IF(E43=\"\",\"\",LEFT(②選手情報入力!K52,4))","v":""},{"$f":"IF(E43=\"\",\"\",RIGHT(②選手情報入力!K52,4))","v":""},"",null,{"$f":"IF(E43=\"\",\"\",IF(②選手情報入力!L52=\"\",\"\",IF(K43=1,VLOOKUP(②選手情報入力!L52,種目情報!$A$4:$B$167,2,FALSE),VLOOKUP(②選手情報入力!L52,種目情報!$E$4:$F$142,2,FALSE))))","v":""},{"$f":"IF(E43=\"\",\"\",IF(②選手情報入力!M52=\"\",\"\",②選手情報入力!M52))","v":""},null,{"$f":"IF(E43=\"\",\"\",IF(②選手情報入力!L52=\"\",\"\",IF(K43=1,VLOOKUP(②選手情報入力!L52,種目情報!$A$4:$C$135,3,FALSE),VLOOKUP(②選手情報入力!L52,種目情報!$E$4:$G$135,3,FALSE))))","v":""},{"$f":"IF(E43=\"\",\"\",IF(②選手情報入力!O52=\"\",\"\",IF(K43=1,VLOOKUP(②選手情報入力!O52,種目情報!$A$5:$B$151,2,FALSE),VLOOKUP(②選手情報入力!O52,種目情報!$E$5:$F$135,2,FALSE))))","v":""},{"$f":"IF(E43=\"\",\"\",IF(②選手情報入力!P52=\"\",\"\",②選手情報入力!P52))","v":""},null,{"$f":"IF(E43=\"\",\"\",IF(②選手情報入力!O52=\"\",\"\",IF(K43=1,VLOOKUP(②選手情報入力!O52,種目情報!$A$5:$C$135,3,FALSE),VLOOKUP(②選手情報入力!O52,種目情報!$E$5:$G$135,3,FALSE))))","v":""},{"$f":"IF(E43=\"\",\"\",IF(②選手情報入力!R52=\"\",\"\",IF(K43=1,VLOOKUP(②選手情報入力!R52,種目情報!$A$5:$B$151,2,FALSE),VLOOKUP(②選手情報入力!R52,種目情報!$E$5:$F$135,2,FALSE))))","v":""},{"$f":"IF(E43=\"\",\"\",IF(②選手情報入力!S52=\"\",\"\",②選手情報入力!S52))","v":""},null,{"$f":"IF(E43=\"\",\"\",IF(②選手情報入力!R52=\"\",\"\",IF(K43=1,VLOOKUP(②選手情報入力!R52,種目情報!$A$5:$C$135,3,FALSE),VLOOKUP(②選手情報入力!R52,種目情報!$E$5:$G$135,3,FALSE))))","v":""},{"$f":"IF(E43=\"\",\"\",IF(②選手情報入力!T52=\"\",\"\",IF(K43=1,種目情報!$J$4,種目情報!$J$6)))","v":""},{"$f":"IF(E43=\"\",\"\",IF(②選手情報入力!T52=\"\",\"\",IF(K43=1,IF(②選手情報入力!$U$7=\"\",\"\",②選手情報入力!$U$7),IF(②選手情報入力!$U$8=\"\",\"\",②選手情報入力!$U$8))))","v":""},{"$f":"IF(E43=\"\",\"\",IF(②選手情報入力!T52=\"\",\"\",IF(K43=1,IF(②選手情報入力!$T$7=\"\",0,1),IF(②選手情報入力!$T$8=\"\",0,1))))","v":""},{"$f":"IF(E43=\"\",\"\",IF(②選手情報入力!T52=\"\",\"\",2))","v":""},{"$f":"IF(E43=\"\",\"\",IF(②選手情報入力!V52=\"\",\"\",IF(K43=1,種目情報!$J$5,種目情報!$J$7)))","v":""},{"$f":"IF(E43=\"\",\"\",IF(②選手情報入力!V52=\"\",\"\",IF(K43=1,IF(②選手情報入力!$W$7=\"\",\"\",②選手情報入力!$W$7),IF(②選手情報入力!$W$8=\"\",\"\",②選手情報入力!$W$8))))","v":""},{"$f":"IF(E43=\"\",\"\",IF(②選手情報入力!V52=\"\",\"\",IF(K43=1,IF(②選手情報入力!$V$7=\"\",0,1),IF(②選手情報入力!$V$8=\"\",0,1))))","v":""},{"$f":"IF(E43=\"\",\"\",IF(②選手情報入力!V52=\"\",\"\",2))","v":""}]
["",{"$f":"IF(E44=\"\",\"\",①団体情報入力!$C$5)","v":""},null,{"$f":"IF(E44=\"\",\"\",①団体情報入力!C$10)","v":""},{"$f":"IF(②選手情報入力!C53=\"\",\"\",②選手情報入力!C53)","v":""},{"$f":"IF(E44=\"\",\"\",②選手情報入力!D53)","v":""},{"$f":"IF(E44=\"\",\"\",ASC(②選手情報入力!E53))","v":""},"",{"$f":"IF(E44=\"\",\"\",②選手情報入力!F53&\" \"&②選手情報入力!G53)","v":""},{"$f":"IF(E44=\"\",\"\",IF(②選手情報入力!H53=\"\",\"JPN\",LEFT(②選手情報入力!H53,3)))","v":""},{"$f":"IF(E44=\"\",\"\",IF(②選手情報入力!I53=\"男\",1,2))","v":""},{"$f":"IF(E44=\"\",\"\",IF(②選手情報入力!J53=\"\",\"\",②選手情報入力!J53))","v":""},{"$f":"IF(E44=\"\",\"\",LEFT(②選手情報入力!K53,4))","v":""},{"$f":"IF(E44=\"\",\"\",RIGHT(②選手情報入力!K53,4))","v":""},"",null,{"$f":"IF(E44=\"\",\"\",IF(②選手情報入力!L53=\"\",\"\",IF(K44=1,VLOOKUP(②選手情報入力!L53,種目情報!$A$4:$B$167,2,FALSE),VLOOKUP(②選手情報入力!L53,種目情報!$E$4:$F$142,2,FALSE))))","v":""},{"$f":"IF(E44=\"\",\"\",IF(②選手情報入力!M53=\"\",\"\",②選手情報入力!M53))","v":""},null,{"$f":"IF(E44=\"\",\"\",IF(②選手情報入力!L53=\"\",\"\",IF(K44=1,VLOOKUP(②選手情報入力!L53,種目情報!$A$4:$C$135,3,FALSE),VLOOKUP(②選手情報入力!L53,種目情報!$E$4:$G$135,3,FALSE))))","v":""},{"$f":"IF(E44=\"\",\"\",IF(②選手情報入力!O53=\"\",\"\",IF(K44=1,VLOOKUP(②選手情報入力!O53,種目情報!$A$5:$B$151,2,FALSE),VLOOKUP(②選手情報入力!O53,種目情報!$E$5:$F$135,2,FALSE))))","v":""},{"$f":"IF(E44=\"\",\"\",IF(②選手情報入力!P53=\"\",\"\",②選手情報入力!P53))","v":""},null,{"$f":"IF(E44=\"\",\"\",IF(②選手情報入力!O53=\"\",\"\",IF(K44=1,VLOOKUP(②選手情報入力!O53,種目情報!$A$5:$C$135,3,FALSE),VLOOKUP(②選手情報入力!O53,種目情報!$E$5:$G$135,3,FALSE))))","v":""},{"$f":"IF(E44=\"\",\"\",IF(②選手情報入力!R53=\"\",\"\",IF(K44=1,VLOOKUP(②選手情報入力!R53,種目情報!$A$5:$B$151,2,FALSE),VLOOKUP(②選手情報入力!R53,種目情報!$E$5:$F$135,2,FALSE))))","v":""},{"$f":"IF(E44=\"\",\"\",IF(②選手情報入力!S53=\"\",\"\",②選手情報入力!S53))","v":""},null,{"$f":"IF(E44=\"\",\"\",IF(②選手情報入力!R53=\"\",\"\",IF(K44=1,VLOOKUP(②選手情報入力!R53,種目情報!$A$5:$C$135,3,FALSE),VLOOKUP(②選手情報入力!R53,種目情報!$E$5:$G$135,3,FALSE))))","v":""},{"$f":"IF(E44=\"\",\"\",IF(②選手情報入力!T53=\"\",\"\",IF(K44=1,種目情報!$J$4,種目情報!$J$6)))","v":""},{"$f":"IF(E44=\"\",\"\",IF(②選手情報入力!T53=\"\",\"\",IF(K44=1,IF(②選手情報入力!$U$7=\"\",\"\",②選手情報入力!$U$7),IF(②選手情報入力!$U$8=\"\",\"\",②選手情報入力!$U$8))))","v":""},{"$f":"IF(E44=\"\",\"\",IF(②選手情報入力!T53=\"\",\"\",IF(K44=1,IF(②選手情報入力!$T$7=\"\",0,1),IF(②選手情報入力!$T$8=\"\",0,1))))","v":""},{"$f":"IF(E44=\"\",\"\",IF(②選手情報入力!T53=\"\",\"\",2))","v":""},{"$f":"IF(E44=\"\",\"\",IF(②選手情報入力!V53=\"\",\"\",IF(K44=1,種目情報!$J$5,種目情報!$J$7)))","v":""},{"$f":"IF(E44=\"\",\"\",IF(②選手情報入力!V53=\"\",\"\",IF(K44=1,IF(②選手情報入力!$W$7=\"\",\"\",②選手情報入力!$W$7),IF(②選手情報入力!$W$8=\"\",\"\",②選手情報入力!$W$8))))","v":""},{"$f":"IF(E44=\"\",\"\",IF(②選手情報入力!V53=\"\",\"\",IF(K44=1,IF(②選手情報入力!$V$7=\"\",0,1),IF(②選手情報入力!$V$8=\"\",0,1))))","v":""},{"$f":"IF(E44=\"\",\"\",IF(②選手情報入力!V53=\"\",\"\",2))","v":""}]
["",{"$f":"IF(E45=\"\",\"\",①団体情報入力!$C$5)","v":""},null,{"$f":"IF(E45=\"\",\"\",①団体情報入力!C$10)","v":""},{"$f":"IF(②選手情報入力!C54=\"\",\"\",②選手情報入力!C54)","v":""},{"$f":"IF(E45=\"\",\"\",②選手情報入力!D54)","v":""},{"$f":"IF(E45=\"\",\"\",ASC(②選手情報入力!E54))","v":""},"",{"$f":"IF(E45=\"\",\"\",②選手情報入力!F54&\" \"&②選手情報入力!G54)","v":""},{"$f":"IF(E45=\"\",\"\",IF(②選手情報入力!H54=\"\",\"JPN\",LEFT(②選手情報入力!H54,3)))","v":""},{"$f":"IF(E45=\"\",\"\",IF(②選手情報入力!I54=\"男\",1,2))","v":""},{"$f":"IF(E45=\"\",\"\",IF(②選手情報入力!J54=\"\",\"\",②選手情報入力!J54))","v":""},{"$f":"IF(E45=\"\",\"\",LEFT(②選手情報入力!K54,4))","v":""},{"$f":"IF(E45=\"\",\"\",RIGHT(②選手情報入力!K54,4))","v":""},"",null,{"$f":"IF(E45=\"\",\"\",IF(②選手情報入力!L54=\"\",\"\",IF(K45=1,VLOOKUP(②選手情報入力!L54,種目情報!$A$4:$B$167,2,FALSE),VLOOKUP(②選手情報入力!L54,種目情報!$E$4:$F$142,2,FALSE))))","v":""},{"$f":"IF(E45=\"\",\"\",IF(②選手情報入力!M54=\"\",\"\",②選手情報入力!M54))","v":""},null,{"$f":"IF(E45=\"\",\"\",IF(②選手情報入力!L54=\"\",\"\",IF(K45=1,VLOOKUP(②選手情報入力!L54,種目情報!$A$4:$C$135,3,FALSE),VLOOKUP(②選手情報入力!L54,種目情報!$E$4:$G$135,3,FALSE))))","v":""},{"$f":"IF(E45=\"\",\"\",IF(②選手情報入力!O54=\"\",\"\",IF(K45=1,VLOOKUP(②選手情報入力!O54,種目情報!$A$5:$B$151,2,FALSE),VLOOKUP(②選手情報入力!O54,種目情報!$E$5:$F$135,2,FALSE))))","v":""},{"$f":"IF(E45=\"\",\"\",IF(②選手情報入力!P54=\"\",\"\",②選手情報入力!P54))","v":""},null,{"$f":"IF(E45=\"\",\"\",IF(②選手情報入力!O54=\"\",\"\",IF(K45=1,VLOOKUP(②選手情報入力!O54,種目情報!$A$5:$C$135,3,FALSE),VLOOKUP(②選手情報入力!O54,種目情報!$E$5:$G$135,3,FALSE))))","v":""},{"$f":"IF(E45=\"\",\"\",IF(②選手情報入力!R54=\"\",\"\",IF(K45=1,VLOOKUP(②選手情報入力!R54,種目情報!$A$5:$B$151,2,FALSE),VLOOKUP(②選手情報入力!R54,種目情報!$E$5:$F$135,2,FALSE))))","v":""},{"$f":"IF(E45=\"\",\"\",IF(②選手情報入力!S54=\"\",\"\",②選手情報入力!S54))","v":""},null,{"$f":"IF(E45=\"\",\"\",IF(②選手情報入力!R54=\"\",\"\",IF(K45=1,VLOOKUP(②選手情報入力!R54,種目情報!$A$5:$C$135,3,FALSE),VLOOKUP(②選手情報入力!R54,種目情報!$E$5:$G$135,3,FALSE))))","v":""},{"$f":"IF(E45=\"\",\"\",IF(②選手情報入力!T54=\"\",\"\",IF(K45=1,種目情報!$J$4,種目情報!$J$6)))","v":""},{"$f":"IF(E45=\"\",\"\",IF(②選手情報入力!T54=\"\",\"\",IF(K45=1,IF(②選手情報入力!$U$7=\"\",\"\",②選手情報入力!$U$7),IF(②選手情報入力!$U$8=\"\",\"\",②選手情報入力!$U$8))))","v":""},{"$f":"IF(E45=\"\",\"\",IF(②選手情報入力!T54=\"\",\"\",IF(K45=1,IF(②選手情報入力!$T$7=\"\",0,1),IF(②選手情報入力!$T$8=\"\",0,1))))","v":""},{"$f":"IF(E45=\"\",\"\",IF(②選手情報入力!T54=\"\",\"\",2))","v":""},{"$f":"IF(E45=\"\",\"\",IF(②選手情報入力!V54=\"\",\"\",IF(K45=1,種目情報!$J$5,種目情報!$J$7)))","v":""},{"$f":"IF(E45=\"\",\"\",IF(②選手情報入力!V54=\"\",\"\",IF(K45=1,IF(②選手情報入力!$W$7=\"\",\"\",②選手情報入力!$W$7),IF(②選手情報入力!$W$8=\"\",\"\",②選手情報入力!$W$8))))","v":""},{"$f":"IF(E45=\"\",\"\",IF(②選手情報入力!V54=\"\",\"\",IF(K45=1,IF(②選手情報入力!$V$7=\"\",0,1),IF(②選手情報入力!$V$8=\"\",0,1))))","v":""},{"$f":"IF(E45=\"\",\"\",IF(②選手情報入力!V54=\"\",\"\",2))","v":""}]
["",{"$f":"IF(E46=\"\",\"\",①団体情報入力!$C$5)","v":""},null,{"$f":"IF(E46=\"\",\"\",①団体情報入力!C$10)","v":""},{"$f":"IF(②選手情報入力!C55=\"\",\"\",②選手情報入力!C55)","v":""},{"$f":"IF(E46=\"\",\"\",②選手情報入力!D55)","v":""},{"$f":"IF(E46=\"\",\"\",ASC(②選手情報入力!E55))","v":""},"",{"$f":"IF(E46=\"\",\"\",②選手情報入力!F55&\" \"&②選手情報入力!G55)","v":""},{"$f":"IF(E46=\"\",\"\",IF(②選手情報入力!H55=\"\",\"JPN\",LEFT(②選手情報入力!H55,3)))","v":""},{"$f":"IF(E46=\"\",\"\",IF(②選手情報入力!I55=\"男\",1,2))","v":""},{"$f":"IF(E46=\"\",\"\",IF(②選手情報入力!J55=\"\",\"\",②選手情報入力!J55))","v":""},{"$f":"IF(E46=\"\",\"\",LEFT(②選手情報入力!K55,4))","v":""},{"$f":"IF(E46=\"\",\"\",RIGHT(②選手情報入力!K55,4))","v":""},"",null,{"$f":"IF(E46=\"\",\"\",IF(②選手情報入力!L55=\"\",\"\",IF(K46=1,VLOOKUP(②選手情報入力!L55,種目情報!$A$4:$B$167,2,FALSE),VLOOKUP(②選手情報入力!L55,種目情報!$E$4:$F$142,2,FALSE))))","v":""},{"$f":"IF(E46=\"\",\"\",IF(②選手情報入力!M55=\"\",\"\",②選手情報入力!M55))","v":""},null,{"$f":"IF(E46=\"\",\"\",IF(②選手情報入力!L55=\"\",\"\",IF(K46=1,VLOOKUP(②選手情報入力!L55,種目情報!$A$4:$C$135,3,FALSE),VLOOKUP(②選手情報入力!L55,種目情報!$E$4:$G$135,3,FALSE))))","v":""},{"$f":"IF(E46=\"\",\"\",IF(②選手情報入力!O55=\"\",\"\",IF(K46=1,VLOOKUP(②選手情報入力!O55,種目情報!$A$5:$B$151,2,FALSE),VLOOKUP(②選手情報入力!O55,種目情報!$E$5:$F$135,2,FALSE))))","v":""},{"$f":"IF(E46=\"\",\"\",IF(②選手情報入力!P55=\"\",\"\",②選手情報入力!P55))","v":""},null,{"$f":"IF(E46=\"\",\"\",IF(②選手情報入力!O55=\"\",\"\",IF(K46=1,VLOOKUP(②選手情報入力!O55,種目情報!$A$5:$C$135,3,FALSE),VLOOKUP(②選手情報入力!O55,種目情報!$E$5:$G$135,3,FALSE))))","v":""},{"$f":"IF(E46=\"\",\"\",IF(②選手情報入力!R55=\"\",\"\",IF(K46=1,VLOOKUP(②選手情報入力!R55,種目情報!$A$5:$B$151,2,FALSE),VLOOKUP(②選手情報入力!R55,種目情報!$E$5:$F$135,2,FALSE))))","v":""},{"$f":"IF(E46=\"\",\"\",IF(②選手情報入力!S55=\"\",\"\",②選手情報入力!S55))","v":""},null,{"$f":"IF(E46=\"\",\"\",IF(②選手情報入力!R55=\"\",\"\",IF(K46=1,VLOOKUP(②選手情報入力!R55,種目情報!$A$5:$C$135,3,FALSE),VLOOKUP(②選手情報入力!R55,種目情報!$E$5:$G$135,3,FALSE))))","v":""},{"$f":"IF(E46=\"\",\"\",IF(②選手情報入力!T55=\"\",\"\",IF(K46=1,種目情報!$J$4,種目情報!$J$6)))","v":""},{"$f":"IF(E46=\"\",\"\",IF(②選手情報入力!T55=\"\",\"\",IF(K46=1,IF(②選手情報入力!$U$7=\"\",\"\",②選手情報入力!$U$7),IF(②選手情報入力!$U$8=\"\",\"\",②選手情報入力!$U$8))))","v":""},{"$f":"IF(E46=\"\",\"\",IF(②選手情報入力!T55=\"\",\"\",IF(K46=1,IF(②選手情報入力!$T$7=\"\",0,1),IF(②選手情報入力!$T$8=\"\",0,1))))","v":""},{"$f":"IF(E46=\"\",\"\",IF(②選手情報入力!T55=\"\",\"\",2))","v":""},{"$f":"IF(E46=\"\",\"\",IF(②選手情報入力!V55=\"\",\"\",IF(K46=1,種目情報!$J$5,種目情報!$J$7)))","v":""},{"$f":"IF(E46=\"\",\"\",IF(②選手情報入力!V55=\"\",\"\",IF(K46=1,IF(②選手情報入力!$W$7=\"\",\"\",②選手情報入力!$W$7),IF(②選手情報入力!$W$8=\"\",\"\",②選手情報入力!$W$8))))","v":""},{"$f":"IF(E46=\"\",\"\",IF(②選手情報入力!V55=\"\",\"\",IF(K46=1,IF(②選手情報入力!$V$7=\"\",0,1),IF(②選手情報入力!$V$8=\"\",0,1))))","v":""},{"$f":"IF(E46=\"\",\"\",IF(②選手情報入力!V55=\"\",\"\",2))","v":""}]
["",{"$f":"IF(E47=\"\",\"\",①団体情報入力!$C$5)","v":""},null,{"$f":"IF(E47=\"\",\"\",①団体情報入力!C$10)","v":""},{"$f":"IF(②選手情報入力!C56=\"\",\"\",②選手情報入力!C56)","v":""},{"$f":"IF(E47=\"\",\"\",②選手情報入力!D56)","v":""},{"$f":"IF(E47=\"\",\"\",ASC(②選手情報入力!E56))","v":""},"",{"$f":"IF(E47=\"\",\"\",②選手情報入力!F56&\" \"&②選手情報入力!G56)","v":""},{"$f":"IF(E47=\"\",\"\",IF(②選手情報入力!H56=\"\",\"JPN\",LEFT(②選手情報入力!H56,3)))","v":""},{"$f":"IF(E47=\"\",\"\",IF(②選手情報入力!I56=\"男\",1,2))","v":""},{"$f":"IF(E47=\"\",\"\",IF(②選手情報入力!J56=\"\",\"\",②選手情報入力!J56))","v":""},{"$f":"IF(E47=\"\",\"\",LEFT(②選手情報入力!K56,4))","v":""},{"$f":"IF(E47=\"\",\"\",RIGHT(②選手情報入力!K56,4))","v":""},"",null,{"$f":"IF(E47=\"\",\"\",IF(②選手情報入力!L56=\"\",\"\",IF(K47=1,VLOOKUP(②選手情報入力!L56,種目情報!$A$4:$B$167,2,FALSE),VLOOKUP(②選手情報入力!L56,種目情報!$E$4:$F$142,2,FALSE))))","v":""},{"$f":"IF(E47=\"\",\"\",IF(②選手情報入力!M56=\"\",\"\",②選手情報入力!M56))","v":""},null,{"$f":"IF(E47=\"\",\"\",IF(②選手情報入力!L56=\"\",\"\",IF(K47=1,VLOOKUP(②選手情報入力!L56,種目情報!$A$4:$C$135,3,FALSE),VLOOKUP(②選手情報入力!L56,種目情報!$E$4:$G$135,3,FALSE))))","v":""},{"$f":"IF(E47=\"\",\"\",IF(②選手情報入力!O56=\"\",\"\",IF(K47=1,VLOOKUP(②選手情報入力!O56,種目情報!$A$5:$B$151,2,FALSE),VLOOKUP(②選手情報入力!O56,種目情報!$E$5:$F$135,2,FALSE))))","v":""},{"$f":"IF(E47=\"\",\"\",IF(②選手情報入力!P56=\"\",\"\",②選手情報入力!P56))","v":""},null,{"$f":"IF(E47=\"\",\"\",IF(②選手情報入力!O56=\"\",\"\",IF(K47=1,VLOOKUP(②選手情報入力!O56,種目情報!$A$5:$C$135,3,FALSE),VLOOKUP(②選手情報入力!O56,種目情報!$E$5:$G$135,3,FALSE))))","v":""},{"$f":"IF(E47=\"\",\"\",IF(②選手情報入力!R56=\"\",\"\",IF(K47=1,VLOOKUP(②選手情報入力!R56,種目情報!$A$5:$B$151,2,FALSE),VLOOKUP(②選手情報入力!R56,種目情報!$E$5:$F$135,2,FALSE))))","v":""},{"$f":"IF(E47=\"\",\"\",IF(②選手情報入力!S56=\"\",\"\",②選手情報入力!S56))","v":""},null,{"$f":"IF(E47=\"\",\"\",IF(②選手情報入力!R56=\"\",\"\",IF(K47=1,VLOOKUP(②選手情報入力!R56,種目情報!$A$5:$C$135,3,FALSE),VLOOKUP(②選手情報入力!R56,種目情報!$E$5:$G$135,3,FALSE))))","v":""},{"$f":"IF(E47=\"\",\"\",IF(②選手情報入力!T56=\"\",\"\",IF(K47=1,種目情報!$J$4,種目情報!$J$6)))","v":""},{"$f":"IF(E47=\"\",\"\",IF(②選手情報入力!T56=\"\",\"\",IF(K47=1,IF(②選手情報入力!$U$7=\"\",\"\",②選手情報入力!$U$7),IF(②選手情報入力!$U$8=\"\",\"\",②選手情報入力!$U$8))))","v":""},{"$f":"IF(E47=\"\",\"\",IF(②選手情報入力!T56=\"\",\"\",IF(K47=1,IF(②選手情報入力!$T$7=\"\",0,1),IF(②選手情報入力!$T$8=\"\",0,1))))","v":""},{"$f":"IF(E47=\"\",\"\",IF(②選手情報入力!T56=\"\",\"\",2))","v":""},{"$f":"IF(E47=\"\",\"\",IF(②選手情報入力!V56=\"\",\"\",IF(K47=1,種目情報!$J$5,種目情報!$J$7)))","v":""},{"$f":"IF(E47=\"\",\"\",IF(②選手情報入力!V56=\"\",\"\",IF(K47=1,IF(②選手情報入力!$W$7=\"\",\"\",②選手情報入力!$W$7),IF(②選手情報入力!$W$8=\"\",\"\",②選手情報入力!$W$8))))","v":""},{"$f":"IF(E47=\"\",\"\",IF(②選手情報入力!V56=\"\",\"\",IF(K47=1,IF(②選手情報入力!$V$7=\"\",0,1),IF(②選手情報入力!$V$8=\"\",0,1))))","v":""},{"$f":"IF(E47=\"\",\"\",IF(②選手情報入力!V56=\"\",\"\",2))","v":""}]
["",{"$f":"IF(E48=\"\",\"\",①団体情報入力!$C$5)","v":""},null,{"$f":"IF(E48=\"\",\"\",①団体情報入力!C$10)","v":""},{"$f":"IF(②選手情報入力!C57=\"\",\"\",②選手情報入力!C57)","v":""},{"$f":"IF(E48=\"\",\"\",②選手情報入力!D57)","v":""},{"$f":"IF(E48=\"\",\"\",ASC(②選手情報入力!E57))","v":""},"",{"$f":"IF(E48=\"\",\"\",②選手情報入力!F57&\" \"&②選手情報入力!G57)","v":""},{"$f":"IF(E48=\"\",\"\",IF(②選手情報入力!H57=\"\",\"JPN\",LEFT(②選手情報入力!H57,3)))","v":""},{"$f":"IF(E48=\"\",\"\",IF(②選手情報入力!I57=\"男\",1,2))","v":""},{"$f":"IF(E48=\"\",\"\",IF(②選手情報入力!J57=\"\",\"\",②選手情報入力!J57))","v":""},{"$f":"IF(E48=\"\",\"\",LEFT(②選手情報入力!K57,4))","v":""},{"$f":"IF(E48=\"\",\"\",RIGHT(②選手情報入力!K57,4))","v":""},"",null,{"$f":"IF(E48=\"\",\"\",IF(②選手情報入力!L57=\"\",\"\",IF(K48=1,VLOOKUP(②選手情報入力!L57,種目情報!$A$4:$B$167,2,FALSE),VLOOKUP(②選手情報入力!L57,種目情報!$E$4:$F$142,2,FALSE))))","v":""},{"$f":"IF(E48=\"\",\"\",IF(②選手情報入力!M57=\"\",\"\",②選手情報入力!M57))","v":""},null,{"$f":"IF(E48=\"\",\"\",IF(②選手情報入力!L57=\"\",\"\",IF(K48=1,VLOOKUP(②選手情報入力!L57,種目情報!$A$4:$C$135,3,FALSE),VLOOKUP(②選手情報入力!L57,種目情報!$E$4:$G$135,3,FALSE))))","v":""},{"$f":"IF(E48=\"\",\"\",IF(②選手情報入力!O57=\"\",\"\",IF(K48=1,VLOOKUP(②選手情報入力!O57,種目情報!$A$5:$B$151,2,FALSE),VLOOKUP(②選手情報入力!O57,種目情報!$E$5:$F$135,2,FALSE))))","v":""},{"$f":"IF(E48=\"\",\"\",IF(②選手情報入力!P57=\"\",\"\",②選手情報入力!P57))","v":""},null,{"$f":"IF(E48=\"\",\"\",IF(②選手情報入力!O57=\"\",\"\",IF(K48=1,VLOOKUP(②選手情報入力!O57,種目情報!$A$5:$C$135,3,FALSE),VLOOKUP(②選手情報入力!O57,種目情報!$E$5:$G$135,3,FALSE))))","v":""},{"$f":"IF(E48=\"\",\"\",IF(②選手情報入力!R57=\"\",\"\",IF(K48=1,VLOOKUP(②選手情報入力!R57,種目情報!$A$5:$B$151,2,FALSE),VLOOKUP(②選手情報入力!R57,種目情報!$E$5:$F$135,2,FALSE))))","v":""},{"$f":"IF(E48=\"\",\"\",IF(②選手情報入力!S57=\"\",\"\",②選手情報入力!S57))","v":""},null,{"$f":"IF(E48=\"\",\"\",IF(②選手情報入力!R57=\"\",\"\",IF(K48=1,VLOOKUP(②選手情報入力!R57,種目情報!$A$5:$C$135,3,FALSE),VLOOKUP(②選手情報入力!R57,種目情報!$E$5:$G$135,3,FALSE))))","v":""},{"$f":"IF(E48=\"\",\"\",IF(②選手情報入力!T57=\"\",\"\",IF(K48=1,種目情報!$J$4,種目情報!$J$6)))","v":""},{"$f":"IF(E48=\"\",\"\",IF(②選手情報入力!T57=\"\",\"\",IF(K48=1,IF(②選手情報入力!$U$7=\"\",\"\",②選手情報入力!$U$7),IF(②選手情報入力!$U$8=\"\",\"\",②選手情報入力!$U$8))))","v":""},{"$f":"IF(E48=\"\",\"\",IF(②選手情報入力!T57=\"\",\"\",IF(K48=1,IF(②選手情報入力!$T$7=\"\",0,1),IF(②選手情報入力!$T$8=\"\",0,1))))","v":""},{"$f":"IF(E48=\"\",\"\",IF(②選手情報入力!T57=\"\",\"\",2))","v":""},{"$f":"IF(E48=\"\",\"\",IF(②選手情報入力!V57=\"\",\"\",IF(K48=1,種目情報!$J$5,種目情報!$J$7)))","v":""},{"$f":"IF(E48=\"\",\"\",IF(②選手情報入力!V57=\"\",\"\",IF(K48=1,IF(②選手情報入力!$W$7=\"\",\"\",②選手情報入力!$W$7),IF(②選手情報入力!$W$8=\"\",\"\",②選手情報入力!$W$8))))","v":""},{"$f":"IF(E48=\"\",\"\",IF(②選手情報入力!V57=\"\",\"\",IF(K48=1,IF(②選手情報入力!$V$7=\"\",0,1),IF(②選手情報入力!$V$8=\"\",0,1))))","v":""},{"$f":"IF(E48=\"\",\"\",IF(②選手情報入力!V57=\"\",\"\",2))","v":""}]
["",{"$f":"IF(E49=\"\",\"\",①団体情報入力!$C$5)","v":""},null,{"$f":"IF(E49=\"\",\"\",①団体情報入力!C$10)","v":""},{"$f":"IF(②選手情報入力!C58=\"\",\"\",②選手情報入力!C58)","v":""},{"$f":"IF(E49=\"\",\"\",②選手情報入力!D58)","v":""},{"$f":"IF(E49=\"\",\"\",ASC(②選手情報入力!E58))","v":""},"",{"$f":"IF(E49=\"\",\"\",②選手情報入力!F58&\" \"&②選手情報入力!G58)","v":""},{"$f":"IF(E49=\"\",\"\",IF(②選手情報入力!H58=\"\",\"JPN\",LEFT(②選手情報入力!H58,3)))","v":""},{"$f":"IF(E49=\"\",\"\",IF(②選手情報入力!I58=\"男\",1,2))","v":""},{"$f":"IF(E49=\"\",\"\",IF(②選手情報入力!J58=\"\",\"\",②選手情報入力!J58))","v":""},{"$f":"IF(E49=\"\",\"\",LEFT(②選手情報入力!K58,4))","v":""},{"$f":"IF(E49=\"\",\"\",RIGHT(②選手情報入力!K58,4))","v":""},"",null,{"$f":"IF(E49=\"\",\"\",IF(②選手情報入力!L58=\"\",\"\",IF(K49=1,VLOOKUP(②選手情報入力!L58,種目情報!$A$4:$B$167,2,FALSE),VLOOKUP(②選手情報入力!L58,種目情報!$E$4:$F$142,2,FALSE))))","v":""},{"$f":"IF(E49=\"\",\"\",IF(②選手情報入力!M58=\"\",\"\",②選手情報入力!M58))","v":""},null,{"$f":"IF(E49=\"\",\"\",IF(②選手情報入力!L58=\"\",\"\",IF(K49=1,VLOOKUP(②選手情報入力!L58,種目情報!$A$4:$C$135,3,FALSE),VLOOKUP(②選手情報入力!L58,種目情報!$E$4:$G$135,3,FALSE))))","v":""},{"$f":"IF(E49=\"\",\"\",IF(②選手情報入力!O58=\"\",\"\",IF(K49=1,VLOOKUP(②選手情報入力!O58,種目情報!$A$5:$B$151,2,FALSE),VLOOKUP(②選手情報入力!O58,種目情報!$E$5:$F$135,2,FALSE))))","v":""},{"$f":"IF(E49=\"\",\"\",IF(②選手情報入力!P58=\"\",\"\",②選手情報入力!P58))","v":""},null,{"$f":"IF(E49=\"\",\"\",IF(②選手情報入力!O58=\"\",\"\",IF(K49=1,VLOOKUP(②選手情報入力!O58,種目情報!$A$5:$C$135,3,FALSE),VLOOKUP(②選手情報入力!O58,種目情報!$E$5:$G$135,3,FALSE))))","v":""},{"$f":"IF(E49=\"\",\"\",IF(②選手情報入力!R58=\"\",\"\",IF(K49=1,VLOOKUP(②選手情報入力!R58,種目情報!$A$5:$B$151,2,FALSE),VLOOKUP(②選手情報入力!R58,種目情報!$E$5:$F$135,2,FALSE))))","v":""},{"$f":"IF(E49=\"\",\"\",IF(②選手情報入力!S58=\"\",\"\",②選手情報入力!S58))","v":""},null,{"$f":"IF(E49=\"\",\"\",IF(②選手情報入力!R58=\"\",\"\",IF(K49=1,VLOOKUP(②選手情報入力!R58,種目情報!$A$5:$C$135,3,FALSE),VLOOKUP(②選手情報入力!R58,種目情報!$E$5:$G$135,3,FALSE))))","v":""},{"$f":"IF(E49=\"\",\"\",IF(②選手情報入力!T58=\"\",\"\",IF(K49=1,種目情報!$J$4,種目情報!$J$6)))","v":""},{"$f":"IF(E49=\"\",\"\",IF(②選手情報入力!T58=\"\",\"\",IF(K49=1,IF(②選手情報入力!$U$7=\"\",\"\",②選手情報入力!$U$7),IF(②選手情報入力!$U$8=\"\",\"\",②選手情報入力!$U$8))))","v":""},{"$f":"IF(E49=\"\",\"\",IF(②選手情報入力!T58=\"\",\"\",IF(K49=1,IF(②選手情報入力!$T$7=\"\",0,1),IF(②選手情報入力!$T$8=\"\",0,1))))","v":""},{"$f":"IF(E49=\"\",\"\",IF(②選手情報入力!T58=\"\",\"\",2))","v":""},{"$f":"IF(E49=\"\",\"\",IF(②選手情報入力!V58=\"\",\"\",IF(K49=1,種目情報!$J$5,種目情報!$J$7)))","v":""},{"$f":"IF(E49=\"\",\"\",IF(②選手情報入力!V58=\"\",\"\",IF(K49=1,IF(②選手情報入力!$W$7=\"\",\"\",②選手情報入力!$W$7),IF(②選手情報入力!$W$8=\"\",\"\",②選手情報入力!$W$8))))","v":""},{"$f":"IF(E49=\"\",\"\",IF(②選手情報入力!V58=\"\",\"\",IF(K49=1,IF(②選手情報入力!$V$7=\"\",0,1),IF(②選手情報入力!$V$8=\"\",0,1))))","v":""},{"$f":"IF(E49=\"\",\"\",IF(②選手情報入力!V58=\"\",\"\",2))","v":""}]
["",{"$f":"IF(E50=\"\",\"\",①団体情報入力!$C$5)","v":""},null,{"$f":"IF(E50=\"\",\"\",①団体情報入力!C$10)","v":""},{"$f":"IF(②選手情報入力!C59=\"\",\"\",②選手情報入力!C59)","v":""},{"$f":"IF(E50=\"\",\"\",②選手情報入力!D59)","v":""},{"$f":"IF(E50=\"\",\"\",ASC(②選手情報入力!E59))","v":""},"",{"$f":"IF(E50=\"\",\"\",②選手情報入力!F59&\" \"&②選手情報入力!G59)","v":""},{"$f":"IF(E50=\"\",\"\",IF(②選手情報入力!H59=\"\",\"JPN\",LEFT(②選手情報入力!H59,3)))","v":""},{"$f":"IF(E50=\"\",\"\",IF(②選手情報入力!I59=\"男\",1,2))","v":""},{"$f":"IF(E50=\"\",\"\",IF(②選手情報入力!J59=\"\",\"\",②選手情報入力!J59))","v":""},{"$f":"IF(E50=\"\",\"\",LEFT(②選手情報入力!K59,4))","v":""},{"$f":"IF(E50=\"\",\"\",RIGHT(②選手情報入力!K59,4))","v":""},"",null,{"$f":"IF(E50=\"\",\"\",IF(②選手情報入力!L59=\"\",\"\",IF(K50=1,VLOOKUP(②選手情報入力!L59,種目情報!$A$4:$B$167,2,FALSE),VLOOKUP(②選手情報入力!L59,種目情報!$E$4:$F$142,2,FALSE))))","v":""},{"$f":"IF(E50=\"\",\"\",IF(②選手情報入力!M59=\"\",\"\",②選手情報入力!M59))","v":""},null,{"$f":"IF(E50=\"\",\"\",IF(②選手情報入力!L59=\"\",\"\",IF(K50=1,VLOOKUP(②選手情報入力!L59,種目情報!$A$4:$C$135,3,FALSE),VLOOKUP(②選手情報入力!L59,種目情報!$E$4:$G$135,3,FALSE))))","v":""},{"$f":"IF(E50=\"\",\"\",IF(②選手情報入力!O59=\"\",\"\",IF(K50=1,VLOOKUP(②選手情報入力!O59,種目情報!$A$5:$B$151,2,FALSE),VLOOKUP(②選手情報入力!O59,種目情報!$E$5:$F$135,2,FALSE))))","v":""},{"$f":"IF(E50=\"\",\"\",IF(②選手情報入力!P59=\"\",\"\",②選手情報入力!P59))","v":""},null,{"$f":"IF(E50=\"\",\"\",IF(②選手情報入力!O59=\"\",\"\",IF(K50=1,VLOOKUP(②選手情報入力!O59,種目情報!$A$5:$C$135,3,FALSE),VLOOKUP(②選手情報入力!O59,種目情報!$E$5:$G$135,3,FALSE))))","v":""},{"$f":"IF(E50=\"\",\"\",IF(②選手情報入力!R59=\"\",\"\",IF(K50=1,VLOOKUP(②選手情報入力!R59,種目情報!$A$5:$B$151,2,FALSE),VLOOKUP(②選手情報入力!R59,種目情報!$E$5:$F$135,2,FALSE))))","v":""},{"$f":"IF(E50=\"\",\"\",IF(②選手情報入力!S59=\"\",\"\",②選手情報入力!S59))","v":""},null,{"$f":"IF(E50=\"\",\"\",IF(②選手情報入力!R59=\"\",\"\",IF(K50=1,VLOOKUP(②選手情報入力!R59,種目情報!$A$5:$C$135,3,FALSE),VLOOKUP(②選手情報入力!R59,種目情報!$E$5:$G$135,3,FALSE))))","v":""},{"$f":"IF(E50=\"\",\"\",IF(②選手情報入力!T59=\"\",\"\",IF(K50=1,種目情報!$J$4,種目情報!$J$6)))","v":""},{"$f":"IF(E50=\"\",\"\",IF(②選手情報入力!T59=\"\",\"\",IF(K50=1,IF(②選手情報入力!$U$7=\"\",\"\",②選手情報入力!$U$7),IF(②選手情報入力!$U$8=\"\",\"\",②選手情報入力!$U$8))))","v":""},{"$f":"IF(E50=\"\",\"\",IF(②選手情報入力!T59=\"\",\"\",IF(K50=1,IF(②選手情報入力!$T$7=\"\",0,1),IF(②選手情報入力!$T$8=\"\",0,1))))","v":""},{"$f":"IF(E50=\"\",\"\",IF(②選手情報入力!T59=\"\",\"\",2))","v":""},{"$f":"IF(E50=\"\",\"\",IF(②選手情報入力!V59=\"\",\"\",IF(K50=1,種目情報!$J$5,種目情報!$J$7)))","v":""},{"$f":"IF(E50=\"\",\"\",IF(②選手情報入力!V59=\"\",\"\",IF(K50=1,IF(②選手情報入力!$W$7=\"\",\"\",②選手情報入力!$W$7),IF(②選手情報入力!$W$8=\"\",\"\",②選手情報入力!$W$8))))","v":""},{"$f":"IF(E50=\"\",\"\",IF(②選手情報入力!V59=\"\",\"\",IF(K50=1,IF(②選手情報入力!$V$7=\"\",0,1),IF(②選手情報入力!$V$8=\"\",0,1))))","v":""},{"$f":"IF(E50=\"\",\"\",IF(②選手情報入力!V59=\"\",\"\",2))","v":""}]
["",{"$f":"IF(E51=\"\",\"\",①団体情報入力!$C$5)","v":""},null,{"$f":"IF(E51=\"\",\"\",①団体情報入力!C$10)","v":""},{"$f":"IF(②選手情報入力!C60=\"\",\"\",②選手情報入力!C60)","v":""},{"$f":"IF(E51=\"\",\"\",②選手情報入力!D60)","v":""},{"$f":"IF(E51=\"\",\"\",ASC(②選手情報入力!E60))","v":""},"",{"$f":"IF(E51=\"\",\"\",②選手情報入力!F60&\" \"&②選手情報入力!G60)","v":""},{"$f":"IF(E51=\"\",\"\",IF(②選手情報入力!H60=\"\",\"JPN\",LEFT(②選手情報入力!H60,3)))","v":""},{"$f":"IF(E51=\"\",\"\",IF(②選手情報入力!I60=\"男\",1,2))","v":""},{"$f":"IF(E51=\"\",\"\",IF(②選手情報入力!J60=\"\",\"\",②選手情報入力!J60))","v":""},{"$f":"IF(E51=\"\",\"\",LEFT(②選手情報入力!K60,4))","v":""},{"$f":"IF(E51=\"\",\"\",RIGHT(②選手情報入力!K60,4))","v":""},"",null,{"$f":"IF(E51=\"\",\"\",IF(②選手情報入力!L60=\"\",\"\",IF(K51=1,VLOOKUP(②選手情報入力!L60,種目情報!$A$4:$B$167,2,FALSE),VLOOKUP(②選手情報入力!L60,種目情報!$E$4:$F$142,2,FALSE))))","v":""},{"$f":"IF(E51=\"\",\"\",IF(②選手情報入力!M60=\"\",\"\",②選手情報入力!M60))","v":""},null,{"$f":"IF(E51=\"\",\"\",IF(②選手情報入力!L60=\"\",\"\",IF(K51=1,VLOOKUP(②選手情報入力!L60,種目情報!$A$4:$C$135,3,FALSE),VLOOKUP(②選手情報入力!L60,種目情報!$E$4:$G$135,3,FALSE))))","v":""},{"$f":"IF(E51=\"\",\"\",IF(②選手情報入力!O60=\"\",\"\",IF(K51=1,VLOOKUP(②選手情報入力!O60,種目情報!$A$5:$B$151,2,FALSE),VLOOKUP(②選手情報入力!O60,種目情報!$E$5:$F$135,2,FALSE))))","v":""},{"$f":"IF(E51=\"\",\"\",IF(②選手情報入力!P60=\"\",\"\",②選手情報入力!P60))","v":""},null,{"$f":"IF(E51=\"\",\"\",IF(②選手情報入力!O60=\"\",\"\",IF(K51=1,VLOOKUP(②選手情報入力!O60,種目情報!$A$5:$C$135,3,FALSE),VLOOKUP(②選手情報入力!O60,種目情報!$E$5:$G$135,3,FALSE))))","v":""},{"$f":"IF(E51=\"\",\"\",IF(②選手情報入力!R60=\"\",\"\",IF(K51=1,VLOOKUP(②選手情報入力!R60,種目情報!$A$5:$B$151,2,FALSE),VLOOKUP(②選手情報入力!R60,種目情報!$E$5:$F$135,2,FALSE))))","v":""},{"$f":"IF(E51=\"\",\"\",IF(②選手情報入力!S60=\"\",\"\",②選手情報入力!S60))","v":""},null,{"$f":"IF(E51=\"\",\"\",IF(②選手情報入力!R60=\"\",\"\",IF(K51=1,VLOOKUP(②選手情報入力!R60,種目情報!$A$5:$C$135,3,FALSE),VLOOKUP(②選手情報入力!R60,種目情報!$E$5:$G$135,3,FALSE))))","v":""},{"$f":"IF(E51=\"\",\"\",IF(②選手情報入力!T60=\"\",\"\",IF(K51=1,種目情報!$J$4,種目情報!$J$6)))","v":""},{"$f":"IF(E51=\"\",\"\",IF(②選手情報入力!T60=\"\",\"\",IF(K51=1,IF(②選手情報入力!$U$7=\"\",\"\",②選手情報入力!$U$7),IF(②選手情報入力!$U$8=\"\",\"\",②選手情報入力!$U$8))))","v":""},{"$f":"IF(E51=\"\",\"\",IF(②選手情報入力!T60=\"\",\"\",IF(K51=1,IF(②選手情報入力!$T$7=\"\",0,1),IF(②選手情報入力!$T$8=\"\",0,1))))","v":""},{"$f":"IF(E51=\"\",\"\",IF(②選手情報入力!T60=\"\",\"\",2))","v":""},{"$f":"IF(E51=\"\",\"\",IF(②選手情報入力!V60=\"\",\"\",IF(K51=1,種目情報!$J$5,種目情報!$J$7)))","v":""},{"$f":"IF(E51=\"\",\"\",IF(②選手情報入力!V60=\"\",\"\",IF(K51=1,IF(②選手情報入力!$W$7=\"\",\"\",②選手情報入力!$W$7),IF(②選手情報入力!$W$8=\"\",\"\",②選手情報入力!$W$8))))","v":""},{"$f":"IF(E51=\"\",\"\",IF(②選手情報入力!V60=\"\",\"\",IF(K51=1,IF(②選手情報入力!$V$7=\"\",0,1),IF(②選手情報入力!$V$8=\"\",0,1))))","v":""},{"$f":"IF(E51=\"\",\"\",IF(②選手情報入力!V60=\"\",\"\",2))","v":""}]
["",{"$f":"IF(E52=\"\",\"\",①団体情報入力!$C$5)","v":""},null,{"$f":"IF(E52=\"\",\"\",①団体情報入力!C$10)","v":""},{"$f":"IF(②選手情報入力!C61=\"\",\"\",②選手情報入力!C61)","v":""},{"$f":"IF(E52=\"\",\"\",②選手情報入力!D61)","v":""},{"$f":"IF(E52=\"\",\"\",ASC(②選手情報入力!E61))","v":""},"",{"$f":"IF(E52=\"\",\"\",②選手情報入力!F61&\" \"&②選手情報入力!G61)","v":""},{"$f":"IF(E52=\"\",\"\",IF(②選手情報入力!H61=\"\",\"JPN\",LEFT(②選手情報入力!H61,3)))","v":""},{"$f":"IF(E52=\"\",\"\",IF(②選手情報入力!I61=\"男\",1,2))","v":""},{"$f":"IF(E52=\"\",\"\",IF(②選手情報入力!J61=\"\",\"\",②選手情報入力!J61))","v":""},{"$f":"IF(E52=\"\",\"\",LEFT(②選手情報入力!K61,4))","v":""},{"$f":"IF(E52=\"\",\"\",RIGHT(②選手情報入力!K61,4))","v":""},"",null,{"$f":"IF(E52=\"\",\"\",IF(②選手情報入力!L61=\"\",\"\",IF(K52=1,VLOOKUP(②選手情報入力!L61,種目情報!$A$4:$B$167,2,FALSE),VLOOKUP(②選手情報入力!L61,種目情報!$E$4:$F$142,2,FALSE))))","v":""},{"$f":"IF(E52=\"\",\"\",IF(②選手情報入力!M61=\"\",\"\",②選手情報入力!M61))","v":""},null,{"$f":"IF(E52=\"\",\"\",IF(②選手情報入力!L61=\"\",\"\",IF(K52=1,VLOOKUP(②選手情報入力!L61,種目情報!$A$4:$C$135,3,FALSE),VLOOKUP(②選手情報入力!L61,種目情報!$E$4:$G$135,3,FALSE))))","v":""},{"$f":"IF(E52=\"\",\"\",IF(②選手情報入力!O61=\"\",\"\",IF(K52=1,VLOOKUP(②選手情報入力!O61,種目情報!$A$5:$B$151,2,FALSE),VLOOKUP(②選手情報入力!O61,種目情報!$E$5:$F$135,2,FALSE))))","v":""},{"$f":"IF(E52=\"\",\"\",IF(②選手情報入力!P61=\"\",\"\",②選手情報入力!P61))","v":""},null,{"$f":"IF(E52=\"\",\"\",IF(②選手情報入力!O61=\"\",\"\",IF(K52=1,VLOOKUP(②選手情報入力!O61,種目情報!$A$5:$C$135,3,FALSE),VLOOKUP(②選手情報入力!O61,種目情報!$E$5:$G$135,3,FALSE))))","v":""},{"$f":"IF(E52=\"\",\"\",IF(②選手情報入力!R61=\"\",\"\",IF(K52=1,VLOOKUP(②選手情報入力!R61,種目情報!$A$5:$B$151,2,FALSE),VLOOKUP(②選手情報入力!R61,種目情報!$E$5:$F$135,2,FALSE))))","v":""},{"$f":"IF(E52=\"\",\"\",IF(②選手情報入力!S61=\"\",\"\",②選手情報入力!S61))","v":""},null,{"$f":"IF(E52=\"\",\"\",IF(②選手情報入力!R61=\"\",\"\",IF(K52=1,VLOOKUP(②選手情報入力!R61,種目情報!$A$5:$C$135,3,FALSE),VLOOKUP(②選手情報入力!R61,種目情報!$E$5:$G$135,3,FALSE))))","v":""},{"$f":"IF(E52=\"\",\"\",IF(②選手情報入力!T61=\"\",\"\",IF(K52=1,種目情報!$J$4,種目情報!$J$6)))","v":""},{"$f":"IF(E52=\"\",\"\",IF(②選手情報入力!T61=\"\",\"\",IF(K52=1,IF(②選手情報入力!$U$7=\"\",\"\",②選手情報入力!$U$7),IF(②選手情報入力!$U$8=\"\",\"\",②選手情報入力!$U$8))))","v":""},{"$f":"IF(E52=\"\",\"\",IF(②選手情報入力!T61=\"\",\"\",IF(K52=1,IF(②選手情報入力!$T$7=\"\",0,1),IF(②選手情報入力!$T$8=\"\",0,1))))","v":""},{"$f":"IF(E52=\"\",\"\",IF(②選手情報入力!T61=\"\",\"\",2))","v":""},{"$f":"IF(E52=\"\",\"\",IF(②選手情報入力!V61=\"\",\"\",IF(K52=1,種目情報!$J$5,種目情報!$J$7)))","v":""},{"$f":"IF(E52=\"\",\"\",IF(②選手情報入力!V61=\"\",\"\",IF(K52=1,IF(②選手情報入力!$W$7=\"\",\"\",②選手情報入力!$W$7),IF(②選手情報入力!$W$8=\"\",\"\",②選手情報入力!$W$8))))","v":""},{"$f":"IF(E52=\"\",\"\",IF(②選手情報入力!V61=\"\",\"\",IF(K52=1,IF(②選手情報入力!$V$7=\"\",0,1),IF(②選手情報入力!$V$8=\"\",0,1))))","v":""},{"$f":"IF(E52=\"\",\"\",IF(②選手情報入力!V61=\"\",\"\",2))","v":""}]
["",{"$f":"IF(E53=\"\",\"\",①団体情報入力!$C$5)","v":""},null,{"$f":"IF(E53=\"\",\"\",①団体情報入力!C$10)","v":""},{"$f":"IF(②選手情報入力!C62=\"\",\"\",②選手情報入力!C62)","v":""},{"$f":"IF(E53=\"\",\"\",②選手情報入力!D62)","v":""},{"$f":"IF(E53=\"\",\"\",ASC(②選手情報入力!E62))","v":""},"",{"$f":"IF(E53=\"\",\"\",②選手情報入力!F62&\" \"&②選手情報入力!G62)","v":""},{"$f":"IF(E53=\"\",\"\",IF(②選手情報入力!H62=\"\",\"JPN\",LEFT(②選手情報入力!H62,3)))","v":""},{"$f":"IF(E53=\"\",\"\",IF(②選手情報入力!I62=\"男\",1,2))","v":""},{"$f":"IF(E53=\"\",\"\",IF(②選手情報入力!J62=\"\",\"\",②選手情報入力!J62))","v":""},{"$f":"IF(E53=\"\",\"\",LEFT(②選手情報入力!K62,4))","v":""},{"$f":"IF(E53=\"\",\"\",RIGHT(②選手情報入力!K62,4))","v":""},"",null,{"$f":"IF(E53=\"\",\"\",IF(②選手情報入力!L62=\"\",\"\",IF(K53=1,VLOOKUP(②選手情報入力!L62,種目情報!$A$4:$B$167,2,FALSE),VLOOKUP(②選手情報入力!L62,種目情報!$E$4:$F$142,2,FALSE))))","v":""},{"$f":"IF(E53=\"\",\"\",IF(②選手情報入力!M62=\"\",\"\",②選手情報入力!M62))","v":""},null,{"$f":"IF(E53=\"\",\"\",IF(②選手情報入力!L62=\"\",\"\",IF(K53=1,VLOOKUP(②選手情報入力!L62,種目情報!$A$4:$C$135,3,FALSE),VLOOKUP(②選手情報入力!L62,種目情報!$E$4:$G$135,3,FALSE))))","v":""},{"$f":"IF(E53=\"\",\"\",IF(②選手情報入力!O62=\"\",\"\",IF(K53=1,VLOOKUP(②選手情報入力!O62,種目情報!$A$5:$B$151,2,FALSE),VLOOKUP(②選手情報入力!O62,種目情報!$E$5:$F$135,2,FALSE))))","v":""},{"$f":"IF(E53=\"\",\"\",IF(②選手情報入力!P62=\"\",\"\",②選手情報入力!P62))","v":""},null,{"$f":"IF(E53=\"\",\"\",IF(②選手情報入力!O62=\"\",\"\",IF(K53=1,VLOOKUP(②選手情報入力!O62,種目情報!$A$5:$C$135,3,FALSE),VLOOKUP(②選手情報入力!O62,種目情報!$E$5:$G$135,3,FALSE))))","v":""},{"$f":"IF(E53=\"\",\"\",IF(②選手情報入力!R62=\"\",\"\",IF(K53=1,VLOOKUP(②選手情報入力!R62,種目情報!$A$5:$B$151,2,FALSE),VLOOKUP(②選手情報入力!R62,種目情報!$E$5:$F$135,2,FALSE))))","v":""},{"$f":"IF(E53=\"\",\"\",IF(②選手情報入力!S62=\"\",\"\",②選手情報入力!S62))","v":""},null,{"$f":"IF(E53=\"\",\"\",IF(②選手情報入力!R62=\"\",\"\",IF(K53=1,VLOOKUP(②選手情報入力!R62,種目情報!$A$5:$C$135,3,FALSE),VLOOKUP(②選手情報入力!R62,種目情報!$E$5:$G$135,3,FALSE))))","v":""},{"$f":"IF(E53=\"\",\"\",IF(②選手情報入力!T62=\"\",\"\",IF(K53=1,種目情報!$J$4,種目情報!$J$6)))","v":""},{"$f":"IF(E53=\"\",\"\",IF(②選手情報入力!T62=\"\",\"\",IF(K53=1,IF(②選手情報入力!$U$7=\"\",\"\",②選手情報入力!$U$7),IF(②選手情報入力!$U$8=\"\",\"\",②選手情報入力!$U$8))))","v":""},{"$f":"IF(E53=\"\",\"\",IF(②選手情報入力!T62=\"\",\"\",IF(K53=1,IF(②選手情報入力!$T$7=\"\",0,1),IF(②選手情報入力!$T$8=\"\",0,1))))","v":""},{"$f":"IF(E53=\"\",\"\",IF(②選手情報入力!T62=\"\",\"\",2))","v":""},{"$f":"IF(E53=\"\",\"\",IF(②選手情報入力!V62=\"\",\"\",IF(K53=1,種目情報!$J$5,種目情報!$J$7)))","v":""},{"$f":"IF(E53=\"\",\"\",IF(②選手情報入力!V62=\"\",\"\",IF(K53=1,IF(②選手情報入力!$W$7=\"\",\"\",②選手情報入力!$W$7),IF(②選手情報入力!$W$8=\"\",\"\",②選手情報入力!$W$8))))","v":""},{"$f":"IF(E53=\"\",\"\",IF(②選手情報入力!V62=\"\",\"\",IF(K53=1,IF(②選手情報入力!$V$7=\"\",0,1),IF(②選手情報入力!$V$8=\"\",0,1))))","v":""},{"$f":"IF(E53=\"\",\"\",IF(②選手情報入力!V62=\"\",\"\",2))","v":""}]
["",{"$f":"IF(E54=\"\",\"\",①団体情報入力!$C$5)","v":""},null,{"$f":"IF(E54=\"\",\"\",①団体情報入力!C$10)","v":""},{"$f":"IF(②選手情報入力!C63=\"\",\"\",②選手情報入力!C63)","v":""},{"$f":"IF(E54=\"\",\"\",②選手情報入力!D63)","v":""},{"$f":"IF(E54=\"\",\"\",ASC(②選手情報入力!E63))","v":""},"",{"$f":"IF(E54=\"\",\"\",②選手情報入力!F63&\" \"&②選手情報入力!G63)","v":""},{"$f":"IF(E54=\"\",\"\",IF(②選手情報入力!H63=\"\",\"JPN\",LEFT(②選手情報入力!H63,3)))","v":""},{"$f":"IF(E54=\"\",\"\",IF(②選手情報入力!I63=\"男\",1,2))","v":""},{"$f":"IF(E54=\"\",\"\",IF(②選手情報入力!J63=\"\",\"\",②選手情報入力!J63))","v":""},{"$f":"IF(E54=\"\",\"\",LEFT(②選手情報入力!K63,4))","v":""},{"$f":"IF(E54=\"\",\"\",RIGHT(②選手情報入力!K63,4))","v":""},"",null,{"$f":"IF(E54=\"\",\"\",IF(②選手情報入力!L63=\"\",\"\",IF(K54=1,VLOOKUP(②選手情報入力!L63,種目情報!$A$4:$B$167,2,FALSE),VLOOKUP(②選手情報入力!L63,種目情報!$E$4:$F$142,2,FALSE))))","v":""},{"$f":"IF(E54=\"\",\"\",IF(②選手情報入力!M63=\"\",\"\",②選手情報入力!M63))","v":""},null,{"$f":"IF(E54=\"\",\"\",IF(②選手情報入力!L63=\"\",\"\",IF(K54=1,VLOOKUP(②選手情報入力!L63,種目情報!$A$4:$C$135,3,FALSE),VLOOKUP(②選手情報入力!L63,種目情報!$E$4:$G$135,3,FALSE))))","v":""},{"$f":"IF(E54=\"\",\"\",IF(②選手情報入力!O63=\"\",\"\",IF(K54=1,VLOOKUP(②選手情報入力!O63,種目情報!$A$5:$B$151,2,FALSE),VLOOKUP(②選手情報入力!O63,種目情報!$E$5:$F$135,2,FALSE))))","v":""},{"$f":"IF(E54=\"\",\"\",IF(②選手情報入力!P63=\"\",\"\",②選手情報入力!P63))","v":""},null,{"$f":"IF(E54=\"\",\"\",IF(②選手情報入力!O63=\"\",\"\",IF(K54=1,VLOOKUP(②選手情報入力!O63,種目情報!$A$5:$C$135,3,FALSE),VLOOKUP(②選手情報入力!O63,種目情報!$E$5:$G$135,3,FALSE))))","v":""},{"$f":"IF(E54=\"\",\"\",IF(②選手情報入力!R63=\"\",\"\",IF(K54=1,VLOOKUP(②選手情報入力!R63,種目情報!$A$5:$B$151,2,FALSE),VLOOKUP(②選手情報入力!R63,種目情報!$E$5:$F$135,2,FALSE))))","v":""},{"$f":"IF(E54=\"\",\"\",IF(②選手情報入力!S63=\"\",\"\",②選手情報入力!S63))","v":""},null,{"$f":"IF(E54=\"\",\"\",IF(②選手情報入力!R63=\"\",\"\",IF(K54=1,VLOOKUP(②選手情報入力!R63,種目情報!$A$5:$C$135,3,FALSE),VLOOKUP(②選手情報入力!R63,種目情報!$E$5:$G$135,3,FALSE))))","v":""},{"$f":"IF(E54=\"\",\"\",IF(②選手情報入力!T63=\"\",\"\",IF(K54=1,種目情報!$J$4,種目情報!$J$6)))","v":""},{"$f":"IF(E54=\"\",\"\",IF(②選手情報入力!T63=\"\",\"\",IF(K54=1,IF(②選手情報入力!$U$7=\"\",\"\",②選手情報入力!$U$7),IF(②選手情報入力!$U$8=\"\",\"\",②選手情報入力!$U$8))))","v":""},{"$f":"IF(E54=\"\",\"\",IF(②選手情報入力!T63=\"\",\"\",IF(K54=1,IF(②選手情報入力!$T$7=\"\",0,1),IF(②選手情報入力!$T$8=\"\",0,1))))","v":""},{"$f":"IF(E54=\"\",\"\",IF(②選手情報入力!T63=\"\",\"\",2))","v":""},{"$f":"IF(E54=\"\",\"\",IF(②選手情報入力!V63=\"\",\"\",IF(K54=1,種目情報!$J$5,種目情報!$J$7)))","v":""},{"$f":"IF(E54=\"\",\"\",IF(②選手情報入力!V63=\"\",\"\",IF(K54=1,IF(②選手情報入力!$W$7=\"\",\"\",②選手情報入力!$W$7),IF(②選手情報入力!$W$8=\"\",\"\",②選手情報入力!$W$8))))","v":""},{"$f":"IF(E54=\"\",\"\",IF(②選手情報入力!V63=\"\",\"\",IF(K54=1,IF(②選手情報入力!$V$7=\"\",0,1),IF(②選手情報入力!$V$8=\"\",0,1))))","v":""},{"$f":"IF(E54=\"\",\"\",IF(②選手情報入力!V63=\"\",\"\",2))","v":""}]
["",{"$f":"IF(E55=\"\",\"\",①団体情報入力!$C$5)","v":""},null,{"$f":"IF(E55=\"\",\"\",①団体情報入力!C$10)","v":""},{"$f":"IF(②選手情報入力!C64=\"\",\"\",②選手情報入力!C64)","v":""},{"$f":"IF(E55=\"\",\"\",②選手情報入力!D64)","v":""},{"$f":"IF(E55=\"\",\"\",ASC(②選手情報入力!E64))","v":""},"",{"$f":"IF(E55=\"\",\"\",②選手情報入力!F64&\" \"&②選手情報入力!G64)","v":""},{"$f":"IF(E55=\"\",\"\",IF(②選手情報入力!H64=\"\",\"JPN\",LEFT(②選手情報入力!H64,3)))","v":""},{"$f":"IF(E55=\"\",\"\",IF(②選手情報入力!I64=\"男\",1,2))","v":""},{"$f":"IF(E55=\"\",\"\",IF(②選手情報入力!J64=\"\",\"\",②選手情報入力!J64))","v":""},{"$f":"IF(E55=\"\",\"\",LEFT(②選手情報入力!K64,4))","v":""},{"$f":"IF(E55=\"\",\"\",RIGHT(②選手情報入力!K64,4))","v":""},"",null,{"$f":"IF(E55=\"\",\"\",IF(②選手情報入力!L64=\"\",\"\",IF(K55=1,VLOOKUP(②選手情報入力!L64,種目情報!$A$4:$B$167,2,FALSE),VLOOKUP(②選手情報入力!L64,種目情報!$E$4:$F$142,2,FALSE))))","v":""},{"$f":"IF(E55=\"\",\"\",IF(②選手情報入力!M64=\"\",\"\",②選手情報入力!M64))","v":""},null,{"$f":"IF(E55=\"\",\"\",IF(②選手情報入力!L64=\"\",\"\",IF(K55=1,VLOOKUP(②選手情報入力!L64,種目情報!$A$4:$C$135,3,FALSE),VLOOKUP(②選手情報入力!L64,種目情報!$E$4:$G$135,3,FALSE))))","v":""},{"$f":"IF(E55=\"\",\"\",IF(②選手情報入力!O64=\"\",\"\",IF(K55=1,VLOOKUP(②選手情報入力!O64,種目情報!$A$5:$B$151,2,FALSE),VLOOKUP(②選手情報入力!O64,種目情報!$E$5:$F$135,2,FALSE))))","v":""},{"$f":"IF(E55=\"\",\"\",IF(②選手情報入力!P64=\"\",\"\",②選手情報入力!P64))","v":""},null,{"$f":"IF(E55=\"\",\"\",IF(②選手情報入力!O64=\"\",\"\",IF(K55=1,VLOOKUP(②選手情報入力!O64,種目情報!$A$5:$C$135,3,FALSE),VLOOKUP(②選手情報入力!O64,種目情報!$E$5:$G$135,3,FALSE))))","v":""},{"$f":"IF(E55=\"\",\"\",IF(②選手情報入力!R64=\"\",\"\",IF(K55=1,VLOOKUP(②選手情報入力!R64,種目情報!$A$5:$B$151,2,FALSE),VLOOKUP(②選手情報入力!R64,種目情報!$E$5:$F$135,2,FALSE))))","v":""},{"$f":"IF(E55=\"\",\"\",IF(②選手情報入力!S64=\"\",\"\",②選手情報入力!S64))","v":""},null,{"$f":"IF(E55=\"\",\"\",IF(②選手情報入力!R64=\"\",\"\",IF(K55=1,VLOOKUP(②選手情報入力!R64,種目情報!$A$5:$C$135,3,FALSE),VLOOKUP(②選手情報入力!R64,種目情報!$E$5:$G$135,3,FALSE))))","v":""},{"$f":"IF(E55=\"\",\"\",IF(②選手情報入力!T64=\"\",\"\",IF(K55=1,種目情報!$J$4,種目情報!$J$6)))","v":""},{"$f":"IF(E55=\"\",\"\",IF(②選手情報入力!T64=\"\",\"\",IF(K55=1,IF(②選手情報入力!$U$7=\"\",\"\",②選手情報入力!$U$7),IF(②選手情報入力!$U$8=\"\",\"\",②選手情報入力!$U$8))))","v":""},{"$f":"IF(E55=\"\",\"\",IF(②選手情報入力!T64=\"\",\"\",IF(K55=1,IF(②選手情報入力!$T$7=\"\",0,1),IF(②選手情報入力!$T$8=\"\",0,1))))","v":""},{"$f":"IF(E55=\"\",\"\",IF(②選手情報入力!T64=\"\",\"\",2))","v":""},{"$f":"IF(E55=\"\",\"\",IF(②選手情報入力!V64=\"\",\"\",IF(K55=1,種目情報!$J$5,種目情報!$J$7)))","v":""},{"$f":"IF(E55=\"\",\"\",IF(②選手情報入力!V64=\"\",\"\",IF(K55=1,IF(②選手情報入力!$W$7=\"\",\"\",②選手情報入力!$W$7),IF(②選手情報入力!$W$8=\"\",\"\",②選手情報入力!$W$8))))","v":""},{"$f":"IF(E55=\"\",\"\",IF(②選手情報入力!V64=\"\",\"\",IF(K55=1,IF(②選手情報入力!$V$7=\"\",0,1),IF(②選手情報入力!$V$8=\"\",0,1))))","v":""},{"$f":"IF(E55=\"\",\"\",IF(②選手情報入力!V64=\"\",\"\",2))","v":""}]
["",{"$f":"IF(E56=\"\",\"\",①団体情報入力!$C$5)","v":""},null,{"$f":"IF(E56=\"\",\"\",①団体情報入力!C$10)","v":""},{"$f":"IF(②選手情報入力!C65=\"\",\"\",②選手情報入力!C65)","v":""},{"$f":"IF(E56=\"\",\"\",②選手情報入力!D65)","v":""},{"$f":"IF(E56=\"\",\"\",ASC(②選手情報入力!E65))","v":""},"",{"$f":"IF(E56=\"\",\"\",②選手情報入力!F65&\" \"&②選手情報入力!G65)","v":""},{"$f":"IF(E56=\"\",\"\",IF(②選手情報入力!H65=\"\",\"JPN\",LEFT(②選手情報入力!H65,3)))","v":""},{"$f":"IF(E56=\"\",\"\",IF(②選手情報入力!I65=\"男\",1,2))","v":""},{"$f":"IF(E56=\"\",\"\",IF(②選手情報入力!J65=\"\",\"\",②選手情報入力!J65))","v":""},{"$f":"IF(E56=\"\",\"\",LEFT(②選手情報入力!K65,4))","v":""},{"$f":"IF(E56=\"\",\"\",RIGHT(②選手情報入力!K65,4))","v":""},"",null,{"$f":"IF(E56=\"\",\"\",IF(②選手情報入力!L65=\"\",\"\",IF(K56=1,VLOOKUP(②選手情報入力!L65,種目情報!$A$4:$B$167,2,FALSE),VLOOKUP(②選手情報入力!L65,種目情報!$E$4:$F$142,2,FALSE))))","v":""},{"$f":"IF(E56=\"\",\"\",IF(②選手情報入力!M65=\"\",\"\",②選手情報入力!M65))","v":""},null,{"$f":"IF(E56=\"\",\"\",IF(②選手情報入力!L65=\"\",\"\",IF(K56=1,VLOOKUP(②選手情報入力!L65,種目情報!$A$4:$C$135,3,FALSE),VLOOKUP(②選手情報入力!L65,種目情報!$E$4:$G$135,3,FALSE))))","v":""},{"$f":"IF(E56=\"\",\"\",IF(②選手情報入力!O65=\"\",\"\",IF(K56=1,VLOOKUP(②選手情報入力!O65,種目情報!$A$5:$B$151,2,FALSE),VLOOKUP(②選手情報入力!O65,種目情報!$E$5:$F$135,2,FALSE))))","v":""},{"$f":"IF(E56=\"\",\"\",IF(②選手情報入力!P65=\"\",\"\",②選手情報入力!P65))","v":""},null,{"$f":"IF(E56=\"\",\"\",IF(②選手情報入力!O65=\"\",\"\",IF(K56=1,VLOOKUP(②選手情報入力!O65,種目情報!$A$5:$C$135,3,FALSE),VLOOKUP(②選手情報入力!O65,種目情報!$E$5:$G$135,3,FALSE))))","v":""},{"$f":"IF(E56=\"\",\"\",IF(②選手情報入力!R65=\"\",\"\",IF(K56=1,VLOOKUP(②選手情報入力!R65,種目情報!$A$5:$B$151,2,FALSE),VLOOKUP(②選手情報入力!R65,種目情報!$E$5:$F$135,2,FALSE))))","v":""},{"$f":"IF(E56=\"\",\"\",IF(②選手情報入力!S65=\"\",\"\",②選手情報入力!S65))","v":""},null,{"$f":"IF(E56=\"\",\"\",IF(②選手情報入力!R65=\"\",\"\",IF(K56=1,VLOOKUP(②選手情報入力!R65,種目情報!$A$5:$C$135,3,FALSE),VLOOKUP(②選手情報入力!R65,種目情報!$E$5:$G$135,3,FALSE))))","v":""},{"$f":"IF(E56=\"\",\"\",IF(②選手情報入力!T65=\"\",\"\",IF(K56=1,種目情報!$J$4,種目情報!$J$6)))","v":""},{"$f":"IF(E56=\"\",\"\",IF(②選手情報入力!T65=\"\",\"\",IF(K56=1,IF(②選手情報入力!$U$7=\"\",\"\",②選手情報入力!$U$7),IF(②選手情報入力!$U$8=\"\",\"\",②選手情報入力!$U$8))))","v":""},{"$f":"IF(E56=\"\",\"\",IF(②選手情報入力!T65=\"\",\"\",IF(K56=1,IF(②選手情報入力!$T$7=\"\",0,1),IF(②選手情報入力!$T$8=\"\",0,1))))","v":""},{"$f":"IF(E56=\"\",\"\",IF(②選手情報入力!T65=\"\",\"\",2))","v":""},{"$f":"IF(E56=\"\",\"\",IF(②選手情報入力!V65=\"\",\"\",IF(K56=1,種目情報!$J$5,種目情報!$J$7)))","v":""},{"$f":"IF(E56=\"\",\"\",IF(②選手情報入力!V65=\"\",\"\",IF(K56=1,IF(②選手情報入力!$W$7=\"\",\"\",②選手情報入力!$W$7),IF(②選手情報入力!$W$8=\"\",\"\",②選手情報入力!$W$8))))","v":""},{"$f":"IF(E56=\"\",\"\",IF(②選手情報入力!V65=\"\",\"\",IF(K56=1,IF(②選手情報入力!$V$7=\"\",0,1),IF(②選手情報入力!$V$8=\"\",0,1))))","v":""},{"$f":"IF(E56=\"\",\"\",IF(②選手情報入力!V65=\"\",\"\",2))","v":""}]
["",{"$f":"IF(E57=\"\",\"\",①団体情報入力!$C$5)","v":""},null,{"$f":"IF(E57=\"\",\"\",①団体情報入力!C$10)","v":""},{"$f":"IF(②選手情報入力!C66=\"\",\"\",②選手情報入力!C66)","v":""},{"$f":"IF(E57=\"\",\"\",②選手情報入力!D66)","v":""},{"$f":"IF(E57=\"\",\"\",ASC(②選手情報入力!E66))","v":""},"",{"$f":"IF(E57=\"\",\"\",②選手情報入力!F66&\" \"&②選手情報入力!G66)","v":""},{"$f":"IF(E57=\"\",\"\",IF(②選手情報入力!H66=\"\",\"JPN\",LEFT(②選手情報入力!H66,3)))","v":""},{"$f":"IF(E57=\"\",\"\",IF(②選手情報入力!I66=\"男\",1,2))","v":""},{"$f":"IF(E57=\"\",\"\",IF(②選手情報入力!J66=\"\",\"\",②選手情報入力!J66))","v":""},{"$f":"IF(E57=\"\",\"\",LEFT(②選手情報入力!K66,4))","v":""},{"$f":"IF(E57=\"\",\"\",RIGHT(②選手情報入力!K66,4))","v":""},"",null,{"$f":"IF(E57=\"\",\"\",IF(②選手情報入力!L66=\"\",\"\",IF(K57=1,VLOOKUP(②選手情報入力!L66,種目情報!$A$4:$B$167,2,FALSE),VLOOKUP(②選手情報入力!L66,種目情報!$E$4:$F$142,2,FALSE))))","v":""},{"$f":"IF(E57=\"\",\"\",IF(②選手情報入力!M66=\"\",\"\",②選手情報入力!M66))","v":""},null,{"$f":"IF(E57=\"\",\"\",IF(②選手情報入力!L66=\"\",\"\",IF(K57=1,VLOOKUP(②選手情報入力!L66,種目情報!$A$4:$C$135,3,FALSE),VLOOKUP(②選手情報入力!L66,種目情報!$E$4:$G$135,3,FALSE))))","v":""},{"$f":"IF(E57=\"\",\"\",IF(②選手情報入力!O66=\"\",\"\",IF(K57=1,VLOOKUP(②選手情報入力!O66,種目情報!$A$5:$B$151,2,FALSE),VLOOKUP(②選手情報入力!O66,種目情報!$E$5:$F$135,2,FALSE))))","v":""},{"$f":"IF(E57=\"\",\"\",IF(②選手情報入力!P66=\"\",\"\",②選手情報入力!P66))","v":""},null,{"$f":"IF(E57=\"\",\"\",IF(②選手情報入力!O66=\"\",\"\",IF(K57=1,VLOOKUP(②選手情報入力!O66,種目情報!$A$5:$C$135,3,FALSE),VLOOKUP(②選手情報入力!O66,種目情報!$E$5:$G$135,3,FALSE))))","v":""},{"$f":"IF(E57=\"\",\"\",IF(②選手情報入力!R66=\"\",\"\",IF(K57=1,VLOOKUP(②選手情報入力!R66,種目情報!$A$5:$B$151,2,FALSE),VLOOKUP(②選手情報入力!R66,種目情報!$E$5:$F$135,2,FALSE))))","v":""},{"$f":"IF(E57=\"\",\"\",IF(②選手情報入力!S66=\"\",\"\",②選手情報入力!S66))","v":""},null,{"$f":"IF(E57=\"\",\"\",IF(②選手情報入力!R66=\"\",\"\",IF(K57=1,VLOOKUP(②選手情報入力!R66,種目情報!$A$5:$C$135,3,FALSE),VLOOKUP(②選手情報入力!R66,種目情報!$E$5:$G$135,3,FALSE))))","v":""},{"$f":"IF(E57=\"\",\"\",IF(②選手情報入力!T66=\"\",\"\",IF(K57=1,種目情報!$J$4,種目情報!$J$6)))","v":""},{"$f":"IF(E57=\"\",\"\",IF(②選手情報入力!T66=\"\",\"\",IF(K57=1,IF(②選手情報入力!$U$7=\"\",\"\",②選手情報入力!$U$7),IF(②選手情報入力!$U$8=\"\",\"\",②選手情報入力!$U$8))))","v":""},{"$f":"IF(E57=\"\",\"\",IF(②選手情報入力!T66=\"\",\"\",IF(K57=1,IF(②選手情報入力!$T$7=\"\",0,1),IF(②選手情報入力!$T$8=\"\",0,1))))","v":""},{"$f":"IF(E57=\"\",\"\",IF(②選手情報入力!T66=\"\",\"\",2))","v":""},{"$f":"IF(E57=\"\",\"\",IF(②選手情報入力!V66=\"\",\"\",IF(K57=1,種目情報!$J$5,種目情報!$J$7)))","v":""},{"$f":"IF(E57=\"\",\"\",IF(②選手情報入力!V66=\"\",\"\",IF(K57=1,IF(②選手情報入力!$W$7=\"\",\"\",②選手情報入力!$W$7),IF(②選手情報入力!$W$8=\"\",\"\",②選手情報入力!$W$8))))","v":""},{"$f":"IF(E57=\"\",\"\",IF(②選手情報入力!V66=\"\",\"\",IF(K57=1,IF(②選手情報入力!$V$7=\"\",0,1),IF(②選手情報入力!$V$8=\"\",0,1))))","v":""},{"$f":"IF(E57=\"\",\"\",IF(②選手情報入力!V66=\"\",\"\",2))","v":""}]
["",{"$f":"IF(E58=\"\",\"\",①団体情報入力!$C$5)","v":""},null,{"$f":"IF(E58=\"\",\"\",①団体情報入力!C$10)","v":""},{"$f":"IF(②選手情報入力!C67=\"\",\"\",②選手情報入力!C67)","v":""},{"$f":"IF(E58=\"\",\"\",②選手情報入力!D67)","v":""},{"$f":"IF(E58=\"\",\"\",ASC(②選手情報入力!E67))","v":""},"",{"$f":"IF(E58=\"\",\"\",②選手情報入力!F67&\" \"&②選手情報入力!G67)","v":""},{"$f":"IF(E58=\"\",\"\",IF(②選手情報入力!H67=\"\",\"JPN\",LEFT(②選手情報入力!H67,3)))","v":""},{"$f":"IF(E58=\"\",\"\",IF(②選手情報入力!I67=\"男\",1,2))","v":""},{"$f":"IF(E58=\"\",\"\",IF(②選手情報入力!J67=\"\",\"\",②選手情報入力!J67))","v":""},{"$f":"IF(E58=\"\",\"\",LEFT(②選手情報入力!K67,4))","v":""},{"$f":"IF(E58=\"\",\"\",RIGHT(②選手情報入力!K67,4))","v":""},"",null,{"$f":"IF(E58=\"\",\"\",IF(②選手情報入力!L67=\"\",\"\",IF(K58=1,VLOOKUP(②選手情報入力!L67,種目情報!$A$4:$B$167,2,FALSE),VLOOKUP(②選手情報入力!L67,種目情報!$E$4:$F$142,2,FALSE))))","v":""},{"$f":"IF(E58=\"\",\"\",IF(②選手情報入力!M67=\"\",\"\",②選手情報入力!M67))","v":""},null,{"$f":"IF(E58=\"\",\"\",IF(②選手情報入力!L67=\"\",\"\",IF(K58=1,VLOOKUP(②選手情報入力!L67,種目情報!$A$4:$C$135,3,FALSE),VLOOKUP(②選手情報入力!L67,種目情報!$E$4:$G$135,3,FALSE))))","v":""},{"$f":"IF(E58=\"\",\"\",IF(②選手情報入力!O67=\"\",\"\",IF(K58=1,VLOOKUP(②選手情報入力!O67,種目情報!$A$5:$B$151,2,FALSE),VLOOKUP(②選手情報入力!O67,種目情報!$E$5:$F$135,2,FALSE))))","v":""},{"$f":"IF(E58=\"\",\"\",IF(②選手情報入力!P67=\"\",\"\",②選手情報入力!P67))","v":""},null,{"$f":"IF(E58=\"\",\"\",IF(②選手情報入力!O67=\"\",\"\",IF(K58=1,VLOOKUP(②選手情報入力!O67,種目情報!$A$5:$C$135,3,FALSE),VLOOKUP(②選手情報入力!O67,種目情報!$E$5:$G$135,3,FALSE))))","v":""},{"$f":"IF(E58=\"\",\"\",IF(②選手情報入力!R67=\"\",\"\",IF(K58=1,VLOOKUP(②選手情報入力!R67,種目情報!$A$5:$B$151,2,FALSE),VLOOKUP(②選手情報入力!R67,種目情報!$E$5:$F$135,2,FALSE))))","v":""},{"$f":"IF(E58=\"\",\"\",IF(②選手情報入力!S67=\"\",\"\",②選手情報入力!S67))","v":""},null,{"$f":"IF(E58=\"\",\"\",IF(②選手情報入力!R67=\"\",\"\",IF(K58=1,VLOOKUP(②選手情報入力!R67,種目情報!$A$5:$C$135,3,FALSE),VLOOKUP(②選手情報入力!R67,種目情報!$E$5:$G$135,3,FALSE))))","v":""},{"$f":"IF(E58=\"\",\"\",IF(②選手情報入力!T67=\"\",\"\",IF(K58=1,種目情報!$J$4,種目情報!$J$6)))","v":""},{"$f":"IF(E58=\"\",\"\",IF(②選手情報入力!T67=\"\",\"\",IF(K58=1,IF(②選手情報入力!$U$7=\"\",\"\",②選手情報入力!$U$7),IF(②選手情報入力!$U$8=\"\",\"\",②選手情報入力!$U$8))))","v":""},{"$f":"IF(E58=\"\",\"\",IF(②選手情報入力!T67=\"\",\"\",IF(K58=1,IF(②選手情報入力!$T$7=\"\",0,1),IF(②選手情報入力!$T$8=\"\",0,1))))","v":""},{"$f":"IF(E58=\"\",\"\",IF(②選手情報入力!T67=\"\",\"\",2))","v":""},{"$f":"IF(E58=\"\",\"\",IF(②選手情報入力!V67=\"\",\"\",IF(K58=1,種目情報!$J$5,種目情報!$J$7)))","v":""},{"$f":"IF(E58=\"\",\"\",IF(②選手情報入力!V67=\"\",\"\",IF(K58=1,IF(②選手情報入力!$W$7=\"\",\"\",②選手情報入力!$W$7),IF(②選手情報入力!$W$8=\"\",\"\",②選手情報入力!$W$8))))","v":""},{"$f":"IF(E58=\"\",\"\",IF(②選手情報入力!V67=\"\",\"\",IF(K58=1,IF(②選手情報入力!$V$7=\"\",0,1),IF(②選手情報入力!$V$8=\"\",0,1))))","v":""},{"$f":"IF(E58=\"\",\"\",IF(②選手情報入力!V67=\"\",\"\",2))","v":""}]
["",{"$f":"IF(E59=\"\",\"\",①団体情報入力!$C$5)","v":""},null,{"$f":"IF(E59=\"\",\"\",①団体情報入力!C$10)","v":""},{"$f":"IF(②選手情報入力!C68=\"\",\"\",②選手情報入力!C68)","v":""},{"$f":"IF(E59=\"\",\"\",②選手情報入力!D68)","v":""},{"$f":"IF(E59=\"\",\"\",ASC(②選手情報入力!E68))","v":""},"",{"$f":"IF(E59=\"\",\"\",②選手情報入力!F68&\" \"&②選手情報入力!G68)","v":""},{"$f":"IF(E59=\"\",\"\",IF(②選手情報入力!H68=\"\",\"JPN\",LEFT(②選手情報入力!H68,3)))","v":""},{"$f":"IF(E59=\"\",\"\",IF(②選手情報入力!I68=\"男\",1,2))","v":""},{"$f":"IF(E59=\"\",\"\",IF(②選手情報入力!J68=\"\",\"\",②選手情報入力!J68))","v":""},{"$f":"IF(E59=\"\",\"\",LEFT(②選手情報入力!K68,4))","v":""},{"$f":"IF(E59=\"\",\"\",RIGHT(②選手情報入力!K68,4))","v":""},"",null,{"$f":"IF(E59=\"\",\"\",IF(②選手情報入力!L68=\"\",\"\",IF(K59=1,VLOOKUP(②選手情報入力!L68,種目情報!$A$4:$B$167,2,FALSE),VLOOKUP(②選手情報入力!L68,種目情報!$E$4:$F$142,2,FALSE))))","v":""},{"$f":"IF(E59=\"\",\"\",IF(②選手情報入力!M68=\"\",\"\",②選手情報入力!M68))","v":""},null,{"$f":"IF(E59=\"\",\"\",IF(②選手情報入力!L68=\"\",\"\",IF(K59=1,VLOOKUP(②選手情報入力!L68,種目情報!$A$4:$C$135,3,FALSE),VLOOKUP(②選手情報入力!L68,種目情報!$E$4:$G$135,3,FALSE))))","v":""},{"$f":"IF(E59=\"\",\"\",IF(②選手情報入力!O68=\"\",\"\",IF(K59=1,VLOOKUP(②選手情報入力!O68,種目情報!$A$5:$B$151,2,FALSE),VLOOKUP(②選手情報入力!O68,種目情報!$E$5:$F$135,2,FALSE))))","v":""},{"$f":"IF(E59=\"\",\"\",IF(②選手情報入力!P68=\"\",\"\",②選手情報入力!P68))","v":""},null,{"$f":"IF(E59=\"\",\"\",IF(②選手情報入力!O68=\"\",\"\",IF(K59=1,VLOOKUP(②選手情報入力!O68,種目情報!$A$5:$C$135,3,FALSE),VLOOKUP(②選手情報入力!O68,種目情報!$E$5:$G$135,3,FALSE))))","v":""},{"$f":"IF(E59=\"\",\"\",IF(②選手情報入力!R68=\"\",\"\",IF(K59=1,VLOOKUP(②選手情報入力!R68,種目情報!$A$5:$B$151,2,FALSE),VLOOKUP(②選手情報入力!R68,種目情報!$E$5:$F$135,2,FALSE))))","v":""},{"$f":"IF(E59=\"\",\"\",IF(②選手情報入力!S68=\"\",\"\",②選手情報入力!S68))","v":""},null,{"$f":"IF(E59=\"\",\"\",IF(②選手情報入力!R68=\"\",\"\",IF(K59=1,VLOOKUP(②選手情報入力!R68,種目情報!$A$5:$C$135,3,FALSE),VLOOKUP(②選手情報入力!R68,種目情報!$E$5:$G$135,3,FALSE))))","v":""},{"$f":"IF(E59=\"\",\"\",IF(②選手情報入力!T68=\"\",\"\",IF(K59=1,種目情報!$J$4,種目情報!$J$6)))","v":""},{"$f":"IF(E59=\"\",\"\",IF(②選手情報入力!T68=\"\",\"\",IF(K59=1,IF(②選手情報入力!$U$7=\"\",\"\",②選手情報入力!$U$7),IF(②選手情報入力!$U$8=\"\",\"\",②選手情報入力!$U$8))))","v":""},{"$f":"IF(E59=\"\",\"\",IF(②選手情報入力!T68=\"\",\"\",IF(K59=1,IF(②選手情報入力!$T$7=\"\",0,1),IF(②選手情報入力!$T$8=\"\",0,1))))","v":""},{"$f":"IF(E59=\"\",\"\",IF(②選手情報入力!T68=\"\",\"\",2))","v":""},{"$f":"IF(E59=\"\",\"\",IF(②選手情報入力!V68=\"\",\"\",IF(K59=1,種目情報!$J$5,種目情報!$J$7)))","v":""},{"$f":"IF(E59=\"\",\"\",IF(②選手情報入力!V68=\"\",\"\",IF(K59=1,IF(②選手情報入力!$W$7=\"\",\"\",②選手情報入力!$W$7),IF(②選手情報入力!$W$8=\"\",\"\",②選手情報入力!$W$8))))","v":""},{"$f":"IF(E59=\"\",\"\",IF(②選手情報入力!V68=\"\",\"\",IF(K59=1,IF(②選手情報入力!$V$7=\"\",0,1),IF(②選手情報入力!$V$8=\"\",0,1))))","v":""},{"$f":"IF(E59=\"\",\"\",IF(②選手情報入力!V68=\"\",\"\",2))","v":""}]
["",{"$f":"IF(E60=\"\",\"\",①団体情報入力!$C$5)","v":""},null,{"$f":"IF(E60=\"\",\"\",①団体情報入力!C$10)","v":""},{"$f":"IF(②選手情報入力!C69=\"\",\"\",②選手情報入力!C69)","v":""},{"$f":"IF(E60=\"\",\"\",②選手情報入力!D69)","v":""},{"$f":"IF(E60=\"\",\"\",ASC(②選手情報入力!E69))","v":""},"",{"$f":"IF(E60=\"\",\"\",②選手情報入力!F69&\" \"&②選手情報入力!G69)","v":""},{"$f":"IF(E60=\"\",\"\",IF(②選手情報入力!H69=\"\",\"JPN\",LEFT(②選手情報入力!H69,3)))","v":""},{"$f":"IF(E60=\"\",\"\",IF(②選手情報入力!I69=\"男\",1,2))","v":""},{"$f":"IF(E60=\"\",\"\",IF(②選手情報入力!J69=\"\",\"\",②選手情報入力!J69))","v":""},{"$f":"IF(E60=\"\",\"\",LEFT(②選手情報入力!K69,4))","v":""},{"$f":"IF(E60=\"\",\"\",RIGHT(②選手情報入力!K69,4))","v":""},"",null,{"$f":"IF(E60=\"\",\"\",IF(②選手情報入力!L69=\"\",\"\",IF(K60=1,VLOOKUP(②選手情報入力!L69,種目情報!$A$4:$B$167,2,FALSE),VLOOKUP(②選手情報入力!L69,種目情報!$E$4:$F$142,2,FALSE))))","v":""},{"$f":"IF(E60=\"\",\"\",IF(②選手情報入力!M69=\"\",\"\",②選手情報入力!M69))","v":""},null,{"$f":"IF(E60=\"\",\"\",IF(②選手情報入力!L69=\"\",\"\",IF(K60=1,VLOOKUP(②選手情報入力!L69,種目情報!$A$4:$C$135,3,FALSE),VLOOKUP(②選手情報入力!L69,種目情報!$E$4:$G$135,3,FALSE))))","v":""},{"$f":"IF(E60=\"\",\"\",IF(②選手情報入力!O69=\"\",\"\",IF(K60=1,VLOOKUP(②選手情報入力!O69,種目情報!$A$5:$B$151,2,FALSE),VLOOKUP(②選手情報入力!O69,種目情報!$E$5:$F$135,2,FALSE))))","v":""},{"$f":"IF(E60=\"\",\"\",IF(②選手情報入力!P69=\"\",\"\",②選手情報入力!P69))","v":""},null,{"$f":"IF(E60=\"\",\"\",IF(②選手情報入力!O69=\"\",\"\",IF(K60=1,VLOOKUP(②選手情報入力!O69,種目情報!$A$5:$C$135,3,FALSE),VLOOKUP(②選手情報入力!O69,種目情報!$E$5:$G$135,3,FALSE))))","v":""},{"$f":"IF(E60=\"\",\"\",IF(②選手情報入力!R69=\"\",\"\",IF(K60=1,VLOOKUP(②選手情報入力!R69,種目情報!$A$5:$B$151,2,FALSE),VLOOKUP(②選手情報入力!R69,種目情報!$E$5:$F$135,2,FALSE))))","v":""},{"$f":"IF(E60=\"\",\"\",IF(②選手情報入力!S69=\"\",\"\",②選手情報入力!S69))","v":""},null,{"$f":"IF(E60=\"\",\"\",IF(②選手情報入力!R69=\"\",\"\",IF(K60=1,VLOOKUP(②選手情報入力!R69,種目情報!$A$5:$C$135,3,FALSE),VLOOKUP(②選手情報入力!R69,種目情報!$E$5:$G$135,3,FALSE))))","v":""},{"$f":"IF(E60=\"\",\"\",IF(②選手情報入力!T69=\"\",\"\",IF(K60=1,種目情報!$J$4,種目情報!$J$6)))","v":""},{"$f":"IF(E60=\"\",\"\",IF(②選手情報入力!T69=\"\",\"\",IF(K60=1,IF(②選手情報入力!$U$7=\"\",\"\",②選手情報入力!$U$7),IF(②選手情報入力!$U$8=\"\",\"\",②選手情報入力!$U$8))))","v":""},{"$f":"IF(E60=\"\",\"\",IF(②選手情報入力!T69=\"\",\"\",IF(K60=1,IF(②選手情報入力!$T$7=\"\",0,1),IF(②選手情報入力!$T$8=\"\",0,1))))","v":""},{"$f":"IF(E60=\"\",\"\",IF(②選手情報入力!T69=\"\",\"\",2))","v":""},{"$f":"IF(E60=\"\",\"\",IF(②選手情報入力!V69=\"\",\"\",IF(K60=1,種目情報!$J$5,種目情報!$J$7)))","v":""},{"$f":"IF(E60=\"\",\"\",IF(②選手情報入力!V69=\"\",\"\",IF(K60=1,IF(②選手情報入力!$W$7=\"\",\"\",②選手情報入力!$W$7),IF(②選手情報入力!$W$8=\"\",\"\",②選手情報入力!$W$8))))","v":""},{"$f":"IF(E60=\"\",\"\",IF(②選手情報入力!V69=\"\",\"\",IF(K60=1,IF(②選手情報入力!$V$7=\"\",0,1),IF(②選手情報入力!$V$8=\"\",0,1))))","v":""},{"$f":"IF(E60=\"\",\"\",IF(②選手情報入力!V69=\"\",\"\",2))","v":""}]
["",{"$f":"IF(E61=\"\",\"\",①団体情報入力!$C$5)","v":""},null,{"$f":"IF(E61=\"\",\"\",①団体情報入力!C$10)","v":""},{"$f":"IF(②選手情報入力!C70=\"\",\"\",②選手情報入力!C70)","v":""},{"$f":"IF(E61=\"\",\"\",②選手情報入力!D70)","v":""},{"$f":"IF(E61=\"\",\"\",ASC(②選手情報入力!E70))","v":""},"",{"$f":"IF(E61=\"\",\"\",②選手情報入力!F70&\" \"&②選手情報入力!G70)","v":""},{"$f":"IF(E61=\"\",\"\",IF(②選手情報入力!H70=\"\",\"JPN\",LEFT(②選手情報入力!H70,3)))","v":""},{"$f":"IF(E61=\"\",\"\",IF(②選手情報入力!I70=\"男\",1,2))","v":""},{"$f":"IF(E61=\"\",\"\",IF(②選手情報入力!J70=\"\",\"\",②選手情報入力!J70))","v":""},{"$f":"IF(E61=\"\",\"\",LEFT(②選手情報入力!K70,4))","v":""},{"$f":"IF(E61=\"\",\"\",RIGHT(②選手情報入力!K70,4))","v":""},"",null,{"$f":"IF(E61=\"\",\"\",IF(②選手情報入力!L70=\"\",\"\",IF(K61=1,VLOOKUP(②選手情報入力!L70,種目情報!$A$4:$B$167,2,FALSE),VLOOKUP(②選手情報入力!L70,種目情報!$E$4:$F$142,2,FALSE))))","v":""},{"$f":"IF(E61=\"\",\"\",IF(②選手情報入力!M70=\"\",\"\",②選手情報入力!M70))","v":""},null,{"$f":"IF(E61=\"\",\"\",IF(②選手情報入力!L70=\"\",\"\",IF(K61=1,VLOOKUP(②選手情報入力!L70,種目情報!$A$4:$C$135,3,FALSE),VLOOKUP(②選手情報入力!L70,種目情報!$E$4:$G$135,3,FALSE))))","v":""},{"$f":"IF(E61=\"\",\"\",IF(②選手情報入力!O70=\"\",\"\",IF(K61=1,VLOOKUP(②選手情報入力!O70,種目情報!$A$5:$B$151,2,FALSE),VLOOKUP(②選手情報入力!O70,種目情報!$E$5:$F$135,2,FALSE))))","v":""},{"$f":"IF(E61=\"\",\"\",IF(②選手情報入力!P70=\"\",\"\",②選手情報入力!P70))","v":""},null,{"$f":"IF(E61=\"\",\"\",IF(②選手情報入力!O70=\"\",\"\",IF(K61=1,VLOOKUP(②選手情報入力!O70,種目情報!$A$5:$C$135,3,FALSE),VLOOKUP(②選手情報入力!O70,種目情報!$E$5:$G$135,3,FALSE))))","v":""},{"$f":"IF(E61=\"\",\"\",IF(②選手情報入力!R70=\"\",\"\",IF(K61=1,VLOOKUP(②選手情報入力!R70,種目情報!$A$5:$B$151,2,FALSE),VLOOKUP(②選手情報入力!R70,種目情報!$E$5:$F$135,2,FALSE))))","v":""},{"$f":"IF(E61=\"\",\"\",IF(②選手情報入力!S70=\"\",\"\",②選手情報入力!S70))","v":""},null,{"$f":"IF(E61=\"\",\"\",IF(②選手情報入力!R70=\"\",\"\",IF(K61=1,VLOOKUP(②選手情報入力!R70,種目情報!$A$5:$C$135,3,FALSE),VLOOKUP(②選手情報入力!R70,種目情報!$E$5:$G$135,3,FALSE))))","v":""},{"$f":"IF(E61=\"\",\"\",IF(②選手情報入力!T70=\"\",\"\",IF(K61=1,種目情報!$J$4,種目情報!$J$6)))","v":""},{"$f":"IF(E61=\"\",\"\",IF(②選手情報入力!T70=\"\",\"\",IF(K61=1,IF(②選手情報入力!$U$7=\"\",\"\",②選手情報入力!$U$7),IF(②選手情報入力!$U$8=\"\",\"\",②選手情報入力!$U$8))))","v":""},{"$f":"IF(E61=\"\",\"\",IF(②選手情報入力!T70=\"\",\"\",IF(K61=1,IF(②選手情報入力!$T$7=\"\",0,1),IF(②選手情報入力!$T$8=\"\",0,1))))","v":""},{"$f":"IF(E61=\"\",\"\",IF(②選手情報入力!T70=\"\",\"\",2))","v":""},{"$f":"IF(E61=\"\",\"\",IF(②選手情報入力!V70=\"\",\"\",IF(K61=1,種目情報!$J$5,種目情報!$J$7)))","v":""},{"$f":"IF(E61=\"\",\"\",IF(②選手情報入力!V70=\"\",\"\",IF(K61=1,IF(②選手情報入力!$W$7=\"\",\"\",②選手情報入力!$W$7),IF(②選手情報入力!$W$8=\"\",\"\",②選手情報入力!$W$8))))","v":""},{"$f":"IF(E61=\"\",\"\",IF(②選手情報入力!V70=\"\",\"\",IF(K61=1,IF(②選手情報入力!$V$7=\"\",0,1),IF(②選手情報入力!$V$8=\"\",0,1))))","v":""},{"$f":"IF(E61=\"\",\"\",IF(②選手情報入力!V70=\"\",\"\",2))","v":""}]
["",{"$f":"IF(E62=\"\",\"\",①団体情報入力!$C$5)","v":""},null,{"$f":"IF(E62=\"\",\"\",①団体情報入力!C$10)","v":""},{"$f":"IF(②選手情報入力!C71=\"\",\"\",②選手情報入力!C71)","v":""},{"$f":"IF(E62=\"\",\"\",②選手情報入力!D71)","v":""},{"$f":"IF(E62=\"\",\"\",ASC(②選手情報入力!E71))","v":""},"",{"$f":"IF(E62=\"\",\"\",②選手情報入力!F71&\" \"&②選手情報入力!G71)","v":""},{"$f":"IF(E62=\"\",\"\",IF(②選手情報入力!H71=\"\",\"JPN\",LEFT(②選手情報入力!H71,3)))","v":""},{"$f":"IF(E62=\"\",\"\",IF(②選手情報入力!I71=\"男\",1,2))","v":""},{"$f":"IF(E62=\"\",\"\",IF(②選手情報入力!J71=\"\",\"\",②選手情報入力!J71))","v":""},{"$f":"IF(E62=\"\",\"\",LEFT(②選手情報入力!K71,4))","v":""},{"$f":"IF(E62=\"\",\"\",RIGHT(②選手情報入力!K71,4))","v":""},"",null,{"$f":"IF(E62=\"\",\"\",IF(②選手情報入力!L71=\"\",\"\",IF(K62=1,VLOOKUP(②選手情報入力!L71,種目情報!$A$4:$B$167,2,FALSE),VLOOKUP(②選手情報入力!L71,種目情報!$E$4:$F$142,2,FALSE))))","v":""},{"$f":"IF(E62=\"\",\"\",IF(②選手情報入力!M71=\"\",\"\",②選手情報入力!M71))","v":""},null,{"$f":"IF(E62=\"\",\"\",IF(②選手情報入力!L71=\"\",\"\",IF(K62=1,VLOOKUP(②選手情報入力!L71,種目情報!$A$4:$C$135,3,FALSE),VLOOKUP(②選手情報入力!L71,種目情報!$E$4:$G$135,3,FALSE))))","v":""},{"$f":"IF(E62=\"\",\"\",IF(②選手情報入力!O71=\"\",\"\",IF(K62=1,VLOOKUP(②選手情報入力!O71,種目情報!$A$5:$B$151,2,FALSE),VLOOKUP(②選手情報入力!O71,種目情報!$E$5:$F$135,2,FALSE))))","v":""},{"$f":"IF(E62=\"\",\"\",IF(②選手情報入力!P71=\"\",\"\",②選手情報入力!P71))","v":""},null,{"$f":"IF(E62=\"\",\"\",IF(②選手情報入力!O71=\"\",\"\",IF(K62=1,VLOOKUP(②選手情報入力!O71,種目情報!$A$5:$C$135,3,FALSE),VLOOKUP(②選手情報入力!O71,種目情報!$E$5:$G$135,3,FALSE))))","v":""},{"$f":"IF(E62=\"\",\"\",IF(②選手情報入力!R71=\"\",\"\",IF(K62=1,VLOOKUP(②選手情報入力!R71,種目情報!$A$5:$B$151,2,FALSE),VLOOKUP(②選手情報入力!R71,種目情報!$E$5:$F$135,2,FALSE))))","v":""},{"$f":"IF(E62=\"\",\"\",IF(②選手情報入力!S71=\"\",\"\",②選手情報入力!S71))","v":""},null,{"$f":"IF(E62=\"\",\"\",IF(②選手情報入力!R71=\"\",\"\",IF(K62=1,VLOOKUP(②選手情報入力!R71,種目情報!$A$5:$C$135,3,FALSE),VLOOKUP(②選手情報入力!R71,種目情報!$E$5:$G$135,3,FALSE))))","v":""},{"$f":"IF(E62=\"\",\"\",IF(②選手情報入力!T71=\"\",\"\",IF(K62=1,種目情報!$J$4,種目情報!$J$6)))","v":""},{"$f":"IF(E62=\"\",\"\",IF(②選手情報入力!T71=\"\",\"\",IF(K62=1,IF(②選手情報入力!$U$7=\"\",\"\",②選手情報入力!$U$7),IF(②選手情報入力!$U$8=\"\",\"\",②選手情報入力!$U$8))))","v":""},{"$f":"IF(E62=\"\",\"\",IF(②選手情報入力!T71=\"\",\"\",IF(K62=1,IF(②選手情報入力!$T$7=\"\",0,1),IF(②選手情報入力!$T$8=\"\",0,1))))","v":""},{"$f":"IF(E62=\"\",\"\",IF(②選手情報入力!T71=\"\",\"\",2))","v":""},{"$f":"IF(E62=\"\",\"\",IF(②選手情報入力!V71=\"\",\"\",IF(K62=1,種目情報!$J$5,種目情報!$J$7)))","v":""},{"$f":"IF(E62=\"\",\"\",IF(②選手情報入力!V71=\"\",\"\",IF(K62=1,IF(②選手情報入力!$W$7=\"\",\"\",②選手情報入力!$W$7),IF(②選手情報入力!$W$8=\"\",\"\",②選手情報入力!$W$8))))","v":""},{"$f":"IF(E62=\"\",\"\",IF(②選手情報入力!V71=\"\",\"\",IF(K62=1,IF(②選手情報入力!$V$7=\"\",0,1),IF(②選手情報入力!$V$8=\"\",0,1))))","v":""},{"$f":"IF(E62=\"\",\"\",IF(②選手情報入力!V71=\"\",\"\",2))","v":""}]
["",{"$f":"IF(E63=\"\",\"\",①団体情報入力!$C$5)","v":""},null,{"$f":"IF(E63=\"\",\"\",①団体情報入力!C$10)","v":""},{"$f":"IF(②選手情報入力!C72=\"\",\"\",②選手情報入力!C72)","v":""},{"$f":"IF(E63=\"\",\"\",②選手情報入力!D72)","v":""},{"$f":"IF(E63=\"\",\"\",ASC(②選手情報入力!E72))","v":""},"",{"$f":"IF(E63=\"\",\"\",②選手情報入力!F72&\" \"&②選手情報入力!G72)","v":""},{"$f":"IF(E63=\"\",\"\",IF(②選手情報入力!H72=\"\",\"JPN\",LEFT(②選手情報入力!H72,3)))","v":""},{"$f":"IF(E63=\"\",\"\",IF(②選手情報入力!I72=\"男\",1,2))","v":""},{"$f":"IF(E63=\"\",\"\",IF(②選手情報入力!J72=\"\",\"\",②選手情報入力!J72))","v":""},{"$f":"IF(E63=\"\",\"\",LEFT(②選手情報入力!K72,4))","v":""},{"$f":"IF(E63=\"\",\"\",RIGHT(②選手情報入力!K72,4))","v":""},"",null,{"$f":"IF(E63=\"\",\"\",IF(②選手情報入力!L72=\"\",\"\",IF(K63=1,VLOOKUP(②選手情報入力!L72,種目情報!$A$4:$B$167,2,FALSE),VLOOKUP(②選手情報入力!L72,種目情報!$E$4:$F$142,2,FALSE))))","v":""},{"$f":"IF(E63=\"\",\"\",IF(②選手情報入力!M72=\"\",\"\",②選手情報入力!M72))","v":""},null,{"$f":"IF(E63=\"\",\"\",IF(②選手情報入力!L72=\"\",\"\",IF(K63=1,VLOOKUP(②選手情報入力!L72,種目情報!$A$4:$C$135,3,FALSE),VLOOKUP(②選手情報入力!L72,種目情報!$E$4:$G$135,3,FALSE))))","v":""},{"$f":"IF(E63=\"\",\"\",IF(②選手情報入力!O72=\"\",\"\",IF(K63=1,VLOOKUP(②選手情報入力!O72,種目情報!$A$5:$B$151,2,FALSE),VLOOKUP(②選手情報入力!O72,種目情報!$E$5:$F$135,2,FALSE))))","v":""},{"$f":"IF(E63=\"\",\"\",IF(②選手情報入力!P72=\"\",\"\",②選手情報入力!P72))","v":""},null,{"$f":"IF(E63=\"\",\"\",IF(②選手情報入力!O72=\"\",\"\",IF(K63=1,VLOOKUP(②選手情報入力!O72,種目情報!$A$5:$C$135,3,FALSE),VLOOKUP(②選手情報入力!O72,種目情報!$E$5:$G$135,3,FALSE))))","v":""},{"$f":"IF(E63=\"\",\"\",IF(②選手情報入力!R72=\"\",\"\",IF(K63=1,VLOOKUP(②選手情報入力!R72,種目情報!$A$5:$B$151,2,FALSE),VLOOKUP(②選手情報入力!R72,種目情報!$E$5:$F$135,2,FALSE))))","v":""},{"$f":"IF(E63=\"\",\"\",IF(②選手情報入力!S72=\"\",\"\",②選手情報入力!S72))","v":""},null,{"$f":"IF(E63=\"\",\"\",IF(②選手情報入力!R72=\"\",\"\",IF(K63=1,VLOOKUP(②選手情報入力!R72,種目情報!$A$5:$C$135,3,FALSE),VLOOKUP(②選手情報入力!R72,種目情報!$E$5:$G$135,3,FALSE))))","v":""},{"$f":"IF(E63=\"\",\"\",IF(②選手情報入力!T72=\"\",\"\",IF(K63=1,種目情報!$J$4,種目情報!$J$6)))","v":""},{"$f":"IF(E63=\"\",\"\",IF(②選手情報入力!T72=\"\",\"\",IF(K63=1,IF(②選手情報入力!$U$7=\"\",\"\",②選手情報入力!$U$7),IF(②選手情報入力!$U$8=\"\",\"\",②選手情報入力!$U$8))))","v":""},{"$f":"IF(E63=\"\",\"\",IF(②選手情報入力!T72=\"\",\"\",IF(K63=1,IF(②選手情報入力!$T$7=\"\",0,1),IF(②選手情報入力!$T$8=\"\",0,1))))","v":""},{"$f":"IF(E63=\"\",\"\",IF(②選手情報入力!T72=\"\",\"\",2))","v":""},{"$f":"IF(E63=\"\",\"\",IF(②選手情報入力!V72=\"\",\"\",IF(K63=1,種目情報!$J$5,種目情報!$J$7)))","v":""},{"$f":"IF(E63=\"\",\"\",IF(②選手情報入力!V72=\"\",\"\",IF(K63=1,IF(②選手情報入力!$W$7=\"\",\"\",②選手情報入力!$W$7),IF(②選手情報入力!$W$8=\"\",\"\",②選手情報入力!$W$8))))","v":""},{"$f":"IF(E63=\"\",\"\",IF(②選手情報入力!V72=\"\",\"\",IF(K63=1,IF(②選手情報入力!$V$7=\"\",0,1),IF(②選手情報入力!$V$8=\"\",0,1))))","v":""},{"$f":"IF(E63=\"\",\"\",IF(②選手情報入力!V72=\"\",\"\",2))","v":""}]
["",{"$f":"IF(E64=\"\",\"\",①団体情報入力!$C$5)","v":""},null,{"$f":"IF(E64=\"\",\"\",①団体情報入力!C$10)","v":""},{"$f":"IF(②選手情報入力!C73=\"\",\"\",②選手情報入力!C73)","v":""},{"$f":"IF(E64=\"\",\"\",②選手情報入力!D73)","v":""},{"$f":"IF(E64=\"\",\"\",ASC(②選手情報入力!E73))","v":""},"",{"$f":"IF(E64=\"\",\"\",②選手情報入力!F73&\" \"&②選手情報入力!G73)","v":""},{"$f":"IF(E64=\"\",\"\",IF(②選手情報入力!H73=\"\",\"JPN\",LEFT(②選手情報入力!H73,3)))","v":""},{"$f":"IF(E64=\"\",\"\",IF(②選手情報入力!I73=\"男\",1,2))","v":""},{"$f":"IF(E64=\"\",\"\",IF(②選手情報入力!J73=\"\",\"\",②選手情報入力!J73))","v":""},{"$f":"IF(E64=\"\",\"\",LEFT(②選手情報入力!K73,4))","v":""},{"$f":"IF(E64=\"\",\"\",RIGHT(②選手情報入力!K73,4))","v":""},"",null,{"$f":"IF(E64=\"\",\"\",IF(②選手情報入力!L73=\"\",\"\",IF(K64=1,VLOOKUP(②選手情報入力!L73,種目情報!$A$4:$B$167,2,FALSE),VLOOKUP(②選手情報入力!L73,種目情報!$E$4:$F$142,2,FALSE))))","v":""},{"$f":"IF(E64=\"\",\"\",IF(②選手情報入力!M73=\"\",\"\",②選手情報入力!M73))","v":""},null,{"$f":"IF(E64=\"\",\"\",IF(②選手情報入力!L73=\"\",\"\",IF(K64=1,VLOOKUP(②選手情報入力!L73,種目情報!$A$4:$C$135,3,FALSE),VLOOKUP(②選手情報入力!L73,種目情報!$E$4:$G$135,3,FALSE))))","v":""},{"$f":"IF(E64=\"\",\"\",IF(②選手情報入力!O73=\"\",\"\",IF(K64=1,VLOOKUP(②選手情報入力!O73,種目情報!$A$5:$B$151,2,FALSE),VLOOKUP(②選手情報入力!O73,種目情報!$E$5:$F$135,2,FALSE))))","v":""},{"$f":"IF(E64=\"\",\"\",IF(②選手情報入力!P73=\"\",\"\",②選手情報入力!P73))","v":""},null,{"$f":"IF(E64=\"\",\"\",IF(②選手情報入力!O73=\"\",\"\",IF(K64=1,VLOOKUP(②選手情報入力!O73,種目情報!$A$5:$C$135,3,FALSE),VLOOKUP(②選手情報入力!O73,種目情報!$E$5:$G$135,3,FALSE))))","v":""},{"$f":"IF(E64=\"\",\"\",IF(②選手情報入力!R73=\"\",\"\",IF(K64=1,VLOOKUP(②選手情報入力!R73,種目情報!$A$5:$B$151,2,FALSE),VLOOKUP(②選手情報入力!R73,種目情報!$E$5:$F$135,2,FALSE))))","v":""},{"$f":"IF(E64=\"\",\"\",IF(②選手情報入力!S73=\"\",\"\",②選手情報入力!S73))","v":""},null,{"$f":"IF(E64=\"\",\"\",IF(②選手情報入力!R73=\"\",\"\",IF(K64=1,VLOOKUP(②選手情報入力!R73,種目情報!$A$5:$C$135,3,FALSE),VLOOKUP(②選手情報入力!R73,種目情報!$E$5:$G$135,3,FALSE))))","v":""},{"$f":"IF(E64=\"\",\"\",IF(②選手情報入力!T73=\"\",\"\",IF(K64=1,種目情報!$J$4,種目情報!$J$6)))","v":""},{"$f":"IF(E64=\"\",\"\",IF(②選手情報入力!T73=\"\",\"\",IF(K64=1,IF(②選手情報入力!$U$7=\"\",\"\",②選手情報入力!$U$7),IF(②選手情報入力!$U$8=\"\",\"\",②選手情報入力!$U$8))))","v":""},{"$f":"IF(E64=\"\",\"\",IF(②選手情報入力!T73=\"\",\"\",IF(K64=1,IF(②選手情報入力!$T$7=\"\",0,1),IF(②選手情報入力!$T$8=\"\",0,1))))","v":""},{"$f":"IF(E64=\"\",\"\",IF(②選手情報入力!T73=\"\",\"\",2))","v":""},{"$f":"IF(E64=\"\",\"\",IF(②選手情報入力!V73=\"\",\"\",IF(K64=1,種目情報!$J$5,種目情報!$J$7)))","v":""},{"$f":"IF(E64=\"\",\"\",IF(②選手情報入力!V73=\"\",\"\",IF(K64=1,IF(②選手情報入力!$W$7=\"\",\"\",②選手情報入力!$W$7),IF(②選手情報入力!$W$8=\"\",\"\",②選手情報入力!$W$8))))","v":""},{"$f":"IF(E64=\"\",\"\",IF(②選手情報入力!V73=\"\",\"\",IF(K64=1,IF(②選手情報入力!$V$7=\"\",0,1),IF(②選手情報入力!$V$8=\"\",0,1))))","v":""},{"$f":"IF(E64=\"\",\"\",IF(②選手情報入力!V73=\"\",\"\",2))","v":""}]
["",{"$f":"IF(E65=\"\",\"\",①団体情報入力!$C$5)","v":""},null,{"$f":"IF(E65=\"\",\"\",①団体情報入力!C$10)","v":""},{"$f":"IF(②選手情報入力!C74=\"\",\"\",②選手情報入力!C74)","v":""},{"$f":"IF(E65=\"\",\"\",②選手情報入力!D74)","v":""},{"$f":"IF(E65=\"\",\"\",ASC(②選手情報入力!E74))","v":""},"",{"$f":"IF(E65=\"\",\"\",②選手情報入力!F74&\" \"&②選手情報入力!G74)","v":""},{"$f":"IF(E65=\"\",\"\",IF(②選手情報入力!H74=\"\",\"JPN\",LEFT(②選手情報入力!H74,3)))","v":""},{"$f":"IF(E65=\"\",\"\",IF(②選手情報入力!I74=\"男\",1,2))","v":""},{"$f":"IF(E65=\"\",\"\",IF(②選手情報入力!J74=\"\",\"\",②選手情報入力!J74))","v":""},{"$f":"IF(E65=\"\",\"\",LEFT(②選手情報入力!K74,4))","v":""},{"$f":"IF(E65=\"\",\"\",RIGHT(②選手情報入力!K74,4))","v":""},"",null,{"$f":"IF(E65=\"\",\"\",IF(②選手情報入力!L74=\"\",\"\",IF(K65=1,VLOOKUP(②選手情報入力!L74,種目情報!$A$4:$B$167,2,FALSE),VLOOKUP(②選手情報入力!L74,種目情報!$E$4:$F$142,2,FALSE))))","v":""},{"$f":"IF(E65=\"\",\"\",IF(②選手情報入力!M74=\"\",\"\",②選手情報入力!M74))","v":""},null,{"$f":"IF(E65=\"\",\"\",IF(②選手情報入力!L74=\"\",\"\",IF(K65=1,VLOOKUP(②選手情報入力!L74,種目情報!$A$4:$C$135,3,FALSE),VLOOKUP(②選手情報入力!L74,種目情報!$E$4:$G$135,3,FALSE))))","v":""},{"$f":"IF(E65=\"\",\"\",IF(②選手情報入力!O74=\"\",\"\",IF(K65=1,VLOOKUP(②選手情報入力!O74,種目情報!$A$5:$B$151,2,FALSE),VLOOKUP(②選手情報入力!O74,種目情報!$E$5:$F$135,2,FALSE))))","v":""},{"$f":"IF(E65=\"\",\"\",IF(②選手情報入力!P74=\"\",\"\",②選手情報入力!P74))","v":""},null,{"$f":"IF(E65=\"\",\"\",IF(②選手情報入力!O74=\"\",\"\",IF(K65=1,VLOOKUP(②選手情報入力!O74,種目情報!$A$5:$C$135,3,FALSE),VLOOKUP(②選手情報入力!O74,種目情報!$E$5:$G$135,3,FALSE))))","v":""},{"$f":"IF(E65=\"\",\"\",IF(②選手情報入力!R74=\"\",\"\",IF(K65=1,VLOOKUP(②選手情報入力!R74,種目情報!$A$5:$B$151,2,FALSE),VLOOKUP(②選手情報入力!R74,種目情報!$E$5:$F$135,2,FALSE))))","v":""},{"$f":"IF(E65=\"\",\"\",IF(②選手情報入力!S74=\"\",\"\",②選手情報入力!S74))","v":""},null,{"$f":"IF(E65=\"\",\"\",IF(②選手情報入力!R74=\"\",\"\",IF(K65=1,VLOOKUP(②選手情報入力!R74,種目情報!$A$5:$C$135,3,FALSE),VLOOKUP(②選手情報入力!R74,種目情報!$E$5:$G$135,3,FALSE))))","v":""},{"$f":"IF(E65=\"\",\"\",IF(②選手情報入力!T74=\"\",\"\",IF(K65=1,種目情報!$J$4,種目情報!$J$6)))","v":""},{"$f":"IF(E65=\"\",\"\",IF(②選手情報入力!T74=\"\",\"\",IF(K65=1,IF(②選手情報入力!$U$7=\"\",\"\",②選手情報入力!$U$7),IF(②選手情報入力!$U$8=\"\",\"\",②選手情報入力!$U$8))))","v":""},{"$f":"IF(E65=\"\",\"\",IF(②選手情報入力!T74=\"\",\"\",IF(K65=1,IF(②選手情報入力!$T$7=\"\",0,1),IF(②選手情報入力!$T$8=\"\",0,1))))","v":""},{"$f":"IF(E65=\"\",\"\",IF(②選手情報入力!T74=\"\",\"\",2))","v":""},{"$f":"IF(E65=\"\",\"\",IF(②選手情報入力!V74=\"\",\"\",IF(K65=1,種目情報!$J$5,種目情報!$J$7)))","v":""},{"$f":"IF(E65=\"\",\"\",IF(②選手情報入力!V74=\"\",\"\",IF(K65=1,IF(②選手情報入力!$W$7=\"\",\"\",②選手情報入力!$W$7),IF(②選手情報入力!$W$8=\"\",\"\",②選手情報入力!$W$8))))","v":""},{"$f":"IF(E65=\"\",\"\",IF(②選手情報入力!V74=\"\",\"\",IF(K65=1,IF(②選手情報入力!$V$7=\"\",0,1),IF(②選手情報入力!$V$8=\"\",0,1))))","v":""},{"$f":"IF(E65=\"\",\"\",IF(②選手情報入力!V74=\"\",\"\",2))","v":""}]
["",{"$f":"IF(E66=\"\",\"\",①団体情報入力!$C$5)","v":""},null,{"$f":"IF(E66=\"\",\"\",①団体情報入力!C$10)","v":""},{"$f":"IF(②選手情報入力!C75=\"\",\"\",②選手情報入力!C75)","v":""},{"$f":"IF(E66=\"\",\"\",②選手情報入力!D75)","v":""},{"$f":"IF(E66=\"\",\"\",ASC(②選手情報入力!E75))","v":""},"",{"$f":"IF(E66=\"\",\"\",②選手情報入力!F75&\" \"&②選手情報入力!G75)","v":""},{"$f":"IF(E66=\"\",\"\",IF(②選手情報入力!H75=\"\",\"JPN\",LEFT(②選手情報入力!H75,3)))","v":""},{"$f":"IF(E66=\"\",\"\",IF(②選手情報入力!I75=\"男\",1,2))","v":""},{"$f":"IF(E66=\"\",\"\",IF(②選手情報入力!J75=\"\",\"\",②選手情報入力!J75))","v":""},{"$f":"IF(E66=\"\",\"\",LEFT(②選手情報入力!K75,4))","v":""},{"$f":"IF(E66=\"\",\"\",RIGHT(②選手情報入力!K75,4))","v":""},"",null,{"$f":"IF(E66=\"\",\"\",IF(②選手情報入力!L75=\"\",\"\",IF(K66=1,VLOOKUP(②選手情報入力!L75,種目情報!$A$4:$B$167,2,FALSE),VLOOKUP(②選手情報入力!L75,種目情報!$E$4:$F$142,2,FALSE))))","v":""},{"$f":"IF(E66=\"\",\"\",IF(②選手情報入力!M75=\"\",\"\",②選手情報入力!M75))","v":""},null,{"$f":"IF(E66=\"\",\"\",IF(②選手情報入力!L75=\"\",\"\",IF(K66=1,VLOOKUP(②選手情報入力!L75,種目情報!$A$4:$C$135,3,FALSE),VLOOKUP(②選手情報入力!L75,種目情報!$E$4:$G$135,3,FALSE))))","v":""},{"$f":"IF(E66=\"\",\"\",IF(②選手情報入力!O75=\"\",\"\",IF(K66=1,VLOOKUP(②選手情報入力!O75,種目情報!$A$5:$B$151,2,FALSE),VLOOKUP(②選手情報入力!O75,種目情報!$E$5:$F$135,2,FALSE))))","v":""},{"$f":"IF(E66=\"\",\"\",IF(②選手情報入力!P75=\"\",\"\",②選手情報入力!P75))","v":""},null,{"$f":"IF(E66=\"\",\"\",IF(②選手情報入力!O75=\"\",\"\",IF(K66=1,VLOOKUP(②選手情報入力!O75,種目情報!$A$5:$C$135,3,FALSE),VLOOKUP(②選手情報入力!O75,種目情報!$E$5:$G$135,3,FALSE))))","v":""},{"$f":"IF(E66=\"\",\"\",IF(②選手情報入力!R75=\"\",\"\",IF(K66=1,VLOOKUP(②選手情報入力!R75,種目情報!$A$5:$B$151,2,FALSE),VLOOKUP(②選手情報入力!R75,種目情報!$E$5:$F$135,2,FALSE))))","v":""},{"$f":"IF(E66=\"\",\"\",IF(②選手情報入力!S75=\"\",\"\",②選手情報入力!S75))","v":""},null,{"$f":"IF(E66=\"\",\"\",IF(②選手情報入力!R75=\"\",\"\",IF(K66=1,VLOOKUP(②選手情報入力!R75,種目情報!$A$5:$C$135,3,FALSE),VLOOKUP(②選手情報入力!R75,種目情報!$E$5:$G$135,3,FALSE))))","v":""},{"$f":"IF(E66=\"\",\"\",IF(②選手情報入力!T75=\"\",\"\",IF(K66=1,種目情報!$J$4,種目情報!$J$6)))","v":""},{"$f":"IF(E66=\"\",\"\",IF(②選手情報入力!T75=\"\",\"\",IF(K66=1,IF(②選手情報入力!$U$7=\"\",\"\",②選手情報入力!$U$7),IF(②選手情報入力!$U$8=\"\",\"\",②選手情報入力!$U$8))))","v":""},{"$f":"IF(E66=\"\",\"\",IF(②選手情報入力!T75=\"\",\"\",IF(K66=1,IF(②選手情報入力!$T$7=\"\",0,1),IF(②選手情報入力!$T$8=\"\",0,1))))","v":""},{"$f":"IF(E66=\"\",\"\",IF(②選手情報入力!T75=\"\",\"\",2))","v":""},{"$f":"IF(E66=\"\",\"\",IF(②選手情報入力!V75=\"\",\"\",IF(K66=1,種目情報!$J$5,種目情報!$J$7)))","v":""},{"$f":"IF(E66=\"\",\"\",IF(②選手情報入力!V75=\"\",\"\",IF(K66=1,IF(②選手情報入力!$W$7=\"\",\"\",②選手情報入力!$W$7),IF(②選手情報入力!$W$8=\"\",\"\",②選手情報入力!$W$8))))","v":""},{"$f":"IF(E66=\"\",\"\",IF(②選手情報入力!V75=\"\",\"\",IF(K66=1,IF(②選手情報入力!$V$7=\"\",0,1),IF(②選手情報入力!$V$8=\"\",0,1))))","v":""},{"$f":"IF(E66=\"\",\"\",IF(②選手情報入力!V75=\"\",\"\",2))","v":""}]
[{"$f":"IF(E67=\"\",\"\",K67&K67&K67&\"23\"&C67+E67)","v":""},{"$f":"IF(E67=\"\",\"\",①団体情報入力!$C$5)","v":""},null,{"$f":"IF(E67=\"\",\"\",①団体情報入力!C$10)","v":""},{"$f":"IF(②選手情報入力!C76=\"\",\"\",②選手情報入力!C76)","v":""},{"$f":"IF(E67=\"\",\"\",②選手情報入力!D76)","v":""},{"$f":"IF(E67=\"\",\"\",ASC(②選手情報入力!E76))","v":""},{"$f":"IF(E67=\"\",\"\",F67)","v":""},{"$f":"IF(E67=\"\",\"\",②選手情報入力!F76&\" \"&②選手情報入力!G76)","v":""},{"$f":"IF(E67=\"\",\"\",IF(②選手情報入力!H76=\"\",\"JPN\",LEFT(②選手情報入力!H76,3)))","v":""},{"$f":"IF(E67=\"\",\"\",IF(②選手情報入力!I76=\"男\",1,2))","v":""},{"$f":"IF(E67=\"\",\"\",IF(②選手情報入力!J76=\"\",\"\",②選手情報入力!J76))","v":""},{"$f":"IF(E67=\"\",\"\",LEFT(②選手情報入力!K76,4))","v":""},{"$f":"IF(E67=\"\",\"\",RIGHT(②選手情報入力!K76,4))","v":""},{"$f":"IF(E67=\"\",\"\",\"愛知\")","v":""},null,{"$f":"IF(E67=\"\",\"\",IF(②選手情報入力!L76=\"\",\"\",IF(K67=1,VLOOKUP(②選手情報入力!L76,種目情報!$A$4:$B$167,2,FALSE),VLOOKUP(②選手情報入力!L76,種目情報!$E$4:$F$142,2,FALSE))))","v":""},{"$f":"IF(E67=\"\",\"\",IF(②選手情報入力!M76=\"\",\"\",②選手情報入力!M76))","v":""},null,{"$f":"IF(E67=\"\",\"\",IF(②選手情報入力!L76=\"\",\"\",IF(K67=1,VLOOKUP(②選手情報入力!L76,種目情報!$A$4:$C$135,3,FALSE),VLOOKUP(②選手情報入力!L76,種目情報!$E$4:$G$135,3,FALSE))))","v":""},{"$f":"IF(E67=\"\",\"\",IF(②選手情報入力!O76=\"\",\"\",IF(K67=1,VLOOKUP(②選手情報入力!O76,種目情報!$A$5:$B$151,2,FALSE),VLOOKUP(②選手情報入力!O76,種目情報!$E$5:$F$135,2,FALSE))))","v":""},{"$f":"IF(E67=\"\",\"\",IF(②選手情報入力!P76=\"\",\"\",②選手情報入力!P76))","v":""},null,{"$f":"IF(E67=\"\",\"\",IF(②選手情報入力!O76=\"\",\"\",IF(K67=1,VLOOKUP(②選手情報入力!O76,種目情報!$A$5:$C$135,3,FALSE),VLOOKUP(②選手情報入力!O76,種目情報!$E$5:$G$135,3,FALSE))))","v":""},{"$f":"IF(E67=\"\",\"\",IF(②選手情報入力!R76=\"\",\"\",IF(K67=1,VLOOKUP(②選手情報入力!R76,種目情報!$A$5:$B$151,2,FALSE),VLOOKUP(②選手情報入力!R76,種目情報!$E$5:$F$135,2,FALSE))))","v":""},{"$f":"IF(E67=\"\",\"\",IF(②選手情報入力!S76=\"\",\"\",②選手情報入力!S76))","v":""},null,{"$f":"IF(E67=\"\",\"\",IF(②選手情報入力!R76=\"\",\"\",IF(K67=1,VLOOKUP(②選手情報入力!R76,種目情報!$A$5:$C$135,3,FALSE),VLOOKUP(②選手情報入力!R76,種目情報!$E$5:$G$135,3,FALSE))))","v":""},{"$f":"IF(E67=\"\",\"\",IF(②選手情報入力!T76=\"\",\"\",IF(K67=1,種目情報!$J$4,種目情報!$J$6)))","v":""},{"$f":"IF(E67=\"\",\"\",IF(②選手情報入力!T76=\"\",\"\",IF(K67=1,IF(②選手情報入力!$U$7=\"\",\"\",②選手情報入力!$U$7),IF(②選手情報入力!$U$8=\"\",\"\",②選手情報入力!$U$8))))","v":""},{"$f":"IF(E67=\"\",\"\",IF(②選手情報入力!T76=\"\",\"\",IF(K67=1,IF(②選手情報入力!$T$7=\"\",0,1),IF(②選手情報入力!$T$8=\"\",0,1))))","v":""},{"$f":"IF(E67=\"\",\"\",IF(②選手情報入力!T76=\"\",\"\",2))","v":""},{"$f":"IF(E67=\"\",\"\",IF(②選手情報入力!V76=\"\",\"\",IF(K67=1,種目情報!$J$5,種目情報!$J$7)))","v":""},{"$f":"IF(E67=\"\",\"\",IF(②選手情報入力!V76=\"\",\"\",IF(K67=1,IF(②選手情報入力!$W$7=\"\",\"\",②選手情報入力!$W$7),IF(②選手情報入力!$W$8=\"\",\"\",②選手情報入力!$W$8))))","v":""},{"$f":"IF(E67=\"\",\"\",IF(②選手情報入力!V76=\"\",\"\",IF(K67=1,IF(②選手情報入力!$V$7=\"\",0,1),IF(②選手情報入力!$V$8=\"\",0,1))))","v":""},{"$f":"IF(E67=\"\",\"\",IF(②選手情報入力!V76=\"\",\"\",2))","v":""}]
["",{"$f":"IF(E68=\"\",\"\",①団体情報入力!$C$5)","v":""},null,{"$f":"IF(E68=\"\",\"\",①団体情報入力!C$10)","v":""},{"$f":"IF(②選手情報入力!C77=\"\",\"\",②選手情報入力!C77)","v":""},{"$f":"IF(E68=\"\",\"\",②選手情報入力!D77)","v":""},{"$f":"IF(E68=\"\",\"\",ASC(②選手情報入力!E77))","v":""},"",{"$f":"IF(E68=\"\",\"\",②選手情報入力!F77&\" \"&②選手情報入力!G77)","v":""},{"$f":"IF(E68=\"\",\"\",IF(②選手情報入力!H77=\"\",\"JPN\",LEFT(②選手情報入力!H77,3)))","v":""},{"$f":"IF(E68=\"\",\"\",IF(②選手情報入力!I77=\"男\",1,2))","v":""},{"$f":"IF(E68=\"\",\"\",IF(②選手情報入力!J77=\"\",\"\",②選手情報入力!J77))","v":""},{"$f":"IF(E68=\"\",\"\",LEFT(②選手情報入力!K77,4))","v":""},{"$f":"IF(E68=\"\",\"\",RIGHT(②選手情報入力!K77,4))","v":""},"",null,{"$f":"IF(E68=\"\",\"\",IF(②選手情報入力!L77=\"\",\"\",IF(K68=1,VLOOKUP(②選手情報入力!L77,種目情報!$A$4:$B$167,2,FALSE),VLOOKUP(②選手情報入力!L77,種目情報!$E$4:$F$142,2,FALSE))))","v":""},{"$f":"IF(E68=\"\",\"\",IF(②選手情報入力!M77=\"\",\"\",②選手情報入力!M77))","v":""},null,{"$f":"IF(E68=\"\",\"\",IF(②選手情報入力!L77=\"\",\"\",IF(K68=1,VLOOKUP(②選手情報入力!L77,種目情報!$A$4:$C$135,3,FALSE),VLOOKUP(②選手情報入力!L77,種目情報!$E$4:$G$135,3,FALSE))))","v":""},{"$f":"IF(E68=\"\",\"\",IF(②選手情報入力!O77=\"\",\"\",IF(K68=1,VLOOKUP(②選手情報入力!O77,種目情報!$A$5:$B$151,2,FALSE),VLOOKUP(②選手情報入力!O77,種目情報!$E$5:$F$135,2,FALSE))))","v":""},{"$f":"IF(E68=\"\",\"\",IF(②選手情報入力!P77=\"\",\"\",②選手情報入力!P77))","v":""},null,{"$f":"IF(E68=\"\",\"\",IF(②選手情報入力!O77=\"\",\"\",IF(K68=1,VLOOKUP(②選手情報入力!O77,種目情報!$A$5:$C$135,3,FALSE),VLOOKUP(②選手情報入力!O77,種目情報!$E$5:$G$135,3,FALSE))))","v":""},{"$f":"IF(E68=\"\",\"\",IF(②選手情報入力!R77=\"\",\"\",IF(K68=1,VLOOKUP(②選手情報入力!R77,種目情報!$A$5:$B$151,2,FALSE),VLOOKUP(②選手情報入力!R77,種目情報!$E$5:$F$135,2,FALSE))))","v":""},{"$f":"IF(E68=\"\",\"\",IF(②選手情報入力!S77=\"\",\"\",②選手情報入力!S77))","v":""},null,{"$f":"IF(E68=\"\",\"\",IF(②選手情報入力!R77=\"\",\"\",IF(K68=1,VLOOKUP(②選手情報入力!R77,種目情報!$A$5:$C$135,3,FALSE),VLOOKUP(②選手情報入力!R77,種目情報!$E$5:$G$135,3,FALSE))))","v":""},{"$f":"IF(E68=\"\",\"\",IF(②選手情報入力!T77=\"\",\"\",IF(K68=1,種目情報!$J$4,種目情報!$J$6)))","v":""},{"$f":"IF(E68=\"\",\"\",IF(②選手情報入力!T77=\"\",\"\",IF(K68=1,IF(②選手情報入力!$U$7=\"\",\"\",②選手情報入力!$U$7),IF(②選手情報入力!$U$8=\"\",\"\",②選手情報入力!$U$8))))","v":""},{"$f":"IF(E68=\"\",\"\",IF(②選手情報入力!T77=\"\",\"\",IF(K68=1,IF(②選手情報入力!$T$7=\"\",0,1),IF(②選手情報入力!$T$8=\"\",0,1))))","v":""},{"$f":"IF(E68=\"\",\"\",IF(②選手情報入力!T77=\"\",\"\",2))","v":""},{"$f":"IF(E68=\"\",\"\",IF(②選手情報入力!V77=\"\",\"\",IF(K68=1,種目情報!$J$5,種目情報!$J$7)))","v":""},{"$f":"IF(E68=\"\",\"\",IF(②選手情報入力!V77=\"\",\"\",IF(K68=1,IF(②選手情報入力!$W$7=\"\",\"\",②選手情報入力!$W$7),IF(②選手情報入力!$W$8=\"\",\"\",②選手情報入力!$W$8))))","v":""},{"$f":"IF(E68=\"\",\"\",IF(②選手情報入力!V77=\"\",\"\",IF(K68=1,IF(②選手情報入力!$V$7=\"\",0,1),IF(②選手情報入力!$V$8=\"\",0,1))))","v":""},{"$f":"IF(E68=\"\",\"\",IF(②選手情報入力!V77=\"\",\"\",2))","v":""}]
["",{"$f":"IF(E69=\"\",\"\",①団体情報入力!$C$5)","v":""},null,{"$f":"IF(E69=\"\",\"\",①団体情報入力!C$10)","v":""},{"$f":"IF(②選手情報入力!C78=\"\",\"\",②選手情報入力!C78)","v":""},{"$f":"IF(E69=\"\",\"\",②選手情報入力!D78)","v":""},{"$f":"IF(E69=\"\",\"\",ASC(②選手情報入力!E78))","v":""},"",{"$f":"IF(E69=\"\",\"\",②選手情報入力!F78&\" \"&②選手情報入力!G78)","v":""},{"$f":"IF(E69=\"\",\"\",IF(②選手情報入力!H78=\"\",\"JPN\",LEFT(②選手情報入力!H78,3)))","v":""},{"$f":"IF(E69=\"\",\"\",IF(②選手情報入力!I78=\"男\",1,2))","v":""},{"$f":"IF(E69=\"\",\"\",IF(②選手情報入力!J78=\"\",\"\",②選手情報入力!J78))","v":""},{"$f":"IF(E69=\"\",\"\",LEFT(②選手情報入力!K78,4))","v":""},{"$f":"IF(E69=\"\",\"\",RIGHT(②選手情報入力!K78,4))","v":""},"",null,{"$f":"IF(E69=\"\",\"\",IF(②選手情報入力!L78=\"\",\"\",IF(K69=1,VLOOKUP(②選手情報入力!L78,種目情報!$A$4:$B$167,2,FALSE),VLOOKUP(②選手情報入力!L78,種目情報!$E$4:$F$142,2,FALSE))))","v":""},{"$f":"IF(E69=\"\",\"\",IF(②選手情報入力!M78=\"\",\"\",②選手情報入力!M78))","v":""},null,{"$f":"IF(E69=\"\",\"\",IF(②選手情報入力!L78=\"\",\"\",IF(K69=1,VLOOKUP(②選手情報入力!L78,種目情報!$A$4:$C$135,3,FALSE),VLOOKUP(②選手情報入力!L78,種目情報!$E$4:$G$135,3,FALSE))))","v":""},{"$f":"IF(E69=\"\",\"\",IF(②選手情報入力!O78=\"\",\"\",IF(K69=1,VLOOKUP(②選手情報入力!O78,種目情報!$A$5:$B$151,2,FALSE),VLOOKUP(②選手情報入力!O78,種目情報!$E$5:$F$135,2,FALSE))))","v":""},{"$f":"IF(E69=\"\",\"\",IF(②選手情報入力!P78=\"\",\"\",②選手情報入力!P78))","v":""},null,{"$f":"IF(E69=\"\",\"\",IF(②選手情報入力!O78=\"\",\"\",IF(K69=1,VLOOKUP(②選手情報入力!O78,種目情報!$A$5:$C$135,3,FALSE),VLOOKUP(②選手情報入力!O78,種目情報!$E$5:$G$135,3,FALSE))))","v":""},{"$f":"IF(E69=\"\",\"\",IF(②選手情報入力!R78=\"\",\"\",IF(K69=1,VLOOKUP(②選手情報入力!R78,種目情報!$A$5:$B$151,2,FALSE),VLOOKUP(②選手情報入力!R78,種目情報!$E$5:$F$135,2,FALSE))))","v":""},{"$f":"IF(E69=\"\",\"\",IF(②選手情報入力!S78=\"\",\"\",②選手情報入力!S78))","v":""},null,{"$f":"IF(E69=\"\",\"\",IF(②選手情報入力!R78=\"\",\"\",IF(K69=1,VLOOKUP(②選手情報入力!R78,種目情報!$A$5:$C$135,3,FALSE),VLOOKUP(②選手情報入力!R78,種目情報!$E$5:$G$135,3,FALSE))))","v":""},{"$f":"IF(E69=\"\",\"\",IF(②選手情報入力!T78=\"\",\"\",IF(K69=1,種目情報!$J$4,種目情報!$J$6)))","v":""},{"$f":"IF(E69=\"\",\"\",IF(②選手情報入力!T78=\"\",\"\",IF(K69=1,IF(②選手情報入力!$U$7=\"\",\"\",②選手情報入力!$U$7),IF(②選手情報入力!$U$8=\"\",\"\",②選手情報入力!$U$8))))","v":""},{"$f":"IF(E69=\"\",\"\",IF(②選手情報入力!T78=\"\",\"\",IF(K69=1,IF(②選手情報入力!$T$7=\"\",0,1),IF(②選手情報入力!$T$8=\"\",0,1))))","v":""},{"$f":"IF(E69=\"\",\"\",IF(②選手情報入力!T78=\"\",\"\",2))","v":""},{"$f":"IF(E69=\"\",\"\",IF(②選手情報入力!V78=\"\",\"\",IF(K69=1,種目情報!$J$5,種目情報!$J$7)))","v":""},{"$f":"IF(E69=\"\",\"\",IF(②選手情報入力!V78=\"\",\"\",IF(K69=1,IF(②選手情報入力!$W$7=\"\",\"\",②選手情報入力!$W$7),IF(②選手情報入力!$W$8=\"\",\"\",②選手情報入力!$W$8))))","v":""},{"$f":"IF(E69=\"\",\"\",IF(②選手情報入力!V78=\"\",\"\",IF(K69=1,IF(②選手情報入力!$V$7=\"\",0,1),IF(②選手情報入力!$V$8=\"\",0,1))))","v":""},{"$f":"IF(E69=\"\",\"\",IF(②選手情報入力!V78=\"\",\"\",2))","v":""}]
["",{"$f":"IF(E70=\"\",\"\",①団体情報入力!$C$5)","v":""},null,{"$f":"IF(E70=\"\",\"\",①団体情報入力!C$10)","v":""},{"$f":"IF(②選手情報入力!C79=\"\",\"\",②選手情報入力!C79)","v":""},{"$f":"IF(E70=\"\",\"\",②選手情報入力!D79)","v":""},{"$f":"IF(E70=\"\",\"\",ASC(②選手情報入力!E79))","v":""},"",{"$f":"IF(E70=\"\",\"\",②選手情報入力!F79&\" \"&②選手情報入力!G79)","v":""},{"$f":"IF(E70=\"\",\"\",IF(②選手情報入力!H79=\"\",\"JPN\",LEFT(②選手情報入力!H79,3)))","v":""},{"$f":"IF(E70=\"\",\"\",IF(②選手情報入力!I79=\"男\",1,2))","v":""},{"$f":"IF(E70=\"\",\"\",IF(②選手情報入力!J79=\"\",\"\",②選手情報入力!J79))","v":""},{"$f":"IF(E70=\"\",\"\",LEFT(②選手情報入力!K79,4))","v":""},{"$f":"IF(E70=\"\",\"\",RIGHT(②選手情報入力!K79,4))","v":""},"",null,{"$f":"IF(E70=\"\",\"\",IF(②選手情報入力!L79=\"\",\"\",IF(K70=1,VLOOKUP(②選手情報入力!L79,種目情報!$A$4:$B$167,2,FALSE),VLOOKUP(②選手情報入力!L79,種目情報!$E$4:$F$142,2,FALSE))))","v":""},{"$f":"IF(E70=\"\",\"\",IF(②選手情報入力!M79=\"\",\"\",②選手情報入力!M79))","v":""},null,{"$f":"IF(E70=\"\",\"\",IF(②選手情報入力!L79=\"\",\"\",IF(K70=1,VLOOKUP(②選手情報入力!L79,種目情報!$A$4:$C$135,3,FALSE),VLOOKUP(②選手情報入力!L79,種目情報!$E$4:$G$135,3,FALSE))))","v":""},{"$f":"IF(E70=\"\",\"\",IF(②選手情報入力!O79=\"\",\"\",IF(K70=1,VLOOKUP(②選手情報入力!O79,種目情報!$A$5:$B$151,2,FALSE),VLOOKUP(②選手情報入力!O79,種目情報!$E$5:$F$135,2,FALSE))))","v":""},{"$f":"IF(E70=\"\",\"\",IF(②選手情報入力!P79=\"\",\"\",②選手情報入力!P79))","v":""},null,{"$f":"IF(E70=\"\",\"\",IF(②選手情報入力!O79=\"\",\"\",IF(K70=1,VLOOKUP(②選手情報入力!O79,種目情報!$A$5:$C$135,3,FALSE),VLOOKUP(②選手情報入力!O79,種目情報!$E$5:$G$135,3,FALSE))))","v":""},{"$f":"IF(E70=\"\",\"\",IF(②選手情報入力!R79=\"\",\"\",IF(K70=1,VLOOKUP(②選手情報入力!R79,種目情報!$A$5:$B$151,2,FALSE),VLOOKUP(②選手情報入力!R79,種目情報!$E$5:$F$135,2,FALSE))))","v":""},{"$f":"IF(E70=\"\",\"\",IF(②選手情報入力!S79=\"\",\"\",②選手情報入力!S79))","v":""},null,{"$f":"IF(E70=\"\",\"\",IF(②選手情報入力!R79=\"\",\"\",IF(K70=1,VLOOKUP(②選手情報入力!R79,種目情報!$A$5:$C$135,3,FALSE),VLOOKUP(②選手情報入力!R79,種目情報!$E$5:$G$135,3,FALSE))))","v":""},{"$f":"IF(E70=\"\",\"\",IF(②選手情報入力!T79=\"\",\"\",IF(K70=1,種目情報!$J$4,種目情報!$J$6)))","v":""},{"$f":"IF(E70=\"\",\"\",IF(②選手情報入力!T79=\"\",\"\",IF(K70=1,IF(②選手情報入力!$U$7=\"\",\"\",②選手情報入力!$U$7),IF(②選手情報入力!$U$8=\"\",\"\",②選手情報入力!$U$8))))","v":""},{"$f":"IF(E70=\"\",\"\",IF(②選手情報入力!T79=\"\",\"\",IF(K70=1,IF(②選手情報入力!$T$7=\"\",0,1),IF(②選手情報入力!$T$8=\"\",0,1))))","v":""},{"$f":"IF(E70=\"\",\"\",IF(②選手情報入力!T79=\"\",\"\",2))","v":""},{"$f":"IF(E70=\"\",\"\",IF(②選手情報入力!V79=\"\",\"\",IF(K70=1,種目情報!$J$5,種目情報!$J$7)))","v":""},{"$f":"IF(E70=\"\",\"\",IF(②選手情報入力!V79=\"\",\"\",IF(K70=1,IF(②選手情報入力!$W$7=\"\",\"\",②選手情報入力!$W$7),IF(②選手情報入力!$W$8=\"\",\"\",②選手情報入力!$W$8))))","v":""},{"$f":"IF(E70=\"\",\"\",IF(②選手情報入力!V79=\"\",\"\",IF(K70=1,IF(②選手情報入力!$V$7=\"\",0,1),IF(②選手情報入力!$V$8=\"\",0,1))))","v":""},{"$f":"IF(E70=\"\",\"\",IF(②選手情報入力!V79=\"\",\"\",2))","v":""}]
["",{"$f":"IF(E71=\"\",\"\",①団体情報入力!$C$5)","v":""},null,{"$f":"IF(E71=\"\",\"\",①団体情報入力!C$10)","v":""},{"$f":"IF(②選手情報入力!C80=\"\",\"\",②選手情報入力!C80)","v":""},{"$f":"IF(E71=\"\",\"\",②選手情報入力!D80)","v":""},{"$f":"IF(E71=\"\",\"\",ASC(②選手情報入力!E80))","v":""},"",{"$f":"IF(E71=\"\",\"\",②選手情報入力!F80&\" \"&②選手情報入力!G80)","v":""},{"$f":"IF(E71=\"\",\"\",IF(②選手情報入力!H80=\"\",\"JPN\",LEFT(②選手情報入力!H80,3)))","v":""},{"$f":"IF(E71=\"\",\"\",IF(②選手情報入力!I80=\"男\",1,2))","v":""},{"$f":"IF(E71=\"\",\"\",IF(②選手情報入力!J80=\"\",\"\",②選手情報入力!J80))","v":""},{"$f":"IF(E71=\"\",\"\",LEFT(②選手情報入力!K80,4))","v":""},{"$f":"IF(E71=\"\",\"\",RIGHT(②選手情報入力!K80,4))","v":""},"",null,{"$f":"IF(E71=\"\",\"\",IF(②選手情報入力!L80=\"\",\"\",IF(K71=1,VLOOKUP(②選手情報入力!L80,種目情報!$A$4:$B$167,2,FALSE),VLOOKUP(②選手情報入力!L80,種目情報!$E$4:$F$142,2,FALSE))))","v":""},{"$f":"IF(E71=\"\",\"\",IF(②選手情報入力!M80=\"\",\"\",②選手情報入力!M80))","v":""},null,{"$f":"IF(E71=\"\",\"\",IF(②選手情報入力!L80=\"\",\"\",IF(K71=1,VLOOKUP(②選手情報入力!L80,種目情報!$A$4:$C$135,3,FALSE),VLOOKUP(②選手情報入力!L80,種目情報!$E$4:$G$135,3,FALSE))))","v":""},{"$f":"IF(E71=\"\",\"\",IF(②選手情報入力!O80=\"\",\"\",IF(K71=1,VLOOKUP(②選手情報入力!O80,種目情報!$A$5:$B$151,2,FALSE),VLOOKUP(②選手情報入力!O80,種目情報!$E$5:$F$135,2,FALSE))))","v":""},{"$f":"IF(E71=\"\",\"\",IF(②選手情報入力!P80=\"\",\"\",②選手情報入力!P80))","v":""},null,{"$f":"IF(E71=\"\",\"\",IF(②選手情報入力!O80=\"\",\"\",IF(K71=1,VLOOKUP(②選手情報入力!O80,種目情報!$A$5:$C$135,3,FALSE),VLOOKUP(②選手情報入力!O80,種目情報!$E$5:$G$135,3,FALSE))))","v":""},{"$f":"IF(E71=\"\",\"\",IF(②選手情報入力!R80=\"\",\"\",IF(K71=1,VLOOKUP(②選手情報入力!R80,種目情報!$A$5:$B$151,2,FALSE),VLOOKUP(②選手情報入力!R80,種目情報!$E$5:$F$135,2,FALSE))))","v":""},{"$f":"IF(E71=\"\",\"\",IF(②選手情報入力!S80=\"\",\"\",②選手情報入力!S80))","v":""},null,{"$f":"IF(E71=\"\",\"\",IF(②選手情報入力!R80=\"\",\"\",IF(K71=1,VLOOKUP(②選手情報入力!R80,種目情報!$A$5:$C$135,3,FALSE),VLOOKUP(②選手情報入力!R80,種目情報!$E$5:$G$135,3,FALSE))))","v":""},{"$f":"IF(E71=\"\",\"\",IF(②選手情報入力!T80=\"\",\"\",IF(K71=1,種目情報!$J$4,種目情報!$J$6)))","v":""},{"$f":"IF(E71=\"\",\"\",IF(②選手情報入力!T80=\"\",\"\",IF(K71=1,IF(②選手情報入力!$U$7=\"\",\"\",②選手情報入力!$U$7),IF(②選手情報入力!$U$8=\"\",\"\",②選手情報入力!$U$8))))","v":""},{"$f":"IF(E71=\"\",\"\",IF(②選手情報入力!T80=\"\",\"\",IF(K71=1,IF(②選手情報入力!$T$7=\"\",0,1),IF(②選手情報入力!$T$8=\"\",0,1))))","v":""},{"$f":"IF(E71=\"\",\"\",IF(②選手情報入力!T80=\"\",\"\",2))","v":""},{"$f":"IF(E71=\"\",\"\",IF(②選手情報入力!V80=\"\",\"\",IF(K71=1,種目情報!$J$5,種目情報!$J$7)))","v":""},{"$f":"IF(E71=\"\",\"\",IF(②選手情報入力!V80=\"\",\"\",IF(K71=1,IF(②選手情報入力!$W$7=\"\",\"\",②選手情報入力!$W$7),IF(②選手情報入力!$W$8=\"\",\"\",②選手情報入力!$W$8))))","v":""},{"$f":"IF(E71=\"\",\"\",IF(②選手情報入力!V80=\"\",\"\",IF(K71=1,IF(②選手情報入力!$V$7=\"\",0,1),IF(②選手情報入力!$V$8=\"\",0,1))))","v":""},{"$f":"IF(E71=\"\",\"\",IF(②選手情報入力!V80=\"\",\"\",2))","v":""}]
["",{"$f":"IF(E72=\"\",\"\",①団体情報入力!$C$5)","v":""},null,{"$f":"IF(E72=\"\",\"\",①団体情報入力!C$10)","v":""},{"$f":"IF(②選手情報入力!C81=\"\",\"\",②選手情報入力!C81)","v":""},{"$f":"IF(E72=\"\",\"\",②選手情報入力!D81)","v":""},{"$f":"IF(E72=\"\",\"\",ASC(②選手情報入力!E81))","v":""},"",{"$f":"IF(E72=\"\",\"\",②選手情報入力!F81&\" \"&②選手情報入力!G81)","v":""},{"$f":"IF(E72=\"\",\"\",IF(②選手情報入力!H81=\"\",\"JPN\",LEFT(②選手情報入力!H81,3)))","v":""},{"$f":"IF(E72=\"\",\"\",IF(②選手情報入力!I81=\"男\",1,2))","v":""},{"$f":"IF(E72=\"\",\"\",IF(②選手情報入力!J81=\"\",\"\",②選手情報入力!J81))","v":""},{"$f":"IF(E72=\"\",\"\",LEFT(②選手情報入力!K81,4))","v":""},{"$f":"IF(E72=\"\",\"\",RIGHT(②選手情報入力!K81,4))","v":""},"",null,{"$f":"IF(E72=\"\",\"\",IF(②選手情報入力!L81=\"\",\"\",IF(K72=1,VLOOKUP(②選手情報入力!L81,種目情報!$A$4:$B$167,2,FALSE),VLOOKUP(②選手情報入力!L81,種目情報!$E$4:$F$142,2,FALSE))))","v":""},{"$f":"IF(E72=\"\",\"\",IF(②選手情報入力!M81=\"\",\"\",②選手情報入力!M81))","v":""},null,{"$f":"IF(E72=\"\",\"\",IF(②選手情報入力!L81=\"\",\"\",IF(K72=1,VLOOKUP(②選手情報入力!L81,種目情報!$A$4:$C$135,3,FALSE),VLOOKUP(②選手情報入力!L81,種目情報!$E$4:$G$135,3,FALSE))))","v":""},{"$f":"IF(E72=\"\",\"\",IF(②選手情報入力!O81=\"\",\"\",IF(K72=1,VLOOKUP(②選手情報入力!O81,種目情報!$A$5:$B$151,2,FALSE),VLOOKUP(②選手情報入力!O81,種目情報!$E$5:$F$135,2,FALSE))))","v":""},{"$f":"IF(E72=\"\",\"\",IF(②選手情報入力!P81=\"\",\"\",②選手情報入力!P81))","v":""},null,{"$f":"IF(E72=\"\",\"\",IF(②選手情報入力!O81=\"\",\"\",IF(K72=1,VLOOKUP(②選手情報入力!O81,種目情報!$A$5:$C$135,3,FALSE),VLOOKUP(②選手情報入力!O81,種目情報!$E$5:$G$135,3,FALSE))))","v":""},{"$f":"IF(E72=\"\",\"\",IF(②選手情報入力!R81=\"\",\"\",IF(K72=1,VLOOKUP(②選手情報入力!R81,種目情報!$A$5:$B$151,2,FALSE),VLOOKUP(②選手情報入力!R81,種目情報!$E$5:$F$135,2,FALSE))))","v":""},{"$f":"IF(E72=\"\",\"\",IF(②選手情報入力!S81=\"\",\"\",②選手情報入力!S81))","v":""},null,{"$f":"IF(E72=\"\",\"\",IF(②選手情報入力!R81=\"\",\"\",IF(K72=1,VLOOKUP(②選手情報入力!R81,種目情報!$A$5:$C$135,3,FALSE),VLOOKUP(②選手情報入力!R81,種目情報!$E$5:$G$135,3,FALSE))))","v":""},{"$f":"IF(E72=\"\",\"\",IF(②選手情報入力!T81=\"\",\"\",IF(K72=1,種目情報!$J$4,種目情報!$J$6)))","v":""},{"$f":"IF(E72=\"\",\"\",IF(②選手情報入力!T81=\"\",\"\",IF(K72=1,IF(②選手情報入力!$U$7=\"\",\"\",②選手情報入力!$U$7),IF(②選手情報入力!$U$8=\"\",\"\",②選手情報入力!$U$8))))","v":""},{"$f":"IF(E72=\"\",\"\",IF(②選手情報入力!T81=\"\",\"\",IF(K72=1,IF(②選手情報入力!$T$7=\"\",0,1),IF(②選手情報入力!$T$8=\"\",0,1))))","v":""},{"$f":"IF(E72=\"\",\"\",IF(②選手情報入力!T81=\"\",\"\",2))","v":""},{"$f":"IF(E72=\"\",\"\",IF(②選手情報入力!V81=\"\",\"\",IF(K72=1,種目情報!$J$5,種目情報!$J$7)))","v":""},{"$f":"IF(E72=\"\",\"\",IF(②選手情報入力!V81=\"\",\"\",IF(K72=1,IF(②選手情報入力!$W$7=\"\",\"\",②選手情報入力!$W$7),IF(②選手情報入力!$W$8=\"\",\"\",②選手情報入力!$W$8))))","v":""},{"$f":"IF(E72=\"\",\"\",IF(②選手情報入力!V81=\"\",\"\",IF(K72=1,IF(②選手情報入力!$V$7=\"\",0,1),IF(②選手情報入力!$V$8=\"\",0,1))))","v":""},{"$f":"IF(E72=\"\",\"\",IF(②選手情報入力!V81=\"\",\"\",2))","v":""}]
["",{"$f":"IF(E73=\"\",\"\",①団体情報入力!$C$5)","v":""},null,{"$f":"IF(E73=\"\",\"\",①団体情報入力!C$10)","v":""},{"$f":"IF(②選手情報入力!C82=\"\",\"\",②選手情報入力!C82)","v":""},{"$f":"IF(E73=\"\",\"\",②選手情報入力!D82)","v":""},{"$f":"IF(E73=\"\",\"\",ASC(②選手情報入力!E82))","v":""},"",{"$f":"IF(E73=\"\",\"\",②選手情報入力!F82&\" \"&②選手情報入力!G82)","v":""},{"$f":"IF(E73=\"\",\"\",IF(②選手情報入力!H82=\"\",\"JPN\",LEFT(②選手情報入力!H82,3)))","v":""},{"$f":"IF(E73=\"\",\"\",IF(②選手情報入力!I82=\"男\",1,2))","v":""},{"$f":"IF(E73=\"\",\"\",IF(②選手情報入力!J82=\"\",\"\",②選手情報入力!J82))","v":""},{"$f":"IF(E73=\"\",\"\",LEFT(②選手情報入力!K82,4))","v":""},{"$f":"IF(E73=\"\",\"\",RIGHT(②選手情報入力!K82,4))","v":""},"",null,{"$f":"IF(E73=\"\",\"\",IF(②選手情報入力!L82=\"\",\"\",IF(K73=1,VLOOKUP(②選手情報入力!L82,種目情報!$A$4:$B$167,2,FALSE),VLOOKUP(②選手情報入力!L82,種目情報!$E$4:$F$142,2,FALSE))))","v":""},{"$f":"IF(E73=\"\",\"\",IF(②選手情報入力!M82=\"\",\"\",②選手情報入力!M82))","v":""},null,{"$f":"IF(E73=\"\",\"\",IF(②選手情報入力!L82=\"\",\"\",IF(K73=1,VLOOKUP(②選手情報入力!L82,種目情報!$A$4:$C$135,3,FALSE),VLOOKUP(②選手情報入力!L82,種目情報!$E$4:$G$135,3,FALSE))))","v":""},{"$f":"IF(E73=\"\",\"\",IF(②選手情報入力!O82=\"\",\"\",IF(K73=1,VLOOKUP(②選手情報入力!O82,種目情報!$A$5:$B$151,2,FALSE),VLOOKUP(②選手情報入力!O82,種目情報!$E$5:$F$135,2,FALSE))))","v":""},{"$f":"IF(E73=\"\",\"\",IF(②選手情報入力!P82=\"\",\"\",②選手情報入力!P82))","v":""},null,{"$f":"IF(E73=\"\",\"\",IF(②選手情報入力!O82=\"\",\"\",IF(K73=1,VLOOKUP(②選手情報入力!O82,種目情報!$A$5:$C$135,3,FALSE),VLOOKUP(②選手情報入力!O82,種目情報!$E$5:$G$135,3,FALSE))))","v":""},{"$f":"IF(E73=\"\",\"\",IF(②選手情報入力!R82=\"\",\"\",IF(K73=1,VLOOKUP(②選手情報入力!R82,種目情報!$A$5:$B$151,2,FALSE),VLOOKUP(②選手情報入力!R82,種目情報!$E$5:$F$135,2,FALSE))))","v":""},{"$f":"IF(E73=\"\",\"\",IF(②選手情報入力!S82=\"\",\"\",②選手情報入力!S82))","v":""},null,{"$f":"IF(E73=\"\",\"\",IF(②選手情報入力!R82=\"\",\"\",IF(K73=1,VLOOKUP(②選手情報入力!R82,種目情報!$A$5:$C$135,3,FALSE),VLOOKUP(②選手情報入力!R82,種目情報!$E$5:$G$135,3,FALSE))))","v":""},{"$f":"IF(E73=\"\",\"\",IF(②選手情報入力!T82=\"\",\"\",IF(K73=1,種目情報!$J$4,種目情報!$J$6)))","v":""},{"$f":"IF(E73=\"\",\"\",IF(②選手情報入力!T82=\"\",\"\",IF(K73=1,IF(②選手情報入力!$U$7=\"\",\"\",②選手情報入力!$U$7),IF(②選手情報入力!$U$8=\"\",\"\",②選手情報入力!$U$8))))","v":""},{"$f":"IF(E73=\"\",\"\",IF(②選手情報入力!T82=\"\",\"\",IF(K73=1,IF(②選手情報入力!$T$7=\"\",0,1),IF(②選手情報入力!$T$8=\"\",0,1))))","v":""},{"$f":"IF(E73=\"\",\"\",IF(②選手情報入力!T82=\"\",\"\",2))","v":""},{"$f":"IF(E73=\"\",\"\",IF(②選手情報入力!V82=\"\",\"\",IF(K73=1,種目情報!$J$5,種目情報!$J$7)))","v":""},{"$f":"IF(E73=\"\",\"\",IF(②選手情報入力!V82=\"\",\"\",IF(K73=1,IF(②選手情報入力!$W$7=\"\",\"\",②選手情報入力!$W$7),IF(②選手情報入力!$W$8=\"\",\"\",②選手情報入力!$W$8))))","v":""},{"$f":"IF(E73=\"\",\"\",IF(②選手情報入力!V82=\"\",\"\",IF(K73=1,IF(②選手情報入力!$V$7=\"\",0,1),IF(②選手情報入力!$V$8=\"\",0,1))))","v":""},{"$f":"IF(E73=\"\",\"\",IF(②選手情報入力!V82=\"\",\"\",2))","v":""}]
["",{"$f":"IF(E74=\"\",\"\",①団体情報入力!$C$5)","v":""},null,{"$f":"IF(E74=\"\",\"\",①団体情報入力!C$10)","v":""},{"$f":"IF(②選手情報入力!C83=\"\",\"\",②選手情報入力!C83)","v":""},{"$f":"IF(E74=\"\",\"\",②選手情報入力!D83)","v":""},{"$f":"IF(E74=\"\",\"\",ASC(②選手情報入力!E83))","v":""},"",{"$f":"IF(E74=\"\",\"\",②選手情報入力!F83&\" \"&②選手情報入力!G83)","v":""},{"$f":"IF(E74=\"\",\"\",IF(②選手情報入力!H83=\"\",\"JPN\",LEFT(②選手情報入力!H83,3)))","v":""},{"$f":"IF(E74=\"\",\"\",IF(②選手情報入力!I83=\"男\",1,2))","v":""},{"$f":"IF(E74=\"\",\"\",IF(②選手情報入力!J83=\"\",\"\",②選手情報入力!J83))","v":""},{"$f":"IF(E74=\"\",\"\",LEFT(②選手情報入力!K83,4))","v":""},{"$f":"IF(E74=\"\",\"\",RIGHT(②選手情報入力!K83,4))","v":""},"",null,{"$f":"IF(E74=\"\",\"\",IF(②選手情報入力!L83=\"\",\"\",IF(K74=1,VLOOKUP(②選手情報入力!L83,種目情報!$A$4:$B$167,2,FALSE),VLOOKUP(②選手情報入力!L83,種目情報!$E$4:$F$142,2,FALSE))))","v":""},{"$f":"IF(E74=\"\",\"\",IF(②選手情報入力!M83=\"\",\"\",②選手情報入力!M83))","v":""},null,{"$f":"IF(E74=\"\",\"\",IF(②選手情報入力!L83=\"\",\"\",IF(K74=1,VLOOKUP(②選手情報入力!L83,種目情報!$A$4:$C$135,3,FALSE),VLOOKUP(②選手情報入力!L83,種目情報!$E$4:$G$135,3,FALSE))))","v":""},{"$f":"IF(E74=\"\",\"\",IF(②選手情報入力!O83=\"\",\"\",IF(K74=1,VLOOKUP(②選手情報入力!O83,種目情報!$A$5:$B$151,2,FALSE),VLOOKUP(②選手情報入力!O83,種目情報!$E$5:$F$135,2,FALSE))))","v":""},{"$f":"IF(E74=\"\",\"\",IF(②選手情報入力!P83=\"\",\"\",②選手情報入力!P83))","v":""},null,{"$f":"IF(E74=\"\",\"\",IF(②選手情報入力!O83=\"\",\"\",IF(K74=1,VLOOKUP(②選手情報入力!O83,種目情報!$A$5:$C$135,3,FALSE),VLOOKUP(②選手情報入力!O83,種目情報!$E$5:$G$135,3,FALSE))))","v":""},{"$f":"IF(E74=\"\",\"\",IF(②選手情報入力!R83=\"\",\"\",IF(K74=1,VLOOKUP(②選手情報入力!R83,種目情報!$A$5:$B$151,2,FALSE),VLOOKUP(②選手情報入力!R83,種目情報!$E$5:$F$135,2,FALSE))))","v":""},{"$f":"IF(E74=\"\",\"\",IF(②選手情報入力!S83=\"\",\"\",②選手情報入力!S83))","v":""},null,{"$f":"IF(E74=\"\",\"\",IF(②選手情報入力!R83=\"\",\"\",IF(K74=1,VLOOKUP(②選手情報入力!R83,種目情報!$A$5:$C$135,3,FALSE),VLOOKUP(②選手情報入力!R83,種目情報!$E$5:$G$135,3,FALSE))))","v":""},{"$f":"IF(E74=\"\",\"\",IF(②選手情報入力!T83=\"\",\"\",IF(K74=1,種目情報!$J$4,種目情報!$J$6)))","v":""},{"$f":"IF(E74=\"\",\"\",IF(②選手情報入力!T83=\"\",\"\",IF(K74=1,IF(②選手情報入力!$U$7=\"\",\"\",②選手情報入力!$U$7),IF(②選手情報入力!$U$8=\"\",\"\",②選手情報入力!$U$8))))","v":""},{"$f":"IF(E74=\"\",\"\",IF(②選手情報入力!T83=\"\",\"\",IF(K74=1,IF(②選手情報入力!$T$7=\"\",0,1),IF(②選手情報入力!$T$8=\"\",0,1))))","v":""},{"$f":"IF(E74=\"\",\"\",IF(②選手情報入力!T83=\"\",\"\",2))","v":""},{"$f":"IF(E74=\"\",\"\",IF(②選手情報入力!V83=\"\",\"\",IF(K74=1,種目情報!$J$5,種目情報!$J$7)))","v":""},{"$f":"IF(E74=\"\",\"\",IF(②選手情報入力!V83=\"\",\"\",IF(K74=1,IF(②選手情報入力!$W$7=\"\",\"\",②選手情報入力!$W$7),IF(②選手情報入力!$W$8=\"\",\"\",②選手情報入力!$W$8))))","v":""},{"$f":"IF(E74=\"\",\"\",IF(②選手情報入力!V83=\"\",\"\",IF(K74=1,IF(②選手情報入力!$V$7=\"\",0,1),IF(②選手情報入力!$V$8=\"\",0,1))))","v":""},{"$f":"IF(E74=\"\",\"\",IF(②選手情報入力!V83=\"\",\"\",2))","v":""}]
["",{"$f":"IF(E75=\"\",\"\",①団体情報入力!$C$5)","v":""},null,{"$f":"IF(E75=\"\",\"\",①団体情報入力!C$10)","v":""},{"$f":"IF(②選手情報入力!C84=\"\",\"\",②選手情報入力!C84)","v":""},{"$f":"IF(E75=\"\",\"\",②選手情報入力!D84)","v":""},{"$f":"IF(E75=\"\",\"\",ASC(②選手情報入力!E84))","v":""},"",{"$f":"IF(E75=\"\",\"\",②選手情報入力!F84&\" \"&②選手情報入力!G84)","v":""},{"$f":"IF(E75=\"\",\"\",IF(②選手情報入力!H84=\"\",\"JPN\",LEFT(②選手情報入力!H84,3)))","v":""},{"$f":"IF(E75=\"\",\"\",IF(②選手情報入力!I84=\"男\",1,2))","v":""},{"$f":"IF(E75=\"\",\"\",IF(②選手情報入力!J84=\"\",\"\",②選手情報入力!J84))","v":""},{"$f":"IF(E75=\"\",\"\",LEFT(②選手情報入力!K84,4))","v":""},{"$f":"IF(E75=\"\",\"\",RIGHT(②選手情報入力!K84,4))","v":""},"",null,{"$f":"IF(E75=\"\",\"\",IF(②選手情報入力!L84=\"\",\"\",IF(K75=1,VLOOKUP(②選手情報入力!L84,種目情報!$A$4:$B$167,2,FALSE),VLOOKUP(②選手情報入力!L84,種目情報!$E$4:$F$142,2,FALSE))))","v":""},{"$f":"IF(E75=\"\",\"\",IF(②選手情報入力!M84=\"\",\"\",②選手情報入力!M84))","v":""},null,{"$f":"IF(E75=\"\",\"\",IF(②選手情報入力!L84=\"\",\"\",IF(K75=1,VLOOKUP(②選手情報入力!L84,種目情報!$A$4:$C$135,3,FALSE),VLOOKUP(②選手情報入力!L84,種目情報!$E$4:$G$135,3,FALSE))))","v":""},{"$f":"IF(E75=\"\",\"\",IF(②選手情報入力!O84=\"\",\"\",IF(K75=1,VLOOKUP(②選手情報入力!O84,種目情報!$A$5:$B$151,2,FALSE),VLOOKUP(②選手情報入力!O84,種目情報!$E$5:$F$135,2,FALSE))))","v":""},{"$f":"IF(E75=\"\",\"\",IF(②選手情報入力!P84=\"\",\"\",②選手情報入力!P84))","v":""},null,{"$f":"IF(E75=\"\",\"\",IF(②選手情報入力!O84=\"\",\"\",IF(K75=1,VLOOKUP(②選手情報入力!O84,種目情報!$A$5:$C$135,3,FALSE),VLOOKUP(②選手情報入力!O84,種目情報!$E$5:$G$135,3,FALSE))))","v":""},{"$f":"IF(E75=\"\",\"\",IF(②選手情報入力!R84=\"\",\"\",IF(K75=1,VLOOKUP(②選手情報入力!R84,種目情報!$A$5:$B$151,2,FALSE),VLOOKUP(②選手情報入力!R84,種目情報!$E$5:$F$135,2,FALSE))))","v":""},{"$f":"IF(E75=\"\",\"\",IF(②選手情報入力!S84=\"\",\"\",②選手情報入力!S84))","v":""},null,{"$f":"IF(E75=\"\",\"\",IF(②選手情報入力!R84=\"\",\"\",IF(K75=1,VLOOKUP(②選手情報入力!R84,種目情報!$A$5:$C$135,3,FALSE),VLOOKUP(②選手情報入力!R84,種目情報!$E$5:$G$135,3,FALSE))))","v":""},{"$f":"IF(E75=\"\",\"\",IF(②選手情報入力!T84=\"\",\"\",IF(K75=1,種目情報!$J$4,種目情報!$J$6)))","v":""},{"$f":"IF(E75=\"\",\"\",IF(②選手情報入力!T84=\"\",\"\",IF(K75=1,IF(②選手情報入力!$U$7=\"\",\"\",②選手情報入力!$U$7),IF(②選手情報入力!$U$8=\"\",\"\",②選手情報入力!$U$8))))","v":""},{"$f":"IF(E75=\"\",\"\",IF(②選手情報入力!T84=\"\",\"\",IF(K75=1,IF(②選手情報入力!$T$7=\"\",0,1),IF(②選手情報入力!$T$8=\"\",0,1))))","v":""},{"$f":"IF(E75=\"\",\"\",IF(②選手情報入力!T84=\"\",\"\",2))","v":""},{"$f":"IF(E75=\"\",\"\",IF(②選手情報入力!V84=\"\",\"\",IF(K75=1,種目情報!$J$5,種目情報!$J$7)))","v":""},{"$f":"IF(E75=\"\",\"\",IF(②選手情報入力!V84=\"\",\"\",IF(K75=1,IF(②選手情報入力!$W$7=\"\",\"\",②選手情報入力!$W$7),IF(②選手情報入力!$W$8=\"\",\"\",②選手情報入力!$W$8))))","v":""},{"$f":"IF(E75=\"\",\"\",IF(②選手情報入力!V84=\"\",\"\",IF(K75=1,IF(②選手情報入力!$V$7=\"\",0,1),IF(②選手情報入力!$V$8=\"\",0,1))))","v":""},{"$f":"IF(E75=\"\",\"\",IF(②選手情報入力!V84=\"\",\"\",2))","v":""}]
["",{"$f":"IF(E76=\"\",\"\",①団体情報入力!$C$5)","v":""},null,{"$f":"IF(E76=\"\",\"\",①団体情報入力!C$10)","v":""},{"$f":"IF(②選手情報入力!C85=\"\",\"\",②選手情報入力!C85)","v":""},{"$f":"IF(E76=\"\",\"\",②選手情報入力!D85)","v":""},{"$f":"IF(E76=\"\",\"\",ASC(②選手情報入力!E85))","v":""},"",{"$f":"IF(E76=\"\",\"\",②選手情報入力!F85&\" \"&②選手情報入力!G85)","v":""},{"$f":"IF(E76=\"\",\"\",IF(②選手情報入力!H85=\"\",\"JPN\",LEFT(②選手情報入力!H85,3)))","v":""},{"$f":"IF(E76=\"\",\"\",IF(②選手情報入力!I85=\"男\",1,2))","v":""},{"$f":"IF(E76=\"\",\"\",IF(②選手情報入力!J85=\"\",\"\",②選手情報入力!J85))","v":""},{"$f":"IF(E76=\"\",\"\",LEFT(②選手情報入力!K85,4))","v":""},{"$f":"IF(E76=\"\",\"\",RIGHT(②選手情報入力!K85,4))","v":""},"",null,{"$f":"IF(E76=\"\",\"\",IF(②選手情報入力!L85=\"\",\"\",IF(K76=1,VLOOKUP(②選手情報入力!L85,種目情報!$A$4:$B$167,2,FALSE),VLOOKUP(②選手情報入力!L85,種目情報!$E$4:$F$142,2,FALSE))))","v":""},{"$f":"IF(E76=\"\",\"\",IF(②選手情報入力!M85=\"\",\"\",②選手情報入力!M85))","v":""},null,{"$f":"IF(E76=\"\",\"\",IF(②選手情報入力!L85=\"\",\"\",IF(K76=1,VLOOKUP(②選手情報入力!L85,種目情報!$A$4:$C$135,3,FALSE),VLOOKUP(②選手情報入力!L85,種目情報!$E$4:$G$135,3,FALSE))))","v":""},{"$f":"IF(E76=\"\",\"\",IF(②選手情報入力!O85=\"\",\"\",IF(K76=1,VLOOKUP(②選手情報入力!O85,種目情報!$A$5:$B$151,2,FALSE),VLOOKUP(②選手情報入力!O85,種目情報!$E$5:$F$135,2,FALSE))))","v":""},{"$f":"IF(E76=\"\",\"\",IF(②選手情報入力!P85=\"\",\"\",②選手情報入力!P85))","v":""},null,{"$f":"IF(E76=\"\",\"\",IF(②選手情報入力!O85=\"\",\"\",IF(K76=1,VLOOKUP(②選手情報入力!O85,種目情報!$A$5:$C$135,3,FALSE),VLOOKUP(②選手情報入力!O85,種目情報!$E$5:$G$135,3,FALSE))))","v":""},{"$f":"IF(E76=\"\",\"\",IF(②選手情報入力!R85=\"\",\"\",IF(K76=1,VLOOKUP(②選手情報入力!R85,種目情報!$A$5:$B$151,2,FALSE),VLOOKUP(②選手情報入力!R85,種目情報!$E$5:$F$135,2,FALSE))))","v":""},{"$f":"IF(E76=\"\",\"\",IF(②選手情報入力!S85=\"\",\"\",②選手情報入力!S85))","v":""},null,{"$f":"IF(E76=\"\",\"\",IF(②選手情報入力!R85=\"\",\"\",IF(K76=1,VLOOKUP(②選手情報入力!R85,種目情報!$A$5:$C$135,3,FALSE),VLOOKUP(②選手情報入力!R85,種目情報!$E$5:$G$135,3,FALSE))))","v":""},{"$f":"IF(E76=\"\",\"\",IF(②選手情報入力!T85=\"\",\"\",IF(K76=1,種目情報!$J$4,種目情報!$J$6)))","v":""},{"$f":"IF(E76=\"\",\"\",IF(②選手情報入力!T85=\"\",\"\",IF(K76=1,IF(②選手情報入力!$U$7=\"\",\"\",②選手情報入力!$U$7),IF(②選手情報入力!$U$8=\"\",\"\",②選手情報入力!$U$8))))","v":""},{"$f":"IF(E76=\"\",\"\",IF(②選手情報入力!T85=\"\",\"\",IF(K76=1,IF(②選手情報入力!$T$7=\"\",0,1),IF(②選手情報入力!$T$8=\"\",0,1))))","v":""},{"$f":"IF(E76=\"\",\"\",IF(②選手情報入力!T85=\"\",\"\",2))","v":""},{"$f":"IF(E76=\"\",\"\",IF(②選手情報入力!V85=\"\",\"\",IF(K76=1,種目情報!$J$5,種目情報!$J$7)))","v":""},{"$f":"IF(E76=\"\",\"\",IF(②選手情報入力!V85=\"\",\"\",IF(K76=1,IF(②選手情報入力!$W$7=\"\",\"\",②選手情報入力!$W$7),IF(②選手情報入力!$W$8=\"\",\"\",②選手情報入力!$W$8))))","v":""},{"$f":"IF(E76=\"\",\"\",IF(②選手情報入力!V85=\"\",\"\",IF(K76=1,IF(②選手情報入力!$V$7=\"\",0,1),IF(②選手情報入力!$V$8=\"\",0,1))))","v":""},{"$f":"IF(E76=\"\",\"\",IF(②選手情報入力!V85=\"\",\"\",2))","v":""}]
["",{"$f":"IF(E77=\"\",\"\",①団体情報入力!$C$5)","v":""},null,{"$f":"IF(E77=\"\",\"\",①団体情報入力!C$10)","v":""},{"$f":"IF(②選手情報入力!C86=\"\",\"\",②選手情報入力!C86)","v":""},{"$f":"IF(E77=\"\",\"\",②選手情報入力!D86)","v":""},{"$f":"IF(E77=\"\",\"\",ASC(②選手情報入力!E86))","v":""},"",{"$f":"IF(E77=\"\",\"\",②選手情報入力!F86&\" \"&②選手情報入力!G86)","v":""},{"$f":"IF(E77=\"\",\"\",IF(②選手情報入力!H86=\"\",\"JPN\",LEFT(②選手情報入力!H86,3)))","v":""},{"$f":"IF(E77=\"\",\"\",IF(②選手情報入力!I86=\"男\",1,2))","v":""},{"$f":"IF(E77=\"\",\"\",IF(②選手情報入力!J86=\"\",\"\",②選手情報入力!J86))","v":""},{"$f":"IF(E77=\"\",\"\",LEFT(②選手情報入力!K86,4))","v":""},{"$f":"IF(E77=\"\",\"\",RIGHT(②選手情報入力!K86,4))","v":""},"",null,{"$f":"IF(E77=\"\",\"\",IF(②選手情報入力!L86=\"\",\"\",IF(K77=1,VLOOKUP(②選手情報入力!L86,種目情報!$A$4:$B$167,2,FALSE),VLOOKUP(②選手情報入力!L86,種目情報!$E$4:$F$142,2,FALSE))))","v":""},{"$f":"IF(E77=\"\",\"\",IF(②選手情報入力!M86=\"\",\"\",②選手情報入力!M86))","v":""},null,{"$f":"IF(E77=\"\",\"\",IF(②選手情報入力!L86=\"\",\"\",IF(K77=1,VLOOKUP(②選手情報入力!L86,種目情報!$A$4:$C$135,3,FALSE),VLOOKUP(②選手情報入力!L86,種目情報!$E$4:$G$135,3,FALSE))))","v":""},{"$f":"IF(E77=\"\",\"\",IF(②選手情報入力!O86=\"\",\"\",IF(K77=1,VLOOKUP(②選手情報入力!O86,種目情報!$A$5:$B$151,2,FALSE),VLOOKUP(②選手情報入力!O86,種目情報!$E$5:$F$135,2,FALSE))))","v":""},{"$f":"IF(E77=\"\",\"\",IF(②選手情報入力!P86=\"\",\"\",②選手情報入力!P86))","v":""},null,{"$f":"IF(E77=\"\",\"\",IF(②選手情報入力!O86=\"\",\"\",IF(K77=1,VLOOKUP(②選手情報入力!O86,種目情報!$A$5:$C$135,3,FALSE),VLOOKUP(②選手情報入力!O86,種目情報!$E$5:$G$135,3,FALSE))))","v":""},{"$f":"IF(E77=\"\",\"\",IF(②選手情報入力!R86=\"\",\"\",IF(K77=1,VLOOKUP(②選手情報入力!R86,種目情報!$A$5:$B$151,2,FALSE),VLOOKUP(②選手情報入力!R86,種目情報!$E$5:$F$135,2,FALSE))))","v":""},{"$f":"IF(E77=\"\",\"\",IF(②選手情報入力!S86=\"\",\"\",②選手情報入力!S86))","v":""},null,{"$f":"IF(E77=\"\",\"\",IF(②選手情報入力!R86=\"\",\"\",IF(K77=1,VLOOKUP(②選手情報入力!R86,種目情報!$A$5:$C$135,3,FALSE),VLOOKUP(②選手情報入力!R86,種目情報!$E$5:$G$135,3,FALSE))))","v":""},{"$f":"IF(E77=\"\",\"\",IF(②選手情報入力!T86=\"\",\"\",IF(K77=1,種目情報!$J$4,種目情報!$J$6)))","v":""},{"$f":"IF(E77=\"\",\"\",IF(②選手情報入力!T86=\"\",\"\",IF(K77=1,IF(②選手情報入力!$U$7=\"\",\"\",②選手情報入力!$U$7),IF(②選手情報入力!$U$8=\"\",\"\",②選手情報入力!$U$8))))","v":""},{"$f":"IF(E77=\"\",\"\",IF(②選手情報入力!T86=\"\",\"\",IF(K77=1,IF(②選手情報入力!$T$7=\"\",0,1),IF(②選手情報入力!$T$8=\"\",0,1))))","v":""},{"$f":"IF(E77=\"\",\"\",IF(②選手情報入力!T86=\"\",\"\",2))","v":""},{"$f":"IF(E77=\"\",\"\",IF(②選手情報入力!V86=\"\",\"\",IF(K77=1,種目情報!$J$5,種目情報!$J$7)))","v":""},{"$f":"IF(E77=\"\",\"\",IF(②選手情報入力!V86=\"\",\"\",IF(K77=1,IF(②選手情報入力!$W$7=\"\",\"\",②選手情報入力!$W$7),IF(②選手情報入力!$W$8=\"\",\"\",②選手情報入力!$W$8))))","v":""},{"$f":"IF(E77=\"\",\"\",IF(②選手情報入力!V86=\"\",\"\",IF(K77=1,IF(②選手情報入力!$V$7=\"\",0,1),IF(②選手情報入力!$V$8=\"\",0,1))))","v":""},{"$f":"IF(E77=\"\",\"\",IF(②選手情報入力!V86=\"\",\"\",2))","v":""}]
["",{"$f":"IF(E78=\"\",\"\",①団体情報入力!$C$5)","v":""},null,{"$f":"IF(E78=\"\",\"\",①団体情報入力!C$10)","v":""},{"$f":"IF(②選手情報入力!C87=\"\",\"\",②選手情報入力!C87)","v":""},{"$f":"IF(E78=\"\",\"\",②選手情報入力!D87)","v":""},{"$f":"IF(E78=\"\",\"\",ASC(②選手情報入力!E87))","v":""},"",{"$f":"IF(E78=\"\",\"\",②選手情報入力!F87&\" \"&②選手情報入力!G87)","v":""},{"$f":"IF(E78=\"\",\"\",IF(②選手情報入力!H87=\"\",\"JPN\",LEFT(②選手情報入力!H87,3)))","v":""},{"$f":"IF(E78=\"\",\"\",IF(②選手情報入力!I87=\"男\",1,2))","v":""},{"$f":"IF(E78=\"\",\"\",IF(②選手情報入力!J87=\"\",\"\",②選手情報入力!J87))","v":""},{"$f":"IF(E78=\"\",\"\",LEFT(②選手情報入力!K87,4))","v":""},{"$f":"IF(E78=\"\",\"\",RIGHT(②選手情報入力!K87,4))","v":""},"",null,{"$f":"IF(E78=\"\",\"\",IF(②選手情報入力!L87=\"\",\"\",IF(K78=1,VLOOKUP(②選手情報入力!L87,種目情報!$A$4:$B$167,2,FALSE),VLOOKUP(②選手情報入力!L87,種目情報!$E$4:$F$142,2,FALSE))))","v":""},{"$f":"IF(E78=\"\",\"\",IF(②選手情報入力!M87=\"\",\"\",②選手情報入力!M87))","v":""},null,{"$f":"IF(E78=\"\",\"\",IF(②選手情報入力!L87=\"\",\"\",IF(K78=1,VLOOKUP(②選手情報入力!L87,種目情報!$A$4:$C$135,3,FALSE),VLOOKUP(②選手情報入力!L87,種目情報!$E$4:$G$135,3,FALSE))))","v":""},{"$f":"IF(E78=\"\",\"\",IF(②選手情報入力!O87=\"\",\"\",IF(K78=1,VLOOKUP(②選手情報入力!O87,種目情報!$A$5:$B$151,2,FALSE),VLOOKUP(②選手情報入力!O87,種目情報!$E$5:$F$135,2,FALSE))))","v":""},{"$f":"IF(E78=\"\",\"\",IF(②選手情報入力!P87=\"\",\"\",②選手情報入力!P87))","v":""},null,{"$f":"IF(E78=\"\",\"\",IF(②選手情報入力!O87=\"\",\"\",IF(K78=1,VLOOKUP(②選手情報入力!O87,種目情報!$A$5:$C$135,3,FALSE),VLOOKUP(②選手情報入力!O87,種目情報!$E$5:$G$135,3,FALSE))))","v":""},{"$f":"IF(E78=\"\",\"\",IF(②選手情報入力!R87=\"\",\"\",IF(K78=1,VLOOKUP(②選手情報入力!R87,種目情報!$A$5:$B$151,2,FALSE),VLOOKUP(②選手情報入力!R87,種目情報!$E$5:$F$135,2,FALSE))))","v":""},{"$f":"IF(E78=\"\",\"\",IF(②選手情報入力!S87=\"\",\"\",②選手情報入力!S87))","v":""},null,{"$f":"IF(E78=\"\",\"\",IF(②選手情報入力!R87=\"\",\"\",IF(K78=1,VLOOKUP(②選手情報入力!R87,種目情報!$A$5:$C$135,3,FALSE),VLOOKUP(②選手情報入力!R87,種目情報!$E$5:$G$135,3,FALSE))))","v":""},{"$f":"IF(E78=\"\",\"\",IF(②選手情報入力!T87=\"\",\"\",IF(K78=1,種目情報!$J$4,種目情報!$J$6)))","v":""},{"$f":"IF(E78=\"\",\"\",IF(②選手情報入力!T87=\"\",\"\",IF(K78=1,IF(②選手情報入力!$U$7=\"\",\"\",②選手情報入力!$U$7),IF(②選手情報入力!$U$8=\"\",\"\",②選手情報入力!$U$8))))","v":""},{"$f":"IF(E78=\"\",\"\",IF(②選手情報入力!T87=\"\",\"\",IF(K78=1,IF(②選手情報入力!$T$7=\"\",0,1),IF(②選手情報入力!$T$8=\"\",0,1))))","v":""},{"$f":"IF(E78=\"\",\"\",IF(②選手情報入力!T87=\"\",\"\",2))","v":""},{"$f":"IF(E78=\"\",\"\",IF(②選手情報入力!V87=\"\",\"\",IF(K78=1,種目情報!$J$5,種目情報!$J$7)))","v":""},{"$f":"IF(E78=\"\",\"\",IF(②選手情報入力!V87=\"\",\"\",IF(K78=1,IF(②選手情報入力!$W$7=\"\",\"\",②選手情報入力!$W$7),IF(②選手情報入力!$W$8=\"\",\"\",②選手情報入力!$W$8))))","v":""},{"$f":"IF(E78=\"\",\"\",IF(②選手情報入力!V87=\"\",\"\",IF(K78=1,IF(②選手情報入力!$V$7=\"\",0,1),IF(②選手情報入力!$V$8=\"\",0,1))))","v":""},{"$f":"IF(E78=\"\",\"\",IF(②選手情報入力!V87=\"\",\"\",2))","v":""}]
["",{"$f":"IF(E79=\"\",\"\",①団体情報入力!$C$5)","v":""},null,{"$f":"IF(E79=\"\",\"\",①団体情報入力!C$10)","v":""},{"$f":"IF(②選手情報入力!C88=\"\",\"\",②選手情報入力!C88)","v":""},{"$f":"IF(E79=\"\",\"\",②選手情報入力!D88)","v":""},{"$f":"IF(E79=\"\",\"\",ASC(②選手情報入力!E88))","v":""},"",{"$f":"IF(E79=\"\",\"\",②選手情報入力!F88&\" \"&②選手情報入力!G88)","v":""},{"$f":"IF(E79=\"\",\"\",IF(②選手情報入力!H88=\"\",\"JPN\",LEFT(②選手情報入力!H88,3)))","v":""},{"$f":"IF(E79=\"\",\"\",IF(②選手情報入力!I88=\"男\",1,2))","v":""},{"$f":"IF(E79=\"\",\"\",IF(②選手情報入力!J88=\"\",\"\",②選手情報入力!J88))","v":""},{"$f":"IF(E79=\"\",\"\",LEFT(②選手情報入力!K88,4))","v":""},{"$f":"IF(E79=\"\",\"\",RIGHT(②選手情報入力!K88,4))","v":""},"",null,{"$f":"IF(E79=\"\",\"\",IF(②選手情報入力!L88=\"\",\"\",IF(K79=1,VLOOKUP(②選手情報入力!L88,種目情報!$A$4:$B$167,2,FALSE),VLOOKUP(②選手情報入力!L88,種目情報!$E$4:$F$142,2,FALSE))))","v":""},{"$f":"IF(E79=\"\",\"\",IF(②選手情報入力!M88=\"\",\"\",②選手情報入力!M88))","v":""},null,{"$f":"IF(E79=\"\",\"\",IF(②選手情報入力!L88=\"\",\"\",IF(K79=1,VLOOKUP(②選手情報入力!L88,種目情報!$A$4:$C$135,3,FALSE),VLOOKUP(②選手情報入力!L88,種目情報!$E$4:$G$135,3,FALSE))))","v":""},{"$f":"IF(E79=\"\",\"\",IF(②選手情報入力!O88=\"\",\"\",IF(K79=1,VLOOKUP(②選手情報入力!O88,種目情報!$A$5:$B$151,2,FALSE),VLOOKUP(②選手情報入力!O88,種目情報!$E$5:$F$135,2,FALSE))))","v":""},{"$f":"IF(E79=\"\",\"\",IF(②選手情報入力!P88=\"\",\"\",②選手情報入力!P88))","v":""},null,{"$f":"IF(E79=\"\",\"\",IF(②選手情報入力!O88=\"\",\"\",IF(K79=1,VLOOKUP(②選手情報入力!O88,種目情報!$A$5:$C$135,3,FALSE),VLOOKUP(②選手情報入力!O88,種目情報!$E$5:$G$135,3,FALSE))))","v":""},{"$f":"IF(E79=\"\",\"\",IF(②選手情報入力!R88=\"\",\"\",IF(K79=1,VLOOKUP(②選手情報入力!R88,種目情報!$A$5:$B$151,2,FALSE),VLOOKUP(②選手情報入力!R88,種目情報!$E$5:$F$135,2,FALSE))))","v":""},{"$f":"IF(E79=\"\",\"\",IF(②選手情報入力!S88=\"\",\"\",②選手情報入力!S88))","v":""},null,{"$f":"IF(E79=\"\",\"\",IF(②選手情報入力!R88=\"\",\"\",IF(K79=1,VLOOKUP(②選手情報入力!R88,種目情報!$A$5:$C$135,3,FALSE),VLOOKUP(②選手情報入力!R88,種目情報!$E$5:$G$135,3,FALSE))))","v":""},{"$f":"IF(E79=\"\",\"\",IF(②選手情報入力!T88=\"\",\"\",IF(K79=1,種目情報!$J$4,種目情報!$J$6)))","v":""},{"$f":"IF(E79=\"\",\"\",IF(②選手情報入力!T88=\"\",\"\",IF(K79=1,IF(②選手情報入力!$U$7=\"\",\"\",②選手情報入力!$U$7),IF(②選手情報入力!$U$8=\"\",\"\",②選手情報入力!$U$8))))","v":""},{"$f":"IF(E79=\"\",\"\",IF(②選手情報入力!T88=\"\",\"\",IF(K79=1,IF(②選手情報入力!$T$7=\"\",0,1),IF(②選手情報入力!$T$8=\"\",0,1))))","v":""},{"$f":"IF(E79=\"\",\"\",IF(②選手情報入力!T88=\"\",\"\",2))","v":""},{"$f":"IF(E79=\"\",\"\",IF(②選手情報入力!V88=\"\",\"\",IF(K79=1,種目情報!$J$5,種目情報!$J$7)))","v":""},{"$f":"IF(E79=\"\",\"\",IF(②選手情報入力!V88=\"\",\"\",IF(K79=1,IF(②選手情報入力!$W$7=\"\",\"\",②選手情報入力!$W$7),IF(②選手情報入力!$W$8=\"\",\"\",②選手情報入力!$W$8))))","v":""},{"$f":"IF(E79=\"\",\"\",IF(②選手情報入力!V88=\"\",\"\",IF(K79=1,IF(②選手情報入力!$V$7=\"\",0,1),IF(②選手情報入力!$V$8=\"\",0,1))))","v":""},{"$f":"IF(E79=\"\",\"\",IF(②選手情報入力!V88=\"\",\"\",2))","v":""}]
["",{"$f":"IF(E80=\"\",\"\",①団体情報入力!$C$5)","v":""},null,{"$f":"IF(E80=\"\",\"\",①団体情報入力!C$10)","v":""},{"$f":"IF(②選手情報入力!C89=\"\",\"\",②選手情報入力!C89)","v":""},{"$f":"IF(E80=\"\",\"\",②選手情報入力!D89)","v":""},{"$f":"IF(E80=\"\",\"\",ASC(②選手情報入力!E89))","v":""},"",{"$f":"IF(E80=\"\",\"\",②選手情報入力!F89&\" \"&②選手情報入力!G89)","v":""},{"$f":"IF(E80=\"\",\"\",IF(②選手情報入力!H89=\"\",\"JPN\",LEFT(②選手情報入力!H89,3)))","v":""},{"$f":"IF(E80=\"\",\"\",IF(②選手情報入力!I89=\"男\",1,2))","v":""},{"$f":"IF(E80=\"\",\"\",IF(②選手情報入力!J89=\"\",\"\",②選手情報入力!J89))","v":""},{"$f":"IF(E80=\"\",\"\",LEFT(②選手情報入力!K89,4))","v":""},{"$f":"IF(E80=\"\",\"\",RIGHT(②選手情報入力!K89,4))","v":""},"",null,{"$f":"IF(E80=\"\",\"\",IF(②選手情報入力!L89=\"\",\"\",IF(K80=1,VLOOKUP(②選手情報入力!L89,種目情報!$A$4:$B$167,2,FALSE),VLOOKUP(②選手情報入力!L89,種目情報!$E$4:$F$142,2,FALSE))))","v":""},{"$f":"IF(E80=\"\",\"\",IF(②選手情報入力!M89=\"\",\"\",②選手情報入力!M89))","v":""},null,{"$f":"IF(E80=\"\",\"\",IF(②選手情報入力!L89=\"\",\"\",IF(K80=1,VLOOKUP(②選手情報入力!L89,種目情報!$A$4:$C$135,3,FALSE),VLOOKUP(②選手情報入力!L89,種目情報!$E$4:$G$135,3,FALSE))))","v":""},{"$f":"IF(E80=\"\",\"\",IF(②選手情報入力!O89=\"\",\"\",IF(K80=1,VLOOKUP(②選手情報入力!O89,種目情報!$A$5:$B$151,2,FALSE),VLOOKUP(②選手情報入力!O89,種目情報!$E$5:$F$135,2,FALSE))))","v":""},{"$f":"IF(E80=\"\",\"\",IF(②選手情報入力!P89=\"\",\"\",②選手情報入力!P89))","v":""},null,{"$f":"IF(E80=\"\",\"\",IF(②選手情報入力!O89=\"\",\"\",IF(K80=1,VLOOKUP(②選手情報入力!O89,種目情報!$A$5:$C$135,3,FALSE),VLOOKUP(②選手情報入力!O89,種目情報!$E$5:$G$135,3,FALSE))))","v":""},{"$f":"IF(E80=\"\",\"\",IF(②選手情報入力!R89=\"\",\"\",IF(K80=1,VLOOKUP(②選手情報入力!R89,種目情報!$A$5:$B$151,2,FALSE),VLOOKUP(②選手情報入力!R89,種目情報!$E$5:$F$135,2,FALSE))))","v":""},{"$f":"IF(E80=\"\",\"\",IF(②選手情報入力!S89=\"\",\"\",②選手情報入力!S89))","v":""},null,{"$f":"IF(E80=\"\",\"\",IF(②選手情報入力!R89=\"\",\"\",IF(K80=1,VLOOKUP(②選手情報入力!R89,種目情報!$A$5:$C$135,3,FALSE),VLOOKUP(②選手情報入力!R89,種目情報!$E$5:$G$135,3,FALSE))))","v":""},{"$f":"IF(E80=\"\",\"\",IF(②選手情報入力!T89=\"\",\"\",IF(K80=1,種目情報!$J$4,種目情報!$J$6)))","v":""},{"$f":"IF(E80=\"\",\"\",IF(②選手情報入力!T89=\"\",\"\",IF(K80=1,IF(②選手情報入力!$U$7=\"\",\"\",②選手情報入力!$U$7),IF(②選手情報入力!$U$8=\"\",\"\",②選手情報入力!$U$8))))","v":""},{"$f":"IF(E80=\"\",\"\",IF(②選手情報入力!T89=\"\",\"\",IF(K80=1,IF(②選手情報入力!$T$7=\"\",0,1),IF(②選手情報入力!$T$8=\"\",0,1))))","v":""},{"$f":"IF(E80=\"\",\"\",IF(②選手情報入力!T89=\"\",\"\",2))","v":""},{"$f":"IF(E80=\"\",\"\",IF(②選手情報入力!V89=\"\",\"\",IF(K80=1,種目情報!$J$5,種目情報!$J$7)))","v":""},{"$f":"IF(E80=\"\",\"\",IF(②選手情報入力!V89=\"\",\"\",IF(K80=1,IF(②選手情報入力!$W$7=\"\",\"\",②選手情報入力!$W$7),IF(②選手情報入力!$W$8=\"\",\"\",②選手情報入力!$W$8))))","v":""},{"$f":"IF(E80=\"\",\"\",IF(②選手情報入力!V89=\"\",\"\",IF(K80=1,IF(②選手情報入力!$V$7=\"\",0,1),IF(②選手情報入力!$V$8=\"\",0,1))))","v":""},{"$f":"IF(E80=\"\",\"\",IF(②選手情報入力!V89=\"\",\"\",2))","v":""}]
["",{"$f":"IF(E81=\"\",\"\",①団体情報入力!$C$5)","v":""},null,{"$f":"IF(E81=\"\",\"\",①団体情報入力!C$10)","v":""},{"$f":"IF(②選手情報入力!C90=\"\",\"\",②選手情報入力!C90)","v":""},{"$f":"IF(E81=\"\",\"\",②選手情報入力!D90)","v":""},{"$f":"IF(E81=\"\",\"\",ASC(②選手情報入力!E90))","v":""},"",{"$f":"IF(E81=\"\",\"\",②選手情報入力!F90&\" \"&②選手情報入力!G90)","v":""},{"$f":"IF(E81=\"\",\"\",IF(②選手情報入力!H90=\"\",\"JPN\",LEFT(②選手情報入力!H90,3)))","v":""},{"$f":"IF(E81=\"\",\"\",IF(②選手情報入力!I90=\"男\",1,2))","v":""},{"$f":"IF(E81=\"\",\"\",IF(②選手情報入力!J90=\"\",\"\",②選手情報入力!J90))","v":""},{"$f":"IF(E81=\"\",\"\",LEFT(②選手情報入力!K90,4))","v":""},{"$f":"IF(E81=\"\",\"\",RIGHT(②選手情報入力!K90,4))","v":""},"",null,{"$f":"IF(E81=\"\",\"\",IF(②選手情報入力!L90=\"\",\"\",IF(K81=1,VLOOKUP(②選手情報入力!L90,種目情報!$A$4:$B$167,2,FALSE),VLOOKUP(②選手情報入力!L90,種目情報!$E$4:$F$142,2,FALSE))))","v":""},{"$f":"IF(E81=\"\",\"\",IF(②選手情報入力!M90=\"\",\"\",②選手情報入力!M90))","v":""},null,{"$f":"IF(E81=\"\",\"\",IF(②選手情報入力!L90=\"\",\"\",IF(K81=1,VLOOKUP(②選手情報入力!L90,種目情報!$A$4:$C$135,3,FALSE),VLOOKUP(②選手情報入力!L90,種目情報!$E$4:$G$135,3,FALSE))))","v":""},{"$f":"IF(E81=\"\",\"\",IF(②選手情報入力!O90=\"\",\"\",IF(K81=1,VLOOKUP(②選手情報入力!O90,種目情報!$A$5:$B$151,2,FALSE),VLOOKUP(②選手情報入力!O90,種目情報!$E$5:$F$135,2,FALSE))))","v":""},{"$f":"IF(E81=\"\",\"\",IF(②選手情報入力!P90=\"\",\"\",②選手情報入力!P90))","v":""},null,{"$f":"IF(E81=\"\",\"\",IF(②選手情報入力!O90=\"\",\"\",IF(K81=1,VLOOKUP(②選手情報入力!O90,種目情報!$A$5:$C$135,3,FALSE),VLOOKUP(②選手情報入力!O90,種目情報!$E$5:$G$135,3,FALSE))))","v":""},{"$f":"IF(E81=\"\",\"\",IF(②選手情報入力!R90=\"\",\"\",IF(K81=1,VLOOKUP(②選手情報入力!R90,種目情報!$A$5:$B$151,2,FALSE),VLOOKUP(②選手情報入力!R90,種目情報!$E$5:$F$135,2,FALSE))))","v":""},{"$f":"IF(E81=\"\",\"\",IF(②選手情報入力!S90=\"\",\"\",②選手情報入力!S90))","v":""},null,{"$f":"IF(E81=\"\",\"\",IF(②選手情報入力!R90=\"\",\"\",IF(K81=1,VLOOKUP(②選手情報入力!R90,種目情報!$A$5:$C$135,3,FALSE),VLOOKUP(②選手情報入力!R90,種目情報!$E$5:$G$135,3,FALSE))))","v":""},{"$f":"IF(E81=\"\",\"\",IF(②選手情報入力!T90=\"\",\"\",IF(K81=1,種目情報!$J$4,種目情報!$J$6)))","v":""},{"$f":"IF(E81=\"\",\"\",IF(②選手情報入力!T90=\"\",\"\",IF(K81=1,IF(②選手情報入力!$U$7=\"\",\"\",②選手情報入力!$U$7),IF(②選手情報入力!$U$8=\"\",\"\",②選手情報入力!$U$8))))","v":""},{"$f":"IF(E81=\"\",\"\",IF(②選手情報入力!T90=\"\",\"\",IF(K81=1,IF(②選手情報入力!$T$7=\"\",0,1),IF(②選手情報入力!$T$8=\"\",0,1))))","v":""},{"$f":"IF(E81=\"\",\"\",IF(②選手情報入力!T90=\"\",\"\",2))","v":""},{"$f":"IF(E81=\"\",\"\",IF(②選手情報入力!V90=\"\",\"\",IF(K81=1,種目情報!$J$5,種目情報!$J$7)))","v":""},{"$f":"IF(E81=\"\",\"\",IF(②選手情報入力!V90=\"\",\"\",IF(K81=1,IF(②選手情報入力!$W$7=\"\",\"\",②選手情報入力!$W$7),IF(②選手情報入力!$W$8=\"\",\"\",②選手情報入力!$W$8))))","v":""},{"$f":"IF(E81=\"\",\"\",IF(②選手情報入力!V90=\"\",\"\",IF(K81=1,IF(②選手情報入力!$V$7=\"\",0,1),IF(②選手情報入力!$V$8=\"\",0,1))))","v":""},{"$f":"IF(E81=\"\",\"\",IF(②選手情報入力!V90=\"\",\"\",2))","v":""}]
["",{"$f":"IF(E82=\"\",\"\",①団体情報入力!$C$5)","v":""},null,{"$f":"IF(E82=\"\",\"\",①団体情報入力!C$10)","v":""},{"$f":"IF(②選手情報入力!C91=\"\",\"\",②選手情報入力!C91)","v":""},{"$f":"IF(E82=\"\",\"\",②選手情報入力!D91)","v":""},{"$f":"IF(E82=\"\",\"\",ASC(②選手情報入力!E91))","v":""},"",{"$f":"IF(E82=\"\",\"\",②選手情報入力!F91&\" \"&②選手情報入力!G91)","v":""},{"$f":"IF(E82=\"\",\"\",IF(②選手情報入力!H91=\"\",\"JPN\",LEFT(②選手情報入力!H91,3)))","v":""},{"$f":"IF(E82=\"\",\"\",IF(②選手情報入力!I91=\"男\",1,2))","v":""},{"$f":"IF(E82=\"\",\"\",IF(②選手情報入力!J91=\"\",\"\",②選手情報入力!J91))","v":""},{"$f":"IF(E82=\"\",\"\",LEFT(②選手情報入力!K91,4))","v":""},{"$f":"IF(E82=\"\",\"\",RIGHT(②選手情報入力!K91,4))","v":""},"",null,{"$f":"IF(E82=\"\",\"\",IF(②選手情報入力!L91=\"\",\"\",IF(K82=1,VLOOKUP(②選手情報入力!L91,種目情報!$A$4:$B$167,2,FALSE),VLOOKUP(②選手情報入力!L91,種目情報!$E$4:$F$142,2,FALSE))))","v":""},{"$f":"IF(E82=\"\",\"\",IF(②選手情報入力!M91=\"\",\"\",②選手情報入力!M91))","v":""},null,{"$f":"IF(E82=\"\",\"\",IF(②選手情報入力!L91=\"\",\"\",IF(K82=1,VLOOKUP(②選手情報入力!L91,種目情報!$A$4:$C$135,3,FALSE),VLOOKUP(②選手情報入力!L91,種目情報!$E$4:$G$135,3,FALSE))))","v":""},{"$f":"IF(E82=\"\",\"\",IF(②選手情報入力!O91=\"\",\"\",IF(K82=1,VLOOKUP(②選手情報入力!O91,種目情報!$A$5:$B$151,2,FALSE),VLOOKUP(②選手情報入力!O91,種目情報!$E$5:$F$135,2,FALSE))))","v":""},{"$f":"IF(E82=\"\",\"\",IF(②選手情報入力!P91=\"\",\"\",②選手情報入力!P91))","v":""},null,{"$f":"IF(E82=\"\",\"\",IF(②選手情報入力!O91=\"\",\"\",IF(K82=1,VLOOKUP(②選手情報入力!O91,種目情報!$A$5:$C$135,3,FALSE),VLOOKUP(②選手情報入力!O91,種目情報!$E$5:$G$135,3,FALSE))))","v":""},{"$f":"IF(E82=\"\",\"\",IF(②選手情報入力!R91=\"\",\"\",IF(K82=1,VLOOKUP(②選手情報入力!R91,種目情報!$A$5:$B$151,2,FALSE),VLOOKUP(②選手情報入力!R91,種目情報!$E$5:$F$135,2,FALSE))))","v":""},{"$f":"IF(E82=\"\",\"\",IF(②選手情報入力!S91=\"\",\"\",②選手情報入力!S91))","v":""},null,{"$f":"IF(E82=\"\",\"\",IF(②選手情報入力!R91=\"\",\"\",IF(K82=1,VLOOKUP(②選手情報入力!R91,種目情報!$A$5:$C$135,3,FALSE),VLOOKUP(②選手情報入力!R91,種目情報!$E$5:$G$135,3,FALSE))))","v":""},{"$f":"IF(E82=\"\",\"\",IF(②選手情報入力!T91=\"\",\"\",IF(K82=1,種目情報!$J$4,種目情報!$J$6)))","v":""},{"$f":"IF(E82=\"\",\"\",IF(②選手情報入力!T91=\"\",\"\",IF(K82=1,IF(②選手情報入力!$U$7=\"\",\"\",②選手情報入力!$U$7),IF(②選手情報入力!$U$8=\"\",\"\",②選手情報入力!$U$8))))","v":""},{"$f":"IF(E82=\"\",\"\",IF(②選手情報入力!T91=\"\",\"\",IF(K82=1,IF(②選手情報入力!$T$7=\"\",0,1),IF(②選手情報入力!$T$8=\"\",0,1))))","v":""},{"$f":"IF(E82=\"\",\"\",IF(②選手情報入力!T91=\"\",\"\",2))","v":""},{"$f":"IF(E82=\"\",\"\",IF(②選手情報入力!V91=\"\",\"\",IF(K82=1,種目情報!$J$5,種目情報!$J$7)))","v":""},{"$f":"IF(E82=\"\",\"\",IF(②選手情報入力!V91=\"\",\"\",IF(K82=1,IF(②選手情報入力!$W$7=\"\",\"\",②選手情報入力!$W$7),IF(②選手情報入力!$W$8=\"\",\"\",②選手情報入力!$W$8))))","v":""},{"$f":"IF(E82=\"\",\"\",IF(②選手情報入力!V91=\"\",\"\",IF(K82=1,IF(②選手情報入力!$V$7=\"\",0,1),IF(②選手情報入力!$V$8=\"\",0,1))))","v":""},{"$f":"IF(E82=\"\",\"\",IF(②選手情報入力!V91=\"\",\"\",2))","v":""}]
["",{"$f":"IF(E83=\"\",\"\",①団体情報入力!$C$5)","v":""},null,{"$f":"IF(E83=\"\",\"\",①団体情報入力!C$10)","v":""},{"$f":"IF(②選手情報入力!C92=\"\",\"\",②選手情報入力!C92)","v":""},{"$f":"IF(E83=\"\",\"\",②選手情報入力!D92)","v":""},{"$f":"IF(E83=\"\",\"\",ASC(②選手情報入力!E92))","v":""},"",{"$f":"IF(E83=\"\",\"\",②選手情報入力!F92&\" \"&②選手情報入力!G92)","v":""},{"$f":"IF(E83=\"\",\"\",IF(②選手情報入力!H92=\"\",\"JPN\",LEFT(②選手情報入力!H92,3)))","v":""},{"$f":"IF(E83=\"\",\"\",IF(②選手情報入力!I92=\"男\",1,2))","v":""},{"$f":"IF(E83=\"\",\"\",IF(②選手情報入力!J92=\"\",\"\",②選手情報入力!J92))","v":""},{"$f":"IF(E83=\"\",\"\",LEFT(②選手情報入力!K92,4))","v":""},{"$f":"IF(E83=\"\",\"\",RIGHT(②選手情報入力!K92,4))","v":""},"",null,{"$f":"IF(E83=\"\",\"\",IF(②選手情報入力!L92=\"\",\"\",IF(K83=1,VLOOKUP(②選手情報入力!L92,種目情報!$A$4:$B$167,2,FALSE),VLOOKUP(②選手情報入力!L92,種目情報!$E$4:$F$142,2,FALSE))))","v":""},{"$f":"IF(E83=\"\",\"\",IF(②選手情報入力!M92=\"\",\"\",②選手情報入力!M92))","v":""},null,{"$f":"IF(E83=\"\",\"\",IF(②選手情報入力!L92=\"\",\"\",IF(K83=1,VLOOKUP(②選手情報入力!L92,種目情報!$A$4:$C$135,3,FALSE),VLOOKUP(②選手情報入力!L92,種目情報!$E$4:$G$135,3,FALSE))))","v":""},{"$f":"IF(E83=\"\",\"\",IF(②選手情報入力!O92=\"\",\"\",IF(K83=1,VLOOKUP(②選手情報入力!O92,種目情報!$A$5:$B$151,2,FALSE),VLOOKUP(②選手情報入力!O92,種目情報!$E$5:$F$135,2,FALSE))))","v":""},{"$f":"IF(E83=\"\",\"\",IF(②選手情報入力!P92=\"\",\"\",②選手情報入力!P92))","v":""},null,{"$f":"IF(E83=\"\",\"\",IF(②選手情報入力!O92=\"\",\"\",IF(K83=1,VLOOKUP(②選手情報入力!O92,種目情報!$A$5:$C$135,3,FALSE),VLOOKUP(②選手情報入力!O92,種目情報!$E$5:$G$135,3,FALSE))))","v":""},{"$f":"IF(E83=\"\",\"\",IF(②選手情報入力!R92=\"\",\"\",IF(K83=1,VLOOKUP(②選手情報入力!R92,種目情報!$A$5:$B$151,2,FALSE),VLOOKUP(②選手情報入力!R92,種目情報!$E$5:$F$135,2,FALSE))))","v":""},{"$f":"IF(E83=\"\",\"\",IF(②選手情報入力!S92=\"\",\"\",②選手情報入力!S92))","v":""},null,{"$f":"IF(E83=\"\",\"\",IF(②選手情報入力!R92=\"\",\"\",IF(K83=1,VLOOKUP(②選手情報入力!R92,種目情報!$A$5:$C$135,3,FALSE),VLOOKUP(②選手情報入力!R92,種目情報!$E$5:$G$135,3,FALSE))))","v":""},{"$f":"IF(E83=\"\",\"\",IF(②選手情報入力!T92=\"\",\"\",IF(K83=1,種目情報!$J$4,種目情報!$J$6)))","v":""},{"$f":"IF(E83=\"\",\"\",IF(②選手情報入力!T92=\"\",\"\",IF(K83=1,IF(②選手情報入力!$U$7=\"\",\"\",②選手情報入力!$U$7),IF(②選手情報入力!$U$8=\"\",\"\",②選手情報入力!$U$8))))","v":""},{"$f":"IF(E83=\"\",\"\",IF(②選手情報入力!T92=\"\",\"\",IF(K83=1,IF(②選手情報入力!$T$7=\"\",0,1),IF(②選手情報入力!$T$8=\"\",0,1))))","v":""},{"$f":"IF(E83=\"\",\"\",IF(②選手情報入力!T92=\"\",\"\",2))","v":""},{"$f":"IF(E83=\"\",\"\",IF(②選手情報入力!V92=\"\",\"\",IF(K83=1,種目情報!$J$5,種目情報!$J$7)))","v":""},{"$f":"IF(E83=\"\",\"\",IF(②選手情報入力!V92=\"\",\"\",IF(K83=1,IF(②選手情報入力!$W$7=\"\",\"\",②選手情報入力!$W$7),IF(②選手情報入力!$W$8=\"\",\"\",②選手情報入力!$W$8))))","v":""},{"$f":"IF(E83=\"\",\"\",IF(②選手情報入力!V92=\"\",\"\",IF(K83=1,IF(②選手情報入力!$V$7=\"\",0,1),IF(②選手情報入力!$V$8=\"\",0,1))))","v":""},{"$f":"IF(E83=\"\",\"\",IF(②選手情報入力!V92=\"\",\"\",2))","v":""}]
["",{"$f":"IF(E84=\"\",\"\",①団体情報入力!$C$5)","v":""},null,{"$f":"IF(E84=\"\",\"\",①団体情報入力!C$10)","v":""},{"$f":"IF(②選手情報入力!C93=\"\",\"\",②選手情報入力!C93)","v":""},{"$f":"IF(E84=\"\",\"\",②選手情報入力!D93)","v":""},{"$f":"IF(E84=\"\",\"\",ASC(②選手情報入力!E93))","v":""},"",{"$f":"IF(E84=\"\",\"\",②選手情報入力!F93&\" \"&②選手情報入力!G93)","v":""},{"$f":"IF(E84=\"\",\"\",IF(②選手情報入力!H93=\"\",\"JPN\",LEFT(②選手情報入力!H93,3)))","v":""},{"$f":"IF(E84=\"\",\"\",IF(②選手情報入力!I93=\"男\",1,2))","v":""},{"$f":"IF(E84=\"\",\"\",IF(②選手情報入力!J93=\"\",\"\",②選手情報入力!J93))","v":""},{"$f":"IF(E84=\"\",\"\",LEFT(②選手情報入力!K93,4))","v":""},{"$f":"IF(E84=\"\",\"\",RIGHT(②選手情報入力!K93,4))","v":""},"",null,{"$f":"IF(E84=\"\",\"\",IF(②選手情報入力!L93=\"\",\"\",IF(K84=1,VLOOKUP(②選手情報入力!L93,種目情報!$A$4:$B$167,2,FALSE),VLOOKUP(②選手情報入力!L93,種目情報!$E$4:$F$142,2,FALSE))))","v":""},{"$f":"IF(E84=\"\",\"\",IF(②選手情報入力!M93=\"\",\"\",②選手情報入力!M93))","v":""},null,{"$f":"IF(E84=\"\",\"\",IF(②選手情報入力!L93=\"\",\"\",IF(K84=1,VLOOKUP(②選手情報入力!L93,種目情報!$A$4:$C$135,3,FALSE),VLOOKUP(②選手情報入力!L93,種目情報!$E$4:$G$135,3,FALSE))))","v":""},{"$f":"IF(E84=\"\",\"\",IF(②選手情報入力!O93=\"\",\"\",IF(K84=1,VLOOKUP(②選手情報入力!O93,種目情報!$A$5:$B$151,2,FALSE),VLOOKUP(②選手情報入力!O93,種目情報!$E$5:$F$135,2,FALSE))))","v":""},{"$f":"IF(E84=\"\",\"\",IF(②選手情報入力!P93=\"\",\"\",②選手情報入力!P93))","v":""},null,{"$f":"IF(E84=\"\",\"\",IF(②選手情報入力!O93=\"\",\"\",IF(K84=1,VLOOKUP(②選手情報入力!O93,種目情報!$A$5:$C$135,3,FALSE),VLOOKUP(②選手情報入力!O93,種目情報!$E$5:$G$135,3,FALSE))))","v":""},{"$f":"IF(E84=\"\",\"\",IF(②選手情報入力!R93=\"\",\"\",IF(K84=1,VLOOKUP(②選手情報入力!R93,種目情報!$A$5:$B$151,2,FALSE),VLOOKUP(②選手情報入力!R93,種目情報!$E$5:$F$135,2,FALSE))))","v":""},{"$f":"IF(E84=\"\",\"\",IF(②選手情報入力!S93=\"\",\"\",②選手情報入力!S93))","v":""},null,{"$f":"IF(E84=\"\",\"\",IF(②選手情報入力!R93=\"\",\"\",IF(K84=1,VLOOKUP(②選手情報入力!R93,種目情報!$A$5:$C$135,3,FALSE),VLOOKUP(②選手情報入力!R93,種目情報!$E$5:$G$135,3,FALSE))))","v":""},{"$f":"IF(E84=\"\",\"\",IF(②選手情報入力!T93=\"\",\"\",IF(K84=1,種目情報!$J$4,種目情報!$J$6)))","v":""},{"$f":"IF(E84=\"\",\"\",IF(②選手情報入力!T93=\"\",\"\",IF(K84=1,IF(②選手情報入力!$U$7=\"\",\"\",②選手情報入力!$U$7),IF(②選手情報入力!$U$8=\"\",\"\",②選手情報入力!$U$8))))","v":""},{"$f":"IF(E84=\"\",\"\",IF(②選手情報入力!T93=\"\",\"\",IF(K84=1,IF(②選手情報入力!$T$7=\"\",0,1),IF(②選手情報入力!$T$8=\"\",0,1))))","v":""},{"$f":"IF(E84=\"\",\"\",IF(②選手情報入力!T93=\"\",\"\",2))","v":""},{"$f":"IF(E84=\"\",\"\",IF(②選手情報入力!V93=\"\",\"\",IF(K84=1,種目情報!$J$5,種目情報!$J$7)))","v":""},{"$f":"IF(E84=\"\",\"\",IF(②選手情報入力!V93=\"\",\"\",IF(K84=1,IF(②選手情報入力!$W$7=\"\",\"\",②選手情報入力!$W$7),IF(②選手情報入力!$W$8=\"\",\"\",②選手情報入力!$W$8))))","v":""},{"$f":"IF(E84=\"\",\"\",IF(②選手情報入力!V93=\"\",\"\",IF(K84=1,IF(②選手情報入力!$V$7=\"\",0,1),IF(②選手情報入力!$V$8=\"\",0,1))))","v":""},{"$f":"IF(E84=\"\",\"\",IF(②選手情報入力!V93=\"\",\"\",2))","v":""}]
["",{"$f":"IF(E85=\"\",\"\",①団体情報入力!$C$5)","v":""},null,{"$f":"IF(E85=\"\",\"\",①団体情報入力!C$10)","v":""},{"$f":"IF(②選手情報入力!C94=\"\",\"\",②選手情報入力!C94)","v":""},{"$f":"IF(E85=\"\",\"\",②選手情報入力!D94)","v":""},{"$f":"IF(E85=\"\",\"\",ASC(②選手情報入力!E94))","v":""},"",{"$f":"IF(E85=\"\",\"\",②選手情報入力!F94&\" \"&②選手情報入力!G94)","v":""},{"$f":"IF(E85=\"\",\"\",IF(②選手情報入力!H94=\"\",\"JPN\",LEFT(②選手情報入力!H94,3)))","v":""},{"$f":"IF(E85=\"\",\"\",IF(②選手情報入力!I94=\"男\",1,2))","v":""},{"$f":"IF(E85=\"\",\"\",IF(②選手情報入力!J94=\"\",\"\",②選手情報入力!J94))","v":""},{"$f":"IF(E85=\"\",\"\",LEFT(②選手情報入力!K94,4))","v":""},{"$f":"IF(E85=\"\",\"\",RIGHT(②選手情報入力!K94,4))","v":""},"",null,{"$f":"IF(E85=\"\",\"\",IF(②選手情報入力!L94=\"\",\"\",IF(K85=1,VLOOKUP(②選手情報入力!L94,種目情報!$A$4:$B$167,2,FALSE),VLOOKUP(②選手情報入力!L94,種目情報!$E$4:$F$142,2,FALSE))))","v":""},{"$f":"IF(E85=\"\",\"\",IF(②選手情報入力!M94=\"\",\"\",②選手情報入力!M94))","v":""},null,{"$f":"IF(E85=\"\",\"\",IF(②選手情報入力!L94=\"\",\"\",IF(K85=1,VLOOKUP(②選手情報入力!L94,種目情報!$A$4:$C$135,3,FALSE),VLOOKUP(②選手情報入力!L94,種目情報!$E$4:$G$135,3,FALSE))))","v":""},{"$f":"IF(E85=\"\",\"\",IF(②選手情報入力!O94=\"\",\"\",IF(K85=1,VLOOKUP(②選手情報入力!O94,種目情報!$A$5:$B$151,2,FALSE),VLOOKUP(②選手情報入力!O94,種目情報!$E$5:$F$135,2,FALSE))))","v":""},{"$f":"IF(E85=\"\",\"\",IF(②選手情報入力!P94=\"\",\"\",②選手情報入力!P94))","v":""},null,{"$f":"IF(E85=\"\",\"\",IF(②選手情報入力!O94=\"\",\"\",IF(K85=1,VLOOKUP(②選手情報入力!O94,種目情報!$A$5:$C$135,3,FALSE),VLOOKUP(②選手情報入力!O94,種目情報!$E$5:$G$135,3,FALSE))))","v":""},{"$f":"IF(E85=\"\",\"\",IF(②選手情報入力!R94=\"\",\"\",IF(K85=1,VLOOKUP(②選手情報入力!R94,種目情報!$A$5:$B$151,2,FALSE),VLOOKUP(②選手情報入力!R94,種目情報!$E$5:$F$135,2,FALSE))))","v":""},{"$f":"IF(E85=\"\",\"\",IF(②選手情報入力!S94=\"\",\"\",②選手情報入力!S94))","v":""},null,{"$f":"IF(E85=\"\",\"\",IF(②選手情報入力!R94=\"\",\"\",IF(K85=1,VLOOKUP(②選手情報入力!R94,種目情報!$A$5:$C$135,3,FALSE),VLOOKUP(②選手情報入力!R94,種目情報!$E$5:$G$135,3,FALSE))))","v":""},{"$f":"IF(E85=\"\",\"\",IF(②選手情報入力!T94=\"\",\"\",IF(K85=1,種目情報!$J$4,種目情報!$J$6)))","v":""},{"$f":"IF(E85=\"\",\"\",IF(②選手情報入力!T94=\"\",\"\",IF(K85=1,IF(②選手情報入力!$U$7=\"\",\"\",②選手情報入力!$U$7),IF(②選手情報入力!$U$8=\"\",\"\",②選手情報入力!$U$8))))","v":""},{"$f":"IF(E85=\"\",\"\",IF(②選手情報入力!T94=\"\",\"\",IF(K85=1,IF(②選手情報入力!$T$7=\"\",0,1),IF(②選手情報入力!$T$8=\"\",0,1))))","v":""},{"$f":"IF(E85=\"\",\"\",IF(②選手情報入力!T94=\"\",\"\",2))","v":""},{"$f":"IF(E85=\"\",\"\",IF(②選手情報入力!V94=\"\",\"\",IF(K85=1,種目情報!$J$5,種目情報!$J$7)))","v":""},{"$f":"IF(E85=\"\",\"\",IF(②選手情報入力!V94=\"\",\"\",IF(K85=1,IF(②選手情報入力!$W$7=\"\",\"\",②選手情報入力!$W$7),IF(②選手情報入力!$W$8=\"\",\"\",②選手情報入力!$W$8))))","v":""},{"$f":"IF(E85=\"\",\"\",IF(②選手情報入力!V94=\"\",\"\",IF(K85=1,IF(②選手情報入力!$V$7=\"\",0,1),IF(②選手情報入力!$V$8=\"\",0,1))))","v":""},{"$f":"IF(E85=\"\",\"\",IF(②選手情報入力!V94=\"\",\"\",2))","v":""}]
["",{"$f":"IF(E86=\"\",\"\",①団体情報入力!$C$5)","v":""},null,{"$f":"IF(E86=\"\",\"\",①団体情報入力!C$10)","v":""},{"$f":"IF(②選手情報入力!C95=\"\",\"\",②選手情報入力!C95)","v":""},{"$f":"IF(E86=\"\",\"\",②選手情報入力!D95)","v":""},{"$f":"IF(E86=\"\",\"\",ASC(②選手情報入力!E95))","v":""},"",{"$f":"IF(E86=\"\",\"\",②選手情報入力!F95&\" \"&②選手情報入力!G95)","v":""},{"$f":"IF(E86=\"\",\"\",IF(②選手情報入力!H95=\"\",\"JPN\",LEFT(②選手情報入力!H95,3)))","v":""},{"$f":"IF(E86=\"\",\"\",IF(②選手情報入力!I95=\"男\",1,2))","v":""},{"$f":"IF(E86=\"\",\"\",IF(②選手情報入力!J95=\"\",\"\",②選手情報入力!J95))","v":""},{"$f":"IF(E86=\"\",\"\",LEFT(②選手情報入力!K95,4))","v":""},{"$f":"IF(E86=\"\",\"\",RIGHT(②選手情報入力!K95,4))","v":""},"",null,{"$f":"IF(E86=\"\",\"\",IF(②選手情報入力!L95=\"\",\"\",IF(K86=1,VLOOKUP(②選手情報入力!L95,種目情報!$A$4:$B$167,2,FALSE),VLOOKUP(②選手情報入力!L95,種目情報!$E$4:$F$142,2,FALSE))))","v":""},{"$f":"IF(E86=\"\",\"\",IF(②選手情報入力!M95=\"\",\"\",②選手情報入力!M95))","v":""},null,{"$f":"IF(E86=\"\",\"\",IF(②選手情報入力!L95=\"\",\"\",IF(K86=1,VLOOKUP(②選手情報入力!L95,種目情報!$A$4:$C$135,3,FALSE),VLOOKUP(②選手情報入力!L95,種目情報!$E$4:$G$135,3,FALSE))))","v":""},{"$f":"IF(E86=\"\",\"\",IF(②選手情報入力!O95=\"\",\"\",IF(K86=1,VLOOKUP(②選手情報入力!O95,種目情報!$A$5:$B$151,2,FALSE),VLOOKUP(②選手情報入力!O95,種目情報!$E$5:$F$135,2,FALSE))))","v":""},{"$f":"IF(E86=\"\",\"\",IF(②選手情報入力!P95=\"\",\"\",②選手情報入力!P95))","v":""},null,{"$f":"IF(E86=\"\",\"\",IF(②選手情報入力!O95=\"\",\"\",IF(K86=1,VLOOKUP(②選手情報入力!O95,種目情報!$A$5:$C$135,3,FALSE),VLOOKUP(②選手情報入力!O95,種目情報!$E$5:$G$135,3,FALSE))))","v":""},{"$f":"IF(E86=\"\",\"\",IF(②選手情報入力!R95=\"\",\"\",IF(K86=1,VLOOKUP(②選手情報入力!R95,種目情報!$A$5:$B$151,2,FALSE),VLOOKUP(②選手情報入力!R95,種目情報!$E$5:$F$135,2,FALSE))))","v":""},{"$f":"IF(E86=\"\",\"\",IF(②選手情報入力!S95=\"\",\"\",②選手情報入力!S95))","v":""},null,{"$f":"IF(E86=\"\",\"\",IF(②選手情報入力!R95=\"\",\"\",IF(K86=1,VLOOKUP(②選手情報入力!R95,種目情報!$A$5:$C$135,3,FALSE),VLOOKUP(②選手情報入力!R95,種目情報!$E$5:$G$135,3,FALSE))))","v":""},{"$f":"IF(E86=\"\",\"\",IF(②選手情報入力!T95=\"\",\"\",IF(K86=1,種目情報!$J$4,種目情報!$J$6)))","v":""},{"$f":"IF(E86=\"\",\"\",IF(②選手情報入力!T95=\"\",\"\",IF(K86=1,IF(②選手情報入力!$U$7=\"\",\"\",②選手情報入力!$U$7),IF(②選手情報入力!$U$8=\"\",\"\",②選手情報入力!$U$8))))","v":""},{"$f":"IF(E86=\"\",\"\",IF(②選手情報入力!T95=\"\",\"\",IF(K86=1,IF(②選手情報入力!$T$7=\"\",0,1),IF(②選手情報入力!$T$8=\"\",0,1))))","v":""},{"$f":"IF(E86=\"\",\"\",IF(②選手情報入力!T95=\"\",\"\",2))","v":""},{"$f":"IF(E86=\"\",\"\",IF(②選手情報入力!V95=\"\",\"\",IF(K86=1,種目情報!$J$5,種目情報!$J$7)))","v":""},{"$f":"IF(E86=\"\",\"\",IF(②選手情報入力!V95=\"\",\"\",IF(K86=1,IF(②選手情報入力!$W$7=\"\",\"\",②選手情報入力!$W$7),IF(②選手情報入力!$W$8=\"\",\"\",②選手情報入力!$W$8))))","v":""},{"$f":"IF(E86=\"\",\"\",IF(②選手情報入力!V95=\"\",\"\",IF(K86=1,IF(②選手情報入力!$V$7=\"\",0,1),IF(②選手情報入力!$V$8=\"\",0,1))))","v":""},{"$f":"IF(E86=\"\",\"\",IF(②選手情報入力!V95=\"\",\"\",2))","v":""}]
["",{"$f":"IF(E87=\"\",\"\",①団体情報入力!$C$5)","v":""},null,{"$f":"IF(E87=\"\",\"\",①団体情報入力!C$10)","v":""},{"$f":"IF(②選手情報入力!C96=\"\",\"\",②選手情報入力!C96)","v":""},{"$f":"IF(E87=\"\",\"\",②選手情報入力!D96)","v":""},{"$f":"IF(E87=\"\",\"\",ASC(②選手情報入力!E96))","v":""},"",{"$f":"IF(E87=\"\",\"\",②選手情報入力!F96&\" \"&②選手情報入力!G96)","v":""},{"$f":"IF(E87=\"\",\"\",IF(②選手情報入力!H96=\"\",\"JPN\",LEFT(②選手情報入力!H96,3)))","v":""},{"$f":"IF(E87=\"\",\"\",IF(②選手情報入力!I96=\"男\",1,2))","v":""},{"$f":"IF(E87=\"\",\"\",IF(②選手情報入力!J96=\"\",\"\",②選手情報入力!J96))","v":""},{"$f":"IF(E87=\"\",\"\",LEFT(②選手情報入力!K96,4))","v":""},{"$f":"IF(E87=\"\",\"\",RIGHT(②選手情報入力!K96,4))","v":""},"",null,{"$f":"IF(E87=\"\",\"\",IF(②選手情報入力!L96=\"\",\"\",IF(K87=1,VLOOKUP(②選手情報入力!L96,種目情報!$A$4:$B$167,2,FALSE),VLOOKUP(②選手情報入力!L96,種目情報!$E$4:$F$142,2,FALSE))))","v":""},{"$f":"IF(E87=\"\",\"\",IF(②選手情報入力!M96=\"\",\"\",②選手情報入力!M96))","v":""},null,{"$f":"IF(E87=\"\",\"\",IF(②選手情報入力!L96=\"\",\"\",IF(K87=1,VLOOKUP(②選手情報入力!L96,種目情報!$A$4:$C$135,3,FALSE),VLOOKUP(②選手情報入力!L96,種目情報!$E$4:$G$135,3,FALSE))))","v":""},{"$f":"IF(E87=\"\",\"\",IF(②選手情報入力!O96=\"\",\"\",IF(K87=1,VLOOKUP(②選手情報入力!O96,種目情報!$A$5:$B$151,2,FALSE),VLOOKUP(②選手情報入力!O96,種目情報!$E$5:$F$135,2,FALSE))))","v":""},{"$f":"IF(E87=\"\",\"\",IF(②選手情報入力!P96=\"\",\"\",②選手情報入力!P96))","v":""},null,{"$f":"IF(E87=\"\",\"\",IF(②選手情報入力!O96=\"\",\"\",IF(K87=1,VLOOKUP(②選手情報入力!O96,種目情報!$A$5:$C$135,3,FALSE),VLOOKUP(②選手情報入力!O96,種目情報!$E$5:$G$135,3,FALSE))))","v":""},{"$f":"IF(E87=\"\",\"\",IF(②選手情報入力!R96=\"\",\"\",IF(K87=1,VLOOKUP(②選手情報入力!R96,種目情報!$A$5:$B$151,2,FALSE),VLOOKUP(②選手情報入力!R96,種目情報!$E$5:$F$135,2,FALSE))))","v":""},{"$f":"IF(E87=\"\",\"\",IF(②選手情報入力!S96=\"\",\"\",②選手情報入力!S96))","v":""},null,{"$f":"IF(E87=\"\",\"\",IF(②選手情報入力!R96=\"\",\"\",IF(K87=1,VLOOKUP(②選手情報入力!R96,種目情報!$A$5:$C$135,3,FALSE),VLOOKUP(②選手情報入力!R96,種目情報!$E$5:$G$135,3,FALSE))))","v":""},{"$f":"IF(E87=\"\",\"\",IF(②選手情報入力!T96=\"\",\"\",IF(K87=1,種目情報!$J$4,種目情報!$J$6)))","v":""},{"$f":"IF(E87=\"\",\"\",IF(②選手情報入力!T96=\"\",\"\",IF(K87=1,IF(②選手情報入力!$U$7=\"\",\"\",②選手情報入力!$U$7),IF(②選手情報入力!$U$8=\"\",\"\",②選手情報入力!$U$8))))","v":""},{"$f":"IF(E87=\"\",\"\",IF(②選手情報入力!T96=\"\",\"\",IF(K87=1,IF(②選手情報入力!$T$7=\"\",0,1),IF(②選手情報入力!$T$8=\"\",0,1))))","v":""},{"$f":"IF(E87=\"\",\"\",IF(②選手情報入力!T96=\"\",\"\",2))","v":""},{"$f":"IF(E87=\"\",\"\",IF(②選手情報入力!V96=\"\",\"\",IF(K87=1,種目情報!$J$5,種目情報!$J$7)))","v":""},{"$f":"IF(E87=\"\",\"\",IF(②選手情報入力!V96=\"\",\"\",IF(K87=1,IF(②選手情報入力!$W$7=\"\",\"\",②選手情報入力!$W$7),IF(②選手情報入力!$W$8=\"\",\"\",②選手情報入力!$W$8))))","v":""},{"$f":"IF(E87=\"\",\"\",IF(②選手情報入力!V96=\"\",\"\",IF(K87=1,IF(②選手情報入力!$V$7=\"\",0,1),IF(②選手情報入力!$V$8=\"\",0,1))))","v":""},{"$f":"IF(E87=\"\",\"\",IF(②選手情報入力!V96=\"\",\"\",2))","v":""}]
["",{"$f":"IF(E88=\"\",\"\",①団体情報入力!$C$5)","v":""},null,{"$f":"IF(E88=\"\",\"\",①団体情報入力!C$10)","v":""},{"$f":"IF(②選手情報入力!C97=\"\",\"\",②選手情報入力!C97)","v":""},{"$f":"IF(E88=\"\",\"\",②選手情報入力!D97)","v":""},{"$f":"IF(E88=\"\",\"\",ASC(②選手情報入力!E97))","v":""},"",{"$f":"IF(E88=\"\",\"\",②選手情報入力!F97&\" \"&②選手情報入力!G97)","v":""},{"$f":"IF(E88=\"\",\"\",IF(②選手情報入力!H97=\"\",\"JPN\",LEFT(②選手情報入力!H97,3)))","v":""},{"$f":"IF(E88=\"\",\"\",IF(②選手情報入力!I97=\"男\",1,2))","v":""},{"$f":"IF(E88=\"\",\"\",IF(②選手情報入力!J97=\"\",\"\",②選手情報入力!J97))","v":""},{"$f":"IF(E88=\"\",\"\",LEFT(②選手情報入力!K97,4))","v":""},{"$f":"IF(E88=\"\",\"\",RIGHT(②選手情報入力!K97,4))","v":""},"",null,{"$f":"IF(E88=\"\",\"\",IF(②選手情報入力!L97=\"\",\"\",IF(K88=1,VLOOKUP(②選手情報入力!L97,種目情報!$A$4:$B$167,2,FALSE),VLOOKUP(②選手情報入力!L97,種目情報!$E$4:$F$142,2,FALSE))))","v":""},{"$f":"IF(E88=\"\",\"\",IF(②選手情報入力!M97=\"\",\"\",②選手情報入力!M97))","v":""},null,{"$f":"IF(E88=\"\",\"\",IF(②選手情報入力!L97=\"\",\"\",IF(K88=1,VLOOKUP(②選手情報入力!L97,種目情報!$A$4:$C$135,3,FALSE),VLOOKUP(②選手情報入力!L97,種目情報!$E$4:$G$135,3,FALSE))))","v":""},{"$f":"IF(E88=\"\",\"\",IF(②選手情報入力!O97=\"\",\"\",IF(K88=1,VLOOKUP(②選手情報入力!O97,種目情報!$A$5:$B$151,2,FALSE),VLOOKUP(②選手情報入力!O97,種目情報!$E$5:$F$135,2,FALSE))))","v":""},{"$f":"IF(E88=\"\",\"\",IF(②選手情報入力!P97=\"\",\"\",②選手情報入力!P97))","v":""},null,{"$f":"IF(E88=\"\",\"\",IF(②選手情報入力!O97=\"\",\"\",IF(K88=1,VLOOKUP(②選手情報入力!O97,種目情報!$A$5:$C$135,3,FALSE),VLOOKUP(②選手情報入力!O97,種目情報!$E$5:$G$135,3,FALSE))))","v":""},{"$f":"IF(E88=\"\",\"\",IF(②選手情報入力!R97=\"\",\"\",IF(K88=1,VLOOKUP(②選手情報入力!R97,種目情報!$A$5:$B$151,2,FALSE),VLOOKUP(②選手情報入力!R97,種目情報!$E$5:$F$135,2,FALSE))))","v":""},{"$f":"IF(E88=\"\",\"\",IF(②選手情報入力!S97=\"\",\"\",②選手情報入力!S97))","v":""},null,{"$f":"IF(E88=\"\",\"\",IF(②選手情報入力!R97=\"\",\"\",IF(K88=1,VLOOKUP(②選手情報入力!R97,種目情報!$A$5:$C$135,3,FALSE),VLOOKUP(②選手情報入力!R97,種目情報!$E$5:$G$135,3,FALSE))))","v":""},{"$f":"IF(E88=\"\",\"\",IF(②選手情報入力!T97=\"\",\"\",IF(K88=1,種目情報!$J$4,種目情報!$J$6)))","v":""},{"$f":"IF(E88=\"\",\"\",IF(②選手情報入力!T97=\"\",\"\",IF(K88=1,IF(②選手情報入力!$U$7=\"\",\"\",②選手情報入力!$U$7),IF(②選手情報入力!$U$8=\"\",\"\",②選手情報入力!$U$8))))","v":""},{"$f":"IF(E88=\"\",\"\",IF(②選手情報入力!T97=\"\",\"\",IF(K88=1,IF(②選手情報入力!$T$7=\"\",0,1),IF(②選手情報入力!$T$8=\"\",0,1))))","v":""},{"$f":"IF(E88=\"\",\"\",IF(②選手情報入力!T97=\"\",\"\",2))","v":""},{"$f":"IF(E88=\"\",\"\",IF(②選手情報入力!V97=\"\",\"\",IF(K88=1,種目情報!$J$5,種目情報!$J$7)))","v":""},{"$f":"IF(E88=\"\",\"\",IF(②選手情報入力!V97=\"\",\"\",IF(K88=1,IF(②選手情報入力!$W$7=\"\",\"\",②選手情報入力!$W$7),IF(②選手情報入力!$W$8=\"\",\"\",②選手情報入力!$W$8))))","v":""},{"$f":"IF(E88=\"\",\"\",IF(②選手情報入力!V97=\"\",\"\",IF(K88=1,IF(②選手情報入力!$V$7=\"\",0,1),IF(②選手情報入力!$V$8=\"\",0,1))))","v":""},{"$f":"IF(E88=\"\",\"\",IF(②選手情報入力!V97=\"\",\"\",2))","v":""}]
["",{"$f":"IF(E89=\"\",\"\",①団体情報入力!$C$5)","v":""},null,{"$f":"IF(E89=\"\",\"\",①団体情報入力!C$10)","v":""},{"$f":"IF(②選手情報入力!C98=\"\",\"\",②選手情報入力!C98)","v":""},{"$f":"IF(E89=\"\",\"\",②選手情報入力!D98)","v":""},{"$f":"IF(E89=\"\",\"\",ASC(②選手情報入力!E98))","v":""},"",{"$f":"IF(E89=\"\",\"\",②選手情報入力!F98&\" \"&②選手情報入力!G98)","v":""},{"$f":"IF(E89=\"\",\"\",IF(②選手情報入力!H98=\"\",\"JPN\",LEFT(②選手情報入力!H98,3)))","v":""},{"$f":"IF(E89=\"\",\"\",IF(②選手情報入力!I98=\"男\",1,2))","v":""},{"$f":"IF(E89=\"\",\"\",IF(②選手情報入力!J98=\"\",\"\",②選手情報入力!J98))","v":""},{"$f":"IF(E89=\"\",\"\",LEFT(②選手情報入力!K98,4))","v":""},{"$f":"IF(E89=\"\",\"\",RIGHT(②選手情報入力!K98,4))","v":""},"",null,{"$f":"IF(E89=\"\",\"\",IF(②選手情報入力!L98=\"\",\"\",IF(K89=1,VLOOKUP(②選手情報入力!L98,種目情報!$A$4:$B$167,2,FALSE),VLOOKUP(②選手情報入力!L98,種目情報!$E$4:$F$142,2,FALSE))))","v":""},{"$f":"IF(E89=\"\",\"\",IF(②選手情報入力!M98=\"\",\"\",②選手情報入力!M98))","v":""},null,{"$f":"IF(E89=\"\",\"\",IF(②選手情報入力!L98=\"\",\"\",IF(K89=1,VLOOKUP(②選手情報入力!L98,種目情報!$A$4:$C$135,3,FALSE),VLOOKUP(②選手情報入力!L98,種目情報!$E$4:$G$135,3,FALSE))))","v":""},{"$f":"IF(E89=\"\",\"\",IF(②選手情報入力!O98=\"\",\"\",IF(K89=1,VLOOKUP(②選手情報入力!O98,種目情報!$A$5:$B$151,2,FALSE),VLOOKUP(②選手情報入力!O98,種目情報!$E$5:$F$135,2,FALSE))))","v":""},{"$f":"IF(E89=\"\",\"\",IF(②選手情報入力!P98=\"\",\"\",②選手情報入力!P98))","v":""},null,{"$f":"IF(E89=\"\",\"\",IF(②選手情報入力!O98=\"\",\"\",IF(K89=1,VLOOKUP(②選手情報入力!O98,種目情報!$A$5:$C$135,3,FALSE),VLOOKUP(②選手情報入力!O98,種目情報!$E$5:$G$135,3,FALSE))))","v":""},{"$f":"IF(E89=\"\",\"\",IF(②選手情報入力!R98=\"\",\"\",IF(K89=1,VLOOKUP(②選手情報入力!R98,種目情報!$A$5:$B$151,2,FALSE),VLOOKUP(②選手情報入力!R98,種目情報!$E$5:$F$135,2,FALSE))))","v":""},{"$f":"IF(E89=\"\",\"\",IF(②選手情報入力!S98=\"\",\"\",②選手情報入力!S98))","v":""},null,{"$f":"IF(E89=\"\",\"\",IF(②選手情報入力!R98=\"\",\"\",IF(K89=1,VLOOKUP(②選手情報入力!R98,種目情報!$A$5:$C$135,3,FALSE),VLOOKUP(②選手情報入力!R98,種目情報!$E$5:$G$135,3,FALSE))))","v":""},{"$f":"IF(E89=\"\",\"\",IF(②選手情報入力!T98=\"\",\"\",IF(K89=1,種目情報!$J$4,種目情報!$J$6)))","v":""},{"$f":"IF(E89=\"\",\"\",IF(②選手情報入力!T98=\"\",\"\",IF(K89=1,IF(②選手情報入力!$U$7=\"\",\"\",②選手情報入力!$U$7),IF(②選手情報入力!$U$8=\"\",\"\",②選手情報入力!$U$8))))","v":""},{"$f":"IF(E89=\"\",\"\",IF(②選手情報入力!T98=\"\",\"\",IF(K89=1,IF(②選手情報入力!$T$7=\"\",0,1),IF(②選手情報入力!$T$8=\"\",0,1))))","v":""},{"$f":"IF(E89=\"\",\"\",IF(②選手情報入力!T98=\"\",\"\",2))","v":""},{"$f":"IF(E89=\"\",\"\",IF(②選手情報入力!V98=\"\",\"\",IF(K89=1,種目情報!$J$5,種目情報!$J$7)))","v":""},{"$f":"IF(E89=\"\",\"\",IF(②選手情報入力!V98=\"\",\"\",IF(K89=1,IF(②選手情報入力!$W$7=\"\",\"\",②選手情報入力!$W$7),IF(②選手情報入力!$W$8=\"\",\"\",②選手情報入力!$W$8))))","v":""},{"$f":"IF(E89=\"\",\"\",IF(②選手情報入力!V98=\"\",\"\",IF(K89=1,IF(②選手情報入力!$V$7=\"\",0,1),IF(②選手情報入力!$V$8=\"\",0,1))))","v":""},{"$f":"IF(E89=\"\",\"\",IF(②選手情報入力!V98=\"\",\"\",2))","v":""}]
["",{"$f":"IF(E90=\"\",\"\",①団体情報入力!$C$5)","v":""},null,{"$f":"IF(E90=\"\",\"\",①団体情報入力!C$10)","v":""},{"$f":"IF(②選手情報入力!C99=\"\",\"\",②選手情報入力!C99)","v":""},{"$f":"IF(E90=\"\",\"\",②選手情報入力!D99)","v":""},{"$f":"IF(E90=\"\",\"\",ASC(②選手情報入力!E99))","v":""},"",{"$f":"IF(E90=\"\",\"\",②選手情報入力!F99&\" \"&②選手情報入力!G99)","v":""},{"$f":"IF(E90=\"\",\"\",IF(②選手情報入力!H99=\"\",\"JPN\",LEFT(②選手情報入力!H99,3)))","v":""},{"$f":"IF(E90=\"\",\"\",IF(②選手情報入力!I99=\"男\",1,2))","v":""},{"$f":"IF(E90=\"\",\"\",IF(②選手情報入力!J99=\"\",\"\",②選手情報入力!J99))","v":""},{"$f":"IF(E90=\"\",\"\",LEFT(②選手情報入力!K99,4))","v":""},{"$f":"IF(E90=\"\",\"\",RIGHT(②選手情報入力!K99,4))","v":""},"",null,{"$f":"IF(E90=\"\",\"\",IF(②選手情報入力!L99=\"\",\"\",IF(K90=1,VLOOKUP(②選手情報入力!L99,種目情報!$A$4:$B$167,2,FALSE),VLOOKUP(②選手情報入力!L99,種目情報!$E$4:$F$142,2,FALSE))))","v":""},{"$f":"IF(E90=\"\",\"\",IF(②選手情報入力!M99=\"\",\"\",②選手情報入力!M99))","v":""},null,{"$f":"IF(E90=\"\",\"\",IF(②選手情報入力!L99=\"\",\"\",IF(K90=1,VLOOKUP(②選手情報入力!L99,種目情報!$A$4:$C$135,3,FALSE),VLOOKUP(②選手情報入力!L99,種目情報!$E$4:$G$135,3,FALSE))))","v":""},{"$f":"IF(E90=\"\",\"\",IF(②選手情報入力!O99=\"\",\"\",IF(K90=1,VLOOKUP(②選手情報入力!O99,種目情報!$A$5:$B$151,2,FALSE),VLOOKUP(②選手情報入力!O99,種目情報!$E$5:$F$135,2,FALSE))))","v":""},{"$f":"IF(E90=\"\",\"\",IF(②選手情報入力!P99=\"\",\"\",②選手情報入力!P99))","v":""},null,{"$f":"IF(E90=\"\",\"\",IF(②選手情報入力!O99=\"\",\"\",IF(K90=1,VLOOKUP(②選手情報入力!O99,種目情報!$A$5:$C$135,3,FALSE),VLOOKUP(②選手情報入力!O99,種目情報!$E$5:$G$135,3,FALSE))))","v":""},{"$f":"IF(E90=\"\",\"\",IF(②選手情報入力!R99=\"\",\"\",IF(K90=1,VLOOKUP(②選手情報入力!R99,種目情報!$A$5:$B$151,2,FALSE),VLOOKUP(②選手情報入力!R99,種目情報!$E$5:$F$135,2,FALSE))))","v":""},{"$f":"IF(E90=\"\",\"\",IF(②選手情報入力!S99=\"\",\"\",②選手情報入力!S99))","v":""},null,{"$f":"IF(E90=\"\",\"\",IF(②選手情報入力!R99=\"\",\"\",IF(K90=1,VLOOKUP(②選手情報入力!R99,種目情報!$A$5:$C$135,3,FALSE),VLOOKUP(②選手情報入力!R99,種目情報!$E$5:$G$135,3,FALSE))))","v":""},{"$f":"IF(E90=\"\",\"\",IF(②選手情報入力!T99=\"\",\"\",IF(K90=1,種目情報!$J$4,種目情報!$J$6)))","v":""},{"$f":"IF(E90=\"\",\"\",IF(②選手情報入力!T99=\"\",\"\",IF(K90=1,IF(②選手情報入力!$U$7=\"\",\"\",②選手情報入力!$U$7),IF(②選手情報入力!$U$8=\"\",\"\",②選手情報入力!$U$8))))","v":""},{"$f":"IF(E90=\"\",\"\",IF(②選手情報入力!T99=\"\",\"\",IF(K90=1,IF(②選手情報入力!$T$7=\"\",0,1),IF(②選手情報入力!$T$8=\"\",0,1))))","v":""},{"$f":"IF(E90=\"\",\"\",IF(②選手情報入力!T99=\"\",\"\",2))","v":""},{"$f":"IF(E90=\"\",\"\",IF(②選手情報入力!V99=\"\",\"\",IF(K90=1,種目情報!$J$5,種目情報!$J$7)))","v":""},{"$f":"IF(E90=\"\",\"\",IF(②選手情報入力!V99=\"\",\"\",IF(K90=1,IF(②選手情報入力!$W$7=\"\",\"\",②選手情報入力!$W$7),IF(②選手情報入力!$W$8=\"\",\"\",②選手情報入力!$W$8))))","v":""},{"$f":"IF(E90=\"\",\"\",IF(②選手情報入力!V99=\"\",\"\",IF(K90=1,IF(②選手情報入力!$V$7=\"\",0,1),IF(②選手情報入力!$V$8=\"\",0,1))))","v":""},{"$f":"IF(E90=\"\",\"\",IF(②選手情報入力!V99=\"\",\"\",2))","v":""}]
["",{"$f":"IF(E91=\"\",\"\",①団体情報入力!$C$5)","v":""},null,{"$f":"IF(E91=\"\",\"\",①団体情報入力!C$10)","v":""},{"$f":"IF(②選手情報入力!C100=\"\",\"\",②選手情報入力!C100)","v":""},{"$f":"IF(E91=\"\",\"\",②選手情報入力!D100)","v":""},{"$f":"IF(E91=\"\",\"\",ASC(②選手情報入力!E100))","v":""},"",{"$f":"IF(E91=\"\",\"\",②選手情報入力!F100&\" \"&②選手情報入力!G100)","v":""},{"$f":"IF(E91=\"\",\"\",IF(②選手情報入力!H100=\"\",\"JPN\",LEFT(②選手情報入力!H100,3)))","v":""},{"$f":"IF(E91=\"\",\"\",IF(②選手情報入力!I100=\"男\",1,2))","v":""},{"$f":"IF(E91=\"\",\"\",IF(②選手情報入力!J100=\"\",\"\",②選手情報入力!J100))","v":""},{"$f":"IF(E91=\"\",\"\",LEFT(②選手情報入力!K100,4))","v":""},{"$f":"IF(E91=\"\",\"\",RIGHT(②選手情報入力!K100,4))","v":""},"",null,{"$f":"IF(E91=\"\",\"\",IF(②選手情報入力!L100=\"\",\"\",IF(K91=1,VLOOKUP(②選手情報入力!L100,種目情報!$A$4:$B$167,2,FALSE),VLOOKUP(②選手情報入力!L100,種目情報!$E$4:$F$142,2,FALSE))))","v":""},{"$f":"IF(E91=\"\",\"\",IF(②選手情報入力!M100=\"\",\"\",②選手情報入力!M100))","v":""},null,{"$f":"IF(E91=\"\",\"\",IF(②選手情報入力!L100=\"\",\"\",IF(K91=1,VLOOKUP(②選手情報入力!L100,種目情報!$A$4:$C$135,3,FALSE),VLOOKUP(②選手情報入力!L100,種目情報!$E$4:$G$135,3,FALSE))))","v":""},{"$f":"IF(E91=\"\",\"\",IF(②選手情報入力!O100=\"\",\"\",IF(K91=1,VLOOKUP(②選手情報入力!O100,種目情報!$A$5:$B$151,2,FALSE),VLOOKUP(②選手情報入力!O100,種目情報!$E$5:$F$135,2,FALSE))))","v":""},{"$f":"IF(E91=\"\",\"\",IF(②選手情報入力!P100=\"\",\"\",②選手情報入力!P100))","v":""},null,{"$f":"IF(E91=\"\",\"\",IF(②選手情報入力!O100=\"\",\"\",IF(K91=1,VLOOKUP(②選手情報入力!O100,種目情報!$A$5:$C$135,3,FALSE),VLOOKUP(②選手情報入力!O100,種目情報!$E$5:$G$135,3,FALSE))))","v":""},{"$f":"IF(E91=\"\",\"\",IF(②選手情報入力!R100=\"\",\"\",IF(K91=1,VLOOKUP(②選手情報入力!R100,種目情報!$A$5:$B$151,2,FALSE),VLOOKUP(②選手情報入力!R100,種目情報!$E$5:$F$135,2,FALSE))))","v":""},{"$f":"IF(E91=\"\",\"\",IF(②選手情報入力!S100=\"\",\"\",②選手情報入力!S100))","v":""},null,{"$f":"IF(E91=\"\",\"\",IF(②選手情報入力!R100=\"\",\"\",IF(K91=1,VLOOKUP(②選手情報入力!R100,種目情報!$A$5:$C$135,3,FALSE),VLOOKUP(②選手情報入力!R100,種目情報!$E$5:$G$135,3,FALSE))))","v":""},{"$f":"IF(E91=\"\",\"\",IF(②選手情報入力!T100=\"\",\"\",IF(K91=1,種目情報!$J$4,種目情報!$J$6)))","v":""},{"$f":"IF(E91=\"\",\"\",IF(②選手情報入力!T100=\"\",\"\",IF(K91=1,IF(②選手情報入力!$U$7=\"\",\"\",②選手情報入力!$U$7),IF(②選手情報入力!$U$8=\"\",\"\",②選手情報入力!$U$8))))","v":""},{"$f":"IF(E91=\"\",\"\",IF(②選手情報入力!T100=\"\",\"\",IF(K91=1,IF(②選手情報入力!$T$7=\"\",0,1),IF(②選手情報入力!$T$8=\"\",0,1))))","v":""},{"$f":"IF(E91=\"\",\"\",IF(②選手情報入力!T100=\"\",\"\",2))","v":""},{"$f":"IF(E91=\"\",\"\",IF(②選手情報入力!V100=\"\",\"\",IF(K91=1,種目情報!$J$5,種目情報!$J$7)))","v":""},{"$f":"IF(E91=\"\",\"\",IF(②選手情報入力!V100=\"\",\"\",IF(K91=1,IF(②選手情報入力!$W$7=\"\",\"\",②選手情報入力!$W$7),IF(②選手情報入力!$W$8=\"\",\"\",②選手情報入力!$W$8))))","v":""},{"$f":"IF(E91=\"\",\"\",IF(②選手情報入力!V100=\"\",\"\",IF(K91=1,IF(②選手情報入力!$V$7=\"\",0,1),IF(②選手情報入力!$V$8=\"\",0,1))))","v":""},{"$f":"IF(E91=\"\",\"\",IF(②選手情報入力!V100=\"\",\"\",2))","v":""}]

{"sheet":"data_team","index":14,"n_rows":25,"n_cols":13,"rows_kept":25,"cut":false,"hidden":false,"merged":[]}
["チームNO","所属コード","チーム名","チーム名カナ","チーム名略称","チーム正式名称","ID","競技者NO","競技者名","参加競技-競技コード","参加競技-自己記録","参加競技-オープン参加FLG","参加競技-記録FLG"]
[{"$f":"IF(③リレー情報確認!C8=\"\",\"\",410000+①団体情報入力!$C$5*10)","v":""},{"$f":"IF(A2=\"\",\"\",①団体情報入力!$C$5)","v":""},{"$f":"IF(A2=\"\",\"\",③リレー情報確認!$J$1)","v":""},{"$f":"IF(A2=\"\",\"\",③リレー情報確認!$P$1)","v":""},null,null,1,{"$f":"IF(A2=\"\",\"\",③リレー情報確認!E8)","v":""},{"$f":"IF(A2=\"\",\"\",③リレー情報確認!D8)","v":""},"",{"$f":"IF(A2=\"\",\"\",③リレー情報確認!$F$8)","v":""},{"$f":"IF(A2=\"\",\"\",IF(②選手情報入力!$T$6=\"\",0,1))","v":""},""]
[{"$f":"IF(③リレー情報確認!C9=\"\",\"\",410000+①団体情報入力!$C$5*10)","v":""},{"$f":"IF(A3=\"\",\"\",①団体情報入力!$C$5)","v":""},{"$f":"IF(A3=\"\",\"\",③リレー情報確認!$J$1)","v":""},{"$f":"IF(A3=\"\",\"\",③リレー情報確認!$P$1)","v":""},null,null,2,{"$f":"IF(A3=\"\",\"\",③リレー情報確認!E9)","v":""},{"$f":"IF(A3=\"\",\"\",③リレー情報確認!D9)","v":""},"",{"$f":"IF(A3=\"\",\"\",③リレー情報確認!$F$8)","v":""},{"$f":"IF(A3=\"\",\"\",IF(②選手情報入力!$T$6=\"\",0,1))","v":""},""]
[{"$f":"IF(③リレー情報確認!C10=\"\",\"\",410000+①団体情報入力!$C$5*10)","v":""},{"$f":"IF(A4=\"\",\"\",①団体情報入力!$C$5)","v":""},{"$f":"IF(A4=\"\",\"\",③リレー情報確認!$J$1)","v":""},{"$f":"IF(A4=\"\",\"\",③リレー情報確認!$P$1)","v":""},null,null,3,{"$f":"IF(A4=\"\",\"\",③リレー情報確認!E10)","v":""},{"$f":"IF(A4=\"\",\"\",③リレー情報確認!D10)","v":""},"",{"$f":"IF(A4=\"\",\"\",③リレー情報確認!$F$8)","v":""},{"$f":"IF(A4=\"\",\"\",IF(②選手情報入力!$T$6=\"\",0,1))","v":""},""]
[{"$f":"IF(③リレー情報確認!C11=\"\",\"\",410000+①団体情報入力!$C$5*10)","v":""},{"$f":"IF(A5=\"\",\"\",①団体情報入力!$C$5)","v":""},{"$f":"IF(A5=\"\",\"\",③リレー情報確認!$J$1)","v":""},{"$f":"IF(A5=\"\",\"\",③リレー情報確認!$P$1)","v":""},null,null,4,{"$f":"IF(A5=\"\",\"\",③リレー情報確認!E11)","v":""},{"$f":"IF(A5=\"\",\"\",③リレー情報確認!D11)","v":""},"",{"$f":"IF(A5=\"\",\"\",③リレー情報確認!$F$8)","v":""},{"$f":"IF(A5=\"\",\"\",IF(②選手情報入力!$T$6=\"\",0,1))","v":""},""]
[{"$f":"IF(③リレー情報確認!C12=\"\",\"\",410000+①団体情報入力!$C$5*10)","v":""},{"$f":"IF(A6=\"\",\"\",①団体情報入力!$C$5)","v":""},{"$f":"IF(A6=\"\",\"\",③リレー情報確認!$J$1)","v":""},{"$f":"IF(A6=\"\",\"\",③リレー情報確認!$P$1)","v":""},null,null,5,{"$f":"IF(A6=\"\",\"\",③リレー情報確認!E12)","v":""},{"$f":"IF(A6=\"\",\"\",③リレー情報確認!D12)","v":""},"",{"$f":"IF(A6=\"\",\"\",③リレー情報確認!$F$8)","v":""},{"$f":"IF(A6=\"\",\"\",IF(②選手情報入力!$T$6=\"\",0,1))","v":""},""]
[{"$f":"IF(③リレー情報確認!C13=\"\",\"\",410000+①団体情報入力!$C$5*10)","v":""},{"$f":"IF(A7=\"\",\"\",①団体情報入力!$C$5)","v":""},{"$f":"IF(A7=\"\",\"\",③リレー情報確認!$J$1)","v":""},{"$f":"IF(A7=\"\",\"\",③リレー情報確認!$P$1)","v":""},null,null,6,{"$f":"IF(A7=\"\",\"\",③リレー情報確認!E13)","v":""},{"$f":"IF(A7=\"\",\"\",③リレー情報確認!D13)","v":""},"",{"$f":"IF(A7=\"\",\"\",③リレー情報確認!$F$8)","v":""},{"$f":"IF(A7=\"\",\"\",IF(②選手情報入力!$T$6=\"\",0,1))","v":""},""]
[{"$f":"IF(③リレー情報確認!I8=\"\",\"\",1610000+①団体情報入力!$C$5*10)","v":""},{"$f":"IF(A8=\"\",\"\",①団体情報入力!$C$5)","v":""},{"$f":"IF(A8=\"\",\"\",③リレー情報確認!$J$1)","v":""},{"$f":"IF(A8=\"\",\"\",③リレー情報確認!$P$1)","v":""},null,null,1,{"$f":"IF(A8=\"\",\"\",③リレー情報確認!K8)","v":""},{"$f":"IF(A8=\"\",\"\",③リレー情報確認!J8)","v":""},"",{"$f":"IF(A8=\"\",\"\",③リレー情報確認!$L$8)","v":""},{"$f":"IF(A8=\"\",\"\",IF(②選手情報入力!$T$7=\"\",0,1))","v":""},""]
[{"$f":"IF(③リレー情報確認!I9=\"\",\"\",1610000+①団体情報入力!$C$5*10)","v":""},{"$f":"IF(A9=\"\",\"\",①団体情報入力!$C$5)","v":""},{"$f":"IF(A9=\"\",\"\",③リレー情報確認!$J$1)","v":""},{"$f":"IF(A9=\"\",\"\",③リレー情報確認!$P$1)","v":""},null,null,2,{"$f":"IF(A9=\"\",\"\",③リレー情報確認!K9)","v":""},{"$f":"IF(A9=\"\",\"\",③リレー情報確認!J9)","v":""},"",{"$f":"IF(A9=\"\",\"\",③リレー情報確認!$L$8)","v":""},{"$f":"IF(A9=\"\",\"\",IF(②選手情報入力!$T$7=\"\",0,1))","v":""},""]
[{"$f":"IF(③リレー情報確認!I10=\"\",\"\",1610000+①団体情報入力!$C$5*10)","v":""},{"$f":"IF(A10=\"\",\"\",①団体情報入力!$C$5)","v":""},{"$f":"IF(A10=\"\",\"\",③リレー情報確認!$J$1)","v":""},{"$f":"IF(A10=\"\",\"\",③リレー情報確認!$P$1)","v":""},null,null,3,{"$f":"IF(A10=\"\",\"\",③リレー情報確認!K10)","v":""},{"$f":"IF(A10=\"\",\"\",③リレー情報確認!J10)","v":""},"",{"$f":"IF(A10=\"\",\"\",③リレー情報確認!$L$8)","v":""},{"$f":"IF(A10=\"\",\"\",IF(②選手情報入力!$T$7=\"\",0,1))","v":""},""]
[{"$f":"IF(③リレー情報確認!I11=\"\",\"\",1610000+①団体情報入力!$C$5*10)","v":""},{"$f":"IF(A11=\"\",\"\",①団体情報入力!$C$5)","v":""},{"$f":"IF(A11=\"\",\"\",③リレー情報確認!$J$1)","v":""},{"$f":"IF(A11=\"\",\"\",③リレー情報確認!$P$1)","v":""},null,null,4,{"$f":"IF(A11=\"\",\"\",③リレー情報確認!K11)","v":""},{"$f":"IF(A11=\"\",\"\",③リレー情報確認!J11)","v":""},"",{"$f":"IF(A11=\"\",\"\",③リレー情報確認!$L$8)","v":""},{"$f":"IF(A11=\"\",\"\",IF(②選手情報入力!$T$7=\"\",0,1))","v":""},""]
[{"$f":"IF(③リレー情報確認!I12=\"\",\"\",1610000+①団体情報入力!$C$5*10)","v":""},{"$f":"IF(A12=\"\",\"\",①団体情報入力!$C$5)","v":""},{"$f":"IF(A12=\"\",\"\",③リレー情報確認!$J$1)","v":""},{"$f":"IF(A12=\"\",\"\",③リレー情報確認!$P$1)","v":""},null,null,5,{"$f":"IF(A12=\"\",\"\",③リレー情報確認!K12)","v":""},{"$f":"IF(A12=\"\",\"\",③リレー情報確認!J12)","v":""},"",{"$f":"IF(A12=\"\",\"\",③リレー情報確認!$L$8)","v":""},{"$f":"IF(A12=\"\",\"\",IF(②選手情報入力!$T$7=\"\",0,1))","v":""},""]
[{"$f":"IF(③リレー情報確認!I13=\"\",\"\",1610000+①団体情報入力!$C$5*10)","v":""},{"$f":"IF(A13=\"\",\"\",①団体情報入力!$C$5)","v":""},{"$f":"IF(A13=\"\",\"\",③リレー情報確認!$J$1)","v":""},{"$f":"IF(A13=\"\",\"\",③リレー情報確認!$P$1)","v":""},null,null,6,{"$f":"IF(A13=\"\",\"\",③リレー情報確認!K13)","v":""},{"$f":"IF(A13=\"\",\"\",③リレー情報確認!J13)","v":""},"",{"$f":"IF(A13=\"\",\"\",③リレー情報確認!$L$8)","v":""},{"$f":"IF(A13=\"\",\"\",IF(②選手情報入力!$T$7=\"\",0,1))","v":""},""]
[{"$f":"IF(③リレー情報確認!O8=\"\",\"\",420000+①団体情報入力!$C$5*10)","v":""},{"$f":"IF(A14=\"\",\"\",①団体情報入力!$C$5)","v":""},{"$f":"IF(A14=\"\",\"\",③リレー情報確認!$J$1)","v":""},{"$f":"IF(A14=\"\",\"\",③リレー情報確認!$P$1)","v":""},null,null,1,{"$f":"IF(A14=\"\",\"\",③リレー情報確認!Q8)","v":""},{"$f":"IF(A14=\"\",\"\",③リレー情報確認!P8)","v":""},"",{"$f":"IF(A14=\"\",\"\",③リレー情報確認!$R$8)","v":""},{"$f":"IF(A14=\"\",\"\",IF(②選手情報入力!$V$6=\"\",0,1))","v":""},""]
[{"$f":"IF(③リレー情報確認!O9=\"\",\"\",420000+①団体情報入力!$C$5*10)","v":""},{"$f":"IF(A15=\"\",\"\",①団体情報入力!$C$5)","v":""},{"$f":"IF(A15=\"\",\"\",③リレー情報確認!$J$1)","v":""},{"$f":"IF(A15=\"\",\"\",③リレー情報確認!$P$1)","v":""},null,null,2,{"$f":"IF(A15=\"\",\"\",③リレー情報確認!Q9)","v":""},{"$f":"IF(A15=\"\",\"\",③リレー情報確認!P9)","v":""},"",{"$f":"IF(A15=\"\",\"\",③リレー情報確認!$R$8)","v":""},{"$f":"IF(A15=\"\",\"\",IF(②選手情報入力!$V$6=\"\",0,1))","v":""},""]
[{"$f":"IF(③リレー情報確認!O10=\"\",\"\",420000+①団体情報入力!$C$5*10)","v":""},{"$f":"IF(A16=\"\",\"\",①団体情報入力!$C$5)","v":""},{"$f":"IF(A16=\"\",\"\",③リレー情報確認!$J$1)","v":""},{"$f":"IF(A16=\"\",\"\",③リレー情報確認!$P$1)","v":""},null,null,3,{"$f":"IF(A16=\"\",\"\",③リレー情報確認!Q10)","v":""},{"$f":"IF(A16=\"\",\"\",③リレー情報確認!P10)","v":""},"",{"$f":"IF(A16=\"\",\"\",③リレー情報確認!$R$8)","v":""},{"$f":"IF(A16=\"\",\"\",IF(②選手情報入力!$V$6=\"\",0,1))","v":""},""]
[{"$f":"IF(③リレー情報確認!O11=\"\",\"\",420000+①団体情報入力!$C$5*10)","v":""},{"$f":"IF(A17=\"\",\"\",①団体情報入力!$C$5)","v":""},{"$f":"IF(A17=\"\",\"\",③リレー情報確認!$J$1)","v":""},{"$f":"IF(A17=\"\",\"\",③リレー情報確認!$P$1)","v":""},null,null,4,{"$f":"IF(A17=\"\",\"\",③リレー情報確認!Q11)","v":""},{"$f":"IF(A17=\"\",\"\",③リレー情報確認!P11)","v":""},"",{"$f":"IF(A17=\"\",\"\",③リレー情報確認!$R$8)","v":""},{"$f":"IF(A17=\"\",\"\",IF(②選手情報入力!$V$6=\"\",0,1))","v":""},""]
[{"$f":"IF(③リレー情報確認!O12=\"\",\"\",420000+①団体情報入力!$C$5*10)","v":""},{"$f":"IF(A18=\"\",\"\",①団体情報入力!$C$5)","v":""},{"$f":"IF(A18=\"\",\"\",③リレー情報確認!$J$1)","v":""},{"$f":"IF(A18=\"\",\"\",③リレー情報確認!$P$1)","v":""},null,null,5,{"$f":"IF(A18=\"\",\"\",③リレー情報確認!Q12)","v":""},{"$f":"IF(A18=\"\",\"\",③リレー情報確認!P12)","v":""},"",{"$f":"IF(A18=\"\",\"\",③リレー情報確認!$R$8)","v":""},{"$f":"IF(A18=\"\",\"\",IF(②選手情報入力!$V$6=\"\",0,1))","v":""},""]
[{"$f":"IF(③リレー情報確認!O13=\"\",\"\",420000+①団体情報入力!$C$5*10)","v":""},{"$f":"IF(A19=\"\",\"\",①団体情報入力!$C$5)","v":""},{"$f":"IF(A19=\"\",\"\",③リレー情報確認!$J$1)","v":""},{"$f":"IF(A19=\"\",\"\",③リレー情報確認!$P$1)","v":""},null,null,6,{"$f":"IF(A19=\"\",\"\",③リレー情報確認!Q13)","v":""},{"$f":"IF(A19=\"\",\"\",③リレー情報確認!P13)","v":""},"",{"$f":"IF(A19=\"\",\"\",③リレー情報確認!$R$8)","v":""},{"$f":"IF(A19=\"\",\"\",IF(②選手情報入力!$V$6=\"\",0,1))","v":""},""]
[{"$f":"IF(③リレー情報確認!U8=\"\",\"\",1620000+①団体情報入力!$C$5*10)","v":""},{"$f":"IF(A20=\"\",\"\",①団体情報入力!$C$5)","v":""},{"$f":"IF(A20=\"\",\"\",③リレー情報確認!$J$1)","v":""},{"$f":"IF(A20=\"\",\"\",③リレー情報確認!$P$1)","v":""},null,null,1,{"$f":"IF(A20=\"\",\"\",③リレー情報確認!W8)","v":""},{"$f":"IF(A20=\"\",\"\",③リレー情報確認!V8)","v":""},"",{"$f":"IF(A20=\"\",\"\",③リレー情報確認!$X$8)","v":""},{"$f":"IF(A20=\"\",\"\",IF(②選手情報入力!$V$7=\"\",0,1))","v":""},""]
[{"$f":"IF(③リレー情報確認!U9=\"\",\"\",1620000+①団体情報入力!$C$5*10)","v":""},{"$f":"IF(A21=\"\",\"\",①団体情報入力!$C$5)","v":""},{"$f":"IF(A21=\"\",\"\",③リレー情報確認!$J$1)","v":""},{"$f":"IF(A21=\"\",\"\",③リレー情報確認!$P$1)","v":""},null,null,2,{"$f":"IF(A21=\"\",\"\",③リレー情報確認!W9)","v":""},{"$f":"IF(A21=\"\",\"\",③リレー情報確認!V9)","v":""},"",{"$f":"IF(A21=\"\",\"\",③リレー情報確認!$X$8)","v":""},{"$f":"IF(A21=\"\",\"\",IF(②選手情報入力!$V$7=\"\",0,1))","v":""},""]
[{"$f":"IF(③リレー情報確認!U10=\"\",\"\",1620000+①団体情報入力!$C$5*10)","v":""},{"$f":"IF(A22=\"\",\"\",①団体情報入力!$C$5)","v":""},{"$f":"IF(A22=\"\",\"\",③リレー情報確認!$J$1)","v":""},{"$f":"IF(A22=\"\",\"\",③リレー情報確認!$P$1)","v":""},null,null,3,{"$f":"IF(A22=\"\",\"\",③リレー情報確認!W10)","v":""},{"$f":"IF(A22=\"\",\"\",③リレー情報確認!V10)","v":""},"",{"$f":"IF(A22=\"\",\"\",③リレー情報確認!$X$8)","v":""},{"$f":"IF(A22=\"\",\"\",IF(②選手情報入力!$V$7=\"\",0,1))","v":""},""]
[{"$f":"IF(③リレー情報確認!U11=\"\",\"\",1620000+①団体情報入力!$C$5*10)","v":""},{"$f":"IF(A23=\"\",\"\",①団体情報入力!$C$5)","v":""},{"$f":"IF(A23=\"\",\"\",③リレー情報確認!$J$1)","v":""},{"$f":"IF(A23=\"\",\"\",③リレー情報確認!$P$1)","v":""},null,null,4,{"$f":"IF(A23=\"\",\"\",③リレー情報確認!W11)","v":""},{"$f":"IF(A23=\"\",\"\",③リレー情報確認!V11)","v":""},"",{"$f":"IF(A23=\"\",\"\",③リレー情報確認!$X$8)","v":""},{"$f":"IF(A23=\"\",\"\",IF(②選手情報入力!$V$7=\"\",0,1))","v":""},""]
[{"$f":"IF(③リレー情報確認!U12=\"\",\"\",1620000+①団体情報入力!$C$5*10)","v":""},{"$f":"IF(A24=\"\",\"\",①団体情報入力!$C$5)","v":""},{"$f":"IF(A24=\"\",\"\",③リレー情報確認!$J$1)","v":""},{"$f":"IF(A24=\"\",\"\",③リレー情報確認!$P$1)","v":""},null,null,5,{"$f":"IF(A24=\"\",\"\",③リレー情報確認!W12)","v":""},{"$f":"IF(A24=\"\",\"\",③リレー情報確認!V12)","v":""},"",{"$f":"IF(A24=\"\",\"\",③リレー情報確認!$X$8)","v":""},{"$f":"IF(A24=\"\",\"\",IF(②選手情報入力!$V$7=\"\",0,1))","v":""},""]
[{"$f":"IF(③リレー情報確認!U13=\"\",\"\",1620000+①団体情報入力!$C$5*10)","v":""},{"$f":"IF(A25=\"\",\"\",①団体情報入力!$C$5)","v":""},{"$f":"IF(A25=\"\",\"\",③リレー情報確認!$J$1)","v":""},{"$f":"IF(A25=\"\",\"\",③リレー情報確認!$P$1)","v":""},null,null,6,{"$f":"IF(A25=\"\",\"\",③リレー情報確認!W13)","v":""},{"$f":"IF(A25=\"\",\"\",③リレー情報確認!V13)","v":""},"",{"$f":"IF(A25=\"\",\"\",③リレー情報確認!$X$8)","v":""},{"$f":"IF(A25=\"\",\"\",IF(②選手情報入力!$V$7=\"\",0,1))","v":""},""]

{"sheet":"資格","index":15,"n_rows":236,"n_cols":24,"rows_kept":236,"cut":false,"hidden":false,"merged":[]}
["競技者NO","所属コード1","所属","ナンバー","ナンバー2","競技者名","性別","参加競技-競技コード1","参加競技-自己記録1","参加競技１資格習得大会","参加競技-競技コード2","参加競技-自己記録2","参加競技２資格取得大会","参加競技-競技コード3","参加競技-自己記録3","参加競技-記録FLG3","参加競技-競技コード4","参加競技-自己記録4","参加競技-オープン参加FLG4","参加競技-記録FLG4","参加競技-競技コード5","参加競技-自己記録5","参加競技-オープン参加FLG5","参加競技-記録FLG5"]
[{"$f":"IF(E2=\"\",\"\",data_kyogisha!A2)","v":""},{"$f":"IF(E2=\"\",\"\",①団体情報入力!$C$5)","v":""},{"$f":"IF(A2=\"\",\"\",VLOOKUP(B2,Sheet6!C:D,2,0))","v":""},null,{"$f":"IF(②選手情報入力!C11=\"\",\"\",②選手情報入力!C11)","v":""},{"$f":"IF(E2=\"\",\"\",②選手情報入力!D11)","v":""},{"$f":"IF(E2=\"\",\"\",IF(②選手情報入力!I11=\"男\",1,2))","v":""},{"$f":"IF(E2=\"\",\"\",VLOOKUP(data_kyogisha!Q2,Sheet3!A:G,2,0))","v":""},{"$f":"IF(E2=\"\",\"\",IF(②選手情報入力!M11=\"\",\"\",②選手情報入力!M11))","v":""},{"$f":"IF(E2=\"\",\"\",②選手情報入力!N11)","v":""},{"$f":"IF(E2=\"\",\"\",VLOOKUP(data_kyogisha!U2,Sheet3!A:G,2,0))","v":""},{"$f":"IF(E2=\"\",\"\",IF(②選手情報入力!P11=\"\",\"\",②選手情報入力!P11))","v":""},{"$f":"IF(E2=\"\",\"\",②選手情報入力!Q11)","v":""},"",{"$f":"IF(E2=\"\",\"\",IF(②選手情報入力!S11=\"\",\"\",②選手情報入力!S11))","v":""},"","",{"$f":"IF(E2=\"\",\"\",IF(②選手情報入力!T11=\"\",\"\",IF(G2=1,IF(②選手情報入力!$U$6=\"\",\"\",②選手情報入力!$U$6),IF(②選手情報入力!$U$7=\"\",\"\",②選手情報入力!$U$7))))","v":""},{"$f":"IF(E2=\"\",\"\",IF(②選手情報入力!T11=\"\",\"\",IF(G2=1,IF(②選手情報入力!$T$6=\"\",0,1),IF(②選手情報入力!$T$7=\"\",0,1))))","v":""},{"$f":"IF(E2=\"\",\"\",IF(②選手情報入力!T11=\"\",\"\",2))","v":""},"",{"$f":"IF(E2=\"\",\"\",IF(②選手情報入力!V11=\"\",\"\",IF(G2=1,IF(②選手情報入力!$W$6=\"\",\"\",②選手情報入力!$W$6),IF(②選手情報入力!$W$7=\"\",\"\",②選手情報入力!$W$7))))","v":""},{"$f":"IF(E2=\"\",\"\",IF(②選手情報入力!V11=\"\",\"\",IF(G2=1,IF(②選手情報入力!$V$6=\"\",0,1),IF(②選手情報入力!$V$7=\"\",0,1))))","v":""},{"$f":"IF(E2=\"\",\"\",IF(②選手情報入力!V11=\"\",\"\",2))","v":""}]
[{"$f":"IF(E3=\"\",\"\",data_kyogisha!A3)","v":""},{"$f":"IF(E3=\"\",\"\",①団体情報入力!$C$5)","v":""},{"$f":"IF(A3=\"\",\"\",VLOOKUP(B3,Sheet6!C:D,2,0))","v":""},null,{"$f":"IF(②選手情報入力!C12=\"\",\"\",②選手情報入力!C12)","v":""},{"$f":"IF(E3=\"\",\"\",②選手情報入力!D12)","v":""},{"$f":"IF(E3=\"\",\"\",IF(②選手情報入力!I12=\"男\",1,2))","v":""},{"$f":"IF(E3=\"\",\"\",VLOOKUP(data_kyogisha!Q3,Sheet3!A:G,2,0))","v":""},{"$f":"IF(E3=\"\",\"\",IF(②選手情報入力!M12=\"\",\"\",②選手情報入力!M12))","v":""},{"$f":"IF(E3=\"\",\"\",②選手情報入力!N12)","v":""},{"$f":"IF(E3=\"\",\"\",VLOOKUP(data_kyogisha!U3,Sheet3!A:G,2,0))","v":""},{"$f":"IF(E3=\"\",\"\",IF(②選手情報入力!P12=\"\",\"\",②選手情報入力!P12))","v":""},{"$f":"IF(E3=\"\",\"\",②選手情報入力!Q12)","v":""},"",{"$f":"IF(E3=\"\",\"\",IF(②選手情報入力!S12=\"\",\"\",②選手情報入力!S12))","v":""},"","",{"$f":"IF(E3=\"\",\"\",IF(②選手情報入力!T12=\"\",\"\",IF(G3=1,IF(②選手情報入力!$U$6=\"\",\"\",②選手情報入力!$U$6),IF(②選手情報入力!$U$7=\"\",\"\",②選手情報入力!$U$7))))","v":""},{"$f":"IF(E3=\"\",\"\",IF(②選手情報入力!T12=\"\",\"\",IF(G3=1,IF(②選手情報入力!$T$6=\"\",0,1),IF(②選手情報入力!$T$7=\"\",0,1))))","v":""},{"$f":"IF(E3=\"\",\"\",IF(②選手情報入力!T12=\"\",\"\",2))","v":""},"",{"$f":"IF(E3=\"\",\"\",IF(②選手情報入力!V12=\"\",\"\",IF(G3=1,IF(②選手情報入力!$W$6=\"\",\"\",②選手情報入力!$W$6),IF(②選手情報入力!$W$7=\"\",\"\",②選手情報入力!$W$7))))","v":""},{"$f":"IF(E3=\"\",\"\",IF(②選手情報入力!V12=\"\",\"\",IF(G3=1,IF(②選手情報入力!$V$6=\"\",0,1),IF(②選手情報入力!$V$7=\"\",0,1))))","v":""},{"$f":"IF(E3=\"\",\"\",IF(②選手情報入力!V12=\"\",\"\",2))","v":""}]
[{"$f":"IF(E4=\"\",\"\",data_kyogisha!A4)","v":""},{"$f":"IF(E4=\"\",\"\",①団体情報入力!$C$5)","v":""},{"$f":"IF(A4=\"\",\"\",VLOOKUP(B4,Sheet6!C:D,2,0))","v":""},null,{"$f":"IF(②選手情報入力!C13=\"\",\"\",②選手情報入力!C13)","v":""},{"$f":"IF(E4=\"\",\"\",②選手情報入力!D13)","v":""},{"$f":"IF(E4=\"\",\"\",IF(②選手情報入力!I13=\"男\",1,2))","v":""},{"$f":"IF(E4=\"\",\"\",VLOOKUP(data_kyogisha!Q4,Sheet3!A:G,2,0))","v":""},{"$f":"IF(E4=\"\",\"\",IF(②選手情報入力!M13=\"\",\"\",②選手情報入力!M13))","v":""},{"$f":"IF(E4=\"\",\"\",②選手情報入力!N13)","v":""},{"$f":"IF(E4=\"\",\"\",VLOOKUP(data_kyogisha!U4,Sheet3!A:G,2,0))","v":""},{"$f":"IF(E4=\"\",\"\",IF(②選手情報入力!P13=\"\",\"\",②選手情報入力!P13))","v":""},{"$f":"IF(E4=\"\",\"\",②選手情報入力!Q13)","v":""},"",{"$f":"IF(E4=\"\",\"\",IF(②選手情報入力!S13=\"\",\"\",②選手情報入力!S13))","v":""},"","",{"$f":"IF(E4=\"\",\"\",IF(②選手情報入力!T13=\"\",\"\",IF(G4=1,IF(②選手情報入力!$U$6=\"\",\"\",②選手情報入力!$U$6),IF(②選手情報入力!$U$7=\"\",\"\",②選手情報入力!$U$7))))","v":""},{"$f":"IF(E4=\"\",\"\",IF(②選手情報入力!T13=\"\",\"\",IF(G4=1,IF(②選手情報入力!$T$6=\"\",0,1),IF(②選手情報入力!$T$7=\"\",0,1))))","v":""},{"$f":"IF(E4=\"\",\"\",IF(②選手情報入力!T13=\"\",\"\",2))","v":""},"",{"$f":"IF(E4=\"\",\"\",IF(②選手情報入力!V13=\"\",\"\",IF(G4=1,IF(②選手情報入力!$W$6=\"\",\"\",②選手情報入力!$W$6),IF(②選手情報入力!$W$7=\"\",\"\",②選手情報入力!$W$7))))","v":""},{"$f":"IF(E4=\"\",\"\",IF(②選手情報入力!V13=\"\",\"\",IF(G4=1,IF(②選手情報入力!$V$6=\"\",0,1),IF(②選手情報入力!$V$7=\"\",0,1))))","v":""},{"$f":"IF(E4=\"\",\"\",IF(②選手情報入力!V13=\"\",\"\",2))","v":""}]
[{"$f":"IF(E5=\"\",\"\",data_kyogisha!A5)","v":""},{"$f":"IF(E5=\"\",\"\",①団体情報入力!$C$5)","v":""},{"$f":"IF(A5=\"\",\"\",VLOOKUP(B5,Sheet6!C:D,2,0))","v":""},null,{"$f":"IF(②選手情報入力!C14=\"\",\"\",②選手情報入力!C14)","v":""},{"$f":"IF(E5=\"\",\"\",②選手情報入力!D14)","v":""},{"$f":"IF(E5=\"\",\"\",IF(②選手情報入力!I14=\"男\",1,2))","v":""},{"$f":"IF(E5=\"\",\"\",VLOOKUP(data_kyogisha!Q5,Sheet3!A:G,2,0))","v":""},{"$f":"IF(E5=\"\",\"\",IF(②選手情報入力!M14=\"\",\"\",②選手情報入力!M14))","v":""},{"$f":"IF(E5=\"\",\"\",②選手情報入力!N14)","v":""},{"$f":"IF(E5=\"\",\"\",VLOOKUP(data_kyogisha!U5,Sheet3!A:G,2,0))","v":""},{"$f":"IF(E5=\"\",\"\",IF(②選手情報入力!P14=\"\",\"\",②選手情報入力!P14))","v":""},{"$f":"IF(E5=\"\",\"\",②選手情報入力!Q14)","v":""},"",{"$f":"IF(E5=\"\",\"\",IF(②選手情報入力!S14=\"\",\"\",②選手情報入力!S14))","v":""},"","",{"$f":"IF(E5=\"\",\"\",IF(②選手情報入力!T14=\"\",\"\",IF(G5=1,IF(②選手情報入力!$U$6=\"\",\"\",②選手情報入力!$U$6),IF(②選手情報入力!$U$7=\"\",\"\",②選手情報入力!$U$7))))","v":""},{"$f":"IF(E5=\"\",\"\",IF(②選手情報入力!T14=\"\",\"\",IF(G5=1,IF(②選手情報入力!$T$6=\"\",0,1),IF(②選手情報入力!$T$7=\"\",0,1))))","v":""},{"$f":"IF(E5=\"\",\"\",IF(②選手情報入力!T14=\"\",\"\",2))","v":""},"",{"$f":"IF(E5=\"\",\"\",IF(②選手情報入力!V14=\"\",\"\",IF(G5=1,IF(②選手情報入力!$W$6=\"\",\"\",②選手情報入力!$W$6),IF(②選手情報入力!$W$7=\"\",\"\",②選手情報入力!$W$7))))","v":""},{"$f":"IF(E5=\"\",\"\",IF(②選手情報入力!V14=\"\",\"\",IF(G5=1,IF(②選手情報入力!$V$6=\"\",0,1),IF(②選手情報入力!$V$7=\"\",0,1))))","v":""},{"$f":"IF(E5=\"\",\"\",IF(②選手情報入力!V14=\"\",\"\",2))","v":""}]
[{"$f":"IF(E6=\"\",\"\",data_kyogisha!A6)","v":""},{"$f":"IF(E6=\"\",\"\",①団体情報入力!$C$5)","v":""},{"$f":"IF(A6=\"\",\"\",VLOOKUP(B6,Sheet6!C:D,2,0))","v":""},null,{"$f":"IF(②選手情報入力!C15=\"\",\"\",②選手情報入力!C15)","v":""},{"$f":"IF(E6=\"\",\"\",②選手情報入力!D15)","v":""},{"$f":"IF(E6=\"\",\"\",IF(②選手情報入力!I15=\"男\",1,2))","v":""},{"$f":"IF(E6=\"\",\"\",VLOOKUP(data_kyogisha!Q6,Sheet3!A:G,2,0))","v":""},{"$f":"IF(E6=\"\",\"\",IF(②選手情報入力!M15=\"\",\"\",②選手情報入力!M15))","v":""},{"$f":"IF(E6=\"\",\"\",②選手情報入力!N15)","v":""},{"$f":"IF(E6=\"\",\"\",VLOOKUP(data_kyogisha!U6,Sheet3!A:G,2,0))","v":""},{"$f":"IF(E6=\"\",\"\",IF(②選手情報入力!P15=\"\",\"\",②選手情報入力!P15))","v":""},{"$f":"IF(E6=\"\",\"\",②選手情報入力!Q15)","v":""},"",{"$f":"IF(E6=\"\",\"\",IF(②選手情報入力!S15=\"\",\"\",②選手情報入力!S15))","v":""},"","",{"$f":"IF(E6=\"\",\"\",IF(②選手情報入力!T15=\"\",\"\",IF(G6=1,IF(②選手情報入力!$U$6=\"\",\"\",②選手情報入力!$U$6),IF(②選手情報入力!$U$7=\"\",\"\",②選手情報入力!$U$7))))","v":""},{"$f":"IF(E6=\"\",\"\",IF(②選手情報入力!T15=\"\",\"\",IF(G6=1,IF(②選手情報入力!$T$6=\"\",0,1),IF(②選手情報入力!$T$7=\"\",0,1))))","v":""},{"$f":"IF(E6=\"\",\"\",IF(②選手情報入力!T15=\"\",\"\",2))","v":""},"",{"$f":"IF(E6=\"\",\"\",IF(②選手情報入力!V15=\"\",\"\",IF(G6=1,IF(②選手情報入力!$W$6=\"\",\"\",②選手情報入力!$W$6),IF(②選手情報入力!$W$7=\"\",\"\",②選手情報入力!$W$7))))","v":""},{"$f":"IF(E6=\"\",\"\",IF(②選手情報入力!V15=\"\",\"\",IF(G6=1,IF(②選手情報入力!$V$6=\"\",0,1),IF(②選手情報入力!$V$7=\"\",0,1))))","v":""},{"$f":"IF(E6=\"\",\"\",IF(②選手情報入力!V15=\"\",\"\",2))","v":""}]
[{"$f":"IF(E7=\"\",\"\",data_kyogisha!A7)","v":""},{"$f":"IF(E7=\"\",\"\",①団体情報入力!$C$5)","v":""},{"$f":"IF(A7=\"\",\"\",VLOOKUP(B7,Sheet6!C:D,2,0))","v":""},null,{"$f":"IF(②選手情報入力!C16=\"\",\"\",②選手情報入力!C16)","v":""},{"$f":"IF(E7=\"\",\"\",②選手情報入力!D16)","v":""},{"$f":"IF(E7=\"\",\"\",IF(②選手情報入力!I16=\"男\",1,2))","v":""},{"$f":"IF(E7=\"\",\"\",VLOOKUP(data_kyogisha!Q7,Sheet3!A:G,2,0))","v":""},{"$f":"IF(E7=\"\",\"\",IF(②選手情報入力!M16=\"\",\"\",②選手情報入力!M16))","v":""},{"$f":"IF(E7=\"\",\"\",②選手情報入力!N16)","v":""},{"$f":"IF(E7=\"\",\"\",VLOOKUP(data_kyogisha!U7,Sheet3!A:G,2,0))","v":""},{"$f":"IF(E7=\"\",\"\",IF(②選手情報入力!P16=\"\",\"\",②選手情報入力!P16))","v":""},{"$f":"IF(E7=\"\",\"\",②選手情報入力!Q16)","v":""},"",{"$f":"IF(E7=\"\",\"\",IF(②選手情報入力!S16=\"\",\"\",②選手情報入力!S16))","v":""},"","",{"$f":"IF(E7=\"\",\"\",IF(②選手情報入力!T16=\"\",\"\",IF(G7=1,IF(②選手情報入力!$U$6=\"\",\"\",②選手情報入力!$U$6),IF(②選手情報入力!$U$7=\"\",\"\",②選手情報入力!$U$7))))","v":""},{"$f":"IF(E7=\"\",\"\",IF(②選手情報入力!T16=\"\",\"\",IF(G7=1,IF(②選手情報入力!$T$6=\"\",0,1),IF(②選手情報入力!$T$7=\"\",0,1))))","v":""},{"$f":"IF(E7=\"\",\"\",IF(②選手情報入力!T16=\"\",\"\",2))","v":""},"",{"$f":"IF(E7=\"\",\"\",IF(②選手情報入力!V16=\"\",\"\",IF(G7=1,IF(②選手情報入力!$W$6=\"\",\"\",②選手情報入力!$W$6),IF(②選手情報入力!$W$7=\"\",\"\",②選手情報入力!$W$7))))","v":""},{"$f":"IF(E7=\"\",\"\",IF(②選手情報入力!V16=\"\",\"\",IF(G7=1,IF(②選手情報入力!$V$6=\"\",0,1),IF(②選手情報入力!$V$7=\"\",0,1))))","v":""},{"$f":"IF(E7=\"\",\"\",IF(②選手情報入力!V16=\"\",\"\",2))","v":""}]
[{"$f":"IF(E8=\"\",\"\",data_kyogisha!A8)","v":""},{"$f":"IF(E8=\"\",\"\",①団体情報入力!$C$5)","v":""},{"$f":"IF(A8=\"\",\"\",VLOOKUP(B8,Sheet6!C:D,2,0))","v":""},null,{"$f":"IF(②選手情報入力!C17=\"\",\"\",②選手情報入力!C17)","v":""},{"$f":"IF(E8=\"\",\"\",②選手情報入力!D17)","v":""},{"$f":"IF(E8=\"\",\"\",IF(②選手情報入力!I17=\"男\",1,2))","v":""},{"$f":"IF(E8=\"\",\"\",VLOOKUP(data_kyogisha!Q8,Sheet3!A:G,2,0))","v":""},{"$f":"IF(E8=\"\",\"\",IF(②選手情報入力!M17=\"\",\"\",②選手情報入力!M17))","v":""},{"$f":"IF(E8=\"\",\"\",②選手情報入力!N17)","v":""},{"$f":"IF(E8=\"\",\"\",VLOOKUP(data_kyogisha!U8,Sheet3!A:G,2,0))","v":""},{"$f":"IF(E8=\"\",\"\",IF(②選手情報入力!P17=\"\",\"\",②選手情報入力!P17))","v":""},{"$f":"IF(E8=\"\",\"\",②選手情報入力!Q17)","v":""},"",{"$f":"IF(E8=\"\",\"\",IF(②選手情報入力!S17=\"\",\"\",②選手情報入力!S17))","v":""},"","",{"$f":"IF(E8=\"\",\"\",IF(②選手情報入力!T17=\"\",\"\",IF(G8=1,IF(②選手情報入力!$U$6=\"\",\"\",②選手情報入力!$U$6),IF(②選手情報入力!$U$7=\"\",\"\",②選手情報入力!$U$7))))","v":""},{"$f":"IF(E8=\"\",\"\",IF(②選手情報入力!T17=\"\",\"\",IF(G8=1,IF(②選手情報入力!$T$6=\"\",0,1),IF(②選手情報入力!$T$7=\"\",0,1))))","v":""},{"$f":"IF(E8=\"\",\"\",IF(②選手情報入力!T17=\"\",\"\",2))","v":""},"",{"$f":"IF(E8=\"\",\"\",IF(②選手情報入力!V17=\"\",\"\",IF(G8=1,IF(②選手情報入力!$W$6=\"\",\"\",②選手情報入力!$W$6),IF(②選手情報入力!$W$7=\"\",\"\",②選手情報入力!$W$7))))","v":""},{"$f":"IF(E8=\"\",\"\",IF(②選手情報入力!V17=\"\",\"\",IF(G8=1,IF(②選手情報入力!$V$6=\"\",0,1),IF(②選手情報入力!$V$7=\"\",0,1))))","v":""},{"$f":"IF(E8=\"\",\"\",IF(②選手情報入力!V17=\"\",\"\",2))","v":""}]
[{"$f":"IF(E9=\"\",\"\",data_kyogisha!A9)","v":""},{"$f":"IF(E9=\"\",\"\",①団体情報入力!$C$5)","v":""},{"$f":"IF(A9=\"\",\"\",VLOOKUP(B9,Sheet6!C:D,2,0))","v":""},null,{"$f":"IF(②選手情報入力!C18=\"\",\"\",②選手情報入力!C18)","v":""},{"$f":"IF(E9=\"\",\"\",②選手情報入力!D18)","v":""},{"$f":"IF(E9=\"\",\"\",IF(②選手情報入力!I18=\"男\",1,2))","v":""},{"$f":"IF(E9=\"\",\"\",VLOOKUP(data_kyogisha!Q9,Sheet3!A:G,2,0))","v":""},{"$f":"IF(E9=\"\",\"\",IF(②選手情報入力!M18=\"\",\"\",②選手情報入力!M18))","v":""},{"$f":"IF(E9=\"\",\"\",②選手情報入力!N18)","v":""},{"$f":"IF(E9=\"\",\"\",VLOOKUP(data_kyogisha!U9,Sheet3!A:G,2,0))","v":""},{"$f":"IF(E9=\"\",\"\",IF(②選手情報入力!P18=\"\",\"\",②選手情報入力!P18))","v":""},{"$f":"IF(E9=\"\",\"\",②選手情報入力!Q18)","v":""},"",{"$f":"IF(E9=\"\",\"\",IF(②選手情報入力!S18=\"\",\"\",②選手情報入力!S18))","v":""},"","",{"$f":"IF(E9=\"\",\"\",IF(②選手情報入力!T18=\"\",\"\",IF(G9=1,IF(②選手情報入力!$U$6=\"\",\"\",②選手情報入力!$U$6),IF(②選手情報入力!$U$7=\"\",\"\",②選手情報入力!$U$7))))","v":""},{"$f":"IF(E9=\"\",\"\",IF(②選手情報入力!T18=\"\",\"\",IF(G9=1,IF(②選手情報入力!$T$6=\"\",0,1),IF(②選手情報入力!$T$7=\"\",0,1))))","v":""},{"$f":"IF(E9=\"\",\"\",IF(②選手情報入力!T18=\"\",\"\",2))","v":""},"",{"$f":"IF(E9=\"\",\"\",IF(②選手情報入力!V18=\"\",\"\",IF(G9=1,IF(②選手情報入力!$W$6=\"\",\"\",②選手情報入力!$W$6),IF(②選手情報入力!$W$7=\"\",\"\",②選手情報入力!$W$7))))","v":""},{"$f":"IF(E9=\"\",\"\",IF(②選手情報入力!V18=\"\",\"\",IF(G9=1,IF(②選手情報入力!$V$6=\"\",0,1),IF(②選手情報入力!$V$7=\"\",0,1))))","v":""},{"$f":"IF(E9=\"\",\"\",IF(②選手情報入力!V18=\"\",\"\",2))","v":""}]
[{"$f":"IF(E10=\"\",\"\",data_kyogisha!A10)","v":""},{"$f":"IF(E10=\"\",\"\",①団体情報入力!$C$5)","v":""},{"$f":"IF(A10=\"\",\"\",VLOOKUP(B10,Sheet6!C:D,2,0))","v":""},null,{"$f":"IF(②選手情報入力!C19=\"\",\"\",②選手情報入力!C19)","v":""},{"$f":"IF(E10=\"\",\"\",②選手情報入力!D19)","v":""},{"$f":"IF(E10=\"\",\"\",IF(②選手情報入力!I19=\"男\",1,2))","v":""},{"$f":"IF(E10=\"\",\"\",VLOOKUP(data_kyogisha!Q10,Sheet3!A:G,2,0))","v":""},{"$f":"IF(E10=\"\",\"\",IF(②選手情報入力!M19=\"\",\"\",②選手情報入力!M19))","v":""},{"$f":"IF(E10=\"\",\"\",②選手情報入力!N19)","v":""},{"$f":"IF(E10=\"\",\"\",VLOOKUP(data_kyogisha!U10,Sheet3!A:G,2,0))","v":""},{"$f":"IF(E10=\"\",\"\",IF(②選手情報入力!P19=\"\",\"\",②選手情報入力!P19))","v":""},{"$f":"IF(E10=\"\",\"\",②選手情報入力!Q19)","v":""},"",{"$f":"IF(E10=\"\",\"\",IF(②選手情報入力!S19=\"\",\"\",②選手情報入力!S19))","v":""},"","",{"$f":"IF(E10=\"\",\"\",IF(②選手情報入力!T19=\"\",\"\",IF(G10=1,IF(②選手情報入力!$U$6=\"\",\"\",②選手情報入力!$U$6),IF(②選手情報入力!$U$7=\"\",\"\",②選手情報入力!$U$7))))","v":""},{"$f":"IF(E10=\"\",\"\",IF(②選手情報入力!T19=\"\",\"\",IF(G10=1,IF(②選手情報入力!$T$6=\"\",0,1),IF(②選手情報入力!$T$7=\"\",0,1))))","v":""},{"$f":"IF(E10=\"\",\"\",IF(②選手情報入力!T19=\"\",\"\",2))","v":""},"",{"$f":"IF(E10=\"\",\"\",IF(②選手情報入力!V19=\"\",\"\",IF(G10=1,IF(②選手情報入力!$W$6=\"\",\"\",②選手情報入力!$W$6),IF(②選手情報入力!$W$7=\"\",\"\",②選手情報入力!$W$7))))","v":""},{"$f":"IF(E10=\"\",\"\",IF(②選手情報入力!V19=\"\",\"\",IF(G10=1,IF(②選手情報入力!$V$6=\"\",0,1),IF(②選手情報入力!$V$7=\"\",0,1))))","v":""},{"$f":"IF(E10=\"\",\"\",IF(②選手情報入力!V19=\"\",\"\",2))","v":""}]
[{"$f":"IF(E11=\"\",\"\",data_kyogisha!A11)","v":""},{"$f":"IF(E11=\"\",\"\",①団体情報入力!$C$5)","v":""},{"$f":"IF(A11=\"\",\"\",VLOOKUP(B11,Sheet6!C:D,2,0))","v":""},null,{"$f":"IF(②選手情報入力!C20=\"\",\"\",②選手情報入力!C20)","v":""},{"$f":"IF(E11=\"\",\"\",②選手情報入力!D20)","v":""},{"$f":"IF(E11=\"\",\"\",IF(②選手情報入力!I20=\"男\",1,2))","v":""},{"$f":"IF(E11=\"\",\"\",VLOOKUP(data_kyogisha!Q11,Sheet3!A:G,2,0))","v":""},{"$f":"IF(E11=\"\",\"\",IF(②選手情報入力!M20=\"\",\"\",②選手情報入力!M20))","v":""},{"$f":"IF(E11=\"\",\"\",②選手情報入力!N20)","v":""},{"$f":"IF(E11=\"\",\"\",VLOOKUP(data_kyogisha!U11,Sheet3!A:G,2,0))","v":""},{"$f":"IF(E11=\"\",\"\",IF(②選手情報入力!P20=\"\",\"\",②選手情報入力!P20))","v":""},{"$f":"IF(E11=\"\",\"\",②選手情報入力!Q20)","v":""},"",{"$f":"IF(E11=\"\",\"\",IF(②選手情報入力!S20=\"\",\"\",②選手情報入力!S20))","v":""},"","",{"$f":"IF(E11=\"\",\"\",IF(②選手情報入力!T20=\"\",\"\",IF(G11=1,IF(②選手情報入力!$U$6=\"\",\"\",②選手情報入力!$U$6),IF(②選手情報入力!$U$7=\"\",\"\",②選手情報入力!$U$7))))","v":""},{"$f":"IF(E11=\"\",\"\",IF(②選手情報入力!T20=\"\",\"\",IF(G11=1,IF(②選手情報入力!$T$6=\"\",0,1),IF(②選手情報入力!$T$7=\"\",0,1))))","v":""},{"$f":"IF(E11=\"\",\"\",IF(②選手情報入力!T20=\"\",\"\",2))","v":""},"",{"$f":"IF(E11=\"\",\"\",IF(②選手情報入力!V20=\"\",\"\",IF(G11=1,IF(②選手情報入力!$W$6=\"\",\"\",②選手情報入力!$W$6),IF(②選手情報入力!$W$7=\"\",\"\",②選手情報入力!$W$7))))","v":""},{"$f":"IF(E11=\"\",\"\",IF(②選手情報入力!V20=\"\",\"\",IF(G11=1,IF(②選手情報入力!$V$6=\"\",0,1),IF(②選手情報入力!$V$7=\"\",0,1))))","v":""},{"$f":"IF(E11=\"\",\"\",IF(②選手情報入力!V20=\"\",\"\",2))","v":""}]
[{"$f":"IF(E12=\"\",\"\",data_kyogisha!A12)","v":""},{"$f":"IF(E12=\"\",\"\",①団体情報入力!$C$5)","v":""},{"$f":"IF(A12=\"\",\"\",VLOOKUP(B12,Sheet6!C:D,2,0))","v":""},null,{"$f":"IF(②選手情報入力!C21=\"\",\"\",②選手情報入力!C21)","v":""},{"$f":"IF(E12=\"\",\"\",②選手情報入力!D21)","v":""},{"$f":"IF(E12=\"\",\"\",IF(②選手情報入力!I21=\"男\",1,2))","v":""},{"$f":"IF(E12=\"\",\"\",VLOOKUP(data_kyogisha!Q12,Sheet3!A:G,2,0))","v":""},{"$f":"IF(E12=\"\",\"\",IF(②選手情報入力!M21=\"\",\"\",②選手情報入力!M21))","v":""},{"$f":"IF(E12=\"\",\"\",②選手情報入力!N21)","v":""},{"$f":"IF(E12=\"\",\"\",VLOOKUP(data_kyogisha!U12,Sheet3!A:G,2,0))","v":""},{"$f":"IF(E12=\"\",\"\",IF(②選手情報入力!P21=\"\",\"\",②選手情報入力!P21))","v":""},{"$f":"IF(E12=\"\",\"\",②選手情報入力!Q21)","v":""},"",{"$f":"IF(E12=\"\",\"\",IF(②選手情報入力!S21=\"\",\"\",②選手情報入力!S21))","v":""},"","",{"$f":"IF(E12=\"\",\"\",IF(②選手情報入力!T21=\"\",\"\",IF(G12=1,IF(②選手情報入力!$U$6=\"\",\"\",②選手情報入力!$U$6),IF(②選手情報入力!$U$7=\"\",\"\",②選手情報入力!$U$7))))","v":""},{"$f":"IF(E12=\"\",\"\",IF(②選手情報入力!T21=\"\",\"\",IF(G12=1,IF(②選手情報入力!$T$6=\"\",0,1),IF(②選手情報入力!$T$7=\"\",0,1))))","v":""},{"$f":"IF(E12=\"\",\"\",IF(②選手情報入力!T21=\"\",\"\",2))","v":""},"",{"$f":"IF(E12=\"\",\"\",IF(②選手情報入力!V21=\"\",\"\",IF(G12=1,IF(②選手情報入力!$W$6=\"\",\"\",②選手情報入力!$W$6),IF(②選手情報入力!$W$7=\"\",\"\",②選手情報入力!$W$7))))","v":""},{"$f":"IF(E12=\"\",\"\",IF(②選手情報入力!V21=\"\",\"\",IF(G12=1,IF(②選手情報入力!$V$6=\"\",0,1),IF(②選手情報入力!$V$7=\"\",0,1))))","v":""},{"$f":"IF(E12=\"\",\"\",IF(②選手情報入力!V21=\"\",\"\",2))","v":""}]
[{"$f":"IF(E13=\"\",\"\",data_kyogisha!A13)","v":""},{"$f":"IF(E13=\"\",\"\",①団体情報入力!$C$5)","v":""},{"$f":"IF(A13=\"\",\"\",VLOOKUP(B13,Sheet6!C:D,2,0))","v":""},null,{"$f":"IF(②選手情報入力!C22=\"\",\"\",②選手情報入力!C22)","v":""},{"$f":"IF(E13=\"\",\"\",②選手情報入力!D22)","v":""},{"$f":"IF(E13=\"\",\"\",IF(②選手情報入力!I22=\"男\",1,2))","v":""},{"$f":"IF(E13=\"\",\"\",VLOOKUP(data_kyogisha!Q13,Sheet3!A:G,2,0))","v":""},{"$f":"IF(E13=\"\",\"\",IF(②選手情報入力!M22=\"\",\"\",②選手情報入力!M22))","v":""},{"$f":"IF(E13=\"\",\"\",②選手情報入力!N22)","v":""},{"$f":"IF(E13=\"\",\"\",VLOOKUP(data_kyogisha!U13,Sheet3!A:G,2,0))","v":""},{"$f":"IF(E13=\"\",\"\",IF(②選手情報入力!P22=\"\",\"\",②選手情報入力!P22))","v":""},{"$f":"IF(E13=\"\",\"\",②選手情報入力!Q22)","v":""},"",{"$f":"IF(E13=\"\",\"\",IF(②選手情報入力!S22=\"\",\"\",②選手情報入力!S22))","v":""},"","",{"$f":"IF(E13=\"\",\"\",IF(②選手情報入力!T22=\"\",\"\",IF(G13=1,IF(②選手情報入力!$U$6=\"\",\"\",②選手情報入力!$U$6),IF(②選手情報入力!$U$7=\"\",\"\",②選手情報入力!$U$7))))","v":""},{"$f":"IF(E13=\"\",\"\",IF(②選手情報入力!T22=\"\",\"\",IF(G13=1,IF(②選手情報入力!$T$6=\"\",0,1),IF(②選手情報入力!$T$7=\"\",0,1))))","v":""},{"$f":"IF(E13=\"\",\"\",IF(②選手情報入力!T22=\"\",\"\",2))","v":""},"",{"$f":"IF(E13=\"\",\"\",IF(②選手情報入力!V22=\"\",\"\",IF(G13=1,IF(②選手情報入力!$W$6=\"\",\"\",②選手情報入力!$W$6),IF(②選手情報入力!$W$7=\"\",\"\",②選手情報入力!$W$7))))","v":""},{"$f":"IF(E13=\"\",\"\",IF(②選手情報入力!V22=\"\",\"\",IF(G13=1,IF(②選手情報入力!$V$6=\"\",0,1),IF(②選手情報入力!$V$7=\"\",0,1))))","v":""},{"$f":"IF(E13=\"\",\"\",IF(②選手情報入力!V22=\"\",\"\",2))","v":""}]
[{"$f":"IF(E14=\"\",\"\",data_kyogisha!A14)","v":""},{"$f":"IF(E14=\"\",\"\",①団体情報入力!$C$5)","v":""},{"$f":"IF(A14=\"\",\"\",VLOOKUP(B14,Sheet6!C:D,2,0))","v":""},null,{"$f":"IF(②選手情報入力!C23=\"\",\"\",②選手情報入力!C23)","v":""},{"$f":"IF(E14=\"\",\"\",②選手情報入力!D23)","v":""},{"$f":"IF(E14=\"\",\"\",IF(②選手情報入力!I23=\"男\",1,2))","v":""},{"$f":"IF(E14=\"\",\"\",VLOOKUP(data_kyogisha!Q14,Sheet3!A:G,2,0))","v":""},{"$f":"IF(E14=\"\",\"\",IF(②選手情報入力!M23=\"\",\"\",②選手情報入力!M23))","v":""},{"$f":"IF(E14=\"\",\"\",②選手情報入力!N23)","v":""},{"$f":"IF(E14=\"\",\"\",VLOOKUP(data_kyogisha!U14,Sheet3!A:G,2,0))","v":""},{"$f":"IF(E14=\"\",\"\",IF(②選手情報入力!P23=\"\",\"\",②選手情報入力!P23))","v":""},{"$f":"IF(E14=\"\",\"\",②選手情報入力!Q23)","v":""},"",{"$f":"IF(E14=\"\",\"\",IF(②選手情報入力!S23=\"\",\"\",②選手情報入力!S23))","v":""},"","",{"$f":"IF(E14=\"\",\"\",IF(②選手情報入力!T23=\"\",\"\",IF(G14=1,IF(②選手情報入力!$U$6=\"\",\"\",②選手情報入力!$U$6),IF(②選手情報入力!$U$7=\"\",\"\",②選手情報入力!$U$7))))","v":""},{"$f":"IF(E14=\"\",\"\",IF(②選手情報入力!T23=\"\",\"\",IF(G14=1,IF(②選手情報入力!$T$6=\"\",0,1),IF(②選手情報入力!$T$7=\"\",0,1))))","v":""},{"$f":"IF(E14=\"\",\"\",IF(②選手情報入力!T23=\"\",\"\",2))","v":""},"",{"$f":"IF(E14=\"\",\"\",IF(②選手情報入力!V23=\"\",\"\",IF(G14=1,IF(②選手情報入力!$W$6=\"\",\"\",②選手情報入力!$W$6),IF(②選手情報入力!$W$7=\"\",\"\",②選手情報入力!$W$7))))","v":""},{"$f":"IF(E14=\"\",\"\",IF(②選手情報入力!V23=\"\",\"\",IF(G14=1,IF(②選手情報入力!$V$6=\"\",0,1),IF(②選手情報入力!$V$7=\"\",0,1))))","v":""},{"$f":"IF(E14=\"\",\"\",IF(②選手情報入力!V23=\"\",\"\",2))","v":""}]
[{"$f":"IF(E15=\"\",\"\",data_kyogisha!A15)","v":""},{"$f":"IF(E15=\"\",\"\",①団体情報入力!$C$5)","v":""},{"$f":"IF(A15=\"\",\"\",VLOOKUP(B15,Sheet6!C:D,2,0))","v":""},null,{"$f":"IF(②選手情報入力!C24=\"\",\"\",②選手情報入力!C24)","v":""},{"$f":"IF(E15=\"\",\"\",②選手情報入力!D24)","v":""},{"$f":"IF(E15=\"\",\"\",IF(②選手情報入力!I24=\"男\",1,2))","v":""},{"$f":"IF(E15=\"\",\"\",VLOOKUP(data_kyogisha!Q15,Sheet3!A:G,2,0))","v":""},{"$f":"IF(E15=\"\",\"\",IF(②選手情報入力!M24=\"\",\"\",②選手情報入力!M24))","v":""},{"$f":"IF(E15=\"\",\"\",②選手情報入力!N24)","v":""},{"$f":"IF(E15=\"\",\"\",VLOOKUP(data_kyogisha!U15,Sheet3!A:G,2,0))","v":""},{"$f":"IF(E15=\"\",\"\",IF(②選手情報入力!P24=\"\",\"\",②選手情報入力!P24))","v":""},{"$f":"IF(E15=\"\",\"\",②選手情報入力!Q24)","v":""},"",{"$f":"IF(E15=\"\",\"\",IF(②選手情報入力!S24=\"\",\"\",②選手情報入力!S24))","v":""},"","",{"$f":"IF(E15=\"\",\"\",IF(②選手情報入力!T24=\"\",\"\",IF(G15=1,IF(②選手情報入力!$U$6=\"\",\"\",②選手情報入力!$U$6),IF(②選手情報入力!$U$7=\"\",\"\",②選手情報入力!$U$7))))","v":""},{"$f":"IF(E15=\"\",\"\",IF(②選手情報入力!T24=\"\",\"\",IF(G15=1,IF(②選手情報入力!$T$6=\"\",0,1),IF(②選手情報入力!$T$7=\"\",0,1))))","v":""},{"$f":"IF(E15=\"\",\"\",IF(②選手情報入力!T24=\"\",\"\",2))","v":""},"",{"$f":"IF(E15=\"\",\"\",IF(②選手情報入力!V24=\"\",\"\",IF(G15=1,IF(②選手情報入力!$W$6=\"\",\"\",②選手情報入力!$W$6),IF(②選手情報入力!$W$7=\"\",\"\",②選手情報入力!$W$7))))","v":""},{"$f":"IF(E15=\"\",\"\",IF(②選手情報入力!V24=\"\",\"\",IF(G15=1,IF(②選手情報入力!$V$6=\"\",0,1),IF(②選手情報入力!$V$7=\"\",0,1))))","v":""},{"$f":"IF(E15=\"\",\"\",IF(②選手情報入力!V24=\"\",\"\",2))","v":""}]
[{"$f":"IF(E16=\"\",\"\",data_kyogisha!A16)","v":""},{"$f":"IF(E16=\"\",\"\",①団体情報入力!$C$5)","v":""},{"$f":"IF(A16=\"\",\"\",VLOOKUP(B16,Sheet6!C:D,2,0))","v":""},null,{"$f":"IF(②選手情報入力!C25=\"\",\"\",②選手情報入力!C25)","v":""},{"$f":"IF(E16=\"\",\"\",②選手情報入力!D25)","v":""},{"$f":"IF(E16=\"\",\"\",IF(②選手情報入力!I25=\"男\",1,2))","v":""},{"$f":"IF(E16=\"\",\"\",VLOOKUP(data_kyogisha!Q16,Sheet3!A:G,2,0))","v":""},{"$f":"IF(E16=\"\",\"\",IF(②選手情報入力!M25=\"\",\"\",②選手情報入力!M25))","v":""},{"$f":"IF(E16=\"\",\"\",②選手情報入力!N25)","v":""},{"$f":"IF(E16=\"\",\"\",VLOOKUP(data_kyogisha!U16,Sheet3!A:G,2,0))","v":""},{"$f":"IF(E16=\"\",\"\",IF(②選手情報入力!P25=\"\",\"\",②選手情報入力!P25))","v":""},{"$f":"IF(E16=\"\",\"\",②選手情報入力!Q25)","v":""},"",{"$f":"IF(E16=\"\",\"\",IF(②選手情報入力!S25=\"\",\"\",②選手情報入力!S25))","v":""},"","",{"$f":"IF(E16=\"\",\"\",IF(②選手情報入力!T25=\"\",\"\",IF(G16=1,IF(②選手情報入力!$U$6=\"\",\"\",②選手情報入力!$U$6),IF(②選手情報入力!$U$7=\"\",\"\",②選手情報入力!$U$7))))","v":""},{"$f":"IF(E16=\"\",\"\",IF(②選手情報入力!T25=\"\",\"\",IF(G16=1,IF(②選手情報入力!$T$6=\"\",0,1),IF(②選手情報入力!$T$7=\"\",0,1))))","v":""},{"$f":"IF(E16=\"\",\"\",IF(②選手情報入力!T25=\"\",\"\",2))","v":""},"",{"$f":"IF(E16=\"\",\"\",IF(②選手情報入力!V25=\"\",\"\",IF(G16=1,IF(②選手情報入力!$W$6=\"\",\"\",②選手情報入力!$W$6),IF(②選手情報入力!$W$7=\"\",\"\",②選手情報入力!$W$7))))","v":""},{"$f":"IF(E16=\"\",\"\",IF(②選手情報入力!V25=\"\",\"\",IF(G16=1,IF(②選手情報入力!$V$6=\"\",0,1),IF(②選手情報入力!$V$7=\"\",0,1))))","v":""},{"$f":"IF(E16=\"\",\"\",IF(②選手情報入力!V25=\"\",\"\",2))","v":""}]
[{"$f":"IF(E17=\"\",\"\",data_kyogisha!A17)","v":""},{"$f":"IF(E17=\"\",\"\",①団体情報入力!$C$5)","v":""},{"$f":"IF(A17=\"\",\"\",VLOOKUP(B17,Sheet6!C:D,2,0))","v":""},null,{"$f":"IF(②選手情報入力!C26=\"\",\"\",②選手情報入力!C26)","v":""},{"$f":"IF(E17=\"\",\"\",②選手情報入力!D26)","v":""},{"$f":"IF(E17=\"\",\"\",IF(②選手情報入力!I26=\"男\",1,2))","v":""},{"$f":"IF(E17=\"\",\"\",VLOOKUP(data_kyogisha!Q17,Sheet3!A:G,2,0))","v":""},{"$f":"IF(E17=\"\",\"\",IF(②選手情報入力!M26=\"\",\"\",②選手情報入力!M26))","v":""},{"$f":"IF(E17=\"\",\"\",②選手情報入力!N26)","v":""},{"$f":"IF(E17=\"\",\"\",VLOOKUP(data_kyogisha!U17,Sheet3!A:G,2,0))","v":""},{"$f":"IF(E17=\"\",\"\",IF(②選手情報入力!P26=\"\",\"\",②選手情報入力!P26))","v":""},{"$f":"IF(E17=\"\",\"\",②選手情報入力!Q26)","v":""},"",{"$f":"IF(E17=\"\",\"\",IF(②選手情報入力!S26=\"\",\"\",②選手情報入力!S26))","v":""},"","",{"$f":"IF(E17=\"\",\"\",IF(②選手情報入力!T26=\"\",\"\",IF(G17=1,IF(②選手情報入力!$U$6=\"\",\"\",②選手情報入力!$U$6),IF(②選手情報入力!$U$7=\"\",\"\",②選手情報入力!$U$7))))","v":""},{"$f":"IF(E17=\"\",\"\",IF(②選手情報入力!T26=\"\",\"\",IF(G17=1,IF(②選手情報入力!$T$6=\"\",0,1),IF(②選手情報入力!$T$7=\"\",0,1))))","v":""},{"$f":"IF(E17=\"\",\"\",IF(②選手情報入力!T26=\"\",\"\",2))","v":""},"",{"$f":"IF(E17=\"\",\"\",IF(②選手情報入力!V26=\"\",\"\",IF(G17=1,IF(②選手情報入力!$W$6=\"\",\"\",②選手情報入力!$W$6),IF(②選手情報入力!$W$7=\"\",\"\",②選手情報入力!$W$7))))","v":""},{"$f":"IF(E17=\"\",\"\",IF(②選手情報入力!V26=\"\",\"\",IF(G17=1,IF(②選手情報入力!$V$6=\"\",0,1),IF(②選手情報入力!$V$7=\"\",0,1))))","v":""},{"$f":"IF(E17=\"\",\"\",IF(②選手情報入力!V26=\"\",\"\",2))","v":""}]
[{"$f":"IF(E18=\"\",\"\",data_kyogisha!A18)","v":""},{"$f":"IF(E18=\"\",\"\",①団体情報入力!$C$5)","v":""},{"$f":"IF(A18=\"\",\"\",VLOOKUP(B18,Sheet6!C:D,2,0))","v":""},null,{"$f":"IF(②選手情報入力!C27=\"\",\"\",②選手情報入力!C27)","v":""},{"$f":"IF(E18=\"\",\"\",②選手情報入力!D27)","v":""},{"$f":"IF(E18=\"\",\"\",IF(②選手情報入力!I27=\"男\",1,2))","v":""},{"$f":"IF(E18=\"\",\"\",VLOOKUP(data_kyogisha!Q18,Sheet3!A:G,2,0))","v":""},{"$f":"IF(E18=\"\",\"\",IF(②選手情報入力!M27=\"\",\"\",②選手情報入力!M27))","v":""},{"$f":"IF(E18=\"\",\"\",②選手情報入力!N27)","v":""},{"$f":"IF(E18=\"\",\"\",VLOOKUP(data_kyogisha!U18,Sheet3!A:G,2,0))","v":""},{"$f":"IF(E18=\"\",\"\",IF(②選手情報入力!P27=\"\",\"\",②選手情報入力!P27))","v":""},{"$f":"IF(E18=\"\",\"\",②選手情報入力!Q27)","v":""},"",{"$f":"IF(E18=\"\",\"\",IF(②選手情報入力!S27=\"\",\"\",②選手情報入力!S27))","v":""},"","",{"$f":"IF(E18=\"\",\"\",IF(②選手情報入力!T27=\"\",\"\",IF(G18=1,IF(②選手情報入力!$U$6=\"\",\"\",②選手情報入力!$U$6),IF(②選手情報入力!$U$7=\"\",\"\",②選手情報入力!$U$7))))","v":""},{"$f":"IF(E18=\"\",\"\",IF(②選手情報入力!T27=\"\",\"\",IF(G18=1,IF(②選手情報入力!$T$6=\"\",0,1),IF(②選手情報入力!$T$7=\"\",0,1))))","v":""},{"$f":"IF(E18=\"\",\"\",IF(②選手情報入力!T27=\"\",\"\",2))","v":""},"",{"$f":"IF(E18=\"\",\"\",IF(②選手情報入力!V27=\"\",\"\",IF(G18=1,IF(②選手情報入力!$W$6=\"\",\"\",②選手情報入力!$W$6),IF(②選手情報入力!$W$7=\"\",\"\",②選手情報入力!$W$7))))","v":""},{"$f":"IF(E18=\"\",\"\",IF(②選手情報入力!V27=\"\",\"\",IF(G18=1,IF(②選手情報入力!$V$6=\"\",0,1),IF(②選手情報入力!$V$7=\"\",0,1))))","v":""},{"$f":"IF(E18=\"\",\"\",IF(②選手情報入力!V27=\"\",\"\",2))","v":""}]
[{"$f":"IF(E19=\"\",\"\",data_kyogisha!A19)","v":""},{"$f":"IF(E19=\"\",\"\",①団体情報入力!$C$5)","v":""},{"$f":"IF(A19=\"\",\"\",VLOOKUP(B19,Sheet6!C:D,2,0))","v":""},null,{"$f":"IF(②選手情報入力!C28=\"\",\"\",②選手情報入力!C28)","v":""},{"$f":"IF(E19=\"\",\"\",②選手情報入力!D28)","v":""},{"$f":"IF(E19=\"\",\"\",IF(②選手情報入力!I28=\"男\",1,2))","v":""},{"$f":"IF(E19=\"\",\"\",VLOOKUP(data_kyogisha!Q19,Sheet3!A:G,2,0))","v":""},{"$f":"IF(E19=\"\",\"\",IF(②選手情報入力!M28=\"\",\"\",②選手情報入力!M28))","v":""},{"$f":"IF(E19=\"\",\"\",②選手情報入力!N28)","v":""},{"$f":"IF(E19=\"\",\"\",VLOOKUP(data_kyogisha!U19,Sheet3!A:G,2,0))","v":""},{"$f":"IF(E19=\"\",\"\",IF(②選手情報入力!P28=\"\",\"\",②選手情報入力!P28))","v":""},{"$f":"IF(E19=\"\",\"\",②選手情報入力!Q28)","v":""},"",{"$f":"IF(E19=\"\",\"\",IF(②選手情報入力!S28=\"\",\"\",②選手情報入力!S28))","v":""},"","",{"$f":"IF(E19=\"\",\"\",IF(②選手情報入力!T28=\"\",\"\",IF(G19=1,IF(②選手情報入力!$U$6=\"\",\"\",②選手情報入力!$U$6),IF(②選手情報入力!$U$7=\"\",\"\",②選手情報入力!$U$7))))","v":""},{"$f":"IF(E19=\"\",\"\",IF(②選手情報入力!T28=\"\",\"\",IF(G19=1,IF(②選手情報入力!$T$6=\"\",0,1),IF(②選手情報入力!$T$7=\"\",0,1))))","v":""},{"$f":"IF(E19=\"\",\"\",IF(②選手情報入力!T28=\"\",\"\",2))","v":""},"",{"$f":"IF(E19=\"\",\"\",IF(②選手情報入力!V28=\"\",\"\",IF(G19=1,IF(②選手情報入力!$W$6=\"\",\"\",②選手情報入力!$W$6),IF(②選手情報入力!$W$7=\"\",\"\",②選手情報入力!$W$7))))","v":""},{"$f":"IF(E19=\"\",\"\",IF(②選手情報入力!V28=\"\",\"\",IF(G19=1,IF(②選手情報入力!$V$6=\"\",0,1),IF(②選手情報入力!$V$7=\"\",0,1))))","v":""},{"$f":"IF(E19=\"\",\"\",IF(②選手情報入力!V28=\"\",\"\",2))","v":""}]
[{"$f":"IF(E20=\"\",\"\",data_kyogisha!A20)","v":""},{"$f":"IF(E20=\"\",\"\",①団体情報入力!$C$5)","v":""},{"$f":"IF(A20=\"\",\"\",VLOOKUP(B20,Sheet6!C:D,2,0))","v":""},null,{"$f":"IF(②選手情報入力!C29=\"\",\"\",②選手情報入力!C29)","v":""},{"$f":"IF(E20=\"\",\"\",②選手情報入力!D29)","v":""},{"$f":"IF(E20=\"\",\"\",IF(②選手情報入力!I29=\"男\",1,2))","v":""},{"$f":"IF(E20=\"\",\"\",VLOOKUP(data_kyogisha!Q20,Sheet3!A:G,2,0))","v":""},{"$f":"IF(E20=\"\",\"\",IF(②選手情報入力!M29=\"\",\"\",②選手情報入力!M29))","v":""},{"$f":"IF(E20=\"\",\"\",②選手情報入力!N29)","v":""},{"$f":"IF(E20=\"\",\"\",VLOOKUP(data_kyogisha!U20,Sheet3!A:G,2,0))","v":""},{"$f":"IF(E20=\"\",\"\",IF(②選手情報入力!P29=\"\",\"\",②選手情報入力!P29))","v":""},{"$f":"IF(E20=\"\",\"\",②選手情報入力!Q29)","v":""},"",{"$f":"IF(E20=\"\",\"\",IF(②選手情報入力!S29=\"\",\"\",②選手情報入力!S29))","v":""},"","",{"$f":"IF(E20=\"\",\"\",IF(②選手情報入力!T29=\"\",\"\",IF(G20=1,IF(②選手情報入力!$U$6=\"\",\"\",②選手情報入力!$U$6),IF(②選手情報入力!$U$7=\"\",\"\",②選手情報入力!$U$7))))","v":""},{"$f":"IF(E20=\"\",\"\",IF(②選手情報入力!T29=\"\",\"\",IF(G20=1,IF(②選手情報入力!$T$6=\"\",0,1),IF(②選手情報入力!$T$7=\"\",0,1))))","v":""},{"$f":"IF(E20=\"\",\"\",IF(②選手情報入力!T29=\"\",\"\",2))","v":""},"",{"$f":"IF(E20=\"\",\"\",IF(②選手情報入力!V29=\"\",\"\",IF(G20=1,IF(②選手情報入力!$W$6=\"\",\"\",②選手情報入力!$W$6),IF(②選手情報入力!$W$7=\"\",\"\",②選手情報入力!$W$7))))","v":""},{"$f":"IF(E20=\"\",\"\",IF(②選手情報入力!V29=\"\",\"\",IF(G20=1,IF(②選手情報入力!$V$6=\"\",0,1),IF(②選手情報入力!$V$7=\"\",0,1))))","v":""},{"$f":"IF(E20=\"\",\"\",IF(②選手情報入力!V29=\"\",\"\",2))","v":""}]
[{"$f":"IF(E21=\"\",\"\",data_kyogisha!A21)","v":""},{"$f":"IF(E21=\"\",\"\",①団体情報入力!$C$5)","v":""},{"$f":"IF(A21=\"\",\"\",VLOOKUP(B21,Sheet6!C:D,2,0))","v":""},null,{"$f":"IF(②選手情報入力!C30=\"\",\"\",②選手情報入力!C30)","v":""},{"$f":"IF(E21=\"\",\"\",②選手情報入力!D30)","v":""},{"$f":"IF(E21=\"\",\"\",IF(②選手情報入力!I30=\"男\",1,2))","v":""},{"$f":"IF(E21=\"\",\"\",VLOOKUP(data_kyogisha!Q21,Sheet3!A:G,2,0))","v":""},{"$f":"IF(E21=\"\",\"\",IF(②選手情報入力!M30=\"\",\"\",②選手情報入力!M30))","v":""},{"$f":"IF(E21=\"\",\"\",②選手情報入力!N30)","v":""},{"$f":"IF(E21=\"\",\"\",VLOOKUP(data_kyogisha!U21,Sheet3!A:G,2,0))","v":""},{"$f":"IF(E21=\"\",\"\",IF(②選手情報入力!P30=\"\",\"\",②選手情報入力!P30))","v":""},{"$f":"IF(E21=\"\",\"\",②選手情報入力!Q30)","v":""},"",{"$f":"IF(E21=\"\",\"\",IF(②選手情報入力!S30=\"\",\"\",②選手情報入力!S30))","v":""},"","",{"$f":"IF(E21=\"\",\"\",IF(②選手情報入力!T30=\"\",\"\",IF(G21=1,IF(②選手情報入力!$U$6=\"\",\"\",②選手情報入力!$U$6),IF(②選手情報入力!$U$7=\"\",\"\",②選手情報入力!$U$7))))","v":""},{"$f":"IF(E21=\"\",\"\",IF(②選手情報入力!T30=\"\",\"\",IF(G21=1,IF(②選手情報入力!$T$6=\"\",0,1),IF(②選手情報入力!$T$7=\"\",0,1))))","v":""},{"$f":"IF(E21=\"\",\"\",IF(②選手情報入力!T30=\"\",\"\",2))","v":""},"",{"$f":"IF(E21=\"\",\"\",IF(②選手情報入力!V30=\"\",\"\",IF(G21=1,IF(②選手情報入力!$W$6=\"\",\"\",②選手情報入力!$W$6),IF(②選手情報入力!$W$7=\"\",\"\",②選手情報入力!$W$7))))","v":""},{"$f":"IF(E21=\"\",\"\",IF(②選手情報入力!V30=\"\",\"\",IF(G21=1,IF(②選手情報入力!$V$6=\"\",0,1),IF(②選手情報入力!$V$7=\"\",0,1))))","v":""},{"$f":"IF(E21=\"\",\"\",IF(②選手情報入力!V30=\"\",\"\",2))","v":""}]
[{"$f":"IF(E22=\"\",\"\",data_kyogisha!A22)","v":""},{"$f":"IF(E22=\"\",\"\",①団体情報入力!$C$5)","v":""},{"$f":"IF(A22=\"\",\"\",VLOOKUP(B22,Sheet6!C:D,2,0))","v":""},null,{"$f":"IF(②選手情報入力!C31=\"\",\"\",②選手情報入力!C31)","v":""},{"$f":"IF(E22=\"\",\"\",②選手情報入力!D31)","v":""},{"$f":"IF(E22=\"\",\"\",IF(②選手情報入力!I31=\"男\",1,2))","v":""},{"$f":"IF(E22=\"\",\"\",VLOOKUP(data_kyogisha!Q22,Sheet3!A:G,2,0))","v":""},{"$f":"IF(E22=\"\",\"\",IF(②選手情報入力!M31=\"\",\"\",②選手情報入力!M31))","v":""},{"$f":"IF(E22=\"\",\"\",②選手情報入力!N31)","v":""},{"$f":"IF(E22=\"\",\"\",VLOOKUP(data_kyogisha!U22,Sheet3!A:G,2,0))","v":""},{"$f":"IF(E22=\"\",\"\",IF(②選手情報入力!P31=\"\",\"\",②選手情報入力!P31))","v":""},{"$f":"IF(E22=\"\",\"\",②選手情報入力!Q31)","v":""},"",{"$f":"IF(E22=\"\",\"\",IF(②選手情報入力!S31=\"\",\"\",②選手情報入力!S31))","v":""},"","",{"$f":"IF(E22=\"\",\"\",IF(②選手情報入力!T31=\"\",\"\",IF(G22=1,IF(②選手情報入力!$U$6=\"\",\"\",②選手情報入力!$U$6),IF(②選手情報入力!$U$7=\"\",\"\",②選手情報入力!$U$7))))","v":""},{"$f":"IF(E22=\"\",\"\",IF(②選手情報入力!T31=\"\",\"\",IF(G22=1,IF(②選手情報入力!$T$6=\"\",0,1),IF(②選手情報入力!$T$7=\"\",0,1))))","v":""},{"$f":"IF(E22=\"\",\"\",IF(②選手情報入力!T31=\"\",\"\",2))","v":""},"",{"$f":"IF(E22=\"\",\"\",IF(②選手情報入力!V31=\"\",\"\",IF(G22=1,IF(②選手情報入力!$W$6=\"\",\"\",②選手情報入力!$W$6),IF(②選手情報入力!$W$7=\"\",\"\",②選手情報入力!$W$7))))","v":""},{"$f":"IF(E22=\"\",\"\",IF(②選手情報入力!V31=\"\",\"\",IF(G22=1,IF(②選手情報入力!$V$6=\"\",0,1),IF(②選手情報入力!$V$7=\"\",0,1))))","v":""},{"$f":"IF(E22=\"\",\"\",IF(②選手情報入力!V31=\"\",\"\",2))","v":""}]
[{"$f":"IF(E23=\"\",\"\",data_kyogisha!A23)","v":""},{"$f":"IF(E23=\"\",\"\",①団体情報入力!$C$5)","v":""},{"$f":"IF(A23=\"\",\"\",VLOOKUP(B23,Sheet6!C:D,2,0))","v":""},null,{"$f":"IF(②選手情報入力!C32=\"\",\"\",②選手情報入力!C32)","v":""},{"$f":"IF(E23=\"\",\"\",②選手情報入力!D32)","v":""},{"$f":"IF(E23=\"\",\"\",IF(②選手情報入力!I32=\"男\",1,2))","v":""},{"$f":"IF(E23=\"\",\"\",VLOOKUP(data_kyogisha!Q23,Sheet3!A:G,2,0))","v":""},{"$f":"IF(E23=\"\",\"\",IF(②選手情報入力!M32=\"\",\"\",②選手情報入力!M32))","v":""},{"$f":"IF(E23=\"\",\"\",②選手情報入力!N32)","v":""},{"$f":"IF(E23=\"\",\"\",VLOOKUP(data_kyogisha!U23,Sheet3!A:G,2,0))","v":""},{"$f":"IF(E23=\"\",\"\",IF(②選手情報入力!P32=\"\",\"\",②選手情報入力!P32))","v":""},{"$f":"IF(E23=\"\",\"\",②選手情報入力!Q32)","v":""},"",{"$f":"IF(E23=\"\",\"\",IF(②選手情報入力!S32=\"\",\"\",②選手情報入力!S32))","v":""},"","",{"$f":"IF(E23=\"\",\"\",IF(②選手情報入力!T32=\"\",\"\",IF(G23=1,IF(②選手情報入力!$U$6=\"\",\"\",②選手情報入力!$U$6),IF(②選手情報入力!$U$7=\"\",\"\",②選手情報入力!$U$7))))","v":""},{"$f":"IF(E23=\"\",\"\",IF(②選手情報入力!T32=\"\",\"\",IF(G23=1,IF(②選手情報入力!$T$6=\"\",0,1),IF(②選手情報入力!$T$7=\"\",0,1))))","v":""},{"$f":"IF(E23=\"\",\"\",IF(②選手情報入力!T32=\"\",\"\",2))","v":""},"",{"$f":"IF(E23=\"\",\"\",IF(②選手情報入力!V32=\"\",\"\",IF(G23=1,IF(②選手情報入力!$W$6=\"\",\"\",②選手情報入力!$W$6),IF(②選手情報入力!$W$7=\"\",\"\",②選手情報入力!$W$7))))","v":""},{"$f":"IF(E23=\"\",\"\",IF(②選手情報入力!V32=\"\",\"\",IF(G23=1,IF(②選手情報入力!$V$6=\"\",0,1),IF(②選手情報入力!$V$7=\"\",0,1))))","v":""},{"$f":"IF(E23=\"\",\"\",IF(②選手情報入力!V32=\"\",\"\",2))","v":""}]
[{"$f":"IF(E24=\"\",\"\",data_kyogisha!A24)","v":""},{"$f":"IF(E24=\"\",\"\",①団体情報入力!$C$5)","v":""},{"$f":"IF(A24=\"\",\"\",VLOOKUP(B24,Sheet6!C:D,2,0))","v":""},null,{"$f":"IF(②選手情報入力!C33=\"\",\"\",②選手情報入力!C33)","v":""},{"$f":"IF(E24=\"\",\"\",②選手情報入力!D33)","v":""},{"$f":"IF(E24=\"\",\"\",IF(②選手情報入力!I33=\"男\",1,2))","v":""},{"$f":"IF(E24=\"\",\"\",VLOOKUP(data_kyogisha!Q24,Sheet3!A:G,2,0))","v":""},{"$f":"IF(E24=\"\",\"\",IF(②選手情報入力!M33=\"\",\"\",②選手情報入力!M33))","v":""},{"$f":"IF(E24=\"\",\"\",②選手情報入力!N33)","v":""},{"$f":"IF(E24=\"\",\"\",VLOOKUP(data_kyogisha!U24,Sheet3!A:G,2,0))","v":""},{"$f":"IF(E24=\"\",\"\",IF(②選手情報入力!P33=\"\",\"\",②選手情報入力!P33))","v":""},{"$f":"IF(E24=\"\",\"\",②選手情報入力!Q33)","v":""},"",{"$f":"IF(E24=\"\",\"\",IF(②選手情報入力!S33=\"\",\"\",②選手情報入力!S33))","v":""},"","",{"$f":"IF(E24=\"\",\"\",IF(②選手情報入力!T33=\"\",\"\",IF(G24=1,IF(②選手情報入力!$U$6=\"\",\"\",②選手情報入力!$U$6),IF(②選手情報入力!$U$7=\"\",\"\",②選手情報入力!$U$7))))","v":""},{"$f":"IF(E24=\"\",\"\",IF(②選手情報入力!T33=\"\",\"\",IF(G24=1,IF(②選手情報入力!$T$6=\"\",0,1),IF(②選手情報入力!$T$7=\"\",0,1))))","v":""},{"$f":"IF(E24=\"\",\"\",IF(②選手情報入力!T33=\"\",\"\",2))","v":""},"",{"$f":"IF(E24=\"\",\"\",IF(②選手情報入力!V33=\"\",\"\",IF(G24=1,IF(②選手情報入力!$W$6=\"\",\"\",②選手情報入力!$W$6),IF(②選手情報入力!$W$7=\"\",\"\",②選手情報入力!$W$7))))","v":""},{"$f":"IF(E24=\"\",\"\",IF(②選手情報入力!V33=\"\",\"\",IF(G24=1,IF(②選手情報入力!$V$6=\"\",0,1),IF(②選手情報入力!$V$7=\"\",0,1))))","v":""},{"$f":"IF(E24=\"\",\"\",IF(②選手情報入力!V33=\"\",\"\",2))","v":""}]
[{"$f":"IF(E25=\"\",\"\",data_kyogisha!A25)","v":""},{"$f":"IF(E25=\"\",\"\",①団体情報入力!$C$5)","v":""},{"$f":"IF(A25=\"\",\"\",VLOOKUP(B25,Sheet6!C:D,2,0))","v":""},null,{"$f":"IF(②選手情報入力!C34=\"\",\"\",②選手情報入力!C34)","v":""},{"$f":"IF(E25=\"\",\"\",②選手情報入力!D34)","v":""},{"$f":"IF(E25=\"\",\"\",IF(②選手情報入力!I34=\"男\",1,2))","v":""},{"$f":"IF(E25=\"\",\"\",VLOOKUP(data_kyogisha!Q25,Sheet3!A:G,2,0))","v":""},{"$f":"IF(E25=\"\",\"\",IF(②選手情報入力!M34=\"\",\"\",②選手情報入力!M34))","v":""},{"$f":"IF(E25=\"\",\"\",②選手情報入力!N34)","v":""},{"$f":"IF(E25=\"\",\"\",VLOOKUP(data_kyogisha!U25,Sheet3!A:G,2,0))","v":""},{"$f":"IF(E25=\"\",\"\",IF(②選手情報入力!P34=\"\",\"\",②選手情報入力!P34))","v":""},{"$f":"IF(E25=\"\",\"\",②選手情報入力!Q34)","v":""},"",{"$f":"IF(E25=\"\",\"\",IF(②選手情報入力!S34=\"\",\"\",②選手情報入力!S34))","v":""},"","",{"$f":"IF(E25=\"\",\"\",IF(②選手情報入力!T34=\"\",\"\",IF(G25=1,IF(②選手情報入力!$U$6=\"\",\"\",②選手情報入力!$U$6),IF(②選手情報入力!$U$7=\"\",\"\",②選手情報入力!$U$7))))","v":""},{"$f":"IF(E25=\"\",\"\",IF(②選手情報入力!T34=\"\",\"\",IF(G25=1,IF(②選手情報入力!$T$6=\"\",0,1),IF(②選手情報入力!$T$7=\"\",0,1))))","v":""},{"$f":"IF(E25=\"\",\"\",IF(②選手情報入力!T34=\"\",\"\",2))","v":""},"",{"$f":"IF(E25=\"\",\"\",IF(②選手情報入力!V34=\"\",\"\",IF(G25=1,IF(②選手情報入力!$W$6=\"\",\"\",②選手情報入力!$W$6),IF(②選手情報入力!$W$7=\"\",\"\",②選手情報入力!$W$7))))","v":""},{"$f":"IF(E25=\"\",\"\",IF(②選手情報入力!V34=\"\",\"\",IF(G25=1,IF(②選手情報入力!$V$6=\"\",0,1),IF(②選手情報入力!$V$7=\"\",0,1))))","v":""},{"$f":"IF(E25=\"\",\"\",IF(②選手情報入力!V34=\"\",\"\",2))","v":""}]
[{"$f":"IF(E26=\"\",\"\",data_kyogisha!A26)","v":""},{"$f":"IF(E26=\"\",\"\",①団体情報入力!$C$5)","v":""},{"$f":"IF(A26=\"\",\"\",VLOOKUP(B26,Sheet6!C:D,2,0))","v":""},null,{"$f":"IF(②選手情報入力!C35=\"\",\"\",②選手情報入力!C35)","v":""},{"$f":"IF(E26=\"\",\"\",②選手情報入力!D35)","v":""},{"$f":"IF(E26=\"\",\"\",IF(②選手情報入力!I35=\"男\",1,2))","v":""},{"$f":"IF(E26=\"\",\"\",VLOOKUP(data_kyogisha!Q26,Sheet3!A:G,2,0))","v":""},{"$f":"IF(E26=\"\",\"\",IF(②選手情報入力!M35=\"\",\"\",②選手情報入力!M35))","v":""},{"$f":"IF(E26=\"\",\"\",②選手情報入力!N35)","v":""},{"$f":"IF(E26=\"\",\"\",VLOOKUP(data_kyogisha!U26,Sheet3!A:G,2,0))","v":""},{"$f":"IF(E26=\"\",\"\",IF(②選手情報入力!P35=\"\",\"\",②選手情報入力!P35))","v":""},{"$f":"IF(E26=\"\",\"\",②選手情報入力!Q35)","v":""},"",{"$f":"IF(E26=\"\",\"\",IF(②選手情報入力!S35=\"\",\"\",②選手情報入力!S35))","v":""},"","",{"$f":"IF(E26=\"\",\"\",IF(②選手情報入力!T35=\"\",\"\",IF(G26=1,IF(②選手情報入力!$U$6=\"\",\"\",②選手情報入力!$U$6),IF(②選手情報入力!$U$7=\"\",\"\",②選手情報入力!$U$7))))","v":""},{"$f":"IF(E26=\"\",\"\",IF(②選手情報入力!T35=\"\",\"\",IF(G26=1,IF(②選手情報入力!$T$6=\"\",0,1),IF(②選手情報入力!$T$7=\"\",0,1))))","v":""},{"$f":"IF(E26=\"\",\"\",IF(②選手情報入力!T35=\"\",\"\",2))","v":""},"",{"$f":"IF(E26=\"\",\"\",IF(②選手情報入力!V35=\"\",\"\",IF(G26=1,IF(②選手情報入力!$W$6=\"\",\"\",②選手情報入力!$W$6),IF(②選手情報入力!$W$7=\"\",\"\",②選手情報入力!$W$7))))","v":""},{"$f":"IF(E26=\"\",\"\",IF(②選手情報入力!V35=\"\",\"\",IF(G26=1,IF(②選手情報入力!$V$6=\"\",0,1),IF(②選手情報入力!$V$7=\"\",0,1))))","v":""},{"$f":"IF(E26=\"\",\"\",IF(②選手情報入力!V35=\"\",\"\",2))","v":""}]
[{"$f":"IF(E27=\"\",\"\",data_kyogisha!A27)","v":""},{"$f":"IF(E27=\"\",\"\",①団体情報入力!$C$5)","v":""},{"$f":"IF(A27=\"\",\"\",VLOOKUP(B27,Sheet6!C:D,2,0))","v":""},null,{"$f":"IF(②選手情報入力!C36=\"\",\"\",②選手情報入力!C36)","v":""},{"$f":"IF(E27=\"\",\"\",②選手情報入力!D36)","v":""},{"$f":"IF(E27=\"\",\"\",IF(②選手情報入力!I36=\"男\",1,2))","v":""},{"$f":"IF(E27=\"\",\"\",VLOOKUP(data_kyogisha!Q27,Sheet3!A:G,2,0))","v":""},{"$f":"IF(E27=\"\",\"\",IF(②選手情報入力!M36=\"\",\"\",②選手情報入力!M36))","v":""},{"$f":"IF(E27=\"\",\"\",②選手情報入力!N36)","v":""},{"$f":"IF(E27=\"\",\"\",VLOOKUP(data_kyogisha!U27,Sheet3!A:G,2,0))","v":""},{"$f":"IF(E27=\"\",\"\",IF(②選手情報入力!P36=\"\",\"\",②選手情報入力!P36))","v":""},{"$f":"IF(E27=\"\",\"\",②選手情報入力!Q36)","v":""},"",{"$f":"IF(E27=\"\",\"\",IF(②選手情報入力!S36=\"\",\"\",②選手情報入力!S36))","v":""},"","",{"$f":"IF(E27=\"\",\"\",IF(②選手情報入力!T36=\"\",\"\",IF(G27=1,IF(②選手情報入力!$U$6=\"\",\"\",②選手情報入力!$U$6),IF(②選手情報入力!$U$7=\"\",\"\",②選手情報入力!$U$7))))","v":""},{"$f":"IF(E27=\"\",\"\",IF(②選手情報入力!T36=\"\",\"\",IF(G27=1,IF(②選手情報入力!$T$6=\"\",0,1),IF(②選手情報入力!$T$7=\"\",0,1))))","v":""},{"$f":"IF(E27=\"\",\"\",IF(②選手情報入力!T36=\"\",\"\",2))","v":""},"",{"$f":"IF(E27=\"\",\"\",IF(②選手情報入力!V36=\"\",\"\",IF(G27=1,IF(②選手情報入力!$W$6=\"\",\"\",②選手情報入力!$W$6),IF(②選手情報入力!$W$7=\"\",\"\",②選手情報入力!$W$7))))","v":""},{"$f":"IF(E27=\"\",\"\",IF(②選手情報入力!V36=\"\",\"\",IF(G27=1,IF(②選手情報入力!$V$6=\"\",0,1),IF(②選手情報入力!$V$7=\"\",0,1))))","v":""},{"$f":"IF(E27=\"\",\"\",IF(②選手情報入力!V36=\"\",\"\",2))","v":""}]
[{"$f":"IF(E28=\"\",\"\",data_kyogisha!A28)","v":""},{"$f":"IF(E28=\"\",\"\",①団体情報入力!$C$5)","v":""},{"$f":"IF(A28=\"\",\"\",VLOOKUP(B28,Sheet6!C:D,2,0))","v":""},null,{"$f":"IF(②選手情報入力!C37=\"\",\"\",②選手情報入力!C37)","v":""},{"$f":"IF(E28=\"\",\"\",②選手情報入力!D37)","v":""},{"$f":"IF(E28=\"\",\"\",IF(②選手情報入力!I37=\"男\",1,2))","v":""},{"$f":"IF(E28=\"\",\"\",VLOOKUP(data_kyogisha!Q28,Sheet3!A:G,2,0))","v":""},{"$f":"IF(E28=\"\",\"\",IF(②選手情報入力!M37=\"\",\"\",②選手情報入力!M37))","v":""},{"$f":"IF(E28=\"\",\"\",②選手情報入力!N37)","v":""},{"$f":"IF(E28=\"\",\"\",VLOOKUP(data_kyogisha!U28,Sheet3!A:G,2,0))","v":""},{"$f":"IF(E28=\"\",\"\",IF(②選手情報入力!P37=\"\",\"\",②選手情報入力!P37))","v":""},{"$f":"IF(E28=\"\",\"\",②選手情報入力!Q37)","v":""},"",{"$f":"IF(E28=\"\",\"\",IF(②選手情報入力!S37=\"\",\"\",②選手情報入力!S37))","v":""},"","",{"$f":"IF(E28=\"\",\"\",IF(②選手情報入力!T37=\"\",\"\",IF(G28=1,IF(②選手情報入力!$U$6=\"\",\"\",②選手情報入力!$U$6),IF(②選手情報入力!$U$7=\"\",\"\",②選手情報入力!$U$7))))","v":""},{"$f":"IF(E28=\"\",\"\",IF(②選手情報入力!T37=\"\",\"\",IF(G28=1,IF(②選手情報入力!$T$6=\"\",0,1),IF(②選手情報入力!$T$7=\"\",0,1))))","v":""},{"$f":"IF(E28=\"\",\"\",IF(②選手情報入力!T37=\"\",\"\",2))","v":""},"",{"$f":"IF(E28=\"\",\"\",IF(②選手情報入力!V37=\"\",\"\",IF(G28=1,IF(②選手情報入力!$W$6=\"\",\"\",②選手情報入力!$W$6),IF(②選手情報入力!$W$7=\"\",\"\",②選手情報入力!$W$7))))","v":""},{"$f":"IF(E28=\"\",\"\",IF(②選手情報入力!V37=\"\",\"\",IF(G28=1,IF(②選手情報入力!$V$6=\"\",0,1),IF(②選手情報入力!$V$7=\"\",0,1))))","v":""},{"$f":"IF(E28=\"\",\"\",IF(②選手情報入力!V37=\"\",\"\",2))","v":""}]
[{"$f":"IF(E29=\"\",\"\",data_kyogisha!A29)","v":""},{"$f":"IF(E29=\"\",\"\",①団体情報入力!$C$5)","v":""},{"$f":"IF(A29=\"\",\"\",VLOOKUP(B29,Sheet6!C:D,2,0))","v":""},null,{"$f":"IF(②選手情報入力!C38=\"\",\"\",②選手情報入力!C38)","v":""},{"$f":"IF(E29=\"\",\"\",②選手情報入力!D38)","v":""},{"$f":"IF(E29=\"\",\"\",IF(②選手情報入力!I38=\"男\",1,2))","v":""},{"$f":"IF(E29=\"\",\"\",VLOOKUP(data_kyogisha!Q29,Sheet3!A:G,2,0))","v":""},{"$f":"IF(E29=\"\",\"\",IF(②選手情報入力!M38=\"\",\"\",②選手情報入力!M38))","v":""},{"$f":"IF(E29=\"\",\"\",②選手情報入力!N38)","v":""},{"$f":"IF(E29=\"\",\"\",VLOOKUP(data_kyogisha!U29,Sheet3!A:G,2,0))","v":""},{"$f":"IF(E29=\"\",\"\",IF(②選手情報入力!P38=\"\",\"\",②選手情報入力!P38))","v":""},{"$f":"IF(E29=\"\",\"\",②選手情報入力!Q38)","v":""},"",{"$f":"IF(E29=\"\",\"\",IF(②選手情報入力!S38=\"\",\"\",②選手情報入力!S38))","v":""},"","",{"$f":"IF(E29=\"\",\"\",IF(②選手情報入力!T38=\"\",\"\",IF(G29=1,IF(②選手情報入力!$U$6=\"\",\"\",②選手情報入力!$U$6),IF(②選手情報入力!$U$7=\"\",\"\",②選手情報入力!$U$7))))","v":""},{"$f":"IF(E29=\"\",\"\",IF(②選手情報入力!T38=\"\",\"\",IF(G29=1,IF(②選手情報入力!$T$6=\"\",0,1),IF(②選手情報入力!$T$7=\"\",0,1))))","v":""},{"$f":"IF(E29=\"\",\"\",IF(②選手情報入力!T38=\"\",\"\",2))","v":""},"",{"$f":"IF(E29=\"\",\"\",IF(②選手情報入力!V38=\"\",\"\",IF(G29=1,IF(②選手情報入力!$W$6=\"\",\"\",②選手情報入力!$W$6),IF(②選手情報入力!$W$7=\"\",\"\",②選手情報入力!$W$7))))","v":""},{"$f":"IF(E29=\"\",\"\",IF(②選手情報入力!V38=\"\",\"\",IF(G29=1,IF(②選手情報入力!$V$6=\"\",0,1),IF(②選手情報入力!$V$7=\"\",0,1))))","v":""},{"$f":"IF(E29=\"\",\"\",IF(②選手情報入力!V38=\"\",\"\",2))","v":""}]
[{"$f":"IF(E30=\"\",\"\",data_kyogisha!A30)","v":""},{"$f":"IF(E30=\"\",\"\",①団体情報入力!$C$5)","v":""},{"$f":"IF(A30=\"\",\"\",VLOOKUP(B30,Sheet6!C:D,2,0))","v":""},null,{"$f":"IF(②選手情報入力!C39=\"\",\"\",②選手情報入力!C39)","v":""},{"$f":"IF(E30=\"\",\"\",②選手情報入力!D39)","v":""},{"$f":"IF(E30=\"\",\"\",IF(②選手情報入力!I39=\"男\",1,2))","v":""},{"$f":"IF(E30=\"\",\"\",VLOOKUP(data_kyogisha!Q30,Sheet3!A:G,2,0))","v":""},{"$f":"IF(E30=\"\",\"\",IF(②選手情報入力!M39=\"\",\"\",②選手情報入力!M39))","v":""},{"$f":"IF(E30=\"\",\"\",②選手情報入力!N39)","v":""},{"$f":"IF(E30=\"\",\"\",VLOOKUP(data_kyogisha!U30,Sheet3!A:G,2,0))","v":""},{"$f":"IF(E30=\"\",\"\",IF(②選手情報入力!P39=\"\",\"\",②選手情報入力!P39))","v":""},{"$f":"IF(E30=\"\",\"\",②選手情報入力!Q39)","v":""},"",{"$f":"IF(E30=\"\",\"\",IF(②選手情報入力!S39=\"\",\"\",②選手情報入力!S39))","v":""},"","",{"$f":"IF(E30=\"\",\"\",IF(②選手情報入力!T39=\"\",\"\",IF(G30=1,IF(②選手情報入力!$U$6=\"\",\"\",②選手情報入力!$U$6),IF(②選手情報入力!$U$7=\"\",\"\",②選手情報入力!$U$7))))","v":""},{"$f":"IF(E30=\"\",\"\",IF(②選手情報入力!T39=\"\",\"\",IF(G30=1,IF(②選手情報入力!$T$6=\"\",0,1),IF(②選手情報入力!$T$7=\"\",0,1))))","v":""},{"$f":"IF(E30=\"\",\"\",IF(②選手情報入力!T39=\"\",\"\",2))","v":""},"",{"$f":"IF(E30=\"\",\"\",IF(②選手情報入力!V39=\"\",\"\",IF(G30=1,IF(②選手情報入力!$W$6=\"\",\"\",②選手情報入力!$W$6),IF(②選手情報入力!$W$7=\"\",\"\",②選手情報入力!$W$7))))","v":""},{"$f":"IF(E30=\"\",\"\",IF(②選手情報入力!V39=\"\",\"\",IF(G30=1,IF(②選手情報入力!$V$6=\"\",0,1),IF(②選手情報入力!$V$7=\"\",0,1))))","v":""},{"$f":"IF(E30=\"\",\"\",IF(②選手情報入力!V39=\"\",\"\",2))","v":""}]
[{"$f":"IF(E31=\"\",\"\",data_kyogisha!A31)","v":""},{"$f":"IF(E31=\"\",\"\",①団体情報入力!$C$5)","v":""},{"$f":"IF(A31=\"\",\"\",VLOOKUP(B31,Sheet6!C:D,2,0))","v":""},null,{"$f":"IF(②選手情報入力!C40=\"\",\"\",②選手情報入力!C40)","v":""},{"$f":"IF(E31=\"\",\"\",②選手情報入力!D40)","v":""},{"$f":"IF(E31=\"\",\"\",IF(②選手情報入力!I40=\"男\",1,2))","v":""},{"$f":"IF(E31=\"\",\"\",VLOOKUP(data_kyogisha!Q31,Sheet3!A:G,2,0))","v":""},{"$f":"IF(E31=\"\",\"\",IF(②選手情報入力!M40=\"\",\"\",②選手情報入力!M40))","v":""},{"$f":"IF(E31=\"\",\"\",②選手情報入力!N40)","v":""},{"$f":"IF(E31=\"\",\"\",VLOOKUP(data_kyogisha!U31,Sheet3!A:G,2,0))","v":""},{"$f":"IF(E31=\"\",\"\",IF(②選手情報入力!P40=\"\",\"\",②選手情報入力!P40))","v":""},{"$f":"IF(E31=\"\",\"\",②選手情報入力!Q40)","v":""},"",{"$f":"IF(E31=\"\",\"\",IF(②選手情報入力!S40=\"\",\"\",②選手情報入力!S40))","v":""},"","",{"$f":"IF(E31=\"\",\"\",IF(②選手情報入力!T40=\"\",\"\",IF(G31=1,IF(②選手情報入力!$U$6=\"\",\"\",②選手情報入力!$U$6),IF(②選手情報入力!$U$7=\"\",\"\",②選手情報入力!$U$7))))","v":""},{"$f":"IF(E31=\"\",\"\",IF(②選手情報入力!T40=\"\",\"\",IF(G31=1,IF(②選手情報入力!$T$6=\"\",0,1),IF(②選手情報入力!$T$7=\"\",0,1))))","v":""},{"$f":"IF(E31=\"\",\"\",IF(②選手情報入力!T40=\"\",\"\",2))","v":""},"",{"$f":"IF(E31=\"\",\"\",IF(②選手情報入力!V40=\"\",\"\",IF(G31=1,IF(②選手情報入力!$W$6=\"\",\"\",②選手情報入力!$W$6),IF(②選手情報入力!$W$7=\"\",\"\",②選手情報入力!$W$7))))","v":""},{"$f":"IF(E31=\"\",\"\",IF(②選手情報入力!V40=\"\",\"\",IF(G31=1,IF(②選手情報入力!$V$6=\"\",0,1),IF(②選手情報入力!$V$7=\"\",0,1))))","v":""},{"$f":"IF(E31=\"\",\"\",IF(②選手情報入力!V40=\"\",\"\",2))","v":""}]
[{"$f":"IF(E32=\"\",\"\",data_kyogisha!A32)","v":""},{"$f":"IF(E32=\"\",\"\",①団体情報入力!$C$5)","v":""},{"$f":"IF(A32=\"\",\"\",VLOOKUP(B32,Sheet6!C:D,2,0))","v":""},null,{"$f":"IF(②選手情報入力!C41=\"\",\"\",②選手情報入力!C41)","v":""},{"$f":"IF(E32=\"\",\"\",②選手情報入力!D41)","v":""},{"$f":"IF(E32=\"\",\"\",IF(②選手情報入力!I41=\"男\",1,2))","v":""},{"$f":"IF(E32=\"\",\"\",VLOOKUP(data_kyogisha!Q32,Sheet3!A:G,2,0))","v":""},{"$f":"IF(E32=\"\",\"\",IF(②選手情報入力!M41=\"\",\"\",②選手情報入力!M41))","v":""},{"$f":"IF(E32=\"\",\"\",②選手情報入力!N41)","v":""},{"$f":"IF(E32=\"\",\"\",VLOOKUP(data_kyogisha!U32,Sheet3!A:G,2,0))","v":""},{"$f":"IF(E32=\"\",\"\",IF(②選手情報入力!P41=\"\",\"\",②選手情報入力!P41))","v":""},{"$f":"IF(E32=\"\",\"\",②選手情報入力!Q41)","v":""},"",{"$f":"IF(E32=\"\",\"\",IF(②選手情報入力!S41=\"\",\"\",②選手情報入力!S41))","v":""},"","",{"$f":"IF(E32=\"\",\"\",IF(②選手情報入力!T41=\"\",\"\",IF(G32=1,IF(②選手情報入力!$U$6=\"\",\"\",②選手情報入力!$U$6),IF(②選手情報入力!$U$7=\"\",\"\",②選手情報入力!$U$7))))","v":""},{"$f":"IF(E32=\"\",\"\",IF(②選手情報入力!T41=\"\",\"\",IF(G32=1,IF(②選手情報入力!$T$6=\"\",0,1),IF(②選手情報入力!$T$7=\"\",0,1))))","v":""},{"$f":"IF(E32=\"\",\"\",IF(②選手情報入力!T41=\"\",\"\",2))","v":""},"",{"$f":"IF(E32=\"\",\"\",IF(②選手情報入力!V41=\"\",\"\",IF(G32=1,IF(②選手情報入力!$W$6=\"\",\"\",②選手情報入力!$W$6),IF(②選手情報入力!$W$7=\"\",\"\",②選手情報入力!$W$7))))","v":""},{"$f":"IF(E32=\"\",\"\",IF(②選手情報入力!V41=\"\",\"\",IF(G32=1,IF(②選手情報入力!$V$6=\"\",0,1),IF(②選手情報入力!$V$7=\"\",0,1))))","v":""},{"$f":"IF(E32=\"\",\"\",IF(②選手情報入力!V41=\"\",\"\",2))","v":""}]
[{"$f":"IF(E33=\"\",\"\",data_kyogisha!A33)","v":""},{"$f":"IF(E33=\"\",\"\",①団体情報入力!$C$5)","v":""},{"$f":"IF(A33=\"\",\"\",VLOOKUP(B33,Sheet6!C:D,2,0))","v":""},null,{"$f":"IF(②選手情報入力!C42=\"\",\"\",②選手情報入力!C42)","v":""},{"$f":"IF(E33=\"\",\"\",②選手情報入力!D42)","v":""},{"$f":"IF(E33=\"\",\"\",IF(②選手情報入力!I42=\"男\",1,2))","v":""},{"$f":"IF(E33=\"\",\"\",VLOOKUP(data_kyogisha!Q33,Sheet3!A:G,2,0))","v":""},{"$f":"IF(E33=\"\",\"\",IF(②選手情報入力!M42=\"\",\"\",②選手情報入力!M42))","v":""},{"$f":"IF(E33=\"\",\"\",②選手情報入力!N42)","v":""},{"$f":"IF(E33=\"\",\"\",VLOOKUP(data_kyogisha!U33,Sheet3!A:G,2,0))","v":""},{"$f":"IF(E33=\"\",\"\",IF(②選手情報入力!P42=\"\",\"\",②選手情報入力!P42))","v":""},{"$f":"IF(E33=\"\",\"\",②選手情報入力!Q42)","v":""},"",{"$f":"IF(E33=\"\",\"\",IF(②選手情報入力!S42=\"\",\"\",②選手情報入力!S42))","v":""},"","",{"$f":"IF(E33=\"\",\"\",IF(②選手情報入力!T42=\"\",\"\",IF(G33=1,IF(②選手情報入力!$U$6=\"\",\"\",②選手情報入力!$U$6),IF(②選手情報入力!$U$7=\"\",\"\",②選手情報入力!$U$7))))","v":""},{"$f":"IF(E33=\"\",\"\",IF(②選手情報入力!T42=\"\",\"\",IF(G33=1,IF(②選手情報入力!$T$6=\"\",0,1),IF(②選手情報入力!$T$7=\"\",0,1))))","v":""},{"$f":"IF(E33=\"\",\"\",IF(②選手情報入力!T42=\"\",\"\",2))","v":""},"",{"$f":"IF(E33=\"\",\"\",IF(②選手情報入力!V42=\"\",\"\",IF(G33=1,IF(②選手情報入力!$W$6=\"\",\"\",②選手情報入力!$W$6),IF(②選手情報入力!$W$7=\"\",\"\",②選手情報入力!$W$7))))","v":""},{"$f":"IF(E33=\"\",\"\",IF(②選手情報入力!V42=\"\",\"\",IF(G33=1,IF(②選手情報入力!$V$6=\"\",0,1),IF(②選手情報入力!$V$7=\"\",0,1))))","v":""},{"$f":"IF(E33=\"\",\"\",IF(②選手情報入力!V42=\"\",\"\",2))","v":""}]
[{"$f":"IF(E34=\"\",\"\",data_kyogisha!A34)","v":""},{"$f":"IF(E34=\"\",\"\",①団体情報入力!$C$5)","v":""},{"$f":"IF(A34=\"\",\"\",VLOOKUP(B34,Sheet6!C:D,2,0))","v":""},null,{"$f":"IF(②選手情報入力!C43=\"\",\"\",②選手情報入力!C43)","v":""},{"$f":"IF(E34=\"\",\"\",②選手情報入力!D43)","v":""},{"$f":"IF(E34=\"\",\"\",IF(②選手情報入力!I43=\"男\",1,2))","v":""},{"$f":"IF(E34=\"\",\"\",VLOOKUP(data_kyogisha!Q34,Sheet3!A:G,2,0))","v":""},{"$f":"IF(E34=\"\",\"\",IF(②選手情報入力!M43=\"\",\"\",②選手情報入力!M43))","v":""},{"$f":"IF(E34=\"\",\"\",②選手情報入力!N43)","v":""},{"$f":"IF(E34=\"\",\"\",VLOOKUP(data_kyogisha!U34,Sheet3!A:G,2,0))","v":""},{"$f":"IF(E34=\"\",\"\",IF(②選手情報入力!P43=\"\",\"\",②選手情報入力!P43))","v":""},{"$f":"IF(E34=\"\",\"\",②選手情報入力!Q43)","v":""},"",{"$f":"IF(E34=\"\",\"\",IF(②選手情報入力!S43=\"\",\"\",②選手情報入力!S43))","v":""},"","",{"$f":"IF(E34=\"\",\"\",IF(②選手情報入力!T43=\"\",\"\",IF(G34=1,IF(②選手情報入力!$U$6=\"\",\"\",②選手情報入力!$U$6),IF(②選手情報入力!$U$7=\"\",\"\",②選手情報入力!$U$7))))","v":""},{"$f":"IF(E34=\"\",\"\",IF(②選手情報入力!T43=\"\",\"\",IF(G34=1,IF(②選手情報入力!$T$6=\"\",0,1),IF(②選手情報入力!$T$7=\"\",0,1))))","v":""},{"$f":"IF(E34=\"\",\"\",IF(②選手情報入力!T43=\"\",\"\",2))","v":""},"",{"$f":"IF(E34=\"\",\"\",IF(②選手情報入力!V43=\"\",\"\",IF(G34=1,IF(②選手情報入力!$W$6=\"\",\"\",②選手情報入力!$W$6),IF(②選手情報入力!$W$7=\"\",\"\",②選手情報入力!$W$7))))","v":""},{"$f":"IF(E34=\"\",\"\",IF(②選手情報入力!V43=\"\",\"\",IF(G34=1,IF(②選手情報入力!$V$6=\"\",0,1),IF(②選手情報入力!$V$7=\"\",0,1))))","v":""},{"$f":"IF(E34=\"\",\"\",IF(②選手情報入力!V43=\"\",\"\",2))","v":""}]
[{"$f":"IF(E35=\"\",\"\",data_kyogisha!A35)","v":""},{"$f":"IF(E35=\"\",\"\",①団体情報入力!$C$5)","v":""},{"$f":"IF(A35=\"\",\"\",VLOOKUP(B35,Sheet6!C:D,2,0))","v":""},null,{"$f":"IF(②選手情報入力!C44=\"\",\"\",②選手情報入力!C44)","v":""},{"$f":"IF(E35=\"\",\"\",②選手情報入力!D44)","v":""},{"$f":"IF(E35=\"\",\"\",IF(②選手情報入力!I44=\"男\",1,2))","v":""},{"$f":"IF(E35=\"\",\"\",VLOOKUP(data_kyogisha!Q35,Sheet3!A:G,2,0))","v":""},{"$f":"IF(E35=\"\",\"\",IF(②選手情報入力!M44=\"\",\"\",②選手情報入力!M44))","v":""},{"$f":"IF(E35=\"\",\"\",②選手情報入力!N44)","v":""},{"$f":"IF(E35=\"\",\"\",VLOOKUP(data_kyogisha!U35,Sheet3!A:G,2,0))","v":""},{"$f":"IF(E35=\"\",\"\",IF(②選手情報入力!P44=\"\",\"\",②選手情報入力!P44))","v":""},{"$f":"IF(E35=\"\",\"\",②選手情報入力!Q44)","v":""},"",{"$f":"IF(E35=\"\",\"\",IF(②選手情報入力!S44=\"\",\"\",②選手情報入力!S44))","v":""},"","",{"$f":"IF(E35=\"\",\"\",IF(②選手情報入力!T44=\"\",\"\",IF(G35=1,IF(②選手情報入力!$U$6=\"\",\"\",②選手情報入力!$U$6),IF(②選手情報入力!$U$7=\"\",\"\",②選手情報入力!$U$7))))","v":""},{"$f":"IF(E35=\"\",\"\",IF(②選手情報入力!T44=\"\",\"\",IF(G35=1,IF(②選手情報入力!$T$6=\"\",0,1),IF(②選手情報入力!$T$7=\"\",0,1))))","v":""},{"$f":"IF(E35=\"\",\"\",IF(②選手情報入力!T44=\"\",\"\",2))","v":""},"",{"$f":"IF(E35=\"\",\"\",IF(②選手情報入力!V44=\"\",\"\",IF(G35=1,IF(②選手情報入力!$W$6=\"\",\"\",②選手情報入力!$W$6),IF(②選手情報入力!$W$7=\"\",\"\",②選手情報入力!$W$7))))","v":""},{"$f":"IF(E35=\"\",\"\",IF(②選手情報入力!V44=\"\",\"\",IF(G35=1,IF(②選手情報入力!$V$6=\"\",0,1),IF(②選手情報入力!$V$7=\"\",0,1))))","v":""},{"$f":"IF(E35=\"\",\"\",IF(②選手情報入力!V44=\"\",\"\",2))","v":""}]
[{"$f":"IF(E36=\"\",\"\",data_kyogisha!A36)","v":""},{"$f":"IF(E36=\"\",\"\",①団体情報入力!$C$5)","v":""},{"$f":"IF(A36=\"\",\"\",VLOOKUP(B36,Sheet6!C:D,2,0))","v":""},null,{"$f":"IF(②選手情報入力!C45=\"\",\"\",②選手情報入力!C45)","v":""},{"$f":"IF(E36=\"\",\"\",②選手情報入力!D45)","v":""},{"$f":"IF(E36=\"\",\"\",IF(②選手情報入力!I45=\"男\",1,2))","v":""},{"$f":"IF(E36=\"\",\"\",VLOOKUP(data_kyogisha!Q36,Sheet3!A:G,2,0))","v":""},{"$f":"IF(E36=\"\",\"\",IF(②選手情報入力!M45=\"\",\"\",②選手情報入力!M45))","v":""},{"$f":"IF(E36=\"\",\"\",②選手情報入力!N45)","v":""},{"$f":"IF(E36=\"\",\"\",VLOOKUP(data_kyogisha!U36,Sheet3!A:G,2,0))","v":""},{"$f":"IF(E36=\"\",\"\",IF(②選手情報入力!P45=\"\",\"\",②選手情報入力!P45))","v":""},{"$f":"IF(E36=\"\",\"\",②選手情報入力!Q45)","v":""},"",{"$f":"IF(E36=\"\",\"\",IF(②選手情報入力!S45=\"\",\"\",②選手情報入力!S45))","v":""},"","",{"$f":"IF(E36=\"\",\"\",IF(②選手情報入力!T45=\"\",\"\",IF(G36=1,IF(②選手情報入力!$U$6=\"\",\"\",②選手情報入力!$U$6),IF(②選手情報入力!$U$7=\"\",\"\",②選手情報入力!$U$7))))","v":""},{"$f":"IF(E36=\"\",\"\",IF(②選手情報入力!T45=\"\",\"\",IF(G36=1,IF(②選手情報入力!$T$6=\"\",0,1),IF(②選手情報入力!$T$7=\"\",0,1))))","v":""},{"$f":"IF(E36=\"\",\"\",IF(②選手情報入力!T45=\"\",\"\",2))","v":""},"",{"$f":"IF(E36=\"\",\"\",IF(②選手情報入力!V45=\"\",\"\",IF(G36=1,IF(②選手情報入力!$W$6=\"\",\"\",②選手情報入力!$W$6),IF(②選手情報入力!$W$7=\"\",\"\",②選手情報入力!$W$7))))","v":""},{"$f":"IF(E36=\"\",\"\",IF(②選手情報入力!V45=\"\",\"\",IF(G36=1,IF(②選手情報入力!$V$6=\"\",0,1),IF(②選手情報入力!$V$7=\"\",0,1))))","v":""},{"$f":"IF(E36=\"\",\"\",IF(②選手情報入力!V45=\"\",\"\",2))","v":""}]
[{"$f":"IF(E37=\"\",\"\",data_kyogisha!A37)","v":""},{"$f":"IF(E37=\"\",\"\",①団体情報入力!$C$5)","v":""},{"$f":"IF(A37=\"\",\"\",VLOOKUP(B37,Sheet6!C:D,2,0))","v":""},null,{"$f":"IF(②選手情報入力!C46=\"\",\"\",②選手情報入力!C46)","v":""},{"$f":"IF(E37=\"\",\"\",②選手情報入力!D46)","v":""},{"$f":"IF(E37=\"\",\"\",IF(②選手情報入力!I46=\"男\",1,2))","v":""},{"$f":"IF(E37=\"\",\"\",VLOOKUP(data_kyogisha!Q37,Sheet3!A:G,2,0))","v":""},{"$f":"IF(E37=\"\",\"\",IF(②選手情報入力!M46=\"\",\"\",②選手情報入力!M46))","v":""},{"$f":"IF(E37=\"\",\"\",②選手情報入力!N46)","v":""},{"$f":"IF(E37=\"\",\"\",VLOOKUP(data_kyogisha!U37,Sheet3!A:G,2,0))","v":""},{"$f":"IF(E37=\"\",\"\",IF(②選手情報入力!P46=\"\",\"\",②選手情報入力!P46))","v":""},{"$f":"IF(E37=\"\",\"\",②選手情報入力!Q46)","v":""},"",{"$f":"IF(E37=\"\",\"\",IF(②選手情報入力!S46=\"\",\"\",②選手情報入力!S46))","v":""},"","",{"$f":"IF(E37=\"\",\"\",IF(②選手情報入力!T46=\"\",\"\",IF(G37=1,IF(②選手情報入力!$U$6=\"\",\"\",②選手情報入力!$U$6),IF(②選手情報入力!$U$7=\"\",\"\",②選手情報入力!$U$7))))","v":""},{"$f":"IF(E37=\"\",\"\",IF(②選手情報入力!T46=\"\",\"\",IF(G37=1,IF(②選手情報入力!$T$6=\"\",0,1),IF(②選手情報入力!$T$7=\"\",0,1))))","v":""},{"$f":"IF(E37=\"\",\"\",IF(②選手情報入力!T46=\"\",\"\",2))","v":""},"",{"$f":"IF(E37=\"\",\"\",IF(②選手情報入力!V46=\"\",\"\",IF(G37=1,IF(②選手情報入力!$W$6=\"\",\"\",②選手情報入力!$W$6),IF(②選手情報入力!$W$7=\"\",\"\",②選手情報入力!$W$7))))","v":""},{"$f":"IF(E37=\"\",\"\",IF(②選手情報入力!V46=\"\",\"\",IF(G37=1,IF(②選手情報入力!$V$6=\"\",0,1),IF(②選手情報入力!$V$7=\"\",0,1))))","v":""},{"$f":"IF(E37=\"\",\"\",IF(②選手情報入力!V46=\"\",\"\",2))","v":""}]
[{"$f":"IF(E38=\"\",\"\",data_kyogisha!A38)","v":""},{"$f":"IF(E38=\"\",\"\",①団体情報入力!$C$5)","v":""},{"$f":"IF(A38=\"\",\"\",VLOOKUP(B38,Sheet6!C:D,2,0))","v":""},null,{"$f":"IF(②選手情報入力!C47=\"\",\"\",②選手情報入力!C47)","v":""},{"$f":"IF(E38=\"\",\"\",②選手情報入力!D47)","v":""},{"$f":"IF(E38=\"\",\"\",IF(②選手情報入力!I47=\"男\",1,2))","v":""},{"$f":"IF(E38=\"\",\"\",VLOOKUP(data_kyogisha!Q38,Sheet3!A:G,2,0))","v":""},{"$f":"IF(E38=\"\",\"\",IF(②選手情報入力!M47=\"\",\"\",②選手情報入力!M47))","v":""},{"$f":"IF(E38=\"\",\"\",②選手情報入力!N47)","v":""},{"$f":"IF(E38=\"\",\"\",VLOOKUP(data_kyogisha!U38,Sheet3!A:G,2,0))","v":""},{"$f":"IF(E38=\"\",\"\",IF(②選手情報入力!P47=\"\",\"\",②選手情報入力!P47))","v":""},{"$f":"IF(E38=\"\",\"\",②選手情報入力!Q47)","v":""},"",{"$f":"IF(E38=\"\",\"\",IF(②選手情報入力!S47=\"\",\"\",②選手情報入力!S47))","v":""},"","",{"$f":"IF(E38=\"\",\"\",IF(②選手情報入力!T47=\"\",\"\",IF(G38=1,IF(②選手情報入力!$U$6=\"\",\"\",②選手情報入力!$U$6),IF(②選手情報入力!$U$7=\"\",\"\",②選手情報入力!$U$7))))","v":""},{"$f":"IF(E38=\"\",\"\",IF(②選手情報入力!T47=\"\",\"\",IF(G38=1,IF(②選手情報入力!$T$6=\"\",0,1),IF(②選手情報入力!$T$7=\"\",0,1))))","v":""},{"$f":"IF(E38=\"\",\"\",IF(②選手情報入力!T47=\"\",\"\",2))","v":""},"",{"$f":"IF(E38=\"\",\"\",IF(②選手情報入力!V47=\"\",\"\",IF(G38=1,IF(②選手情報入力!$W$6=\"\",\"\",②選手情報入力!$W$6),IF(②選手情報入力!$W$7=\"\",\"\",②選手情報入力!$W$7))))","v":""},{"$f":"IF(E38=\"\",\"\",IF(②選手情報入力!V47=\"\",\"\",IF(G38=1,IF(②選手情報入力!$V$6=\"\",0,1),IF(②選手情報入力!$V$7=\"\",0,1))))","v":""},{"$f":"IF(E38=\"\",\"\",IF(②選手情報入力!V47=\"\",\"\",2))","v":""}]
[{"$f":"IF(E39=\"\",\"\",data_kyogisha!A39)","v":""},{"$f":"IF(E39=\"\",\"\",①団体情報入力!$C$5)","v":""},{"$f":"IF(A39=\"\",\"\",VLOOKUP(B39,Sheet6!C:D,2,0))","v":""},null,{"$f":"IF(②選手情報入力!C48=\"\",\"\",②選手情報入力!C48)","v":""},{"$f":"IF(E39=\"\",\"\",②選手情報入力!D48)","v":""},{"$f":"IF(E39=\"\",\"\",IF(②選手情報入力!I48=\"男\",1,2))","v":""},{"$f":"IF(E39=\"\",\"\",VLOOKUP(data_kyogisha!Q39,Sheet3!A:G,2,0))","v":""},{"$f":"IF(E39=\"\",\"\",IF(②選手情報入力!M48=\"\",\"\",②選手情報入力!M48))","v":""},{"$f":"IF(E39=\"\",\"\",②選手情報入力!N48)","v":""},{"$f":"IF(E39=\"\",\"\",VLOOKUP(data_kyogisha!U39,Sheet3!A:G,2,0))","v":""},{"$f":"IF(E39=\"\",\"\",IF(②選手情報入力!P48=\"\",\"\",②選手情報入力!P48))","v":""},{"$f":"IF(E39=\"\",\"\",②選手情報入力!Q48)","v":""},"",{"$f":"IF(E39=\"\",\"\",IF(②選手情報入力!S48=\"\",\"\",②選手情報入力!S48))","v":""},"","",{"$f":"IF(E39=\"\",\"\",IF(②選手情報入力!T48=\"\",\"\",IF(G39=1,IF(②選手情報入力!$U$6=\"\",\"\",②選手情報入力!$U$6),IF(②選手情報入力!$U$7=\"\",\"\",②選手情報入力!$U$7))))","v":""},{"$f":"IF(E39=\"\",\"\",IF(②選手情報入力!T48=\"\",\"\",IF(G39=1,IF(②選手情報入力!$T$6=\"\",0,1),IF(②選手情報入力!$T$7=\"\",0,1))))","v":""},{"$f":"IF(E39=\"\",\"\",IF(②選手情報入力!T48=\"\",\"\",2))","v":""},"",{"$f":"IF(E39=\"\",\"\",IF(②選手情報入力!V48=\"\",\"\",IF(G39=1,IF(②選手情報入力!$W$6=\"\",\"\",②選手情報入力!$W$6),IF(②選手情報入力!$W$7=\"\",\"\",②選手情報入力!$W$7))))","v":""},{"$f":"IF(E39=\"\",\"\",IF(②選手情報入力!V48=\"\",\"\",IF(G39=1,IF(②選手情報入力!$V$6=\"\",0,1),IF(②選手情報入力!$V$7=\"\",0,1))))","v":""},{"$f":"IF(E39=\"\",\"\",IF(②選手情報入力!V48=\"\",\"\",2))","v":""}]
[{"$f":"IF(E40=\"\",\"\",data_kyogisha!A40)","v":""},{"$f":"IF(E40=\"\",\"\",①団体情報入力!$C$5)","v":""},{"$f":"IF(A40=\"\",\"\",VLOOKUP(B40,Sheet6!C:D,2,0))","v":""},null,{"$f":"IF(②選手情報入力!C49=\"\",\"\",②選手情報入力!C49)","v":""},{"$f":"IF(E40=\"\",\"\",②選手情報入力!D49)","v":""},{"$f":"IF(E40=\"\",\"\",IF(②選手情報入力!I49=\"男\",1,2))","v":""},{"$f":"IF(E40=\"\",\"\",VLOOKUP(data_kyogisha!Q40,Sheet3!A:G,2,0))","v":""},{"$f":"IF(E40=\"\",\"\",IF(②選手情報入力!M49=\"\",\"\",②選手情報入力!M49))","v":""},{"$f":"IF(E40=\"\",\"\",②選手情報入力!N49)","v":""},{"$f":"IF(E40=\"\",\"\",VLOOKUP(data_kyogisha!U40,Sheet3!A:G,2,0))","v":""},{"$f":"IF(E40=\"\",\"\",IF(②選手情報入力!P49=\"\",\"\",②選手情報入力!P49))","v":""},{"$f":"IF(E40=\"\",\"\",②選手情報入力!Q49)","v":""},"",{"$f":"IF(E40=\"\",\"\",IF(②選手情報入力!S49=\"\",\"\",②選手情報入力!S49))","v":""},"","",{"$f":"IF(E40=\"\",\"\",IF(②選手情報入力!T49=\"\",\"\",IF(G40=1,IF(②選手情報入力!$U$6=\"\",\"\",②選手情報入力!$U$6),IF(②選手情報入力!$U$7=\"\",\"\",②選手情報入力!$U$7))))","v":""},{"$f":"IF(E40=\"\",\"\",IF(②選手情報入力!T49=\"\",\"\",IF(G40=1,IF(②選手情報入力!$T$6=\"\",0,1),IF(②選手情報入力!$T$7=\"\",0,1))))","v":""},{"$f":"IF(E40=\"\",\"\",IF(②選手情報入力!T49=\"\",\"\",2))","v":""},"",{"$f":"IF(E40=\"\",\"\",IF(②選手情報入力!V49=\"\",\"\",IF(G40=1,IF(②選手情報入力!$W$6=\"\",\"\",②選手情報入力!$W$6),IF(②選手情報入力!$W$7=\"\",\"\",②選手情報入力!$W$7))))","v":""},{"$f":"IF(E40=\"\",\"\",IF(②選手情報入力!V49=\"\",\"\",IF(G40=1,IF(②選手情報入力!$V$6=\"\",0,1),IF(②選手情報入力!$V$7=\"\",0,1))))","v":""},{"$f":"IF(E40=\"\",\"\",IF(②選手情報入力!V49=\"\",\"\",2))","v":""}]
[{"$f":"IF(E41=\"\",\"\",data_kyogisha!A41)","v":""},{"$f":"IF(E41=\"\",\"\",①団体情報入力!$C$5)","v":""},{"$f":"IF(A41=\"\",\"\",VLOOKUP(B41,Sheet6!C:D,2,0))","v":""},null,{"$f":"IF(②選手情報入力!C50=\"\",\"\",②選手情報入力!C50)","v":""},{"$f":"IF(E41=\"\",\"\",②選手情報入力!D50)","v":""},{"$f":"IF(E41=\"\",\"\",IF(②選手情報入力!I50=\"男\",1,2))","v":""},{"$f":"IF(E41=\"\",\"\",VLOOKUP(data_kyogisha!Q41,Sheet3!A:G,2,0))","v":""},{"$f":"IF(E41=\"\",\"\",IF(②選手情報入力!M50=\"\",\"\",②選手情報入力!M50))","v":""},{"$f":"IF(E41=\"\",\"\",②選手情報入力!N50)","v":""},{"$f":"IF(E41=\"\",\"\",VLOOKUP(data_kyogisha!U41,Sheet3!A:G,2,0))","v":""},{"$f":"IF(E41=\"\",\"\",IF(②選手情報入力!P50=\"\",\"\",②選手情報入力!P50))","v":""},{"$f":"IF(E41=\"\",\"\",②選手情報入力!Q50)","v":""},"",{"$f":"IF(E41=\"\",\"\",IF(②選手情報入力!S50=\"\",\"\",②選手情報入力!S50))","v":""},"","",{"$f":"IF(E41=\"\",\"\",IF(②選手情報入力!T50=\"\",\"\",IF(G41=1,IF(②選手情報入力!$U$6=\"\",\"\",②選手情報入力!$U$6),IF(②選手情報入力!$U$7=\"\",\"\",②選手情報入力!$U$7))))","v":""},{"$f":"IF(E41=\"\",\"\",IF(②選手情報入力!T50=\"\",\"\",IF(G41=1,IF(②選手情報入力!$T$6=\"\",0,1),IF(②選手情報入力!$T$7=\"\",0,1))))","v":""},{"$f":"IF(E41=\"\",\"\",IF(②選手情報入力!T50=\"\",\"\",2))","v":""},"",{"$f":"IF(E41=\"\",\"\",IF(②選手情報入力!V50=\"\",\"\",IF(G41=1,IF(②選手情報入力!$W$6=\"\",\"\",②選手情報入力!$W$6),IF(②選手情報入力!$W$7=\"\",\"\",②選手情報入力!$W$7))))","v":""},{"$f":"IF(E41=\"\",\"\",IF(②選手情報入力!V50=\"\",\"\",IF(G41=1,IF(②選手情報入力!$V$6=\"\",0,1),IF(②選手情報入力!$V$7=\"\",0,1))))","v":""},{"$f":"IF(E41=\"\",\"\",IF(②選手情報入力!V50=\"\",\"\",2))","v":""}]
[{"$f":"IF(E42=\"\",\"\",data_kyogisha!A42)","v":""},{"$f":"IF(E42=\"\",\"\",①団体情報入力!$C$5)","v":""},{"$f":"IF(A42=\"\",\"\",VLOOKUP(B42,Sheet6!C:D,2,0))","v":""},null,{"$f":"IF(②選手情報入力!C51=\"\",\"\",②選手情報入力!C51)","v":""},{"$f":"IF(E42=\"\",\"\",②選手情報入力!D51)","v":""},{"$f":"IF(E42=\"\",\"\",IF(②選手情報入力!I51=\"男\",1,2))","v":""},{"$f":"IF(E42=\"\",\"\",VLOOKUP(data_kyogisha!Q42,Sheet3!A:G,2,0))","v":""},{"$f":"IF(E42=\"\",\"\",IF(②選手情報入力!M51=\"\",\"\",②選手情報入力!M51))","v":""},{"$f":"IF(E42=\"\",\"\",②選手情報入力!N51)","v":""},{"$f":"IF(E42=\"\",\"\",VLOOKUP(data_kyogisha!U42,Sheet3!A:G,2,0))","v":""},{"$f":"IF(E42=\"\",\"\",IF(②選手情報入力!P51=\"\",\"\",②選手情報入力!P51))","v":""},{"$f":"IF(E42=\"\",\"\",②選手情報入力!Q51)","v":""},"",{"$f":"IF(E42=\"\",\"\",IF(②選手情報入力!S51=\"\",\"\",②選手情報入力!S51))","v":""},"","",{"$f":"IF(E42=\"\",\"\",IF(②選手情報入力!T51=\"\",\"\",IF(G42=1,IF(②選手情報入力!$U$6=\"\",\"\",②選手情報入力!$U$6),IF(②選手情報入力!$U$7=\"\",\"\",②選手情報入力!$U$7))))","v":""},{"$f":"IF(E42=\"\",\"\",IF(②選手情報入力!T51=\"\",\"\",IF(G42=1,IF(②選手情報入力!$T$6=\"\",0,1),IF(②選手情報入力!$T$7=\"\",0,1))))","v":""},{"$f":"IF(E42=\"\",\"\",IF(②選手情報入力!T51=\"\",\"\",2))","v":""},"",{"$f":"IF(E42=\"\",\"\",IF(②選手情報入力!V51=\"\",\"\",IF(G42=1,IF(②選手情報入力!$W$6=\"\",\"\",②選手情報入力!$W$6),IF(②選手情報入力!$W$7=\"\",\"\",②選手情報入力!$W$7))))","v":""},{"$f":"IF(E42=\"\",\"\",IF(②選手情報入力!V51=\"\",\"\",IF(G42=1,IF(②選手情報入力!$V$6=\"\",0,1),IF(②選手情報入力!$V$7=\"\",0,1))))","v":""},{"$f":"IF(E42=\"\",\"\",IF(②選手情報入力!V51=\"\",\"\",2))","v":""}]
[{"$f":"IF(E43=\"\",\"\",data_kyogisha!A43)","v":""},{"$f":"IF(E43=\"\",\"\",①団体情報入力!$C$5)","v":""},{"$f":"IF(A43=\"\",\"\",VLOOKUP(B43,Sheet6!C:D,2,0))","v":""},null,{"$f":"IF(②選手情報入力!C52=\"\",\"\",②選手情報入力!C52)","v":""},{"$f":"IF(E43=\"\",\"\",②選手情報入力!D52)","v":""},{"$f":"IF(E43=\"\",\"\",IF(②選手情報入力!I52=\"男\",1,2))","v":""},{"$f":"IF(E43=\"\",\"\",VLOOKUP(data_kyogisha!Q43,Sheet3!A:G,2,0))","v":""},{"$f":"IF(E43=\"\",\"\",IF(②選手情報入力!M52=\"\",\"\",②選手情報入力!M52))","v":""},{"$f":"IF(E43=\"\",\"\",②選手情報入力!N52)","v":""},{"$f":"IF(E43=\"\",\"\",VLOOKUP(data_kyogisha!U43,Sheet3!A:G,2,0))","v":""},{"$f":"IF(E43=\"\",\"\",IF(②選手情報入力!P52=\"\",\"\",②選手情報入力!P52))","v":""},{"$f":"IF(E43=\"\",\"\",②選手情報入力!Q52)","v":""},"",{"$f":"IF(E43=\"\",\"\",IF(②選手情報入力!S52=\"\",\"\",②選手情報入力!S52))","v":""},"","",{"$f":"IF(E43=\"\",\"\",IF(②選手情報入力!T52=\"\",\"\",IF(G43=1,IF(②選手情報入力!$U$6=\"\",\"\",②選手情報入力!$U$6),IF(②選手情報入力!$U$7=\"\",\"\",②選手情報入力!$U$7))))","v":""},{"$f":"IF(E43=\"\",\"\",IF(②選手情報入力!T52=\"\",\"\",IF(G43=1,IF(②選手情報入力!$T$6=\"\",0,1),IF(②選手情報入力!$T$7=\"\",0,1))))","v":""},{"$f":"IF(E43=\"\",\"\",IF(②選手情報入力!T52=\"\",\"\",2))","v":""},"",{"$f":"IF(E43=\"\",\"\",IF(②選手情報入力!V52=\"\",\"\",IF(G43=1,IF(②選手情報入力!$W$6=\"\",\"\",②選手情報入力!$W$6),IF(②選手情報入力!$W$7=\"\",\"\",②選手情報入力!$W$7))))","v":""},{"$f":"IF(E43=\"\",\"\",IF(②選手情報入力!V52=\"\",\"\",IF(G43=1,IF(②選手情報入力!$V$6=\"\",0,1),IF(②選手情報入力!$V$7=\"\",0,1))))","v":""},{"$f":"IF(E43=\"\",\"\",IF(②選手情報入力!V52=\"\",\"\",2))","v":""}]
[{"$f":"IF(E44=\"\",\"\",data_kyogisha!A44)","v":""},{"$f":"IF(E44=\"\",\"\",①団体情報入力!$C$5)","v":""},{"$f":"IF(A44=\"\",\"\",VLOOKUP(B44,Sheet6!C:D,2,0))","v":""},null,{"$f":"IF(②選手情報入力!C53=\"\",\"\",②選手情報入力!C53)","v":""},{"$f":"IF(E44=\"\",\"\",②選手情報入力!D53)","v":""},{"$f":"IF(E44=\"\",\"\",IF(②選手情報入力!I53=\"男\",1,2))","v":""},{"$f":"IF(E44=\"\",\"\",VLOOKUP(data_kyogisha!Q44,Sheet3!A:G,2,0))","v":""},{"$f":"IF(E44=\"\",\"\",IF(②選手情報入力!M53=\"\",\"\",②選手情報入力!M53))","v":""},{"$f":"IF(E44=\"\",\"\",②選手情報入力!N53)","v":""},{"$f":"IF(E44=\"\",\"\",VLOOKUP(data_kyogisha!U44,Sheet3!A:G,2,0))","v":""},{"$f":"IF(E44=\"\",\"\",IF(②選手情報入力!P53=\"\",\"\",②選手情報入力!P53))","v":""},{"$f":"IF(E44=\"\",\"\",②選手情報入力!Q53)","v":""},"",{"$f":"IF(E44=\"\",\"\",IF(②選手情報入力!S53=\"\",\"\",②選手情報入力!S53))","v":""},"","",{"$f":"IF(E44=\"\",\"\",IF(②選手情報入力!T53=\"\",\"\",IF(G44=1,IF(②選手情報入力!$U$6=\"\",\"\",②選手情報入力!$U$6),IF(②選手情報入力!$U$7=\"\",\"\",②選手情報入力!$U$7))))","v":""},{"$f":"IF(E44=\"\",\"\",IF(②選手情報入力!T53=\"\",\"\",IF(G44=1,IF(②選手情報入力!$T$6=\"\",0,1),IF(②選手情報入力!$T$7=\"\",0,1))))","v":""},{"$f":"IF(E44=\"\",\"\",IF(②選手情報入力!T53=\"\",\"\",2))","v":""},"",{"$f":"IF(E44=\"\",\"\",IF(②選手情報入力!V53=\"\",\"\",IF(G44=1,IF(②選手情報入力!$W$6=\"\",\"\",②選手情報入力!$W$6),IF(②選手情報入力!$W$7=\"\",\"\",②選手情報入力!$W$7))))","v":""},{"$f":"IF(E44=\"\",\"\",IF(②選手情報入力!V53=\"\",\"\",IF(G44=1,IF(②選手情報入力!$V$6=\"\",0,1),IF(②選手情報入力!$V$7=\"\",0,1))))","v":""},{"$f":"IF(E44=\"\",\"\",IF(②選手情報入力!V53=\"\",\"\",2))","v":""}]
[{"$f":"IF(E45=\"\",\"\",data_kyogisha!A45)","v":""},{"$f":"IF(E45=\"\",\"\",①団体情報入力!$C$5)","v":""},{"$f":"IF(A45=\"\",\"\",VLOOKUP(B45,Sheet6!C:D,2,0))","v":""},null,{"$f":"IF(②選手情報入力!C54=\"\",\"\",②選手情報入力!C54)","v":""},{"$f":"IF(E45=\"\",\"\",②選手情報入力!D54)","v":""},{"$f":"IF(E45=\"\",\"\",IF(②選手情報入力!I54=\"男\",1,2))","v":""},{"$f":"IF(E45=\"\",\"\",VLOOKUP(data_kyogisha!Q45,Sheet3!A:G,2,0))","v":""},{"$f":"IF(E45=\"\",\"\",IF(②選手情報入力!M54=\"\",\"\",②選手情報入力!M54))","v":""},{"$f":"IF(E45=\"\",\"\",②選手情報入力!N54)","v":""},{"$f":"IF(E45=\"\",\"\",VLOOKUP(data_kyogisha!U45,Sheet3!A:G,2,0))","v":""},{"$f":"IF(E45=\"\",\"\",IF(②選手情報入力!P54=\"\",\"\",②選手情報入力!P54))","v":""},{"$f":"IF(E45=\"\",\"\",②選手情報入力!Q54)","v":""},"",{"$f":"IF(E45=\"\",\"\",IF(②選手情報入力!S54=\"\",\"\",②選手情報入力!S54))","v":""},"","",{"$f":"IF(E45=\"\",\"\",IF(②選手情報入力!T54=\"\",\"\",IF(G45=1,IF(②選手情報入力!$U$6=\"\",\"\",②選手情報入力!$U$6),IF(②選手情報入力!$U$7=\"\",\"\",②選手情報入力!$U$7))))","v":""},{"$f":"IF(E45=\"\",\"\",IF(②選手情報入力!T54=\"\",\"\",IF(G45=1,IF(②選手情報入力!$T$6=\"\",0,1),IF(②選手情報入力!$T$7=\"\",0,1))))","v":""},{"$f":"IF(E45=\"\",\"\",IF(②選手情報入力!T54=\"\",\"\",2))","v":""},"",{"$f":"IF(E45=\"\",\"\",IF(②選手情報入力!V54=\"\",\"\",IF(G45=1,IF(②選手情報入力!$W$6=\"\",\"\",②選手情報入力!$W$6),IF(②選手情報入力!$W$7=\"\",\"\",②選手情報入力!$W$7))))","v":""},{"$f":"IF(E45=\"\",\"\",IF(②選手情報入力!V54=\"\",\"\",IF(G45=1,IF(②選手情報入力!$V$6=\"\",0,1),IF(②選手情報入力!$V$7=\"\",0,1))))","v":""},{"$f":"IF(E45=\"\",\"\",IF(②選手情報入力!V54=\"\",\"\",2))","v":""}]
[{"$f":"IF(E46=\"\",\"\",data_kyogisha!A46)","v":""},{"$f":"IF(E46=\"\",\"\",①団体情報入力!$C$5)","v":""},{"$f":"IF(A46=\"\",\"\",VLOOKUP(B46,Sheet6!C:D,2,0))","v":""},null,{"$f":"IF(②選手情報入力!C55=\"\",\"\",②選手情報入力!C55)","v":""},{"$f":"IF(E46=\"\",\"\",②選手情報入力!D55)","v":""},{"$f":"IF(E46=\"\",\"\",IF(②選手情報入力!I55=\"男\",1,2))","v":""},{"$f":"IF(E46=\"\",\"\",VLOOKUP(data_kyogisha!Q46,Sheet3!A:G,2,0))","v":""},{"$f":"IF(E46=\"\",\"\",IF(②選手情報入力!M55=\"\",\"\",②選手情報入力!M55))","v":""},{"$f":"IF(E46=\"\",\"\",②選手情報入力!N55)","v":""},{"$f":"IF(E46=\"\",\"\",VLOOKUP(data_kyogisha!U46,Sheet3!A:G,2,0))","v":""},{"$f":"IF(E46=\"\",\"\",IF(②選手情報入力!P55=\"\",\"\",②選手情報入力!P55))","v":""},{"$f":"IF(E46=\"\",\"\",②選手情報入力!Q55)","v":""},"",{"$f":"IF(E46=\"\",\"\",IF(②選手情報入力!S55=\"\",\"\",②選手情報入力!S55))","v":""},"","",{"$f":"IF(E46=\"\",\"\",IF(②選手情報入力!T55=\"\",\"\",IF(G46=1,IF(②選手情報入力!$U$6=\"\",\"\",②選手情報入力!$U$6),IF(②選手情報入力!$U$7=\"\",\"\",②選手情報入力!$U$7))))","v":""},{"$f":"IF(E46=\"\",\"\",IF(②選手情報入力!T55=\"\",\"\",IF(G46=1,IF(②選手情報入力!$T$6=\"\",0,1),IF(②選手情報入力!$T$7=\"\",0,1))))","v":""},{"$f":"IF(E46=\"\",\"\",IF(②選手情報入力!T55=\"\",\"\",2))","v":""},"",{"$f":"IF(E46=\"\",\"\",IF(②選手情報入力!V55=\"\",\"\",IF(G46=1,IF(②選手情報入力!$W$6=\"\",\"\",②選手情報入力!$W$6),IF(②選手情報入力!$W$7=\"\",\"\",②選手情報入力!$W$7))))","v":""},{"$f":"IF(E46=\"\",\"\",IF(②選手情報入力!V55=\"\",\"\",IF(G46=1,IF(②選手情報入力!$V$6=\"\",0,1),IF(②選手情報入力!$V$7=\"\",0,1))))","v":""},{"$f":"IF(E46=\"\",\"\",IF(②選手情報入力!V55=\"\",\"\",2))","v":""}]
[{"$f":"IF(E47=\"\",\"\",data_kyogisha!A47)","v":""},{"$f":"IF(E47=\"\",\"\",①団体情報入力!$C$5)","v":""},{"$f":"IF(A47=\"\",\"\",VLOOKUP(B47,Sheet6!C:D,2,0))","v":""},null,{"$f":"IF(②選手情報入力!C56=\"\",\"\",②選手情報入力!C56)","v":""},{"$f":"IF(E47=\"\",\"\",②選手情報入力!D56)","v":""},{"$f":"IF(E47=\"\",\"\",IF(②選手情報入力!I56=\"男\",1,2))","v":""},{"$f":"IF(E47=\"\",\"\",VLOOKUP(data_kyogisha!Q47,Sheet3!A:G,2,0))","v":""},{"$f":"IF(E47=\"\",\"\",IF(②選手情報入力!M56=\"\",\"\",②選手情報入力!M56))","v":""},{"$f":"IF(E47=\"\",\"\",②選手情報入力!N56)","v":""},{"$f":"IF(E47=\"\",\"\",VLOOKUP(data_kyogisha!U47,Sheet3!A:G,2,0))","v":""},{"$f":"IF(E47=\"\",\"\",IF(②選手情報入力!P56=\"\",\"\",②選手情報入力!P56))","v":""},{"$f":"IF(E47=\"\",\"\",②選手情報入力!Q56)","v":""},"",{"$f":"IF(E47=\"\",\"\",IF(②選手情報入力!S56=\"\",\"\",②選手情報入力!S56))","v":""},"","",{"$f":"IF(E47=\"\",\"\",IF(②選手情報入力!T56=\"\",\"\",IF(G47=1,IF(②選手情報入力!$U$6=\"\",\"\",②選手情報入力!$U$6),IF(②選手情報入力!$U$7=\"\",\"\",②選手情報入力!$U$7))))","v":""},{"$f":"IF(E47=\"\",\"\",IF(②選手情報入力!T56=\"\",\"\",IF(G47=1,IF(②選手情報入力!$T$6=\"\",0,1),IF(②選手情報入力!$T$7=\"\",0,1))))","v":""},{"$f":"IF(E47=\"\",\"\",IF(②選手情報入力!T56=\"\",\"\",2))","v":""},"",{"$f":"IF(E47=\"\",\"\",IF(②選手情報入力!V56=\"\",\"\",IF(G47=1,IF(②選手情報入力!$W$6=\"\",\"\",②選手情報入力!$W$6),IF(②選手情報入力!$W$7=\"\",\"\",②選手情報入力!$W$7))))","v":""},{"$f":"IF(E47=\"\",\"\",IF(②選手情報入力!V56=\"\",\"\",IF(G47=1,IF(②選手情報入力!$V$6=\"\",0,1),IF(②選手情報入力!$V$7=\"\",0,1))))","v":""},{"$f":"IF(E47=\"\",\"\",IF(②選手情報入力!V56=\"\",\"\",2))","v":""}]
[{"$f":"IF(E48=\"\",\"\",data_kyogisha!A48)","v":""},{"$f":"IF(E48=\"\",\"\",①団体情報入力!$C$5)","v":""},{"$f":"IF(A48=\"\",\"\",VLOOKUP(B48,Sheet6!C:D,2,0))","v":""},null,{"$f":"IF(②選手情報入力!C57=\"\",\"\",②選手情報入力!C57)","v":""},{"$f":"IF(E48=\"\",\"\",②選手情報入力!D57)","v":""},{"$f":"IF(E48=\"\",\"\",IF(②選手情報入力!I57=\"男\",1,2))","v":""},{"$f":"IF(E48=\"\",\"\",VLOOKUP(data_kyogisha!Q48,Sheet3!A:G,2,0))","v":""},{"$f":"IF(E48=\"\",\"\",IF(②選手情報入力!M57=\"\",\"\",②選手情報入力!M57))","v":""},{"$f":"IF(E48=\"\",\"\",②選手情報入力!N57)","v":""},{"$f":"IF(E48=\"\",\"\",VLOOKUP(data_kyogisha!U48,Sheet3!A:G,2,0))","v":""},{"$f":"IF(E48=\"\",\"\",IF(②選手情報入力!P57=\"\",\"\",②選手情報入力!P57))","v":""},{"$f":"IF(E48=\"\",\"\",②選手情報入力!Q57)","v":""},"",{"$f":"IF(E48=\"\",\"\",IF(②選手情報入力!S57=\"\",\"\",②選手情報入力!S57))","v":""},"","",{"$f":"IF(E48=\"\",\"\",IF(②選手情報入力!T57=\"\",\"\",IF(G48=1,IF(②選手情報入力!$U$6=\"\",\"\",②選手情報入力!$U$6),IF(②選手情報入力!$U$7=\"\",\"\",②選手情報入力!$U$7))))","v":""},{"$f":"IF(E48=\"\",\"\",IF(②選手情報入力!T57=\"\",\"\",IF(G48=1,IF(②選手情報入力!$T$6=\"\",0,1),IF(②選手情報入力!$T$7=\"\",0,1))))","v":""},{"$f":"IF(E48=\"\",\"\",IF(②選手情報入力!T57=\"\",\"\",2))","v":""},"",{"$f":"IF(E48=\"\",\"\",IF(②選手情報入力!V57=\"\",\"\",IF(G48=1,IF(②選手情報入力!$W$6=\"\",\"\",②選手情報入力!$W$6),IF(②選手情報入力!$W$7=\"\",\"\",②選手情報入力!$W$7))))","v":""},{"$f":"IF(E48=\"\",\"\",IF(②選手情報入力!V57=\"\",\"\",IF(G48=1,IF(②選手情報入力!$V$6=\"\",0,1),IF(②選手情報入力!$V$7=\"\",0,1))))","v":""},{"$f":"IF(E48=\"\",\"\",IF(②選手情報入力!V57=\"\",\"\",2))","v":""}]
[{"$f":"IF(E49=\"\",\"\",data_kyogisha!A49)","v":""},{"$f":"IF(E49=\"\",\"\",①団体情報入力!$C$5)","v":""},{"$f":"IF(A49=\"\",\"\",VLOOKUP(B49,Sheet6!C:D,2,0))","v":""},null,{"$f":"IF(②選手情報入力!C58=\"\",\"\",②選手情報入力!C58)","v":""},{"$f":"IF(E49=\"\",\"\",②選手情報入力!D58)","v":""},{"$f":"IF(E49=\"\",\"\",IF(②選手情報入力!I58=\"男\",1,2))","v":""},{"$f":"IF(E49=\"\",\"\",VLOOKUP(data_kyogisha!Q49,Sheet3!A:G,2,0))","v":""},{"$f":"IF(E49=\"\",\"\",IF(②選手情報入力!M58=\"\",\"\",②選手情報入力!M58))","v":""},{"$f":"IF(E49=\"\",\"\",②選手情報入力!N58)","v":""},{"$f":"IF(E49=\"\",\"\",VLOOKUP(data_kyogisha!U49,Sheet3!A:G,2,0))","v":""},{"$f":"IF(E49=\"\",\"\",IF(②選手情報入力!P58=\"\",\"\",②選手情報入力!P58))","v":""},{"$f":"IF(E49=\"\",\"\",②選手情報入力!Q58)","v":""},"",{"$f":"IF(E49=\"\",\"\",IF(②選手情報入力!S58=\"\",\"\",②選手情報入力!S58))","v":""},"","",{"$f":"IF(E49=\"\",\"\",IF(②選手情報入力!T58=\"\",\"\",IF(G49=1,IF(②選手情報入力!$U$6=\"\",\"\",②選手情報入力!$U$6),IF(②選手情報入力!$U$7=\"\",\"\",②選手情報入力!$U$7))))","v":""},{"$f":"IF(E49=\"\",\"\",IF(②選手情報入力!T58=\"\",\"\",IF(G49=1,IF(②選手情報入力!$T$6=\"\",0,1),IF(②選手情報入力!$T$7=\"\",0,1))))","v":""},{"$f":"IF(E49=\"\",\"\",IF(②選手情報入力!T58=\"\",\"\",2))","v":""},"",{"$f":"IF(E49=\"\",\"\",IF(②選手情報入力!V58=\"\",\"\",IF(G49=1,IF(②選手情報入力!$W$6=\"\",\"\",②選手情報入力!$W$6),IF(②選手情報入力!$W$7=\"\",\"\",②選手情報入力!$W$7))))","v":""},{"$f":"IF(E49=\"\",\"\",IF(②選手情報入力!V58=\"\",\"\",IF(G49=1,IF(②選手情報入力!$V$6=\"\",0,1),IF(②選手情報入力!$V$7=\"\",0,1))))","v":""},{"$f":"IF(E49=\"\",\"\",IF(②選手情報入力!V58=\"\",\"\",2))","v":""}]
[{"$f":"IF(E50=\"\",\"\",data_kyogisha!A50)","v":""},{"$f":"IF(E50=\"\",\"\",①団体情報入力!$C$5)","v":""},{"$f":"IF(A50=\"\",\"\",VLOOKUP(B50,Sheet6!C:D,2,0))","v":""},null,{"$f":"IF(②選手情報入力!C59=\"\",\"\",②選手情報入力!C59)","v":""},{"$f":"IF(E50=\"\",\"\",②選手情報入力!D59)","v":""},{"$f":"IF(E50=\"\",\"\",IF(②選手情報入力!I59=\"男\",1,2))","v":""},{"$f":"IF(E50=\"\",\"\",VLOOKUP(data_kyogisha!Q50,Sheet3!A:G,2,0))","v":""},{"$f":"IF(E50=\"\",\"\",IF(②選手情報入力!M59=\"\",\"\",②選手情報入力!M59))","v":""},{"$f":"IF(E50=\"\",\"\",②選手情報入力!N59)","v":""},{"$f":"IF(E50=\"\",\"\",VLOOKUP(data_kyogisha!U50,Sheet3!A:G,2,0))","v":""},{"$f":"IF(E50=\"\",\"\",IF(②選手情報入力!P59=\"\",\"\",②選手情報入力!P59))","v":""},{"$f":"IF(E50=\"\",\"\",②選手情報入力!Q59)","v":""},"",{"$f":"IF(E50=\"\",\"\",IF(②選手情報入力!S59=\"\",\"\",②選手情報入力!S59))","v":""},"","",{"$f":"IF(E50=\"\",\"\",IF(②選手情報入力!T59=\"\",\"\",IF(G50=1,IF(②選手情報入力!$U$6=\"\",\"\",②選手情報入力!$U$6),IF(②選手情報入力!$U$7=\"\",\"\",②選手情報入力!$U$7))))","v":""},{"$f":"IF(E50=\"\",\"\",IF(②選手情報入力!T59=\"\",\"\",IF(G50=1,IF(②選手情報入力!$T$6=\"\",0,1),IF(②選手情報入力!$T$7=\"\",0,1))))","v":""},{"$f":"IF(E50=\"\",\"\",IF(②選手情報入力!T59=\"\",\"\",2))","v":""},"",{"$f":"IF(E50=\"\",\"\",IF(②選手情報入力!V59=\"\",\"\",IF(G50=1,IF(②選手情報入力!$W$6=\"\",\"\",②選手情報入力!$W$6),IF(②選手情報入力!$W$7=\"\",\"\",②選手情報入力!$W$7))))","v":""},{"$f":"IF(E50=\"\",\"\",IF(②選手情報入力!V59=\"\",\"\",IF(G50=1,IF(②選手情報入力!$V$6=\"\",0,1),IF(②選手情報入力!$V$7=\"\",0,1))))","v":""},{"$f":"IF(E50=\"\",\"\",IF(②選手情報入力!V59=\"\",\"\",2))","v":""}]
[{"$f":"IF(E51=\"\",\"\",data_kyogisha!A51)","v":""},{"$f":"IF(E51=\"\",\"\",①団体情報入力!$C$5)","v":""},{"$f":"IF(A51=\"\",\"\",VLOOKUP(B51,Sheet6!C:D,2,0))","v":""},null,{"$f":"IF(②選手情報入力!C60=\"\",\"\",②選手情報入力!C60)","v":""},{"$f":"IF(E51=\"\",\"\",②選手情報入力!D60)","v":""},{"$f":"IF(E51=\"\",\"\",IF(②選手情報入力!I60=\"男\",1,2))","v":""},{"$f":"IF(E51=\"\",\"\",VLOOKUP(data_kyogisha!Q51,Sheet3!A:G,2,0))","v":""},{"$f":"IF(E51=\"\",\"\",IF(②選手情報入力!M60=\"\",\"\",②選手情報入力!M60))","v":""},{"$f":"IF(E51=\"\",\"\",②選手情報入力!N60)","v":""},{"$f":"IF(E51=\"\",\"\",VLOOKUP(data_kyogisha!U51,Sheet3!A:G,2,0))","v":""},{"$f":"IF(E51=\"\",\"\",IF(②選手情報入力!P60=\"\",\"\",②選手情報入力!P60))","v":""},{"$f":"IF(E51=\"\",\"\",②選手情報入力!Q60)","v":""},"",{"$f":"IF(E51=\"\",\"\",IF(②選手情報入力!S60=\"\",\"\",②選手情報入力!S60))","v":""},"","",{"$f":"IF(E51=\"\",\"\",IF(②選手情報入力!T60=\"\",\"\",IF(G51=1,IF(②選手情報入力!$U$6=\"\",\"\",②選手情報入力!$U$6),IF(②選手情報入力!$U$7=\"\",\"\",②選手情報入力!$U$7))))","v":""},{"$f":"IF(E51=\"\",\"\",IF(②選手情報入力!T60=\"\",\"\",IF(G51=1,IF(②選手情報入力!$T$6=\"\",0,1),IF(②選手情報入力!$T$7=\"\",0,1))))","v":""},{"$f":"IF(E51=\"\",\"\",IF(②選手情報入力!T60=\"\",\"\",2))","v":""},"",{"$f":"IF(E51=\"\",\"\",IF(②選手情報入力!V60=\"\",\"\",IF(G51=1,IF(②選手情報入力!$W$6=\"\",\"\",②選手情報入力!$W$6),IF(②選手情報入力!$W$7=\"\",\"\",②選手情報入力!$W$7))))","v":""},{"$f":"IF(E51=\"\",\"\",IF(②選手情報入力!V60=\"\",\"\",IF(G51=1,IF(②選手情報入力!$V$6=\"\",0,1),IF(②選手情報入力!$V$7=\"\",0,1))))","v":""},{"$f":"IF(E51=\"\",\"\",IF(②選手情報入力!V60=\"\",\"\",2))","v":""}]
[{"$f":"IF(E52=\"\",\"\",data_kyogisha!A52)","v":""},{"$f":"IF(E52=\"\",\"\",①団体情報入力!$C$5)","v":""},{"$f":"IF(A52=\"\",\"\",VLOOKUP(B52,Sheet6!C:D,2,0))","v":""},null,{"$f":"IF(②選手情報入力!C61=\"\",\"\",②選手情報入力!C61)","v":""},{"$f":"IF(E52=\"\",\"\",②選手情報入力!D61)","v":""},{"$f":"IF(E52=\"\",\"\",IF(②選手情報入力!I61=\"男\",1,2))","v":""},{"$f":"IF(E52=\"\",\"\",VLOOKUP(data_kyogisha!Q52,Sheet3!A:G,2,0))","v":""},{"$f":"IF(E52=\"\",\"\",IF(②選手情報入力!M61=\"\",\"\",②選手情報入力!M61))","v":""},{"$f":"IF(E52=\"\",\"\",②選手情報入力!N61)","v":""},{"$f":"IF(E52=\"\",\"\",VLOOKUP(data_kyogisha!U52,Sheet3!A:G,2,0))","v":""},{"$f":"IF(E52=\"\",\"\",IF(②選手情報入力!P61=\"\",\"\",②選手情報入力!P61))","v":""},{"$f":"IF(E52=\"\",\"\",②選手情報入力!Q61)","v":""},"",{"$f":"IF(E52=\"\",\"\",IF(②選手情報入力!S61=\"\",\"\",②選手情報入力!S61))","v":""},"","",{"$f":"IF(E52=\"\",\"\",IF(②選手情報入力!T61=\"\",\"\",IF(G52=1,IF(②選手情報入力!$U$6=\"\",\"\",②選手情報入力!$U$6),IF(②選手情報入力!$U$7=\"\",\"\",②選手情報入力!$U$7))))","v":""},{"$f":"IF(E52=\"\",\"\",IF(②選手情報入力!T61=\"\",\"\",IF(G52=1,IF(②選手情報入力!$T$6=\"\",0,1),IF(②選手情報入力!$T$7=\"\",0,1))))","v":""},{"$f":"IF(E52=\"\",\"\",IF(②選手情報入力!T61=\"\",\"\",2))","v":""},"",{"$f":"IF(E52=\"\",\"\",IF(②選手情報入力!V61=\"\",\"\",IF(G52=1,IF(②選手情報入力!$W$6=\"\",\"\",②選手情報入力!$W$6),IF(②選手情報入力!$W$7=\"\",\"\",②選手情報入力!$W$7))))","v":""},{"$f":"IF(E52=\"\",\"\",IF(②選手情報入力!V61=\"\",\"\",IF(G52=1,IF(②選手情報入力!$V$6=\"\",0,1),IF(②選手情報入力!$V$7=\"\",0,1))))","v":""},{"$f":"IF(E52=\"\",\"\",IF(②選手情報入力!V61=\"\",\"\",2))","v":""}]
[{"$f":"IF(E53=\"\",\"\",data_kyogisha!A53)","v":""},{"$f":"IF(E53=\"\",\"\",①団体情報入力!$C$5)","v":""},{"$f":"IF(A53=\"\",\"\",VLOOKUP(B53,Sheet6!C:D,2,0))","v":""},null,{"$f":"IF(②選手情報入力!C62=\"\",\"\",②選手情報入力!C62)","v":""},{"$f":"IF(E53=\"\",\"\",②選手情報入力!D62)","v":""},{"$f":"IF(E53=\"\",\"\",IF(②選手情報入力!I62=\"男\",1,2))","v":""},{"$f":"IF(E53=\"\",\"\",VLOOKUP(data_kyogisha!Q53,Sheet3!A:G,2,0))","v":""},{"$f":"IF(E53=\"\",\"\",IF(②選手情報入力!M62=\"\",\"\",②選手情報入力!M62))","v":""},{"$f":"IF(E53=\"\",\"\",②選手情報入力!N62)","v":""},{"$f":"IF(E53=\"\",\"\",VLOOKUP(data_kyogisha!U53,Sheet3!A:G,2,0))","v":""},{"$f":"IF(E53=\"\",\"\",IF(②選手情報入力!P62=\"\",\"\",②選手情報入力!P62))","v":""},{"$f":"IF(E53=\"\",\"\",②選手情報入力!Q62)","v":""},"",{"$f":"IF(E53=\"\",\"\",IF(②選手情報入力!S62=\"\",\"\",②選手情報入力!S62))","v":""},"","",{"$f":"IF(E53=\"\",\"\",IF(②選手情報入力!T62=\"\",\"\",IF(G53=1,IF(②選手情報入力!$U$6=\"\",\"\",②選手情報入力!$U$6),IF(②選手情報入力!$U$7=\"\",\"\",②選手情報入力!$U$7))))","v":""},{"$f":"IF(E53=\"\",\"\",IF(②選手情報入力!T62=\"\",\"\",IF(G53=1,IF(②選手情報入力!$T$6=\"\",0,1),IF(②選手情報入力!$T$7=\"\",0,1))))","v":""},{"$f":"IF(E53=\"\",\"\",IF(②選手情報入力!T62=\"\",\"\",2))","v":""},"",{"$f":"IF(E53=\"\",\"\",IF(②選手情報入力!V62=\"\",\"\",IF(G53=1,IF(②選手情報入力!$W$6=\"\",\"\",②選手情報入力!$W$6),IF(②選手情報入力!$W$7=\"\",\"\",②選手情報入力!$W$7))))","v":""},{"$f":"IF(E53=\"\",\"\",IF(②選手情報入力!V62=\"\",\"\",IF(G53=1,IF(②選手情報入力!$V$6=\"\",0,1),IF(②選手情報入力!$V$7=\"\",0,1))))","v":""},{"$f":"IF(E53=\"\",\"\",IF(②選手情報入力!V62=\"\",\"\",2))","v":""}]
[{"$f":"IF(E54=\"\",\"\",data_kyogisha!A54)","v":""},{"$f":"IF(E54=\"\",\"\",①団体情報入力!$C$5)","v":""},{"$f":"IF(A54=\"\",\"\",VLOOKUP(B54,Sheet6!C:D,2,0))","v":""},null,{"$f":"IF(②選手情報入力!C63=\"\",\"\",②選手情報入力!C63)","v":""},{"$f":"IF(E54=\"\",\"\",②選手情報入力!D63)","v":""},{"$f":"IF(E54=\"\",\"\",IF(②選手情報入力!I63=\"男\",1,2))","v":""},{"$f":"IF(E54=\"\",\"\",VLOOKUP(data_kyogisha!Q54,Sheet3!A:G,2,0))","v":""},{"$f":"IF(E54=\"\",\"\",IF(②選手情報入力!M63=\"\",\"\",②選手情報入力!M63))","v":""},{"$f":"IF(E54=\"\",\"\",②選手情報入力!N63)","v":""},{"$f":"IF(E54=\"\",\"\",VLOOKUP(data_kyogisha!U54,Sheet3!A:G,2,0))","v":""},{"$f":"IF(E54=\"\",\"\",IF(②選手情報入力!P63=\"\",\"\",②選手情報入力!P63))","v":""},{"$f":"IF(E54=\"\",\"\",②選手情報入力!Q63)","v":""},"",{"$f":"IF(E54=\"\",\"\",IF(②選手情報入力!S63=\"\",\"\",②選手情報入力!S63))","v":""},"","",{"$f":"IF(E54=\"\",\"\",IF(②選手情報入力!T63=\"\",\"\",IF(G54=1,IF(②選手情報入力!$U$6=\"\",\"\",②選手情報入力!$U$6),IF(②選手情報入力!$U$7=\"\",\"\",②選手情報入力!$U$7))))","v":""},{"$f":"IF(E54=\"\",\"\",IF(②選手情報入力!T63=\"\",\"\",IF(G54=1,IF(②選手情報入力!$T$6=\"\",0,1),IF(②選手情報入力!$T$7=\"\",0,1))))","v":""},{"$f":"IF(E54=\"\",\"\",IF(②選手情報入力!T63=\"\",\"\",2))","v":""},"",{"$f":"IF(E54=\"\",\"\",IF(②選手情報入力!V63=\"\",\"\",IF(G54=1,IF(②選手情報入力!$W$6=\"\",\"\",②選手情報入力!$W$6),IF(②選手情報入力!$W$7=\"\",\"\",②選手情報入力!$W$7))))","v":""},{"$f":"IF(E54=\"\",\"\",IF(②選手情報入力!V63=\"\",\"\",IF(G54=1,IF(②選手情報入力!$V$6=\"\",0,1),IF(②選手情報入力!$V$7=\"\",0,1))))","v":""},{"$f":"IF(E54=\"\",\"\",IF(②選手情報入力!V63=\"\",\"\",2))","v":""}]
[{"$f":"IF(E55=\"\",\"\",data_kyogisha!A55)","v":""},{"$f":"IF(E55=\"\",\"\",①団体情報入力!$C$5)","v":""},{"$f":"IF(A55=\"\",\"\",VLOOKUP(B55,Sheet6!C:D,2,0))","v":""},null,{"$f":"IF(②選手情報入力!C64=\"\",\"\",②選手情報入力!C64)","v":""},{"$f":"IF(E55=\"\",\"\",②選手情報入力!D64)","v":""},{"$f":"IF(E55=\"\",\"\",IF(②選手情報入力!I64=\"男\",1,2))","v":""},{"$f":"IF(E55=\"\",\"\",VLOOKUP(data_kyogisha!Q55,Sheet3!A:G,2,0))","v":""},{"$f":"IF(E55=\"\",\"\",IF(②選手情報入力!M64=\"\",\"\",②選手情報入力!M64))","v":""},{"$f":"IF(E55=\"\",\"\",②選手情報入力!N64)","v":""},{"$f":"IF(E55=\"\",\"\",VLOOKUP(data_kyogisha!U55,Sheet3!A:G,2,0))","v":""},{"$f":"IF(E55=\"\",\"\",IF(②選手情報入力!P64=\"\",\"\",②選手情報入力!P64))","v":""},{"$f":"IF(E55=\"\",\"\",②選手情報入力!Q64)","v":""},"",{"$f":"IF(E55=\"\",\"\",IF(②選手情報入力!S64=\"\",\"\",②選手情報入力!S64))","v":""},"","",{"$f":"IF(E55=\"\",\"\",IF(②選手情報入力!T64=\"\",\"\",IF(G55=1,IF(②選手情報入力!$U$6=\"\",\"\",②選手情報入力!$U$6),IF(②選手情報入力!$U$7=\"\",\"\",②選手情報入力!$U$7))))","v":""},{"$f":"IF(E55=\"\",\"\",IF(②選手情報入力!T64=\"\",\"\",IF(G55=1,IF(②選手情報入力!$T$6=\"\",0,1),IF(②選手情報入力!$T$7=\"\",0,1))))","v":""},{"$f":"IF(E55=\"\",\"\",IF(②選手情報入力!T64=\"\",\"\",2))","v":""},"",{"$f":"IF(E55=\"\",\"\",IF(②選手情報入力!V64=\"\",\"\",IF(G55=1,IF(②選手情報入力!$W$6=\"\",\"\",②選手情報入力!$W$6),IF(②選手情報入力!$W$7=\"\",\"\",②選手情報入力!$W$7))))","v":""},{"$f":"IF(E55=\"\",\"\",IF(②選手情報入力!V64=\"\",\"\",IF(G55=1,IF(②選手情報入力!$V$6=\"\",0,1),IF(②選手情報入力!$V$7=\"\",0,1))))","v":""},{"$f":"IF(E55=\"\",\"\",IF(②選手情報入力!V64=\"\",\"\",2))","v":""}]
[{"$f":"IF(E56=\"\",\"\",data_kyogisha!A56)","v":""},{"$f":"IF(E56=\"\",\"\",①団体情報入力!$C$5)","v":""},{"$f":"IF(A56=\"\",\"\",VLOOKUP(B56,Sheet6!C:D,2,0))","v":""},null,{"$f":"IF(②選手情報入力!C65=\"\",\"\",②選手情報入力!C65)","v":""},{"$f":"IF(E56=\"\",\"\",②選手情報入力!D65)","v":""},{"$f":"IF(E56=\"\",\"\",IF(②選手情報入力!I65=\"男\",1,2))","v":""},{"$f":"IF(E56=\"\",\"\",VLOOKUP(data_kyogisha!Q56,Sheet3!A:G,2,0))","v":""},{"$f":"IF(E56=\"\",\"\",IF(②選手情報入力!M65=\"\",\"\",②選手情報入力!M65))","v":""},{"$f":"IF(E56=\"\",\"\",②選手情報入力!N65)","v":""},{"$f":"IF(E56=\"\",\"\",VLOOKUP(data_kyogisha!U56,Sheet3!A:G,2,0))","v":""},{"$f":"IF(E56=\"\",\"\",IF(②選手情報入力!P65=\"\",\"\",②選手情報入力!P65))","v":""},{"$f":"IF(E56=\"\",\"\",②選手情報入力!Q65)","v":""},"",{"$f":"IF(E56=\"\",\"\",IF(②選手情報入力!S65=\"\",\"\",②選手情報入力!S65))","v":""},"","",{"$f":"IF(E56=\"\",\"\",IF(②選手情報入力!T65=\"\",\"\",IF(G56=1,IF(②選手情報入力!$U$6=\"\",\"\",②選手情報入力!$U$6),IF(②選手情報入力!$U$7=\"\",\"\",②選手情報入力!$U$7))))","v":""},{"$f":"IF(E56=\"\",\"\",IF(②選手情報入力!T65=\"\",\"\",IF(G56=1,IF(②選手情報入力!$T$6=\"\",0,1),IF(②選手情報入力!$T$7=\"\",0,1))))","v":""},{"$f":"IF(E56=\"\",\"\",IF(②選手情報入力!T65=\"\",\"\",2))","v":""},"",{"$f":"IF(E56=\"\",\"\",IF(②選手情報入力!V65=\"\",\"\",IF(G56=1,IF(②選手情報入力!$W$6=\"\",\"\",②選手情報入力!$W$6),IF(②選手情報入力!$W$7=\"\",\"\",②選手情報入力!$W$7))))","v":""},{"$f":"IF(E56=\"\",\"\",IF(②選手情報入力!V65=\"\",\"\",IF(G56=1,IF(②選手情報入力!$V$6=\"\",0,1),IF(②選手情報入力!$V$7=\"\",0,1))))","v":""},{"$f":"IF(E56=\"\",\"\",IF(②選手情報入力!V65=\"\",\"\",2))","v":""}]
[{"$f":"IF(E57=\"\",\"\",data_kyogisha!A57)","v":""},{"$f":"IF(E57=\"\",\"\",①団体情報入力!$C$5)","v":""},{"$f":"IF(A57=\"\",\"\",VLOOKUP(B57,Sheet6!C:D,2,0))","v":""},null,{"$f":"IF(②選手情報入力!C66=\"\",\"\",②選手情報入力!C66)","v":""},{"$f":"IF(E57=\"\",\"\",②選手情報入力!D66)","v":""},{"$f":"IF(E57=\"\",\"\",IF(②選手情報入力!I66=\"男\",1,2))","v":""},{"$f":"IF(E57=\"\",\"\",VLOOKUP(data_kyogisha!Q57,Sheet3!A:G,2,0))","v":""},{"$f":"IF(E57=\"\",\"\",IF(②選手情報入力!M66=\"\",\"\",②選手情報入力!M66))","v":""},{"$f":"IF(E57=\"\",\"\",②選手情報入力!N66)","v":""},{"$f":"IF(E57=\"\",\"\",VLOOKUP(data_kyogisha!U57,Sheet3!A:G,2,0))","v":""},{"$f":"IF(E57=\"\",\"\",IF(②選手情報入力!P66=\"\",\"\",②選手情報入力!P66))","v":""},{"$f":"IF(E57=\"\",\"\",②選手情報入力!Q66)","v":""},"",{"$f":"IF(E57=\"\",\"\",IF(②選手情報入力!S66=\"\",\"\",②選手情報入力!S66))","v":""},"","",{"$f":"IF(E57=\"\",\"\",IF(②選手情報入力!T66=\"\",\"\",IF(G57=1,IF(②選手情報入力!$U$6=\"\",\"\",②選手情報入力!$U$6),IF(②選手情報入力!$U$7=\"\",\"\",②選手情報入力!$U$7))))","v":""},{"$f":"IF(E57=\"\",\"\",IF(②選手情報入力!T66=\"\",\"\",IF(G57=1,IF(②選手情報入力!$T$6=\"\",0,1),IF(②選手情報入力!$T$7=\"\",0,1))))","v":""},{"$f":"IF(E57=\"\",\"\",IF(②選手情報入力!T66=\"\",\"\",2))","v":""},"",{"$f":"IF(E57=\"\",\"\",IF(②選手情報入力!V66=\"\",\"\",IF(G57=1,IF(②選手情報入力!$W$6=\"\",\"\",②選手情報入力!$W$6),IF(②選手情報入力!$W$7=\"\",\"\",②選手情報入力!$W$7))))","v":""},{"$f":"IF(E57=\"\",\"\",IF(②選手情報入力!V66=\"\",\"\",IF(G57=1,IF(②選手情報入力!$V$6=\"\",0,1),IF(②選手情報入力!$V$7=\"\",0,1))))","v":""},{"$f":"IF(E57=\"\",\"\",IF(②選手情報入力!V66=\"\",\"\",2))","v":""}]
[{"$f":"IF(E58=\"\",\"\",data_kyogisha!A58)","v":""},{"$f":"IF(E58=\"\",\"\",①団体情報入力!$C$5)","v":""},{"$f":"IF(A58=\"\",\"\",VLOOKUP(B58,Sheet6!C:D,2,0))","v":""},null,{"$f":"IF(②選手情報入力!C67=\"\",\"\",②選手情報入力!C67)","v":""},{"$f":"IF(E58=\"\",\"\",②選手情報入力!D67)","v":""},{"$f":"IF(E58=\"\",\"\",IF(②選手情報入力!I67=\"男\",1,2))","v":""},{"$f":"IF(E58=\"\",\"\",VLOOKUP(data_kyogisha!Q58,Sheet3!A:G,2,0))","v":""},{"$f":"IF(E58=\"\",\"\",IF(②選手情報入力!M67=\"\",\"\",②選手情報入力!M67))","v":""},{"$f":"IF(E58=\"\",\"\",②選手情報入力!N67)","v":""},{"$f":"IF(E58=\"\",\"\",VLOOKUP(data_kyogisha!U58,Sheet3!A:G,2,0))","v":""},{"$f":"IF(E58=\"\",\"\",IF(②選手情報入力!P67=\"\",\"\",②選手情報入力!P67))","v":""},{"$f":"IF(E58=\"\",\"\",②選手情報入力!Q67)","v":""},"",{"$f":"IF(E58=\"\",\"\",IF(②選手情報入力!S67=\"\",\"\",②選手情報入力!S67))","v":""},"","",{"$f":"IF(E58=\"\",\"\",IF(②選手情報入力!T67=\"\",\"\",IF(G58=1,IF(②選手情報入力!$U$6=\"\",\"\",②選手情報入力!$U$6),IF(②選手情報入力!$U$7=\"\",\"\",②選手情報入力!$U$7))))","v":""},{"$f":"IF(E58=\"\",\"\",IF(②選手情報入力!T67=\"\",\"\",IF(G58=1,IF(②選手情報入力!$T$6=\"\",0,1),IF(②選手情報入力!$T$7=\"\",0,1))))","v":""},{"$f":"IF(E58=\"\",\"\",IF(②選手情報入力!T67=\"\",\"\",2))","v":""},"",{"$f":"IF(E58=\"\",\"\",IF(②選手情報入力!V67=\"\",\"\",IF(G58=1,IF(②選手情報入力!$W$6=\"\",\"\",②選手情報入力!$W$6),IF(②選手情報入力!$W$7=\"\",\"\",②選手情報入力!$W$7))))","v":""},{"$f":"IF(E58=\"\",\"\",IF(②選手情報入力!V67=\"\",\"\",IF(G58=1,IF(②選手情報入力!$V$6=\"\",0,1),IF(②選手情報入力!$V$7=\"\",0,1))))","v":""},{"$f":"IF(E58=\"\",\"\",IF(②選手情報入力!V67=\"\",\"\",2))","v":""}]
[{"$f":"IF(E59=\"\",\"\",data_kyogisha!A59)","v":""},{"$f":"IF(E59=\"\",\"\",①団体情報入力!$C$5)","v":""},{"$f":"IF(A59=\"\",\"\",VLOOKUP(B59,Sheet6!C:D,2,0))","v":""},null,{"$f":"IF(②選手情報入力!C68=\"\",\"\",②選手情報入力!C68)","v":""},{"$f":"IF(E59=\"\",\"\",②選手情報入力!D68)","v":""},{"$f":"IF(E59=\"\",\"\",IF(②選手情報入力!I68=\"男\",1,2))","v":""},{"$f":"IF(E59=\"\",\"\",VLOOKUP(data_kyogisha!Q59,Sheet3!A:G,2,0))","v":""},{"$f":"IF(E59=\"\",\"\",IF(②選手情報入力!M68=\"\",\"\",②選手情報入力!M68))","v":""},{"$f":"IF(E59=\"\",\"\",②選手情報入力!N68)","v":""},{"$f":"IF(E59=\"\",\"\",VLOOKUP(data_kyogisha!U59,Sheet3!A:G,2,0))","v":""},{"$f":"IF(E59=\"\",\"\",IF(②選手情報入力!P68=\"\",\"\",②選手情報入力!P68))","v":""},{"$f":"IF(E59=\"\",\"\",②選手情報入力!Q68)","v":""},"",{"$f":"IF(E59=\"\",\"\",IF(②選手情報入力!S68=\"\",\"\",②選手情報入力!S68))","v":""},"","",{"$f":"IF(E59=\"\",\"\",IF(②選手情報入力!T68=\"\",\"\",IF(G59=1,IF(②選手情報入力!$U$6=\"\",\"\",②選手情報入力!$U$6),IF(②選手情報入力!$U$7=\"\",\"\",②選手情報入力!$U$7))))","v":""},{"$f":"IF(E59=\"\",\"\",IF(②選手情報入力!T68=\"\",\"\",IF(G59=1,IF(②選手情報入力!$T$6=\"\",0,1),IF(②選手情報入力!$T$7=\"\",0,1))))","v":""},{"$f":"IF(E59=\"\",\"\",IF(②選手情報入力!T68=\"\",\"\",2))","v":""},"",{"$f":"IF(E59=\"\",\"\",IF(②選手情報入力!V68=\"\",\"\",IF(G59=1,IF(②選手情報入力!$W$6=\"\",\"\",②選手情報入力!$W$6),IF(②選手情報入力!$W$7=\"\",\"\",②選手情報入力!$W$7))))","v":""},{"$f":"IF(E59=\"\",\"\",IF(②選手情報入力!V68=\"\",\"\",IF(G59=1,IF(②選手情報入力!$V$6=\"\",0,1),IF(②選手情報入力!$V$7=\"\",0,1))))","v":""},{"$f":"IF(E59=\"\",\"\",IF(②選手情報入力!V68=\"\",\"\",2))","v":""}]
[{"$f":"IF(E60=\"\",\"\",data_kyogisha!A60)","v":""},{"$f":"IF(E60=\"\",\"\",①団体情報入力!$C$5)","v":""},{"$f":"IF(A60=\"\",\"\",VLOOKUP(B60,Sheet6!C:D,2,0))","v":""},null,{"$f":"IF(②選手情報入力!C69=\"\",\"\",②選手情報入力!C69)","v":""},{"$f":"IF(E60=\"\",\"\",②選手情報入力!D69)","v":""},{"$f":"IF(E60=\"\",\"\",IF(②選手情報入力!I69=\"男\",1,2))","v":""},{"$f":"IF(E60=\"\",\"\",VLOOKUP(data_kyogisha!Q60,Sheet3!A:G,2,0))","v":""},{"$f":"IF(E60=\"\",\"\",IF(②選手情報入力!M69=\"\",\"\",②選手情報入力!M69))","v":""},{"$f":"IF(E60=\"\",\"\",②選手情報入力!N69)","v":""},{"$f":"IF(E60=\"\",\"\",VLOOKUP(data_kyogisha!U60,Sheet3!A:G,2,0))","v":""},{"$f":"IF(E60=\"\",\"\",IF(②選手情報入力!P69=\"\",\"\",②選手情報入力!P69))","v":""},{"$f":"IF(E60=\"\",\"\",②選手情報入力!Q69)","v":""},"",{"$f":"IF(E60=\"\",\"\",IF(②選手情報入力!S69=\"\",\"\",②選手情報入力!S69))","v":""},"","",{"$f":"IF(E60=\"\",\"\",IF(②選手情報入力!T69=\"\",\"\",IF(G60=1,IF(②選手情報入力!$U$6=\"\",\"\",②選手情報入力!$U$6),IF(②選手情報入力!$U$7=\"\",\"\",②選手情報入力!$U$7))))","v":""},{"$f":"IF(E60=\"\",\"\",IF(②選手情報入力!T69=\"\",\"\",IF(G60=1,IF(②選手情報入力!$T$6=\"\",0,1),IF(②選手情報入力!$T$7=\"\",0,1))))","v":""},{"$f":"IF(E60=\"\",\"\",IF(②選手情報入力!T69=\"\",\"\",2))","v":""},"",{"$f":"IF(E60=\"\",\"\",IF(②選手情報入力!V69=\"\",\"\",IF(G60=1,IF(②選手情報入力!$W$6=\"\",\"\",②選手情報入力!$W$6),IF(②選手情報入力!$W$7=\"\",\"\",②選手情報入力!$W$7))))","v":""},{"$f":"IF(E60=\"\",\"\",IF(②選手情報入力!V69=\"\",\"\",IF(G60=1,IF(②選手情報入力!$V$6=\"\",0,1),IF(②選手情報入力!$V$7=\"\",0,1))))","v":""},{"$f":"IF(E60=\"\",\"\",IF(②選手情報入力!V69=\"\",\"\",2))","v":""}]
[{"$f":"IF(E61=\"\",\"\",data_kyogisha!A61)","v":""},{"$f":"IF(E61=\"\",\"\",①団体情報入力!$C$5)","v":""},{"$f":"IF(A61=\"\",\"\",VLOOKUP(B61,Sheet6!C:D,2,0))","v":""},null,{"$f":"IF(②選手情報入力!C70=\"\",\"\",②選手情報入力!C70)","v":""},{"$f":"IF(E61=\"\",\"\",②選手情報入力!D70)","v":""},{"$f":"IF(E61=\"\",\"\",IF(②選手情報入力!I70=\"男\",1,2))","v":""},{"$f":"IF(E61=\"\",\"\",VLOOKUP(data_kyogisha!Q61,Sheet3!A:G,2,0))","v":""},{"$f":"IF(E61=\"\",\"\",IF(②選手情報入力!M70=\"\",\"\",②選手情報入力!M70))","v":""},{"$f":"IF(E61=\"\",\"\",②選手情報入力!N70)","v":""},{"$f":"IF(E61=\"\",\"\",VLOOKUP(data_kyogisha!U61,Sheet3!A:G,2,0))","v":""},{"$f":"IF(E61=\"\",\"\",IF(②選手情報入力!P70=\"\",\"\",②選手情報入力!P70))","v":""},{"$f":"IF(E61=\"\",\"\",②選手情報入力!Q70)","v":""},"",{"$f":"IF(E61=\"\",\"\",IF(②選手情報入力!S70=\"\",\"\",②選手情報入力!S70))","v":""},"","",{"$f":"IF(E61=\"\",\"\",IF(②選手情報入力!T70=\"\",\"\",IF(G61=1,IF(②選手情報入力!$U$6=\"\",\"\",②選手情報入力!$U$6),IF(②選手情報入力!$U$7=\"\",\"\",②選手情報入力!$U$7))))","v":""},{"$f":"IF(E61=\"\",\"\",IF(②選手情報入力!T70=\"\",\"\",IF(G61=1,IF(②選手情報入力!$T$6=\"\",0,1),IF(②選手情報入力!$T$7=\"\",0,1))))","v":""},{"$f":"IF(E61=\"\",\"\",IF(②選手情報入力!T70=\"\",\"\",2))","v":""},"",{"$f":"IF(E61=\"\",\"\",IF(②選手情報入力!V70=\"\",\"\",IF(G61=1,IF(②選手情報入力!$W$6=\"\",\"\",②選手情報入力!$W$6),IF(②選手情報入力!$W$7=\"\",\"\",②選手情報入力!$W$7))))","v":""},{"$f":"IF(E61=\"\",\"\",IF(②選手情報入力!V70=\"\",\"\",IF(G61=1,IF(②選手情報入力!$V$6=\"\",0,1),IF(②選手情報入力!$V$7=\"\",0,1))))","v":""},{"$f":"IF(E61=\"\",\"\",IF(②選手情報入力!V70=\"\",\"\",2))","v":""}]
[{"$f":"IF(E62=\"\",\"\",data_kyogisha!A62)","v":""},{"$f":"IF(E62=\"\",\"\",①団体情報入力!$C$5)","v":""},{"$f":"IF(A62=\"\",\"\",VLOOKUP(B62,Sheet6!C:D,2,0))","v":""},null,{"$f":"IF(②選手情報入力!C71=\"\",\"\",②選手情報入力!C71)","v":""},{"$f":"IF(E62=\"\",\"\",②選手情報入力!D71)","v":""},{"$f":"IF(E62=\"\",\"\",IF(②選手情報入力!I71=\"男\",1,2))","v":""},{"$f":"IF(E62=\"\",\"\",VLOOKUP(data_kyogisha!Q62,Sheet3!A:G,2,0))","v":""},{"$f":"IF(E62=\"\",\"\",IF(②選手情報入力!M71=\"\",\"\",②選手情報入力!M71))","v":""},{"$f":"IF(E62=\"\",\"\",②選手情報入力!N71)","v":""},{"$f":"IF(E62=\"\",\"\",VLOOKUP(data_kyogisha!U62,Sheet3!A:G,2,0))","v":""},{"$f":"IF(E62=\"\",\"\",IF(②選手情報入力!P71=\"\",\"\",②選手情報入力!P71))","v":""},{"$f":"IF(E62=\"\",\"\",②選手情報入力!Q71)","v":""},"",{"$f":"IF(E62=\"\",\"\",IF(②選手情報入力!S71=\"\",\"\",②選手情報入力!S71))","v":""},"","",{"$f":"IF(E62=\"\",\"\",IF(②選手情報入力!T71=\"\",\"\",IF(G62=1,IF(②選手情報入力!$U$6=\"\",\"\",②選手情報入力!$U$6),IF(②選手情報入力!$U$7=\"\",\"\",②選手情報入力!$U$7))))","v":""},{"$f":"IF(E62=\"\",\"\",IF(②選手情報入力!T71=\"\",\"\",IF(G62=1,IF(②選手情報入力!$T$6=\"\",0,1),IF(②選手情報入力!$T$7=\"\",0,1))))","v":""},{"$f":"IF(E62=\"\",\"\",IF(②選手情報入力!T71=\"\",\"\",2))","v":""},"",{"$f":"IF(E62=\"\",\"\",IF(②選手情報入力!V71=\"\",\"\",IF(G62=1,IF(②選手情報入力!$W$6=\"\",\"\",②選手情報入力!$W$6),IF(②選手情報入力!$W$7=\"\",\"\",②選手情報入力!$W$7))))","v":""},{"$f":"IF(E62=\"\",\"\",IF(②選手情報入力!V71=\"\",\"\",IF(G62=1,IF(②選手情報入力!$V$6=\"\",0,1),IF(②選手情報入力!$V$7=\"\",0,1))))","v":""},{"$f":"IF(E62=\"\",\"\",IF(②選手情報入力!V71=\"\",\"\",2))","v":""}]
[{"$f":"IF(E63=\"\",\"\",data_kyogisha!A63)","v":""},{"$f":"IF(E63=\"\",\"\",①団体情報入力!$C$5)","v":""},{"$f":"IF(A63=\"\",\"\",VLOOKUP(B63,Sheet6!C:D,2,0))","v":""},null,{"$f":"IF(②選手情報入力!C72=\"\",\"\",②選手情報入力!C72)","v":""},{"$f":"IF(E63=\"\",\"\",②選手情報入力!D72)","v":""},{"$f":"IF(E63=\"\",\"\",IF(②選手情報入力!I72=\"男\",1,2))","v":""},{"$f":"IF(E63=\"\",\"\",VLOOKUP(data_kyogisha!Q63,Sheet3!A:G,2,0))","v":""},{"$f":"IF(E63=\"\",\"\",IF(②選手情報入力!M72=\"\",\"\",②選手情報入力!M72))","v":""},{"$f":"IF(E63=\"\",\"\",②選手情報入力!N72)","v":""},{"$f":"IF(E63=\"\",\"\",VLOOKUP(data_kyogisha!U63,Sheet3!A:G,2,0))","v":""},{"$f":"IF(E63=\"\",\"\",IF(②選手情報入力!P72=\"\",\"\",②選手情報入力!P72))","v":""},{"$f":"IF(E63=\"\",\"\",②選手情報入力!Q72)","v":""},"",{"$f":"IF(E63=\"\",\"\",IF(②選手情報入力!S72=\"\",\"\",②選手情報入力!S72))","v":""},"","",{"$f":"IF(E63=\"\",\"\",IF(②選手情報入力!T72=\"\",\"\",IF(G63=1,IF(②選手情報入力!$U$6=\"\",\"\",②選手情報入力!$U$6),IF(②選手情報入力!$U$7=\"\",\"\",②選手情報入力!$U$7))))","v":""},{"$f":"IF(E63=\"\",\"\",IF(②選手情報入力!T72=\"\",\"\",IF(G63=1,IF(②選手情報入力!$T$6=\"\",0,1),IF(②選手情報入力!$T$7=\"\",0,1))))","v":""},{"$f":"IF(E63=\"\",\"\",IF(②選手情報入力!T72=\"\",\"\",2))","v":""},"",{"$f":"IF(E63=\"\",\"\",IF(②選手情報入力!V72=\"\",\"\",IF(G63=1,IF(②選手情報入力!$W$6=\"\",\"\",②選手情報入力!$W$6),IF(②選手情報入力!$W$7=\"\",\"\",②選手情報入力!$W$7))))","v":""},{"$f":"IF(E63=\"\",\"\",IF(②選手情報入力!V72=\"\",\"\",IF(G63=1,IF(②選手情報入力!$V$6=\"\",0,1),IF(②選手情報入力!$V$7=\"\",0,1))))","v":""},{"$f":"IF(E63=\"\",\"\",IF(②選手情報入力!V72=\"\",\"\",2))","v":""}]
[{"$f":"IF(E64=\"\",\"\",data_kyogisha!A64)","v":""},{"$f":"IF(E64=\"\",\"\",①団体情報入力!$C$5)","v":""},{"$f":"IF(A64=\"\",\"\",VLOOKUP(B64,Sheet6!C:D,2,0))","v":""},null,{"$f":"IF(②選手情報入力!C73=\"\",\"\",②選手情報入力!C73)","v":""},{"$f":"IF(E64=\"\",\"\",②選手情報入力!D73)","v":""},{"$f":"IF(E64=\"\",\"\",IF(②選手情報入力!I73=\"男\",1,2))","v":""},{"$f":"IF(E64=\"\",\"\",VLOOKUP(data_kyogisha!Q64,Sheet3!A:G,2,0))","v":""},{"$f":"IF(E64=\"\",\"\",IF(②選手情報入力!M73=\"\",\"\",②選手情報入力!M73))","v":""},{"$f":"IF(E64=\"\",\"\",②選手情報入力!N73)","v":""},{"$f":"IF(E64=\"\",\"\",VLOOKUP(data_kyogisha!U64,Sheet3!A:G,2,0))","v":""},{"$f":"IF(E64=\"\",\"\",IF(②選手情報入力!P73=\"\",\"\",②選手情報入力!P73))","v":""},{"$f":"IF(E64=\"\",\"\",②選手情報入力!Q73)","v":""},"",{"$f":"IF(E64=\"\",\"\",IF(②選手情報入力!S73=\"\",\"\",②選手情報入力!S73))","v":""},"","",{"$f":"IF(E64=\"\",\"\",IF(②選手情報入力!T73=\"\",\"\",IF(G64=1,IF(②選手情報入力!$U$6=\"\",\"\",②選手情報入力!$U$6),IF(②選手情報入力!$U$7=\"\",\"\",②選手情報入力!$U$7))))","v":""},{"$f":"IF(E64=\"\",\"\",IF(②選手情報入力!T73=\"\",\"\",IF(G64=1,IF(②選手情報入力!$T$6=\"\",0,1),IF(②選手情報入力!$T$7=\"\",0,1))))","v":""},{"$f":"IF(E64=\"\",\"\",IF(②選手情報入力!T73=\"\",\"\",2))","v":""},"",{"$f":"IF(E64=\"\",\"\",IF(②選手情報入力!V73=\"\",\"\",IF(G64=1,IF(②選手情報入力!$W$6=\"\",\"\",②選手情報入力!$W$6),IF(②選手情報入力!$W$7=\"\",\"\",②選手情報入力!$W$7))))","v":""},{"$f":"IF(E64=\"\",\"\",IF(②選手情報入力!V73=\"\",\"\",IF(G64=1,IF(②選手情報入力!$V$6=\"\",0,1),IF(②選手情報入力!$V$7=\"\",0,1))))","v":""},{"$f":"IF(E64=\"\",\"\",IF(②選手情報入力!V73=\"\",\"\",2))","v":""}]
[{"$f":"IF(E65=\"\",\"\",data_kyogisha!A65)","v":""},{"$f":"IF(E65=\"\",\"\",①団体情報入力!$C$5)","v":""},{"$f":"IF(A65=\"\",\"\",VLOOKUP(B65,Sheet6!C:D,2,0))","v":""},null,{"$f":"IF(②選手情報入力!C74=\"\",\"\",②選手情報入力!C74)","v":""},{"$f":"IF(E65=\"\",\"\",②選手情報入力!D74)","v":""},{"$f":"IF(E65=\"\",\"\",IF(②選手情報入力!I74=\"男\",1,2))","v":""},{"$f":"IF(E65=\"\",\"\",VLOOKUP(data_kyogisha!Q65,Sheet3!A:G,2,0))","v":""},{"$f":"IF(E65=\"\",\"\",IF(②選手情報入力!M74=\"\",\"\",②選手情報入力!M74))","v":""},{"$f":"IF(E65=\"\",\"\",②選手情報入力!N74)","v":""},{"$f":"IF(E65=\"\",\"\",VLOOKUP(data_kyogisha!U65,Sheet3!A:G,2,0))","v":""},{"$f":"IF(E65=\"\",\"\",IF(②選手情報入力!P74=\"\",\"\",②選手情報入力!P74))","v":""},{"$f":"IF(E65=\"\",\"\",②選手情報入力!Q74)","v":""},"",{"$f":"IF(E65=\"\",\"\",IF(②選手情報入力!S74=\"\",\"\",②選手情報入力!S74))","v":""},"","",{"$f":"IF(E65=\"\",\"\",IF(②選手情報入力!T74=\"\",\"\",IF(G65=1,IF(②選手情報入力!$U$6=\"\",\"\",②選手情報入力!$U$6),IF(②選手情報入力!$U$7=\"\",\"\",②選手情報入力!$U$7))))","v":""},{"$f":"IF(E65=\"\",\"\",IF(②選手情報入力!T74=\"\",\"\",IF(G65=1,IF(②選手情報入力!$T$6=\"\",0,1),IF(②選手情報入力!$T$7=\"\",0,1))))","v":""},{"$f":"IF(E65=\"\",\"\",IF(②選手情報入力!T74=\"\",\"\",2))","v":""},"",{"$f":"IF(E65=\"\",\"\",IF(②選手情報入力!V74=\"\",\"\",IF(G65=1,IF(②選手情報入力!$W$6=\"\",\"\",②選手情報入力!$W$6),IF(②選手情報入力!$W$7=\"\",\"\",②選手情報入力!$W$7))))","v":""},{"$f":"IF(E65=\"\",\"\",IF(②選手情報入力!V74=\"\",\"\",IF(G65=1,IF(②選手情報入力!$V$6=\"\",0,1),IF(②選手情報入力!$V$7=\"\",0,1))))","v":""},{"$f":"IF(E65=\"\",\"\",IF(②選手情報入力!V74=\"\",\"\",2))","v":""}]
[{"$f":"IF(E66=\"\",\"\",data_kyogisha!A66)","v":""},{"$f":"IF(E66=\"\",\"\",①団体情報入力!$C$5)","v":""},{"$f":"IF(A66=\"\",\"\",VLOOKUP(B66,Sheet6!C:D,2,0))","v":""},null,{"$f":"IF(②選手情報入力!C75=\"\",\"\",②選手情報入力!C75)","v":""},{"$f":"IF(E66=\"\",\"\",②選手情報入力!D75)","v":""},{"$f":"IF(E66=\"\",\"\",IF(②選手情報入力!I75=\"男\",1,2))","v":""},{"$f":"IF(E66=\"\",\"\",VLOOKUP(data_kyogisha!Q66,Sheet3!A:G,2,0))","v":""},{"$f":"IF(E66=\"\",\"\",IF(②選手情報入力!M75=\"\",\"\",②選手情報入力!M75))","v":""},{"$f":"IF(E66=\"\",\"\",②選手情報入力!N75)","v":""},{"$f":"IF(E66=\"\",\"\",VLOOKUP(data_kyogisha!U66,Sheet3!A:G,2,0))","v":""},{"$f":"IF(E66=\"\",\"\",IF(②選手情報入力!P75=\"\",\"\",②選手情報入力!P75))","v":""},{"$f":"IF(E66=\"\",\"\",②選手情報入力!Q75)","v":""},"",{"$f":"IF(E66=\"\",\"\",IF(②選手情報入力!S75=\"\",\"\",②選手情報入力!S75))","v":""},"","",{"$f":"IF(E66=\"\",\"\",IF(②選手情報入力!T75=\"\",\"\",IF(G66=1,IF(②選手情報入力!$U$6=\"\",\"\",②選手情報入力!$U$6),IF(②選手情報入力!$U$7=\"\",\"\",②選手情報入力!$U$7))))","v":""},{"$f":"IF(E66=\"\",\"\",IF(②選手情報入力!T75=\"\",\"\",IF(G66=1,IF(②選手情報入力!$T$6=\"\",0,1),IF(②選手情報入力!$T$7=\"\",0,1))))","v":""},{"$f":"IF(E66=\"\",\"\",IF(②選手情報入力!T75=\"\",\"\",2))","v":""},"",{"$f":"IF(E66=\"\",\"\",IF(②選手情報入力!V75=\"\",\"\",IF(G66=1,IF(②選手情報入力!$W$6=\"\",\"\",②選手情報入力!$W$6),IF(②選手情報入力!$W$7=\"\",\"\",②選手情報入力!$W$7))))","v":""},{"$f":"IF(E66=\"\",\"\",IF(②選手情報入力!V75=\"\",\"\",IF(G66=1,IF(②選手情報入力!$V$6=\"\",0,1),IF(②選手情報入力!$V$7=\"\",0,1))))","v":""},{"$f":"IF(E66=\"\",\"\",IF(②選手情報入力!V75=\"\",\"\",2))","v":""}]
[{"$f":"IF(E67=\"\",\"\",data_kyogisha!A67)","v":""},{"$f":"IF(E67=\"\",\"\",①団体情報入力!$C$5)","v":""},{"$f":"IF(A67=\"\",\"\",VLOOKUP(B67,Sheet6!C:D,2,0))","v":""},null,{"$f":"IF(②選手情報入力!C76=\"\",\"\",②選手情報入力!C76)","v":""},{"$f":"IF(E67=\"\",\"\",②選手情報入力!D76)","v":""},{"$f":"IF(E67=\"\",\"\",IF(②選手情報入力!I76=\"男\",1,2))","v":""},{"$f":"IF(E67=\"\",\"\",VLOOKUP(data_kyogisha!Q67,Sheet3!A:G,2,0))","v":""},{"$f":"IF(E67=\"\",\"\",IF(②選手情報入力!M76=\"\",\"\",②選手情報入力!M76))","v":""},{"$f":"IF(E67=\"\",\"\",②選手情報入力!N76)","v":""},{"$f":"IF(E67=\"\",\"\",VLOOKUP(data_kyogisha!U67,Sheet3!A:G,2,0))","v":""},{"$f":"IF(E67=\"\",\"\",IF(②選手情報入力!P76=\"\",\"\",②選手情報入力!P76))","v":""},{"$f":"IF(E67=\"\",\"\",②選手情報入力!Q76)","v":""},"",{"$f":"IF(E67=\"\",\"\",IF(②選手情報入力!S76=\"\",\"\",②選手情報入力!S76))","v":""},"","",{"$f":"IF(E67=\"\",\"\",IF(②選手情報入力!T76=\"\",\"\",IF(G67=1,IF(②選手情報入力!$U$6=\"\",\"\",②選手情報入力!$U$6),IF(②選手情報入力!$U$7=\"\",\"\",②選手情報入力!$U$7))))","v":""},{"$f":"IF(E67=\"\",\"\",IF(②選手情報入力!T76=\"\",\"\",IF(G67=1,IF(②選手情報入力!$T$6=\"\",0,1),IF(②選手情報入力!$T$7=\"\",0,1))))","v":""},{"$f":"IF(E67=\"\",\"\",IF(②選手情報入力!T76=\"\",\"\",2))","v":""},"",{"$f":"IF(E67=\"\",\"\",IF(②選手情報入力!V76=\"\",\"\",IF(G67=1,IF(②選手情報入力!$W$6=\"\",\"\",②選手情報入力!$W$6),IF(②選手情報入力!$W$7=\"\",\"\",②選手情報入力!$W$7))))","v":""},{"$f":"IF(E67=\"\",\"\",IF(②選手情報入力!V76=\"\",\"\",IF(G67=1,IF(②選手情報入力!$V$6=\"\",0,1),IF(②選手情報入力!$V$7=\"\",0,1))))","v":""},{"$f":"IF(E67=\"\",\"\",IF(②選手情報入力!V76=\"\",\"\",2))","v":""}]
[{"$f":"IF(E68=\"\",\"\",data_kyogisha!A68)","v":""},{"$f":"IF(E68=\"\",\"\",①団体情報入力!$C$5)","v":""},{"$f":"IF(A68=\"\",\"\",VLOOKUP(B68,Sheet6!C:D,2,0))","v":""},null,{"$f":"IF(②選手情報入力!C77=\"\",\"\",②選手情報入力!C77)","v":""},{"$f":"IF(E68=\"\",\"\",②選手情報入力!D77)","v":""},{"$f":"IF(E68=\"\",\"\",IF(②選手情報入力!I77=\"男\",1,2))","v":""},{"$f":"IF(E68=\"\",\"\",VLOOKUP(data_kyogisha!Q68,Sheet3!A:G,2,0))","v":""},{"$f":"IF(E68=\"\",\"\",IF(②選手情報入力!M77=\"\",\"\",②選手情報入力!M77))","v":""},{"$f":"IF(E68=\"\",\"\",②選手情報入力!N77)","v":""},{"$f":"IF(E68=\"\",\"\",VLOOKUP(data_kyogisha!U68,Sheet3!A:G,2,0))","v":""},{"$f":"IF(E68=\"\",\"\",IF(②選手情報入力!P77=\"\",\"\",②選手情報入力!P77))","v":""},{"$f":"IF(E68=\"\",\"\",②選手情報入力!Q77)","v":""},"",{"$f":"IF(E68=\"\",\"\",IF(②選手情報入力!S77=\"\",\"\",②選手情報入力!S77))","v":""},"","",{"$f":"IF(E68=\"\",\"\",IF(②選手情報入力!T77=\"\",\"\",IF(G68=1,IF(②選手情報入力!$U$6=\"\",\"\",②選手情報入力!$U$6),IF(②選手情報入力!$U$7=\"\",\"\",②選手情報入力!$U$7))))","v":""},{"$f":"IF(E68=\"\",\"\",IF(②選手情報入力!T77=\"\",\"\",IF(G68=1,IF(②選手情報入力!$T$6=\"\",0,1),IF(②選手情報入力!$T$7=\"\",0,1))))","v":""},{"$f":"IF(E68=\"\",\"\",IF(②選手情報入力!T77=\"\",\"\",2))","v":""},"",{"$f":"IF(E68=\"\",\"\",IF(②選手情報入力!V77=\"\",\"\",IF(G68=1,IF(②選手情報入力!$W$6=\"\",\"\",②選手情報入力!$W$6),IF(②選手情報入力!$W$7=\"\",\"\",②選手情報入力!$W$7))))","v":""},{"$f":"IF(E68=\"\",\"\",IF(②選手情報入力!V77=\"\",\"\",IF(G68=1,IF(②選手情報入力!$V$6=\"\",0,1),IF(②選手情報入力!$V$7=\"\",0,1))))","v":""},{"$f":"IF(E68=\"\",\"\",IF(②選手情報入力!V77=\"\",\"\",2))","v":""}]
[{"$f":"IF(E69=\"\",\"\",data_kyogisha!A69)","v":""},{"$f":"IF(E69=\"\",\"\",①団体情報入力!$C$5)","v":""},{"$f":"IF(A69=\"\",\"\",VLOOKUP(B69,Sheet6!C:D,2,0))","v":""},null,{"$f":"IF(②選手情報入力!C78=\"\",\"\",②選手情報入力!C78)","v":""},{"$f":"IF(E69=\"\",\"\",②選手情報入力!D78)","v":""},{"$f":"IF(E69=\"\",\"\",IF(②選手情報入力!I78=\"男\",1,2))","v":""},{"$f":"IF(E69=\"\",\"\",VLOOKUP(data_kyogisha!Q69,Sheet3!A:G,2,0))","v":""},{"$f":"IF(E69=\"\",\"\",IF(②選手情報入力!M78=\"\",\"\",②選手情報入力!M78))","v":""},{"$f":"IF(E69=\"\",\"\",②選手情報入力!N78)","v":""},{"$f":"IF(E69=\"\",\"\",VLOOKUP(data_kyogisha!U69,Sheet3!A:G,2,0))","v":""},{"$f":"IF(E69=\"\",\"\",IF(②選手情報入力!P78=\"\",\"\",②選手情報入力!P78))","v":""},{"$f":"IF(E69=\"\",\"\",②選手情報入力!Q78)","v":""},"",{"$f":"IF(E69=\"\",\"\",IF(②選手情報入力!S78=\"\",\"\",②選手情報入力!S78))","v":""},"","",{"$f":"IF(E69=\"\",\"\",IF(②選手情報入力!T78=\"\",\"\",IF(G69=1,IF(②選手情報入力!$U$6=\"\",\"\",②選手情報入力!$U$6),IF(②選手情報入力!$U$7=\"\",\"\",②選手情報入力!$U$7))))","v":""},{"$f":"IF(E69=\"\",\"\",IF(②選手情報入力!T78=\"\",\"\",IF(G69=1,IF(②選手情報入力!$T$6=\"\",0,1),IF(②選手情報入力!$T$7=\"\",0,1))))","v":""},{"$f":"IF(E69=\"\",\"\",IF(②選手情報入力!T78=\"\",\"\",2))","v":""},"",{"$f":"IF(E69=\"\",\"\",IF(②選手情報入力!V78=\"\",\"\",IF(G69=1,IF(②選手情報入力!$W$6=\"\",\"\",②選手情報入力!$W$6),IF(②選手情報入力!$W$7=\"\",\"\",②選手情報入力!$W$7))))","v":""},{"$f":"IF(E69=\"\",\"\",IF(②選手情報入力!V78=\"\",\"\",IF(G69=1,IF(②選手情報入力!$V$6=\"\",0,1),IF(②選手情報入力!$V$7=\"\",0,1))))","v":""},{"$f":"IF(E69=\"\",\"\",IF(②選手情報入力!V78=\"\",\"\",2))","v":""}]
[{"$f":"IF(E70=\"\",\"\",data_kyogisha!A70)","v":""},{"$f":"IF(E70=\"\",\"\",①団体情報入力!$C$5)","v":""},{"$f":"IF(A70=\"\",\"\",VLOOKUP(B70,Sheet6!C:D,2,0))","v":""},null,{"$f":"IF(②選手情報入力!C79=\"\",\"\",②選手情報入力!C79)","v":""},{"$f":"IF(E70=\"\",\"\",②選手情報入力!D79)","v":""},{"$f":"IF(E70=\"\",\"\",IF(②選手情報入力!I79=\"男\",1,2))","v":""},{"$f":"IF(E70=\"\",\"\",VLOOKUP(data_kyogisha!Q70,Sheet3!A:G,2,0))","v":""},{"$f":"IF(E70=\"\",\"\",IF(②選手情報入力!M79=\"\",\"\",②選手情報入力!M79))","v":""},{"$f":"IF(E70=\"\",\"\",②選手情報入力!N79)","v":""},{"$f":"IF(E70=\"\",\"\",VLOOKUP(data_kyogisha!U70,Sheet3!A:G,2,0))","v":""},{"$f":"IF(E70=\"\",\"\",IF(②選手情報入力!P79=\"\",\"\",②選手情報入力!P79))","v":""},{"$f":"IF(E70=\"\",\"\",②選手情報入力!Q79)","v":""},"",{"$f":"IF(E70=\"\",\"\",IF(②選手情報入力!S79=\"\",\"\",②選手情報入力!S79))","v":""},"","",{"$f":"IF(E70=\"\",\"\",IF(②選手情報入力!T79=\"\",\"\",IF(G70=1,IF(②選手情報入力!$U$6=\"\",\"\",②選手情報入力!$U$6),IF(②選手情報入力!$U$7=\"\",\"\",②選手情報入力!$U$7))))","v":""},{"$f":"IF(E70=\"\",\"\",IF(②選手情報入力!T79=\"\",\"\",IF(G70=1,IF(②選手情報入力!$T$6=\"\",0,1),IF(②選手情報入力!$T$7=\"\",0,1))))","v":""},{"$f":"IF(E70=\"\",\"\",IF(②選手情報入力!T79=\"\",\"\",2))","v":""},"",{"$f":"IF(E70=\"\",\"\",IF(②選手情報入力!V79=\"\",\"\",IF(G70=1,IF(②選手情報入力!$W$6=\"\",\"\",②選手情報入力!$W$6),IF(②選手情報入力!$W$7=\"\",\"\",②選手情報入力!$W$7))))","v":""},{"$f":"IF(E70=\"\",\"\",IF(②選手情報入力!V79=\"\",\"\",IF(G70=1,IF(②選手情報入力!$V$6=\"\",0,1),IF(②選手情報入力!$V$7=\"\",0,1))))","v":""},{"$f":"IF(E70=\"\",\"\",IF(②選手情報入力!V79=\"\",\"\",2))","v":""}]
[{"$f":"IF(E71=\"\",\"\",data_kyogisha!A71)","v":""},{"$f":"IF(E71=\"\",\"\",①団体情報入力!$C$5)","v":""},{"$f":"IF(A71=\"\",\"\",VLOOKUP(B71,Sheet6!C:D,2,0))","v":""},null,{"$f":"IF(②選手情報入力!C80=\"\",\"\",②選手情報入力!C80)","v":""},{"$f":"IF(E71=\"\",\"\",②選手情報入力!D80)","v":""},{"$f":"IF(E71=\"\",\"\",IF(②選手情報入力!I80=\"男\",1,2))","v":""},{"$f":"IF(E71=\"\",\"\",VLOOKUP(data_kyogisha!Q71,Sheet3!A:G,2,0))","v":""},{"$f":"IF(E71=\"\",\"\",IF(②選手情報入力!M80=\"\",\"\",②選手情報入力!M80))","v":""},{"$f":"IF(E71=\"\",\"\",②選手情報入力!N80)","v":""},{"$f":"IF(E71=\"\",\"\",VLOOKUP(data_kyogisha!U71,Sheet3!A:G,2,0))","v":""},{"$f":"IF(E71=\"\",\"\",IF(②選手情報入力!P80=\"\",\"\",②選手情報入力!P80))","v":""},{"$f":"IF(E71=\"\",\"\",②選手情報入力!Q80)","v":""},"",{"$f":"IF(E71=\"\",\"\",IF(②選手情報入力!S80=\"\",\"\",②選手情報入力!S80))","v":""},"","",{"$f":"IF(E71=\"\",\"\",IF(②選手情報入力!T80=\"\",\"\",IF(G71=1,IF(②選手情報入力!$U$6=\"\",\"\",②選手情報入力!$U$6),IF(②選手情報入力!$U$7=\"\",\"\",②選手情報入力!$U$7))))","v":""},{"$f":"IF(E71=\"\",\"\",IF(②選手情報入力!T80=\"\",\"\",IF(G71=1,IF(②選手情報入力!$T$6=\"\",0,1),IF(②選手情報入力!$T$7=\"\",0,1))))","v":""},{"$f":"IF(E71=\"\",\"\",IF(②選手情報入力!T80=\"\",\"\",2))","v":""},"",{"$f":"IF(E71=\"\",\"\",IF(②選手情報入力!V80=\"\",\"\",IF(G71=1,IF(②選手情報入力!$W$6=\"\",\"\",②選手情報入力!$W$6),IF(②選手情報入力!$W$7=\"\",\"\",②選手情報入力!$W$7))))","v":""},{"$f":"IF(E71=\"\",\"\",IF(②選手情報入力!V80=\"\",\"\",IF(G71=1,IF(②選手情報入力!$V$6=\"\",0,1),IF(②選手情報入力!$V$7=\"\",0,1))))","v":""},{"$f":"IF(E71=\"\",\"\",IF(②選手情報入力!V80=\"\",\"\",2))","v":""}]
[{"$f":"IF(E72=\"\",\"\",data_kyogisha!A72)","v":""},{"$f":"IF(E72=\"\",\"\",①団体情報入力!$C$5)","v":""},{"$f":"IF(A72=\"\",\"\",VLOOKUP(B72,Sheet6!C:D,2,0))","v":""},null,{"$f":"IF(②選手情報入力!C81=\"\",\"\",②選手情報入力!C81)","v":""},{"$f":"IF(E72=\"\",\"\",②選手情報入力!D81)","v":""},{"$f":"IF(E72=\"\",\"\",IF(②選手情報入力!I81=\"男\",1,2))","v":""},{"$f":"IF(E72=\"\",\"\",VLOOKUP(data_kyogisha!Q72,Sheet3!A:G,2,0))","v":""},{"$f":"IF(E72=\"\",\"\",IF(②選手情報入力!M81=\"\",\"\",②選手情報入力!M81))","v":""},{"$f":"IF(E72=\"\",\"\",②選手情報入力!N81)","v":""},{"$f":"IF(E72=\"\",\"\",VLOOKUP(data_kyogisha!U72,Sheet3!A:G,2,0))","v":""},{"$f":"IF(E72=\"\",\"\",IF(②選手情報入力!P81=\"\",\"\",②選手情報入力!P81))","v":""},{"$f":"IF(E72=\"\",\"\",②選手情報入力!Q81)","v":""},"",{"$f":"IF(E72=\"\",\"\",IF(②選手情報入力!S81=\"\",\"\",②選手情報入力!S81))","v":""},"","",{"$f":"IF(E72=\"\",\"\",IF(②選手情報入力!T81=\"\",\"\",IF(G72=1,IF(②選手情報入力!$U$6=\"\",\"\",②選手情報入力!$U$6),IF(②選手情報入力!$U$7=\"\",\"\",②選手情報入力!$U$7))))","v":""},{"$f":"IF(E72=\"\",\"\",IF(②選手情報入力!T81=\"\",\"\",IF(G72=1,IF(②選手情報入力!$T$6=\"\",0,1),IF(②選手情報入力!$T$7=\"\",0,1))))","v":""},{"$f":"IF(E72=\"\",\"\",IF(②選手情報入力!T81=\"\",\"\",2))","v":""},"",{"$f":"IF(E72=\"\",\"\",IF(②選手情報入力!V81=\"\",\"\",IF(G72=1,IF(②選手情報入力!$W$6=\"\",\"\",②選手情報入力!$W$6),IF(②選手情報入力!$W$7=\"\",\"\",②選手情報入力!$W$7))))","v":""},{"$f":"IF(E72=\"\",\"\",IF(②選手情報入力!V81=\"\",\"\",IF(G72=1,IF(②選手情報入力!$V$6=\"\",0,1),IF(②選手情報入力!$V$7=\"\",0,1))))","v":""},{"$f":"IF(E72=\"\",\"\",IF(②選手情報入力!V81=\"\",\"\",2))","v":""}]
[{"$f":"IF(E73=\"\",\"\",data_kyogisha!A73)","v":""},{"$f":"IF(E73=\"\",\"\",①団体情報入力!$C$5)","v":""},{"$f":"IF(A73=\"\",\"\",VLOOKUP(B73,Sheet6!C:D,2,0))","v":""},null,{"$f":"IF(②選手情報入力!C82=\"\",\"\",②選手情報入力!C82)","v":""},{"$f":"IF(E73=\"\",\"\",②選手情報入力!D82)","v":""},{"$f":"IF(E73=\"\",\"\",IF(②選手情報入力!I82=\"男\",1,2))","v":""},{"$f":"IF(E73=\"\",\"\",VLOOKUP(data_kyogisha!Q73,Sheet3!A:G,2,0))","v":""},{"$f":"IF(E73=\"\",\"\",IF(②選手情報入力!M82=\"\",\"\",②選手情報入力!M82))","v":""},{"$f":"IF(E73=\"\",\"\",②選手情報入力!N82)","v":""},{"$f":"IF(E73=\"\",\"\",VLOOKUP(data_kyogisha!U73,Sheet3!A:G,2,0))","v":""},{"$f":"IF(E73=\"\",\"\",IF(②選手情報入力!P82=\"\",\"\",②選手情報入力!P82))","v":""},{"$f":"IF(E73=\"\",\"\",②選手情報入力!Q82)","v":""},"",{"$f":"IF(E73=\"\",\"\",IF(②選手情報入力!S82=\"\",\"\",②選手情報入力!S82))","v":""},"","",{"$f":"IF(E73=\"\",\"\",IF(②選手情報入力!T82=\"\",\"\",IF(G73=1,IF(②選手情報入力!$U$6=\"\",\"\",②選手情報入力!$U$6),IF(②選手情報入力!$U$7=\"\",\"\",②選手情報入力!$U$7))))","v":""},{"$f":"IF(E73=\"\",\"\",IF(②選手情報入力!T82=\"\",\"\",IF(G73=1,IF(②選手情報入力!$T$6=\"\",0,1),IF(②選手情報入力!$T$7=\"\",0,1))))","v":""},{"$f":"IF(E73=\"\",\"\",IF(②選手情報入力!T82=\"\",\"\",2))","v":""},"",{"$f":"IF(E73=\"\",\"\",IF(②選手情報入力!V82=\"\",\"\",IF(G73=1,IF(②選手情報入力!$W$6=\"\",\"\",②選手情報入力!$W$6),IF(②選手情報入力!$W$7=\"\",\"\",②選手情報入力!$W$7))))","v":""},{"$f":"IF(E73=\"\",\"\",IF(②選手情報入力!V82=\"\",\"\",IF(G73=1,IF(②選手情報入力!$V$6=\"\",0,1),IF(②選手情報入力!$V$7=\"\",0,1))))","v":""},{"$f":"IF(E73=\"\",\"\",IF(②選手情報入力!V82=\"\",\"\",2))","v":""}]
[{"$f":"IF(E74=\"\",\"\",data_kyogisha!A74)","v":""},{"$f":"IF(E74=\"\",\"\",①団体情報入力!$C$5)","v":""},{"$f":"IF(A74=\"\",\"\",VLOOKUP(B74,Sheet6!C:D,2,0))","v":""},null,{"$f":"IF(②選手情報入力!C83=\"\",\"\",②選手情報入力!C83)","v":""},{"$f":"IF(E74=\"\",\"\",②選手情報入力!D83)","v":""},{"$f":"IF(E74=\"\",\"\",IF(②選手情報入力!I83=\"男\",1,2))","v":""},{"$f":"IF(E74=\"\",\"\",VLOOKUP(data_kyogisha!Q74,Sheet3!A:G,2,0))","v":""},{"$f":"IF(E74=\"\",\"\",IF(②選手情報入力!M83=\"\",\"\",②選手情報入力!M83))","v":""},{"$f":"IF(E74=\"\",\"\",②選手情報入力!N83)","v":""},{"$f":"IF(E74=\"\",\"\",VLOOKUP(data_kyogisha!U74,Sheet3!A:G,2,0))","v":""},{"$f":"IF(E74=\"\",\"\",IF(②選手情報入力!P83=\"\",\"\",②選手情報入力!P83))","v":""},{"$f":"IF(E74=\"\",\"\",②選手情報入力!Q83)","v":""},"",{"$f":"IF(E74=\"\",\"\",IF(②選手情報入力!S83=\"\",\"\",②選手情報入力!S83))","v":""},"","",{"$f":"IF(E74=\"\",\"\",IF(②選手情報入力!T83=\"\",\"\",IF(G74=1,IF(②選手情報入力!$U$6=\"\",\"\",②選手情報入力!$U$6),IF(②選手情報入力!$U$7=\"\",\"\",②選手情報入力!$U$7))))","v":""},{"$f":"IF(E74=\"\",\"\",IF(②選手情報入力!T83=\"\",\"\",IF(G74=1,IF(②選手情報入力!$T$6=\"\",0,1),IF(②選手情報入力!$T$7=\"\",0,1))))","v":""},{"$f":"IF(E74=\"\",\"\",IF(②選手情報入力!T83=\"\",\"\",2))","v":""},"",{"$f":"IF(E74=\"\",\"\",IF(②選手情報入力!V83=\"\",\"\",IF(G74=1,IF(②選手情報入力!$W$6=\"\",\"\",②選手情報入力!$W$6),IF(②選手情報入力!$W$7=\"\",\"\",②選手情報入力!$W$7))))","v":""},{"$f":"IF(E74=\"\",\"\",IF(②選手情報入力!V83=\"\",\"\",IF(G74=1,IF(②選手情報入力!$V$6=\"\",0,1),IF(②選手情報入力!$V$7=\"\",0,1))))","v":""},{"$f":"IF(E74=\"\",\"\",IF(②選手情報入力!V83=\"\",\"\",2))","v":""}]
[{"$f":"IF(E75=\"\",\"\",data_kyogisha!A75)","v":""},{"$f":"IF(E75=\"\",\"\",①団体情報入力!$C$5)","v":""},{"$f":"IF(A75=\"\",\"\",VLOOKUP(B75,Sheet6!C:D,2,0))","v":""},null,{"$f":"IF(②選手情報入力!C84=\"\",\"\",②選手情報入力!C84)","v":""},{"$f":"IF(E75=\"\",\"\",②選手情報入力!D84)","v":""},{"$f":"IF(E75=\"\",\"\",IF(②選手情報入力!I84=\"男\",1,2))","v":""},{"$f":"IF(E75=\"\",\"\",VLOOKUP(data_kyogisha!Q75,Sheet3!A:G,2,0))","v":""},{"$f":"IF(E75=\"\",\"\",IF(②選手情報入力!M84=\"\",\"\",②選手情報入力!M84))","v":""},{"$f":"IF(E75=\"\",\"\",②選手情報入力!N84)","v":""},{"$f":"IF(E75=\"\",\"\",VLOOKUP(data_kyogisha!U75,Sheet3!A:G,2,0))","v":""},{"$f":"IF(E75=\"\",\"\",IF(②選手情報入力!P84=\"\",\"\",②選手情報入力!P84))","v":""},{"$f":"IF(E75=\"\",\"\",②選手情報入力!Q84)","v":""},"",{"$f":"IF(E75=\"\",\"\",IF(②選手情報入力!S84=\"\",\"\",②選手情報入力!S84))","v":""},"","",{"$f":"IF(E75=\"\",\"\",IF(②選手情報入力!T84=\"\",\"\",IF(G75=1,IF(②選手情報入力!$U$6=\"\",\"\",②選手情報入力!$U$6),IF(②選手情報入力!$U$7=\"\",\"\",②選手情報入力!$U$7))))","v":""},{"$f":"IF(E75=\"\",\"\",IF(②選手情報入力!T84=\"\",\"\",IF(G75=1,IF(②選手情報入力!$T$6=\"\",0,1),IF(②選手情報入力!$T$7=\"\",0,1))))","v":""},{"$f":"IF(E75=\"\",\"\",IF(②選手情報入力!T84=\"\",\"\",2))","v":""},"",{"$f":"IF(E75=\"\",\"\",IF(②選手情報入力!V84=\"\",\"\",IF(G75=1,IF(②選手情報入力!$W$6=\"\",\"\",②選手情報入力!$W$6),IF(②選手情報入力!$W$7=\"\",\"\",②選手情報入力!$W$7))))","v":""},{"$f":"IF(E75=\"\",\"\",IF(②選手情報入力!V84=\"\",\"\",IF(G75=1,IF(②選手情報入力!$V$6=\"\",0,1),IF(②選手情報入力!$V$7=\"\",0,1))))","v":""},{"$f":"IF(E75=\"\",\"\",IF(②選手情報入力!V84=\"\",\"\",2))","v":""}]
[{"$f":"IF(E76=\"\",\"\",data_kyogisha!A76)","v":""},{"$f":"IF(E76=\"\",\"\",①団体情報入力!$C$5)","v":""},{"$f":"IF(A76=\"\",\"\",VLOOKUP(B76,Sheet6!C:D,2,0))","v":""},null,{"$f":"IF(②選手情報入力!C85=\"\",\"\",②選手情報入力!C85)","v":""},{"$f":"IF(E76=\"\",\"\",②選手情報入力!D85)","v":""},{"$f":"IF(E76=\"\",\"\",IF(②選手情報入力!I85=\"男\",1,2))","v":""},{"$f":"IF(E76=\"\",\"\",VLOOKUP(data_kyogisha!Q76,Sheet3!A:G,2,0))","v":""},{"$f":"IF(E76=\"\",\"\",IF(②選手情報入力!M85=\"\",\"\",②選手情報入力!M85))","v":""},{"$f":"IF(E76=\"\",\"\",②選手情報入力!N85)","v":""},{"$f":"IF(E76=\"\",\"\",VLOOKUP(data_kyogisha!U76,Sheet3!A:G,2,0))","v":""},{"$f":"IF(E76=\"\",\"\",IF(②選手情報入力!P85=\"\",\"\",②選手情報入力!P85))","v":""},{"$f":"IF(E76=\"\",\"\",②選手情報入力!Q85)","v":""},"",{"$f":"IF(E76=\"\",\"\",IF(②選手情報入力!S85=\"\",\"\",②選手情報入力!S85))","v":""},"","",{"$f":"IF(E76=\"\",\"\",IF(②選手情報入力!T85=\"\",\"\",IF(G76=1,IF(②選手情報入力!$U$6=\"\",\"\",②選手情報入力!$U$6),IF(②選手情報入力!$U$7=\"\",\"\",②選手情報入力!$U$7))))","v":""},{"$f":"IF(E76=\"\",\"\",IF(②選手情報入力!T85=\"\",\"\",IF(G76=1,IF(②選手情報入力!$T$6=\"\",0,1),IF(②選手情報入力!$T$7=\"\",0,1))))","v":""},{"$f":"IF(E76=\"\",\"\",IF(②選手情報入力!T85=\"\",\"\",2))","v":""},"",{"$f":"IF(E76=\"\",\"\",IF(②選手情報入力!V85=\"\",\"\",IF(G76=1,IF(②選手情報入力!$W$6=\"\",\"\",②選手情報入力!$W$6),IF(②選手情報入力!$W$7=\"\",\"\",②選手情報入力!$W$7))))","v":""},{"$f":"IF(E76=\"\",\"\",IF(②選手情報入力!V85=\"\",\"\",IF(G76=1,IF(②選手情報入力!$V$6=\"\",0,1),IF(②選手情報入力!$V$7=\"\",0,1))))","v":""},{"$f":"IF(E76=\"\",\"\",IF(②選手情報入力!V85=\"\",\"\",2))","v":""}]
[{"$f":"IF(E77=\"\",\"\",data_kyogisha!A77)","v":""},{"$f":"IF(E77=\"\",\"\",①団体情報入力!$C$5)","v":""},{"$f":"IF(A77=\"\",\"\",VLOOKUP(B77,Sheet6!C:D,2,0))","v":""},null,{"$f":"IF(②選手情報入力!C86=\"\",\"\",②選手情報入力!C86)","v":""},{"$f":"IF(E77=\"\",\"\",②選手情報入力!D86)","v":""},{"$f":"IF(E77=\"\",\"\",IF(②選手情報入力!I86=\"男\",1,2))","v":""},{"$f":"IF(E77=\"\",\"\",VLOOKUP(data_kyogisha!Q77,Sheet3!A:G,2,0))","v":""},{"$f":"IF(E77=\"\",\"\",IF(②選手情報入力!M86=\"\",\"\",②選手情報入力!M86))","v":""},{"$f":"IF(E77=\"\",\"\",②選手情報入力!N86)","v":""},{"$f":"IF(E77=\"\",\"\",VLOOKUP(data_kyogisha!U77,Sheet3!A:G,2,0))","v":""},{"$f":"IF(E77=\"\",\"\",IF(②選手情報入力!P86=\"\",\"\",②選手情報入力!P86))","v":""},{"$f":"IF(E77=\"\",\"\",②選手情報入力!Q86)","v":""},"",{"$f":"IF(E77=\"\",\"\",IF(②選手情報入力!S86=\"\",\"\",②選手情報入力!S86))","v":""},"","",{"$f":"IF(E77=\"\",\"\",IF(②選手情報入力!T86=\"\",\"\",IF(G77=1,IF(②選手情報入力!$U$6=\"\",\"\",②選手情報入力!$U$6),IF(②選手情報入力!$U$7=\"\",\"\",②選手情報入力!$U$7))))","v":""},{"$f":"IF(E77=\"\",\"\",IF(②選手情報入力!T86=\"\",\"\",IF(G77=1,IF(②選手情報入力!$T$6=\"\",0,1),IF(②選手情報入力!$T$7=\"\",0,1))))","v":""},{"$f":"IF(E77=\"\",\"\",IF(②選手情報入力!T86=\"\",\"\",2))","v":""},"",{"$f":"IF(E77=\"\",\"\",IF(②選手情報入力!V86=\"\",\"\",IF(G77=1,IF(②選手情報入力!$W$6=\"\",\"\",②選手情報入力!$W$6),IF(②選手情報入力!$W$7=\"\",\"\",②選手情報入力!$W$7))))","v":""},{"$f":"IF(E77=\"\",\"\",IF(②選手情報入力!V86=\"\",\"\",IF(G77=1,IF(②選手情報入力!$V$6=\"\",0,1),IF(②選手情報入力!$V$7=\"\",0,1))))","v":""},{"$f":"IF(E77=\"\",\"\",IF(②選手情報入力!V86=\"\",\"\",2))","v":""}]
[{"$f":"IF(E78=\"\",\"\",data_kyogisha!A78)","v":""},{"$f":"IF(E78=\"\",\"\",①団体情報入力!$C$5)","v":""},{"$f":"IF(A78=\"\",\"\",VLOOKUP(B78,Sheet6!C:D,2,0))","v":""},null,{"$f":"IF(②選手情報入力!C87=\"\",\"\",②選手情報入力!C87)","v":""},{"$f":"IF(E78=\"\",\"\",②選手情報入力!D87)","v":""},{"$f":"IF(E78=\"\",\"\",IF(②選手情報入力!I87=\"男\",1,2))","v":""},{"$f":"IF(E78=\"\",\"\",VLOOKUP(data_kyogisha!Q78,Sheet3!A:G,2,0))","v":""},{"$f":"IF(E78=\"\",\"\",IF(②選手情報入力!M87=\"\",\"\",②選手情報入力!M87))","v":""},{"$f":"IF(E78=\"\",\"\",②選手情報入力!N87)","v":""},{"$f":"IF(E78=\"\",\"\",VLOOKUP(data_kyogisha!U78,Sheet3!A:G,2,0))","v":""},{"$f":"IF(E78=\"\",\"\",IF(②選手情報入力!P87=\"\",\"\",②選手情報入力!P87))","v":""},{"$f":"IF(E78=\"\",\"\",②選手情報入力!Q87)","v":""},"",{"$f":"IF(E78=\"\",\"\",IF(②選手情報入力!S87=\"\",\"\",②選手情報入力!S87))","v":""},"","",{"$f":"IF(E78=\"\",\"\",IF(②選手情報入力!T87=\"\",\"\",IF(G78=1,IF(②選手情報入力!$U$6=\"\",\"\",②選手情報入力!$U$6),IF(②選手情報入力!$U$7=\"\",\"\",②選手情報入力!$U$7))))","v":""},{"$f":"IF(E78=\"\",\"\",IF(②選手情報入力!T87=\"\",\"\",IF(G78=1,IF(②選手情報入力!$T$6=\"\",0,1),IF(②選手情報入力!$T$7=\"\",0,1))))","v":""},{"$f":"IF(E78=\"\",\"\",IF(②選手情報入力!T87=\"\",\"\",2))","v":""},"",{"$f":"IF(E78=\"\",\"\",IF(②選手情報入力!V87=\"\",\"\",IF(G78=1,IF(②選手情報入力!$W$6=\"\",\"\",②選手情報入力!$W$6),IF(②選手情報入力!$W$7=\"\",\"\",②選手情報入力!$W$7))))","v":""},{"$f":"IF(E78=\"\",\"\",IF(②選手情報入力!V87=\"\",\"\",IF(G78=1,IF(②選手情報入力!$V$6=\"\",0,1),IF(②選手情報入力!$V$7=\"\",0,1))))","v":""},{"$f":"IF(E78=\"\",\"\",IF(②選手情報入力!V87=\"\",\"\",2))","v":""}]
[{"$f":"IF(E79=\"\",\"\",data_kyogisha!A79)","v":""},{"$f":"IF(E79=\"\",\"\",①団体情報入力!$C$5)","v":""},{"$f":"IF(A79=\"\",\"\",VLOOKUP(B79,Sheet6!C:D,2,0))","v":""},null,{"$f":"IF(②選手情報入力!C88=\"\",\"\",②選手情報入力!C88)","v":""},{"$f":"IF(E79=\"\",\"\",②選手情報入力!D88)","v":""},{"$f":"IF(E79=\"\",\"\",IF(②選手情報入力!I88=\"男\",1,2))","v":""},{"$f":"IF(E79=\"\",\"\",VLOOKUP(data_kyogisha!Q79,Sheet3!A:G,2,0))","v":""},{"$f":"IF(E79=\"\",\"\",IF(②選手情報入力!M88=\"\",\"\",②選手情報入力!M88))","v":""},{"$f":"IF(E79=\"\",\"\",②選手情報入力!N88)","v":""},{"$f":"IF(E79=\"\",\"\",VLOOKUP(data_kyogisha!U79,Sheet3!A:G,2,0))","v":""},{"$f":"IF(E79=\"\",\"\",IF(②選手情報入力!P88=\"\",\"\",②選手情報入力!P88))","v":""},{"$f":"IF(E79=\"\",\"\",②選手情報入力!Q88)","v":""},"",{"$f":"IF(E79=\"\",\"\",IF(②選手情報入力!S88=\"\",\"\",②選手情報入力!S88))","v":""},"","",{"$f":"IF(E79=\"\",\"\",IF(②選手情報入力!T88=\"\",\"\",IF(G79=1,IF(②選手情報入力!$U$6=\"\",\"\",②選手情報入力!$U$6),IF(②選手情報入力!$U$7=\"\",\"\",②選手情報入力!$U$7))))","v":""},{"$f":"IF(E79=\"\",\"\",IF(②選手情報入力!T88=\"\",\"\",IF(G79=1,IF(②選手情報入力!$T$6=\"\",0,1),IF(②選手情報入力!$T$7=\"\",0,1))))","v":""},{"$f":"IF(E79=\"\",\"\",IF(②選手情報入力!T88=\"\",\"\",2))","v":""},"",{"$f":"IF(E79=\"\",\"\",IF(②選手情報入力!V88=\"\",\"\",IF(G79=1,IF(②選手情報入力!$W$6=\"\",\"\",②選手情報入力!$W$6),IF(②選手情報入力!$W$7=\"\",\"\",②選手情報入力!$W$7))))","v":""},{"$f":"IF(E79=\"\",\"\",IF(②選手情報入力!V88=\"\",\"\",IF(G79=1,IF(②選手情報入力!$V$6=\"\",0,1),IF(②選手情報入力!$V$7=\"\",0,1))))","v":""},{"$f":"IF(E79=\"\",\"\",IF(②選手情報入力!V88=\"\",\"\",2))","v":""}]
[{"$f":"IF(E80=\"\",\"\",data_kyogisha!A80)","v":""},{"$f":"IF(E80=\"\",\"\",①団体情報入力!$C$5)","v":""},{"$f":"IF(A80=\"\",\"\",VLOOKUP(B80,Sheet6!C:D,2,0))","v":""},null,{"$f":"IF(②選手情報入力!C89=\"\",\"\",②選手情報入力!C89)","v":""},{"$f":"IF(E80=\"\",\"\",②選手情報入力!D89)","v":""},{"$f":"IF(E80=\"\",\"\",IF(②選手情報入力!I89=\"男\",1,2))","v":""},{"$f":"IF(E80=\"\",\"\",VLOOKUP(data_kyogisha!Q80,Sheet3!A:G,2,0))","v":""},{"$f":"IF(E80=\"\",\"\",IF(②選手情報入力!M89=\"\",\"\",②選手情報入力!M89))","v":""},{"$f":"IF(E80=\"\",\"\",②選手情報入力!N89)","v":""},{"$f":"IF(E80=\"\",\"\",VLOOKUP(data_kyogisha!U80,Sheet3!A:G,2,0))","v":""},{"$f":"IF(E80=\"\",\"\",IF(②選手情報入力!P89=\"\",\"\",②選手情報入力!P89))","v":""},{"$f":"IF(E80=\"\",\"\",②選手情報入力!Q89)","v":""},"",{"$f":"IF(E80=\"\",\"\",IF(②選手情報入力!S89=\"\",\"\",②選手情報入力!S89))","v":""},"","",{"$f":"IF(E80=\"\",\"\",IF(②選手情報入力!T89=\"\",\"\",IF(G80=1,IF(②選手情報入力!$U$6=\"\",\"\",②選手情報入力!$U$6),IF(②選手情報入力!$U$7=\"\",\"\",②選手情報入力!$U$7))))","v":""},{"$f":"IF(E80=\"\",\"\",IF(②選手情報入力!T89=\"\",\"\",IF(G80=1,IF(②選手情報入力!$T$6=\"\",0,1),IF(②選手情報入力!$T$7=\"\",0,1))))","v":""},{"$f":"IF(E80=\"\",\"\",IF(②選手情報入力!T89=\"\",\"\",2))","v":""},"",{"$f":"IF(E80=\"\",\"\",IF(②選手情報入力!V89=\"\",\"\",IF(G80=1,IF(②選手情報入力!$W$6=\"\",\"\",②選手情報入力!$W$6),IF(②選手情報入力!$W$7=\"\",\"\",②選手情報入力!$W$7))))","v":""},{"$f":"IF(E80=\"\",\"\",IF(②選手情報入力!V89=\"\",\"\",IF(G80=1,IF(②選手情報入力!$V$6=\"\",0,1),IF(②選手情報入力!$V$7=\"\",0,1))))","v":""},{"$f":"IF(E80=\"\",\"\",IF(②選手情報入力!V89=\"\",\"\",2))","v":""}]
[{"$f":"IF(E81=\"\",\"\",data_kyogisha!A81)","v":""},{"$f":"IF(E81=\"\",\"\",①団体情報入力!$C$5)","v":""},{"$f":"IF(A81=\"\",\"\",VLOOKUP(B81,Sheet6!C:D,2,0))","v":""},null,{"$f":"IF(②選手情報入力!C90=\"\",\"\",②選手情報入力!C90)","v":""},{"$f":"IF(E81=\"\",\"\",②選手情報入力!D90)","v":""},{"$f":"IF(E81=\"\",\"\",IF(②選手情報入力!I90=\"男\",1,2))","v":""},{"$f":"IF(E81=\"\",\"\",VLOOKUP(data_kyogisha!Q81,Sheet3!A:G,2,0))","v":""},{"$f":"IF(E81=\"\",\"\",IF(②選手情報入力!M90=\"\",\"\",②選手情報入力!M90))","v":""},{"$f":"IF(E81=\"\",\"\",②選手情報入力!N90)","v":""},{"$f":"IF(E81=\"\",\"\",VLOOKUP(data_kyogisha!U81,Sheet3!A:G,2,0))","v":""},{"$f":"IF(E81=\"\",\"\",IF(②選手情報入力!P90=\"\",\"\",②選手情報入力!P90))","v":""},{"$f":"IF(E81=\"\",\"\",②選手情報入力!Q90)","v":""},"",{"$f":"IF(E81=\"\",\"\",IF(②選手情報入力!S90=\"\",\"\",②選手情報入力!S90))","v":""},"","",{"$f":"IF(E81=\"\",\"\",IF(②選手情報入力!T90=\"\",\"\",IF(G81=1,IF(②選手情報入力!$U$6=\"\",\"\",②選手情報入力!$U$6),IF(②選手情報入力!$U$7=\"\",\"\",②選手情報入力!$U$7))))","v":""},{"$f":"IF(E81=\"\",\"\",IF(②選手情報入力!T90=\"\",\"\",IF(G81=1,IF(②選手情報入力!$T$6=\"\",0,1),IF(②選手情報入力!$T$7=\"\",0,1))))","v":""},{"$f":"IF(E81=\"\",\"\",IF(②選手情報入力!T90=\"\",\"\",2))","v":""},"",{"$f":"IF(E81=\"\",\"\",IF(②選手情報入力!V90=\"\",\"\",IF(G81=1,IF(②選手情報入力!$W$6=\"\",\"\",②選手情報入力!$W$6),IF(②選手情報入力!$W$7=\"\",\"\",②選手情報入力!$W$7))))","v":""},{"$f":"IF(E81=\"\",\"\",IF(②選手情報入力!V90=\"\",\"\",IF(G81=1,IF(②選手情報入力!$V$6=\"\",0,1),IF(②選手情報入力!$V$7=\"\",0,1))))","v":""},{"$f":"IF(E81=\"\",\"\",IF(②選手情報入力!V90=\"\",\"\",2))","v":""}]
[{"$f":"IF(E82=\"\",\"\",data_kyogisha!A82)","v":""},{"$f":"IF(E82=\"\",\"\",①団体情報入力!$C$5)","v":""},{"$f":"IF(A82=\"\",\"\",VLOOKUP(B82,Sheet6!C:D,2,0))","v":""},null,{"$f":"IF(②選手情報入力!C91=\"\",\"\",②選手情報入力!C91)","v":""},{"$f":"IF(E82=\"\",\"\",②選手情報入力!D91)","v":""},{"$f":"IF(E82=\"\",\"\",IF(②選手情報入力!I91=\"男\",1,2))","v":""},{"$f":"IF(E82=\"\",\"\",VLOOKUP(data_kyogisha!Q82,Sheet3!A:G,2,0))","v":""},{"$f":"IF(E82=\"\",\"\",IF(②選手情報入力!M91=\"\",\"\",②選手情報入力!M91))","v":""},{"$f":"IF(E82=\"\",\"\",②選手情報入力!N91)","v":""},{"$f":"IF(E82=\"\",\"\",VLOOKUP(data_kyogisha!U82,Sheet3!A:G,2,0))","v":""},{"$f":"IF(E82=\"\",\"\",IF(②選手情報入力!P91=\"\",\"\",②選手情報入力!P91))","v":""},{"$f":"IF(E82=\"\",\"\",②選手情報入力!Q91)","v":""},"",{"$f":"IF(E82=\"\",\"\",IF(②選手情報入力!S91=\"\",\"\",②選手情報入力!S91))","v":""},"","",{"$f":"IF(E82=\"\",\"\",IF(②選手情報入力!T91=\"\",\"\",IF(G82=1,IF(②選手情報入力!$U$6=\"\",\"\",②選手情報入力!$U$6),IF(②選手情報入力!$U$7=\"\",\"\",②選手情報入力!$U$7))))","v":""},{"$f":"IF(E82=\"\",\"\",IF(②選手情報入力!T91=\"\",\"\",IF(G82=1,IF(②選手情報入力!$T$6=\"\",0,1),IF(②選手情報入力!$T$7=\"\",0,1))))","v":""},{"$f":"IF(E82=\"\",\"\",IF(②選手情報入力!T91=\"\",\"\",2))","v":""},"",{"$f":"IF(E82=\"\",\"\",IF(②選手情報入力!V91=\"\",\"\",IF(G82=1,IF(②選手情報入力!$W$6=\"\",\"\",②選手情報入力!$W$6),IF(②選手情報入力!$W$7=\"\",\"\",②選手情報入力!$W$7))))","v":""},{"$f":"IF(E82=\"\",\"\",IF(②選手情報入力!V91=\"\",\"\",IF(G82=1,IF(②選手情報入力!$V$6=\"\",0,1),IF(②選手情報入力!$V$7=\"\",0,1))))","v":""},{"$f":"IF(E82=\"\",\"\",IF(②選手情報入力!V91=\"\",\"\",2))","v":""}]
[{"$f":"IF(E83=\"\",\"\",data_kyogisha!A83)","v":""},{"$f":"IF(E83=\"\",\"\",①団体情報入力!$C$5)","v":""},{"$f":"IF(A83=\"\",\"\",VLOOKUP(B83,Sheet6!C:D,2,0))","v":""},null,{"$f":"IF(②選手情報入力!C92=\"\",\"\",②選手情報入力!C92)","v":""},{"$f":"IF(E83=\"\",\"\",②選手情報入力!D92)","v":""},{"$f":"IF(E83=\"\",\"\",IF(②選手情報入力!I92=\"男\",1,2))","v":""},{"$f":"IF(E83=\"\",\"\",VLOOKUP(data_kyogisha!Q83,Sheet3!A:G,2,0))","v":""},{"$f":"IF(E83=\"\",\"\",IF(②選手情報入力!M92=\"\",\"\",②選手情報入力!M92))","v":""},{"$f":"IF(E83=\"\",\"\",②選手情報入力!N92)","v":""},{"$f":"IF(E83=\"\",\"\",VLOOKUP(data_kyogisha!U83,Sheet3!A:G,2,0))","v":""},{"$f":"IF(E83=\"\",\"\",IF(②選手情報入力!P92=\"\",\"\",②選手情報入力!P92))","v":""},{"$f":"IF(E83=\"\",\"\",②選手情報入力!Q92)","v":""},"",{"$f":"IF(E83=\"\",\"\",IF(②選手情報入力!S92=\"\",\"\",②選手情報入力!S92))","v":""},"","",{"$f":"IF(E83=\"\",\"\",IF(②選手情報入力!T92=\"\",\"\",IF(G83=1,IF(②選手情報入力!$U$6=\"\",\"\",②選手情報入力!$U$6),IF(②選手情報入力!$U$7=\"\",\"\",②選手情報入力!$U$7))))","v":""},{"$f":"IF(E83=\"\",\"\",IF(②選手情報入力!T92=\"\",\"\",IF(G83=1,IF(②選手情報入力!$T$6=\"\",0,1),IF(②選手情報入力!$T$7=\"\",0,1))))","v":""},{"$f":"IF(E83=\"\",\"\",IF(②選手情報入力!T92=\"\",\"\",2))","v":""},"",{"$f":"IF(E83=\"\",\"\",IF(②選手情報入力!V92=\"\",\"\",IF(G83=1,IF(②選手情報入力!$W$6=\"\",\"\",②選手情報入力!$W$6),IF(②選手情報入力!$W$7=\"\",\"\",②選手情報入力!$W$7))))","v":""},{"$f":"IF(E83=\"\",\"\",IF(②選手情報入力!V92=\"\",\"\",IF(G83=1,IF(②選手情報入力!$V$6=\"\",0,1),IF(②選手情報入力!$V$7=\"\",0,1))))","v":""},{"$f":"IF(E83=\"\",\"\",IF(②選手情報入力!V92=\"\",\"\",2))","v":""}]
[{"$f":"IF(E84=\"\",\"\",data_kyogisha!A84)","v":""},{"$f":"IF(E84=\"\",\"\",①団体情報入力!$C$5)","v":""},{"$f":"IF(A84=\"\",\"\",VLOOKUP(B84,Sheet6!C:D,2,0))","v":""},null,{"$f":"IF(②選手情報入力!C93=\"\",\"\",②選手情報入力!C93)","v":""},{"$f":"IF(E84=\"\",\"\",②選手情報入力!D93)","v":""},{"$f":"IF(E84=\"\",\"\",IF(②選手情報入力!I93=\"男\",1,2))","v":""},{"$f":"IF(E84=\"\",\"\",VLOOKUP(data_kyogisha!Q84,Sheet3!A:G,2,0))","v":""},{"$f":"IF(E84=\"\",\"\",IF(②選手情報入力!M93=\"\",\"\",②選手情報入力!M93))","v":""},{"$f":"IF(E84=\"\",\"\",②選手情報入力!N93)","v":""},{"$f":"IF(E84=\"\",\"\",VLOOKUP(data_kyogisha!U84,Sheet3!A:G,2,0))","v":""},{"$f":"IF(E84=\"\",\"\",IF(②選手情報入力!P93=\"\",\"\",②選手情報入力!P93))","v":""},{"$f":"IF(E84=\"\",\"\",②選手情報入力!Q93)","v":""},"",{"$f":"IF(E84=\"\",\"\",IF(②選手情報入力!S93=\"\",\"\",②選手情報入力!S93))","v":""},"","",{"$f":"IF(E84=\"\",\"\",IF(②選手情報入力!T93=\"\",\"\",IF(G84=1,IF(②選手情報入力!$U$6=\"\",\"\",②選手情報入力!$U$6),IF(②選手情報入力!$U$7=\"\",\"\",②選手情報入力!$U$7))))","v":""},{"$f":"IF(E84=\"\",\"\",IF(②選手情報入力!T93=\"\",\"\",IF(G84=1,IF(②選手情報入力!$T$6=\"\",0,1),IF(②選手情報入力!$T$7=\"\",0,1))))","v":""},{"$f":"IF(E84=\"\",\"\",IF(②選手情報入力!T93=\"\",\"\",2))","v":""},"",{"$f":"IF(E84=\"\",\"\",IF(②選手情報入力!V93=\"\",\"\",IF(G84=1,IF(②選手情報入力!$W$6=\"\",\"\",②選手情報入力!$W$6),IF(②選手情報入力!$W$7=\"\",\"\",②選手情報入力!$W$7))))","v":""},{"$f":"IF(E84=\"\",\"\",IF(②選手情報入力!V93=\"\",\"\",IF(G84=1,IF(②選手情報入力!$V$6=\"\",0,1),IF(②選手情報入力!$V$7=\"\",0,1))))","v":""},{"$f":"IF(E84=\"\",\"\",IF(②選手情報入力!V93=\"\",\"\",2))","v":""}]
[{"$f":"IF(E85=\"\",\"\",data_kyogisha!A85)","v":""},{"$f":"IF(E85=\"\",\"\",①団体情報入力!$C$5)","v":""},{"$f":"IF(A85=\"\",\"\",VLOOKUP(B85,Sheet6!C:D,2,0))","v":""},null,{"$f":"IF(②選手情報入力!C94=\"\",\"\",②選手情報入力!C94)","v":""},{"$f":"IF(E85=\"\",\"\",②選手情報入力!D94)","v":""},{"$f":"IF(E85=\"\",\"\",IF(②選手情報入力!I94=\"男\",1,2))","v":""},{"$f":"IF(E85=\"\",\"\",VLOOKUP(data_kyogisha!Q85,Sheet3!A:G,2,0))","v":""},{"$f":"IF(E85=\"\",\"\",IF(②選手情報入力!M94=\"\",\"\",②選手情報入力!M94))","v":""},{"$f":"IF(E85=\"\",\"\",②選手情報入力!N94)","v":""},{"$f":"IF(E85=\"\",\"\",VLOOKUP(data_kyogisha!U85,Sheet3!A:G,2,0))","v":""},{"$f":"IF(E85=\"\",\"\",IF(②選手情報入力!P94=\"\",\"\",②選手情報入力!P94))","v":""},{"$f":"IF(E85=\"\",\"\",②選手情報入力!Q94)","v":""},"",{"$f":"IF(E85=\"\",\"\",IF(②選手情報入力!S94=\"\",\"\",②選手情報入力!S94))","v":""},"","",{"$f":"IF(E85=\"\",\"\",IF(②選手情報入力!T94=\"\",\"\",IF(G85=1,IF(②選手情報入力!$U$6=\"\",\"\",②選手情報入力!$U$6),IF(②選手情報入力!$U$7=\"\",\"\",②選手情報入力!$U$7))))","v":""},{"$f":"IF(E85=\"\",\"\",IF(②選手情報入力!T94=\"\",\"\",IF(G85=1,IF(②選手情報入力!$T$6=\"\",0,1),IF(②選手情報入力!$T$7=\"\",0,1))))","v":""},{"$f":"IF(E85=\"\",\"\",IF(②選手情報入力!T94=\"\",\"\",2))","v":""},"",{"$f":"IF(E85=\"\",\"\",IF(②選手情報入力!V94=\"\",\"\",IF(G85=1,IF(②選手情報入力!$W$6=\"\",\"\",②選手情報入力!$W$6),IF(②選手情報入力!$W$7=\"\",\"\",②選手情報入力!$W$7))))","v":""},{"$f":"IF(E85=\"\",\"\",IF(②選手情報入力!V94=\"\",\"\",IF(G85=1,IF(②選手情報入力!$V$6=\"\",0,1),IF(②選手情報入力!$V$7=\"\",0,1))))","v":""},{"$f":"IF(E85=\"\",\"\",IF(②選手情報入力!V94=\"\",\"\",2))","v":""}]
[{"$f":"IF(E86=\"\",\"\",data_kyogisha!A86)","v":""},{"$f":"IF(E86=\"\",\"\",①団体情報入力!$C$5)","v":""},{"$f":"IF(A86=\"\",\"\",VLOOKUP(B86,Sheet6!C:D,2,0))","v":""},null,{"$f":"IF(②選手情報入力!C95=\"\",\"\",②選手情報入力!C95)","v":""},{"$f":"IF(E86=\"\",\"\",②選手情報入力!D95)","v":""},{"$f":"IF(E86=\"\",\"\",IF(②選手情報入力!I95=\"男\",1,2))","v":""},{"$f":"IF(E86=\"\",\"\",VLOOKUP(data_kyogisha!Q86,Sheet3!A:G,2,0))","v":""},{"$f":"IF(E86=\"\",\"\",IF(②選手情報入力!M95=\"\",\"\",②選手情報入力!M95))","v":""},{"$f":"IF(E86=\"\",\"\",②選手情報入力!N95)","v":""},{"$f":"IF(E86=\"\",\"\",VLOOKUP(data_kyogisha!U86,Sheet3!A:G,2,0))","v":""},{"$f":"IF(E86=\"\",\"\",IF(②選手情報入力!P95=\"\",\"\",②選手情報入力!P95))","v":""},{"$f":"IF(E86=\"\",\"\",②選手情報入力!Q95)","v":""},"",{"$f":"IF(E86=\"\",\"\",IF(②選手情報入力!S95=\"\",\"\",②選手情報入力!S95))","v":""},"","",{"$f":"IF(E86=\"\",\"\",IF(②選手情報入力!T95=\"\",\"\",IF(G86=1,IF(②選手情報入力!$U$6=\"\",\"\",②選手情報入力!$U$6),IF(②選手情報入力!$U$7=\"\",\"\",②選手情報入力!$U$7))))","v":""},{"$f":"IF(E86=\"\",\"\",IF(②選手情報入力!T95=\"\",\"\",IF(G86=1,IF(②選手情報入力!$T$6=\"\",0,1),IF(②選手情報入力!$T$7=\"\",0,1))))","v":""},{"$f":"IF(E86=\"\",\"\",IF(②選手情報入力!T95=\"\",\"\",2))","v":""},"",{"$f":"IF(E86=\"\",\"\",IF(②選手情報入力!V95=\"\",\"\",IF(G86=1,IF(②選手情報入力!$W$6=\"\",\"\",②選手情報入力!$W$6),IF(②選手情報入力!$W$7=\"\",\"\",②選手情報入力!$W$7))))","v":""},{"$f":"IF(E86=\"\",\"\",IF(②選手情報入力!V95=\"\",\"\",IF(G86=1,IF(②選手情報入力!$V$6=\"\",0,1),IF(②選手情報入力!$V$7=\"\",0,1))))","v":""},{"$f":"IF(E86=\"\",\"\",IF(②選手情報入力!V95=\"\",\"\",2))","v":""}]
[{"$f":"IF(E87=\"\",\"\",data_kyogisha!A87)","v":""},{"$f":"IF(E87=\"\",\"\",①団体情報入力!$C$5)","v":""},{"$f":"IF(A87=\"\",\"\",VLOOKUP(B87,Sheet6!C:D,2,0))","v":""},null,{"$f":"IF(②選手情報入力!C96=\"\",\"\",②選手情報入力!C96)","v":""},{"$f":"IF(E87=\"\",\"\",②選手情報入力!D96)","v":""},{"$f":"IF(E87=\"\",\"\",IF(②選手情報入力!I96=\"男\",1,2))","v":""},{"$f":"IF(E87=\"\",\"\",VLOOKUP(data_kyogisha!Q87,Sheet3!A:G,2,0))","v":""},{"$f":"IF(E87=\"\",\"\",IF(②選手情報入力!M96=\"\",\"\",②選手情報入力!M96))","v":""},{"$f":"IF(E87=\"\",\"\",②選手情報入力!N96)","v":""},{"$f":"IF(E87=\"\",\"\",VLOOKUP(data_kyogisha!U87,Sheet3!A:G,2,0))","v":""},{"$f":"IF(E87=\"\",\"\",IF(②選手情報入力!P96=\"\",\"\",②選手情報入力!P96))","v":""},{"$f":"IF(E87=\"\",\"\",②選手情報入力!Q96)","v":""},"",{"$f":"IF(E87=\"\",\"\",IF(②選手情報入力!S96=\"\",\"\",②選手情報入力!S96))","v":""},"","",{"$f":"IF(E87=\"\",\"\",IF(②選手情報入力!T96=\"\",\"\",IF(G87=1,IF(②選手情報入力!$U$6=\"\",\"\",②選手情報入力!$U$6),IF(②選手情報入力!$U$7=\"\",\"\",②選手情報入力!$U$7))))","v":""},{"$f":"IF(E87=\"\",\"\",IF(②選手情報入力!T96=\"\",\"\",IF(G87=1,IF(②選手情報入力!$T$6=\"\",0,1),IF(②選手情報入力!$T$7=\"\",0,1))))","v":""},{"$f":"IF(E87=\"\",\"\",IF(②選手情報入力!T96=\"\",\"\",2))","v":""},"",{"$f":"IF(E87=\"\",\"\",IF(②選手情報入力!V96=\"\",\"\",IF(G87=1,IF(②選手情報入力!$W$6=\"\",\"\",②選手情報入力!$W$6),IF(②選手情報入力!$W$7=\"\",\"\",②選手情報入力!$W$7))))","v":""},{"$f":"IF(E87=\"\",\"\",IF(②選手情報入力!V96=\"\",\"\",IF(G87=1,IF(②選手情報入力!$V$6=\"\",0,1),IF(②選手情報入力!$V$7=\"\",0,1))))","v":""},{"$f":"IF(E87=\"\",\"\",IF(②選手情報入力!V96=\"\",\"\",2))","v":""}]
[{"$f":"IF(E88=\"\",\"\",data_kyogisha!A88)","v":""},{"$f":"IF(E88=\"\",\"\",①団体情報入力!$C$5)","v":""},{"$f":"IF(A88=\"\",\"\",VLOOKUP(B88,Sheet6!C:D,2,0))","v":""},null,{"$f":"IF(②選手情報入力!C97=\"\",\"\",②選手情報入力!C97)","v":""},{"$f":"IF(E88=\"\",\"\",②選手情報入力!D97)","v":""},{"$f":"IF(E88=\"\",\"\",IF(②選手情報入力!I97=\"男\",1,2))","v":""},{"$f":"IF(E88=\"\",\"\",VLOOKUP(data_kyogisha!Q88,Sheet3!A:G,2,0))","v":""},{"$f":"IF(E88=\"\",\"\",IF(②選手情報入力!M97=\"\",\"\",②選手情報入力!M97))","v":""},{"$f":"IF(E88=\"\",\"\",②選手情報入力!N97)","v":""},{"$f":"IF(E88=\"\",\"\",VLOOKUP(data_kyogisha!U88,Sheet3!A:G,2,0))","v":""},{"$f":"IF(E88=\"\",\"\",IF(②選手情報入力!P97=\"\",\"\",②選手情報入力!P97))","v":""},{"$f":"IF(E88=\"\",\"\",②選手情報入力!Q97)","v":""},"",{"$f":"IF(E88=\"\",\"\",IF(②選手情報入力!S97=\"\",\"\",②選手情報入力!S97))","v":""},"","",{"$f":"IF(E88=\"\",\"\",IF(②選手情報入力!T97=\"\",\"\",IF(G88=1,IF(②選手情報入力!$U$6=\"\",\"\",②選手情報入力!$U$6),IF(②選手情報入力!$U$7=\"\",\"\",②選手情報入力!$U$7))))","v":""},{"$f":"IF(E88=\"\",\"\",IF(②選手情報入力!T97=\"\",\"\",IF(G88=1,IF(②選手情報入力!$T$6=\"\",0,1),IF(②選手情報入力!$T$7=\"\",0,1))))","v":""},{"$f":"IF(E88=\"\",\"\",IF(②選手情報入力!T97=\"\",\"\",2))","v":""},"",{"$f":"IF(E88=\"\",\"\",IF(②選手情報入力!V97=\"\",\"\",IF(G88=1,IF(②選手情報入力!$W$6=\"\",\"\",②選手情報入力!$W$6),IF(②選手情報入力!$W$7=\"\",\"\",②選手情報入力!$W$7))))","v":""},{"$f":"IF(E88=\"\",\"\",IF(②選手情報入力!V97=\"\",\"\",IF(G88=1,IF(②選手情報入力!$V$6=\"\",0,1),IF(②選手情報入力!$V$7=\"\",0,1))))","v":""},{"$f":"IF(E88=\"\",\"\",IF(②選手情報入力!V97=\"\",\"\",2))","v":""}]
[{"$f":"IF(E89=\"\",\"\",data_kyogisha!A89)","v":""},{"$f":"IF(E89=\"\",\"\",①団体情報入力!$C$5)","v":""},{"$f":"IF(A89=\"\",\"\",VLOOKUP(B89,Sheet6!C:D,2,0))","v":""},null,{"$f":"IF(②選手情報入力!C98=\"\",\"\",②選手情報入力!C98)","v":""},{"$f":"IF(E89=\"\",\"\",②選手情報入力!D98)","v":""},{"$f":"IF(E89=\"\",\"\",IF(②選手情報入力!I98=\"男\",1,2))","v":""},{"$f":"IF(E89=\"\",\"\",VLOOKUP(data_kyogisha!Q89,Sheet3!A:G,2,0))","v":""},{"$f":"IF(E89=\"\",\"\",IF(②選手情報入力!M98=\"\",\"\",②選手情報入力!M98))","v":""},{"$f":"IF(E89=\"\",\"\",②選手情報入力!N98)","v":""},{"$f":"IF(E89=\"\",\"\",VLOOKUP(data_kyogisha!U89,Sheet3!A:G,2,0))","v":""},{"$f":"IF(E89=\"\",\"\",IF(②選手情報入力!P98=\"\",\"\",②選手情報入力!P98))","v":""},{"$f":"IF(E89=\"\",\"\",②選手情報入力!Q98)","v":""},"",{"$f":"IF(E89=\"\",\"\",IF(②選手情報入力!S98=\"\",\"\",②選手情報入力!S98))","v":""},"","",{"$f":"IF(E89=\"\",\"\",IF(②選手情報入力!T98=\"\",\"\",IF(G89=1,IF(②選手情報入力!$U$6=\"\",\"\",②選手情報入力!$U$6),IF(②選手情報入力!$U$7=\"\",\"\",②選手情報入力!$U$7))))","v":""},{"$f":"IF(E89=\"\",\"\",IF(②選手情報入力!T98=\"\",\"\",IF(G89=1,IF(②選手情報入力!$T$6=\"\",0,1),IF(②選手情報入力!$T$7=\"\",0,1))))","v":""},{"$f":"IF(E89=\"\",\"\",IF(②選手情報入力!T98=\"\",\"\",2))","v":""},"",{"$f":"IF(E89=\"\",\"\",IF(②選手情報入力!V98=\"\",\"\",IF(G89=1,IF(②選手情報入力!$W$6=\"\",\"\",②選手情報入力!$W$6),IF(②選手情報入力!$W$7=\"\",\"\",②選手情報入力!$W$7))))","v":""},{"$f":"IF(E89=\"\",\"\",IF(②選手情報入力!V98=\"\",\"\",IF(G89=1,IF(②選手情報入力!$V$6=\"\",0,1),IF(②選手情報入力!$V$7=\"\",0,1))))","v":""},{"$f":"IF(E89=\"\",\"\",IF(②選手情報入力!V98=\"\",\"\",2))","v":""}]
[{"$f":"IF(E90=\"\",\"\",data_kyogisha!A90)","v":""},{"$f":"IF(E90=\"\",\"\",①団体情報入力!$C$5)","v":""},{"$f":"IF(A90=\"\",\"\",VLOOKUP(B90,Sheet6!C:D,2,0))","v":""},null,{"$f":"IF(②選手情報入力!C99=\"\",\"\",②選手情報入力!C99)","v":""},{"$f":"IF(E90=\"\",\"\",②選手情報入力!D99)","v":""},{"$f":"IF(E90=\"\",\"\",IF(②選手情報入力!I99=\"男\",1,2))","v":""},{"$f":"IF(E90=\"\",\"\",VLOOKUP(data_kyogisha!Q90,Sheet3!A:G,2,0))","v":""},{"$f":"IF(E90=\"\",\"\",IF(②選手情報入力!M99=\"\",\"\",②選手情報入力!M99))","v":""},{"$f":"IF(E90=\"\",\"\",②選手情報入力!N99)","v":""},{"$f":"IF(E90=\"\",\"\",VLOOKUP(data_kyogisha!U90,Sheet3!A:G,2,0))","v":""},{"$f":"IF(E90=\"\",\"\",IF(②選手情報入力!P99=\"\",\"\",②選手情報入力!P99))","v":""},{"$f":"IF(E90=\"\",\"\",②選手情報入力!Q99)","v":""},"",{"$f":"IF(E90=\"\",\"\",IF(②選手情報入力!S99=\"\",\"\",②選手情報入力!S99))","v":""},"","",{"$f":"IF(E90=\"\",\"\",IF(②選手情報入力!T99=\"\",\"\",IF(G90=1,IF(②選手情報入力!$U$6=\"\",\"\",②選手情報入力!$U$6),IF(②選手情報入力!$U$7=\"\",\"\",②選手情報入力!$U$7))))","v":""},{"$f":"IF(E90=\"\",\"\",IF(②選手情報入力!T99=\"\",\"\",IF(G90=1,IF(②選手情報入力!$T$6=\"\",0,1),IF(②選手情報入力!$T$7=\"\",0,1))))","v":""},{"$f":"IF(E90=\"\",\"\",IF(②選手情報入力!T99=\"\",\"\",2))","v":""},"",{"$f":"IF(E90=\"\",\"\",IF(②選手情報入力!V99=\"\",\"\",IF(G90=1,IF(②選手情報入力!$W$6=\"\",\"\",②選手情報入力!$W$6),IF(②選手情報入力!$W$7=\"\",\"\",②選手情報入力!$W$7))))","v":""},{"$f":"IF(E90=\"\",\"\",IF(②選手情報入力!V99=\"\",\"\",IF(G90=1,IF(②選手情報入力!$V$6=\"\",0,1),IF(②選手情報入力!$V$7=\"\",0,1))))","v":""},{"$f":"IF(E90=\"\",\"\",IF(②選手情報入力!V99=\"\",\"\",2))","v":""}]
[{"$f":"IF(E91=\"\",\"\",data_kyogisha!A91)","v":""},{"$f":"IF(E91=\"\",\"\",①団体情報入力!$C$5)","v":""},{"$f":"IF(A91=\"\",\"\",VLOOKUP(B91,Sheet6!C:D,2,0))","v":""},null,{"$f":"IF(②選手情報入力!C100=\"\",\"\",②選手情報入力!C100)","v":""},{"$f":"IF(E91=\"\",\"\",②選手情報入力!D100)","v":""},{"$f":"IF(E91=\"\",\"\",IF(②選手情報入力!I100=\"男\",1,2))","v":""},{"$f":"IF(E91=\"\",\"\",VLOOKUP(data_kyogisha!Q91,Sheet3!A:G,2,0))","v":""},{"$f":"IF(E91=\"\",\"\",IF(②選手情報入力!M100=\"\",\"\",②選手情報入力!M100))","v":""},{"$f":"IF(E91=\"\",\"\",②選手情報入力!N100)","v":""},{"$f":"IF(E91=\"\",\"\",VLOOKUP(data_kyogisha!U91,Sheet3!A:G,2,0))","v":""},{"$f":"IF(E91=\"\",\"\",IF(②選手情報入力!P100=\"\",\"\",②選手情報入力!P100))","v":""},{"$f":"IF(E91=\"\",\"\",②選手情報入力!Q100)","v":""},"",{"$f":"IF(E91=\"\",\"\",IF(②選手情報入力!S100=\"\",\"\",②選手情報入力!S100))","v":""},"","",{"$f":"IF(E91=\"\",\"\",IF(②選手情報入力!T100=\"\",\"\",IF(G91=1,IF(②選手情報入力!$U$6=\"\",\"\",②選手情報入力!$U$6),IF(②選手情報入力!$U$7=\"\",\"\",②選手情報入力!$U$7))))","v":""},{"$f":"IF(E91=\"\",\"\",IF(②選手情報入力!T100=\"\",\"\",IF(G91=1,IF(②選手情報入力!$T$6=\"\",0,1),IF(②選手情報入力!$T$7=\"\",0,1))))","v":""},{"$f":"IF(E91=\"\",\"\",IF(②選手情報入力!T100=\"\",\"\",2))","v":""},"",{"$f":"IF(E91=\"\",\"\",IF(②選手情報入力!V100=\"\",\"\",IF(G91=1,IF(②選手情報入力!$W$6=\"\",\"\",②選手情報入力!$W$6),IF(②選手情報入力!$W$7=\"\",\"\",②選手情報入力!$W$7))))","v":""},{"$f":"IF(E91=\"\",\"\",IF(②選手情報入力!V100=\"\",\"\",IF(G91=1,IF(②選手情報入力!$V$6=\"\",0,1),IF(②選手情報入力!$V$7=\"\",0,1))))","v":""},{"$f":"IF(E91=\"\",\"\",IF(②選手情報入力!V100=\"\",\"\",2))","v":""}]
[{"$f":"IF(E92=\"\",\"\",data_kyogisha!A92)","v":""},{"$f":"IF(E92=\"\",\"\",①団体情報入力!$C$5)","v":""},{"$f":"IF(A92=\"\",\"\",VLOOKUP(B92,Sheet6!C:D,2,0))","v":""},null,{"$f":"IF(②選手情報入力!C101=\"\",\"\",②選手情報入力!C101)","v":""},{"$f":"IF(E92=\"\",\"\",②選手情報入力!D101)","v":""},{"$f":"IF(E92=\"\",\"\",IF(②選手情報入力!I101=\"男\",1,2))","v":""},{"$f":"IF(E92=\"\",\"\",VLOOKUP(data_kyogisha!Q92,Sheet3!A:G,2,0))","v":""},{"$f":"IF(E92=\"\",\"\",IF(②選手情報入力!M101=\"\",\"\",②選手情報入力!M101))","v":""},{"$f":"IF(E92=\"\",\"\",②選手情報入力!N101)","v":""},{"$f":"IF(E92=\"\",\"\",VLOOKUP(data_kyogisha!U92,Sheet3!A:G,2,0))","v":""},{"$f":"IF(E92=\"\",\"\",IF(②選手情報入力!P101=\"\",\"\",②選手情報入力!P101))","v":""},{"$f":"IF(E92=\"\",\"\",②選手情報入力!Q101)","v":""},"",{"$f":"IF(E92=\"\",\"\",IF(②選手情報入力!S101=\"\",\"\",②選手情報入力!S101))","v":""},"","",{"$f":"IF(E92=\"\",\"\",IF(②選手情報入力!T101=\"\",\"\",IF(G92=1,IF(②選手情報入力!$U$6=\"\",\"\",②選手情報入力!$U$6),IF(②選手情報入力!$U$7=\"\",\"\",②選手情報入力!$U$7))))","v":""},{"$f":"IF(E92=\"\",\"\",IF(②選手情報入力!T101=\"\",\"\",IF(G92=1,IF(②選手情報入力!$T$6=\"\",0,1),IF(②選手情報入力!$T$7=\"\",0,1))))","v":""},{"$f":"IF(E92=\"\",\"\",IF(②選手情報入力!T101=\"\",\"\",2))","v":""},"",{"$f":"IF(E92=\"\",\"\",IF(②選手情報入力!V101=\"\",\"\",IF(G92=1,IF(②選手情報入力!$W$6=\"\",\"\",②選手情報入力!$W$6),IF(②選手情報入力!$W$7=\"\",\"\",②選手情報入力!$W$7))))","v":""},{"$f":"IF(E92=\"\",\"\",IF(②選手情報入力!V101=\"\",\"\",IF(G92=1,IF(②選手情報入力!$V$6=\"\",0,1),IF(②選手情報入力!$V$7=\"\",0,1))))","v":""},{"$f":"IF(E92=\"\",\"\",IF(②選手情報入力!V101=\"\",\"\",2))","v":""}]
[{"$f":"IF(E93=\"\",\"\",data_kyogisha!A93)","v":""},{"$f":"IF(E93=\"\",\"\",①団体情報入力!$C$5)","v":""},{"$f":"IF(A93=\"\",\"\",VLOOKUP(B93,Sheet6!C:D,2,0))","v":""},null,{"$f":"IF(②選手情報入力!C102=\"\",\"\",②選手情報入力!C102)","v":""},{"$f":"IF(E93=\"\",\"\",②選手情報入力!D102)","v":""},{"$f":"IF(E93=\"\",\"\",IF(②選手情報入力!I102=\"男\",1,2))","v":""},{"$f":"IF(E93=\"\",\"\",VLOOKUP(data_kyogisha!Q93,Sheet3!A:G,2,0))","v":""},{"$f":"IF(E93=\"\",\"\",IF(②選手情報入力!M102=\"\",\"\",②選手情報入力!M102))","v":""},{"$f":"IF(E93=\"\",\"\",②選手情報入力!N102)","v":""},{"$f":"IF(E93=\"\",\"\",VLOOKUP(data_kyogisha!U93,Sheet3!A:G,2,0))","v":""},{"$f":"IF(E93=\"\",\"\",IF(②選手情報入力!P102=\"\",\"\",②選手情報入力!P102))","v":""},{"$f":"IF(E93=\"\",\"\",②選手情報入力!Q102)","v":""},"",{"$f":"IF(E93=\"\",\"\",IF(②選手情報入力!S102=\"\",\"\",②選手情報入力!S102))","v":""},"","",{"$f":"IF(E93=\"\",\"\",IF(②選手情報入力!T102=\"\",\"\",IF(G93=1,IF(②選手情報入力!$U$6=\"\",\"\",②選手情報入力!$U$6),IF(②選手情報入力!$U$7=\"\",\"\",②選手情報入力!$U$7))))","v":""},{"$f":"IF(E93=\"\",\"\",IF(②選手情報入力!T102=\"\",\"\",IF(G93=1,IF(②選手情報入力!$T$6=\"\",0,1),IF(②選手情報入力!$T$7=\"\",0,1))))","v":""},{"$f":"IF(E93=\"\",\"\",IF(②選手情報入力!T102=\"\",\"\",2))","v":""},"",{"$f":"IF(E93=\"\",\"\",IF(②選手情報入力!V102=\"\",\"\",IF(G93=1,IF(②選手情報入力!$W$6=\"\",\"\",②選手情報入力!$W$6),IF(②選手情報入力!$W$7=\"\",\"\",②選手情報入力!$W$7))))","v":""},{"$f":"IF(E93=\"\",\"\",IF(②選手情報入力!V102=\"\",\"\",IF(G93=1,IF(②選手情報入力!$V$6=\"\",0,1),IF(②選手情報入力!$V$7=\"\",0,1))))","v":""},{"$f":"IF(E93=\"\",\"\",IF(②選手情報入力!V102=\"\",\"\",2))","v":""}]
[{"$f":"IF(E94=\"\",\"\",data_kyogisha!A94)","v":""},{"$f":"IF(E94=\"\",\"\",①団体情報入力!$C$5)","v":""},{"$f":"IF(A94=\"\",\"\",VLOOKUP(B94,Sheet6!C:D,2,0))","v":""},null,{"$f":"IF(②選手情報入力!C103=\"\",\"\",②選手情報入力!C103)","v":""},{"$f":"IF(E94=\"\",\"\",②選手情報入力!D103)","v":""},{"$f":"IF(E94=\"\",\"\",IF(②選手情報入力!I103=\"男\",1,2))","v":""},{"$f":"IF(E94=\"\",\"\",VLOOKUP(data_kyogisha!Q94,Sheet3!A:G,2,0))","v":""},{"$f":"IF(E94=\"\",\"\",IF(②選手情報入力!M103=\"\",\"\",②選手情報入力!M103))","v":""},{"$f":"IF(E94=\"\",\"\",②選手情報入力!N103)","v":""},{"$f":"IF(E94=\"\",\"\",VLOOKUP(data_kyogisha!U94,Sheet3!A:G,2,0))","v":""},{"$f":"IF(E94=\"\",\"\",IF(②選手情報入力!P103=\"\",\"\",②選手情報入力!P103))","v":""},{"$f":"IF(E94=\"\",\"\",②選手情報入力!Q103)","v":""},"",{"$f":"IF(E94=\"\",\"\",IF(②選手情報入力!S103=\"\",\"\",②選手情報入力!S103))","v":""},"","",{"$f":"IF(E94=\"\",\"\",IF(②選手情報入力!T103=\"\",\"\",IF(G94=1,IF(②選手情報入力!$U$6=\"\",\"\",②選手情報入力!$U$6),IF(②選手情報入力!$U$7=\"\",\"\",②選手情報入力!$U$7))))","v":""},{"$f":"IF(E94=\"\",\"\",IF(②選手情報入力!T103=\"\",\"\",IF(G94=1,IF(②選手情報入力!$T$6=\"\",0,1),IF(②選手情報入力!$T$7=\"\",0,1))))","v":""},{"$f":"IF(E94=\"\",\"\",IF(②選手情報入力!T103=\"\",\"\",2))","v":""},"",{"$f":"IF(E94=\"\",\"\",IF(②選手情報入力!V103=\"\",\"\",IF(G94=1,IF(②選手情報入力!$W$6=\"\",\"\",②選手情報入力!$W$6),IF(②選手情報入力!$W$7=\"\",\"\",②選手情報入力!$W$7))))","v":""},{"$f":"IF(E94=\"\",\"\",IF(②選手情報入力!V103=\"\",\"\",IF(G94=1,IF(②選手情報入力!$V$6=\"\",0,1),IF(②選手情報入力!$V$7=\"\",0,1))))","v":""},{"$f":"IF(E94=\"\",\"\",IF(②選手情報入力!V103=\"\",\"\",2))","v":""}]
[{"$f":"IF(E95=\"\",\"\",data_kyogisha!A95)","v":""},{"$f":"IF(E95=\"\",\"\",①団体情報入力!$C$5)","v":""},{"$f":"IF(A95=\"\",\"\",VLOOKUP(B95,Sheet6!C:D,2,0))","v":""},null,{"$f":"IF(②選手情報入力!C104=\"\",\"\",②選手情報入力!C104)","v":""},{"$f":"IF(E95=\"\",\"\",②選手情報入力!D104)","v":""},{"$f":"IF(E95=\"\",\"\",IF(②選手情報入力!I104=\"男\",1,2))","v":""},{"$f":"IF(E95=\"\",\"\",VLOOKUP(data_kyogisha!Q95,Sheet3!A:G,2,0))","v":""},{"$f":"IF(E95=\"\",\"\",IF(②選手情報入力!M104=\"\",\"\",②選手情報入力!M104))","v":""},{"$f":"IF(E95=\"\",\"\",②選手情報入力!N104)","v":""},{"$f":"IF(E95=\"\",\"\",VLOOKUP(data_kyogisha!U95,Sheet3!A:G,2,0))","v":""},{"$f":"IF(E95=\"\",\"\",IF(②選手情報入力!P104=\"\",\"\",②選手情報入力!P104))","v":""},{"$f":"IF(E95=\"\",\"\",②選手情報入力!Q104)","v":""},"",{"$f":"IF(E95=\"\",\"\",IF(②選手情報入力!S104=\"\",\"\",②選手情報入力!S104))","v":""},"","",{"$f":"IF(E95=\"\",\"\",IF(②選手情報入力!T104=\"\",\"\",IF(G95=1,IF(②選手情報入力!$U$6=\"\",\"\",②選手情報入力!$U$6),IF(②選手情報入力!$U$7=\"\",\"\",②選手情報入力!$U$7))))","v":""},{"$f":"IF(E95=\"\",\"\",IF(②選手情報入力!T104=\"\",\"\",IF(G95=1,IF(②選手情報入力!$T$6=\"\",0,1),IF(②選手情報入力!$T$7=\"\",0,1))))","v":""},{"$f":"IF(E95=\"\",\"\",IF(②選手情報入力!T104=\"\",\"\",2))","v":""},"",{"$f":"IF(E95=\"\",\"\",IF(②選手情報入力!V104=\"\",\"\",IF(G95=1,IF(②選手情報入力!$W$6=\"\",\"\",②選手情報入力!$W$6),IF(②選手情報入力!$W$7=\"\",\"\",②選手情報入力!$W$7))))","v":""},{"$f":"IF(E95=\"\",\"\",IF(②選手情報入力!V104=\"\",\"\",IF(G95=1,IF(②選手情報入力!$V$6=\"\",0,1),IF(②選手情報入力!$V$7=\"\",0,1))))","v":""},{"$f":"IF(E95=\"\",\"\",IF(②選手情報入力!V104=\"\",\"\",2))","v":""}]
[{"$f":"IF(E96=\"\",\"\",data_kyogisha!A96)","v":""},{"$f":"IF(E96=\"\",\"\",①団体情報入力!$C$5)","v":""},{"$f":"IF(A96=\"\",\"\",VLOOKUP(B96,Sheet6!C:D,2,0))","v":""},null,{"$f":"IF(②選手情報入力!C105=\"\",\"\",②選手情報入力!C105)","v":""},{"$f":"IF(E96=\"\",\"\",②選手情報入力!D105)","v":""},{"$f":"IF(E96=\"\",\"\",IF(②選手情報入力!I105=\"男\",1,2))","v":""},{"$f":"IF(E96=\"\",\"\",VLOOKUP(data_kyogisha!Q96,Sheet3!A:G,2,0))","v":""},{"$f":"IF(E96=\"\",\"\",IF(②選手情報入力!M105=\"\",\"\",②選手情報入力!M105))","v":""},{"$f":"IF(E96=\"\",\"\",②選手情報入力!N105)","v":""},{"$f":"IF(E96=\"\",\"\",VLOOKUP(data_kyogisha!U96,Sheet3!A:G,2,0))","v":""},{"$f":"IF(E96=\"\",\"\",IF(②選手情報入力!P105=\"\",\"\",②選手情報入力!P105))","v":""},{"$f":"IF(E96=\"\",\"\",②選手情報入力!Q105)","v":""},"",{"$f":"IF(E96=\"\",\"\",IF(②選手情報入力!S105=\"\",\"\",②選手情報入力!S105))","v":""},"","",{"$f":"IF(E96=\"\",\"\",IF(②選手情報入力!T105=\"\",\"\",IF(G96=1,IF(②選手情報入力!$U$6=\"\",\"\",②選手情報入力!$U$6),IF(②選手情報入力!$U$7=\"\",\"\",②選手情報入力!$U$7))))","v":""},{"$f":"IF(E96=\"\",\"\",IF(②選手情報入力!T105=\"\",\"\",IF(G96=1,IF(②選手情報入力!$T$6=\"\",0,1),IF(②選手情報入力!$T$7=\"\",0,1))))","v":""},{"$f":"IF(E96=\"\",\"\",IF(②選手情報入力!T105=\"\",\"\",2))","v":""},"",{"$f":"IF(E96=\"\",\"\",IF(②選手情報入力!V105=\"\",\"\",IF(G96=1,IF(②選手情報入力!$W$6=\"\",\"\",②選手情報入力!$W$6),IF(②選手情報入力!$W$7=\"\",\"\",②選手情報入力!$W$7))))","v":""},{"$f":"IF(E96=\"\",\"\",IF(②選手情報入力!V105=\"\",\"\",IF(G96=1,IF(②選手情報入力!$V$6=\"\",0,1),IF(②選手情報入力!$V$7=\"\",0,1))))","v":""},{"$f":"IF(E96=\"\",\"\",IF(②選手情報入力!V105=\"\",\"\",2))","v":""}]
[{"$f":"IF(E97=\"\",\"\",data_kyogisha!A97)","v":""},{"$f":"IF(E97=\"\",\"\",①団体情報入力!$C$5)","v":""},{"$f":"IF(A97=\"\",\"\",VLOOKUP(B97,Sheet6!C:D,2,0))","v":""},null,{"$f":"IF(②選手情報入力!C106=\"\",\"\",②選手情報入力!C106)","v":""},{"$f":"IF(E97=\"\",\"\",②選手情報入力!D106)","v":""},{"$f":"IF(E97=\"\",\"\",IF(②選手情報入力!I106=\"男\",1,2))","v":""},{"$f":"IF(E97=\"\",\"\",VLOOKUP(data_kyogisha!Q97,Sheet3!A:G,2,0))","v":""},{"$f":"IF(E97=\"\",\"\",IF(②選手情報入力!M106=\"\",\"\",②選手情報入力!M106))","v":""},{"$f":"IF(E97=\"\",\"\",②選手情報入力!N106)","v":""},{"$f":"IF(E97=\"\",\"\",VLOOKUP(data_kyogisha!U97,Sheet3!A:G,2,0))","v":""},{"$f":"IF(E97=\"\",\"\",IF(②選手情報入力!P106=\"\",\"\",②選手情報入力!P106))","v":""},{"$f":"IF(E97=\"\",\"\",②選手情報入力!Q106)","v":""},"",{"$f":"IF(E97=\"\",\"\",IF(②選手情報入力!S106=\"\",\"\",②選手情報入力!S106))","v":""},"","",{"$f":"IF(E97=\"\",\"\",IF(②選手情報入力!T106=\"\",\"\",IF(G97=1,IF(②選手情報入力!$U$6=\"\",\"\",②選手情報入力!$U$6),IF(②選手情報入力!$U$7=\"\",\"\",②選手情報入力!$U$7))))","v":""},{"$f":"IF(E97=\"\",\"\",IF(②選手情報入力!T106=\"\",\"\",IF(G97=1,IF(②選手情報入力!$T$6=\"\",0,1),IF(②選手情報入力!$T$7=\"\",0,1))))","v":""},{"$f":"IF(E97=\"\",\"\",IF(②選手情報入力!T106=\"\",\"\",2))","v":""},"",{"$f":"IF(E97=\"\",\"\",IF(②選手情報入力!V106=\"\",\"\",IF(G97=1,IF(②選手情報入力!$W$6=\"\",\"\",②選手情報入力!$W$6),IF(②選手情報入力!$W$7=\"\",\"\",②選手情報入力!$W$7))))","v":""},{"$f":"IF(E97=\"\",\"\",IF(②選手情報入力!V106=\"\",\"\",IF(G97=1,IF(②選手情報入力!$V$6=\"\",0,1),IF(②選手情報入力!$V$7=\"\",0,1))))","v":""},{"$f":"IF(E97=\"\",\"\",IF(②選手情報入力!V106=\"\",\"\",2))","v":""}]
[{"$f":"IF(E98=\"\",\"\",data_kyogisha!A98)","v":""},{"$f":"IF(E98=\"\",\"\",①団体情報入力!$C$5)","v":""},{"$f":"IF(A98=\"\",\"\",VLOOKUP(B98,Sheet6!C:D,2,0))","v":""},null,{"$f":"IF(②選手情報入力!C107=\"\",\"\",②選手情報入力!C107)","v":""},{"$f":"IF(E98=\"\",\"\",②選手情報入力!D107)","v":""},{"$f":"IF(E98=\"\",\"\",IF(②選手情報入力!I107=\"男\",1,2))","v":""},{"$f":"IF(E98=\"\",\"\",VLOOKUP(data_kyogisha!Q98,Sheet3!A:G,2,0))","v":""},{"$f":"IF(E98=\"\",\"\",IF(②選手情報入力!M107=\"\",\"\",②選手情報入力!M107))","v":""},{"$f":"IF(E98=\"\",\"\",②選手情報入力!N107)","v":""},{"$f":"IF(E98=\"\",\"\",VLOOKUP(data_kyogisha!U98,Sheet3!A:G,2,0))","v":""},{"$f":"IF(E98=\"\",\"\",IF(②選手情報入力!P107=\"\",\"\",②選手情報入力!P107))","v":""},{"$f":"IF(E98=\"\",\"\",②選手情報入力!Q107)","v":""},"",{"$f":"IF(E98=\"\",\"\",IF(②選手情報入力!S107=\"\",\"\",②選手情報入力!S107))","v":""},"","",{"$f":"IF(E98=\"\",\"\",IF(②選手情報入力!T107=\"\",\"\",IF(G98=1,IF(②選手情報入力!$U$6=\"\",\"\",②選手情報入力!$U$6),IF(②選手情報入力!$U$7=\"\",\"\",②選手情報入力!$U$7))))","v":""},{"$f":"IF(E98=\"\",\"\",IF(②選手情報入力!T107=\"\",\"\",IF(G98=1,IF(②選手情報入力!$T$6=\"\",0,1),IF(②選手情報入力!$T$7=\"\",0,1))))","v":""},{"$f":"IF(E98=\"\",\"\",IF(②選手情報入力!T107=\"\",\"\",2))","v":""},"",{"$f":"IF(E98=\"\",\"\",IF(②選手情報入力!V107=\"\",\"\",IF(G98=1,IF(②選手情報入力!$W$6=\"\",\"\",②選手情報入力!$W$6),IF(②選手情報入力!$W$7=\"\",\"\",②選手情報入力!$W$7))))","v":""},{"$f":"IF(E98=\"\",\"\",IF(②選手情報入力!V107=\"\",\"\",IF(G98=1,IF(②選手情報入力!$V$6=\"\",0,1),IF(②選手情報入力!$V$7=\"\",0,1))))","v":""},{"$f":"IF(E98=\"\",\"\",IF(②選手情報入力!V107=\"\",\"\",2))","v":""}]
[{"$f":"IF(E99=\"\",\"\",data_kyogisha!A99)","v":""},{"$f":"IF(E99=\"\",\"\",①団体情報入力!$C$5)","v":""},{"$f":"IF(A99=\"\",\"\",VLOOKUP(B99,Sheet6!C:D,2,0))","v":""},null,{"$f":"IF(②選手情報入力!C108=\"\",\"\",②選手情報入力!C108)","v":""},{"$f":"IF(E99=\"\",\"\",②選手情報入力!D108)","v":""},{"$f":"IF(E99=\"\",\"\",IF(②選手情報入力!I108=\"男\",1,2))","v":""},{"$f":"IF(E99=\"\",\"\",VLOOKUP(data_kyogisha!Q99,Sheet3!A:G,2,0))","v":""},{"$f":"IF(E99=\"\",\"\",IF(②選手情報入力!M108=\"\",\"\",②選手情報入力!M108))","v":""},{"$f":"IF(E99=\"\",\"\",②選手情報入力!N108)","v":""},{"$f":"IF(E99=\"\",\"\",VLOOKUP(data_kyogisha!U99,Sheet3!A:G,2,0))","v":""},{"$f":"IF(E99=\"\",\"\",IF(②選手情報入力!P108=\"\",\"\",②選手情報入力!P108))","v":""},{"$f":"IF(E99=\"\",\"\",②選手情報入力!Q108)","v":""},"",{"$f":"IF(E99=\"\",\"\",IF(②選手情報入力!S108=\"\",\"\",②選手情報入力!S108))","v":""},"","",{"$f":"IF(E99=\"\",\"\",IF(②選手情報入力!T108=\"\",\"\",IF(G99=1,IF(②選手情報入力!$U$6=\"\",\"\",②選手情報入力!$U$6),IF(②選手情報入力!$U$7=\"\",\"\",②選手情報入力!$U$7))))","v":""},{"$f":"IF(E99=\"\",\"\",IF(②選手情報入力!T108=\"\",\"\",IF(G99=1,IF(②選手情報入力!$T$6=\"\",0,1),IF(②選手情報入力!$T$7=\"\",0,1))))","v":""},{"$f":"IF(E99=\"\",\"\",IF(②選手情報入力!T108=\"\",\"\",2))","v":""},"",{"$f":"IF(E99=\"\",\"\",IF(②選手情報入力!V108=\"\",\"\",IF(G99=1,IF(②選手情報入力!$W$6=\"\",\"\",②選手情報入力!$W$6),IF(②選手情報入力!$W$7=\"\",\"\",②選手情報入力!$W$7))))","v":""},{"$f":"IF(E99=\"\",\"\",IF(②選手情報入力!V108=\"\",\"\",IF(G99=1,IF(②選手情報入力!$V$6=\"\",0,1),IF(②選手情報入力!$V$7=\"\",0,1))))","v":""},{"$f":"IF(E99=\"\",\"\",IF(②選手情報入力!V108=\"\",\"\",2))","v":""}]
[{"$f":"IF(E100=\"\",\"\",data_kyogisha!A100)","v":""},{"$f":"IF(E100=\"\",\"\",①団体情報入力!$C$5)","v":""},{"$f":"IF(A100=\"\",\"\",VLOOKUP(B100,Sheet6!C:D,2,0))","v":""},null,{"$f":"IF(②選手情報入力!C109=\"\",\"\",②選手情報入力!C109)","v":""},{"$f":"IF(E100=\"\",\"\",②選手情報入力!D109)","v":""},{"$f":"IF(E100=\"\",\"\",IF(②選手情報入力!I109=\"男\",1,2))","v":""},{"$f":"IF(E100=\"\",\"\",VLOOKUP(data_kyogisha!Q100,Sheet3!A:G,2,0))","v":""},{"$f":"IF(E100=\"\",\"\",IF(②選手情報入力!M109=\"\",\"\",②選手情報入力!M109))","v":""},{"$f":"IF(E100=\"\",\"\",②選手情報入力!N109)","v":""},{"$f":"IF(E100=\"\",\"\",VLOOKUP(data_kyogisha!U100,Sheet3!A:G,2,0))","v":""},{"$f":"IF(E100=\"\",\"\",IF(②選手情報入力!P109=\"\",\"\",②選手情報入力!P109))","v":""},{"$f":"IF(E100=\"\",\"\",②選手情報入力!Q109)","v":""},"",{"$f":"IF(E100=\"\",\"\",IF(②選手情報入力!S109=\"\",\"\",②選手情報入力!S109))","v":""},"","",{"$f":"IF(E100=\"\",\"\",IF(②選手情報入力!T109=\"\",\"\",IF(G100=1,IF(②選手情報入力!$U$6=\"\",\"\",②選手情報入力!$U$6),IF(②選手情報入力!$U$7=\"\",\"\",②選手情報入力!$U$7))))","v":""},{"$f":"IF(E100=\"\",\"\",IF(②選手情報入力!T109=\"\",\"\",IF(G100=1,IF(②選手情報入力!$T$6=\"\",0,1),IF(②選手情報入力!$T$7=\"\",0,1))))","v":""},{"$f":"IF(E100=\"\",\"\",IF(②選手情報入力!T109=\"\",\"\",2))","v":""},"",{"$f":"IF(E100=\"\",\"\",IF(②選手情報入力!V109=\"\",\"\",IF(G100=1,IF(②選手情報入力!$W$6=\"\",\"\",②選手情報入力!$W$6),IF(②選手情報入力!$W$7=\"\",\"\",②選手情報入力!$W$7))))","v":""},{"$f":"IF(E100=\"\",\"\",IF(②選手情報入力!V109=\"\",\"\",IF(G100=1,IF(②選手情報入力!$V$6=\"\",0,1),IF(②選手情報入力!$V$7=\"\",0,1))))","v":""},{"$f":"IF(E100=\"\",\"\",IF(②選手情報入力!V109=\"\",\"\",2))","v":""}]
[{"$f":"IF(E101=\"\",\"\",data_kyogisha!A101)","v":""},{"$f":"IF(E101=\"\",\"\",①団体情報入力!$C$5)","v":""},{"$f":"IF(A101=\"\",\"\",VLOOKUP(B101,Sheet6!C:D,2,0))","v":""},null,{"$f":"IF(②選手情報入力!C110=\"\",\"\",②選手情報入力!C110)","v":""},{"$f":"IF(E101=\"\",\"\",②選手情報入力!D110)","v":""},{"$f":"IF(E101=\"\",\"\",IF(②選手情報入力!I110=\"男\",1,2))","v":""},{"$f":"IF(E101=\"\",\"\",VLOOKUP(data_kyogisha!Q101,Sheet3!A:G,2,0))","v":""},{"$f":"IF(E101=\"\",\"\",IF(②選手情報入力!M110=\"\",\"\",②選手情報入力!M110))","v":""},{"$f":"IF(E101=\"\",\"\",②選手情報入力!N110)","v":""},{"$f":"IF(E101=\"\",\"\",VLOOKUP(data_kyogisha!U101,Sheet3!A:G,2,0))","v":""},{"$f":"IF(E101=\"\",\"\",IF(②選手情報入力!P110=\"\",\"\",②選手情報入力!P110))","v":""},{"$f":"IF(E101=\"\",\"\",②選手情報入力!Q110)","v":""},"",{"$f":"IF(E101=\"\",\"\",IF(②選手情報入力!S110=\"\",\"\",②選手情報入力!S110))","v":""},"","",{"$f":"IF(E101=\"\",\"\",IF(②選手情報入力!T110=\"\",\"\",IF(G101=1,IF(②選手情報入力!$U$6=\"\",\"\",②選手情報入力!$U$6),IF(②選手情報入力!$U$7=\"\",\"\",②選手情報入力!$U$7))))","v":""},{"$f":"IF(E101=\"\",\"\",IF(②選手情報入力!T110=\"\",\"\",IF(G101=1,IF(②選手情報入力!$T$6=\"\",0,1),IF(②選手情報入力!$T$7=\"\",0,1))))","v":""},{"$f":"IF(E101=\"\",\"\",IF(②選手情報入力!T110=\"\",\"\",2))","v":""},"",{"$f":"IF(E101=\"\",\"\",IF(②選手情報入力!V110=\"\",\"\",IF(G101=1,IF(②選手情報入力!$W$6=\"\",\"\",②選手情報入力!$W$6),IF(②選手情報入力!$W$7=\"\",\"\",②選手情報入力!$W$7))))","v":""},{"$f":"IF(E101=\"\",\"\",IF(②選手情報入力!V110=\"\",\"\",IF(G101=1,IF(②選手情報入力!$V$6=\"\",0,1),IF(②選手情報入力!$V$7=\"\",0,1))))","v":""},{"$f":"IF(E101=\"\",\"\",IF(②選手情報入力!V110=\"\",\"\",2))","v":""}]
[{"$f":"IF(E102=\"\",\"\",data_kyogisha!A102)","v":""},{"$f":"IF(E102=\"\",\"\",①団体情報入力!$C$5)","v":""},{"$f":"IF(A102=\"\",\"\",VLOOKUP(B102,Sheet6!C:D,2,0))","v":""},null,{"$f":"IF(②選手情報入力!C111=\"\",\"\",②選手情報入力!C111)","v":""},{"$f":"IF(E102=\"\",\"\",②選手情報入力!D111)","v":""},{"$f":"IF(E102=\"\",\"\",IF(②選手情報入力!I111=\"男\",1,2))","v":""},{"$f":"IF(E102=\"\",\"\",VLOOKUP(data_kyogisha!Q102,Sheet3!A:G,2,0))","v":""},{"$f":"IF(E102=\"\",\"\",IF(②選手情報入力!M111=\"\",\"\",②選手情報入力!M111))","v":""},{"$f":"IF(E102=\"\",\"\",②選手情報入力!N111)","v":""},{"$f":"IF(E102=\"\",\"\",VLOOKUP(data_kyogisha!U102,Sheet3!A:G,2,0))","v":""},{"$f":"IF(E102=\"\",\"\",IF(②選手情報入力!P111=\"\",\"\",②選手情報入力!P111))","v":""},{"$f":"IF(E102=\"\",\"\",②選手情報入力!Q111)","v":""},"",{"$f":"IF(E102=\"\",\"\",IF(②選手情報入力!S111=\"\",\"\",②選手情報入力!S111))","v":""},"","",{"$f":"IF(E102=\"\",\"\",IF(②選手情報入力!T111=\"\",\"\",IF(G102=1,IF(②選手情報入力!$U$6=\"\",\"\",②選手情報入力!$U$6),IF(②選手情報入力!$U$7=\"\",\"\",②選手情報入力!$U$7))))","v":""},{"$f":"IF(E102=\"\",\"\",IF(②選手情報入力!T111=\"\",\"\",IF(G102=1,IF(②選手情報入力!$T$6=\"\",0,1),IF(②選手情報入力!$T$7=\"\",0,1))))","v":""},{"$f":"IF(E102=\"\",\"\",IF(②選手情報入力!T111=\"\",\"\",2))","v":""},"",{"$f":"IF(E102=\"\",\"\",IF(②選手情報入力!V111=\"\",\"\",IF(G102=1,IF(②選手情報入力!$W$6=\"\",\"\",②選手情報入力!$W$6),IF(②選手情報入力!$W$7=\"\",\"\",②選手情報入力!$W$7))))","v":""},{"$f":"IF(E102=\"\",\"\",IF(②選手情報入力!V111=\"\",\"\",IF(G102=1,IF(②選手情報入力!$V$6=\"\",0,1),IF(②選手情報入力!$V$7=\"\",0,1))))","v":""},{"$f":"IF(E102=\"\",\"\",IF(②選手情報入力!V111=\"\",\"\",2))","v":""}]
[{"$f":"IF(E103=\"\",\"\",data_kyogisha!A103)","v":""},{"$f":"IF(E103=\"\",\"\",①団体情報入力!$C$5)","v":""},{"$f":"IF(A103=\"\",\"\",VLOOKUP(B103,Sheet6!C:D,2,0))","v":""},null,{"$f":"IF(②選手情報入力!C112=\"\",\"\",②選手情報入力!C112)","v":""},{"$f":"IF(E103=\"\",\"\",②選手情報入力!D112)","v":""},{"$f":"IF(E103=\"\",\"\",IF(②選手情報入力!I112=\"男\",1,2))","v":""},{"$f":"IF(E103=\"\",\"\",VLOOKUP(data_kyogisha!Q103,Sheet3!A:G,2,0))","v":""},{"$f":"IF(E103=\"\",\"\",IF(②選手情報入力!M112=\"\",\"\",②選手情報入力!M112))","v":""},{"$f":"IF(E103=\"\",\"\",②選手情報入力!N112)","v":""},{"$f":"IF(E103=\"\",\"\",VLOOKUP(data_kyogisha!U103,Sheet3!A:G,2,0))","v":""},{"$f":"IF(E103=\"\",\"\",IF(②選手情報入力!P112=\"\",\"\",②選手情報入力!P112))","v":""},{"$f":"IF(E103=\"\",\"\",②選手情報入力!Q112)","v":""},"",{"$f":"IF(E103=\"\",\"\",IF(②選手情報入力!S112=\"\",\"\",②選手情報入力!S112))","v":""},"","",{"$f":"IF(E103=\"\",\"\",IF(②選手情報入力!T112=\"\",\"\",IF(G103=1,IF(②選手情報入力!$U$6=\"\",\"\",②選手情報入力!$U$6),IF(②選手情報入力!$U$7=\"\",\"\",②選手情報入力!$U$7))))","v":""},{"$f":"IF(E103=\"\",\"\",IF(②選手情報入力!T112=\"\",\"\",IF(G103=1,IF(②選手情報入力!$T$6=\"\",0,1),IF(②選手情報入力!$T$7=\"\",0,1))))","v":""},{"$f":"IF(E103=\"\",\"\",IF(②選手情報入力!T112=\"\",\"\",2))","v":""},"",{"$f":"IF(E103=\"\",\"\",IF(②選手情報入力!V112=\"\",\"\",IF(G103=1,IF(②選手情報入力!$W$6=\"\",\"\",②選手情報入力!$W$6),IF(②選手情報入力!$W$7=\"\",\"\",②選手情報入力!$W$7))))","v":""},{"$f":"IF(E103=\"\",\"\",IF(②選手情報入力!V112=\"\",\"\",IF(G103=1,IF(②選手情報入力!$V$6=\"\",0,1),IF(②選手情報入力!$V$7=\"\",0,1))))","v":""},{"$f":"IF(E103=\"\",\"\",IF(②選手情報入力!V112=\"\",\"\",2))","v":""}]
[{"$f":"IF(E104=\"\",\"\",data_kyogisha!A104)","v":""},{"$f":"IF(E104=\"\",\"\",①団体情報入力!$C$5)","v":""},{"$f":"IF(A104=\"\",\"\",VLOOKUP(B104,Sheet6!C:D,2,0))","v":""},null,{"$f":"IF(②選手情報入力!C113=\"\",\"\",②選手情報入力!C113)","v":""},{"$f":"IF(E104=\"\",\"\",②選手情報入力!D113)","v":""},{"$f":"IF(E104=\"\",\"\",IF(②選手情報入力!I113=\"男\",1,2))","v":""},{"$f":"IF(E104=\"\",\"\",VLOOKUP(data_kyogisha!Q104,Sheet3!A:G,2,0))","v":""},{"$f":"IF(E104=\"\",\"\",IF(②選手情報入力!M113=\"\",\"\",②選手情報入力!M113))","v":""},{"$f":"IF(E104=\"\",\"\",②選手情報入力!N113)","v":""},{"$f":"IF(E104=\"\",\"\",VLOOKUP(data_kyogisha!U104,Sheet3!A:G,2,0))","v":""},{"$f":"IF(E104=\"\",\"\",IF(②選手情報入力!P113=\"\",\"\",②選手情報入力!P113))","v":""},{"$f":"IF(E104=\"\",\"\",②選手情報入力!Q113)","v":""},"",{"$f":"IF(E104=\"\",\"\",IF(②選手情報入力!S113=\"\",\"\",②選手情報入力!S113))","v":""},"","",{"$f":"IF(E104=\"\",\"\",IF(②選手情報入力!T113=\"\",\"\",IF(G104=1,IF(②選手情報入力!$U$6=\"\",\"\",②選手情報入力!$U$6),IF(②選手情報入力!$U$7=\"\",\"\",②選手情報入力!$U$7))))","v":""},{"$f":"IF(E104=\"\",\"\",IF(②選手情報入力!T113=\"\",\"\",IF(G104=1,IF(②選手情報入力!$T$6=\"\",0,1),IF(②選手情報入力!$T$7=\"\",0,1))))","v":""},{"$f":"IF(E104=\"\",\"\",IF(②選手情報入力!T113=\"\",\"\",2))","v":""},"",{"$f":"IF(E104=\"\",\"\",IF(②選手情報入力!V113=\"\",\"\",IF(G104=1,IF(②選手情報入力!$W$6=\"\",\"\",②選手情報入力!$W$6),IF(②選手情報入力!$W$7=\"\",\"\",②選手情報入力!$W$7))))","v":""},{"$f":"IF(E104=\"\",\"\",IF(②選手情報入力!V113=\"\",\"\",IF(G104=1,IF(②選手情報入力!$V$6=\"\",0,1),IF(②選手情報入力!$V$7=\"\",0,1))))","v":""},{"$f":"IF(E104=\"\",\"\",IF(②選手情報入力!V113=\"\",\"\",2))","v":""}]
[{"$f":"IF(E105=\"\",\"\",data_kyogisha!A105)","v":""},{"$f":"IF(E105=\"\",\"\",①団体情報入力!$C$5)","v":""},{"$f":"IF(A105=\"\",\"\",VLOOKUP(B105,Sheet6!C:D,2,0))","v":""},null,{"$f":"IF(②選手情報入力!C114=\"\",\"\",②選手情報入力!C114)","v":""},{"$f":"IF(E105=\"\",\"\",②選手情報入力!D114)","v":""},{"$f":"IF(E105=\"\",\"\",IF(②選手情報入力!I114=\"男\",1,2))","v":""},{"$f":"IF(E105=\"\",\"\",VLOOKUP(data_kyogisha!Q105,Sheet3!A:G,2,0))","v":""},{"$f":"IF(E105=\"\",\"\",IF(②選手情報入力!M114=\"\",\"\",②選手情報入力!M114))","v":""},{"$f":"IF(E105=\"\",\"\",②選手情報入力!N114)","v":""},{"$f":"IF(E105=\"\",\"\",VLOOKUP(data_kyogisha!U105,Sheet3!A:G,2,0))","v":""},{"$f":"IF(E105=\"\",\"\",IF(②選手情報入力!P114=\"\",\"\",②選手情報入力!P114))","v":""},{"$f":"IF(E105=\"\",\"\",②選手情報入力!Q114)","v":""},"",{"$f":"IF(E105=\"\",\"\",IF(②選手情報入力!S114=\"\",\"\",②選手情報入力!S114))","v":""},"","",{"$f":"IF(E105=\"\",\"\",IF(②選手情報入力!T114=\"\",\"\",IF(G105=1,IF(②選手情報入力!$U$6=\"\",\"\",②選手情報入力!$U$6),IF(②選手情報入力!$U$7=\"\",\"\",②選手情報入力!$U$7))))","v":""},{"$f":"IF(E105=\"\",\"\",IF(②選手情報入力!T114=\"\",\"\",IF(G105=1,IF(②選手情報入力!$T$6=\"\",0,1),IF(②選手情報入力!$T$7=\"\",0,1))))","v":""},{"$f":"IF(E105=\"\",\"\",IF(②選手情報入力!T114=\"\",\"\",2))","v":""},"",{"$f":"IF(E105=\"\",\"\",IF(②選手情報入力!V114=\"\",\"\",IF(G105=1,IF(②選手情報入力!$W$6=\"\",\"\",②選手情報入力!$W$6),IF(②選手情報入力!$W$7=\"\",\"\",②選手情報入力!$W$7))))","v":""},{"$f":"IF(E105=\"\",\"\",IF(②選手情報入力!V114=\"\",\"\",IF(G105=1,IF(②選手情報入力!$V$6=\"\",0,1),IF(②選手情報入力!$V$7=\"\",0,1))))","v":""},{"$f":"IF(E105=\"\",\"\",IF(②選手情報入力!V114=\"\",\"\",2))","v":""}]
[{"$f":"IF(E106=\"\",\"\",data_kyogisha!A106)","v":""},{"$f":"IF(E106=\"\",\"\",①団体情報入力!$C$5)","v":""},{"$f":"IF(A106=\"\",\"\",VLOOKUP(B106,Sheet6!C:D,2,0))","v":""},null,{"$f":"IF(②選手情報入力!C115=\"\",\"\",②選手情報入力!C115)","v":""},{"$f":"IF(E106=\"\",\"\",②選手情報入力!D115)","v":""},{"$f":"IF(E106=\"\",\"\",IF(②選手情報入力!I115=\"男\",1,2))","v":""},{"$f":"IF(E106=\"\",\"\",VLOOKUP(data_kyogisha!Q106,Sheet3!A:G,2,0))","v":""},{"$f":"IF(E106=\"\",\"\",IF(②選手情報入力!M115=\"\",\"\",②選手情報入力!M115))","v":""},{"$f":"IF(E106=\"\",\"\",②選手情報入力!N115)","v":""},{"$f":"IF(E106=\"\",\"\",VLOOKUP(data_kyogisha!U106,Sheet3!A:G,2,0))","v":""},{"$f":"IF(E106=\"\",\"\",IF(②選手情報入力!P115=\"\",\"\",②選手情報入力!P115))","v":""},{"$f":"IF(E106=\"\",\"\",②選手情報入力!Q115)","v":""},"",{"$f":"IF(E106=\"\",\"\",IF(②選手情報入力!S115=\"\",\"\",②選手情報入力!S115))","v":""},"","",{"$f":"IF(E106=\"\",\"\",IF(②選手情報入力!T115=\"\",\"\",IF(G106=1,IF(②選手情報入力!$U$6=\"\",\"\",②選手情報入力!$U$6),IF(②選手情報入力!$U$7=\"\",\"\",②選手情報入力!$U$7))))","v":""},{"$f":"IF(E106=\"\",\"\",IF(②選手情報入力!T115=\"\",\"\",IF(G106=1,IF(②選手情報入力!$T$6=\"\",0,1),IF(②選手情報入力!$T$7=\"\",0,1))))","v":""},{"$f":"IF(E106=\"\",\"\",IF(②選手情報入力!T115=\"\",\"\",2))","v":""},"",{"$f":"IF(E106=\"\",\"\",IF(②選手情報入力!V115=\"\",\"\",IF(G106=1,IF(②選手情報入力!$W$6=\"\",\"\",②選手情報入力!$W$6),IF(②選手情報入力!$W$7=\"\",\"\",②選手情報入力!$W$7))))","v":""},{"$f":"IF(E106=\"\",\"\",IF(②選手情報入力!V115=\"\",\"\",IF(G106=1,IF(②選手情報入力!$V$6=\"\",0,1),IF(②選手情報入力!$V$7=\"\",0,1))))","v":""},{"$f":"IF(E106=\"\",\"\",IF(②選手情報入力!V115=\"\",\"\",2))","v":""}]
[{"$f":"IF(E107=\"\",\"\",data_kyogisha!A107)","v":""},{"$f":"IF(E107=\"\",\"\",①団体情報入力!$C$5)","v":""},{"$f":"IF(A107=\"\",\"\",VLOOKUP(B107,Sheet6!C:D,2,0))","v":""},null,{"$f":"IF(②選手情報入力!C116=\"\",\"\",②選手情報入力!C116)","v":""},{"$f":"IF(E107=\"\",\"\",②選手情報入力!D116)","v":""},{"$f":"IF(E107=\"\",\"\",IF(②選手情報入力!I116=\"男\",1,2))","v":""},{"$f":"IF(E107=\"\",\"\",VLOOKUP(data_kyogisha!Q107,Sheet3!A:G,2,0))","v":""},{"$f":"IF(E107=\"\",\"\",IF(②選手情報入力!M116=\"\",\"\",②選手情報入力!M116))","v":""},{"$f":"IF(E107=\"\",\"\",②選手情報入力!N116)","v":""},{"$f":"IF(E107=\"\",\"\",VLOOKUP(data_kyogisha!U107,Sheet3!A:G,2,0))","v":""},{"$f":"IF(E107=\"\",\"\",IF(②選手情報入力!P116=\"\",\"\",②選手情報入力!P116))","v":""},{"$f":"IF(E107=\"\",\"\",②選手情報入力!Q116)","v":""},"",{"$f":"IF(E107=\"\",\"\",IF(②選手情報入力!S116=\"\",\"\",②選手情報入力!S116))","v":""},"","",{"$f":"IF(E107=\"\",\"\",IF(②選手情報入力!T116=\"\",\"\",IF(G107=1,IF(②選手情報入力!$U$6=\"\",\"\",②選手情報入力!$U$6),IF(②選手情報入力!$U$7=\"\",\"\",②選手情報入力!$U$7))))","v":""},{"$f":"IF(E107=\"\",\"\",IF(②選手情報入力!T116=\"\",\"\",IF(G107=1,IF(②選手情報入力!$T$6=\"\",0,1),IF(②選手情報入力!$T$7=\"\",0,1))))","v":""},{"$f":"IF(E107=\"\",\"\",IF(②選手情報入力!T116=\"\",\"\",2))","v":""},"",{"$f":"IF(E107=\"\",\"\",IF(②選手情報入力!V116=\"\",\"\",IF(G107=1,IF(②選手情報入力!$W$6=\"\",\"\",②選手情報入力!$W$6),IF(②選手情報入力!$W$7=\"\",\"\",②選手情報入力!$W$7))))","v":""},{"$f":"IF(E107=\"\",\"\",IF(②選手情報入力!V116=\"\",\"\",IF(G107=1,IF(②選手情報入力!$V$6=\"\",0,1),IF(②選手情報入力!$V$7=\"\",0,1))))","v":""},{"$f":"IF(E107=\"\",\"\",IF(②選手情報入力!V116=\"\",\"\",2))","v":""}]
[{"$f":"IF(E108=\"\",\"\",data_kyogisha!A108)","v":""},{"$f":"IF(E108=\"\",\"\",①団体情報入力!$C$5)","v":""},{"$f":"IF(A108=\"\",\"\",VLOOKUP(B108,Sheet6!C:D,2,0))","v":""},null,{"$f":"IF(②選手情報入力!C117=\"\",\"\",②選手情報入力!C117)","v":""},{"$f":"IF(E108=\"\",\"\",②選手情報入力!D117)","v":""},{"$f":"IF(E108=\"\",\"\",IF(②選手情報入力!I117=\"男\",1,2))","v":""},{"$f":"IF(E108=\"\",\"\",VLOOKUP(data_kyogisha!Q108,Sheet3!A:G,2,0))","v":""},{"$f":"IF(E108=\"\",\"\",IF(②選手情報入力!M117=\"\",\"\",②選手情報入力!M117))","v":""},{"$f":"IF(E108=\"\",\"\",②選手情報入力!N117)","v":""},{"$f":"IF(E108=\"\",\"\",VLOOKUP(data_kyogisha!U108,Sheet3!A:G,2,0))","v":""},{"$f":"IF(E108=\"\",\"\",IF(②選手情報入力!P117=\"\",\"\",②選手情報入力!P117))","v":""},{"$f":"IF(E108=\"\",\"\",②選手情報入力!Q117)","v":""},"",{"$f":"IF(E108=\"\",\"\",IF(②選手情報入力!S117=\"\",\"\",②選手情報入力!S117))","v":""},"","",{"$f":"IF(E108=\"\",\"\",IF(②選手情報入力!T117=\"\",\"\",IF(G108=1,IF(②選手情報入力!$U$6=\"\",\"\",②選手情報入力!$U$6),IF(②選手情報入力!$U$7=\"\",\"\",②選手情報入力!$U$7))))","v":""},{"$f":"IF(E108=\"\",\"\",IF(②選手情報入力!T117=\"\",\"\",IF(G108=1,IF(②選手情報入力!$T$6=\"\",0,1),IF(②選手情報入力!$T$7=\"\",0,1))))","v":""},{"$f":"IF(E108=\"\",\"\",IF(②選手情報入力!T117=\"\",\"\",2))","v":""},"",{"$f":"IF(E108=\"\",\"\",IF(②選手情報入力!V117=\"\",\"\",IF(G108=1,IF(②選手情報入力!$W$6=\"\",\"\",②選手情報入力!$W$6),IF(②選手情報入力!$W$7=\"\",\"\",②選手情報入力!$W$7))))","v":""},{"$f":"IF(E108=\"\",\"\",IF(②選手情報入力!V117=\"\",\"\",IF(G108=1,IF(②選手情報入力!$V$6=\"\",0,1),IF(②選手情報入力!$V$7=\"\",0,1))))","v":""},{"$f":"IF(E108=\"\",\"\",IF(②選手情報入力!V117=\"\",\"\",2))","v":""}]
[{"$f":"IF(E109=\"\",\"\",data_kyogisha!A109)","v":""},{"$f":"IF(E109=\"\",\"\",①団体情報入力!$C$5)","v":""},{"$f":"IF(A109=\"\",\"\",VLOOKUP(B109,Sheet6!C:D,2,0))","v":""},null,{"$f":"IF(②選手情報入力!C118=\"\",\"\",②選手情報入力!C118)","v":""},{"$f":"IF(E109=\"\",\"\",②選手情報入力!D118)","v":""},{"$f":"IF(E109=\"\",\"\",IF(②選手情報入力!I118=\"男\",1,2))","v":""},{"$f":"IF(E109=\"\",\"\",VLOOKUP(data_kyogisha!Q109,Sheet3!A:G,2,0))","v":""},{"$f":"IF(E109=\"\",\"\",IF(②選手情報入力!M118=\"\",\"\",②選手情報入力!M118))","v":""},{"$f":"IF(E109=\"\",\"\",②選手情報入力!N118)","v":""},{"$f":"IF(E109=\"\",\"\",VLOOKUP(data_kyogisha!U109,Sheet3!A:G,2,0))","v":""},{"$f":"IF(E109=\"\",\"\",IF(②選手情報入力!P118=\"\",\"\",②選手情報入力!P118))","v":""},{"$f":"IF(E109=\"\",\"\",②選手情報入力!Q118)","v":""},"",{"$f":"IF(E109=\"\",\"\",IF(②選手情報入力!S118=\"\",\"\",②選手情報入力!S118))","v":""},"","",{"$f":"IF(E109=\"\",\"\",IF(②選手情報入力!T118=\"\",\"\",IF(G109=1,IF(②選手情報入力!$U$6=\"\",\"\",②選手情報入力!$U$6),IF(②選手情報入力!$U$7=\"\",\"\",②選手情報入力!$U$7))))","v":""},{"$f":"IF(E109=\"\",\"\",IF(②選手情報入力!T118=\"\",\"\",IF(G109=1,IF(②選手情報入力!$T$6=\"\",0,1),IF(②選手情報入力!$T$7=\"\",0,1))))","v":""},{"$f":"IF(E109=\"\",\"\",IF(②選手情報入力!T118=\"\",\"\",2))","v":""},"",{"$f":"IF(E109=\"\",\"\",IF(②選手情報入力!V118=\"\",\"\",IF(G109=1,IF(②選手情報入力!$W$6=\"\",\"\",②選手情報入力!$W$6),IF(②選手情報入力!$W$7=\"\",\"\",②選手情報入力!$W$7))))","v":""},{"$f":"IF(E109=\"\",\"\",IF(②選手情報入力!V118=\"\",\"\",IF(G109=1,IF(②選手情報入力!$V$6=\"\",0,1),IF(②選手情報入力!$V$7=\"\",0,1))))","v":""},{"$f":"IF(E109=\"\",\"\",IF(②選手情報入力!V118=\"\",\"\",2))","v":""}]
[{"$f":"IF(E110=\"\",\"\",data_kyogisha!A110)","v":""},{"$f":"IF(E110=\"\",\"\",①団体情報入力!$C$5)","v":""},{"$f":"IF(A110=\"\",\"\",VLOOKUP(B110,Sheet6!C:D,2,0))","v":""},null,{"$f":"IF(②選手情報入力!C119=\"\",\"\",②選手情報入力!C119)","v":""},{"$f":"IF(E110=\"\",\"\",②選手情報入力!D119)","v":""},{"$f":"IF(E110=\"\",\"\",IF(②選手情報入力!I119=\"男\",1,2))","v":""},{"$f":"IF(E110=\"\",\"\",VLOOKUP(data_kyogisha!Q110,Sheet3!A:G,2,0))","v":""},{"$f":"IF(E110=\"\",\"\",IF(②選手情報入力!M119=\"\",\"\",②選手情報入力!M119))","v":""},{"$f":"IF(E110=\"\",\"\",②選手情報入力!N119)","v":""},{"$f":"IF(E110=\"\",\"\",VLOOKUP(data_kyogisha!U110,Sheet3!A:G,2,0))","v":""},{"$f":"IF(E110=\"\",\"\",IF(②選手情報入力!P119=\"\",\"\",②選手情報入力!P119))","v":""},{"$f":"IF(E110=\"\",\"\",②選手情報入力!Q119)","v":""},"",{"$f":"IF(E110=\"\",\"\",IF(②選手情報入力!S119=\"\",\"\",②選手情報入力!S119))","v":""},"","",{"$f":"IF(E110=\"\",\"\",IF(②選手情報入力!T119=\"\",\"\",IF(G110=1,IF(②選手情報入力!$U$6=\"\",\"\",②選手情報入力!$U$6),IF(②選手情報入力!$U$7=\"\",\"\",②選手情報入力!$U$7))))","v":""},{"$f":"IF(E110=\"\",\"\",IF(②選手情報入力!T119=\"\",\"\",IF(G110=1,IF(②選手情報入力!$T$6=\"\",0,1),IF(②選手情報入力!$T$7=\"\",0,1))))","v":""},{"$f":"IF(E110=\"\",\"\",IF(②選手情報入力!T119=\"\",\"\",2))","v":""},"",{"$f":"IF(E110=\"\",\"\",IF(②選手情報入力!V119=\"\",\"\",IF(G110=1,IF(②選手情報入力!$W$6=\"\",\"\",②選手情報入力!$W$6),IF(②選手情報入力!$W$7=\"\",\"\",②選手情報入力!$W$7))))","v":""},{"$f":"IF(E110=\"\",\"\",IF(②選手情報入力!V119=\"\",\"\",IF(G110=1,IF(②選手情報入力!$V$6=\"\",0,1),IF(②選手情報入力!$V$7=\"\",0,1))))","v":""},{"$f":"IF(E110=\"\",\"\",IF(②選手情報入力!V119=\"\",\"\",2))","v":""}]
[{"$f":"IF(E111=\"\",\"\",data_kyogisha!A111)","v":""},{"$f":"IF(E111=\"\",\"\",①団体情報入力!$C$5)","v":""},{"$f":"IF(A111=\"\",\"\",VLOOKUP(B111,Sheet6!C:D,2,0))","v":""},null,{"$f":"IF(②選手情報入力!C120=\"\",\"\",②選手情報入力!C120)","v":""},{"$f":"IF(E111=\"\",\"\",②選手情報入力!D120)","v":""},{"$f":"IF(E111=\"\",\"\",IF(②選手情報入力!I120=\"男\",1,2))","v":""},{"$f":"IF(E111=\"\",\"\",VLOOKUP(data_kyogisha!Q111,Sheet3!A:G,2,0))","v":""},{"$f":"IF(E111=\"\",\"\",IF(②選手情報入力!M120=\"\",\"\",②選手情報入力!M120))","v":""},{"$f":"IF(E111=\"\",\"\",②選手情報入力!N120)","v":""},{"$f":"IF(E111=\"\",\"\",VLOOKUP(data_kyogisha!U111,Sheet3!A:G,2,0))","v":""},{"$f":"IF(E111=\"\",\"\",IF(②選手情報入力!P120=\"\",\"\",②選手情報入力!P120))","v":""},{"$f":"IF(E111=\"\",\"\",②選手情報入力!Q120)","v":""},"",{"$f":"IF(E111=\"\",\"\",IF(②選手情報入力!S120=\"\",\"\",②選手情報入力!S120))","v":""},"","",{"$f":"IF(E111=\"\",\"\",IF(②選手情報入力!T120=\"\",\"\",IF(G111=1,IF(②選手情報入力!$U$6=\"\",\"\",②選手情報入力!$U$6),IF(②選手情報入力!$U$7=\"\",\"\",②選手情報入力!$U$7))))","v":""},{"$f":"IF(E111=\"\",\"\",IF(②選手情報入力!T120=\"\",\"\",IF(G111=1,IF(②選手情報入力!$T$6=\"\",0,1),IF(②選手情報入力!$T$7=\"\",0,1))))","v":""},{"$f":"IF(E111=\"\",\"\",IF(②選手情報入力!T120=\"\",\"\",2))","v":""},"",{"$f":"IF(E111=\"\",\"\",IF(②選手情報入力!V120=\"\",\"\",IF(G111=1,IF(②選手情報入力!$W$6=\"\",\"\",②選手情報入力!$W$6),IF(②選手情報入力!$W$7=\"\",\"\",②選手情報入力!$W$7))))","v":""},{"$f":"IF(E111=\"\",\"\",IF(②選手情報入力!V120=\"\",\"\",IF(G111=1,IF(②選手情報入力!$V$6=\"\",0,1),IF(②選手情報入力!$V$7=\"\",0,1))))","v":""},{"$f":"IF(E111=\"\",\"\",IF(②選手情報入力!V120=\"\",\"\",2))","v":""}]
[{"$f":"IF(E112=\"\",\"\",data_kyogisha!A112)","v":""},{"$f":"IF(E112=\"\",\"\",①団体情報入力!$C$5)","v":""},{"$f":"IF(A112=\"\",\"\",VLOOKUP(B112,Sheet6!C:D,2,0))","v":""},null,{"$f":"IF(②選手情報入力!C121=\"\",\"\",②選手情報入力!C121)","v":""},{"$f":"IF(E112=\"\",\"\",②選手情報入力!D121)","v":""},{"$f":"IF(E112=\"\",\"\",IF(②選手情報入力!I121=\"男\",1,2))","v":""},{"$f":"IF(E112=\"\",\"\",VLOOKUP(data_kyogisha!Q112,Sheet3!A:G,2,0))","v":""},{"$f":"IF(E112=\"\",\"\",IF(②選手情報入力!M121=\"\",\"\",②選手情報入力!M121))","v":""},{"$f":"IF(E112=\"\",\"\",②選手情報入力!N121)","v":""},{"$f":"IF(E112=\"\",\"\",VLOOKUP(data_kyogisha!U112,Sheet3!A:G,2,0))","v":""},{"$f":"IF(E112=\"\",\"\",IF(②選手情報入力!P121=\"\",\"\",②選手情報入力!P121))","v":""},{"$f":"IF(E112=\"\",\"\",②選手情報入力!Q121)","v":""},"",{"$f":"IF(E112=\"\",\"\",IF(②選手情報入力!S121=\"\",\"\",②選手情報入力!S121))","v":""},"","",{"$f":"IF(E112=\"\",\"\",IF(②選手情報入力!T121=\"\",\"\",IF(G112=1,IF(②選手情報入力!$U$6=\"\",\"\",②選手情報入力!$U$6),IF(②選手情報入力!$U$7=\"\",\"\",②選手情報入力!$U$7))))","v":""},{"$f":"IF(E112=\"\",\"\",IF(②選手情報入力!T121=\"\",\"\",IF(G112=1,IF(②選手情報入力!$T$6=\"\",0,1),IF(②選手情報入力!$T$7=\"\",0,1))))","v":""},{"$f":"IF(E112=\"\",\"\",IF(②選手情報入力!T121=\"\",\"\",2))","v":""},"",{"$f":"IF(E112=\"\",\"\",IF(②選手情報入力!V121=\"\",\"\",IF(G112=1,IF(②選手情報入力!$W$6=\"\",\"\",②選手情報入力!$W$6),IF(②選手情報入力!$W$7=\"\",\"\",②選手情報入力!$W$7))))","v":""},{"$f":"IF(E112=\"\",\"\",IF(②選手情報入力!V121=\"\",\"\",IF(G112=1,IF(②選手情報入力!$V$6=\"\",0,1),IF(②選手情報入力!$V$7=\"\",0,1))))","v":""},{"$f":"IF(E112=\"\",\"\",IF(②選手情報入力!V121=\"\",\"\",2))","v":""}]
[{"$f":"IF(E113=\"\",\"\",data_kyogisha!A113)","v":""},{"$f":"IF(E113=\"\",\"\",①団体情報入力!$C$5)","v":""},{"$f":"IF(A113=\"\",\"\",VLOOKUP(B113,Sheet6!C:D,2,0))","v":""},null,{"$f":"IF(②選手情報入力!C122=\"\",\"\",②選手情報入力!C122)","v":""},{"$f":"IF(E113=\"\",\"\",②選手情報入力!D122)","v":""},{"$f":"IF(E113=\"\",\"\",IF(②選手情報入力!I122=\"男\",1,2))","v":""},{"$f":"IF(E113=\"\",\"\",VLOOKUP(data_kyogisha!Q113,Sheet3!A:G,2,0))","v":""},{"$f":"IF(E113=\"\",\"\",IF(②選手情報入力!M122=\"\",\"\",②選手情報入力!M122))","v":""},{"$f":"IF(E113=\"\",\"\",②選手情報入力!N122)","v":""},{"$f":"IF(E113=\"\",\"\",VLOOKUP(data_kyogisha!U113,Sheet3!A:G,2,0))","v":""},{"$f":"IF(E113=\"\",\"\",IF(②選手情報入力!P122=\"\",\"\",②選手情報入力!P122))","v":""},{"$f":"IF(E113=\"\",\"\",②選手情報入力!Q122)","v":""},"",{"$f":"IF(E113=\"\",\"\",IF(②選手情報入力!S122=\"\",\"\",②選手情報入力!S122))","v":""},"","",{"$f":"IF(E113=\"\",\"\",IF(②選手情報入力!T122=\"\",\"\",IF(G113=1,IF(②選手情報入力!$U$6=\"\",\"\",②選手情報入力!$U$6),IF(②選手情報入力!$U$7=\"\",\"\",②選手情報入力!$U$7))))","v":""},{"$f":"IF(E113=\"\",\"\",IF(②選手情報入力!T122=\"\",\"\",IF(G113=1,IF(②選手情報入力!$T$6=\"\",0,1),IF(②選手情報入力!$T$7=\"\",0,1))))","v":""},{"$f":"IF(E113=\"\",\"\",IF(②選手情報入力!T122=\"\",\"\",2))","v":""},"",{"$f":"IF(E113=\"\",\"\",IF(②選手情報入力!V122=\"\",\"\",IF(G113=1,IF(②選手情報入力!$W$6=\"\",\"\",②選手情報入力!$W$6),IF(②選手情報入力!$W$7=\"\",\"\",②選手情報入力!$W$7))))","v":""},{"$f":"IF(E113=\"\",\"\",IF(②選手情報入力!V122=\"\",\"\",IF(G113=1,IF(②選手情報入力!$V$6=\"\",0,1),IF(②選手情報入力!$V$7=\"\",0,1))))","v":""},{"$f":"IF(E113=\"\",\"\",IF(②選手情報入力!V122=\"\",\"\",2))","v":""}]
[{"$f":"IF(E114=\"\",\"\",data_kyogisha!A114)","v":""},{"$f":"IF(E114=\"\",\"\",①団体情報入力!$C$5)","v":""},{"$f":"IF(A114=\"\",\"\",VLOOKUP(B114,Sheet6!C:D,2,0))","v":""},null,{"$f":"IF(②選手情報入力!C123=\"\",\"\",②選手情報入力!C123)","v":""},{"$f":"IF(E114=\"\",\"\",②選手情報入力!D123)","v":""},{"$f":"IF(E114=\"\",\"\",IF(②選手情報入力!I123=\"男\",1,2))","v":""},{"$f":"IF(E114=\"\",\"\",VLOOKUP(data_kyogisha!Q114,Sheet3!A:G,2,0))","v":""},{"$f":"IF(E114=\"\",\"\",IF(②選手情報入力!M123=\"\",\"\",②選手情報入力!M123))","v":""},{"$f":"IF(E114=\"\",\"\",②選手情報入力!N123)","v":""},{"$f":"IF(E114=\"\",\"\",VLOOKUP(data_kyogisha!U114,Sheet3!A:G,2,0))","v":""},{"$f":"IF(E114=\"\",\"\",IF(②選手情報入力!P123=\"\",\"\",②選手情報入力!P123))","v":""},{"$f":"IF(E114=\"\",\"\",②選手情報入力!Q123)","v":""},"",{"$f":"IF(E114=\"\",\"\",IF(②選手情報入力!S123=\"\",\"\",②選手情報入力!S123))","v":""},"","",{"$f":"IF(E114=\"\",\"\",IF(②選手情報入力!T123=\"\",\"\",IF(G114=1,IF(②選手情報入力!$U$6=\"\",\"\",②選手情報入力!$U$6),IF(②選手情報入力!$U$7=\"\",\"\",②選手情報入力!$U$7))))","v":""},{"$f":"IF(E114=\"\",\"\",IF(②選手情報入力!T123=\"\",\"\",IF(G114=1,IF(②選手情報入力!$T$6=\"\",0,1),IF(②選手情報入力!$T$7=\"\",0,1))))","v":""},{"$f":"IF(E114=\"\",\"\",IF(②選手情報入力!T123=\"\",\"\",2))","v":""},"",{"$f":"IF(E114=\"\",\"\",IF(②選手情報入力!V123=\"\",\"\",IF(G114=1,IF(②選手情報入力!$W$6=\"\",\"\",②選手情報入力!$W$6),IF(②選手情報入力!$W$7=\"\",\"\",②選手情報入力!$W$7))))","v":""},{"$f":"IF(E114=\"\",\"\",IF(②選手情報入力!V123=\"\",\"\",IF(G114=1,IF(②選手情報入力!$V$6=\"\",0,1),IF(②選手情報入力!$V$7=\"\",0,1))))","v":""},{"$f":"IF(E114=\"\",\"\",IF(②選手情報入力!V123=\"\",\"\",2))","v":""}]
[{"$f":"IF(E115=\"\",\"\",data_kyogisha!A115)","v":""},{"$f":"IF(E115=\"\",\"\",①団体情報入力!$C$5)","v":""},{"$f":"IF(A115=\"\",\"\",VLOOKUP(B115,Sheet6!C:D,2,0))","v":""},null,{"$f":"IF(②選手情報入力!C124=\"\",\"\",②選手情報入力!C124)","v":""},{"$f":"IF(E115=\"\",\"\",②選手情報入力!D124)","v":""},{"$f":"IF(E115=\"\",\"\",IF(②選手情報入力!I124=\"男\",1,2))","v":""},{"$f":"IF(E115=\"\",\"\",VLOOKUP(data_kyogisha!Q115,Sheet3!A:G,2,0))","v":""},{"$f":"IF(E115=\"\",\"\",IF(②選手情報入力!M124=\"\",\"\",②選手情報入力!M124))","v":""},{"$f":"IF(E115=\"\",\"\",②選手情報入力!N124)","v":""},{"$f":"IF(E115=\"\",\"\",VLOOKUP(data_kyogisha!U115,Sheet3!A:G,2,0))","v":""},{"$f":"IF(E115=\"\",\"\",IF(②選手情報入力!P124=\"\",\"\",②選手情報入力!P124))","v":""},{"$f":"IF(E115=\"\",\"\",②選手情報入力!Q124)","v":""},"",{"$f":"IF(E115=\"\",\"\",IF(②選手情報入力!S124=\"\",\"\",②選手情報入力!S124))","v":""},"","",{"$f":"IF(E115=\"\",\"\",IF(②選手情報入力!T124=\"\",\"\",IF(G115=1,IF(②選手情報入力!$U$6=\"\",\"\",②選手情報入力!$U$6),IF(②選手情報入力!$U$7=\"\",\"\",②選手情報入力!$U$7))))","v":""},{"$f":"IF(E115=\"\",\"\",IF(②選手情報入力!T124=\"\",\"\",IF(G115=1,IF(②選手情報入力!$T$6=\"\",0,1),IF(②選手情報入力!$T$7=\"\",0,1))))","v":""},{"$f":"IF(E115=\"\",\"\",IF(②選手情報入力!T124=\"\",\"\",2))","v":""},"",{"$f":"IF(E115=\"\",\"\",IF(②選手情報入力!V124=\"\",\"\",IF(G115=1,IF(②選手情報入力!$W$6=\"\",\"\",②選手情報入力!$W$6),IF(②選手情報入力!$W$7=\"\",\"\",②選手情報入力!$W$7))))","v":""},{"$f":"IF(E115=\"\",\"\",IF(②選手情報入力!V124=\"\",\"\",IF(G115=1,IF(②選手情報入力!$V$6=\"\",0,1),IF(②選手情報入力!$V$7=\"\",0,1))))","v":""},{"$f":"IF(E115=\"\",\"\",IF(②選手情報入力!V124=\"\",\"\",2))","v":""}]
[{"$f":"IF(E116=\"\",\"\",data_kyogisha!A116)","v":""},{"$f":"IF(E116=\"\",\"\",①団体情報入力!$C$5)","v":""},{"$f":"IF(A116=\"\",\"\",VLOOKUP(B116,Sheet6!C:D,2,0))","v":""},null,{"$f":"IF(②選手情報入力!C125=\"\",\"\",②選手情報入力!C125)","v":""},{"$f":"IF(E116=\"\",\"\",②選手情報入力!D125)","v":""},{"$f":"IF(E116=\"\",\"\",IF(②選手情報入力!I125=\"男\",1,2))","v":""},{"$f":"IF(E116=\"\",\"\",VLOOKUP(data_kyogisha!Q116,Sheet3!A:G,2,0))","v":""},{"$f":"IF(E116=\"\",\"\",IF(②選手情報入力!M125=\"\",\"\",②選手情報入力!M125))","v":""},{"$f":"IF(E116=\"\",\"\",②選手情報入力!N125)","v":""},{"$f":"IF(E116=\"\",\"\",VLOOKUP(data_kyogisha!U116,Sheet3!A:G,2,0))","v":""},{"$f":"IF(E116=\"\",\"\",IF(②選手情報入力!P125=\"\",\"\",②選手情報入力!P125))","v":""},{"$f":"IF(E116=\"\",\"\",②選手情報入力!Q125)","v":""},"",{"$f":"IF(E116=\"\",\"\",IF(②選手情報入力!S125=\"\",\"\",②選手情報入力!S125))","v":""},"","",{"$f":"IF(E116=\"\",\"\",IF(②選手情報入力!T125=\"\",\"\",IF(G116=1,IF(②選手情報入力!$U$6=\"\",\"\",②選手情報入力!$U$6),IF(②選手情報入力!$U$7=\"\",\"\",②選手情報入力!$U$7))))","v":""},{"$f":"IF(E116=\"\",\"\",IF(②選手情報入力!T125=\"\",\"\",IF(G116=1,IF(②選手情報入力!$T$6=\"\",0,1),IF(②選手情報入力!$T$7=\"\",0,1))))","v":""},{"$f":"IF(E116=\"\",\"\",IF(②選手情報入力!T125=\"\",\"\",2))","v":""},"",{"$f":"IF(E116=\"\",\"\",IF(②選手情報入力!V125=\"\",\"\",IF(G116=1,IF(②選手情報入力!$W$6=\"\",\"\",②選手情報入力!$W$6),IF(②選手情報入力!$W$7=\"\",\"\",②選手情報入力!$W$7))))","v":""},{"$f":"IF(E116=\"\",\"\",IF(②選手情報入力!V125=\"\",\"\",IF(G116=1,IF(②選手情報入力!$V$6=\"\",0,1),IF(②選手情報入力!$V$7=\"\",0,1))))","v":""},{"$f":"IF(E116=\"\",\"\",IF(②選手情報入力!V125=\"\",\"\",2))","v":""}]
[{"$f":"IF(E117=\"\",\"\",data_kyogisha!A117)","v":""},{"$f":"IF(E117=\"\",\"\",①団体情報入力!$C$5)","v":""},{"$f":"IF(A117=\"\",\"\",VLOOKUP(B117,Sheet6!C:D,2,0))","v":""},null,{"$f":"IF(②選手情報入力!C126=\"\",\"\",②選手情報入力!C126)","v":""},{"$f":"IF(E117=\"\",\"\",②選手情報入力!D126)","v":""},{"$f":"IF(E117=\"\",\"\",IF(②選手情報入力!I126=\"男\",1,2))","v":""},{"$f":"IF(E117=\"\",\"\",VLOOKUP(data_kyogisha!Q117,Sheet3!A:G,2,0))","v":""},{"$f":"IF(E117=\"\",\"\",IF(②選手情報入力!M126=\"\",\"\",②選手情報入力!M126))","v":""},{"$f":"IF(E117=\"\",\"\",②選手情報入力!N126)","v":""},{"$f":"IF(E117=\"\",\"\",VLOOKUP(data_kyogisha!U117,Sheet3!A:G,2,0))","v":""},{"$f":"IF(E117=\"\",\"\",IF(②選手情報入力!P126=\"\",\"\",②選手情報入力!P126))","v":""},{"$f":"IF(E117=\"\",\"\",②選手情報入力!Q126)","v":""},"",{"$f":"IF(E117=\"\",\"\",IF(②選手情報入力!S126=\"\",\"\",②選手情報入力!S126))","v":""},"","",{"$f":"IF(E117=\"\",\"\",IF(②選手情報入力!T126=\"\",\"\",IF(G117=1,IF(②選手情報入力!$U$6=\"\",\"\",②選手情報入力!$U$6),IF(②選手情報入力!$U$7=\"\",\"\",②選手情報入力!$U$7))))","v":""},{"$f":"IF(E117=\"\",\"\",IF(②選手情報入力!T126=\"\",\"\",IF(G117=1,IF(②選手情報入力!$T$6=\"\",0,1),IF(②選手情報入力!$T$7=\"\",0,1))))","v":""},{"$f":"IF(E117=\"\",\"\",IF(②選手情報入力!T126=\"\",\"\",2))","v":""},"",{"$f":"IF(E117=\"\",\"\",IF(②選手情報入力!V126=\"\",\"\",IF(G117=1,IF(②選手情報入力!$W$6=\"\",\"\",②選手情報入力!$W$6),IF(②選手情報入力!$W$7=\"\",\"\",②選手情報入力!$W$7))))","v":""},{"$f":"IF(E117=\"\",\"\",IF(②選手情報入力!V126=\"\",\"\",IF(G117=1,IF(②選手情報入力!$V$6=\"\",0,1),IF(②選手情報入力!$V$7=\"\",0,1))))","v":""},{"$f":"IF(E117=\"\",\"\",IF(②選手情報入力!V126=\"\",\"\",2))","v":""}]
[{"$f":"IF(E118=\"\",\"\",data_kyogisha!A118)","v":""},{"$f":"IF(E118=\"\",\"\",①団体情報入力!$C$5)","v":""},{"$f":"IF(A118=\"\",\"\",VLOOKUP(B118,Sheet6!C:D,2,0))","v":""},null,{"$f":"IF(②選手情報入力!C127=\"\",\"\",②選手情報入力!C127)","v":""},{"$f":"IF(E118=\"\",\"\",②選手情報入力!D127)","v":""},{"$f":"IF(E118=\"\",\"\",IF(②選手情報入力!I127=\"男\",1,2))","v":""},{"$f":"IF(E118=\"\",\"\",VLOOKUP(data_kyogisha!Q118,Sheet3!A:G,2,0))","v":""},{"$f":"IF(E118=\"\",\"\",IF(②選手情報入力!M127=\"\",\"\",②選手情報入力!M127))","v":""},{"$f":"IF(E118=\"\",\"\",②選手情報入力!N127)","v":""},{"$f":"IF(E118=\"\",\"\",VLOOKUP(data_kyogisha!U118,Sheet3!A:G,2,0))","v":""},{"$f":"IF(E118=\"\",\"\",IF(②選手情報入力!P127=\"\",\"\",②選手情報入力!P127))","v":""},{"$f":"IF(E118=\"\",\"\",②選手情報入力!Q127)","v":""},"",{"$f":"IF(E118=\"\",\"\",IF(②選手情報入力!S127=\"\",\"\",②選手情報入力!S127))","v":""},"","",{"$f":"IF(E118=\"\",\"\",IF(②選手情報入力!T127=\"\",\"\",IF(G118=1,IF(②選手情報入力!$U$6=\"\",\"\",②選手情報入力!$U$6),IF(②選手情報入力!$U$7=\"\",\"\",②選手情報入力!$U$7))))","v":""},{"$f":"IF(E118=\"\",\"\",IF(②選手情報入力!T127=\"\",\"\",IF(G118=1,IF(②選手情報入力!$T$6=\"\",0,1),IF(②選手情報入力!$T$7=\"\",0,1))))","v":""},{"$f":"IF(E118=\"\",\"\",IF(②選手情報入力!T127=\"\",\"\",2))","v":""},"",{"$f":"IF(E118=\"\",\"\",IF(②選手情報入力!V127=\"\",\"\",IF(G118=1,IF(②選手情報入力!$W$6=\"\",\"\",②選手情報入力!$W$6),IF(②選手情報入力!$W$7=\"\",\"\",②選手情報入力!$W$7))))","v":""},{"$f":"IF(E118=\"\",\"\",IF(②選手情報入力!V127=\"\",\"\",IF(G118=1,IF(②選手情報入力!$V$6=\"\",0,1),IF(②選手情報入力!$V$7=\"\",0,1))))","v":""},{"$f":"IF(E118=\"\",\"\",IF(②選手情報入力!V127=\"\",\"\",2))","v":""}]
[{"$f":"IF(E119=\"\",\"\",data_kyogisha!A119)","v":""},{"$f":"IF(E119=\"\",\"\",①団体情報入力!$C$5)","v":""},{"$f":"IF(A119=\"\",\"\",VLOOKUP(B119,Sheet6!C:D,2,0))","v":""},null,{"$f":"IF(②選手情報入力!C128=\"\",\"\",②選手情報入力!C128)","v":""},{"$f":"IF(E119=\"\",\"\",②選手情報入力!D128)","v":""},{"$f":"IF(E119=\"\",\"\",IF(②選手情報入力!I128=\"男\",1,2))","v":""},{"$f":"IF(E119=\"\",\"\",VLOOKUP(data_kyogisha!Q119,Sheet3!A:G,2,0))","v":""},{"$f":"IF(E119=\"\",\"\",IF(②選手情報入力!M128=\"\",\"\",②選手情報入力!M128))","v":""},{"$f":"IF(E119=\"\",\"\",②選手情報入力!N128)","v":""},{"$f":"IF(E119=\"\",\"\",VLOOKUP(data_kyogisha!U119,Sheet3!A:G,2,0))","v":""},{"$f":"IF(E119=\"\",\"\",IF(②選手情報入力!P128=\"\",\"\",②選手情報入力!P128))","v":""},{"$f":"IF(E119=\"\",\"\",②選手情報入力!Q128)","v":""},"",{"$f":"IF(E119=\"\",\"\",IF(②選手情報入力!S128=\"\",\"\",②選手情報入力!S128))","v":""},"","",{"$f":"IF(E119=\"\",\"\",IF(②選手情報入力!T128=\"\",\"\",IF(G119=1,IF(②選手情報入力!$U$6=\"\",\"\",②選手情報入力!$U$6),IF(②選手情報入力!$U$7=\"\",\"\",②選手情報入力!$U$7))))","v":""},{"$f":"IF(E119=\"\",\"\",IF(②選手情報入力!T128=\"\",\"\",IF(G119=1,IF(②選手情報入力!$T$6=\"\",0,1),IF(②選手情報入力!$T$7=\"\",0,1))))","v":""},{"$f":"IF(E119=\"\",\"\",IF(②選手情報入力!T128=\"\",\"\",2))","v":""},"",{"$f":"IF(E119=\"\",\"\",IF(②選手情報入力!V128=\"\",\"\",IF(G119=1,IF(②選手情報入力!$W$6=\"\",\"\",②選手情報入力!$W$6),IF(②選手情報入力!$W$7=\"\",\"\",②選手情報入力!$W$7))))","v":""},{"$f":"IF(E119=\"\",\"\",IF(②選手情報入力!V128=\"\",\"\",IF(G119=1,IF(②選手情報入力!$V$6=\"\",0,1),IF(②選手情報入力!$V$7=\"\",0,1))))","v":""},{"$f":"IF(E119=\"\",\"\",IF(②選手情報入力!V128=\"\",\"\",2))","v":""}]
[{"$f":"IF(E120=\"\",\"\",data_kyogisha!A120)","v":""},{"$f":"IF(E120=\"\",\"\",①団体情報入力!$C$5)","v":""},{"$f":"IF(A120=\"\",\"\",VLOOKUP(B120,Sheet6!C:D,2,0))","v":""},null,{"$f":"IF(②選手情報入力!C129=\"\",\"\",②選手情報入力!C129)","v":""},{"$f":"IF(E120=\"\",\"\",②選手情報入力!D129)","v":""},{"$f":"IF(E120=\"\",\"\",IF(②選手情報入力!I129=\"男\",1,2))","v":""},{"$f":"IF(E120=\"\",\"\",VLOOKUP(data_kyogisha!Q120,Sheet3!A:G,2,0))","v":""},{"$f":"IF(E120=\"\",\"\",IF(②選手情報入力!M129=\"\",\"\",②選手情報入力!M129))","v":""},{"$f":"IF(E120=\"\",\"\",②選手情報入力!N129)","v":""},{"$f":"IF(E120=\"\",\"\",VLOOKUP(data_kyogisha!U120,Sheet3!A:G,2,0))","v":""},{"$f":"IF(E120=\"\",\"\",IF(②選手情報入力!P129=\"\",\"\",②選手情報入力!P129))","v":""},{"$f":"IF(E120=\"\",\"\",②選手情報入力!Q129)","v":""},"",{"$f":"IF(E120=\"\",\"\",IF(②選手情報入力!S129=\"\",\"\",②選手情報入力!S129))","v":""},"","",{"$f":"IF(E120=\"\",\"\",IF(②選手情報入力!T129=\"\",\"\",IF(G120=1,IF(②選手情報入力!$U$6=\"\",\"\",②選手情報入力!$U$6),IF(②選手情報入力!$U$7=\"\",\"\",②選手情報入力!$U$7))))","v":""},{"$f":"IF(E120=\"\",\"\",IF(②選手情報入力!T129=\"\",\"\",IF(G120=1,IF(②選手情報入力!$T$6=\"\",0,1),IF(②選手情報入力!$T$7=\"\",0,1))))","v":""},{"$f":"IF(E120=\"\",\"\",IF(②選手情報入力!T129=\"\",\"\",2))","v":""},"",{"$f":"IF(E120=\"\",\"\",IF(②選手情報入力!V129=\"\",\"\",IF(G120=1,IF(②選手情報入力!$W$6=\"\",\"\",②選手情報入力!$W$6),IF(②選手情報入力!$W$7=\"\",\"\",②選手情報入力!$W$7))))","v":""},{"$f":"IF(E120=\"\",\"\",IF(②選手情報入力!V129=\"\",\"\",IF(G120=1,IF(②選手情報入力!$V$6=\"\",0,1),IF(②選手情報入力!$V$7=\"\",0,1))))","v":""},{"$f":"IF(E120=\"\",\"\",IF(②選手情報入力!V129=\"\",\"\",2))","v":""}]
[{"$f":"IF(E121=\"\",\"\",data_kyogisha!A121)","v":""},{"$f":"IF(E121=\"\",\"\",①団体情報入力!$C$5)","v":""},{"$f":"IF(A121=\"\",\"\",VLOOKUP(B121,Sheet6!C:D,2,0))","v":""},null,{"$f":"IF(②選手情報入力!C130=\"\",\"\",②選手情報入力!C130)","v":""},{"$f":"IF(E121=\"\",\"\",②選手情報入力!D130)","v":""},{"$f":"IF(E121=\"\",\"\",IF(②選手情報入力!I130=\"男\",1,2))","v":""},{"$f":"IF(E121=\"\",\"\",VLOOKUP(data_kyogisha!Q121,Sheet3!A:G,2,0))","v":""},{"$f":"IF(E121=\"\",\"\",IF(②選手情報入力!M130=\"\",\"\",②選手情報入力!M130))","v":""},{"$f":"IF(E121=\"\",\"\",②選手情報入力!N130)","v":""},{"$f":"IF(E121=\"\",\"\",VLOOKUP(data_kyogisha!U121,Sheet3!A:G,2,0))","v":""},{"$f":"IF(E121=\"\",\"\",IF(②選手情報入力!P130=\"\",\"\",②選手情報入力!P130))","v":""},{"$f":"IF(E121=\"\",\"\",②選手情報入力!Q130)","v":""},"",{"$f":"IF(E121=\"\",\"\",IF(②選手情報入力!S130=\"\",\"\",②選手情報入力!S130))","v":""},"","",{"$f":"IF(E121=\"\",\"\",IF(②選手情報入力!T130=\"\",\"\",IF(G121=1,IF(②選手情報入力!$U$6=\"\",\"\",②選手情報入力!$U$6),IF(②選手情報入力!$U$7=\"\",\"\",②選手情報入力!$U$7))))","v":""},{"$f":"IF(E121=\"\",\"\",IF(②選手情報入力!T130=\"\",\"\",IF(G121=1,IF(②選手情報入力!$T$6=\"\",0,1),IF(②選手情報入力!$T$7=\"\",0,1))))","v":""},{"$f":"IF(E121=\"\",\"\",IF(②選手情報入力!T130=\"\",\"\",2))","v":""},"",{"$f":"IF(E121=\"\",\"\",IF(②選手情報入力!V130=\"\",\"\",IF(G121=1,IF(②選手情報入力!$W$6=\"\",\"\",②選手情報入力!$W$6),IF(②選手情報入力!$W$7=\"\",\"\",②選手情報入力!$W$7))))","v":""},{"$f":"IF(E121=\"\",\"\",IF(②選手情報入力!V130=\"\",\"\",IF(G121=1,IF(②選手情報入力!$V$6=\"\",0,1),IF(②選手情報入力!$V$7=\"\",0,1))))","v":""},{"$f":"IF(E121=\"\",\"\",IF(②選手情報入力!V130=\"\",\"\",2))","v":""}]
[{"$f":"IF(E122=\"\",\"\",data_kyogisha!A122)","v":""},{"$f":"IF(E122=\"\",\"\",①団体情報入力!$C$5)","v":""},{"$f":"IF(A122=\"\",\"\",VLOOKUP(B122,Sheet6!C:D,2,0))","v":""},null,{"$f":"IF(②選手情報入力!C131=\"\",\"\",②選手情報入力!C131)","v":""},{"$f":"IF(E122=\"\",\"\",②選手情報入力!D131)","v":""},{"$f":"IF(E122=\"\",\"\",IF(②選手情報入力!I131=\"男\",1,2))","v":""},{"$f":"IF(E122=\"\",\"\",VLOOKUP(data_kyogisha!Q122,Sheet3!A:G,2,0))","v":""},{"$f":"IF(E122=\"\",\"\",IF(②選手情報入力!M131=\"\",\"\",②選手情報入力!M131))","v":""},{"$f":"IF(E122=\"\",\"\",②選手情報入力!N131)","v":""},{"$f":"IF(E122=\"\",\"\",VLOOKUP(data_kyogisha!U122,Sheet3!A:G,2,0))","v":""},{"$f":"IF(E122=\"\",\"\",IF(②選手情報入力!P131=\"\",\"\",②選手情報入力!P131))","v":""},{"$f":"IF(E122=\"\",\"\",②選手情報入力!Q131)","v":""},"",{"$f":"IF(E122=\"\",\"\",IF(②選手情報入力!S131=\"\",\"\",②選手情報入力!S131))","v":""},"","",{"$f":"IF(E122=\"\",\"\",IF(②選手情報入力!T131=\"\",\"\",IF(G122=1,IF(②選手情報入力!$U$6=\"\",\"\",②選手情報入力!$U$6),IF(②選手情報入力!$U$7=\"\",\"\",②選手情報入力!$U$7))))","v":""},{"$f":"IF(E122=\"\",\"\",IF(②選手情報入力!T131=\"\",\"\",IF(G122=1,IF(②選手情報入力!$T$6=\"\",0,1),IF(②選手情報入力!$T$7=\"\",0,1))))","v":""},{"$f":"IF(E122=\"\",\"\",IF(②選手情報入力!T131=\"\",\"\",2))","v":""},"",{"$f":"IF(E122=\"\",\"\",IF(②選手情報入力!V131=\"\",\"\",IF(G122=1,IF(②選手情報入力!$W$6=\"\",\"\",②選手情報入力!$W$6),IF(②選手情報入力!$W$7=\"\",\"\",②選手情報入力!$W$7))))","v":""},{"$f":"IF(E122=\"\",\"\",IF(②選手情報入力!V131=\"\",\"\",IF(G122=1,IF(②選手情報入力!$V$6=\"\",0,1),IF(②選手情報入力!$V$7=\"\",0,1))))","v":""},{"$f":"IF(E122=\"\",\"\",IF(②選手情報入力!V131=\"\",\"\",2))","v":""}]
[{"$f":"IF(E123=\"\",\"\",data_kyogisha!A123)","v":""},{"$f":"IF(E123=\"\",\"\",①団体情報入力!$C$5)","v":""},{"$f":"IF(A123=\"\",\"\",VLOOKUP(B123,Sheet6!C:D,2,0))","v":""},null,{"$f":"IF(②選手情報入力!C132=\"\",\"\",②選手情報入力!C132)","v":""},{"$f":"IF(E123=\"\",\"\",②選手情報入力!D132)","v":""},{"$f":"IF(E123=\"\",\"\",IF(②選手情報入力!I132=\"男\",1,2))","v":""},{"$f":"IF(E123=\"\",\"\",VLOOKUP(data_kyogisha!Q123,Sheet3!A:G,2,0))","v":""},{"$f":"IF(E123=\"\",\"\",IF(②選手情報入力!M132=\"\",\"\",②選手情報入力!M132))","v":""},{"$f":"IF(E123=\"\",\"\",②選手情報入力!N132)","v":""},{"$f":"IF(E123=\"\",\"\",VLOOKUP(data_kyogisha!U123,Sheet3!A:G,2,0))","v":""},{"$f":"IF(E123=\"\",\"\",IF(②選手情報入力!P132=\"\",\"\",②選手情報入力!P132))","v":""},{"$f":"IF(E123=\"\",\"\",②選手情報入力!Q132)","v":""},"",{"$f":"IF(E123=\"\",\"\",IF(②選手情報入力!S132=\"\",\"\",②選手情報入力!S132))","v":""},"","",{"$f":"IF(E123=\"\",\"\",IF(②選手情報入力!T132=\"\",\"\",IF(G123=1,IF(②選手情報入力!$U$6=\"\",\"\",②選手情報入力!$U$6),IF(②選手情報入力!$U$7=\"\",\"\",②選手情報入力!$U$7))))","v":""},{"$f":"IF(E123=\"\",\"\",IF(②選手情報入力!T132=\"\",\"\",IF(G123=1,IF(②選手情報入力!$T$6=\"\",0,1),IF(②選手情報入力!$T$7=\"\",0,1))))","v":""},{"$f":"IF(E123=\"\",\"\",IF(②選手情報入力!T132=\"\",\"\",2))","v":""},"",{"$f":"IF(E123=\"\",\"\",IF(②選手情報入力!V132=\"\",\"\",IF(G123=1,IF(②選手情報入力!$W$6=\"\",\"\",②選手情報入力!$W$6),IF(②選手情報入力!$W$7=\"\",\"\",②選手情報入力!$W$7))))","v":""},{"$f":"IF(E123=\"\",\"\",IF(②選手情報入力!V132=\"\",\"\",IF(G123=1,IF(②選手情報入力!$V$6=\"\",0,1),IF(②選手情報入力!$V$7=\"\",0,1))))","v":""},{"$f":"IF(E123=\"\",\"\",IF(②選手情報入力!V132=\"\",\"\",2))","v":""}]
[{"$f":"IF(E124=\"\",\"\",data_kyogisha!A124)","v":""},{"$f":"IF(E124=\"\",\"\",①団体情報入力!$C$5)","v":""},{"$f":"IF(A124=\"\",\"\",VLOOKUP(B124,Sheet6!C:D,2,0))","v":""},null,{"$f":"IF(②選手情報入力!C133=\"\",\"\",②選手情報入力!C133)","v":""},{"$f":"IF(E124=\"\",\"\",②選手情報入力!D133)","v":""},{"$f":"IF(E124=\"\",\"\",IF(②選手情報入力!I133=\"男\",1,2))","v":""},{"$f":"IF(E124=\"\",\"\",VLOOKUP(data_kyogisha!Q124,Sheet3!A:G,2,0))","v":""},{"$f":"IF(E124=\"\",\"\",IF(②選手情報入力!M133=\"\",\"\",②選手情報入力!M133))","v":""},{"$f":"IF(E124=\"\",\"\",②選手情報入力!N133)","v":""},{"$f":"IF(E124=\"\",\"\",VLOOKUP(data_kyogisha!U124,Sheet3!A:G,2,0))","v":""},{"$f":"IF(E124=\"\",\"\",IF(②選手情報入力!P133=\"\",\"\",②選手情報入力!P133))","v":""},{"$f":"IF(E124=\"\",\"\",②選手情報入力!Q133)","v":""},"",{"$f":"IF(E124=\"\",\"\",IF(②選手情報入力!S133=\"\",\"\",②選手情報入力!S133))","v":""},"","",{"$f":"IF(E124=\"\",\"\",IF(②選手情報入力!T133=\"\",\"\",IF(G124=1,IF(②選手情報入力!$U$6=\"\",\"\",②選手情報入力!$U$6),IF(②選手情報入力!$U$7=\"\",\"\",②選手情報入力!$U$7))))","v":""},{"$f":"IF(E124=\"\",\"\",IF(②選手情報入力!T133=\"\",\"\",IF(G124=1,IF(②選手情報入力!$T$6=\"\",0,1),IF(②選手情報入力!$T$7=\"\",0,1))))","v":""},{"$f":"IF(E124=\"\",\"\",IF(②選手情報入力!T133=\"\",\"\",2))","v":""},"",{"$f":"IF(E124=\"\",\"\",IF(②選手情報入力!V133=\"\",\"\",IF(G124=1,IF(②選手情報入力!$W$6=\"\",\"\",②選手情報入力!$W$6),IF(②選手情報入力!$W$7=\"\",\"\",②選手情報入力!$W$7))))","v":""},{"$f":"IF(E124=\"\",\"\",IF(②選手情報入力!V133=\"\",\"\",IF(G124=1,IF(②選手情報入力!$V$6=\"\",0,1),IF(②選手情報入力!$V$7=\"\",0,1))))","v":""},{"$f":"IF(E124=\"\",\"\",IF(②選手情報入力!V133=\"\",\"\",2))","v":""}]
[{"$f":"IF(E125=\"\",\"\",data_kyogisha!A125)","v":""},{"$f":"IF(E125=\"\",\"\",①団体情報入力!$C$5)","v":""},{"$f":"IF(A125=\"\",\"\",VLOOKUP(B125,Sheet6!C:D,2,0))","v":""},null,{"$f":"IF(②選手情報入力!C134=\"\",\"\",②選手情報入力!C134)","v":""},{"$f":"IF(E125=\"\",\"\",②選手情報入力!D134)","v":""},{"$f":"IF(E125=\"\",\"\",IF(②選手情報入力!I134=\"男\",1,2))","v":""},{"$f":"IF(E125=\"\",\"\",VLOOKUP(data_kyogisha!Q125,Sheet3!A:G,2,0))","v":""},{"$f":"IF(E125=\"\",\"\",IF(②選手情報入力!M134=\"\",\"\",②選手情報入力!M134))","v":""},{"$f":"IF(E125=\"\",\"\",②選手情報入力!N134)","v":""},{"$f":"IF(E125=\"\",\"\",VLOOKUP(data_kyogisha!U125,Sheet3!A:G,2,0))","v":""},{"$f":"IF(E125=\"\",\"\",IF(②選手情報入力!P134=\"\",\"\",②選手情報入力!P134))","v":""},{"$f":"IF(E125=\"\",\"\",②選手情報入力!Q134)","v":""},"",{"$f":"IF(E125=\"\",\"\",IF(②選手情報入力!S134=\"\",\"\",②選手情報入力!S134))","v":""},"","",{"$f":"IF(E125=\"\",\"\",IF(②選手情報入力!T134=\"\",\"\",IF(G125=1,IF(②選手情報入力!$U$6=\"\",\"\",②選手情報入力!$U$6),IF(②選手情報入力!$U$7=\"\",\"\",②選手情報入力!$U$7))))","v":""},{"$f":"IF(E125=\"\",\"\",IF(②選手情報入力!T134=\"\",\"\",IF(G125=1,IF(②選手情報入力!$T$6=\"\",0,1),IF(②選手情報入力!$T$7=\"\",0,1))))","v":""},{"$f":"IF(E125=\"\",\"\",IF(②選手情報入力!T134=\"\",\"\",2))","v":""},"",{"$f":"IF(E125=\"\",\"\",IF(②選手情報入力!V134=\"\",\"\",IF(G125=1,IF(②選手情報入力!$W$6=\"\",\"\",②選手情報入力!$W$6),IF(②選手情報入力!$W$7=\"\",\"\",②選手情報入力!$W$7))))","v":""},{"$f":"IF(E125=\"\",\"\",IF(②選手情報入力!V134=\"\",\"\",IF(G125=1,IF(②選手情報入力!$V$6=\"\",0,1),IF(②選手情報入力!$V$7=\"\",0,1))))","v":""},{"$f":"IF(E125=\"\",\"\",IF(②選手情報入力!V134=\"\",\"\",2))","v":""}]
[{"$f":"IF(E126=\"\",\"\",data_kyogisha!A126)","v":""},{"$f":"IF(E126=\"\",\"\",①団体情報入力!$C$5)","v":""},{"$f":"IF(A126=\"\",\"\",VLOOKUP(B126,Sheet6!C:D,2,0))","v":""},null,{"$f":"IF(②選手情報入力!C135=\"\",\"\",②選手情報入力!C135)","v":""},{"$f":"IF(E126=\"\",\"\",②選手情報入力!D135)","v":""},{"$f":"IF(E126=\"\",\"\",IF(②選手情報入力!I135=\"男\",1,2))","v":""},{"$f":"IF(E126=\"\",\"\",VLOOKUP(data_kyogisha!Q126,Sheet3!A:G,2,0))","v":""},{"$f":"IF(E126=\"\",\"\",IF(②選手情報入力!M135=\"\",\"\",②選手情報入力!M135))","v":""},{"$f":"IF(E126=\"\",\"\",②選手情報入力!N135)","v":""},{"$f":"IF(E126=\"\",\"\",VLOOKUP(data_kyogisha!U126,Sheet3!A:G,2,0))","v":""},{"$f":"IF(E126=\"\",\"\",IF(②選手情報入力!P135=\"\",\"\",②選手情報入力!P135))","v":""},{"$f":"IF(E126=\"\",\"\",②選手情報入力!Q135)","v":""},"",{"$f":"IF(E126=\"\",\"\",IF(②選手情報入力!S135=\"\",\"\",②選手情報入力!S135))","v":""},"","",{"$f":"IF(E126=\"\",\"\",IF(②選手情報入力!T135=\"\",\"\",IF(G126=1,IF(②選手情報入力!$U$6=\"\",\"\",②選手情報入力!$U$6),IF(②選手情報入力!$U$7=\"\",\"\",②選手情報入力!$U$7))))","v":""},{"$f":"IF(E126=\"\",\"\",IF(②選手情報入力!T135=\"\",\"\",IF(G126=1,IF(②選手情報入力!$T$6=\"\",0,1),IF(②選手情報入力!$T$7=\"\",0,1))))","v":""},{"$f":"IF(E126=\"\",\"\",IF(②選手情報入力!T135=\"\",\"\",2))","v":""},"",{"$f":"IF(E126=\"\",\"\",IF(②選手情報入力!V135=\"\",\"\",IF(G126=1,IF(②選手情報入力!$W$6=\"\",\"\",②選手情報入力!$W$6),IF(②選手情報入力!$W$7=\"\",\"\",②選手情報入力!$W$7))))","v":""},{"$f":"IF(E126=\"\",\"\",IF(②選手情報入力!V135=\"\",\"\",IF(G126=1,IF(②選手情報入力!$V$6=\"\",0,1),IF(②選手情報入力!$V$7=\"\",0,1))))","v":""},{"$f":"IF(E126=\"\",\"\",IF(②選手情報入力!V135=\"\",\"\",2))","v":""}]
[{"$f":"IF(E127=\"\",\"\",data_kyogisha!A127)","v":""},{"$f":"IF(E127=\"\",\"\",①団体情報入力!$C$5)","v":""},{"$f":"IF(A127=\"\",\"\",VLOOKUP(B127,Sheet6!C:D,2,0))","v":""},null,{"$f":"IF(②選手情報入力!C136=\"\",\"\",②選手情報入力!C136)","v":""},{"$f":"IF(E127=\"\",\"\",②選手情報入力!D136)","v":""},{"$f":"IF(E127=\"\",\"\",IF(②選手情報入力!I136=\"男\",1,2))","v":""},{"$f":"IF(E127=\"\",\"\",VLOOKUP(data_kyogisha!Q127,Sheet3!A:G,2,0))","v":""},{"$f":"IF(E127=\"\",\"\",IF(②選手情報入力!M136=\"\",\"\",②選手情報入力!M136))","v":""},{"$f":"IF(E127=\"\",\"\",②選手情報入力!N136)","v":""},{"$f":"IF(E127=\"\",\"\",VLOOKUP(data_kyogisha!U127,Sheet3!A:G,2,0))","v":""},{"$f":"IF(E127=\"\",\"\",IF(②選手情報入力!P136=\"\",\"\",②選手情報入力!P136))","v":""},{"$f":"IF(E127=\"\",\"\",②選手情報入力!Q136)","v":""},"",{"$f":"IF(E127=\"\",\"\",IF(②選手情報入力!S136=\"\",\"\",②選手情報入力!S136))","v":""},"","",{"$f":"IF(E127=\"\",\"\",IF(②選手情報入力!T136=\"\",\"\",IF(G127=1,IF(②選手情報入力!$U$6=\"\",\"\",②選手情報入力!$U$6),IF(②選手情報入力!$U$7=\"\",\"\",②選手情報入力!$U$7))))","v":""},{"$f":"IF(E127=\"\",\"\",IF(②選手情報入力!T136=\"\",\"\",IF(G127=1,IF(②選手情報入力!$T$6=\"\",0,1),IF(②選手情報入力!$T$7=\"\",0,1))))","v":""},{"$f":"IF(E127=\"\",\"\",IF(②選手情報入力!T136=\"\",\"\",2))","v":""},"",{"$f":"IF(E127=\"\",\"\",IF(②選手情報入力!V136=\"\",\"\",IF(G127=1,IF(②選手情報入力!$W$6=\"\",\"\",②選手情報入力!$W$6),IF(②選手情報入力!$W$7=\"\",\"\",②選手情報入力!$W$7))))","v":""},{"$f":"IF(E127=\"\",\"\",IF(②選手情報入力!V136=\"\",\"\",IF(G127=1,IF(②選手情報入力!$V$6=\"\",0,1),IF(②選手情報入力!$V$7=\"\",0,1))))","v":""},{"$f":"IF(E127=\"\",\"\",IF(②選手情報入力!V136=\"\",\"\",2))","v":""}]
[{"$f":"IF(E128=\"\",\"\",data_kyogisha!A128)","v":""},{"$f":"IF(E128=\"\",\"\",①団体情報入力!$C$5)","v":""},{"$f":"IF(A128=\"\",\"\",VLOOKUP(B128,Sheet6!C:D,2,0))","v":""},null,{"$f":"IF(②選手情報入力!C137=\"\",\"\",②選手情報入力!C137)","v":""},{"$f":"IF(E128=\"\",\"\",②選手情報入力!D137)","v":""},{"$f":"IF(E128=\"\",\"\",IF(②選手情報入力!I137=\"男\",1,2))","v":""},{"$f":"IF(E128=\"\",\"\",VLOOKUP(data_kyogisha!Q128,Sheet3!A:G,2,0))","v":""},{"$f":"IF(E128=\"\",\"\",IF(②選手情報入力!M137=\"\",\"\",②選手情報入力!M137))","v":""},{"$f":"IF(E128=\"\",\"\",②選手情報入力!N137)","v":""},{"$f":"IF(E128=\"\",\"\",VLOOKUP(data_kyogisha!U128,Sheet3!A:G,2,0))","v":""},{"$f":"IF(E128=\"\",\"\",IF(②選手情報入力!P137=\"\",\"\",②選手情報入力!P137))","v":""},{"$f":"IF(E128=\"\",\"\",②選手情報入力!Q137)","v":""},"",{"$f":"IF(E128=\"\",\"\",IF(②選手情報入力!S137=\"\",\"\",②選手情報入力!S137))","v":""},"","",{"$f":"IF(E128=\"\",\"\",IF(②選手情報入力!T137=\"\",\"\",IF(G128=1,IF(②選手情報入力!$U$6=\"\",\"\",②選手情報入力!$U$6),IF(②選手情報入力!$U$7=\"\",\"\",②選手情報入力!$U$7))))","v":""},{"$f":"IF(E128=\"\",\"\",IF(②選手情報入力!T137=\"\",\"\",IF(G128=1,IF(②選手情報入力!$T$6=\"\",0,1),IF(②選手情報入力!$T$7=\"\",0,1))))","v":""},{"$f":"IF(E128=\"\",\"\",IF(②選手情報入力!T137=\"\",\"\",2))","v":""},"",{"$f":"IF(E128=\"\",\"\",IF(②選手情報入力!V137=\"\",\"\",IF(G128=1,IF(②選手情報入力!$W$6=\"\",\"\",②選手情報入力!$W$6),IF(②選手情報入力!$W$7=\"\",\"\",②選手情報入力!$W$7))))","v":""},{"$f":"IF(E128=\"\",\"\",IF(②選手情報入力!V137=\"\",\"\",IF(G128=1,IF(②選手情報入力!$V$6=\"\",0,1),IF(②選手情報入力!$V$7=\"\",0,1))))","v":""},{"$f":"IF(E128=\"\",\"\",IF(②選手情報入力!V137=\"\",\"\",2))","v":""}]
[{"$f":"IF(E129=\"\",\"\",data_kyogisha!A129)","v":""},{"$f":"IF(E129=\"\",\"\",①団体情報入力!$C$5)","v":""},{"$f":"IF(A129=\"\",\"\",VLOOKUP(B129,Sheet6!C:D,2,0))","v":""},null,{"$f":"IF(②選手情報入力!C138=\"\",\"\",②選手情報入力!C138)","v":""},{"$f":"IF(E129=\"\",\"\",②選手情報入力!D138)","v":""},{"$f":"IF(E129=\"\",\"\",IF(②選手情報入力!I138=\"男\",1,2))","v":""},{"$f":"IF(E129=\"\",\"\",VLOOKUP(data_kyogisha!Q129,Sheet3!A:G,2,0))","v":""},{"$f":"IF(E129=\"\",\"\",IF(②選手情報入力!M138=\"\",\"\",②選手情報入力!M138))","v":""},{"$f":"IF(E129=\"\",\"\",②選手情報入力!N138)","v":""},{"$f":"IF(E129=\"\",\"\",VLOOKUP(data_kyogisha!U129,Sheet3!A:G,2,0))","v":""},{"$f":"IF(E129=\"\",\"\",IF(②選手情報入力!P138=\"\",\"\",②選手情報入力!P138))","v":""},{"$f":"IF(E129=\"\",\"\",②選手情報入力!Q138)","v":""},"",{"$f":"IF(E129=\"\",\"\",IF(②選手情報入力!S138=\"\",\"\",②選手情報入力!S138))","v":""},"","",{"$f":"IF(E129=\"\",\"\",IF(②選手情報入力!T138=\"\",\"\",IF(G129=1,IF(②選手情報入力!$U$6=\"\",\"\",②選手情報入力!$U$6),IF(②選手情報入力!$U$7=\"\",\"\",②選手情報入力!$U$7))))","v":""},{"$f":"IF(E129=\"\",\"\",IF(②選手情報入力!T138=\"\",\"\",IF(G129=1,IF(②選手情報入力!$T$6=\"\",0,1),IF(②選手情報入力!$T$7=\"\",0,1))))","v":""},{"$f":"IF(E129=\"\",\"\",IF(②選手情報入力!T138=\"\",\"\",2))","v":""},"",{"$f":"IF(E129=\"\",\"\",IF(②選手情報入力!V138=\"\",\"\",IF(G129=1,IF(②選手情報入力!$W$6=\"\",\"\",②選手情報入力!$W$6),IF(②選手情報入力!$W$7=\"\",\"\",②選手情報入力!$W$7))))","v":""},{"$f":"IF(E129=\"\",\"\",IF(②選手情報入力!V138=\"\",\"\",IF(G129=1,IF(②選手情報入力!$V$6=\"\",0,1),IF(②選手情報入力!$V$7=\"\",0,1))))","v":""},{"$f":"IF(E129=\"\",\"\",IF(②選手情報入力!V138=\"\",\"\",2))","v":""}]
[{"$f":"IF(E130=\"\",\"\",data_kyogisha!A130)","v":""},{"$f":"IF(E130=\"\",\"\",①団体情報入力!$C$5)","v":""},{"$f":"IF(A130=\"\",\"\",VLOOKUP(B130,Sheet6!C:D,2,0))","v":""},null,{"$f":"IF(②選手情報入力!C139=\"\",\"\",②選手情報入力!C139)","v":""},{"$f":"IF(E130=\"\",\"\",②選手情報入力!D139)","v":""},{"$f":"IF(E130=\"\",\"\",IF(②選手情報入力!I139=\"男\",1,2))","v":""},{"$f":"IF(E130=\"\",\"\",VLOOKUP(data_kyogisha!Q130,Sheet3!A:G,2,0))","v":""},{"$f":"IF(E130=\"\",\"\",IF(②選手情報入力!M139=\"\",\"\",②選手情報入力!M139))","v":""},{"$f":"IF(E130=\"\",\"\",②選手情報入力!N139)","v":""},{"$f":"IF(E130=\"\",\"\",VLOOKUP(data_kyogisha!U130,Sheet3!A:G,2,0))","v":""},{"$f":"IF(E130=\"\",\"\",IF(②選手情報入力!P139=\"\",\"\",②選手情報入力!P139))","v":""},{"$f":"IF(E130=\"\",\"\",②選手情報入力!Q139)","v":""},"",{"$f":"IF(E130=\"\",\"\",IF(②選手情報入力!S139=\"\",\"\",②選手情報入力!S139))","v":""},"","",{"$f":"IF(E130=\"\",\"\",IF(②選手情報入力!T139=\"\",\"\",IF(G130=1,IF(②選手情報入力!$U$6=\"\",\"\",②選手情報入力!$U$6),IF(②選手情報入力!$U$7=\"\",\"\",②選手情報入力!$U$7))))","v":""},{"$f":"IF(E130=\"\",\"\",IF(②選手情報入力!T139=\"\",\"\",IF(G130=1,IF(②選手情報入力!$T$6=\"\",0,1),IF(②選手情報入力!$T$7=\"\",0,1))))","v":""},{"$f":"IF(E130=\"\",\"\",IF(②選手情報入力!T139=\"\",\"\",2))","v":""},"",{"$f":"IF(E130=\"\",\"\",IF(②選手情報入力!V139=\"\",\"\",IF(G130=1,IF(②選手情報入力!$W$6=\"\",\"\",②選手情報入力!$W$6),IF(②選手情報入力!$W$7=\"\",\"\",②選手情報入力!$W$7))))","v":""},{"$f":"IF(E130=\"\",\"\",IF(②選手情報入力!V139=\"\",\"\",IF(G130=1,IF(②選手情報入力!$V$6=\"\",0,1),IF(②選手情報入力!$V$7=\"\",0,1))))","v":""},{"$f":"IF(E130=\"\",\"\",IF(②選手情報入力!V139=\"\",\"\",2))","v":""}]
[{"$f":"IF(E131=\"\",\"\",data_kyogisha!A131)","v":""},{"$f":"IF(E131=\"\",\"\",①団体情報入力!$C$5)","v":""},{"$f":"IF(A131=\"\",\"\",VLOOKUP(B131,Sheet6!C:D,2,0))","v":""},null,{"$f":"IF(②選手情報入力!C140=\"\",\"\",②選手情報入力!C140)","v":""},{"$f":"IF(E131=\"\",\"\",②選手情報入力!D140)","v":""},{"$f":"IF(E131=\"\",\"\",IF(②選手情報入力!I140=\"男\",1,2))","v":""},{"$f":"IF(E131=\"\",\"\",VLOOKUP(data_kyogisha!Q131,Sheet3!A:G,2,0))","v":""},{"$f":"IF(E131=\"\",\"\",IF(②選手情報入力!M140=\"\",\"\",②選手情報入力!M140))","v":""},{"$f":"IF(E131=\"\",\"\",②選手情報入力!N140)","v":""},{"$f":"IF(E131=\"\",\"\",VLOOKUP(data_kyogisha!U131,Sheet3!A:G,2,0))","v":""},{"$f":"IF(E131=\"\",\"\",IF(②選手情報入力!P140=\"\",\"\",②選手情報入力!P140))","v":""},{"$f":"IF(E131=\"\",\"\",②選手情報入力!Q140)","v":""},"",{"$f":"IF(E131=\"\",\"\",IF(②選手情報入力!S140=\"\",\"\",②選手情報入力!S140))","v":""},"","",{"$f":"IF(E131=\"\",\"\",IF(②選手情報入力!T140=\"\",\"\",IF(G131=1,IF(②選手情報入力!$U$6=\"\",\"\",②選手情報入力!$U$6),IF(②選手情報入力!$U$7=\"\",\"\",②選手情報入力!$U$7))))","v":""},{"$f":"IF(E131=\"\",\"\",IF(②選手情報入力!T140=\"\",\"\",IF(G131=1,IF(②選手情報入力!$T$6=\"\",0,1),IF(②選手情報入力!$T$7=\"\",0,1))))","v":""},{"$f":"IF(E131=\"\",\"\",IF(②選手情報入力!T140=\"\",\"\",2))","v":""},"",{"$f":"IF(E131=\"\",\"\",IF(②選手情報入力!V140=\"\",\"\",IF(G131=1,IF(②選手情報入力!$W$6=\"\",\"\",②選手情報入力!$W$6),IF(②選手情報入力!$W$7=\"\",\"\",②選手情報入力!$W$7))))","v":""},{"$f":"IF(E131=\"\",\"\",IF(②選手情報入力!V140=\"\",\"\",IF(G131=1,IF(②選手情報入力!$V$6=\"\",0,1),IF(②選手情報入力!$V$7=\"\",0,1))))","v":""},{"$f":"IF(E131=\"\",\"\",IF(②選手情報入力!V140=\"\",\"\",2))","v":""}]
[{"$f":"IF(E132=\"\",\"\",data_kyogisha!A132)","v":""},{"$f":"IF(E132=\"\",\"\",①団体情報入力!$C$5)","v":""},{"$f":"IF(A132=\"\",\"\",VLOOKUP(B132,Sheet6!C:D,2,0))","v":""},null,{"$f":"IF(②選手情報入力!C141=\"\",\"\",②選手情報入力!C141)","v":""},{"$f":"IF(E132=\"\",\"\",②選手情報入力!D141)","v":""},{"$f":"IF(E132=\"\",\"\",IF(②選手情報入力!I141=\"男\",1,2))","v":""},{"$f":"IF(E132=\"\",\"\",VLOOKUP(data_kyogisha!Q132,Sheet3!A:G,2,0))","v":""},{"$f":"IF(E132=\"\",\"\",IF(②選手情報入力!M141=\"\",\"\",②選手情報入力!M141))","v":""},{"$f":"IF(E132=\"\",\"\",②選手情報入力!N141)","v":""},{"$f":"IF(E132=\"\",\"\",VLOOKUP(data_kyogisha!U132,Sheet3!A:G,2,0))","v":""},{"$f":"IF(E132=\"\",\"\",IF(②選手情報入力!P141=\"\",\"\",②選手情報入力!P141))","v":""},{"$f":"IF(E132=\"\",\"\",②選手情報入力!Q141)","v":""},"",{"$f":"IF(E132=\"\",\"\",IF(②選手情報入力!S141=\"\",\"\",②選手情報入力!S141))","v":""},"","",{"$f":"IF(E132=\"\",\"\",IF(②選手情報入力!T141=\"\",\"\",IF(G132=1,IF(②選手情報入力!$U$6=\"\",\"\",②選手情報入力!$U$6),IF(②選手情報入力!$U$7=\"\",\"\",②選手情報入力!$U$7))))","v":""},{"$f":"IF(E132=\"\",\"\",IF(②選手情報入力!T141=\"\",\"\",IF(G132=1,IF(②選手情報入力!$T$6=\"\",0,1),IF(②選手情報入力!$T$7=\"\",0,1))))","v":""},{"$f":"IF(E132=\"\",\"\",IF(②選手情報入力!T141=\"\",\"\",2))","v":""},"",{"$f":"IF(E132=\"\",\"\",IF(②選手情報入力!V141=\"\",\"\",IF(G132=1,IF(②選手情報入力!$W$6=\"\",\"\",②選手情報入力!$W$6),IF(②選手情報入力!$W$7=\"\",\"\",②選手情報入力!$W$7))))","v":""},{"$f":"IF(E132=\"\",\"\",IF(②選手情報入力!V141=\"\",\"\",IF(G132=1,IF(②選手情報入力!$V$6=\"\",0,1),IF(②選手情報入力!$V$7=\"\",0,1))))","v":""},{"$f":"IF(E132=\"\",\"\",IF(②選手情報入力!V141=\"\",\"\",2))","v":""}]
[{"$f":"IF(E133=\"\",\"\",data_kyogisha!A133)","v":""},{"$f":"IF(E133=\"\",\"\",①団体情報入力!$C$5)","v":""},{"$f":"IF(A133=\"\",\"\",VLOOKUP(B133,Sheet6!C:D,2,0))","v":""},null,{"$f":"IF(②選手情報入力!C142=\"\",\"\",②選手情報入力!C142)","v":""},{"$f":"IF(E133=\"\",\"\",②選手情報入力!D142)","v":""},{"$f":"IF(E133=\"\",\"\",IF(②選手情報入力!I142=\"男\",1,2))","v":""},{"$f":"IF(E133=\"\",\"\",VLOOKUP(data_kyogisha!Q133,Sheet3!A:G,2,0))","v":""},{"$f":"IF(E133=\"\",\"\",IF(②選手情報入力!M142=\"\",\"\",②選手情報入力!M142))","v":""},{"$f":"IF(E133=\"\",\"\",②選手情報入力!N142)","v":""},{"$f":"IF(E133=\"\",\"\",VLOOKUP(data_kyogisha!U133,Sheet3!A:G,2,0))","v":""},{"$f":"IF(E133=\"\",\"\",IF(②選手情報入力!P142=\"\",\"\",②選手情報入力!P142))","v":""},{"$f":"IF(E133=\"\",\"\",②選手情報入力!Q142)","v":""},"",{"$f":"IF(E133=\"\",\"\",IF(②選手情報入力!S142=\"\",\"\",②選手情報入力!S142))","v":""},"","",{"$f":"IF(E133=\"\",\"\",IF(②選手情報入力!T142=\"\",\"\",IF(G133=1,IF(②選手情報入力!$U$6=\"\",\"\",②選手情報入力!$U$6),IF(②選手情報入力!$U$7=\"\",\"\",②選手情報入力!$U$7))))","v":""},{"$f":"IF(E133=\"\",\"\",IF(②選手情報入力!T142=\"\",\"\",IF(G133=1,IF(②選手情報入力!$T$6=\"\",0,1),IF(②選手情報入力!$T$7=\"\",0,1))))","v":""},{"$f":"IF(E133=\"\",\"\",IF(②選手情報入力!T142=\"\",\"\",2))","v":""},"",{"$f":"IF(E133=\"\",\"\",IF(②選手情報入力!V142=\"\",\"\",IF(G133=1,IF(②選手情報入力!$W$6=\"\",\"\",②選手情報入力!$W$6),IF(②選手情報入力!$W$7=\"\",\"\",②選手情報入力!$W$7))))","v":""},{"$f":"IF(E133=\"\",\"\",IF(②選手情報入力!V142=\"\",\"\",IF(G133=1,IF(②選手情報入力!$V$6=\"\",0,1),IF(②選手情報入力!$V$7=\"\",0,1))))","v":""},{"$f":"IF(E133=\"\",\"\",IF(②選手情報入力!V142=\"\",\"\",2))","v":""}]
[{"$f":"IF(E134=\"\",\"\",data_kyogisha!A134)","v":""},{"$f":"IF(E134=\"\",\"\",①団体情報入力!$C$5)","v":""},{"$f":"IF(A134=\"\",\"\",VLOOKUP(B134,Sheet6!C:D,2,0))","v":""},null,{"$f":"IF(②選手情報入力!C143=\"\",\"\",②選手情報入力!C143)","v":""},{"$f":"IF(E134=\"\",\"\",②選手情報入力!D143)","v":""},{"$f":"IF(E134=\"\",\"\",IF(②選手情報入力!I143=\"男\",1,2))","v":""},{"$f":"IF(E134=\"\",\"\",VLOOKUP(data_kyogisha!Q134,Sheet3!A:G,2,0))","v":""},{"$f":"IF(E134=\"\",\"\",IF(②選手情報入力!M143=\"\",\"\",②選手情報入力!M143))","v":""},{"$f":"IF(E134=\"\",\"\",②選手情報入力!N143)","v":""},{"$f":"IF(E134=\"\",\"\",VLOOKUP(data_kyogisha!U134,Sheet3!A:G,2,0))","v":""},{"$f":"IF(E134=\"\",\"\",IF(②選手情報入力!P143=\"\",\"\",②選手情報入力!P143))","v":""},{"$f":"IF(E134=\"\",\"\",②選手情報入力!Q143)","v":""},"",{"$f":"IF(E134=\"\",\"\",IF(②選手情報入力!S143=\"\",\"\",②選手情報入力!S143))","v":""},"","",{"$f":"IF(E134=\"\",\"\",IF(②選手情報入力!T143=\"\",\"\",IF(G134=1,IF(②選手情報入力!$U$6=\"\",\"\",②選手情報入力!$U$6),IF(②選手情報入力!$U$7=\"\",\"\",②選手情報入力!$U$7))))","v":""},{"$f":"IF(E134=\"\",\"\",IF(②選手情報入力!T143=\"\",\"\",IF(G134=1,IF(②選手情報入力!$T$6=\"\",0,1),IF(②選手情報入力!$T$7=\"\",0,1))))","v":""},{"$f":"IF(E134=\"\",\"\",IF(②選手情報入力!T143=\"\",\"\",2))","v":""},"",{"$f":"IF(E134=\"\",\"\",IF(②選手情報入力!V143=\"\",\"\",IF(G134=1,IF(②選手情報入力!$W$6=\"\",\"\",②選手情報入力!$W$6),IF(②選手情報入力!$W$7=\"\",\"\",②選手情報入力!$W$7))))","v":""},{"$f":"IF(E134=\"\",\"\",IF(②選手情報入力!V143=\"\",\"\",IF(G134=1,IF(②選手情報入力!$V$6=\"\",0,1),IF(②選手情報入力!$V$7=\"\",0,1))))","v":""},{"$f":"IF(E134=\"\",\"\",IF(②選手情報入力!V143=\"\",\"\",2))","v":""}]
[{"$f":"IF(E135=\"\",\"\",data_kyogisha!A135)","v":""},{"$f":"IF(E135=\"\",\"\",①団体情報入力!$C$5)","v":""},{"$f":"IF(A135=\"\",\"\",VLOOKUP(B135,Sheet6!C:D,2,0))","v":""},null,{"$f":"IF(②選手情報入力!C144=\"\",\"\",②選手情報入力!C144)","v":""},{"$f":"IF(E135=\"\",\"\",②選手情報入力!D144)","v":""},{"$f":"IF(E135=\"\",\"\",IF(②選手情報入力!I144=\"男\",1,2))","v":""},{"$f":"IF(E135=\"\",\"\",VLOOKUP(data_kyogisha!Q135,Sheet3!A:G,2,0))","v":""},{"$f":"IF(E135=\"\",\"\",IF(②選手情報入力!M144=\"\",\"\",②選手情報入力!M144))","v":""},{"$f":"IF(E135=\"\",\"\",②選手情報入力!N144)","v":""},{"$f":"IF(E135=\"\",\"\",VLOOKUP(data_kyogisha!U135,Sheet3!A:G,2,0))","v":""},{"$f":"IF(E135=\"\",\"\",IF(②選手情報入力!P144=\"\",\"\",②選手情報入力!P144))","v":""},{"$f":"IF(E135=\"\",\"\",②選手情報入力!Q144)","v":""},"",{"$f":"IF(E135=\"\",\"\",IF(②選手情報入力!S144=\"\",\"\",②選手情報入力!S144))","v":""},"","",{"$f":"IF(E135=\"\",\"\",IF(②選手情報入力!T144=\"\",\"\",IF(G135=1,IF(②選手情報入力!$U$6=\"\",\"\",②選手情報入力!$U$6),IF(②選手情報入力!$U$7=\"\",\"\",②選手情報入力!$U$7))))","v":""},{"$f":"IF(E135=\"\",\"\",IF(②選手情報入力!T144=\"\",\"\",IF(G135=1,IF(②選手情報入力!$T$6=\"\",0,1),IF(②選手情報入力!$T$7=\"\",0,1))))","v":""},{"$f":"IF(E135=\"\",\"\",IF(②選手情報入力!T144=\"\",\"\",2))","v":""},"",{"$f":"IF(E135=\"\",\"\",IF(②選手情報入力!V144=\"\",\"\",IF(G135=1,IF(②選手情報入力!$W$6=\"\",\"\",②選手情報入力!$W$6),IF(②選手情報入力!$W$7=\"\",\"\",②選手情報入力!$W$7))))","v":""},{"$f":"IF(E135=\"\",\"\",IF(②選手情報入力!V144=\"\",\"\",IF(G135=1,IF(②選手情報入力!$V$6=\"\",0,1),IF(②選手情報入力!$V$7=\"\",0,1))))","v":""},{"$f":"IF(E135=\"\",\"\",IF(②選手情報入力!V144=\"\",\"\",2))","v":""}]
[{"$f":"IF(E136=\"\",\"\",data_kyogisha!A136)","v":""},{"$f":"IF(E136=\"\",\"\",①団体情報入力!$C$5)","v":""},{"$f":"IF(A136=\"\",\"\",VLOOKUP(B136,Sheet6!C:D,2,0))","v":""},null,{"$f":"IF(②選手情報入力!C145=\"\",\"\",②選手情報入力!C145)","v":""},{"$f":"IF(E136=\"\",\"\",②選手情報入力!D145)","v":""},{"$f":"IF(E136=\"\",\"\",IF(②選手情報入力!I145=\"男\",1,2))","v":""},{"$f":"IF(E136=\"\",\"\",VLOOKUP(data_kyogisha!Q136,Sheet3!A:G,2,0))","v":""},{"$f":"IF(E136=\"\",\"\",IF(②選手情報入力!M145=\"\",\"\",②選手情報入力!M145))","v":""},{"$f":"IF(E136=\"\",\"\",②選手情報入力!N145)","v":""},{"$f":"IF(E136=\"\",\"\",VLOOKUP(data_kyogisha!U136,Sheet3!A:G,2,0))","v":""},{"$f":"IF(E136=\"\",\"\",IF(②選手情報入力!P145=\"\",\"\",②選手情報入力!P145))","v":""},{"$f":"IF(E136=\"\",\"\",②選手情報入力!Q145)","v":""},"",{"$f":"IF(E136=\"\",\"\",IF(②選手情報入力!S145=\"\",\"\",②選手情報入力!S145))","v":""},"","",{"$f":"IF(E136=\"\",\"\",IF(②選手情報入力!T145=\"\",\"\",IF(G136=1,IF(②選手情報入力!$U$6=\"\",\"\",②選手情報入力!$U$6),IF(②選手情報入力!$U$7=\"\",\"\",②選手情報入力!$U$7))))","v":""},{"$f":"IF(E136=\"\",\"\",IF(②選手情報入力!T145=\"\",\"\",IF(G136=1,IF(②選手情報入力!$T$6=\"\",0,1),IF(②選手情報入力!$T$7=\"\",0,1))))","v":""},{"$f":"IF(E136=\"\",\"\",IF(②選手情報入力!T145=\"\",\"\",2))","v":""},"",{"$f":"IF(E136=\"\",\"\",IF(②選手情報入力!V145=\"\",\"\",IF(G136=1,IF(②選手情報入力!$W$6=\"\",\"\",②選手情報入力!$W$6),IF(②選手情報入力!$W$7=\"\",\"\",②選手情報入力!$W$7))))","v":""},{"$f":"IF(E136=\"\",\"\",IF(②選手情報入力!V145=\"\",\"\",IF(G136=1,IF(②選手情報入力!$V$6=\"\",0,1),IF(②選手情報入力!$V$7=\"\",0,1))))","v":""},{"$f":"IF(E136=\"\",\"\",IF(②選手情報入力!V145=\"\",\"\",2))","v":""}]
[{"$f":"IF(E137=\"\",\"\",data_kyogisha!A137)","v":""},{"$f":"IF(E137=\"\",\"\",①団体情報入力!$C$5)","v":""},{"$f":"IF(A137=\"\",\"\",VLOOKUP(B137,Sheet6!C:D,2,0))","v":""},null,{"$f":"IF(②選手情報入力!C146=\"\",\"\",②選手情報入力!C146)","v":""},{"$f":"IF(E137=\"\",\"\",②選手情報入力!D146)","v":""},{"$f":"IF(E137=\"\",\"\",IF(②選手情報入力!I146=\"男\",1,2))","v":""},{"$f":"IF(E137=\"\",\"\",VLOOKUP(data_kyogisha!Q137,Sheet3!A:G,2,0))","v":""},{"$f":"IF(E137=\"\",\"\",IF(②選手情報入力!M146=\"\",\"\",②選手情報入力!M146))","v":""},{"$f":"IF(E137=\"\",\"\",②選手情報入力!N146)","v":""},{"$f":"IF(E137=\"\",\"\",VLOOKUP(data_kyogisha!U137,Sheet3!A:G,2,0))","v":""},{"$f":"IF(E137=\"\",\"\",IF(②選手情報入力!P146=\"\",\"\",②選手情報入力!P146))","v":""},{"$f":"IF(E137=\"\",\"\",②選手情報入力!Q146)","v":""},"",{"$f":"IF(E137=\"\",\"\",IF(②選手情報入力!S146=\"\",\"\",②選手情報入力!S146))","v":""},"","",{"$f":"IF(E137=\"\",\"\",IF(②選手情報入力!T146=\"\",\"\",IF(G137=1,IF(②選手情報入力!$U$6=\"\",\"\",②選手情報入力!$U$6),IF(②選手情報入力!$U$7=\"\",\"\",②選手情報入力!$U$7))))","v":""},{"$f":"IF(E137=\"\",\"\",IF(②選手情報入力!T146=\"\",\"\",IF(G137=1,IF(②選手情報入力!$T$6=\"\",0,1),IF(②選手情報入力!$T$7=\"\",0,1))))","v":""},{"$f":"IF(E137=\"\",\"\",IF(②選手情報入力!T146=\"\",\"\",2))","v":""},"",{"$f":"IF(E137=\"\",\"\",IF(②選手情報入力!V146=\"\",\"\",IF(G137=1,IF(②選手情報入力!$W$6=\"\",\"\",②選手情報入力!$W$6),IF(②選手情報入力!$W$7=\"\",\"\",②選手情報入力!$W$7))))","v":""},{"$f":"IF(E137=\"\",\"\",IF(②選手情報入力!V146=\"\",\"\",IF(G137=1,IF(②選手情報入力!$V$6=\"\",0,1),IF(②選手情報入力!$V$7=\"\",0,1))))","v":""},{"$f":"IF(E137=\"\",\"\",IF(②選手情報入力!V146=\"\",\"\",2))","v":""}]
[{"$f":"IF(E138=\"\",\"\",data_kyogisha!A138)","v":""},{"$f":"IF(E138=\"\",\"\",①団体情報入力!$C$5)","v":""},{"$f":"IF(A138=\"\",\"\",VLOOKUP(B138,Sheet6!C:D,2,0))","v":""},null,{"$f":"IF(②選手情報入力!C147=\"\",\"\",②選手情報入力!C147)","v":""},{"$f":"IF(E138=\"\",\"\",②選手情報入力!D147)","v":""},{"$f":"IF(E138=\"\",\"\",IF(②選手情報入力!I147=\"男\",1,2))","v":""},{"$f":"IF(E138=\"\",\"\",VLOOKUP(data_kyogisha!Q138,Sheet3!A:G,2,0))","v":""},{"$f":"IF(E138=\"\",\"\",IF(②選手情報入力!M147=\"\",\"\",②選手情報入力!M147))","v":""},{"$f":"IF(E138=\"\",\"\",②選手情報入力!N147)","v":""},{"$f":"IF(E138=\"\",\"\",VLOOKUP(data_kyogisha!U138,Sheet3!A:G,2,0))","v":""},{"$f":"IF(E138=\"\",\"\",IF(②選手情報入力!P147=\"\",\"\",②選手情報入力!P147))","v":""},{"$f":"IF(E138=\"\",\"\",②選手情報入力!Q147)","v":""},"",{"$f":"IF(E138=\"\",\"\",IF(②選手情報入力!S147=\"\",\"\",②選手情報入力!S147))","v":""},"","",{"$f":"IF(E138=\"\",\"\",IF(②選手情報入力!T147=\"\",\"\",IF(G138=1,IF(②選手情報入力!$U$6=\"\",\"\",②選手情報入力!$U$6),IF(②選手情報入力!$U$7=\"\",\"\",②選手情報入力!$U$7))))","v":""},{"$f":"IF(E138=\"\",\"\",IF(②選手情報入力!T147=\"\",\"\",IF(G138=1,IF(②選手情報入力!$T$6=\"\",0,1),IF(②選手情報入力!$T$7=\"\",0,1))))","v":""},{"$f":"IF(E138=\"\",\"\",IF(②選手情報入力!T147=\"\",\"\",2))","v":""},"",{"$f":"IF(E138=\"\",\"\",IF(②選手情報入力!V147=\"\",\"\",IF(G138=1,IF(②選手情報入力!$W$6=\"\",\"\",②選手情報入力!$W$6),IF(②選手情報入力!$W$7=\"\",\"\",②選手情報入力!$W$7))))","v":""},{"$f":"IF(E138=\"\",\"\",IF(②選手情報入力!V147=\"\",\"\",IF(G138=1,IF(②選手情報入力!$V$6=\"\",0,1),IF(②選手情報入力!$V$7=\"\",0,1))))","v":""},{"$f":"IF(E138=\"\",\"\",IF(②選手情報入力!V147=\"\",\"\",2))","v":""}]
[{"$f":"IF(E139=\"\",\"\",data_kyogisha!A139)","v":""},{"$f":"IF(E139=\"\",\"\",①団体情報入力!$C$5)","v":""},{"$f":"IF(A139=\"\",\"\",VLOOKUP(B139,Sheet6!C:D,2,0))","v":""},null,{"$f":"IF(②選手情報入力!C148=\"\",\"\",②選手情報入力!C148)","v":""},{"$f":"IF(E139=\"\",\"\",②選手情報入力!D148)","v":""},{"$f":"IF(E139=\"\",\"\",IF(②選手情報入力!I148=\"男\",1,2))","v":""},{"$f":"IF(E139=\"\",\"\",VLOOKUP(data_kyogisha!Q139,Sheet3!A:G,2,0))","v":""},{"$f":"IF(E139=\"\",\"\",IF(②選手情報入力!M148=\"\",\"\",②選手情報入力!M148))","v":""},{"$f":"IF(E139=\"\",\"\",②選手情報入力!N148)","v":""},{"$f":"IF(E139=\"\",\"\",VLOOKUP(data_kyogisha!U139,Sheet3!A:G,2,0))","v":""},{"$f":"IF(E139=\"\",\"\",IF(②選手情報入力!P148=\"\",\"\",②選手情報入力!P148))","v":""},{"$f":"IF(E139=\"\",\"\",②選手情報入力!Q148)","v":""},"",{"$f":"IF(E139=\"\",\"\",IF(②選手情報入力!S148=\"\",\"\",②選手情報入力!S148))","v":""},"","",{"$f":"IF(E139=\"\",\"\",IF(②選手情報入力!T148=\"\",\"\",IF(G139=1,IF(②選手情報入力!$U$6=\"\",\"\",②選手情報入力!$U$6),IF(②選手情報入力!$U$7=\"\",\"\",②選手情報入力!$U$7))))","v":""},{"$f":"IF(E139=\"\",\"\",IF(②選手情報入力!T148=\"\",\"\",IF(G139=1,IF(②選手情報入力!$T$6=\"\",0,1),IF(②選手情報入力!$T$7=\"\",0,1))))","v":""},{"$f":"IF(E139=\"\",\"\",IF(②選手情報入力!T148=\"\",\"\",2))","v":""},"",{"$f":"IF(E139=\"\",\"\",IF(②選手情報入力!V148=\"\",\"\",IF(G139=1,IF(②選手情報入力!$W$6=\"\",\"\",②選手情報入力!$W$6),IF(②選手情報入力!$W$7=\"\",\"\",②選手情報入力!$W$7))))","v":""},{"$f":"IF(E139=\"\",\"\",IF(②選手情報入力!V148=\"\",\"\",IF(G139=1,IF(②選手情報入力!$V$6=\"\",0,1),IF(②選手情報入力!$V$7=\"\",0,1))))","v":""},{"$f":"IF(E139=\"\",\"\",IF(②選手情報入力!V148=\"\",\"\",2))","v":""}]
[{"$f":"IF(E140=\"\",\"\",data_kyogisha!A140)","v":""},{"$f":"IF(E140=\"\",\"\",①団体情報入力!$C$5)","v":""},{"$f":"IF(A140=\"\",\"\",VLOOKUP(B140,Sheet6!C:D,2,0))","v":""},null,{"$f":"IF(②選手情報入力!C149=\"\",\"\",②選手情報入力!C149)","v":""},{"$f":"IF(E140=\"\",\"\",②選手情報入力!D149)","v":""},{"$f":"IF(E140=\"\",\"\",IF(②選手情報入力!I149=\"男\",1,2))","v":""},{"$f":"IF(E140=\"\",\"\",VLOOKUP(data_kyogisha!Q140,Sheet3!A:G,2,0))","v":""},{"$f":"IF(E140=\"\",\"\",IF(②選手情報入力!M149=\"\",\"\",②選手情報入力!M149))","v":""},{"$f":"IF(E140=\"\",\"\",②選手情報入力!N149)","v":""},{"$f":"IF(E140=\"\",\"\",VLOOKUP(data_kyogisha!U140,Sheet3!A:G,2,0))","v":""},{"$f":"IF(E140=\"\",\"\",IF(②選手情報入力!P149=\"\",\"\",②選手情報入力!P149))","v":""},{"$f":"IF(E140=\"\",\"\",②選手情報入力!Q149)","v":""},"",{"$f":"IF(E140=\"\",\"\",IF(②選手情報入力!S149=\"\",\"\",②選手情報入力!S149))","v":""},"","",{"$f":"IF(E140=\"\",\"\",IF(②選手情報入力!T149=\"\",\"\",IF(G140=1,IF(②選手情報入力!$U$6=\"\",\"\",②選手情報入力!$U$6),IF(②選手情報入力!$U$7=\"\",\"\",②選手情報入力!$U$7))))","v":""},{"$f":"IF(E140=\"\",\"\",IF(②選手情報入力!T149=\"\",\"\",IF(G140=1,IF(②選手情報入力!$T$6=\"\",0,1),IF(②選手情報入力!$T$7=\"\",0,1))))","v":""},{"$f":"IF(E140=\"\",\"\",IF(②選手情報入力!T149=\"\",\"\",2))","v":""},"",{"$f":"IF(E140=\"\",\"\",IF(②選手情報入力!V149=\"\",\"\",IF(G140=1,IF(②選手情報入力!$W$6=\"\",\"\",②選手情報入力!$W$6),IF(②選手情報入力!$W$7=\"\",\"\",②選手情報入力!$W$7))))","v":""},{"$f":"IF(E140=\"\",\"\",IF(②選手情報入力!V149=\"\",\"\",IF(G140=1,IF(②選手情報入力!$V$6=\"\",0,1),IF(②選手情報入力!$V$7=\"\",0,1))))","v":""},{"$f":"IF(E140=\"\",\"\",IF(②選手情報入力!V149=\"\",\"\",2))","v":""}]
[{"$f":"IF(E141=\"\",\"\",data_kyogisha!A141)","v":""},{"$f":"IF(E141=\"\",\"\",①団体情報入力!$C$5)","v":""},{"$f":"IF(A141=\"\",\"\",VLOOKUP(B141,Sheet6!C:D,2,0))","v":""},null,{"$f":"IF(②選手情報入力!C150=\"\",\"\",②選手情報入力!C150)","v":""},{"$f":"IF(E141=\"\",\"\",②選手情報入力!D150)","v":""},{"$f":"IF(E141=\"\",\"\",IF(②選手情報入力!I150=\"男\",1,2))","v":""},{"$f":"IF(E141=\"\",\"\",VLOOKUP(data_kyogisha!Q141,Sheet3!A:G,2,0))","v":""},{"$f":"IF(E141=\"\",\"\",IF(②選手情報入力!M150=\"\",\"\",②選手情報入力!M150))","v":""},{"$f":"IF(E141=\"\",\"\",②選手情報入力!N150)","v":""},{"$f":"IF(E141=\"\",\"\",VLOOKUP(data_kyogisha!U141,Sheet3!A:G,2,0))","v":""},{"$f":"IF(E141=\"\",\"\",IF(②選手情報入力!P150=\"\",\"\",②選手情報入力!P150))","v":""},{"$f":"IF(E141=\"\",\"\",②選手情報入力!Q150)","v":""},"",{"$f":"IF(E141=\"\",\"\",IF(②選手情報入力!S150=\"\",\"\",②選手情報入力!S150))","v":""},"","",{"$f":"IF(E141=\"\",\"\",IF(②選手情報入力!T150=\"\",\"\",IF(G141=1,IF(②選手情報入力!$U$6=\"\",\"\",②選手情報入力!$U$6),IF(②選手情報入力!$U$7=\"\",\"\",②選手情報入力!$U$7))))","v":""},{"$f":"IF(E141=\"\",\"\",IF(②選手情報入力!T150=\"\",\"\",IF(G141=1,IF(②選手情報入力!$T$6=\"\",0,1),IF(②選手情報入力!$T$7=\"\",0,1))))","v":""},{"$f":"IF(E141=\"\",\"\",IF(②選手情報入力!T150=\"\",\"\",2))","v":""},"",{"$f":"IF(E141=\"\",\"\",IF(②選手情報入力!V150=\"\",\"\",IF(G141=1,IF(②選手情報入力!$W$6=\"\",\"\",②選手情報入力!$W$6),IF(②選手情報入力!$W$7=\"\",\"\",②選手情報入力!$W$7))))","v":""},{"$f":"IF(E141=\"\",\"\",IF(②選手情報入力!V150=\"\",\"\",IF(G141=1,IF(②選手情報入力!$V$6=\"\",0,1),IF(②選手情報入力!$V$7=\"\",0,1))))","v":""},{"$f":"IF(E141=\"\",\"\",IF(②選手情報入力!V150=\"\",\"\",2))","v":""}]
[{"$f":"IF(E142=\"\",\"\",data_kyogisha!A142)","v":""},{"$f":"IF(E142=\"\",\"\",①団体情報入力!$C$5)","v":""},{"$f":"IF(A142=\"\",\"\",VLOOKUP(B142,Sheet6!C:D,2,0))","v":""},null,{"$f":"IF(②選手情報入力!C151=\"\",\"\",②選手情報入力!C151)","v":""},{"$f":"IF(E142=\"\",\"\",②選手情報入力!D151)","v":""},{"$f":"IF(E142=\"\",\"\",IF(②選手情報入力!I151=\"男\",1,2))","v":""},{"$f":"IF(E142=\"\",\"\",VLOOKUP(data_kyogisha!Q142,Sheet3!A:G,2,0))","v":""},{"$f":"IF(E142=\"\",\"\",IF(②選手情報入力!M151=\"\",\"\",②選手情報入力!M151))","v":""},{"$f":"IF(E142=\"\",\"\",②選手情報入力!N151)","v":""},{"$f":"IF(E142=\"\",\"\",VLOOKUP(data_kyogisha!U142,Sheet3!A:G,2,0))","v":""},{"$f":"IF(E142=\"\",\"\",IF(②選手情報入力!P151=\"\",\"\",②選手情報入力!P151))","v":""},{"$f":"IF(E142=\"\",\"\",②選手情報入力!Q151)","v":""},"",{"$f":"IF(E142=\"\",\"\",IF(②選手情報入力!S151=\"\",\"\",②選手情報入力!S151))","v":""},"","",{"$f":"IF(E142=\"\",\"\",IF(②選手情報入力!T151=\"\",\"\",IF(G142=1,IF(②選手情報入力!$U$6=\"\",\"\",②選手情報入力!$U$6),IF(②選手情報入力!$U$7=\"\",\"\",②選手情報入力!$U$7))))","v":""},{"$f":"IF(E142=\"\",\"\",IF(②選手情報入力!T151=\"\",\"\",IF(G142=1,IF(②選手情報入力!$T$6=\"\",0,1),IF(②選手情報入力!$T$7=\"\",0,1))))","v":""},{"$f":"IF(E142=\"\",\"\",IF(②選手情報入力!T151=\"\",\"\",2))","v":""},"",{"$f":"IF(E142=\"\",\"\",IF(②選手情報入力!V151=\"\",\"\",IF(G142=1,IF(②選手情報入力!$W$6=\"\",\"\",②選手情報入力!$W$6),IF(②選手情報入力!$W$7=\"\",\"\",②選手情報入力!$W$7))))","v":""},{"$f":"IF(E142=\"\",\"\",IF(②選手情報入力!V151=\"\",\"\",IF(G142=1,IF(②選手情報入力!$V$6=\"\",0,1),IF(②選手情報入力!$V$7=\"\",0,1))))","v":""},{"$f":"IF(E142=\"\",\"\",IF(②選手情報入力!V151=\"\",\"\",2))","v":""}]
[{"$f":"IF(E143=\"\",\"\",data_kyogisha!A143)","v":""},{"$f":"IF(E143=\"\",\"\",①団体情報入力!$C$5)","v":""},{"$f":"IF(A143=\"\",\"\",VLOOKUP(B143,Sheet6!C:D,2,0))","v":""},null,{"$f":"IF(②選手情報入力!C152=\"\",\"\",②選手情報入力!C152)","v":""},{"$f":"IF(E143=\"\",\"\",②選手情報入力!D152)","v":""},{"$f":"IF(E143=\"\",\"\",IF(②選手情報入力!I152=\"男\",1,2))","v":""},{"$f":"IF(E143=\"\",\"\",VLOOKUP(data_kyogisha!Q143,Sheet3!A:G,2,0))","v":""},{"$f":"IF(E143=\"\",\"\",IF(②選手情報入力!M152=\"\",\"\",②選手情報入力!M152))","v":""},{"$f":"IF(E143=\"\",\"\",②選手情報入力!N152)","v":""},{"$f":"IF(E143=\"\",\"\",VLOOKUP(data_kyogisha!U143,Sheet3!A:G,2,0))","v":""},{"$f":"IF(E143=\"\",\"\",IF(②選手情報入力!P152=\"\",\"\",②選手情報入力!P152))","v":""},{"$f":"IF(E143=\"\",\"\",②選手情報入力!Q152)","v":""},"",{"$f":"IF(E143=\"\",\"\",IF(②選手情報入力!S152=\"\",\"\",②選手情報入力!S152))","v":""},"","",{"$f":"IF(E143=\"\",\"\",IF(②選手情報入力!T152=\"\",\"\",IF(G143=1,IF(②選手情報入力!$U$6=\"\",\"\",②選手情報入力!$U$6),IF(②選手情報入力!$U$7=\"\",\"\",②選手情報入力!$U$7))))","v":""},{"$f":"IF(E143=\"\",\"\",IF(②選手情報入力!T152=\"\",\"\",IF(G143=1,IF(②選手情報入力!$T$6=\"\",0,1),IF(②選手情報入力!$T$7=\"\",0,1))))","v":""},{"$f":"IF(E143=\"\",\"\",IF(②選手情報入力!T152=\"\",\"\",2))","v":""},"",{"$f":"IF(E143=\"\",\"\",IF(②選手情報入力!V152=\"\",\"\",IF(G143=1,IF(②選手情報入力!$W$6=\"\",\"\",②選手情報入力!$W$6),IF(②選手情報入力!$W$7=\"\",\"\",②選手情報入力!$W$7))))","v":""},{"$f":"IF(E143=\"\",\"\",IF(②選手情報入力!V152=\"\",\"\",IF(G143=1,IF(②選手情報入力!$V$6=\"\",0,1),IF(②選手情報入力!$V$7=\"\",0,1))))","v":""},{"$f":"IF(E143=\"\",\"\",IF(②選手情報入力!V152=\"\",\"\",2))","v":""}]
[{"$f":"IF(E144=\"\",\"\",data_kyogisha!A144)","v":""},{"$f":"IF(E144=\"\",\"\",①団体情報入力!$C$5)","v":""},{"$f":"IF(A144=\"\",\"\",VLOOKUP(B144,Sheet6!C:D,2,0))","v":""},null,{"$f":"IF(②選手情報入力!C153=\"\",\"\",②選手情報入力!C153)","v":""},{"$f":"IF(E144=\"\",\"\",②選手情報入力!D153)","v":""},{"$f":"IF(E144=\"\",\"\",IF(②選手情報入力!I153=\"男\",1,2))","v":""},{"$f":"IF(E144=\"\",\"\",VLOOKUP(data_kyogisha!Q144,Sheet3!A:G,2,0))","v":""},{"$f":"IF(E144=\"\",\"\",IF(②選手情報入力!M153=\"\",\"\",②選手情報入力!M153))","v":""},{"$f":"IF(E144=\"\",\"\",②選手情報入力!N153)","v":""},{"$f":"IF(E144=\"\",\"\",VLOOKUP(data_kyogisha!U144,Sheet3!A:G,2,0))","v":""},{"$f":"IF(E144=\"\",\"\",IF(②選手情報入力!P153=\"\",\"\",②選手情報入力!P153))","v":""},{"$f":"IF(E144=\"\",\"\",②選手情報入力!Q153)","v":""},"",{"$f":"IF(E144=\"\",\"\",IF(②選手情報入力!S153=\"\",\"\",②選手情報入力!S153))","v":""},"","",{"$f":"IF(E144=\"\",\"\",IF(②選手情報入力!T153=\"\",\"\",IF(G144=1,IF(②選手情報入力!$U$6=\"\",\"\",②選手情報入力!$U$6),IF(②選手情報入力!$U$7=\"\",\"\",②選手情報入力!$U$7))))","v":""},{"$f":"IF(E144=\"\",\"\",IF(②選手情報入力!T153=\"\",\"\",IF(G144=1,IF(②選手情報入力!$T$6=\"\",0,1),IF(②選手情報入力!$T$7=\"\",0,1))))","v":""},{"$f":"IF(E144=\"\",\"\",IF(②選手情報入力!T153=\"\",\"\",2))","v":""},"",{"$f":"IF(E144=\"\",\"\",IF(②選手情報入力!V153=\"\",\"\",IF(G144=1,IF(②選手情報入力!$W$6=\"\",\"\",②選手情報入力!$W$6),IF(②選手情報入力!$W$7=\"\",\"\",②選手情報入力!$W$7))))","v":""},{"$f":"IF(E144=\"\",\"\",IF(②選手情報入力!V153=\"\",\"\",IF(G144=1,IF(②選手情報入力!$V$6=\"\",0,1),IF(②選手情報入力!$V$7=\"\",0,1))))","v":""},{"$f":"IF(E144=\"\",\"\",IF(②選手情報入力!V153=\"\",\"\",2))","v":""}]
[{"$f":"IF(E145=\"\",\"\",data_kyogisha!A145)","v":""},{"$f":"IF(E145=\"\",\"\",①団体情報入力!$C$5)","v":""},{"$f":"IF(A145=\"\",\"\",VLOOKUP(B145,Sheet6!C:D,2,0))","v":""},null,{"$f":"IF(②選手情報入力!C154=\"\",\"\",②選手情報入力!C154)","v":""},{"$f":"IF(E145=\"\",\"\",②選手情報入力!D154)","v":""},{"$f":"IF(E145=\"\",\"\",IF(②選手情報入力!I154=\"男\",1,2))","v":""},{"$f":"IF(E145=\"\",\"\",VLOOKUP(data_kyogisha!Q145,Sheet3!A:G,2,0))","v":""},{"$f":"IF(E145=\"\",\"\",IF(②選手情報入力!M154=\"\",\"\",②選手情報入力!M154))","v":""},{"$f":"IF(E145=\"\",\"\",②選手情報入力!N154)","v":""},{"$f":"IF(E145=\"\",\"\",VLOOKUP(data_kyogisha!U145,Sheet3!A:G,2,0))","v":""},{"$f":"IF(E145=\"\",\"\",IF(②選手情報入力!P154=\"\",\"\",②選手情報入力!P154))","v":""},{"$f":"IF(E145=\"\",\"\",②選手情報入力!Q154)","v":""},"",{"$f":"IF(E145=\"\",\"\",IF(②選手情報入力!S154=\"\",\"\",②選手情報入力!S154))","v":""},"","",{"$f":"IF(E145=\"\",\"\",IF(②選手情報入力!T154=\"\",\"\",IF(G145=1,IF(②選手情報入力!$U$6=\"\",\"\",②選手情報入力!$U$6),IF(②選手情報入力!$U$7=\"\",\"\",②選手情報入力!$U$7))))","v":""},{"$f":"IF(E145=\"\",\"\",IF(②選手情報入力!T154=\"\",\"\",IF(G145=1,IF(②選手情報入力!$T$6=\"\",0,1),IF(②選手情報入力!$T$7=\"\",0,1))))","v":""},{"$f":"IF(E145=\"\",\"\",IF(②選手情報入力!T154=\"\",\"\",2))","v":""},"",{"$f":"IF(E145=\"\",\"\",IF(②選手情報入力!V154=\"\",\"\",IF(G145=1,IF(②選手情報入力!$W$6=\"\",\"\",②選手情報入力!$W$6),IF(②選手情報入力!$W$7=\"\",\"\",②選手情報入力!$W$7))))","v":""},{"$f":"IF(E145=\"\",\"\",IF(②選手情報入力!V154=\"\",\"\",IF(G145=1,IF(②選手情報入力!$V$6=\"\",0,1),IF(②選手情報入力!$V$7=\"\",0,1))))","v":""},{"$f":"IF(E145=\"\",\"\",IF(②選手情報入力!V154=\"\",\"\",2))","v":""}]
[{"$f":"IF(E146=\"\",\"\",data_kyogisha!A146)","v":""},{"$f":"IF(E146=\"\",\"\",①団体情報入力!$C$5)","v":""},{"$f":"IF(A146=\"\",\"\",VLOOKUP(B146,Sheet6!C:D,2,0))","v":""},null,{"$f":"IF(②選手情報入力!C155=\"\",\"\",②選手情報入力!C155)","v":""},{"$f":"IF(E146=\"\",\"\",②選手情報入力!D155)","v":""},{"$f":"IF(E146=\"\",\"\",IF(②選手情報入力!I155=\"男\",1,2))","v":""},{"$f":"IF(E146=\"\",\"\",VLOOKUP(data_kyogisha!Q146,Sheet3!A:G,2,0))","v":""},{"$f":"IF(E146=\"\",\"\",IF(②選手情報入力!M155=\"\",\"\",②選手情報入力!M155))","v":""},{"$f":"IF(E146=\"\",\"\",②選手情報入力!N155)","v":""},{"$f":"IF(E146=\"\",\"\",VLOOKUP(data_kyogisha!U146,Sheet3!A:G,2,0))","v":""},{"$f":"IF(E146=\"\",\"\",IF(②選手情報入力!P155=\"\",\"\",②選手情報入力!P155))","v":""},{"$f":"IF(E146=\"\",\"\",②選手情報入力!Q155)","v":""},"",{"$f":"IF(E146=\"\",\"\",IF(②選手情報入力!S155=\"\",\"\",②選手情報入力!S155))","v":""},"","",{"$f":"IF(E146=\"\",\"\",IF(②選手情報入力!T155=\"\",\"\",IF(G146=1,IF(②選手情報入力!$U$6=\"\",\"\",②選手情報入力!$U$6),IF(②選手情報入力!$U$7=\"\",\"\",②選手情報入力!$U$7))))","v":""},{"$f":"IF(E146=\"\",\"\",IF(②選手情報入力!T155=\"\",\"\",IF(G146=1,IF(②選手情報入力!$T$6=\"\",0,1),IF(②選手情報入力!$T$7=\"\",0,1))))","v":""},{"$f":"IF(E146=\"\",\"\",IF(②選手情報入力!T155=\"\",\"\",2))","v":""},"",{"$f":"IF(E146=\"\",\"\",IF(②選手情報入力!V155=\"\",\"\",IF(G146=1,IF(②選手情報入力!$W$6=\"\",\"\",②選手情報入力!$W$6),IF(②選手情報入力!$W$7=\"\",\"\",②選手情報入力!$W$7))))","v":""},{"$f":"IF(E146=\"\",\"\",IF(②選手情報入力!V155=\"\",\"\",IF(G146=1,IF(②選手情報入力!$V$6=\"\",0,1),IF(②選手情報入力!$V$7=\"\",0,1))))","v":""},{"$f":"IF(E146=\"\",\"\",IF(②選手情報入力!V155=\"\",\"\",2))","v":""}]
[{"$f":"IF(E147=\"\",\"\",data_kyogisha!A147)","v":""},{"$f":"IF(E147=\"\",\"\",①団体情報入力!$C$5)","v":""},{"$f":"IF(A147=\"\",\"\",VLOOKUP(B147,Sheet6!C:D,2,0))","v":""},null,{"$f":"IF(②選手情報入力!C156=\"\",\"\",②選手情報入力!C156)","v":""},{"$f":"IF(E147=\"\",\"\",②選手情報入力!D156)","v":""},{"$f":"IF(E147=\"\",\"\",IF(②選手情報入力!I156=\"男\",1,2))","v":""},{"$f":"IF(E147=\"\",\"\",VLOOKUP(data_kyogisha!Q147,Sheet3!A:G,2,0))","v":""},{"$f":"IF(E147=\"\",\"\",IF(②選手情報入力!M156=\"\",\"\",②選手情報入力!M156))","v":""},{"$f":"IF(E147=\"\",\"\",②選手情報入力!N156)","v":""},{"$f":"IF(E147=\"\",\"\",VLOOKUP(data_kyogisha!U147,Sheet3!A:G,2,0))","v":""},{"$f":"IF(E147=\"\",\"\",IF(②選手情報入力!P156=\"\",\"\",②選手情報入力!P156))","v":""},{"$f":"IF(E147=\"\",\"\",②選手情報入力!Q156)","v":""},"",{"$f":"IF(E147=\"\",\"\",IF(②選手情報入力!S156=\"\",\"\",②選手情報入力!S156))","v":""},"","",{"$f":"IF(E147=\"\",\"\",IF(②選手情報入力!T156=\"\",\"\",IF(G147=1,IF(②選手情報入力!$U$6=\"\",\"\",②選手情報入力!$U$6),IF(②選手情報入力!$U$7=\"\",\"\",②選手情報入力!$U$7))))","v":""},{"$f":"IF(E147=\"\",\"\",IF(②選手情報入力!T156=\"\",\"\",IF(G147=1,IF(②選手情報入力!$T$6=\"\",0,1),IF(②選手情報入力!$T$7=\"\",0,1))))","v":""},{"$f":"IF(E147=\"\",\"\",IF(②選手情報入力!T156=\"\",\"\",2))","v":""},"",{"$f":"IF(E147=\"\",\"\",IF(②選手情報入力!V156=\"\",\"\",IF(G147=1,IF(②選手情報入力!$W$6=\"\",\"\",②選手情報入力!$W$6),IF(②選手情報入力!$W$7=\"\",\"\",②選手情報入力!$W$7))))","v":""},{"$f":"IF(E147=\"\",\"\",IF(②選手情報入力!V156=\"\",\"\",IF(G147=1,IF(②選手情報入力!$V$6=\"\",0,1),IF(②選手情報入力!$V$7=\"\",0,1))))","v":""},{"$f":"IF(E147=\"\",\"\",IF(②選手情報入力!V156=\"\",\"\",2))","v":""}]
[{"$f":"IF(E148=\"\",\"\",data_kyogisha!A148)","v":""},{"$f":"IF(E148=\"\",\"\",①団体情報入力!$C$5)","v":""},{"$f":"IF(A148=\"\",\"\",VLOOKUP(B148,Sheet6!C:D,2,0))","v":""},null,{"$f":"IF(②選手情報入力!C157=\"\",\"\",②選手情報入力!C157)","v":""},{"$f":"IF(E148=\"\",\"\",②選手情報入力!D157)","v":""},{"$f":"IF(E148=\"\",\"\",IF(②選手情報入力!I157=\"男\",1,2))","v":""},{"$f":"IF(E148=\"\",\"\",VLOOKUP(data_kyogisha!Q148,Sheet3!A:G,2,0))","v":""},{"$f":"IF(E148=\"\",\"\",IF(②選手情報入力!M157=\"\",\"\",②選手情報入力!M157))","v":""},{"$f":"IF(E148=\"\",\"\",②選手情報入力!N157)","v":""},{"$f":"IF(E148=\"\",\"\",VLOOKUP(data_kyogisha!U148,Sheet3!A:G,2,0))","v":""},{"$f":"IF(E148=\"\",\"\",IF(②選手情報入力!P157=\"\",\"\",②選手情報入力!P157))","v":""},{"$f":"IF(E148=\"\",\"\",②選手情報入力!Q157)","v":""},"",{"$f":"IF(E148=\"\",\"\",IF(②選手情報入力!S157=\"\",\"\",②選手情報入力!S157))","v":""},"","",{"$f":"IF(E148=\"\",\"\",IF(②選手情報入力!T157=\"\",\"\",IF(G148=1,IF(②選手情報入力!$U$6=\"\",\"\",②選手情報入力!$U$6),IF(②選手情報入力!$U$7=\"\",\"\",②選手情報入力!$U$7))))","v":""},{"$f":"IF(E148=\"\",\"\",IF(②選手情報入力!T157=\"\",\"\",IF(G148=1,IF(②選手情報入力!$T$6=\"\",0,1),IF(②選手情報入力!$T$7=\"\",0,1))))","v":""},{"$f":"IF(E148=\"\",\"\",IF(②選手情報入力!T157=\"\",\"\",2))","v":""},"",{"$f":"IF(E148=\"\",\"\",IF(②選手情報入力!V157=\"\",\"\",IF(G148=1,IF(②選手情報入力!$W$6=\"\",\"\",②選手情報入力!$W$6),IF(②選手情報入力!$W$7=\"\",\"\",②選手情報入力!$W$7))))","v":""},{"$f":"IF(E148=\"\",\"\",IF(②選手情報入力!V157=\"\",\"\",IF(G148=1,IF(②選手情報入力!$V$6=\"\",0,1),IF(②選手情報入力!$V$7=\"\",0,1))))","v":""},{"$f":"IF(E148=\"\",\"\",IF(②選手情報入力!V157=\"\",\"\",2))","v":""}]
[{"$f":"IF(E149=\"\",\"\",data_kyogisha!A149)","v":""},{"$f":"IF(E149=\"\",\"\",①団体情報入力!$C$5)","v":""},{"$f":"IF(A149=\"\",\"\",VLOOKUP(B149,Sheet6!C:D,2,0))","v":""},null,{"$f":"IF(②選手情報入力!C158=\"\",\"\",②選手情報入力!C158)","v":""},{"$f":"IF(E149=\"\",\"\",②選手情報入力!D158)","v":""},{"$f":"IF(E149=\"\",\"\",IF(②選手情報入力!I158=\"男\",1,2))","v":""},{"$f":"IF(E149=\"\",\"\",VLOOKUP(data_kyogisha!Q149,Sheet3!A:G,2,0))","v":""},{"$f":"IF(E149=\"\",\"\",IF(②選手情報入力!M158=\"\",\"\",②選手情報入力!M158))","v":""},{"$f":"IF(E149=\"\",\"\",②選手情報入力!N158)","v":""},{"$f":"IF(E149=\"\",\"\",VLOOKUP(data_kyogisha!U149,Sheet3!A:G,2,0))","v":""},{"$f":"IF(E149=\"\",\"\",IF(②選手情報入力!P158=\"\",\"\",②選手情報入力!P158))","v":""},{"$f":"IF(E149=\"\",\"\",②選手情報入力!Q158)","v":""},"",{"$f":"IF(E149=\"\",\"\",IF(②選手情報入力!S158=\"\",\"\",②選手情報入力!S158))","v":""},"","",{"$f":"IF(E149=\"\",\"\",IF(②選手情報入力!T158=\"\",\"\",IF(G149=1,IF(②選手情報入力!$U$6=\"\",\"\",②選手情報入力!$U$6),IF(②選手情報入力!$U$7=\"\",\"\",②選手情報入力!$U$7))))","v":""},{"$f":"IF(E149=\"\",\"\",IF(②選手情報入力!T158=\"\",\"\",IF(G149=1,IF(②選手情報入力!$T$6=\"\",0,1),IF(②選手情報入力!$T$7=\"\",0,1))))","v":""},{"$f":"IF(E149=\"\",\"\",IF(②選手情報入力!T158=\"\",\"\",2))","v":""},"",{"$f":"IF(E149=\"\",\"\",IF(②選手情報入力!V158=\"\",\"\",IF(G149=1,IF(②選手情報入力!$W$6=\"\",\"\",②選手情報入力!$W$6),IF(②選手情報入力!$W$7=\"\",\"\",②選手情報入力!$W$7))))","v":""},{"$f":"IF(E149=\"\",\"\",IF(②選手情報入力!V158=\"\",\"\",IF(G149=1,IF(②選手情報入力!$V$6=\"\",0,1),IF(②選手情報入力!$V$7=\"\",0,1))))","v":""},{"$f":"IF(E149=\"\",\"\",IF(②選手情報入力!V158=\"\",\"\",2))","v":""}]
[{"$f":"IF(E150=\"\",\"\",data_kyogisha!A150)","v":""},{"$f":"IF(E150=\"\",\"\",①団体情報入力!$C$5)","v":""},{"$f":"IF(A150=\"\",\"\",VLOOKUP(B150,Sheet6!C:D,2,0))","v":""},null,{"$f":"IF(②選手情報入力!C159=\"\",\"\",②選手情報入力!C159)","v":""},{"$f":"IF(E150=\"\",\"\",②選手情報入力!D159)","v":""},{"$f":"IF(E150=\"\",\"\",IF(②選手情報入力!I159=\"男\",1,2))","v":""},{"$f":"IF(E150=\"\",\"\",VLOOKUP(data_kyogisha!Q150,Sheet3!A:G,2,0))","v":""},{"$f":"IF(E150=\"\",\"\",IF(②選手情報入力!M159=\"\",\"\",②選手情報入力!M159))","v":""},{"$f":"IF(E150=\"\",\"\",②選手情報入力!N159)","v":""},{"$f":"IF(E150=\"\",\"\",VLOOKUP(data_kyogisha!U150,Sheet3!A:G,2,0))","v":""},{"$f":"IF(E150=\"\",\"\",IF(②選手情報入力!P159=\"\",\"\",②選手情報入力!P159))","v":""},{"$f":"IF(E150=\"\",\"\",②選手情報入力!Q159)","v":""},"",{"$f":"IF(E150=\"\",\"\",IF(②選手情報入力!S159=\"\",\"\",②選手情報入力!S159))","v":""},"","",{"$f":"IF(E150=\"\",\"\",IF(②選手情報入力!T159=\"\",\"\",IF(G150=1,IF(②選手情報入力!$U$6=\"\",\"\",②選手情報入力!$U$6),IF(②選手情報入力!$U$7=\"\",\"\",②選手情報入力!$U$7))))","v":""},{"$f":"IF(E150=\"\",\"\",IF(②選手情報入力!T159=\"\",\"\",IF(G150=1,IF(②選手情報入力!$T$6=\"\",0,1),IF(②選手情報入力!$T$7=\"\",0,1))))","v":""},{"$f":"IF(E150=\"\",\"\",IF(②選手情報入力!T159=\"\",\"\",2))","v":""},"",{"$f":"IF(E150=\"\",\"\",IF(②選手情報入力!V159=\"\",\"\",IF(G150=1,IF(②選手情報入力!$W$6=\"\",\"\",②選手情報入力!$W$6),IF(②選手情報入力!$W$7=\"\",\"\",②選手情報入力!$W$7))))","v":""},{"$f":"IF(E150=\"\",\"\",IF(②選手情報入力!V159=\"\",\"\",IF(G150=1,IF(②選手情報入力!$V$6=\"\",0,1),IF(②選手情報入力!$V$7=\"\",0,1))))","v":""},{"$f":"IF(E150=\"\",\"\",IF(②選手情報入力!V159=\"\",\"\",2))","v":""}]
[{"$f":"IF(E151=\"\",\"\",data_kyogisha!A151)","v":""},{"$f":"IF(E151=\"\",\"\",①団体情報入力!$C$5)","v":""},{"$f":"IF(A151=\"\",\"\",VLOOKUP(B151,Sheet6!C:D,2,0))","v":""},null,{"$f":"IF(②選手情報入力!C160=\"\",\"\",②選手情報入力!C160)","v":""},{"$f":"IF(E151=\"\",\"\",②選手情報入力!D160)","v":""},{"$f":"IF(E151=\"\",\"\",IF(②選手情報入力!I160=\"男\",1,2))","v":""},{"$f":"IF(E151=\"\",\"\",VLOOKUP(data_kyogisha!Q151,Sheet3!A:G,2,0))","v":""},{"$f":"IF(E151=\"\",\"\",IF(②選手情報入力!M160=\"\",\"\",②選手情報入力!M160))","v":""},{"$f":"IF(E151=\"\",\"\",②選手情報入力!N160)","v":""},{"$f":"IF(E151=\"\",\"\",VLOOKUP(data_kyogisha!U151,Sheet3!A:G,2,0))","v":""},{"$f":"IF(E151=\"\",\"\",IF(②選手情報入力!P160=\"\",\"\",②選手情報入力!P160))","v":""},{"$f":"IF(E151=\"\",\"\",②選手情報入力!Q160)","v":""},"",{"$f":"IF(E151=\"\",\"\",IF(②選手情報入力!S160=\"\",\"\",②選手情報入力!S160))","v":""},"","",{"$f":"IF(E151=\"\",\"\",IF(②選手情報入力!T160=\"\",\"\",IF(G151=1,IF(②選手情報入力!$U$6=\"\",\"\",②選手情報入力!$U$6),IF(②選手情報入力!$U$7=\"\",\"\",②選手情報入力!$U$7))))","v":""},{"$f":"IF(E151=\"\",\"\",IF(②選手情報入力!T160=\"\",\"\",IF(G151=1,IF(②選手情報入力!$T$6=\"\",0,1),IF(②選手情報入力!$T$7=\"\",0,1))))","v":""},{"$f":"IF(E151=\"\",\"\",IF(②選手情報入力!T160=\"\",\"\",2))","v":""},"",{"$f":"IF(E151=\"\",\"\",IF(②選手情報入力!V160=\"\",\"\",IF(G151=1,IF(②選手情報入力!$W$6=\"\",\"\",②選手情報入力!$W$6),IF(②選手情報入力!$W$7=\"\",\"\",②選手情報入力!$W$7))))","v":""},{"$f":"IF(E151=\"\",\"\",IF(②選手情報入力!V160=\"\",\"\",IF(G151=1,IF(②選手情報入力!$V$6=\"\",0,1),IF(②選手情報入力!$V$7=\"\",0,1))))","v":""},{"$f":"IF(E151=\"\",\"\",IF(②選手情報入力!V160=\"\",\"\",2))","v":""}]
[{"$f":"IF(E152=\"\",\"\",data_kyogisha!A152)","v":""},{"$f":"IF(E152=\"\",\"\",①団体情報入力!$C$5)","v":""},{"$f":"IF(A152=\"\",\"\",VLOOKUP(B152,Sheet6!C:D,2,0))","v":""},null,{"$f":"IF(②選手情報入力!C161=\"\",\"\",②選手情報入力!C161)","v":""},{"$f":"IF(E152=\"\",\"\",②選手情報入力!D161)","v":""},{"$f":"IF(E152=\"\",\"\",IF(②選手情報入力!I161=\"男\",1,2))","v":""},{"$f":"IF(E152=\"\",\"\",VLOOKUP(data_kyogisha!Q152,Sheet3!A:G,2,0))","v":""},{"$f":"IF(E152=\"\",\"\",IF(②選手情報入力!M161=\"\",\"\",②選手情報入力!M161))","v":""},{"$f":"IF(E152=\"\",\"\",②選手情報入力!N161)","v":""},{"$f":"IF(E152=\"\",\"\",VLOOKUP(data_kyogisha!U152,Sheet3!A:G,2,0))","v":""},{"$f":"IF(E152=\"\",\"\",IF(②選手情報入力!P161=\"\",\"\",②選手情報入力!P161))","v":""},{"$f":"IF(E152=\"\",\"\",②選手情報入力!Q161)","v":""},"",{"$f":"IF(E152=\"\",\"\",IF(②選手情報入力!S161=\"\",\"\",②選手情報入力!S161))","v":""},"","",{"$f":"IF(E152=\"\",\"\",IF(②選手情報入力!T161=\"\",\"\",IF(G152=1,IF(②選手情報入力!$U$6=\"\",\"\",②選手情報入力!$U$6),IF(②選手情報入力!$U$7=\"\",\"\",②選手情報入力!$U$7))))","v":""},{"$f":"IF(E152=\"\",\"\",IF(②選手情報入力!T161=\"\",\"\",IF(G152=1,IF(②選手情報入力!$T$6=\"\",0,1),IF(②選手情報入力!$T$7=\"\",0,1))))","v":""},{"$f":"IF(E152=\"\",\"\",IF(②選手情報入力!T161=\"\",\"\",2))","v":""},"",{"$f":"IF(E152=\"\",\"\",IF(②選手情報入力!V161=\"\",\"\",IF(G152=1,IF(②選手情報入力!$W$6=\"\",\"\",②選手情報入力!$W$6),IF(②選手情報入力!$W$7=\"\",\"\",②選手情報入力!$W$7))))","v":""},{"$f":"IF(E152=\"\",\"\",IF(②選手情報入力!V161=\"\",\"\",IF(G152=1,IF(②選手情報入力!$V$6=\"\",0,1),IF(②選手情報入力!$V$7=\"\",0,1))))","v":""},{"$f":"IF(E152=\"\",\"\",IF(②選手情報入力!V161=\"\",\"\",2))","v":""}]
[{"$f":"IF(E153=\"\",\"\",data_kyogisha!A153)","v":""},{"$f":"IF(E153=\"\",\"\",①団体情報入力!$C$5)","v":""},{"$f":"IF(A153=\"\",\"\",VLOOKUP(B153,Sheet6!C:D,2,0))","v":""},null,{"$f":"IF(②選手情報入力!C162=\"\",\"\",②選手情報入力!C162)","v":""},{"$f":"IF(E153=\"\",\"\",②選手情報入力!D162)","v":""},{"$f":"IF(E153=\"\",\"\",IF(②選手情報入力!I162=\"男\",1,2))","v":""},{"$f":"IF(E153=\"\",\"\",VLOOKUP(data_kyogisha!Q153,Sheet3!A:G,2,0))","v":""},{"$f":"IF(E153=\"\",\"\",IF(②選手情報入力!M162=\"\",\"\",②選手情報入力!M162))","v":""},{"$f":"IF(E153=\"\",\"\",②選手情報入力!N162)","v":""},{"$f":"IF(E153=\"\",\"\",VLOOKUP(data_kyogisha!U153,Sheet3!A:G,2,0))","v":""},{"$f":"IF(E153=\"\",\"\",IF(②選手情報入力!P162=\"\",\"\",②選手情報入力!P162))","v":""},{"$f":"IF(E153=\"\",\"\",②選手情報入力!Q162)","v":""},"",{"$f":"IF(E153=\"\",\"\",IF(②選手情報入力!S162=\"\",\"\",②選手情報入力!S162))","v":""},"","",{"$f":"IF(E153=\"\",\"\",IF(②選手情報入力!T162=\"\",\"\",IF(G153=1,IF(②選手情報入力!$U$6=\"\",\"\",②選手情報入力!$U$6),IF(②選手情報入力!$U$7=\"\",\"\",②選手情報入力!$U$7))))","v":""},{"$f":"IF(E153=\"\",\"\",IF(②選手情報入力!T162=\"\",\"\",IF(G153=1,IF(②選手情報入力!$T$6=\"\",0,1),IF(②選手情報入力!$T$7=\"\",0,1))))","v":""},{"$f":"IF(E153=\"\",\"\",IF(②選手情報入力!T162=\"\",\"\",2))","v":""},"",{"$f":"IF(E153=\"\",\"\",IF(②選手情報入力!V162=\"\",\"\",IF(G153=1,IF(②選手情報入力!$W$6=\"\",\"\",②選手情報入力!$W$6),IF(②選手情報入力!$W$7=\"\",\"\",②選手情報入力!$W$7))))","v":""},{"$f":"IF(E153=\"\",\"\",IF(②選手情報入力!V162=\"\",\"\",IF(G153=1,IF(②選手情報入力!$V$6=\"\",0,1),IF(②選手情報入力!$V$7=\"\",0,1))))","v":""},{"$f":"IF(E153=\"\",\"\",IF(②選手情報入力!V162=\"\",\"\",2))","v":""}]
[{"$f":"IF(E154=\"\",\"\",data_kyogisha!A154)","v":""},{"$f":"IF(E154=\"\",\"\",①団体情報入力!$C$5)","v":""},{"$f":"IF(A154=\"\",\"\",VLOOKUP(B154,Sheet6!C:D,2,0))","v":""},null,{"$f":"IF(②選手情報入力!C163=\"\",\"\",②選手情報入力!C163)","v":""},{"$f":"IF(E154=\"\",\"\",②選手情報入力!D163)","v":""},{"$f":"IF(E154=\"\",\"\",IF(②選手情報入力!I163=\"男\",1,2))","v":""},{"$f":"IF(E154=\"\",\"\",VLOOKUP(data_kyogisha!Q154,Sheet3!A:G,2,0))","v":""},{"$f":"IF(E154=\"\",\"\",IF(②選手情報入力!M163=\"\",\"\",②選手情報入力!M163))","v":""},{"$f":"IF(E154=\"\",\"\",②選手情報入力!N163)","v":""},{"$f":"IF(E154=\"\",\"\",VLOOKUP(data_kyogisha!U154,Sheet3!A:G,2,0))","v":""},{"$f":"IF(E154=\"\",\"\",IF(②選手情報入力!P163=\"\",\"\",②選手情報入力!P163))","v":""},{"$f":"IF(E154=\"\",\"\",②選手情報入力!Q163)","v":""},"",{"$f":"IF(E154=\"\",\"\",IF(②選手情報入力!S163=\"\",\"\",②選手情報入力!S163))","v":""},"","",{"$f":"IF(E154=\"\",\"\",IF(②選手情報入力!T163=\"\",\"\",IF(G154=1,IF(②選手情報入力!$U$6=\"\",\"\",②選手情報入力!$U$6),IF(②選手情報入力!$U$7=\"\",\"\",②選手情報入力!$U$7))))","v":""},{"$f":"IF(E154=\"\",\"\",IF(②選手情報入力!T163=\"\",\"\",IF(G154=1,IF(②選手情報入力!$T$6=\"\",0,1),IF(②選手情報入力!$T$7=\"\",0,1))))","v":""},{"$f":"IF(E154=\"\",\"\",IF(②選手情報入力!T163=\"\",\"\",2))","v":""},"",{"$f":"IF(E154=\"\",\"\",IF(②選手情報入力!V163=\"\",\"\",IF(G154=1,IF(②選手情報入力!$W$6=\"\",\"\",②選手情報入力!$W$6),IF(②選手情報入力!$W$7=\"\",\"\",②選手情報入力!$W$7))))","v":""},{"$f":"IF(E154=\"\",\"\",IF(②選手情報入力!V163=\"\",\"\",IF(G154=1,IF(②選手情報入力!$V$6=\"\",0,1),IF(②選手情報入力!$V$7=\"\",0,1))))","v":""},{"$f":"IF(E154=\"\",\"\",IF(②選手情報入力!V163=\"\",\"\",2))","v":""}]
[{"$f":"IF(E155=\"\",\"\",data_kyogisha!A155)","v":""},{"$f":"IF(E155=\"\",\"\",①団体情報入力!$C$5)","v":""},{"$f":"IF(A155=\"\",\"\",VLOOKUP(B155,Sheet6!C:D,2,0))","v":""},null,{"$f":"IF(②選手情報入力!C164=\"\",\"\",②選手情報入力!C164)","v":""},{"$f":"IF(E155=\"\",\"\",②選手情報入力!D164)","v":""},{"$f":"IF(E155=\"\",\"\",IF(②選手情報入力!I164=\"男\",1,2))","v":""},{"$f":"IF(E155=\"\",\"\",VLOOKUP(data_kyogisha!Q155,Sheet3!A:G,2,0))","v":""},{"$f":"IF(E155=\"\",\"\",IF(②選手情報入力!M164=\"\",\"\",②選手情報入力!M164))","v":""},{"$f":"IF(E155=\"\",\"\",②選手情報入力!N164)","v":""},{"$f":"IF(E155=\"\",\"\",VLOOKUP(data_kyogisha!U155,Sheet3!A:G,2,0))","v":""},{"$f":"IF(E155=\"\",\"\",IF(②選手情報入力!P164=\"\",\"\",②選手情報入力!P164))","v":""},{"$f":"IF(E155=\"\",\"\",②選手情報入力!Q164)","v":""},"",{"$f":"IF(E155=\"\",\"\",IF(②選手情報入力!S164=\"\",\"\",②選手情報入力!S164))","v":""},"","",{"$f":"IF(E155=\"\",\"\",IF(②選手情報入力!T164=\"\",\"\",IF(G155=1,IF(②選手情報入力!$U$6=\"\",\"\",②選手情報入力!$U$6),IF(②選手情報入力!$U$7=\"\",\"\",②選手情報入力!$U$7))))","v":""},{"$f":"IF(E155=\"\",\"\",IF(②選手情報入力!T164=\"\",\"\",IF(G155=1,IF(②選手情報入力!$T$6=\"\",0,1),IF(②選手情報入力!$T$7=\"\",0,1))))","v":""},{"$f":"IF(E155=\"\",\"\",IF(②選手情報入力!T164=\"\",\"\",2))","v":""},"",{"$f":"IF(E155=\"\",\"\",IF(②選手情報入力!V164=\"\",\"\",IF(G155=1,IF(②選手情報入力!$W$6=\"\",\"\",②選手情報入力!$W$6),IF(②選手情報入力!$W$7=\"\",\"\",②選手情報入力!$W$7))))","v":""},{"$f":"IF(E155=\"\",\"\",IF(②選手情報入力!V164=\"\",\"\",IF(G155=1,IF(②選手情報入力!$V$6=\"\",0,1),IF(②選手情報入力!$V$7=\"\",0,1))))","v":""},{"$f":"IF(E155=\"\",\"\",IF(②選手情報入力!V164=\"\",\"\",2))","v":""}]
[{"$f":"IF(E156=\"\",\"\",data_kyogisha!A156)","v":""},{"$f":"IF(E156=\"\",\"\",①団体情報入力!$C$5)","v":""},{"$f":"IF(A156=\"\",\"\",VLOOKUP(B156,Sheet6!C:D,2,0))","v":""},null,{"$f":"IF(②選手情報入力!C165=\"\",\"\",②選手情報入力!C165)","v":""},{"$f":"IF(E156=\"\",\"\",②選手情報入力!D165)","v":""},{"$f":"IF(E156=\"\",\"\",IF(②選手情報入力!I165=\"男\",1,2))","v":""},{"$f":"IF(E156=\"\",\"\",VLOOKUP(data_kyogisha!Q156,Sheet3!A:G,2,0))","v":""},{"$f":"IF(E156=\"\",\"\",IF(②選手情報入力!M165=\"\",\"\",②選手情報入力!M165))","v":""},{"$f":"IF(E156=\"\",\"\",②選手情報入力!N165)","v":""},{"$f":"IF(E156=\"\",\"\",VLOOKUP(data_kyogisha!U156,Sheet3!A:G,2,0))","v":""},{"$f":"IF(E156=\"\",\"\",IF(②選手情報入力!P165=\"\",\"\",②選手情報入力!P165))","v":""},{"$f":"IF(E156=\"\",\"\",②選手情報入力!Q165)","v":""},"",{"$f":"IF(E156=\"\",\"\",IF(②選手情報入力!S165=\"\",\"\",②選手情報入力!S165))","v":""},"","",{"$f":"IF(E156=\"\",\"\",IF(②選手情報入力!T165=\"\",\"\",IF(G156=1,IF(②選手情報入力!$U$6=\"\",\"\",②選手情報入力!$U$6),IF(②選手情報入力!$U$7=\"\",\"\",②選手情報入力!$U$7))))","v":""},{"$f":"IF(E156=\"\",\"\",IF(②選手情報入力!T165=\"\",\"\",IF(G156=1,IF(②選手情報入力!$T$6=\"\",0,1),IF(②選手情報入力!$T$7=\"\",0,1))))","v":""},{"$f":"IF(E156=\"\",\"\",IF(②選手情報入力!T165=\"\",\"\",2))","v":""},"",{"$f":"IF(E156=\"\",\"\",IF(②選手情報入力!V165=\"\",\"\",IF(G156=1,IF(②選手情報入力!$W$6=\"\",\"\",②選手情報入力!$W$6),IF(②選手情報入力!$W$7=\"\",\"\",②選手情報入力!$W$7))))","v":""},{"$f":"IF(E156=\"\",\"\",IF(②選手情報入力!V165=\"\",\"\",IF(G156=1,IF(②選手情報入力!$V$6=\"\",0,1),IF(②選手情報入力!$V$7=\"\",0,1))))","v":""},{"$f":"IF(E156=\"\",\"\",IF(②選手情報入力!V165=\"\",\"\",2))","v":""}]
[{"$f":"IF(E157=\"\",\"\",data_kyogisha!A157)","v":""},{"$f":"IF(E157=\"\",\"\",①団体情報入力!$C$5)","v":""},{"$f":"IF(A157=\"\",\"\",VLOOKUP(B157,Sheet6!C:D,2,0))","v":""},null,{"$f":"IF(②選手情報入力!C166=\"\",\"\",②選手情報入力!C166)","v":""},{"$f":"IF(E157=\"\",\"\",②選手情報入力!D166)","v":""},{"$f":"IF(E157=\"\",\"\",IF(②選手情報入力!I166=\"男\",1,2))","v":""},{"$f":"IF(E157=\"\",\"\",VLOOKUP(data_kyogisha!Q157,Sheet3!A:G,2,0))","v":""},{"$f":"IF(E157=\"\",\"\",IF(②選手情報入力!M166=\"\",\"\",②選手情報入力!M166))","v":""},{"$f":"IF(E157=\"\",\"\",②選手情報入力!N166)","v":""},{"$f":"IF(E157=\"\",\"\",VLOOKUP(data_kyogisha!U157,Sheet3!A:G,2,0))","v":""},{"$f":"IF(E157=\"\",\"\",IF(②選手情報入力!P166=\"\",\"\",②選手情報入力!P166))","v":""},{"$f":"IF(E157=\"\",\"\",②選手情報入力!Q166)","v":""},"",{"$f":"IF(E157=\"\",\"\",IF(②選手情報入力!S166=\"\",\"\",②選手情報入力!S166))","v":""},"","",{"$f":"IF(E157=\"\",\"\",IF(②選手情報入力!T166=\"\",\"\",IF(G157=1,IF(②選手情報入力!$U$6=\"\",\"\",②選手情報入力!$U$6),IF(②選手情報入力!$U$7=\"\",\"\",②選手情報入力!$U$7))))","v":""},{"$f":"IF(E157=\"\",\"\",IF(②選手情報入力!T166=\"\",\"\",IF(G157=1,IF(②選手情報入力!$T$6=\"\",0,1),IF(②選手情報入力!$T$7=\"\",0,1))))","v":""},{"$f":"IF(E157=\"\",\"\",IF(②選手情報入力!T166=\"\",\"\",2))","v":""},"",{"$f":"IF(E157=\"\",\"\",IF(②選手情報入力!V166=\"\",\"\",IF(G157=1,IF(②選手情報入力!$W$6=\"\",\"\",②選手情報入力!$W$6),IF(②選手情報入力!$W$7=\"\",\"\",②選手情報入力!$W$7))))","v":""},{"$f":"IF(E157=\"\",\"\",IF(②選手情報入力!V166=\"\",\"\",IF(G157=1,IF(②選手情報入力!$V$6=\"\",0,1),IF(②選手情報入力!$V$7=\"\",0,1))))","v":""},{"$f":"IF(E157=\"\",\"\",IF(②選手情報入力!V166=\"\",\"\",2))","v":""}]
[{"$f":"IF(E158=\"\",\"\",data_kyogisha!A158)","v":""},{"$f":"IF(E158=\"\",\"\",①団体情報入力!$C$5)","v":""},{"$f":"IF(A158=\"\",\"\",VLOOKUP(B158,Sheet6!C:D,2,0))","v":""},null,{"$f":"IF(②選手情報入力!C167=\"\",\"\",②選手情報入力!C167)","v":""},{"$f":"IF(E158=\"\",\"\",②選手情報入力!D167)","v":""},{"$f":"IF(E158=\"\",\"\",IF(②選手情報入力!I167=\"男\",1,2))","v":""},{"$f":"IF(E158=\"\",\"\",VLOOKUP(data_kyogisha!Q158,Sheet3!A:G,2,0))","v":""},{"$f":"IF(E158=\"\",\"\",IF(②選手情報入力!M167=\"\",\"\",②選手情報入力!M167))","v":""},{"$f":"IF(E158=\"\",\"\",②選手情報入力!N167)","v":""},{"$f":"IF(E158=\"\",\"\",VLOOKUP(data_kyogisha!U158,Sheet3!A:G,2,0))","v":""},{"$f":"IF(E158=\"\",\"\",IF(②選手情報入力!P167=\"\",\"\",②選手情報入力!P167))","v":""},{"$f":"IF(E158=\"\",\"\",②選手情報入力!Q167)","v":""},"",{"$f":"IF(E158=\"\",\"\",IF(②選手情報入力!S167=\"\",\"\",②選手情報入力!S167))","v":""},"","",{"$f":"IF(E158=\"\",\"\",IF(②選手情報入力!T167=\"\",\"\",IF(G158=1,IF(②選手情報入力!$U$6=\"\",\"\",②選手情報入力!$U$6),IF(②選手情報入力!$U$7=\"\",\"\",②選手情報入力!$U$7))))","v":""},{"$f":"IF(E158=\"\",\"\",IF(②選手情報入力!T167=\"\",\"\",IF(G158=1,IF(②選手情報入力!$T$6=\"\",0,1),IF(②選手情報入力!$T$7=\"\",0,1))))","v":""},{"$f":"IF(E158=\"\",\"\",IF(②選手情報入力!T167=\"\",\"\",2))","v":""},"",{"$f":"IF(E158=\"\",\"\",IF(②選手情報入力!V167=\"\",\"\",IF(G158=1,IF(②選手情報入力!$W$6=\"\",\"\",②選手情報入力!$W$6),IF(②選手情報入力!$W$7=\"\",\"\",②選手情報入力!$W$7))))","v":""},{"$f":"IF(E158=\"\",\"\",IF(②選手情報入力!V167=\"\",\"\",IF(G158=1,IF(②選手情報入力!$V$6=\"\",0,1),IF(②選手情報入力!$V$7=\"\",0,1))))","v":""},{"$f":"IF(E158=\"\",\"\",IF(②選手情報入力!V167=\"\",\"\",2))","v":""}]
[{"$f":"IF(E159=\"\",\"\",data_kyogisha!A159)","v":""},{"$f":"IF(E159=\"\",\"\",①団体情報入力!$C$5)","v":""},{"$f":"IF(A159=\"\",\"\",VLOOKUP(B159,Sheet6!C:D,2,0))","v":""},null,{"$f":"IF(②選手情報入力!C168=\"\",\"\",②選手情報入力!C168)","v":""},{"$f":"IF(E159=\"\",\"\",②選手情報入力!D168)","v":""},{"$f":"IF(E159=\"\",\"\",IF(②選手情報入力!I168=\"男\",1,2))","v":""},{"$f":"IF(E159=\"\",\"\",VLOOKUP(data_kyogisha!Q159,Sheet3!A:G,2,0))","v":""},{"$f":"IF(E159=\"\",\"\",IF(②選手情報入力!M168=\"\",\"\",②選手情報入力!M168))","v":""},{"$f":"IF(E159=\"\",\"\",②選手情報入力!N168)","v":""},{"$f":"IF(E159=\"\",\"\",VLOOKUP(data_kyogisha!U159,Sheet3!A:G,2,0))","v":""},{"$f":"IF(E159=\"\",\"\",IF(②選手情報入力!P168=\"\",\"\",②選手情報入力!P168))","v":""},{"$f":"IF(E159=\"\",\"\",②選手情報入力!Q168)","v":""},"",{"$f":"IF(E159=\"\",\"\",IF(②選手情報入力!S168=\"\",\"\",②選手情報入力!S168))","v":""},"","",{"$f":"IF(E159=\"\",\"\",IF(②選手情報入力!T168=\"\",\"\",IF(G159=1,IF(②選手情報入力!$U$6=\"\",\"\",②選手情報入力!$U$6),IF(②選手情報入力!$U$7=\"\",\"\",②選手情報入力!$U$7))))","v":""},{"$f":"IF(E159=\"\",\"\",IF(②選手情報入力!T168=\"\",\"\",IF(G159=1,IF(②選手情報入力!$T$6=\"\",0,1),IF(②選手情報入力!$T$7=\"\",0,1))))","v":""},{"$f":"IF(E159=\"\",\"\",IF(②選手情報入力!T168=\"\",\"\",2))","v":""},"",{"$f":"IF(E159=\"\",\"\",IF(②選手情報入力!V168=\"\",\"\",IF(G159=1,IF(②選手情報入力!$W$6=\"\",\"\",②選手情報入力!$W$6),IF(②選手情報入力!$W$7=\"\",\"\",②選手情報入力!$W$7))))","v":""},{"$f":"IF(E159=\"\",\"\",IF(②選手情報入力!V168=\"\",\"\",IF(G159=1,IF(②選手情報入力!$V$6=\"\",0,1),IF(②選手情報入力!$V$7=\"\",0,1))))","v":""},{"$f":"IF(E159=\"\",\"\",IF(②選手情報入力!V168=\"\",\"\",2))","v":""}]
[{"$f":"IF(E160=\"\",\"\",data_kyogisha!A160)","v":""},{"$f":"IF(E160=\"\",\"\",①団体情報入力!$C$5)","v":""},{"$f":"IF(A160=\"\",\"\",VLOOKUP(B160,Sheet6!C:D,2,0))","v":""},null,{"$f":"IF(②選手情報入力!C169=\"\",\"\",②選手情報入力!C169)","v":""},{"$f":"IF(E160=\"\",\"\",②選手情報入力!D169)","v":""},{"$f":"IF(E160=\"\",\"\",IF(②選手情報入力!I169=\"男\",1,2))","v":""},{"$f":"IF(E160=\"\",\"\",VLOOKUP(data_kyogisha!Q160,Sheet3!A:G,2,0))","v":""},{"$f":"IF(E160=\"\",\"\",IF(②選手情報入力!M169=\"\",\"\",②選手情報入力!M169))","v":""},{"$f":"IF(E160=\"\",\"\",②選手情報入力!N169)","v":""},{"$f":"IF(E160=\"\",\"\",VLOOKUP(data_kyogisha!U160,Sheet3!A:G,2,0))","v":""},{"$f":"IF(E160=\"\",\"\",IF(②選手情報入力!P169=\"\",\"\",②選手情報入力!P169))","v":""},{"$f":"IF(E160=\"\",\"\",②選手情報入力!Q169)","v":""},"",{"$f":"IF(E160=\"\",\"\",IF(②選手情報入力!S169=\"\",\"\",②選手情報入力!S169))","v":""},"","",{"$f":"IF(E160=\"\",\"\",IF(②選手情報入力!T169=\"\",\"\",IF(G160=1,IF(②選手情報入力!$U$6=\"\",\"\",②選手情報入力!$U$6),IF(②選手情報入力!$U$7=\"\",\"\",②選手情報入力!$U$7))))","v":""},{"$f":"IF(E160=\"\",\"\",IF(②選手情報入力!T169=\"\",\"\",IF(G160=1,IF(②選手情報入力!$T$6=\"\",0,1),IF(②選手情報入力!$T$7=\"\",0,1))))","v":""},{"$f":"IF(E160=\"\",\"\",IF(②選手情報入力!T169=\"\",\"\",2))","v":""},"",{"$f":"IF(E160=\"\",\"\",IF(②選手情報入力!V169=\"\",\"\",IF(G160=1,IF(②選手情報入力!$W$6=\"\",\"\",②選手情報入力!$W$6),IF(②選手情報入力!$W$7=\"\",\"\",②選手情報入力!$W$7))))","v":""},{"$f":"IF(E160=\"\",\"\",IF(②選手情報入力!V169=\"\",\"\",IF(G160=1,IF(②選手情報入力!$V$6=\"\",0,1),IF(②選手情報入力!$V$7=\"\",0,1))))","v":""},{"$f":"IF(E160=\"\",\"\",IF(②選手情報入力!V169=\"\",\"\",2))","v":""}]
[{"$f":"IF(E161=\"\",\"\",data_kyogisha!A161)","v":""},{"$f":"IF(E161=\"\",\"\",①団体情報入力!$C$5)","v":""},{"$f":"IF(A161=\"\",\"\",VLOOKUP(B161,Sheet6!C:D,2,0))","v":""},null,{"$f":"IF(②選手情報入力!C170=\"\",\"\",②選手情報入力!C170)","v":""},{"$f":"IF(E161=\"\",\"\",②選手情報入力!D170)","v":""},{"$f":"IF(E161=\"\",\"\",IF(②選手情報入力!I170=\"男\",1,2))","v":""},{"$f":"IF(E161=\"\",\"\",VLOOKUP(data_kyogisha!Q161,Sheet3!A:G,2,0))","v":""},{"$f":"IF(E161=\"\",\"\",IF(②選手情報入力!M170=\"\",\"\",②選手情報入力!M170))","v":""},{"$f":"IF(E161=\"\",\"\",②選手情報入力!N170)","v":""},{"$f":"IF(E161=\"\",\"\",VLOOKUP(data_kyogisha!U161,Sheet3!A:G,2,0))","v":""},{"$f":"IF(E161=\"\",\"\",IF(②選手情報入力!P170=\"\",\"\",②選手情報入力!P170))","v":""},{"$f":"IF(E161=\"\",\"\",②選手情報入力!Q170)","v":""},"",{"$f":"IF(E161=\"\",\"\",IF(②選手情報入力!S170=\"\",\"\",②選手情報入力!S170))","v":""},"","",{"$f":"IF(E161=\"\",\"\",IF(②選手情報入力!T170=\"\",\"\",IF(G161=1,IF(②選手情報入力!$U$6=\"\",\"\",②選手情報入力!$U$6),IF(②選手情報入力!$U$7=\"\",\"\",②選手情報入力!$U$7))))","v":""},{"$f":"IF(E161=\"\",\"\",IF(②選手情報入力!T170=\"\",\"\",IF(G161=1,IF(②選手情報入力!$T$6=\"\",0,1),IF(②選手情報入力!$T$7=\"\",0,1))))","v":""},{"$f":"IF(E161=\"\",\"\",IF(②選手情報入力!T170=\"\",\"\",2))","v":""},"",{"$f":"IF(E161=\"\",\"\",IF(②選手情報入力!V170=\"\",\"\",IF(G161=1,IF(②選手情報入力!$W$6=\"\",\"\",②選手情報入力!$W$6),IF(②選手情報入力!$W$7=\"\",\"\",②選手情報入力!$W$7))))","v":""},{"$f":"IF(E161=\"\",\"\",IF(②選手情報入力!V170=\"\",\"\",IF(G161=1,IF(②選手情報入力!$V$6=\"\",0,1),IF(②選手情報入力!$V$7=\"\",0,1))))","v":""},{"$f":"IF(E161=\"\",\"\",IF(②選手情報入力!V170=\"\",\"\",2))","v":""}]
[{"$f":"IF(E162=\"\",\"\",data_kyogisha!A162)","v":""},{"$f":"IF(E162=\"\",\"\",①団体情報入力!$C$5)","v":""},{"$f":"IF(A162=\"\",\"\",VLOOKUP(B162,Sheet6!C:D,2,0))","v":""},null,{"$f":"IF(②選手情報入力!C171=\"\",\"\",②選手情報入力!C171)","v":""},{"$f":"IF(E162=\"\",\"\",②選手情報入力!D171)","v":""},{"$f":"IF(E162=\"\",\"\",IF(②選手情報入力!I171=\"男\",1,2))","v":""},{"$f":"IF(E162=\"\",\"\",VLOOKUP(data_kyogisha!Q162,Sheet3!A:G,2,0))","v":""},{"$f":"IF(E162=\"\",\"\",IF(②選手情報入力!M171=\"\",\"\",②選手情報入力!M171))","v":""},{"$f":"IF(E162=\"\",\"\",②選手情報入力!N171)","v":""},{"$f":"IF(E162=\"\",\"\",VLOOKUP(data_kyogisha!U162,Sheet3!A:G,2,0))","v":""},{"$f":"IF(E162=\"\",\"\",IF(②選手情報入力!P171=\"\",\"\",②選手情報入力!P171))","v":""},{"$f":"IF(E162=\"\",\"\",②選手情報入力!Q171)","v":""},"",{"$f":"IF(E162=\"\",\"\",IF(②選手情報入力!S171=\"\",\"\",②選手情報入力!S171))","v":""},"","",{"$f":"IF(E162=\"\",\"\",IF(②選手情報入力!T171=\"\",\"\",IF(G162=1,IF(②選手情報入力!$U$6=\"\",\"\",②選手情報入力!$U$6),IF(②選手情報入力!$U$7=\"\",\"\",②選手情報入力!$U$7))))","v":""},{"$f":"IF(E162=\"\",\"\",IF(②選手情報入力!T171=\"\",\"\",IF(G162=1,IF(②選手情報入力!$T$6=\"\",0,1),IF(②選手情報入力!$T$7=\"\",0,1))))","v":""},{"$f":"IF(E162=\"\",\"\",IF(②選手情報入力!T171=\"\",\"\",2))","v":""},"",{"$f":"IF(E162=\"\",\"\",IF(②選手情報入力!V171=\"\",\"\",IF(G162=1,IF(②選手情報入力!$W$6=\"\",\"\",②選手情報入力!$W$6),IF(②選手情報入力!$W$7=\"\",\"\",②選手情報入力!$W$7))))","v":""},{"$f":"IF(E162=\"\",\"\",IF(②選手情報入力!V171=\"\",\"\",IF(G162=1,IF(②選手情報入力!$V$6=\"\",0,1),IF(②選手情報入力!$V$7=\"\",0,1))))","v":""},{"$f":"IF(E162=\"\",\"\",IF(②選手情報入力!V171=\"\",\"\",2))","v":""}]
[{"$f":"IF(E163=\"\",\"\",data_kyogisha!A163)","v":""},{"$f":"IF(E163=\"\",\"\",①団体情報入力!$C$5)","v":""},{"$f":"IF(A163=\"\",\"\",VLOOKUP(B163,Sheet6!C:D,2,0))","v":""},null,{"$f":"IF(②選手情報入力!C172=\"\",\"\",②選手情報入力!C172)","v":""},{"$f":"IF(E163=\"\",\"\",②選手情報入力!D172)","v":""},{"$f":"IF(E163=\"\",\"\",IF(②選手情報入力!I172=\"男\",1,2))","v":""},{"$f":"IF(E163=\"\",\"\",VLOOKUP(data_kyogisha!Q163,Sheet3!A:G,2,0))","v":""},{"$f":"IF(E163=\"\",\"\",IF(②選手情報入力!M172=\"\",\"\",②選手情報入力!M172))","v":""},{"$f":"IF(E163=\"\",\"\",②選手情報入力!N172)","v":""},{"$f":"IF(E163=\"\",\"\",VLOOKUP(data_kyogisha!U163,Sheet3!A:G,2,0))","v":""},{"$f":"IF(E163=\"\",\"\",IF(②選手情報入力!P172=\"\",\"\",②選手情報入力!P172))","v":""},{"$f":"IF(E163=\"\",\"\",②選手情報入力!Q172)","v":""},"",{"$f":"IF(E163=\"\",\"\",IF(②選手情報入力!S172=\"\",\"\",②選手情報入力!S172))","v":""},"","",{"$f":"IF(E163=\"\",\"\",IF(②選手情報入力!T172=\"\",\"\",IF(G163=1,IF(②選手情報入力!$U$6=\"\",\"\",②選手情報入力!$U$6),IF(②選手情報入力!$U$7=\"\",\"\",②選手情報入力!$U$7))))","v":""},{"$f":"IF(E163=\"\",\"\",IF(②選手情報入力!T172=\"\",\"\",IF(G163=1,IF(②選手情報入力!$T$6=\"\",0,1),IF(②選手情報入力!$T$7=\"\",0,1))))","v":""},{"$f":"IF(E163=\"\",\"\",IF(②選手情報入力!T172=\"\",\"\",2))","v":""},"",{"$f":"IF(E163=\"\",\"\",IF(②選手情報入力!V172=\"\",\"\",IF(G163=1,IF(②選手情報入力!$W$6=\"\",\"\",②選手情報入力!$W$6),IF(②選手情報入力!$W$7=\"\",\"\",②選手情報入力!$W$7))))","v":""},{"$f":"IF(E163=\"\",\"\",IF(②選手情報入力!V172=\"\",\"\",IF(G163=1,IF(②選手情報入力!$V$6=\"\",0,1),IF(②選手情報入力!$V$7=\"\",0,1))))","v":""},{"$f":"IF(E163=\"\",\"\",IF(②選手情報入力!V172=\"\",\"\",2))","v":""}]
[{"$f":"IF(E164=\"\",\"\",data_kyogisha!A164)","v":""},{"$f":"IF(E164=\"\",\"\",①団体情報入力!$C$5)","v":""},{"$f":"IF(A164=\"\",\"\",VLOOKUP(B164,Sheet6!C:D,2,0))","v":""},null,{"$f":"IF(②選手情報入力!C173=\"\",\"\",②選手情報入力!C173)","v":""},{"$f":"IF(E164=\"\",\"\",②選手情報入力!D173)","v":""},{"$f":"IF(E164=\"\",\"\",IF(②選手情報入力!I173=\"男\",1,2))","v":""},{"$f":"IF(E164=\"\",\"\",VLOOKUP(data_kyogisha!Q164,Sheet3!A:G,2,0))","v":""},{"$f":"IF(E164=\"\",\"\",IF(②選手情報入力!M173=\"\",\"\",②選手情報入力!M173))","v":""},{"$f":"IF(E164=\"\",\"\",②選手情報入力!N173)","v":""},{"$f":"IF(E164=\"\",\"\",VLOOKUP(data_kyogisha!U164,Sheet3!A:G,2,0))","v":""},{"$f":"IF(E164=\"\",\"\",IF(②選手情報入力!P173=\"\",\"\",②選手情報入力!P173))","v":""},{"$f":"IF(E164=\"\",\"\",②選手情報入力!Q173)","v":""},"",{"$f":"IF(E164=\"\",\"\",IF(②選手情報入力!S173=\"\",\"\",②選手情報入力!S173))","v":""},"","",{"$f":"IF(E164=\"\",\"\",IF(②選手情報入力!T173=\"\",\"\",IF(G164=1,IF(②選手情報入力!$U$6=\"\",\"\",②選手情報入力!$U$6),IF(②選手情報入力!$U$7=\"\",\"\",②選手情報入力!$U$7))))","v":""},{"$f":"IF(E164=\"\",\"\",IF(②選手情報入力!T173=\"\",\"\",IF(G164=1,IF(②選手情報入力!$T$6=\"\",0,1),IF(②選手情報入力!$T$7=\"\",0,1))))","v":""},{"$f":"IF(E164=\"\",\"\",IF(②選手情報入力!T173=\"\",\"\",2))","v":""},"",{"$f":"IF(E164=\"\",\"\",IF(②選手情報入力!V173=\"\",\"\",IF(G164=1,IF(②選手情報入力!$W$6=\"\",\"\",②選手情報入力!$W$6),IF(②選手情報入力!$W$7=\"\",\"\",②選手情報入力!$W$7))))","v":""},{"$f":"IF(E164=\"\",\"\",IF(②選手情報入力!V173=\"\",\"\",IF(G164=1,IF(②選手情報入力!$V$6=\"\",0,1),IF(②選手情報入力!$V$7=\"\",0,1))))","v":""},{"$f":"IF(E164=\"\",\"\",IF(②選手情報入力!V173=\"\",\"\",2))","v":""}]
[{"$f":"IF(E165=\"\",\"\",data_kyogisha!A165)","v":""},{"$f":"IF(E165=\"\",\"\",①団体情報入力!$C$5)","v":""},{"$f":"IF(A165=\"\",\"\",VLOOKUP(B165,Sheet6!C:D,2,0))","v":""},null,{"$f":"IF(②選手情報入力!C174=\"\",\"\",②選手情報入力!C174)","v":""},{"$f":"IF(E165=\"\",\"\",②選手情報入力!D174)","v":""},{"$f":"IF(E165=\"\",\"\",IF(②選手情報入力!I174=\"男\",1,2))","v":""},{"$f":"IF(E165=\"\",\"\",VLOOKUP(data_kyogisha!Q165,Sheet3!A:G,2,0))","v":""},{"$f":"IF(E165=\"\",\"\",IF(②選手情報入力!M174=\"\",\"\",②選手情報入力!M174))","v":""},{"$f":"IF(E165=\"\",\"\",②選手情報入力!N174)","v":""},{"$f":"IF(E165=\"\",\"\",VLOOKUP(data_kyogisha!U165,Sheet3!A:G,2,0))","v":""},{"$f":"IF(E165=\"\",\"\",IF(②選手情報入力!P174=\"\",\"\",②選手情報入力!P174))","v":""},{"$f":"IF(E165=\"\",\"\",②選手情報入力!Q174)","v":""},"",{"$f":"IF(E165=\"\",\"\",IF(②選手情報入力!S174=\"\",\"\",②選手情報入力!S174))","v":""},"","",{"$f":"IF(E165=\"\",\"\",IF(②選手情報入力!T174=\"\",\"\",IF(G165=1,IF(②選手情報入力!$U$6=\"\",\"\",②選手情報入力!$U$6),IF(②選手情報入力!$U$7=\"\",\"\",②選手情報入力!$U$7))))","v":""},{"$f":"IF(E165=\"\",\"\",IF(②選手情報入力!T174=\"\",\"\",IF(G165=1,IF(②選手情報入力!$T$6=\"\",0,1),IF(②選手情報入力!$T$7=\"\",0,1))))","v":""},{"$f":"IF(E165=\"\",\"\",IF(②選手情報入力!T174=\"\",\"\",2))","v":""},"",{"$f":"IF(E165=\"\",\"\",IF(②選手情報入力!V174=\"\",\"\",IF(G165=1,IF(②選手情報入力!$W$6=\"\",\"\",②選手情報入力!$W$6),IF(②選手情報入力!$W$7=\"\",\"\",②選手情報入力!$W$7))))","v":""},{"$f":"IF(E165=\"\",\"\",IF(②選手情報入力!V174=\"\",\"\",IF(G165=1,IF(②選手情報入力!$V$6=\"\",0,1),IF(②選手情報入力!$V$7=\"\",0,1))))","v":""},{"$f":"IF(E165=\"\",\"\",IF(②選手情報入力!V174=\"\",\"\",2))","v":""}]
[{"$f":"IF(E166=\"\",\"\",data_kyogisha!A166)","v":""},{"$f":"IF(E166=\"\",\"\",①団体情報入力!$C$5)","v":""},{"$f":"IF(A166=\"\",\"\",VLOOKUP(B166,Sheet6!C:D,2,0))","v":""},null,{"$f":"IF(②選手情報入力!C175=\"\",\"\",②選手情報入力!C175)","v":""},{"$f":"IF(E166=\"\",\"\",②選手情報入力!D175)","v":""},{"$f":"IF(E166=\"\",\"\",IF(②選手情報入力!I175=\"男\",1,2))","v":""},{"$f":"IF(E166=\"\",\"\",VLOOKUP(data_kyogisha!Q166,Sheet3!A:G,2,0))","v":""},{"$f":"IF(E166=\"\",\"\",IF(②選手情報入力!M175=\"\",\"\",②選手情報入力!M175))","v":""},{"$f":"IF(E166=\"\",\"\",②選手情報入力!N175)","v":""},{"$f":"IF(E166=\"\",\"\",VLOOKUP(data_kyogisha!U166,Sheet3!A:G,2,0))","v":""},{"$f":"IF(E166=\"\",\"\",IF(②選手情報入力!P175=\"\",\"\",②選手情報入力!P175))","v":""},{"$f":"IF(E166=\"\",\"\",②選手情報入力!Q175)","v":""},"",{"$f":"IF(E166=\"\",\"\",IF(②選手情報入力!S175=\"\",\"\",②選手情報入力!S175))","v":""},"","",{"$f":"IF(E166=\"\",\"\",IF(②選手情報入力!T175=\"\",\"\",IF(G166=1,IF(②選手情報入力!$U$6=\"\",\"\",②選手情報入力!$U$6),IF(②選手情報入力!$U$7=\"\",\"\",②選手情報入力!$U$7))))","v":""},{"$f":"IF(E166=\"\",\"\",IF(②選手情報入力!T175=\"\",\"\",IF(G166=1,IF(②選手情報入力!$T$6=\"\",0,1),IF(②選手情報入力!$T$7=\"\",0,1))))","v":""},{"$f":"IF(E166=\"\",\"\",IF(②選手情報入力!T175=\"\",\"\",2))","v":""},"",{"$f":"IF(E166=\"\",\"\",IF(②選手情報入力!V175=\"\",\"\",IF(G166=1,IF(②選手情報入力!$W$6=\"\",\"\",②選手情報入力!$W$6),IF(②選手情報入力!$W$7=\"\",\"\",②選手情報入力!$W$7))))","v":""},{"$f":"IF(E166=\"\",\"\",IF(②選手情報入力!V175=\"\",\"\",IF(G166=1,IF(②選手情報入力!$V$6=\"\",0,1),IF(②選手情報入力!$V$7=\"\",0,1))))","v":""},{"$f":"IF(E166=\"\",\"\",IF(②選手情報入力!V175=\"\",\"\",2))","v":""}]
[{"$f":"IF(E167=\"\",\"\",data_kyogisha!A167)","v":""},{"$f":"IF(E167=\"\",\"\",①団体情報入力!$C$5)","v":""},{"$f":"IF(A167=\"\",\"\",VLOOKUP(B167,Sheet6!C:D,2,0))","v":""},null,{"$f":"IF(②選手情報入力!C176=\"\",\"\",②選手情報入力!C176)","v":""},{"$f":"IF(E167=\"\",\"\",②選手情報入力!D176)","v":""},{"$f":"IF(E167=\"\",\"\",IF(②選手情報入力!I176=\"男\",1,2))","v":""},{"$f":"IF(E167=\"\",\"\",VLOOKUP(data_kyogisha!Q167,Sheet3!A:G,2,0))","v":""},{"$f":"IF(E167=\"\",\"\",IF(②選手情報入力!M176=\"\",\"\",②選手情報入力!M176))","v":""},{"$f":"IF(E167=\"\",\"\",②選手情報入力!N176)","v":""},{"$f":"IF(E167=\"\",\"\",VLOOKUP(data_kyogisha!U167,Sheet3!A:G,2,0))","v":""},{"$f":"IF(E167=\"\",\"\",IF(②選手情報入力!P176=\"\",\"\",②選手情報入力!P176))","v":""},{"$f":"IF(E167=\"\",\"\",②選手情報入力!Q176)","v":""},"",{"$f":"IF(E167=\"\",\"\",IF(②選手情報入力!S176=\"\",\"\",②選手情報入力!S176))","v":""},"","",{"$f":"IF(E167=\"\",\"\",IF(②選手情報入力!T176=\"\",\"\",IF(G167=1,IF(②選手情報入力!$U$6=\"\",\"\",②選手情報入力!$U$6),IF(②選手情報入力!$U$7=\"\",\"\",②選手情報入力!$U$7))))","v":""},{"$f":"IF(E167=\"\",\"\",IF(②選手情報入力!T176=\"\",\"\",IF(G167=1,IF(②選手情報入力!$T$6=\"\",0,1),IF(②選手情報入力!$T$7=\"\",0,1))))","v":""},{"$f":"IF(E167=\"\",\"\",IF(②選手情報入力!T176=\"\",\"\",2))","v":""},"",{"$f":"IF(E167=\"\",\"\",IF(②選手情報入力!V176=\"\",\"\",IF(G167=1,IF(②選手情報入力!$W$6=\"\",\"\",②選手情報入力!$W$6),IF(②選手情報入力!$W$7=\"\",\"\",②選手情報入力!$W$7))))","v":""},{"$f":"IF(E167=\"\",\"\",IF(②選手情報入力!V176=\"\",\"\",IF(G167=1,IF(②選手情報入力!$V$6=\"\",0,1),IF(②選手情報入力!$V$7=\"\",0,1))))","v":""},{"$f":"IF(E167=\"\",\"\",IF(②選手情報入力!V176=\"\",\"\",2))","v":""}]
[{"$f":"IF(E168=\"\",\"\",data_kyogisha!A168)","v":""},{"$f":"IF(E168=\"\",\"\",①団体情報入力!$C$5)","v":""},{"$f":"IF(A168=\"\",\"\",VLOOKUP(B168,Sheet6!C:D,2,0))","v":""},null,{"$f":"IF(②選手情報入力!C177=\"\",\"\",②選手情報入力!C177)","v":""},{"$f":"IF(E168=\"\",\"\",②選手情報入力!D177)","v":""},{"$f":"IF(E168=\"\",\"\",IF(②選手情報入力!I177=\"男\",1,2))","v":""},{"$f":"IF(E168=\"\",\"\",VLOOKUP(data_kyogisha!Q168,Sheet3!A:G,2,0))","v":""},{"$f":"IF(E168=\"\",\"\",IF(②選手情報入力!M177=\"\",\"\",②選手情報入力!M177))","v":""},{"$f":"IF(E168=\"\",\"\",②選手情報入力!N177)","v":""},{"$f":"IF(E168=\"\",\"\",VLOOKUP(data_kyogisha!U168,Sheet3!A:G,2,0))","v":""},{"$f":"IF(E168=\"\",\"\",IF(②選手情報入力!P177=\"\",\"\",②選手情報入力!P177))","v":""},{"$f":"IF(E168=\"\",\"\",②選手情報入力!Q177)","v":""},"",{"$f":"IF(E168=\"\",\"\",IF(②選手情報入力!S177=\"\",\"\",②選手情報入力!S177))","v":""},"","",{"$f":"IF(E168=\"\",\"\",IF(②選手情報入力!T177=\"\",\"\",IF(G168=1,IF(②選手情報入力!$U$6=\"\",\"\",②選手情報入力!$U$6),IF(②選手情報入力!$U$7=\"\",\"\",②選手情報入力!$U$7))))","v":""},{"$f":"IF(E168=\"\",\"\",IF(②選手情報入力!T177=\"\",\"\",IF(G168=1,IF(②選手情報入力!$T$6=\"\",0,1),IF(②選手情報入力!$T$7=\"\",0,1))))","v":""},{"$f":"IF(E168=\"\",\"\",IF(②選手情報入力!T177=\"\",\"\",2))","v":""},"",{"$f":"IF(E168=\"\",\"\",IF(②選手情報入力!V177=\"\",\"\",IF(G168=1,IF(②選手情報入力!$W$6=\"\",\"\",②選手情報入力!$W$6),IF(②選手情報入力!$W$7=\"\",\"\",②選手情報入力!$W$7))))","v":""},{"$f":"IF(E168=\"\",\"\",IF(②選手情報入力!V177=\"\",\"\",IF(G168=1,IF(②選手情報入力!$V$6=\"\",0,1),IF(②選手情報入力!$V$7=\"\",0,1))))","v":""},{"$f":"IF(E168=\"\",\"\",IF(②選手情報入力!V177=\"\",\"\",2))","v":""}]
[{"$f":"IF(E169=\"\",\"\",data_kyogisha!A169)","v":""},{"$f":"IF(E169=\"\",\"\",①団体情報入力!$C$5)","v":""},{"$f":"IF(A169=\"\",\"\",VLOOKUP(B169,Sheet6!C:D,2,0))","v":""},null,{"$f":"IF(②選手情報入力!C178=\"\",\"\",②選手情報入力!C178)","v":""},{"$f":"IF(E169=\"\",\"\",②選手情報入力!D178)","v":""},{"$f":"IF(E169=\"\",\"\",IF(②選手情報入力!I178=\"男\",1,2))","v":""},{"$f":"IF(E169=\"\",\"\",VLOOKUP(data_kyogisha!Q169,Sheet3!A:G,2,0))","v":""},{"$f":"IF(E169=\"\",\"\",IF(②選手情報入力!M178=\"\",\"\",②選手情報入力!M178))","v":""},{"$f":"IF(E169=\"\",\"\",②選手情報入力!N178)","v":""},{"$f":"IF(E169=\"\",\"\",VLOOKUP(data_kyogisha!U169,Sheet3!A:G,2,0))","v":""},{"$f":"IF(E169=\"\",\"\",IF(②選手情報入力!P178=\"\",\"\",②選手情報入力!P178))","v":""},{"$f":"IF(E169=\"\",\"\",②選手情報入力!Q178)","v":""},"",{"$f":"IF(E169=\"\",\"\",IF(②選手情報入力!S178=\"\",\"\",②選手情報入力!S178))","v":""},"","",{"$f":"IF(E169=\"\",\"\",IF(②選手情報入力!T178=\"\",\"\",IF(G169=1,IF(②選手情報入力!$U$6=\"\",\"\",②選手情報入力!$U$6),IF(②選手情報入力!$U$7=\"\",\"\",②選手情報入力!$U$7))))","v":""},{"$f":"IF(E169=\"\",\"\",IF(②選手情報入力!T178=\"\",\"\",IF(G169=1,IF(②選手情報入力!$T$6=\"\",0,1),IF(②選手情報入力!$T$7=\"\",0,1))))","v":""},{"$f":"IF(E169=\"\",\"\",IF(②選手情報入力!T178=\"\",\"\",2))","v":""},"",{"$f":"IF(E169=\"\",\"\",IF(②選手情報入力!V178=\"\",\"\",IF(G169=1,IF(②選手情報入力!$W$6=\"\",\"\",②選手情報入力!$W$6),IF(②選手情報入力!$W$7=\"\",\"\",②選手情報入力!$W$7))))","v":""},{"$f":"IF(E169=\"\",\"\",IF(②選手情報入力!V178=\"\",\"\",IF(G169=1,IF(②選手情報入力!$V$6=\"\",0,1),IF(②選手情報入力!$V$7=\"\",0,1))))","v":""},{"$f":"IF(E169=\"\",\"\",IF(②選手情報入力!V178=\"\",\"\",2))","v":""}]
[{"$f":"IF(E170=\"\",\"\",data_kyogisha!A170)","v":""},{"$f":"IF(E170=\"\",\"\",①団体情報入力!$C$5)","v":""},{"$f":"IF(A170=\"\",\"\",VLOOKUP(B170,Sheet6!C:D,2,0))","v":""},null,{"$f":"IF(②選手情報入力!C179=\"\",\"\",②選手情報入力!C179)","v":""},{"$f":"IF(E170=\"\",\"\",②選手情報入力!D179)","v":""},{"$f":"IF(E170=\"\",\"\",IF(②選手情報入力!I179=\"男\",1,2))","v":""},{"$f":"IF(E170=\"\",\"\",VLOOKUP(data_kyogisha!Q170,Sheet3!A:G,2,0))","v":""},{"$f":"IF(E170=\"\",\"\",IF(②選手情報入力!M179=\"\",\"\",②選手情報入力!M179))","v":""},{"$f":"IF(E170=\"\",\"\",②選手情報入力!N179)","v":""},{"$f":"IF(E170=\"\",\"\",VLOOKUP(data_kyogisha!U170,Sheet3!A:G,2,0))","v":""},{"$f":"IF(E170=\"\",\"\",IF(②選手情報入力!P179=\"\",\"\",②選手情報入力!P179))","v":""},{"$f":"IF(E170=\"\",\"\",②選手情報入力!Q179)","v":""},"",{"$f":"IF(E170=\"\",\"\",IF(②選手情報入力!S179=\"\",\"\",②選手情報入力!S179))","v":""},"","",{"$f":"IF(E170=\"\",\"\",IF(②選手情報入力!T179=\"\",\"\",IF(G170=1,IF(②選手情報入力!$U$6=\"\",\"\",②選手情報入力!$U$6),IF(②選手情報入力!$U$7=\"\",\"\",②選手情報入力!$U$7))))","v":""},{"$f":"IF(E170=\"\",\"\",IF(②選手情報入力!T179=\"\",\"\",IF(G170=1,IF(②選手情報入力!$T$6=\"\",0,1),IF(②選手情報入力!$T$7=\"\",0,1))))","v":""},{"$f":"IF(E170=\"\",\"\",IF(②選手情報入力!T179=\"\",\"\",2))","v":""},"",{"$f":"IF(E170=\"\",\"\",IF(②選手情報入力!V179=\"\",\"\",IF(G170=1,IF(②選手情報入力!$W$6=\"\",\"\",②選手情報入力!$W$6),IF(②選手情報入力!$W$7=\"\",\"\",②選手情報入力!$W$7))))","v":""},{"$f":"IF(E170=\"\",\"\",IF(②選手情報入力!V179=\"\",\"\",IF(G170=1,IF(②選手情報入力!$V$6=\"\",0,1),IF(②選手情報入力!$V$7=\"\",0,1))))","v":""},{"$f":"IF(E170=\"\",\"\",IF(②選手情報入力!V179=\"\",\"\",2))","v":""}]
[{"$f":"IF(E171=\"\",\"\",data_kyogisha!A171)","v":""},{"$f":"IF(E171=\"\",\"\",①団体情報入力!$C$5)","v":""},{"$f":"IF(A171=\"\",\"\",VLOOKUP(B171,Sheet6!C:D,2,0))","v":""},null,{"$f":"IF(②選手情報入力!C180=\"\",\"\",②選手情報入力!C180)","v":""},{"$f":"IF(E171=\"\",\"\",②選手情報入力!D180)","v":""},{"$f":"IF(E171=\"\",\"\",IF(②選手情報入力!I180=\"男\",1,2))","v":""},{"$f":"IF(E171=\"\",\"\",VLOOKUP(data_kyogisha!Q171,Sheet3!A:G,2,0))","v":""},{"$f":"IF(E171=\"\",\"\",IF(②選手情報入力!M180=\"\",\"\",②選手情報入力!M180))","v":""},{"$f":"IF(E171=\"\",\"\",②選手情報入力!N180)","v":""},{"$f":"IF(E171=\"\",\"\",VLOOKUP(data_kyogisha!U171,Sheet3!A:G,2,0))","v":""},{"$f":"IF(E171=\"\",\"\",IF(②選手情報入力!P180=\"\",\"\",②選手情報入力!P180))","v":""},{"$f":"IF(E171=\"\",\"\",②選手情報入力!Q180)","v":""},"",{"$f":"IF(E171=\"\",\"\",IF(②選手情報入力!S180=\"\",\"\",②選手情報入力!S180))","v":""},"","",{"$f":"IF(E171=\"\",\"\",IF(②選手情報入力!T180=\"\",\"\",IF(G171=1,IF(②選手情報入力!$U$6=\"\",\"\",②選手情報入力!$U$6),IF(②選手情報入力!$U$7=\"\",\"\",②選手情報入力!$U$7))))","v":""},{"$f":"IF(E171=\"\",\"\",IF(②選手情報入力!T180=\"\",\"\",IF(G171=1,IF(②選手情報入力!$T$6=\"\",0,1),IF(②選手情報入力!$T$7=\"\",0,1))))","v":""},{"$f":"IF(E171=\"\",\"\",IF(②選手情報入力!T180=\"\",\"\",2))","v":""},"",{"$f":"IF(E171=\"\",\"\",IF(②選手情報入力!V180=\"\",\"\",IF(G171=1,IF(②選手情報入力!$W$6=\"\",\"\",②選手情報入力!$W$6),IF(②選手情報入力!$W$7=\"\",\"\",②選手情報入力!$W$7))))","v":""},{"$f":"IF(E171=\"\",\"\",IF(②選手情報入力!V180=\"\",\"\",IF(G171=1,IF(②選手情報入力!$V$6=\"\",0,1),IF(②選手情報入力!$V$7=\"\",0,1))))","v":""},{"$f":"IF(E171=\"\",\"\",IF(②選手情報入力!V180=\"\",\"\",2))","v":""}]
[{"$f":"IF(E172=\"\",\"\",data_kyogisha!A172)","v":""},{"$f":"IF(E172=\"\",\"\",①団体情報入力!$C$5)","v":""},{"$f":"IF(A172=\"\",\"\",VLOOKUP(B172,Sheet6!C:D,2,0))","v":""},null,{"$f":"IF(②選手情報入力!C181=\"\",\"\",②選手情報入力!C181)","v":""},{"$f":"IF(E172=\"\",\"\",②選手情報入力!D181)","v":""},{"$f":"IF(E172=\"\",\"\",IF(②選手情報入力!I181=\"男\",1,2))","v":""},{"$f":"IF(E172=\"\",\"\",VLOOKUP(data_kyogisha!Q172,Sheet3!A:G,2,0))","v":""},{"$f":"IF(E172=\"\",\"\",IF(②選手情報入力!M181=\"\",\"\",②選手情報入力!M181))","v":""},{"$f":"IF(E172=\"\",\"\",②選手情報入力!N181)","v":""},{"$f":"IF(E172=\"\",\"\",VLOOKUP(data_kyogisha!U172,Sheet3!A:G,2,0))","v":""},{"$f":"IF(E172=\"\",\"\",IF(②選手情報入力!P181=\"\",\"\",②選手情報入力!P181))","v":""},{"$f":"IF(E172=\"\",\"\",②選手情報入力!Q181)","v":""},"",{"$f":"IF(E172=\"\",\"\",IF(②選手情報入力!S181=\"\",\"\",②選手情報入力!S181))","v":""},"","",{"$f":"IF(E172=\"\",\"\",IF(②選手情報入力!T181=\"\",\"\",IF(G172=1,IF(②選手情報入力!$U$6=\"\",\"\",②選手情報入力!$U$6),IF(②選手情報入力!$U$7=\"\",\"\",②選手情報入力!$U$7))))","v":""},{"$f":"IF(E172=\"\",\"\",IF(②選手情報入力!T181=\"\",\"\",IF(G172=1,IF(②選手情報入力!$T$6=\"\",0,1),IF(②選手情報入力!$T$7=\"\",0,1))))","v":""},{"$f":"IF(E172=\"\",\"\",IF(②選手情報入力!T181=\"\",\"\",2))","v":""},"",{"$f":"IF(E172=\"\",\"\",IF(②選手情報入力!V181=\"\",\"\",IF(G172=1,IF(②選手情報入力!$W$6=\"\",\"\",②選手情報入力!$W$6),IF(②選手情報入力!$W$7=\"\",\"\",②選手情報入力!$W$7))))","v":""},{"$f":"IF(E172=\"\",\"\",IF(②選手情報入力!V181=\"\",\"\",IF(G172=1,IF(②選手情報入力!$V$6=\"\",0,1),IF(②選手情報入力!$V$7=\"\",0,1))))","v":""},{"$f":"IF(E172=\"\",\"\",IF(②選手情報入力!V181=\"\",\"\",2))","v":""}]
[{"$f":"IF(E173=\"\",\"\",data_kyogisha!A173)","v":""},{"$f":"IF(E173=\"\",\"\",①団体情報入力!$C$5)","v":""},{"$f":"IF(A173=\"\",\"\",VLOOKUP(B173,Sheet6!C:D,2,0))","v":""},null,{"$f":"IF(②選手情報入力!C182=\"\",\"\",②選手情報入力!C182)","v":""},{"$f":"IF(E173=\"\",\"\",②選手情報入力!D182)","v":""},{"$f":"IF(E173=\"\",\"\",IF(②選手情報入力!I182=\"男\",1,2))","v":""},{"$f":"IF(E173=\"\",\"\",VLOOKUP(data_kyogisha!Q173,Sheet3!A:G,2,0))","v":""},{"$f":"IF(E173=\"\",\"\",IF(②選手情報入力!M182=\"\",\"\",②選手情報入力!M182))","v":""},{"$f":"IF(E173=\"\",\"\",②選手情報入力!N182)","v":""},{"$f":"IF(E173=\"\",\"\",VLOOKUP(data_kyogisha!U173,Sheet3!A:G,2,0))","v":""},{"$f":"IF(E173=\"\",\"\",IF(②選手情報入力!P182=\"\",\"\",②選手情報入力!P182))","v":""},{"$f":"IF(E173=\"\",\"\",②選手情報入力!Q182)","v":""},"",{"$f":"IF(E173=\"\",\"\",IF(②選手情報入力!S182=\"\",\"\",②選手情報入力!S182))","v":""},"","",{"$f":"IF(E173=\"\",\"\",IF(②選手情報入力!T182=\"\",\"\",IF(G173=1,IF(②選手情報入力!$U$6=\"\",\"\",②選手情報入力!$U$6),IF(②選手情報入力!$U$7=\"\",\"\",②選手情報入力!$U$7))))","v":""},{"$f":"IF(E173=\"\",\"\",IF(②選手情報入力!T182=\"\",\"\",IF(G173=1,IF(②選手情報入力!$T$6=\"\",0,1),IF(②選手情報入力!$T$7=\"\",0,1))))","v":""},{"$f":"IF(E173=\"\",\"\",IF(②選手情報入力!T182=\"\",\"\",2))","v":""},"",{"$f":"IF(E173=\"\",\"\",IF(②選手情報入力!V182=\"\",\"\",IF(G173=1,IF(②選手情報入力!$W$6=\"\",\"\",②選手情報入力!$W$6),IF(②選手情報入力!$W$7=\"\",\"\",②選手情報入力!$W$7))))","v":""},{"$f":"IF(E173=\"\",\"\",IF(②選手情報入力!V182=\"\",\"\",IF(G173=1,IF(②選手情報入力!$V$6=\"\",0,1),IF(②選手情報入力!$V$7=\"\",0,1))))","v":""},{"$f":"IF(E173=\"\",\"\",IF(②選手情報入力!V182=\"\",\"\",2))","v":""}]
[{"$f":"IF(E174=\"\",\"\",data_kyogisha!A174)","v":""},{"$f":"IF(E174=\"\",\"\",①団体情報入力!$C$5)","v":""},{"$f":"IF(A174=\"\",\"\",VLOOKUP(B174,Sheet6!C:D,2,0))","v":""},null,{"$f":"IF(②選手情報入力!C183=\"\",\"\",②選手情報入力!C183)","v":""},{"$f":"IF(E174=\"\",\"\",②選手情報入力!D183)","v":""},{"$f":"IF(E174=\"\",\"\",IF(②選手情報入力!I183=\"男\",1,2))","v":""},{"$f":"IF(E174=\"\",\"\",VLOOKUP(data_kyogisha!Q174,Sheet3!A:G,2,0))","v":""},{"$f":"IF(E174=\"\",\"\",IF(②選手情報入力!M183=\"\",\"\",②選手情報入力!M183))","v":""},{"$f":"IF(E174=\"\",\"\",②選手情報入力!N183)","v":""},{"$f":"IF(E174=\"\",\"\",VLOOKUP(data_kyogisha!U174,Sheet3!A:G,2,0))","v":""},{"$f":"IF(E174=\"\",\"\",IF(②選手情報入力!P183=\"\",\"\",②選手情報入力!P183))","v":""},{"$f":"IF(E174=\"\",\"\",②選手情報入力!Q183)","v":""},"",{"$f":"IF(E174=\"\",\"\",IF(②選手情報入力!S183=\"\",\"\",②選手情報入力!S183))","v":""},"","",{"$f":"IF(E174=\"\",\"\",IF(②選手情報入力!T183=\"\",\"\",IF(G174=1,IF(②選手情報入力!$U$6=\"\",\"\",②選手情報入力!$U$6),IF(②選手情報入力!$U$7=\"\",\"\",②選手情報入力!$U$7))))","v":""},{"$f":"IF(E174=\"\",\"\",IF(②選手情報入力!T183=\"\",\"\",IF(G174=1,IF(②選手情報入力!$T$6=\"\",0,1),IF(②選手情報入力!$T$7=\"\",0,1))))","v":""},{"$f":"IF(E174=\"\",\"\",IF(②選手情報入力!T183=\"\",\"\",2))","v":""},"",{"$f":"IF(E174=\"\",\"\",IF(②選手情報入力!V183=\"\",\"\",IF(G174=1,IF(②選手情報入力!$W$6=\"\",\"\",②選手情報入力!$W$6),IF(②選手情報入力!$W$7=\"\",\"\",②選手情報入力!$W$7))))","v":""},{"$f":"IF(E174=\"\",\"\",IF(②選手情報入力!V183=\"\",\"\",IF(G174=1,IF(②選手情報入力!$V$6=\"\",0,1),IF(②選手情報入力!$V$7=\"\",0,1))))","v":""},{"$f":"IF(E174=\"\",\"\",IF(②選手情報入力!V183=\"\",\"\",2))","v":""}]
[{"$f":"IF(E175=\"\",\"\",data_kyogisha!A175)","v":""},{"$f":"IF(E175=\"\",\"\",①団体情報入力!$C$5)","v":""},{"$f":"IF(A175=\"\",\"\",VLOOKUP(B175,Sheet6!C:D,2,0))","v":""},null,{"$f":"IF(②選手情報入力!C184=\"\",\"\",②選手情報入力!C184)","v":""},{"$f":"IF(E175=\"\",\"\",②選手情報入力!D184)","v":""},{"$f":"IF(E175=\"\",\"\",IF(②選手情報入力!I184=\"男\",1,2))","v":""},{"$f":"IF(E175=\"\",\"\",VLOOKUP(data_kyogisha!Q175,Sheet3!A:G,2,0))","v":""},{"$f":"IF(E175=\"\",\"\",IF(②選手情報入力!M184=\"\",\"\",②選手情報入力!M184))","v":""},{"$f":"IF(E175=\"\",\"\",②選手情報入力!N184)","v":""},{"$f":"IF(E175=\"\",\"\",VLOOKUP(data_kyogisha!U175,Sheet3!A:G,2,0))","v":""},{"$f":"IF(E175=\"\",\"\",IF(②選手情報入力!P184=\"\",\"\",②選手情報入力!P184))","v":""},{"$f":"IF(E175=\"\",\"\",②選手情報入力!Q184)","v":""},"",{"$f":"IF(E175=\"\",\"\",IF(②選手情報入力!S184=\"\",\"\",②選手情報入力!S184))","v":""},"","",{"$f":"IF(E175=\"\",\"\",IF(②選手情報入力!T184=\"\",\"\",IF(G175=1,IF(②選手情報入力!$U$6=\"\",\"\",②選手情報入力!$U$6),IF(②選手情報入力!$U$7=\"\",\"\",②選手情報入力!$U$7))))","v":""},{"$f":"IF(E175=\"\",\"\",IF(②選手情報入力!T184=\"\",\"\",IF(G175=1,IF(②選手情報入力!$T$6=\"\",0,1),IF(②選手情報入力!$T$7=\"\",0,1))))","v":""},{"$f":"IF(E175=\"\",\"\",IF(②選手情報入力!T184=\"\",\"\",2))","v":""},"",{"$f":"IF(E175=\"\",\"\",IF(②選手情報入力!V184=\"\",\"\",IF(G175=1,IF(②選手情報入力!$W$6=\"\",\"\",②選手情報入力!$W$6),IF(②選手情報入力!$W$7=\"\",\"\",②選手情報入力!$W$7))))","v":""},{"$f":"IF(E175=\"\",\"\",IF(②選手情報入力!V184=\"\",\"\",IF(G175=1,IF(②選手情報入力!$V$6=\"\",0,1),IF(②選手情報入力!$V$7=\"\",0,1))))","v":""},{"$f":"IF(E175=\"\",\"\",IF(②選手情報入力!V184=\"\",\"\",2))","v":""}]
[{"$f":"IF(E176=\"\",\"\",data_kyogisha!A176)","v":""},{"$f":"IF(E176=\"\",\"\",①団体情報入力!$C$5)","v":""},{"$f":"IF(A176=\"\",\"\",VLOOKUP(B176,Sheet6!C:D,2,0))","v":""},null,{"$f":"IF(②選手情報入力!C185=\"\",\"\",②選手情報入力!C185)","v":""},{"$f":"IF(E176=\"\",\"\",②選手情報入力!D185)","v":""},{"$f":"IF(E176=\"\",\"\",IF(②選手情報入力!I185=\"男\",1,2))","v":""},{"$f":"IF(E176=\"\",\"\",VLOOKUP(data_kyogisha!Q176,Sheet3!A:G,2,0))","v":""},{"$f":"IF(E176=\"\",\"\",IF(②選手情報入力!M185=\"\",\"\",②選手情報入力!M185))","v":""},{"$f":"IF(E176=\"\",\"\",②選手情報入力!N185)","v":""},{"$f":"IF(E176=\"\",\"\",VLOOKUP(data_kyogisha!U176,Sheet3!A:G,2,0))","v":""},{"$f":"IF(E176=\"\",\"\",IF(②選手情報入力!P185=\"\",\"\",②選手情報入力!P185))","v":""},{"$f":"IF(E176=\"\",\"\",②選手情報入力!Q185)","v":""},"",{"$f":"IF(E176=\"\",\"\",IF(②選手情報入力!S185=\"\",\"\",②選手情報入力!S185))","v":""},"","",{"$f":"IF(E176=\"\",\"\",IF(②選手情報入力!T185=\"\",\"\",IF(G176=1,IF(②選手情報入力!$U$6=\"\",\"\",②選手情報入力!$U$6),IF(②選手情報入力!$U$7=\"\",\"\",②選手情報入力!$U$7))))","v":""},{"$f":"IF(E176=\"\",\"\",IF(②選手情報入力!T185=\"\",\"\",IF(G176=1,IF(②選手情報入力!$T$6=\"\",0,1),IF(②選手情報入力!$T$7=\"\",0,1))))","v":""},{"$f":"IF(E176=\"\",\"\",IF(②選手情報入力!T185=\"\",\"\",2))","v":""},"",{"$f":"IF(E176=\"\",\"\",IF(②選手情報入力!V185=\"\",\"\",IF(G176=1,IF(②選手情報入力!$W$6=\"\",\"\",②選手情報入力!$W$6),IF(②選手情報入力!$W$7=\"\",\"\",②選手情報入力!$W$7))))","v":""},{"$f":"IF(E176=\"\",\"\",IF(②選手情報入力!V185=\"\",\"\",IF(G176=1,IF(②選手情報入力!$V$6=\"\",0,1),IF(②選手情報入力!$V$7=\"\",0,1))))","v":""},{"$f":"IF(E176=\"\",\"\",IF(②選手情報入力!V185=\"\",\"\",2))","v":""}]
[{"$f":"IF(E177=\"\",\"\",data_kyogisha!A177)","v":""},{"$f":"IF(E177=\"\",\"\",①団体情報入力!$C$5)","v":""},{"$f":"IF(A177=\"\",\"\",VLOOKUP(B177,Sheet6!C:D,2,0))","v":""},null,{"$f":"IF(②選手情報入力!C186=\"\",\"\",②選手情報入力!C186)","v":""},{"$f":"IF(E177=\"\",\"\",②選手情報入力!D186)","v":""},{"$f":"IF(E177=\"\",\"\",IF(②選手情報入力!I186=\"男\",1,2))","v":""},{"$f":"IF(E177=\"\",\"\",VLOOKUP(data_kyogisha!Q177,Sheet3!A:G,2,0))","v":""},{"$f":"IF(E177=\"\",\"\",IF(②選手情報入力!M186=\"\",\"\",②選手情報入力!M186))","v":""},{"$f":"IF(E177=\"\",\"\",②選手情報入力!N186)","v":""},{"$f":"IF(E177=\"\",\"\",VLOOKUP(data_kyogisha!U177,Sheet3!A:G,2,0))","v":""},{"$f":"IF(E177=\"\",\"\",IF(②選手情報入力!P186=\"\",\"\",②選手情報入力!P186))","v":""},{"$f":"IF(E177=\"\",\"\",②選手情報入力!Q186)","v":""},"",{"$f":"IF(E177=\"\",\"\",IF(②選手情報入力!S186=\"\",\"\",②選手情報入力!S186))","v":""},"","",{"$f":"IF(E177=\"\",\"\",IF(②選手情報入力!T186=\"\",\"\",IF(G177=1,IF(②選手情報入力!$U$6=\"\",\"\",②選手情報入力!$U$6),IF(②選手情報入力!$U$7=\"\",\"\",②選手情報入力!$U$7))))","v":""},{"$f":"IF(E177=\"\",\"\",IF(②選手情報入力!T186=\"\",\"\",IF(G177=1,IF(②選手情報入力!$T$6=\"\",0,1),IF(②選手情報入力!$T$7=\"\",0,1))))","v":""},{"$f":"IF(E177=\"\",\"\",IF(②選手情報入力!T186=\"\",\"\",2))","v":""},"",{"$f":"IF(E177=\"\",\"\",IF(②選手情報入力!V186=\"\",\"\",IF(G177=1,IF(②選手情報入力!$W$6=\"\",\"\",②選手情報入力!$W$6),IF(②選手情報入力!$W$7=\"\",\"\",②選手情報入力!$W$7))))","v":""},{"$f":"IF(E177=\"\",\"\",IF(②選手情報入力!V186=\"\",\"\",IF(G177=1,IF(②選手情報入力!$V$6=\"\",0,1),IF(②選手情報入力!$V$7=\"\",0,1))))","v":""},{"$f":"IF(E177=\"\",\"\",IF(②選手情報入力!V186=\"\",\"\",2))","v":""}]
[{"$f":"IF(E178=\"\",\"\",data_kyogisha!A178)","v":""},{"$f":"IF(E178=\"\",\"\",①団体情報入力!$C$5)","v":""},{"$f":"IF(A178=\"\",\"\",VLOOKUP(B178,Sheet6!C:D,2,0))","v":""},null,{"$f":"IF(②選手情報入力!C187=\"\",\"\",②選手情報入力!C187)","v":""},{"$f":"IF(E178=\"\",\"\",②選手情報入力!D187)","v":""},{"$f":"IF(E178=\"\",\"\",IF(②選手情報入力!I187=\"男\",1,2))","v":""},{"$f":"IF(E178=\"\",\"\",VLOOKUP(data_kyogisha!Q178,Sheet3!A:G,2,0))","v":""},{"$f":"IF(E178=\"\",\"\",IF(②選手情報入力!M187=\"\",\"\",②選手情報入力!M187))","v":""},{"$f":"IF(E178=\"\",\"\",②選手情報入力!N187)","v":""},{"$f":"IF(E178=\"\",\"\",VLOOKUP(data_kyogisha!U178,Sheet3!A:G,2,0))","v":""},{"$f":"IF(E178=\"\",\"\",IF(②選手情報入力!P187=\"\",\"\",②選手情報入力!P187))","v":""},{"$f":"IF(E178=\"\",\"\",②選手情報入力!Q187)","v":""},"",{"$f":"IF(E178=\"\",\"\",IF(②選手情報入力!S187=\"\",\"\",②選手情報入力!S187))","v":""},"","",{"$f":"IF(E178=\"\",\"\",IF(②選手情報入力!T187=\"\",\"\",IF(G178=1,IF(②選手情報入力!$U$6=\"\",\"\",②選手情報入力!$U$6),IF(②選手情報入力!$U$7=\"\",\"\",②選手情報入力!$U$7))))","v":""},{"$f":"IF(E178=\"\",\"\",IF(②選手情報入力!T187=\"\",\"\",IF(G178=1,IF(②選手情報入力!$T$6=\"\",0,1),IF(②選手情報入力!$T$7=\"\",0,1))))","v":""},{"$f":"IF(E178=\"\",\"\",IF(②選手情報入力!T187=\"\",\"\",2))","v":""},"",{"$f":"IF(E178=\"\",\"\",IF(②選手情報入力!V187=\"\",\"\",IF(G178=1,IF(②選手情報入力!$W$6=\"\",\"\",②選手情報入力!$W$6),IF(②選手情報入力!$W$7=\"\",\"\",②選手情報入力!$W$7))))","v":""},{"$f":"IF(E178=\"\",\"\",IF(②選手情報入力!V187=\"\",\"\",IF(G178=1,IF(②選手情報入力!$V$6=\"\",0,1),IF(②選手情報入力!$V$7=\"\",0,1))))","v":""},{"$f":"IF(E178=\"\",\"\",IF(②選手情報入力!V187=\"\",\"\",2))","v":""}]
[{"$f":"IF(E179=\"\",\"\",data_kyogisha!A179)","v":""},{"$f":"IF(E179=\"\",\"\",①団体情報入力!$C$5)","v":""},{"$f":"IF(A179=\"\",\"\",VLOOKUP(B179,Sheet6!C:D,2,0))","v":""},null,{"$f":"IF(②選手情報入力!C188=\"\",\"\",②選手情報入力!C188)","v":""},{"$f":"IF(E179=\"\",\"\",②選手情報入力!D188)","v":""},{"$f":"IF(E179=\"\",\"\",IF(②選手情報入力!I188=\"男\",1,2))","v":""},{"$f":"IF(E179=\"\",\"\",VLOOKUP(data_kyogisha!Q179,Sheet3!A:G,2,0))","v":""},{"$f":"IF(E179=\"\",\"\",IF(②選手情報入力!M188=\"\",\"\",②選手情報入力!M188))","v":""},{"$f":"IF(E179=\"\",\"\",②選手情報入力!N188)","v":""},{"$f":"IF(E179=\"\",\"\",VLOOKUP(data_kyogisha!U179,Sheet3!A:G,2,0))","v":""},{"$f":"IF(E179=\"\",\"\",IF(②選手情報入力!P188=\"\",\"\",②選手情報入力!P188))","v":""},{"$f":"IF(E179=\"\",\"\",②選手情報入力!Q188)","v":""},"",{"$f":"IF(E179=\"\",\"\",IF(②選手情報入力!S188=\"\",\"\",②選手情報入力!S188))","v":""},"","",{"$f":"IF(E179=\"\",\"\",IF(②選手情報入力!T188=\"\",\"\",IF(G179=1,IF(②選手情報入力!$U$6=\"\",\"\",②選手情報入力!$U$6),IF(②選手情報入力!$U$7=\"\",\"\",②選手情報入力!$U$7))))","v":""},{"$f":"IF(E179=\"\",\"\",IF(②選手情報入力!T188=\"\",\"\",IF(G179=1,IF(②選手情報入力!$T$6=\"\",0,1),IF(②選手情報入力!$T$7=\"\",0,1))))","v":""},{"$f":"IF(E179=\"\",\"\",IF(②選手情報入力!T188=\"\",\"\",2))","v":""},"",{"$f":"IF(E179=\"\",\"\",IF(②選手情報入力!V188=\"\",\"\",IF(G179=1,IF(②選手情報入力!$W$6=\"\",\"\",②選手情報入力!$W$6),IF(②選手情報入力!$W$7=\"\",\"\",②選手情報入力!$W$7))))","v":""},{"$f":"IF(E179=\"\",\"\",IF(②選手情報入力!V188=\"\",\"\",IF(G179=1,IF(②選手情報入力!$V$6=\"\",0,1),IF(②選手情報入力!$V$7=\"\",0,1))))","v":""},{"$f":"IF(E179=\"\",\"\",IF(②選手情報入力!V188=\"\",\"\",2))","v":""}]
[{"$f":"IF(E180=\"\",\"\",data_kyogisha!A180)","v":""},{"$f":"IF(E180=\"\",\"\",①団体情報入力!$C$5)","v":""},{"$f":"IF(A180=\"\",\"\",VLOOKUP(B180,Sheet6!C:D,2,0))","v":""},null,{"$f":"IF(②選手情報入力!C189=\"\",\"\",②選手情報入力!C189)","v":""},{"$f":"IF(E180=\"\",\"\",②選手情報入力!D189)","v":""},{"$f":"IF(E180=\"\",\"\",IF(②選手情報入力!I189=\"男\",1,2))","v":""},{"$f":"IF(E180=\"\",\"\",VLOOKUP(data_kyogisha!Q180,Sheet3!A:G,2,0))","v":""},{"$f":"IF(E180=\"\",\"\",IF(②選手情報入力!M189=\"\",\"\",②選手情報入力!M189))","v":""},{"$f":"IF(E180=\"\",\"\",②選手情報入力!N189)","v":""},{"$f":"IF(E180=\"\",\"\",VLOOKUP(data_kyogisha!U180,Sheet3!A:G,2,0))","v":""},{"$f":"IF(E180=\"\",\"\",IF(②選手情報入力!P189=\"\",\"\",②選手情報入力!P189))","v":""},{"$f":"IF(E180=\"\",\"\",②選手情報入力!Q189)","v":""},"",{"$f":"IF(E180=\"\",\"\",IF(②選手情報入力!S189=\"\",\"\",②選手情報入力!S189))","v":""},"","",{"$f":"IF(E180=\"\",\"\",IF(②選手情報入力!T189=\"\",\"\",IF(G180=1,IF(②選手情報入力!$U$6=\"\",\"\",②選手情報入力!$U$6),IF(②選手情報入力!$U$7=\"\",\"\",②選手情報入力!$U$7))))","v":""},{"$f":"IF(E180=\"\",\"\",IF(②選手情報入力!T189=\"\",\"\",IF(G180=1,IF(②選手情報入力!$T$6=\"\",0,1),IF(②選手情報入力!$T$7=\"\",0,1))))","v":""},{"$f":"IF(E180=\"\",\"\",IF(②選手情報入力!T189=\"\",\"\",2))","v":""},"",{"$f":"IF(E180=\"\",\"\",IF(②選手情報入力!V189=\"\",\"\",IF(G180=1,IF(②選手情報入力!$W$6=\"\",\"\",②選手情報入力!$W$6),IF(②選手情報入力!$W$7=\"\",\"\",②選手情報入力!$W$7))))","v":""},{"$f":"IF(E180=\"\",\"\",IF(②選手情報入力!V189=\"\",\"\",IF(G180=1,IF(②選手情報入力!$V$6=\"\",0,1),IF(②選手情報入力!$V$7=\"\",0,1))))","v":""},{"$f":"IF(E180=\"\",\"\",IF(②選手情報入力!V189=\"\",\"\",2))","v":""}]
[{"$f":"IF(E181=\"\",\"\",data_kyogisha!A181)","v":""},{"$f":"IF(E181=\"\",\"\",①団体情報入力!$C$5)","v":""},{"$f":"IF(A181=\"\",\"\",VLOOKUP(B181,Sheet6!C:D,2,0))","v":""},null,{"$f":"IF(②選手情報入力!C190=\"\",\"\",②選手情報入力!C190)","v":""},{"$f":"IF(E181=\"\",\"\",②選手情報入力!D190)","v":""},{"$f":"IF(E181=\"\",\"\",IF(②選手情報入力!I190=\"男\",1,2))","v":""},{"$f":"IF(E181=\"\",\"\",VLOOKUP(data_kyogisha!Q181,Sheet3!A:G,2,0))","v":""},{"$f":"IF(E181=\"\",\"\",IF(②選手情報入力!M190=\"\",\"\",②選手情報入力!M190))","v":""},{"$f":"IF(E181=\"\",\"\",②選手情報入力!N190)","v":""},{"$f":"IF(E181=\"\",\"\",VLOOKUP(data_kyogisha!U181,Sheet3!A:G,2,0))","v":""},{"$f":"IF(E181=\"\",\"\",IF(②選手情報入力!P190=\"\",\"\",②選手情報入力!P190))","v":""},{"$f":"IF(E181=\"\",\"\",②選手情報入力!Q190)","v":""},"",{"$f":"IF(E181=\"\",\"\",IF(②選手情報入力!S190=\"\",\"\",②選手情報入力!S190))","v":""},"","",{"$f":"IF(E181=\"\",\"\",IF(②選手情報入力!T190=\"\",\"\",IF(G181=1,IF(②選手情報入力!$U$6=\"\",\"\",②選手情報入力!$U$6),IF(②選手情報入力!$U$7=\"\",\"\",②選手情報入力!$U$7))))","v":""},{"$f":"IF(E181=\"\",\"\",IF(②選手情報入力!T190=\"\",\"\",IF(G181=1,IF(②選手情報入力!$T$6=\"\",0,1),IF(②選手情報入力!$T$7=\"\",0,1))))","v":""},{"$f":"IF(E181=\"\",\"\",IF(②選手情報入力!T190=\"\",\"\",2))","v":""},"",{"$f":"IF(E181=\"\",\"\",IF(②選手情報入力!V190=\"\",\"\",IF(G181=1,IF(②選手情報入力!$W$6=\"\",\"\",②選手情報入力!$W$6),IF(②選手情報入力!$W$7=\"\",\"\",②選手情報入力!$W$7))))","v":""},{"$f":"IF(E181=\"\",\"\",IF(②選手情報入力!V190=\"\",\"\",IF(G181=1,IF(②選手情報入力!$V$6=\"\",0,1),IF(②選手情報入力!$V$7=\"\",0,1))))","v":""},{"$f":"IF(E181=\"\",\"\",IF(②選手情報入力!V190=\"\",\"\",2))","v":""}]
[{"$f":"IF(E182=\"\",\"\",data_kyogisha!A182)","v":""},{"$f":"IF(E182=\"\",\"\",①団体情報入力!$C$5)","v":""},{"$f":"IF(A182=\"\",\"\",VLOOKUP(B182,Sheet6!C:D,2,0))","v":""},null,{"$f":"IF(②選手情報入力!C191=\"\",\"\",②選手情報入力!C191)","v":""},{"$f":"IF(E182=\"\",\"\",②選手情報入力!D191)","v":""},{"$f":"IF(E182=\"\",\"\",IF(②選手情報入力!I191=\"男\",1,2))","v":""},{"$f":"IF(E182=\"\",\"\",VLOOKUP(data_kyogisha!Q182,Sheet3!A:G,2,0))","v":""},{"$f":"IF(E182=\"\",\"\",IF(②選手情報入力!M191=\"\",\"\",②選手情報入力!M191))","v":""},{"$f":"IF(E182=\"\",\"\",②選手情報入力!N191)","v":""},{"$f":"IF(E182=\"\",\"\",VLOOKUP(data_kyogisha!U182,Sheet3!A:G,2,0))","v":""},{"$f":"IF(E182=\"\",\"\",IF(②選手情報入力!P191=\"\",\"\",②選手情報入力!P191))","v":""},{"$f":"IF(E182=\"\",\"\",②選手情報入力!Q191)","v":""},"",{"$f":"IF(E182=\"\",\"\",IF(②選手情報入力!S191=\"\",\"\",②選手情報入力!S191))","v":""},"","",{"$f":"IF(E182=\"\",\"\",IF(②選手情報入力!T191=\"\",\"\",IF(G182=1,IF(②選手情報入力!$U$6=\"\",\"\",②選手情報入力!$U$6),IF(②選手情報入力!$U$7=\"\",\"\",②選手情報入力!$U$7))))","v":""},{"$f":"IF(E182=\"\",\"\",IF(②選手情報入力!T191=\"\",\"\",IF(G182=1,IF(②選手情報入力!$T$6=\"\",0,1),IF(②選手情報入力!$T$7=\"\",0,1))))","v":""},{"$f":"IF(E182=\"\",\"\",IF(②選手情報入力!T191=\"\",\"\",2))","v":""},"",{"$f":"IF(E182=\"\",\"\",IF(②選手情報入力!V191=\"\",\"\",IF(G182=1,IF(②選手情報入力!$W$6=\"\",\"\",②選手情報入力!$W$6),IF(②選手情報入力!$W$7=\"\",\"\",②選手情報入力!$W$7))))","v":""},{"$f":"IF(E182=\"\",\"\",IF(②選手情報入力!V191=\"\",\"\",IF(G182=1,IF(②選手情報入力!$V$6=\"\",0,1),IF(②選手情報入力!$V$7=\"\",0,1))))","v":""},{"$f":"IF(E182=\"\",\"\",IF(②選手情報入力!V191=\"\",\"\",2))","v":""}]
[{"$f":"IF(E183=\"\",\"\",data_kyogisha!A183)","v":""},{"$f":"IF(E183=\"\",\"\",①団体情報入力!$C$5)","v":""},{"$f":"IF(A183=\"\",\"\",VLOOKUP(B183,Sheet6!C:D,2,0))","v":""},null,{"$f":"IF(②選手情報入力!C192=\"\",\"\",②選手情報入力!C192)","v":""},{"$f":"IF(E183=\"\",\"\",②選手情報入力!D192)","v":""},{"$f":"IF(E183=\"\",\"\",IF(②選手情報入力!I192=\"男\",1,2))","v":""},{"$f":"IF(E183=\"\",\"\",VLOOKUP(data_kyogisha!Q183,Sheet3!A:G,2,0))","v":""},{"$f":"IF(E183=\"\",\"\",IF(②選手情報入力!M192=\"\",\"\",②選手情報入力!M192))","v":""},{"$f":"IF(E183=\"\",\"\",②選手情報入力!N192)","v":""},{"$f":"IF(E183=\"\",\"\",VLOOKUP(data_kyogisha!U183,Sheet3!A:G,2,0))","v":""},{"$f":"IF(E183=\"\",\"\",IF(②選手情報入力!P192=\"\",\"\",②選手情報入力!P192))","v":""},{"$f":"IF(E183=\"\",\"\",②選手情報入力!Q192)","v":""},"",{"$f":"IF(E183=\"\",\"\",IF(②選手情報入力!S192=\"\",\"\",②選手情報入力!S192))","v":""},"","",{"$f":"IF(E183=\"\",\"\",IF(②選手情報入力!T192=\"\",\"\",IF(G183=1,IF(②選手情報入力!$U$6=\"\",\"\",②選手情報入力!$U$6),IF(②選手情報入力!$U$7=\"\",\"\",②選手情報入力!$U$7))))","v":""},{"$f":"IF(E183=\"\",\"\",IF(②選手情報入力!T192=\"\",\"\",IF(G183=1,IF(②選手情報入力!$T$6=\"\",0,1),IF(②選手情報入力!$T$7=\"\",0,1))))","v":""},{"$f":"IF(E183=\"\",\"\",IF(②選手情報入力!T192=\"\",\"\",2))","v":""},"",{"$f":"IF(E183=\"\",\"\",IF(②選手情報入力!V192=\"\",\"\",IF(G183=1,IF(②選手情報入力!$W$6=\"\",\"\",②選手情報入力!$W$6),IF(②選手情報入力!$W$7=\"\",\"\",②選手情報入力!$W$7))))","v":""},{"$f":"IF(E183=\"\",\"\",IF(②選手情報入力!V192=\"\",\"\",IF(G183=1,IF(②選手情報入力!$V$6=\"\",0,1),IF(②選手情報入力!$V$7=\"\",0,1))))","v":""},{"$f":"IF(E183=\"\",\"\",IF(②選手情報入力!V192=\"\",\"\",2))","v":""}]
[{"$f":"IF(E184=\"\",\"\",data_kyogisha!A184)","v":""},{"$f":"IF(E184=\"\",\"\",①団体情報入力!$C$5)","v":""},{"$f":"IF(A184=\"\",\"\",VLOOKUP(B184,Sheet6!C:D,2,0))","v":""},null,{"$f":"IF(②選手情報入力!C193=\"\",\"\",②選手情報入力!C193)","v":""},{"$f":"IF(E184=\"\",\"\",②選手情報入力!D193)","v":""},{"$f":"IF(E184=\"\",\"\",IF(②選手情報入力!I193=\"男\",1,2))","v":""},{"$f":"IF(E184=\"\",\"\",VLOOKUP(data_kyogisha!Q184,Sheet3!A:G,2,0))","v":""},{"$f":"IF(E184=\"\",\"\",IF(②選手情報入力!M193=\"\",\"\",②選手情報入力!M193))","v":""},{"$f":"IF(E184=\"\",\"\",②選手情報入力!N193)","v":""},{"$f":"IF(E184=\"\",\"\",VLOOKUP(data_kyogisha!U184,Sheet3!A:G,2,0))","v":""},{"$f":"IF(E184=\"\",\"\",IF(②選手情報入力!P193=\"\",\"\",②選手情報入力!P193))","v":""},{"$f":"IF(E184=\"\",\"\",②選手情報入力!Q193)","v":""},"",{"$f":"IF(E184=\"\",\"\",IF(②選手情報入力!S193=\"\",\"\",②選手情報入力!S193))","v":""},"","",{"$f":"IF(E184=\"\",\"\",IF(②選手情報入力!T193=\"\",\"\",IF(G184=1,IF(②選手情報入力!$U$6=\"\",\"\",②選手情報入力!$U$6),IF(②選手情報入力!$U$7=\"\",\"\",②選手情報入力!$U$7))))","v":""},{"$f":"IF(E184=\"\",\"\",IF(②選手情報入力!T193=\"\",\"\",IF(G184=1,IF(②選手情報入力!$T$6=\"\",0,1),IF(②選手情報入力!$T$7=\"\",0,1))))","v":""},{"$f":"IF(E184=\"\",\"\",IF(②選手情報入力!T193=\"\",\"\",2))","v":""},"",{"$f":"IF(E184=\"\",\"\",IF(②選手情報入力!V193=\"\",\"\",IF(G184=1,IF(②選手情報入力!$W$6=\"\",\"\",②選手情報入力!$W$6),IF(②選手情報入力!$W$7=\"\",\"\",②選手情報入力!$W$7))))","v":""},{"$f":"IF(E184=\"\",\"\",IF(②選手情報入力!V193=\"\",\"\",IF(G184=1,IF(②選手情報入力!$V$6=\"\",0,1),IF(②選手情報入力!$V$7=\"\",0,1))))","v":""},{"$f":"IF(E184=\"\",\"\",IF(②選手情報入力!V193=\"\",\"\",2))","v":""}]
[{"$f":"IF(E185=\"\",\"\",data_kyogisha!A185)","v":""},{"$f":"IF(E185=\"\",\"\",①団体情報入力!$C$5)","v":""},{"$f":"IF(A185=\"\",\"\",VLOOKUP(B185,Sheet6!C:D,2,0))","v":""},null,{"$f":"IF(②選手情報入力!C194=\"\",\"\",②選手情報入力!C194)","v":""},{"$f":"IF(E185=\"\",\"\",②選手情報入力!D194)","v":""},{"$f":"IF(E185=\"\",\"\",IF(②選手情報入力!I194=\"男\",1,2))","v":""},{"$f":"IF(E185=\"\",\"\",VLOOKUP(data_kyogisha!Q185,Sheet3!A:G,2,0))","v":""},{"$f":"IF(E185=\"\",\"\",IF(②選手情報入力!M194=\"\",\"\",②選手情報入力!M194))","v":""},{"$f":"IF(E185=\"\",\"\",②選手情報入力!N194)","v":""},{"$f":"IF(E185=\"\",\"\",VLOOKUP(data_kyogisha!U185,Sheet3!A:G,2,0))","v":""},{"$f":"IF(E185=\"\",\"\",IF(②選手情報入力!P194=\"\",\"\",②選手情報入力!P194))","v":""},{"$f":"IF(E185=\"\",\"\",②選手情報入力!Q194)","v":""},"",{"$f":"IF(E185=\"\",\"\",IF(②選手情報入力!S194=\"\",\"\",②選手情報入力!S194))","v":""},"","",{"$f":"IF(E185=\"\",\"\",IF(②選手情報入力!T194=\"\",\"\",IF(G185=1,IF(②選手情報入力!$U$6=\"\",\"\",②選手情報入力!$U$6),IF(②選手情報入力!$U$7=\"\",\"\",②選手情報入力!$U$7))))","v":""},{"$f":"IF(E185=\"\",\"\",IF(②選手情報入力!T194=\"\",\"\",IF(G185=1,IF(②選手情報入力!$T$6=\"\",0,1),IF(②選手情報入力!$T$7=\"\",0,1))))","v":""},{"$f":"IF(E185=\"\",\"\",IF(②選手情報入力!T194=\"\",\"\",2))","v":""},"",{"$f":"IF(E185=\"\",\"\",IF(②選手情報入力!V194=\"\",\"\",IF(G185=1,IF(②選手情報入力!$W$6=\"\",\"\",②選手情報入力!$W$6),IF(②選手情報入力!$W$7=\"\",\"\",②選手情報入力!$W$7))))","v":""},{"$f":"IF(E185=\"\",\"\",IF(②選手情報入力!V194=\"\",\"\",IF(G185=1,IF(②選手情報入力!$V$6=\"\",0,1),IF(②選手情報入力!$V$7=\"\",0,1))))","v":""},{"$f":"IF(E185=\"\",\"\",IF(②選手情報入力!V194=\"\",\"\",2))","v":""}]
[{"$f":"IF(E186=\"\",\"\",data_kyogisha!A186)","v":""},{"$f":"IF(E186=\"\",\"\",①団体情報入力!$C$5)","v":""},{"$f":"IF(A186=\"\",\"\",VLOOKUP(B186,Sheet6!C:D,2,0))","v":""},null,{"$f":"IF(②選手情報入力!C195=\"\",\"\",②選手情報入力!C195)","v":""},{"$f":"IF(E186=\"\",\"\",②選手情報入力!D195)","v":""},{"$f":"IF(E186=\"\",\"\",IF(②選手情報入力!I195=\"男\",1,2))","v":""},{"$f":"IF(E186=\"\",\"\",VLOOKUP(data_kyogisha!Q186,Sheet3!A:G,2,0))","v":""},{"$f":"IF(E186=\"\",\"\",IF(②選手情報入力!M195=\"\",\"\",②選手情報入力!M195))","v":""},{"$f":"IF(E186=\"\",\"\",②選手情報入力!N195)","v":""},{"$f":"IF(E186=\"\",\"\",VLOOKUP(data_kyogisha!U186,Sheet3!A:G,2,0))","v":""},{"$f":"IF(E186=\"\",\"\",IF(②選手情報入力!P195=\"\",\"\",②選手情報入力!P195))","v":""},{"$f":"IF(E186=\"\",\"\",②選手情報入力!Q195)","v":""},"",{"$f":"IF(E186=\"\",\"\",IF(②選手情報入力!S195=\"\",\"\",②選手情報入力!S195))","v":""},"","",{"$f":"IF(E186=\"\",\"\",IF(②選手情報入力!T195=\"\",\"\",IF(G186=1,IF(②選手情報入力!$U$6=\"\",\"\",②選手情報入力!$U$6),IF(②選手情報入力!$U$7=\"\",\"\",②選手情報入力!$U$7))))","v":""},{"$f":"IF(E186=\"\",\"\",IF(②選手情報入力!T195=\"\",\"\",IF(G186=1,IF(②選手情報入力!$T$6=\"\",0,1),IF(②選手情報入力!$T$7=\"\",0,1))))","v":""},{"$f":"IF(E186=\"\",\"\",IF(②選手情報入力!T195=\"\",\"\",2))","v":""},"",{"$f":"IF(E186=\"\",\"\",IF(②選手情報入力!V195=\"\",\"\",IF(G186=1,IF(②選手情報入力!$W$6=\"\",\"\",②選手情報入力!$W$6),IF(②選手情報入力!$W$7=\"\",\"\",②選手情報入力!$W$7))))","v":""},{"$f":"IF(E186=\"\",\"\",IF(②選手情報入力!V195=\"\",\"\",IF(G186=1,IF(②選手情報入力!$V$6=\"\",0,1),IF(②選手情報入力!$V$7=\"\",0,1))))","v":""},{"$f":"IF(E186=\"\",\"\",IF(②選手情報入力!V195=\"\",\"\",2))","v":""}]
[{"$f":"IF(E187=\"\",\"\",data_kyogisha!A187)","v":""},{"$f":"IF(E187=\"\",\"\",①団体情報入力!$C$5)","v":""},{"$f":"IF(A187=\"\",\"\",VLOOKUP(B187,Sheet6!C:D,2,0))","v":""},null,{"$f":"IF(②選手情報入力!C196=\"\",\"\",②選手情報入力!C196)","v":""},{"$f":"IF(E187=\"\",\"\",②選手情報入力!D196)","v":""},{"$f":"IF(E187=\"\",\"\",IF(②選手情報入力!I196=\"男\",1,2))","v":""},{"$f":"IF(E187=\"\",\"\",VLOOKUP(data_kyogisha!Q187,Sheet3!A:G,2,0))","v":""},{"$f":"IF(E187=\"\",\"\",IF(②選手情報入力!M196=\"\",\"\",②選手情報入力!M196))","v":""},{"$f":"IF(E187=\"\",\"\",②選手情報入力!N196)","v":""},{"$f":"IF(E187=\"\",\"\",VLOOKUP(data_kyogisha!U187,Sheet3!A:G,2,0))","v":""},{"$f":"IF(E187=\"\",\"\",IF(②選手情報入力!P196=\"\",\"\",②選手情報入力!P196))","v":""},{"$f":"IF(E187=\"\",\"\",②選手情報入力!Q196)","v":""},"",{"$f":"IF(E187=\"\",\"\",IF(②選手情報入力!S196=\"\",\"\",②選手情報入力!S196))","v":""},"","",{"$f":"IF(E187=\"\",\"\",IF(②選手情報入力!T196=\"\",\"\",IF(G187=1,IF(②選手情報入力!$U$6=\"\",\"\",②選手情報入力!$U$6),IF(②選手情報入力!$U$7=\"\",\"\",②選手情報入力!$U$7))))","v":""},{"$f":"IF(E187=\"\",\"\",IF(②選手情報入力!T196=\"\",\"\",IF(G187=1,IF(②選手情報入力!$T$6=\"\",0,1),IF(②選手情報入力!$T$7=\"\",0,1))))","v":""},{"$f":"IF(E187=\"\",\"\",IF(②選手情報入力!T196=\"\",\"\",2))","v":""},"",{"$f":"IF(E187=\"\",\"\",IF(②選手情報入力!V196=\"\",\"\",IF(G187=1,IF(②選手情報入力!$W$6=\"\",\"\",②選手情報入力!$W$6),IF(②選手情報入力!$W$7=\"\",\"\",②選手情報入力!$W$7))))","v":""},{"$f":"IF(E187=\"\",\"\",IF(②選手情報入力!V196=\"\",\"\",IF(G187=1,IF(②選手情報入力!$V$6=\"\",0,1),IF(②選手情報入力!$V$7=\"\",0,1))))","v":""},{"$f":"IF(E187=\"\",\"\",IF(②選手情報入力!V196=\"\",\"\",2))","v":""}]
[{"$f":"IF(E188=\"\",\"\",data_kyogisha!A188)","v":""},{"$f":"IF(E188=\"\",\"\",①団体情報入力!$C$5)","v":""},{"$f":"IF(A188=\"\",\"\",VLOOKUP(B188,Sheet6!C:D,2,0))","v":""},null,{"$f":"IF(②選手情報入力!C197=\"\",\"\",②選手情報入力!C197)","v":""},{"$f":"IF(E188=\"\",\"\",②選手情報入力!D197)","v":""},{"$f":"IF(E188=\"\",\"\",IF(②選手情報入力!I197=\"男\",1,2))","v":""},{"$f":"IF(E188=\"\",\"\",VLOOKUP(data_kyogisha!Q188,Sheet3!A:G,2,0))","v":""},{"$f":"IF(E188=\"\",\"\",IF(②選手情報入力!M197=\"\",\"\",②選手情報入力!M197))","v":""},{"$f":"IF(E188=\"\",\"\",②選手情報入力!N197)","v":""},{"$f":"IF(E188=\"\",\"\",VLOOKUP(data_kyogisha!U188,Sheet3!A:G,2,0))","v":""},{"$f":"IF(E188=\"\",\"\",IF(②選手情報入力!P197=\"\",\"\",②選手情報入力!P197))","v":""},{"$f":"IF(E188=\"\",\"\",②選手情報入力!Q197)","v":""},"",{"$f":"IF(E188=\"\",\"\",IF(②選手情報入力!S197=\"\",\"\",②選手情報入力!S197))","v":""},"","",{"$f":"IF(E188=\"\",\"\",IF(②選手情報入力!T197=\"\",\"\",IF(G188=1,IF(②選手情報入力!$U$6=\"\",\"\",②選手情報入力!$U$6),IF(②選手情報入力!$U$7=\"\",\"\",②選手情報入力!$U$7))))","v":""},{"$f":"IF(E188=\"\",\"\",IF(②選手情報入力!T197=\"\",\"\",IF(G188=1,IF(②選手情報入力!$T$6=\"\",0,1),IF(②選手情報入力!$T$7=\"\",0,1))))","v":""},{"$f":"IF(E188=\"\",\"\",IF(②選手情報入力!T197=\"\",\"\",2))","v":""},"",{"$f":"IF(E188=\"\",\"\",IF(②選手情報入力!V197=\"\",\"\",IF(G188=1,IF(②選手情報入力!$W$6=\"\",\"\",②選手情報入力!$W$6),IF(②選手情報入力!$W$7=\"\",\"\",②選手情報入力!$W$7))))","v":""},{"$f":"IF(E188=\"\",\"\",IF(②選手情報入力!V197=\"\",\"\",IF(G188=1,IF(②選手情報入力!$V$6=\"\",0,1),IF(②選手情報入力!$V$7=\"\",0,1))))","v":""},{"$f":"IF(E188=\"\",\"\",IF(②選手情報入力!V197=\"\",\"\",2))","v":""}]
[{"$f":"IF(E189=\"\",\"\",data_kyogisha!A189)","v":""},{"$f":"IF(E189=\"\",\"\",①団体情報入力!$C$5)","v":""},{"$f":"IF(A189=\"\",\"\",VLOOKUP(B189,Sheet6!C:D,2,0))","v":""},null,{"$f":"IF(②選手情報入力!C198=\"\",\"\",②選手情報入力!C198)","v":""},{"$f":"IF(E189=\"\",\"\",②選手情報入力!D198)","v":""},{"$f":"IF(E189=\"\",\"\",IF(②選手情報入力!I198=\"男\",1,2))","v":""},{"$f":"IF(E189=\"\",\"\",VLOOKUP(data_kyogisha!Q189,Sheet3!A:G,2,0))","v":""},{"$f":"IF(E189=\"\",\"\",IF(②選手情報入力!M198=\"\",\"\",②選手情報入力!M198))","v":""},{"$f":"IF(E189=\"\",\"\",②選手情報入力!N198)","v":""},{"$f":"IF(E189=\"\",\"\",VLOOKUP(data_kyogisha!U189,Sheet3!A:G,2,0))","v":""},{"$f":"IF(E189=\"\",\"\",IF(②選手情報入力!P198=\"\",\"\",②選手情報入力!P198))","v":""},{"$f":"IF(E189=\"\",\"\",②選手情報入力!Q198)","v":""},"",{"$f":"IF(E189=\"\",\"\",IF(②選手情報入力!S198=\"\",\"\",②選手情報入力!S198))","v":""},"","",{"$f":"IF(E189=\"\",\"\",IF(②選手情報入力!T198=\"\",\"\",IF(G189=1,IF(②選手情報入力!$U$6=\"\",\"\",②選手情報入力!$U$6),IF(②選手情報入力!$U$7=\"\",\"\",②選手情報入力!$U$7))))","v":""},{"$f":"IF(E189=\"\",\"\",IF(②選手情報入力!T198=\"\",\"\",IF(G189=1,IF(②選手情報入力!$T$6=\"\",0,1),IF(②選手情報入力!$T$7=\"\",0,1))))","v":""},{"$f":"IF(E189=\"\",\"\",IF(②選手情報入力!T198=\"\",\"\",2))","v":""},"",{"$f":"IF(E189=\"\",\"\",IF(②選手情報入力!V198=\"\",\"\",IF(G189=1,IF(②選手情報入力!$W$6=\"\",\"\",②選手情報入力!$W$6),IF(②選手情報入力!$W$7=\"\",\"\",②選手情報入力!$W$7))))","v":""},{"$f":"IF(E189=\"\",\"\",IF(②選手情報入力!V198=\"\",\"\",IF(G189=1,IF(②選手情報入力!$V$6=\"\",0,1),IF(②選手情報入力!$V$7=\"\",0,1))))","v":""},{"$f":"IF(E189=\"\",\"\",IF(②選手情報入力!V198=\"\",\"\",2))","v":""}]
[{"$f":"IF(E190=\"\",\"\",data_kyogisha!A190)","v":""},{"$f":"IF(E190=\"\",\"\",①団体情報入力!$C$5)","v":""},{"$f":"IF(A190=\"\",\"\",VLOOKUP(B190,Sheet6!C:D,2,0))","v":""},null,{"$f":"IF(②選手情報入力!C199=\"\",\"\",②選手情報入力!C199)","v":""},{"$f":"IF(E190=\"\",\"\",②選手情報入力!D199)","v":""},{"$f":"IF(E190=\"\",\"\",IF(②選手情報入力!I199=\"男\",1,2))","v":""},{"$f":"IF(E190=\"\",\"\",VLOOKUP(data_kyogisha!Q190,Sheet3!A:G,2,0))","v":""},{"$f":"IF(E190=\"\",\"\",IF(②選手情報入力!M199=\"\",\"\",②選手情報入力!M199))","v":""},{"$f":"IF(E190=\"\",\"\",②選手情報入力!N199)","v":""},{"$f":"IF(E190=\"\",\"\",VLOOKUP(data_kyogisha!U190,Sheet3!A:G,2,0))","v":""},{"$f":"IF(E190=\"\",\"\",IF(②選手情報入力!P199=\"\",\"\",②選手情報入力!P199))","v":""},{"$f":"IF(E190=\"\",\"\",②選手情報入力!Q199)","v":""},"",{"$f":"IF(E190=\"\",\"\",IF(②選手情報入力!S199=\"\",\"\",②選手情報入力!S199))","v":""},"","",{"$f":"IF(E190=\"\",\"\",IF(②選手情報入力!T199=\"\",\"\",IF(G190=1,IF(②選手情報入力!$U$6=\"\",\"\",②選手情報入力!$U$6),IF(②選手情報入力!$U$7=\"\",\"\",②選手情報入力!$U$7))))","v":""},{"$f":"IF(E190=\"\",\"\",IF(②選手情報入力!T199=\"\",\"\",IF(G190=1,IF(②選手情報入力!$T$6=\"\",0,1),IF(②選手情報入力!$T$7=\"\",0,1))))","v":""},{"$f":"IF(E190=\"\",\"\",IF(②選手情報入力!T199=\"\",\"\",2))","v":""},"",{"$f":"IF(E190=\"\",\"\",IF(②選手情報入力!V199=\"\",\"\",IF(G190=1,IF(②選手情報入力!$W$6=\"\",\"\",②選手情報入力!$W$6),IF(②選手情報入力!$W$7=\"\",\"\",②選手情報入力!$W$7))))","v":""},{"$f":"IF(E190=\"\",\"\",IF(②選手情報入力!V199=\"\",\"\",IF(G190=1,IF(②選手情報入力!$V$6=\"\",0,1),IF(②選手情報入力!$V$7=\"\",0,1))))","v":""},{"$f":"IF(E190=\"\",\"\",IF(②選手情報入力!V199=\"\",\"\",2))","v":""}]
[{"$f":"IF(E191=\"\",\"\",data_kyogisha!A191)","v":""},{"$f":"IF(E191=\"\",\"\",①団体情報入力!$C$5)","v":""},{"$f":"IF(A191=\"\",\"\",VLOOKUP(B191,Sheet6!C:D,2,0))","v":""},null,{"$f":"IF(②選手情報入力!C200=\"\",\"\",②選手情報入力!C200)","v":""},{"$f":"IF(E191=\"\",\"\",②選手情報入力!D200)","v":""},{"$f":"IF(E191=\"\",\"\",IF(②選手情報入力!I200=\"男\",1,2))","v":""},{"$f":"IF(E191=\"\",\"\",VLOOKUP(data_kyogisha!Q191,Sheet3!A:G,2,0))","v":""},{"$f":"IF(E191=\"\",\"\",IF(②選手情報入力!M200=\"\",\"\",②選手情報入力!M200))","v":""},{"$f":"IF(E191=\"\",\"\",②選手情報入力!N200)","v":""},{"$f":"IF(E191=\"\",\"\",VLOOKUP(data_kyogisha!U191,Sheet3!A:G,2,0))","v":""},{"$f":"IF(E191=\"\",\"\",IF(②選手情報入力!P200=\"\",\"\",②選手情報入力!P200))","v":""},{"$f":"IF(E191=\"\",\"\",②選手情報入力!Q200)","v":""},"",{"$f":"IF(E191=\"\",\"\",IF(②選手情報入力!S200=\"\",\"\",②選手情報入力!S200))","v":""},"","",{"$f":"IF(E191=\"\",\"\",IF(②選手情報入力!T200=\"\",\"\",IF(G191=1,IF(②選手情報入力!$U$6=\"\",\"\",②選手情報入力!$U$6),IF(②選手情報入力!$U$7=\"\",\"\",②選手情報入力!$U$7))))","v":""},{"$f":"IF(E191=\"\",\"\",IF(②選手情報入力!T200=\"\",\"\",IF(G191=1,IF(②選手情報入力!$T$6=\"\",0,1),IF(②選手情報入力!$T$7=\"\",0,1))))","v":""},{"$f":"IF(E191=\"\",\"\",IF(②選手情報入力!T200=\"\",\"\",2))","v":""},"",{"$f":"IF(E191=\"\",\"\",IF(②選手情報入力!V200=\"\",\"\",IF(G191=1,IF(②選手情報入力!$W$6=\"\",\"\",②選手情報入力!$W$6),IF(②選手情報入力!$W$7=\"\",\"\",②選手情報入力!$W$7))))","v":""},{"$f":"IF(E191=\"\",\"\",IF(②選手情報入力!V200=\"\",\"\",IF(G191=1,IF(②選手情報入力!$V$6=\"\",0,1),IF(②選手情報入力!$V$7=\"\",0,1))))","v":""},{"$f":"IF(E191=\"\",\"\",IF(②選手情報入力!V200=\"\",\"\",2))","v":""}]
[{"$f":"IF(E192=\"\",\"\",data_kyogisha!A192)","v":""},{"$f":"IF(E192=\"\",\"\",①団体情報入力!$C$5)","v":""},{"$f":"IF(A192=\"\",\"\",VLOOKUP(B192,Sheet6!C:D,2,0))","v":""},null,{"$f":"IF(②選手情報入力!C201=\"\",\"\",②選手情報入力!C201)","v":""},{"$f":"IF(E192=\"\",\"\",②選手情報入力!D201)","v":""},{"$f":"IF(E192=\"\",\"\",IF(②選手情報入力!I201=\"男\",1,2))","v":""},{"$f":"IF(E192=\"\",\"\",VLOOKUP(data_kyogisha!Q192,Sheet3!A:G,2,0))","v":""},{"$f":"IF(E192=\"\",\"\",IF(②選手情報入力!M201=\"\",\"\",②選手情報入力!M201))","v":""},{"$f":"IF(E192=\"\",\"\",②選手情報入力!N201)","v":""},{"$f":"IF(E192=\"\",\"\",VLOOKUP(data_kyogisha!U192,Sheet3!A:G,2,0))","v":""},{"$f":"IF(E192=\"\",\"\",IF(②選手情報入力!P201=\"\",\"\",②選手情報入力!P201))","v":""},{"$f":"IF(E192=\"\",\"\",②選手情報入力!Q201)","v":""},"",{"$f":"IF(E192=\"\",\"\",IF(②選手情報入力!S201=\"\",\"\",②選手情報入力!S201))","v":""},"","",{"$f":"IF(E192=\"\",\"\",IF(②選手情報入力!T201=\"\",\"\",IF(G192=1,IF(②選手情報入力!$U$6=\"\",\"\",②選手情報入力!$U$6),IF(②選手情報入力!$U$7=\"\",\"\",②選手情報入力!$U$7))))","v":""},{"$f":"IF(E192=\"\",\"\",IF(②選手情報入力!T201=\"\",\"\",IF(G192=1,IF(②選手情報入力!$T$6=\"\",0,1),IF(②選手情報入力!$T$7=\"\",0,1))))","v":""},{"$f":"IF(E192=\"\",\"\",IF(②選手情報入力!T201=\"\",\"\",2))","v":""},"",{"$f":"IF(E192=\"\",\"\",IF(②選手情報入力!V201=\"\",\"\",IF(G192=1,IF(②選手情報入力!$W$6=\"\",\"\",②選手情報入力!$W$6),IF(②選手情報入力!$W$7=\"\",\"\",②選手情報入力!$W$7))))","v":""},{"$f":"IF(E192=\"\",\"\",IF(②選手情報入力!V201=\"\",\"\",IF(G192=1,IF(②選手情報入力!$V$6=\"\",0,1),IF(②選手情報入力!$V$7=\"\",0,1))))","v":""},{"$f":"IF(E192=\"\",\"\",IF(②選手情報入力!V201=\"\",\"\",2))","v":""}]
[{"$f":"IF(E193=\"\",\"\",data_kyogisha!A193)","v":""},{"$f":"IF(E193=\"\",\"\",①団体情報入力!$C$5)","v":""},{"$f":"IF(A193=\"\",\"\",VLOOKUP(B193,Sheet6!C:D,2,0))","v":""},null,{"$f":"IF(②選手情報入力!C202=\"\",\"\",②選手情報入力!C202)","v":""},{"$f":"IF(E193=\"\",\"\",②選手情報入力!D202)","v":""},{"$f":"IF(E193=\"\",\"\",IF(②選手情報入力!I202=\"男\",1,2))","v":""},{"$f":"IF(E193=\"\",\"\",VLOOKUP(data_kyogisha!Q193,Sheet3!A:G,2,0))","v":""},{"$f":"IF(E193=\"\",\"\",IF(②選手情報入力!M202=\"\",\"\",②選手情報入力!M202))","v":""},{"$f":"IF(E193=\"\",\"\",②選手情報入力!N202)","v":""},{"$f":"IF(E193=\"\",\"\",VLOOKUP(data_kyogisha!U193,Sheet3!A:G,2,0))","v":""},{"$f":"IF(E193=\"\",\"\",IF(②選手情報入力!P202=\"\",\"\",②選手情報入力!P202))","v":""},{"$f":"IF(E193=\"\",\"\",②選手情報入力!Q202)","v":""},"",{"$f":"IF(E193=\"\",\"\",IF(②選手情報入力!S202=\"\",\"\",②選手情報入力!S202))","v":""},"","",{"$f":"IF(E193=\"\",\"\",IF(②選手情報入力!T202=\"\",\"\",IF(G193=1,IF(②選手情報入力!$U$6=\"\",\"\",②選手情報入力!$U$6),IF(②選手情報入力!$U$7=\"\",\"\",②選手情報入力!$U$7))))","v":""},{"$f":"IF(E193=\"\",\"\",IF(②選手情報入力!T202=\"\",\"\",IF(G193=1,IF(②選手情報入力!$T$6=\"\",0,1),IF(②選手情報入力!$T$7=\"\",0,1))))","v":""},{"$f":"IF(E193=\"\",\"\",IF(②選手情報入力!T202=\"\",\"\",2))","v":""},"",{"$f":"IF(E193=\"\",\"\",IF(②選手情報入力!V202=\"\",\"\",IF(G193=1,IF(②選手情報入力!$W$6=\"\",\"\",②選手情報入力!$W$6),IF(②選手情報入力!$W$7=\"\",\"\",②選手情報入力!$W$7))))","v":""},{"$f":"IF(E193=\"\",\"\",IF(②選手情報入力!V202=\"\",\"\",IF(G193=1,IF(②選手情報入力!$V$6=\"\",0,1),IF(②選手情報入力!$V$7=\"\",0,1))))","v":""},{"$f":"IF(E193=\"\",\"\",IF(②選手情報入力!V202=\"\",\"\",2))","v":""}]
[{"$f":"IF(E194=\"\",\"\",data_kyogisha!A194)","v":""},{"$f":"IF(E194=\"\",\"\",①団体情報入力!$C$5)","v":""},{"$f":"IF(A194=\"\",\"\",VLOOKUP(B194,Sheet6!C:D,2,0))","v":""},null,{"$f":"IF(②選手情報入力!C203=\"\",\"\",②選手情報入力!C203)","v":""},{"$f":"IF(E194=\"\",\"\",②選手情報入力!D203)","v":""},{"$f":"IF(E194=\"\",\"\",IF(②選手情報入力!I203=\"男\",1,2))","v":""},{"$f":"IF(E194=\"\",\"\",VLOOKUP(data_kyogisha!Q194,Sheet3!A:G,2,0))","v":""},{"$f":"IF(E194=\"\",\"\",IF(②選手情報入力!M203=\"\",\"\",②選手情報入力!M203))","v":""},{"$f":"IF(E194=\"\",\"\",②選手情報入力!N203)","v":""},{"$f":"IF(E194=\"\",\"\",VLOOKUP(data_kyogisha!U194,Sheet3!A:G,2,0))","v":""},{"$f":"IF(E194=\"\",\"\",IF(②選手情報入力!P203=\"\",\"\",②選手情報入力!P203))","v":""},{"$f":"IF(E194=\"\",\"\",②選手情報入力!Q203)","v":""},"",{"$f":"IF(E194=\"\",\"\",IF(②選手情報入力!S203=\"\",\"\",②選手情報入力!S203))","v":""},"","",{"$f":"IF(E194=\"\",\"\",IF(②選手情報入力!T203=\"\",\"\",IF(G194=1,IF(②選手情報入力!$U$6=\"\",\"\",②選手情報入力!$U$6),IF(②選手情報入力!$U$7=\"\",\"\",②選手情報入力!$U$7))))","v":""},{"$f":"IF(E194=\"\",\"\",IF(②選手情報入力!T203=\"\",\"\",IF(G194=1,IF(②選手情報入力!$T$6=\"\",0,1),IF(②選手情報入力!$T$7=\"\",0,1))))","v":""},{"$f":"IF(E194=\"\",\"\",IF(②選手情報入力!T203=\"\",\"\",2))","v":""},"",{"$f":"IF(E194=\"\",\"\",IF(②選手情報入力!V203=\"\",\"\",IF(G194=1,IF(②選手情報入力!$W$6=\"\",\"\",②選手情報入力!$W$6),IF(②選手情報入力!$W$7=\"\",\"\",②選手情報入力!$W$7))))","v":""},{"$f":"IF(E194=\"\",\"\",IF(②選手情報入力!V203=\"\",\"\",IF(G194=1,IF(②選手情報入力!$V$6=\"\",0,1),IF(②選手情報入力!$V$7=\"\",0,1))))","v":""},{"$f":"IF(E194=\"\",\"\",IF(②選手情報入力!V203=\"\",\"\",2))","v":""}]
[{"$f":"IF(E195=\"\",\"\",data_kyogisha!A195)","v":""},{"$f":"IF(E195=\"\",\"\",①団体情報入力!$C$5)","v":""},{"$f":"IF(A195=\"\",\"\",VLOOKUP(B195,Sheet6!C:D,2,0))","v":""},null,{"$f":"IF(②選手情報入力!C204=\"\",\"\",②選手情報入力!C204)","v":""},{"$f":"IF(E195=\"\",\"\",②選手情報入力!D204)","v":""},{"$f":"IF(E195=\"\",\"\",IF(②選手情報入力!I204=\"男\",1,2))","v":""},{"$f":"IF(E195=\"\",\"\",VLOOKUP(data_kyogisha!Q195,Sheet3!A:G,2,0))","v":""},{"$f":"IF(E195=\"\",\"\",IF(②選手情報入力!M204=\"\",\"\",②選手情報入力!M204))","v":""},{"$f":"IF(E195=\"\",\"\",②選手情報入力!N204)","v":""},{"$f":"IF(E195=\"\",\"\",VLOOKUP(data_kyogisha!U195,Sheet3!A:G,2,0))","v":""},{"$f":"IF(E195=\"\",\"\",IF(②選手情報入力!P204=\"\",\"\",②選手情報入力!P204))","v":""},{"$f":"IF(E195=\"\",\"\",②選手情報入力!Q204)","v":""},"",{"$f":"IF(E195=\"\",\"\",IF(②選手情報入力!S204=\"\",\"\",②選手情報入力!S204))","v":""},"","",{"$f":"IF(E195=\"\",\"\",IF(②選手情報入力!T204=\"\",\"\",IF(G195=1,IF(②選手情報入力!$U$6=\"\",\"\",②選手情報入力!$U$6),IF(②選手情報入力!$U$7=\"\",\"\",②選手情報入力!$U$7))))","v":""},{"$f":"IF(E195=\"\",\"\",IF(②選手情報入力!T204=\"\",\"\",IF(G195=1,IF(②選手情報入力!$T$6=\"\",0,1),IF(②選手情報入力!$T$7=\"\",0,1))))","v":""},{"$f":"IF(E195=\"\",\"\",IF(②選手情報入力!T204=\"\",\"\",2))","v":""},"",{"$f":"IF(E195=\"\",\"\",IF(②選手情報入力!V204=\"\",\"\",IF(G195=1,IF(②選手情報入力!$W$6=\"\",\"\",②選手情報入力!$W$6),IF(②選手情報入力!$W$7=\"\",\"\",②選手情報入力!$W$7))))","v":""},{"$f":"IF(E195=\"\",\"\",IF(②選手情報入力!V204=\"\",\"\",IF(G195=1,IF(②選手情報入力!$V$6=\"\",0,1),IF(②選手情報入力!$V$7=\"\",0,1))))","v":""},{"$f":"IF(E195=\"\",\"\",IF(②選手情報入力!V204=\"\",\"\",2))","v":""}]
[{"$f":"IF(E196=\"\",\"\",data_kyogisha!A196)","v":""},{"$f":"IF(E196=\"\",\"\",①団体情報入力!$C$5)","v":""},{"$f":"IF(A196=\"\",\"\",VLOOKUP(B196,Sheet6!C:D,2,0))","v":""},null,{"$f":"IF(②選手情報入力!C205=\"\",\"\",②選手情報入力!C205)","v":""},{"$f":"IF(E196=\"\",\"\",②選手情報入力!D205)","v":""},{"$f":"IF(E196=\"\",\"\",IF(②選手情報入力!I205=\"男\",1,2))","v":""},{"$f":"IF(E196=\"\",\"\",VLOOKUP(data_kyogisha!Q196,Sheet3!A:G,2,0))","v":""},{"$f":"IF(E196=\"\",\"\",IF(②選手情報入力!M205=\"\",\"\",②選手情報入力!M205))","v":""},{"$f":"IF(E196=\"\",\"\",②選手情報入力!N205)","v":""},{"$f":"IF(E196=\"\",\"\",VLOOKUP(data_kyogisha!U196,Sheet3!A:G,2,0))","v":""},{"$f":"IF(E196=\"\",\"\",IF(②選手情報入力!P205=\"\",\"\",②選手情報入力!P205))","v":""},{"$f":"IF(E196=\"\",\"\",②選手情報入力!Q205)","v":""},"",{"$f":"IF(E196=\"\",\"\",IF(②選手情報入力!S205=\"\",\"\",②選手情報入力!S205))","v":""},"","",{"$f":"IF(E196=\"\",\"\",IF(②選手情報入力!T205=\"\",\"\",IF(G196=1,IF(②選手情報入力!$U$6=\"\",\"\",②選手情報入力!$U$6),IF(②選手情報入力!$U$7=\"\",\"\",②選手情報入力!$U$7))))","v":""},{"$f":"IF(E196=\"\",\"\",IF(②選手情報入力!T205=\"\",\"\",IF(G196=1,IF(②選手情報入力!$T$6=\"\",0,1),IF(②選手情報入力!$T$7=\"\",0,1))))","v":""},{"$f":"IF(E196=\"\",\"\",IF(②選手情報入力!T205=\"\",\"\",2))","v":""},"",{"$f":"IF(E196=\"\",\"\",IF(②選手情報入力!V205=\"\",\"\",IF(G196=1,IF(②選手情報入力!$W$6=\"\",\"\",②選手情報入力!$W$6),IF(②選手情報入力!$W$7=\"\",\"\",②選手情報入力!$W$7))))","v":""},{"$f":"IF(E196=\"\",\"\",IF(②選手情報入力!V205=\"\",\"\",IF(G196=1,IF(②選手情報入力!$V$6=\"\",0,1),IF(②選手情報入力!$V$7=\"\",0,1))))","v":""},{"$f":"IF(E196=\"\",\"\",IF(②選手情報入力!V205=\"\",\"\",2))","v":""}]
[{"$f":"IF(E197=\"\",\"\",data_kyogisha!A197)","v":""},{"$f":"IF(E197=\"\",\"\",①団体情報入力!$C$5)","v":""},{"$f":"IF(A197=\"\",\"\",VLOOKUP(B197,Sheet6!C:D,2,0))","v":""},null,{"$f":"IF(②選手情報入力!C206=\"\",\"\",②選手情報入力!C206)","v":""},{"$f":"IF(E197=\"\",\"\",②選手情報入力!D206)","v":""},{"$f":"IF(E197=\"\",\"\",IF(②選手情報入力!I206=\"男\",1,2))","v":""},{"$f":"IF(E197=\"\",\"\",VLOOKUP(data_kyogisha!Q197,Sheet3!A:G,2,0))","v":""},{"$f":"IF(E197=\"\",\"\",IF(②選手情報入力!M206=\"\",\"\",②選手情報入力!M206))","v":""},{"$f":"IF(E197=\"\",\"\",②選手情報入力!N206)","v":""},{"$f":"IF(E197=\"\",\"\",VLOOKUP(data_kyogisha!U197,Sheet3!A:G,2,0))","v":""},{"$f":"IF(E197=\"\",\"\",IF(②選手情報入力!P206=\"\",\"\",②選手情報入力!P206))","v":""},{"$f":"IF(E197=\"\",\"\",②選手情報入力!Q206)","v":""},"",{"$f":"IF(E197=\"\",\"\",IF(②選手情報入力!S206=\"\",\"\",②選手情報入力!S206))","v":""},"","",{"$f":"IF(E197=\"\",\"\",IF(②選手情報入力!T206=\"\",\"\",IF(G197=1,IF(②選手情報入力!$U$6=\"\",\"\",②選手情報入力!$U$6),IF(②選手情報入力!$U$7=\"\",\"\",②選手情報入力!$U$7))))","v":""},{"$f":"IF(E197=\"\",\"\",IF(②選手情報入力!T206=\"\",\"\",IF(G197=1,IF(②選手情報入力!$T$6=\"\",0,1),IF(②選手情報入力!$T$7=\"\",0,1))))","v":""},{"$f":"IF(E197=\"\",\"\",IF(②選手情報入力!T206=\"\",\"\",2))","v":""},"",{"$f":"IF(E197=\"\",\"\",IF(②選手情報入力!V206=\"\",\"\",IF(G197=1,IF(②選手情報入力!$W$6=\"\",\"\",②選手情報入力!$W$6),IF(②選手情報入力!$W$7=\"\",\"\",②選手情報入力!$W$7))))","v":""},{"$f":"IF(E197=\"\",\"\",IF(②選手情報入力!V206=\"\",\"\",IF(G197=1,IF(②選手情報入力!$V$6=\"\",0,1),IF(②選手情報入力!$V$7=\"\",0,1))))","v":""},{"$f":"IF(E197=\"\",\"\",IF(②選手情報入力!V206=\"\",\"\",2))","v":""}]
[{"$f":"IF(E198=\"\",\"\",data_kyogisha!A198)","v":""},{"$f":"IF(E198=\"\",\"\",①団体情報入力!$C$5)","v":""},{"$f":"IF(A198=\"\",\"\",VLOOKUP(B198,Sheet6!C:D,2,0))","v":""},null,{"$f":"IF(②選手情報入力!C207=\"\",\"\",②選手情報入力!C207)","v":""},{"$f":"IF(E198=\"\",\"\",②選手情報入力!D207)","v":""},{"$f":"IF(E198=\"\",\"\",IF(②選手情報入力!I207=\"男\",1,2))","v":""},{"$f":"IF(E198=\"\",\"\",VLOOKUP(data_kyogisha!Q198,Sheet3!A:G,2,0))","v":""},{"$f":"IF(E198=\"\",\"\",IF(②選手情報入力!M207=\"\",\"\",②選手情報入力!M207))","v":""},{"$f":"IF(E198=\"\",\"\",②選手情報入力!N207)","v":""},{"$f":"IF(E198=\"\",\"\",VLOOKUP(data_kyogisha!U198,Sheet3!A:G,2,0))","v":""},{"$f":"IF(E198=\"\",\"\",IF(②選手情報入力!P207=\"\",\"\",②選手情報入力!P207))","v":""},{"$f":"IF(E198=\"\",\"\",②選手情報入力!Q207)","v":""},"",{"$f":"IF(E198=\"\",\"\",IF(②選手情報入力!S207=\"\",\"\",②選手情報入力!S207))","v":""},"","",{"$f":"IF(E198=\"\",\"\",IF(②選手情報入力!T207=\"\",\"\",IF(G198=1,IF(②選手情報入力!$U$6=\"\",\"\",②選手情報入力!$U$6),IF(②選手情報入力!$U$7=\"\",\"\",②選手情報入力!$U$7))))","v":""},{"$f":"IF(E198=\"\",\"\",IF(②選手情報入力!T207=\"\",\"\",IF(G198=1,IF(②選手情報入力!$T$6=\"\",0,1),IF(②選手情報入力!$T$7=\"\",0,1))))","v":""},{"$f":"IF(E198=\"\",\"\",IF(②選手情報入力!T207=\"\",\"\",2))","v":""},"",{"$f":"IF(E198=\"\",\"\",IF(②選手情報入力!V207=\"\",\"\",IF(G198=1,IF(②選手情報入力!$W$6=\"\",\"\",②選手情報入力!$W$6),IF(②選手情報入力!$W$7=\"\",\"\",②選手情報入力!$W$7))))","v":""},{"$f":"IF(E198=\"\",\"\",IF(②選手情報入力!V207=\"\",\"\",IF(G198=1,IF(②選手情報入力!$V$6=\"\",0,1),IF(②選手情報入力!$V$7=\"\",0,1))))","v":""},{"$f":"IF(E198=\"\",\"\",IF(②選手情報入力!V207=\"\",\"\",2))","v":""}]
[{"$f":"IF(E199=\"\",\"\",data_kyogisha!A199)","v":""},{"$f":"IF(E199=\"\",\"\",①団体情報入力!$C$5)","v":""},{"$f":"IF(A199=\"\",\"\",VLOOKUP(B199,Sheet6!C:D,2,0))","v":""},null,{"$f":"IF(②選手情報入力!C208=\"\",\"\",②選手情報入力!C208)","v":""},{"$f":"IF(E199=\"\",\"\",②選手情報入力!D208)","v":""},{"$f":"IF(E199=\"\",\"\",IF(②選手情報入力!I208=\"男\",1,2))","v":""},{"$f":"IF(E199=\"\",\"\",VLOOKUP(data_kyogisha!Q199,Sheet3!A:G,2,0))","v":""},{"$f":"IF(E199=\"\",\"\",IF(②選手情報入力!M208=\"\",\"\",②選手情報入力!M208))","v":""},{"$f":"IF(E199=\"\",\"\",②選手情報入力!N208)","v":""},{"$f":"IF(E199=\"\",\"\",VLOOKUP(data_kyogisha!U199,Sheet3!A:G,2,0))","v":""},{"$f":"IF(E199=\"\",\"\",IF(②選手情報入力!P208=\"\",\"\",②選手情報入力!P208))","v":""},{"$f":"IF(E199=\"\",\"\",②選手情報入力!Q208)","v":""},"",{"$f":"IF(E199=\"\",\"\",IF(②選手情報入力!S208=\"\",\"\",②選手情報入力!S208))","v":""},"","",{"$f":"IF(E199=\"\",\"\",IF(②選手情報入力!T208=\"\",\"\",IF(G199=1,IF(②選手情報入力!$U$6=\"\",\"\",②選手情報入力!$U$6),IF(②選手情報入力!$U$7=\"\",\"\",②選手情報入力!$U$7))))","v":""},{"$f":"IF(E199=\"\",\"\",IF(②選手情報入力!T208=\"\",\"\",IF(G199=1,IF(②選手情報入力!$T$6=\"\",0,1),IF(②選手情報入力!$T$7=\"\",0,1))))","v":""},{"$f":"IF(E199=\"\",\"\",IF(②選手情報入力!T208=\"\",\"\",2))","v":""},"",{"$f":"IF(E199=\"\",\"\",IF(②選手情報入力!V208=\"\",\"\",IF(G199=1,IF(②選手情報入力!$W$6=\"\",\"\",②選手情報入力!$W$6),IF(②選手情報入力!$W$7=\"\",\"\",②選手情報入力!$W$7))))","v":""},{"$f":"IF(E199=\"\",\"\",IF(②選手情報入力!V208=\"\",\"\",IF(G199=1,IF(②選手情報入力!$V$6=\"\",0,1),IF(②選手情報入力!$V$7=\"\",0,1))))","v":""},{"$f":"IF(E199=\"\",\"\",IF(②選手情報入力!V208=\"\",\"\",2))","v":""}]
[{"$f":"IF(E200=\"\",\"\",data_kyogisha!A200)","v":""},{"$f":"IF(E200=\"\",\"\",①団体情報入力!$C$5)","v":""},{"$f":"IF(A200=\"\",\"\",VLOOKUP(B200,Sheet6!C:D,2,0))","v":""},null,{"$f":"IF(②選手情報入力!C209=\"\",\"\",②選手情報入力!C209)","v":""},{"$f":"IF(E200=\"\",\"\",②選手情報入力!D209)","v":""},{"$f":"IF(E200=\"\",\"\",IF(②選手情報入力!I209=\"男\",1,2))","v":""},{"$f":"IF(E200=\"\",\"\",VLOOKUP(data_kyogisha!Q200,Sheet3!A:G,2,0))","v":""},{"$f":"IF(E200=\"\",\"\",IF(②選手情報入力!M209=\"\",\"\",②選手情報入力!M209))","v":""},{"$f":"IF(E200=\"\",\"\",②選手情報入力!N209)","v":""},{"$f":"IF(E200=\"\",\"\",VLOOKUP(data_kyogisha!U200,Sheet3!A:G,2,0))","v":""},{"$f":"IF(E200=\"\",\"\",IF(②選手情報入力!P209=\"\",\"\",②選手情報入力!P209))","v":""},{"$f":"IF(E200=\"\",\"\",②選手情報入力!Q209)","v":""},"",{"$f":"IF(E200=\"\",\"\",IF(②選手情報入力!S209=\"\",\"\",②選手情報入力!S209))","v":""},"","",{"$f":"IF(E200=\"\",\"\",IF(②選手情報入力!T209=\"\",\"\",IF(G200=1,IF(②選手情報入力!$U$6=\"\",\"\",②選手情報入力!$U$6),IF(②選手情報入力!$U$7=\"\",\"\",②選手情報入力!$U$7))))","v":""},{"$f":"IF(E200=\"\",\"\",IF(②選手情報入力!T209=\"\",\"\",IF(G200=1,IF(②選手情報入力!$T$6=\"\",0,1),IF(②選手情報入力!$T$7=\"\",0,1))))","v":""},{"$f":"IF(E200=\"\",\"\",IF(②選手情報入力!T209=\"\",\"\",2))","v":""},"",{"$f":"IF(E200=\"\",\"\",IF(②選手情報入力!V209=\"\",\"\",IF(G200=1,IF(②選手情報入力!$W$6=\"\",\"\",②選手情報入力!$W$6),IF(②選手情報入力!$W$7=\"\",\"\",②選手情報入力!$W$7))))","v":""},{"$f":"IF(E200=\"\",\"\",IF(②選手情報入力!V209=\"\",\"\",IF(G200=1,IF(②選手情報入力!$V$6=\"\",0,1),IF(②選手情報入力!$V$7=\"\",0,1))))","v":""},{"$f":"IF(E200=\"\",\"\",IF(②選手情報入力!V209=\"\",\"\",2))","v":""}]
[{"$f":"IF(E201=\"\",\"\",data_kyogisha!A201)","v":""},{"$f":"IF(E201=\"\",\"\",①団体情報入力!$C$5)","v":""},{"$f":"IF(A201=\"\",\"\",VLOOKUP(B201,Sheet6!C:D,2,0))","v":""},null,{"$f":"IF(②選手情報入力!C210=\"\",\"\",②選手情報入力!C210)","v":""},{"$f":"IF(E201=\"\",\"\",②選手情報入力!D210)","v":""},{"$f":"IF(E201=\"\",\"\",IF(②選手情報入力!I210=\"男\",1,2))","v":""},{"$f":"IF(E201=\"\",\"\",VLOOKUP(data_kyogisha!Q201,Sheet3!A:G,2,0))","v":""},{"$f":"IF(E201=\"\",\"\",IF(②選手情報入力!M210=\"\",\"\",②選手情報入力!M210))","v":""},{"$f":"IF(E201=\"\",\"\",②選手情報入力!N210)","v":""},{"$f":"IF(E201=\"\",\"\",VLOOKUP(data_kyogisha!U201,Sheet3!A:G,2,0))","v":""},{"$f":"IF(E201=\"\",\"\",IF(②選手情報入力!P210=\"\",\"\",②選手情報入力!P210))","v":""},{"$f":"IF(E201=\"\",\"\",②選手情報入力!Q210)","v":""},"",{"$f":"IF(E201=\"\",\"\",IF(②選手情報入力!S210=\"\",\"\",②選手情報入力!S210))","v":""},"","",{"$f":"IF(E201=\"\",\"\",IF(②選手情報入力!T210=\"\",\"\",IF(G201=1,IF(②選手情報入力!$U$6=\"\",\"\",②選手情報入力!$U$6),IF(②選手情報入力!$U$7=\"\",\"\",②選手情報入力!$U$7))))","v":""},{"$f":"IF(E201=\"\",\"\",IF(②選手情報入力!T210=\"\",\"\",IF(G201=1,IF(②選手情報入力!$T$6=\"\",0,1),IF(②選手情報入力!$T$7=\"\",0,1))))","v":""},{"$f":"IF(E201=\"\",\"\",IF(②選手情報入力!T210=\"\",\"\",2))","v":""},"",{"$f":"IF(E201=\"\",\"\",IF(②選手情報入力!V210=\"\",\"\",IF(G201=1,IF(②選手情報入力!$W$6=\"\",\"\",②選手情報入力!$W$6),IF(②選手情報入力!$W$7=\"\",\"\",②選手情報入力!$W$7))))","v":""},{"$f":"IF(E201=\"\",\"\",IF(②選手情報入力!V210=\"\",\"\",IF(G201=1,IF(②選手情報入力!$V$6=\"\",0,1),IF(②選手情報入力!$V$7=\"\",0,1))))","v":""},{"$f":"IF(E201=\"\",\"\",IF(②選手情報入力!V210=\"\",\"\",2))","v":""}]
[{"$f":"IF(E202=\"\",\"\",data_kyogisha!A202)","v":""},{"$f":"IF(E202=\"\",\"\",①団体情報入力!$C$5)","v":""},{"$f":"IF(A202=\"\",\"\",VLOOKUP(B202,Sheet6!C:D,2,0))","v":""},null,{"$f":"IF(②選手情報入力!C211=\"\",\"\",②選手情報入力!C211)","v":""},{"$f":"IF(E202=\"\",\"\",②選手情報入力!D211)","v":""},{"$f":"IF(E202=\"\",\"\",IF(②選手情報入力!I211=\"男\",1,2))","v":""},{"$f":"IF(E202=\"\",\"\",VLOOKUP(data_kyogisha!Q202,Sheet3!A:G,2,0))","v":""},{"$f":"IF(E202=\"\",\"\",IF(②選手情報入力!M211=\"\",\"\",②選手情報入力!M211))","v":""},{"$f":"IF(E202=\"\",\"\",②選手情報入力!N211)","v":""},{"$f":"IF(E202=\"\",\"\",VLOOKUP(data_kyogisha!U202,Sheet3!A:G,2,0))","v":""},{"$f":"IF(E202=\"\",\"\",IF(②選手情報入力!P211=\"\",\"\",②選手情報入力!P211))","v":""},{"$f":"IF(E202=\"\",\"\",②選手情報入力!Q211)","v":""},"",{"$f":"IF(E202=\"\",\"\",IF(②選手情報入力!S211=\"\",\"\",②選手情報入力!S211))","v":""},"","",{"$f":"IF(E202=\"\",\"\",IF(②選手情報入力!T211=\"\",\"\",IF(G202=1,IF(②選手情報入力!$U$6=\"\",\"\",②選手情報入力!$U$6),IF(②選手情報入力!$U$7=\"\",\"\",②選手情報入力!$U$7))))","v":""},{"$f":"IF(E202=\"\",\"\",IF(②選手情報入力!T211=\"\",\"\",IF(G202=1,IF(②選手情報入力!$T$6=\"\",0,1),IF(②選手情報入力!$T$7=\"\",0,1))))","v":""},{"$f":"IF(E202=\"\",\"\",IF(②選手情報入力!T211=\"\",\"\",2))","v":""},"",{"$f":"IF(E202=\"\",\"\",IF(②選手情報入力!V211=\"\",\"\",IF(G202=1,IF(②選手情報入力!$W$6=\"\",\"\",②選手情報入力!$W$6),IF(②選手情報入力!$W$7=\"\",\"\",②選手情報入力!$W$7))))","v":""},{"$f":"IF(E202=\"\",\"\",IF(②選手情報入力!V211=\"\",\"\",IF(G202=1,IF(②選手情報入力!$V$6=\"\",0,1),IF(②選手情報入力!$V$7=\"\",0,1))))","v":""},{"$f":"IF(E202=\"\",\"\",IF(②選手情報入力!V211=\"\",\"\",2))","v":""}]
[{"$f":"IF(E203=\"\",\"\",data_kyogisha!A203)","v":""},{"$f":"IF(E203=\"\",\"\",①団体情報入力!$C$5)","v":""},{"$f":"IF(A203=\"\",\"\",VLOOKUP(B203,Sheet6!C:D,2,0))","v":""},null,{"$f":"IF(②選手情報入力!C212=\"\",\"\",②選手情報入力!C212)","v":""},{"$f":"IF(E203=\"\",\"\",②選手情報入力!D212)","v":""},{"$f":"IF(E203=\"\",\"\",IF(②選手情報入力!I212=\"男\",1,2))","v":""},{"$f":"IF(E203=\"\",\"\",VLOOKUP(data_kyogisha!Q203,Sheet3!A:G,2,0))","v":""},{"$f":"IF(E203=\"\",\"\",IF(②選手情報入力!M212=\"\",\"\",②選手情報入力!M212))","v":""},{"$f":"IF(E203=\"\",\"\",②選手情報入力!N212)","v":""},{"$f":"IF(E203=\"\",\"\",VLOOKUP(data_kyogisha!U203,Sheet3!A:G,2,0))","v":""},{"$f":"IF(E203=\"\",\"\",IF(②選手情報入力!P212=\"\",\"\",②選手情報入力!P212))","v":""},{"$f":"IF(E203=\"\",\"\",②選手情報入力!Q212)","v":""},"",{"$f":"IF(E203=\"\",\"\",IF(②選手情報入力!S212=\"\",\"\",②選手情報入力!S212))","v":""},"","",{"$f":"IF(E203=\"\",\"\",IF(②選手情報入力!T212=\"\",\"\",IF(G203=1,IF(②選手情報入力!$U$6=\"\",\"\",②選手情報入力!$U$6),IF(②選手情報入力!$U$7=\"\",\"\",②選手情報入力!$U$7))))","v":""},{"$f":"IF(E203=\"\",\"\",IF(②選手情報入力!T212=\"\",\"\",IF(G203=1,IF(②選手情報入力!$T$6=\"\",0,1),IF(②選手情報入力!$T$7=\"\",0,1))))","v":""},{"$f":"IF(E203=\"\",\"\",IF(②選手情報入力!T212=\"\",\"\",2))","v":""},"",{"$f":"IF(E203=\"\",\"\",IF(②選手情報入力!V212=\"\",\"\",IF(G203=1,IF(②選手情報入力!$W$6=\"\",\"\",②選手情報入力!$W$6),IF(②選手情報入力!$W$7=\"\",\"\",②選手情報入力!$W$7))))","v":""},{"$f":"IF(E203=\"\",\"\",IF(②選手情報入力!V212=\"\",\"\",IF(G203=1,IF(②選手情報入力!$V$6=\"\",0,1),IF(②選手情報入力!$V$7=\"\",0,1))))","v":""},{"$f":"IF(E203=\"\",\"\",IF(②選手情報入力!V212=\"\",\"\",2))","v":""}]
[{"$f":"IF(E204=\"\",\"\",data_kyogisha!A204)","v":""},{"$f":"IF(E204=\"\",\"\",①団体情報入力!$C$5)","v":""},{"$f":"IF(A204=\"\",\"\",VLOOKUP(B204,Sheet6!C:D,2,0))","v":""},null,{"$f":"IF(②選手情報入力!C213=\"\",\"\",②選手情報入力!C213)","v":""},{"$f":"IF(E204=\"\",\"\",②選手情報入力!D213)","v":""},{"$f":"IF(E204=\"\",\"\",IF(②選手情報入力!I213=\"男\",1,2))","v":""},{"$f":"IF(E204=\"\",\"\",VLOOKUP(data_kyogisha!Q204,Sheet3!A:G,2,0))","v":""},{"$f":"IF(E204=\"\",\"\",IF(②選手情報入力!M213=\"\",\"\",②選手情報入力!M213))","v":""},{"$f":"IF(E204=\"\",\"\",②選手情報入力!N213)","v":""},{"$f":"IF(E204=\"\",\"\",VLOOKUP(data_kyogisha!U204,Sheet3!A:G,2,0))","v":""},{"$f":"IF(E204=\"\",\"\",IF(②選手情報入力!P213=\"\",\"\",②選手情報入力!P213))","v":""},{"$f":"IF(E204=\"\",\"\",②選手情報入力!Q213)","v":""},"",{"$f":"IF(E204=\"\",\"\",IF(②選手情報入力!S213=\"\",\"\",②選手情報入力!S213))","v":""},"","",{"$f":"IF(E204=\"\",\"\",IF(②選手情報入力!T213=\"\",\"\",IF(G204=1,IF(②選手情報入力!$U$6=\"\",\"\",②選手情報入力!$U$6),IF(②選手情報入力!$U$7=\"\",\"\",②選手情報入力!$U$7))))","v":""},{"$f":"IF(E204=\"\",\"\",IF(②選手情報入力!T213=\"\",\"\",IF(G204=1,IF(②選手情報入力!$T$6=\"\",0,1),IF(②選手情報入力!$T$7=\"\",0,1))))","v":""},{"$f":"IF(E204=\"\",\"\",IF(②選手情報入力!T213=\"\",\"\",2))","v":""},"",{"$f":"IF(E204=\"\",\"\",IF(②選手情報入力!V213=\"\",\"\",IF(G204=1,IF(②選手情報入力!$W$6=\"\",\"\",②選手情報入力!$W$6),IF(②選手情報入力!$W$7=\"\",\"\",②選手情報入力!$W$7))))","v":""},{"$f":"IF(E204=\"\",\"\",IF(②選手情報入力!V213=\"\",\"\",IF(G204=1,IF(②選手情報入力!$V$6=\"\",0,1),IF(②選手情報入力!$V$7=\"\",0,1))))","v":""},{"$f":"IF(E204=\"\",\"\",IF(②選手情報入力!V213=\"\",\"\",2))","v":""}]
[{"$f":"IF(E205=\"\",\"\",data_kyogisha!A205)","v":""},{"$f":"IF(E205=\"\",\"\",①団体情報入力!$C$5)","v":""},{"$f":"IF(A205=\"\",\"\",VLOOKUP(B205,Sheet6!C:D,2,0))","v":""},null,{"$f":"IF(②選手情報入力!C214=\"\",\"\",②選手情報入力!C214)","v":""},{"$f":"IF(E205=\"\",\"\",②選手情報入力!D214)","v":""},{"$f":"IF(E205=\"\",\"\",IF(②選手情報入力!I214=\"男\",1,2))","v":""},{"$f":"IF(E205=\"\",\"\",VLOOKUP(data_kyogisha!Q205,Sheet3!A:G,2,0))","v":""},{"$f":"IF(E205=\"\",\"\",IF(②選手情報入力!M214=\"\",\"\",②選手情報入力!M214))","v":""},{"$f":"IF(E205=\"\",\"\",②選手情報入力!N214)","v":""},{"$f":"IF(E205=\"\",\"\",VLOOKUP(data_kyogisha!U205,Sheet3!A:G,2,0))","v":""},{"$f":"IF(E205=\"\",\"\",IF(②選手情報入力!P214=\"\",\"\",②選手情報入力!P214))","v":""},{"$f":"IF(E205=\"\",\"\",②選手情報入力!Q214)","v":""},"",{"$f":"IF(E205=\"\",\"\",IF(②選手情報入力!S214=\"\",\"\",②選手情報入力!S214))","v":""},"","",{"$f":"IF(E205=\"\",\"\",IF(②選手情報入力!T214=\"\",\"\",IF(G205=1,IF(②選手情報入力!$U$6=\"\",\"\",②選手情報入力!$U$6),IF(②選手情報入力!$U$7=\"\",\"\",②選手情報入力!$U$7))))","v":""},{"$f":"IF(E205=\"\",\"\",IF(②選手情報入力!T214=\"\",\"\",IF(G205=1,IF(②選手情報入力!$T$6=\"\",0,1),IF(②選手情報入力!$T$7=\"\",0,1))))","v":""},{"$f":"IF(E205=\"\",\"\",IF(②選手情報入力!T214=\"\",\"\",2))","v":""},"",{"$f":"IF(E205=\"\",\"\",IF(②選手情報入力!V214=\"\",\"\",IF(G205=1,IF(②選手情報入力!$W$6=\"\",\"\",②選手情報入力!$W$6),IF(②選手情報入力!$W$7=\"\",\"\",②選手情報入力!$W$7))))","v":""},{"$f":"IF(E205=\"\",\"\",IF(②選手情報入力!V214=\"\",\"\",IF(G205=1,IF(②選手情報入力!$V$6=\"\",0,1),IF(②選手情報入力!$V$7=\"\",0,1))))","v":""},{"$f":"IF(E205=\"\",\"\",IF(②選手情報入力!V214=\"\",\"\",2))","v":""}]
[{"$f":"IF(E206=\"\",\"\",data_kyogisha!A206)","v":""},{"$f":"IF(E206=\"\",\"\",①団体情報入力!$C$5)","v":""},{"$f":"IF(A206=\"\",\"\",VLOOKUP(B206,Sheet6!C:D,2,0))","v":""},null,{"$f":"IF(②選手情報入力!C215=\"\",\"\",②選手情報入力!C215)","v":""},{"$f":"IF(E206=\"\",\"\",②選手情報入力!D215)","v":""},{"$f":"IF(E206=\"\",\"\",IF(②選手情報入力!I215=\"男\",1,2))","v":""},{"$f":"IF(E206=\"\",\"\",VLOOKUP(data_kyogisha!Q206,Sheet3!A:G,2,0))","v":""},{"$f":"IF(E206=\"\",\"\",IF(②選手情報入力!M215=\"\",\"\",②選手情報入力!M215))","v":""},{"$f":"IF(E206=\"\",\"\",②選手情報入力!N215)","v":""},{"$f":"IF(E206=\"\",\"\",VLOOKUP(data_kyogisha!U206,Sheet3!A:G,2,0))","v":""},{"$f":"IF(E206=\"\",\"\",IF(②選手情報入力!P215=\"\",\"\",②選手情報入力!P215))","v":""},{"$f":"IF(E206=\"\",\"\",②選手情報入力!Q215)","v":""},"",{"$f":"IF(E206=\"\",\"\",IF(②選手情報入力!S215=\"\",\"\",②選手情報入力!S215))","v":""},"","",{"$f":"IF(E206=\"\",\"\",IF(②選手情報入力!T215=\"\",\"\",IF(G206=1,IF(②選手情報入力!$U$6=\"\",\"\",②選手情報入力!$U$6),IF(②選手情報入力!$U$7=\"\",\"\",②選手情報入力!$U$7))))","v":""},{"$f":"IF(E206=\"\",\"\",IF(②選手情報入力!T215=\"\",\"\",IF(G206=1,IF(②選手情報入力!$T$6=\"\",0,1),IF(②選手情報入力!$T$7=\"\",0,1))))","v":""},{"$f":"IF(E206=\"\",\"\",IF(②選手情報入力!T215=\"\",\"\",2))","v":""},"",{"$f":"IF(E206=\"\",\"\",IF(②選手情報入力!V215=\"\",\"\",IF(G206=1,IF(②選手情報入力!$W$6=\"\",\"\",②選手情報入力!$W$6),IF(②選手情報入力!$W$7=\"\",\"\",②選手情報入力!$W$7))))","v":""},{"$f":"IF(E206=\"\",\"\",IF(②選手情報入力!V215=\"\",\"\",IF(G206=1,IF(②選手情報入力!$V$6=\"\",0,1),IF(②選手情報入力!$V$7=\"\",0,1))))","v":""},{"$f":"IF(E206=\"\",\"\",IF(②選手情報入力!V215=\"\",\"\",2))","v":""}]
[{"$f":"IF(E207=\"\",\"\",data_kyogisha!A207)","v":""},{"$f":"IF(E207=\"\",\"\",①団体情報入力!$C$5)","v":""},{"$f":"IF(A207=\"\",\"\",VLOOKUP(B207,Sheet6!C:D,2,0))","v":""},null,{"$f":"IF(②選手情報入力!C216=\"\",\"\",②選手情報入力!C216)","v":""},{"$f":"IF(E207=\"\",\"\",②選手情報入力!D216)","v":""},{"$f":"IF(E207=\"\",\"\",IF(②選手情報入力!I216=\"男\",1,2))","v":""},{"$f":"IF(E207=\"\",\"\",VLOOKUP(data_kyogisha!Q207,Sheet3!A:G,2,0))","v":""},{"$f":"IF(E207=\"\",\"\",IF(②選手情報入力!M216=\"\",\"\",②選手情報入力!M216))","v":""},{"$f":"IF(E207=\"\",\"\",②選手情報入力!N216)","v":""},{"$f":"IF(E207=\"\",\"\",VLOOKUP(data_kyogisha!U207,Sheet3!A:G,2,0))","v":""},{"$f":"IF(E207=\"\",\"\",IF(②選手情報入力!P216=\"\",\"\",②選手情報入力!P216))","v":""},{"$f":"IF(E207=\"\",\"\",②選手情報入力!Q216)","v":""},"",{"$f":"IF(E207=\"\",\"\",IF(②選手情報入力!S216=\"\",\"\",②選手情報入力!S216))","v":""},"","",{"$f":"IF(E207=\"\",\"\",IF(②選手情報入力!T216=\"\",\"\",IF(G207=1,IF(②選手情報入力!$U$6=\"\",\"\",②選手情報入力!$U$6),IF(②選手情報入力!$U$7=\"\",\"\",②選手情報入力!$U$7))))","v":""},{"$f":"IF(E207=\"\",\"\",IF(②選手情報入力!T216=\"\",\"\",IF(G207=1,IF(②選手情報入力!$T$6=\"\",0,1),IF(②選手情報入力!$T$7=\"\",0,1))))","v":""},{"$f":"IF(E207=\"\",\"\",IF(②選手情報入力!T216=\"\",\"\",2))","v":""},"",{"$f":"IF(E207=\"\",\"\",IF(②選手情報入力!V216=\"\",\"\",IF(G207=1,IF(②選手情報入力!$W$6=\"\",\"\",②選手情報入力!$W$6),IF(②選手情報入力!$W$7=\"\",\"\",②選手情報入力!$W$7))))","v":""},{"$f":"IF(E207=\"\",\"\",IF(②選手情報入力!V216=\"\",\"\",IF(G207=1,IF(②選手情報入力!$V$6=\"\",0,1),IF(②選手情報入力!$V$7=\"\",0,1))))","v":""},{"$f":"IF(E207=\"\",\"\",IF(②選手情報入力!V216=\"\",\"\",2))","v":""}]
[{"$f":"IF(E208=\"\",\"\",data_kyogisha!A208)","v":""},{"$f":"IF(E208=\"\",\"\",①団体情報入力!$C$5)","v":""},{"$f":"IF(A208=\"\",\"\",VLOOKUP(B208,Sheet6!C:D,2,0))","v":""},null,{"$f":"IF(②選手情報入力!C217=\"\",\"\",②選手情報入力!C217)","v":""},{"$f":"IF(E208=\"\",\"\",②選手情報入力!D217)","v":""},{"$f":"IF(E208=\"\",\"\",IF(②選手情報入力!I217=\"男\",1,2))","v":""},{"$f":"IF(E208=\"\",\"\",VLOOKUP(data_kyogisha!Q208,Sheet3!A:G,2,0))","v":""},{"$f":"IF(E208=\"\",\"\",IF(②選手情報入力!M217=\"\",\"\",②選手情報入力!M217))","v":""},{"$f":"IF(E208=\"\",\"\",②選手情報入力!N217)","v":""},{"$f":"IF(E208=\"\",\"\",VLOOKUP(data_kyogisha!U208,Sheet3!A:G,2,0))","v":""},{"$f":"IF(E208=\"\",\"\",IF(②選手情報入力!P217=\"\",\"\",②選手情報入力!P217))","v":""},{"$f":"IF(E208=\"\",\"\",②選手情報入力!Q217)","v":""},"",{"$f":"IF(E208=\"\",\"\",IF(②選手情報入力!S217=\"\",\"\",②選手情報入力!S217))","v":""},"","",{"$f":"IF(E208=\"\",\"\",IF(②選手情報入力!T217=\"\",\"\",IF(G208=1,IF(②選手情報入力!$U$6=\"\",\"\",②選手情報入力!$U$6),IF(②選手情報入力!$U$7=\"\",\"\",②選手情報入力!$U$7))))","v":""},{"$f":"IF(E208=\"\",\"\",IF(②選手情報入力!T217=\"\",\"\",IF(G208=1,IF(②選手情報入力!$T$6=\"\",0,1),IF(②選手情報入力!$T$7=\"\",0,1))))","v":""},{"$f":"IF(E208=\"\",\"\",IF(②選手情報入力!T217=\"\",\"\",2))","v":""},"",{"$f":"IF(E208=\"\",\"\",IF(②選手情報入力!V217=\"\",\"\",IF(G208=1,IF(②選手情報入力!$W$6=\"\",\"\",②選手情報入力!$W$6),IF(②選手情報入力!$W$7=\"\",\"\",②選手情報入力!$W$7))))","v":""},{"$f":"IF(E208=\"\",\"\",IF(②選手情報入力!V217=\"\",\"\",IF(G208=1,IF(②選手情報入力!$V$6=\"\",0,1),IF(②選手情報入力!$V$7=\"\",0,1))))","v":""},{"$f":"IF(E208=\"\",\"\",IF(②選手情報入力!V217=\"\",\"\",2))","v":""}]
[{"$f":"IF(E209=\"\",\"\",data_kyogisha!A209)","v":""},{"$f":"IF(E209=\"\",\"\",①団体情報入力!$C$5)","v":""},{"$f":"IF(A209=\"\",\"\",VLOOKUP(B209,Sheet6!C:D,2,0))","v":""},null,{"$f":"IF(②選手情報入力!C218=\"\",\"\",②選手情報入力!C218)","v":""},{"$f":"IF(E209=\"\",\"\",②選手情報入力!D218)","v":""},{"$f":"IF(E209=\"\",\"\",IF(②選手情報入力!I218=\"男\",1,2))","v":""},{"$f":"IF(E209=\"\",\"\",VLOOKUP(data_kyogisha!Q209,Sheet3!A:G,2,0))","v":""},{"$f":"IF(E209=\"\",\"\",IF(②選手情報入力!M218=\"\",\"\",②選手情報入力!M218))","v":""},{"$f":"IF(E209=\"\",\"\",②選手情報入力!N218)","v":""},{"$f":"IF(E209=\"\",\"\",VLOOKUP(data_kyogisha!U209,Sheet3!A:G,2,0))","v":""},{"$f":"IF(E209=\"\",\"\",IF(②選手情報入力!P218=\"\",\"\",②選手情報入力!P218))","v":""},{"$f":"IF(E209=\"\",\"\",②選手情報入力!Q218)","v":""},"",{"$f":"IF(E209=\"\",\"\",IF(②選手情報入力!S218=\"\",\"\",②選手情報入力!S218))","v":""},"","",{"$f":"IF(E209=\"\",\"\",IF(②選手情報入力!T218=\"\",\"\",IF(G209=1,IF(②選手情報入力!$U$6=\"\",\"\",②選手情報入力!$U$6),IF(②選手情報入力!$U$7=\"\",\"\",②選手情報入力!$U$7))))","v":""},{"$f":"IF(E209=\"\",\"\",IF(②選手情報入力!T218=\"\",\"\",IF(G209=1,IF(②選手情報入力!$T$6=\"\",0,1),IF(②選手情報入力!$T$7=\"\",0,1))))","v":""},{"$f":"IF(E209=\"\",\"\",IF(②選手情報入力!T218=\"\",\"\",2))","v":""},"",{"$f":"IF(E209=\"\",\"\",IF(②選手情報入力!V218=\"\",\"\",IF(G209=1,IF(②選手情報入力!$W$6=\"\",\"\",②選手情報入力!$W$6),IF(②選手情報入力!$W$7=\"\",\"\",②選手情報入力!$W$7))))","v":""},{"$f":"IF(E209=\"\",\"\",IF(②選手情報入力!V218=\"\",\"\",IF(G209=1,IF(②選手情報入力!$V$6=\"\",0,1),IF(②選手情報入力!$V$7=\"\",0,1))))","v":""},{"$f":"IF(E209=\"\",\"\",IF(②選手情報入力!V218=\"\",\"\",2))","v":""}]
[{"$f":"IF(E210=\"\",\"\",data_kyogisha!A210)","v":""},{"$f":"IF(E210=\"\",\"\",①団体情報入力!$C$5)","v":""},{"$f":"IF(A210=\"\",\"\",VLOOKUP(B210,Sheet6!C:D,2,0))","v":""},null,{"$f":"IF(②選手情報入力!C219=\"\",\"\",②選手情報入力!C219)","v":""},{"$f":"IF(E210=\"\",\"\",②選手情報入力!D219)","v":""},{"$f":"IF(E210=\"\",\"\",IF(②選手情報入力!I219=\"男\",1,2))","v":""},{"$f":"IF(E210=\"\",\"\",VLOOKUP(data_kyogisha!Q210,Sheet3!A:G,2,0))","v":""},{"$f":"IF(E210=\"\",\"\",IF(②選手情報入力!M219=\"\",\"\",②選手情報入力!M219))","v":""},{"$f":"IF(E210=\"\",\"\",②選手情報入力!N219)","v":""},{"$f":"IF(E210=\"\",\"\",VLOOKUP(data_kyogisha!U210,Sheet3!A:G,2,0))","v":""},{"$f":"IF(E210=\"\",\"\",IF(②選手情報入力!P219=\"\",\"\",②選手情報入力!P219))","v":""},{"$f":"IF(E210=\"\",\"\",②選手情報入力!Q219)","v":""},"",{"$f":"IF(E210=\"\",\"\",IF(②選手情報入力!S219=\"\",\"\",②選手情報入力!S219))","v":""},"","",{"$f":"IF(E210=\"\",\"\",IF(②選手情報入力!T219=\"\",\"\",IF(G210=1,IF(②選手情報入力!$U$6=\"\",\"\",②選手情報入力!$U$6),IF(②選手情報入力!$U$7=\"\",\"\",②選手情報入力!$U$7))))","v":""},{"$f":"IF(E210=\"\",\"\",IF(②選手情報入力!T219=\"\",\"\",IF(G210=1,IF(②選手情報入力!$T$6=\"\",0,1),IF(②選手情報入力!$T$7=\"\",0,1))))","v":""},{"$f":"IF(E210=\"\",\"\",IF(②選手情報入力!T219=\"\",\"\",2))","v":""},"",{"$f":"IF(E210=\"\",\"\",IF(②選手情報入力!V219=\"\",\"\",IF(G210=1,IF(②選手情報入力!$W$6=\"\",\"\",②選手情報入力!$W$6),IF(②選手情報入力!$W$7=\"\",\"\",②選手情報入力!$W$7))))","v":""},{"$f":"IF(E210=\"\",\"\",IF(②選手情報入力!V219=\"\",\"\",IF(G210=1,IF(②選手情報入力!$V$6=\"\",0,1),IF(②選手情報入力!$V$7=\"\",0,1))))","v":""},{"$f":"IF(E210=\"\",\"\",IF(②選手情報入力!V219=\"\",\"\",2))","v":""}]
[{"$f":"IF(E211=\"\",\"\",data_kyogisha!A211)","v":""},{"$f":"IF(E211=\"\",\"\",①団体情報入力!$C$5)","v":""},{"$f":"IF(A211=\"\",\"\",VLOOKUP(B211,Sheet6!C:D,2,0))","v":""},null,{"$f":"IF(②選手情報入力!C220=\"\",\"\",②選手情報入力!C220)","v":""},{"$f":"IF(E211=\"\",\"\",②選手情報入力!D220)","v":""},{"$f":"IF(E211=\"\",\"\",IF(②選手情報入力!I220=\"男\",1,2))","v":""},{"$f":"IF(E211=\"\",\"\",VLOOKUP(data_kyogisha!Q211,Sheet3!A:G,2,0))","v":""},{"$f":"IF(E211=\"\",\"\",IF(②選手情報入力!M220=\"\",\"\",②選手情報入力!M220))","v":""},{"$f":"IF(E211=\"\",\"\",②選手情報入力!N220)","v":""},{"$f":"IF(E211=\"\",\"\",VLOOKUP(data_kyogisha!U211,Sheet3!A:G,2,0))","v":""},{"$f":"IF(E211=\"\",\"\",IF(②選手情報入力!P220=\"\",\"\",②選手情報入力!P220))","v":""},{"$f":"IF(E211=\"\",\"\",②選手情報入力!Q220)","v":""},"",{"$f":"IF(E211=\"\",\"\",IF(②選手情報入力!S220=\"\",\"\",②選手情報入力!S220))","v":""},"","",{"$f":"IF(E211=\"\",\"\",IF(②選手情報入力!T220=\"\",\"\",IF(G211=1,IF(②選手情報入力!$U$6=\"\",\"\",②選手情報入力!$U$6),IF(②選手情報入力!$U$7=\"\",\"\",②選手情報入力!$U$7))))","v":""},{"$f":"IF(E211=\"\",\"\",IF(②選手情報入力!T220=\"\",\"\",IF(G211=1,IF(②選手情報入力!$T$6=\"\",0,1),IF(②選手情報入力!$T$7=\"\",0,1))))","v":""},{"$f":"IF(E211=\"\",\"\",IF(②選手情報入力!T220=\"\",\"\",2))","v":""},"",{"$f":"IF(E211=\"\",\"\",IF(②選手情報入力!V220=\"\",\"\",IF(G211=1,IF(②選手情報入力!$W$6=\"\",\"\",②選手情報入力!$W$6),IF(②選手情報入力!$W$7=\"\",\"\",②選手情報入力!$W$7))))","v":""},{"$f":"IF(E211=\"\",\"\",IF(②選手情報入力!V220=\"\",\"\",IF(G211=1,IF(②選手情報入力!$V$6=\"\",0,1),IF(②選手情報入力!$V$7=\"\",0,1))))","v":""},{"$f":"IF(E211=\"\",\"\",IF(②選手情報入力!V220=\"\",\"\",2))","v":""}]
[{"$f":"IF(E212=\"\",\"\",data_kyogisha!A212)","v":""},{"$f":"IF(E212=\"\",\"\",①団体情報入力!$C$5)","v":""},{"$f":"IF(A212=\"\",\"\",VLOOKUP(B212,Sheet6!C:D,2,0))","v":""},null,{"$f":"IF(②選手情報入力!C221=\"\",\"\",②選手情報入力!C221)","v":""},{"$f":"IF(E212=\"\",\"\",②選手情報入力!D221)","v":""},{"$f":"IF(E212=\"\",\"\",IF(②選手情報入力!I221=\"男\",1,2))","v":""},{"$f":"IF(E212=\"\",\"\",VLOOKUP(data_kyogisha!Q212,Sheet3!A:G,2,0))","v":""},{"$f":"IF(E212=\"\",\"\",IF(②選手情報入力!M221=\"\",\"\",②選手情報入力!M221))","v":""},{"$f":"IF(E212=\"\",\"\",②選手情報入力!N221)","v":""},{"$f":"IF(E212=\"\",\"\",VLOOKUP(data_kyogisha!U212,Sheet3!A:G,2,0))","v":""},{"$f":"IF(E212=\"\",\"\",IF(②選手情報入力!P221=\"\",\"\",②選手情報入力!P221))","v":""},{"$f":"IF(E212=\"\",\"\",②選手情報入力!Q221)","v":""},"",{"$f":"IF(E212=\"\",\"\",IF(②選手情報入力!S221=\"\",\"\",②選手情報入力!S221))","v":""},"","",{"$f":"IF(E212=\"\",\"\",IF(②選手情報入力!T221=\"\",\"\",IF(G212=1,IF(②選手情報入力!$U$6=\"\",\"\",②選手情報入力!$U$6),IF(②選手情報入力!$U$7=\"\",\"\",②選手情報入力!$U$7))))","v":""},{"$f":"IF(E212=\"\",\"\",IF(②選手情報入力!T221=\"\",\"\",IF(G212=1,IF(②選手情報入力!$T$6=\"\",0,1),IF(②選手情報入力!$T$7=\"\",0,1))))","v":""},{"$f":"IF(E212=\"\",\"\",IF(②選手情報入力!T221=\"\",\"\",2))","v":""},"",{"$f":"IF(E212=\"\",\"\",IF(②選手情報入力!V221=\"\",\"\",IF(G212=1,IF(②選手情報入力!$W$6=\"\",\"\",②選手情報入力!$W$6),IF(②選手情報入力!$W$7=\"\",\"\",②選手情報入力!$W$7))))","v":""},{"$f":"IF(E212=\"\",\"\",IF(②選手情報入力!V221=\"\",\"\",IF(G212=1,IF(②選手情報入力!$V$6=\"\",0,1),IF(②選手情報入力!$V$7=\"\",0,1))))","v":""},{"$f":"IF(E212=\"\",\"\",IF(②選手情報入力!V221=\"\",\"\",2))","v":""}]
[{"$f":"IF(E213=\"\",\"\",data_kyogisha!A213)","v":""},{"$f":"IF(E213=\"\",\"\",①団体情報入力!$C$5)","v":""},{"$f":"IF(A213=\"\",\"\",VLOOKUP(B213,Sheet6!C:D,2,0))","v":""},null,{"$f":"IF(②選手情報入力!C222=\"\",\"\",②選手情報入力!C222)","v":""},{"$f":"IF(E213=\"\",\"\",②選手情報入力!D222)","v":""},{"$f":"IF(E213=\"\",\"\",IF(②選手情報入力!I222=\"男\",1,2))","v":""},{"$f":"IF(E213=\"\",\"\",VLOOKUP(data_kyogisha!Q213,Sheet3!A:G,2,0))","v":""},{"$f":"IF(E213=\"\",\"\",IF(②選手情報入力!M222=\"\",\"\",②選手情報入力!M222))","v":""},{"$f":"IF(E213=\"\",\"\",②選手情報入力!N222)","v":""},{"$f":"IF(E213=\"\",\"\",VLOOKUP(data_kyogisha!U213,Sheet3!A:G,2,0))","v":""},{"$f":"IF(E213=\"\",\"\",IF(②選手情報入力!P222=\"\",\"\",②選手情報入力!P222))","v":""},{"$f":"IF(E213=\"\",\"\",②選手情報入力!Q222)","v":""},"",{"$f":"IF(E213=\"\",\"\",IF(②選手情報入力!S222=\"\",\"\",②選手情報入力!S222))","v":""},"","",{"$f":"IF(E213=\"\",\"\",IF(②選手情報入力!T222=\"\",\"\",IF(G213=1,IF(②選手情報入力!$U$6=\"\",\"\",②選手情報入力!$U$6),IF(②選手情報入力!$U$7=\"\",\"\",②選手情報入力!$U$7))))","v":""},{"$f":"IF(E213=\"\",\"\",IF(②選手情報入力!T222=\"\",\"\",IF(G213=1,IF(②選手情報入力!$T$6=\"\",0,1),IF(②選手情報入力!$T$7=\"\",0,1))))","v":""},{"$f":"IF(E213=\"\",\"\",IF(②選手情報入力!T222=\"\",\"\",2))","v":""},"",{"$f":"IF(E213=\"\",\"\",IF(②選手情報入力!V222=\"\",\"\",IF(G213=1,IF(②選手情報入力!$W$6=\"\",\"\",②選手情報入力!$W$6),IF(②選手情報入力!$W$7=\"\",\"\",②選手情報入力!$W$7))))","v":""},{"$f":"IF(E213=\"\",\"\",IF(②選手情報入力!V222=\"\",\"\",IF(G213=1,IF(②選手情報入力!$V$6=\"\",0,1),IF(②選手情報入力!$V$7=\"\",0,1))))","v":""},{"$f":"IF(E213=\"\",\"\",IF(②選手情報入力!V222=\"\",\"\",2))","v":""}]
[{"$f":"IF(E214=\"\",\"\",data_kyogisha!A214)","v":""},{"$f":"IF(E214=\"\",\"\",①団体情報入力!$C$5)","v":""},{"$f":"IF(A214=\"\",\"\",VLOOKUP(B214,Sheet6!C:D,2,0))","v":""},null,{"$f":"IF(②選手情報入力!C223=\"\",\"\",②選手情報入力!C223)","v":""},{"$f":"IF(E214=\"\",\"\",②選手情報入力!D223)","v":""},{"$f":"IF(E214=\"\",\"\",IF(②選手情報入力!I223=\"男\",1,2))","v":""},{"$f":"IF(E214=\"\",\"\",VLOOKUP(data_kyogisha!Q214,Sheet3!A:G,2,0))","v":""},{"$f":"IF(E214=\"\",\"\",IF(②選手情報入力!M223=\"\",\"\",②選手情報入力!M223))","v":""},{"$f":"IF(E214=\"\",\"\",②選手情報入力!N223)","v":""},{"$f":"IF(E214=\"\",\"\",VLOOKUP(data_kyogisha!U214,Sheet3!A:G,2,0))","v":""},{"$f":"IF(E214=\"\",\"\",IF(②選手情報入力!P223=\"\",\"\",②選手情報入力!P223))","v":""},{"$f":"IF(E214=\"\",\"\",②選手情報入力!Q223)","v":""},"",{"$f":"IF(E214=\"\",\"\",IF(②選手情報入力!S223=\"\",\"\",②選手情報入力!S223))","v":""},"","",{"$f":"IF(E214=\"\",\"\",IF(②選手情報入力!T223=\"\",\"\",IF(G214=1,IF(②選手情報入力!$U$6=\"\",\"\",②選手情報入力!$U$6),IF(②選手情報入力!$U$7=\"\",\"\",②選手情報入力!$U$7))))","v":""},{"$f":"IF(E214=\"\",\"\",IF(②選手情報入力!T223=\"\",\"\",IF(G214=1,IF(②選手情報入力!$T$6=\"\",0,1),IF(②選手情報入力!$T$7=\"\",0,1))))","v":""},{"$f":"IF(E214=\"\",\"\",IF(②選手情報入力!T223=\"\",\"\",2))","v":""},"",{"$f":"IF(E214=\"\",\"\",IF(②選手情報入力!V223=\"\",\"\",IF(G214=1,IF(②選手情報入力!$W$6=\"\",\"\",②選手情報入力!$W$6),IF(②選手情報入力!$W$7=\"\",\"\",②選手情報入力!$W$7))))","v":""},{"$f":"IF(E214=\"\",\"\",IF(②選手情報入力!V223=\"\",\"\",IF(G214=1,IF(②選手情報入力!$V$6=\"\",0,1),IF(②選手情報入力!$V$7=\"\",0,1))))","v":""},{"$f":"IF(E214=\"\",\"\",IF(②選手情報入力!V223=\"\",\"\",2))","v":""}]
[{"$f":"IF(E215=\"\",\"\",data_kyogisha!A215)","v":""},{"$f":"IF(E215=\"\",\"\",①団体情報入力!$C$5)","v":""},{"$f":"IF(A215=\"\",\"\",VLOOKUP(B215,Sheet6!C:D,2,0))","v":""},null,{"$f":"IF(②選手情報入力!C224=\"\",\"\",②選手情報入力!C224)","v":""},{"$f":"IF(E215=\"\",\"\",②選手情報入力!D224)","v":""},{"$f":"IF(E215=\"\",\"\",IF(②選手情報入力!I224=\"男\",1,2))","v":""},{"$f":"IF(E215=\"\",\"\",VLOOKUP(data_kyogisha!Q215,Sheet3!A:G,2,0))","v":""},{"$f":"IF(E215=\"\",\"\",IF(②選手情報入力!M224=\"\",\"\",②選手情報入力!M224))","v":""},{"$f":"IF(E215=\"\",\"\",②選手情報入力!N224)","v":""},{"$f":"IF(E215=\"\",\"\",VLOOKUP(data_kyogisha!U215,Sheet3!A:G,2,0))","v":""},{"$f":"IF(E215=\"\",\"\",IF(②選手情報入力!P224=\"\",\"\",②選手情報入力!P224))","v":""},{"$f":"IF(E215=\"\",\"\",②選手情報入力!Q224)","v":""},"",{"$f":"IF(E215=\"\",\"\",IF(②選手情報入力!S224=\"\",\"\",②選手情報入力!S224))","v":""},"","",{"$f":"IF(E215=\"\",\"\",IF(②選手情報入力!T224=\"\",\"\",IF(G215=1,IF(②選手情報入力!$U$6=\"\",\"\",②選手情報入力!$U$6),IF(②選手情報入力!$U$7=\"\",\"\",②選手情報入力!$U$7))))","v":""},{"$f":"IF(E215=\"\",\"\",IF(②選手情報入力!T224=\"\",\"\",IF(G215=1,IF(②選手情報入力!$T$6=\"\",0,1),IF(②選手情報入力!$T$7=\"\",0,1))))","v":""},{"$f":"IF(E215=\"\",\"\",IF(②選手情報入力!T224=\"\",\"\",2))","v":""},"",{"$f":"IF(E215=\"\",\"\",IF(②選手情報入力!V224=\"\",\"\",IF(G215=1,IF(②選手情報入力!$W$6=\"\",\"\",②選手情報入力!$W$6),IF(②選手情報入力!$W$7=\"\",\"\",②選手情報入力!$W$7))))","v":""},{"$f":"IF(E215=\"\",\"\",IF(②選手情報入力!V224=\"\",\"\",IF(G215=1,IF(②選手情報入力!$V$6=\"\",0,1),IF(②選手情報入力!$V$7=\"\",0,1))))","v":""},{"$f":"IF(E215=\"\",\"\",IF(②選手情報入力!V224=\"\",\"\",2))","v":""}]
[{"$f":"IF(E216=\"\",\"\",data_kyogisha!A216)","v":""},{"$f":"IF(E216=\"\",\"\",①団体情報入力!$C$5)","v":""},{"$f":"IF(A216=\"\",\"\",VLOOKUP(B216,Sheet6!C:D,2,0))","v":""},null,{"$f":"IF(②選手情報入力!C225=\"\",\"\",②選手情報入力!C225)","v":""},{"$f":"IF(E216=\"\",\"\",②選手情報入力!D225)","v":""},{"$f":"IF(E216=\"\",\"\",IF(②選手情報入力!I225=\"男\",1,2))","v":""},{"$f":"IF(E216=\"\",\"\",VLOOKUP(data_kyogisha!Q216,Sheet3!A:G,2,0))","v":""},{"$f":"IF(E216=\"\",\"\",IF(②選手情報入力!M225=\"\",\"\",②選手情報入力!M225))","v":""},{"$f":"IF(E216=\"\",\"\",②選手情報入力!N225)","v":""},{"$f":"IF(E216=\"\",\"\",VLOOKUP(data_kyogisha!U216,Sheet3!A:G,2,0))","v":""},{"$f":"IF(E216=\"\",\"\",IF(②選手情報入力!P225=\"\",\"\",②選手情報入力!P225))","v":""},{"$f":"IF(E216=\"\",\"\",②選手情報入力!Q225)","v":""},"",{"$f":"IF(E216=\"\",\"\",IF(②選手情報入力!S225=\"\",\"\",②選手情報入力!S225))","v":""},"","",{"$f":"IF(E216=\"\",\"\",IF(②選手情報入力!T225=\"\",\"\",IF(G216=1,IF(②選手情報入力!$U$6=\"\",\"\",②選手情報入力!$U$6),IF(②選手情報入力!$U$7=\"\",\"\",②選手情報入力!$U$7))))","v":""},{"$f":"IF(E216=\"\",\"\",IF(②選手情報入力!T225=\"\",\"\",IF(G216=1,IF(②選手情報入力!$T$6=\"\",0,1),IF(②選手情報入力!$T$7=\"\",0,1))))","v":""},{"$f":"IF(E216=\"\",\"\",IF(②選手情報入力!T225=\"\",\"\",2))","v":""},"",{"$f":"IF(E216=\"\",\"\",IF(②選手情報入力!V225=\"\",\"\",IF(G216=1,IF(②選手情報入力!$W$6=\"\",\"\",②選手情報入力!$W$6),IF(②選手情報入力!$W$7=\"\",\"\",②選手情報入力!$W$7))))","v":""},{"$f":"IF(E216=\"\",\"\",IF(②選手情報入力!V225=\"\",\"\",IF(G216=1,IF(②選手情報入力!$V$6=\"\",0,1),IF(②選手情報入力!$V$7=\"\",0,1))))","v":""},{"$f":"IF(E216=\"\",\"\",IF(②選手情報入力!V225=\"\",\"\",2))","v":""}]
[{"$f":"IF(E217=\"\",\"\",data_kyogisha!A217)","v":""},{"$f":"IF(E217=\"\",\"\",①団体情報入力!$C$5)","v":""},{"$f":"IF(A217=\"\",\"\",VLOOKUP(B217,Sheet6!C:D,2,0))","v":""},null,{"$f":"IF(②選手情報入力!C226=\"\",\"\",②選手情報入力!C226)","v":""},{"$f":"IF(E217=\"\",\"\",②選手情報入力!D226)","v":""},{"$f":"IF(E217=\"\",\"\",IF(②選手情報入力!I226=\"男\",1,2))","v":""},{"$f":"IF(E217=\"\",\"\",VLOOKUP(data_kyogisha!Q217,Sheet3!A:G,2,0))","v":""},{"$f":"IF(E217=\"\",\"\",IF(②選手情報入力!M226=\"\",\"\",②選手情報入力!M226))","v":""},{"$f":"IF(E217=\"\",\"\",②選手情報入力!N226)","v":""},{"$f":"IF(E217=\"\",\"\",VLOOKUP(data_kyogisha!U217,Sheet3!A:G,2,0))","v":""},{"$f":"IF(E217=\"\",\"\",IF(②選手情報入力!P226=\"\",\"\",②選手情報入力!P226))","v":""},{"$f":"IF(E217=\"\",\"\",②選手情報入力!Q226)","v":""},"",{"$f":"IF(E217=\"\",\"\",IF(②選手情報入力!S226=\"\",\"\",②選手情報入力!S226))","v":""},"","",{"$f":"IF(E217=\"\",\"\",IF(②選手情報入力!T226=\"\",\"\",IF(G217=1,IF(②選手情報入力!$U$6=\"\",\"\",②選手情報入力!$U$6),IF(②選手情報入力!$U$7=\"\",\"\",②選手情報入力!$U$7))))","v":""},{"$f":"IF(E217=\"\",\"\",IF(②選手情報入力!T226=\"\",\"\",IF(G217=1,IF(②選手情報入力!$T$6=\"\",0,1),IF(②選手情報入力!$T$7=\"\",0,1))))","v":""},{"$f":"IF(E217=\"\",\"\",IF(②選手情報入力!T226=\"\",\"\",2))","v":""},"",{"$f":"IF(E217=\"\",\"\",IF(②選手情報入力!V226=\"\",\"\",IF(G217=1,IF(②選手情報入力!$W$6=\"\",\"\",②選手情報入力!$W$6),IF(②選手情報入力!$W$7=\"\",\"\",②選手情報入力!$W$7))))","v":""},{"$f":"IF(E217=\"\",\"\",IF(②選手情報入力!V226=\"\",\"\",IF(G217=1,IF(②選手情報入力!$V$6=\"\",0,1),IF(②選手情報入力!$V$7=\"\",0,1))))","v":""},{"$f":"IF(E217=\"\",\"\",IF(②選手情報入力!V226=\"\",\"\",2))","v":""}]
[{"$f":"IF(E218=\"\",\"\",data_kyogisha!A218)","v":""},{"$f":"IF(E218=\"\",\"\",①団体情報入力!$C$5)","v":""},{"$f":"IF(A218=\"\",\"\",VLOOKUP(B218,Sheet6!C:D,2,0))","v":""},null,{"$f":"IF(②選手情報入力!C227=\"\",\"\",②選手情報入力!C227)","v":""},{"$f":"IF(E218=\"\",\"\",②選手情報入力!D227)","v":""},{"$f":"IF(E218=\"\",\"\",IF(②選手情報入力!I227=\"男\",1,2))","v":""},{"$f":"IF(E218=\"\",\"\",VLOOKUP(data_kyogisha!Q218,Sheet3!A:G,2,0))","v":""},{"$f":"IF(E218=\"\",\"\",IF(②選手情報入力!M227=\"\",\"\",②選手情報入力!M227))","v":""},{"$f":"IF(E218=\"\",\"\",②選手情報入力!N227)","v":""},{"$f":"IF(E218=\"\",\"\",VLOOKUP(data_kyogisha!U218,Sheet3!A:G,2,0))","v":""},{"$f":"IF(E218=\"\",\"\",IF(②選手情報入力!P227=\"\",\"\",②選手情報入力!P227))","v":""},{"$f":"IF(E218=\"\",\"\",②選手情報入力!Q227)","v":""},"",{"$f":"IF(E218=\"\",\"\",IF(②選手情報入力!S227=\"\",\"\",②選手情報入力!S227))","v":""},"","",{"$f":"IF(E218=\"\",\"\",IF(②選手情報入力!T227=\"\",\"\",IF(G218=1,IF(②選手情報入力!$U$6=\"\",\"\",②選手情報入力!$U$6),IF(②選手情報入力!$U$7=\"\",\"\",②選手情報入力!$U$7))))","v":""},{"$f":"IF(E218=\"\",\"\",IF(②選手情報入力!T227=\"\",\"\",IF(G218=1,IF(②選手情報入力!$T$6=\"\",0,1),IF(②選手情報入力!$T$7=\"\",0,1))))","v":""},{"$f":"IF(E218=\"\",\"\",IF(②選手情報入力!T227=\"\",\"\",2))","v":""},"",{"$f":"IF(E218=\"\",\"\",IF(②選手情報入力!V227=\"\",\"\",IF(G218=1,IF(②選手情報入力!$W$6=\"\",\"\",②選手情報入力!$W$6),IF(②選手情報入力!$W$7=\"\",\"\",②選手情報入力!$W$7))))","v":""},{"$f":"IF(E218=\"\",\"\",IF(②選手情報入力!V227=\"\",\"\",IF(G218=1,IF(②選手情報入力!$V$6=\"\",0,1),IF(②選手情報入力!$V$7=\"\",0,1))))","v":""},{"$f":"IF(E218=\"\",\"\",IF(②選手情報入力!V227=\"\",\"\",2))","v":""}]
[{"$f":"IF(E219=\"\",\"\",data_kyogisha!A219)","v":""},{"$f":"IF(E219=\"\",\"\",①団体情報入力!$C$5)","v":""},{"$f":"IF(A219=\"\",\"\",VLOOKUP(B219,Sheet6!C:D,2,0))","v":""},null,{"$f":"IF(②選手情報入力!C228=\"\",\"\",②選手情報入力!C228)","v":""},{"$f":"IF(E219=\"\",\"\",②選手情報入力!D228)","v":""},{"$f":"IF(E219=\"\",\"\",IF(②選手情報入力!I228=\"男\",1,2))","v":""},{"$f":"IF(E219=\"\",\"\",VLOOKUP(data_kyogisha!Q219,Sheet3!A:G,2,0))","v":""},{"$f":"IF(E219=\"\",\"\",IF(②選手情報入力!M228=\"\",\"\",②選手情報入力!M228))","v":""},{"$f":"IF(E219=\"\",\"\",②選手情報入力!N228)","v":""},{"$f":"IF(E219=\"\",\"\",VLOOKUP(data_kyogisha!U219,Sheet3!A:G,2,0))","v":""},{"$f":"IF(E219=\"\",\"\",IF(②選手情報入力!P228=\"\",\"\",②選手情報入力!P228))","v":""},{"$f":"IF(E219=\"\",\"\",②選手情報入力!Q228)","v":""},"",{"$f":"IF(E219=\"\",\"\",IF(②選手情報入力!S228=\"\",\"\",②選手情報入力!S228))","v":""},"","",{"$f":"IF(E219=\"\",\"\",IF(②選手情報入力!T228=\"\",\"\",IF(G219=1,IF(②選手情報入力!$U$6=\"\",\"\",②選手情報入力!$U$6),IF(②選手情報入力!$U$7=\"\",\"\",②選手情報入力!$U$7))))","v":""},{"$f":"IF(E219=\"\",\"\",IF(②選手情報入力!T228=\"\",\"\",IF(G219=1,IF(②選手情報入力!$T$6=\"\",0,1),IF(②選手情報入力!$T$7=\"\",0,1))))","v":""},{"$f":"IF(E219=\"\",\"\",IF(②選手情報入力!T228=\"\",\"\",2))","v":""},"",{"$f":"IF(E219=\"\",\"\",IF(②選手情報入力!V228=\"\",\"\",IF(G219=1,IF(②選手情報入力!$W$6=\"\",\"\",②選手情報入力!$W$6),IF(②選手情報入力!$W$7=\"\",\"\",②選手情報入力!$W$7))))","v":""},{"$f":"IF(E219=\"\",\"\",IF(②選手情報入力!V228=\"\",\"\",IF(G219=1,IF(②選手情報入力!$V$6=\"\",0,1),IF(②選手情報入力!$V$7=\"\",0,1))))","v":""},{"$f":"IF(E219=\"\",\"\",IF(②選手情報入力!V228=\"\",\"\",2))","v":""}]
[{"$f":"IF(E220=\"\",\"\",data_kyogisha!A220)","v":""},{"$f":"IF(E220=\"\",\"\",①団体情報入力!$C$5)","v":""},{"$f":"IF(A220=\"\",\"\",VLOOKUP(B220,Sheet6!C:D,2,0))","v":""},null,{"$f":"IF(②選手情報入力!C229=\"\",\"\",②選手情報入力!C229)","v":""},{"$f":"IF(E220=\"\",\"\",②選手情報入力!D229)","v":""},{"$f":"IF(E220=\"\",\"\",IF(②選手情報入力!I229=\"男\",1,2))","v":""},{"$f":"IF(E220=\"\",\"\",VLOOKUP(data_kyogisha!Q220,Sheet3!A:G,2,0))","v":""},{"$f":"IF(E220=\"\",\"\",IF(②選手情報入力!M229=\"\",\"\",②選手情報入力!M229))","v":""},{"$f":"IF(E220=\"\",\"\",②選手情報入力!N229)","v":""},{"$f":"IF(E220=\"\",\"\",VLOOKUP(data_kyogisha!U220,Sheet3!A:G,2,0))","v":""},{"$f":"IF(E220=\"\",\"\",IF(②選手情報入力!P229=\"\",\"\",②選手情報入力!P229))","v":""},{"$f":"IF(E220=\"\",\"\",②選手情報入力!Q229)","v":""},"",{"$f":"IF(E220=\"\",\"\",IF(②選手情報入力!S229=\"\",\"\",②選手情報入力!S229))","v":""},"","",{"$f":"IF(E220=\"\",\"\",IF(②選手情報入力!T229=\"\",\"\",IF(G220=1,IF(②選手情報入力!$U$6=\"\",\"\",②選手情報入力!$U$6),IF(②選手情報入力!$U$7=\"\",\"\",②選手情報入力!$U$7))))","v":""},{"$f":"IF(E220=\"\",\"\",IF(②選手情報入力!T229=\"\",\"\",IF(G220=1,IF(②選手情報入力!$T$6=\"\",0,1),IF(②選手情報入力!$T$7=\"\",0,1))))","v":""},{"$f":"IF(E220=\"\",\"\",IF(②選手情報入力!T229=\"\",\"\",2))","v":""},"",{"$f":"IF(E220=\"\",\"\",IF(②選手情報入力!V229=\"\",\"\",IF(G220=1,IF(②選手情報入力!$W$6=\"\",\"\",②選手情報入力!$W$6),IF(②選手情報入力!$W$7=\"\",\"\",②選手情報入力!$W$7))))","v":""},{"$f":"IF(E220=\"\",\"\",IF(②選手情報入力!V229=\"\",\"\",IF(G220=1,IF(②選手情報入力!$V$6=\"\",0,1),IF(②選手情報入力!$V$7=\"\",0,1))))","v":""},{"$f":"IF(E220=\"\",\"\",IF(②選手情報入力!V229=\"\",\"\",2))","v":""}]
[{"$f":"IF(E221=\"\",\"\",data_kyogisha!A221)","v":""},{"$f":"IF(E221=\"\",\"\",①団体情報入力!$C$5)","v":""},{"$f":"IF(A221=\"\",\"\",VLOOKUP(B221,Sheet6!C:D,2,0))","v":""},null,{"$f":"IF(②選手情報入力!C230=\"\",\"\",②選手情報入力!C230)","v":""},{"$f":"IF(E221=\"\",\"\",②選手情報入力!D230)","v":""},{"$f":"IF(E221=\"\",\"\",IF(②選手情報入力!I230=\"男\",1,2))","v":""},{"$f":"IF(E221=\"\",\"\",VLOOKUP(data_kyogisha!Q221,Sheet3!A:G,2,0))","v":""},{"$f":"IF(E221=\"\",\"\",IF(②選手情報入力!M230=\"\",\"\",②選手情報入力!M230))","v":""},{"$f":"IF(E221=\"\",\"\",②選手情報入力!N230)","v":""},{"$f":"IF(E221=\"\",\"\",VLOOKUP(data_kyogisha!U221,Sheet3!A:G,2,0))","v":""},{"$f":"IF(E221=\"\",\"\",IF(②選手情報入力!P230=\"\",\"\",②選手情報入力!P230))","v":""},{"$f":"IF(E221=\"\",\"\",②選手情報入力!Q230)","v":""},"",{"$f":"IF(E221=\"\",\"\",IF(②選手情報入力!S230=\"\",\"\",②選手情報入力!S230))","v":""},"","",{"$f":"IF(E221=\"\",\"\",IF(②選手情報入力!T230=\"\",\"\",IF(G221=1,IF(②選手情報入力!$U$6=\"\",\"\",②選手情報入力!$U$6),IF(②選手情報入力!$U$7=\"\",\"\",②選手情報入力!$U$7))))","v":""},{"$f":"IF(E221=\"\",\"\",IF(②選手情報入力!T230=\"\",\"\",IF(G221=1,IF(②選手情報入力!$T$6=\"\",0,1),IF(②選手情報入力!$T$7=\"\",0,1))))","v":""},{"$f":"IF(E221=\"\",\"\",IF(②選手情報入力!T230=\"\",\"\",2))","v":""},"",{"$f":"IF(E221=\"\",\"\",IF(②選手情報入力!V230=\"\",\"\",IF(G221=1,IF(②選手情報入力!$W$6=\"\",\"\",②選手情報入力!$W$6),IF(②選手情報入力!$W$7=\"\",\"\",②選手情報入力!$W$7))))","v":""},{"$f":"IF(E221=\"\",\"\",IF(②選手情報入力!V230=\"\",\"\",IF(G221=1,IF(②選手情報入力!$V$6=\"\",0,1),IF(②選手情報入力!$V$7=\"\",0,1))))","v":""},{"$f":"IF(E221=\"\",\"\",IF(②選手情報入力!V230=\"\",\"\",2))","v":""}]
[{"$f":"IF(E222=\"\",\"\",data_kyogisha!A222)","v":""},{"$f":"IF(E222=\"\",\"\",①団体情報入力!$C$5)","v":""},{"$f":"IF(A222=\"\",\"\",VLOOKUP(B222,Sheet6!C:D,2,0))","v":""},null,{"$f":"IF(②選手情報入力!C231=\"\",\"\",②選手情報入力!C231)","v":""},{"$f":"IF(E222=\"\",\"\",②選手情報入力!D231)","v":""},{"$f":"IF(E222=\"\",\"\",IF(②選手情報入力!I231=\"男\",1,2))","v":""},{"$f":"IF(E222=\"\",\"\",VLOOKUP(data_kyogisha!Q222,Sheet3!A:G,2,0))","v":""},{"$f":"IF(E222=\"\",\"\",IF(②選手情報入力!M231=\"\",\"\",②選手情報入力!M231))","v":""},{"$f":"IF(E222=\"\",\"\",②選手情報入力!N231)","v":""},{"$f":"IF(E222=\"\",\"\",VLOOKUP(data_kyogisha!U222,Sheet3!A:G,2,0))","v":""},{"$f":"IF(E222=\"\",\"\",IF(②選手情報入力!P231=\"\",\"\",②選手情報入力!P231))","v":""},{"$f":"IF(E222=\"\",\"\",②選手情報入力!Q231)","v":""},"",{"$f":"IF(E222=\"\",\"\",IF(②選手情報入力!S231=\"\",\"\",②選手情報入力!S231))","v":""},"","",{"$f":"IF(E222=\"\",\"\",IF(②選手情報入力!T231=\"\",\"\",IF(G222=1,IF(②選手情報入力!$U$6=\"\",\"\",②選手情報入力!$U$6),IF(②選手情報入力!$U$7=\"\",\"\",②選手情報入力!$U$7))))","v":""},{"$f":"IF(E222=\"\",\"\",IF(②選手情報入力!T231=\"\",\"\",IF(G222=1,IF(②選手情報入力!$T$6=\"\",0,1),IF(②選手情報入力!$T$7=\"\",0,1))))","v":""},{"$f":"IF(E222=\"\",\"\",IF(②選手情報入力!T231=\"\",\"\",2))","v":""},"",{"$f":"IF(E222=\"\",\"\",IF(②選手情報入力!V231=\"\",\"\",IF(G222=1,IF(②選手情報入力!$W$6=\"\",\"\",②選手情報入力!$W$6),IF(②選手情報入力!$W$7=\"\",\"\",②選手情報入力!$W$7))))","v":""},{"$f":"IF(E222=\"\",\"\",IF(②選手情報入力!V231=\"\",\"\",IF(G222=1,IF(②選手情報入力!$V$6=\"\",0,1),IF(②選手情報入力!$V$7=\"\",0,1))))","v":""},{"$f":"IF(E222=\"\",\"\",IF(②選手情報入力!V231=\"\",\"\",2))","v":""}]
[{"$f":"IF(E223=\"\",\"\",data_kyogisha!A223)","v":""},{"$f":"IF(E223=\"\",\"\",①団体情報入力!$C$5)","v":""},{"$f":"IF(A223=\"\",\"\",VLOOKUP(B223,Sheet6!C:D,2,0))","v":""},null,{"$f":"IF(②選手情報入力!C232=\"\",\"\",②選手情報入力!C232)","v":""},{"$f":"IF(E223=\"\",\"\",②選手情報入力!D232)","v":""},{"$f":"IF(E223=\"\",\"\",IF(②選手情報入力!I232=\"男\",1,2))","v":""},{"$f":"IF(E223=\"\",\"\",VLOOKUP(data_kyogisha!Q223,Sheet3!A:G,2,0))","v":""},{"$f":"IF(E223=\"\",\"\",IF(②選手情報入力!M232=\"\",\"\",②選手情報入力!M232))","v":""},{"$f":"IF(E223=\"\",\"\",②選手情報入力!N232)","v":""},{"$f":"IF(E223=\"\",\"\",VLOOKUP(data_kyogisha!U223,Sheet3!A:G,2,0))","v":""},{"$f":"IF(E223=\"\",\"\",IF(②選手情報入力!P232=\"\",\"\",②選手情報入力!P232))","v":""},{"$f":"IF(E223=\"\",\"\",②選手情報入力!Q232)","v":""},"",{"$f":"IF(E223=\"\",\"\",IF(②選手情報入力!S232=\"\",\"\",②選手情報入力!S232))","v":""},"","",{"$f":"IF(E223=\"\",\"\",IF(②選手情報入力!T232=\"\",\"\",IF(G223=1,IF(②選手情報入力!$U$6=\"\",\"\",②選手情報入力!$U$6),IF(②選手情報入力!$U$7=\"\",\"\",②選手情報入力!$U$7))))","v":""},{"$f":"IF(E223=\"\",\"\",IF(②選手情報入力!T232=\"\",\"\",IF(G223=1,IF(②選手情報入力!$T$6=\"\",0,1),IF(②選手情報入力!$T$7=\"\",0,1))))","v":""},{"$f":"IF(E223=\"\",\"\",IF(②選手情報入力!T232=\"\",\"\",2))","v":""},"",{"$f":"IF(E223=\"\",\"\",IF(②選手情報入力!V232=\"\",\"\",IF(G223=1,IF(②選手情報入力!$W$6=\"\",\"\",②選手情報入力!$W$6),IF(②選手情報入力!$W$7=\"\",\"\",②選手情報入力!$W$7))))","v":""},{"$f":"IF(E223=\"\",\"\",IF(②選手情報入力!V232=\"\",\"\",IF(G223=1,IF(②選手情報入力!$V$6=\"\",0,1),IF(②選手情報入力!$V$7=\"\",0,1))))","v":""},{"$f":"IF(E223=\"\",\"\",IF(②選手情報入力!V232=\"\",\"\",2))","v":""}]
[{"$f":"IF(E224=\"\",\"\",data_kyogisha!A224)","v":""},{"$f":"IF(E224=\"\",\"\",①団体情報入力!$C$5)","v":""},{"$f":"IF(A224=\"\",\"\",VLOOKUP(B224,Sheet6!C:D,2,0))","v":""},null,{"$f":"IF(②選手情報入力!C233=\"\",\"\",②選手情報入力!C233)","v":""},{"$f":"IF(E224=\"\",\"\",②選手情報入力!D233)","v":""},{"$f":"IF(E224=\"\",\"\",IF(②選手情報入力!I233=\"男\",1,2))","v":""},{"$f":"IF(E224=\"\",\"\",VLOOKUP(data_kyogisha!Q224,Sheet3!A:G,2,0))","v":""},{"$f":"IF(E224=\"\",\"\",IF(②選手情報入力!M233=\"\",\"\",②選手情報入力!M233))","v":""},{"$f":"IF(E224=\"\",\"\",②選手情報入力!N233)","v":""},{"$f":"IF(E224=\"\",\"\",VLOOKUP(data_kyogisha!U224,Sheet3!A:G,2,0))","v":""},{"$f":"IF(E224=\"\",\"\",IF(②選手情報入力!P233=\"\",\"\",②選手情報入力!P233))","v":""},{"$f":"IF(E224=\"\",\"\",②選手情報入力!Q233)","v":""},"",{"$f":"IF(E224=\"\",\"\",IF(②選手情報入力!S233=\"\",\"\",②選手情報入力!S233))","v":""},"","",{"$f":"IF(E224=\"\",\"\",IF(②選手情報入力!T233=\"\",\"\",IF(G224=1,IF(②選手情報入力!$U$6=\"\",\"\",②選手情報入力!$U$6),IF(②選手情報入力!$U$7=\"\",\"\",②選手情報入力!$U$7))))","v":""},{"$f":"IF(E224=\"\",\"\",IF(②選手情報入力!T233=\"\",\"\",IF(G224=1,IF(②選手情報入力!$T$6=\"\",0,1),IF(②選手情報入力!$T$7=\"\",0,1))))","v":""},{"$f":"IF(E224=\"\",\"\",IF(②選手情報入力!T233=\"\",\"\",2))","v":""},"",{"$f":"IF(E224=\"\",\"\",IF(②選手情報入力!V233=\"\",\"\",IF(G224=1,IF(②選手情報入力!$W$6=\"\",\"\",②選手情報入力!$W$6),IF(②選手情報入力!$W$7=\"\",\"\",②選手情報入力!$W$7))))","v":""},{"$f":"IF(E224=\"\",\"\",IF(②選手情報入力!V233=\"\",\"\",IF(G224=1,IF(②選手情報入力!$V$6=\"\",0,1),IF(②選手情報入力!$V$7=\"\",0,1))))","v":""},{"$f":"IF(E224=\"\",\"\",IF(②選手情報入力!V233=\"\",\"\",2))","v":""}]
[{"$f":"IF(E225=\"\",\"\",data_kyogisha!A225)","v":""},{"$f":"IF(E225=\"\",\"\",①団体情報入力!$C$5)","v":""},{"$f":"IF(A225=\"\",\"\",VLOOKUP(B225,Sheet6!C:D,2,0))","v":""},null,{"$f":"IF(②選手情報入力!C234=\"\",\"\",②選手情報入力!C234)","v":""},{"$f":"IF(E225=\"\",\"\",②選手情報入力!D234)","v":""},{"$f":"IF(E225=\"\",\"\",IF(②選手情報入力!I234=\"男\",1,2))","v":""},{"$f":"IF(E225=\"\",\"\",VLOOKUP(data_kyogisha!Q225,Sheet3!A:G,2,0))","v":""},{"$f":"IF(E225=\"\",\"\",IF(②選手情報入力!M234=\"\",\"\",②選手情報入力!M234))","v":""},{"$f":"IF(E225=\"\",\"\",②選手情報入力!N234)","v":""},{"$f":"IF(E225=\"\",\"\",VLOOKUP(data_kyogisha!U225,Sheet3!A:G,2,0))","v":""},{"$f":"IF(E225=\"\",\"\",IF(②選手情報入力!P234=\"\",\"\",②選手情報入力!P234))","v":""},{"$f":"IF(E225=\"\",\"\",②選手情報入力!Q234)","v":""},"",{"$f":"IF(E225=\"\",\"\",IF(②選手情報入力!S234=\"\",\"\",②選手情報入力!S234))","v":""},"","",{"$f":"IF(E225=\"\",\"\",IF(②選手情報入力!T234=\"\",\"\",IF(G225=1,IF(②選手情報入力!$U$6=\"\",\"\",②選手情報入力!$U$6),IF(②選手情報入力!$U$7=\"\",\"\",②選手情報入力!$U$7))))","v":""},{"$f":"IF(E225=\"\",\"\",IF(②選手情報入力!T234=\"\",\"\",IF(G225=1,IF(②選手情報入力!$T$6=\"\",0,1),IF(②選手情報入力!$T$7=\"\",0,1))))","v":""},{"$f":"IF(E225=\"\",\"\",IF(②選手情報入力!T234=\"\",\"\",2))","v":""},"",{"$f":"IF(E225=\"\",\"\",IF(②選手情報入力!V234=\"\",\"\",IF(G225=1,IF(②選手情報入力!$W$6=\"\",\"\",②選手情報入力!$W$6),IF(②選手情報入力!$W$7=\"\",\"\",②選手情報入力!$W$7))))","v":""},{"$f":"IF(E225=\"\",\"\",IF(②選手情報入力!V234=\"\",\"\",IF(G225=1,IF(②選手情報入力!$V$6=\"\",0,1),IF(②選手情報入力!$V$7=\"\",0,1))))","v":""},{"$f":"IF(E225=\"\",\"\",IF(②選手情報入力!V234=\"\",\"\",2))","v":""}]
[{"$f":"IF(E226=\"\",\"\",data_kyogisha!A226)","v":""},{"$f":"IF(E226=\"\",\"\",①団体情報入力!$C$5)","v":""},{"$f":"IF(A226=\"\",\"\",VLOOKUP(B226,Sheet6!C:D,2,0))","v":""},null,{"$f":"IF(②選手情報入力!C235=\"\",\"\",②選手情報入力!C235)","v":""},{"$f":"IF(E226=\"\",\"\",②選手情報入力!D235)","v":""},{"$f":"IF(E226=\"\",\"\",IF(②選手情報入力!I235=\"男\",1,2))","v":""},{"$f":"IF(E226=\"\",\"\",VLOOKUP(data_kyogisha!Q226,Sheet3!A:G,2,0))","v":""},{"$f":"IF(E226=\"\",\"\",IF(②選手情報入力!M235=\"\",\"\",②選手情報入力!M235))","v":""},{"$f":"IF(E226=\"\",\"\",②選手情報入力!N235)","v":""},{"$f":"IF(E226=\"\",\"\",VLOOKUP(data_kyogisha!U226,Sheet3!A:G,2,0))","v":""},{"$f":"IF(E226=\"\",\"\",IF(②選手情報入力!P235=\"\",\"\",②選手情報入力!P235))","v":""},{"$f":"IF(E226=\"\",\"\",②選手情報入力!Q235)","v":""},"",{"$f":"IF(E226=\"\",\"\",IF(②選手情報入力!S235=\"\",\"\",②選手情報入力!S235))","v":""},"","",{"$f":"IF(E226=\"\",\"\",IF(②選手情報入力!T235=\"\",\"\",IF(G226=1,IF(②選手情報入力!$U$6=\"\",\"\",②選手情報入力!$U$6),IF(②選手情報入力!$U$7=\"\",\"\",②選手情報入力!$U$7))))","v":""},{"$f":"IF(E226=\"\",\"\",IF(②選手情報入力!T235=\"\",\"\",IF(G226=1,IF(②選手情報入力!$T$6=\"\",0,1),IF(②選手情報入力!$T$7=\"\",0,1))))","v":""},{"$f":"IF(E226=\"\",\"\",IF(②選手情報入力!T235=\"\",\"\",2))","v":""},"",{"$f":"IF(E226=\"\",\"\",IF(②選手情報入力!V235=\"\",\"\",IF(G226=1,IF(②選手情報入力!$W$6=\"\",\"\",②選手情報入力!$W$6),IF(②選手情報入力!$W$7=\"\",\"\",②選手情報入力!$W$7))))","v":""},{"$f":"IF(E226=\"\",\"\",IF(②選手情報入力!V235=\"\",\"\",IF(G226=1,IF(②選手情報入力!$V$6=\"\",0,1),IF(②選手情報入力!$V$7=\"\",0,1))))","v":""},{"$f":"IF(E226=\"\",\"\",IF(②選手情報入力!V235=\"\",\"\",2))","v":""}]
[{"$f":"IF(E227=\"\",\"\",data_kyogisha!A227)","v":""},{"$f":"IF(E227=\"\",\"\",①団体情報入力!$C$5)","v":""},{"$f":"IF(A227=\"\",\"\",VLOOKUP(B227,Sheet6!C:D,2,0))","v":""},null,{"$f":"IF(②選手情報入力!C236=\"\",\"\",②選手情報入力!C236)","v":""},{"$f":"IF(E227=\"\",\"\",②選手情報入力!D236)","v":""},{"$f":"IF(E227=\"\",\"\",IF(②選手情報入力!I236=\"男\",1,2))","v":""},{"$f":"IF(E227=\"\",\"\",VLOOKUP(data_kyogisha!Q227,Sheet3!A:G,2,0))","v":""},{"$f":"IF(E227=\"\",\"\",IF(②選手情報入力!M236=\"\",\"\",②選手情報入力!M236))","v":""},{"$f":"IF(E227=\"\",\"\",②選手情報入力!N236)","v":""},{"$f":"IF(E227=\"\",\"\",VLOOKUP(data_kyogisha!U227,Sheet3!A:G,2,0))","v":""},{"$f":"IF(E227=\"\",\"\",IF(②選手情報入力!P236=\"\",\"\",②選手情報入力!P236))","v":""},{"$f":"IF(E227=\"\",\"\",②選手情報入力!Q236)","v":""},"",{"$f":"IF(E227=\"\",\"\",IF(②選手情報入力!S236=\"\",\"\",②選手情報入力!S236))","v":""},"","",{"$f":"IF(E227=\"\",\"\",IF(②選手情報入力!T236=\"\",\"\",IF(G227=1,IF(②選手情報入力!$U$6=\"\",\"\",②選手情報入力!$U$6),IF(②選手情報入力!$U$7=\"\",\"\",②選手情報入力!$U$7))))","v":""},{"$f":"IF(E227=\"\",\"\",IF(②選手情報入力!T236=\"\",\"\",IF(G227=1,IF(②選手情報入力!$T$6=\"\",0,1),IF(②選手情報入力!$T$7=\"\",0,1))))","v":""},{"$f":"IF(E227=\"\",\"\",IF(②選手情報入力!T236=\"\",\"\",2))","v":""},"",{"$f":"IF(E227=\"\",\"\",IF(②選手情報入力!V236=\"\",\"\",IF(G227=1,IF(②選手情報入力!$W$6=\"\",\"\",②選手情報入力!$W$6),IF(②選手情報入力!$W$7=\"\",\"\",②選手情報入力!$W$7))))","v":""},{"$f":"IF(E227=\"\",\"\",IF(②選手情報入力!V236=\"\",\"\",IF(G227=1,IF(②選手情報入力!$V$6=\"\",0,1),IF(②選手情報入力!$V$7=\"\",0,1))))","v":""},{"$f":"IF(E227=\"\",\"\",IF(②選手情報入力!V236=\"\",\"\",2))","v":""}]
[{"$f":"IF(E228=\"\",\"\",data_kyogisha!A228)","v":""},{"$f":"IF(E228=\"\",\"\",①団体情報入力!$C$5)","v":""},{"$f":"IF(A228=\"\",\"\",VLOOKUP(B228,Sheet6!C:D,2,0))","v":""},null,{"$f":"IF(②選手情報入力!C237=\"\",\"\",②選手情報入力!C237)","v":""},{"$f":"IF(E228=\"\",\"\",②選手情報入力!D237)","v":""},{"$f":"IF(E228=\"\",\"\",IF(②選手情報入力!I237=\"男\",1,2))","v":""},{"$f":"IF(E228=\"\",\"\",VLOOKUP(data_kyogisha!Q228,Sheet3!A:G,2,0))","v":""},{"$f":"IF(E228=\"\",\"\",IF(②選手情報入力!M237=\"\",\"\",②選手情報入力!M237))","v":""},{"$f":"IF(E228=\"\",\"\",②選手情報入力!N237)","v":""},{"$f":"IF(E228=\"\",\"\",VLOOKUP(data_kyogisha!U228,Sheet3!A:G,2,0))","v":""},{"$f":"IF(E228=\"\",\"\",IF(②選手情報入力!P237=\"\",\"\",②選手情報入力!P237))","v":""},{"$f":"IF(E228=\"\",\"\",②選手情報入力!Q237)","v":""},"",{"$f":"IF(E228=\"\",\"\",IF(②選手情報入力!S237=\"\",\"\",②選手情報入力!S237))","v":""},"","",{"$f":"IF(E228=\"\",\"\",IF(②選手情報入力!T237=\"\",\"\",IF(G228=1,IF(②選手情報入力!$U$6=\"\",\"\",②選手情報入力!$U$6),IF(②選手情報入力!$U$7=\"\",\"\",②選手情報入力!$U$7))))","v":""},{"$f":"IF(E228=\"\",\"\",IF(②選手情報入力!T237=\"\",\"\",IF(G228=1,IF(②選手情報入力!$T$6=\"\",0,1),IF(②選手情報入力!$T$7=\"\",0,1))))","v":""},{"$f":"IF(E228=\"\",\"\",IF(②選手情報入力!T237=\"\",\"\",2))","v":""},"",{"$f":"IF(E228=\"\",\"\",IF(②選手情報入力!V237=\"\",\"\",IF(G228=1,IF(②選手情報入力!$W$6=\"\",\"\",②選手情報入力!$W$6),IF(②選手情報入力!$W$7=\"\",\"\",②選手情報入力!$W$7))))","v":""},{"$f":"IF(E228=\"\",\"\",IF(②選手情報入力!V237=\"\",\"\",IF(G228=1,IF(②選手情報入力!$V$6=\"\",0,1),IF(②選手情報入力!$V$7=\"\",0,1))))","v":""},{"$f":"IF(E228=\"\",\"\",IF(②選手情報入力!V237=\"\",\"\",2))","v":""}]
[{"$f":"IF(E229=\"\",\"\",data_kyogisha!A229)","v":""},{"$f":"IF(E229=\"\",\"\",①団体情報入力!$C$5)","v":""},{"$f":"IF(A229=\"\",\"\",VLOOKUP(B229,Sheet6!C:D,2,0))","v":""},null,{"$f":"IF(②選手情報入力!C238=\"\",\"\",②選手情報入力!C238)","v":""},{"$f":"IF(E229=\"\",\"\",②選手情報入力!D238)","v":""},{"$f":"IF(E229=\"\",\"\",IF(②選手情報入力!I238=\"男\",1,2))","v":""},{"$f":"IF(E229=\"\",\"\",VLOOKUP(data_kyogisha!Q229,Sheet3!A:G,2,0))","v":""},{"$f":"IF(E229=\"\",\"\",IF(②選手情報入力!M238=\"\",\"\",②選手情報入力!M238))","v":""},{"$f":"IF(E229=\"\",\"\",②選手情報入力!N238)","v":""},{"$f":"IF(E229=\"\",\"\",VLOOKUP(data_kyogisha!U229,Sheet3!A:G,2,0))","v":""},{"$f":"IF(E229=\"\",\"\",IF(②選手情報入力!P238=\"\",\"\",②選手情報入力!P238))","v":""},{"$f":"IF(E229=\"\",\"\",②選手情報入力!Q238)","v":""},"",{"$f":"IF(E229=\"\",\"\",IF(②選手情報入力!S238=\"\",\"\",②選手情報入力!S238))","v":""},"","",{"$f":"IF(E229=\"\",\"\",IF(②選手情報入力!T238=\"\",\"\",IF(G229=1,IF(②選手情報入力!$U$6=\"\",\"\",②選手情報入力!$U$6),IF(②選手情報入力!$U$7=\"\",\"\",②選手情報入力!$U$7))))","v":""},{"$f":"IF(E229=\"\",\"\",IF(②選手情報入力!T238=\"\",\"\",IF(G229=1,IF(②選手情報入力!$T$6=\"\",0,1),IF(②選手情報入力!$T$7=\"\",0,1))))","v":""},{"$f":"IF(E229=\"\",\"\",IF(②選手情報入力!T238=\"\",\"\",2))","v":""},"",{"$f":"IF(E229=\"\",\"\",IF(②選手情報入力!V238=\"\",\"\",IF(G229=1,IF(②選手情報入力!$W$6=\"\",\"\",②選手情報入力!$W$6),IF(②選手情報入力!$W$7=\"\",\"\",②選手情報入力!$W$7))))","v":""},{"$f":"IF(E229=\"\",\"\",IF(②選手情報入力!V238=\"\",\"\",IF(G229=1,IF(②選手情報入力!$V$6=\"\",0,1),IF(②選手情報入力!$V$7=\"\",0,1))))","v":""},{"$f":"IF(E229=\"\",\"\",IF(②選手情報入力!V238=\"\",\"\",2))","v":""}]
[{"$f":"IF(E230=\"\",\"\",data_kyogisha!A230)","v":""},{"$f":"IF(E230=\"\",\"\",①団体情報入力!$C$5)","v":""},{"$f":"IF(A230=\"\",\"\",VLOOKUP(B230,Sheet6!C:D,2,0))","v":""},null,{"$f":"IF(②選手情報入力!C239=\"\",\"\",②選手情報入力!C239)","v":""},{"$f":"IF(E230=\"\",\"\",②選手情報入力!D239)","v":""},{"$f":"IF(E230=\"\",\"\",IF(②選手情報入力!I239=\"男\",1,2))","v":""},{"$f":"IF(E230=\"\",\"\",VLOOKUP(data_kyogisha!Q230,Sheet3!A:G,2,0))","v":""},{"$f":"IF(E230=\"\",\"\",IF(②選手情報入力!M239=\"\",\"\",②選手情報入力!M239))","v":""},{"$f":"IF(E230=\"\",\"\",②選手情報入力!N239)","v":""},{"$f":"IF(E230=\"\",\"\",VLOOKUP(data_kyogisha!U230,Sheet3!A:G,2,0))","v":""},{"$f":"IF(E230=\"\",\"\",IF(②選手情報入力!P239=\"\",\"\",②選手情報入力!P239))","v":""},{"$f":"IF(E230=\"\",\"\",②選手情報入力!Q239)","v":""},"",{"$f":"IF(E230=\"\",\"\",IF(②選手情報入力!S239=\"\",\"\",②選手情報入力!S239))","v":""},"","",{"$f":"IF(E230=\"\",\"\",IF(②選手情報入力!T239=\"\",\"\",IF(G230=1,IF(②選手情報入力!$U$6=\"\",\"\",②選手情報入力!$U$6),IF(②選手情報入力!$U$7=\"\",\"\",②選手情報入力!$U$7))))","v":""},{"$f":"IF(E230=\"\",\"\",IF(②選手情報入力!T239=\"\",\"\",IF(G230=1,IF(②選手情報入力!$T$6=\"\",0,1),IF(②選手情報入力!$T$7=\"\",0,1))))","v":""},{"$f":"IF(E230=\"\",\"\",IF(②選手情報入力!T239=\"\",\"\",2))","v":""},"",{"$f":"IF(E230=\"\",\"\",IF(②選手情報入力!V239=\"\",\"\",IF(G230=1,IF(②選手情報入力!$W$6=\"\",\"\",②選手情報入力!$W$6),IF(②選手情報入力!$W$7=\"\",\"\",②選手情報入力!$W$7))))","v":""},{"$f":"IF(E230=\"\",\"\",IF(②選手情報入力!V239=\"\",\"\",IF(G230=1,IF(②選手情報入力!$V$6=\"\",0,1),IF(②選手情報入力!$V$7=\"\",0,1))))","v":""},{"$f":"IF(E230=\"\",\"\",IF(②選手情報入力!V239=\"\",\"\",2))","v":""}]
[{"$f":"IF(E231=\"\",\"\",data_kyogisha!A231)","v":""},{"$f":"IF(E231=\"\",\"\",①団体情報入力!$C$5)","v":""},{"$f":"IF(A231=\"\",\"\",VLOOKUP(B231,Sheet6!C:D,2,0))","v":""},null,{"$f":"IF(②選手情報入力!C240=\"\",\"\",②選手情報入力!C240)","v":""},{"$f":"IF(E231=\"\",\"\",②選手情報入力!D240)","v":""},{"$f":"IF(E231=\"\",\"\",IF(②選手情報入力!I240=\"男\",1,2))","v":""},{"$f":"IF(E231=\"\",\"\",VLOOKUP(data_kyogisha!Q231,Sheet3!A:G,2,0))","v":""},{"$f":"IF(E231=\"\",\"\",IF(②選手情報入力!M240=\"\",\"\",②選手情報入力!M240))","v":""},{"$f":"IF(E231=\"\",\"\",②選手情報入力!N240)","v":""},{"$f":"IF(E231=\"\",\"\",VLOOKUP(data_kyogisha!U231,Sheet3!A:G,2,0))","v":""},{"$f":"IF(E231=\"\",\"\",IF(②選手情報入力!P240=\"\",\"\",②選手情報入力!P240))","v":""},{"$f":"IF(E231=\"\",\"\",②選手情報入力!Q240)","v":""},"",{"$f":"IF(E231=\"\",\"\",IF(②選手情報入力!S240=\"\",\"\",②選手情報入力!S240))","v":""},"","",{"$f":"IF(E231=\"\",\"\",IF(②選手情報入力!T240=\"\",\"\",IF(G231=1,IF(②選手情報入力!$U$6=\"\",\"\",②選手情報入力!$U$6),IF(②選手情報入力!$U$7=\"\",\"\",②選手情報入力!$U$7))))","v":""},{"$f":"IF(E231=\"\",\"\",IF(②選手情報入力!T240=\"\",\"\",IF(G231=1,IF(②選手情報入力!$T$6=\"\",0,1),IF(②選手情報入力!$T$7=\"\",0,1))))","v":""},{"$f":"IF(E231=\"\",\"\",IF(②選手情報入力!T240=\"\",\"\",2))","v":""},"",{"$f":"IF(E231=\"\",\"\",IF(②選手情報入力!V240=\"\",\"\",IF(G231=1,IF(②選手情報入力!$W$6=\"\",\"\",②選手情報入力!$W$6),IF(②選手情報入力!$W$7=\"\",\"\",②選手情報入力!$W$7))))","v":""},{"$f":"IF(E231=\"\",\"\",IF(②選手情報入力!V240=\"\",\"\",IF(G231=1,IF(②選手情報入力!$V$6=\"\",0,1),IF(②選手情報入力!$V$7=\"\",0,1))))","v":""},{"$f":"IF(E231=\"\",\"\",IF(②選手情報入力!V240=\"\",\"\",2))","v":""}]
[{"$f":"IF(E232=\"\",\"\",data_kyogisha!A232)","v":""},{"$f":"IF(E232=\"\",\"\",①団体情報入力!$C$5)","v":""},{"$f":"IF(A232=\"\",\"\",VLOOKUP(B232,Sheet6!C:D,2,0))","v":""},null,{"$f":"IF(②選手情報入力!C241=\"\",\"\",②選手情報入力!C241)","v":""},{"$f":"IF(E232=\"\",\"\",②選手情報入力!D241)","v":""},{"$f":"IF(E232=\"\",\"\",IF(②選手情報入力!I241=\"男\",1,2))","v":""},{"$f":"IF(E232=\"\",\"\",VLOOKUP(data_kyogisha!Q232,Sheet3!A:G,2,0))","v":""},{"$f":"IF(E232=\"\",\"\",IF(②選手情報入力!M241=\"\",\"\",②選手情報入力!M241))","v":""},{"$f":"IF(E232=\"\",\"\",②選手情報入力!N241)","v":""},{"$f":"IF(E232=\"\",\"\",VLOOKUP(data_kyogisha!U232,Sheet3!A:G,2,0))","v":""},{"$f":"IF(E232=\"\",\"\",IF(②選手情報入力!P241=\"\",\"\",②選手情報入力!P241))","v":""},{"$f":"IF(E232=\"\",\"\",②選手情報入力!Q241)","v":""},"",{"$f":"IF(E232=\"\",\"\",IF(②選手情報入力!S241=\"\",\"\",②選手情報入力!S241))","v":""},"","",{"$f":"IF(E232=\"\",\"\",IF(②選手情報入力!T241=\"\",\"\",IF(G232=1,IF(②選手情報入力!$U$6=\"\",\"\",②選手情報入力!$U$6),IF(②選手情報入力!$U$7=\"\",\"\",②選手情報入力!$U$7))))","v":""},{"$f":"IF(E232=\"\",\"\",IF(②選手情報入力!T241=\"\",\"\",IF(G232=1,IF(②選手情報入力!$T$6=\"\",0,1),IF(②選手情報入力!$T$7=\"\",0,1))))","v":""},{"$f":"IF(E232=\"\",\"\",IF(②選手情報入力!T241=\"\",\"\",2))","v":""},"",{"$f":"IF(E232=\"\",\"\",IF(②選手情報入力!V241=\"\",\"\",IF(G232=1,IF(②選手情報入力!$W$6=\"\",\"\",②選手情報入力!$W$6),IF(②選手情報入力!$W$7=\"\",\"\",②選手情報入力!$W$7))))","v":""},{"$f":"IF(E232=\"\",\"\",IF(②選手情報入力!V241=\"\",\"\",IF(G232=1,IF(②選手情報入力!$V$6=\"\",0,1),IF(②選手情報入力!$V$7=\"\",0,1))))","v":""},{"$f":"IF(E232=\"\",\"\",IF(②選手情報入力!V241=\"\",\"\",2))","v":""}]
[{"$f":"IF(E233=\"\",\"\",data_kyogisha!A233)","v":""},{"$f":"IF(E233=\"\",\"\",①団体情報入力!$C$5)","v":""},{"$f":"IF(A233=\"\",\"\",VLOOKUP(B233,Sheet6!C:D,2,0))","v":""},null,{"$f":"IF(②選手情報入力!C242=\"\",\"\",②選手情報入力!C242)","v":""},{"$f":"IF(E233=\"\",\"\",②選手情報入力!D242)","v":""},{"$f":"IF(E233=\"\",\"\",IF(②選手情報入力!I242=\"男\",1,2))","v":""},{"$f":"IF(E233=\"\",\"\",VLOOKUP(data_kyogisha!Q233,Sheet3!A:G,2,0))","v":""},{"$f":"IF(E233=\"\",\"\",IF(②選手情報入力!M242=\"\",\"\",②選手情報入力!M242))","v":""},{"$f":"IF(E233=\"\",\"\",②選手情報入力!N242)","v":""},{"$f":"IF(E233=\"\",\"\",VLOOKUP(data_kyogisha!U233,Sheet3!A:G,2,0))","v":""},{"$f":"IF(E233=\"\",\"\",IF(②選手情報入力!P242=\"\",\"\",②選手情報入力!P242))","v":""},{"$f":"IF(E233=\"\",\"\",②選手情報入力!Q242)","v":""},"",{"$f":"IF(E233=\"\",\"\",IF(②選手情報入力!S242=\"\",\"\",②選手情報入力!S242))","v":""},"","",{"$f":"IF(E233=\"\",\"\",IF(②選手情報入力!T242=\"\",\"\",IF(G233=1,IF(②選手情報入力!$U$6=\"\",\"\",②選手情報入力!$U$6),IF(②選手情報入力!$U$7=\"\",\"\",②選手情報入力!$U$7))))","v":""},{"$f":"IF(E233=\"\",\"\",IF(②選手情報入力!T242=\"\",\"\",IF(G233=1,IF(②選手情報入力!$T$6=\"\",0,1),IF(②選手情報入力!$T$7=\"\",0,1))))","v":""},{"$f":"IF(E233=\"\",\"\",IF(②選手情報入力!T242=\"\",\"\",2))","v":""},"",{"$f":"IF(E233=\"\",\"\",IF(②選手情報入力!V242=\"\",\"\",IF(G233=1,IF(②選手情報入力!$W$6=\"\",\"\",②選手情報入力!$W$6),IF(②選手情報入力!$W$7=\"\",\"\",②選手情報入力!$W$7))))","v":""},{"$f":"IF(E233=\"\",\"\",IF(②選手情報入力!V242=\"\",\"\",IF(G233=1,IF(②選手情報入力!$V$6=\"\",0,1),IF(②選手情報入力!$V$7=\"\",0,1))))","v":""},{"$f":"IF(E233=\"\",\"\",IF(②選手情報入力!V242=\"\",\"\",2))","v":""}]
[{"$f":"IF(E234=\"\",\"\",data_kyogisha!A234)","v":""},{"$f":"IF(E234=\"\",\"\",①団体情報入力!$C$5)","v":""},{"$f":"IF(A234=\"\",\"\",VLOOKUP(B234,Sheet6!C:D,2,0))","v":""},null,{"$f":"IF(②選手情報入力!C243=\"\",\"\",②選手情報入力!C243)","v":""},{"$f":"IF(E234=\"\",\"\",②選手情報入力!D243)","v":""},{"$f":"IF(E234=\"\",\"\",IF(②選手情報入力!I243=\"男\",1,2))","v":""},{"$f":"IF(E234=\"\",\"\",VLOOKUP(data_kyogisha!Q234,Sheet3!A:G,2,0))","v":""},{"$f":"IF(E234=\"\",\"\",IF(②選手情報入力!M243=\"\",\"\",②選手情報入力!M243))","v":""},{"$f":"IF(E234=\"\",\"\",②選手情報入力!N243)","v":""},{"$f":"IF(E234=\"\",\"\",VLOOKUP(data_kyogisha!U234,Sheet3!A:G,2,0))","v":""},{"$f":"IF(E234=\"\",\"\",IF(②選手情報入力!P243=\"\",\"\",②選手情報入力!P243))","v":""},{"$f":"IF(E234=\"\",\"\",②選手情報入力!Q243)","v":""},"",{"$f":"IF(E234=\"\",\"\",IF(②選手情報入力!S243=\"\",\"\",②選手情報入力!S243))","v":""},"","",{"$f":"IF(E234=\"\",\"\",IF(②選手情報入力!T243=\"\",\"\",IF(G234=1,IF(②選手情報入力!$U$6=\"\",\"\",②選手情報入力!$U$6),IF(②選手情報入力!$U$7=\"\",\"\",②選手情報入力!$U$7))))","v":""},{"$f":"IF(E234=\"\",\"\",IF(②選手情報入力!T243=\"\",\"\",IF(G234=1,IF(②選手情報入力!$T$6=\"\",0,1),IF(②選手情報入力!$T$7=\"\",0,1))))","v":""},{"$f":"IF(E234=\"\",\"\",IF(②選手情報入力!T243=\"\",\"\",2))","v":""},"",{"$f":"IF(E234=\"\",\"\",IF(②選手情報入力!V243=\"\",\"\",IF(G234=1,IF(②選手情報入力!$W$6=\"\",\"\",②選手情報入力!$W$6),IF(②選手情報入力!$W$7=\"\",\"\",②選手情報入力!$W$7))))","v":""},{"$f":"IF(E234=\"\",\"\",IF(②選手情報入力!V243=\"\",\"\",IF(G234=1,IF(②選手情報入力!$V$6=\"\",0,1),IF(②選手情報入力!$V$7=\"\",0,1))))","v":""},{"$f":"IF(E234=\"\",\"\",IF(②選手情報入力!V243=\"\",\"\",2))","v":""}]
[{"$f":"IF(E235=\"\",\"\",data_kyogisha!A235)","v":""},{"$f":"IF(E235=\"\",\"\",①団体情報入力!$C$5)","v":""},{"$f":"IF(A235=\"\",\"\",VLOOKUP(B235,Sheet6!C:D,2,0))","v":""},null,{"$f":"IF(②選手情報入力!C244=\"\",\"\",②選手情報入力!C244)","v":""},{"$f":"IF(E235=\"\",\"\",②選手情報入力!D244)","v":""},{"$f":"IF(E235=\"\",\"\",IF(②選手情報入力!I244=\"男\",1,2))","v":""},{"$f":"IF(E235=\"\",\"\",VLOOKUP(data_kyogisha!Q235,Sheet3!A:G,2,0))","v":""},{"$f":"IF(E235=\"\",\"\",IF(②選手情報入力!M244=\"\",\"\",②選手情報入力!M244))","v":""},{"$f":"IF(E235=\"\",\"\",②選手情報入力!N244)","v":""},{"$f":"IF(E235=\"\",\"\",VLOOKUP(data_kyogisha!U235,Sheet3!A:G,2,0))","v":""},{"$f":"IF(E235=\"\",\"\",IF(②選手情報入力!P244=\"\",\"\",②選手情報入力!P244))","v":""},{"$f":"IF(E235=\"\",\"\",②選手情報入力!Q244)","v":""},"",{"$f":"IF(E235=\"\",\"\",IF(②選手情報入力!S244=\"\",\"\",②選手情報入力!S244))","v":""},"","",{"$f":"IF(E235=\"\",\"\",IF(②選手情報入力!T244=\"\",\"\",IF(G235=1,IF(②選手情報入力!$U$6=\"\",\"\",②選手情報入力!$U$6),IF(②選手情報入力!$U$7=\"\",\"\",②選手情報入力!$U$7))))","v":""},{"$f":"IF(E235=\"\",\"\",IF(②選手情報入力!T244=\"\",\"\",IF(G235=1,IF(②選手情報入力!$T$6=\"\",0,1),IF(②選手情報入力!$T$7=\"\",0,1))))","v":""},{"$f":"IF(E235=\"\",\"\",IF(②選手情報入力!T244=\"\",\"\",2))","v":""},"",{"$f":"IF(E235=\"\",\"\",IF(②選手情報入力!V244=\"\",\"\",IF(G235=1,IF(②選手情報入力!$W$6=\"\",\"\",②選手情報入力!$W$6),IF(②選手情報入力!$W$7=\"\",\"\",②選手情報入力!$W$7))))","v":""},{"$f":"IF(E235=\"\",\"\",IF(②選手情報入力!V244=\"\",\"\",IF(G235=1,IF(②選手情報入力!$V$6=\"\",0,1),IF(②選手情報入力!$V$7=\"\",0,1))))","v":""},{"$f":"IF(E235=\"\",\"\",IF(②選手情報入力!V244=\"\",\"\",2))","v":""}]
[{"$f":"IF(E236=\"\",\"\",data_kyogisha!A236)","v":""},{"$f":"IF(E236=\"\",\"\",①団体情報入力!$C$5)","v":""},{"$f":"IF(A236=\"\",\"\",VLOOKUP(B236,Sheet6!C:D,2,0))","v":""},null,{"$f":"IF(②選手情報入力!C245=\"\",\"\",②選手情報入力!C245)","v":""},{"$f":"IF(E236=\"\",\"\",②選手情報入力!D245)","v":""},{"$f":"IF(E236=\"\",\"\",IF(②選手情報入力!I245=\"男\",1,2))","v":""},{"$f":"IF(E236=\"\",\"\",VLOOKUP(data_kyogisha!Q236,Sheet3!A:G,2,0))","v":""},{"$f":"IF(E236=\"\",\"\",IF(②選手情報入力!M245=\"\",\"\",②選手情報入力!M245))","v":""},{"$f":"IF(E236=\"\",\"\",②選手情報入力!N245)","v":""},{"$f":"IF(E236=\"\",\"\",VLOOKUP(data_kyogisha!U236,Sheet3!A:G,2,0))","v":""},{"$f":"IF(E236=\"\",\"\",IF(②選手情報入力!P245=\"\",\"\",②選手情報入力!P245))","v":""},{"$f":"IF(E236=\"\",\"\",②選手情報入力!Q245)","v":""},"",{"$f":"IF(E236=\"\",\"\",IF(②選手情報入力!S245=\"\",\"\",②選手情報入力!S245))","v":""},"","",{"$f":"IF(E236=\"\",\"\",IF(②選手情報入力!T245=\"\",\"\",IF(G236=1,IF(②選手情報入力!$U$6=\"\",\"\",②選手情報入力!$U$6),IF(②選手情報入力!$U$7=\"\",\"\",②選手情報入力!$U$7))))","v":""},{"$f":"IF(E236=\"\",\"\",IF(②選手情報入力!T245=\"\",\"\",IF(G236=1,IF(②選手情報入力!$T$6=\"\",0,1),IF(②選手情報入力!$T$7=\"\",0,1))))","v":""},{"$f":"IF(E236=\"\",\"\",IF(②選手情報入力!T245=\"\",\"\",2))","v":""},"",{"$f":"IF(E236=\"\",\"\",IF(②選手情報入力!V245=\"\",\"\",IF(G236=1,IF(②選手情報入力!$W$6=\"\",\"\",②選手情報入力!$W$6),IF(②選手情報入力!$W$7=\"\",\"\",②選手情報入力!$W$7))))","v":""},{"$f":"IF(E236=\"\",\"\",IF(②選手情報入力!V245=\"\",\"\",IF(G236=1,IF(②選手情報入力!$V$6=\"\",0,1),IF(②選手情報入力!$V$7=\"\",0,1))))","v":""},{"$f":"IF(E236=\"\",\"\",IF(②選手情報入力!V245=\"\",\"\",2))","v":""}]

{"sheet":"Sheet6","index":16,"n_rows":445,"n_cols":6,"rows_kept":445,"cut":false,"hidden":false,"merged":[]}
["No","団体名略称","団体ID","団体名略称","団体名カナ","No"]
[1,"ﾋﾃﾞｿﾝｽﾞ",16106,"ﾋﾃﾞｿﾝｽﾞ","ヒデソンズ",1]
[2,"JR東海",16293,"JR東海","ジェイアールトウカイリクジョウキョウギクラブ",2]
[3,"TSM",16818,"TSM","ティーエスエム",3]
[4,"ﾁｰﾑすｰ",16821,"ﾁｰﾑすｰ","チームスー",4]
[5,"知多AC",19073,"知多AC","チタエーシー",5]
[6,"名古屋AC",19074,"名古屋AC","ナゴヤエーシー",6]
[7,"KSAC",19086,"KSAC","ケイエスエーシー",7]
[8,"ﾄｰｴﾈｯｸ",19090,"ﾄｰｴﾈｯｸ","（カ）トーエネック",8]
[9,"KTMC",19094,"KTMC","ケーティーエムクラブ",9]
[10,"愛知マスターズ",19101,"愛知マスターズ","アイチマスターズ",10]
[11,"TTC",19106,"TTC","ティーティーシー",11]
[12,"日本保育ｻｰﾋﾞ",19119,"日本保育ｻｰﾋﾞ","ニホンホイクサービス",12]
[13,"愛知陸協",19868,"愛知陸協","アイチリッキョウ",13]
[14,"知多走友会",19870,"知多走友会","チタソウユウカイ",14]
[15,"ｳｨﾝﾄﾞﾗﾝ",19871,"ｳｨﾝﾄﾞﾗﾝ","ウィンドラン",15]
[16,"百花繚･RUN",21732,"百花繚･RUN","チーム　ヒャッカリョウラン",16]
[17,"旭丘高",22643,"旭丘高","アサヒガオカ",17]
[18,"明和高",22644,"明和高","メイワ",18]
[19,"千種高",22645,"千種高","チグサ",19]
[20,"瑞陵高",22646,"瑞陵高","ズイリョウ",20]
[21,"惟信高",22647,"惟信高","イシン",21]
[22,"松蔭高",22648,"松蔭高","ショウイン",22]
[23,"昭和高",22649,"昭和高","ショウワ",23]
[24,"名古屋西高",22650,"名古屋西高","ナゴヤニシ",24]
[25,"熱田高",22651,"熱田高","アツタ",25]
[26,"中村高",22652,"中村高","ナカムラ",26]
[27,"鳴海高",22653,"鳴海高","ナルミ",27]
[28,"守山高",22654,"守山高","モリヤマ",28]
[29,"名南工高",22656,"名南工高","メイナンコウギョウ",29]
[30,"愛知商高",22657,"愛知商高","アイチショウギョウ",30]
[31,"中川商高",22658,"中川商高","ナカガワショウギョウ",31]
[32,"緑丘高",22659,"緑丘高","ミドリガオカ",32]
[33,"春日井高",22660,"春日井高","カスガイ",33]
[34,"春日井西高",22661,"春日井西高","カスガイニシ",34]
[35,"春日井商高",22662,"春日井商高","カスガイショウギョウ",35]
[36,"旭野高",22663,"旭野高","アサヒノ",36]
[37,"長久手高",22664,"長久手高","ナガクテ",37]
[38,"東郷高",22665,"東郷高","トウゴウ",38]
[39,"瀬戸高",22666,"瀬戸高","セト",39]
[40,"豊明高",22667,"豊明高","トヨアケ",40]
[41,"大府高",22689,"大府高","オオブ",41]
[42,"桃陵高",22690,"桃陵高","トウリョウ",42]
[43,"横須賀高",22691,"横須賀高","ヨコスカ",43]
[44,"東海商高",22692,"東海商高","トウカイショウギョウ",44]
[45,"常滑高",22693,"常滑高","トコナメ",45]
[46,"内海高",22694,"内海高","ウツミ",46]
[47,"半田高",22695,"半田高","ハンダ",47]
[48,"半田農高",22696,"半田農高","ハンダノウギョウ",48]
[49,"半田工高",22697,"半田工高","ハンダコウギョウ",49]
[50,"半田商高",22698,"半田商高","ハンダショウギョウ",50]
[51,"武豊高",22699,"武豊高","タケトヨ",51]
[52,"天白高",22748,"天白高","テンパク",52]
[53,"東海南高",22750,"東海南高","トウカイミナミ",53]
[54,"菊里高",22751,"菊里高","キクザト",54]
[55,"向陽高",22752,"向陽高","コウヨウ",55]
[56,"桜台高",22753,"桜台高","サクラダイ",56]
[57,"市工業高",22755,"市工業高","コウギョウ",57]
[58,"市工芸高",22756,"市工芸高","コウゲイ",58]
[59,"名古屋商高",22757,"名古屋商高","ナゴヤショウギョウ",59]
[60,"若宮商高",22758,"若宮商高","ナゴヤイチリツワカミヤショウギョウ",60]
[61,"緑高",22759,"緑高","ミドリ",61]
[62,"富田高",22760,"富田高","トミダ",62]
[63,"山田高",22761,"山田高","ヤマダ",63]
[64,"瀬戸西高",22762,"瀬戸西高","セトニシ",64]
[65,"阿久比高",22769,"阿久比高","アグイ",65]
[66,"半田東高",22774,"半田東高","ハンダヒガシ",66]
[67,"春日井工高",22775,"春日井工高","カスガイコウギョウ",67]
[68,"日進西高",22776,"日進西高","ニッシンニシ",68]
[69,"大府東高",22779,"大府東高","オオブヒガシ",69]
[70,"知多翔洋高",22780,"知多翔洋高","チタショウヨウ",70]
[71,"名古屋南高",22784,"名古屋南高","ナゴヤミナミ",71]
[72,"名東高",22786,"名東高","メイトウ",72]
[73,"春日井南高",22787,"春日井南高","カスガイミナミ",73]
[74,"名古屋聾高",22792,"名古屋聾高","ナゴヤロウ",74]
[75,"愛知高",22793,"愛知高","アイチ",75]
[76,"愛知淑徳高",22794,"愛知淑徳高","アイチシュクトク",76]
[77,"名経大市邨高",22795,"名経大市邨高","イチムラ",77]
[78,"名経大高蔵高",22796,"名経大高蔵高","タカクラ",78]
[79,"名古屋大谷高",22797,"名古屋大谷高","ナゴヤオオタニ",79]
[80,"享栄高",22798,"享栄高","キョウエイ",80]
[81,"椙山高",22799,"椙山高","スギヤマジョガクエンコウ",81]
[82,"大同大大同高",22800,"大同大大同高","ダイドウダイガクダイドウ",82]
[83,"福祉大付高",22801,"福祉大付高","ニホンフクシダイガクフゾク",83]
[84,"中京大中京高",22802,"中京大中京高","チュウキョウダイチュウキョウ",84]
[85,"東海高",22803,"東海高","トウカイ",85]
[86,"東海学園高",22804,"東海学園高","トウカイガクエン",86]
[87,"愛産大工高",22805,"愛産大工高","アイチサンギョウダイガクコウギョウ",87]
[88,"同朋高",22807,"同朋高","ドウホウ",88]
[89,"名古屋高",22808,"名古屋高","ナゴヤコウ",89]
[90,"名女大高",22810,"名女大高","ナゴヤジョシダイガクコウ",90]
[91,"中部大一高",22811,"中部大一高","チュウブダイガクダイイチ",91]
[92,"桜花学園高",22812,"桜花学園高","オウカガクエン",92]
[93,"愛工大名電高",22813,"愛工大名電高","アイコウダイメイデンチュウ",93]
[94,"名城大附高",22814,"名城大附高","メイジョウダイガクフゾク",94]
[95,"菊華高",22815,"菊華高","キクカ",95]
[96,"星城高",22817,"星城高","セイジョウ",96]
[97,"中部大春日丘高",22819,"中部大春日丘高","チュウブダイハルヒガオカ",97]
[98,"栄徳高",22833,"栄徳高","エイトク",98]
[99,"名古屋工学院高",22837,"名古屋工学院高","ナゴヤコウガクイン",99]
[100,"汐路中",22839,"汐路中","シオジ",100]
[101,"宝神中",22840,"宝神中","ホウジン",101]
[102,"名古屋情報高",23417,"名古屋情報高","ナゴヤジョウホウセン",102]
[103,"高蔵寺高",23422,"高蔵寺高","コウゾウジ",103]
[104,"味美中",23430,"味美中","アジヨシ",104]
[105,"城山中",24275,"城山中","ナゴヤシロヤマ",105]
[106,"千種台中",24276,"千種台中","チクサダイ",106]
[107,"振甫中",24277,"振甫中","ナゴヤシンポ",107]
[108,"千種中",24278,"千種中","チクサ",108]
[109,"冨士中",24279,"冨士中","フジ",109]
[110,"愛知淑徳中",24280,"愛知淑徳中","アイチシュクトク",110]
[111,"北陵中",24281,"北陵中","ホクリョウ",111]
[112,"名塚中",24282,"名塚中","ナヅカチュウ",112]
[113,"豊正中",24283,"豊正中","ホウセイ",113]
[114,"長良中",24285,"長良中","ナガラ",114]
[115,"はとり中",24286,"はとり中","ハトリチュウ",115]
[116,"助光中",24287,"助光中","スケヒカリチュウ",116]
[117,"東港中",24288,"東港中","トウコウ",117]
[118,"守山中",24290,"守山中","モリヤマチュウ",118]
[119,"守山西中",24291,"守山西中","モリヤマニシチュウ",119]
[120,"鳴海中",24292,"鳴海中","ナルミ",120]
[121,"有松中",24293,"有松中","アリマツチュウ",121]
[122,"扇台中",24294,"扇台中","オウギダイチュウ",122]
[123,"神丘中",24296,"神丘中","カミオカ",123]
[124,"高針台中",24297,"高針台中","コウハリタイチュン",124]
[125,"藤森中",24298,"藤森中","フジモリ",125]
[126,"牧の池中",24299,"牧の池中","マキノイケ",126]
[127,"御幸山中",24301,"御幸山中","ミユキヤマチュウ",127]
[128,"萩山中",24302,"萩山中","ハギヤマ",128]
[129,"瀬戸南山中",24304,"瀬戸南山中","セトミナミヤマチュウ",129]
[130,"尾張旭東中",24308,"尾張旭東中","オワリアサヒヒガシ",130]
[131,"豊明中",24310,"豊明中","トヨアケチュウ",131]
[132,"沓掛中",24311,"沓掛中","クツカケ",132]
[133,"日進西中",24312,"日進西中","ニッシンニシ",133]
[134,"日進東中",24313,"日進東中","ニッシンヒガシ",134]
[135,"長久手中",24314,"長久手中","ナガクテチュウ",135]
[136,"成岩中",24319,"成岩中","ナラワ",136]
[137,"青山中",24320,"青山中","アオヤマ",137]
[138,"常滑中",24321,"常滑中","トコナメチュウ",138]
[139,"大府西中",24322,"大府西中","オオブニシチュウ",139]
[140,"大府南中",24323,"大府南中","オオブミナミ",140]
[141,"知多中部中",24324,"知多中部中","チタチュウブチュウ",141]
[142,"阿久比中",24325,"阿久比中","アグイ",142]
[143,"東浦中",24326,"東浦中","ヒガシウラ",143]
[144,"東浦西部中",24327,"東浦西部中","ヒガシウラセイブ",144]
[145,"河和中",24328,"河和中","コウワ",145]
[146,"武豊中",24329,"武豊中","タケトヨチュウ",146]
[147,"富貴中",24330,"富貴中","フキチュウ",147]
[148,"乙川中",24346,"乙川中","オッカワチュウ",148]
[149,"亀崎中",24347,"亀崎中","カメザキ",149]
[150,"愛教大附中",24400,"愛教大附中","アイキョウダイフ",150]
[151,"愛知中",24401,"愛知中","アイチチュウ",151]
[152,"東海中",24402,"東海中","トウカイ",152]
[153,"名古屋女子大中",24403,"名古屋女子大中","ナゴヤジョシダイ",153]
[154,"聖霊中",24405,"聖霊中","セイレイ",154]
[155,"神の倉中",24563,"神の倉中","カミノクラ",155]
[156,"大曽根中",24574,"大曽根中","オオゾネ",156]
[157,"名古屋北中",24575,"名古屋北中","ナゴヤキタ",157]
[158,"水無瀬中",24577,"水無瀬中","ミナセチュウ",158]
[159,"大府中",24578,"大府中","オオブ",159]
[160,"至学館高",24603,"至学館高","シガクカン",160]
[161,"豊明栄中",24675,"豊明栄中","トヨアケサカエ",161]
[162,"南山男子高",26210,"南山男子高","ナンザンガクエンダンシ",162]
[163,"名大附高",26212,"名大附高","ナゴヤダイガクキョウイクガクブフ",163]
[164,"西陵高",26215,"西陵高","セイリョウ",164]
[165,"春日井東高",26216,"春日井東高","カスガイヒガシ",165]
[166,"啓明学館高",26218,"啓明学館高","ケイメイガッカン",166]
[167,"瀬戸北総合高",26225,"瀬戸北総合高","セトキタソウゴウ",167]
[168,"南陽高",26248,"南陽高","ナンヨウ",168]
[169,"日進高",26260,"日進高","ニッシン",169]
[170,"AGX",26271,"AGX","エージーエックス",170]
[171,"桜田中",26283,"桜田中","サクラダ",171]
[172,"猪高中",26285,"猪高中","イタカ",172]
[173,"名古屋中",26289,"名古屋中","ナゴヤ",173]
[174,"大高中",26293,"大高中","オオダカ",174]
[175,"南山中男子部",26409,"南山中男子部","ナンザンチュウダンシブ",175]
[176,"尾張旭西中",26417,"尾張旭西中","オワリアサヒニシ",176]
[177,"高蔵寺中",26741,"高蔵寺中","コウゾウジ",177]
[178,"千鳥丘中",26997,"千鳥丘中","ナゴヤチドリガオカ",178]
[179,"尾張旭RC",27061,"尾張旭RC","オワリアサヒランニングクラブ",179]
[180,"横須賀中",27418,"横須賀中","トウカイヨコスカ",180]
[181,"ﾗﾝｱｯﾌﾟ",27723,"ﾗﾝｱｯﾌﾟ","ランアップ",181]
[182,"ﾌｧｲﾝﾄﾞｱｳﾄ",27738,"ﾌｧｲﾝﾄﾞｱｳﾄ","ファインドアウト",182]
[183,"大須AC",27756,"大須AC","オオスエーシー",183]
[184,"長久手北中",27907,"長久手北中","ナガクテキタ",184]
[185,"ﾗｲｽﾞｳｨﾝﾄﾞ",27921,"ﾗｲｽﾞｳｨﾝﾄﾞ","ライズウィンドランニングクラブ",185]
[186,"豊国中",28031,"豊国中","ナゴヤトヨクニ",186]
[187,"南光中",28545,"南光中","ナンコウ",187]
[188,"北海道大",28811,"北海道大","ホッカイドウダイガク",188]
[189,"東北大",28827,"東北大","トウホクダイガク",189]
[190,"青山学院大",28844,"青山学院大","アオヤマガクインダイガク",190]
[191,"亜細亜大",28845,"亜細亜大","アジアダイガク",191]
[192,"桜美林大",28848,"桜美林大","オウビリンダイガク",192]
[193,"お茶の水女子大",28849,"お茶の水女子大","オチャノミズジョシダイガク",193]
[194,"神奈川大",28854,"神奈川大","カナガワダイガク",194]
[195,"慶應義塾大",28862,"慶應義塾大","ケイオウギジュクダイガク",195]
[196,"工学院大",28863,"工学院大","コウガクインダイガク",196]
[197,"國學院大",28864,"國學院大","コクガクインダイガク",197]
[198,"国士舘大",28867,"国士舘大","コクシカンダイガク",198]
[199,"芝浦工業大",28876,"芝浦工業大","シバウラコウギョウダイガク",199]
[200,"順天堂大",28878,"順天堂大","ジュンテンドウダイガク",200]
[201,"城西大",28881,"城西大","ジョウサイダイガク",201]
[202,"上智大",28882,"上智大","ジョウチダイガク",202]
[203,"上武大",28884,"上武大","ジョウブダイガク",203]
[204,"駿河台大",28887,"駿河台大","スルガダイダイガク",204]
[205,"創価大",28894,"創価大","ソウカダイガク",205]
[206,"高崎経済大",28897,"高崎経済大","タカサキケイザイダイガク",206]
[207,"玉川大",28900,"玉川大","タマガワダイガク",207]
[208,"中央学院大",28904,"中央学院大","チュウオウガクインダイガク",208]
[209,"中央大",28905,"中央大","チュウオウダイガク",209]
[210,"筑波大",28906,"筑波大","ツクバダイガク",210]
[211,"津田塾大",28907,"津田塾大","ツダジュクダイガク",211]
[212,"都留文科大",28908,"都留文科大","ツルブンカダイガク",212]
[213,"帝京大",28909,"帝京大","テイキョウダイガク",213]
[214,"東海大",28913,"東海大","トウカイダイガク",214]
[215,"東京学芸大",28917,"東京学芸大","トウキョウガクゲイダイガク",215]
[216,"東京経済大",28918,"東京経済大","トウキョウケイザイダイガク",216]
[217,"東京工業大",28920,"東京工業大","トウキョウコウギョウダイガク",217]
[218,"東京国際大",28922,"東京国際大","トウキョウコクサイダイガク",218]
[219,"東京女子体育大",28924,"東京女子体育大","トウキョウジョシタイイクダイガク",219]
[220,"東京大",28925,"東京大","トウキョウダイガク",220]
[221,"東京農業大",28928,"東京農業大","トウキョウノウギョウダイガク",221]
[222,"東洋大",28934,"東洋大","トウヨウダイガク",222]
[223,"日本体育大",28937,"日本体育大","ニッポンタイイクダイガク",223]
[224,"日本大",28941,"日本大","ニホンダイガク",224]
[225,"一橋大",28945,"一橋大","ヒトツバシダイガク",225]
[226,"法政大",28949,"法政大","ホウセイダイガク",226]
[227,"明治学院大",28955,"明治学院大","メイジガクインダイガク",227]
[228,"明治大",28956,"明治大","メイジダイガク",228]
[229,"山梨学院大",28960,"山梨学院大","ヤマナシガクインダイガク",229]
[230,"山梨大",28961,"山梨大","ヤマナシダイガク",230]
[231,"横浜市立大",28962,"横浜市立大","ヨコハマイチリツダイガク",231]
[232,"横浜国立大",28963,"横浜国立大","ヨコハマコクリツダイガク",232]
[233,"立教大",28964,"立教大","リッキョウダイガク",233]
[234,"流通経済大",28966,"流通経済大","リュウツウケイザイダイガク",234]
[235,"麗澤大",28967,"麗澤大","レイタクダイガク",235]
[236,"早稲田大",28968,"早稲田大","ワセダダイガク",236]
[237,"金沢工業大",28973,"金沢工業大","カナザワコウギョウダイガク",237]
[238,"金沢大",28975,"金沢大","カナザワダイガク",238]
[239,"新潟医療福祉大",28986,"新潟医療福祉大","ニイガタイリョウフクシダイガク",239]
[240,"新潟大",28990,"新潟大","ニイガタダイガク",240]
[241,"愛知医科大",28997,"愛知医科大","アイチイカダイガク",241]
[242,"愛知学院大",28998,"愛知学院大","アイチガクインダイガク",242]
[243,"愛知教育大",28999,"愛知教育大","アイチキョウイクダイガク",243]
[244,"愛知工業大",29001,"愛知工業大","アイチコウギョウダイガク",244]
[245,"愛知淑徳大",29002,"愛知淑徳大","アイチショウトクダイガク",245]
[246,"愛知大",29003,"愛知大","アイチダイガク",246]
[247,"愛知東邦大",29004,"愛知東邦大","アイチトウホウダイガク",247]
[248,"岐阜協立大",29006,"岐阜協立大","ギフキョウリツダイガク",248]
[249,"岐阜聖徳大",29008,"岐阜聖徳大","ギフショウトクガクエンダイガク",249]
[250,"岐阜大",29009,"岐阜大","ギフダイガク",250]
[251,"金城学院大",29012,"金城学院大","キンジョウガクインダイガク",251]
[252,"皇學館大",29013,"皇學館大","コウガッカンダイガク",252]
[253,"至学館大",29014,"至学館大","シガッカンダイガク",253]
[254,"椙山女学園大",29017,"椙山女学園大","スギヤマジョガクエンダイガク",254]
[255,"中京大",29021,"中京大","チュウキョウダイガク",255]
[256,"中部学院大",29022,"中部学院大","チュウブガクインダイガク",256]
[257,"中部大",29023,"中部大","チュウブダイガク",257]
[258,"東海学園大",29024,"東海学園大","トウカイガクエンダイガク",258]
[259,"豊田工業高専",29028,"豊田工業高専","トヨタコウギョウコウトウセンモンガッコウ",259]
[260,"名古屋学院大",29030,"名古屋学院大","ナゴヤガクインダイガク",260]
[261,"名古屋工業大",29031,"名古屋工業大","ナゴヤコウギョウダイガク",261]
[262,"名古屋商科大",29032,"名古屋商科大","ナゴヤショウカダイガク",262]
[263,"名古屋市立大",29033,"名古屋市立大","ダイガク",263]
[264,"名古屋大",29034,"名古屋大","ナゴヤダイガク",264]
[265,"南山大",29035,"南山大","ナンザンダイガク",265]
[266,"日本福祉大",29036,"日本福祉大","ニホンフクシダイガク",266]
[267,"三重大",29039,"三重大","ミエダイガク",267]
[268,"名城大",29040,"名城大","メイジョウダイガク",268]
[269,"藤田医科大",29041,"藤田医科大","フジタイカダイガク",269]
[270,"大阪成蹊大",29056,"大阪成蹊大","オオサカセイケイダイガク",270]
[271,"大阪体育大",29057,"大阪体育大","オオサカタイイクダイガク",271]
[272,"大阪大",29058,"大阪大","オオサカダイガク",272]
[273,"大阪府立大",29061,"大阪府立大","オオサカフリツダイガク",273]
[274,"関西外国語大",29065,"関西外国語大","カンサイガイコクゴダイガク",274]
[275,"関西大",29066,"関西大","カンサイダイガク",275]
[276,"関西学院大",29067,"関西学院大","カンセイガクインダイガク",276]
[277,"京都産業大",29072,"京都産業大","キョウトサンギョウダイガク",277]
[278,"京都女子大",29073,"京都女子大","キョウトジョシダイガク",278]
[279,"京都大",29074,"京都大","キョウトダイガク",279]
[280,"甲南大",29080,"甲南大","コウナンダイガク",280]
[281,"神戸大",29084,"神戸大","コウベダイガク",281]
[282,"滋賀大",29088,"滋賀大","シガダイガク",282]
[283,"同志社大",29095,"同志社大","ドウシシャダイガク",283]
[284,"明治国際医療大",29109,"明治国際医療大","メイジコクサイイリョウダイガク",284]
[285,"立命館大",29111,"立命館大","リツメイカンダイガク",285]
[286,"環太平洋大",29129,"環太平洋大","カンタイヘイヨウダイガク",286]
[287,"広島大",29161,"広島大","ヒロシマダイガク",287]
[288,"松山大",29165,"松山大","マツヤマダイガク",288]
[289,"鹿屋体育大",29180,"鹿屋体育大","カノヤタイイクダイガク",289]
[290,"九州共立大",29183,"九州共立大","キュウシュウキョウリツダイガク",290]
[291,"九州大",29189,"九州大","キュウシュウダイガク",291]
[292,"産業医科大",29198,"産業医科大","サンギョウイカダイガク",292]
[293,"JRC",29249,"JRC","トヨヤマジェイアールシー",293]
[294,"春日井中部中",29256,"春日井中部中","カスガイチュウブ",294]
[295,"日比野中",29257,"日比野中","ヒビノ",295]
[296,"POWERMAX",29259,"POWERMAX","パワーマックス",296]
[297,"南陽中",29272,"南陽中","ナゴヤナンヨウ",297]
[298,"高森台中",29294,"高森台中","タカモリダイチュウ",298]
[299,"日進ＲＣ",29316,"日進ＲＣ","ニッシンランニングクラブ",299]
[300,"名古屋テレビ",29335,"名古屋テレビ","ナゴヤテレビランニングクラブ",300]
[301,"R2中日本",29339,"R2中日本","クラブアールツーナカニホン",301]
[302,"守山東中",29587,"守山東中","モリヤマヒガシ",302]
[303,"鷹来中",29642,"鷹来中","タカライチュウガッコウ",303]
[304,"東浦北部中",29651,"東浦北部中","ヒガシウラホクブチュウ",304]
[305,"港南中",29652,"港南中","コウナンチュウガッコウ",305]
[306,"栄徳EAGLES",29703,"栄徳EAGLES","エイトクイーグルス",306]
[307,"植田中",29714,"植田中","ウエダナカ",307]
[308,"円上中",30021,"円上中","エンジョウチュウガッコウ",308]
[309,"富田中",30080,"富田中","トミダ",309]
[310,"沢上中",30097,"沢上中","サワカミチュウ",310]
[311,"良友クラブ",30204,"良友クラブ","リョウユウクラブ",311]
[312,"加藤建設",30266,"加藤建設","カブシキガイシャカトウケンセツ",312]
[313,"旭中",30329,"旭中","アサヒナカ",313]
[314,"よかにせＰＲＣ",30356,"よかにせＰＲＣ","ヨカニセピーアールシー",314]
[315,"グランシエル",30357,"グランシエル","グランシエル",315]
[316,"伊勢山中",30408,"伊勢山中","イセヤマ",316]
[317,"OBUエニスポ",30558,"OBUエニスポ","オオブエニスポアスリートクラブ",317]
[318,"一柳中",30789,"一柳中","イチヤナギ",318]
[319,"アクアAC",30898,"アクアAC","アクアエシー",319]
[320,"春木中",31054,"春木中","ハルキチュウ",320]
[321,"スズラン",31063,"スズラン","スズキランニングクラブ",321]
[322,"ハムちゃんず",31071,"ハムちゃんず","ランニングチームハムチャンズ",322]
[323,"ＹＯＵＫＩ陸上",31081,"ＹＯＵＫＩ陸上","ユウキリクジョウクラブ",323]
[324,"吉根中",31082,"吉根中","キッコチュウ",324]
[325,"当知中",31238,"当知中","トウチ",325]
[326,"瑞穂ヶ丘中",31296,"瑞穂ヶ丘中","ミズホガオカチュウ",326]
[327,"鳴子台中",31297,"鳴子台中","ナルコダイチュウ",327]
[328,"愛知総合工科高",31310,"愛知総合工科高","ソウゴウコウカ",328]
[329,"RCベルマーレ",31335,"RCベルマーレ","ランニングクラブベルマーレ",329]
[330,"矢田中",31550,"矢田中","ヤダチュウガッコウ",330]
[331,"リップル",31647,"リップル","リップル",331]
[332,"春日井東部中",31676,"春日井東部中","カスガイトウブ",332]
[333,"中部桃丘TFC",31794,"中部桃丘TFC","チュウブトウキュウトラックアンドフィールドクラブ",333]
[334,"No-Mark",31795,"No-Mark","ノーマーク",334]
[335,"田光中",31814,"田光中","タコウチュウ",335]
[336,"帝京科学大",31850,"帝京科学大","テイキョウカガクダイガク",336]
[337,"鎌倉台中",31886,"鎌倉台中","カマクラダイ",337]
[338,"野間中",31911,"野間中","ノマチュウ",338]
[339,"日進中",31936,"日進中","ニッシンチュウ",339]
[340,"前津中",32114,"前津中","マエズチュウ",340]
[341,"丸八RC",32288,"丸八RC","マルハチランニングクラブ",341]
[342,"阿久比RC",32326,"阿久比RC","アグイランニングクラブ",342]
[343,"宝グループ",32339,"宝グループ","タカラグループ",343]
[344,"ティラド",32353,"ティラド","ティラドリクジョウキョウギブ",344]
[345,"TNP",32379,"TNP","ティーエヌピー",345]
[346,"小牧ジュニア",32385,"小牧ジュニア","コマキジュニア",346]
[347,"TRT",32444,"TRT","トーカイアールティー",347]
[348,"名大医AC",32596,"名大医AC","ナゴヤダイガクイガクブエーシー",348]
[349,"名城薬陸上部",32610,"名城薬陸上部","メイジョウダイガクヤクガクブ",349]
[350,"南城中",32684,"南城中","ナミシロチュウガッコウ",350]
[351,"SET PROJECT",32746,"SET PROJECT","セット　プロジェクト",351]
[352,"ＴＳＭ一般",32763,"ＴＳＭ一般","ティーエスエムイッパン",352]
[353,"TIS",32835,"TIS","ティーアイエス",353]
[354,"青山中",32981,"青山中","アオヤマチュウ",354]
[355,"interlaken",32998,"interlaken","インターラーケン",355]
[356,"愛知医大病院",33274,"愛知医大病院","アイチイカダイガクビョウイン",356]
[357,"I.A.R.C名古屋",33286,"I.A.R.C名古屋","インフィニティ　アスリート　アンド　ランニング　クラブ　ナゴヤ",357]
[358,"ラフィネ",33287,"ラフィネ","ラフィネグループリクジョウブ",358]
[359,"NCRC",33302,"NCRC","エヌシーアールシー",359]
[360,"滝ノ水中",33345,"滝ノ水中","タキノミズチュウ",360]
[361,"岩崎中",33349,"岩崎中","イワサキチュウガッコウ",361]
[362,"御田中",33363,"御田中","ミタチュウ",362]
[363,"森孝中",33364,"森孝中","モリタカチュウ",363]
[364,"トライルAC",33367,"トライルAC","トライル　アスリートクラブ",364]
[365,"東浦ＡＣ",33369,"東浦ＡＣ","ヒガシウラアスリートクラブ",365]
[366,"原中",33387,"原中","ハラチュウ",366]
[367,"金城学院中",33396,"金城学院中","キンジョウガクインチュウ",367]
[368,"春日井知多中",33402,"春日井知多中","カスガイチタチュウガッコウ",368]
[369,"鬼崎中",33403,"鬼崎中","オニザキチュウガッコウ",369]
[370,"内海中",33405,"内海中","ウツミチュウガッコウ",370]
[371,"豊浜中",33406,"豊浜中","トヨハマチュウ",371]
[372,"上野中",33415,"上野中","ウエノチュウ",372]
[373,"東星中",33427,"東星中","トウセイチュウ",373]
[374,"南天白中",33428,"南天白中","ミナミテンパク",374]
[375,"守山北中",33429,"守山北中","モリヤマキタチュウ",375]
[376,"川名中",33432,"川名中","カワナチュウ",376]
[377,"長南中",33436,"長南中","ナガナンチュウ",377]
[378,"志段味中",33440,"志段味中","シダミチュウ",378]
[379,"師勝中",33441,"師勝中","シカツチュウ",379]
[380,"石尾台中",33443,"石尾台中","イシオダイチュウ",380]
[381,"春日井西部中",33444,"春日井西部中","セイブチュウガッコウ",381]
[382,"坂下中",33445,"坂下中","サカシタチュウガッコウ",382]
[383,"水野中",33446,"水野中","ミズノチュウ",383]
[384,"笈瀬中",33456,"笈瀬中","オイセチュウ",384]
[385,"東郷中",33458,"東郷中","トウゴウチュウ",385]
[386,"柏原中",33459,"柏原中","カシハラチュウ",386]
[387,"南陵中",33460,"南陵中","ナンリョウチュウ",387]
[388,"平針中",33464,"平針中","ヒラバリチュウ",388]
[389,"名南中",33473,"名南中","メイナンチュウ",389]
[390,"供米田中",33474,"供米田中","クマイデンチュウ",390]
[391,"山王中",33475,"山王中","サンノウチュウ",391]
[392,"品野中",33476,"品野中","シナノチュウ",392]
[393,"上社中",33485,"上社中","カミヤシロチュウ",393]
[394,"熊野中",33488,"熊野中","クマノチュウ",394]
[395,"本城中",33505,"本城中","ホンジョウチュウ",395]
[396,"桜山中",33512,"桜山中","サクラヤマチュウ",396]
[397,"名大附属中",33514,"名大附属中","メイダイフゾクチュウ",397]
[398,"愛工大名電中",33516,"愛工大名電中","アイコウダイメイデンチュウ",398]
[399,"名和中",33521,"名和中","ナワチュウ",399]
[400,"名経大高蔵中",33525,"名経大高蔵中","メイケイダイタカクラ",400]
[401,"山田中",33526,"山田中","ヤマダチュウ",401]
[402,"修文大",33549,"修文大","シュウブンダイガク",402]
[403,"一色中",33557,"一色中","イシキチュウ",403]
[404,"知多中",33588,"知多中","チタチュウ",404]
[405,"CROSSOVER",45678,"CROSSOVER","ｸﾛｽｵｰﾊﾞｰ",405]
[406,"Try-C",45679,"Try-C","ﾄﾗｲｼｰ",406]
[407,"NAGOYA STRIDRS TC",88888,"NAGOYA STRIDRS TC","ﾅｺﾞﾔｽﾄﾗｲﾀﾞｰｽﾞﾃｨｰｼｰ",407]
[408,"中京大ｸﾗﾌﾞ",98165,"中京大ｸﾗﾌﾞ","チュウキョウダイ",408]
[409,"愛知茗友ｸﾗﾌﾞ",98167,"愛知茗友ｸﾗﾌﾞ","アイチメイユウクラブ",409]
[410,"知多体協クラブ",98171,"知多体協クラブ","チタタイキョウクラブ",410]
[411,"愛知県庁ｸﾗﾌﾞ",98172,"愛知県庁ｸﾗﾌﾞ","アイチケンチョウクラブ",411]
[412,"愛知陸協医事部",98175,"愛知陸協医事部","アイチリクキョウイジブ",412]
[413,"知多ﾗﾝﾅｰｽﾞ",98176,"知多ﾗﾝﾅｰｽﾞ","チタランナーズ",413]
[414,"三菱重工名古屋",98179,"三菱重工名古屋","ミツビシジュウコウナゴヤ",414]
[415,"愛知製鋼",98180,"愛知製鋼","アイチセイコウ",415]
[416,"名大倶楽部",98181,"名大倶楽部","メイダイクラブ",416]
[417,"中央発條",98183,"中央発條","チュウオウハツジョウ(カ)",417]
[418,"名古屋市役所",98184,"名古屋市役所","ナゴヤシヤクショソウユウカイ",418]
[419,"なごや陸上ｸ",98187,"なごや陸上ｸ","ナゴヤリクジョウクラブ",419]
[420,"大谷ク",98192,"大谷クラブ","オオタニクラブ",420]
[421,"CHUKYO SPIRITS",98195,"CHUKYO SPIRITS","チュウキョウスピリッツ",421]
[422,"東海理化",98204,"東海理化","トウカイリカ",422]
[423,"知多教員ｸﾗﾌﾞ",98209,"知多教員ｸﾗﾌﾞ","チタキョウインクラブ",423]
[424,"愛教大ｸ名古屋",98212,"愛教大ｸ名古屋","アイキョウダイクラブナゴヤ",424]
[425,"愛三工業",98213,"愛三工業","アイサンコウギョウ",425]
[426,"名城ARC",98215,"名城ARC","メイジョウオールランナーズクラブ",426]
[427,"愛知電機",98216,"愛知電機","アイチデンキ",427]
[428,"三菱重工冷熱",98218,"三菱重工冷熱","ミツビシジュウコウレイネツ",428]
[429,"ｾｶﾝﾄﾞｳｲﾝﾄﾞ",98219,"ｾｶﾝﾄﾞｳｲﾝﾄﾞ","セカンドウインド",429]
[430,"名古屋学院ク",98224,"名古屋学院ク","ナゴヤガクインクラブ",430]
[431,"大同特殊鋼",98238,"大同特殊鋼","ダイドウトクシュコウ",431]
[432,"あいち健康の森",98239,"あいち健康の森","アイチケンコンノモリソウユウカイ",432]
[433,"名古屋市消防局",98247,"名古屋市消防局","ナゴヤシショウボウキョク",433]
[434,"庄内ＲＴ",98248,"庄内ＲＴ","ショウナイアールティ",434]
[435,"至学館ク",98252,"至学館クラブ","シガクカンクラブ",435]
[436,"守山35普連",98254,"守山35普連","モリヤマサンジュウゴフレン",436]
[437,"天白川走友会",98255,"天白川走友会","テンパクガワソウユウカイ",437]
[438,"ﾐｽﾞﾉ",98262,"ﾐｽﾞﾉ","ミズノ",438]
[439,"東海ﾃﾞｶｽﾛﾝ",98273,"東海ﾃﾞｶｽﾛﾝ","トウカイデカスロン",439]
[440,"ANC",98284,"ANC","アイチナゴヤクラブ",440]
[441,"中部電力名古屋",98287,"中部電力名古屋","チュウブデンリョクナゴヤ",441]
[442,"にっとTFC",98290,"にっとTFC","ニットティーエフシー",442]
[443,"Spirits",98765,"Spirits","ｽﾋﾟﾘｯﾂ",443]
[444,"みかん山",99215,"みかん山","ミカンヤマ",444]

{"sheet":"Sheet3","index":17,"n_rows":41,"n_cols":15,"rows_kept":41,"cut":false,"hidden":false,"merged":[[1,13,1,14],[0,0,0,2],[0,4,0,6],[0,8,0,10],[1,1,2,1],[1,4,2,4],[1,8,2,8]]}
["男子",null,null,null,"女子",null,null,null,"リレー"]
["種目","種目","記録",null,"種目","種目","記録",null,"種目","種目","記録"]
["No",null,"FLAG",null,null,"No","FLAG",null,null,"No","FLAG",null,null,"◎第１日",44471]
[1,"男100m",2,null,null,null,null,null,"男4X100mR",10,2,null,null,"※今年度は、男子１００００ｍ，男女５０００ｍＷは6月の夏季競技会で実施します。"]
[2,"男200m",2,null,null,null,null,null,"男4X400mR",11,2,null,null,"（男子）"]
[3,"男400m",2,null,null,null,null,null,"女4X100mR",28,2,null,null,"１００ｍ，４００ｍ，１５００ｍ，１１０ｍＨ(1.067m)，３０００ｍＳＣ(0.914m)，"]
[4,"男800m",2,null,null,null,null,null,"女4X400mR",29,2,null,null,"４×１００ｍＲ，棒高跳，三段跳，砲丸投(7.260kg)，やり投(0.800kg)"]
[5,"男1500m",2,null,null,null,null,null,null,null,null,null,null,"（女子）"]
[6,"男5000m",2,null,null,null,null,null,null,null,null,null,null,"１００ｍ，４００ｍ，１５００ｍ，１００ｍＨ(0.840m)，４×１００ｍＲ，"]
[7,"男110mH(1.067m)",2,null,null,null,null,null,null,null,null,null,null,"棒高跳，走幅跳，砲丸投(4.000kg)，やり投(0.600kg)"]
[8,"男400mH(0.914m)",2,null,null,null,null,null,null,null,null,null,null,"◎第２日",44472]
[9,"男3000mSC(0.914m)",2,null,null,null,null,null,null,null,null,null,null,"（男子）"]
[12,"男走高跳",0,null,null,null,null,null,null,null,null,null,null,"２００ｍ，８００ｍ，５０００ｍ，４００ｍＨ(0.914m)，４×４００ｍＲ，"]
[13,"男棒高跳",0,null,null,null,null,null,null,null,null,null,null,"走高跳，走幅跳，円盤投(2.000kg)，ハンマー投(7.260kg)"]
[14,"男走幅跳",0,null,null,null,null,null,null,null,null,null,null,"（女子）"]
[15,"男三段跳",0,null,null,null,null,null,null,null,null,null,null,"２００ｍ，８００ｍ，４００ｍＨ(0.762m)，５０００ｍ，４×４００ｍＲ，"]
[16,"男砲丸投(7.260kg)",0,null,null,null,null,null,null,null,null,null,null,"走高跳，三段跳，円盤投(1.000kg)，ハンマー投(4.000kg)"]
[17,"男円盤投(2.000kg)",0]
[18,"男ハンマー投(7.260kg)",0]
[19,"男やり投(0.800kg)",0]
[20,"女100m",2]
[21,"女200m",2,null,null,"１日目"]
[22,"女400m",2,null,null,"女100m"]
[23,"女800m",2,null,null,"女400m"]
[24,"女1500m",2,null,null,"女1500m"]
[25,"女5000m",2,null,null,"女100mH(0.838m)"]
[26,"女100mH(0.838m)",2,null,null,"女棒高跳"]
[27,"女400mH(0.762m)",2,null,null,"女走幅跳"]
[30,"女走高跳",0,null,null,"女砲丸投(4.000kg)"]
[31,"女棒高跳",0,null,null,"女やり投(0.600kg)"]
[32,"女走幅跳",0]
[33,"女三段跳",0]
[34,"女砲丸投(4.000kg)",0,null,null,"２日目"]
[35,"女円盤投(1.000kg)",0,null,null,"女200m"]
[36,"女ハンマー投(4.000kg)",0,null,null,"女800m"]
[37,"女やり投(0.600kg)",0,null,null,"女5000m"]
[null,"男400mH(0.914m)",null,null,null,"女400mH(0.762m)"]
[null,"男走高跳",null,null,null,"女走高跳"]
[null,"男走幅跳",null,null,null,"女三段跳"]
[null,"男円盤投(2.000kg)",null,null,null,"女円盤投(1.000kg)"]
[null,"男ハンマー投(7.260kg)",null,null,null,"女ハンマー投(4.000kg)"]