{"text_format":"1","workbook":"xlsx","n_sheets":16,"sheets":["夏季競技会","注意事項","①団体情報入力","②選手情報入力","　　　　　　　　　","④種目別人数","⑤大会前 提出用","⑥大会後 個人管理用","⑦入場許可申請","⑧リレーの選手が反映されない","⑨日付が数字になる","　　　　　","種目情報","data_kyogisha","data_team","Sheet6"],"not_rendered":{"charts":0,"images":6,"macros":0,"external_links":4,"defined_names":54,"comments":2,"pivot_tables":0},"unopened":[],"bounds":{"document_bytes":16777216,"sheet_cells":100000,"rows_first":2000,"rows_last":500,"rows_between":2000,"halvings":0,"cell_chars":16384,"cell_head_chars":4096},"cells_cut":0,"cells_raw":0,"read":"whole","date_system":"1900"}

{"sheet":"夏季競技会","index":0,"n_rows":92,"n_cols":7,"rows_kept":92,"cut":false,"hidden":false,"merged":[[40,1,40,6],[0,0,0,6],[2,0,2,6],[4,1,4,2],[4,3,4,4],[8,1,9,6],[17,1,17,5],[27,1,27,6],[29,1,29,6],[31,1,32,6],[34,1,34,6],[38,1,38,6],[90,1,90,6],[91,1,91,6],[48,4,48,6],[55,1,57,6],[61,2,61,6],[63,1,63,6],[83,1,83,6],[84,1,84,6]]}
["２０２１年度　名古屋地区夏季陸上競技大会\n　兼　愛知県国体選手選考会・名古屋地区選手権男子１００００ｍ・男女5000mW"]
[]
["当面の間、名古屋地区の競技会は１人１日１種目のエントリーとします。(リレーを除く)"]
[]
["１．期  日        ","2021-06-12",null,"2021-06-13"]
[]
["２．場  所","パロマ瑞穂北陸上競技場"]
[]
["３．種　目","選手券男子１００００ｍ，男女５０００ｍＷには標準記録を設定しませんが、４参加についてに記載のある通りの時間で競技を打ち切ります。その際はオーバタイムでの失格扱いとなります。"]
[]
[null,"◎第１日",{"$f":"B5","v":"2021-06-12"},"5000mWは名古屋地区選手権を兼ねます"]
[null,"（男子）中学１５０ｍ(145mで実施予定)，２００ｍ，８００ｍ，110mH (1.067m), １１０ｍＨ(0.991m),"]
[null,"中学１１０ｍＨ(0.914m)、5000mW、４×１００ｍＲ，棒高跳，三段跳，円盤投(2.000kg)"]
[null,"高校円盤投(1.750kg)，中学円盤投(1.500kg)，ハンマー投(7.260kg)，高校ハンマー投(6.000kg)"]
[]
[null,"（女子）中学１５０ｍ(145mで実施予定)，２００ｍ，８００ｍ，１００ｍＨ(0.838m),１００ｍＹＨ(0.762m/8.5m)，"]
[null,"中学１００ｍＨ(0.762m)、5000mW、４×１００ｍＲ，棒高跳，走幅跳，"]
[null,"　　　　　　　　円盤投(1.000kg)，ハンマー投(4.000kg)"]
[]
[null,"◎第2日",{"$f":"D5","v":"2021-06-13"}]
[null,"　　　　　　地区選手権男子１００００ｍ"]
[null,"（男子）４００ｍ，１５００ｍ，４００ｍＨ(0.914m)，４×４００ｍＲ，"]
[null,"走高跳，走幅跳，砲丸投(7.260kg)，高校砲丸投(6.000kg)，中学砲丸投(5.000kg)，やり投(0.800kg)"]
[]
[null,"（女子）４００ｍ，１５００ｍ，４００ｍＨ(0.762m)，４×４００ｍＲ，"]
[null,"　走高跳，三段跳，砲丸投(4.000kg)，中学砲丸投(2.721kg)，やり投(0.600kg)"]
[]
["４．参加について","トラック種目はすべてタイムレース、フィールド長さ種目は３回試技とします。"]
[null,"・コロナ対策の一環として、１人１日１種目とします（リレー種目は除く）。"]
[null,"・北陸上競技場はスタンドが小さく待機場所の確保ができないので、出場する選手は概ね自分の出場種目の招集開始時間の２時間前を目処に来場し、種目が終了次第帰宅することを原則とします。\nリレー出場者・各チームのマネージャー・入場許可証のある方のみ、メインスタンドでの待機を許可します。"]
[null,"・5000mWは、男子は30分、女子は35分で競技を打ち切ります。"]
[null,"・5000mWは、男女計で25人以下の場合には男女混合とします。\n混合の場合は男女共35分で競技を打ち切ります。"]
[]
[null,"・地区選手権10000mは40分で競技を打ち切ります。"]
[null,"･フィールド種目は参加人数に応じて組分けを行う場合があります。事前にスタートリストでの確認をお願いします。"]
[null,"･男子三段跳は１０ｍ,女子三段跳は８ｍの踏切板を使用する予定です。"]
[null,"･リレーは１団体１チームとします。"]
[null,"･リレーは当日の１２時までに１次招集を行います。チーム代表者が出場の有無を確認してください。"]
[null,"・他地区･他県登録者の参加は認めていません。\n　　（名古屋地区陸協の登記・登録者のみ）"]
[null,"・大学生は学連登録者であり、登録が愛知・名古屋地区陸協であることが必要です。"]
[null,"・中学生は愛知陸協（名古屋地区）の登録番号で申し込んでください。"]
[null,"・中学生の出場は、太字で示した種目に限ります。"]
[null,"・団体情報シートをプリントアウトして,参加料振込用紙のコピーを添付して"]
[null,"　　 〒463-8799 守山郵便局私書箱１４号まで郵送してください。"]
[null,"・この大会に表彰はありません。"]
[null,"・この大会は、招集時間･競技時間を細分化して競技を実施します。"]
[null,"　　大会前にHPで、組と招集時間の確認をお願い致します。"]
[]
["５．参加料","１種目　高校生以上８００円　中学生６００円　"]
[null,"リレー　１チーム１２００円"]
[null,"プログラム事前申し込み１部",null,"１４００円","プロクラムの当日販売は行いません"]
[]
["６．申込ｱﾄﾞﾚｽ","メールアドレス　　　nagoya.summer.compe@gmail.com"]
[null,"＊申し込みはメールを最優先してください。メール未送信の場合は出場できない場合があります。"]
[null,"＊申し込みのファイルは,各カテゴリーのものを使用してください。"]
[null,"申し込みアドレスの間違えが多く発生しています。\n正しいアドレスに送信してください。\n問い合わせのアドレスに送信されても受付できません。"]
[]
[]
["７．申込期間等","①メール送信期間","２０２１年５月１７(月)～２４日(月）"]
[null,"②振込期間","２０２１年５月２０日(木)～２６日(水)",null,null,"振り込み期間をお守りください"]
[null,"③郵送期間","２０２１年５月２４日(月)～３１日(月)"]
["８．大会参加料の納入先"]
[null,"☆郵便振替"]
[null,"払込取扱票に必要事項を記入し、郵便振替払込請求書兼受領証の写しを「種目別申込人数一覧表」の貼付欄に貼付してください。振替用紙は郵便局に備え付けの青の振込取扱票を使用し、下記の事項を必ず記入してください。"]
[null,"口座番号",null,"00870 = 3 = 90904"]
[null,"加入者名",null,"名古屋地区陸上競技協会"]
[null,"金　　額",null,"参加料（プログラム代も含める）【申込一覧表の合計金額】"]
[null,"通信欄に記入事項（おところ、おなまえの他に）"]
[null,null,"①申込大会名（大会期日）"]
[null,null,"②申込団体名・学校名のいずれか"]
[null,"ゆうちょ銀行以外からの振り込みを行う場合は、以下の番号を使用してください。"]
[null,"店名","〇八九","店",null,"店番","０８９"]
[null,null,"ｾﾞﾛﾊﾁｷｭｳ"]
[null,"預金項目","２","当座預金",null,"口座番号","００９０９０４"]
[]
[null,"振込口座の間違いにお気をつけください。"]
[null,"団体名が判らなくなりますので、"]
[null,"振込団体名に、ｱｲﾁｹﾝﾘﾂやﾅｺﾞﾔｼﾘﾂなどは、絶対に付けないでください."]
[]
[null,"個人登録の方は、愛知陸協は使用せずに、個人名で振込を行ってください。"]
[]
["９．表彰について","この大会に表彰はありません。"]
[]
["10．その他","・時間プログラム,受付一覧,大会注意事項,待機場所割当表,エントリーリストは,大会７日程度前に愛知陸協ホームページにアップします。\n　　　　↓名古屋地区の競技会のアドレスです。"]
[null,"http://www.aichi-rk.jp/01_01nittei.htm"]
[null,"・メールの件名は,必ず団体名を記入してください。"]
[null,"・申込ファイル名も団体名に変えてから送信してください。"]
[null,"・２０２１年度登録を完了してください。"]
[null,"　　　申請中の申し込みは受付けません。"]
[null,"・問合せは、申込みアドレスに件名を問合せとして送信願います。"]
[null,"･競技中に発生した負傷・傷病の応急処置は主催者において行いますが,以後の責任は負いません。"]
[null,"・個人情報の扱いについて\n　名古屋地区陸協は,個人情報保護に関する法令を遵守し,日本陸上競技連盟個人情報保護方針に基づいて取り扱います。尚,取得した個人情報は大会の資格審査,プログラム編成及び作成,記録発表,その他競技運営及び陸上競技に必要な連絡等に使用します。\n＊本競技会の結果は,記録速報のほかリザルトが公表されます。結果には,順位・記録のほか選手の氏名・所属・学年を含みます。\n"]

{"sheet":"注意事項","index":1,"n_rows":72,"n_cols":11,"rows_kept":72,"cut":false,"hidden":false,"merged":[[32,1,32,19],[16,1,16,16],[7,1,7,2],[7,3,7,7],[7,8,7,9],[7,10,7,14],[25,1,25,18],[11,1,11,15],[14,1,14,14],[21,1,21,9],[24,1,24,18],[3,10,4,14],[0,0,0,13],[6,1,6,2],[6,3,6,7],[4,2,4,7],[3,2,3,5],[3,6,3,8],[2,2,2,14]]}
["　★データ入力前にこのページの内容を必ずお読みください。"]
[]
[null,"大会名",{"$f":"夏季競技会!A1","v":"２０２１年度　名古屋地区夏季陸上競技大会\n　兼　愛知県国体選手選考会・名古屋地区選手権男子１００００ｍ・男女5000mW"}]
[null,"期　日",{"$f":"夏季競技会!B5","v":"2021-06-12"},null,null,null,{"$f":"夏季競技会!D5","v":"2021-06-13"},null,null,null,"個人登録専用"]
[null,"会　場","パロマ瑞穂北陸上競技場"]
[]
[null,"メール送信期間",null,{"$f":"夏季競技会!C59","v":"２０２１年５月１７(月)～２４日(月）"}]
[null,"振込期間",null,{"$f":"夏季競技会!C60","v":"２０２１年５月２０日(木)～２６日(水)"},null,null,null,null,"郵送期間",null,{"$f":"夏季競技会!C61","v":"２０２１年５月２４日(月)～３１日(月)"}]
[null,"　⬆　日付が数字になる場合には、ホームタブの数値メニューのリストから"]
[null,"短い日付表示を選択してください。⑨日付が数字になる場合を参照してください。"]
[]
[null,"郵送の際に、書留やレターパックプラスの利用は禁止します。"]
[]
["　＜注意事項等＞",null,"このファイルは、個人専用です。団体登録の方は使用できません。"]
[null,"このファイルに、必要事項を入力してそのままのファイル形式でメールに添付して送信願います。\nエクセル互換ソフト・ＰＤＦ等では受付不可です。"]
[null,"※申込みファイルは全カテゴリー共通です。①団体情報入力で、中学、一般大学高校の選択をお願いします。"]
[null,"プログラムは予約販売です。当日販売は行いませんので、ご注意ください。"]
[null,"日本陸連の陸上競技活動再開のガイダンスに基づき、名古屋地区陸上競技協会は、感染防止に最大限の注意を払った上、"]
[null,"できる限り感染リスクを軽減させた競技会の運営に務めてまいります。"]
[null,"そこで、競技会に参加される皆様には、大会前後の体調を確認・記録し、大会前の体調については大会当日に提出をして頂きます。"]
[null,"①団体情報入力と②選手情報入力を行ってから、⑤大会前提出用⑥大会後個人管理用を印刷してお使いください。"]
[null,"※このファイルをメールに添付して送信してください！"]
[null,"　①ファイルの送信がないと受付けしたことにはなりません。データが不完全なもの、指定外のファイル形式も"]
[null,"　　受付とはできません。"]
[null,"　②必ず、ファイル名を団体名に変更して下さい。個人登録の方は、愛知陸協等は使用せず個人名に変更してください。また、メールの件名(タイトル：Subject)にも団体名を入れて下さい。"]
[null,"　　大会名や日付は付けないでください。"]
[null,"　③ファイルの内容に訂正がある場合は、ファイル名の後に必ず訂正版等の文字を入れて下さい。"]
[null,"　④ファイルの送信忘れ・訂正時のファイル名の変更がない場合等によりプログラムから漏れた場合には、"]
[null,"　　トラックレースでは最後の組以降に新たに組を追加する場合があります。リレーの場合は、再番編を行う場合があります。"]
[null,"　　フィールド種目では、記録の近い組の最後に追加します。"]
[null,"　　これらの項目は、メール送信最終日前のみ可能です。締切後は一切受け付けません。"]
[null,"　⑤リレー情報確認で、メンバーが反映されていることを必ず確認してください。"]
[null,"　　ナンバーが正しく入力されていて情報が反映されていない場合、選手情報入力シートのナンバーが左寄りになってい 　\n　　ます。この場合、ナンバーのセルが文字列になっていますので数値に変換してください。\n    方法は、⑧リレーの選手が反映されない場合の対処をご覧ください。"]
[null,"　⑤今年度の登録番号を必ず入力してください。"]
[null,"　⑥選手データ入力で、項目が変更･追加されています。JAAF登録データをご利用ください。"]
[]
["　★作業の流れは次のとおりです。　データの入力は①②のシートのみです。"]
["　　①団体情報の入力"]
["↓","　・必要事項を入力してください。",null,null,null,"・プログラム購入部数もこちらで入力となります。"]
["　　②選手情報の入力"]
["↓","　　※種目はドロップダウンリストから選択してください。"]
["↓","　・参加選手のデータ、申込種目、記録を入力してください。"]
["↓","　　※入力は、男子を先に入力し、続けて女子を入力してください。"]
["↓","　　※氏名については、姓と名の間に全角スペースを１つ入れてください。"]
["↓","　　※ﾌﾘｶﾞﾅについては、姓と名の間に半角スペースを１つ入れてください。"]
["↓","　　※記録は、次のとおり入力してください。"]
["↓",null,"◎トラック種目・・・・分秒をドット「．」で区切り、100分の1秒まで入力"]
["↓",null,"例１",null,"54秒23","⇒",54.23]
["↓",null,"例２",null,"4分07秒00","⇒","4.07.00"]
["↓",null,null,"　 ※記録が１分未満で、10分の1以下が「00」"]
["↓",null,null,"　　 のときは整数で表示されます。"]
["↓",null,null,"例","12秒00","⇒",12]
["↓",null,"◎フィールド種目・・・メートルを「m」で区切り、cm単位まで入力（「cm」の文字は入れない）"]
["↓",null,"例３",null,"20m","⇒","20m00"]
["↓",null,"★記録がない場合は空欄にしてください。"]
["↓","　　※リレーに出場する選手は、リレー種目の欄へ「○」を入力してください。"]
["↓","　  ※リレーメンバーは、③リレー情報確認タブでご確認ください。"]
["　　③種目別人数の確認・印刷"]
["↓","　・種目ごとの申込人数と申込金額を確認してください。"]
["　　④ファイルの保存"]
["↓","　・ファイル名をチーム名（例：○○○）に変更し保存してください。メールに添付するときは、ファイル名がチーム名に"]
["↓","　　なっていることを確認してください。"]
["　　⑤メール送信"]
["↓","　・入力したファイルを添付して送信してください。アドレスは要項を確認してください。"]
["↓","　・メールの件名に「大会名」と「団体名」を入力してください。"]
["　　⑥参加料の振込"]
["↓","　・参加料を振り込んでください。"]
["　　⑦郵送"]
["↓","　・「④申し込み表」の余白に振込明細書のコピーを添付して郵送してください。"]
["↓",null,"送付先"]
["↓",null,"〒463-8799　守山郵便局　私書箱１４号　名古屋地区陸上競技協会"]
["　　⑧申込完了"]

{"sheet":"①団体情報入力","index":2,"n_rows":104,"n_cols":17,"rows_kept":104,"cut":false,"hidden":false,"merged":[[13,10,13,11],[2,2,2,4],[1,0,1,1],[13,0,13,3],[13,4,13,7],[1,2,1,4],[13,8,13,9],[8,0,8,1],[8,2,8,4],[9,0,9,1],[9,2,9,4],[10,0,10,1],[11,0,11,7],[11,8,11,9],[4,5,6,9],[5,0,5,1],[11,10,11,11],[12,10,12,11],[12,0,12,3],[12,4,12,7],[12,8,12,9],[0,2,0,4],[10,8,10,11],[5,2,5,4],[6,0,6,1],[6,2,6,4],[7,0,7,1],[7,2,7,4],[2,5,2,11],[3,0,3,1],[3,2,3,4],[3,5,3,11],[4,0,4,1],[4,2,4,4],[2,0,2,1]]}
["①団体情報入力",null,"⬇　必ずカテゴリーを選択してください",null,null,"個人登録専用"]
["参加料設定➡➡",null,"一般大学高校",null,null,"⬅参加料が中学生と一般大学高校で異なります。必ず選択してください。"]
["団体名検索",null,"愛",null,null,"←団体名最初の一文字を入力してください(大で始まる団体は２文字入れてください）。",null,null,null,null,null,null,null,{"$f":"C3","v":"愛"}]
["団体名",null,null,null,null,"←愛知陸協と愛知マスターズのどちらかを選択してください。",null,null,null,null,null,null,1,{"$f":"VLOOKUP(\"*\"&$N$3&\"*\",Sheet6!D2:F439,1,FALSE)","v":"愛知陸協"},{"$f":"VLOOKUP(\"*\"&N3&\"*\",Sheet6!B2:F406,5,FALSE)","v":1}]
["団体コード",null,{"$f":"IF(C4=\"\",\"\",VLOOKUP(C4,Sheet6!B:C,2,0))","v":""},null,null,"←団体名を選択すると、自動で入力されます。",null,null,null,null,null,null,2,{"$f":"VLOOKUP(\"*\"&$N$3&\"*\",OFFSET(Sheet6!$B$2:$F$439,O4,0),1,FALSE)","v":"愛知マスターズ"},{"$f":"VLOOKUP(\"*\"&$N$3&\"*\",OFFSET(Sheet6!$B$2:$F$406,O4,0),5,FALSE)","v":2}]
["略称団体名",null,{"$f":"IF(C4=\"\",\"\",C4)","v":""},null,null,null,null,null,null,null,null,null,3,{"$f":"VLOOKUP(\"*\"&$N$3&\"*\",OFFSET(Sheet6!$B$2:$F$439,O5,0),1,FALSE)","v":{"$error":"#N/A"}},{"$f":"VLOOKUP(\"*\"&$N$3&\"*\",OFFSET(Sheet6!$B$2:$F$406,O5,0),5,FALSE)","v":{"$error":"#N/A"}}]
["団体名ﾌﾘｶﾞﾅ",null,{"$f":"IF(C4=\"\",\"\",VLOOKUP(C4,Sheet6!B:E,4,0))","v":""},null,null,null,null,null,null,null,null,null,4,{"$f":"VLOOKUP(\"*\"&$N$3&\"*\",OFFSET(Sheet6!$B$2:$F$439,O6,0),1,FALSE)","v":{"$error":"#N/A"}},{"$f":"VLOOKUP(\"*\"&$N$3&\"*\",OFFSET(Sheet6!$B$2:$F$406,O6,0),5,FALSE)","v":{"$error":"#N/A"}}]
["申込責任者",null,null,null,null,"←入力",null,null,null,null,null,null,5,{"$f":"VLOOKUP(\"*\"&$N$3&\"*\",OFFSET(Sheet6!$B$2:$F$439,O7,0),1,FALSE)","v":{"$error":"#N/A"}},{"$f":"VLOOKUP(\"*\"&$N$3&\"*\",OFFSET(Sheet6!$B$2:$F$406,O7,0),5,FALSE)","v":{"$error":"#N/A"}},null,"一般大学高校"]
["連絡先電話番号",null,null,null,null,"←入力(ハイフンを入れる)　※緊急時に連絡がとれる番号",null,null,null,null,null,null,6,{"$f":"VLOOKUP(\"*\"&$N$3&\"*\",OFFSET(Sheet6!$B$2:$F$439,O8,0),1,FALSE)","v":{"$error":"#N/A"}},{"$f":"VLOOKUP(\"*\"&$N$3&\"*\",OFFSET(Sheet6!$B$2:$F$406,O8,0),5,FALSE)","v":{"$error":"#N/A"}},null,"中　　　学"]
["大学生のみ学連地域コードをハイフンを付けて入力",null,null,null,null,"←大学生のみ、地域学連コードをハイフンを含めて入力してください。",null,null,null,null,null,null,7,{"$f":"VLOOKUP(\"*\"&$N$3&\"*\",OFFSET(Sheet6!$B$2:$F$439,O9,0),1,FALSE)","v":{"$error":"#N/A"}},{"$f":"VLOOKUP(\"*\"&$N$3&\"*\",OFFSET(Sheet6!$B$2:$F$406,O9,0),5,FALSE)","v":{"$error":"#N/A"}}]
["プログラム購入部数",null,null,"部",null,null,null,null,"新規登録団体(検索できない団体)の場合は以下に団体名とフリガナを入力してください",null,null,null,8,{"$f":"VLOOKUP(\"*\"&$N$3&\"*\",OFFSET(Sheet6!$B$2:$F$439,O10,0),1,FALSE)","v":{"$error":"#N/A"}},{"$f":"VLOOKUP(\"*\"&$N$3&\"*\",OFFSET(Sheet6!$B$2:$F$406,O10,0),5,FALSE)","v":{"$error":"#N/A"}}]
["役員のできる方のお名前を入力してください",null,null,null,null,null,null,null,"団体名",null,null,null,9,{"$f":"VLOOKUP(\"*\"&$N$3&\"*\",OFFSET(Sheet6!$B$2:$F$439,O11,0),1,FALSE)","v":{"$error":"#N/A"}},{"$f":"VLOOKUP(\"*\"&$N$3&\"*\",OFFSET(Sheet6!$B$2:$F$406,O11,0),5,FALSE)","v":{"$error":"#N/A"}}]
[null,null,null,null,null,null,null,null,"略称団体名",null,null,null,10,{"$f":"VLOOKUP(\"*\"&$N$3&\"*\",OFFSET(Sheet6!$B$2:$F$439,O12,0),1,FALSE)","v":{"$error":"#N/A"}},{"$f":"VLOOKUP(\"*\"&$N$3&\"*\",OFFSET(Sheet6!$B$2:$F$406,O12,0),5,FALSE)","v":{"$error":"#N/A"}}]
[null,null,null,null,null,null,null,null,"団体名ﾌﾘｶﾞﾅ",null,null,null,11,{"$f":"VLOOKUP(\"*\"&$N$3&\"*\",OFFSET(Sheet6!$B$2:$F$439,O13,0),1,FALSE)","v":{"$error":"#N/A"}},{"$f":"VLOOKUP(\"*\"&$N$3&\"*\",OFFSET(Sheet6!$B$2:$F$406,O13,0),5,FALSE)","v":{"$error":"#N/A"}}]
[null,null,null,null,null,null,null,null,null,null,null,null,12,{"$f":"VLOOKUP(\"*\"&$N$3&\"*\",OFFSET(Sheet6!$B$2:$F$439,O14,0),1,FALSE)","v":{"$error":"#N/A"}},{"$f":"VLOOKUP(\"*\"&$N$3&\"*\",OFFSET(Sheet6!$B$2:$F$406,O14,0),5,FALSE)","v":{"$error":"#N/A"}}]
[null,null,null,null,null,null,null,null,null,null,null,null,13,{"$f":"VLOOKUP(\"*\"&$N$3&\"*\",OFFSET(Sheet6!$B$2:$F$439,O15,0),1,FALSE)","v":{"$error":"#N/A"}},{"$f":"VLOOKUP(\"*\"&$N$3&\"*\",OFFSET(Sheet6!$B$2:$F$406,O15,0),5,FALSE)","v":{"$error":"#N/A"}}]
[null,null,null,null,null,null,null,null,null,null,null,null,14,{"$f":"VLOOKUP(\"*\"&$N$3&\"*\",OFFSET(Sheet6!$B$2:$F$439,O16,0),1,FALSE)","v":{"$error":"#N/A"}},{"$f":"VLOOKUP(\"*\"&$N$3&\"*\",OFFSET(Sheet6!$B$2:$F$406,O16,0),5,FALSE)","v":{"$error":"#N/A"}}]
[null,null,null,null,null,null,null,null,null,null,null,null,15,{"$f":"VLOOKUP(\"*\"&$N$3&\"*\",OFFSET(Sheet6!$B$2:$F$439,O17,0),1,FALSE)","v":{"$error":"#N/A"}},{"$f":"VLOOKUP(\"*\"&$N$3&\"*\",OFFSET(Sheet6!$B$2:$F$406,O17,0),5,FALSE)","v":{"$error":"#N/A"}}]
[null,null,null,null,null,null,null,null,null,null,null,null,16,{"$f":"VLOOKUP(\"*\"&$N$3&\"*\",OFFSET(Sheet6!$B$2:$F$439,O18,0),1,FALSE)","v":{"$error":"#N/A"}},{"$f":"VLOOKUP(\"*\"&$N$3&\"*\",OFFSET(Sheet6!$B$2:$F$406,O18,0),5,FALSE)","v":{"$error":"#N/A"}}]
[null,null,null,null,null,null,null,null,null,null,null,null,17,{"$f":"VLOOKUP(\"*\"&$N$3&\"*\",OFFSET(Sheet6!$B$2:$F$439,O19,0),1,FALSE)","v":{"$error":"#N/A"}},{"$f":"VLOOKUP(\"*\"&$N$3&\"*\",OFFSET(Sheet6!$B$2:$F$406,O19,0),5,FALSE)","v":{"$error":"#N/A"}}]
[null,null,null,null,null,null,null,null,null,null,null,null,18,{"$f":"VLOOKUP(\"*\"&$N$3&\"*\",OFFSET(Sheet6!$B$2:$F$439,O20,0),1,FALSE)","v":{"$error":"#N/A"}},{"$f":"VLOOKUP(\"*\"&$N$3&\"*\",OFFSET(Sheet6!$B$2:$F$406,O20,0),5,FALSE)","v":{"$error":"#N/A"}}]
[null,null,null,null,null,null,null,null,null,null,null,null,19,{"$f":"VLOOKUP(\"*\"&$N$3&\"*\",OFFSET(Sheet6!$B$2:$F$439,O21,0),1,FALSE)","v":{"$error":"#N/A"}},{"$f":"VLOOKUP(\"*\"&$N$3&\"*\",OFFSET(Sheet6!$B$2:$F$406,O21,0),5,FALSE)","v":{"$error":"#N/A"}}]
[null,null,null,null,null,null,null,null,null,null,null,null,20,{"$f":"VLOOKUP(\"*\"&$N$3&\"*\",OFFSET(Sheet6!$B$2:$F$439,O22,0),1,FALSE)","v":{"$error":"#N/A"}},{"$f":"VLOOKUP(\"*\"&$N$3&\"*\",OFFSET(Sheet6!$B$2:$F$406,O22,0),5,FALSE)","v":{"$error":"#N/A"}}]
[null,null,null,null,null,null,null,null,null,null,null,null,21,{"$f":"VLOOKUP(\"*\"&$N$3&\"*\",OFFSET(Sheet6!$B$2:$F$439,O23,0),1,FALSE)","v":{"$error":"#N/A"}},{"$f":"VLOOKUP(\"*\"&$N$3&\"*\",OFFSET(Sheet6!$B$2:$F$406,O23,0),5,FALSE)","v":{"$error":"#N/A"}}]
[null,null,null,null,null,null,null,null,null,null,null,null,22,{"$f":"VLOOKUP(\"*\"&$N$3&\"*\",OFFSET(Sheet6!$B$2:$F$439,O24,0),1,FALSE)","v":{"$error":"#N/A"}},{"$f":"VLOOKUP(\"*\"&$N$3&\"*\",OFFSET(Sheet6!$B$2:$F$406,O24,0),5,FALSE)","v":{"$error":"#N/A"}}]
[null,null,null,null,null,null,null,null,null,null,null,null,23,{"$f":"VLOOKUP(\"*\"&$N$3&\"*\",OFFSET(Sheet6!$B$2:$F$439,O25,0),1,FALSE)","v":{"$error":"#N/A"}},{"$f":"VLOOKUP(\"*\"&$N$3&\"*\",OFFSET(Sheet6!$B$2:$F$406,O25,0),5,FALSE)","v":{"$error":"#N/A"}}]
[null,null,null,null,null,null,null,null,null,null,null,null,24,{"$f":"VLOOKUP(\"*\"&$N$3&\"*\",OFFSET(Sheet6!$B$2:$F$439,O26,0),1,FALSE)","v":{"$error":"#N/A"}},{"$f":"VLOOKUP(\"*\"&$N$3&\"*\",OFFSET(Sheet6!$B$2:$F$406,O26,0),5,FALSE)","v":{"$error":"#N/A"}}]
[null,null,null,null,null,null,null,null,null,null,null,null,25,{"$f":"VLOOKUP(\"*\"&$N$3&\"*\",OFFSET(Sheet6!$B$2:$F$439,O27,0),1,FALSE)","v":{"$error":"#N/A"}},{"$f":"VLOOKUP(\"*\"&$N$3&\"*\",OFFSET(Sheet6!$B$2:$F$406,O27,0),5,FALSE)","v":{"$error":"#N/A"}}]
[null,null,null,null,null,null,null,null,null,null,null,null,26,{"$f":"VLOOKUP(\"*\"&$N$3&\"*\",OFFSET(Sheet6!$B$2:$F$439,O28,0),1,FALSE)","v":{"$error":"#N/A"}},{"$f":"VLOOKUP(\"*\"&$N$3&\"*\",OFFSET(Sheet6!$B$2:$F$406,O28,0),5,FALSE)","v":{"$error":"#N/A"}}]
[null,null,null,null,null,null,null,null,null,null,null,null,27,{"$f":"VLOOKUP(\"*\"&$N$3&\"*\",OFFSET(Sheet6!$B$2:$F$439,O29,0),1,FALSE)","v":{"$error":"#N/A"}},{"$f":"VLOOKUP(\"*\"&$N$3&\"*\",OFFSET(Sheet6!$B$2:$F$406,O29,0),5,FALSE)","v":{"$error":"#N/A"}}]
[null,null,null,null,null,null,null,null,null,null,null,null,28,{"$f":"VLOOKUP(\"*\"&$N$3&\"*\",OFFSET(Sheet6!$B$2:$F$439,O30,0),1,FALSE)","v":{"$error":"#N/A"}},{"$f":"VLOOKUP(\"*\"&$N$3&\"*\",OFFSET(Sheet6!$B$2:$F$406,O30,0),5,FALSE)","v":{"$error":"#N/A"}}]
[null,null,null,null,null,null,null,null,null,null,null,null,29,{"$f":"VLOOKUP(\"*\"&$N$3&\"*\",OFFSET(Sheet6!$B$2:$F$439,O31,0),1,FALSE)","v":{"$error":"#N/A"}},{"$f":"VLOOKUP(\"*\"&$N$3&\"*\",OFFSET(Sheet6!$B$2:$F$406,O31,0),5,FALSE)","v":{"$error":"#N/A"}}]
[null,null,null,null,null,null,null,null,null,null,null,null,30,{"$f":"VLOOKUP(\"*\"&$N$3&\"*\",OFFSET(Sheet6!$B$2:$F$439,O32,0),1,FALSE)","v":{"$error":"#N/A"}},{"$f":"VLOOKUP(\"*\"&$N$3&\"*\",OFFSET(Sheet6!$B$2:$F$406,O32,0),5,FALSE)","v":{"$error":"#N/A"}}]
[null,null,null,null,null,null,null,null,null,null,null,null,31,{"$f":"VLOOKUP(\"*\"&$N$3&\"*\",OFFSET(Sheet6!$B$2:$F$439,O33,0),1,FALSE)","v":{"$error":"#N/A"}},{"$f":"VLOOKUP(\"*\"&$N$3&\"*\",OFFSET(Sheet6!$B$2:$F$406,O33,0),5,FALSE)","v":{"$error":"#N/A"}}]
[null,null,null,null,null,null,null,null,null,null,null,null,32,{"$f":"VLOOKUP(\"*\"&$N$3&\"*\",OFFSET(Sheet6!$B$2:$F$439,O34,0),1,FALSE)","v":{"$error":"#N/A"}},{"$f":"VLOOKUP(\"*\"&$N$3&\"*\",OFFSET(Sheet6!$B$2:$F$406,O34,0),5,FALSE)","v":{"$error":"#N/A"}}]
[null,null,null,null,null,null,null,null,null,null,null,null,33,{"$f":"VLOOKUP(\"*\"&$N$3&\"*\",OFFSET(Sheet6!$B$2:$F$439,O35,0),1,FALSE)","v":{"$error":"#N/A"}},{"$f":"VLOOKUP(\"*\"&$N$3&\"*\",OFFSET(Sheet6!$B$2:$F$406,O35,0),5,FALSE)","v":{"$error":"#N/A"}}]
[null,null,null,null,null,null,null,null,null,null,null,null,34,{"$f":"VLOOKUP(\"*\"&$N$3&\"*\",OFFSET(Sheet6!$B$2:$F$439,O36,0),1,FALSE)","v":{"$error":"#N/A"}},{"$f":"VLOOKUP(\"*\"&$N$3&\"*\",OFFSET(Sheet6!$B$2:$F$406,O36,0),5,FALSE)","v":{"$error":"#N/A"}}]
[null,null,null,null,null,null,null,null,null,null,null,null,35,{"$f":"VLOOKUP(\"*\"&$N$3&\"*\",OFFSET(Sheet6!$B$2:$F$439,O37,0),1,FALSE)","v":{"$error":"#N/A"}},{"$f":"VLOOKUP(\"*\"&$N$3&\"*\",OFFSET(Sheet6!$B$2:$F$406,O37,0),5,FALSE)","v":{"$error":"#N/A"}}]
[null,null,null,null,null,null,null,null,null,null,null,null,36,{"$f":"VLOOKUP(\"*\"&$N$3&\"*\",OFFSET(Sheet6!$B$2:$F$439,O38,0),1,FALSE)","v":{"$error":"#N/A"}},{"$f":"VLOOKUP(\"*\"&$N$3&\"*\",OFFSET(Sheet6!$B$2:$F$406,O38,0),5,FALSE)","v":{"$error":"#N/A"}}]
[null,null,null,null,null,null,null,null,null,null,null,null,37,{"$f":"VLOOKUP(\"*\"&$N$3&\"*\",OFFSET(Sheet6!$B$2:$F$439,O39,0),1,FALSE)","v":{"$error":"#N/A"}},{"$f":"VLOOKUP(\"*\"&$N$3&\"*\",OFFSET(Sheet6!$B$2:$F$406,O39,0),5,FALSE)","v":{"$error":"#N/A"}}]
[null,null,null,null,null,null,null,null,null,null,null,null,38,{"$f":"VLOOKUP(\"*\"&$N$3&\"*\",OFFSET(Sheet6!$B$2:$F$439,O40,0),1,FALSE)","v":{"$error":"#N/A"}},{"$f":"VLOOKUP(\"*\"&$N$3&\"*\",OFFSET(Sheet6!$B$2:$F$406,O40,0),5,FALSE)","v":{"$error":"#N/A"}}]
[null,null,null,null,null,null,null,null,null,null,null,null,39,{"$f":"VLOOKUP(\"*\"&$N$3&\"*\",OFFSET(Sheet6!$B$2:$F$439,O41,0),1,FALSE)","v":{"$error":"#N/A"}},{"$f":"VLOOKUP(\"*\"&$N$3&\"*\",OFFSET(Sheet6!$B$2:$F$406,O41,0),5,FALSE)","v":{"$error":"#N/A"}}]
[null,null,null,null,null,null,null,null,null,null,null,null,40,{"$f":"VLOOKUP(\"*\"&$N$3&\"*\",OFFSET(Sheet6!$B$2:$F$439,O42,0),1,FALSE)","v":{"$error":"#N/A"}},{"$f":"VLOOKUP(\"*\"&$N$3&\"*\",OFFSET(Sheet6!$B$2:$F$406,O42,0),5,FALSE)","v":{"$error":"#N/A"}}]
[null,null,null,null,null,null,null,null,null,null,null,null,41,{"$f":"VLOOKUP(\"*\"&$N$3&\"*\",OFFSET(Sheet6!$B$2:$F$439,O43,0),1,FALSE)","v":{"$error":"#N/A"}},{"$f":"VLOOKUP(\"*\"&$N$3&\"*\",OFFSET(Sheet6!$B$2:$F$406,O43,0),5,FALSE)","v":{"$error":"#N/A"}}]
[null,null,null,null,null,null,null,null,null,null,null,null,42,{"$f":"VLOOKUP(\"*\"&$N$3&\"*\",OFFSET(Sheet6!$B$2:$F$439,O44,0),1,FALSE)","v":{"$error":"#N/A"}},{"$f":"VLOOKUP(\"*\"&$N$3&\"*\",OFFSET(Sheet6!$B$2:$F$406,O44,0),5,FALSE)","v":{"$error":"#N/A"}}]
[null,null,null,null,null,null,null,null,null,null,null,null,43,{"$f":"VLOOKUP(\"*\"&$N$3&\"*\",OFFSET(Sheet6!$B$2:$F$439,O45,0),1,FALSE)","v":{"$error":"#N/A"}},{"$f":"VLOOKUP(\"*\"&$N$3&\"*\",OFFSET(Sheet6!$B$2:$F$406,O45,0),5,FALSE)","v":{"$error":"#N/A"}}]
[null,null,null,null,null,null,null,null,null,null,null,null,44,{"$f":"VLOOKUP(\"*\"&$N$3&\"*\",OFFSET(Sheet6!$B$2:$F$439,O46,0),1,FALSE)","v":{"$error":"#N/A"}},{"$f":"VLOOKUP(\"*\"&$N$3&\"*\",OFFSET(Sheet6!$B$2:$F$406,O46,0),5,FALSE)","v":{"$error":"#N/A"}}]
[null,null,null,null,null,null,null,null,null,null,null,null,45,{"$f":"VLOOKUP(\"*\"&$N$3&\"*\",OFFSET(Sheet6!$B$2:$F$439,O47,0),1,FALSE)","v":{"$error":"#N/A"}},{"$f":"VLOOKUP(\"*\"&$N$3&\"*\",OFFSET(Sheet6!$B$2:$F$406,O47,0),5,FALSE)","v":{"$error":"#N/A"}}]
[null,null,null,null,null,null,null,null,null,null,null,null,46,{"$f":"VLOOKUP(\"*\"&$N$3&\"*\",OFFSET(Sheet6!$B$2:$F$439,O48,0),1,FALSE)","v":{"$error":"#N/A"}},{"$f":"VLOOKUP(\"*\"&$N$3&\"*\",OFFSET(Sheet6!$B$2:$F$406,O48,0),5,FALSE)","v":{"$error":"#N/A"}}]
[null,null,null,null,null,null,null,null,null,null,null,null,47,{"$f":"VLOOKUP(\"*\"&$N$3&\"*\",OFFSET(Sheet6!$B$2:$F$439,O49,0),1,FALSE)","v":{"$error":"#N/A"}},{"$f":"VLOOKUP(\"*\"&$N$3&\"*\",OFFSET(Sheet6!$B$2:$F$406,O49,0),5,FALSE)","v":{"$error":"#N/A"}}]
[null,null,null,null,null,null,null,null,null,null,null,null,48,{"$f":"VLOOKUP(\"*\"&$N$3&\"*\",OFFSET(Sheet6!$B$2:$F$439,O50,0),1,FALSE)","v":{"$error":"#N/A"}},{"$f":"VLOOKUP(\"*\"&$N$3&\"*\",OFFSET(Sheet6!$B$2:$F$406,O50,0),5,FALSE)","v":{"$error":"#N/A"}}]
[null,null,null,null,null,null,null,null,null,null,null,null,49,{"$f":"VLOOKUP(\"*\"&$N$3&\"*\",OFFSET(Sheet6!$B$2:$F$439,O51,0),1,FALSE)","v":{"$error":"#N/A"}},{"$f":"VLOOKUP(\"*\"&$N$3&\"*\",OFFSET(Sheet6!$B$2:$F$406,O51,0),5,FALSE)","v":{"$error":"#N/A"}}]
[null,null,null,null,null,null,null,null,null,null,null,null,50,{"$f":"VLOOKUP(\"*\"&$N$3&\"*\",OFFSET(Sheet6!$B$2:$F$439,O52,0),1,FALSE)","v":{"$error":"#N/A"}},{"$f":"VLOOKUP(\"*\"&$N$3&\"*\",OFFSET(Sheet6!$B$2:$F$406,O52,0),5,FALSE)","v":{"$error":"#N/A"}}]
[null,null,null,null,null,null,null,null,null,null,null,null,51,{"$f":"VLOOKUP(\"*\"&$N$3&\"*\",OFFSET(Sheet6!$B$2:$F$439,O53,0),1,FALSE)","v":{"$error":"#N/A"}},{"$f":"VLOOKUP(\"*\"&$N$3&\"*\",OFFSET(Sheet6!$B$2:$F$406,O53,0),5,FALSE)","v":{"$error":"#N/A"}}]
[null,null,null,null,null,null,null,null,null,null,null,null,52,{"$f":"VLOOKUP(\"*\"&$N$3&\"*\",OFFSET(Sheet6!$B$2:$F$439,O54,0),1,FALSE)","v":{"$error":"#N/A"}},{"$f":"VLOOKUP(\"*\"&$N$3&\"*\",OFFSET(Sheet6!$B$2:$F$406,O54,0),5,FALSE)","v":{"$error":"#N/A"}}]
[null,null,null,null,null,null,null,null,null,null,null,null,53,{"$f":"VLOOKUP(\"*\"&$N$3&\"*\",OFFSET(Sheet6!$B$2:$F$439,O55,0),1,FALSE)","v":{"$error":"#N/A"}},{"$f":"VLOOKUP(\"*\"&$N$3&\"*\",OFFSET(Sheet6!$B$2:$F$406,O55,0),5,FALSE)","v":{"$error":"#N/A"}}]
[null,null,null,null,null,null,null,null,null,null,null,null,54,{"$f":"VLOOKUP(\"*\"&$N$3&\"*\",OFFSET(Sheet6!$B$2:$F$439,O56,0),1,FALSE)","v":{"$error":"#N/A"}},{"$f":"VLOOKUP(\"*\"&$N$3&\"*\",OFFSET(Sheet6!$B$2:$F$406,O56,0),5,FALSE)","v":{"$error":"#N/A"}}]
[null,null,null,null,null,null,null,null,null,null,null,null,55,{"$f":"VLOOKUP(\"*\"&$N$3&\"*\",OFFSET(Sheet6!$B$2:$F$439,O57,0),1,FALSE)","v":{"$error":"#N/A"}},{"$f":"VLOOKUP(\"*\"&$N$3&\"*\",OFFSET(Sheet6!$B$2:$F$406,O57,0),5,FALSE)","v":{"$error":"#N/A"}}]
[null,null,null,null,null,null,null,null,null,null,null,null,56,{"$f":"VLOOKUP(\"*\"&$N$3&\"*\",OFFSET(Sheet6!$B$2:$F$439,O58,0),1,FALSE)","v":{"$error":"#N/A"}},{"$f":"VLOOKUP(\"*\"&$N$3&\"*\",OFFSET(Sheet6!$B$2:$F$406,O58,0),5,FALSE)","v":{"$error":"#N/A"}}]
[null,null,null,null,null,null,null,null,null,null,null,null,57,{"$f":"VLOOKUP(\"*\"&$N$3&\"*\",OFFSET(Sheet6!$B$2:$F$439,O59,0),1,FALSE)","v":{"$error":"#N/A"}},{"$f":"VLOOKUP(\"*\"&$N$3&\"*\",OFFSET(Sheet6!$B$2:$F$406,O59,0),5,FALSE)","v":{"$error":"#N/A"}}]
[null,null,null,null,null,null,null,null,null,null,null,null,58,{"$f":"VLOOKUP(\"*\"&$N$3&\"*\",OFFSET(Sheet6!$B$2:$F$439,O60,0),1,FALSE)","v":{"$error":"#N/A"}},{"$f":"VLOOKUP(\"*\"&$N$3&\"*\",OFFSET(Sheet6!$B$2:$F$406,O60,0),5,FALSE)","v":{"$error":"#N/A"}}]
[null,null,null,null,null,null,null,null,null,null,null,null,59,{"$f":"VLOOKUP(\"*\"&$N$3&\"*\",OFFSET(Sheet6!$B$2:$F$439,O61,0),1,FALSE)","v":{"$error":"#N/A"}},{"$f":"VLOOKUP(\"*\"&$N$3&\"*\",OFFSET(Sheet6!$B$2:$F$406,O61,0),5,FALSE)","v":{"$error":"#N/A"}}]
[null,null,null,null,null,null,null,null,null,null,null,null,60,{"$f":"VLOOKUP(\"*\"&$N$3&\"*\",OFFSET(Sheet6!$B$2:$F$439,O62,0),1,FALSE)","v":{"$error":"#N/A"}},{"$f":"VLOOKUP(\"*\"&$N$3&\"*\",OFFSET(Sheet6!$B$2:$F$406,O62,0),5,FALSE)","v":{"$error":"#N/A"}}]
[null,null,null,null,null,null,null,null,null,null,null,null,61,{"$f":"VLOOKUP(\"*\"&$N$3&\"*\",OFFSET(Sheet6!$B$2:$F$439,O63,0),1,FALSE)","v":{"$error":"#N/A"}},{"$f":"VLOOKUP(\"*\"&$N$3&\"*\",OFFSET(Sheet6!$B$2:$F$406,O63,0),5,FALSE)","v":{"$error":"#N/A"}}]
[null,null,null,null,null,null,null,null,null,null,null,null,62,{"$f":"VLOOKUP(\"*\"&$N$3&\"*\",OFFSET(Sheet6!$B$2:$F$439,O64,0),1,FALSE)","v":{"$error":"#N/A"}},{"$f":"VLOOKUP(\"*\"&$N$3&\"*\",OFFSET(Sheet6!$B$2:$F$406,O64,0),5,FALSE)","v":{"$error":"#N/A"}}]
[null,null,null,null,null,null,null,null,null,null,null,null,63,{"$f":"VLOOKUP(\"*\"&$N$3&\"*\",OFFSET(Sheet6!$B$2:$F$439,O65,0),1,FALSE)","v":{"$error":"#N/A"}},{"$f":"VLOOKUP(\"*\"&$N$3&\"*\",OFFSET(Sheet6!$B$2:$F$406,O65,0),5,FALSE)","v":{"$error":"#N/A"}}]
[null,null,null,null,null,null,null,null,null,null,null,null,64,{"$f":"VLOOKUP(\"*\"&$N$3&\"*\",OFFSET(Sheet6!$B$2:$F$439,O66,0),1,FALSE)","v":{"$error":"#N/A"}},{"$f":"VLOOKUP(\"*\"&$N$3&\"*\",OFFSET(Sheet6!$B$2:$F$406,O66,0),5,FALSE)","v":{"$error":"#N/A"}}]
[null,null,null,null,null,null,null,null,null,null,null,null,65,{"$f":"VLOOKUP(\"*\"&$N$3&\"*\",OFFSET(Sheet6!$B$2:$F$439,O67,0),1,FALSE)","v":{"$error":"#N/A"}},{"$f":"VLOOKUP(\"*\"&$N$3&\"*\",OFFSET(Sheet6!$B$2:$F$406,O67,0),5,FALSE)","v":{"$error":"#N/A"}}]
[null,null,null,null,null,null,null,null,null,null,null,null,66,{"$f":"VLOOKUP(\"*\"&$N$3&\"*\",OFFSET(Sheet6!$B$2:$F$439,O68,0),1,FALSE)","v":{"$error":"#N/A"}},{"$f":"VLOOKUP(\"*\"&$N$3&\"*\",OFFSET(Sheet6!$B$2:$F$406,O68,0),5,FALSE)","v":{"$error":"#N/A"}}]
[null,null,null,null,null,null,null,null,null,null,null,null,67,{"$f":"VLOOKUP(\"*\"&$N$3&\"*\",OFFSET(Sheet6!$B$2:$F$439,O69,0),1,FALSE)","v":{"$error":"#N/A"}},{"$f":"VLOOKUP(\"*\"&$N$3&\"*\",OFFSET(Sheet6!$B$2:$F$406,O69,0),5,FALSE)","v":{"$error":"#N/A"}}]
[null,null,null,null,null,null,null,null,null,null,null,null,68,{"$f":"VLOOKUP(\"*\"&$N$3&\"*\",OFFSET(Sheet6!$B$2:$F$439,O70,0),1,FALSE)","v":{"$error":"#N/A"}},{"$f":"VLOOKUP(\"*\"&$N$3&\"*\",OFFSET(Sheet6!$B$2:$F$406,O70,0),5,FALSE)","v":{"$error":"#N/A"}}]
[null,null,null,null,null,null,null,null,null,null,null,null,69,{"$f":"VLOOKUP(\"*\"&$N$3&\"*\",OFFSET(Sheet6!$B$2:$F$439,O71,0),1,FALSE)","v":{"$error":"#N/A"}},{"$f":"VLOOKUP(\"*\"&$N$3&\"*\",OFFSET(Sheet6!$B$2:$F$406,O71,0),5,FALSE)","v":{"$error":"#N/A"}}]
[null,null,null,null,null,null,null,null,null,null,null,null,70,{"$f":"VLOOKUP(\"*\"&$N$3&\"*\",OFFSET(Sheet6!$B$2:$F$439,O72,0),1,FALSE)","v":{"$error":"#N/A"}},{"$f":"VLOOKUP(\"*\"&$N$3&\"*\",OFFSET(Sheet6!$B$2:$F$406,O72,0),5,FALSE)","v":{"$error":"#N/A"}}]
[null,null,null,null,null,null,null,null,null,null,null,null,71,{"$f":"VLOOKUP(\"*\"&$N$3&\"*\",OFFSET(Sheet6!$B$2:$F$439,O73,0),1,FALSE)","v":{"$error":"#N/A"}},{"$f":"VLOOKUP(\"*\"&$N$3&\"*\",OFFSET(Sheet6!$B$2:$F$406,O73,0),5,FALSE)","v":{"$error":"#N/A"}}]
[null,null,null,null,null,null,null,null,null,null,null,null,72,{"$f":"VLOOKUP(\"*\"&$N$3&\"*\",OFFSET(Sheet6!$B$2:$F$439,O74,0),1,FALSE)","v":{"$error":"#N/A"}},{"$f":"VLOOKUP(\"*\"&$N$3&\"*\",OFFSET(Sheet6!$B$2:$F$406,O74,0),5,FALSE)","v":{"$error":"#N/A"}}]
[null,null,null,null,null,null,null,null,null,null,null,null,73,{"$f":"VLOOKUP(\"*\"&$N$3&\"*\",OFFSET(Sheet6!$B$2:$F$439,O75,0),1,FALSE)","v":{"$error":"#N/A"}},{"$f":"VLOOKUP(\"*\"&$N$3&\"*\",OFFSET(Sheet6!$B$2:$F$406,O75,0),5,FALSE)","v":{"$error":"#N/A"}}]
[null,null,null,null,null,null,null,null,null,null,null,null,74,{"$f":"VLOOKUP(\"*\"&$N$3&\"*\",OFFSET(Sheet6!$B$2:$F$439,O76,0),1,FALSE)","v":{"$error":"#N/A"}},{"$f":"VLOOKUP(\"*\"&$N$3&\"*\",OFFSET(Sheet6!$B$2:$F$406,O76,0),5,FALSE)","v":{"$error":"#N/A"}}]
[null,null,null,null,null,null,null,null,null,null,null,null,75,{"$f":"VLOOKUP(\"*\"&$N$3&\"*\",OFFSET(Sheet6!$B$2:$F$439,O77,0),1,FALSE)","v":{"$error":"#N/A"}},{"$f":"VLOOKUP(\"*\"&$N$3&\"*\",OFFSET(Sheet6!$B$2:$F$406,O77,0),5,FALSE)","v":{"$error":"#N/A"}}]
[null,null,null,null,null,null,null,null,null,null,null,null,76,{"$f":"VLOOKUP(\"*\"&$N$3&\"*\",OFFSET(Sheet6!$B$2:$F$439,O78,0),1,FALSE)","v":{"$error":"#N/A"}},{"$f":"VLOOKUP(\"*\"&$N$3&\"*\",OFFSET(Sheet6!$B$2:$F$406,O78,0),5,FALSE)","v":{"$error":"#N/A"}}]
[null,null,null,null,null,null,null,null,null,null,null,null,77,{"$f":"VLOOKUP(\"*\"&$N$3&\"*\",OFFSET(Sheet6!$B$2:$F$439,O79,0),1,FALSE)","v":{"$error":"#N/A"}},{"$f":"VLOOKUP(\"*\"&$N$3&\"*\",OFFSET(Sheet6!$B$2:$F$406,O79,0),5,FALSE)","v":{"$error":"#N/A"}}]
[null,null,null,null,null,null,null,null,null,null,null,null,78,{"$f":"VLOOKUP(\"*\"&$N$3&\"*\",OFFSET(Sheet6!$B$2:$F$439,O80,0),1,FALSE)","v":{"$error":"#N/A"}},{"$f":"VLOOKUP(\"*\"&$N$3&\"*\",OFFSET(Sheet6!$B$2:$F$406,O80,0),5,FALSE)","v":{"$error":"#N/A"}}]
[null,null,null,null,null,null,null,null,null,null,null,null,79,{"$f":"VLOOKUP(\"*\"&$N$3&\"*\",OFFSET(Sheet6!$B$2:$F$439,O81,0),1,FALSE)","v":{"$error":"#N/A"}},{"$f":"VLOOKUP(\"*\"&$N$3&\"*\",OFFSET(Sheet6!$B$2:$F$406,O81,0),5,FALSE)","v":{"$error":"#N/A"}}]
[null,null,null,null,null,null,null,null,null,null,null,null,80,{"$f":"VLOOKUP(\"*\"&$N$3&\"*\",OFFSET(Sheet6!$B$2:$F$439,O82,0),1,FALSE)","v":{"$error":"#N/A"}},{"$f":"VLOOKUP(\"*\"&$N$3&\"*\",OFFSET(Sheet6!$B$2:$F$406,O82,0),5,FALSE)","v":{"$error":"#N/A"}}]
[null,null,null,null,null,null,null,null,null,null,null,null,81,{"$f":"VLOOKUP(\"*\"&$N$3&\"*\",OFFSET(Sheet6!$B$2:$F$439,O83,0),1,FALSE)","v":{"$error":"#N/A"}},{"$f":"VLOOKUP(\"*\"&$N$3&\"*\",OFFSET(Sheet6!$B$2:$F$406,O83,0),5,FALSE)","v":{"$error":"#N/A"}}]
[null,null,null,null,null,null,null,null,null,null,null,null,82,{"$f":"VLOOKUP(\"*\"&$N$3&\"*\",OFFSET(Sheet6!$B$2:$F$439,O84,0),1,FALSE)","v":{"$error":"#N/A"}},{"$f":"VLOOKUP(\"*\"&$N$3&\"*\",OFFSET(Sheet6!$B$2:$F$406,O84,0),5,FALSE)","v":{"$error":"#N/A"}}]
[null,null,null,null,null,null,null,null,null,null,null,null,83,{"$f":"VLOOKUP(\"*\"&$N$3&\"*\",OFFSET(Sheet6!$B$2:$F$439,O85,0),1,FALSE)","v":{"$error":"#N/A"}},{"$f":"VLOOKUP(\"*\"&$N$3&\"*\",OFFSET(Sheet6!$B$2:$F$406,O85,0),5,FALSE)","v":{"$error":"#N/A"}}]
[null,null,null,null,null,null,null,null,null,null,null,null,84,{"$f":"VLOOKUP(\"*\"&$N$3&\"*\",OFFSET(Sheet6!$B$2:$F$439,O86,0),1,FALSE)","v":{"$error":"#N/A"}},{"$f":"VLOOKUP(\"*\"&$N$3&\"*\",OFFSET(Sheet6!$B$2:$F$406,O86,0),5,FALSE)","v":{"$error":"#N/A"}}]
[null,null,null,null,null,null,null,null,null,null,null,null,85,{"$f":"VLOOKUP(\"*\"&$N$3&\"*\",OFFSET(Sheet6!$B$2:$F$439,O87,0),1,FALSE)","v":{"$error":"#N/A"}},{"$f":"VLOOKUP(\"*\"&$N$3&\"*\",OFFSET(Sheet6!$B$2:$F$406,O87,0),5,FALSE)","v":{"$error":"#N/A"}}]
[null,null,null,null,null,null,null,null,null,null,null,null,86,{"$f":"VLOOKUP(\"*\"&$N$3&\"*\",OFFSET(Sheet6!$B$2:$F$439,O88,0),1,FALSE)","v":{"$error":"#N/A"}},{"$f":"VLOOKUP(\"*\"&$N$3&\"*\",OFFSET(Sheet6!$B$2:$F$406,O88,0),5,FALSE)","v":{"$error":"#N/A"}}]
[null,null,null,null,null,null,null,null,null,null,null,null,87,{"$f":"VLOOKUP(\"*\"&$N$3&\"*\",OFFSET(Sheet6!$B$2:$F$439,O89,0),1,FALSE)","v":{"$error":"#N/A"}},{"$f":"VLOOKUP(\"*\"&$N$3&\"*\",OFFSET(Sheet6!$B$2:$F$406,O89,0),5,FALSE)","v":{"$error":"#N/A"}}]
[null,null,null,null,null,null,null,null,null,null,null,null,88,{"$f":"VLOOKUP(\"*\"&$N$3&\"*\",OFFSET(Sheet6!$B$2:$F$439,O90,0),1,FALSE)","v":{"$error":"#N/A"}},{"$f":"VLOOKUP(\"*\"&$N$3&\"*\",OFFSET(Sheet6!$B$2:$F$406,O90,0),5,FALSE)","v":{"$error":"#N/A"}}]
[null,null,null,null,null,null,null,null,null,null,null,null,89,{"$f":"VLOOKUP(\"*\"&$N$3&\"*\",OFFSET(Sheet6!$B$2:$F$439,O91,0),1,FALSE)","v":{"$error":"#N/A"}},{"$f":"VLOOKUP(\"*\"&$N$3&\"*\",OFFSET(Sheet6!$B$2:$F$406,O91,0),5,FALSE)","v":{"$error":"#N/A"}}]
[null,null,null,null,null,null,null,null,null,null,null,null,90,{"$f":"VLOOKUP(\"*\"&$N$3&\"*\",OFFSET(Sheet6!$B$2:$F$439,O92,0),1,FALSE)","v":{"$error":"#N/A"}},{"$f":"VLOOKUP(\"*\"&$N$3&\"*\",OFFSET(Sheet6!$B$2:$F$406,O92,0),5,FALSE)","v":{"$error":"#N/A"}}]
[null,null,null,null,null,null,null,null,null,null,null,null,91,{"$f":"VLOOKUP(\"*\"&$N$3&\"*\",OFFSET(Sheet6!$B$2:$F$439,O93,0),1,FALSE)","v":{"$error":"#N/A"}},{"$f":"VLOOKUP(\"*\"&$N$3&\"*\",OFFSET(Sheet6!$B$2:$F$406,O93,0),5,FALSE)","v":{"$error":"#N/A"}}]
[null,null,null,null,null,null,null,null,null,null,null,null,92,{"$f":"VLOOKUP(\"*\"&$N$3&\"*\",OFFSET(Sheet6!$B$2:$F$439,O94,0),1,FALSE)","v":{"$error":"#N/A"}},{"$f":"VLOOKUP(\"*\"&$N$3&\"*\",OFFSET(Sheet6!$B$2:$F$406,O94,0),5,FALSE)","v":{"$error":"#N/A"}}]
[null,null,null,null,null,null,null,null,null,null,null,null,93,{"$f":"VLOOKUP(\"*\"&$N$3&\"*\",OFFSET(Sheet6!$B$2:$F$439,O95,0),1,FALSE)","v":{"$error":"#N/A"}},{"$f":"VLOOKUP(\"*\"&$N$3&\"*\",OFFSET(Sheet6!$B$2:$F$406,O95,0),5,FALSE)","v":{"$error":"#N/A"}}]
[null,null,null,null,null,null,null,null,null,null,null,null,94,{"$f":"VLOOKUP(\"*\"&$N$3&\"*\",OFFSET(Sheet6!$B$2:$F$439,O96,0),1,FALSE)","v":{"$error":"#N/A"}},{"$f":"VLOOKUP(\"*\"&$N$3&\"*\",OFFSET(Sheet6!$B$2:$F$406,O96,0),5,FALSE)","v":{"$error":"#N/A"}}]
[null,null,null,null,null,null,null,null,null,null,null,null,95,{"$f":"VLOOKUP(\"*\"&$N$3&\"*\",OFFSET(Sheet6!$B$2:$F$439,O97,0),1,FALSE)","v":{"$error":"#N/A"}},{"$f":"VLOOKUP(\"*\"&$N$3&\"*\",OFFSET(Sheet6!$B$2:$F$406,O97,0),5,FALSE)","v":{"$error":"#N/A"}}]
[null,null,null,null,null,null,null,null,null,null,null,null,96,{"$f":"VLOOKUP(\"*\"&$N$3&\"*\",OFFSET(Sheet6!$B$2:$F$439,O98,0),1,FALSE)","v":{"$error":"#N/A"}},{"$f":"VLOOKUP(\"*\"&$N$3&\"*\",OFFSET(Sheet6!$B$2:$F$406,O98,0),5,FALSE)","v":{"$error":"#N/A"}}]
[null,null,null,null,null,null,null,null,null,null,null,null,97,{"$f":"VLOOKUP(\"*\"&$N$3&\"*\",OFFSET(Sheet6!$B$2:$F$439,O99,0),1,FALSE)","v":{"$error":"#N/A"}},{"$f":"VLOOKUP(\"*\"&$N$3&\"*\",OFFSET(Sheet6!$B$2:$F$406,O99,0),5,FALSE)","v":{"$error":"#N/A"}}]
[null,null,null,null,null,null,null,null,null,null,null,null,98,{"$f":"VLOOKUP(\"*\"&$N$3&\"*\",OFFSET(Sheet6!$B$2:$F$439,O100,0),1,FALSE)","v":{"$error":"#N/A"}},{"$f":"VLOOKUP(\"*\"&$N$3&\"*\",OFFSET(Sheet6!$B$2:$F$406,O100,0),5,FALSE)","v":{"$error":"#N/A"}}]
[null,null,null,null,null,null,null,null,null,null,null,null,99,{"$f":"VLOOKUP(\"*\"&$N$3&\"*\",OFFSET(Sheet6!$B$2:$F$439,O101,0),1,FALSE)","v":{"$error":"#N/A"}},{"$f":"VLOOKUP(\"*\"&$N$3&\"*\",OFFSET(Sheet6!$B$2:$F$406,O101,0),5,FALSE)","v":{"$error":"#N/A"}}]
[null,null,null,null,null,null,null,null,null,null,null,null,100,{"$f":"VLOOKUP(\"*\"&$N$3&\"*\",OFFSET(Sheet6!$B$2:$F$439,O102,0),1,FALSE)","v":{"$error":"#N/A"}},{"$f":"VLOOKUP(\"*\"&$N$3&\"*\",OFFSET(Sheet6!$B$2:$F$406,O102,0),5,FALSE)","v":{"$error":"#N/A"}}]
[null,null,null,null,null,null,null,null,null,null,null,null,101,{"$f":"VLOOKUP(\"*\"&$N$3&\"*\",OFFSET(Sheet6!$B$2:$F$439,O103,0),1,FALSE)","v":{"$error":"#N/A"}},{"$f":"VLOOKUP(\"*\"&$N$3&\"*\",OFFSET(Sheet6!$B$2:$F$406,O103,0),5,FALSE)","v":{"$error":"#N/A"}}]

{"sheet":"②選手情報入力","index":3,"n_rows":238,"n_cols":51,"rows_kept":238,"cut":false,"hidden":false,"merged":[[4,18,4,22],[1,12,1,17],[5,20,5,22],[8,5,8,6],[12,19,12,20],[13,19,13,20],[14,19,14,20],[15,19,15,20],[16,19,16,20],[8,19,8,20],[9,19,9,20],[10,19,10,20],[11,19,11,20],[1,20,3,22],[22,19,22,20],[23,19,23,20],[24,19,24,20],[25,19,25,20],[26,19,26,20],[17,19,17,20],[18,19,18,20],[19,19,19,20],[20,19,20,20],[21,19,21,20],[32,19,32,20],[33,19,33,20],[34,19,34,20],[35,19,35,20],[36,19,36,20],[27,19,27,20],[28,19,28,20],[29,19,29,20],[30,19,30,20],[31,19,31,20],[42,19,42,20],[43,19,43,20],[44,19,44,20],[45,19,45,20],[46,19,46,20],[37,19,37,20],[38,19,38,20],[39,19,39,20],[40,19,40,20],[41,19,41,20],[52,19,52,20],[53,19,53,20],[54,19,54,20],[55,19,55,20],[56,19,56,20],[47,19,47,20],[48,19,48,20],[49,19,49,20],[50,19,50,20],[51,19,51,20],[62,19,62,20],[63,19,63,20],[64,19,64,20],[65,19,65,20],[66,19,66,20],[57,19,57,20],[58,19,58,20],[59,19,59,20],[60,19,60,20],[61,19,61,20],[72,19,72,20],[73,19,73,20],[74,19,74,20],[75,19,75,20],[76,19,76,20],[67,19,67,20],[68,19,68,20],[69,19,69,20],[70,19,70,20],[71,19,71,20],[90,19,90,20],[91,19,91,20],[82,19,82,20],[83,19,83,20],[84,19,84,20],[85,19,85,20],[86,19,86,20],[77,19,77,20],[78,19,78,20],[79,19,79,20],[80,19,80,20],[81,19,81,20],[97,19,97,20],[98,19,98,20],[99,19,99,20],[8,21,8,22],[9,21,9,22],[10,21,10,22],[11,21,11,22],[12,21,12,22],[13,21,13,22],[14,21,14,22],[15,21,15,22],[16,21,16,22],[17,21,17,22],[18,21,18,22],[19,21,19,22],[92,19,92,20],[93,19,93,20],[94,19,94,20],[95,19,95,20],[96,19,96,20],[87,19,87,20],[88,19,88,20],[89,19,89,20],[25,21,25,22],[26,21,26,22],[27,21,27,22],[28,21,28,22],[29,21,29,22],[20,21,20,22],[21,21,21,22],[22,21,22,22],[23,21,23,22],[24,21,24,22],[35,21,35,22],[36,21,36,22],[37,21,37,22],[38,21,38,22],[39,21,39,22],[30,21,30,22],[31,21,31,22],[32,21,32,22],[33,21,33,22],[34,21,34,22],[45,21,45,22],[46,21,46,22],[47,21,47,22],[48,21,48,22],[49,21,49,22],[40,21,40,22],[41,21,41,22],[42,21,42,22],[43,21,43,22],[44,21,44,22],[55,21,55,22],[56,21,56,22],[57,21,57,22],[58,21,58,22],[59,21,59,22],[50,21,50,22],[51,21,51,22],[52,21,52,22],[53,21,53,22],[54,21,54,22],[65,21,65,22],[66,21,66,22],[67,21,67,22],[68,21,68,22],[69,21,69,22],[60,21,60,22],[61,21,61,22],[62,21,62,22],[63,21,63,22],[64,21,64,22],[75,21,75,22],[76,21,76,22],[77,21,77,22],[78,21,78,22],[79,21,79,22],[70,21,70,22],[71,21,71,22],[72,21,72,22],[73,21,73,22],[74,21,74,22],[85,21,85,22],[86,21,86,22],[87,21,87,22],[88,21,88,22],[89,21,89,22],[80,21,80,22],[81,21,81,22],[82,21,82,22],[83,21,83,22],[84,21,84,22],[95,21,95,22],[96,21,96,22],[97,21,97,22],[98,21,98,22],[99,21,99,22],[90,21,90,22],[91,21,91,22],[92,21,92,22],[93,21,93,22],[94,21,94,22]]}
["③選手情報入力",null,null,null,null,{"$f":"IF(①団体情報入力!D6=\"\",\"\",①団体情報入力!D6)","v":""},null,null,null,null,null,null,null,null,null,null,null,null,null,null,null,null,null,null,null,null,null,null,null,null,null,null,null,null,null,null,null,null,null,null,null,null,null,null,null,null,null,null,null,null,"AND　アンドラ公国"]
[null,null,"絶対に、行を空けて入力しないでください。",null,null,null,null,null,null,null,null,null,"ドロップダウンは以下のように分けてあります。選択時にご注意ください。",null,null,null,null,null,null,null,"男女と種目に注意して入呂してください",null,null,null,null,null,null,null,null,null,null,null,null,null,null,null,null,null,null,null,null,null,null,null,null,null,null,null,null,null,"ARE　アラブ首長国連邦"]
[null,null,"※必要事項を全て入力してください。",null,null,null,null,null,null,null,null,null,"男子",null,null,null,null,"女子",null,null,null,null,null,null,null,null,null,null,null,null,null,null,null,null,null,null,null,null,null,null,null,null,null,null,null,null,null,null,null,null,"AFG　アフガニスタン・イスラム国"]
[null,null,"※リレー種目にエントリーをする場合は○を選択し、「③リレー情報確認」でメンバーを確認してください。",null,null,null,null,null,null,null,null,null,"  一般⬇","  一般高校⬇",null,null,null,"  一般高校⬇",null,null,null,null,null,null,null,null,null,null,null,null,null,null,null,null,null,null,null,null,null,null,null,null,null,null,null,null,null,null,null,null,"ATG　アンチグア・バーブーダ"]
[null,null,"※ナンバーを入力してもリレーメンバーが反映されない場合、ナンバーのセルが文字列になっています。",null,null,null,null,null,null,null,null,null,"  高校⬇",null,null,null,null,"  中学⬇","リレー記録",null,null,null,null,null,null,null,null,null,null,null,null,null,null,null,null,null,null,null,null,null,null,null,null,null,null,null,null,null,null,null,"AIA　アンギラ"]
[null,null,"※コピーしたデータを貼り付ける場合は、「形式を選択して貼り付け」から「値」で貼り付けてください。",null,null,null,null,null,null,null,null,null,"  中学⬇",null,null,null,null,null,null,null,"記録",null,null,null,null,null,null,null,null,null,null,null,null,null,null,null,null,null,null,null,null,null,null,null,null,null,null,null,null,null,"ALB　アルバニア共和国"]
[null,null,"※データを修正する場合は、必ず「Delete」キーを使用してください。",null,null,null,null,null,null,null,null,null,null,null,null,null,null,null,"男子➡",null,null,null,null,null,null,null,null,null,null,null,null,null,null,null,null,null,null,null,null,null,null,null,null,null,null,null,null,null,null,null,"ARM　アルメニア共和国"]
[null,null,null,null,null,null,null,null,null,null,null,null,null,null,null,null,null,null,"女子➡",null,null,null,null,null,null,null,null,null,null,null,null,null,null,null,null,null,null,null,null,null,null,null,null,null,null,null,null,null,null,null,"ANT　オランダ領アンチル"]
[null,"JAAF ID","ナンバー","氏　名\n姓と名の間に\n全角ｽﾍﾟｰｽ1つ","ﾌﾘｶﾞﾅ\n姓と名の間に\n半角ｽﾍﾟｰｽ1つ","英字名",null,"国籍","性別","学年","生年月日","種目１日目","記録１日目","OP2","種目２","記録２","OP3","種目２日目","記録２日目","4X100mR",null,"4X400mR",null,null,null,null,null,null,null,null,null,null,null,null,null,null,null,null,null,null,null,null,null,null,null,null,null,null,null,null,"AGO　アンゴラ共和国"]
["例",123456789,1234,"名古屋　太郎","ﾅｺﾞﾔ ﾀﾛｳ","英字(姓)NAGOYA","英字(名)taro","JPN 日本","男","高2",20000101,"男100m",12.53,null,"男砲丸投","12m00",null,"男1500m","4.35.67","○",null,"○",null,null,null,null,null,null,null,"ﾅﾝﾊﾞｰ","氏　名","ﾌﾘｶﾞﾅ","性別","学年","競技者NO","ﾅﾝﾊﾞｰ","氏　名","ﾌﾘｶﾞﾅ","性別","学年","競技者NO","男400R",{"$f":"COUNT(AQ11:AQ100)","v":0},"男1600R",{"$f":"COUNT(AS11:AS100)","v":0},"女400R",{"$f":"COUNT(AU11:AU100)","v":0},"女1600R",{"$f":"COUNT(AW11:AW100)","v":0},null,"ATA　南極"]
[1,null,null,null,null,null,null,null,null,null,null,null,null,null,null,null,null,null,null,null,null,null,null,null,null,null,null,null,null,{"$f":"IF(I11=\"男\",C11,\"\")","v":""},{"$f":"IF(I11=\"男\",D11,\"\")","v":""},{"$f":"IF(I11=\"男\",F11,\"\")","v":""},{"$f":"IF(I11=\"男\",I11,\"\")","v":""},{"$f":"IF(I11=\"男\",IF(J11=\"\",\"\",J11),\"\")","v":""},{"$f":"IF(I11=\"男\",data_kyogisha!A2,\"\")","v":""},{"$f":"IF(I11=\"女\",C11,\"\")","v":""},{"$f":"IF(I11=\"女\",D11,\"\")","v":""},{"$f":"IF(I11=\"女\",F11,\"\")","v":""},{"$f":"IF(I11=\"女\",I11,\"\")","v":""},{"$f":"IF(I11=\"女\",IF(J11=\"\",\"\",J11),\"\")","v":""},{"$f":"IF(I11=\"女\",data_kyogisha!A2,\"\")","v":""},{"$f":"IF(AND(I11=\"男\",T11=\"○\"),1,0)","v":0},{"$f":"IF(AND($I11=\"男\",$T11=\"○\"),$C11,\"\")","v":""},{"$f":"IF(AND(I11=\"男\",V11=\"○\"),1,0)","v":0},{"$f":"IF(AND($I11=\"男\",$V11=\"○\"),$C11,\"\")","v":""},{"$f":"IF(AND(I11=\"女\",T11=\"○\"),1,0)","v":0},{"$f":"IF(AND($I11=\"女\",$T11=\"○\"),$C11,\"\")","v":""},{"$f":"IF(AND(I11=\"女\",V11=\"○\"),1,0)","v":0},{"$f":"IF(AND($I11=\"女\",$V11=\"○\"),$C11,\"\")","v":""},null,"ARG　アルゼンチン共和国"]
[2,null,null,null,null,null,null,null,null,null,null,null,null,null,null,null,null,null,null,null,null,null,null,null,null,"男",{"$f":"IF(種目情報!A5=\"\",\"\",種目情報!A5)","v":"男中学１５０ｍ"},{"$f":"IF(種目情報!E5=\"\",\"\",種目情報!E5)","v":"女中学１５０ｍ"},"○","","","","","",{"$f":"IF(I12=\"男\",data_kyogisha!A3,\"\")","v":""},"","","","","",{"$f":"IF(I12=\"女\",data_kyogisha!A3,\"\")","v":""},{"$f":"IF(AND(I12=\"男\",T12=\"○\"),AP11+1,AP11)","v":0},{"$f":"IF(AND(I12=\"男\",T12=\"○\"),C12,\"\")","v":""},{"$f":"IF(AND(I12=\"男\",V12=\"○\"),AR11+1,AR11)","v":0},{"$f":"IF(AND(I12=\"男\",V12=\"○\"),C12,\"\")","v":""},{"$f":"IF(AND(I12=\"女\",T12=\"○\"),AT11+1,AT11)","v":0},"",{"$f":"IF(AND(I12=\"女\",V12=\"○\"),AV11+1,AV11)","v":0},"",null,"ASM　米領サモア"]
[3,null,null,null,null,null,null,null,null,null,null,null,null,null,null,null,null,null,null,null,null,null,null,null,null,"女",{"$f":"IF(種目情報!A6=\"\",\"\",種目情報!A6)","v":"男２００ｍ"},{"$f":"IF(種目情報!E6=\"\",\"\",種目情報!E6)","v":"女２００ｍ"},null,"","","","","",{"$f":"IF(I13=\"男\",data_kyogisha!A4,\"\")","v":""},"","","","","",{"$f":"IF(I13=\"女\",data_kyogisha!A4,\"\")","v":""},0,"",0,"",0,"",0,"",null,"AUT　オーストリア共和国"]
[4,null,null,null,null,null,null,null,null,null,null,null,null,null,null,null,null,null,null,null,null,null,null,null,null,null,{"$f":"IF(種目情報!A7=\"\",\"\",種目情報!A7)","v":"男４００ｍ"},{"$f":"IF(種目情報!E7=\"\",\"\",種目情報!E7)","v":"女４００ｍ"},null,"","","","","",{"$f":"IF(I14=\"男\",data_kyogisha!A5,\"\")","v":""},"","","","","",{"$f":"IF(I14=\"女\",data_kyogisha!A5,\"\")","v":""},0,"",0,"",0,"",0,"",null,"AUS　オーストラリア"]
[5,null,null,null,null,null,null,null,null,null,null,null,null,null,null,null,null,null,null,null,null,null,null,null,null,null,{"$f":"IF(種目情報!A8=\"\",\"\",種目情報!A8)","v":"男８００ｍ"},{"$f":"IF(種目情報!E8=\"\",\"\",種目情報!E8)","v":"女８００ｍ"},null,"","","","","",{"$f":"IF(I15=\"男\",data_kyogisha!A6,\"\")","v":""},"","","","","",{"$f":"IF(I15=\"女\",data_kyogisha!A6,\"\")","v":""},0,"",0,"",0,"",0,"",null,"ABW　アルバ"]
[6,null,null,null,null,null,null,null,null,null,null,null,null,null,null,null,null,null,null,null,null,null,null,null,null,null,{"$f":"IF(種目情報!A9=\"\",\"\",種目情報!A9)","v":"男1500m"},{"$f":"IF(種目情報!E9=\"\",\"\",種目情報!E9)","v":"女1500m"},null,"","","","","",{"$f":"IF(I16=\"男\",data_kyogisha!A7,\"\")","v":""},"","","","","",{"$f":"IF(I16=\"女\",data_kyogisha!A7,\"\")","v":""},0,"",0,"",0,"",0,"",null,"AZE　アゼルバイジャン共和国"]
[7,null,null,null,null,null,null,null,null,null,null,null,null,null,null,null,null,null,null,null,null,null,null,null,null,"中１",{"$f":"IF(種目情報!A10=\"\",\"\",種目情報!A10)","v":"男中学110mH(0,914m)"},{"$f":"IF(種目情報!E10=\"\",\"\",種目情報!E10)","v":"女中学100mH(0.762m)"},null,"","","","","",{"$f":"IF(I17=\"男\",data_kyogisha!A8,\"\")","v":""},"","","","","",{"$f":"IF(I17=\"女\",data_kyogisha!A8,\"\")","v":""},0,"",0,"",0,"",0,"",null,"BIH　(ボスニア・ヘルツェゴビナ共和国)"]
[8,null,null,null,null,null,null,null,null,null,null,null,null,null,null,null,null,null,null,null,null,null,null,null,null,"中２",{"$f":"IF(種目情報!A11=\"\",\"\",種目情報!A11)","v":"男110mH(0.991m)"},{"$f":"IF(種目情報!E11=\"\",\"\",種目情報!E11)","v":"女100mH(0.762m/8.5m)"},null,"","","","","",{"$f":"IF(I18=\"男\",data_kyogisha!A9,\"\")","v":""},"","","","","",{"$f":"IF(I18=\"女\",data_kyogisha!A9,\"\")","v":""},0,"",0,"",0,"",0,"",null,"BRB　バルバドス"]
[9,null,null,null,null,null,null,null,null,null,null,null,null,null,null,null,null,null,null,null,null,null,null,null,null,"中３",{"$f":"IF(種目情報!A12=\"\",\"\",種目情報!A12)","v":"男110mH(1.067m)"},{"$f":"IF(種目情報!E12=\"\",\"\",種目情報!E12)","v":"女100mH(0.838m)"},null,"","","","","",{"$f":"IF(I19=\"男\",data_kyogisha!A10,\"\")","v":""},"","","","","",{"$f":"IF(I19=\"女\",data_kyogisha!A10,\"\")","v":""},0,"",0,"",0,"",0,"",null,"BGD　バングラデシュ人民共和国"]
[10,null,null,null,null,null,null,null,null,null,null,null,null,null,null,null,null,null,null,null,null,null,null,null,null,"高１",{"$f":"IF(種目情報!A13=\"\",\"\",種目情報!A13)","v":"男400mH(0.914m)"},{"$f":"IF(種目情報!E13=\"\",\"\",種目情報!E13)","v":"女400mH(0.762m)"},null,"","","","","",{"$f":"IF(I20=\"男\",data_kyogisha!A11,\"\")","v":""},"","","","","",{"$f":"IF(I20=\"女\",data_kyogisha!A11,\"\")","v":""},0,"",0,"",0,"",0,"",null,"BEL　ベルギー王国"]
[11,null,null,null,null,null,null,null,null,null,null,null,null,null,null,null,null,null,null,null,null,null,null,null,null,"高２",{"$f":"IF(種目情報!A14=\"\",\"\",種目情報!A14)","v":"男選手権5000mW"},{"$f":"IF(種目情報!E14=\"\",\"\",種目情報!E14)","v":"女選手権5000mW"},null,"","","","","",{"$f":"IF(I21=\"男\",data_kyogisha!A12,\"\")","v":""},"","","","","",{"$f":"IF(I21=\"女\",data_kyogisha!A12,\"\")","v":""},0,"",0,"",0,"",0,"",null,"BFA　ブルキナファソ"]
[12,null,null,null,null,null,null,null,null,null,null,null,null,null,null,null,null,null,null,null,null,null,null,null,null,"高３",{"$f":"IF(種目情報!A15=\"\",\"\",種目情報!A15)","v":"男選手権10000m"},{"$f":"IF(種目情報!E15=\"\",\"\",種目情報!E15)","v":"女走高跳"},null,"","","","","",{"$f":"IF(I22=\"男\",data_kyogisha!A13,\"\")","v":""},"","","","","",{"$f":"IF(I22=\"女\",data_kyogisha!A13,\"\")","v":""},0,"",0,"",0,"",0,"",null,"BGR　ブルガリア共和国"]
[13,null,null,null,null,null,null,null,null,null,null,null,null,null,null,null,null,null,null,null,null,null,null,null,null,"高４",{"$f":"IF(種目情報!A16=\"\",\"\",種目情報!A16)","v":"男走高跳"},{"$f":"IF(種目情報!E16=\"\",\"\",種目情報!E16)","v":"女棒高跳"},null,"","","","","",{"$f":"IF(I23=\"男\",data_kyogisha!A14,\"\")","v":""},"","","","","",{"$f":"IF(I23=\"女\",data_kyogisha!A14,\"\")","v":""},0,"",0,"",0,"",0,"",null,"BHR　バーレーン国"]
[14,null,null,null,null,null,null,null,null,null,null,null,null,null,null,null,null,null,null,null,null,null,null,null,null,"大１",{"$f":"IF(種目情報!A17=\"\",\"\",種目情報!A17)","v":"男棒高跳"},{"$f":"IF(種目情報!E17=\"\",\"\",種目情報!E17)","v":"女走幅跳"},null,"","","","","",{"$f":"IF(I24=\"男\",data_kyogisha!A15,\"\")","v":""},"","","","","",{"$f":"IF(I24=\"女\",data_kyogisha!A15,\"\")","v":""},0,"",0,"",0,"",0,"",null,"BDI　ブルンジ共和国"]
[15,null,null,null,null,null,null,null,null,null,null,null,null,null,null,null,null,null,null,null,null,null,null,null,null,"大２",{"$f":"IF(種目情報!A18=\"\",\"\",種目情報!A18)","v":"男走幅跳"},{"$f":"IF(種目情報!E18=\"\",\"\",種目情報!E18)","v":"女三段跳"},null,"","","","","",{"$f":"IF(I25=\"男\",data_kyogisha!A16,\"\")","v":""},"","","","","",{"$f":"IF(I25=\"女\",data_kyogisha!A16,\"\")","v":""},0,"",0,"",0,"",0,"",null,"BEN　ベナン共和国"]
[16,null,null,null,null,null,null,null,null,null,null,null,null,null,null,null,null,null,null,null,null,null,null,null,null,"大３",{"$f":"IF(種目情報!A19=\"\",\"\",種目情報!A19)","v":"男三段跳"},{"$f":"IF(種目情報!E19=\"\",\"\",種目情報!E19)","v":"女砲丸投(4.000kg)"},null,"","","","","",{"$f":"IF(I26=\"男\",data_kyogisha!A17,\"\")","v":""},"","","","","",{"$f":"IF(I26=\"女\",data_kyogisha!A17,\"\")","v":""},0,"",0,"",0,"",0,"",null,"BMU　バーミューダ諸島"]
[17,null,null,null,null,null,null,null,null,null,null,null,null,null,null,null,null,null,null,null,null,null,null,null,null,"大４",{"$f":"IF(種目情報!A20=\"\",\"\",種目情報!A20)","v":"男砲丸投(7.260kg)"},{"$f":"IF(種目情報!E20=\"\",\"\",種目情報!E20)","v":"女中学砲丸投(2.721kg)"},null,"","","","","",{"$f":"IF(I27=\"男\",data_kyogisha!A18,\"\")","v":""},"","","","","",{"$f":"IF(I27=\"女\",data_kyogisha!A18,\"\")","v":""},0,"",0,"",0,"",0,"",null,"BRN　ブルネイ・ダルサラーム国"]
[18,null,null,null,null,null,null,null,null,null,null,null,null,null,null,null,null,null,null,null,null,null,null,null,null,"大５",{"$f":"IF(種目情報!A21=\"\",\"\",種目情報!A21)","v":"男高校砲丸投(6.000kg)"},{"$f":"IF(種目情報!E21=\"\",\"\",種目情報!E21)","v":"女円盤投(1.000kg)"},null,"","","","","",{"$f":"IF(I28=\"男\",data_kyogisha!A19,\"\")","v":""},"","","","","",{"$f":"IF(I28=\"女\",data_kyogisha!A19,\"\")","v":""},0,"",0,"",0,"",0,"",null,"BOL　ボリビア共和国"]
[19,null,null,null,null,null,null,null,null,null,null,null,null,null,null,null,null,null,null,null,null,null,null,null,null,"大６",{"$f":"IF(種目情報!A22=\"\",\"\",種目情報!A22)","v":"男中学砲丸投(5.000kg)"},{"$f":"IF(種目情報!E22=\"\",\"\",種目情報!E22)","v":"女ハンマー投(4.000kg)"},null,"","","","","",{"$f":"IF(I29=\"男\",data_kyogisha!A20,\"\")","v":""},"","","","","",{"$f":"IF(I29=\"女\",data_kyogisha!A20,\"\")","v":""},0,"",0,"",0,"",0,"",null,"BRA　ブラジル連邦共和国"]
[20,null,null,null,null,null,null,null,null,null,null,null,null,null,null,null,null,null,null,null,null,null,null,null,null,"Ｍ１",{"$f":"IF(種目情報!A23=\"\",\"\",種目情報!A23)","v":"男円盤投(2.000kg)"},{"$f":"IF(種目情報!E23=\"\",\"\",種目情報!E23)","v":"女やり投(0.600kg)"},null,"","","","","",{"$f":"IF(I30=\"男\",data_kyogisha!A21,\"\")","v":""},"","","","","",{"$f":"IF(I30=\"女\",data_kyogisha!A21,\"\")","v":""},0,"",0,"",0,"",0,"",null,"BHS　バハマ国"]
[21,null,null,null,null,null,null,null,null,null,null,null,null,null,null,null,null,null,null,null,null,null,null,null,null,"Ｍ２",{"$f":"IF(種目情報!A24=\"\",\"\",種目情報!A24)","v":"男高校円盤投(1.750kg)"},null,null,"","","","","",{"$f":"IF(I31=\"男\",data_kyogisha!A22,\"\")","v":""},"","","","","",{"$f":"IF(I31=\"女\",data_kyogisha!A22,\"\")","v":""},0,"",0,"",0,"",0,"",null,"BTN　ブータン王国"]
[22,null,null,null,null,null,null,null,null,null,null,null,null,null,null,null,null,null,null,null,null,null,null,null,null,"Ｄ１",{"$f":"IF(種目情報!A25=\"\",\"\",種目情報!A25)","v":"男中学円盤投(1.500kg)"},{"$f":"IF(種目情報!E25=\"\",\"\",種目情報!E25)","v":"一般･高校(１日目）　⬇"},null,"","","","","",{"$f":"IF(I32=\"男\",data_kyogisha!A23,\"\")","v":""},"","","","","",{"$f":"IF(I32=\"女\",data_kyogisha!A23,\"\")","v":""},0,"",0,"",0,"",0,"",null,"BVT　ブーベ島"]
[23,null,null,null,null,null,null,null,null,null,null,null,null,null,null,null,null,null,null,null,null,null,null,null,null,"Ｄ２",{"$f":"IF(種目情報!A26=\"\",\"\",種目情報!A26)","v":"男ハンマー投(7.260kg)"},{"$f":"IF(種目情報!E26=\"\",\"\",種目情報!E26)","v":"女２００ｍ"},null,"","","","","",{"$f":"IF(I33=\"男\",data_kyogisha!A24,\"\")","v":""},"","","","","",{"$f":"IF(I33=\"女\",data_kyogisha!A24,\"\")","v":""},0,"",0,"",0,"",0,"",null,"BWA　ボツワナ共和国"]
[24,null,null,null,null,null,null,null,null,null,null,null,null,null,null,null,null,null,null,null,null,null,null,null,null,"Ｄ３",{"$f":"IF(種目情報!A27=\"\",\"\",種目情報!A27)","v":"男高校ハンマー投(6.000kg)"},{"$f":"IF(種目情報!E27=\"\",\"\",種目情報!E27)","v":"女８００ｍ"},null,"","","","","",{"$f":"IF(I34=\"男\",data_kyogisha!A25,\"\")","v":""},"","","","","",{"$f":"IF(I34=\"女\",data_kyogisha!A25,\"\")","v":""},0,"",0,"",0,"",0,"",null,"BLR　ベラルーシ共和国"]
[25,null,null,null,null,null,null,null,null,null,null,null,null,null,null,null,null,null,null,null,null,null,null,null,null,"Ｄ４",{"$f":"IF(種目情報!A28=\"\",\"\",種目情報!A28)","v":"男やり投(0.800kg)"},{"$f":"IF(種目情報!E28=\"\",\"\",種目情報!E28)","v":"女100mYH(0.762m/8.5m)"},null,"","","","","",{"$f":"IF(I35=\"男\",data_kyogisha!A26,\"\")","v":""},"","","","","",{"$f":"IF(I35=\"女\",data_kyogisha!A26,\"\")","v":""},0,"",0,"",0,"",0,"",null,"BLZ　ベリーズ"]
[26,null,null,null,null,null,null,null,null,null,null,null,null,null,null,null,null,null,null,null,null,null,null,null,null,null,null,{"$f":"IF(種目情報!E29=\"\",\"\",種目情報!E29)","v":"女100mH (0.838m)"},null,"","","","","",{"$f":"IF(I36=\"男\",data_kyogisha!A27,\"\")","v":""},"","","","","",{"$f":"IF(I36=\"女\",data_kyogisha!A27,\"\")","v":""},0,"",0,"",0,"",0,"",null,"CAN　カナダ"]
[27,null,null,null,null,null,null,null,null,null,null,null,null,null,null,null,null,null,null,null,null,null,null,null,null,null,{"$f":"IF(種目情報!A30=\"\",\"\",種目情報!A30)","v":"一般(１日目）　⬇"},{"$f":"IF(種目情報!E30=\"\",\"\",種目情報!E30)","v":"女選手権5000mW"},null,"","","","","",{"$f":"IF(I37=\"男\",data_kyogisha!A28,\"\")","v":""},"","","","","",{"$f":"IF(I37=\"女\",data_kyogisha!A28,\"\")","v":""},0,"",0,"",0,"",0,"",null,"CCK　ココス諸島"]
[28,null,null,null,null,null,null,null,null,null,null,null,null,null,null,null,null,null,null,null,null,null,null,null,null,null,{"$f":"IF(種目情報!A31=\"\",\"\",種目情報!A31)","v":"男２００ｍ"},{"$f":"IF(種目情報!E31=\"\",\"\",種目情報!E31)","v":"女棒高跳"},null,"","","","","",{"$f":"IF(I38=\"男\",data_kyogisha!A29,\"\")","v":""},"","","","","",{"$f":"IF(I38=\"女\",data_kyogisha!A29,\"\")","v":""},0,"",0,"",0,"",0,"",null,"CAF　中央アフリカ共和国"]
[29,null,null,null,null,null,null,null,null,null,null,null,null,null,null,null,null,null,null,null,null,null,null,null,null,null,{"$f":"IF(種目情報!A32=\"\",\"\",種目情報!A32)","v":"男８００ｍ"},{"$f":"IF(種目情報!E32=\"\",\"\",種目情報!E32)","v":"女走幅跳"},null,"","","","","",{"$f":"IF(I39=\"男\",data_kyogisha!A30,\"\")","v":""},"","","","","",{"$f":"IF(I39=\"女\",data_kyogisha!A30,\"\")","v":""},0,"",0,"",0,"",0,"",null,"COG　コンゴ共和国"]
[30,null,null,null,null,null,null,null,null,null,null,null,null,null,null,null,null,null,null,null,null,null,null,null,null,null,{"$f":"IF(種目情報!A33=\"\",\"\",種目情報!A33)","v":"男110mH(0.991m)"},{"$f":"IF(種目情報!E33=\"\",\"\",種目情報!E33)","v":"女円盤投(1.000kg)"},null,"","","","","",{"$f":"IF(I40=\"男\",data_kyogisha!A31,\"\")","v":""},"","","","","",{"$f":"IF(I40=\"女\",data_kyogisha!A31,\"\")","v":""},0,"",0,"",0,"",0,"",null,"CHE　スイス連邦"]
[31,null,null,null,null,null,null,null,null,null,null,null,null,null,null,null,null,null,null,null,null,null,null,null,null,null,{"$f":"IF(種目情報!A34=\"\",\"\",種目情報!A34)","v":"男110mH(1.067m)"},{"$f":"IF(種目情報!E34=\"\",\"\",種目情報!E34)","v":"女ハンマー投(4.000kg)"},null,"","","","","",{"$f":"IF(I41=\"男\",data_kyogisha!A32,\"\")","v":""},"","","","","",{"$f":"IF(I41=\"女\",data_kyogisha!A32,\"\")","v":""},0,"",0,"",0,"",0,"",null,"CIV　コートジボアール共和国"]
[32,null,null,null,null,null,null,null,null,null,null,null,null,null,null,null,null,null,null,null,null,null,null,null,null,null,{"$f":"IF(種目情報!A35=\"\",\"\",種目情報!A35)","v":"男選手権5000mW"},null,null,"","","","","",{"$f":"IF(I42=\"男\",data_kyogisha!A33,\"\")","v":""},"","","","","",{"$f":"IF(I42=\"女\",data_kyogisha!A33,\"\")","v":""},0,"",0,"",0,"",0,"",null,"COK　クック諸島"]
[33,null,null,null,null,null,null,null,null,null,null,null,null,null,null,null,null,null,null,null,null,null,null,null,null,null,{"$f":"IF(種目情報!A36=\"\",\"\",種目情報!A36)","v":"男棒高跳"},{"$f":"IF(種目情報!E36=\"\",\"\",種目情報!E36)","v":"中学（１日目）　⬇"},null,{"$f":"IF(I43=\"男\",C43,\"\")","v":""},{"$f":"IF(I43=\"男\",D43,\"\")","v":""},{"$f":"IF(I43=\"男\",F43,\"\")","v":""},{"$f":"IF(I43=\"男\",I43,\"\")","v":""},{"$f":"IF(I43=\"男\",IF(J43=\"\",\"\",J43),\"\")","v":""},{"$f":"IF(I43=\"男\",data_kyogisha!A34,\"\")","v":""},{"$f":"IF(I43=\"女\",C43,\"\")","v":""},{"$f":"IF(I43=\"女\",D43,\"\")","v":""},{"$f":"IF(I43=\"女\",F43,\"\")","v":""},{"$f":"IF(I43=\"女\",I43,\"\")","v":""},{"$f":"IF(I43=\"女\",IF(J43=\"\",\"\",J43),\"\")","v":""},{"$f":"IF(I43=\"女\",data_kyogisha!A34,\"\")","v":""},0,"",0,"",0,{"$f":"IF(AND($I43=\"女\",$T43=\"○\"),$C43,\"\")","v":""},0,{"$f":"IF(AND($I43=\"女\",$V43=\"○\"),$C43,\"\")","v":""},null,"CHL　チリ共和国"]
[34,null,null,null,null,null,null,null,null,null,null,null,null,null,null,null,null,null,null,null,null,null,null,null,null,null,{"$f":"IF(種目情報!A37=\"\",\"\",種目情報!A37)","v":"男三段跳"},{"$f":"IF(種目情報!E37=\"\",\"\",種目情報!E37)","v":"女中学１５０ｍ"},null,"","","","","",{"$f":"IF(I44=\"男\",data_kyogisha!A35,\"\")","v":""},"","","","","",{"$f":"IF(I44=\"女\",data_kyogisha!A35,\"\")","v":""},{"$f":"IF(AND(I44=\"男\",T44=\"○\"),AP43+1,AP43)","v":0},{"$f":"IF(AND(I44=\"男\",T44=\"○\"),C44,\"\")","v":""},{"$f":"IF(AND(I44=\"男\",V44=\"○\"),AR43+1,AR43)","v":0},{"$f":"IF(AND(I44=\"男\",V44=\"○\"),C44,\"\")","v":""},{"$f":"IF(AND(I44=\"女\",T44=\"○\"),AT43+1,AT43)","v":0},"",{"$f":"IF(AND(I44=\"女\",V44=\"○\"),AV43+1,AV43)","v":0},"",null,"CMR　カメルーン共和国"]
[35,null,null,null,null,null,null,null,null,null,null,null,null,null,null,null,null,null,null,null,null,null,null,null,null,null,{"$f":"IF(種目情報!A38=\"\",\"\",種目情報!A38)","v":"男円盤投(2.000kg)"},{"$f":"IF(種目情報!E38=\"\",\"\",種目情報!E38)","v":"女８００ｍ"},null,"","","","","",{"$f":"IF(I45=\"男\",data_kyogisha!A36,\"\")","v":""},"","","","","",{"$f":"IF(I45=\"女\",data_kyogisha!A36,\"\")","v":""},0,"",0,"",0,"",0,"",null,"CHN　中華人民共和国"]
[36,null,null,null,null,null,null,null,null,null,null,null,null,null,null,null,null,null,null,null,null,null,null,null,null,null,{"$f":"IF(種目情報!A39=\"\",\"\",種目情報!A39)","v":"男ハンマー投(7.260kg)"},{"$f":"IF(種目情報!E39=\"\",\"\",種目情報!E39)","v":"女中学100mH(0.762m)"},null,"","","","","",{"$f":"IF(I46=\"男\",data_kyogisha!A37,\"\")","v":""},"","","","","",{"$f":"IF(I46=\"女\",data_kyogisha!A37,\"\")","v":""},0,"",0,"",0,"",0,"",null,"COL　コロンビア共和国"]
[37,null,null,null,null,null,null,null,null,null,null,null,null,null,null,null,null,null,null,null,null,null,null,null,null,null,null,{"$f":"IF(種目情報!E40=\"\",\"\",種目情報!E40)","v":"女100mH(0.762m/8.5m)"},null,"","","","","",{"$f":"IF(I47=\"男\",data_kyogisha!A38,\"\")","v":""},"","","","","",{"$f":"IF(I47=\"女\",data_kyogisha!A38,\"\")","v":""},0,"",0,"",0,"",0,"",null,"CRI　コスタリカ共和国"]
[38,null,null,null,null,null,null,null,null,null,null,null,null,null,null,null,null,null,null,null,null,null,null,null,null,null,{"$f":"IF(種目情報!A41=\"\",\"\",種目情報!A41)","v":"高校（１日目）　⬇"},{"$f":"IF(種目情報!E41=\"\",\"\",種目情報!E41)","v":"女棒高跳"},null,"","","","","",{"$f":"IF(I48=\"男\",data_kyogisha!A39,\"\")","v":""},"","","","","",{"$f":"IF(I48=\"女\",data_kyogisha!A39,\"\")","v":""},0,"",0,"",0,"",0,"",null,"CUB　キューバ共和国"]
[39,null,null,null,null,null,null,null,null,null,null,null,null,null,null,null,null,null,null,null,null,null,null,null,null,null,{"$f":"IF(種目情報!A42=\"\",\"\",種目情報!A42)","v":"男２００ｍ"},{"$f":"IF(種目情報!E42=\"\",\"\",種目情報!E42)","v":"女走幅跳"},null,"","","","","",{"$f":"IF(I49=\"男\",data_kyogisha!A40,\"\")","v":""},"","","","","",{"$f":"IF(I49=\"女\",data_kyogisha!A40,\"\")","v":""},0,"",0,"",0,"",0,"",null,"CPV　カーボベルデ共和国"]
[40,null,null,null,null,null,null,null,null,null,null,null,null,null,null,null,null,null,null,null,null,null,null,null,null,null,{"$f":"IF(種目情報!A43=\"\",\"\",種目情報!A43)","v":"男８００ｍ"},{"$f":"IF(種目情報!E43=\"\",\"\",種目情報!E43)","v":"女円盤投(1.000kg)"},null,"","","","","",{"$f":"IF(I50=\"男\",data_kyogisha!A41,\"\")","v":""},"","","","","",{"$f":"IF(I50=\"女\",data_kyogisha!A41,\"\")","v":""},0,"",0,"",0,"",0,"",null,"CXR　クリスマス島"]
[41,null,null,null,null,null,null,null,null,null,null,null,null,null,null,null,null,null,null,null,null,null,null,null,null,null,{"$f":"IF(種目情報!A44=\"\",\"\",種目情報!A44)","v":"男110mH(0.991m)"},null,null,"","","","","",{"$f":"IF(I51=\"男\",data_kyogisha!A42,\"\")","v":""},"","","","","",{"$f":"IF(I51=\"女\",data_kyogisha!A42,\"\")","v":""},0,"",0,"",0,"",0,"",null,"CYP　キプロス共和国"]
[42,null,null,null,null,null,null,null,null,null,null,null,null,null,null,null,null,null,null,null,null,null,null,null,null,null,{"$f":"IF(種目情報!A45=\"\",\"\",種目情報!A45)","v":"男110mH(1.067m)"},{"$f":"IF(種目情報!E45=\"\",\"\",種目情報!E45)","v":"一般･高校(2日目）　⬇"},null,"","","","","",{"$f":"IF(I52=\"男\",data_kyogisha!A43,\"\")","v":""},"","","","","",{"$f":"IF(I52=\"女\",data_kyogisha!A43,\"\")","v":""},0,"",0,"",0,"",0,"",null,"CZE　チェコ共和国"]
[43,null,null,null,null,null,null,null,null,null,null,null,null,null,null,null,null,null,null,null,null,null,null,null,null,null,{"$f":"IF(種目情報!A46=\"\",\"\",種目情報!A46)","v":"男選手権5000mW"},{"$f":"IF(種目情報!E46=\"\",\"\",種目情報!E46)","v":"女４００ｍ"},null,"","","","","",{"$f":"IF(I53=\"男\",data_kyogisha!A44,\"\")","v":""},"","","","","",{"$f":"IF(I53=\"女\",data_kyogisha!A44,\"\")","v":""},0,"",0,"",0,"",0,"",null,"DEU　ドイツ連邦共和国"]
[44,null,null,null,null,null,null,null,null,null,null,null,null,null,null,null,null,null,null,null,null,null,null,null,null,null,{"$f":"IF(種目情報!A47=\"\",\"\",種目情報!A47)","v":"男棒高跳"},{"$f":"IF(種目情報!E47=\"\",\"\",種目情報!E47)","v":"女1500m"},null,"","","","","",{"$f":"IF(I54=\"男\",data_kyogisha!A45,\"\")","v":""},"","","","","",{"$f":"IF(I54=\"女\",data_kyogisha!A45,\"\")","v":""},0,"",0,"",0,"",0,"",null,"DJI　ジブチ共和国"]
[45,null,null,null,null,null,null,null,null,null,null,null,null,null,null,null,null,null,null,null,null,null,null,null,null,null,{"$f":"IF(種目情報!A48=\"\",\"\",種目情報!A48)","v":"男三段跳"},{"$f":"IF(種目情報!E48=\"\",\"\",種目情報!E48)","v":"女400mH(0.762m)"},null,"","","","","",{"$f":"IF(I55=\"男\",data_kyogisha!A46,\"\")","v":""},"","","","","",{"$f":"IF(I55=\"女\",data_kyogisha!A46,\"\")","v":""},0,"",0,"",0,"",0,"",null,"DNK　デンマーク王国"]
[46,null,null,null,null,null,null,null,null,null,null,null,null,null,null,null,null,null,null,null,null,null,null,null,null,null,{"$f":"IF(種目情報!A49=\"\",\"\",種目情報!A49)","v":"男高校円盤投(1.750kg)"},{"$f":"IF(種目情報!E49=\"\",\"\",種目情報!E49)","v":"女走高跳"},null,"","","","","",{"$f":"IF(I56=\"男\",data_kyogisha!A47,\"\")","v":""},"","","","","",{"$f":"IF(I56=\"女\",data_kyogisha!A47,\"\")","v":""},0,"",0,"",0,"",0,"",null,"DMA　ドミニカ国"]
[47,null,null,null,null,null,null,null,null,null,null,null,null,null,null,null,null,null,null,null,null,null,null,null,null,null,{"$f":"IF(種目情報!A50=\"\",\"\",種目情報!A50)","v":"男高校ハンマー投(6.000kg)"},{"$f":"IF(種目情報!E50=\"\",\"\",種目情報!E50)","v":"女三段跳"},null,"","","","","",{"$f":"IF(I57=\"男\",data_kyogisha!A48,\"\")","v":""},"","","","","",{"$f":"IF(I57=\"女\",data_kyogisha!A48,\"\")","v":""},0,"",0,"",0,"",0,"",null,"DOM　ドミニカ共和国"]
[48,null,null,null,null,null,null,null,null,null,null,null,null,null,null,null,null,null,null,null,null,null,null,null,null,null,null,{"$f":"IF(種目情報!E51=\"\",\"\",種目情報!E51)","v":"女砲丸投(4.000kg)"},null,"","","","","",{"$f":"IF(I58=\"男\",data_kyogisha!A49,\"\")","v":""},"","","","","",{"$f":"IF(I58=\"女\",data_kyogisha!A49,\"\")","v":""},0,"",0,"",0,"",0,"",null,"DZA　アルジェリア民主人民共和国"]
[49,null,null,null,null,null,null,null,null,null,null,null,null,null,null,null,null,null,null,null,null,null,null,null,null,null,{"$f":"IF(種目情報!A52=\"\",\"\",種目情報!A52)","v":"中学（１日目）　⬇"},{"$f":"IF(種目情報!E52=\"\",\"\",種目情報!E52)","v":"女やり投(0.600kg)"},null,"","","","","",{"$f":"IF(I59=\"男\",data_kyogisha!A50,\"\")","v":""},"","","","","",{"$f":"IF(I59=\"女\",data_kyogisha!A50,\"\")","v":""},0,"",0,"",0,"",0,"",null,"ECU　エクアドル共和国"]
[50,null,null,null,null,null,null,null,null,null,null,null,null,null,null,null,null,null,null,null,null,null,null,null,null,null,{"$f":"IF(種目情報!A53=\"\",\"\",種目情報!A53)","v":"中男１５０ｍ"},null,null,"","","","","",{"$f":"IF(I60=\"男\",data_kyogisha!A51,\"\")","v":""},"","","","","",{"$f":"IF(I60=\"女\",data_kyogisha!A51,\"\")","v":""},0,"",0,"",0,"",0,"",null,"EST　エストニア共和国"]
[51,null,null,null,null,null,null,null,null,null,null,null,null,null,null,null,null,null,null,null,null,null,null,null,null,null,{"$f":"IF(種目情報!A54=\"\",\"\",種目情報!A54)","v":"男８００ｍ"},{"$f":"IF(種目情報!E54=\"\",\"\",種目情報!E54)","v":"中学（２日目）　⬇"},null,"","","","","",{"$f":"IF(I61=\"男\",data_kyogisha!A52,\"\")","v":""},"","","","","",{"$f":"IF(I61=\"女\",data_kyogisha!A52,\"\")","v":""},0,"",0,"",0,"",0,"",null,"EGY　エジプト・アラブ共和国"]
[52,null,null,null,null,null,null,null,null,null,null,null,null,null,null,null,null,null,null,null,null,null,null,null,null,null,{"$f":"IF(種目情報!A55=\"\",\"\",種目情報!A55)","v":"男中学110mH(0,914m)"},{"$f":"IF(種目情報!E55=\"\",\"\",種目情報!E55)","v":"女４００ｍ"},null,"","","","","",{"$f":"IF(I62=\"男\",data_kyogisha!A53,\"\")","v":""},"","","","","",{"$f":"IF(I62=\"女\",data_kyogisha!A53,\"\")","v":""},0,"",0,"",0,"",0,"",null,"ESH　西サハラ"]
[53,null,null,null,null,null,null,null,null,null,null,null,null,null,null,null,null,null,null,null,null,null,null,null,null,null,{"$f":"IF(種目情報!A56=\"\",\"\",種目情報!A56)","v":"男110mH(0.991m)"},{"$f":"IF(種目情報!E56=\"\",\"\",種目情報!E56)","v":"女1500m"},null,"","","","","",{"$f":"IF(I63=\"男\",data_kyogisha!A54,\"\")","v":""},"","","","","",{"$f":"IF(I63=\"女\",data_kyogisha!A54,\"\")","v":""},0,"",0,"",0,"",0,"",null,"ERI　エリトリア"]
[54,null,null,null,null,null,null,null,null,null,null,null,null,null,null,null,null,null,null,null,null,null,null,null,null,null,{"$f":"IF(種目情報!A57=\"\",\"\",種目情報!A57)","v":"男棒高跳"},{"$f":"IF(種目情報!E57=\"\",\"\",種目情報!E57)","v":"女走高跳"},null,"","","","","",{"$f":"IF(I64=\"男\",data_kyogisha!A55,\"\")","v":""},"","","","","",{"$f":"IF(I64=\"女\",data_kyogisha!A55,\"\")","v":""},0,"",0,"",0,"",0,"",null,"ESP　スペイン"]
[55,null,null,null,null,null,null,null,null,null,null,null,null,null,null,null,null,null,null,null,null,null,null,null,null,null,{"$f":"IF(種目情報!A58=\"\",\"\",種目情報!A58)","v":"男三段跳"},{"$f":"IF(種目情報!E58=\"\",\"\",種目情報!E58)","v":"女三段跳"},null,"","","","","",{"$f":"IF(I65=\"男\",data_kyogisha!A56,\"\")","v":""},"","","","","",{"$f":"IF(I65=\"女\",data_kyogisha!A56,\"\")","v":""},0,"",0,"",0,"",0,"",null,"ETH　エチオピア"]
[56,null,null,null,null,null,null,null,null,null,null,null,null,null,null,null,null,null,null,null,null,null,null,null,null,null,{"$f":"IF(種目情報!A59=\"\",\"\",種目情報!A59)","v":"男中学円盤投(1.500kg)"},{"$f":"IF(種目情報!E59=\"\",\"\",種目情報!E59)","v":"女中学砲丸投(2.721kg)"},null,"","","","","",{"$f":"IF(I66=\"男\",data_kyogisha!A57,\"\")","v":""},"","","","","",{"$f":"IF(I66=\"女\",data_kyogisha!A57,\"\")","v":""},0,"",0,"",0,"",0,"",null,"FIN　フィンランド共和国"]
[57,null,null,null,null,null,null,null,null,null,null,null,null,null,null,null,null,null,null,null,null,null,null,null,null,null,null,null,null,"","","","","",{"$f":"IF(I67=\"男\",data_kyogisha!A58,\"\")","v":""},"","","","","",{"$f":"IF(I67=\"女\",data_kyogisha!A58,\"\")","v":""},0,"",0,"",0,"",0,"",null,"FJI　フィジー共和国"]
[58,null,null,null,null,null,null,null,null,null,null,null,null,null,null,null,null,null,null,null,null,null,null,null,null,null,{"$f":"IF(種目情報!A61=\"\",\"\",種目情報!A61)","v":"一般(２日目）　⬇"},{"$f":"IF(種目情報!E61=\"\",\"\",種目情報!E61)","v":""},null,"","","","","",{"$f":"IF(I68=\"男\",data_kyogisha!A59,\"\")","v":""},"","","","","",{"$f":"IF(I68=\"女\",data_kyogisha!A59,\"\")","v":""},0,"",0,"",0,"",0,"",null,"FLK　フォークランド(マルビナス)諸島"]
[59,null,null,null,null,null,null,null,null,null,null,null,null,null,null,null,null,null,null,null,null,null,null,null,null,null,{"$f":"IF(種目情報!A62=\"\",\"\",種目情報!A62)","v":"男４００ｍ"},{"$f":"IF(種目情報!E62=\"\",\"\",種目情報!E62)","v":""},null,"","","","","",{"$f":"IF(I69=\"男\",data_kyogisha!A60,\"\")","v":""},"","","","","",{"$f":"IF(I69=\"女\",data_kyogisha!A60,\"\")","v":""},0,"",0,"",0,"",0,"",null,"FSM　ミクロネシア連邦"]
[60,null,null,null,null,null,null,null,null,null,null,null,null,null,null,null,null,null,null,null,null,null,null,null,null,null,{"$f":"IF(種目情報!A63=\"\",\"\",種目情報!A63)","v":"男1500m"},{"$f":"IF(種目情報!E63=\"\",\"\",種目情報!E63)","v":""},null,"","","","","",{"$f":"IF(I70=\"男\",data_kyogisha!A61,\"\")","v":""},"","","","","",{"$f":"IF(I70=\"女\",data_kyogisha!A61,\"\")","v":""},0,"",0,"",0,"",0,"",null,"FRO　フェロー諸島"]
[61,null,null,null,null,null,null,null,null,null,null,null,null,null,null,null,null,null,null,null,null,null,null,null,null,null,{"$f":"IF(種目情報!A64=\"\",\"\",種目情報!A64)","v":"男400mH(0.914m)"},{"$f":"IF(種目情報!E64=\"\",\"\",種目情報!E64)","v":""},null,"","","","","",{"$f":"IF(I71=\"男\",data_kyogisha!A62,\"\")","v":""},"","","","","",{"$f":"IF(I71=\"女\",data_kyogisha!A62,\"\")","v":""},0,"",0,"",0,"",0,"",null,"FRA　フランス共和国"]
[62,null,null,null,null,null,null,null,null,null,null,null,null,null,null,null,null,null,null,null,null,null,null,null,null,null,{"$f":"IF(種目情報!A65=\"\",\"\",種目情報!A65)","v":"男選手権10000m"},{"$f":"IF(種目情報!E65=\"\",\"\",種目情報!E65)","v":""},null,"","","","","",{"$f":"IF(I72=\"男\",data_kyogisha!A63,\"\")","v":""},"","","","","",{"$f":"IF(I72=\"女\",data_kyogisha!A63,\"\")","v":""},0,"",0,"",0,"",0,"",null,"FXX　フランス本国"]
[63,null,null,null,null,null,null,null,null,null,null,null,null,null,null,null,null,null,null,null,null,null,null,null,null,null,{"$f":"IF(種目情報!A66=\"\",\"\",種目情報!A66)","v":"男走高跳"},{"$f":"IF(種目情報!E66=\"\",\"\",種目情報!E66)","v":""},null,"","","","","",{"$f":"IF(I73=\"男\",data_kyogisha!A64,\"\")","v":""},"","","","","",{"$f":"IF(I73=\"女\",data_kyogisha!A64,\"\")","v":""},0,"",0,"",0,"",0,"",null,"GAB　ガボン共和国"]
[64,null,null,null,null,null,null,null,null,null,null,null,null,null,null,null,null,null,null,null,null,null,null,null,null,null,{"$f":"IF(種目情報!A67=\"\",\"\",種目情報!A67)","v":"男走幅跳"},{"$f":"IF(種目情報!E67=\"\",\"\",種目情報!E67)","v":""},null,"","","","","",{"$f":"IF(I74=\"男\",data_kyogisha!A65,\"\")","v":""},"","","","","",{"$f":"IF(I74=\"女\",data_kyogisha!A65,\"\")","v":""},0,"",0,"",0,"",0,"",null,"GBR　グレートブリテン及び北部アイルランド連合王国(英国)"]
[65,null,null,null,null,null,null,null,null,null,null,null,null,null,null,null,null,null,null,null,null,null,null,null,null,null,{"$f":"IF(種目情報!A68=\"\",\"\",種目情報!A68)","v":"男砲丸投(7.260kg)"},{"$f":"IF(種目情報!E68=\"\",\"\",種目情報!E68)","v":""},null,{"$f":"IF(I75=\"男\",C75,\"\")","v":""},{"$f":"IF(I75=\"男\",D75,\"\")","v":""},{"$f":"IF(I75=\"男\",F75,\"\")","v":""},{"$f":"IF(I75=\"男\",I75,\"\")","v":""},{"$f":"IF(I75=\"男\",IF(J75=\"\",\"\",J75),\"\")","v":""},{"$f":"IF(I75=\"男\",data_kyogisha!A66,\"\")","v":""},{"$f":"IF(I75=\"女\",C75,\"\")","v":""},{"$f":"IF(I75=\"女\",D75,\"\")","v":""},{"$f":"IF(I75=\"女\",F75,\"\")","v":""},{"$f":"IF(I75=\"女\",I75,\"\")","v":""},{"$f":"IF(I75=\"女\",IF(J75=\"\",\"\",J75),\"\")","v":""},{"$f":"IF(I75=\"女\",data_kyogisha!A66,\"\")","v":""},0,"",0,"",0,{"$f":"IF(AND($I75=\"女\",$T75=\"○\"),$C75,\"\")","v":""},0,{"$f":"IF(AND($I75=\"女\",$V75=\"○\"),$C75,\"\")","v":""},null,"GRD　グレナダ"]
[66,null,null,null,null,null,null,null,null,null,null,null,null,null,null,null,null,null,null,null,null,null,null,null,null,null,{"$f":"IF(種目情報!A69=\"\",\"\",種目情報!A69)","v":"男やり投(0.800kg)"},{"$f":"IF(種目情報!E69=\"\",\"\",種目情報!E69)","v":""},null,"","","","","",{"$f":"IF(I76=\"男\",data_kyogisha!A67,\"\")","v":""},"","","","","",{"$f":"IF(I76=\"女\",data_kyogisha!A67,\"\")","v":""},{"$f":"IF(AND(I76=\"男\",T76=\"○\"),AP75+1,AP75)","v":0},{"$f":"IF(AND(I76=\"男\",T76=\"○\"),C76,\"\")","v":""},{"$f":"IF(AND(I76=\"男\",V76=\"○\"),AR75+1,AR75)","v":0},{"$f":"IF(AND(I76=\"男\",V76=\"○\"),C76,\"\")","v":""},{"$f":"IF(AND(I76=\"女\",T76=\"○\"),AT75+1,AT75)","v":0},"",{"$f":"IF(AND(I76=\"女\",V76=\"○\"),AV75+1,AV75)","v":0},"",null,"GEO　グルジア共和国"]
[67,null,null,null,null,null,null,null,null,null,null,null,null,null,null,null,null,null,null,null,null,null,null,null,null,null,null,{"$f":"IF(種目情報!E70=\"\",\"\",種目情報!E70)","v":""},null,"","","","","",{"$f":"IF(I77=\"男\",data_kyogisha!A68,\"\")","v":""},"","","","","",{"$f":"IF(I77=\"女\",data_kyogisha!A68,\"\")","v":""},0,"",0,"",0,"",0,"",null,"GUF　仏領ギアナ"]
[68,null,null,null,null,null,null,null,null,null,null,null,null,null,null,null,null,null,null,null,null,null,null,null,null,null,{"$f":"IF(種目情報!A71=\"\",\"\",種目情報!A71)","v":"高校（２日目）　⬇"},{"$f":"IF(種目情報!E71=\"\",\"\",種目情報!E71)","v":""},null,"","","","","",{"$f":"IF(I78=\"男\",data_kyogisha!A69,\"\")","v":""},"","","","","",{"$f":"IF(I78=\"女\",data_kyogisha!A69,\"\")","v":""},0,"",0,"",0,"",0,"",null,"GHA　ガーナ共和国"]
[69,null,null,null,null,null,null,null,null,null,null,null,null,null,null,null,null,null,null,null,null,null,null,null,null,null,{"$f":"IF(種目情報!A72=\"\",\"\",種目情報!A72)","v":"男４００ｍ"},{"$f":"IF(種目情報!E72=\"\",\"\",種目情報!E72)","v":""},null,"","","","","",{"$f":"IF(I79=\"男\",data_kyogisha!A70,\"\")","v":""},"","","","","",{"$f":"IF(I79=\"女\",data_kyogisha!A70,\"\")","v":""},0,"",0,"",0,"",0,"",null,"GIB　ジブラルタル"]
[70,null,null,null,null,null,null,null,null,null,null,null,null,null,null,null,null,null,null,null,null,null,null,null,null,null,{"$f":"IF(種目情報!A73=\"\",\"\",種目情報!A73)","v":"男1500m"},{"$f":"IF(種目情報!E73=\"\",\"\",種目情報!E73)","v":""},null,"","","","","",{"$f":"IF(I80=\"男\",data_kyogisha!A71,\"\")","v":""},"","","","","",{"$f":"IF(I80=\"女\",data_kyogisha!A71,\"\")","v":""},0,"",0,"",0,"",0,"",null,"GRL　グリーンランド"]
[71,null,null,null,null,null,null,null,null,null,null,null,null,null,null,null,null,null,null,null,null,null,null,null,null,null,{"$f":"IF(種目情報!A74=\"\",\"\",種目情報!A74)","v":"男400mH(0.914m)"},{"$f":"IF(種目情報!E74=\"\",\"\",種目情報!E74)","v":""},null,"","","","","",{"$f":"IF(I81=\"男\",data_kyogisha!A72,\"\")","v":""},"","","","","",{"$f":"IF(I81=\"女\",data_kyogisha!A72,\"\")","v":""},0,"",0,"",0,"",0,"",null,"GMB　ガンビア共和国"]
[72,null,null,null,null,null,null,null,null,null,null,null,null,null,null,null,null,null,null,null,null,null,null,null,null,null,{"$f":"IF(種目情報!A75=\"\",\"\",種目情報!A75)","v":"男選手権10000m"},{"$f":"IF(種目情報!E75=\"\",\"\",種目情報!E75)","v":""},null,"","","","","",{"$f":"IF(I82=\"男\",data_kyogisha!A73,\"\")","v":""},"","","","","",{"$f":"IF(I82=\"女\",data_kyogisha!A73,\"\")","v":""},0,"",0,"",0,"",0,"",null,"GIN　ギニア共和国"]
[73,null,null,null,null,null,null,null,null,null,null,null,null,null,null,null,null,null,null,null,null,null,null,null,null,null,{"$f":"IF(種目情報!A76=\"\",\"\",種目情報!A76)","v":"男走高跳"},{"$f":"IF(種目情報!E76=\"\",\"\",種目情報!E76)","v":""},null,"","","","","",{"$f":"IF(I83=\"男\",data_kyogisha!A74,\"\")","v":""},"","","","","",{"$f":"IF(I83=\"女\",data_kyogisha!A74,\"\")","v":""},0,"",0,"",0,"",0,"",null,"GLP　グアドループ島"]
[74,null,null,null,null,null,null,null,null,null,null,null,null,null,null,null,null,null,null,null,null,null,null,null,null,null,{"$f":"IF(種目情報!A77=\"\",\"\",種目情報!A77)","v":"男走幅跳"},{"$f":"IF(種目情報!E77=\"\",\"\",種目情報!E77)","v":""},null,"","","","","",{"$f":"IF(I84=\"男\",data_kyogisha!A75,\"\")","v":""},"","","","","",{"$f":"IF(I84=\"女\",data_kyogisha!A75,\"\")","v":""},0,"",0,"",0,"",0,"",null,"GNQ　赤道ギニア共和国"]
[75,null,null,null,null,null,null,null,null,null,null,null,null,null,null,null,null,null,null,null,null,null,null,null,null,null,{"$f":"IF(種目情報!A78=\"\",\"\",種目情報!A78)","v":"男高校砲丸投(6.000kg)"},{"$f":"IF(種目情報!E78=\"\",\"\",種目情報!E78)","v":""},null,"","","","","",{"$f":"IF(I85=\"男\",data_kyogisha!A76,\"\")","v":""},"","","","","",{"$f":"IF(I85=\"女\",data_kyogisha!A76,\"\")","v":""},0,"",0,"",0,"",0,"",null,"GRC　ギリシア共和国"]
[76,null,null,null,null,null,null,null,null,null,null,null,null,null,null,null,null,null,null,null,null,null,null,null,null,null,{"$f":"IF(種目情報!A79=\"\",\"\",種目情報!A79)","v":"男やり投(0.800kg)"},{"$f":"IF(種目情報!E79=\"\",\"\",種目情報!E79)","v":""},null,"","","","","",{"$f":"IF(I86=\"男\",data_kyogisha!A77,\"\")","v":""},"","","","","",{"$f":"IF(I86=\"女\",data_kyogisha!A77,\"\")","v":""},0,"",0,"",0,"",0,"",null,"SGS　南ジョージア島・南サンドイッチ諸島"]
[77,null,null,null,null,null,null,null,null,null,null,null,null,null,null,null,null,null,null,null,null,null,null,null,null,null,null,{"$f":"IF(種目情報!E80=\"\",\"\",種目情報!E80)","v":""},null,"","","","","",{"$f":"IF(I87=\"男\",data_kyogisha!A78,\"\")","v":""},"","","","","",{"$f":"IF(I87=\"女\",data_kyogisha!A78,\"\")","v":""},0,"",0,"",0,"",0,"",null,"GTM　グアテマラ共和国"]
[78,null,null,null,null,null,null,null,null,null,null,null,null,null,null,null,null,null,null,null,null,null,null,null,null,null,{"$f":"IF(種目情報!A81=\"\",\"\",種目情報!A81)","v":"中学（2日目）　⬇"},{"$f":"IF(種目情報!E81=\"\",\"\",種目情報!E81)","v":""},null,"","","","","",{"$f":"IF(I88=\"男\",data_kyogisha!A79,\"\")","v":""},"","","","","",{"$f":"IF(I88=\"女\",data_kyogisha!A79,\"\")","v":""},0,"",0,"",0,"",0,"",null,"GUM　グアム"]
[79,null,null,null,null,null,null,null,null,null,null,null,null,null,null,null,null,null,null,null,null,null,null,null,null,null,{"$f":"IF(種目情報!A82=\"\",\"\",種目情報!A82)","v":"男４００ｍ"},{"$f":"IF(種目情報!E82=\"\",\"\",種目情報!E82)","v":""},null,"","","","","",{"$f":"IF(I89=\"男\",data_kyogisha!A80,\"\")","v":""},"","","","","",{"$f":"IF(I89=\"女\",data_kyogisha!A80,\"\")","v":""},0,"",0,"",0,"",0,"",null,"GNB　ギニアビサオ共和国"]
[80,null,null,null,null,null,null,null,null,null,null,null,null,null,null,null,null,null,null,null,null,null,null,null,null,null,{"$f":"IF(種目情報!A83=\"\",\"\",種目情報!A83)","v":"男1500m"},{"$f":"IF(種目情報!E83=\"\",\"\",種目情報!E83)","v":""},null,"","","","","",{"$f":"IF(I90=\"男\",data_kyogisha!A81,\"\")","v":""},"","","","","",{"$f":"IF(I90=\"女\",data_kyogisha!A81,\"\")","v":""},0,"",0,"",0,"",0,"",null,"GUY　ガイアナ協同共和国"]
[81,null,null,null,null,null,null,null,null,null,null,null,null,null,null,null,null,null,null,null,null,null,null,null,null,null,{"$f":"IF(種目情報!A84=\"\",\"\",種目情報!A84)","v":"男走高跳"},{"$f":"IF(種目情報!E84=\"\",\"\",種目情報!E84)","v":""},null,"","","","","",{"$f":"IF(I91=\"男\",data_kyogisha!A82,\"\")","v":""},"","","","","",{"$f":"IF(I91=\"女\",data_kyogisha!A82,\"\")","v":""},0,"",0,"",0,"",0,"",null,"HKG　ホンコン (香港)"]
[82,null,null,null,null,null,null,null,null,null,null,null,null,null,null,null,null,null,null,null,null,null,null,null,null,null,{"$f":"IF(種目情報!A85=\"\",\"\",種目情報!A85)","v":"男走幅跳"},{"$f":"IF(種目情報!E85=\"\",\"\",種目情報!E85)","v":""},null,"","","","","",{"$f":"IF(I92=\"男\",data_kyogisha!A83,\"\")","v":""},"","","","","",{"$f":"IF(I92=\"女\",data_kyogisha!A83,\"\")","v":""},0,"",0,"",0,"",0,"",null,"HMD　ヘアド島・マクドナルド諸島"]
[83,null,null,null,null,null,null,null,null,null,null,null,null,null,null,null,null,null,null,null,null,null,null,null,null,null,{"$f":"IF(種目情報!A86=\"\",\"\",種目情報!A86)","v":"男中学砲丸投(5.000kg)"},{"$f":"IF(種目情報!E86=\"\",\"\",種目情報!E86)","v":""},null,"","","","","",{"$f":"IF(I93=\"男\",data_kyogisha!A84,\"\")","v":""},"","","","","",{"$f":"IF(I93=\"女\",data_kyogisha!A84,\"\")","v":""},0,"",0,"",0,"",0,"",null,"HND　ホンジュラス共和国"]
[84,null,null,null,null,null,null,null,null,null,null,null,null,null,null,null,null,null,null,null,null,null,null,null,null,null,null,null,null,"","","","","",{"$f":"IF(I94=\"男\",data_kyogisha!A85,\"\")","v":""},"","","","","",{"$f":"IF(I94=\"女\",data_kyogisha!A85,\"\")","v":""},0,"",0,"",0,"",0,"",null,"HRV　クロアチア共和国"]
[85,null,null,null,null,null,null,null,null,null,null,null,null,null,null,null,null,null,null,null,null,null,null,null,null,null,null,null,null,"","","","","",{"$f":"IF(I95=\"男\",data_kyogisha!A86,\"\")","v":""},"","","","","",{"$f":"IF(I95=\"女\",data_kyogisha!A86,\"\")","v":""},0,"",0,"",0,"",0,"",null,"HTI　ハイチ共和国"]
[86,null,null,null,null,null,null,null,null,null,null,null,null,null,null,null,null,null,null,null,null,null,null,null,null,null,null,null,null,"","","","","",{"$f":"IF(I96=\"男\",data_kyogisha!A87,\"\")","v":""},"","","","","",{"$f":"IF(I96=\"女\",data_kyogisha!A87,\"\")","v":""},0,"",0,"",0,"",0,"",null,"HUN　ハンガリー共和国"]
[87,null,null,null,null,null,null,null,null,null,null,null,null,null,null,null,null,null,null,null,null,null,null,null,null,null,null,null,null,"","","","","",{"$f":"IF(I97=\"男\",data_kyogisha!A88,\"\")","v":""},"","","","","",{"$f":"IF(I97=\"女\",data_kyogisha!A88,\"\")","v":""},0,"",0,"",0,"",0,"",null,"IDN　インドネシア共和国"]
[88,null,null,null,null,null,null,null,null,null,null,null,null,null,null,null,null,null,null,null,null,null,null,null,null,null,null,null,null,"","","","","",{"$f":"IF(I98=\"男\",data_kyogisha!A89,\"\")","v":""},"","","","","",{"$f":"IF(I98=\"女\",data_kyogisha!A89,\"\")","v":""},0,"",0,"",0,"",0,"",null,"IRL　アイルランド"]
[89,null,null,null,null,null,null,null,null,null,null,null,null,null,null,null,null,null,null,null,null,null,null,null,null,null,null,null,null,"","","","","",{"$f":"IF(I99=\"男\",data_kyogisha!A90,\"\")","v":""},"","","","","",{"$f":"IF(I99=\"女\",data_kyogisha!A90,\"\")","v":""},0,"",0,"",0,"",0,"",null,"ISR　イスラエル国"]
[90,null,null,null,null,null,null,null,null,null,null,null,null,null,null,null,null,null,null,null,null,null,null,null,null,null,null,null,null,"","","","","",{"$f":"IF(I100=\"男\",data_kyogisha!A91,\"\")","v":""},"","","","","",{"$f":"IF(I100=\"女\",data_kyogisha!A91,\"\")","v":""},0,"",0,"",0,"",0,"",null,"IND　インド"]
[null,null,null,null,null,null,"種目計",null,{"$f":"SUM(L101:R101)","v":0},null,null,{"$f":"COUNTA(L11:L100)","v":0},null,null,{"$f":"COUNTA(O11:O100)","v":0},null,null,{"$f":"COUNTA(R11:R100)","v":0},null,null,null,null,null,null,null,null,null,null,null,null,null,null,null,null,null,null,null,null,null,null,null,null,null,null,null,null,null,null,null,null,"IOT　英領インド洋地域"]
[null,null,null,null,null,null,"リレー計",null,{"$f":"'　　　　　　　　　'!F14+'　　　　　　　　　'!L14+'　　　　　　　　　'!R14+'　　　　　　　　　'!X14","v":0},null,null,null,null,null,null,null,null,null,null,null,null,null,null,null,null,null,null,null,null,null,null,null,null,null,null,null,null,null,null,null,null,null,null,null,null,null,null,null,null,null,"IRQ　イラク共和国"]
[null,null,null,null,null,null,"男",null,{"$f":"COUNTIF(I11:I100,\"男\")","v":0},null,null,null,null,null,null,null,null,null,null,null,null,null,null,null,null,null,null,null,null,null,null,null,null,null,null,null,null,null,null,null,null,null,null,null,null,null,null,null,null,null,"IRN　イラン・イスラム共和国"]
[null,null,null,null,null,null,"女",null,{"$f":"COUNTIF(I11:I100,\"女\")","v":0},null,null,null,null,null,null,null,null,null,null,null,null,null,null,null,null,null,null,null,null,null,null,null,null,null,null,null,null,null,null,null,null,null,null,null,null,null,null,null,null,null,"ISL　アイスランド共和国"]
[null,null,null,null,null,null,"男女計",null,{"$f":"SUM(I103:I104)","v":0},null,null,null,null,null,null,null,null,null,null,null,null,null,null,null,null,null,null,null,null,null,null,null,null,null,null,null,null,null,null,null,null,null,null,null,null,null,null,null,null,null,"ITA　イタリア共和国"]
[null,null,null,null,null,null,null,null,null,null,null,null,null,null,null,null,null,null,null,null,null,null,null,null,null,null,null,null,null,null,null,null,null,null,null,null,null,null,null,null,null,null,null,null,null,null,null,null,null,null,"JAM　ジャマイカ"]
[null,null,null,null,null,null,null,null,null,null,null,null,null,null,null,null,null,null,null,null,null,null,null,null,null,null,null,null,null,null,null,null,null,null,null,null,null,null,null,null,null,null,null,null,null,null,null,null,null,null,"JOR　ヨルダン・ハシミテ王国"]
[null,null,null,null,null,null,null,null,null,null,null,null,null,null,null,null,null,null,null,null,null,null,null,null,null,null,null,null,null,null,null,null,null,null,null,null,null,null,null,null,null,null,null,null,null,null,null,null,null,null,"JPN　日本国"]
[null,null,null,null,null,null,null,null,null,null,null,null,null,null,null,null,null,null,null,null,null,null,null,null,null,null,null,null,null,null,null,null,null,null,null,null,null,null,null,null,null,null,null,null,null,null,null,null,null,null,"KEN　ケニア共和国"]
[null,null,null,null,null,null,null,null,null,null,null,null,null,null,null,null,null,null,null,null,null,null,null,null,null,null,null,null,null,null,null,null,null,null,null,null,null,null,null,null,null,null,null,null,null,null,null,null,null,null,"KGZ　キルギスタン共和国"]
[null,null,null,null,null,null,null,null,null,null,null,null,null,null,null,null,null,null,null,null,null,null,null,null,null,null,null,null,null,null,null,null,null,null,null,null,null,null,null,null,null,null,null,null,null,null,null,null,null,null,"KHM　カンボディア王国"]
[null,null,null,null,null,null,null,null,null,null,null,null,null,null,null,null,null,null,null,null,null,null,null,null,null,null,null,null,null,null,null,null,null,null,null,null,null,null,null,null,null,null,null,null,null,null,null,null,null,null,"KIR　キリバス共和国"]
[null,null,null,null,null,null,null,null,null,null,null,null,null,null,null,null,null,null,null,null,null,null,null,null,null,null,null,null,null,null,null,null,null,null,null,null,null,null,null,null,null,null,null,null,null,null,null,null,null,null,"COM　コモロ・イスラム連邦共和国"]
[null,null,null,null,null,null,null,null,null,null,null,null,null,null,null,null,null,null,null,null,null,null,null,null,null,null,null,null,null,null,null,null,null,null,null,null,null,null,null,null,null,null,null,null,null,null,null,null,null,null,"KNA　セントクリストファー・ネイビス"]
[null,null,null,null,null,null,null,null,null,null,null,null,null,null,null,null,null,null,null,null,null,null,null,null,null,null,null,null,null,null,null,null,null,null,null,null,null,null,null,null,null,null,null,null,null,null,null,null,null,null,"PRK　(北朝鮮=朝鮮民主主義人民共和国)"]
[null,null,null,null,null,null,null,null,null,null,null,null,null,null,null,null,null,null,null,null,null,null,null,null,null,null,null,null,null,null,null,null,null,null,null,null,null,null,null,null,null,null,null,null,null,null,null,null,null,null,"KOR　大韓民国"]
[null,null,null,null,null,null,null,null,null,null,null,null,null,null,null,null,null,null,null,null,null,null,null,null,null,null,null,null,null,null,null,null,null,null,null,null,null,null,null,null,null,null,null,null,null,null,null,null,null,null,"KWT　クウェート国"]
[null,null,null,null,null,null,null,null,null,null,null,null,null,null,null,null,null,null,null,null,null,null,null,null,null,null,null,null,null,null,null,null,null,null,null,null,null,null,null,null,null,null,null,null,null,null,null,null,null,null,"CYM　ケイマン諸島"]
[null,null,null,null,null,null,null,null,null,null,null,null,null,null,null,null,null,null,null,null,null,null,null,null,null,null,null,null,null,null,null,null,null,null,null,null,null,null,null,null,null,null,null,null,null,null,null,null,null,null,"KAZ　カザフスタン共和国"]
[null,null,null,null,null,null,null,null,null,null,null,null,null,null,null,null,null,null,null,null,null,null,null,null,null,null,null,null,null,null,null,null,null,null,null,null,null,null,null,null,null,null,null,null,null,null,null,null,null,null,"LAO　ラオス人民民主共和国"]
[null,null,null,null,null,null,null,null,null,null,null,null,null,null,null,null,null,null,null,null,null,null,null,null,null,null,null,null,null,null,null,null,null,null,null,null,null,null,null,null,null,null,null,null,null,null,null,null,null,null,"LBN　レバノン共和国"]
[null,null,null,null,null,null,null,null,null,null,null,null,null,null,null,null,null,null,null,null,null,null,null,null,null,null,null,null,null,null,null,null,null,null,null,null,null,null,null,null,null,null,null,null,null,null,null,null,null,null,"LCA　セントルシア"]
[null,null,null,null,null,null,null,null,null,null,null,null,null,null,null,null,null,null,null,null,null,null,null,null,null,null,null,null,null,null,null,null,null,null,null,null,null,null,null,null,null,null,null,null,null,null,null,null,null,null,"LIE　リヒテンシュタイン公国"]
[null,null,null,null,null,null,null,null,null,null,null,null,null,null,null,null,null,null,null,null,null,null,null,null,null,null,null,null,null,null,null,null,null,null,null,null,null,null,null,null,null,null,null,null,null,null,null,null,null,null,"LKA　スリランカ民主社会主義共和国"]
[null,null,null,null,null,null,null,null,null,null,null,null,null,null,null,null,null,null,null,null,null,null,null,null,null,null,null,null,null,null,null,null,null,null,null,null,null,null,null,null,null,null,null,null,null,null,null,null,null,null,"LBR　リベリア共和国"]
[null,null,null,null,null,null,null,null,null,null,null,null,null,null,null,null,null,null,null,null,null,null,null,null,null,null,null,null,null,null,null,null,null,null,null,null,null,null,null,null,null,null,null,null,null,null,null,null,null,null,"LSO　レソト王国"]
[null,null,null,null,null,null,null,null,null,null,null,null,null,null,null,null,null,null,null,null,null,null,null,null,null,null,null,null,null,null,null,null,null,null,null,null,null,null,null,null,null,null,null,null,null,null,null,null,null,null,"LTU　リトアニア共和国"]
[null,null,null,null,null,null,null,null,null,null,null,null,null,null,null,null,null,null,null,null,null,null,null,null,null,null,null,null,null,null,null,null,null,null,null,null,null,null,null,null,null,null,null,null,null,null,null,null,null,null,"LUX　ルクセンブルク大公国"]
[null,null,null,null,null,null,null,null,null,null,null,null,null,null,null,null,null,null,null,null,null,null,null,null,null,null,null,null,null,null,null,null,null,null,null,null,null,null,null,null,null,null,null,null,null,null,null,null,null,null,"LVA　ラトビア共和国"]
[null,null,null,null,null,null,null,null,null,null,null,null,null,null,null,null,null,null,null,null,null,null,null,null,null,null,null,null,null,null,null,null,null,null,null,null,null,null,null,null,null,null,null,null,null,null,null,null,null,null,"LBY　社会主義人民リビア・アラブ国"]
[null,null,null,null,null,null,null,null,null,null,null,null,null,null,null,null,null,null,null,null,null,null,null,null,null,null,null,null,null,null,null,null,null,null,null,null,null,null,null,null,null,null,null,null,null,null,null,null,null,null,"MAR　モロッコ王国"]
[null,null,null,null,null,null,null,null,null,null,null,null,null,null,null,null,null,null,null,null,null,null,null,null,null,null,null,null,null,null,null,null,null,null,null,null,null,null,null,null,null,null,null,null,null,null,null,null,null,null,"MCO　モナコ公国"]
[null,null,null,null,null,null,null,null,null,null,null,null,null,null,null,null,null,null,null,null,null,null,null,null,null,null,null,null,null,null,null,null,null,null,null,null,null,null,null,null,null,null,null,null,null,null,null,null,null,null,"MDA　モルドバ共和国"]
[null,null,null,null,null,null,null,null,null,null,null,null,null,null,null,null,null,null,null,null,null,null,null,null,null,null,null,null,null,null,null,null,null,null,null,null,null,null,null,null,null,null,null,null,null,null,null,null,null,null,"MDG　マダガスカル共和国"]
[null,null,null,null,null,null,null,null,null,null,null,null,null,null,null,null,null,null,null,null,null,null,null,null,null,null,null,null,null,null,null,null,null,null,null,null,null,null,null,null,null,null,null,null,null,null,null,null,null,null,"MHL　マーシャル諸島共和国"]
[null,null,null,null,null,null,null,null,null,null,null,null,null,null,null,null,null,null,null,null,null,null,null,null,null,null,null,null,null,null,null,null,null,null,null,null,null,null,null,null,null,null,null,null,null,null,null,null,null,null,"MLI　マリ共和国"]
[null,null,null,null,null,null,null,null,null,null,null,null,null,null,null,null,null,null,null,null,null,null,null,null,null,null,null,null,null,null,null,null,null,null,null,null,null,null,null,null,null,null,null,null,null,null,null,null,null,null,"MMR　ミャンマー連邦"]
[null,null,null,null,null,null,null,null,null,null,null,null,null,null,null,null,null,null,null,null,null,null,null,null,null,null,null,null,null,null,null,null,null,null,null,null,null,null,null,null,null,null,null,null,null,null,null,null,null,null,"MNG　モンゴル国"]
[null,null,null,null,null,null,null,null,null,null,null,null,null,null,null,null,null,null,null,null,null,null,null,null,null,null,null,null,null,null,null,null,null,null,null,null,null,null,null,null,null,null,null,null,null,null,null,null,null,null,"MAC　マカオ(澳門)"]
[null,null,null,null,null,null,null,null,null,null,null,null,null,null,null,null,null,null,null,null,null,null,null,null,null,null,null,null,null,null,null,null,null,null,null,null,null,null,null,null,null,null,null,null,null,null,null,null,null,null,"MNP　北マリアナ諸島"]
[null,null,null,null,null,null,null,null,null,null,null,null,null,null,null,null,null,null,null,null,null,null,null,null,null,null,null,null,null,null,null,null,null,null,null,null,null,null,null,null,null,null,null,null,null,null,null,null,null,null,"MTQ　マルチニーク島"]
[null,null,null,null,null,null,null,null,null,null,null,null,null,null,null,null,null,null,null,null,null,null,null,null,null,null,null,null,null,null,null,null,null,null,null,null,null,null,null,null,null,null,null,null,null,null,null,null,null,null,"MRT　モーリタニア・イスラム共和国"]
[null,null,null,null,null,null,null,null,null,null,null,null,null,null,null,null,null,null,null,null,null,null,null,null,null,null,null,null,null,null,null,null,null,null,null,null,null,null,null,null,null,null,null,null,null,null,null,null,null,null,"MSR　モントセラト"]
[null,null,null,null,null,null,null,null,null,null,null,null,null,null,null,null,null,null,null,null,null,null,null,null,null,null,null,null,null,null,null,null,null,null,null,null,null,null,null,null,null,null,null,null,null,null,null,null,null,null,"MLT　マルタ共和国"]
[null,null,null,null,null,null,null,null,null,null,null,null,null,null,null,null,null,null,null,null,null,null,null,null,null,null,null,null,null,null,null,null,null,null,null,null,null,null,null,null,null,null,null,null,null,null,null,null,null,null,"MUS　モーリシャス共和国"]
[null,null,null,null,null,null,null,null,null,null,null,null,null,null,null,null,null,null,null,null,null,null,null,null,null,null,null,null,null,null,null,null,null,null,null,null,null,null,null,null,null,null,null,null,null,null,null,null,null,null,"MDV　モルジブ共和国"]
[null,null,null,null,null,null,null,null,null,null,null,null,null,null,null,null,null,null,null,null,null,null,null,null,null,null,null,null,null,null,null,null,null,null,null,null,null,null,null,null,null,null,null,null,null,null,null,null,null,null,"MWI　マラウイ共和国"]
[null,null,null,null,null,null,null,null,null,null,null,null,null,null,null,null,null,null,null,null,null,null,null,null,null,null,null,null,null,null,null,null,null,null,null,null,null,null,null,null,null,null,null,null,null,null,null,null,null,null,"MEX　メキシコ合衆国"]
[null,null,null,null,null,null,null,null,null,null,null,null,null,null,null,null,null,null,null,null,null,null,null,null,null,null,null,null,null,null,null,null,null,null,null,null,null,null,null,null,null,null,null,null,null,null,null,null,null,null,"MYS　マレーシア"]
[null,null,null,null,null,null,null,null,null,null,null,null,null,null,null,null,null,null,null,null,null,null,null,null,null,null,null,null,null,null,null,null,null,null,null,null,null,null,null,null,null,null,null,null,null,null,null,null,null,null,"MOZ　モザンビーク共和国"]
[null,null,null,null,null,null,null,null,null,null,null,null,null,null,null,null,null,null,null,null,null,null,null,null,null,null,null,null,null,null,null,null,null,null,null,null,null,null,null,null,null,null,null,null,null,null,null,null,null,null,"NAM　ナミビア共和国"]
[null,null,null,null,null,null,null,null,null,null,null,null,null,null,null,null,null,null,null,null,null,null,null,null,null,null,null,null,null,null,null,null,null,null,null,null,null,null,null,null,null,null,null,null,null,null,null,null,null,null,"NCL　ニューカレドニア"]
[null,null,null,null,null,null,null,null,null,null,null,null,null,null,null,null,null,null,null,null,null,null,null,null,null,null,null,null,null,null,null,null,null,null,null,null,null,null,null,null,null,null,null,null,null,null,null,null,null,null,"NER　ニジェール共和国"]
[null,null,null,null,null,null,null,null,null,null,null,null,null,null,null,null,null,null,null,null,null,null,null,null,null,null,null,null,null,null,null,null,null,null,null,null,null,null,null,null,null,null,null,null,null,null,null,null,null,null,"NFK　ノーフォーク島"]
[null,null,null,null,null,null,null,null,null,null,null,null,null,null,null,null,null,null,null,null,null,null,null,null,null,null,null,null,null,null,null,null,null,null,null,null,null,null,null,null,null,null,null,null,null,null,null,null,null,null,"NGA　ナイジェリア連邦共和国"]
[null,null,null,null,null,null,null,null,null,null,null,null,null,null,null,null,null,null,null,null,null,null,null,null,null,null,null,null,null,null,null,null,null,null,null,null,null,null,null,null,null,null,null,null,null,null,null,null,null,null,"NIC　ニカラグア共和国"]
[null,null,null,null,null,null,null,null,null,null,null,null,null,null,null,null,null,null,null,null,null,null,null,null,null,null,null,null,null,null,null,null,null,null,null,null,null,null,null,null,null,null,null,null,null,null,null,null,null,null,"NLD　オランダ王国"]
[null,null,null,null,null,null,null,null,null,null,null,null,null,null,null,null,null,null,null,null,null,null,null,null,null,null,null,null,null,null,null,null,null,null,null,null,null,null,null,null,null,null,null,null,null,null,null,null,null,null,"NOR　ノルウェー王国"]
[null,null,null,null,null,null,null,null,null,null,null,null,null,null,null,null,null,null,null,null,null,null,null,null,null,null,null,null,null,null,null,null,null,null,null,null,null,null,null,null,null,null,null,null,null,null,null,null,null,null,"NPL　ネパール王国"]
[null,null,null,null,null,null,null,null,null,null,null,null,null,null,null,null,null,null,null,null,null,null,null,null,null,null,null,null,null,null,null,null,null,null,null,null,null,null,null,null,null,null,null,null,null,null,null,null,null,null,"NRU　ナウル共和国"]
[null,null,null,null,null,null,null,null,null,null,null,null,null,null,null,null,null,null,null,null,null,null,null,null,null,null,null,null,null,null,null,null,null,null,null,null,null,null,null,null,null,null,null,null,null,null,null,null,null,null,"NIU　ニウエ"]
[null,null,null,null,null,null,null,null,null,null,null,null,null,null,null,null,null,null,null,null,null,null,null,null,null,null,null,null,null,null,null,null,null,null,null,null,null,null,null,null,null,null,null,null,null,null,null,null,null,null,"NZL　ニュージーランド"]
[null,null,null,null,null,null,null,null,null,null,null,null,null,null,null,null,null,null,null,null,null,null,null,null,null,null,null,null,null,null,null,null,null,null,null,null,null,null,null,null,null,null,null,null,null,null,null,null,null,null,"OMN　オマーン国"]
[null,null,null,null,null,null,null,null,null,null,null,null,null,null,null,null,null,null,null,null,null,null,null,null,null,null,null,null,null,null,null,null,null,null,null,null,null,null,null,null,null,null,null,null,null,null,null,null,null,null,"PAN　パナマ共和国"]
[null,null,null,null,null,null,null,null,null,null,null,null,null,null,null,null,null,null,null,null,null,null,null,null,null,null,null,null,null,null,null,null,null,null,null,null,null,null,null,null,null,null,null,null,null,null,null,null,null,null,"PER　ペルー共和国"]
[null,null,null,null,null,null,null,null,null,null,null,null,null,null,null,null,null,null,null,null,null,null,null,null,null,null,null,null,null,null,null,null,null,null,null,null,null,null,null,null,null,null,null,null,null,null,null,null,null,null,"PYF　仏領ポリネシア"]
[null,null,null,null,null,null,null,null,null,null,null,null,null,null,null,null,null,null,null,null,null,null,null,null,null,null,null,null,null,null,null,null,null,null,null,null,null,null,null,null,null,null,null,null,null,null,null,null,null,null,"PNG　パプアニューギニア"]
[null,null,null,null,null,null,null,null,null,null,null,null,null,null,null,null,null,null,null,null,null,null,null,null,null,null,null,null,null,null,null,null,null,null,null,null,null,null,null,null,null,null,null,null,null,null,null,null,null,null,"PHL　フィリピン共和国"]
[null,null,null,null,null,null,null,null,null,null,null,null,null,null,null,null,null,null,null,null,null,null,null,null,null,null,null,null,null,null,null,null,null,null,null,null,null,null,null,null,null,null,null,null,null,null,null,null,null,null,"PAK　パキスタン・イスラム共和国"]
[null,null,null,null,null,null,null,null,null,null,null,null,null,null,null,null,null,null,null,null,null,null,null,null,null,null,null,null,null,null,null,null,null,null,null,null,null,null,null,null,null,null,null,null,null,null,null,null,null,null,"POL　ポーランド共和国"]
[null,null,null,null,null,null,null,null,null,null,null,null,null,null,null,null,null,null,null,null,null,null,null,null,null,null,null,null,null,null,null,null,null,null,null,null,null,null,null,null,null,null,null,null,null,null,null,null,null,null,"SPM　サンピエール島・ミクロン島"]
[null,null,null,null,null,null,null,null,null,null,null,null,null,null,null,null,null,null,null,null,null,null,null,null,null,null,null,null,null,null,null,null,null,null,null,null,null,null,null,null,null,null,null,null,null,null,null,null,null,null,"PCN　ピトケアン島"]
[null,null,null,null,null,null,null,null,null,null,null,null,null,null,null,null,null,null,null,null,null,null,null,null,null,null,null,null,null,null,null,null,null,null,null,null,null,null,null,null,null,null,null,null,null,null,null,null,null,null,"PRI　プエルトリコ"]
[null,null,null,null,null,null,null,null,null,null,null,null,null,null,null,null,null,null,null,null,null,null,null,null,null,null,null,null,null,null,null,null,null,null,null,null,null,null,null,null,null,null,null,null,null,null,null,null,null,null,"PRT　ポルトガル共和国"]
[null,null,null,null,null,null,null,null,null,null,null,null,null,null,null,null,null,null,null,null,null,null,null,null,null,null,null,null,null,null,null,null,null,null,null,null,null,null,null,null,null,null,null,null,null,null,null,null,null,null,"PLW　パラオ"]
[null,null,null,null,null,null,null,null,null,null,null,null,null,null,null,null,null,null,null,null,null,null,null,null,null,null,null,null,null,null,null,null,null,null,null,null,null,null,null,null,null,null,null,null,null,null,null,null,null,null,"PRY　パラグアイ共和国"]
[null,null,null,null,null,null,null,null,null,null,null,null,null,null,null,null,null,null,null,null,null,null,null,null,null,null,null,null,null,null,null,null,null,null,null,null,null,null,null,null,null,null,null,null,null,null,null,null,null,null,"QAT　カタール国"]
[null,null,null,null,null,null,null,null,null,null,null,null,null,null,null,null,null,null,null,null,null,null,null,null,null,null,null,null,null,null,null,null,null,null,null,null,null,null,null,null,null,null,null,null,null,null,null,null,null,null,"REU　レユニオン"]
[null,null,null,null,null,null,null,null,null,null,null,null,null,null,null,null,null,null,null,null,null,null,null,null,null,null,null,null,null,null,null,null,null,null,null,null,null,null,null,null,null,null,null,null,null,null,null,null,null,null,"ROM　ルーマニア"]
[null,null,null,null,null,null,null,null,null,null,null,null,null,null,null,null,null,null,null,null,null,null,null,null,null,null,null,null,null,null,null,null,null,null,null,null,null,null,null,null,null,null,null,null,null,null,null,null,null,null,"RUS　ロシア連邦"]
[null,null,null,null,null,null,null,null,null,null,null,null,null,null,null,null,null,null,null,null,null,null,null,null,null,null,null,null,null,null,null,null,null,null,null,null,null,null,null,null,null,null,null,null,null,null,null,null,null,null,"RWA　ルワンダ共和国"]
[null,null,null,null,null,null,null,null,null,null,null,null,null,null,null,null,null,null,null,null,null,null,null,null,null,null,null,null,null,null,null,null,null,null,null,null,null,null,null,null,null,null,null,null,null,null,null,null,null,null,"SAU　サウジアラビア王国"]
[null,null,null,null,null,null,null,null,null,null,null,null,null,null,null,null,null,null,null,null,null,null,null,null,null,null,null,null,null,null,null,null,null,null,null,null,null,null,null,null,null,null,null,null,null,null,null,null,null,null,"SLB　ソロモン諸島"]
[null,null,null,null,null,null,null,null,null,null,null,null,null,null,null,null,null,null,null,null,null,null,null,null,null,null,null,null,null,null,null,null,null,null,null,null,null,null,null,null,null,null,null,null,null,null,null,null,null,null,"SYC　セイシェル共和国"]
[null,null,null,null,null,null,null,null,null,null,null,null,null,null,null,null,null,null,null,null,null,null,null,null,null,null,null,null,null,null,null,null,null,null,null,null,null,null,null,null,null,null,null,null,null,null,null,null,null,null,"SDN　スーダン共和国"]
[null,null,null,null,null,null,null,null,null,null,null,null,null,null,null,null,null,null,null,null,null,null,null,null,null,null,null,null,null,null,null,null,null,null,null,null,null,null,null,null,null,null,null,null,null,null,null,null,null,null,"SWE　スウェーデン王国"]
[null,null,null,null,null,null,null,null,null,null,null,null,null,null,null,null,null,null,null,null,null,null,null,null,null,null,null,null,null,null,null,null,null,null,null,null,null,null,null,null,null,null,null,null,null,null,null,null,null,null,"SGP　シンガポール共和国"]
[null,null,null,null,null,null,null,null,null,null,null,null,null,null,null,null,null,null,null,null,null,null,null,null,null,null,null,null,null,null,null,null,null,null,null,null,null,null,null,null,null,null,null,null,null,null,null,null,null,null,"SHN　セントヘレナ島"]
[null,null,null,null,null,null,null,null,null,null,null,null,null,null,null,null,null,null,null,null,null,null,null,null,null,null,null,null,null,null,null,null,null,null,null,null,null,null,null,null,null,null,null,null,null,null,null,null,null,null,"SVN　スロベニア共和国"]
[null,null,null,null,null,null,null,null,null,null,null,null,null,null,null,null,null,null,null,null,null,null,null,null,null,null,null,null,null,null,null,null,null,null,null,null,null,null,null,null,null,null,null,null,null,null,null,null,null,null,"SJM　スバールバル諸島・ヤンマイエン島"]
[null,null,null,null,null,null,null,null,null,null,null,null,null,null,null,null,null,null,null,null,null,null,null,null,null,null,null,null,null,null,null,null,null,null,null,null,null,null,null,null,null,null,null,null,null,null,null,null,null,null,"SVK　スロバキア共和国"]
[null,null,null,null,null,null,null,null,null,null,null,null,null,null,null,null,null,null,null,null,null,null,null,null,null,null,null,null,null,null,null,null,null,null,null,null,null,null,null,null,null,null,null,null,null,null,null,null,null,null,"SLE　シエラレオネ共和国"]
[null,null,null,null,null,null,null,null,null,null,null,null,null,null,null,null,null,null,null,null,null,null,null,null,null,null,null,null,null,null,null,null,null,null,null,null,null,null,null,null,null,null,null,null,null,null,null,null,null,null,"SMR　サンマリノ共和国"]
[null,null,null,null,null,null,null,null,null,null,null,null,null,null,null,null,null,null,null,null,null,null,null,null,null,null,null,null,null,null,null,null,null,null,null,null,null,null,null,null,null,null,null,null,null,null,null,null,null,null,"SEN　セネガル共和国"]
[null,null,null,null,null,null,null,null,null,null,null,null,null,null,null,null,null,null,null,null,null,null,null,null,null,null,null,null,null,null,null,null,null,null,null,null,null,null,null,null,null,null,null,null,null,null,null,null,null,null,"SOM　ソマリア民主共和国"]
[null,null,null,null,null,null,null,null,null,null,null,null,null,null,null,null,null,null,null,null,null,null,null,null,null,null,null,null,null,null,null,null,null,null,null,null,null,null,null,null,null,null,null,null,null,null,null,null,null,null,"SUR　スリナム共和国"]
[null,null,null,null,null,null,null,null,null,null,null,null,null,null,null,null,null,null,null,null,null,null,null,null,null,null,null,null,null,null,null,null,null,null,null,null,null,null,null,null,null,null,null,null,null,null,null,null,null,null,"STP　サントメ・プリンシペ民主共和国"]
[null,null,null,null,null,null,null,null,null,null,null,null,null,null,null,null,null,null,null,null,null,null,null,null,null,null,null,null,null,null,null,null,null,null,null,null,null,null,null,null,null,null,null,null,null,null,null,null,null,null,"SLV　エルサルバドル共和国"]
[null,null,null,null,null,null,null,null,null,null,null,null,null,null,null,null,null,null,null,null,null,null,null,null,null,null,null,null,null,null,null,null,null,null,null,null,null,null,null,null,null,null,null,null,null,null,null,null,null,null,"SYR　シリア・アラブ共和国"]
[null,null,null,null,null,null,null,null,null,null,null,null,null,null,null,null,null,null,null,null,null,null,null,null,null,null,null,null,null,null,null,null,null,null,null,null,null,null,null,null,null,null,null,null,null,null,null,null,null,null,"SWZ　スワジランド王国"]
[null,null,null,null,null,null,null,null,null,null,null,null,null,null,null,null,null,null,null,null,null,null,null,null,null,null,null,null,null,null,null,null,null,null,null,null,null,null,null,null,null,null,null,null,null,null,null,null,null,null,"TCA　タークス諸島・カイコス諸島"]
[null,null,null,null,null,null,null,null,null,null,null,null,null,null,null,null,null,null,null,null,null,null,null,null,null,null,null,null,null,null,null,null,null,null,null,null,null,null,null,null,null,null,null,null,null,null,null,null,null,null,"TCD　チャド共和国"]
[null,null,null,null,null,null,null,null,null,null,null,null,null,null,null,null,null,null,null,null,null,null,null,null,null,null,null,null,null,null,null,null,null,null,null,null,null,null,null,null,null,null,null,null,null,null,null,null,null,null,"ATF　仏領極南諸島"]
[null,null,null,null,null,null,null,null,null,null,null,null,null,null,null,null,null,null,null,null,null,null,null,null,null,null,null,null,null,null,null,null,null,null,null,null,null,null,null,null,null,null,null,null,null,null,null,null,null,null,"TGO　トーゴ共和国"]
[null,null,null,null,null,null,null,null,null,null,null,null,null,null,null,null,null,null,null,null,null,null,null,null,null,null,null,null,null,null,null,null,null,null,null,null,null,null,null,null,null,null,null,null,null,null,null,null,null,null,"THA　タイ王国"]
[null,null,null,null,null,null,null,null,null,null,null,null,null,null,null,null,null,null,null,null,null,null,null,null,null,null,null,null,null,null,null,null,null,null,null,null,null,null,null,null,null,null,null,null,null,null,null,null,null,null,"TJK　タジキスタン共和国"]
[null,null,null,null,null,null,null,null,null,null,null,null,null,null,null,null,null,null,null,null,null,null,null,null,null,null,null,null,null,null,null,null,null,null,null,null,null,null,null,null,null,null,null,null,null,null,null,null,null,null,"TKL　トケラウ諸島"]
[null,null,null,null,null,null,null,null,null,null,null,null,null,null,null,null,null,null,null,null,null,null,null,null,null,null,null,null,null,null,null,null,null,null,null,null,null,null,null,null,null,null,null,null,null,null,null,null,null,null,"TKM　トルクメニスタン"]
[null,null,null,null,null,null,null,null,null,null,null,null,null,null,null,null,null,null,null,null,null,null,null,null,null,null,null,null,null,null,null,null,null,null,null,null,null,null,null,null,null,null,null,null,null,null,null,null,null,null,"TUN　チュニジア共和国"]
[null,null,null,null,null,null,null,null,null,null,null,null,null,null,null,null,null,null,null,null,null,null,null,null,null,null,null,null,null,null,null,null,null,null,null,null,null,null,null,null,null,null,null,null,null,null,null,null,null,null,"TON　トンガ王国"]
[null,null,null,null,null,null,null,null,null,null,null,null,null,null,null,null,null,null,null,null,null,null,null,null,null,null,null,null,null,null,null,null,null,null,null,null,null,null,null,null,null,null,null,null,null,null,null,null,null,null,"TMP　東チモール"]
[null,null,null,null,null,null,null,null,null,null,null,null,null,null,null,null,null,null,null,null,null,null,null,null,null,null,null,null,null,null,null,null,null,null,null,null,null,null,null,null,null,null,null,null,null,null,null,null,null,null,"TUR　トルコ共和国"]
[null,null,null,null,null,null,null,null,null,null,null,null,null,null,null,null,null,null,null,null,null,null,null,null,null,null,null,null,null,null,null,null,null,null,null,null,null,null,null,null,null,null,null,null,null,null,null,null,null,null,"TTO　トリニダード・トバゴ共和国"]
[null,null,null,null,null,null,null,null,null,null,null,null,null,null,null,null,null,null,null,null,null,null,null,null,null,null,null,null,null,null,null,null,null,null,null,null,null,null,null,null,null,null,null,null,null,null,null,null,null,null,"TUV　ツバル"]
[null,null,null,null,null,null,null,null,null,null,null,null,null,null,null,null,null,null,null,null,null,null,null,null,null,null,null,null,null,null,null,null,null,null,null,null,null,null,null,null,null,null,null,null,null,null,null,null,null,null,"TWN　台湾"]
[null,null,null,null,null,null,null,null,null,null,null,null,null,null,null,null,null,null,null,null,null,null,null,null,null,null,null,null,null,null,null,null,null,null,null,null,null,null,null,null,null,null,null,null,null,null,null,null,null,null,"TZA　タンザニア連合共和国"]
[null,null,null,null,null,null,null,null,null,null,null,null,null,null,null,null,null,null,null,null,null,null,null,null,null,null,null,null,null,null,null,null,null,null,null,null,null,null,null,null,null,null,null,null,null,null,null,null,null,null,"UKR　ウクライナ"]
[null,null,null,null,null,null,null,null,null,null,null,null,null,null,null,null,null,null,null,null,null,null,null,null,null,null,null,null,null,null,null,null,null,null,null,null,null,null,null,null,null,null,null,null,null,null,null,null,null,null,"UGA　ウガンダ共和国"]
[null,null,null,null,null,null,null,null,null,null,null,null,null,null,null,null,null,null,null,null,null,null,null,null,null,null,null,null,null,null,null,null,null,null,null,null,null,null,null,null,null,null,null,null,null,null,null,null,null,null,"UMI　米領太平洋諸島"]
[null,null,null,null,null,null,null,null,null,null,null,null,null,null,null,null,null,null,null,null,null,null,null,null,null,null,null,null,null,null,null,null,null,null,null,null,null,null,null,null,null,null,null,null,null,null,null,null,null,null,"USA　アメリカ合衆国(米国)"]
[null,null,null,null,null,null,null,null,null,null,null,null,null,null,null,null,null,null,null,null,null,null,null,null,null,null,null,null,null,null,null,null,null,null,null,null,null,null,null,null,null,null,null,null,null,null,null,null,null,null,"URY　ウルグアイ東方共和国"]
[null,null,null,null,null,null,null,null,null,null,null,null,null,null,null,null,null,null,null,null,null,null,null,null,null,null,null,null,null,null,null,null,null,null,null,null,null,null,null,null,null,null,null,null,null,null,null,null,null,null,"UZB　ウズベキスタン共和国"]
[null,null,null,null,null,null,null,null,null,null,null,null,null,null,null,null,null,null,null,null,null,null,null,null,null,null,null,null,null,null,null,null,null,null,null,null,null,null,null,null,null,null,null,null,null,null,null,null,null,null,"VAT　バチカン市国"]
[null,null,null,null,null,null,null,null,null,null,null,null,null,null,null,null,null,null,null,null,null,null,null,null,null,null,null,null,null,null,null,null,null,null,null,null,null,null,null,null,null,null,null,null,null,null,null,null,null,null,"VCT　セントビンセント及びグレナディーン諸島"]
[null,null,null,null,null,null,null,null,null,null,null,null,null,null,null,null,null,null,null,null,null,null,null,null,null,null,null,null,null,null,null,null,null,null,null,null,null,null,null,null,null,null,null,null,null,null,null,null,null,null,"VEN　ベネズエラ共和国"]
[null,null,null,null,null,null,null,null,null,null,null,null,null,null,null,null,null,null,null,null,null,null,null,null,null,null,null,null,null,null,null,null,null,null,null,null,null,null,null,null,null,null,null,null,null,null,null,null,null,null,"VGB　英領バージン諸島"]
[null,null,null,null,null,null,null,null,null,null,null,null,null,null,null,null,null,null,null,null,null,null,null,null,null,null,null,null,null,null,null,null,null,null,null,null,null,null,null,null,null,null,null,null,null,null,null,null,null,null,"VIR　米領バージン諸島"]
[null,null,null,null,null,null,null,null,null,null,null,null,null,null,null,null,null,null,null,null,null,null,null,null,null,null,null,null,null,null,null,null,null,null,null,null,null,null,null,null,null,null,null,null,null,null,null,null,null,null,"VNM　ベトナム社会主義共和国"]
[null,null,null,null,null,null,null,null,null,null,null,null,null,null,null,null,null,null,null,null,null,null,null,null,null,null,null,null,null,null,null,null,null,null,null,null,null,null,null,null,null,null,null,null,null,null,null,null,null,null,"VUT　バヌアツ共和国"]
[null,null,null,null,null,null,null,null,null,null,null,null,null,null,null,null,null,null,null,null,null,null,null,null,null,null,null,null,null,null,null,null,null,null,null,null,null,null,null,null,null,null,null,null,null,null,null,null,null,null,"WLF　ワリス・フテュナ諸島"]
[null,null,null,null,null,null,null,null,null,null,null,null,null,null,null,null,null,null,null,null,null,null,null,null,null,null,null,null,null,null,null,null,null,null,null,null,null,null,null,null,null,null,null,null,null,null,null,null,null,null,"WSM　西サモア"]
[null,null,null,null,null,null,null,null,null,null,null,null,null,null,null,null,null,null,null,null,null,null,null,null,null,null,null,null,null,null,null,null,null,null,null,null,null,null,null,null,null,null,null,null,null,null,null,null,null,null,"YEM　イエメン共和国"]
[null,null,null,null,null,null,null,null,null,null,null,null,null,null,null,null,null,null,null,null,null,null,null,null,null,null,null,null,null,null,null,null,null,null,null,null,null,null,null,null,null,null,null,null,null,null,null,null,null,null,"MYT　マイヨット島"]
[null,null,null,null,null,null,null,null,null,null,null,null,null,null,null,null,null,null,null,null,null,null,null,null,null,null,null,null,null,null,null,null,null,null,null,null,null,null,null,null,null,null,null,null,null,null,null,null,null,null,"YUG　(ユーゴスラビア連邦共和国)"]
[null,null,null,null,null,null,null,null,null,null,null,null,null,null,null,null,null,null,null,null,null,null,null,null,null,null,null,null,null,null,null,null,null,null,null,null,null,null,null,null,null,null,null,null,null,null,null,null,null,null,"ZAF　南アフリカ共和国"]
[null,null,null,null,null,null,null,null,null,null,null,null,null,null,null,null,null,null,null,null,null,null,null,null,null,null,null,null,null,null,null,null,null,null,null,null,null,null,null,null,null,null,null,null,null,null,null,null,null,null,"ZMB　ザンビア共和国"]
[null,null,null,null,null,null,null,null,null,null,null,null,null,null,null,null,null,null,null,null,null,null,null,null,null,null,null,null,null,null,null,null,null,null,null,null,null,null,null,null,null,null,null,null,null,null,null,null,null,null,"ZAR　ザイール共和国"]
[null,null,null,null,null,null,null,null,null,null,null,null,null,null,null,null,null,null,null,null,null,null,null,null,null,null,null,null,null,null,null,null,null,null,null,null,null,null,null,null,null,null,null,null,null,null,null,null,null,null,"ZWE　ジンバブエ共和国"]

{"sheet":"　　　　　　　　　","index":4,"n_rows":14,"n_cols":24,"rows_kept":14,"cut":false,"hidden":false,"merged":[[0,9,0,11],[7,17,12,17],[7,5,12,5],[5,1,5,5],[7,23,12,23],[5,13,5,17],[5,19,5,23],[5,7,5,11],[7,11,12,11],[0,15,0,17]]}
["④リレー情報確認",null,null,null,null,null,null,null,"チーム名 ",{"$f":"IF(①団体情報入力!C6=\"\",\"\",①団体情報入力!C6)","v":""},null,null,null,null,"ｶﾅ",{"$f":"IF(①団体情報入力!C7=\"\",\"\",①団体情報入力!C7)","v":""}]
[]
[null,null,"※リレーにエントリーをする選手とチームの記録を確認してください。"]
[null,null,"※修正をする場合は「②選手情報入力」で修正してください。"]
[null,null,"※リレーエントリーに○を付けても、データが反映されない場合、「②選手権情報入力」のナンバーのセルが文字列になっていますので数値に変換してください。"]
[null,"男4X100mR",null,null,null,null,null,"男4X400mR",null,null,null,null,null,"女4X100mR",null,null,null,null,null,"女4X400mR"]
[null,"Ord","ﾅﾝﾊﾞｰ","氏　名","競技者NO","記録",null,"Ord","ﾅﾝﾊﾞｰ","氏　名","競技者NO","記録",null,"Ord","ﾅﾝﾊﾞｰ","氏　名","競技者NO","記録",null,"Ord","ﾅﾝﾊﾞｰ","氏　名","競技者NO","記録"]
[null,1,{"$f":"IF(②選手情報入力!$AQ$10<1,\"\",VLOOKUP(B8,②選手情報入力!$AP$11:$AQ$100,2,FALSE))","v":""},{"$f":"IF(C8=\"\",\"\",VLOOKUP(C8,②選手情報入力!$AD$11:$AE$100,2,FALSE))","v":""},{"$f":"IF(C8=\"\",\"\",VLOOKUP(C8,②選手情報入力!$AD$11:$AJ$100,6,FALSE))","v":""},{"$f":"IF(②選手情報入力!U7=\"\",\"\",②選手情報入力!U7)","v":""},null,1,{"$f":"IF(②選手情報入力!$AS$10<1,\"\",VLOOKUP(H8,②選手情報入力!$AR$11:$AS$100,2,FALSE))","v":""},{"$f":"IF(I8=\"\",\"\",VLOOKUP(I8,②選手情報入力!$AD$11:$AE$100,2,FALSE))","v":""},{"$f":"IF(I8=\"\",\"\",VLOOKUP(I8,②選手情報入力!$AD$11:$AJ$100,6,FALSE))","v":""},{"$f":"IF(②選手情報入力!W7=\"\",\"\",②選手情報入力!W7)","v":""},null,1,{"$f":"IF(②選手情報入力!$AU$10<1,\"\",VLOOKUP(N8,②選手情報入力!$AT$11:$AU$100,2,FALSE))","v":""},{"$f":"IF(O8=\"\",\"\",VLOOKUP(O8,②選手情報入力!$AJ$11:$AK$100,2,FALSE))","v":""},{"$f":"IF(O8=\"\",\"\",VLOOKUP(O8,②選手情報入力!$AJ$11:$AQ$100,6,FALSE))","v":""},{"$f":"IF(②選手情報入力!U8=\"\",\"\",②選手情報入力!U8)","v":""},null,1,{"$f":"IF(②選手情報入力!$AW$10<1,\"\",VLOOKUP(T8,②選手情報入力!$AV$11:$AW$100,2,FALSE))","v":""},{"$f":"IF(U8=\"\",\"\",VLOOKUP(U8,②選手情報入力!$AJ$11:$AK$100,2,FALSE))","v":""},{"$f":"IF(U8=\"\",\"\",VLOOKUP(U8,②選手情報入力!$AJ$11:$AQ$100,6,FALSE))","v":""},{"$f":"IF(②選手情報入力!W8=\"\",\"\",②選手情報入力!W8)","v":""}]
[null,2,{"$f":"IF(②選手情報入力!$AQ$10<2,\"\",VLOOKUP(B9,②選手情報入力!$AP$11:$AQ$100,2,FALSE))","v":""},{"$f":"IF(C9=\"\",\"\",VLOOKUP(C9,②選手情報入力!$AD$11:$AE$100,2,FALSE))","v":""},{"$f":"IF(C9=\"\",\"\",VLOOKUP(C9,②選手情報入力!$AD$11:$AJ$100,6,FALSE))","v":""},null,null,2,{"$f":"IF(②選手情報入力!$AS$10<2,\"\",VLOOKUP(H9,②選手情報入力!$AR$11:$AS$100,2,FALSE))","v":""},{"$f":"IF(I9=\"\",\"\",VLOOKUP(I9,②選手情報入力!$AD$11:$AE$100,2,FALSE))","v":""},{"$f":"IF(I9=\"\",\"\",VLOOKUP(I9,②選手情報入力!$AD$11:$AJ$100,6,FALSE))","v":""},null,null,2,{"$f":"IF(②選手情報入力!$AU$10<2,\"\",VLOOKUP(N9,②選手情報入力!$AT$11:$AU$100,2,FALSE))","v":""},{"$f":"IF(O9=\"\",\"\",VLOOKUP(O9,②選手情報入力!$AJ$11:$AK$100,2,FALSE))","v":""},{"$f":"IF(O9=\"\",\"\",VLOOKUP(O9,②選手情報入力!$AJ$11:$AQ$100,6,FALSE))","v":""},null,null,2,{"$f":"IF(②選手情報入力!$AW$10<2,\"\",VLOOKUP(T9,②選手情報入力!$AV$11:$AW$100,2,FALSE))","v":""},{"$f":"IF(U9=\"\",\"\",VLOOKUP(U9,②選手情報入力!$AJ$11:$AK$100,2,FALSE))","v":""},{"$f":"IF(U9=\"\",\"\",VLOOKUP(U9,②選手情報入力!$AJ$11:$AQ$100,6,FALSE))","v":""}]
[null,3,{"$f":"IF(②選手情報入力!$AQ$10<3,\"\",VLOOKUP(B10,②選手情報入力!$AP$11:$AQ$100,2,FALSE))","v":""},{"$f":"IF(C10=\"\",\"\",VLOOKUP(C10,②選手情報入力!$AD$11:$AE$100,2,FALSE))","v":""},{"$f":"IF(C10=\"\",\"\",VLOOKUP(C10,②選手情報入力!$AD$11:$AJ$100,6,FALSE))","v":""},null,null,3,{"$f":"IF(②選手情報入力!$AS$10<3,\"\",VLOOKUP(H10,②選手情報入力!$AR$11:$AS$100,2,FALSE))","v":""},{"$f":"IF(I10=\"\",\"\",VLOOKUP(I10,②選手情報入力!$AD$11:$AE$100,2,FALSE))","v":""},{"$f":"IF(I10=\"\",\"\",VLOOKUP(I10,②選手情報入力!$AD$11:$AJ$100,6,FALSE))","v":""},null,null,3,{"$f":"IF(②選手情報入力!$AU$10<3,\"\",VLOOKUP(N10,②選手情報入力!$AT$11:$AU$100,2,FALSE))","v":""},{"$f":"IF(O10=\"\",\"\",VLOOKUP(O10,②選手情報入力!$AJ$11:$AK$100,2,FALSE))","v":""},{"$f":"IF(O10=\"\",\"\",VLOOKUP(O10,②選手情報入力!$AJ$11:$AQ$100,6,FALSE))","v":""},null,null,3,{"$f":"IF(②選手情報入力!$AW$10<3,\"\",VLOOKUP(T10,②選手情報入力!$AV$11:$AW$100,2,FALSE))","v":""},{"$f":"IF(U10=\"\",\"\",VLOOKUP(U10,②選手情報入力!$AJ$11:$AK$100,2,FALSE))","v":""},{"$f":"IF(U10=\"\",\"\",VLOOKUP(U10,②選手情報入力!$AJ$11:$AQ$100,6,FALSE))","v":""}]
[null,4,{"$f":"IF(②選手情報入力!$AQ$10<4,\"\",VLOOKUP(B11,②選手情報入力!$AP$11:$AQ$100,2,FALSE))","v":""},{"$f":"IF(C11=\"\",\"\",VLOOKUP(C11,②選手情報入力!$AD$11:$AE$100,2,FALSE))","v":""},{"$f":"IF(C11=\"\",\"\",VLOOKUP(C11,②選手情報入力!$AD$11:$AJ$100,6,FALSE))","v":""},null,null,4,{"$f":"IF(②選手情報入力!$AS$10<4,\"\",VLOOKUP(H11,②選手情報入力!$AR$11:$AS$100,2,FALSE))","v":""},{"$f":"IF(I11=\"\",\"\",VLOOKUP(I11,②選手情報入力!$AD$11:$AE$100,2,FALSE))","v":""},{"$f":"IF(I11=\"\",\"\",VLOOKUP(I11,②選手情報入力!$AD$11:$AJ$100,6,FALSE))","v":""},null,null,4,{"$f":"IF(②選手情報入力!$AU$10<4,\"\",VLOOKUP(N11,②選手情報入力!$AT$11:$AU$100,2,FALSE))","v":""},{"$f":"IF(O11=\"\",\"\",VLOOKUP(O11,②選手情報入力!$AJ$11:$AK$100,2,FALSE))","v":""},{"$f":"IF(O11=\"\",\"\",VLOOKUP(O11,②選手情報入力!$AJ$11:$AQ$100,6,FALSE))","v":""},null,null,4,{"$f":"IF(②選手情報入力!$AW$10<4,\"\",VLOOKUP(T11,②選手情報入力!$AV$11:$AW$100,2,FALSE))","v":""},{"$f":"IF(U11=\"\",\"\",VLOOKUP(U11,②選手情報入力!$AJ$11:$AK$100,2,FALSE))","v":""},{"$f":"IF(U11=\"\",\"\",VLOOKUP(U11,②選手情報入力!$AJ$11:$AQ$100,6,FALSE))","v":""}]
[null,5,{"$f":"IF(②選手情報入力!$AQ$10<5,\"\",VLOOKUP(B12,②選手情報入力!$AP$11:$AQ$100,2,FALSE))","v":""},{"$f":"IF(C12=\"\",\"\",VLOOKUP(C12,②選手情報入力!$AD$11:$AE$100,2,FALSE))","v":""},{"$f":"IF(C12=\"\",\"\",VLOOKUP(C12,②選手情報入力!$AD$11:$AJ$100,6,FALSE))","v":""},null,null,5,{"$f":"IF(②選手情報入力!$AS$10<5,\"\",VLOOKUP(H12,②選手情報入力!$AR$11:$AS$100,2,FALSE))","v":""},{"$f":"IF(I12=\"\",\"\",VLOOKUP(I12,②選手情報入力!$AD$11:$AE$100,2,FALSE))","v":""},{"$f":"IF(I12=\"\",\"\",VLOOKUP(I12,②選手情報入力!$AD$11:$AJ$100,6,FALSE))","v":""},null,null,5,{"$f":"IF(②選手情報入力!$AU$10<5,\"\",VLOOKUP(N12,②選手情報入力!$AT$11:$AU$100,2,FALSE))","v":""},{"$f":"IF(O12=\"\",\"\",VLOOKUP(O12,②選手情報入力!$AJ$11:$AK$100,2,FALSE))","v":""},{"$f":"IF(O12=\"\",\"\",VLOOKUP(O12,②選手情報入力!$AJ$11:$AQ$100,6,FALSE))","v":""},null,null,5,{"$f":"IF(②選手情報入力!$AW$10<5,\"\",VLOOKUP(T12,②選手情報入力!$AV$11:$AW$100,2,FALSE))","v":""},{"$f":"IF(U12=\"\",\"\",VLOOKUP(U12,②選手情報入力!$AJ$11:$AK$100,2,FALSE))","v":""},{"$f":"IF(U12=\"\",\"\",VLOOKUP(U12,②選手情報入力!$AJ$11:$AQ$100,6,FALSE))","v":""}]
[null,6,{"$f":"IF(②選手情報入力!$AQ$10<6,\"\",VLOOKUP(B13,②選手情報入力!$AP$11:$AQ$100,2,FALSE))","v":""},{"$f":"IF(C13=\"\",\"\",VLOOKUP(C13,②選手情報入力!$AD$11:$AE$100,2,FALSE))","v":""},{"$f":"IF(C13=\"\",\"\",VLOOKUP(C13,②選手情報入力!$AD$11:$AJ$100,6,FALSE))","v":""},null,null,6,{"$f":"IF(②選手情報入力!$AS$10<6,\"\",VLOOKUP(H13,②選手情報入力!$AR$11:$AS$100,2,FALSE))","v":""},{"$f":"IF(I13=\"\",\"\",VLOOKUP(I13,②選手情報入力!$AD$11:$AE$100,2,FALSE))","v":""},{"$f":"IF(I13=\"\",\"\",VLOOKUP(I13,②選手情報入力!$AD$11:$AJ$100,6,FALSE))","v":""},null,null,6,{"$f":"IF(②選手情報入力!$AU$10<6,\"\",VLOOKUP(N13,②選手情報入力!$AT$11:$AU$100,2,FALSE))","v":""},{"$f":"IF(O13=\"\",\"\",VLOOKUP(O13,②選手情報入力!$AJ$11:$AK$100,2,FALSE))","v":""},{"$f":"IF(O13=\"\",\"\",VLOOKUP(O13,②選手情報入力!$AJ$11:$AQ$100,6,FALSE))","v":""},null,null,6,{"$f":"IF(②選手情報入力!$AW$10<6,\"\",VLOOKUP(T13,②選手情報入力!$AV$11:$AW$100,2,FALSE))","v":""},{"$f":"IF(U13=\"\",\"\",VLOOKUP(U13,②選手情報入力!$AJ$11:$AK$100,2,FALSE))","v":""},{"$f":"IF(U13=\"\",\"\",VLOOKUP(U13,②選手情報入力!$AJ$11:$AQ$100,6,FALSE))","v":""}]
[null,null,null,"申込チーム数",null,{"$f":"IF(②選手情報入力!AQ10>=4,1,0)","v":0},null,null,null,"申込チーム数",null,{"$f":"IF(②選手情報入力!AS10>=4,1,0)","v":0},null,null,null,"申込チーム数",null,{"$f":"IF(②選手情報入力!AU10>=4,1,0)","v":0},null,null,null,"申込チーム数",null,{"$f":"IF(②選手情報入力!AW10>=4,1,0)","v":0}]

{"sheet":"④種目別人数","index":5,"n_rows":16,"n_cols":10,"rows_kept":16,"cut":false,"hidden":false,"merged":[[0,2,0,5],[6,9,8,14],[13,5,13,6],[6,1,6,2],[13,2,13,4],[7,2,7,3],[12,2,12,4],[11,1,11,4],[8,2,8,3],[1,0,1,7],[3,0,3,7],[5,3,5,6],[4,2,4,5],[2,0,2,6]]}
["⑤種目別人数一覧表",null,"団体用"]
["※種目数・参加料等を確認してから印刷をしてください。"]
[{"$f":"注意事項!C3","v":"２０２１年度　名古屋地区夏季陸上競技大会\n　兼　愛知県国体選手選考会・名古屋地区選手権男子１００００ｍ・男女5000mW"}]
["種目別申込人数一覧表"]
[null,"申込責任者",{"$f":"IF(①団体情報入力!C8=\"\",\"\",①団体情報入力!C8)","v":""},null,null,null,"A4サイズ"]
[null,{"$f":"IF(①団体情報入力!C9=\"\",\"\",①団体情報入力!C9)","v":""},"団体名",{"$f":"IF(①団体情報入力!C6=\"\",\"\",①団体情報入力!C6&\"　\"&②選手情報入力!D11)","v":""}]
[null,"種　目　数",null,null,null,{"$f":"①団体情報入力!C2","v":"一般大学高校"},"参　加　料",null,"⬅","中学生と一般で参加料が異なります。①団体情報入力で正しいカテゴリーが選択されているか確認願います。"]
[null,"種目数",{"$f":"②選手情報入力!I101","v":0},null,null,{"$f":"IF(①団体情報入力!C2=\"一般大学高校\",\"参加数✕800円\",\"参加数✕600円\")","v":"参加数✕800円"},{"$f":"IF(①団体情報入力!C2=\"一般大学高校\",C8*800,C8*600)","v":0},null,"⬅"]
[null,"リレー",{"$f":"②選手情報入力!I102","v":0},null,null,"リレー参加数✕1200円",{"$f":"C9*1200","v":0}]
[null,"プログラム購入部数",{"$f":"IF(①団体情報入力!C11=\"\",0,①団体情報入力!C11)","v":0},"部",null,"プログラム部数✕1400円",{"$f":"C10*1400","v":0}]
[null,null,null,null,null,"合計",{"$f":"SUM(G8:G10)","v":0}]
[null,"役員のできる方のお名前",null,null,null,"参加人数",{"$f":"IF(②選手情報入力!I105=0,\"\",②選手情報入力!I105)","v":""}]
[null,{"$f":"IF(①団体情報入力!A13=\"\",\"\",①団体情報入力!A13)","v":""},{"$f":"IF(①団体情報入力!E13=\"\",\"\",①団体情報入力!E13)","v":""}]
[null,{"$f":"IF(①団体情報入力!A14=\"\",\"\",①団体情報入力!A14)","v":""},{"$f":"IF(①団体情報入力!E14=\"\",\"\",①団体情報入力!E14)","v":""},null,null,{"$f":"TODAY()","v":"2021-05-14"}]
[]
[null,"振込明細書のコピーを余白に添付してください"]

{"sheet":"⑤大会前 提出用","index":6,"n_rows":22,"n_cols":11,"rows_kept":22,"cut":false,"hidden":false,"merged":[[21,0,21,1],[0,0,0,10],[1,0,1,10],[2,0,2,10],[4,0,4,10],[19,0,19,1],[19,2,19,10]]}
[]
["【大会前／提出用】新型コロナウイルス感染症についての体調管理チェックシート【名古屋地区プレシーズンゲーム用】"]
["本チェックシートは各種⼤会において新型コロナウイルス感染症の拡⼤を防⽌するため、参加者の健康状態を確認することを⽬的としています。本チェックシートに記⼊いただいた個⼈情報については、厳正なる管理のもとに保管し、健康状態の把握、来場可否の判断および必要なご連絡のためにのみ利⽤します。また、個⼈情報保護法等の法令において認められる場合を除きご本⼈の同意を得ずに第三者に提供いたしません。但し、⼤会会場にて感染症患者またはその疑いのある⽅が発⾒された場合に必要な範囲で保健所等に提供することがあります。　                                                                                                       🔲個人情報の取得・利用・提供に同意する"]
["※大会1週間前から記入し、大会当日、主催者の指示に従い指定の場所に提出すること"]
["※該当しない場合は✔を入れ、該当する場合は〇を記入すること（体温0.1℃単位の数字を記入）"]
["No.","チェックリスト"]
[1,"のどの痛みがある"]
[2,"咳（せき）が出る"]
[3,"痰（たん）がでたり、からんだりする"]
[4,"鼻水（はなみず）、鼻づまりがある　※アレルギーを除く"]
[5,"頭が痛い"]
[6,"体のだるさなどがある"]
[7,"発熱の症状がある"]
[8,"息苦しさがある"]
[9,"味覚異常(味がしない)"]
[10,"嗅覚異常(匂いがしない)"]
[11,"体温","℃","℃","℃","℃","℃","℃","℃","℃","℃"]
[12,"薬剤の服用(解熱剤を含む上記症状を緩和させる薬剤)"]
[]
["氏名　　　　　　　　　　　　　　　　　　　　　",null,"所属（学校名など）　　　　　　　　　　　　　　　　　　　　　"]
[null,null,"※参加者が未成年の場合"]
["連絡先（電話番号）　　　　　　　　　　　   　　",null,"保護者氏名　　　　　　　　　　　　　　　　　　　　　　　　　"]

{"sheet":"⑥大会後 個人管理用","index":7,"n_rows":22,"n_cols":17,"rows_kept":22,"cut":false,"hidden":false,"merged":[[19,2,19,4],[19,5,19,16],[13,5,13,6],[14,5,14,6],[15,5,15,6],[16,5,16,6],[17,5,17,6],[18,5,18,6],[12,5,12,6],[7,5,7,6],[8,5,8,6],[9,5,9,6],[10,5,10,6],[11,5,11,6]]}
[null,"①団体情報入力を行ってから、⑤大会前提出用⑥大会後個人管理用を必要数印刷してお使いください。"]
[]
[null,null,null,null,null,null,"]ＡＡＦ"]
["　【大会後／個人管理用】新型コロナウイルス感染症についての体調管理チェツクシート"]
["※犬会終了後２週間は健康チェックをすること。"]
["※該当しない場合は☓を入れ、該当する場合は○を記入すること［体温は0.1℃単位の数字を記入］"]
[]
["N0.","チェックリスト"]
["１","のどの痛みがある"]
["２","咳（せき）が出る"]
["３","痰（たん）がでたり、からんだりする"]
["４","鼻水、鼻づまりがある　ﾒｱﾚﾉﾚｷﾞｰを匹"]
["５","頭が痛い"]
["６","体のだるさなどがある"]
["７","発熱の症状がある"]
["８","息苦しさがある"]
["９","味覚異常(味がしない)"]
[10,"嗅覚異常(匂いがしない)"]
[11,"体温","゜ Ｃ","゜ Ｃ","゜ Ｃ","゜ Ｃ",null,"゜ Ｃ","゜ Ｃ","゜ Ｃ","゜ Ｃ","゜ Ｃ","゜ Ｃ","゜ Ｃ","゜ Ｃ","゜ Ｃ","゜ Ｃ"]
["氏名",null,"所属（学校名など）",null,null,{"$f":"IF(①団体情報入力!C4=\"\",\"\",①団体情報入力!C4)","v":""}]
["※症状が４日以上続く場合は必ず最寄りの保健所、医師会、診療所等に報告してください。症状には個人差がありますので、強い症状と思う場合にはすぐに報告してください。"]
["※保健所、医師会、診療所等に相談後、必ず大会主催者に報告してください。"]

{"sheet":"⑦入場許可申請","index":8,"n_rows":41,"n_cols":7,"rows_kept":41,"cut":false,"hidden":false,"merged":[[33,0,33,1],[36,0,36,8],[37,0,37,8],[11,3,12,5],[14,0,14,8],[16,6,16,8],[22,0,22,1],[28,0,28,1],[31,0,31,1],[25,0,25,1],[21,2,23,8],[24,2,26,8],[27,2,29,8],[30,2,32,8],[33,2,33,8]]}
[]
[]
["当面の間、名古屋地区の競技会は無観客で実施します。"]
[]
["個人参加者の引率などについて、選手1名に付き1名の帯同を認めます。"]
["学校等の引率で、審判をされない方も１団体１名の帯同を認めます。"]
["ただし、事前申請に限ります。当日の発行はいたしませんのでご注意ください。"]
["選手同様、大会前後の検温等の実施・体調管理シートの提出も合わせてお願い致します。"]
[]
["この用紙にデータ入力の上、④種目別人数と共に印刷し一緒に郵送してください"]
[]
[null,null,null,"キ　　　リ　　　ト　　リ"]
[]
[]
["入場許可証申請書"]
[]
[null,null,null,null,null,"申請日","令和　　年　　　　月　　　　日"]
[]
["名古屋地区陸上競技協会　会長　坂井田　酵三殿"]
[]
[]
[]
["団　体　名"]
[]
[]
["選手との続柄"]
[]
[]
["申請者 氏名"]
[]
[]
["申請者住所"]
[]
["電話番号\n（携帯が望ましい）"]
[]
[]
["大会要項・競技注意事項等に記されている注意事項を厳守し引率します。"]
["これらの項目が守られない場合には退場して頂く場合があります。、"]
[]
[]
[null,null,null,null,"本人自署"]

{"sheet":"⑧リレーの選手が反映されない","index":9,"n_rows":23,"n_cols":2,"rows_kept":23,"cut":false,"hidden":false,"merged":[]}
[]
[null,"文字列を数値に変換する"]
[null,"エクセルでは数値と判断できる文字列を数式に使用したとき、自動で数値に変換されます。"]
[]
[]
[]
[]
[]
[]
[]
[]
[]
[null,"これらの文字列を数値に変換するには、[セル] をクリックしてエラーチェックの機能から [数値に変換する] をクリックします。変換したいセルを範囲選択してから行うと一括で変換できます。"]
[]
[]
[]
[]
[]
[]
[]
[]
[]
[null,"文字列が数値に変換されます。"]

{"sheet":"⑨日付が数字になる","index":10,"n_rows":5,"n_cols":1,"rows_kept":5,"cut":false,"hidden":false,"merged":[]}
["表示形式を日付に戻す"]
[]
["日付の表示形式が失われてシリアル値になったデータは、簡単に日付の形に戻すことができます。"]
[]
["操作方法は対象のセル（例ではB5:B14）をアクティブにし、「ホーム」タブの「表示形式」の▼をクリックし、一覧から「短い日付形式」もしくは「長い日付形式」をクリックします。"]

{"sheet":"　　　　　","index":11,"n_rows":0,"n_cols":0,"rows_kept":0,"cut":false,"hidden":false,"merged":[]}

{"sheet":"種目情報","index":12,"n_rows":86,"n_cols":16,"rows_kept":86,"cut":false,"hidden":false,"merged":[[8,13,8,17],[0,0,0,2],[0,4,0,6],[0,8,0,10],[1,0,2,0],[1,4,2,4],[1,8,2,8]]}
["男子",null,null,null,"女子",null,null,null,"リレー",null,null,null,null,"◎第１日",{"$f":"#REF!","v":{"$error":"#REF!"}},"5000mWは名古屋地区選手権を兼ねます"]
["種目","種目","記録",null,"種目","種目","記録",null,"種目","種目","記録",null,null,"　中学１５０ｍは、３００ｍHマーク敷設の都合で距離がが変更される場合があります"]
[null,"No","FLAG",null,null,"No","FLAG",null,null,"No","FLAG",null,null,"（男子）中学１５０ｍ(145mで実施する場合があります），２００ｍ，８００ｍ，110mH (1.067m),"]
[null,null,null,null,null,null,null,null,"男4X100mR",12,2,null,null," １１０ｍＨ(0.991m),5000mW、４×１００ｍＲ，棒高跳，三段跳，円盤投(2.000kg)"]
["男中学１５０ｍ",1,2,null,"女中学１５０ｍ",27,2,null,"男4X400mR",13,2,null,null," 高校円盤投(1.750kg)，中学円盤投(1.500kg)，ハンマー投(7.260kg)，高校ハンマー投(6.000kg)"]
["男２００ｍ",2,2,null,"女２００ｍ",28,2,null,"女4X100mR",37,2]
["男４００ｍ",3,2,null,"女４００ｍ",29,2,null,"女4X400mR",38,2,null,null,"（女子）中学１５０ｍ(145mで実施する場合があります），２００ｍ，８００ｍ，100mH (0.838m),"]
["男８００ｍ",4,2,null,"女８００ｍ",30,2,null,null,null,null,null,null,"１００ｍＹＨ(0.762m/8.5m)，5000mW、４×１００ｍＲ，棒高跳，走幅跳，"]
["男1500m",5,2,null,"女1500m",31,2,null,null,null,null,null,null,"　　　　　　　　円盤投(1.000kg)，ハンマー投(4.000kg)"]
["男中学110mH(0,914m)",6,2,null,"女中学100mH(0.762m)",32,2]
["男110mH(0.991m)",7,2,null,"女100mH(0.762m/8.5m)",33,2,null,null,null,null,null,null,"◎第2日",{"$f":"#REF!","v":{"$error":"#REF!"}},"（300nHは、マーク敷設の都合で４００ｎHに変更される場合があります）"]
["男110mH(1.067m)",8,2,null,"女100mH(0.838m)",34,2,null,null,null,null,null,null,"　　　　　　地区選手権男子１００００ｍ"]
["男400mH(0.914m)",9,2,null,"女400mH(0.762m)",35,2,null,null,null,null,null,null,"（男子）３００ｍ，１５００ｍ，３００ｍＨ(0.914m)，４×４００ｍＲ，"]
["男選手権5000mW",10,2,null,"女選手権5000mW",36,2,null,null,null,null,null,null,"　走高跳，走幅跳，砲丸投(7.260kg)，高校砲丸投(6.000kg)，中学砲丸投(5.000kg)，やり投(0.800kg)"]
["男選手権10000m",11,2,null,"女走高跳",39]
["男走高跳",14,0,null,"女棒高跳",40,null,null,null,null,null,null,null,"（女子）３００ｍ，１５００ｍ，３００ｍＨ(0.762m)，４×４００ｍＲ，"]
["男棒高跳",15,0,null,"女走幅跳",41,null,null,null,null,null,null,null,"　走高跳，三段跳，砲丸投(4.000kg)，中学砲丸投(2.721kg)，やり投(0.600kg)"]
["男走幅跳",16,0,null,"女三段跳",42]
["男三段跳",17,0,null,"女砲丸投(4.000kg)",43]
["男砲丸投(7.260kg)",18,0,null,"女中学砲丸投(2.721kg)",44]
["男高校砲丸投(6.000kg)",19,0,null,"女円盤投(1.000kg)",45]
["男中学砲丸投(5.000kg)",20,0,null,"女ハンマー投(4.000kg)",46]
["男円盤投(2.000kg)",21,0,null,"女やり投(0.600kg)",47]
["男高校円盤投(1.750kg)",22,0]
["男中学円盤投(1.500kg)",23,0,null,"一般･高校(１日目）　⬇"]
["男ハンマー投(7.260kg)",24,0,null,"女２００ｍ"]
["男高校ハンマー投(6.000kg)",25,0,null,"女８００ｍ"]
["男やり投(0.800kg)",26,0,null,"女100mYH(0.762m/8.5m)"]
[null,null,null,null,"女100mH (0.838m)"]
["一般(１日目）　⬇",null,null,null,"女選手権5000mW"]
["男２００ｍ",null,null,null,"女棒高跳"]
["男８００ｍ",null,null,null,"女走幅跳"]
["男110mH(0.991m)",null,null,null,"女円盤投(1.000kg)"]
["男110mH(1.067m)",null,null,null,"女ハンマー投(4.000kg)"]
["男選手権5000mW"]
["男棒高跳",null,null,null,"中学（１日目）　⬇"]
["男三段跳",null,null,null,"女中学１５０ｍ"]
["男円盤投(2.000kg)",null,null,null,"女８００ｍ"]
["男ハンマー投(7.260kg)",null,null,null,"女中学100mH(0.762m)"]
[null,null,null,null,"女100mH(0.762m/8.5m)"]
["高校（１日目）　⬇",null,null,null,"女棒高跳"]
["男２００ｍ",null,null,null,"女走幅跳"]
["男８００ｍ",null,null,null,"女円盤投(1.000kg)"]
["男110mH(0.991m)"]
["男110mH(1.067m)",null,null,null,"一般･高校(2日目）　⬇"]
["男選手権5000mW",null,null,null,"女４００ｍ"]
["男棒高跳",null,null,null,"女1500m"]
["男三段跳",null,null,null,"女400mH(0.762m)"]
["男高校円盤投(1.750kg)",null,null,null,"女走高跳"]
["男高校ハンマー投(6.000kg)",null,null,null,"女三段跳"]
[null,null,null,null,"女砲丸投(4.000kg)"]
["中学（１日目）　⬇",null,null,null,"女やり投(0.600kg)"]
["中男１５０ｍ"]
["男８００ｍ",null,null,null,"中学（２日目）　⬇"]
["男中学110mH(0,914m)",null,null,null,"女４００ｍ"]
["男110mH(0.991m)",null,null,null,"女1500m"]
["男棒高跳",null,null,null,"女走高跳"]
["男三段跳",null,null,null,"女三段跳"]
["男中学円盤投(1.500kg)",null,null,null,"女中学砲丸投(2.721kg)"]
[]
["一般(２日目）　⬇"]
["男４００ｍ"]
["男1500m"]
["男400mH(0.914m)"]
["男選手権10000m"]
["男走高跳"]
["男走幅跳"]
["男砲丸投(7.260kg)"]
["男やり投(0.800kg)"]
[]
["高校（２日目）　⬇"]
["男４００ｍ"]
["男1500m"]
["男400mH(0.914m)"]
["男選手権10000m"]
["男走高跳"]
["男走幅跳"]
["男高校砲丸投(6.000kg)"]
["男やり投(0.800kg)"]
[]
["中学（2日目）　⬇"]
["男４００ｍ"]
["男1500m"]
["男走高跳"]
["男走幅跳"]
["男中学砲丸投(5.000kg)"]

{"sheet":"data_kyogisha","index":13,"n_rows":91,"n_cols":40,"rows_kept":91,"cut":false,"hidden":false,"merged":[]}
["競技者NO","所属コード1","所属コード2","ナンバー","ナンバー2","競技者名","競技者名カナ","競技者名略称","競技者名英字","国籍","性別","学年","生年","月日","個人所属地名","陸連コード","参加競技-競技コード1","参加競技-自己記録1","参加競技-オープン参加FLG1","参加競技-記録FLG1","参加競技-競技コード2","参加競技-自己記録2","参加競技-オープン参加FLG2","参加競技-記録FLG2","参加競技-競技コード3","参加競技-自己記録3","参加競技-オープン参加FLG3","参加競技-記録FLG3","参加競技-競技コード4","参加競技-自己記録4","参加競技-オープン参加FLG4","参加競技-記録FLG4","参加競技-競技コード5","参加競技-自己記録5","参加競技-オープン参加FLG5","参加競技-記録FLG5"]
[{"$f":"IF(E2=\"\",\"\",B2+10000000+E2)","v":""},{"$f":"IF(E2=\"\",\"\",①団体情報入力!$C$5)","v":""},null,{"$f":"IF(E2=\"\",\"\",IF(①団体情報入力!C10=\"\",\"\",①団体情報入力!C10))","v":""},{"$f":"IF(②選手情報入力!C11=\"\",\"\",②選手情報入力!C11)","v":""},{"$f":"IF(E2=\"\",\"\",②選手情報入力!D11)","v":""},{"$f":"IF(E2=\"\",\"\",ASC(②選手情報入力!E11))","v":""},{"$f":"IF(E2=\"\",\"\",F2)","v":""},{"$f":"IF(E2=\"\",\"\",AM2&\"　\"&AN2)","v":""},{"$f":"IF(E2=\"\",\"\",IF(②選手情報入力!H11=\"\",\"JPN\",LEFT(②選手情報入力!H11,3)))","v":""},{"$f":"IF(E2=\"\",\"\",IF(②選手情報入力!I11=\"男\",1,2))","v":""},{"$f":"IF(E2=\"\",\"\",IF(②選手情報入力!J11=\"\",\"\",②選手情報入力!J11))","v":""},{"$f":"IF(E2=\"\",\"\",LEFT(②選手情報入力!K11,4))","v":""},{"$f":"IF(E2=\"\",\"\",RIGHT(②選手情報入力!K11,4))","v":""},{"$f":"IF(E2=\"\",\"\",\"愛知\")","v":""},null,{"$f":"IF(E2=\"\",\"\",IF(②選手情報入力!L11=\"\",\"\",IF(K2=1,VLOOKUP(②選手情報入力!L11,種目情報!$A$5:$B$167,2,FALSE),VLOOKUP(②選手情報入力!L11,種目情報!$E$5:$F$142,2,FALSE))))","v":""},{"$f":"IF(E2=\"\",\"\",IF(②選手情報入力!M11=\"\",\"\",②選手情報入力!M11))","v":""},null,{"$f":"IF(E2=\"\",\"\",IF(②選手情報入力!L11=\"\",\"\",IF(K2=1,VLOOKUP(②選手情報入力!L11,種目情報!$A$5:$C$135,3,FALSE),VLOOKUP(②選手情報入力!L11,種目情報!$E$5:$G$135,3,FALSE))))","v":""},{"$f":"IF(E2=\"\",\"\",IF(②選手情報入力!O11=\"\",\"\",IF(K2=1,VLOOKUP(②選手情報入力!O11,種目情報!$A$5:$B$151,2,FALSE),VLOOKUP(②選手情報入力!O11,種目情報!$E$5:$F$135,2,FALSE))))","v":""},{"$f":"IF(E2=\"\",\"\",IF(②選手情報入力!P11=\"\",\"\",②選手情報入力!P11))","v":""},{"$f":"IF(E2=\"\",\"\",IF(②選手情報入力!N11=\"\",\"\",1))","v":""},{"$f":"IF(E2=\"\",\"\",IF(②選手情報入力!O11=\"\",\"\",IF(K2=1,VLOOKUP(②選手情報入力!O11,種目情報!$A$5:$C$135,3,FALSE),VLOOKUP(②選手情報入力!O11,種目情報!$E$5:$G$135,3,FALSE))))","v":""},{"$f":"IF(E2=\"\",\"\",IF(②選手情報入力!R11=\"\",\"\",IF(K2=1,VLOOKUP(②選手情報入力!R11,種目情報!$A$5:$B$151,2,FALSE),VLOOKUP(②選手情報入力!R11,種目情報!$E$5:$F$135,2,FALSE))))","v":""},{"$f":"IF(E2=\"\",\"\",IF(②選手情報入力!S11=\"\",\"\",②選手情報入力!S11))","v":""},{"$f":"IF(E2=\"\",\"\",IF(②選手情報入力!Q11=\"\",\"\",1))","v":""},{"$f":"IF(E2=\"\",\"\",IF(②選手情報入力!R11=\"\",\"\",IF(K2=1,VLOOKUP(②選手情報入力!R11,種目情報!$A$5:$C$135,3,FALSE),VLOOKUP(②選手情報入力!R11,種目情報!$E$5:$G$135,3,FALSE))))","v":""},{"$f":"IF(E2=\"\",\"\",IF(②選手情報入力!T11=\"\",\"\",IF(K2=1,種目情報!$J$4,種目情報!$J$6)))","v":""},{"$f":"IF(E2=\"\",\"\",IF(②選手情報入力!T11=\"\",\"\",IF(K2=1,IF(②選手情報入力!$U$7=\"\",\"\",②選手情報入力!$U$7),IF(②選手情報入力!$U$8=\"\",\"\",②選手情報入力!$U$8))))","v":""},{"$f":"IF(E2=\"\",\"\",IF(②選手情報入力!T11=\"\",\"\",IF(K2=1,IF(②選手情報入力!$T$7=\"\",0,1),IF(②選手情報入力!$T$8=\"\",0,1))))","v":""},{"$f":"IF(E2=\"\",\"\",IF(②選手情報入力!T11=\"\",\"\",2))","v":""},{"$f":"IF(E2=\"\",\"\",IF(②選手情報入力!V11=\"\",\"\",IF(K2=1,種目情報!$J$5,種目情報!$J$7)))","v":""},{"$f":"IF(E2=\"\",\"\",IF(②選手情報入力!V11=\"\",\"\",IF(K2=1,IF(②選手情報入力!$W$7=\"\",\"\",②選手情報入力!$W$7),IF(②選手情報入力!$W$8=\"\",\"\",②選手情報入力!$W$8))))","v":""},{"$f":"IF(E2=\"\",\"\",IF(②選手情報入力!V11=\"\",\"\",IF(K2=1,IF(②選手情報入力!$V$7=\"\",0,1),IF(②選手情報入力!$V$8=\"\",0,1))))","v":""},{"$f":"IF(E2=\"\",\"\",IF(②選手情報入力!V11=\"\",\"\",2))","v":""},null,null,{"$f":"IF(②選手情報入力!F11=\"\",\"\",ASC(②選手情報入力!F11))","v":""},{"$f":"IF(②選手情報入力!F11=\"\",\"\",ASC(②選手情報入力!G11))","v":""}]
[{"$f":"IF(E3=\"\",\"\",B3+10000000+E3)","v":""},{"$f":"IF(E3=\"\",\"\",①団体情報入力!$C$5)","v":""},null,{"$f":"IF(E3=\"\",\"\",IF(①団体情報入力!C11=\"\",\"\",①団体情報入力!C11))","v":""},{"$f":"IF(②選手情報入力!C12=\"\",\"\",②選手情報入力!C12)","v":""},{"$f":"IF(E3=\"\",\"\",②選手情報入力!D12)","v":""},{"$f":"IF(E3=\"\",\"\",ASC(②選手情報入力!E12))","v":""},{"$f":"IF(E3=\"\",\"\",F3)","v":""},{"$f":"IF(E3=\"\",\"\",AM3&\"　\"&AN3)","v":""},{"$f":"IF(E3=\"\",\"\",IF(②選手情報入力!H12=\"\",\"JPN\",LEFT(②選手情報入力!H12,3)))","v":""},{"$f":"IF(E3=\"\",\"\",IF(②選手情報入力!I12=\"男\",1,2))","v":""},{"$f":"IF(E3=\"\",\"\",IF(②選手情報入力!J12=\"\",\"\",②選手情報入力!J12))","v":""},{"$f":"IF(E3=\"\",\"\",LEFT(②選手情報入力!K12,4))","v":""},{"$f":"IF(E3=\"\",\"\",RIGHT(②選手情報入力!K12,4))","v":""},{"$f":"IF(E3=\"\",\"\",\"愛知\")","v":""},null,{"$f":"IF(E3=\"\",\"\",IF(②選手情報入力!L12=\"\",\"\",IF(K3=1,VLOOKUP(②選手情報入力!L12,種目情報!$A$5:$B$167,2,FALSE),VLOOKUP(②選手情報入力!L12,種目情報!$E$5:$F$142,2,FALSE))))","v":""},{"$f":"IF(E3=\"\",\"\",IF(②選手情報入力!M12=\"\",\"\",②選手情報入力!M12))","v":""},null,{"$f":"IF(E3=\"\",\"\",IF(②選手情報入力!L12=\"\",\"\",IF(K3=1,VLOOKUP(②選手情報入力!L12,種目情報!$A$5:$C$135,3,FALSE),VLOOKUP(②選手情報入力!L12,種目情報!$E$5:$G$135,3,FALSE))))","v":""},{"$f":"IF(E3=\"\",\"\",IF(②選手情報入力!O12=\"\",\"\",IF(K3=1,VLOOKUP(②選手情報入力!O12,種目情報!$A$5:$B$151,2,FALSE),VLOOKUP(②選手情報入力!O12,種目情報!$E$5:$F$135,2,FALSE))))","v":""},{"$f":"IF(E3=\"\",\"\",IF(②選手情報入力!P12=\"\",\"\",②選手情報入力!P12))","v":""},{"$f":"IF(E3=\"\",\"\",IF(②選手情報入力!N12=\"\",\"\",1))","v":""},{"$f":"IF(E3=\"\",\"\",IF(②選手情報入力!O12=\"\",\"\",IF(K3=1,VLOOKUP(②選手情報入力!O12,種目情報!$A$5:$C$135,3,FALSE),VLOOKUP(②選手情報入力!O12,種目情報!$E$5:$G$135,3,FALSE))))","v":""},{"$f":"IF(E3=\"\",\"\",IF(②選手情報入力!R12=\"\",\"\",IF(K3=1,VLOOKUP(②選手情報入力!R12,種目情報!$A$5:$B$151,2,FALSE),VLOOKUP(②選手情報入力!R12,種目情報!$E$5:$F$135,2,FALSE))))","v":""},{"$f":"IF(E3=\"\",\"\",IF(②選手情報入力!S12=\"\",\"\",②選手情報入力!S12))","v":""},{"$f":"IF(E3=\"\",\"\",IF(②選手情報入力!Q12=\"\",\"\",1))","v":""},{"$f":"IF(E3=\"\",\"\",IF(②選手情報入力!R12=\"\",\"\",IF(K3=1,VLOOKUP(②選手情報入力!R12,種目情報!$A$5:$C$135,3,FALSE),VLOOKUP(②選手情報入力!R12,種目情報!$E$5:$G$135,3,FALSE))))","v":""},{"$f":"IF(E3=\"\",\"\",IF(②選手情報入力!T12=\"\",\"\",IF(K3=1,種目情報!$J$4,種目情報!$J$6)))","v":""},{"$f":"IF(E3=\"\",\"\",IF(②選手情報入力!T12=\"\",\"\",IF(K3=1,IF(②選手情報入力!$U$7=\"\",\"\",②選手情報入力!$U$7),IF(②選手情報入力!$U$8=\"\",\"\",②選手情報入力!$U$8))))","v":""},{"$f":"IF(E3=\"\",\"\",IF(②選手情報入力!T12=\"\",\"\",IF(K3=1,IF(②選手情報入力!$T$7=\"\",0,1),IF(②選手情報入力!$T$8=\"\",0,1))))","v":""},{"$f":"IF(E3=\"\",\"\",IF(②選手情報入力!T12=\"\",\"\",2))","v":""},{"$f":"IF(E3=\"\",\"\",IF(②選手情報入力!V12=\"\",\"\",IF(K3=1,種目情報!$J$5,種目情報!$J$7)))","v":""},{"$f":"IF(E3=\"\",\"\",IF(②選手情報入力!V12=\"\",\"\",IF(K3=1,IF(②選手情報入力!$W$7=\"\",\"\",②選手情報入力!$W$7),IF(②選手情報入力!$W$8=\"\",\"\",②選手情報入力!$W$8))))","v":""},{"$f":"IF(E3=\"\",\"\",IF(②選手情報入力!V12=\"\",\"\",IF(K3=1,IF(②選手情報入力!$V$7=\"\",0,1),IF(②選手情報入力!$V$8=\"\",0,1))))","v":""},{"$f":"IF(E3=\"\",\"\",IF(②選手情報入力!V12=\"\",\"\",2))","v":""},null,null,{"$f":"IF(②選手情報入力!F12=\"\",\"\",ASC(②選手情報入力!F12))","v":""},{"$f":"IF(②選手情報入力!F12=\"\",\"\",ASC(②選手情報入力!G12))","v":""}]
["",{"$f":"IF(E4=\"\",\"\",①団体情報入力!$C$5)","v":""},null,{"$f":"IF(E4=\"\",\"\",IF(①団体情報入力!C12=\"\",\"\",①団体情報入力!C12))","v":""},{"$f":"IF(②選手情報入力!C13=\"\",\"\",②選手情報入力!C13)","v":""},{"$f":"IF(E4=\"\",\"\",②選手情報入力!D13)","v":""},{"$f":"IF(E4=\"\",\"\",ASC(②選手情報入力!E13))","v":""},"","",{"$f":"IF(E4=\"\",\"\",IF(②選手情報入力!H13=\"\",\"JPN\",LEFT(②選手情報入力!H13,3)))","v":""},{"$f":"IF(E4=\"\",\"\",IF(②選手情報入力!I13=\"男\",1,2))","v":""},{"$f":"IF(E4=\"\",\"\",IF(②選手情報入力!J13=\"\",\"\",②選手情報入力!J13))","v":""},{"$f":"IF(E4=\"\",\"\",LEFT(②選手情報入力!K13,4))","v":""},{"$f":"IF(E4=\"\",\"\",RIGHT(②選手情報入力!K13,4))","v":""},"",null,{"$f":"IF(E4=\"\",\"\",IF(②選手情報入力!L13=\"\",\"\",IF(K4=1,VLOOKUP(②選手情報入力!L13,種目情報!$A$5:$B$167,2,FALSE),VLOOKUP(②選手情報入力!L13,種目情報!$E$5:$F$142,2,FALSE))))","v":""},{"$f":"IF(E4=\"\",\"\",IF(②選手情報入力!M13=\"\",\"\",②選手情報入力!M13))","v":""},null,{"$f":"IF(E4=\"\",\"\",IF(②選手情報入力!L13=\"\",\"\",IF(K4=1,VLOOKUP(②選手情報入力!L13,種目情報!$A$5:$C$135,3,FALSE),VLOOKUP(②選手情報入力!L13,種目情報!$E$5:$G$135,3,FALSE))))","v":""},{"$f":"IF(E4=\"\",\"\",IF(②選手情報入力!O13=\"\",\"\",IF(K4=1,VLOOKUP(②選手情報入力!O13,種目情報!$A$5:$B$151,2,FALSE),VLOOKUP(②選手情報入力!O13,種目情報!$E$5:$F$135,2,FALSE))))","v":""},{"$f":"IF(E4=\"\",\"\",IF(②選手情報入力!P13=\"\",\"\",②選手情報入力!P13))","v":""},{"$f":"IF(E4=\"\",\"\",IF(②選手情報入力!N13=\"\",\"\",1))","v":""},{"$f":"IF(E4=\"\",\"\",IF(②選手情報入力!O13=\"\",\"\",IF(K4=1,VLOOKUP(②選手情報入力!O13,種目情報!$A$5:$C$135,3,FALSE),VLOOKUP(②選手情報入力!O13,種目情報!$E$5:$G$135,3,FALSE))))","v":""},{"$f":"IF(E4=\"\",\"\",IF(②選手情報入力!R13=\"\",\"\",IF(K4=1,VLOOKUP(②選手情報入力!R13,種目情報!$A$5:$B$151,2,FALSE),VLOOKUP(②選手情報入力!R13,種目情報!$E$5:$F$135,2,FALSE))))","v":""},{"$f":"IF(E4=\"\",\"\",IF(②選手情報入力!S13=\"\",\"\",②選手情報入力!S13))","v":""},{"$f":"IF(E4=\"\",\"\",IF(②選手情報入力!Q13=\"\",\"\",1))","v":""},{"$f":"IF(E4=\"\",\"\",IF(②選手情報入力!R13=\"\",\"\",IF(K4=1,VLOOKUP(②選手情報入力!R13,種目情報!$A$5:$C$135,3,FALSE),VLOOKUP(②選手情報入力!R13,種目情報!$E$5:$G$135,3,FALSE))))","v":""},{"$f":"IF(E4=\"\",\"\",IF(②選手情報入力!T13=\"\",\"\",IF(K4=1,種目情報!$J$4,種目情報!$J$6)))","v":""},{"$f":"IF(E4=\"\",\"\",IF(②選手情報入力!T13=\"\",\"\",IF(K4=1,IF(②選手情報入力!$U$7=\"\",\"\",②選手情報入力!$U$7),IF(②選手情報入力!$U$8=\"\",\"\",②選手情報入力!$U$8))))","v":""},{"$f":"IF(E4=\"\",\"\",IF(②選手情報入力!T13=\"\",\"\",IF(K4=1,IF(②選手情報入力!$T$7=\"\",0,1),IF(②選手情報入力!$T$8=\"\",0,1))))","v":""},{"$f":"IF(E4=\"\",\"\",IF(②選手情報入力!T13=\"\",\"\",2))","v":""},{"$f":"IF(E4=\"\",\"\",IF(②選手情報入力!V13=\"\",\"\",IF(K4=1,種目情報!$J$5,種目情報!$J$7)))","v":""},{"$f":"IF(E4=\"\",\"\",IF(②選手情報入力!V13=\"\",\"\",IF(K4=1,IF(②選手情報入力!$W$7=\"\",\"\",②選手情報入力!$W$7),IF(②選手情報入力!$W$8=\"\",\"\",②選手情報入力!$W$8))))","v":""},{"$f":"IF(E4=\"\",\"\",IF(②選手情報入力!V13=\"\",\"\",IF(K4=1,IF(②選手情報入力!$V$7=\"\",0,1),IF(②選手情報入力!$V$8=\"\",0,1))))","v":""},{"$f":"IF(E4=\"\",\"\",IF(②選手情報入力!V13=\"\",\"\",2))","v":""},null,null,{"$f":"IF(②選手情報入力!F13=\"\",\"\",ASC(②選手情報入力!F13))","v":""},{"$f":"IF(②選手情報入力!F13=\"\",\"\",ASC(②選手情報入力!G13))","v":""}]
["",{"$f":"IF(E5=\"\",\"\",①団体情報入力!$C$5)","v":""},null,{"$f":"IF(E5=\"\",\"\",IF(①団体情報入力!C13=\"\",\"\",①団体情報入力!C13))","v":""},{"$f":"IF(②選手情報入力!C14=\"\",\"\",②選手情報入力!C14)","v":""},{"$f":"IF(E5=\"\",\"\",②選手情報入力!D14)","v":""},{"$f":"IF(E5=\"\",\"\",ASC(②選手情報入力!E14))","v":""},"","",{"$f":"IF(E5=\"\",\"\",IF(②選手情報入力!H14=\"\",\"JPN\",LEFT(②選手情報入力!H14,3)))","v":""},{"$f":"IF(E5=\"\",\"\",IF(②選手情報入力!I14=\"男\",1,2))","v":""},{"$f":"IF(E5=\"\",\"\",IF(②選手情報入力!J14=\"\",\"\",②選手情報入力!J14))","v":""},{"$f":"IF(E5=\"\",\"\",LEFT(②選手情報入力!K14,4))","v":""},{"$f":"IF(E5=\"\",\"\",RIGHT(②選手情報入力!K14,4))","v":""},"",null,{"$f":"IF(E5=\"\",\"\",IF(②選手情報入力!L14=\"\",\"\",IF(K5=1,VLOOKUP(②選手情報入力!L14,種目情報!$A$5:$B$167,2,FALSE),VLOOKUP(②選手情報入力!L14,種目情報!$E$5:$F$142,2,FALSE))))","v":""},{"$f":"IF(E5=\"\",\"\",IF(②選手情報入力!M14=\"\",\"\",②選手情報入力!M14))","v":""},null,{"$f":"IF(E5=\"\",\"\",IF(②選手情報入力!L14=\"\",\"\",IF(K5=1,VLOOKUP(②選手情報入力!L14,種目情報!$A$5:$C$135,3,FALSE),VLOOKUP(②選手情報入力!L14,種目情報!$E$5:$G$135,3,FALSE))))","v":""},{"$f":"IF(E5=\"\",\"\",IF(②選手情報入力!O14=\"\",\"\",IF(K5=1,VLOOKUP(②選手情報入力!O14,種目情報!$A$5:$B$151,2,FALSE),VLOOKUP(②選手情報入力!O14,種目情報!$E$5:$F$135,2,FALSE))))","v":""},{"$f":"IF(E5=\"\",\"\",IF(②選手情報入力!P14=\"\",\"\",②選手情報入力!P14))","v":""},{"$f":"IF(E5=\"\",\"\",IF(②選手情報入力!N14=\"\",\"\",1))","v":""},{"$f":"IF(E5=\"\",\"\",IF(②選手情報入力!O14=\"\",\"\",IF(K5=1,VLOOKUP(②選手情報入力!O14,種目情報!$A$5:$C$135,3,FALSE),VLOOKUP(②選手情報入力!O14,種目情報!$E$5:$G$135,3,FALSE))))","v":""},{"$f":"IF(E5=\"\",\"\",IF(②選手情報入力!R14=\"\",\"\",IF(K5=1,VLOOKUP(②選手情報入力!R14,種目情報!$A$5:$B$151,2,FALSE),VLOOKUP(②選手情報入力!R14,種目情報!$E$5:$F$135,2,FALSE))))","v":""},{"$f":"IF(E5=\"\",\"\",IF(②選手情報入力!S14=\"\",\"\",②選手情報入力!S14))","v":""},{"$f":"IF(E5=\"\",\"\",IF(②選手情報入力!Q14=\"\",\"\",1))","v":""},{"$f":"IF(E5=\"\",\"\",IF(②選手情報入力!R14=\"\",\"\",IF(K5=1,VLOOKUP(②選手情報入力!R14,種目情報!$A$5:$C$135,3,FALSE),VLOOKUP(②選手情報入力!R14,種目情報!$E$5:$G$135,3,FALSE))))","v":""},{"$f":"IF(E5=\"\",\"\",IF(②選手情報入力!T14=\"\",\"\",IF(K5=1,種目情報!$J$4,種目情報!$J$6)))","v":""},{"$f":"IF(E5=\"\",\"\",IF(②選手情報入力!T14=\"\",\"\",IF(K5=1,IF(②選手情報入力!$U$7=\"\",\"\",②選手情報入力!$U$7),IF(②選手情報入力!$U$8=\"\",\"\",②選手情報入力!$U$8))))","v":""},{"$f":"IF(E5=\"\",\"\",IF(②選手情報入力!T14=\"\",\"\",IF(K5=1,IF(②選手情報入力!$T$7=\"\",0,1),IF(②選手情報入力!$T$8=\"\",0,1))))","v":""},{"$f":"IF(E5=\"\",\"\",IF(②選手情報入力!T14=\"\",\"\",2))","v":""},{"$f":"IF(E5=\"\",\"\",IF(②選手情報入力!V14=\"\",\"\",IF(K5=1,種目情報!$J$5,種目情報!$J$7)))","v":""},{"$f":"IF(E5=\"\",\"\",IF(②選手情報入力!V14=\"\",\"\",IF(K5=1,IF(②選手情報入力!$W$7=\"\",\"\",②選手情報入力!$W$7),IF(②選手情報入力!$W$8=\"\",\"\",②選手情報入力!$W$8))))","v":""},{"$f":"IF(E5=\"\",\"\",IF(②選手情報入力!V14=\"\",\"\",IF(K5=1,IF(②選手情報入力!$V$7=\"\",0,1),IF(②選手情報入力!$V$8=\"\",0,1))))","v":""},{"$f":"IF(E5=\"\",\"\",IF(②選手情報入力!V14=\"\",\"\",2))","v":""},null,null,{"$f":"IF(②選手情報入力!F14=\"\",\"\",ASC(②選手情報入力!F14))","v":""},{"$f":"IF(②選手情報入力!F14=\"\",\"\",ASC(②選手情報入力!G14))","v":""}]
["",{"$f":"IF(E6=\"\",\"\",①団体情報入力!$C$5)","v":""},null,{"$f":"IF(E6=\"\",\"\",IF(①団体情報入力!C14=\"\",\"\",①団体情報入力!C14))","v":""},{"$f":"IF(②選手情報入力!C15=\"\",\"\",②選手情報入力!C15)","v":""},{"$f":"IF(E6=\"\",\"\",②選手情報入力!D15)","v":""},{"$f":"IF(E6=\"\",\"\",ASC(②選手情報入力!E15))","v":""},"","",{"$f":"IF(E6=\"\",\"\",IF(②選手情報入力!H15=\"\",\"JPN\",LEFT(②選手情報入力!H15,3)))","v":""},{"$f":"IF(E6=\"\",\"\",IF(②選手情報入力!I15=\"男\",1,2))","v":""},{"$f":"IF(E6=\"\",\"\",IF(②選手情報入力!J15=\"\",\"\",②選手情報入力!J15))","v":""},{"$f":"IF(E6=\"\",\"\",LEFT(②選手情報入力!K15,4))","v":""},{"$f":"IF(E6=\"\",\"\",RIGHT(②選手情報入力!K15,4))","v":""},"",null,{"$f":"IF(E6=\"\",\"\",IF(②選手情報入力!L15=\"\",\"\",IF(K6=1,VLOOKUP(②選手情報入力!L15,種目情報!$A$5:$B$167,2,FALSE),VLOOKUP(②選手情報入力!L15,種目情報!$E$5:$F$142,2,FALSE))))","v":""},{"$f":"IF(E6=\"\",\"\",IF(②選手情報入力!M15=\"\",\"\",②選手情報入力!M15))","v":""},null,{"$f":"IF(E6=\"\",\"\",IF(②選手情報入力!L15=\"\",\"\",IF(K6=1,VLOOKUP(②選手情報入力!L15,種目情報!$A$5:$C$135,3,FALSE),VLOOKUP(②選手情報入力!L15,種目情報!$E$5:$G$135,3,FALSE))))","v":""},{"$f":"IF(E6=\"\",\"\",IF(②選手情報入力!O15=\"\",\"\",IF(K6=1,VLOOKUP(②選手情報入力!O15,種目情報!$A$5:$B$151,2,FALSE),VLOOKUP(②選手情報入力!O15,種目情報!$E$5:$F$135,2,FALSE))))","v":""},{"$f":"IF(E6=\"\",\"\",IF(②選手情報入力!P15=\"\",\"\",②選手情報入力!P15))","v":""},{"$f":"IF(E6=\"\",\"\",IF(②選手情報入力!N15=\"\",\"\",1))","v":""},{"$f":"IF(E6=\"\",\"\",IF(②選手情報入力!O15=\"\",\"\",IF(K6=1,VLOOKUP(②選手情報入力!O15,種目情報!$A$5:$C$135,3,FALSE),VLOOKUP(②選手情報入力!O15,種目情報!$E$5:$G$135,3,FALSE))))","v":""},{"$f":"IF(E6=\"\",\"\",IF(②選手情報入力!R15=\"\",\"\",IF(K6=1,VLOOKUP(②選手情報入力!R15,種目情報!$A$5:$B$151,2,FALSE),VLOOKUP(②選手情報入力!R15,種目情報!$E$5:$F$135,2,FALSE))))","v":""},{"$f":"IF(E6=\"\",\"\",IF(②選手情報入力!S15=\"\",\"\",②選手情報入力!S15))","v":""},{"$f":"IF(E6=\"\",\"\",IF(②選手情報入力!Q15=\"\",\"\",1))","v":""},{"$f":"IF(E6=\"\",\"\",IF(②選手情報入力!R15=\"\",\"\",IF(K6=1,VLOOKUP(②選手情報入力!R15,種目情報!$A$5:$C$135,3,FALSE),VLOOKUP(②選手情報入力!R15,種目情報!$E$5:$G$135,3,FALSE))))","v":""},{"$f":"IF(E6=\"\",\"\",IF(②選手情報入力!T15=\"\",\"\",IF(K6=1,種目情報!$J$4,種目情報!$J$6)))","v":""},{"$f":"IF(E6=\"\",\"\",IF(②選手情報入力!T15=\"\",\"\",IF(K6=1,IF(②選手情報入力!$U$7=\"\",\"\",②選手情報入力!$U$7),IF(②選手情報入力!$U$8=\"\",\"\",②選手情報入力!$U$8))))","v":""},{"$f":"IF(E6=\"\",\"\",IF(②選手情報入力!T15=\"\",\"\",IF(K6=1,IF(②選手情報入力!$T$7=\"\",0,1),IF(②選手情報入力!$T$8=\"\",0,1))))","v":""},{"$f":"IF(E6=\"\",\"\",IF(②選手情報入力!T15=\"\",\"\",2))","v":""},{"$f":"IF(E6=\"\",\"\",IF(②選手情報入力!V15=\"\",\"\",IF(K6=1,種目情報!$J$5,種目情報!$J$7)))","v":""},{"$f":"IF(E6=\"\",\"\",IF(②選手情報入力!V15=\"\",\"\",IF(K6=1,IF(②選手情報入力!$W$7=\"\",\"\",②選手情報入力!$W$7),IF(②選手情報入力!$W$8=\"\",\"\",②選手情報入力!$W$8))))","v":""},{"$f":"IF(E6=\"\",\"\",IF(②選手情報入力!V15=\"\",\"\",IF(K6=1,IF(②選手情報入力!$V$7=\"\",0,1),IF(②選手情報入力!$V$8=\"\",0,1))))","v":""},{"$f":"IF(E6=\"\",\"\",IF(②選手情報入力!V15=\"\",\"\",2))","v":""},null,null,{"$f":"IF(②選手情報入力!F15=\"\",\"\",ASC(②選手情報入力!F15))","v":""},{"$f":"IF(②選手情報入力!F15=\"\",\"\",ASC(②選手情報入力!G15))","v":""}]
["",{"$f":"IF(E7=\"\",\"\",①団体情報入力!$C$5)","v":""},null,{"$f":"IF(E7=\"\",\"\",IF(①団体情報入力!C15=\"\",\"\",①団体情報入力!C15))","v":""},{"$f":"IF(②選手情報入力!C16=\"\",\"\",②選手情報入力!C16)","v":""},{"$f":"IF(E7=\"\",\"\",②選手情報入力!D16)","v":""},{"$f":"IF(E7=\"\",\"\",ASC(②選手情報入力!E16))","v":""},"","",{"$f":"IF(E7=\"\",\"\",IF(②選手情報入力!H16=\"\",\"JPN\",LEFT(②選手情報入力!H16,3)))","v":""},{"$f":"IF(E7=\"\",\"\",IF(②選手情報入力!I16=\"男\",1,2))","v":""},{"$f":"IF(E7=\"\",\"\",IF(②選手情報入力!J16=\"\",\"\",②選手情報入力!J16))","v":""},{"$f":"IF(E7=\"\",\"\",LEFT(②選手情報入力!K16,4))","v":""},{"$f":"IF(E7=\"\",\"\",RIGHT(②選手情報入力!K16,4))","v":""},"",null,{"$f":"IF(E7=\"\",\"\",IF(②選手情報入力!L16=\"\",\"\",IF(K7=1,VLOOKUP(②選手情報入力!L16,種目情報!$A$5:$B$167,2,FALSE),VLOOKUP(②選手情報入力!L16,種目情報!$E$5:$F$142,2,FALSE))))","v":""},{"$f":"IF(E7=\"\",\"\",IF(②選手情報入力!M16=\"\",\"\",②選手情報入力!M16))","v":""},null,{"$f":"IF(E7=\"\",\"\",IF(②選手情報入力!L16=\"\",\"\",IF(K7=1,VLOOKUP(②選手情報入力!L16,種目情報!$A$5:$C$135,3,FALSE),VLOOKUP(②選手情報入力!L16,種目情報!$E$5:$G$135,3,FALSE))))","v":""},{"$f":"IF(E7=\"\",\"\",IF(②選手情報入力!O16=\"\",\"\",IF(K7=1,VLOOKUP(②選手情報入力!O16,種目情報!$A$5:$B$151,2,FALSE),VLOOKUP(②選手情報入力!O16,種目情報!$E$5:$F$135,2,FALSE))))","v":""},{"$f":"IF(E7=\"\",\"\",IF(②選手情報入力!P16=\"\",\"\",②選手情報入力!P16))","v":""},{"$f":"IF(E7=\"\",\"\",IF(②選手情報入力!N16=\"\",\"\",1))","v":""},{"$f":"IF(E7=\"\",\"\",IF(②選手情報入力!O16=\"\",\"\",IF(K7=1,VLOOKUP(②選手情報入力!O16,種目情報!$A$5:$C$135,3,FALSE),VLOOKUP(②選手情報入力!O16,種目情報!$E$5:$G$135,3,FALSE))))","v":""},{"$f":"IF(E7=\"\",\"\",IF(②選手情報入力!R16=\"\",\"\",IF(K7=1,VLOOKUP(②選手情報入力!R16,種目情報!$A$5:$B$151,2,FALSE),VLOOKUP(②選手情報入力!R16,種目情報!$E$5:$F$135,2,FALSE))))","v":""},{"$f":"IF(E7=\"\",\"\",IF(②選手情報入力!S16=\"\",\"\",②選手情報入力!S16))","v":""},{"$f":"IF(E7=\"\",\"\",IF(②選手情報入力!Q16=\"\",\"\",1))","v":""},{"$f":"IF(E7=\"\",\"\",IF(②選手情報入力!R16=\"\",\"\",IF(K7=1,VLOOKUP(②選手情報入力!R16,種目情報!$A$5:$C$135,3,FALSE),VLOOKUP(②選手情報入力!R16,種目情報!$E$5:$G$135,3,FALSE))))","v":""},{"$f":"IF(E7=\"\",\"\",IF(②選手情報入力!T16=\"\",\"\",IF(K7=1,種目情報!$J$4,種目情報!$J$6)))","v":""},{"$f":"IF(E7=\"\",\"\",IF(②選手情報入力!T16=\"\",\"\",IF(K7=1,IF(②選手情報入力!$U$7=\"\",\"\",②選手情報入力!$U$7),IF(②選手情報入力!$U$8=\"\",\"\",②選手情報入力!$U$8))))","v":""},{"$f":"IF(E7=\"\",\"\",IF(②選手情報入力!T16=\"\",\"\",IF(K7=1,IF(②選手情報入力!$T$7=\"\",0,1),IF(②選手情報入力!$T$8=\"\",0,1))))","v":""},{"$f":"IF(E7=\"\",\"\",IF(②選手情報入力!T16=\"\",\"\",2))","v":""},{"$f":"IF(E7=\"\",\"\",IF(②選手情報入力!V16=\"\",\"\",IF(K7=1,種目情報!$J$5,種目情報!$J$7)))","v":""},{"$f":"IF(E7=\"\",\"\",IF(②選手情報入力!V16=\"\",\"\",IF(K7=1,IF(②選手情報入力!$W$7=\"\",\"\",②選手情報入力!$W$7),IF(②選手情報入力!$W$8=\"\",\"\",②選手情報入力!$W$8))))","v":""},{"$f":"IF(E7=\"\",\"\",IF(②選手情報入力!V16=\"\",\"\",IF(K7=1,IF(②選手情報入力!$V$7=\"\",0,1),IF(②選手情報入力!$V$8=\"\",0,1))))","v":""},{"$f":"IF(E7=\"\",\"\",IF(②選手情報入力!V16=\"\",\"\",2))","v":""},null,null,{"$f":"IF(②選手情報入力!F16=\"\",\"\",ASC(②選手情報入力!F16))","v":""},{"$f":"IF(②選手情報入力!F16=\"\",\"\",ASC(②選手情報入力!G16))","v":""}]
["",{"$f":"IF(E8=\"\",\"\",①団体情報入力!$C$5)","v":""},null,{"$f":"IF(E8=\"\",\"\",IF(①団体情報入力!C16=\"\",\"\",①団体情報入力!C16))","v":""},{"$f":"IF(②選手情報入力!C17=\"\",\"\",②選手情報入力!C17)","v":""},{"$f":"IF(E8=\"\",\"\",②選手情報入力!D17)","v":""},{"$f":"IF(E8=\"\",\"\",ASC(②選手情報入力!E17))","v":""},"","",{"$f":"IF(E8=\"\",\"\",IF(②選手情報入力!H17=\"\",\"JPN\",LEFT(②選手情報入力!H17,3)))","v":""},{"$f":"IF(E8=\"\",\"\",IF(②選手情報入力!I17=\"男\",1,2))","v":""},{"$f":"IF(E8=\"\",\"\",IF(②選手情報入力!J17=\"\",\"\",②選手情報入力!J17))","v":""},{"$f":"IF(E8=\"\",\"\",LEFT(②選手情報入力!K17,4))","v":""},{"$f":"IF(E8=\"\",\"\",RIGHT(②選手情報入力!K17,4))","v":""},"",null,{"$f":"IF(E8=\"\",\"\",IF(②選手情報入力!L17=\"\",\"\",IF(K8=1,VLOOKUP(②選手情報入力!L17,種目情報!$A$5:$B$167,2,FALSE),VLOOKUP(②選手情報入力!L17,種目情報!$E$5:$F$142,2,FALSE))))","v":""},{"$f":"IF(E8=\"\",\"\",IF(②選手情報入力!M17=\"\",\"\",②選手情報入力!M17))","v":""},null,{"$f":"IF(E8=\"\",\"\",IF(②選手情報入力!L17=\"\",\"\",IF(K8=1,VLOOKUP(②選手情報入力!L17,種目情報!$A$5:$C$135,3,FALSE),VLOOKUP(②選手情報入力!L17,種目情報!$E$5:$G$135,3,FALSE))))","v":""},{"$f":"IF(E8=\"\",\"\",IF(②選手情報入力!O17=\"\",\"\",IF(K8=1,VLOOKUP(②選手情報入力!O17,種目情報!$A$5:$B$151,2,FALSE),VLOOKUP(②選手情報入力!O17,種目情報!$E$5:$F$135,2,FALSE))))","v":""},{"$f":"IF(E8=\"\",\"\",IF(②選手情報入力!P17=\"\",\"\",②選手情報入力!P17))","v":""},{"$f":"IF(E8=\"\",\"\",IF(②選手情報入力!N17=\"\",\"\",1))","v":""},{"$f":"IF(E8=\"\",\"\",IF(②選手情報入力!O17=\"\",\"\",IF(K8=1,VLOOKUP(②選手情報入力!O17,種目情報!$A$5:$C$135,3,FALSE),VLOOKUP(②選手情報入力!O17,種目情報!$E$5:$G$135,3,FALSE))))","v":""},{"$f":"IF(E8=\"\",\"\",IF(②選手情報入力!R17=\"\",\"\",IF(K8=1,VLOOKUP(②選手情報入力!R17,種目情報!$A$5:$B$151,2,FALSE),VLOOKUP(②選手情報入力!R17,種目情報!$E$5:$F$135,2,FALSE))))","v":""},{"$f":"IF(E8=\"\",\"\",IF(②選手情報入力!S17=\"\",\"\",②選手情報入力!S17))","v":""},{"$f":"IF(E8=\"\",\"\",IF(②選手情報入力!Q17=\"\",\"\",1))","v":""},{"$f":"IF(E8=\"\",\"\",IF(②選手情報入力!R17=\"\",\"\",IF(K8=1,VLOOKUP(②選手情報入力!R17,種目情報!$A$5:$C$135,3,FALSE),VLOOKUP(②選手情報入力!R17,種目情報!$E$5:$G$135,3,FALSE))))","v":""},{"$f":"IF(E8=\"\",\"\",IF(②選手情報入力!T17=\"\",\"\",IF(K8=1,種目情報!$J$4,種目情報!$J$6)))","v":""},{"$f":"IF(E8=\"\",\"\",IF(②選手情報入力!T17=\"\",\"\",IF(K8=1,IF(②選手情報入力!$U$7=\"\",\"\",②選手情報入力!$U$7),IF(②選手情報入力!$U$8=\"\",\"\",②選手情報入力!$U$8))))","v":""},{"$f":"IF(E8=\"\",\"\",IF(②選手情報入力!T17=\"\",\"\",IF(K8=1,IF(②選手情報入力!$T$7=\"\",0,1),IF(②選手情報入力!$T$8=\"\",0,1))))","v":""},{"$f":"IF(E8=\"\",\"\",IF(②選手情報入力!T17=\"\",\"\",2))","v":""},{"$f":"IF(E8=\"\",\"\",IF(②選手情報入力!V17=\"\",\"\",IF(K8=1,種目情報!$J$5,種目情報!$J$7)))","v":""},{"$f":"IF(E8=\"\",\"\",IF(②選手情報入力!V17=\"\",\"\",IF(K8=1,IF(②選手情報入力!$W$7=\"\",\"\",②選手情報入力!$W$7),IF(②選手情報入力!$W$8=\"\",\"\",②選手情報入力!$W$8))))","v":""},{"$f":"IF(E8=\"\",\"\",IF(②選手情報入力!V17=\"\",\"\",IF(K8=1,IF(②選手情報入力!$V$7=\"\",0,1),IF(②選手情報入力!$V$8=\"\",0,1))))","v":""},{"$f":"IF(E8=\"\",\"\",IF(②選手情報入力!V17=\"\",\"\",2))","v":""},null,null,{"$f":"IF(②選手情報入力!F17=\"\",\"\",ASC(②選手情報入力!F17))","v":""},{"$f":"IF(②選手情報入力!F17=\"\",\"\",ASC(②選手情報入力!G17))","v":""}]
["",{"$f":"IF(E9=\"\",\"\",①団体情報入力!$C$5)","v":""},null,{"$f":"IF(E9=\"\",\"\",IF(①団体情報入力!C17=\"\",\"\",①団体情報入力!C17))","v":""},{"$f":"IF(②選手情報入力!C18=\"\",\"\",②選手情報入力!C18)","v":""},{"$f":"IF(E9=\"\",\"\",②選手情報入力!D18)","v":""},{"$f":"IF(E9=\"\",\"\",ASC(②選手情報入力!E18))","v":""},"","",{"$f":"IF(E9=\"\",\"\",IF(②選手情報入力!H18=\"\",\"JPN\",LEFT(②選手情報入力!H18,3)))","v":""},{"$f":"IF(E9=\"\",\"\",IF(②選手情報入力!I18=\"男\",1,2))","v":""},{"$f":"IF(E9=\"\",\"\",IF(②選手情報入力!J18=\"\",\"\",②選手情報入力!J18))","v":""},{"$f":"IF(E9=\"\",\"\",LEFT(②選手情報入力!K18,4))","v":""},{"$f":"IF(E9=\"\",\"\",RIGHT(②選手情報入力!K18,4))","v":""},"",null,{"$f":"IF(E9=\"\",\"\",IF(②選手情報入力!L18=\"\",\"\",IF(K9=1,VLOOKUP(②選手情報入力!L18,種目情報!$A$5:$B$167,2,FALSE),VLOOKUP(②選手情報入力!L18,種目情報!$E$5:$F$142,2,FALSE))))","v":""},{"$f":"IF(E9=\"\",\"\",IF(②選手情報入力!M18=\"\",\"\",②選手情報入力!M18))","v":""},null,{"$f":"IF(E9=\"\",\"\",IF(②選手情報入力!L18=\"\",\"\",IF(K9=1,VLOOKUP(②選手情報入力!L18,種目情報!$A$5:$C$135,3,FALSE),VLOOKUP(②選手情報入力!L18,種目情報!$E$5:$G$135,3,FALSE))))","v":""},{"$f":"IF(E9=\"\",\"\",IF(②選手情報入力!O18=\"\",\"\",IF(K9=1,VLOOKUP(②選手情報入力!O18,種目情報!$A$5:$B$151,2,FALSE),VLOOKUP(②選手情報入力!O18,種目情報!$E$5:$F$135,2,FALSE))))","v":""},{"$f":"IF(E9=\"\",\"\",IF(②選手情報入力!P18=\"\",\"\",②選手情報入力!P18))","v":""},{"$f":"IF(E9=\"\",\"\",IF(②選手情報入力!N18=\"\",\"\",1))","v":""},{"$f":"IF(E9=\"\",\"\",IF(②選手情報入力!O18=\"\",\"\",IF(K9=1,VLOOKUP(②選手情報入力!O18,種目情報!$A$5:$C$135,3,FALSE),VLOOKUP(②選手情報入力!O18,種目情報!$E$5:$G$135,3,FALSE))))","v":""},{"$f":"IF(E9=\"\",\"\",IF(②選手情報入力!R18=\"\",\"\",IF(K9=1,VLOOKUP(②選手情報入力!R18,種目情報!$A$5:$B$151,2,FALSE),VLOOKUP(②選手情報入力!R18,種目情報!$E$5:$F$135,2,FALSE))))","v":""},{"$f":"IF(E9=\"\",\"\",IF(②選手情報入力!S18=\"\",\"\",②選手情報入力!S18))","v":""},{"$f":"IF(E9=\"\",\"\",IF(②選手情報入力!Q18=\"\",\"\",1))","v":""},{"$f":"IF(E9=\"\",\"\",IF(②選手情報入力!R18=\"\",\"\",IF(K9=1,VLOOKUP(②選手情報入力!R18,種目情報!$A$5:$C$135,3,FALSE),VLOOKUP(②選手情報入力!R18,種目情報!$E$5:$G$135,3,FALSE))))","v":""},{"$f":"IF(E9=\"\",\"\",IF(②選手情報入力!T18=\"\",\"\",IF(K9=1,種目情報!$J$4,種目情報!$J$6)))","v":""},{"$f":"IF(E9=\"\",\"\",IF(②選手情報入力!T18=\"\",\"\",IF(K9=1,IF(②選手情報入力!$U$7=\"\",\"\",②選手情報入力!$U$7),IF(②選手情報入力!$U$8=\"\",\"\",②選手情報入力!$U$8))))","v":""},{"$f":"IF(E9=\"\",\"\",IF(②選手情報入力!T18=\"\",\"\",IF(K9=1,IF(②選手情報入力!$T$7=\"\",0,1),IF(②選手情報入力!$T$8=\"\",0,1))))","v":""},{"$f":"IF(E9=\"\",\"\",IF(②選手情報入力!T18=\"\",\"\",2))","v":""},{"$f":"IF(E9=\"\",\"\",IF(②選手情報入力!V18=\"\",\"\",IF(K9=1,種目情報!$J$5,種目情報!$J$7)))","v":""},{"$f":"IF(E9=\"\",\"\",IF(②選手情報入力!V18=\"\",\"\",IF(K9=1,IF(②選手情報入力!$W$7=\"\",\"\",②選手情報入力!$W$7),IF(②選手情報入力!$W$8=\"\",\"\",②選手情報入力!$W$8))))","v":""},{"$f":"IF(E9=\"\",\"\",IF(②選手情報入力!V18=\"\",\"\",IF(K9=1,IF(②選手情報入力!$V$7=\"\",0,1),IF(②選手情報入力!$V$8=\"\",0,1))))","v":""},{"$f":"IF(E9=\"\",\"\",IF(②選手情報入力!V18=\"\",\"\",2))","v":""},null,null,{"$f":"IF(②選手情報入力!F18=\"\",\"\",ASC(②選手情報入力!F18))","v":""},{"$f":"IF(②選手情報入力!F18=\"\",\"\",ASC(②選手情報入力!G18))","v":""}]
["",{"$f":"IF(E10=\"\",\"\",①団体情報入力!$C$5)","v":""},null,{"$f":"IF(E10=\"\",\"\",IF(①団体情報入力!C18=\"\",\"\",①団体情報入力!C18))","v":""},{"$f":"IF(②選手情報入力!C19=\"\",\"\",②選手情報入力!C19)","v":""},{"$f":"IF(E10=\"\",\"\",②選手情報入力!D19)","v":""},{"$f":"IF(E10=\"\",\"\",ASC(②選手情報入力!E19))","v":""},"","",{"$f":"IF(E10=\"\",\"\",IF(②選手情報入力!H19=\"\",\"JPN\",LEFT(②選手情報入力!H19,3)))","v":""},{"$f":"IF(E10=\"\",\"\",IF(②選手情報入力!I19=\"男\",1,2))","v":""},{"$f":"IF(E10=\"\",\"\",IF(②選手情報入力!J19=\"\",\"\",②選手情報入力!J19))","v":""},{"$f":"IF(E10=\"\",\"\",LEFT(②選手情報入力!K19,4))","v":""},{"$f":"IF(E10=\"\",\"\",RIGHT(②選手情報入力!K19,4))","v":""},"",null,{"$f":"IF(E10=\"\",\"\",IF(②選手情報入力!L19=\"\",\"\",IF(K10=1,VLOOKUP(②選手情報入力!L19,種目情報!$A$5:$B$167,2,FALSE),VLOOKUP(②選手情報入力!L19,種目情報!$E$5:$F$142,2,FALSE))))","v":""},{"$f":"IF(E10=\"\",\"\",IF(②選手情報入力!M19=\"\",\"\",②選手情報入力!M19))","v":""},null,{"$f":"IF(E10=\"\",\"\",IF(②選手情報入力!L19=\"\",\"\",IF(K10=1,VLOOKUP(②選手情報入力!L19,種目情報!$A$5:$C$135,3,FALSE),VLOOKUP(②選手情報入力!L19,種目情報!$E$5:$G$135,3,FALSE))))","v":""},{"$f":"IF(E10=\"\",\"\",IF(②選手情報入力!O19=\"\",\"\",IF(K10=1,VLOOKUP(②選手情報入力!O19,種目情報!$A$5:$B$151,2,FALSE),VLOOKUP(②選手情報入力!O19,種目情報!$E$5:$F$135,2,FALSE))))","v":""},{"$f":"IF(E10=\"\",\"\",IF(②選手情報入力!P19=\"\",\"\",②選手情報入力!P19))","v":""},{"$f":"IF(E10=\"\",\"\",IF(②選手情報入力!N19=\"\",\"\",1))","v":""},{"$f":"IF(E10=\"\",\"\",IF(②選手情報入力!O19=\"\",\"\",IF(K10=1,VLOOKUP(②選手情報入力!O19,種目情報!$A$5:$C$135,3,FALSE),VLOOKUP(②選手情報入力!O19,種目情報!$E$5:$G$135,3,FALSE))))","v":""},{"$f":"IF(E10=\"\",\"\",IF(②選手情報入力!R19=\"\",\"\",IF(K10=1,VLOOKUP(②選手情報入力!R19,種目情報!$A$5:$B$151,2,FALSE),VLOOKUP(②選手情報入力!R19,種目情報!$E$5:$F$135,2,FALSE))))","v":""},{"$f":"IF(E10=\"\",\"\",IF(②選手情報入力!S19=\"\",\"\",②選手情報入力!S19))","v":""},{"$f":"IF(E10=\"\",\"\",IF(②選手情報入力!Q19=\"\",\"\",1))","v":""},{"$f":"IF(E10=\"\",\"\",IF(②選手情報入力!R19=\"\",\"\",IF(K10=1,VLOOKUP(②選手情報入力!R19,種目情報!$A$5:$C$135,3,FALSE),VLOOKUP(②選手情報入力!R19,種目情報!$E$5:$G$135,3,FALSE))))","v":""},{"$f":"IF(E10=\"\",\"\",IF(②選手情報入力!T19=\"\",\"\",IF(K10=1,種目情報!$J$4,種目情報!$J$6)))","v":""},{"$f":"IF(E10=\"\",\"\",IF(②選手情報入力!T19=\"\",\"\",IF(K10=1,IF(②選手情報入力!$U$7=\"\",\"\",②選手情報入力!$U$7),IF(②選手情報入力!$U$8=\"\",\"\",②選手情報入力!$U$8))))","v":""},{"$f":"IF(E10=\"\",\"\",IF(②選手情報入力!T19=\"\",\"\",IF(K10=1,IF(②選手情報入力!$T$7=\"\",0,1),IF(②選手情報入力!$T$8=\"\",0,1))))","v":""},{"$f":"IF(E10=\"\",\"\",IF(②選手情報入力!T19=\"\",\"\",2))","v":""},{"$f":"IF(E10=\"\",\"\",IF(②選手情報入力!V19=\"\",\"\",IF(K10=1,種目情報!$J$5,種目情報!$J$7)))","v":""},{"$f":"IF(E10=\"\",\"\",IF(②選手情報入力!V19=\"\",\"\",IF(K10=1,IF(②選手情報入力!$W$7=\"\",\"\",②選手情報入力!$W$7),IF(②選手情報入力!$W$8=\"\",\"\",②選手情報入力!$W$8))))","v":""},{"$f":"IF(E10=\"\",\"\",IF(②選手情報入力!V19=\"\",\"\",IF(K10=1,IF(②選手情報入力!$V$7=\"\",0,1),IF(②選手情報入力!$V$8=\"\",0,1))))","v":""},{"$f":"IF(E10=\"\",\"\",IF(②選手情報入力!V19=\"\",\"\",2))","v":""},null,null,{"$f":"IF(②選手情報入力!F19=\"\",\"\",ASC(②選手情報入力!F19))","v":""},{"$f":"IF(②選手情報入力!F19=\"\",\"\",ASC(②選手情報入力!G19))","v":""}]
["",{"$f":"IF(E11=\"\",\"\",①団体情報入力!$C$5)","v":""},null,{"$f":"IF(E11=\"\",\"\",IF(①団体情報入力!C19=\"\",\"\",①団体情報入力!C19))","v":""},{"$f":"IF(②選手情報入力!C20=\"\",\"\",②選手情報入力!C20)","v":""},{"$f":"IF(E11=\"\",\"\",②選手情報入力!D20)","v":""},{"$f":"IF(E11=\"\",\"\",ASC(②選手情報入力!E20))","v":""},"","",{"$f":"IF(E11=\"\",\"\",IF(②選手情報入力!H20=\"\",\"JPN\",LEFT(②選手情報入力!H20,3)))","v":""},{"$f":"IF(E11=\"\",\"\",IF(②選手情報入力!I20=\"男\",1,2))","v":""},{"$f":"IF(E11=\"\",\"\",IF(②選手情報入力!J20=\"\",\"\",②選手情報入力!J20))","v":""},{"$f":"IF(E11=\"\",\"\",LEFT(②選手情報入力!K20,4))","v":""},{"$f":"IF(E11=\"\",\"\",RIGHT(②選手情報入力!K20,4))","v":""},"",null,{"$f":"IF(E11=\"\",\"\",IF(②選手情報入力!L20=\"\",\"\",IF(K11=1,VLOOKUP(②選手情報入力!L20,種目情報!$A$5:$B$167,2,FALSE),VLOOKUP(②選手情報入力!L20,種目情報!$E$5:$F$142,2,FALSE))))","v":""},{"$f":"IF(E11=\"\",\"\",IF(②選手情報入力!M20=\"\",\"\",②選手情報入力!M20))","v":""},null,{"$f":"IF(E11=\"\",\"\",IF(②選手情報入力!L20=\"\",\"\",IF(K11=1,VLOOKUP(②選手情報入力!L20,種目情報!$A$5:$C$135,3,FALSE),VLOOKUP(②選手情報入力!L20,種目情報!$E$5:$G$135,3,FALSE))))","v":""},{"$f":"IF(E11=\"\",\"\",IF(②選手情報入力!O20=\"\",\"\",IF(K11=1,VLOOKUP(②選手情報入力!O20,種目情報!$A$5:$B$151,2,FALSE),VLOOKUP(②選手情報入力!O20,種目情報!$E$5:$F$135,2,FALSE))))","v":""},{"$f":"IF(E11=\"\",\"\",IF(②選手情報入力!P20=\"\",\"\",②選手情報入力!P20))","v":""},{"$f":"IF(E11=\"\",\"\",IF(②選手情報入力!N20=\"\",\"\",1))","v":""},{"$f":"IF(E11=\"\",\"\",IF(②選手情報入力!O20=\"\",\"\",IF(K11=1,VLOOKUP(②選手情報入力!O20,種目情報!$A$5:$C$135,3,FALSE),VLOOKUP(②選手情報入力!O20,種目情報!$E$5:$G$135,3,FALSE))))","v":""},{"$f":"IF(E11=\"\",\"\",IF(②選手情報入力!R20=\"\",\"\",IF(K11=1,VLOOKUP(②選手情報入力!R20,種目情報!$A$5:$B$151,2,FALSE),VLOOKUP(②選手情報入力!R20,種目情報!$E$5:$F$135,2,FALSE))))","v":""},{"$f":"IF(E11=\"\",\"\",IF(②選手情報入力!S20=\"\",\"\",②選手情報入力!S20))","v":""},{"$f":"IF(E11=\"\",\"\",IF(②選手情報入力!Q20=\"\",\"\",1))","v":""},{"$f":"IF(E11=\"\",\"\",IF(②選手情報入力!R20=\"\",\"\",IF(K11=1,VLOOKUP(②選手情報入力!R20,種目情報!$A$5:$C$135,3,FALSE),VLOOKUP(②選手情報入力!R20,種目情報!$E$5:$G$135,3,FALSE))))","v":""},{"$f":"IF(E11=\"\",\"\",IF(②選手情報入力!T20=\"\",\"\",IF(K11=1,種目情報!$J$4,種目情報!$J$6)))","v":""},{"$f":"IF(E11=\"\",\"\",IF(②選手情報入力!T20=\"\",\"\",IF(K11=1,IF(②選手情報入力!$U$7=\"\",\"\",②選手情報入力!$U$7),IF(②選手情報入力!$U$8=\"\",\"\",②選手情報入力!$U$8))))","v":""},{"$f":"IF(E11=\"\",\"\",IF(②選手情報入力!T20=\"\",\"\",IF(K11=1,IF(②選手情報入力!$T$7=\"\",0,1),IF(②選手情報入力!$T$8=\"\",0,1))))","v":""},{"$f":"IF(E11=\"\",\"\",IF(②選手情報入力!T20=\"\",\"\",2))","v":""},{"$f":"IF(E11=\"\",\"\",IF(②選手情報入力!V20=\"\",\"\",IF(K11=1,種目情報!$J$5,種目情報!$J$7)))","v":""},{"$f":"IF(E11=\"\",\"\",IF(②選手情報入力!V20=\"\",\"\",IF(K11=1,IF(②選手情報入力!$W$7=\"\",\"\",②選手情報入力!$W$7),IF(②選手情報入力!$W$8=\"\",\"\",②選手情報入力!$W$8))))","v":""},{"$f":"IF(E11=\"\",\"\",IF(②選手情報入力!V20=\"\",\"\",IF(K11=1,IF(②選手情報入力!$V$7=\"\",0,1),IF(②選手情報入力!$V$8=\"\",0,1))))","v":""},{"$f":"IF(E11=\"\",\"\",IF(②選手情報入力!V20=\"\",\"\",2))","v":""},null,null,{"$f":"IF(②選手情報入力!F20=\"\",\"\",ASC(②選手情報入力!F20))","v":""},{"$f":"IF(②選手情報入力!F20=\"\",\"\",ASC(②選手情報入力!G20))","v":""}]
["",{"$f":"IF(E12=\"\",\"\",①団体情報入力!$C$5)","v":""},null,{"$f":"IF(E12=\"\",\"\",IF(①団体情報入力!C20=\"\",\"\",①団体情報入力!C20))","v":""},{"$f":"IF(②選手情報入力!C21=\"\",\"\",②選手情報入力!C21)","v":""},{"$f":"IF(E12=\"\",\"\",②選手情報入力!D21)","v":""},{"$f":"IF(E12=\"\",\"\",ASC(②選手情報入力!E21))","v":""},"","",{"$f":"IF(E12=\"\",\"\",IF(②選手情報入力!H21=\"\",\"JPN\",LEFT(②選手情報入力!H21,3)))","v":""},{"$f":"IF(E12=\"\",\"\",IF(②選手情報入力!I21=\"男\",1,2))","v":""},{"$f":"IF(E12=\"\",\"\",IF(②選手情報入力!J21=\"\",\"\",②選手情報入力!J21))","v":""},{"$f":"IF(E12=\"\",\"\",LEFT(②選手情報入力!K21,4))","v":""},{"$f":"IF(E12=\"\",\"\",RIGHT(②選手情報入力!K21,4))","v":""},"",null,{"$f":"IF(E12=\"\",\"\",IF(②選手情報入力!L21=\"\",\"\",IF(K12=1,VLOOKUP(②選手情報入力!L21,種目情報!$A$5:$B$167,2,FALSE),VLOOKUP(②選手情報入力!L21,種目情報!$E$5:$F$142,2,FALSE))))","v":""},{"$f":"IF(E12=\"\",\"\",IF(②選手情報入力!M21=\"\",\"\",②選手情報入力!M21))","v":""},null,{"$f":"IF(E12=\"\",\"\",IF(②選手情報入力!L21=\"\",\"\",IF(K12=1,VLOOKUP(②選手情報入力!L21,種目情報!$A$5:$C$135,3,FALSE),VLOOKUP(②選手情報入力!L21,種目情報!$E$5:$G$135,3,FALSE))))","v":""},{"$f":"IF(E12=\"\",\"\",IF(②選手情報入力!O21=\"\",\"\",IF(K12=1,VLOOKUP(②選手情報入力!O21,種目情報!$A$5:$B$151,2,FALSE),VLOOKUP(②選手情報入力!O21,種目情報!$E$5:$F$135,2,FALSE))))","v":""},{"$f":"IF(E12=\"\",\"\",IF(②選手情報入力!P21=\"\",\"\",②選手情報入力!P21))","v":""},{"$f":"IF(E12=\"\",\"\",IF(②選手情報入力!N21=\"\",\"\",1))","v":""},{"$f":"IF(E12=\"\",\"\",IF(②選手情報入力!O21=\"\",\"\",IF(K12=1,VLOOKUP(②選手情報入力!O21,種目情報!$A$5:$C$135,3,FALSE),VLOOKUP(②選手情報入力!O21,種目情報!$E$5:$G$135,3,FALSE))))","v":""},{"$f":"IF(E12=\"\",\"\",IF(②選手情報入力!R21=\"\",\"\",IF(K12=1,VLOOKUP(②選手情報入力!R21,種目情報!$A$5:$B$151,2,FALSE),VLOOKUP(②選手情報入力!R21,種目情報!$E$5:$F$135,2,FALSE))))","v":""},{"$f":"IF(E12=\"\",\"\",IF(②選手情報入力!S21=\"\",\"\",②選手情報入力!S21))","v":""},{"$f":"IF(E12=\"\",\"\",IF(②選手情報入力!Q21=\"\",\"\",1))","v":""},{"$f":"IF(E12=\"\",\"\",IF(②選手情報入力!R21=\"\",\"\",IF(K12=1,VLOOKUP(②選手情報入力!R21,種目情報!$A$5:$C$135,3,FALSE),VLOOKUP(②選手情報入力!R21,種目情報!$E$5:$G$135,3,FALSE))))","v":""},{"$f":"IF(E12=\"\",\"\",IF(②選手情報入力!T21=\"\",\"\",IF(K12=1,種目情報!$J$4,種目情報!$J$6)))","v":""},{"$f":"IF(E12=\"\",\"\",IF(②選手情報入力!T21=\"\",\"\",IF(K12=1,IF(②選手情報入力!$U$7=\"\",\"\",②選手情報入力!$U$7),IF(②選手情報入力!$U$8=\"\",\"\",②選手情報入力!$U$8))))","v":""},{"$f":"IF(E12=\"\",\"\",IF(②選手情報入力!T21=\"\",\"\",IF(K12=1,IF(②選手情報入力!$T$7=\"\",0,1),IF(②選手情報入力!$T$8=\"\",0,1))))","v":""},{"$f":"IF(E12=\"\",\"\",IF(②選手情報入力!T21=\"\",\"\",2))","v":""},{"$f":"IF(E12=\"\",\"\",IF(②選手情報入力!V21=\"\",\"\",IF(K12=1,種目情報!$J$5,種目情報!$J$7)))","v":""},{"$f":"IF(E12=\"\",\"\",IF(②選手情報入力!V21=\"\",\"\",IF(K12=1,IF(②選手情報入力!$W$7=\"\",\"\",②選手情報入力!$W$7),IF(②選手情報入力!$W$8=\"\",\"\",②選手情報入力!$W$8))))","v":""},{"$f":"IF(E12=\"\",\"\",IF(②選手情報入力!V21=\"\",\"\",IF(K12=1,IF(②選手情報入力!$V$7=\"\",0,1),IF(②選手情報入力!$V$8=\"\",0,1))))","v":""},{"$f":"IF(E12=\"\",\"\",IF(②選手情報入力!V21=\"\",\"\",2))","v":""},null,null,{"$f":"IF(②選手情報入力!F21=\"\",\"\",ASC(②選手情報入力!F21))","v":""},{"$f":"IF(②選手情報入力!F21=\"\",\"\",ASC(②選手情報入力!G21))","v":""}]
["",{"$f":"IF(E13=\"\",\"\",①団体情報入力!$C$5)","v":""},null,{"$f":"IF(E13=\"\",\"\",IF(①団体情報入力!C21=\"\",\"\",①団体情報入力!C21))","v":""},{"$f":"IF(②選手情報入力!C22=\"\",\"\",②選手情報入力!C22)","v":""},{"$f":"IF(E13=\"\",\"\",②選手情報入力!D22)","v":""},{"$f":"IF(E13=\"\",\"\",ASC(②選手情報入力!E22))","v":""},"","",{"$f":"IF(E13=\"\",\"\",IF(②選手情報入力!H22=\"\",\"JPN\",LEFT(②選手情報入力!H22,3)))","v":""},{"$f":"IF(E13=\"\",\"\",IF(②選手情報入力!I22=\"男\",1,2))","v":""},{"$f":"IF(E13=\"\",\"\",IF(②選手情報入力!J22=\"\",\"\",②選手情報入力!J22))","v":""},{"$f":"IF(E13=\"\",\"\",LEFT(②選手情報入力!K22,4))","v":""},{"$f":"IF(E13=\"\",\"\",RIGHT(②選手情報入力!K22,4))","v":""},"",null,{"$f":"IF(E13=\"\",\"\",IF(②選手情報入力!L22=\"\",\"\",IF(K13=1,VLOOKUP(②選手情報入力!L22,種目情報!$A$5:$B$167,2,FALSE),VLOOKUP(②選手情報入力!L22,種目情報!$E$5:$F$142,2,FALSE))))","v":""},{"$f":"IF(E13=\"\",\"\",IF(②選手情報入力!M22=\"\",\"\",②選手情報入力!M22))","v":""},null,{"$f":"IF(E13=\"\",\"\",IF(②選手情報入力!L22=\"\",\"\",IF(K13=1,VLOOKUP(②選手情報入力!L22,種目情報!$A$5:$C$135,3,FALSE),VLOOKUP(②選手情報入力!L22,種目情報!$E$5:$G$135,3,FALSE))))","v":""},{"$f":"IF(E13=\"\",\"\",IF(②選手情報入力!O22=\"\",\"\",IF(K13=1,VLOOKUP(②選手情報入力!O22,種目情報!$A$5:$B$151,2,FALSE),VLOOKUP(②選手情報入力!O22,種目情報!$E$5:$F$135,2,FALSE))))","v":""},{"$f":"IF(E13=\"\",\"\",IF(②選手情報入力!P22=\"\",\"\",②選手情報入力!P22))","v":""},{"$f":"IF(E13=\"\",\"\",IF(②選手情報入力!N22=\"\",\"\",1))","v":""},{"$f":"IF(E13=\"\",\"\",IF(②選手情報入力!O22=\"\",\"\",IF(K13=1,VLOOKUP(②選手情報入力!O22,種目情報!$A$5:$C$135,3,FALSE),VLOOKUP(②選手情報入力!O22,種目情報!$E$5:$G$135,3,FALSE))))","v":""},{"$f":"IF(E13=\"\",\"\",IF(②選手情報入力!R22=\"\",\"\",IF(K13=1,VLOOKUP(②選手情報入力!R22,種目情報!$A$5:$B$151,2,FALSE),VLOOKUP(②選手情報入力!R22,種目情報!$E$5:$F$135,2,FALSE))))","v":""},{"$f":"IF(E13=\"\",\"\",IF(②選手情報入力!S22=\"\",\"\",②選手情報入力!S22))","v":""},{"$f":"IF(E13=\"\",\"\",IF(②選手情報入力!Q22=\"\",\"\",1))","v":""},{"$f":"IF(E13=\"\",\"\",IF(②選手情報入力!R22=\"\",\"\",IF(K13=1,VLOOKUP(②選手情報入力!R22,種目情報!$A$5:$C$135,3,FALSE),VLOOKUP(②選手情報入力!R22,種目情報!$E$5:$G$135,3,FALSE))))","v":""},{"$f":"IF(E13=\"\",\"\",IF(②選手情報入力!T22=\"\",\"\",IF(K13=1,種目情報!$J$4,種目情報!$J$6)))","v":""},{"$f":"IF(E13=\"\",\"\",IF(②選手情報入力!T22=\"\",\"\",IF(K13=1,IF(②選手情報入力!$U$7=\"\",\"\",②選手情報入力!$U$7),IF(②選手情報入力!$U$8=\"\",\"\",②選手情報入力!$U$8))))","v":""},{"$f":"IF(E13=\"\",\"\",IF(②選手情報入力!T22=\"\",\"\",IF(K13=1,IF(②選手情報入力!$T$7=\"\",0,1),IF(②選手情報入力!$T$8=\"\",0,1))))","v":""},{"$f":"IF(E13=\"\",\"\",IF(②選手情報入力!T22=\"\",\"\",2))","v":""},{"$f":"IF(E13=\"\",\"\",IF(②選手情報入力!V22=\"\",\"\",IF(K13=1,種目情報!$J$5,種目情報!$J$7)))","v":""},{"$f":"IF(E13=\"\",\"\",IF(②選手情報入力!V22=\"\",\"\",IF(K13=1,IF(②選手情報入力!$W$7=\"\",\"\",②選手情報入力!$W$7),IF(②選手情報入力!$W$8=\"\",\"\",②選手情報入力!$W$8))))","v":""},{"$f":"IF(E13=\"\",\"\",IF(②選手情報入力!V22=\"\",\"\",IF(K13=1,IF(②選手情報入力!$V$7=\"\",0,1),IF(②選手情報入力!$V$8=\"\",0,1))))","v":""},{"$f":"IF(E13=\"\",\"\",IF(②選手情報入力!V22=\"\",\"\",2))","v":""},null,null,{"$f":"IF(②選手情報入力!F22=\"\",\"\",ASC(②選手情報入力!F22))","v":""},{"$f":"IF(②選手情報入力!F22=\"\",\"\",ASC(②選手情報入力!G22))","v":""}]
["",{"$f":"IF(E14=\"\",\"\",①団体情報入力!$C$5)","v":""},null,{"$f":"IF(E14=\"\",\"\",IF(①団体情報入力!C22=\"\",\"\",①団体情報入力!C22))","v":""},{"$f":"IF(②選手情報入力!C23=\"\",\"\",②選手情報入力!C23)","v":""},{"$f":"IF(E14=\"\",\"\",②選手情報入力!D23)","v":""},{"$f":"IF(E14=\"\",\"\",ASC(②選手情報入力!E23))","v":""},"","",{"$f":"IF(E14=\"\",\"\",IF(②選手情報入力!H23=\"\",\"JPN\",LEFT(②選手情報入力!H23,3)))","v":""},{"$f":"IF(E14=\"\",\"\",IF(②選手情報入力!I23=\"男\",1,2))","v":""},{"$f":"IF(E14=\"\",\"\",IF(②選手情報入力!J23=\"\",\"\",②選手情報入力!J23))","v":""},{"$f":"IF(E14=\"\",\"\",LEFT(②選手情報入力!K23,4))","v":""},{"$f":"IF(E14=\"\",\"\",RIGHT(②選手情報入力!K23,4))","v":""},"",null,{"$f":"IF(E14=\"\",\"\",IF(②選手情報入力!L23=\"\",\"\",IF(K14=1,VLOOKUP(②選手情報入力!L23,種目情報!$A$5:$B$167,2,FALSE),VLOOKUP(②選手情報入力!L23,種目情報!$E$5:$F$142,2,FALSE))))","v":""},{"$f":"IF(E14=\"\",\"\",IF(②選手情報入力!M23=\"\",\"\",②選手情報入力!M23))","v":""},null,{"$f":"IF(E14=\"\",\"\",IF(②選手情報入力!L23=\"\",\"\",IF(K14=1,VLOOKUP(②選手情報入力!L23,種目情報!$A$5:$C$135,3,FALSE),VLOOKUP(②選手情報入力!L23,種目情報!$E$5:$G$135,3,FALSE))))","v":""},{"$f":"IF(E14=\"\",\"\",IF(②選手情報入力!O23=\"\",\"\",IF(K14=1,VLOOKUP(②選手情報入力!O23,種目情報!$A$5:$B$151,2,FALSE),VLOOKUP(②選手情報入力!O23,種目情報!$E$5:$F$135,2,FALSE))))","v":""},{"$f":"IF(E14=\"\",\"\",IF(②選手情報入力!P23=\"\",\"\",②選手情報入力!P23))","v":""},{"$f":"IF(E14=\"\",\"\",IF(②選手情報入力!N23=\"\",\"\",1))","v":""},{"$f":"IF(E14=\"\",\"\",IF(②選手情報入力!O23=\"\",\"\",IF(K14=1,VLOOKUP(②選手情報入力!O23,種目情報!$A$5:$C$135,3,FALSE),VLOOKUP(②選手情報入力!O23,種目情報!$E$5:$G$135,3,FALSE))))","v":""},{"$f":"IF(E14=\"\",\"\",IF(②選手情報入力!R23=\"\",\"\",IF(K14=1,VLOOKUP(②選手情報入力!R23,種目情報!$A$5:$B$151,2,FALSE),VLOOKUP(②選手情報入力!R23,種目情報!$E$5:$F$135,2,FALSE))))","v":""},{"$f":"IF(E14=\"\",\"\",IF(②選手情報入力!S23=\"\",\"\",②選手情報入力!S23))","v":""},{"$f":"IF(E14=\"\",\"\",IF(②選手情報入力!Q23=\"\",\"\",1))","v":""},{"$f":"IF(E14=\"\",\"\",IF(②選手情報入力!R23=\"\",\"\",IF(K14=1,VLOOKUP(②選手情報入力!R23,種目情報!$A$5:$C$135,3,FALSE),VLOOKUP(②選手情報入力!R23,種目情報!$E$5:$G$135,3,FALSE))))","v":""},{"$f":"IF(E14=\"\",\"\",IF(②選手情報入力!T23=\"\",\"\",IF(K14=1,種目情報!$J$4,種目情報!$J$6)))","v":""},{"$f":"IF(E14=\"\",\"\",IF(②選手情報入力!T23=\"\",\"\",IF(K14=1,IF(②選手情報入力!$U$7=\"\",\"\",②選手情報入力!$U$7),IF(②選手情報入力!$U$8=\"\",\"\",②選手情報入力!$U$8))))","v":""},{"$f":"IF(E14=\"\",\"\",IF(②選手情報入力!T23=\"\",\"\",IF(K14=1,IF(②選手情報入力!$T$7=\"\",0,1),IF(②選手情報入力!$T$8=\"\",0,1))))","v":""},{"$f":"IF(E14=\"\",\"\",IF(②選手情報入力!T23=\"\",\"\",2))","v":""},{"$f":"IF(E14=\"\",\"\",IF(②選手情報入力!V23=\"\",\"\",IF(K14=1,種目情報!$J$5,種目情報!$J$7)))","v":""},{"$f":"IF(E14=\"\",\"\",IF(②選手情報入力!V23=\"\",\"\",IF(K14=1,IF(②選手情報入力!$W$7=\"\",\"\",②選手情報入力!$W$7),IF(②選手情報入力!$W$8=\"\",\"\",②選手情報入力!$W$8))))","v":""},{"$f":"IF(E14=\"\",\"\",IF(②選手情報入力!V23=\"\",\"\",IF(K14=1,IF(②選手情報入力!$V$7=\"\",0,1),IF(②選手情報入力!$V$8=\"\",0,1))))","v":""},{"$f":"IF(E14=\"\",\"\",IF(②選手情報入力!V23=\"\",\"\",2))","v":""},null,null,{"$f":"IF(②選手情報入力!F23=\"\",\"\",ASC(②選手情報入力!F23))","v":""},{"$f":"IF(②選手情報入力!F23=\"\",\"\",ASC(②選手情報入力!G23))","v":""}]
["",{"$f":"IF(E15=\"\",\"\",①団体情報入力!$C$5)","v":""},null,{"$f":"IF(E15=\"\",\"\",IF(①団体情報入力!C23=\"\",\"\",①団体情報入力!C23))","v":""},{"$f":"IF(②選手情報入力!C24=\"\",\"\",②選手情報入力!C24)","v":""},{"$f":"IF(E15=\"\",\"\",②選手情報入力!D24)","v":""},{"$f":"IF(E15=\"\",\"\",ASC(②選手情報入力!E24))","v":""},"","",{"$f":"IF(E15=\"\",\"\",IF(②選手情報入力!H24=\"\",\"JPN\",LEFT(②選手情報入力!H24,3)))","v":""},{"$f":"IF(E15=\"\",\"\",IF(②選手情報入力!I24=\"男\",1,2))","v":""},{"$f":"IF(E15=\"\",\"\",IF(②選手情報入力!J24=\"\",\"\",②選手情報入力!J24))","v":""},{"$f":"IF(E15=\"\",\"\",LEFT(②選手情報入力!K24,4))","v":""},{"$f":"IF(E15=\"\",\"\",RIGHT(②選手情報入力!K24,4))","v":""},"",null,{"$f":"IF(E15=\"\",\"\",IF(②選手情報入力!L24=\"\",\"\",IF(K15=1,VLOOKUP(②選手情報入力!L24,種目情報!$A$5:$B$167,2,FALSE),VLOOKUP(②選手情報入力!L24,種目情報!$E$5:$F$142,2,FALSE))))","v":""},{"$f":"IF(E15=\"\",\"\",IF(②選手情報入力!M24=\"\",\"\",②選手情報入力!M24))","v":""},null,{"$f":"IF(E15=\"\",\"\",IF(②選手情報入力!L24=\"\",\"\",IF(K15=1,VLOOKUP(②選手情報入力!L24,種目情報!$A$5:$C$135,3,FALSE),VLOOKUP(②選手情報入力!L24,種目情報!$E$5:$G$135,3,FALSE))))","v":""},{"$f":"IF(E15=\"\",\"\",IF(②選手情報入力!O24=\"\",\"\",IF(K15=1,VLOOKUP(②選手情報入力!O24,種目情報!$A$5:$B$151,2,FALSE),VLOOKUP(②選手情報入力!O24,種目情報!$E$5:$F$135,2,FALSE))))","v":""},{"$f":"IF(E15=\"\",\"\",IF(②選手情報入力!P24=\"\",\"\",②選手情報入力!P24))","v":""},{"$f":"IF(E15=\"\",\"\",IF(②選手情報入力!N24=\"\",\"\",1))","v":""},{"$f":"IF(E15=\"\",\"\",IF(②選手情報入力!O24=\"\",\"\",IF(K15=1,VLOOKUP(②選手情報入力!O24,種目情報!$A$5:$C$135,3,FALSE),VLOOKUP(②選手情報入力!O24,種目情報!$E$5:$G$135,3,FALSE))))","v":""},{"$f":"IF(E15=\"\",\"\",IF(②選手情報入力!R24=\"\",\"\",IF(K15=1,VLOOKUP(②選手情報入力!R24,種目情報!$A$5:$B$151,2,FALSE),VLOOKUP(②選手情報入力!R24,種目情報!$E$5:$F$135,2,FALSE))))","v":""},{"$f":"IF(E15=\"\",\"\",IF(②選手情報入力!S24=\"\",\"\",②選手情報入力!S24))","v":""},{"$f":"IF(E15=\"\",\"\",IF(②選手情報入力!Q24=\"\",\"\",1))","v":""},{"$f":"IF(E15=\"\",\"\",IF(②選手情報入力!R24=\"\",\"\",IF(K15=1,VLOOKUP(②選手情報入力!R24,種目情報!$A$5:$C$135,3,FALSE),VLOOKUP(②選手情報入力!R24,種目情報!$E$5:$G$135,3,FALSE))))","v":""},{"$f":"IF(E15=\"\",\"\",IF(②選手情報入力!T24=\"\",\"\",IF(K15=1,種目情報!$J$4,種目情報!$J$6)))","v":""},{"$f":"IF(E15=\"\",\"\",IF(②選手情報入力!T24=\"\",\"\",IF(K15=1,IF(②選手情報入力!$U$7=\"\",\"\",②選手情報入力!$U$7),IF(②選手情報入力!$U$8=\"\",\"\",②選手情報入力!$U$8))))","v":""},{"$f":"IF(E15=\"\",\"\",IF(②選手情報入力!T24=\"\",\"\",IF(K15=1,IF(②選手情報入力!$T$7=\"\",0,1),IF(②選手情報入力!$T$8=\"\",0,1))))","v":""},{"$f":"IF(E15=\"\",\"\",IF(②選手情報入力!T24=\"\",\"\",2))","v":""},{"$f":"IF(E15=\"\",\"\",IF(②選手情報入力!V24=\"\",\"\",IF(K15=1,種目情報!$J$5,種目情報!$J$7)))","v":""},{"$f":"IF(E15=\"\",\"\",IF(②選手情報入力!V24=\"\",\"\",IF(K15=1,IF(②選手情報入力!$W$7=\"\",\"\",②選手情報入力!$W$7),IF(②選手情報入力!$W$8=\"\",\"\",②選手情報入力!$W$8))))","v":""},{"$f":"IF(E15=\"\",\"\",IF(②選手情報入力!V24=\"\",\"\",IF(K15=1,IF(②選手情報入力!$V$7=\"\",0,1),IF(②選手情報入力!$V$8=\"\",0,1))))","v":""},{"$f":"IF(E15=\"\",\"\",IF(②選手情報入力!V24=\"\",\"\",2))","v":""},null,null,{"$f":"IF(②選手情報入力!F24=\"\",\"\",ASC(②選手情報入力!F24))","v":""},{"$f":"IF(②選手情報入力!F24=\"\",\"\",ASC(②選手情報入力!G24))","v":""}]
["",{"$f":"IF(E16=\"\",\"\",①団体情報入力!$C$5)","v":""},null,{"$f":"IF(E16=\"\",\"\",IF(①団体情報入力!C24=\"\",\"\",①団体情報入力!C24))","v":""},{"$f":"IF(②選手情報入力!C25=\"\",\"\",②選手情報入力!C25)","v":""},{"$f":"IF(E16=\"\",\"\",②選手情報入力!D25)","v":""},{"$f":"IF(E16=\"\",\"\",ASC(②選手情報入力!E25))","v":""},"","",{"$f":"IF(E16=\"\",\"\",IF(②選手情報入力!H25=\"\",\"JPN\",LEFT(②選手情報入力!H25,3)))","v":""},{"$f":"IF(E16=\"\",\"\",IF(②選手情報入力!I25=\"男\",1,2))","v":""},{"$f":"IF(E16=\"\",\"\",IF(②選手情報入力!J25=\"\",\"\",②選手情報入力!J25))","v":""},{"$f":"IF(E16=\"\",\"\",LEFT(②選手情報入力!K25,4))","v":""},{"$f":"IF(E16=\"\",\"\",RIGHT(②選手情報入力!K25,4))","v":""},"",null,{"$f":"IF(E16=\"\",\"\",IF(②選手情報入力!L25=\"\",\"\",IF(K16=1,VLOOKUP(②選手情報入力!L25,種目情報!$A$5:$B$167,2,FALSE),VLOOKUP(②選手情報入力!L25,種目情報!$E$5:$F$142,2,FALSE))))","v":""},{"$f":"IF(E16=\"\",\"\",IF(②選手情報入力!M25=\"\",\"\",②選手情報入力!M25))","v":""},null,{"$f":"IF(E16=\"\",\"\",IF(②選手情報入力!L25=\"\",\"\",IF(K16=1,VLOOKUP(②選手情報入力!L25,種目情報!$A$5:$C$135,3,FALSE),VLOOKUP(②選手情報入力!L25,種目情報!$E$5:$G$135,3,FALSE))))","v":""},{"$f":"IF(E16=\"\",\"\",IF(②選手情報入力!O25=\"\",\"\",IF(K16=1,VLOOKUP(②選手情報入力!O25,種目情報!$A$5:$B$151,2,FALSE),VLOOKUP(②選手情報入力!O25,種目情報!$E$5:$F$135,2,FALSE))))","v":""},{"$f":"IF(E16=\"\",\"\",IF(②選手情報入力!P25=\"\",\"\",②選手情報入力!P25))","v":""},{"$f":"IF(E16=\"\",\"\",IF(②選手情報入力!N25=\"\",\"\",1))","v":""},{"$f":"IF(E16=\"\",\"\",IF(②選手情報入力!O25=\"\",\"\",IF(K16=1,VLOOKUP(②選手情報入力!O25,種目情報!$A$5:$C$135,3,FALSE),VLOOKUP(②選手情報入力!O25,種目情報!$E$5:$G$135,3,FALSE))))","v":""},{"$f":"IF(E16=\"\",\"\",IF(②選手情報入力!R25=\"\",\"\",IF(K16=1,VLOOKUP(②選手情報入力!R25,種目情報!$A$5:$B$151,2,FALSE),VLOOKUP(②選手情報入力!R25,種目情報!$E$5:$F$135,2,FALSE))))","v":""},{"$f":"IF(E16=\"\",\"\",IF(②選手情報入力!S25=\"\",\"\",②選手情報入力!S25))","v":""},{"$f":"IF(E16=\"\",\"\",IF(②選手情報入力!Q25=\"\",\"\",1))","v":""},{"$f":"IF(E16=\"\",\"\",IF(②選手情報入力!R25=\"\",\"\",IF(K16=1,VLOOKUP(②選手情報入力!R25,種目情報!$A$5:$C$135,3,FALSE),VLOOKUP(②選手情報入力!R25,種目情報!$E$5:$G$135,3,FALSE))))","v":""},{"$f":"IF(E16=\"\",\"\",IF(②選手情報入力!T25=\"\",\"\",IF(K16=1,種目情報!$J$4,種目情報!$J$6)))","v":""},{"$f":"IF(E16=\"\",\"\",IF(②選手情報入力!T25=\"\",\"\",IF(K16=1,IF(②選手情報入力!$U$7=\"\",\"\",②選手情報入力!$U$7),IF(②選手情報入力!$U$8=\"\",\"\",②選手情報入力!$U$8))))","v":""},{"$f":"IF(E16=\"\",\"\",IF(②選手情報入力!T25=\"\",\"\",IF(K16=1,IF(②選手情報入力!$T$7=\"\",0,1),IF(②選手情報入力!$T$8=\"\",0,1))))","v":""},{"$f":"IF(E16=\"\",\"\",IF(②選手情報入力!T25=\"\",\"\",2))","v":""},{"$f":"IF(E16=\"\",\"\",IF(②選手情報入力!V25=\"\",\"\",IF(K16=1,種目情報!$J$5,種目情報!$J$7)))","v":""},{"$f":"IF(E16=\"\",\"\",IF(②選手情報入力!V25=\"\",\"\",IF(K16=1,IF(②選手情報入力!$W$7=\"\",\"\",②選手情報入力!$W$7),IF(②選手情報入力!$W$8=\"\",\"\",②選手情報入力!$W$8))))","v":""},{"$f":"IF(E16=\"\",\"\",IF(②選手情報入力!V25=\"\",\"\",IF(K16=1,IF(②選手情報入力!$V$7=\"\",0,1),IF(②選手情報入力!$V$8=\"\",0,1))))","v":""},{"$f":"IF(E16=\"\",\"\",IF(②選手情報入力!V25=\"\",\"\",2))","v":""},null,null,{"$f":"IF(②選手情報入力!F25=\"\",\"\",ASC(②選手情報入力!F25))","v":""},{"$f":"IF(②選手情報入力!F25=\"\",\"\",ASC(②選手情報入力!G25))","v":""}]
["",{"$f":"IF(E17=\"\",\"\",①団体情報入力!$C$5)","v":""},null,{"$f":"IF(E17=\"\",\"\",IF(①団体情報入力!C25=\"\",\"\",①団体情報入力!C25))","v":""},{"$f":"IF(②選手情報入力!C26=\"\",\"\",②選手情報入力!C26)","v":""},{"$f":"IF(E17=\"\",\"\",②選手情報入力!D26)","v":""},{"$f":"IF(E17=\"\",\"\",ASC(②選手情報入力!E26))","v":""},"","",{"$f":"IF(E17=\"\",\"\",IF(②選手情報入力!H26=\"\",\"JPN\",LEFT(②選手情報入力!H26,3)))","v":""},{"$f":"IF(E17=\"\",\"\",IF(②選手情報入力!I26=\"男\",1,2))","v":""},{"$f":"IF(E17=\"\",\"\",IF(②選手情報入力!J26=\"\",\"\",②選手情報入力!J26))","v":""},{"$f":"IF(E17=\"\",\"\",LEFT(②選手情報入力!K26,4))","v":""},{"$f":"IF(E17=\"\",\"\",RIGHT(②選手情報入力!K26,4))","v":""},"",null,{"$f":"IF(E17=\"\",\"\",IF(②選手情報入力!L26=\"\",\"\",IF(K17=1,VLOOKUP(②選手情報入力!L26,種目情報!$A$5:$B$167,2,FALSE),VLOOKUP(②選手情報入力!L26,種目情報!$E$5:$F$142,2,FALSE))))","v":""},{"$f":"IF(E17=\"\",\"\",IF(②選手情報入力!M26=\"\",\"\",②選手情報入力!M26))","v":""},null,{"$f":"IF(E17=\"\",\"\",IF(②選手情報入力!L26=\"\",\"\",IF(K17=1,VLOOKUP(②選手情報入力!L26,種目情報!$A$5:$C$135,3,FALSE),VLOOKUP(②選手情報入力!L26,種目情報!$E$5:$G$135,3,FALSE))))","v":""},{"$f":"IF(E17=\"\",\"\",IF(②選手情報入力!O26=\"\",\"\",IF(K17=1,VLOOKUP(②選手情報入力!O26,種目情報!$A$5:$B$151,2,FALSE),VLOOKUP(②選手情報入力!O26,種目情報!$E$5:$F$135,2,FALSE))))","v":""},{"$f":"IF(E17=\"\",\"\",IF(②選手情報入力!P26=\"\",\"\",②選手情報入力!P26))","v":""},{"$f":"IF(E17=\"\",\"\",IF(②選手情報入力!N26=\"\",\"\",1))","v":""},{"$f":"IF(E17=\"\",\"\",IF(②選手情報入力!O26=\"\",\"\",IF(K17=1,VLOOKUP(②選手情報入力!O26,種目情報!$A$5:$C$135,3,FALSE),VLOOKUP(②選手情報入力!O26,種目情報!$E$5:$G$135,3,FALSE))))","v":""},{"$f":"IF(E17=\"\",\"\",IF(②選手情報入力!R26=\"\",\"\",IF(K17=1,VLOOKUP(②選手情報入力!R26,種目情報!$A$5:$B$151,2,FALSE),VLOOKUP(②選手情報入力!R26,種目情報!$E$5:$F$135,2,FALSE))))","v":""},{"$f":"IF(E17=\"\",\"\",IF(②選手情報入力!S26=\"\",\"\",②選手情報入力!S26))","v":""},{"$f":"IF(E17=\"\",\"\",IF(②選手情報入力!Q26=\"\",\"\",1))","v":""},{"$f":"IF(E17=\"\",\"\",IF(②選手情報入力!R26=\"\",\"\",IF(K17=1,VLOOKUP(②選手情報入力!R26,種目情報!$A$5:$C$135,3,FALSE),VLOOKUP(②選手情報入力!R26,種目情報!$E$5:$G$135,3,FALSE))))","v":""},{"$f":"IF(E17=\"\",\"\",IF(②選手情報入力!T26=\"\",\"\",IF(K17=1,種目情報!$J$4,種目情報!$J$6)))","v":""},{"$f":"IF(E17=\"\",\"\",IF(②選手情報入力!T26=\"\",\"\",IF(K17=1,IF(②選手情報入力!$U$7=\"\",\"\",②選手情報入力!$U$7),IF(②選手情報入力!$U$8=\"\",\"\",②選手情報入力!$U$8))))","v":""},{"$f":"IF(E17=\"\",\"\",IF(②選手情報入力!T26=\"\",\"\",IF(K17=1,IF(②選手情報入力!$T$7=\"\",0,1),IF(②選手情報入力!$T$8=\"\",0,1))))","v":""},{"$f":"IF(E17=\"\",\"\",IF(②選手情報入力!T26=\"\",\"\",2))","v":""},{"$f":"IF(E17=\"\",\"\",IF(②選手情報入力!V26=\"\",\"\",IF(K17=1,種目情報!$J$5,種目情報!$J$7)))","v":""},{"$f":"IF(E17=\"\",\"\",IF(②選手情報入力!V26=\"\",\"\",IF(K17=1,IF(②選手情報入力!$W$7=\"\",\"\",②選手情報入力!$W$7),IF(②選手情報入力!$W$8=\"\",\"\",②選手情報入力!$W$8))))","v":""},{"$f":"IF(E17=\"\",\"\",IF(②選手情報入力!V26=\"\",\"\",IF(K17=1,IF(②選手情報入力!$V$7=\"\",0,1),IF(②選手情報入力!$V$8=\"\",0,1))))","v":""},{"$f":"IF(E17=\"\",\"\",IF(②選手情報入力!V26=\"\",\"\",2))","v":""},null,null,{"$f":"IF(②選手情報入力!F26=\"\",\"\",ASC(②選手情報入力!F26))","v":""},{"$f":"IF(②選手情報入力!F26=\"\",\"\",ASC(②選手情報入力!G26))","v":""}]
["",{"$f":"IF(E18=\"\",\"\",①団体情報入力!$C$5)","v":""},null,{"$f":"IF(E18=\"\",\"\",IF(①団体情報入力!C26=\"\",\"\",①団体情報入力!C26))","v":""},{"$f":"IF(②選手情報入力!C27=\"\",\"\",②選手情報入力!C27)","v":""},{"$f":"IF(E18=\"\",\"\",②選手情報入力!D27)","v":""},{"$f":"IF(E18=\"\",\"\",ASC(②選手情報入力!E27))","v":""},"","",{"$f":"IF(E18=\"\",\"\",IF(②選手情報入力!H27=\"\",\"JPN\",LEFT(②選手情報入力!H27,3)))","v":""},{"$f":"IF(E18=\"\",\"\",IF(②選手情報入力!I27=\"男\",1,2))","v":""},{"$f":"IF(E18=\"\",\"\",IF(②選手情報入力!J27=\"\",\"\",②選手情報入力!J27))","v":""},{"$f":"IF(E18=\"\",\"\",LEFT(②選手情報入力!K27,4))","v":""},{"$f":"IF(E18=\"\",\"\",RIGHT(②選手情報入力!K27,4))","v":""},"",null,{"$f":"IF(E18=\"\",\"\",IF(②選手情報入力!L27=\"\",\"\",IF(K18=1,VLOOKUP(②選手情報入力!L27,種目情報!$A$5:$B$167,2,FALSE),VLOOKUP(②選手情報入力!L27,種目情報!$E$5:$F$142,2,FALSE))))","v":""},{"$f":"IF(E18=\"\",\"\",IF(②選手情報入力!M27=\"\",\"\",②選手情報入力!M27))","v":""},null,{"$f":"IF(E18=\"\",\"\",IF(②選手情報入力!L27=\"\",\"\",IF(K18=1,VLOOKUP(②選手情報入力!L27,種目情報!$A$5:$C$135,3,FALSE),VLOOKUP(②選手情報入力!L27,種目情報!$E$5:$G$135,3,FALSE))))","v":""},{"$f":"IF(E18=\"\",\"\",IF(②選手情報入力!O27=\"\",\"\",IF(K18=1,VLOOKUP(②選手情報入力!O27,種目情報!$A$5:$B$151,2,FALSE),VLOOKUP(②選手情報入力!O27,種目情報!$E$5:$F$135,2,FALSE))))","v":""},{"$f":"IF(E18=\"\",\"\",IF(②選手情報入力!P27=\"\",\"\",②選手情報入力!P27))","v":""},{"$f":"IF(E18=\"\",\"\",IF(②選手情報入力!N27=\"\",\"\",1))","v":""},{"$f":"IF(E18=\"\",\"\",IF(②選手情報入力!O27=\"\",\"\",IF(K18=1,VLOOKUP(②選手情報入力!O27,種目情報!$A$5:$C$135,3,FALSE),VLOOKUP(②選手情報入力!O27,種目情報!$E$5:$G$135,3,FALSE))))","v":""},{"$f":"IF(E18=\"\",\"\",IF(②選手情報入力!R27=\"\",\"\",IF(K18=1,VLOOKUP(②選手情報入力!R27,種目情報!$A$5:$B$151,2,FALSE),VLOOKUP(②選手情報入力!R27,種目情報!$E$5:$F$135,2,FALSE))))","v":""},{"$f":"IF(E18=\"\",\"\",IF(②選手情報入力!S27=\"\",\"\",②選手情報入力!S27))","v":""},{"$f":"IF(E18=\"\",\"\",IF(②選手情報入力!Q27=\"\",\"\",1))","v":""},{"$f":"IF(E18=\"\",\"\",IF(②選手情報入力!R27=\"\",\"\",IF(K18=1,VLOOKUP(②選手情報入力!R27,種目情報!$A$5:$C$135,3,FALSE),VLOOKUP(②選手情報入力!R27,種目情報!$E$5:$G$135,3,FALSE))))","v":""},{"$f":"IF(E18=\"\",\"\",IF(②選手情報入力!T27=\"\",\"\",IF(K18=1,種目情報!$J$4,種目情報!$J$6)))","v":""},{"$f":"IF(E18=\"\",\"\",IF(②選手情報入力!T27=\"\",\"\",IF(K18=1,IF(②選手情報入力!$U$7=\"\",\"\",②選手情報入力!$U$7),IF(②選手情報入力!$U$8=\"\",\"\",②選手情報入力!$U$8))))","v":""},{"$f":"IF(E18=\"\",\"\",IF(②選手情報入力!T27=\"\",\"\",IF(K18=1,IF(②選手情報入力!$T$7=\"\",0,1),IF(②選手情報入力!$T$8=\"\",0,1))))","v":""},{"$f":"IF(E18=\"\",\"\",IF(②選手情報入力!T27=\"\",\"\",2))","v":""},{"$f":"IF(E18=\"\",\"\",IF(②選手情報入力!V27=\"\",\"\",IF(K18=1,種目情報!$J$5,種目情報!$J$7)))","v":""},{"$f":"IF(E18=\"\",\"\",IF(②選手情報入力!V27=\"\",\"\",IF(K18=1,IF(②選手情報入力!$W$7=\"\",\"\",②選手情報入力!$W$7),IF(②選手情報入力!$W$8=\"\",\"\",②選手情報入力!$W$8))))","v":""},{"$f":"IF(E18=\"\",\"\",IF(②選手情報入力!V27=\"\",\"\",IF(K18=1,IF(②選手情報入力!$V$7=\"\",0,1),IF(②選手情報入力!$V$8=\"\",0,1))))","v":""},{"$f":"IF(E18=\"\",\"\",IF(②選手情報入力!V27=\"\",\"\",2))","v":""},null,null,{"$f":"IF(②選手情報入力!F27=\"\",\"\",ASC(②選手情報入力!F27))","v":""},{"$f":"IF(②選手情報入力!F27=\"\",\"\",ASC(②選手情報入力!G27))","v":""}]
["",{"$f":"IF(E19=\"\",\"\",①団体情報入力!$C$5)","v":""},null,{"$f":"IF(E19=\"\",\"\",IF(①団体情報入力!C27=\"\",\"\",①団体情報入力!C27))","v":""},{"$f":"IF(②選手情報入力!C28=\"\",\"\",②選手情報入力!C28)","v":""},{"$f":"IF(E19=\"\",\"\",②選手情報入力!D28)","v":""},{"$f":"IF(E19=\"\",\"\",ASC(②選手情報入力!E28))","v":""},"","",{"$f":"IF(E19=\"\",\"\",IF(②選手情報入力!H28=\"\",\"JPN\",LEFT(②選手情報入力!H28,3)))","v":""},{"$f":"IF(E19=\"\",\"\",IF(②選手情報入力!I28=\"男\",1,2))","v":""},{"$f":"IF(E19=\"\",\"\",IF(②選手情報入力!J28=\"\",\"\",②選手情報入力!J28))","v":""},{"$f":"IF(E19=\"\",\"\",LEFT(②選手情報入力!K28,4))","v":""},{"$f":"IF(E19=\"\",\"\",RIGHT(②選手情報入力!K28,4))","v":""},"",null,{"$f":"IF(E19=\"\",\"\",IF(②選手情報入力!L28=\"\",\"\",IF(K19=1,VLOOKUP(②選手情報入力!L28,種目情報!$A$5:$B$167,2,FALSE),VLOOKUP(②選手情報入力!L28,種目情報!$E$5:$F$142,2,FALSE))))","v":""},{"$f":"IF(E19=\"\",\"\",IF(②選手情報入力!M28=\"\",\"\",②選手情報入力!M28))","v":""},null,{"$f":"IF(E19=\"\",\"\",IF(②選手情報入力!L28=\"\",\"\",IF(K19=1,VLOOKUP(②選手情報入力!L28,種目情報!$A$5:$C$135,3,FALSE),VLOOKUP(②選手情報入力!L28,種目情報!$E$5:$G$135,3,FALSE))))","v":""},{"$f":"IF(E19=\"\",\"\",IF(②選手情報入力!O28=\"\",\"\",IF(K19=1,VLOOKUP(②選手情報入力!O28,種目情報!$A$5:$B$151,2,FALSE),VLOOKUP(②選手情報入力!O28,種目情報!$E$5:$F$135,2,FALSE))))","v":""},{"$f":"IF(E19=\"\",\"\",IF(②選手情報入力!P28=\"\",\"\",②選手情報入力!P28))","v":""},{"$f":"IF(E19=\"\",\"\",IF(②選手情報入力!N28=\"\",\"\",1))","v":""},{"$f":"IF(E19=\"\",\"\",IF(②選手情報入力!O28=\"\",\"\",IF(K19=1,VLOOKUP(②選手情報入力!O28,種目情報!$A$5:$C$135,3,FALSE),VLOOKUP(②選手情報入力!O28,種目情報!$E$5:$G$135,3,FALSE))))","v":""},{"$f":"IF(E19=\"\",\"\",IF(②選手情報入力!R28=\"\",\"\",IF(K19=1,VLOOKUP(②選手情報入力!R28,種目情報!$A$5:$B$151,2,FALSE),VLOOKUP(②選手情報入力!R28,種目情報!$E$5:$F$135,2,FALSE))))","v":""},{"$f":"IF(E19=\"\",\"\",IF(②選手情報入力!S28=\"\",\"\",②選手情報入力!S28))","v":""},{"$f":"IF(E19=\"\",\"\",IF(②選手情報入力!Q28=\"\",\"\",1))","v":""},{"$f":"IF(E19=\"\",\"\",IF(②選手情報入力!R28=\"\",\"\",IF(K19=1,VLOOKUP(②選手情報入力!R28,種目情報!$A$5:$C$135,3,FALSE),VLOOKUP(②選手情報入力!R28,種目情報!$E$5:$G$135,3,FALSE))))","v":""},{"$f":"IF(E19=\"\",\"\",IF(②選手情報入力!T28=\"\",\"\",IF(K19=1,種目情報!$J$4,種目情報!$J$6)))","v":""},{"$f":"IF(E19=\"\",\"\",IF(②選手情報入力!T28=\"\",\"\",IF(K19=1,IF(②選手情報入力!$U$7=\"\",\"\",②選手情報入力!$U$7),IF(②選手情報入力!$U$8=\"\",\"\",②選手情報入力!$U$8))))","v":""},{"$f":"IF(E19=\"\",\"\",IF(②選手情報入力!T28=\"\",\"\",IF(K19=1,IF(②選手情報入力!$T$7=\"\",0,1),IF(②選手情報入力!$T$8=\"\",0,1))))","v":""},{"$f":"IF(E19=\"\",\"\",IF(②選手情報入力!T28=\"\",\"\",2))","v":""},{"$f":"IF(E19=\"\",\"\",IF(②選手情報入力!V28=\"\",\"\",IF(K19=1,種目情報!$J$5,種目情報!$J$7)))","v":""},{"$f":"IF(E19=\"\",\"\",IF(②選手情報入力!V28=\"\",\"\",IF(K19=1,IF(②選手情報入力!$W$7=\"\",\"\",②選手情報入力!$W$7),IF(②選手情報入力!$W$8=\"\",\"\",②選手情報入力!$W$8))))","v":""},{"$f":"IF(E19=\"\",\"\",IF(②選手情報入力!V28=\"\",\"\",IF(K19=1,IF(②選手情報入力!$V$7=\"\",0,1),IF(②選手情報入力!$V$8=\"\",0,1))))","v":""},{"$f":"IF(E19=\"\",\"\",IF(②選手情報入力!V28=\"\",\"\",2))","v":""},null,null,{"$f":"IF(②選手情報入力!F28=\"\",\"\",ASC(②選手情報入力!F28))","v":""},{"$f":"IF(②選手情報入力!F28=\"\",\"\",ASC(②選手情報入力!G28))","v":""}]
["",{"$f":"IF(E20=\"\",\"\",①団体情報入力!$C$5)","v":""},null,{"$f":"IF(E20=\"\",\"\",IF(①団体情報入力!C28=\"\",\"\",①団体情報入力!C28))","v":""},{"$f":"IF(②選手情報入力!C29=\"\",\"\",②選手情報入力!C29)","v":""},{"$f":"IF(E20=\"\",\"\",②選手情報入力!D29)","v":""},{"$f":"IF(E20=\"\",\"\",ASC(②選手情報入力!E29))","v":""},"","",{"$f":"IF(E20=\"\",\"\",IF(②選手情報入力!H29=\"\",\"JPN\",LEFT(②選手情報入力!H29,3)))","v":""},{"$f":"IF(E20=\"\",\"\",IF(②選手情報入力!I29=\"男\",1,2))","v":""},{"$f":"IF(E20=\"\",\"\",IF(②選手情報入力!J29=\"\",\"\",②選手情報入力!J29))","v":""},{"$f":"IF(E20=\"\",\"\",LEFT(②選手情報入力!K29,4))","v":""},{"$f":"IF(E20=\"\",\"\",RIGHT(②選手情報入力!K29,4))","v":""},"",null,{"$f":"IF(E20=\"\",\"\",IF(②選手情報入力!L29=\"\",\"\",IF(K20=1,VLOOKUP(②選手情報入力!L29,種目情報!$A$5:$B$167,2,FALSE),VLOOKUP(②選手情報入力!L29,種目情報!$E$5:$F$142,2,FALSE))))","v":""},{"$f":"IF(E20=\"\",\"\",IF(②選手情報入力!M29=\"\",\"\",②選手情報入力!M29))","v":""},null,{"$f":"IF(E20=\"\",\"\",IF(②選手情報入力!L29=\"\",\"\",IF(K20=1,VLOOKUP(②選手情報入力!L29,種目情報!$A$5:$C$135,3,FALSE),VLOOKUP(②選手情報入力!L29,種目情報!$E$5:$G$135,3,FALSE))))","v":""},{"$f":"IF(E20=\"\",\"\",IF(②選手情報入力!O29=\"\",\"\",IF(K20=1,VLOOKUP(②選手情報入力!O29,種目情報!$A$5:$B$151,2,FALSE),VLOOKUP(②選手情報入力!O29,種目情報!$E$5:$F$135,2,FALSE))))","v":""},{"$f":"IF(E20=\"\",\"\",IF(②選手情報入力!P29=\"\",\"\",②選手情報入力!P29))","v":""},{"$f":"IF(E20=\"\",\"\",IF(②選手情報入力!N29=\"\",\"\",1))","v":""},{"$f":"IF(E20=\"\",\"\",IF(②選手情報入力!O29=\"\",\"\",IF(K20=1,VLOOKUP(②選手情報入力!O29,種目情報!$A$5:$C$135,3,FALSE),VLOOKUP(②選手情報入力!O29,種目情報!$E$5:$G$135,3,FALSE))))","v":""},{"$f":"IF(E20=\"\",\"\",IF(②選手情報入力!R29=\"\",\"\",IF(K20=1,VLOOKUP(②選手情報入力!R29,種目情報!$A$5:$B$151,2,FALSE),VLOOKUP(②選手情報入力!R29,種目情報!$E$5:$F$135,2,FALSE))))","v":""},{"$f":"IF(E20=\"\",\"\",IF(②選手情報入力!S29=\"\",\"\",②選手情報入力!S29))","v":""},{"$f":"IF(E20=\"\",\"\",IF(②選手情報入力!Q29=\"\",\"\",1))","v":""},{"$f":"IF(E20=\"\",\"\",IF(②選手情報入力!R29=\"\",\"\",IF(K20=1,VLOOKUP(②選手情報入力!R29,種目情報!$A$5:$C$135,3,FALSE),VLOOKUP(②選手情報入力!R29,種目情報!$E$5:$G$135,3,FALSE))))","v":""},{"$f":"IF(E20=\"\",\"\",IF(②選手情報入力!T29=\"\",\"\",IF(K20=1,種目情報!$J$4,種目情報!$J$6)))","v":""},{"$f":"IF(E20=\"\",\"\",IF(②選手情報入力!T29=\"\",\"\",IF(K20=1,IF(②選手情報入力!$U$7=\"\",\"\",②選手情報入力!$U$7),IF(②選手情報入力!$U$8=\"\",\"\",②選手情報入力!$U$8))))","v":""},{"$f":"IF(E20=\"\",\"\",IF(②選手情報入力!T29=\"\",\"\",IF(K20=1,IF(②選手情報入力!$T$7=\"\",0,1),IF(②選手情報入力!$T$8=\"\",0,1))))","v":""},{"$f":"IF(E20=\"\",\"\",IF(②選手情報入力!T29=\"\",\"\",2))","v":""},{"$f":"IF(E20=\"\",\"\",IF(②選手情報入力!V29=\"\",\"\",IF(K20=1,種目情報!$J$5,種目情報!$J$7)))","v":""},{"$f":"IF(E20=\"\",\"\",IF(②選手情報入力!V29=\"\",\"\",IF(K20=1,IF(②選手情報入力!$W$7=\"\",\"\",②選手情報入力!$W$7),IF(②選手情報入力!$W$8=\"\",\"\",②選手情報入力!$W$8))))","v":""},{"$f":"IF(E20=\"\",\"\",IF(②選手情報入力!V29=\"\",\"\",IF(K20=1,IF(②選手情報入力!$V$7=\"\",0,1),IF(②選手情報入力!$V$8=\"\",0,1))))","v":""},{"$f":"IF(E20=\"\",\"\",IF(②選手情報入力!V29=\"\",\"\",2))","v":""},null,null,{"$f":"IF(②選手情報入力!F29=\"\",\"\",ASC(②選手情報入力!F29))","v":""},{"$f":"IF(②選手情報入力!F29=\"\",\"\",ASC(②選手情報入力!G29))","v":""}]
["",{"$f":"IF(E21=\"\",\"\",①団体情報入力!$C$5)","v":""},null,{"$f":"IF(E21=\"\",\"\",IF(①団体情報入力!C29=\"\",\"\",①団体情報入力!C29))","v":""},{"$f":"IF(②選手情報入力!C30=\"\",\"\",②選手情報入力!C30)","v":""},{"$f":"IF(E21=\"\",\"\",②選手情報入力!D30)","v":""},{"$f":"IF(E21=\"\",\"\",ASC(②選手情報入力!E30))","v":""},"","",{"$f":"IF(E21=\"\",\"\",IF(②選手情報入力!H30=\"\",\"JPN\",LEFT(②選手情報入力!H30,3)))","v":""},{"$f":"IF(E21=\"\",\"\",IF(②選手情報入力!I30=\"男\",1,2))","v":""},{"$f":"IF(E21=\"\",\"\",IF(②選手情報入力!J30=\"\",\"\",②選手情報入力!J30))","v":""},{"$f":"IF(E21=\"\",\"\",LEFT(②選手情報入力!K30,4))","v":""},{"$f":"IF(E21=\"\",\"\",RIGHT(②選手情報入力!K30,4))","v":""},"",null,{"$f":"IF(E21=\"\",\"\",IF(②選手情報入力!L30=\"\",\"\",IF(K21=1,VLOOKUP(②選手情報入力!L30,種目情報!$A$5:$B$167,2,FALSE),VLOOKUP(②選手情報入力!L30,種目情報!$E$5:$F$142,2,FALSE))))","v":""},{"$f":"IF(E21=\"\",\"\",IF(②選手情報入力!M30=\"\",\"\",②選手情報入力!M30))","v":""},null,{"$f":"IF(E21=\"\",\"\",IF(②選手情報入力!L30=\"\",\"\",IF(K21=1,VLOOKUP(②選手情報入力!L30,種目情報!$A$5:$C$135,3,FALSE),VLOOKUP(②選手情報入力!L30,種目情報!$E$5:$G$135,3,FALSE))))","v":""},{"$f":"IF(E21=\"\",\"\",IF(②選手情報入力!O30=\"\",\"\",IF(K21=1,VLOOKUP(②選手情報入力!O30,種目情報!$A$5:$B$151,2,FALSE),VLOOKUP(②選手情報入力!O30,種目情報!$E$5:$F$135,2,FALSE))))","v":""},{"$f":"IF(E21=\"\",\"\",IF(②選手情報入力!P30=\"\",\"\",②選手情報入力!P30))","v":""},{"$f":"IF(E21=\"\",\"\",IF(②選手情報入力!N30=\"\",\"\",1))","v":""},{"$f":"IF(E21=\"\",\"\",IF(②選手情報入力!O30=\"\",\"\",IF(K21=1,VLOOKUP(②選手情報入力!O30,種目情報!$A$5:$C$135,3,FALSE),VLOOKUP(②選手情報入力!O30,種目情報!$E$5:$G$135,3,FALSE))))","v":""},{"$f":"IF(E21=\"\",\"\",IF(②選手情報入力!R30=\"\",\"\",IF(K21=1,VLOOKUP(②選手情報入力!R30,種目情報!$A$5:$B$151,2,FALSE),VLOOKUP(②選手情報入力!R30,種目情報!$E$5:$F$135,2,FALSE))))","v":""},{"$f":"IF(E21=\"\",\"\",IF(②選手情報入力!S30=\"\",\"\",②選手情報入力!S30))","v":""},{"$f":"IF(E21=\"\",\"\",IF(②選手情報入力!Q30=\"\",\"\",1))","v":""},{"$f":"IF(E21=\"\",\"\",IF(②選手情報入力!R30=\"\",\"\",IF(K21=1,VLOOKUP(②選手情報入力!R30,種目情報!$A$5:$C$135,3,FALSE),VLOOKUP(②選手情報入力!R30,種目情報!$E$5:$G$135,3,FALSE))))","v":""},{"$f":"IF(E21=\"\",\"\",IF(②選手情報入力!T30=\"\",\"\",IF(K21=1,種目情報!$J$4,種目情報!$J$6)))","v":""},{"$f":"IF(E21=\"\",\"\",IF(②選手情報入力!T30=\"\",\"\",IF(K21=1,IF(②選手情報入力!$U$7=\"\",\"\",②選手情報入力!$U$7),IF(②選手情報入力!$U$8=\"\",\"\",②選手情報入力!$U$8))))","v":""},{"$f":"IF(E21=\"\",\"\",IF(②選手情報入力!T30=\"\",\"\",IF(K21=1,IF(②選手情報入力!$T$7=\"\",0,1),IF(②選手情報入力!$T$8=\"\",0,1))))","v":""},{"$f":"IF(E21=\"\",\"\",IF(②選手情報入力!T30=\"\",\"\",2))","v":""},{"$f":"IF(E21=\"\",\"\",IF(②選手情報入力!V30=\"\",\"\",IF(K21=1,種目情報!$J$5,種目情報!$J$7)))","v":""},{"$f":"IF(E21=\"\",\"\",IF(②選手情報入力!V30=\"\",\"\",IF(K21=1,IF(②選手情報入力!$W$7=\"\",\"\",②選手情報入力!$W$7),IF(②選手情報入力!$W$8=\"\",\"\",②選手情報入力!$W$8))))","v":""},{"$f":"IF(E21=\"\",\"\",IF(②選手情報入力!V30=\"\",\"\",IF(K21=1,IF(②選手情報入力!$V$7=\"\",0,1),IF(②選手情報入力!$V$8=\"\",0,1))))","v":""},{"$f":"IF(E21=\"\",\"\",IF(②選手情報入力!V30=\"\",\"\",2))","v":""},null,null,{"$f":"IF(②選手情報入力!F30=\"\",\"\",ASC(②選手情報入力!F30))","v":""},{"$f":"IF(②選手情報入力!F30=\"\",\"\",ASC(②選手情報入力!G30))","v":""}]
["",{"$f":"IF(E22=\"\",\"\",①団体情報入力!$C$5)","v":""},null,{"$f":"IF(E22=\"\",\"\",IF(①団体情報入力!C30=\"\",\"\",①団体情報入力!C30))","v":""},{"$f":"IF(②選手情報入力!C31=\"\",\"\",②選手情報入力!C31)","v":""},{"$f":"IF(E22=\"\",\"\",②選手情報入力!D31)","v":""},{"$f":"IF(E22=\"\",\"\",ASC(②選手情報入力!E31))","v":""},"","",{"$f":"IF(E22=\"\",\"\",IF(②選手情報入力!H31=\"\",\"JPN\",LEFT(②選手情報入力!H31,3)))","v":""},{"$f":"IF(E22=\"\",\"\",IF(②選手情報入力!I31=\"男\",1,2))","v":""},{"$f":"IF(E22=\"\",\"\",IF(②選手情報入力!J31=\"\",\"\",②選手情報入力!J31))","v":""},{"$f":"IF(E22=\"\",\"\",LEFT(②選手情報入力!K31,4))","v":""},{"$f":"IF(E22=\"\",\"\",RIGHT(②選手情報入力!K31,4))","v":""},"",null,{"$f":"IF(E22=\"\",\"\",IF(②選手情報入力!L31=\"\",\"\",IF(K22=1,VLOOKUP(②選手情報入力!L31,種目情報!$A$5:$B$167,2,FALSE),VLOOKUP(②選手情報入力!L31,種目情報!$E$5:$F$142,2,FALSE))))","v":""},{"$f":"IF(E22=\"\",\"\",IF(②選手情報入力!M31=\"\",\"\",②選手情報入力!M31))","v":""},null,{"$f":"IF(E22=\"\",\"\",IF(②選手情報入力!L31=\"\",\"\",IF(K22=1,VLOOKUP(②選手情報入力!L31,種目情報!$A$5:$C$135,3,FALSE),VLOOKUP(②選手情報入力!L31,種目情報!$E$5:$G$135,3,FALSE))))","v":""},{"$f":"IF(E22=\"\",\"\",IF(②選手情報入力!O31=\"\",\"\",IF(K22=1,VLOOKUP(②選手情報入力!O31,種目情報!$A$5:$B$151,2,FALSE),VLOOKUP(②選手情報入力!O31,種目情報!$E$5:$F$135,2,FALSE))))","v":""},{"$f":"IF(E22=\"\",\"\",IF(②選手情報入力!P31=\"\",\"\",②選手情報入力!P31))","v":""},{"$f":"IF(E22=\"\",\"\",IF(②選手情報入力!N31=\"\",\"\",1))","v":""},{"$f":"IF(E22=\"\",\"\",IF(②選手情報入力!O31=\"\",\"\",IF(K22=1,VLOOKUP(②選手情報入力!O31,種目情報!$A$5:$C$135,3,FALSE),VLOOKUP(②選手情報入力!O31,種目情報!$E$5:$G$135,3,FALSE))))","v":""},{"$f":"IF(E22=\"\",\"\",IF(②選手情報入力!R31=\"\",\"\",IF(K22=1,VLOOKUP(②選手情報入力!R31,種目情報!$A$5:$B$151,2,FALSE),VLOOKUP(②選手情報入力!R31,種目情報!$E$5:$F$135,2,FALSE))))","v":""},{"$f":"IF(E22=\"\",\"\",IF(②選手情報入力!S31=\"\",\"\",②選手情報入力!S31))","v":""},{"$f":"IF(E22=\"\",\"\",IF(②選手情報入力!Q31=\"\",\"\",1))","v":""},{"$f":"IF(E22=\"\",\"\",IF(②選手情報入力!R31=\"\",\"\",IF(K22=1,VLOOKUP(②選手情報入力!R31,種目情報!$A$5:$C$135,3,FALSE),VLOOKUP(②選手情報入力!R31,種目情報!$E$5:$G$135,3,FALSE))))","v":""},{"$f":"IF(E22=\"\",\"\",IF(②選手情報入力!T31=\"\",\"\",IF(K22=1,種目情報!$J$4,種目情報!$J$6)))","v":""},{"$f":"IF(E22=\"\",\"\",IF(②選手情報入力!T31=\"\",\"\",IF(K22=1,IF(②選手情報入力!$U$7=\"\",\"\",②選手情報入力!$U$7),IF(②選手情報入力!$U$8=\"\",\"\",②選手情報入力!$U$8))))","v":""},{"$f":"IF(E22=\"\",\"\",IF(②選手情報入力!T31=\"\",\"\",IF(K22=1,IF(②選手情報入力!$T$7=\"\",0,1),IF(②選手情報入力!$T$8=\"\",0,1))))","v":""},{"$f":"IF(E22=\"\",\"\",IF(②選手情報入力!T31=\"\",\"\",2))","v":""},{"$f":"IF(E22=\"\",\"\",IF(②選手情報入力!V31=\"\",\"\",IF(K22=1,種目情報!$J$5,種目情報!$J$7)))","v":""},{"$f":"IF(E22=\"\",\"\",IF(②選手情報入力!V31=\"\",\"\",IF(K22=1,IF(②選手情報入力!$W$7=\"\",\"\",②選手情報入力!$W$7),IF(②選手情報入力!$W$8=\"\",\"\",②選手情報入力!$W$8))))","v":""},{"$f":"IF(E22=\"\",\"\",IF(②選手情報入力!V31=\"\",\"\",IF(K22=1,IF(②選手情報入力!$V$7=\"\",0,1),IF(②選手情報入力!$V$8=\"\",0,1))))","v":""},{"$f":"IF(E22=\"\",\"\",IF(②選手情報入力!V31=\"\",\"\",2))","v":""},null,null,{"$f":"IF(②選手情報入力!F31=\"\",\"\",ASC(②選手情報入力!F31))","v":""},{"$f":"IF(②選手情報入力!F31=\"\",\"\",ASC(②選手情報入力!G31))","v":""}]
["",{"$f":"IF(E23=\"\",\"\",①団体情報入力!$C$5)","v":""},null,{"$f":"IF(E23=\"\",\"\",IF(①団体情報入力!C31=\"\",\"\",①団体情報入力!C31))","v":""},{"$f":"IF(②選手情報入力!C32=\"\",\"\",②選手情報入力!C32)","v":""},{"$f":"IF(E23=\"\",\"\",②選手情報入力!D32)","v":""},{"$f":"IF(E23=\"\",\"\",ASC(②選手情報入力!E32))","v":""},"","",{"$f":"IF(E23=\"\",\"\",IF(②選手情報入力!H32=\"\",\"JPN\",LEFT(②選手情報入力!H32,3)))","v":""},{"$f":"IF(E23=\"\",\"\",IF(②選手情報入力!I32=\"男\",1,2))","v":""},{"$f":"IF(E23=\"\",\"\",IF(②選手情報入力!J32=\"\",\"\",②選手情報入力!J32))","v":""},{"$f":"IF(E23=\"\",\"\",LEFT(②選手情報入力!K32,4))","v":""},{"$f":"IF(E23=\"\",\"\",RIGHT(②選手情報入力!K32,4))","v":""},"",null,{"$f":"IF(E23=\"\",\"\",IF(②選手情報入力!L32=\"\",\"\",IF(K23=1,VLOOKUP(②選手情報入力!L32,種目情報!$A$5:$B$167,2,FALSE),VLOOKUP(②選手情報入力!L32,種目情報!$E$5:$F$142,2,FALSE))))","v":""},{"$f":"IF(E23=\"\",\"\",IF(②選手情報入力!M32=\"\",\"\",②選手情報入力!M32))","v":""},null,{"$f":"IF(E23=\"\",\"\",IF(②選手情報入力!L32=\"\",\"\",IF(K23=1,VLOOKUP(②選手情報入力!L32,種目情報!$A$5:$C$135,3,FALSE),VLOOKUP(②選手情報入力!L32,種目情報!$E$5:$G$135,3,FALSE))))","v":""},{"$f":"IF(E23=\"\",\"\",IF(②選手情報入力!O32=\"\",\"\",IF(K23=1,VLOOKUP(②選手情報入力!O32,種目情報!$A$5:$B$151,2,FALSE),VLOOKUP(②選手情報入力!O32,種目情報!$E$5:$F$135,2,FALSE))))","v":""},{"$f":"IF(E23=\"\",\"\",IF(②選手情報入力!P32=\"\",\"\",②選手情報入力!P32))","v":""},{"$f":"IF(E23=\"\",\"\",IF(②選手情報入力!N32=\"\",\"\",1))","v":""},{"$f":"IF(E23=\"\",\"\",IF(②選手情報入力!O32=\"\",\"\",IF(K23=1,VLOOKUP(②選手情報入力!O32,種目情報!$A$5:$C$135,3,FALSE),VLOOKUP(②選手情報入力!O32,種目情報!$E$5:$G$135,3,FALSE))))","v":""},{"$f":"IF(E23=\"\",\"\",IF(②選手情報入力!R32=\"\",\"\",IF(K23=1,VLOOKUP(②選手情報入力!R32,種目情報!$A$5:$B$151,2,FALSE),VLOOKUP(②選手情報入力!R32,種目情報!$E$5:$F$135,2,FALSE))))","v":""},{"$f":"IF(E23=\"\",\"\",IF(②選手情報入力!S32=\"\",\"\",②選手情報入力!S32))","v":""},{"$f":"IF(E23=\"\",\"\",IF(②選手情報入力!Q32=\"\",\"\",1))","v":""},{"$f":"IF(E23=\"\",\"\",IF(②選手情報入力!R32=\"\",\"\",IF(K23=1,VLOOKUP(②選手情報入力!R32,種目情報!$A$5:$C$135,3,FALSE),VLOOKUP(②選手情報入力!R32,種目情報!$E$5:$G$135,3,FALSE))))","v":""},{"$f":"IF(E23=\"\",\"\",IF(②選手情報入力!T32=\"\",\"\",IF(K23=1,種目情報!$J$4,種目情報!$J$6)))","v":""},{"$f":"IF(E23=\"\",\"\",IF(②選手情報入力!T32=\"\",\"\",IF(K23=1,IF(②選手情報入力!$U$7=\"\",\"\",②選手情報入力!$U$7),IF(②選手情報入力!$U$8=\"\",\"\",②選手情報入力!$U$8))))","v":""},{"$f":"IF(E23=\"\",\"\",IF(②選手情報入力!T32=\"\",\"\",IF(K23=1,IF(②選手情報入力!$T$7=\"\",0,1),IF(②選手情報入力!$T$8=\"\",0,1))))","v":""},{"$f":"IF(E23=\"\",\"\",IF(②選手情報入力!T32=\"\",\"\",2))","v":""},{"$f":"IF(E23=\"\",\"\",IF(②選手情報入力!V32=\"\",\"\",IF(K23=1,種目情報!$J$5,種目情報!$J$7)))","v":""},{"$f":"IF(E23=\"\",\"\",IF(②選手情報入力!V32=\"\",\"\",IF(K23=1,IF(②選手情報入力!$W$7=\"\",\"\",②選手情報入力!$W$7),IF(②選手情報入力!$W$8=\"\",\"\",②選手情報入力!$W$8))))","v":""},{"$f":"IF(E23=\"\",\"\",IF(②選手情報入力!V32=\"\",\"\",IF(K23=1,IF(②選手情報入力!$V$7=\"\",0,1),IF(②選手情報入力!$V$8=\"\",0,1))))","v":""},{"$f":"IF(E23=\"\",\"\",IF(②選手情報入力!V32=\"\",\"\",2))","v":""},null,null,{"$f":"IF(②選手情報入力!F32=\"\",\"\",ASC(②選手情報入力!F32))","v":""},{"$f":"IF(②選手情報入力!F32=\"\",\"\",ASC(②選手情報入力!G32))","v":""}]
["",{"$f":"IF(E24=\"\",\"\",①団体情報入力!$C$5)","v":""},null,{"$f":"IF(E24=\"\",\"\",IF(①団体情報入力!C32=\"\",\"\",①団体情報入力!C32))","v":""},{"$f":"IF(②選手情報入力!C33=\"\",\"\",②選手情報入力!C33)","v":""},{"$f":"IF(E24=\"\",\"\",②選手情報入力!D33)","v":""},{"$f":"IF(E24=\"\",\"\",ASC(②選手情報入力!E33))","v":""},"","",{"$f":"IF(E24=\"\",\"\",IF(②選手情報入力!H33=\"\",\"JPN\",LEFT(②選手情報入力!H33,3)))","v":""},{"$f":"IF(E24=\"\",\"\",IF(②選手情報入力!I33=\"男\",1,2))","v":""},{"$f":"IF(E24=\"\",\"\",IF(②選手情報入力!J33=\"\",\"\",②選手情報入力!J33))","v":""},{"$f":"IF(E24=\"\",\"\",LEFT(②選手情報入力!K33,4))","v":""},{"$f":"IF(E24=\"\",\"\",RIGHT(②選手情報入力!K33,4))","v":""},"",null,{"$f":"IF(E24=\"\",\"\",IF(②選手情報入力!L33=\"\",\"\",IF(K24=1,VLOOKUP(②選手情報入力!L33,種目情報!$A$5:$B$167,2,FALSE),VLOOKUP(②選手情報入力!L33,種目情報!$E$5:$F$142,2,FALSE))))","v":""},{"$f":"IF(E24=\"\",\"\",IF(②選手情報入力!M33=\"\",\"\",②選手情報入力!M33))","v":""},null,{"$f":"IF(E24=\"\",\"\",IF(②選手情報入力!L33=\"\",\"\",IF(K24=1,VLOOKUP(②選手情報入力!L33,種目情報!$A$5:$C$135,3,FALSE),VLOOKUP(②選手情報入力!L33,種目情報!$E$5:$G$135,3,FALSE))))","v":""},{"$f":"IF(E24=\"\",\"\",IF(②選手情報入力!O33=\"\",\"\",IF(K24=1,VLOOKUP(②選手情報入力!O33,種目情報!$A$5:$B$151,2,FALSE),VLOOKUP(②選手情報入力!O33,種目情報!$E$5:$F$135,2,FALSE))))","v":""},{"$f":"IF(E24=\"\",\"\",IF(②選手情報入力!P33=\"\",\"\",②選手情報入力!P33))","v":""},{"$f":"IF(E24=\"\",\"\",IF(②選手情報入力!N33=\"\",\"\",1))","v":""},{"$f":"IF(E24=\"\",\"\",IF(②選手情報入力!O33=\"\",\"\",IF(K24=1,VLOOKUP(②選手情報入力!O33,種目情報!$A$5:$C$135,3,FALSE),VLOOKUP(②選手情報入力!O33,種目情報!$E$5:$G$135,3,FALSE))))","v":""},{"$f":"IF(E24=\"\",\"\",IF(②選手情報入力!R33=\"\",\"\",IF(K24=1,VLOOKUP(②選手情報入力!R33,種目情報!$A$5:$B$151,2,FALSE),VLOOKUP(②選手情報入力!R33,種目情報!$E$5:$F$135,2,FALSE))))","v":""},{"$f":"IF(E24=\"\",\"\",IF(②選手情報入力!S33=\"\",\"\",②選手情報入力!S33))","v":""},{"$f":"IF(E24=\"\",\"\",IF(②選手情報入力!Q33=\"\",\"\",1))","v":""},{"$f":"IF(E24=\"\",\"\",IF(②選手情報入力!R33=\"\",\"\",IF(K24=1,VLOOKUP(②選手情報入力!R33,種目情報!$A$5:$C$135,3,FALSE),VLOOKUP(②選手情報入力!R33,種目情報!$E$5:$G$135,3,FALSE))))","v":""},{"$f":"IF(E24=\"\",\"\",IF(②選手情報入力!T33=\"\",\"\",IF(K24=1,種目情報!$J$4,種目情報!$J$6)))","v":""},{"$f":"IF(E24=\"\",\"\",IF(②選手情報入力!T33=\"\",\"\",IF(K24=1,IF(②選手情報入力!$U$7=\"\",\"\",②選手情報入力!$U$7),IF(②選手情報入力!$U$8=\"\",\"\",②選手情報入力!$U$8))))","v":""},{"$f":"IF(E24=\"\",\"\",IF(②選手情報入力!T33=\"\",\"\",IF(K24=1,IF(②選手情報入力!$T$7=\"\",0,1),IF(②選手情報入力!$T$8=\"\",0,1))))","v":""},{"$f":"IF(E24=\"\",\"\",IF(②選手情報入力!T33=\"\",\"\",2))","v":""},{"$f":"IF(E24=\"\",\"\",IF(②選手情報入力!V33=\"\",\"\",IF(K24=1,種目情報!$J$5,種目情報!$J$7)))","v":""},{"$f":"IF(E24=\"\",\"\",IF(②選手情報入力!V33=\"\",\"\",IF(K24=1,IF(②選手情報入力!$W$7=\"\",\"\",②選手情報入力!$W$7),IF(②選手情報入力!$W$8=\"\",\"\",②選手情報入力!$W$8))))","v":""},{"$f":"IF(E24=\"\",\"\",IF(②選手情報入力!V33=\"\",\"\",IF(K24=1,IF(②選手情報入力!$V$7=\"\",0,1),IF(②選手情報入力!$V$8=\"\",0,1))))","v":""},{"$f":"IF(E24=\"\",\"\",IF(②選手情報入力!V33=\"\",\"\",2))","v":""},null,null,{"$f":"IF(②選手情報入力!F33=\"\",\"\",ASC(②選手情報入力!F33))","v":""},{"$f":"IF(②選手情報入力!F33=\"\",\"\",ASC(②選手情報入力!G33))","v":""}]
["",{"$f":"IF(E25=\"\",\"\",①団体情報入力!$C$5)","v":""},null,{"$f":"IF(E25=\"\",\"\",IF(①団体情報入力!C33=\"\",\"\",①団体情報入力!C33))","v":""},{"$f":"IF(②選手情報入力!C34=\"\",\"\",②選手情報入力!C34)","v":""},{"$f":"IF(E25=\"\",\"\",②選手情報入力!D34)","v":""},{"$f":"IF(E25=\"\",\"\",ASC(②選手情報入力!E34))","v":""},"","",{"$f":"IF(E25=\"\",\"\",IF(②選手情報入力!H34=\"\",\"JPN\",LEFT(②選手情報入力!H34,3)))","v":""},{"$f":"IF(E25=\"\",\"\",IF(②選手情報入力!I34=\"男\",1,2))","v":""},{"$f":"IF(E25=\"\",\"\",IF(②選手情報入力!J34=\"\",\"\",②選手情報入力!J34))","v":""},{"$f":"IF(E25=\"\",\"\",LEFT(②選手情報入力!K34,4))","v":""},{"$f":"IF(E25=\"\",\"\",RIGHT(②選手情報入力!K34,4))","v":""},"",null,{"$f":"IF(E25=\"\",\"\",IF(②選手情報入力!L34=\"\",\"\",IF(K25=1,VLOOKUP(②選手情報入力!L34,種目情報!$A$5:$B$167,2,FALSE),VLOOKUP(②選手情報入力!L34,種目情報!$E$5:$F$142,2,FALSE))))","v":""},{"$f":"IF(E25=\"\",\"\",IF(②選手情報入力!M34=\"\",\"\",②選手情報入力!M34))","v":""},null,{"$f":"IF(E25=\"\",\"\",IF(②選手情報入力!L34=\"\",\"\",IF(K25=1,VLOOKUP(②選手情報入力!L34,種目情報!$A$5:$C$135,3,FALSE),VLOOKUP(②選手情報入力!L34,種目情報!$E$5:$G$135,3,FALSE))))","v":""},{"$f":"IF(E25=\"\",\"\",IF(②選手情報入力!O34=\"\",\"\",IF(K25=1,VLOOKUP(②選手情報入力!O34,種目情報!$A$5:$B$151,2,FALSE),VLOOKUP(②選手情報入力!O34,種目情報!$E$5:$F$135,2,FALSE))))","v":""},{"$f":"IF(E25=\"\",\"\",IF(②選手情報入力!P34=\"\",\"\",②選手情報入力!P34))","v":""},{"$f":"IF(E25=\"\",\"\",IF(②選手情報入力!N34=\"\",\"\",1))","v":""},{"$f":"IF(E25=\"\",\"\",IF(②選手情報入力!O34=\"\",\"\",IF(K25=1,VLOOKUP(②選手情報入力!O34,種目情報!$A$5:$C$135,3,FALSE),VLOOKUP(②選手情報入力!O34,種目情報!$E$5:$G$135,3,FALSE))))","v":""},{"$f":"IF(E25=\"\",\"\",IF(②選手情報入力!R34=\"\",\"\",IF(K25=1,VLOOKUP(②選手情報入力!R34,種目情報!$A$5:$B$151,2,FALSE),VLOOKUP(②選手情報入力!R34,種目情報!$E$5:$F$135,2,FALSE))))","v":""},{"$f":"IF(E25=\"\",\"\",IF(②選手情報入力!S34=\"\",\"\",②選手情報入力!S34))","v":""},{"$f":"IF(E25=\"\",\"\",IF(②選手情報入力!Q34=\"\",\"\",1))","v":""},{"$f":"IF(E25=\"\",\"\",IF(②選手情報入力!R34=\"\",\"\",IF(K25=1,VLOOKUP(②選手情報入力!R34,種目情報!$A$5:$C$135,3,FALSE),VLOOKUP(②選手情報入力!R34,種目情報!$E$5:$G$135,3,FALSE))))","v":""},{"$f":"IF(E25=\"\",\"\",IF(②選手情報入力!T34=\"\",\"\",IF(K25=1,種目情報!$J$4,種目情報!$J$6)))","v":""},{"$f":"IF(E25=\"\",\"\",IF(②選手情報入力!T34=\"\",\"\",IF(K25=1,IF(②選手情報入力!$U$7=\"\",\"\",②選手情報入力!$U$7),IF(②選手情報入力!$U$8=\"\",\"\",②選手情報入力!$U$8))))","v":""},{"$f":"IF(E25=\"\",\"\",IF(②選手情報入力!T34=\"\",\"\",IF(K25=1,IF(②選手情報入力!$T$7=\"\",0,1),IF(②選手情報入力!$T$8=\"\",0,1))))","v":""},{"$f":"IF(E25=\"\",\"\",IF(②選手情報入力!T34=\"\",\"\",2))","v":""},{"$f":"IF(E25=\"\",\"\",IF(②選手情報入力!V34=\"\",\"\",IF(K25=1,種目情報!$J$5,種目情報!$J$7)))","v":""},{"$f":"IF(E25=\"\",\"\",IF(②選手情報入力!V34=\"\",\"\",IF(K25=1,IF(②選手情報入力!$W$7=\"\",\"\",②選手情報入力!$W$7),IF(②選手情報入力!$W$8=\"\",\"\",②選手情報入力!$W$8))))","v":""},{"$f":"IF(E25=\"\",\"\",IF(②選手情報入力!V34=\"\",\"\",IF(K25=1,IF(②選手情報入力!$V$7=\"\",0,1),IF(②選手情報入力!$V$8=\"\",0,1))))","v":""},{"$f":"IF(E25=\"\",\"\",IF(②選手情報入力!V34=\"\",\"\",2))","v":""},null,null,{"$f":"IF(②選手情報入力!F34=\"\",\"\",ASC(②選手情報入力!F34))","v":""},{"$f":"IF(②選手情報入力!F34=\"\",\"\",ASC(②選手情報入力!G34))","v":""}]
["",{"$f":"IF(E26=\"\",\"\",①団体情報入力!$C$5)","v":""},null,{"$f":"IF(E26=\"\",\"\",IF(①団体情報入力!C34=\"\",\"\",①団体情報入力!C34))","v":""},{"$f":"IF(②選手情報入力!C35=\"\",\"\",②選手情報入力!C35)","v":""},{"$f":"IF(E26=\"\",\"\",②選手情報入力!D35)","v":""},{"$f":"IF(E26=\"\",\"\",ASC(②選手情報入力!E35))","v":""},"","",{"$f":"IF(E26=\"\",\"\",IF(②選手情報入力!H35=\"\",\"JPN\",LEFT(②選手情報入力!H35,3)))","v":""},{"$f":"IF(E26=\"\",\"\",IF(②選手情報入力!I35=\"男\",1,2))","v":""},{"$f":"IF(E26=\"\",\"\",IF(②選手情報入力!J35=\"\",\"\",②選手情報入力!J35))","v":""},{"$f":"IF(E26=\"\",\"\",LEFT(②選手情報入力!K35,4))","v":""},{"$f":"IF(E26=\"\",\"\",RIGHT(②選手情報入力!K35,4))","v":""},"",null,{"$f":"IF(E26=\"\",\"\",IF(②選手情報入力!L35=\"\",\"\",IF(K26=1,VLOOKUP(②選手情報入力!L35,種目情報!$A$5:$B$167,2,FALSE),VLOOKUP(②選手情報入力!L35,種目情報!$E$5:$F$142,2,FALSE))))","v":""},{"$f":"IF(E26=\"\",\"\",IF(②選手情報入力!M35=\"\",\"\",②選手情報入力!M35))","v":""},null,{"$f":"IF(E26=\"\",\"\",IF(②選手情報入力!L35=\"\",\"\",IF(K26=1,VLOOKUP(②選手情報入力!L35,種目情報!$A$5:$C$135,3,FALSE),VLOOKUP(②選手情報入力!L35,種目情報!$E$5:$G$135,3,FALSE))))","v":""},{"$f":"IF(E26=\"\",\"\",IF(②選手情報入力!O35=\"\",\"\",IF(K26=1,VLOOKUP(②選手情報入力!O35,種目情報!$A$5:$B$151,2,FALSE),VLOOKUP(②選手情報入力!O35,種目情報!$E$5:$F$135,2,FALSE))))","v":""},{"$f":"IF(E26=\"\",\"\",IF(②選手情報入力!P35=\"\",\"\",②選手情報入力!P35))","v":""},{"$f":"IF(E26=\"\",\"\",IF(②選手情報入力!N35=\"\",\"\",1))","v":""},{"$f":"IF(E26=\"\",\"\",IF(②選手情報入力!O35=\"\",\"\",IF(K26=1,VLOOKUP(②選手情報入力!O35,種目情報!$A$5:$C$135,3,FALSE),VLOOKUP(②選手情報入力!O35,種目情報!$E$5:$G$135,3,FALSE))))","v":""},{"$f":"IF(E26=\"\",\"\",IF(②選手情報入力!R35=\"\",\"\",IF(K26=1,VLOOKUP(②選手情報入力!R35,種目情報!$A$5:$B$151,2,FALSE),VLOOKUP(②選手情報入力!R35,種目情報!$E$5:$F$135,2,FALSE))))","v":""},{"$f":"IF(E26=\"\",\"\",IF(②選手情報入力!S35=\"\",\"\",②選手情報入力!S35))","v":""},{"$f":"IF(E26=\"\",\"\",IF(②選手情報入力!Q35=\"\",\"\",1))","v":""},{"$f":"IF(E26=\"\",\"\",IF(②選手情報入力!R35=\"\",\"\",IF(K26=1,VLOOKUP(②選手情報入力!R35,種目情報!$A$5:$C$135,3,FALSE),VLOOKUP(②選手情報入力!R35,種目情報!$E$5:$G$135,3,FALSE))))","v":""},{"$f":"IF(E26=\"\",\"\",IF(②選手情報入力!T35=\"\",\"\",IF(K26=1,種目情報!$J$4,種目情報!$J$6)))","v":""},{"$f":"IF(E26=\"\",\"\",IF(②選手情報入力!T35=\"\",\"\",IF(K26=1,IF(②選手情報入力!$U$7=\"\",\"\",②選手情報入力!$U$7),IF(②選手情報入力!$U$8=\"\",\"\",②選手情報入力!$U$8))))","v":""},{"$f":"IF(E26=\"\",\"\",IF(②選手情報入力!T35=\"\",\"\",IF(K26=1,IF(②選手情報入力!$T$7=\"\",0,1),IF(②選手情報入力!$T$8=\"\",0,1))))","v":""},{"$f":"IF(E26=\"\",\"\",IF(②選手情報入力!T35=\"\",\"\",2))","v":""},{"$f":"IF(E26=\"\",\"\",IF(②選手情報入力!V35=\"\",\"\",IF(K26=1,種目情報!$J$5,種目情報!$J$7)))","v":""},{"$f":"IF(E26=\"\",\"\",IF(②選手情報入力!V35=\"\",\"\",IF(K26=1,IF(②選手情報入力!$W$7=\"\",\"\",②選手情報入力!$W$7),IF(②選手情報入力!$W$8=\"\",\"\",②選手情報入力!$W$8))))","v":""},{"$f":"IF(E26=\"\",\"\",IF(②選手情報入力!V35=\"\",\"\",IF(K26=1,IF(②選手情報入力!$V$7=\"\",0,1),IF(②選手情報入力!$V$8=\"\",0,1))))","v":""},{"$f":"IF(E26=\"\",\"\",IF(②選手情報入力!V35=\"\",\"\",2))","v":""},null,null,{"$f":"IF(②選手情報入力!F35=\"\",\"\",ASC(②選手情報入力!F35))","v":""},{"$f":"IF(②選手情報入力!F35=\"\",\"\",ASC(②選手情報入力!G35))","v":""}]
["",{"$f":"IF(E27=\"\",\"\",①団体情報入力!$C$5)","v":""},null,{"$f":"IF(E27=\"\",\"\",IF(①団体情報入力!C35=\"\",\"\",①団体情報入力!C35))","v":""},{"$f":"IF(②選手情報入力!C36=\"\",\"\",②選手情報入力!C36)","v":""},{"$f":"IF(E27=\"\",\"\",②選手情報入力!D36)","v":""},{"$f":"IF(E27=\"\",\"\",ASC(②選手情報入力!E36))","v":""},"","",{"$f":"IF(E27=\"\",\"\",IF(②選手情報入力!H36=\"\",\"JPN\",LEFT(②選手情報入力!H36,3)))","v":""},{"$f":"IF(E27=\"\",\"\",IF(②選手情報入力!I36=\"男\",1,2))","v":""},{"$f":"IF(E27=\"\",\"\",IF(②選手情報入力!J36=\"\",\"\",②選手情報入力!J36))","v":""},{"$f":"IF(E27=\"\",\"\",LEFT(②選手情報入力!K36,4))","v":""},{"$f":"IF(E27=\"\",\"\",RIGHT(②選手情報入力!K36,4))","v":""},"",null,{"$f":"IF(E27=\"\",\"\",IF(②選手情報入力!L36=\"\",\"\",IF(K27=1,VLOOKUP(②選手情報入力!L36,種目情報!$A$5:$B$167,2,FALSE),VLOOKUP(②選手情報入力!L36,種目情報!$E$5:$F$142,2,FALSE))))","v":""},{"$f":"IF(E27=\"\",\"\",IF(②選手情報入力!M36=\"\",\"\",②選手情報入力!M36))","v":""},null,{"$f":"IF(E27=\"\",\"\",IF(②選手情報入力!L36=\"\",\"\",IF(K27=1,VLOOKUP(②選手情報入力!L36,種目情報!$A$5:$C$135,3,FALSE),VLOOKUP(②選手情報入力!L36,種目情報!$E$5:$G$135,3,FALSE))))","v":""},{"$f":"IF(E27=\"\",\"\",IF(②選手情報入力!O36=\"\",\"\",IF(K27=1,VLOOKUP(②選手情報入力!O36,種目情報!$A$5:$B$151,2,FALSE),VLOOKUP(②選手情報入力!O36,種目情報!$E$5:$F$135,2,FALSE))))","v":""},{"$f":"IF(E27=\"\",\"\",IF(②選手情報入力!P36=\"\",\"\",②選手情報入力!P36))","v":""},{"$f":"IF(E27=\"\",\"\",IF(②選手情報入力!N36=\"\",\"\",1))","v":""},{"$f":"IF(E27=\"\",\"\",IF(②選手情報入力!O36=\"\",\"\",IF(K27=1,VLOOKUP(②選手情報入力!O36,種目情報!$A$5:$C$135,3,FALSE),VLOOKUP(②選手情報入力!O36,種目情報!$E$5:$G$135,3,FALSE))))","v":""},{"$f":"IF(E27=\"\",\"\",IF(②選手情報入力!R36=\"\",\"\",IF(K27=1,VLOOKUP(②選手情報入力!R36,種目情報!$A$5:$B$151,2,FALSE),VLOOKUP(②選手情報入力!R36,種目情報!$E$5:$F$135,2,FALSE))))","v":""},{"$f":"IF(E27=\"\",\"\",IF(②選手情報入力!S36=\"\",\"\",②選手情報入力!S36))","v":""},{"$f":"IF(E27=\"\",\"\",IF(②選手情報入力!Q36=\"\",\"\",1))","v":""},{"$f":"IF(E27=\"\",\"\",IF(②選手情報入力!R36=\"\",\"\",IF(K27=1,VLOOKUP(②選手情報入力!R36,種目情報!$A$5:$C$135,3,FALSE),VLOOKUP(②選手情報入力!R36,種目情報!$E$5:$G$135,3,FALSE))))","v":""},{"$f":"IF(E27=\"\",\"\",IF(②選手情報入力!T36=\"\",\"\",IF(K27=1,種目情報!$J$4,種目情報!$J$6)))","v":""},{"$f":"IF(E27=\"\",\"\",IF(②選手情報入力!T36=\"\",\"\",IF(K27=1,IF(②選手情報入力!$U$7=\"\",\"\",②選手情報入力!$U$7),IF(②選手情報入力!$U$8=\"\",\"\",②選手情報入力!$U$8))))","v":""},{"$f":"IF(E27=\"\",\"\",IF(②選手情報入力!T36=\"\",\"\",IF(K27=1,IF(②選手情報入力!$T$7=\"\",0,1),IF(②選手情報入力!$T$8=\"\",0,1))))","v":""},{"$f":"IF(E27=\"\",\"\",IF(②選手情報入力!T36=\"\",\"\",2))","v":""},{"$f":"IF(E27=\"\",\"\",IF(②選手情報入力!V36=\"\",\"\",IF(K27=1,種目情報!$J$5,種目情報!$J$7)))","v":""},{"$f":"IF(E27=\"\",\"\",IF(②選手情報入力!V36=\"\",\"\",IF(K27=1,IF(②選手情報入力!$W$7=\"\",\"\",②選手情報入力!$W$7),IF(②選手情報入力!$W$8=\"\",\"\",②選手情報入力!$W$8))))","v":""},{"$f":"IF(E27=\"\",\"\",IF(②選手情報入力!V36=\"\",\"\",IF(K27=1,IF(②選手情報入力!$V$7=\"\",0,1),IF(②選手情報入力!$V$8=\"\",0,1))))","v":""},{"$f":"IF(E27=\"\",\"\",IF(②選手情報入力!V36=\"\",\"\",2))","v":""},null,null,{"$f":"IF(②選手情報入力!F36=\"\",\"\",ASC(②選手情報入力!F36))","v":""},{"$f":"IF(②選手情報入力!F36=\"\",\"\",ASC(②選手情報入力!G36))","v":""}]
["",{"$f":"IF(E28=\"\",\"\",①団体情報入力!$C$5)","v":""},null,{"$f":"IF(E28=\"\",\"\",IF(①団体情報入力!C36=\"\",\"\",①団体情報入力!C36))","v":""},{"$f":"IF(②選手情報入力!C37=\"\",\"\",②選手情報入力!C37)","v":""},{"$f":"IF(E28=\"\",\"\",②選手情報入力!D37)","v":""},{"$f":"IF(E28=\"\",\"\",ASC(②選手情報入力!E37))","v":""},"","",{"$f":"IF(E28=\"\",\"\",IF(②選手情報入力!H37=\"\",\"JPN\",LEFT(②選手情報入力!H37,3)))","v":""},{"$f":"IF(E28=\"\",\"\",IF(②選手情報入力!I37=\"男\",1,2))","v":""},{"$f":"IF(E28=\"\",\"\",IF(②選手情報入力!J37=\"\",\"\",②選手情報入力!J37))","v":""},{"$f":"IF(E28=\"\",\"\",LEFT(②選手情報入力!K37,4))","v":""},{"$f":"IF(E28=\"\",\"\",RIGHT(②選手情報入力!K37,4))","v":""},"",null,{"$f":"IF(E28=\"\",\"\",IF(②選手情報入力!L37=\"\",\"\",IF(K28=1,VLOOKUP(②選手情報入力!L37,種目情報!$A$5:$B$167,2,FALSE),VLOOKUP(②選手情報入力!L37,種目情報!$E$5:$F$142,2,FALSE))))","v":""},{"$f":"IF(E28=\"\",\"\",IF(②選手情報入力!M37=\"\",\"\",②選手情報入力!M37))","v":""},null,{"$f":"IF(E28=\"\",\"\",IF(②選手情報入力!L37=\"\",\"\",IF(K28=1,VLOOKUP(②選手情報入力!L37,種目情報!$A$5:$C$135,3,FALSE),VLOOKUP(②選手情報入力!L37,種目情報!$E$5:$G$135,3,FALSE))))","v":""},{"$f":"IF(E28=\"\",\"\",IF(②選手情報入力!O37=\"\",\"\",IF(K28=1,VLOOKUP(②選手情報入力!O37,種目情報!$A$5:$B$151,2,FALSE),VLOOKUP(②選手情報入力!O37,種目情報!$E$5:$F$135,2,FALSE))))","v":""},{"$f":"IF(E28=\"\",\"\",IF(②選手情報入力!P37=\"\",\"\",②選手情報入力!P37))","v":""},{"$f":"IF(E28=\"\",\"\",IF(②選手情報入力!N37=\"\",\"\",1))","v":""},{"$f":"IF(E28=\"\",\"\",IF(②選手情報入力!O37=\"\",\"\",IF(K28=1,VLOOKUP(②選手情報入力!O37,種目情報!$A$5:$C$135,3,FALSE),VLOOKUP(②選手情報入力!O37,種目情報!$E$5:$G$135,3,FALSE))))","v":""},{"$f":"IF(E28=\"\",\"\",IF(②選手情報入力!R37=\"\",\"\",IF(K28=1,VLOOKUP(②選手情報入力!R37,種目情報!$A$5:$B$151,2,FALSE),VLOOKUP(②選手情報入力!R37,種目情報!$E$5:$F$135,2,FALSE))))","v":""},{"$f":"IF(E28=\"\",\"\",IF(②選手情報入力!S37=\"\",\"\",②選手情報入力!S37))","v":""},{"$f":"IF(E28=\"\",\"\",IF(②選手情報入力!Q37=\"\",\"\",1))","v":""},{"$f":"IF(E28=\"\",\"\",IF(②選手情報入力!R37=\"\",\"\",IF(K28=1,VLOOKUP(②選手情報入力!R37,種目情報!$A$5:$C$135,3,FALSE),VLOOKUP(②選手情報入力!R37,種目情報!$E$5:$G$135,3,FALSE))))","v":""},{"$f":"IF(E28=\"\",\"\",IF(②選手情報入力!T37=\"\",\"\",IF(K28=1,種目情報!$J$4,種目情報!$J$6)))","v":""},{"$f":"IF(E28=\"\",\"\",IF(②選手情報入力!T37=\"\",\"\",IF(K28=1,IF(②選手情報入力!$U$7=\"\",\"\",②選手情報入力!$U$7),IF(②選手情報入力!$U$8=\"\",\"\",②選手情報入力!$U$8))))","v":""},{"$f":"IF(E28=\"\",\"\",IF(②選手情報入力!T37=\"\",\"\",IF(K28=1,IF(②選手情報入力!$T$7=\"\",0,1),IF(②選手情報入力!$T$8=\"\",0,1))))","v":""},{"$f":"IF(E28=\"\",\"\",IF(②選手情報入力!T37=\"\",\"\",2))","v":""},{"$f":"IF(E28=\"\",\"\",IF(②選手情報入力!V37=\"\",\"\",IF(K28=1,種目情報!$J$5,種目情報!$J$7)))","v":""},{"$f":"IF(E28=\"\",\"\",IF(②選手情報入力!V37=\"\",\"\",IF(K28=1,IF(②選手情報入力!$W$7=\"\",\"\",②選手情報入力!$W$7),IF(②選手情報入力!$W$8=\"\",\"\",②選手情報入力!$W$8))))","v":""},{"$f":"IF(E28=\"\",\"\",IF(②選手情報入力!V37=\"\",\"\",IF(K28=1,IF(②選手情報入力!$V$7=\"\",0,1),IF(②選手情報入力!$V$8=\"\",0,1))))","v":""},{"$f":"IF(E28=\"\",\"\",IF(②選手情報入力!V37=\"\",\"\",2))","v":""},null,null,{"$f":"IF(②選手情報入力!F37=\"\",\"\",ASC(②選手情報入力!F37))","v":""},{"$f":"IF(②選手情報入力!F37=\"\",\"\",ASC(②選手情報入力!G37))","v":""}]
["",{"$f":"IF(E29=\"\",\"\",①団体情報入力!$C$5)","v":""},null,{"$f":"IF(E29=\"\",\"\",IF(①団体情報入力!C37=\"\",\"\",①団体情報入力!C37))","v":""},{"$f":"IF(②選手情報入力!C38=\"\",\"\",②選手情報入力!C38)","v":""},{"$f":"IF(E29=\"\",\"\",②選手情報入力!D38)","v":""},{"$f":"IF(E29=\"\",\"\",ASC(②選手情報入力!E38))","v":""},"","",{"$f":"IF(E29=\"\",\"\",IF(②選手情報入力!H38=\"\",\"JPN\",LEFT(②選手情報入力!H38,3)))","v":""},{"$f":"IF(E29=\"\",\"\",IF(②選手情報入力!I38=\"男\",1,2))","v":""},{"$f":"IF(E29=\"\",\"\",IF(②選手情報入力!J38=\"\",\"\",②選手情報入力!J38))","v":""},{"$f":"IF(E29=\"\",\"\",LEFT(②選手情報入力!K38,4))","v":""},{"$f":"IF(E29=\"\",\"\",RIGHT(②選手情報入力!K38,4))","v":""},"",null,{"$f":"IF(E29=\"\",\"\",IF(②選手情報入力!L38=\"\",\"\",IF(K29=1,VLOOKUP(②選手情報入力!L38,種目情報!$A$5:$B$167,2,FALSE),VLOOKUP(②選手情報入力!L38,種目情報!$E$5:$F$142,2,FALSE))))","v":""},{"$f":"IF(E29=\"\",\"\",IF(②選手情報入力!M38=\"\",\"\",②選手情報入力!M38))","v":""},null,{"$f":"IF(E29=\"\",\"\",IF(②選手情報入力!L38=\"\",\"\",IF(K29=1,VLOOKUP(②選手情報入力!L38,種目情報!$A$5:$C$135,3,FALSE),VLOOKUP(②選手情報入力!L38,種目情報!$E$5:$G$135,3,FALSE))))","v":""},{"$f":"IF(E29=\"\",\"\",IF(②選手情報入力!O38=\"\",\"\",IF(K29=1,VLOOKUP(②選手情報入力!O38,種目情報!$A$5:$B$151,2,FALSE),VLOOKUP(②選手情報入力!O38,種目情報!$E$5:$F$135,2,FALSE))))","v":""},{"$f":"IF(E29=\"\",\"\",IF(②選手情報入力!P38=\"\",\"\",②選手情報入力!P38))","v":""},{"$f":"IF(E29=\"\",\"\",IF(②選手情報入力!N38=\"\",\"\",1))","v":""},{"$f":"IF(E29=\"\",\"\",IF(②選手情報入力!O38=\"\",\"\",IF(K29=1,VLOOKUP(②選手情報入力!O38,種目情報!$A$5:$C$135,3,FALSE),VLOOKUP(②選手情報入力!O38,種目情報!$E$5:$G$135,3,FALSE))))","v":""},{"$f":"IF(E29=\"\",\"\",IF(②選手情報入力!R38=\"\",\"\",IF(K29=1,VLOOKUP(②選手情報入力!R38,種目情報!$A$5:$B$151,2,FALSE),VLOOKUP(②選手情報入力!R38,種目情報!$E$5:$F$135,2,FALSE))))","v":""},{"$f":"IF(E29=\"\",\"\",IF(②選手情報入力!S38=\"\",\"\",②選手情報入力!S38))","v":""},{"$f":"IF(E29=\"\",\"\",IF(②選手情報入力!Q38=\"\",\"\",1))","v":""},{"$f":"IF(E29=\"\",\"\",IF(②選手情報入力!R38=\"\",\"\",IF(K29=1,VLOOKUP(②選手情報入力!R38,種目情報!$A$5:$C$135,3,FALSE),VLOOKUP(②選手情報入力!R38,種目情報!$E$5:$G$135,3,FALSE))))","v":""},{"$f":"IF(E29=\"\",\"\",IF(②選手情報入力!T38=\"\",\"\",IF(K29=1,種目情報!$J$4,種目情報!$J$6)))","v":""},{"$f":"IF(E29=\"\",\"\",IF(②選手情報入力!T38=\"\",\"\",IF(K29=1,IF(②選手情報入力!$U$7=\"\",\"\",②選手情報入力!$U$7),IF(②選手情報入力!$U$8=\"\",\"\",②選手情報入力!$U$8))))","v":""},{"$f":"IF(E29=\"\",\"\",IF(②選手情報入力!T38=\"\",\"\",IF(K29=1,IF(②選手情報入力!$T$7=\"\",0,1),IF(②選手情報入力!$T$8=\"\",0,1))))","v":""},{"$f":"IF(E29=\"\",\"\",IF(②選手情報入力!T38=\"\",\"\",2))","v":""},{"$f":"IF(E29=\"\",\"\",IF(②選手情報入力!V38=\"\",\"\",IF(K29=1,種目情報!$J$5,種目情報!$J$7)))","v":""},{"$f":"IF(E29=\"\",\"\",IF(②選手情報入力!V38=\"\",\"\",IF(K29=1,IF(②選手情報入力!$W$7=\"\",\"\",②選手情報入力!$W$7),IF(②選手情報入力!$W$8=\"\",\"\",②選手情報入力!$W$8))))","v":""},{"$f":"IF(E29=\"\",\"\",IF(②選手情報入力!V38=\"\",\"\",IF(K29=1,IF(②選手情報入力!$V$7=\"\",0,1),IF(②選手情報入力!$V$8=\"\",0,1))))","v":""},{"$f":"IF(E29=\"\",\"\",IF(②選手情報入力!V38=\"\",\"\",2))","v":""},null,null,{"$f":"IF(②選手情報入力!F38=\"\",\"\",ASC(②選手情報入力!F38))","v":""},{"$f":"IF(②選手情報入力!F38=\"\",\"\",ASC(②選手情報入力!G38))","v":""}]
["",{"$f":"IF(E30=\"\",\"\",①団体情報入力!$C$5)","v":""},null,{"$f":"IF(E30=\"\",\"\",IF(①団体情報入力!C38=\"\",\"\",①団体情報入力!C38))","v":""},{"$f":"IF(②選手情報入力!C39=\"\",\"\",②選手情報入力!C39)","v":""},{"$f":"IF(E30=\"\",\"\",②選手情報入力!D39)","v":""},{"$f":"IF(E30=\"\",\"\",ASC(②選手情報入力!E39))","v":""},"","",{"$f":"IF(E30=\"\",\"\",IF(②選手情報入力!H39=\"\",\"JPN\",LEFT(②選手情報入力!H39,3)))","v":""},{"$f":"IF(E30=\"\",\"\",IF(②選手情報入力!I39=\"男\",1,2))","v":""},{"$f":"IF(E30=\"\",\"\",IF(②選手情報入力!J39=\"\",\"\",②選手情報入力!J39))","v":""},{"$f":"IF(E30=\"\",\"\",LEFT(②選手情報入力!K39,4))","v":""},{"$f":"IF(E30=\"\",\"\",RIGHT(②選手情報入力!K39,4))","v":""},"",null,{"$f":"IF(E30=\"\",\"\",IF(②選手情報入力!L39=\"\",\"\",IF(K30=1,VLOOKUP(②選手情報入力!L39,種目情報!$A$5:$B$167,2,FALSE),VLOOKUP(②選手情報入力!L39,種目情報!$E$5:$F$142,2,FALSE))))","v":""},{"$f":"IF(E30=\"\",\"\",IF(②選手情報入力!M39=\"\",\"\",②選手情報入力!M39))","v":""},null,{"$f":"IF(E30=\"\",\"\",IF(②選手情報入力!L39=\"\",\"\",IF(K30=1,VLOOKUP(②選手情報入力!L39,種目情報!$A$5:$C$135,3,FALSE),VLOOKUP(②選手情報入力!L39,種目情報!$E$5:$G$135,3,FALSE))))","v":""},{"$f":"IF(E30=\"\",\"\",IF(②選手情報入力!O39=\"\",\"\",IF(K30=1,VLOOKUP(②選手情報入力!O39,種目情報!$A$5:$B$151,2,FALSE),VLOOKUP(②選手情報入力!O39,種目情報!$E$5:$F$135,2,FALSE))))","v":""},{"$f":"IF(E30=\"\",\"\",IF(②選手情報入力!P39=\"\",\"\",②選手情報入力!P39))","v":""},{"$f":"IF(E30=\"\",\"\",IF(②選手情報入力!N39=\"\",\"\",1))","v":""},{"$f":"IF(E30=\"\",\"\",IF(②選手情報入力!O39=\"\",\"\",IF(K30=1,VLOOKUP(②選手情報入力!O39,種目情報!$A$5:$C$135,3,FALSE),VLOOKUP(②選手情報入力!O39,種目情報!$E$5:$G$135,3,FALSE))))","v":""},{"$f":"IF(E30=\"\",\"\",IF(②選手情報入力!R39=\"\",\"\",IF(K30=1,VLOOKUP(②選手情報入力!R39,種目情報!$A$5:$B$151,2,FALSE),VLOOKUP(②選手情報入力!R39,種目情報!$E$5:$F$135,2,FALSE))))","v":""},{"$f":"IF(E30=\"\",\"\",IF(②選手情報入力!S39=\"\",\"\",②選手情報入力!S39))","v":""},{"$f":"IF(E30=\"\",\"\",IF(②選手情報入力!Q39=\"\",\"\",1))","v":""},{"$f":"IF(E30=\"\",\"\",IF(②選手情報入力!R39=\"\",\"\",IF(K30=1,VLOOKUP(②選手情報入力!R39,種目情報!$A$5:$C$135,3,FALSE),VLOOKUP(②選手情報入力!R39,種目情報!$E$5:$G$135,3,FALSE))))","v":""},{"$f":"IF(E30=\"\",\"\",IF(②選手情報入力!T39=\"\",\"\",IF(K30=1,種目情報!$J$4,種目情報!$J$6)))","v":""},{"$f":"IF(E30=\"\",\"\",IF(②選手情報入力!T39=\"\",\"\",IF(K30=1,IF(②選手情報入力!$U$7=\"\",\"\",②選手情報入力!$U$7),IF(②選手情報入力!$U$8=\"\",\"\",②選手情報入力!$U$8))))","v":""},{"$f":"IF(E30=\"\",\"\",IF(②選手情報入力!T39=\"\",\"\",IF(K30=1,IF(②選手情報入力!$T$7=\"\",0,1),IF(②選手情報入力!$T$8=\"\",0,1))))","v":""},{"$f":"IF(E30=\"\",\"\",IF(②選手情報入力!T39=\"\",\"\",2))","v":""},{"$f":"IF(E30=\"\",\"\",IF(②選手情報入力!V39=\"\",\"\",IF(K30=1,種目情報!$J$5,種目情報!$J$7)))","v":""},{"$f":"IF(E30=\"\",\"\",IF(②選手情報入力!V39=\"\",\"\",IF(K30=1,IF(②選手情報入力!$W$7=\"\",\"\",②選手情報入力!$W$7),IF(②選手情報入力!$W$8=\"\",\"\",②選手情報入力!$W$8))))","v":""},{"$f":"IF(E30=\"\",\"\",IF(②選手情報入力!V39=\"\",\"\",IF(K30=1,IF(②選手情報入力!$V$7=\"\",0,1),IF(②選手情報入力!$V$8=\"\",0,1))))","v":""},{"$f":"IF(E30=\"\",\"\",IF(②選手情報入力!V39=\"\",\"\",2))","v":""},null,null,{"$f":"IF(②選手情報入力!F39=\"\",\"\",ASC(②選手情報入力!F39))","v":""},{"$f":"IF(②選手情報入力!F39=\"\",\"\",ASC(②選手情報入力!G39))","v":""}]
["",{"$f":"IF(E31=\"\",\"\",①団体情報入力!$C$5)","v":""},null,{"$f":"IF(E31=\"\",\"\",IF(①団体情報入力!C39=\"\",\"\",①団体情報入力!C39))","v":""},{"$f":"IF(②選手情報入力!C40=\"\",\"\",②選手情報入力!C40)","v":""},{"$f":"IF(E31=\"\",\"\",②選手情報入力!D40)","v":""},{"$f":"IF(E31=\"\",\"\",ASC(②選手情報入力!E40))","v":""},"","",{"$f":"IF(E31=\"\",\"\",IF(②選手情報入力!H40=\"\",\"JPN\",LEFT(②選手情報入力!H40,3)))","v":""},{"$f":"IF(E31=\"\",\"\",IF(②選手情報入力!I40=\"男\",1,2))","v":""},{"$f":"IF(E31=\"\",\"\",IF(②選手情報入力!J40=\"\",\"\",②選手情報入力!J40))","v":""},{"$f":"IF(E31=\"\",\"\",LEFT(②選手情報入力!K40,4))","v":""},{"$f":"IF(E31=\"\",\"\",RIGHT(②選手情報入力!K40,4))","v":""},"",null,{"$f":"IF(E31=\"\",\"\",IF(②選手情報入力!L40=\"\",\"\",IF(K31=1,VLOOKUP(②選手情報入力!L40,種目情報!$A$5:$B$167,2,FALSE),VLOOKUP(②選手情報入力!L40,種目情報!$E$5:$F$142,2,FALSE))))","v":""},{"$f":"IF(E31=\"\",\"\",IF(②選手情報入力!M40=\"\",\"\",②選手情報入力!M40))","v":""},null,{"$f":"IF(E31=\"\",\"\",IF(②選手情報入力!L40=\"\",\"\",IF(K31=1,VLOOKUP(②選手情報入力!L40,種目情報!$A$5:$C$135,3,FALSE),VLOOKUP(②選手情報入力!L40,種目情報!$E$5:$G$135,3,FALSE))))","v":""},{"$f":"IF(E31=\"\",\"\",IF(②選手情報入力!O40=\"\",\"\",IF(K31=1,VLOOKUP(②選手情報入力!O40,種目情報!$A$5:$B$151,2,FALSE),VLOOKUP(②選手情報入力!O40,種目情報!$E$5:$F$135,2,FALSE))))","v":""},{"$f":"IF(E31=\"\",\"\",IF(②選手情報入力!P40=\"\",\"\",②選手情報入力!P40))","v":""},{"$f":"IF(E31=\"\",\"\",IF(②選手情報入力!N40=\"\",\"\",1))","v":""},{"$f":"IF(E31=\"\",\"\",IF(②選手情報入力!O40=\"\",\"\",IF(K31=1,VLOOKUP(②選手情報入力!O40,種目情報!$A$5:$C$135,3,FALSE),VLOOKUP(②選手情報入力!O40,種目情報!$E$5:$G$135,3,FALSE))))","v":""},{"$f":"IF(E31=\"\",\"\",IF(②選手情報入力!R40=\"\",\"\",IF(K31=1,VLOOKUP(②選手情報入力!R40,種目情報!$A$5:$B$151,2,FALSE),VLOOKUP(②選手情報入力!R40,種目情報!$E$5:$F$135,2,FALSE))))","v":""},{"$f":"IF(E31=\"\",\"\",IF(②選手情報入力!S40=\"\",\"\",②選手情報入力!S40))","v":""},{"$f":"IF(E31=\"\",\"\",IF(②選手情報入力!Q40=\"\",\"\",1))","v":""},{"$f":"IF(E31=\"\",\"\",IF(②選手情報入力!R40=\"\",\"\",IF(K31=1,VLOOKUP(②選手情報入力!R40,種目情報!$A$5:$C$135,3,FALSE),VLOOKUP(②選手情報入力!R40,種目情報!$E$5:$G$135,3,FALSE))))","v":""},{"$f":"IF(E31=\"\",\"\",IF(②選手情報入力!T40=\"\",\"\",IF(K31=1,種目情報!$J$4,種目情報!$J$6)))","v":""},{"$f":"IF(E31=\"\",\"\",IF(②選手情報入力!T40=\"\",\"\",IF(K31=1,IF(②選手情報入力!$U$7=\"\",\"\",②選手情報入力!$U$7),IF(②選手情報入力!$U$8=\"\",\"\",②選手情報入力!$U$8))))","v":""},{"$f":"IF(E31=\"\",\"\",IF(②選手情報入力!T40=\"\",\"\",IF(K31=1,IF(②選手情報入力!$T$7=\"\",0,1),IF(②選手情報入力!$T$8=\"\",0,1))))","v":""},{"$f":"IF(E31=\"\",\"\",IF(②選手情報入力!T40=\"\",\"\",2))","v":""},{"$f":"IF(E31=\"\",\"\",IF(②選手情報入力!V40=\"\",\"\",IF(K31=1,種目情報!$J$5,種目情報!$J$7)))","v":""},{"$f":"IF(E31=\"\",\"\",IF(②選手情報入力!V40=\"\",\"\",IF(K31=1,IF(②選手情報入力!$W$7=\"\",\"\",②選手情報入力!$W$7),IF(②選手情報入力!$W$8=\"\",\"\",②選手情報入力!$W$8))))","v":""},{"$f":"IF(E31=\"\",\"\",IF(②選手情報入力!V40=\"\",\"\",IF(K31=1,IF(②選手情報入力!$V$7=\"\",0,1),IF(②選手情報入力!$V$8=\"\",0,1))))","v":""},{"$f":"IF(E31=\"\",\"\",IF(②選手情報入力!V40=\"\",\"\",2))","v":""},null,null,{"$f":"IF(②選手情報入力!F40=\"\",\"\",ASC(②選手情報入力!F40))","v":""},{"$f":"IF(②選手情報入力!F40=\"\",\"\",ASC(②選手情報入力!G40))","v":""}]
["",{"$f":"IF(E32=\"\",\"\",①団体情報入力!$C$5)","v":""},null,{"$f":"IF(E32=\"\",\"\",IF(①団体情報入力!C40=\"\",\"\",①団体情報入力!C40))","v":""},{"$f":"IF(②選手情報入力!C41=\"\",\"\",②選手情報入力!C41)","v":""},{"$f":"IF(E32=\"\",\"\",②選手情報入力!D41)","v":""},{"$f":"IF(E32=\"\",\"\",ASC(②選手情報入力!E41))","v":""},"","",{"$f":"IF(E32=\"\",\"\",IF(②選手情報入力!H41=\"\",\"JPN\",LEFT(②選手情報入力!H41,3)))","v":""},{"$f":"IF(E32=\"\",\"\",IF(②選手情報入力!I41=\"男\",1,2))","v":""},{"$f":"IF(E32=\"\",\"\",IF(②選手情報入力!J41=\"\",\"\",②選手情報入力!J41))","v":""},{"$f":"IF(E32=\"\",\"\",LEFT(②選手情報入力!K41,4))","v":""},{"$f":"IF(E32=\"\",\"\",RIGHT(②選手情報入力!K41,4))","v":""},"",null,{"$f":"IF(E32=\"\",\"\",IF(②選手情報入力!L41=\"\",\"\",IF(K32=1,VLOOKUP(②選手情報入力!L41,種目情報!$A$5:$B$167,2,FALSE),VLOOKUP(②選手情報入力!L41,種目情報!$E$5:$F$142,2,FALSE))))","v":""},{"$f":"IF(E32=\"\",\"\",IF(②選手情報入力!M41=\"\",\"\",②選手情報入力!M41))","v":""},null,{"$f":"IF(E32=\"\",\"\",IF(②選手情報入力!L41=\"\",\"\",IF(K32=1,VLOOKUP(②選手情報入力!L41,種目情報!$A$5:$C$135,3,FALSE),VLOOKUP(②選手情報入力!L41,種目情報!$E$5:$G$135,3,FALSE))))","v":""},{"$f":"IF(E32=\"\",\"\",IF(②選手情報入力!O41=\"\",\"\",IF(K32=1,VLOOKUP(②選手情報入力!O41,種目情報!$A$5:$B$151,2,FALSE),VLOOKUP(②選手情報入力!O41,種目情報!$E$5:$F$135,2,FALSE))))","v":""},{"$f":"IF(E32=\"\",\"\",IF(②選手情報入力!P41=\"\",\"\",②選手情報入力!P41))","v":""},{"$f":"IF(E32=\"\",\"\",IF(②選手情報入力!N41=\"\",\"\",1))","v":""},{"$f":"IF(E32=\"\",\"\",IF(②選手情報入力!O41=\"\",\"\",IF(K32=1,VLOOKUP(②選手情報入力!O41,種目情報!$A$5:$C$135,3,FALSE),VLOOKUP(②選手情報入力!O41,種目情報!$E$5:$G$135,3,FALSE))))","v":""},{"$f":"IF(E32=\"\",\"\",IF(②選手情報入力!R41=\"\",\"\",IF(K32=1,VLOOKUP(②選手情報入力!R41,種目情報!$A$5:$B$151,2,FALSE),VLOOKUP(②選手情報入力!R41,種目情報!$E$5:$F$135,2,FALSE))))","v":""},{"$f":"IF(E32=\"\",\"\",IF(②選手情報入力!S41=\"\",\"\",②選手情報入力!S41))","v":""},{"$f":"IF(E32=\"\",\"\",IF(②選手情報入力!Q41=\"\",\"\",1))","v":""},{"$f":"IF(E32=\"\",\"\",IF(②選手情報入力!R41=\"\",\"\",IF(K32=1,VLOOKUP(②選手情報入力!R41,種目情報!$A$5:$C$135,3,FALSE),VLOOKUP(②選手情報入力!R41,種目情報!$E$5:$G$135,3,FALSE))))","v":""},{"$f":"IF(E32=\"\",\"\",IF(②選手情報入力!T41=\"\",\"\",IF(K32=1,種目情報!$J$4,種目情報!$J$6)))","v":""},{"$f":"IF(E32=\"\",\"\",IF(②選手情報入力!T41=\"\",\"\",IF(K32=1,IF(②選手情報入力!$U$7=\"\",\"\",②選手情報入力!$U$7),IF(②選手情報入力!$U$8=\"\",\"\",②選手情報入力!$U$8))))","v":""},{"$f":"IF(E32=\"\",\"\",IF(②選手情報入力!T41=\"\",\"\",IF(K32=1,IF(②選手情報入力!$T$7=\"\",0,1),IF(②選手情報入力!$T$8=\"\",0,1))))","v":""},{"$f":"IF(E32=\"\",\"\",IF(②選手情報入力!T41=\"\",\"\",2))","v":""},{"$f":"IF(E32=\"\",\"\",IF(②選手情報入力!V41=\"\",\"\",IF(K32=1,種目情報!$J$5,種目情報!$J$7)))","v":""},{"$f":"IF(E32=\"\",\"\",IF(②選手情報入力!V41=\"\",\"\",IF(K32=1,IF(②選手情報入力!$W$7=\"\",\"\",②選手情報入力!$W$7),IF(②選手情報入力!$W$8=\"\",\"\",②選手情報入力!$W$8))))","v":""},{"$f":"IF(E32=\"\",\"\",IF(②選手情報入力!V41=\"\",\"\",IF(K32=1,IF(②選手情報入力!$V$7=\"\",0,1),IF(②選手情報入力!$V$8=\"\",0,1))))","v":""},{"$f":"IF(E32=\"\",\"\",IF(②選手情報入力!V41=\"\",\"\",2))","v":""},null,null,{"$f":"IF(②選手情報入力!F41=\"\",\"\",ASC(②選手情報入力!F41))","v":""},{"$f":"IF(②選手情報入力!F41=\"\",\"\",ASC(②選手情報入力!G41))","v":""}]
["",{"$f":"IF(E33=\"\",\"\",①団体情報入力!$C$5)","v":""},null,{"$f":"IF(E33=\"\",\"\",IF(①団体情報入力!C41=\"\",\"\",①団体情報入力!C41))","v":""},{"$f":"IF(②選手情報入力!C42=\"\",\"\",②選手情報入力!C42)","v":""},{"$f":"IF(E33=\"\",\"\",②選手情報入力!D42)","v":""},{"$f":"IF(E33=\"\",\"\",ASC(②選手情報入力!E42))","v":""},"","",{"$f":"IF(E33=\"\",\"\",IF(②選手情報入力!H42=\"\",\"JPN\",LEFT(②選手情報入力!H42,3)))","v":""},{"$f":"IF(E33=\"\",\"\",IF(②選手情報入力!I42=\"男\",1,2))","v":""},{"$f":"IF(E33=\"\",\"\",IF(②選手情報入力!J42=\"\",\"\",②選手情報入力!J42))","v":""},{"$f":"IF(E33=\"\",\"\",LEFT(②選手情報入力!K42,4))","v":""},{"$f":"IF(E33=\"\",\"\",RIGHT(②選手情報入力!K42,4))","v":""},"",null,{"$f":"IF(E33=\"\",\"\",IF(②選手情報入力!L42=\"\",\"\",IF(K33=1,VLOOKUP(②選手情報入力!L42,種目情報!$A$5:$B$167,2,FALSE),VLOOKUP(②選手情報入力!L42,種目情報!$E$5:$F$142,2,FALSE))))","v":""},{"$f":"IF(E33=\"\",\"\",IF(②選手情報入力!M42=\"\",\"\",②選手情報入力!M42))","v":""},null,{"$f":"IF(E33=\"\",\"\",IF(②選手情報入力!L42=\"\",\"\",IF(K33=1,VLOOKUP(②選手情報入力!L42,種目情報!$A$5:$C$135,3,FALSE),VLOOKUP(②選手情報入力!L42,種目情報!$E$5:$G$135,3,FALSE))))","v":""},{"$f":"IF(E33=\"\",\"\",IF(②選手情報入力!O42=\"\",\"\",IF(K33=1,VLOOKUP(②選手情報入力!O42,種目情報!$A$5:$B$151,2,FALSE),VLOOKUP(②選手情報入力!O42,種目情報!$E$5:$F$135,2,FALSE))))","v":""},{"$f":"IF(E33=\"\",\"\",IF(②選手情報入力!P42=\"\",\"\",②選手情報入力!P42))","v":""},{"$f":"IF(E33=\"\",\"\",IF(②選手情報入力!N42=\"\",\"\",1))","v":""},{"$f":"IF(E33=\"\",\"\",IF(②選手情報入力!O42=\"\",\"\",IF(K33=1,VLOOKUP(②選手情報入力!O42,種目情報!$A$5:$C$135,3,FALSE),VLOOKUP(②選手情報入力!O42,種目情報!$E$5:$G$135,3,FALSE))))","v":""},{"$f":"IF(E33=\"\",\"\",IF(②選手情報入力!R42=\"\",\"\",IF(K33=1,VLOOKUP(②選手情報入力!R42,種目情報!$A$5:$B$151,2,FALSE),VLOOKUP(②選手情報入力!R42,種目情報!$E$5:$F$135,2,FALSE))))","v":""},{"$f":"IF(E33=\"\",\"\",IF(②選手情報入力!S42=\"\",\"\",②選手情報入力!S42))","v":""},{"$f":"IF(E33=\"\",\"\",IF(②選手情報入力!Q42=\"\",\"\",1))","v":""},{"$f":"IF(E33=\"\",\"\",IF(②選手情報入力!R42=\"\",\"\",IF(K33=1,VLOOKUP(②選手情報入力!R42,種目情報!$A$5:$C$135,3,FALSE),VLOOKUP(②選手情報入力!R42,種目情報!$E$5:$G$135,3,FALSE))))","v":""},{"$f":"IF(E33=\"\",\"\",IF(②選手情報入力!T42=\"\",\"\",IF(K33=1,種目情報!$J$4,種目情報!$J$6)))","v":""},{"$f":"IF(E33=\"\",\"\",IF(②選手情報入力!T42=\"\",\"\",IF(K33=1,IF(②選手情報入力!$U$7=\"\",\"\",②選手情報入力!$U$7),IF(②選手情報入力!$U$8=\"\",\"\",②選手情報入力!$U$8))))","v":""},{"$f":"IF(E33=\"\",\"\",IF(②選手情報入力!T42=\"\",\"\",IF(K33=1,IF(②選手情報入力!$T$7=\"\",0,1),IF(②選手情報入力!$T$8=\"\",0,1))))","v":""},{"$f":"IF(E33=\"\",\"\",IF(②選手情報入力!T42=\"\",\"\",2))","v":""},{"$f":"IF(E33=\"\",\"\",IF(②選手情報入力!V42=\"\",\"\",IF(K33=1,種目情報!$J$5,種目情報!$J$7)))","v":""},{"$f":"IF(E33=\"\",\"\",IF(②選手情報入力!V42=\"\",\"\",IF(K33=1,IF(②選手情報入力!$W$7=\"\",\"\",②選手情報入力!$W$7),IF(②選手情報入力!$W$8=\"\",\"\",②選手情報入力!$W$8))))","v":""},{"$f":"IF(E33=\"\",\"\",IF(②選手情報入力!V42=\"\",\"\",IF(K33=1,IF(②選手情報入力!$V$7=\"\",0,1),IF(②選手情報入力!$V$8=\"\",0,1))))","v":""},{"$f":"IF(E33=\"\",\"\",IF(②選手情報入力!V42=\"\",\"\",2))","v":""},null,null,{"$f":"IF(②選手情報入力!F42=\"\",\"\",ASC(②選手情報入力!F42))","v":""},{"$f":"IF(②選手情報入力!F42=\"\",\"\",ASC(②選手情報入力!G42))","v":""}]
["",{"$f":"IF(E34=\"\",\"\",①団体情報入力!$C$5)","v":""},null,{"$f":"IF(E34=\"\",\"\",IF(①団体情報入力!C42=\"\",\"\",①団体情報入力!C42))","v":""},{"$f":"IF(②選手情報入力!C43=\"\",\"\",②選手情報入力!C43)","v":""},{"$f":"IF(E34=\"\",\"\",②選手情報入力!D43)","v":""},{"$f":"IF(E34=\"\",\"\",ASC(②選手情報入力!E43))","v":""},"","",{"$f":"IF(E34=\"\",\"\",IF(②選手情報入力!H43=\"\",\"JPN\",LEFT(②選手情報入力!H43,3)))","v":""},{"$f":"IF(E34=\"\",\"\",IF(②選手情報入力!I43=\"男\",1,2))","v":""},{"$f":"IF(E34=\"\",\"\",IF(②選手情報入力!J43=\"\",\"\",②選手情報入力!J43))","v":""},{"$f":"IF(E34=\"\",\"\",LEFT(②選手情報入力!K43,4))","v":""},{"$f":"IF(E34=\"\",\"\",RIGHT(②選手情報入力!K43,4))","v":""},"",null,{"$f":"IF(E34=\"\",\"\",IF(②選手情報入力!L43=\"\",\"\",IF(K34=1,VLOOKUP(②選手情報入力!L43,種目情報!$A$5:$B$167,2,FALSE),VLOOKUP(②選手情報入力!L43,種目情報!$E$5:$F$142,2,FALSE))))","v":""},{"$f":"IF(E34=\"\",\"\",IF(②選手情報入力!M43=\"\",\"\",②選手情報入力!M43))","v":""},null,{"$f":"IF(E34=\"\",\"\",IF(②選手情報入力!L43=\"\",\"\",IF(K34=1,VLOOKUP(②選手情報入力!L43,種目情報!$A$5:$C$135,3,FALSE),VLOOKUP(②選手情報入力!L43,種目情報!$E$5:$G$135,3,FALSE))))","v":""},{"$f":"IF(E34=\"\",\"\",IF(②選手情報入力!O43=\"\",\"\",IF(K34=1,VLOOKUP(②選手情報入力!O43,種目情報!$A$5:$B$151,2,FALSE),VLOOKUP(②選手情報入力!O43,種目情報!$E$5:$F$135,2,FALSE))))","v":""},{"$f":"IF(E34=\"\",\"\",IF(②選手情報入力!P43=\"\",\"\",②選手情報入力!P43))","v":""},{"$f":"IF(E34=\"\",\"\",IF(②選手情報入力!N43=\"\",\"\",1))","v":""},{"$f":"IF(E34=\"\",\"\",IF(②選手情報入力!O43=\"\",\"\",IF(K34=1,VLOOKUP(②選手情報入力!O43,種目情報!$A$5:$C$135,3,FALSE),VLOOKUP(②選手情報入力!O43,種目情報!$E$5:$G$135,3,FALSE))))","v":""},{"$f":"IF(E34=\"\",\"\",IF(②選手情報入力!R43=\"\",\"\",IF(K34=1,VLOOKUP(②選手情報入力!R43,種目情報!$A$5:$B$151,2,FALSE),VLOOKUP(②選手情報入力!R43,種目情報!$E$5:$F$135,2,FALSE))))","v":""},{"$f":"IF(E34=\"\",\"\",IF(②選手情報入力!S43=\"\",\"\",②選手情報入力!S43))","v":""},{"$f":"IF(E34=\"\",\"\",IF(②選手情報入力!Q43=\"\",\"\",1))","v":""},{"$f":"IF(E34=\"\",\"\",IF(②選手情報入力!R43=\"\",\"\",IF(K34=1,VLOOKUP(②選手情報入力!R43,種目情報!$A$5:$C$135,3,FALSE),VLOOKUP(②選手情報入力!R43,種目情報!$E$5:$G$135,3,FALSE))))","v":""},{"$f":"IF(E34=\"\",\"\",IF(②選手情報入力!T43=\"\",\"\",IF(K34=1,種目情報!$J$4,種目情報!$J$6)))","v":""},{"$f":"IF(E34=\"\",\"\",IF(②選手情報入力!T43=\"\",\"\",IF(K34=1,IF(②選手情報入力!$U$7=\"\",\"\",②選手情報入力!$U$7),IF(②選手情報入力!$U$8=\"\",\"\",②選手情報入力!$U$8))))","v":""},{"$f":"IF(E34=\"\",\"\",IF(②選手情報入力!T43=\"\",\"\",IF(K34=1,IF(②選手情報入力!$T$7=\"\",0,1),IF(②選手情報入力!$T$8=\"\",0,1))))","v":""},{"$f":"IF(E34=\"\",\"\",IF(②選手情報入力!T43=\"\",\"\",2))","v":""},{"$f":"IF(E34=\"\",\"\",IF(②選手情報入力!V43=\"\",\"\",IF(K34=1,種目情報!$J$5,種目情報!$J$7)))","v":""},{"$f":"IF(E34=\"\",\"\",IF(②選手情報入力!V43=\"\",\"\",IF(K34=1,IF(②選手情報入力!$W$7=\"\",\"\",②選手情報入力!$W$7),IF(②選手情報入力!$W$8=\"\",\"\",②選手情報入力!$W$8))))","v":""},{"$f":"IF(E34=\"\",\"\",IF(②選手情報入力!V43=\"\",\"\",IF(K34=1,IF(②選手情報入力!$V$7=\"\",0,1),IF(②選手情報入力!$V$8=\"\",0,1))))","v":""},{"$f":"IF(E34=\"\",\"\",IF(②選手情報入力!V43=\"\",\"\",2))","v":""},null,null,{"$f":"IF(②選手情報入力!F43=\"\",\"\",ASC(②選手情報入力!F43))","v":""},{"$f":"IF(②選手情報入力!F43=\"\",\"\",ASC(②選手情報入力!G43))","v":""}]
["",{"$f":"IF(E35=\"\",\"\",①団体情報入力!$C$5)","v":""},null,{"$f":"IF(E35=\"\",\"\",IF(①団体情報入力!C43=\"\",\"\",①団体情報入力!C43))","v":""},{"$f":"IF(②選手情報入力!C44=\"\",\"\",②選手情報入力!C44)","v":""},{"$f":"IF(E35=\"\",\"\",②選手情報入力!D44)","v":""},{"$f":"IF(E35=\"\",\"\",ASC(②選手情報入力!E44))","v":""},"","",{"$f":"IF(E35=\"\",\"\",IF(②選手情報入力!H44=\"\",\"JPN\",LEFT(②選手情報入力!H44,3)))","v":""},{"$f":"IF(E35=\"\",\"\",IF(②選手情報入力!I44=\"男\",1,2))","v":""},{"$f":"IF(E35=\"\",\"\",IF(②選手情報入力!J44=\"\",\"\",②選手情報入力!J44))","v":""},{"$f":"IF(E35=\"\",\"\",LEFT(②選手情報入力!K44,4))","v":""},{"$f":"IF(E35=\"\",\"\",RIGHT(②選手情報入力!K44,4))","v":""},"",null,{"$f":"IF(E35=\"\",\"\",IF(②選手情報入力!L44=\"\",\"\",IF(K35=1,VLOOKUP(②選手情報入力!L44,種目情報!$A$5:$B$167,2,FALSE),VLOOKUP(②選手情報入力!L44,種目情報!$E$5:$F$142,2,FALSE))))","v":""},{"$f":"IF(E35=\"\",\"\",IF(②選手情報入力!M44=\"\",\"\",②選手情報入力!M44))","v":""},null,{"$f":"IF(E35=\"\",\"\",IF(②選手情報入力!L44=\"\",\"\",IF(K35=1,VLOOKUP(②選手情報入力!L44,種目情報!$A$5:$C$135,3,FALSE),VLOOKUP(②選手情報入力!L44,種目情報!$E$5:$G$135,3,FALSE))))","v":""},{"$f":"IF(E35=\"\",\"\",IF(②選手情報入力!O44=\"\",\"\",IF(K35=1,VLOOKUP(②選手情報入力!O44,種目情報!$A$5:$B$151,2,FALSE),VLOOKUP(②選手情報入力!O44,種目情報!$E$5:$F$135,2,FALSE))))","v":""},{"$f":"IF(E35=\"\",\"\",IF(②選手情報入力!P44=\"\",\"\",②選手情報入力!P44))","v":""},{"$f":"IF(E35=\"\",\"\",IF(②選手情報入力!N44=\"\",\"\",1))","v":""},{"$f":"IF(E35=\"\",\"\",IF(②選手情報入力!O44=\"\",\"\",IF(K35=1,VLOOKUP(②選手情報入力!O44,種目情報!$A$5:$C$135,3,FALSE),VLOOKUP(②選手情報入力!O44,種目情報!$E$5:$G$135,3,FALSE))))","v":""},{"$f":"IF(E35=\"\",\"\",IF(②選手情報入力!R44=\"\",\"\",IF(K35=1,VLOOKUP(②選手情報入力!R44,種目情報!$A$5:$B$151,2,FALSE),VLOOKUP(②選手情報入力!R44,種目情報!$E$5:$F$135,2,FALSE))))","v":""},{"$f":"IF(E35=\"\",\"\",IF(②選手情報入力!S44=\"\",\"\",②選手情報入力!S44))","v":""},{"$f":"IF(E35=\"\",\"\",IF(②選手情報入力!Q44=\"\",\"\",1))","v":""},{"$f":"IF(E35=\"\",\"\",IF(②選手情報入力!R44=\"\",\"\",IF(K35=1,VLOOKUP(②選手情報入力!R44,種目情報!$A$5:$C$135,3,FALSE),VLOOKUP(②選手情報入力!R44,種目情報!$E$5:$G$135,3,FALSE))))","v":""},{"$f":"IF(E35=\"\",\"\",IF(②選手情報入力!T44=\"\",\"\",IF(K35=1,種目情報!$J$4,種目情報!$J$6)))","v":""},{"$f":"IF(E35=\"\",\"\",IF(②選手情報入力!T44=\"\",\"\",IF(K35=1,IF(②選手情報入力!$U$7=\"\",\"\",②選手情報入力!$U$7),IF(②選手情報入力!$U$8=\"\",\"\",②選手情報入力!$U$8))))","v":""},{"$f":"IF(E35=\"\",\"\",IF(②選手情報入力!T44=\"\",\"\",IF(K35=1,IF(②選手情報入力!$T$7=\"\",0,1),IF(②選手情報入力!$T$8=\"\",0,1))))","v":""},{"$f":"IF(E35=\"\",\"\",IF(②選手情報入力!T44=\"\",\"\",2))","v":""},{"$f":"IF(E35=\"\",\"\",IF(②選手情報入力!V44=\"\",\"\",IF(K35=1,種目情報!$J$5,種目情報!$J$7)))","v":""},{"$f":"IF(E35=\"\",\"\",IF(②選手情報入力!V44=\"\",\"\",IF(K35=1,IF(②選手情報入力!$W$7=\"\",\"\",②選手情報入力!$W$7),IF(②選手情報入力!$W$8=\"\",\"\",②選手情報入力!$W$8))))","v":""},{"$f":"IF(E35=\"\",\"\",IF(②選手情報入力!V44=\"\",\"\",IF(K35=1,IF(②選手情報入力!$V$7=\"\",0,1),IF(②選手情報入力!$V$8=\"\",0,1))))","v":""},{"$f":"IF(E35=\"\",\"\",IF(②選手情報入力!V44=\"\",\"\",2))","v":""},null,null,{"$f":"IF(②選手情報入力!F44=\"\",\"\",ASC(②選手情報入力!F44))","v":""},{"$f":"IF(②選手情報入力!F44=\"\",\"\",ASC(②選手情報入力!G44))","v":""}]
["",{"$f":"IF(E36=\"\",\"\",①団体情報入力!$C$5)","v":""},null,{"$f":"IF(E36=\"\",\"\",IF(①団体情報入力!C44=\"\",\"\",①団体情報入力!C44))","v":""},{"$f":"IF(②選手情報入力!C45=\"\",\"\",②選手情報入力!C45)","v":""},{"$f":"IF(E36=\"\",\"\",②選手情報入力!D45)","v":""},{"$f":"IF(E36=\"\",\"\",ASC(②選手情報入力!E45))","v":""},"","",{"$f":"IF(E36=\"\",\"\",IF(②選手情報入力!H45=\"\",\"JPN\",LEFT(②選手情報入力!H45,3)))","v":""},{"$f":"IF(E36=\"\",\"\",IF(②選手情報入力!I45=\"男\",1,2))","v":""},{"$f":"IF(E36=\"\",\"\",IF(②選手情報入力!J45=\"\",\"\",②選手情報入力!J45))","v":""},{"$f":"IF(E36=\"\",\"\",LEFT(②選手情報入力!K45,4))","v":""},{"$f":"IF(E36=\"\",\"\",RIGHT(②選手情報入力!K45,4))","v":""},"",null,{"$f":"IF(E36=\"\",\"\",IF(②選手情報入力!L45=\"\",\"\",IF(K36=1,VLOOKUP(②選手情報入力!L45,種目情報!$A$5:$B$167,2,FALSE),VLOOKUP(②選手情報入力!L45,種目情報!$E$5:$F$142,2,FALSE))))","v":""},{"$f":"IF(E36=\"\",\"\",IF(②選手情報入力!M45=\"\",\"\",②選手情報入力!M45))","v":""},null,{"$f":"IF(E36=\"\",\"\",IF(②選手情報入力!L45=\"\",\"\",IF(K36=1,VLOOKUP(②選手情報入力!L45,種目情報!$A$5:$C$135,3,FALSE),VLOOKUP(②選手情報入力!L45,種目情報!$E$5:$G$135,3,FALSE))))","v":""},{"$f":"IF(E36=\"\",\"\",IF(②選手情報入力!O45=\"\",\"\",IF(K36=1,VLOOKUP(②選手情報入力!O45,種目情報!$A$5:$B$151,2,FALSE),VLOOKUP(②選手情報入力!O45,種目情報!$E$5:$F$135,2,FALSE))))","v":""},{"$f":"IF(E36=\"\",\"\",IF(②選手情報入力!P45=\"\",\"\",②選手情報入力!P45))","v":""},{"$f":"IF(E36=\"\",\"\",IF(②選手情報入力!N45=\"\",\"\",1))","v":""},{"$f":"IF(E36=\"\",\"\",IF(②選手情報入力!O45=\"\",\"\",IF(K36=1,VLOOKUP(②選手情報入力!O45,種目情報!$A$5:$C$135,3,FALSE),VLOOKUP(②選手情報入力!O45,種目情報!$E$5:$G$135,3,FALSE))))","v":""},{"$f":"IF(E36=\"\",\"\",IF(②選手情報入力!R45=\"\",\"\",IF(K36=1,VLOOKUP(②選手情報入力!R45,種目情報!$A$5:$B$151,2,FALSE),VLOOKUP(②選手情報入力!R45,種目情報!$E$5:$F$135,2,FALSE))))","v":""},{"$f":"IF(E36=\"\",\"\",IF(②選手情報入力!S45=\"\",\"\",②選手情報入力!S45))","v":""},{"$f":"IF(E36=\"\",\"\",IF(②選手情報入力!Q45=\"\",\"\",1))","v":""},{"$f":"IF(E36=\"\",\"\",IF(②選手情報入力!R45=\"\",\"\",IF(K36=1,VLOOKUP(②選手情報入力!R45,種目情報!$A$5:$C$135,3,FALSE),VLOOKUP(②選手情報入力!R45,種目情報!$E$5:$G$135,3,FALSE))))","v":""},{"$f":"IF(E36=\"\",\"\",IF(②選手情報入力!T45=\"\",\"\",IF(K36=1,種目情報!$J$4,種目情報!$J$6)))","v":""},{"$f":"IF(E36=\"\",\"\",IF(②選手情報入力!T45=\"\",\"\",IF(K36=1,IF(②選手情報入力!$U$7=\"\",\"\",②選手情報入力!$U$7),IF(②選手情報入力!$U$8=\"\",\"\",②選手情報入力!$U$8))))","v":""},{"$f":"IF(E36=\"\",\"\",IF(②選手情報入力!T45=\"\",\"\",IF(K36=1,IF(②選手情報入力!$T$7=\"\",0,1),IF(②選手情報入力!$T$8=\"\",0,1))))","v":""},{"$f":"IF(E36=\"\",\"\",IF(②選手情報入力!T45=\"\",\"\",2))","v":""},{"$f":"IF(E36=\"\",\"\",IF(②選手情報入力!V45=\"\",\"\",IF(K36=1,種目情報!$J$5,種目情報!$J$7)))","v":""},{"$f":"IF(E36=\"\",\"\",IF(②選手情報入力!V45=\"\",\"\",IF(K36=1,IF(②選手情報入力!$W$7=\"\",\"\",②選手情報入力!$W$7),IF(②選手情報入力!$W$8=\"\",\"\",②選手情報入力!$W$8))))","v":""},{"$f":"IF(E36=\"\",\"\",IF(②選手情報入力!V45=\"\",\"\",IF(K36=1,IF(②選手情報入力!$V$7=\"\",0,1),IF(②選手情報入力!$V$8=\"\",0,1))))","v":""},{"$f":"IF(E36=\"\",\"\",IF(②選手情報入力!V45=\"\",\"\",2))","v":""},null,null,{"$f":"IF(②選手情報入力!F45=\"\",\"\",ASC(②選手情報入力!F45))","v":""},{"$f":"IF(②選手情報入力!F45=\"\",\"\",ASC(②選手情報入力!G45))","v":""}]
["",{"$f":"IF(E37=\"\",\"\",①団体情報入力!$C$5)","v":""},null,{"$f":"IF(E37=\"\",\"\",IF(①団体情報入力!C45=\"\",\"\",①団体情報入力!C45))","v":""},{"$f":"IF(②選手情報入力!C46=\"\",\"\",②選手情報入力!C46)","v":""},{"$f":"IF(E37=\"\",\"\",②選手情報入力!D46)","v":""},{"$f":"IF(E37=\"\",\"\",ASC(②選手情報入力!E46))","v":""},"","",{"$f":"IF(E37=\"\",\"\",IF(②選手情報入力!H46=\"\",\"JPN\",LEFT(②選手情報入力!H46,3)))","v":""},{"$f":"IF(E37=\"\",\"\",IF(②選手情報入力!I46=\"男\",1,2))","v":""},{"$f":"IF(E37=\"\",\"\",IF(②選手情報入力!J46=\"\",\"\",②選手情報入力!J46))","v":""},{"$f":"IF(E37=\"\",\"\",LEFT(②選手情報入力!K46,4))","v":""},{"$f":"IF(E37=\"\",\"\",RIGHT(②選手情報入力!K46,4))","v":""},"",null,{"$f":"IF(E37=\"\",\"\",IF(②選手情報入力!L46=\"\",\"\",IF(K37=1,VLOOKUP(②選手情報入力!L46,種目情報!$A$5:$B$167,2,FALSE),VLOOKUP(②選手情報入力!L46,種目情報!$E$5:$F$142,2,FALSE))))","v":""},{"$f":"IF(E37=\"\",\"\",IF(②選手情報入力!M46=\"\",\"\",②選手情報入力!M46))","v":""},null,{"$f":"IF(E37=\"\",\"\",IF(②選手情報入力!L46=\"\",\"\",IF(K37=1,VLOOKUP(②選手情報入力!L46,種目情報!$A$5:$C$135,3,FALSE),VLOOKUP(②選手情報入力!L46,種目情報!$E$5:$G$135,3,FALSE))))","v":""},{"$f":"IF(E37=\"\",\"\",IF(②選手情報入力!O46=\"\",\"\",IF(K37=1,VLOOKUP(②選手情報入力!O46,種目情報!$A$5:$B$151,2,FALSE),VLOOKUP(②選手情報入力!O46,種目情報!$E$5:$F$135,2,FALSE))))","v":""},{"$f":"IF(E37=\"\",\"\",IF(②選手情報入力!P46=\"\",\"\",②選手情報入力!P46))","v":""},{"$f":"IF(E37=\"\",\"\",IF(②選手情報入力!N46=\"\",\"\",1))","v":""},{"$f":"IF(E37=\"\",\"\",IF(②選手情報入力!O46=\"\",\"\",IF(K37=1,VLOOKUP(②選手情報入力!O46,種目情報!$A$5:$C$135,3,FALSE),VLOOKUP(②選手情報入力!O46,種目情報!$E$5:$G$135,3,FALSE))))","v":""},{"$f":"IF(E37=\"\",\"\",IF(②選手情報入力!R46=\"\",\"\",IF(K37=1,VLOOKUP(②選手情報入力!R46,種目情報!$A$5:$B$151,2,FALSE),VLOOKUP(②選手情報入力!R46,種目情報!$E$5:$F$135,2,FALSE))))","v":""},{"$f":"IF(E37=\"\",\"\",IF(②選手情報入力!S46=\"\",\"\",②選手情報入力!S46))","v":""},{"$f":"IF(E37=\"\",\"\",IF(②選手情報入力!Q46=\"\",\"\",1))","v":""},{"$f":"IF(E37=\"\",\"\",IF(②選手情報入力!R46=\"\",\"\",IF(K37=1,VLOOKUP(②選手情報入力!R46,種目情報!$A$5:$C$135,3,FALSE),VLOOKUP(②選手情報入力!R46,種目情報!$E$5:$G$135,3,FALSE))))","v":""},{"$f":"IF(E37=\"\",\"\",IF(②選手情報入力!T46=\"\",\"\",IF(K37=1,種目情報!$J$4,種目情報!$J$6)))","v":""},{"$f":"IF(E37=\"\",\"\",IF(②選手情報入力!T46=\"\",\"\",IF(K37=1,IF(②選手情報入力!$U$7=\"\",\"\",②選手情報入力!$U$7),IF(②選手情報入力!$U$8=\"\",\"\",②選手情報入力!$U$8))))","v":""},{"$f":"IF(E37=\"\",\"\",IF(②選手情報入力!T46=\"\",\"\",IF(K37=1,IF(②選手情報入力!$T$7=\"\",0,1),IF(②選手情報入力!$T$8=\"\",0,1))))","v":""},{"$f":"IF(E37=\"\",\"\",IF(②選手情報入力!T46=\"\",\"\",2))","v":""},{"$f":"IF(E37=\"\",\"\",IF(②選手情報入力!V46=\"\",\"\",IF(K37=1,種目情報!$J$5,種目情報!$J$7)))","v":""},{"$f":"IF(E37=\"\",\"\",IF(②選手情報入力!V46=\"\",\"\",IF(K37=1,IF(②選手情報入力!$W$7=\"\",\"\",②選手情報入力!$W$7),IF(②選手情報入力!$W$8=\"\",\"\",②選手情報入力!$W$8))))","v":""},{"$f":"IF(E37=\"\",\"\",IF(②選手情報入力!V46=\"\",\"\",IF(K37=1,IF(②選手情報入力!$V$7=\"\",0,1),IF(②選手情報入力!$V$8=\"\",0,1))))","v":""},{"$f":"IF(E37=\"\",\"\",IF(②選手情報入力!V46=\"\",\"\",2))","v":""},null,null,{"$f":"IF(②選手情報入力!F46=\"\",\"\",ASC(②選手情報入力!F46))","v":""},{"$f":"IF(②選手情報入力!F46=\"\",\"\",ASC(②選手情報入力!G46))","v":""}]
["",{"$f":"IF(E38=\"\",\"\",①団体情報入力!$C$5)","v":""},null,{"$f":"IF(E38=\"\",\"\",IF(①団体情報入力!C46=\"\",\"\",①団体情報入力!C46))","v":""},{"$f":"IF(②選手情報入力!C47=\"\",\"\",②選手情報入力!C47)","v":""},{"$f":"IF(E38=\"\",\"\",②選手情報入力!D47)","v":""},{"$f":"IF(E38=\"\",\"\",ASC(②選手情報入力!E47))","v":""},"","",{"$f":"IF(E38=\"\",\"\",IF(②選手情報入力!H47=\"\",\"JPN\",LEFT(②選手情報入力!H47,3)))","v":""},{"$f":"IF(E38=\"\",\"\",IF(②選手情報入力!I47=\"男\",1,2))","v":""},{"$f":"IF(E38=\"\",\"\",IF(②選手情報入力!J47=\"\",\"\",②選手情報入力!J47))","v":""},{"$f":"IF(E38=\"\",\"\",LEFT(②選手情報入力!K47,4))","v":""},{"$f":"IF(E38=\"\",\"\",RIGHT(②選手情報入力!K47,4))","v":""},"",null,{"$f":"IF(E38=\"\",\"\",IF(②選手情報入力!L47=\"\",\"\",IF(K38=1,VLOOKUP(②選手情報入力!L47,種目情報!$A$5:$B$167,2,FALSE),VLOOKUP(②選手情報入力!L47,種目情報!$E$5:$F$142,2,FALSE))))","v":""},{"$f":"IF(E38=\"\",\"\",IF(②選手情報入力!M47=\"\",\"\",②選手情報入力!M47))","v":""},null,{"$f":"IF(E38=\"\",\"\",IF(②選手情報入力!L47=\"\",\"\",IF(K38=1,VLOOKUP(②選手情報入力!L47,種目情報!$A$5:$C$135,3,FALSE),VLOOKUP(②選手情報入力!L47,種目情報!$E$5:$G$135,3,FALSE))))","v":""},{"$f":"IF(E38=\"\",\"\",IF(②選手情報入力!O47=\"\",\"\",IF(K38=1,VLOOKUP(②選手情報入力!O47,種目情報!$A$5:$B$151,2,FALSE),VLOOKUP(②選手情報入力!O47,種目情報!$E$5:$F$135,2,FALSE))))","v":""},{"$f":"IF(E38=\"\",\"\",IF(②選手情報入力!P47=\"\",\"\",②選手情報入力!P47))","v":""},{"$f":"IF(E38=\"\",\"\",IF(②選手情報入力!N47=\"\",\"\",1))","v":""},{"$f":"IF(E38=\"\",\"\",IF(②選手情報入力!O47=\"\",\"\",IF(K38=1,VLOOKUP(②選手情報入力!O47,種目情報!$A$5:$C$135,3,FALSE),VLOOKUP(②選手情報入力!O47,種目情報!$E$5:$G$135,3,FALSE))))","v":""},{"$f":"IF(E38=\"\",\"\",IF(②選手情報入力!R47=\"\",\"\",IF(K38=1,VLOOKUP(②選手情報入力!R47,種目情報!$A$5:$B$151,2,FALSE),VLOOKUP(②選手情報入力!R47,種目情報!$E$5:$F$135,2,FALSE))))","v":""},{"$f":"IF(E38=\"\",\"\",IF(②選手情報入力!S47=\"\",\"\",②選手情報入力!S47))","v":""},{"$f":"IF(E38=\"\",\"\",IF(②選手情報入力!Q47=\"\",\"\",1))","v":""},{"$f":"IF(E38=\"\",\"\",IF(②選手情報入力!R47=\"\",\"\",IF(K38=1,VLOOKUP(②選手情報入力!R47,種目情報!$A$5:$C$135,3,FALSE),VLOOKUP(②選手情報入力!R47,種目情報!$E$5:$G$135,3,FALSE))))","v":""},{"$f":"IF(E38=\"\",\"\",IF(②選手情報入力!T47=\"\",\"\",IF(K38=1,種目情報!$J$4,種目情報!$J$6)))","v":""},{"$f":"IF(E38=\"\",\"\",IF(②選手情報入力!T47=\"\",\"\",IF(K38=1,IF(②選手情報入力!$U$7=\"\",\"\",②選手情報入力!$U$7),IF(②選手情報入力!$U$8=\"\",\"\",②選手情報入力!$U$8))))","v":""},{"$f":"IF(E38=\"\",\"\",IF(②選手情報入力!T47=\"\",\"\",IF(K38=1,IF(②選手情報入力!$T$7=\"\",0,1),IF(②選手情報入力!$T$8=\"\",0,1))))","v":""},{"$f":"IF(E38=\"\",\"\",IF(②選手情報入力!T47=\"\",\"\",2))","v":""},{"$f":"IF(E38=\"\",\"\",IF(②選手情報入力!V47=\"\",\"\",IF(K38=1,種目情報!$J$5,種目情報!$J$7)))","v":""},{"$f":"IF(E38=\"\",\"\",IF(②選手情報入力!V47=\"\",\"\",IF(K38=1,IF(②選手情報入力!$W$7=\"\",\"\",②選手情報入力!$W$7),IF(②選手情報入力!$W$8=\"\",\"\",②選手情報入力!$W$8))))","v":""},{"$f":"IF(E38=\"\",\"\",IF(②選手情報入力!V47=\"\",\"\",IF(K38=1,IF(②選手情報入力!$V$7=\"\",0,1),IF(②選手情報入力!$V$8=\"\",0,1))))","v":""},{"$f":"IF(E38=\"\",\"\",IF(②選手情報入力!V47=\"\",\"\",2))","v":""},null,null,{"$f":"IF(②選手情報入力!F47=\"\",\"\",ASC(②選手情報入力!F47))","v":""},{"$f":"IF(②選手情報入力!F47=\"\",\"\",ASC(②選手情報入力!G47))","v":""}]
["",{"$f":"IF(E39=\"\",\"\",①団体情報入力!$C$5)","v":""},null,{"$f":"IF(E39=\"\",\"\",IF(①団体情報入力!C47=\"\",\"\",①団体情報入力!C47))","v":""},{"$f":"IF(②選手情報入力!C48=\"\",\"\",②選手情報入力!C48)","v":""},{"$f":"IF(E39=\"\",\"\",②選手情報入力!D48)","v":""},{"$f":"IF(E39=\"\",\"\",ASC(②選手情報入力!E48))","v":""},"","",{"$f":"IF(E39=\"\",\"\",IF(②選手情報入力!H48=\"\",\"JPN\",LEFT(②選手情報入力!H48,3)))","v":""},{"$f":"IF(E39=\"\",\"\",IF(②選手情報入力!I48=\"男\",1,2))","v":""},{"$f":"IF(E39=\"\",\"\",IF(②選手情報入力!J48=\"\",\"\",②選手情報入力!J48))","v":""},{"$f":"IF(E39=\"\",\"\",LEFT(②選手情報入力!K48,4))","v":""},{"$f":"IF(E39=\"\",\"\",RIGHT(②選手情報入力!K48,4))","v":""},"",null,{"$f":"IF(E39=\"\",\"\",IF(②選手情報入力!L48=\"\",\"\",IF(K39=1,VLOOKUP(②選手情報入力!L48,種目情報!$A$5:$B$167,2,FALSE),VLOOKUP(②選手情報入力!L48,種目情報!$E$5:$F$142,2,FALSE))))","v":""},{"$f":"IF(E39=\"\",\"\",IF(②選手情報入力!M48=\"\",\"\",②選手情報入力!M48))","v":""},null,{"$f":"IF(E39=\"\",\"\",IF(②選手情報入力!L48=\"\",\"\",IF(K39=1,VLOOKUP(②選手情報入力!L48,種目情報!$A$5:$C$135,3,FALSE),VLOOKUP(②選手情報入力!L48,種目情報!$E$5:$G$135,3,FALSE))))","v":""},{"$f":"IF(E39=\"\",\"\",IF(②選手情報入力!O48=\"\",\"\",IF(K39=1,VLOOKUP(②選手情報入力!O48,種目情報!$A$5:$B$151,2,FALSE),VLOOKUP(②選手情報入力!O48,種目情報!$E$5:$F$135,2,FALSE))))","v":""},{"$f":"IF(E39=\"\",\"\",IF(②選手情報入力!P48=\"\",\"\",②選手情報入力!P48))","v":""},{"$f":"IF(E39=\"\",\"\",IF(②選手情報入力!N48=\"\",\"\",1))","v":""},{"$f":"IF(E39=\"\",\"\",IF(②選手情報入力!O48=\"\",\"\",IF(K39=1,VLOOKUP(②選手情報入力!O48,種目情報!$A$5:$C$135,3,FALSE),VLOOKUP(②選手情報入力!O48,種目情報!$E$5:$G$135,3,FALSE))))","v":""},{"$f":"IF(E39=\"\",\"\",IF(②選手情報入力!R48=\"\",\"\",IF(K39=1,VLOOKUP(②選手情報入力!R48,種目情報!$A$5:$B$151,2,FALSE),VLOOKUP(②選手情報入力!R48,種目情報!$E$5:$F$135,2,FALSE))))","v":""},{"$f":"IF(E39=\"\",\"\",IF(②選手情報入力!S48=\"\",\"\",②選手情報入力!S48))","v":""},{"$f":"IF(E39=\"\",\"\",IF(②選手情報入力!Q48=\"\",\"\",1))","v":""},{"$f":"IF(E39=\"\",\"\",IF(②選手情報入力!R48=\"\",\"\",IF(K39=1,VLOOKUP(②選手情報入力!R48,種目情報!$A$5:$C$135,3,FALSE),VLOOKUP(②選手情報入力!R48,種目情報!$E$5:$G$135,3,FALSE))))","v":""},{"$f":"IF(E39=\"\",\"\",IF(②選手情報入力!T48=\"\",\"\",IF(K39=1,種目情報!$J$4,種目情報!$J$6)))","v":""},{"$f":"IF(E39=\"\",\"\",IF(②選手情報入力!T48=\"\",\"\",IF(K39=1,IF(②選手情報入力!$U$7=\"\",\"\",②選手情報入力!$U$7),IF(②選手情報入力!$U$8=\"\",\"\",②選手情報入力!$U$8))))","v":""},{"$f":"IF(E39=\"\",\"\",IF(②選手情報入力!T48=\"\",\"\",IF(K39=1,IF(②選手情報入力!$T$7=\"\",0,1),IF(②選手情報入力!$T$8=\"\",0,1))))","v":""},{"$f":"IF(E39=\"\",\"\",IF(②選手情報入力!T48=\"\",\"\",2))","v":""},{"$f":"IF(E39=\"\",\"\",IF(②選手情報入力!V48=\"\",\"\",IF(K39=1,種目情報!$J$5,種目情報!$J$7)))","v":""},{"$f":"IF(E39=\"\",\"\",IF(②選手情報入力!V48=\"\",\"\",IF(K39=1,IF(②選手情報入力!$W$7=\"\",\"\",②選手情報入力!$W$7),IF(②選手情報入力!$W$8=\"\",\"\",②選手情報入力!$W$8))))","v":""},{"$f":"IF(E39=\"\",\"\",IF(②選手情報入力!V48=\"\",\"\",IF(K39=1,IF(②選手情報入力!$V$7=\"\",0,1),IF(②選手情報入力!$V$8=\"\",0,1))))","v":""},{"$f":"IF(E39=\"\",\"\",IF(②選手情報入力!V48=\"\",\"\",2))","v":""},null,null,{"$f":"IF(②選手情報入力!F48=\"\",\"\",ASC(②選手情報入力!F48))","v":""},{"$f":"IF(②選手情報入力!F48=\"\",\"\",ASC(②選手情報入力!G48))","v":""}]
["",{"$f":"IF(E40=\"\",\"\",①団体情報入力!$C$5)","v":""},null,{"$f":"IF(E40=\"\",\"\",IF(①団体情報入力!C48=\"\",\"\",①団体情報入力!C48))","v":""},{"$f":"IF(②選手情報入力!C49=\"\",\"\",②選手情報入力!C49)","v":""},{"$f":"IF(E40=\"\",\"\",②選手情報入力!D49)","v":""},{"$f":"IF(E40=\"\",\"\",ASC(②選手情報入力!E49))","v":""},"","",{"$f":"IF(E40=\"\",\"\",IF(②選手情報入力!H49=\"\",\"JPN\",LEFT(②選手情報入力!H49,3)))","v":""},{"$f":"IF(E40=\"\",\"\",IF(②選手情報入力!I49=\"男\",1,2))","v":""},{"$f":"IF(E40=\"\",\"\",IF(②選手情報入力!J49=\"\",\"\",②選手情報入力!J49))","v":""},{"$f":"IF(E40=\"\",\"\",LEFT(②選手情報入力!K49,4))","v":""},{"$f":"IF(E40=\"\",\"\",RIGHT(②選手情報入力!K49,4))","v":""},"",null,{"$f":"IF(E40=\"\",\"\",IF(②選手情報入力!L49=\"\",\"\",IF(K40=1,VLOOKUP(②選手情報入力!L49,種目情報!$A$5:$B$167,2,FALSE),VLOOKUP(②選手情報入力!L49,種目情報!$E$5:$F$142,2,FALSE))))","v":""},{"$f":"IF(E40=\"\",\"\",IF(②選手情報入力!M49=\"\",\"\",②選手情報入力!M49))","v":""},null,{"$f":"IF(E40=\"\",\"\",IF(②選手情報入力!L49=\"\",\"\",IF(K40=1,VLOOKUP(②選手情報入力!L49,種目情報!$A$5:$C$135,3,FALSE),VLOOKUP(②選手情報入力!L49,種目情報!$E$5:$G$135,3,FALSE))))","v":""},{"$f":"IF(E40=\"\",\"\",IF(②選手情報入力!O49=\"\",\"\",IF(K40=1,VLOOKUP(②選手情報入力!O49,種目情報!$A$5:$B$151,2,FALSE),VLOOKUP(②選手情報入力!O49,種目情報!$E$5:$F$135,2,FALSE))))","v":""},{"$f":"IF(E40=\"\",\"\",IF(②選手情報入力!P49=\"\",\"\",②選手情報入力!P49))","v":""},{"$f":"IF(E40=\"\",\"\",IF(②選手情報入力!N49=\"\",\"\",1))","v":""},{"$f":"IF(E40=\"\",\"\",IF(②選手情報入力!O49=\"\",\"\",IF(K40=1,VLOOKUP(②選手情報入力!O49,種目情報!$A$5:$C$135,3,FALSE),VLOOKUP(②選手情報入力!O49,種目情報!$E$5:$G$135,3,FALSE))))","v":""},{"$f":"IF(E40=\"\",\"\",IF(②選手情報入力!R49=\"\",\"\",IF(K40=1,VLOOKUP(②選手情報入力!R49,種目情報!$A$5:$B$151,2,FALSE),VLOOKUP(②選手情報入力!R49,種目情報!$E$5:$F$135,2,FALSE))))","v":""},{"$f":"IF(E40=\"\",\"\",IF(②選手情報入力!S49=\"\",\"\",②選手情報入力!S49))","v":""},{"$f":"IF(E40=\"\",\"\",IF(②選手情報入力!Q49=\"\",\"\",1))","v":""},{"$f":"IF(E40=\"\",\"\",IF(②選手情報入力!R49=\"\",\"\",IF(K40=1,VLOOKUP(②選手情報入力!R49,種目情報!$A$5:$C$135,3,FALSE),VLOOKUP(②選手情報入力!R49,種目情報!$E$5:$G$135,3,FALSE))))","v":""},{"$f":"IF(E40=\"\",\"\",IF(②選手情報入力!T49=\"\",\"\",IF(K40=1,種目情報!$J$4,種目情報!$J$6)))","v":""},{"$f":"IF(E40=\"\",\"\",IF(②選手情報入力!T49=\"\",\"\",IF(K40=1,IF(②選手情報入力!$U$7=\"\",\"\",②選手情報入力!$U$7),IF(②選手情報入力!$U$8=\"\",\"\",②選手情報入力!$U$8))))","v":""},{"$f":"IF(E40=\"\",\"\",IF(②選手情報入力!T49=\"\",\"\",IF(K40=1,IF(②選手情報入力!$T$7=\"\",0,1),IF(②選手情報入力!$T$8=\"\",0,1))))","v":""},{"$f":"IF(E40=\"\",\"\",IF(②選手情報入力!T49=\"\",\"\",2))","v":""},{"$f":"IF(E40=\"\",\"\",IF(②選手情報入力!V49=\"\",\"\",IF(K40=1,種目情報!$J$5,種目情報!$J$7)))","v":""},{"$f":"IF(E40=\"\",\"\",IF(②選手情報入力!V49=\"\",\"\",IF(K40=1,IF(②選手情報入力!$W$7=\"\",\"\",②選手情報入力!$W$7),IF(②選手情報入力!$W$8=\"\",\"\",②選手情報入力!$W$8))))","v":""},{"$f":"IF(E40=\"\",\"\",IF(②選手情報入力!V49=\"\",\"\",IF(K40=1,IF(②選手情報入力!$V$7=\"\",0,1),IF(②選手情報入力!$V$8=\"\",0,1))))","v":""},{"$f":"IF(E40=\"\",\"\",IF(②選手情報入力!V49=\"\",\"\",2))","v":""},null,null,{"$f":"IF(②選手情報入力!F49=\"\",\"\",ASC(②選手情報入力!F49))","v":""},{"$f":"IF(②選手情報入力!F49=\"\",\"\",ASC(②選手情報入力!G49))","v":""}]
["",{"$f":"IF(E41=\"\",\"\",①団体情報入力!$C$5)","v":""},null,{"$f":"IF(E41=\"\",\"\",IF(①団体情報入力!C49=\"\",\"\",①団体情報入力!C49))","v":""},{"$f":"IF(②選手情報入力!C50=\"\",\"\",②選手情報入力!C50)","v":""},{"$f":"IF(E41=\"\",\"\",②選手情報入力!D50)","v":""},{"$f":"IF(E41=\"\",\"\",ASC(②選手情報入力!E50))","v":""},"","",{"$f":"IF(E41=\"\",\"\",IF(②選手情報入力!H50=\"\",\"JPN\",LEFT(②選手情報入力!H50,3)))","v":""},{"$f":"IF(E41=\"\",\"\",IF(②選手情報入力!I50=\"男\",1,2))","v":""},{"$f":"IF(E41=\"\",\"\",IF(②選手情報入力!J50=\"\",\"\",②選手情報入力!J50))","v":""},{"$f":"IF(E41=\"\",\"\",LEFT(②選手情報入力!K50,4))","v":""},{"$f":"IF(E41=\"\",\"\",RIGHT(②選手情報入力!K50,4))","v":""},"",null,{"$f":"IF(E41=\"\",\"\",IF(②選手情報入力!L50=\"\",\"\",IF(K41=1,VLOOKUP(②選手情報入力!L50,種目情報!$A$5:$B$167,2,FALSE),VLOOKUP(②選手情報入力!L50,種目情報!$E$5:$F$142,2,FALSE))))","v":""},{"$f":"IF(E41=\"\",\"\",IF(②選手情報入力!M50=\"\",\"\",②選手情報入力!M50))","v":""},null,{"$f":"IF(E41=\"\",\"\",IF(②選手情報入力!L50=\"\",\"\",IF(K41=1,VLOOKUP(②選手情報入力!L50,種目情報!$A$5:$C$135,3,FALSE),VLOOKUP(②選手情報入力!L50,種目情報!$E$5:$G$135,3,FALSE))))","v":""},{"$f":"IF(E41=\"\",\"\",IF(②選手情報入力!O50=\"\",\"\",IF(K41=1,VLOOKUP(②選手情報入力!O50,種目情報!$A$5:$B$151,2,FALSE),VLOOKUP(②選手情報入力!O50,種目情報!$E$5:$F$135,2,FALSE))))","v":""},{"$f":"IF(E41=\"\",\"\",IF(②選手情報入力!P50=\"\",\"\",②選手情報入力!P50))","v":""},{"$f":"IF(E41=\"\",\"\",IF(②選手情報入力!N50=\"\",\"\",1))","v":""},{"$f":"IF(E41=\"\",\"\",IF(②選手情報入力!O50=\"\",\"\",IF(K41=1,VLOOKUP(②選手情報入力!O50,種目情報!$A$5:$C$135,3,FALSE),VLOOKUP(②選手情報入力!O50,種目情報!$E$5:$G$135,3,FALSE))))","v":""},{"$f":"IF(E41=\"\",\"\",IF(②選手情報入力!R50=\"\",\"\",IF(K41=1,VLOOKUP(②選手情報入力!R50,種目情報!$A$5:$B$151,2,FALSE),VLOOKUP(②選手情報入力!R50,種目情報!$E$5:$F$135,2,FALSE))))","v":""},{"$f":"IF(E41=\"\",\"\",IF(②選手情報入力!S50=\"\",\"\",②選手情報入力!S50))","v":""},{"$f":"IF(E41=\"\",\"\",IF(②選手情報入力!Q50=\"\",\"\",1))","v":""},{"$f":"IF(E41=\"\",\"\",IF(②選手情報入力!R50=\"\",\"\",IF(K41=1,VLOOKUP(②選手情報入力!R50,種目情報!$A$5:$C$135,3,FALSE),VLOOKUP(②選手情報入力!R50,種目情報!$E$5:$G$135,3,FALSE))))","v":""},{"$f":"IF(E41=\"\",\"\",IF(②選手情報入力!T50=\"\",\"\",IF(K41=1,種目情報!$J$4,種目情報!$J$6)))","v":""},{"$f":"IF(E41=\"\",\"\",IF(②選手情報入力!T50=\"\",\"\",IF(K41=1,IF(②選手情報入力!$U$7=\"\",\"\",②選手情報入力!$U$7),IF(②選手情報入力!$U$8=\"\",\"\",②選手情報入力!$U$8))))","v":""},{"$f":"IF(E41=\"\",\"\",IF(②選手情報入力!T50=\"\",\"\",IF(K41=1,IF(②選手情報入力!$T$7=\"\",0,1),IF(②選手情報入力!$T$8=\"\",0,1))))","v":""},{"$f":"IF(E41=\"\",\"\",IF(②選手情報入力!T50=\"\",\"\",2))","v":""},{"$f":"IF(E41=\"\",\"\",IF(②選手情報入力!V50=\"\",\"\",IF(K41=1,種目情報!$J$5,種目情報!$J$7)))","v":""},{"$f":"IF(E41=\"\",\"\",IF(②選手情報入力!V50=\"\",\"\",IF(K41=1,IF(②選手情報入力!$W$7=\"\",\"\",②選手情報入力!$W$7),IF(②選手情報入力!$W$8=\"\",\"\",②選手情報入力!$W$8))))","v":""},{"$f":"IF(E41=\"\",\"\",IF(②選手情報入力!V50=\"\",\"\",IF(K41=1,IF(②選手情報入力!$V$7=\"\",0,1),IF(②選手情報入力!$V$8=\"\",0,1))))","v":""},{"$f":"IF(E41=\"\",\"\",IF(②選手情報入力!V50=\"\",\"\",2))","v":""},null,null,{"$f":"IF(②選手情報入力!F50=\"\",\"\",ASC(②選手情報入力!F50))","v":""},{"$f":"IF(②選手情報入力!F50=\"\",\"\",ASC(②選手情報入力!G50))","v":""}]
["",{"$f":"IF(E42=\"\",\"\",①団体情報入力!$C$5)","v":""},null,{"$f":"IF(E42=\"\",\"\",IF(①団体情報入力!C50=\"\",\"\",①団体情報入力!C50))","v":""},{"$f":"IF(②選手情報入力!C51=\"\",\"\",②選手情報入力!C51)","v":""},{"$f":"IF(E42=\"\",\"\",②選手情報入力!D51)","v":""},{"$f":"IF(E42=\"\",\"\",ASC(②選手情報入力!E51))","v":""},"","",{"$f":"IF(E42=\"\",\"\",IF(②選手情報入力!H51=\"\",\"JPN\",LEFT(②選手情報入力!H51,3)))","v":""},{"$f":"IF(E42=\"\",\"\",IF(②選手情報入力!I51=\"男\",1,2))","v":""},{"$f":"IF(E42=\"\",\"\",IF(②選手情報入力!J51=\"\",\"\",②選手情報入力!J51))","v":""},{"$f":"IF(E42=\"\",\"\",LEFT(②選手情報入力!K51,4))","v":""},{"$f":"IF(E42=\"\",\"\",RIGHT(②選手情報入力!K51,4))","v":""},"",null,{"$f":"IF(E42=\"\",\"\",IF(②選手情報入力!L51=\"\",\"\",IF(K42=1,VLOOKUP(②選手情報入力!L51,種目情報!$A$5:$B$167,2,FALSE),VLOOKUP(②選手情報入力!L51,種目情報!$E$5:$F$142,2,FALSE))))","v":""},{"$f":"IF(E42=\"\",\"\",IF(②選手情報入力!M51=\"\",\"\",②選手情報入力!M51))","v":""},null,{"$f":"IF(E42=\"\",\"\",IF(②選手情報入力!L51=\"\",\"\",IF(K42=1,VLOOKUP(②選手情報入力!L51,種目情報!$A$5:$C$135,3,FALSE),VLOOKUP(②選手情報入力!L51,種目情報!$E$5:$G$135,3,FALSE))))","v":""},{"$f":"IF(E42=\"\",\"\",IF(②選手情報入力!O51=\"\",\"\",IF(K42=1,VLOOKUP(②選手情報入力!O51,種目情報!$A$5:$B$151,2,FALSE),VLOOKUP(②選手情報入力!O51,種目情報!$E$5:$F$135,2,FALSE))))","v":""},{"$f":"IF(E42=\"\",\"\",IF(②選手情報入力!P51=\"\",\"\",②選手情報入力!P51))","v":""},{"$f":"IF(E42=\"\",\"\",IF(②選手情報入力!N51=\"\",\"\",1))","v":""},{"$f":"IF(E42=\"\",\"\",IF(②選手情報入力!O51=\"\",\"\",IF(K42=1,VLOOKUP(②選手情報入力!O51,種目情報!$A$5:$C$135,3,FALSE),VLOOKUP(②選手情報入力!O51,種目情報!$E$5:$G$135,3,FALSE))))","v":""},{"$f":"IF(E42=\"\",\"\",IF(②選手情報入力!R51=\"\",\"\",IF(K42=1,VLOOKUP(②選手情報入力!R51,種目情報!$A$5:$B$151,2,FALSE),VLOOKUP(②選手情報入力!R51,種目情報!$E$5:$F$135,2,FALSE))))","v":""},{"$f":"IF(E42=\"\",\"\",IF(②選手情報入力!S51=\"\",\"\",②選手情報入力!S51))","v":""},{"$f":"IF(E42=\"\",\"\",IF(②選手情報入力!Q51=\"\",\"\",1))","v":""},{"$f":"IF(E42=\"\",\"\",IF(②選手情報入力!R51=\"\",\"\",IF(K42=1,VLOOKUP(②選手情報入力!R51,種目情報!$A$5:$C$135,3,FALSE),VLOOKUP(②選手情報入力!R51,種目情報!$E$5:$G$135,3,FALSE))))","v":""},{"$f":"IF(E42=\"\",\"\",IF(②選手情報入力!T51=\"\",\"\",IF(K42=1,種目情報!$J$4,種目情報!$J$6)))","v":""},{"$f":"IF(E42=\"\",\"\",IF(②選手情報入力!T51=\"\",\"\",IF(K42=1,IF(②選手情報入力!$U$7=\"\",\"\",②選手情報入力!$U$7),IF(②選手情報入力!$U$8=\"\",\"\",②選手情報入力!$U$8))))","v":""},{"$f":"IF(E42=\"\",\"\",IF(②選手情報入力!T51=\"\",\"\",IF(K42=1,IF(②選手情報入力!$T$7=\"\",0,1),IF(②選手情報入力!$T$8=\"\",0,1))))","v":""},{"$f":"IF(E42=\"\",\"\",IF(②選手情報入力!T51=\"\",\"\",2))","v":""},{"$f":"IF(E42=\"\",\"\",IF(②選手情報入力!V51=\"\",\"\",IF(K42=1,種目情報!$J$5,種目情報!$J$7)))","v":""},{"$f":"IF(E42=\"\",\"\",IF(②選手情報入力!V51=\"\",\"\",IF(K42=1,IF(②選手情報入力!$W$7=\"\",\"\",②選手情報入力!$W$7),IF(②選手情報入力!$W$8=\"\",\"\",②選手情報入力!$W$8))))","v":""},{"$f":"IF(E42=\"\",\"\",IF(②選手情報入力!V51=\"\",\"\",IF(K42=1,IF(②選手情報入力!$V$7=\"\",0,1),IF(②選手情報入力!$V$8=\"\",0,1))))","v":""},{"$f":"IF(E42=\"\",\"\",IF(②選手情報入力!V51=\"\",\"\",2))","v":""},null,null,{"$f":"IF(②選手情報入力!F51=\"\",\"\",ASC(②選手情報入力!F51))","v":""},{"$f":"IF(②選手情報入力!F51=\"\",\"\",ASC(②選手情報入力!G51))","v":""}]
["",{"$f":"IF(E43=\"\",\"\",①団体情報入力!$C$5)","v":""},null,{"$f":"IF(E43=\"\",\"\",IF(①団体情報入力!C51=\"\",\"\",①団体情報入力!C51))","v":""},{"$f":"IF(②選手情報入力!C52=\"\",\"\",②選手情報入力!C52)","v":""},{"$f":"IF(E43=\"\",\"\",②選手情報入力!D52)","v":""},{"$f":"IF(E43=\"\",\"\",ASC(②選手情報入力!E52))","v":""},"","",{"$f":"IF(E43=\"\",\"\",IF(②選手情報入力!H52=\"\",\"JPN\",LEFT(②選手情報入力!H52,3)))","v":""},{"$f":"IF(E43=\"\",\"\",IF(②選手情報入力!I52=\"男\",1,2))","v":""},{"$f":"IF(E43=\"\",\"\",IF(②選手情報入力!J52=\"\",\"\",②選手情報入力!J52))","v":""},{"$f":"IF(E43=\"\",\"\",LEFT(②選手情報入力!K52,4))","v":""},{"$f":"IF(E43=\"\",\"\",RIGHT(②選手情報入力!K52,4))","v":""},"",null,{"$f":"IF(E43=\"\",\"\",IF(②選手情報入力!L52=\"\",\"\",IF(K43=1,VLOOKUP(②選手情報入力!L52,種目情報!$A$5:$B$167,2,FALSE),VLOOKUP(②選手情報入力!L52,種目情報!$E$5:$F$142,2,FALSE))))","v":""},{"$f":"IF(E43=\"\",\"\",IF(②選手情報入力!M52=\"\",\"\",②選手情報入力!M52))","v":""},null,{"$f":"IF(E43=\"\",\"\",IF(②選手情報入力!L52=\"\",\"\",IF(K43=1,VLOOKUP(②選手情報入力!L52,種目情報!$A$5:$C$135,3,FALSE),VLOOKUP(②選手情報入力!L52,種目情報!$E$5:$G$135,3,FALSE))))","v":""},{"$f":"IF(E43=\"\",\"\",IF(②選手情報入力!O52=\"\",\"\",IF(K43=1,VLOOKUP(②選手情報入力!O52,種目情報!$A$5:$B$151,2,FALSE),VLOOKUP(②選手情報入力!O52,種目情報!$E$5:$F$135,2,FALSE))))","v":""},{"$f":"IF(E43=\"\",\"\",IF(②選手情報入力!P52=\"\",\"\",②選手情報入力!P52))","v":""},{"$f":"IF(E43=\"\",\"\",IF(②選手情報入力!N52=\"\",\"\",1))","v":""},{"$f":"IF(E43=\"\",\"\",IF(②選手情報入力!O52=\"\",\"\",IF(K43=1,VLOOKUP(②選手情報入力!O52,種目情報!$A$5:$C$135,3,FALSE),VLOOKUP(②選手情報入力!O52,種目情報!$E$5:$G$135,3,FALSE))))","v":""},{"$f":"IF(E43=\"\",\"\",IF(②選手情報入力!R52=\"\",\"\",IF(K43=1,VLOOKUP(②選手情報入力!R52,種目情報!$A$5:$B$151,2,FALSE),VLOOKUP(②選手情報入力!R52,種目情報!$E$5:$F$135,2,FALSE))))","v":""},{"$f":"IF(E43=\"\",\"\",IF(②選手情報入力!S52=\"\",\"\",②選手情報入力!S52))","v":""},{"$f":"IF(E43=\"\",\"\",IF(②選手情報入力!Q52=\"\",\"\",1))","v":""},{"$f":"IF(E43=\"\",\"\",IF(②選手情報入力!R52=\"\",\"\",IF(K43=1,VLOOKUP(②選手情報入力!R52,種目情報!$A$5:$C$135,3,FALSE),VLOOKUP(②選手情報入力!R52,種目情報!$E$5:$G$135,3,FALSE))))","v":""},{"$f":"IF(E43=\"\",\"\",IF(②選手情報入力!T52=\"\",\"\",IF(K43=1,種目情報!$J$4,種目情報!$J$6)))","v":""},{"$f":"IF(E43=\"\",\"\",IF(②選手情報入力!T52=\"\",\"\",IF(K43=1,IF(②選手情報入力!$U$7=\"\",\"\",②選手情報入力!$U$7),IF(②選手情報入力!$U$8=\"\",\"\",②選手情報入力!$U$8))))","v":""},{"$f":"IF(E43=\"\",\"\",IF(②選手情報入力!T52=\"\",\"\",IF(K43=1,IF(②選手情報入力!$T$7=\"\",0,1),IF(②選手情報入力!$T$8=\"\",0,1))))","v":""},{"$f":"IF(E43=\"\",\"\",IF(②選手情報入力!T52=\"\",\"\",2))","v":""},{"$f":"IF(E43=\"\",\"\",IF(②選手情報入力!V52=\"\",\"\",IF(K43=1,種目情報!$J$5,種目情報!$J$7)))","v":""},{"$f":"IF(E43=\"\",\"\",IF(②選手情報入力!V52=\"\",\"\",IF(K43=1,IF(②選手情報入力!$W$7=\"\",\"\",②選手情報入力!$W$7),IF(②選手情報入力!$W$8=\"\",\"\",②選手情報入力!$W$8))))","v":""},{"$f":"IF(E43=\"\",\"\",IF(②選手情報入力!V52=\"\",\"\",IF(K43=1,IF(②選手情報入力!$V$7=\"\",0,1),IF(②選手情報入力!$V$8=\"\",0,1))))","v":""},{"$f":"IF(E43=\"\",\"\",IF(②選手情報入力!V52=\"\",\"\",2))","v":""},null,null,{"$f":"IF(②選手情報入力!F52=\"\",\"\",ASC(②選手情報入力!F52))","v":""},{"$f":"IF(②選手情報入力!F52=\"\",\"\",ASC(②選手情報入力!G52))","v":""}]
["",{"$f":"IF(E44=\"\",\"\",①団体情報入力!$C$5)","v":""},null,{"$f":"IF(E44=\"\",\"\",IF(①団体情報入力!C52=\"\",\"\",①団体情報入力!C52))","v":""},{"$f":"IF(②選手情報入力!C53=\"\",\"\",②選手情報入力!C53)","v":""},{"$f":"IF(E44=\"\",\"\",②選手情報入力!D53)","v":""},{"$f":"IF(E44=\"\",\"\",ASC(②選手情報入力!E53))","v":""},"","",{"$f":"IF(E44=\"\",\"\",IF(②選手情報入力!H53=\"\",\"JPN\",LEFT(②選手情報入力!H53,3)))","v":""},{"$f":"IF(E44=\"\",\"\",IF(②選手情報入力!I53=\"男\",1,2))","v":""},{"$f":"IF(E44=\"\",\"\",IF(②選手情報入力!J53=\"\",\"\",②選手情報入力!J53))","v":""},{"$f":"IF(E44=\"\",\"\",LEFT(②選手情報入力!K53,4))","v":""},{"$f":"IF(E44=\"\",\"\",RIGHT(②選手情報入力!K53,4))","v":""},"",null,{"$f":"IF(E44=\"\",\"\",IF(②選手情報入力!L53=\"\",\"\",IF(K44=1,VLOOKUP(②選手情報入力!L53,種目情報!$A$5:$B$167,2,FALSE),VLOOKUP(②選手情報入力!L53,種目情報!$E$5:$F$142,2,FALSE))))","v":""},{"$f":"IF(E44=\"\",\"\",IF(②選手情報入力!M53=\"\",\"\",②選手情報入力!M53))","v":""},null,{"$f":"IF(E44=\"\",\"\",IF(②選手情報入力!L53=\"\",\"\",IF(K44=1,VLOOKUP(②選手情報入力!L53,種目情報!$A$5:$C$135,3,FALSE),VLOOKUP(②選手情報入力!L53,種目情報!$E$5:$G$135,3,FALSE))))","v":""},{"$f":"IF(E44=\"\",\"\",IF(②選手情報入力!O53=\"\",\"\",IF(K44=1,VLOOKUP(②選手情報入力!O53,種目情報!$A$5:$B$151,2,FALSE),VLOOKUP(②選手情報入力!O53,種目情報!$E$5:$F$135,2,FALSE))))","v":""},{"$f":"IF(E44=\"\",\"\",IF(②選手情報入力!P53=\"\",\"\",②選手情報入力!P53))","v":""},{"$f":"IF(E44=\"\",\"\",IF(②選手情報入力!N53=\"\",\"\",1))","v":""},{"$f":"IF(E44=\"\",\"\",IF(②選手情報入力!O53=\"\",\"\",IF(K44=1,VLOOKUP(②選手情報入力!O53,種目情報!$A$5:$C$135,3,FALSE),VLOOKUP(②選手情報入力!O53,種目情報!$E$5:$G$135,3,FALSE))))","v":""},{"$f":"IF(E44=\"\",\"\",IF(②選手情報入力!R53=\"\",\"\",IF(K44=1,VLOOKUP(②選手情報入力!R53,種目情報!$A$5:$B$151,2,FALSE),VLOOKUP(②選手情報入力!R53,種目情報!$E$5:$F$135,2,FALSE))))","v":""},{"$f":"IF(E44=\"\",\"\",IF(②選手情報入力!S53=\"\",\"\",②選手情報入力!S53))","v":""},{"$f":"IF(E44=\"\",\"\",IF(②選手情報入力!Q53=\"\",\"\",1))","v":""},{"$f":"IF(E44=\"\",\"\",IF(②選手情報入力!R53=\"\",\"\",IF(K44=1,VLOOKUP(②選手情報入力!R53,種目情報!$A$5:$C$135,3,FALSE),VLOOKUP(②選手情報入力!R53,種目情報!$E$5:$G$135,3,FALSE))))","v":""},{"$f":"IF(E44=\"\",\"\",IF(②選手情報入力!T53=\"\",\"\",IF(K44=1,種目情報!$J$4,種目情報!$J$6)))","v":""},{"$f":"IF(E44=\"\",\"\",IF(②選手情報入力!T53=\"\",\"\",IF(K44=1,IF(②選手情報入力!$U$7=\"\",\"\",②選手情報入力!$U$7),IF(②選手情報入力!$U$8=\"\",\"\",②選手情報入力!$U$8))))","v":""},{"$f":"IF(E44=\"\",\"\",IF(②選手情報入力!T53=\"\",\"\",IF(K44=1,IF(②選手情報入力!$T$7=\"\",0,1),IF(②選手情報入力!$T$8=\"\",0,1))))","v":""},{"$f":"IF(E44=\"\",\"\",IF(②選手情報入力!T53=\"\",\"\",2))","v":""},{"$f":"IF(E44=\"\",\"\",IF(②選手情報入力!V53=\"\",\"\",IF(K44=1,種目情報!$J$5,種目情報!$J$7)))","v":""},{"$f":"IF(E44=\"\",\"\",IF(②選手情報入力!V53=\"\",\"\",IF(K44=1,IF(②選手情報入力!$W$7=\"\",\"\",②選手情報入力!$W$7),IF(②選手情報入力!$W$8=\"\",\"\",②選手情報入力!$W$8))))","v":""},{"$f":"IF(E44=\"\",\"\",IF(②選手情報入力!V53=\"\",\"\",IF(K44=1,IF(②選手情報入力!$V$7=\"\",0,1),IF(②選手情報入力!$V$8=\"\",0,1))))","v":""},{"$f":"IF(E44=\"\",\"\",IF(②選手情報入力!V53=\"\",\"\",2))","v":""},null,null,{"$f":"IF(②選手情報入力!F53=\"\",\"\",ASC(②選手情報入力!F53))","v":""},{"$f":"IF(②選手情報入力!F53=\"\",\"\",ASC(②選手情報入力!G53))","v":""}]
["",{"$f":"IF(E45=\"\",\"\",①団体情報入力!$C$5)","v":""},null,{"$f":"IF(E45=\"\",\"\",IF(①団体情報入力!C53=\"\",\"\",①団体情報入力!C53))","v":""},{"$f":"IF(②選手情報入力!C54=\"\",\"\",②選手情報入力!C54)","v":""},{"$f":"IF(E45=\"\",\"\",②選手情報入力!D54)","v":""},{"$f":"IF(E45=\"\",\"\",ASC(②選手情報入力!E54))","v":""},"","",{"$f":"IF(E45=\"\",\"\",IF(②選手情報入力!H54=\"\",\"JPN\",LEFT(②選手情報入力!H54,3)))","v":""},{"$f":"IF(E45=\"\",\"\",IF(②選手情報入力!I54=\"男\",1,2))","v":""},{"$f":"IF(E45=\"\",\"\",IF(②選手情報入力!J54=\"\",\"\",②選手情報入力!J54))","v":""},{"$f":"IF(E45=\"\",\"\",LEFT(②選手情報入力!K54,4))","v":""},{"$f":"IF(E45=\"\",\"\",RIGHT(②選手情報入力!K54,4))","v":""},"",null,{"$f":"IF(E45=\"\",\"\",IF(②選手情報入力!L54=\"\",\"\",IF(K45=1,VLOOKUP(②選手情報入力!L54,種目情報!$A$5:$B$167,2,FALSE),VLOOKUP(②選手情報入力!L54,種目情報!$E$5:$F$142,2,FALSE))))","v":""},{"$f":"IF(E45=\"\",\"\",IF(②選手情報入力!M54=\"\",\"\",②選手情報入力!M54))","v":""},null,{"$f":"IF(E45=\"\",\"\",IF(②選手情報入力!L54=\"\",\"\",IF(K45=1,VLOOKUP(②選手情報入力!L54,種目情報!$A$5:$C$135,3,FALSE),VLOOKUP(②選手情報入力!L54,種目情報!$E$5:$G$135,3,FALSE))))","v":""},{"$f":"IF(E45=\"\",\"\",IF(②選手情報入力!O54=\"\",\"\",IF(K45=1,VLOOKUP(②選手情報入力!O54,種目情報!$A$5:$B$151,2,FALSE),VLOOKUP(②選手情報入力!O54,種目情報!$E$5:$F$135,2,FALSE))))","v":""},{"$f":"IF(E45=\"\",\"\",IF(②選手情報入力!P54=\"\",\"\",②選手情報入力!P54))","v":""},{"$f":"IF(E45=\"\",\"\",IF(②選手情報入力!N54=\"\",\"\",1))","v":""},{"$f":"IF(E45=\"\",\"\",IF(②選手情報入力!O54=\"\",\"\",IF(K45=1,VLOOKUP(②選手情報入力!O54,種目情報!$A$5:$C$135,3,FALSE),VLOOKUP(②選手情報入力!O54,種目情報!$E$5:$G$135,3,FALSE))))","v":""},{"$f":"IF(E45=\"\",\"\",IF(②選手情報入力!R54=\"\",\"\",IF(K45=1,VLOOKUP(②選手情報入力!R54,種目情報!$A$5:$B$151,2,FALSE),VLOOKUP(②選手情報入力!R54,種目情報!$E$5:$F$135,2,FALSE))))","v":""},{"$f":"IF(E45=\"\",\"\",IF(②選手情報入力!S54=\"\",\"\",②選手情報入力!S54))","v":""},{"$f":"IF(E45=\"\",\"\",IF(②選手情報入力!Q54=\"\",\"\",1))","v":""},{"$f":"IF(E45=\"\",\"\",IF(②選手情報入力!R54=\"\",\"\",IF(K45=1,VLOOKUP(②選手情報入力!R54,種目情報!$A$5:$C$135,3,FALSE),VLOOKUP(②選手情報入力!R54,種目情報!$E$5:$G$135,3,FALSE))))","v":""},{"$f":"IF(E45=\"\",\"\",IF(②選手情報入力!T54=\"\",\"\",IF(K45=1,種目情報!$J$4,種目情報!$J$6)))","v":""},{"$f":"IF(E45=\"\",\"\",IF(②選手情報入力!T54=\"\",\"\",IF(K45=1,IF(②選手情報入力!$U$7=\"\",\"\",②選手情報入力!$U$7),IF(②選手情報入力!$U$8=\"\",\"\",②選手情報入力!$U$8))))","v":""},{"$f":"IF(E45=\"\",\"\",IF(②選手情報入力!T54=\"\",\"\",IF(K45=1,IF(②選手情報入力!$T$7=\"\",0,1),IF(②選手情報入力!$T$8=\"\",0,1))))","v":""},{"$f":"IF(E45=\"\",\"\",IF(②選手情報入力!T54=\"\",\"\",2))","v":""},{"$f":"IF(E45=\"\",\"\",IF(②選手情報入力!V54=\"\",\"\",IF(K45=1,種目情報!$J$5,種目情報!$J$7)))","v":""},{"$f":"IF(E45=\"\",\"\",IF(②選手情報入力!V54=\"\",\"\",IF(K45=1,IF(②選手情報入力!$W$7=\"\",\"\",②選手情報入力!$W$7),IF(②選手情報入力!$W$8=\"\",\"\",②選手情報入力!$W$8))))","v":""},{"$f":"IF(E45=\"\",\"\",IF(②選手情報入力!V54=\"\",\"\",IF(K45=1,IF(②選手情報入力!$V$7=\"\",0,1),IF(②選手情報入力!$V$8=\"\",0,1))))","v":""},{"$f":"IF(E45=\"\",\"\",IF(②選手情報入力!V54=\"\",\"\",2))","v":""},null,null,{"$f":"IF(②選手情報入力!F54=\"\",\"\",ASC(②選手情報入力!F54))","v":""},{"$f":"IF(②選手情報入力!F54=\"\",\"\",ASC(②選手情報入力!G54))","v":""}]
["",{"$f":"IF(E46=\"\",\"\",①団体情報入力!$C$5)","v":""},null,{"$f":"IF(E46=\"\",\"\",IF(①団体情報入力!C54=\"\",\"\",①団体情報入力!C54))","v":""},{"$f":"IF(②選手情報入力!C55=\"\",\"\",②選手情報入力!C55)","v":""},{"$f":"IF(E46=\"\",\"\",②選手情報入力!D55)","v":""},{"$f":"IF(E46=\"\",\"\",ASC(②選手情報入力!E55))","v":""},"","",{"$f":"IF(E46=\"\",\"\",IF(②選手情報入力!H55=\"\",\"JPN\",LEFT(②選手情報入力!H55,3)))","v":""},{"$f":"IF(E46=\"\",\"\",IF(②選手情報入力!I55=\"男\",1,2))","v":""},{"$f":"IF(E46=\"\",\"\",IF(②選手情報入力!J55=\"\",\"\",②選手情報入力!J55))","v":""},{"$f":"IF(E46=\"\",\"\",LEFT(②選手情報入力!K55,4))","v":""},{"$f":"IF(E46=\"\",\"\",RIGHT(②選手情報入力!K55,4))","v":""},"",null,{"$f":"IF(E46=\"\",\"\",IF(②選手情報入力!L55=\"\",\"\",IF(K46=1,VLOOKUP(②選手情報入力!L55,種目情報!$A$5:$B$167,2,FALSE),VLOOKUP(②選手情報入力!L55,種目情報!$E$5:$F$142,2,FALSE))))","v":""},{"$f":"IF(E46=\"\",\"\",IF(②選手情報入力!M55=\"\",\"\",②選手情報入力!M55))","v":""},null,{"$f":"IF(E46=\"\",\"\",IF(②選手情報入力!L55=\"\",\"\",IF(K46=1,VLOOKUP(②選手情報入力!L55,種目情報!$A$5:$C$135,3,FALSE),VLOOKUP(②選手情報入力!L55,種目情報!$E$5:$G$135,3,FALSE))))","v":""},{"$f":"IF(E46=\"\",\"\",IF(②選手情報入力!O55=\"\",\"\",IF(K46=1,VLOOKUP(②選手情報入力!O55,種目情報!$A$5:$B$151,2,FALSE),VLOOKUP(②選手情報入力!O55,種目情報!$E$5:$F$135,2,FALSE))))","v":""},{"$f":"IF(E46=\"\",\"\",IF(②選手情報入力!P55=\"\",\"\",②選手情報入力!P55))","v":""},{"$f":"IF(E46=\"\",\"\",IF(②選手情報入力!N55=\"\",\"\",1))","v":""},{"$f":"IF(E46=\"\",\"\",IF(②選手情報入力!O55=\"\",\"\",IF(K46=1,VLOOKUP(②選手情報入力!O55,種目情報!$A$5:$C$135,3,FALSE),VLOOKUP(②選手情報入力!O55,種目情報!$E$5:$G$135,3,FALSE))))","v":""},{"$f":"IF(E46=\"\",\"\",IF(②選手情報入力!R55=\"\",\"\",IF(K46=1,VLOOKUP(②選手情報入力!R55,種目情報!$A$5:$B$151,2,FALSE),VLOOKUP(②選手情報入力!R55,種目情報!$E$5:$F$135,2,FALSE))))","v":""},{"$f":"IF(E46=\"\",\"\",IF(②選手情報入力!S55=\"\",\"\",②選手情報入力!S55))","v":""},{"$f":"IF(E46=\"\",\"\",IF(②選手情報入力!Q55=\"\",\"\",1))","v":""},{"$f":"IF(E46=\"\",\"\",IF(②選手情報入力!R55=\"\",\"\",IF(K46=1,VLOOKUP(②選手情報入力!R55,種目情報!$A$5:$C$135,3,FALSE),VLOOKUP(②選手情報入力!R55,種目情報!$E$5:$G$135,3,FALSE))))","v":""},{"$f":"IF(E46=\"\",\"\",IF(②選手情報入力!T55=\"\",\"\",IF(K46=1,種目情報!$J$4,種目情報!$J$6)))","v":""},{"$f":"IF(E46=\"\",\"\",IF(②選手情報入力!T55=\"\",\"\",IF(K46=1,IF(②選手情報入力!$U$7=\"\",\"\",②選手情報入力!$U$7),IF(②選手情報入力!$U$8=\"\",\"\",②選手情報入力!$U$8))))","v":""},{"$f":"IF(E46=\"\",\"\",IF(②選手情報入力!T55=\"\",\"\",IF(K46=1,IF(②選手情報入力!$T$7=\"\",0,1),IF(②選手情報入力!$T$8=\"\",0,1))))","v":""},{"$f":"IF(E46=\"\",\"\",IF(②選手情報入力!T55=\"\",\"\",2))","v":""},{"$f":"IF(E46=\"\",\"\",IF(②選手情報入力!V55=\"\",\"\",IF(K46=1,種目情報!$J$5,種目情報!$J$7)))","v":""},{"$f":"IF(E46=\"\",\"\",IF(②選手情報入力!V55=\"\",\"\",IF(K46=1,IF(②選手情報入力!$W$7=\"\",\"\",②選手情報入力!$W$7),IF(②選手情報入力!$W$8=\"\",\"\",②選手情報入力!$W$8))))","v":""},{"$f":"IF(E46=\"\",\"\",IF(②選手情報入力!V55=\"\",\"\",IF(K46=1,IF(②選手情報入力!$V$7=\"\",0,1),IF(②選手情報入力!$V$8=\"\",0,1))))","v":""},{"$f":"IF(E46=\"\",\"\",IF(②選手情報入力!V55=\"\",\"\",2))","v":""},null,null,{"$f":"IF(②選手情報入力!F55=\"\",\"\",ASC(②選手情報入力!F55))","v":""},{"$f":"IF(②選手情報入力!F55=\"\",\"\",ASC(②選手情報入力!G55))","v":""}]
["",{"$f":"IF(E47=\"\",\"\",①団体情報入力!$C$5)","v":""},null,{"$f":"IF(E47=\"\",\"\",IF(①団体情報入力!C55=\"\",\"\",①団体情報入力!C55))","v":""},{"$f":"IF(②選手情報入力!C56=\"\",\"\",②選手情報入力!C56)","v":""},{"$f":"IF(E47=\"\",\"\",②選手情報入力!D56)","v":""},{"$f":"IF(E47=\"\",\"\",ASC(②選手情報入力!E56))","v":""},"","",{"$f":"IF(E47=\"\",\"\",IF(②選手情報入力!H56=\"\",\"JPN\",LEFT(②選手情報入力!H56,3)))","v":""},{"$f":"IF(E47=\"\",\"\",IF(②選手情報入力!I56=\"男\",1,2))","v":""},{"$f":"IF(E47=\"\",\"\",IF(②選手情報入力!J56=\"\",\"\",②選手情報入力!J56))","v":""},{"$f":"IF(E47=\"\",\"\",LEFT(②選手情報入力!K56,4))","v":""},{"$f":"IF(E47=\"\",\"\",RIGHT(②選手情報入力!K56,4))","v":""},"",null,{"$f":"IF(E47=\"\",\"\",IF(②選手情報入力!L56=\"\",\"\",IF(K47=1,VLOOKUP(②選手情報入力!L56,種目情報!$A$5:$B$167,2,FALSE),VLOOKUP(②選手情報入力!L56,種目情報!$E$5:$F$142,2,FALSE))))","v":""},{"$f":"IF(E47=\"\",\"\",IF(②選手情報入力!M56=\"\",\"\",②選手情報入力!M56))","v":""},null,{"$f":"IF(E47=\"\",\"\",IF(②選手情報入力!L56=\"\",\"\",IF(K47=1,VLOOKUP(②選手情報入力!L56,種目情報!$A$5:$C$135,3,FALSE),VLOOKUP(②選手情報入力!L56,種目情報!$E$5:$G$135,3,FALSE))))","v":""},{"$f":"IF(E47=\"\",\"\",IF(②選手情報入力!O56=\"\",\"\",IF(K47=1,VLOOKUP(②選手情報入力!O56,種目情報!$A$5:$B$151,2,FALSE),VLOOKUP(②選手情報入力!O56,種目情報!$E$5:$F$135,2,FALSE))))","v":""},{"$f":"IF(E47=\"\",\"\",IF(②選手情報入力!P56=\"\",\"\",②選手情報入力!P56))","v":""},{"$f":"IF(E47=\"\",\"\",IF(②選手情報入力!N56=\"\",\"\",1))","v":""},{"$f":"IF(E47=\"\",\"\",IF(②選手情報入力!O56=\"\",\"\",IF(K47=1,VLOOKUP(②選手情報入力!O56,種目情報!$A$5:$C$135,3,FALSE),VLOOKUP(②選手情報入力!O56,種目情報!$E$5:$G$135,3,FALSE))))","v":""},{"$f":"IF(E47=\"\",\"\",IF(②選手情報入力!R56=\"\",\"\",IF(K47=1,VLOOKUP(②選手情報入力!R56,種目情報!$A$5:$B$151,2,FALSE),VLOOKUP(②選手情報入力!R56,種目情報!$E$5:$F$135,2,FALSE))))","v":""},{"$f":"IF(E47=\"\",\"\",IF(②選手情報入力!S56=\"\",\"\",②選手情報入力!S56))","v":""},{"$f":"IF(E47=\"\",\"\",IF(②選手情報入力!Q56=\"\",\"\",1))","v":""},{"$f":"IF(E47=\"\",\"\",IF(②選手情報入力!R56=\"\",\"\",IF(K47=1,VLOOKUP(②選手情報入力!R56,種目情報!$A$5:$C$135,3,FALSE),VLOOKUP(②選手情報入力!R56,種目情報!$E$5:$G$135,3,FALSE))))","v":""},{"$f":"IF(E47=\"\",\"\",IF(②選手情報入力!T56=\"\",\"\",IF(K47=1,種目情報!$J$4,種目情報!$J$6)))","v":""},{"$f":"IF(E47=\"\",\"\",IF(②選手情報入力!T56=\"\",\"\",IF(K47=1,IF(②選手情報入力!$U$7=\"\",\"\",②選手情報入力!$U$7),IF(②選手情報入力!$U$8=\"\",\"\",②選手情報入力!$U$8))))","v":""},{"$f":"IF(E47=\"\",\"\",IF(②選手情報入力!T56=\"\",\"\",IF(K47=1,IF(②選手情報入力!$T$7=\"\",0,1),IF(②選手情報入力!$T$8=\"\",0,1))))","v":""},{"$f":"IF(E47=\"\",\"\",IF(②選手情報入力!T56=\"\",\"\",2))","v":""},{"$f":"IF(E47=\"\",\"\",IF(②選手情報入力!V56=\"\",\"\",IF(K47=1,種目情報!$J$5,種目情報!$J$7)))","v":""},{"$f":"IF(E47=\"\",\"\",IF(②選手情報入力!V56=\"\",\"\",IF(K47=1,IF(②選手情報入力!$W$7=\"\",\"\",②選手情報入力!$W$7),IF(②選手情報入力!$W$8=\"\",\"\",②選手情報入力!$W$8))))","v":""},{"$f":"IF(E47=\"\",\"\",IF(②選手情報入力!V56=\"\",\"\",IF(K47=1,IF(②選手情報入力!$V$7=\"\",0,1),IF(②選手情報入力!$V$8=\"\",0,1))))","v":""},{"$f":"IF(E47=\"\",\"\",IF(②選手情報入力!V56=\"\",\"\",2))","v":""},null,null,{"$f":"IF(②選手情報入力!F56=\"\",\"\",ASC(②選手情報入力!F56))","v":""},{"$f":"IF(②選手情報入力!F56=\"\",\"\",ASC(②選手情報入力!G56))","v":""}]
["",{"$f":"IF(E48=\"\",\"\",①団体情報入力!$C$5)","v":""},null,{"$f":"IF(E48=\"\",\"\",IF(①団体情報入力!C56=\"\",\"\",①団体情報入力!C56))","v":""},{"$f":"IF(②選手情報入力!C57=\"\",\"\",②選手情報入力!C57)","v":""},{"$f":"IF(E48=\"\",\"\",②選手情報入力!D57)","v":""},{"$f":"IF(E48=\"\",\"\",ASC(②選手情報入力!E57))","v":""},"","",{"$f":"IF(E48=\"\",\"\",IF(②選手情報入力!H57=\"\",\"JPN\",LEFT(②選手情報入力!H57,3)))","v":""},{"$f":"IF(E48=\"\",\"\",IF(②選手情報入力!I57=\"男\",1,2))","v":""},{"$f":"IF(E48=\"\",\"\",IF(②選手情報入力!J57=\"\",\"\",②選手情報入力!J57))","v":""},{"$f":"IF(E48=\"\",\"\",LEFT(②選手情報入力!K57,4))","v":""},{"$f":"IF(E48=\"\",\"\",RIGHT(②選手情報入力!K57,4))","v":""},"",null,{"$f":"IF(E48=\"\",\"\",IF(②選手情報入力!L57=\"\",\"\",IF(K48=1,VLOOKUP(②選手情報入力!L57,種目情報!$A$5:$B$167,2,FALSE),VLOOKUP(②選手情報入力!L57,種目情報!$E$5:$F$142,2,FALSE))))","v":""},{"$f":"IF(E48=\"\",\"\",IF(②選手情報入力!M57=\"\",\"\",②選手情報入力!M57))","v":""},null,{"$f":"IF(E48=\"\",\"\",IF(②選手情報入力!L57=\"\",\"\",IF(K48=1,VLOOKUP(②選手情報入力!L57,種目情報!$A$5:$C$135,3,FALSE),VLOOKUP(②選手情報入力!L57,種目情報!$E$5:$G$135,3,FALSE))))","v":""},{"$f":"IF(E48=\"\",\"\",IF(②選手情報入力!O57=\"\",\"\",IF(K48=1,VLOOKUP(②選手情報入力!O57,種目情報!$A$5:$B$151,2,FALSE),VLOOKUP(②選手情報入力!O57,種目情報!$E$5:$F$135,2,FALSE))))","v":""},{"$f":"IF(E48=\"\",\"\",IF(②選手情報入力!P57=\"\",\"\",②選手情報入力!P57))","v":""},{"$f":"IF(E48=\"\",\"\",IF(②選手情報入力!N57=\"\",\"\",1))","v":""},{"$f":"IF(E48=\"\",\"\",IF(②選手情報入力!O57=\"\",\"\",IF(K48=1,VLOOKUP(②選手情報入力!O57,種目情報!$A$5:$C$135,3,FALSE),VLOOKUP(②選手情報入力!O57,種目情報!$E$5:$G$135,3,FALSE))))","v":""},{"$f":"IF(E48=\"\",\"\",IF(②選手情報入力!R57=\"\",\"\",IF(K48=1,VLOOKUP(②選手情報入力!R57,種目情報!$A$5:$B$151,2,FALSE),VLOOKUP(②選手情報入力!R57,種目情報!$E$5:$F$135,2,FALSE))))","v":""},{"$f":"IF(E48=\"\",\"\",IF(②選手情報入力!S57=\"\",\"\",②選手情報入力!S57))","v":""},{"$f":"IF(E48=\"\",\"\",IF(②選手情報入力!Q57=\"\",\"\",1))","v":""},{"$f":"IF(E48=\"\",\"\",IF(②選手情報入力!R57=\"\",\"\",IF(K48=1,VLOOKUP(②選手情報入力!R57,種目情報!$A$5:$C$135,3,FALSE),VLOOKUP(②選手情報入力!R57,種目情報!$E$5:$G$135,3,FALSE))))","v":""},{"$f":"IF(E48=\"\",\"\",IF(②選手情報入力!T57=\"\",\"\",IF(K48=1,種目情報!$J$4,種目情報!$J$6)))","v":""},{"$f":"IF(E48=\"\",\"\",IF(②選手情報入力!T57=\"\",\"\",IF(K48=1,IF(②選手情報入力!$U$7=\"\",\"\",②選手情報入力!$U$7),IF(②選手情報入力!$U$8=\"\",\"\",②選手情報入力!$U$8))))","v":""},{"$f":"IF(E48=\"\",\"\",IF(②選手情報入力!T57=\"\",\"\",IF(K48=1,IF(②選手情報入力!$T$7=\"\",0,1),IF(②選手情報入力!$T$8=\"\",0,1))))","v":""},{"$f":"IF(E48=\"\",\"\",IF(②選手情報入力!T57=\"\",\"\",2))","v":""},{"$f":"IF(E48=\"\",\"\",IF(②選手情報入力!V57=\"\",\"\",IF(K48=1,種目情報!$J$5,種目情報!$J$7)))","v":""},{"$f":"IF(E48=\"\",\"\",IF(②選手情報入力!V57=\"\",\"\",IF(K48=1,IF(②選手情報入力!$W$7=\"\",\"\",②選手情報入力!$W$7),IF(②選手情報入力!$W$8=\"\",\"\",②選手情報入力!$W$8))))","v":""},{"$f":"IF(E48=\"\",\"\",IF(②選手情報入力!V57=\"\",\"\",IF(K48=1,IF(②選手情報入力!$V$7=\"\",0,1),IF(②選手情報入力!$V$8=\"\",0,1))))","v":""},{"$f":"IF(E48=\"\",\"\",IF(②選手情報入力!V57=\"\",\"\",2))","v":""},null,null,{"$f":"IF(②選手情報入力!F57=\"\",\"\",ASC(②選手情報入力!F57))","v":""},{"$f":"IF(②選手情報入力!F57=\"\",\"\",ASC(②選手情報入力!G57))","v":""}]
["",{"$f":"IF(E49=\"\",\"\",①団体情報入力!$C$5)","v":""},null,{"$f":"IF(E49=\"\",\"\",IF(①団体情報入力!C57=\"\",\"\",①団体情報入力!C57))","v":""},{"$f":"IF(②選手情報入力!C58=\"\",\"\",②選手情報入力!C58)","v":""},{"$f":"IF(E49=\"\",\"\",②選手情報入力!D58)","v":""},{"$f":"IF(E49=\"\",\"\",ASC(②選手情報入力!E58))","v":""},"","",{"$f":"IF(E49=\"\",\"\",IF(②選手情報入力!H58=\"\",\"JPN\",LEFT(②選手情報入力!H58,3)))","v":""},{"$f":"IF(E49=\"\",\"\",IF(②選手情報入力!I58=\"男\",1,2))","v":""},{"$f":"IF(E49=\"\",\"\",IF(②選手情報入力!J58=\"\",\"\",②選手情報入力!J58))","v":""},{"$f":"IF(E49=\"\",\"\",LEFT(②選手情報入力!K58,4))","v":""},{"$f":"IF(E49=\"\",\"\",RIGHT(②選手情報入力!K58,4))","v":""},"",null,{"$f":"IF(E49=\"\",\"\",IF(②選手情報入力!L58=\"\",\"\",IF(K49=1,VLOOKUP(②選手情報入力!L58,種目情報!$A$5:$B$167,2,FALSE),VLOOKUP(②選手情報入力!L58,種目情報!$E$5:$F$142,2,FALSE))))","v":""},{"$f":"IF(E49=\"\",\"\",IF(②選手情報入力!M58=\"\",\"\",②選手情報入力!M58))","v":""},null,{"$f":"IF(E49=\"\",\"\",IF(②選手情報入力!L58=\"\",\"\",IF(K49=1,VLOOKUP(②選手情報入力!L58,種目情報!$A$5:$C$135,3,FALSE),VLOOKUP(②選手情報入力!L58,種目情報!$E$5:$G$135,3,FALSE))))","v":""},{"$f":"IF(E49=\"\",\"\",IF(②選手情報入力!O58=\"\",\"\",IF(K49=1,VLOOKUP(②選手情報入力!O58,種目情報!$A$5:$B$151,2,FALSE),VLOOKUP(②選手情報入力!O58,種目情報!$E$5:$F$135,2,FALSE))))","v":""},{"$f":"IF(E49=\"\",\"\",IF(②選手情報入力!P58=\"\",\"\",②選手情報入力!P58))","v":""},{"$f":"IF(E49=\"\",\"\",IF(②選手情報入力!N58=\"\",\"\",1))","v":""},{"$f":"IF(E49=\"\",\"\",IF(②選手情報入力!O58=\"\",\"\",IF(K49=1,VLOOKUP(②選手情報入力!O58,種目情報!$A$5:$C$135,3,FALSE),VLOOKUP(②選手情報入力!O58,種目情報!$E$5:$G$135,3,FALSE))))","v":""},{"$f":"IF(E49=\"\",\"\",IF(②選手情報入力!R58=\"\",\"\",IF(K49=1,VLOOKUP(②選手情報入力!R58,種目情報!$A$5:$B$151,2,FALSE),VLOOKUP(②選手情報入力!R58,種目情報!$E$5:$F$135,2,FALSE))))","v":""},{"$f":"IF(E49=\"\",\"\",IF(②選手情報入力!S58=\"\",\"\",②選手情報入力!S58))","v":""},{"$f":"IF(E49=\"\",\"\",IF(②選手情報入力!Q58=\"\",\"\",1))","v":""},{"$f":"IF(E49=\"\",\"\",IF(②選手情報入力!R58=\"\",\"\",IF(K49=1,VLOOKUP(②選手情報入力!R58,種目情報!$A$5:$C$135,3,FALSE),VLOOKUP(②選手情報入力!R58,種目情報!$E$5:$G$135,3,FALSE))))","v":""},{"$f":"IF(E49=\"\",\"\",IF(②選手情報入力!T58=\"\",\"\",IF(K49=1,種目情報!$J$4,種目情報!$J$6)))","v":""},{"$f":"IF(E49=\"\",\"\",IF(②選手情報入力!T58=\"\",\"\",IF(K49=1,IF(②選手情報入力!$U$7=\"\",\"\",②選手情報入力!$U$7),IF(②選手情報入力!$U$8=\"\",\"\",②選手情報入力!$U$8))))","v":""},{"$f":"IF(E49=\"\",\"\",IF(②選手情報入力!T58=\"\",\"\",IF(K49=1,IF(②選手情報入力!$T$7=\"\",0,1),IF(②選手情報入力!$T$8=\"\",0,1))))","v":""},{"$f":"IF(E49=\"\",\"\",IF(②選手情報入力!T58=\"\",\"\",2))","v":""},{"$f":"IF(E49=\"\",\"\",IF(②選手情報入力!V58=\"\",\"\",IF(K49=1,種目情報!$J$5,種目情報!$J$7)))","v":""},{"$f":"IF(E49=\"\",\"\",IF(②選手情報入力!V58=\"\",\"\",IF(K49=1,IF(②選手情報入力!$W$7=\"\",\"\",②選手情報入力!$W$7),IF(②選手情報入力!$W$8=\"\",\"\",②選手情報入力!$W$8))))","v":""},{"$f":"IF(E49=\"\",\"\",IF(②選手情報入力!V58=\"\",\"\",IF(K49=1,IF(②選手情報入力!$V$7=\"\",0,1),IF(②選手情報入力!$V$8=\"\",0,1))))","v":""},{"$f":"IF(E49=\"\",\"\",IF(②選手情報入力!V58=\"\",\"\",2))","v":""},null,null,{"$f":"IF(②選手情報入力!F58=\"\",\"\",ASC(②選手情報入力!F58))","v":""},{"$f":"IF(②選手情報入力!F58=\"\",\"\",ASC(②選手情報入力!G58))","v":""}]
["",{"$f":"IF(E50=\"\",\"\",①団体情報入力!$C$5)","v":""},null,{"$f":"IF(E50=\"\",\"\",IF(①団体情報入力!C58=\"\",\"\",①団体情報入力!C58))","v":""},{"$f":"IF(②選手情報入力!C59=\"\",\"\",②選手情報入力!C59)","v":""},{"$f":"IF(E50=\"\",\"\",②選手情報入力!D59)","v":""},{"$f":"IF(E50=\"\",\"\",ASC(②選手情報入力!E59))","v":""},"","",{"$f":"IF(E50=\"\",\"\",IF(②選手情報入力!H59=\"\",\"JPN\",LEFT(②選手情報入力!H59,3)))","v":""},{"$f":"IF(E50=\"\",\"\",IF(②選手情報入力!I59=\"男\",1,2))","v":""},{"$f":"IF(E50=\"\",\"\",IF(②選手情報入力!J59=\"\",\"\",②選手情報入力!J59))","v":""},{"$f":"IF(E50=\"\",\"\",LEFT(②選手情報入力!K59,4))","v":""},{"$f":"IF(E50=\"\",\"\",RIGHT(②選手情報入力!K59,4))","v":""},"",null,{"$f":"IF(E50=\"\",\"\",IF(②選手情報入力!L59=\"\",\"\",IF(K50=1,VLOOKUP(②選手情報入力!L59,種目情報!$A$5:$B$167,2,FALSE),VLOOKUP(②選手情報入力!L59,種目情報!$E$5:$F$142,2,FALSE))))","v":""},{"$f":"IF(E50=\"\",\"\",IF(②選手情報入力!M59=\"\",\"\",②選手情報入力!M59))","v":""},null,{"$f":"IF(E50=\"\",\"\",IF(②選手情報入力!L59=\"\",\"\",IF(K50=1,VLOOKUP(②選手情報入力!L59,種目情報!$A$5:$C$135,3,FALSE),VLOOKUP(②選手情報入力!L59,種目情報!$E$5:$G$135,3,FALSE))))","v":""},{"$f":"IF(E50=\"\",\"\",IF(②選手情報入力!O59=\"\",\"\",IF(K50=1,VLOOKUP(②選手情報入力!O59,種目情報!$A$5:$B$151,2,FALSE),VLOOKUP(②選手情報入力!O59,種目情報!$E$5:$F$135,2,FALSE))))","v":""},{"$f":"IF(E50=\"\",\"\",IF(②選手情報入力!P59=\"\",\"\",②選手情報入力!P59))","v":""},{"$f":"IF(E50=\"\",\"\",IF(②選手情報入力!N59=\"\",\"\",1))","v":""},{"$f":"IF(E50=\"\",\"\",IF(②選手情報入力!O59=\"\",\"\",IF(K50=1,VLOOKUP(②選手情報入力!O59,種目情報!$A$5:$C$135,3,FALSE),VLOOKUP(②選手情報入力!O59,種目情報!$E$5:$G$135,3,FALSE))))","v":""},{"$f":"IF(E50=\"\",\"\",IF(②選手情報入力!R59=\"\",\"\",IF(K50=1,VLOOKUP(②選手情報入力!R59,種目情報!$A$5:$B$151,2,FALSE),VLOOKUP(②選手情報入力!R59,種目情報!$E$5:$F$135,2,FALSE))))","v":""},{"$f":"IF(E50=\"\",\"\",IF(②選手情報入力!S59=\"\",\"\",②選手情報入力!S59))","v":""},{"$f":"IF(E50=\"\",\"\",IF(②選手情報入力!Q59=\"\",\"\",1))","v":""},{"$f":"IF(E50=\"\",\"\",IF(②選手情報入力!R59=\"\",\"\",IF(K50=1,VLOOKUP(②選手情報入力!R59,種目情報!$A$5:$C$135,3,FALSE),VLOOKUP(②選手情報入力!R59,種目情報!$E$5:$G$135,3,FALSE))))","v":""},{"$f":"IF(E50=\"\",\"\",IF(②選手情報入力!T59=\"\",\"\",IF(K50=1,種目情報!$J$4,種目情報!$J$6)))","v":""},{"$f":"IF(E50=\"\",\"\",IF(②選手情報入力!T59=\"\",\"\",IF(K50=1,IF(②選手情報入力!$U$7=\"\",\"\",②選手情報入力!$U$7),IF(②選手情報入力!$U$8=\"\",\"\",②選手情報入力!$U$8))))","v":""},{"$f":"IF(E50=\"\",\"\",IF(②選手情報入力!T59=\"\",\"\",IF(K50=1,IF(②選手情報入力!$T$7=\"\",0,1),IF(②選手情報入力!$T$8=\"\",0,1))))","v":""},{"$f":"IF(E50=\"\",\"\",IF(②選手情報入力!T59=\"\",\"\",2))","v":""},{"$f":"IF(E50=\"\",\"\",IF(②選手情報入力!V59=\"\",\"\",IF(K50=1,種目情報!$J$5,種目情報!$J$7)))","v":""},{"$f":"IF(E50=\"\",\"\",IF(②選手情報入力!V59=\"\",\"\",IF(K50=1,IF(②選手情報入力!$W$7=\"\",\"\",②選手情報入力!$W$7),IF(②選手情報入力!$W$8=\"\",\"\",②選手情報入力!$W$8))))","v":""},{"$f":"IF(E50=\"\",\"\",IF(②選手情報入力!V59=\"\",\"\",IF(K50=1,IF(②選手情報入力!$V$7=\"\",0,1),IF(②選手情報入力!$V$8=\"\",0,1))))","v":""},{"$f":"IF(E50=\"\",\"\",IF(②選手情報入力!V59=\"\",\"\",2))","v":""},null,null,{"$f":"IF(②選手情報入力!F59=\"\",\"\",ASC(②選手情報入力!F59))","v":""},{"$f":"IF(②選手情報入力!F59=\"\",\"\",ASC(②選手情報入力!G59))","v":""}]
["",{"$f":"IF(E51=\"\",\"\",①団体情報入力!$C$5)","v":""},null,{"$f":"IF(E51=\"\",\"\",IF(①団体情報入力!C59=\"\",\"\",①団体情報入力!C59))","v":""},{"$f":"IF(②選手情報入力!C60=\"\",\"\",②選手情報入力!C60)","v":""},{"$f":"IF(E51=\"\",\"\",②選手情報入力!D60)","v":""},{"$f":"IF(E51=\"\",\"\",ASC(②選手情報入力!E60))","v":""},"","",{"$f":"IF(E51=\"\",\"\",IF(②選手情報入力!H60=\"\",\"JPN\",LEFT(②選手情報入力!H60,3)))","v":""},{"$f":"IF(E51=\"\",\"\",IF(②選手情報入力!I60=\"男\",1,2))","v":""},{"$f":"IF(E51=\"\",\"\",IF(②選手情報入力!J60=\"\",\"\",②選手情報入力!J60))","v":""},{"$f":"IF(E51=\"\",\"\",LEFT(②選手情報入力!K60,4))","v":""},{"$f":"IF(E51=\"\",\"\",RIGHT(②選手情報入力!K60,4))","v":""},"",null,{"$f":"IF(E51=\"\",\"\",IF(②選手情報入力!L60=\"\",\"\",IF(K51=1,VLOOKUP(②選手情報入力!L60,種目情報!$A$5:$B$167,2,FALSE),VLOOKUP(②選手情報入力!L60,種目情報!$E$5:$F$142,2,FALSE))))","v":""},{"$f":"IF(E51=\"\",\"\",IF(②選手情報入力!M60=\"\",\"\",②選手情報入力!M60))","v":""},null,{"$f":"IF(E51=\"\",\"\",IF(②選手情報入力!L60=\"\",\"\",IF(K51=1,VLOOKUP(②選手情報入力!L60,種目情報!$A$5:$C$135,3,FALSE),VLOOKUP(②選手情報入力!L60,種目情報!$E$5:$G$135,3,FALSE))))","v":""},{"$f":"IF(E51=\"\",\"\",IF(②選手情報入力!O60=\"\",\"\",IF(K51=1,VLOOKUP(②選手情報入力!O60,種目情報!$A$5:$B$151,2,FALSE),VLOOKUP(②選手情報入力!O60,種目情報!$E$5:$F$135,2,FALSE))))","v":""},{"$f":"IF(E51=\"\",\"\",IF(②選手情報入力!P60=\"\",\"\",②選手情報入力!P60))","v":""},{"$f":"IF(E51=\"\",\"\",IF(②選手情報入力!N60=\"\",\"\",1))","v":""},{"$f":"IF(E51=\"\",\"\",IF(②選手情報入力!O60=\"\",\"\",IF(K51=1,VLOOKUP(②選手情報入力!O60,種目情報!$A$5:$C$135,3,FALSE),VLOOKUP(②選手情報入力!O60,種目情報!$E$5:$G$135,3,FALSE))))","v":""},{"$f":"IF(E51=\"\",\"\",IF(②選手情報入力!R60=\"\",\"\",IF(K51=1,VLOOKUP(②選手情報入力!R60,種目情報!$A$5:$B$151,2,FALSE),VLOOKUP(②選手情報入力!R60,種目情報!$E$5:$F$135,2,FALSE))))","v":""},{"$f":"IF(E51=\"\",\"\",IF(②選手情報入力!S60=\"\",\"\",②選手情報入力!S60))","v":""},{"$f":"IF(E51=\"\",\"\",IF(②選手情報入力!Q60=\"\",\"\",1))","v":""},{"$f":"IF(E51=\"\",\"\",IF(②選手情報入力!R60=\"\",\"\",IF(K51=1,VLOOKUP(②選手情報入力!R60,種目情報!$A$5:$C$135,3,FALSE),VLOOKUP(②選手情報入力!R60,種目情報!$E$5:$G$135,3,FALSE))))","v":""},{"$f":"IF(E51=\"\",\"\",IF(②選手情報入力!T60=\"\",\"\",IF(K51=1,種目情報!$J$4,種目情報!$J$6)))","v":""},{"$f":"IF(E51=\"\",\"\",IF(②選手情報入力!T60=\"\",\"\",IF(K51=1,IF(②選手情報入力!$U$7=\"\",\"\",②選手情報入力!$U$7),IF(②選手情報入力!$U$8=\"\",\"\",②選手情報入力!$U$8))))","v":""},{"$f":"IF(E51=\"\",\"\",IF(②選手情報入力!T60=\"\",\"\",IF(K51=1,IF(②選手情報入力!$T$7=\"\",0,1),IF(②選手情報入力!$T$8=\"\",0,1))))","v":""},{"$f":"IF(E51=\"\",\"\",IF(②選手情報入力!T60=\"\",\"\",2))","v":""},{"$f":"IF(E51=\"\",\"\",IF(②選手情報入力!V60=\"\",\"\",IF(K51=1,種目情報!$J$5,種目情報!$J$7)))","v":""},{"$f":"IF(E51=\"\",\"\",IF(②選手情報入力!V60=\"\",\"\",IF(K51=1,IF(②選手情報入力!$W$7=\"\",\"\",②選手情報入力!$W$7),IF(②選手情報入力!$W$8=\"\",\"\",②選手情報入力!$W$8))))","v":""},{"$f":"IF(E51=\"\",\"\",IF(②選手情報入力!V60=\"\",\"\",IF(K51=1,IF(②選手情報入力!$V$7=\"\",0,1),IF(②選手情報入力!$V$8=\"\",0,1))))","v":""},{"$f":"IF(E51=\"\",\"\",IF(②選手情報入力!V60=\"\",\"\",2))","v":""},null,null,{"$f":"IF(②選手情報入力!F60=\"\",\"\",ASC(②選手情報入力!F60))","v":""},{"$f":"IF(②選手情報入力!F60=\"\",\"\",ASC(②選手情報入力!G60))","v":""}]
["",{"$f":"IF(E52=\"\",\"\",①団体情報入力!$C$5)","v":""},null,{"$f":"IF(E52=\"\",\"\",IF(①団体情報入力!C60=\"\",\"\",①団体情報入力!C60))","v":""},{"$f":"IF(②選手情報入力!C61=\"\",\"\",②選手情報入力!C61)","v":""},{"$f":"IF(E52=\"\",\"\",②選手情報入力!D61)","v":""},{"$f":"IF(E52=\"\",\"\",ASC(②選手情報入力!E61))","v":""},"","",{"$f":"IF(E52=\"\",\"\",IF(②選手情報入力!H61=\"\",\"JPN\",LEFT(②選手情報入力!H61,3)))","v":""},{"$f":"IF(E52=\"\",\"\",IF(②選手情報入力!I61=\"男\",1,2))","v":""},{"$f":"IF(E52=\"\",\"\",IF(②選手情報入力!J61=\"\",\"\",②選手情報入力!J61))","v":""},{"$f":"IF(E52=\"\",\"\",LEFT(②選手情報入力!K61,4))","v":""},{"$f":"IF(E52=\"\",\"\",RIGHT(②選手情報入力!K61,4))","v":""},"",null,{"$f":"IF(E52=\"\",\"\",IF(②選手情報入力!L61=\"\",\"\",IF(K52=1,VLOOKUP(②選手情報入力!L61,種目情報!$A$5:$B$167,2,FALSE),VLOOKUP(②選手情報入力!L61,種目情報!$E$5:$F$142,2,FALSE))))","v":""},{"$f":"IF(E52=\"\",\"\",IF(②選手情報入力!M61=\"\",\"\",②選手情報入力!M61))","v":""},null,{"$f":"IF(E52=\"\",\"\",IF(②選手情報入力!L61=\"\",\"\",IF(K52=1,VLOOKUP(②選手情報入力!L61,種目情報!$A$5:$C$135,3,FALSE),VLOOKUP(②選手情報入力!L61,種目情報!$E$5:$G$135,3,FALSE))))","v":""},{"$f":"IF(E52=\"\",\"\",IF(②選手情報入力!O61=\"\",\"\",IF(K52=1,VLOOKUP(②選手情報入力!O61,種目情報!$A$5:$B$151,2,FALSE),VLOOKUP(②選手情報入力!O61,種目情報!$E$5:$F$135,2,FALSE))))","v":""},{"$f":"IF(E52=\"\",\"\",IF(②選手情報入力!P61=\"\",\"\",②選手情報入力!P61))","v":""},{"$f":"IF(E52=\"\",\"\",IF(②選手情報入力!N61=\"\",\"\",1))","v":""},{"$f":"IF(E52=\"\",\"\",IF(②選手情報入力!O61=\"\",\"\",IF(K52=1,VLOOKUP(②選手情報入力!O61,種目情報!$A$5:$C$135,3,FALSE),VLOOKUP(②選手情報入力!O61,種目情報!$E$5:$G$135,3,FALSE))))","v":""},{"$f":"IF(E52=\"\",\"\",IF(②選手情報入力!R61=\"\",\"\",IF(K52=1,VLOOKUP(②選手情報入力!R61,種目情報!$A$5:$B$151,2,FALSE),VLOOKUP(②選手情報入力!R61,種目情報!$E$5:$F$135,2,FALSE))))","v":""},{"$f":"IF(E52=\"\",\"\",IF(②選手情報入力!S61=\"\",\"\",②選手情報入力!S61))","v":""},{"$f":"IF(E52=\"\",\"\",IF(②選手情報入力!Q61=\"\",\"\",1))","v":""},{"$f":"IF(E52=\"\",\"\",IF(②選手情報入力!R61=\"\",\"\",IF(K52=1,VLOOKUP(②選手情報入力!R61,種目情報!$A$5:$C$135,3,FALSE),VLOOKUP(②選手情報入力!R61,種目情報!$E$5:$G$135,3,FALSE))))","v":""},{"$f":"IF(E52=\"\",\"\",IF(②選手情報入力!T61=\"\",\"\",IF(K52=1,種目情報!$J$4,種目情報!$J$6)))","v":""},{"$f":"IF(E52=\"\",\"\",IF(②選手情報入力!T61=\"\",\"\",IF(K52=1,IF(②選手情報入力!$U$7=\"\",\"\",②選手情報入力!$U$7),IF(②選手情報入力!$U$8=\"\",\"\",②選手情報入力!$U$8))))","v":""},{"$f":"IF(E52=\"\",\"\",IF(②選手情報入力!T61=\"\",\"\",IF(K52=1,IF(②選手情報入力!$T$7=\"\",0,1),IF(②選手情報入力!$T$8=\"\",0,1))))","v":""},{"$f":"IF(E52=\"\",\"\",IF(②選手情報入力!T61=\"\",\"\",2))","v":""},{"$f":"IF(E52=\"\",\"\",IF(②選手情報入力!V61=\"\",\"\",IF(K52=1,種目情報!$J$5,種目情報!$J$7)))","v":""},{"$f":"IF(E52=\"\",\"\",IF(②選手情報入力!V61=\"\",\"\",IF(K52=1,IF(②選手情報入力!$W$7=\"\",\"\",②選手情報入力!$W$7),IF(②選手情報入力!$W$8=\"\",\"\",②選手情報入力!$W$8))))","v":""},{"$f":"IF(E52=\"\",\"\",IF(②選手情報入力!V61=\"\",\"\",IF(K52=1,IF(②選手情報入力!$V$7=\"\",0,1),IF(②選手情報入力!$V$8=\"\",0,1))))","v":""},{"$f":"IF(E52=\"\",\"\",IF(②選手情報入力!V61=\"\",\"\",2))","v":""},null,null,{"$f":"IF(②選手情報入力!F61=\"\",\"\",ASC(②選手情報入力!F61))","v":""},{"$f":"IF(②選手情報入力!F61=\"\",\"\",ASC(②選手情報入力!G61))","v":""}]
["",{"$f":"IF(E53=\"\",\"\",①団体情報入力!$C$5)","v":""},null,{"$f":"IF(E53=\"\",\"\",IF(①団体情報入力!C61=\"\",\"\",①団体情報入力!C61))","v":""},{"$f":"IF(②選手情報入力!C62=\"\",\"\",②選手情報入力!C62)","v":""},{"$f":"IF(E53=\"\",\"\",②選手情報入力!D62)","v":""},{"$f":"IF(E53=\"\",\"\",ASC(②選手情報入力!E62))","v":""},"","",{"$f":"IF(E53=\"\",\"\",IF(②選手情報入力!H62=\"\",\"JPN\",LEFT(②選手情報入力!H62,3)))","v":""},{"$f":"IF(E53=\"\",\"\",IF(②選手情報入力!I62=\"男\",1,2))","v":""},{"$f":"IF(E53=\"\",\"\",IF(②選手情報入力!J62=\"\",\"\",②選手情報入力!J62))","v":""},{"$f":"IF(E53=\"\",\"\",LEFT(②選手情報入力!K62,4))","v":""},{"$f":"IF(E53=\"\",\"\",RIGHT(②選手情報入力!K62,4))","v":""},"",null,{"$f":"IF(E53=\"\",\"\",IF(②選手情報入力!L62=\"\",\"\",IF(K53=1,VLOOKUP(②選手情報入力!L62,種目情報!$A$5:$B$167,2,FALSE),VLOOKUP(②選手情報入力!L62,種目情報!$E$5:$F$142,2,FALSE))))","v":""},{"$f":"IF(E53=\"\",\"\",IF(②選手情報入力!M62=\"\",\"\",②選手情報入力!M62))","v":""},null,{"$f":"IF(E53=\"\",\"\",IF(②選手情報入力!L62=\"\",\"\",IF(K53=1,VLOOKUP(②選手情報入力!L62,種目情報!$A$5:$C$135,3,FALSE),VLOOKUP(②選手情報入力!L62,種目情報!$E$5:$G$135,3,FALSE))))","v":""},{"$f":"IF(E53=\"\",\"\",IF(②選手情報入力!O62=\"\",\"\",IF(K53=1,VLOOKUP(②選手情報入力!O62,種目情報!$A$5:$B$151,2,FALSE),VLOOKUP(②選手情報入力!O62,種目情報!$E$5:$F$135,2,FALSE))))","v":""},{"$f":"IF(E53=\"\",\"\",IF(②選手情報入力!P62=\"\",\"\",②選手情報入力!P62))","v":""},{"$f":"IF(E53=\"\",\"\",IF(②選手情報入力!N62=\"\",\"\",1))","v":""},{"$f":"IF(E53=\"\",\"\",IF(②選手情報入力!O62=\"\",\"\",IF(K53=1,VLOOKUP(②選手情報入力!O62,種目情報!$A$5:$C$135,3,FALSE),VLOOKUP(②選手情報入力!O62,種目情報!$E$5:$G$135,3,FALSE))))","v":""},{"$f":"IF(E53=\"\",\"\",IF(②選手情報入力!R62=\"\",\"\",IF(K53=1,VLOOKUP(②選手情報入力!R62,種目情報!$A$5:$B$151,2,FALSE),VLOOKUP(②選手情報入力!R62,種目情報!$E$5:$F$135,2,FALSE))))","v":""},{"$f":"IF(E53=\"\",\"\",IF(②選手情報入力!S62=\"\",\"\",②選手情報入力!S62))","v":""},{"$f":"IF(E53=\"\",\"\",IF(②選手情報入力!Q62=\"\",\"\",1))","v":""},{"$f":"IF(E53=\"\",\"\",IF(②選手情報入力!R62=\"\",\"\",IF(K53=1,VLOOKUP(②選手情報入力!R62,種目情報!$A$5:$C$135,3,FALSE),VLOOKUP(②選手情報入力!R62,種目情報!$E$5:$G$135,3,FALSE))))","v":""},{"$f":"IF(E53=\"\",\"\",IF(②選手情報入力!T62=\"\",\"\",IF(K53=1,種目情報!$J$4,種目情報!$J$6)))","v":""},{"$f":"IF(E53=\"\",\"\",IF(②選手情報入力!T62=\"\",\"\",IF(K53=1,IF(②選手情報入力!$U$7=\"\",\"\",②選手情報入力!$U$7),IF(②選手情報入力!$U$8=\"\",\"\",②選手情報入力!$U$8))))","v":""},{"$f":"IF(E53=\"\",\"\",IF(②選手情報入力!T62=\"\",\"\",IF(K53=1,IF(②選手情報入力!$T$7=\"\",0,1),IF(②選手情報入力!$T$8=\"\",0,1))))","v":""},{"$f":"IF(E53=\"\",\"\",IF(②選手情報入力!T62=\"\",\"\",2))","v":""},{"$f":"IF(E53=\"\",\"\",IF(②選手情報入力!V62=\"\",\"\",IF(K53=1,種目情報!$J$5,種目情報!$J$7)))","v":""},{"$f":"IF(E53=\"\",\"\",IF(②選手情報入力!V62=\"\",\"\",IF(K53=1,IF(②選手情報入力!$W$7=\"\",\"\",②選手情報入力!$W$7),IF(②選手情報入力!$W$8=\"\",\"\",②選手情報入力!$W$8))))","v":""},{"$f":"IF(E53=\"\",\"\",IF(②選手情報入力!V62=\"\",\"\",IF(K53=1,IF(②選手情報入力!$V$7=\"\",0,1),IF(②選手情報入力!$V$8=\"\",0,1))))","v":""},{"$f":"IF(E53=\"\",\"\",IF(②選手情報入力!V62=\"\",\"\",2))","v":""},null,null,{"$f":"IF(②選手情報入力!F62=\"\",\"\",ASC(②選手情報入力!F62))","v":""},{"$f":"IF(②選手情報入力!F62=\"\",\"\",ASC(②選手情報入力!G62))","v":""}]
["",{"$f":"IF(E54=\"\",\"\",①団体情報入力!$C$5)","v":""},null,{"$f":"IF(E54=\"\",\"\",IF(①団体情報入力!C62=\"\",\"\",①団体情報入力!C62))","v":""},{"$f":"IF(②選手情報入力!C63=\"\",\"\",②選手情報入力!C63)","v":""},{"$f":"IF(E54=\"\",\"\",②選手情報入力!D63)","v":""},{"$f":"IF(E54=\"\",\"\",ASC(②選手情報入力!E63))","v":""},"","",{"$f":"IF(E54=\"\",\"\",IF(②選手情報入力!H63=\"\",\"JPN\",LEFT(②選手情報入力!H63,3)))","v":""},{"$f":"IF(E54=\"\",\"\",IF(②選手情報入力!I63=\"男\",1,2))","v":""},{"$f":"IF(E54=\"\",\"\",IF(②選手情報入力!J63=\"\",\"\",②選手情報入力!J63))","v":""},{"$f":"IF(E54=\"\",\"\",LEFT(②選手情報入力!K63,4))","v":""},{"$f":"IF(E54=\"\",\"\",RIGHT(②選手情報入力!K63,4))","v":""},"",null,{"$f":"IF(E54=\"\",\"\",IF(②選手情報入力!L63=\"\",\"\",IF(K54=1,VLOOKUP(②選手情報入力!L63,種目情報!$A$5:$B$167,2,FALSE),VLOOKUP(②選手情報入力!L63,種目情報!$E$5:$F$142,2,FALSE))))","v":""},{"$f":"IF(E54=\"\",\"\",IF(②選手情報入力!M63=\"\",\"\",②選手情報入力!M63))","v":""},null,{"$f":"IF(E54=\"\",\"\",IF(②選手情報入力!L63=\"\",\"\",IF(K54=1,VLOOKUP(②選手情報入力!L63,種目情報!$A$5:$C$135,3,FALSE),VLOOKUP(②選手情報入力!L63,種目情報!$E$5:$G$135,3,FALSE))))","v":""},{"$f":"IF(E54=\"\",\"\",IF(②選手情報入力!O63=\"\",\"\",IF(K54=1,VLOOKUP(②選手情報入力!O63,種目情報!$A$5:$B$151,2,FALSE),VLOOKUP(②選手情報入力!O63,種目情報!$E$5:$F$135,2,FALSE))))","v":""},{"$f":"IF(E54=\"\",\"\",IF(②選手情報入力!P63=\"\",\"\",②選手情報入力!P63))","v":""},{"$f":"IF(E54=\"\",\"\",IF(②選手情報入力!N63=\"\",\"\",1))","v":""},{"$f":"IF(E54=\"\",\"\",IF(②選手情報入力!O63=\"\",\"\",IF(K54=1,VLOOKUP(②選手情報入力!O63,種目情報!$A$5:$C$135,3,FALSE),VLOOKUP(②選手情報入力!O63,種目情報!$E$5:$G$135,3,FALSE))))","v":""},{"$f":"IF(E54=\"\",\"\",IF(②選手情報入力!R63=\"\",\"\",IF(K54=1,VLOOKUP(②選手情報入力!R63,種目情報!$A$5:$B$151,2,FALSE),VLOOKUP(②選手情報入力!R63,種目情報!$E$5:$F$135,2,FALSE))))","v":""},{"$f":"IF(E54=\"\",\"\",IF(②選手情報入力!S63=\"\",\"\",②選手情報入力!S63))","v":""},{"$f":"IF(E54=\"\",\"\",IF(②選手情報入力!Q63=\"\",\"\",1))","v":""},{"$f":"IF(E54=\"\",\"\",IF(②選手情報入力!R63=\"\",\"\",IF(K54=1,VLOOKUP(②選手情報入力!R63,種目情報!$A$5:$C$135,3,FALSE),VLOOKUP(②選手情報入力!R63,種目情報!$E$5:$G$135,3,FALSE))))","v":""},{"$f":"IF(E54=\"\",\"\",IF(②選手情報入力!T63=\"\",\"\",IF(K54=1,種目情報!$J$4,種目情報!$J$6)))","v":""},{"$f":"IF(E54=\"\",\"\",IF(②選手情報入力!T63=\"\",\"\",IF(K54=1,IF(②選手情報入力!$U$7=\"\",\"\",②選手情報入力!$U$7),IF(②選手情報入力!$U$8=\"\",\"\",②選手情報入力!$U$8))))","v":""},{"$f":"IF(E54=\"\",\"\",IF(②選手情報入力!T63=\"\",\"\",IF(K54=1,IF(②選手情報入力!$T$7=\"\",0,1),IF(②選手情報入力!$T$8=\"\",0,1))))","v":""},{"$f":"IF(E54=\"\",\"\",IF(②選手情報入力!T63=\"\",\"\",2))","v":""},{"$f":"IF(E54=\"\",\"\",IF(②選手情報入力!V63=\"\",\"\",IF(K54=1,種目情報!$J$5,種目情報!$J$7)))","v":""},{"$f":"IF(E54=\"\",\"\",IF(②選手情報入力!V63=\"\",\"\",IF(K54=1,IF(②選手情報入力!$W$7=\"\",\"\",②選手情報入力!$W$7),IF(②選手情報入力!$W$8=\"\",\"\",②選手情報入力!$W$8))))","v":""},{"$f":"IF(E54=\"\",\"\",IF(②選手情報入力!V63=\"\",\"\",IF(K54=1,IF(②選手情報入力!$V$7=\"\",0,1),IF(②選手情報入力!$V$8=\"\",0,1))))","v":""},{"$f":"IF(E54=\"\",\"\",IF(②選手情報入力!V63=\"\",\"\",2))","v":""},null,null,{"$f":"IF(②選手情報入力!F63=\"\",\"\",ASC(②選手情報入力!F63))","v":""},{"$f":"IF(②選手情報入力!F63=\"\",\"\",ASC(②選手情報入力!G63))","v":""}]
["",{"$f":"IF(E55=\"\",\"\",①団体情報入力!$C$5)","v":""},null,{"$f":"IF(E55=\"\",\"\",IF(①団体情報入力!C63=\"\",\"\",①団体情報入力!C63))","v":""},{"$f":"IF(②選手情報入力!C64=\"\",\"\",②選手情報入力!C64)","v":""},{"$f":"IF(E55=\"\",\"\",②選手情報入力!D64)","v":""},{"$f":"IF(E55=\"\",\"\",ASC(②選手情報入力!E64))","v":""},"","",{"$f":"IF(E55=\"\",\"\",IF(②選手情報入力!H64=\"\",\"JPN\",LEFT(②選手情報入力!H64,3)))","v":""},{"$f":"IF(E55=\"\",\"\",IF(②選手情報入力!I64=\"男\",1,2))","v":""},{"$f":"IF(E55=\"\",\"\",IF(②選手情報入力!J64=\"\",\"\",②選手情報入力!J64))","v":""},{"$f":"IF(E55=\"\",\"\",LEFT(②選手情報入力!K64,4))","v":""},{"$f":"IF(E55=\"\",\"\",RIGHT(②選手情報入力!K64,4))","v":""},"",null,{"$f":"IF(E55=\"\",\"\",IF(②選手情報入力!L64=\"\",\"\",IF(K55=1,VLOOKUP(②選手情報入力!L64,種目情報!$A$5:$B$167,2,FALSE),VLOOKUP(②選手情報入力!L64,種目情報!$E$5:$F$142,2,FALSE))))","v":""},{"$f":"IF(E55=\"\",\"\",IF(②選手情報入力!M64=\"\",\"\",②選手情報入力!M64))","v":""},null,{"$f":"IF(E55=\"\",\"\",IF(②選手情報入力!L64=\"\",\"\",IF(K55=1,VLOOKUP(②選手情報入力!L64,種目情報!$A$5:$C$135,3,FALSE),VLOOKUP(②選手情報入力!L64,種目情報!$E$5:$G$135,3,FALSE))))","v":""},{"$f":"IF(E55=\"\",\"\",IF(②選手情報入力!O64=\"\",\"\",IF(K55=1,VLOOKUP(②選手情報入力!O64,種目情報!$A$5:$B$151,2,FALSE),VLOOKUP(②選手情報入力!O64,種目情報!$E$5:$F$135,2,FALSE))))","v":""},{"$f":"IF(E55=\"\",\"\",IF(②選手情報入力!P64=\"\",\"\",②選手情報入力!P64))","v":""},{"$f":"IF(E55=\"\",\"\",IF(②選手情報入力!N64=\"\",\"\",1))","v":""},{"$f":"IF(E55=\"\",\"\",IF(②選手情報入力!O64=\"\",\"\",IF(K55=1,VLOOKUP(②選手情報入力!O64,種目情報!$A$5:$C$135,3,FALSE),VLOOKUP(②選手情報入力!O64,種目情報!$E$5:$G$135,3,FALSE))))","v":""},{"$f":"IF(E55=\"\",\"\",IF(②選手情報入力!R64=\"\",\"\",IF(K55=1,VLOOKUP(②選手情報入力!R64,種目情報!$A$5:$B$151,2,FALSE),VLOOKUP(②選手情報入力!R64,種目情報!$E$5:$F$135,2,FALSE))))","v":""},{"$f":"IF(E55=\"\",\"\",IF(②選手情報入力!S64=\"\",\"\",②選手情報入力!S64))","v":""},{"$f":"IF(E55=\"\",\"\",IF(②選手情報入力!Q64=\"\",\"\",1))","v":""},{"$f":"IF(E55=\"\",\"\",IF(②選手情報入力!R64=\"\",\"\",IF(K55=1,VLOOKUP(②選手情報入力!R64,種目情報!$A$5:$C$135,3,FALSE),VLOOKUP(②選手情報入力!R64,種目情報!$E$5:$G$135,3,FALSE))))","v":""},{"$f":"IF(E55=\"\",\"\",IF(②選手情報入力!T64=\"\",\"\",IF(K55=1,種目情報!$J$4,種目情報!$J$6)))","v":""},{"$f":"IF(E55=\"\",\"\",IF(②選手情報入力!T64=\"\",\"\",IF(K55=1,IF(②選手情報入力!$U$7=\"\",\"\",②選手情報入力!$U$7),IF(②選手情報入力!$U$8=\"\",\"\",②選手情報入力!$U$8))))","v":""},{"$f":"IF(E55=\"\",\"\",IF(②選手情報入力!T64=\"\",\"\",IF(K55=1,IF(②選手情報入力!$T$7=\"\",0,1),IF(②選手情報入力!$T$8=\"\",0,1))))","v":""},{"$f":"IF(E55=\"\",\"\",IF(②選手情報入力!T64=\"\",\"\",2))","v":""},{"$f":"IF(E55=\"\",\"\",IF(②選手情報入力!V64=\"\",\"\",IF(K55=1,種目情報!$J$5,種目情報!$J$7)))","v":""},{"$f":"IF(E55=\"\",\"\",IF(②選手情報入力!V64=\"\",\"\",IF(K55=1,IF(②選手情報入力!$W$7=\"\",\"\",②選手情報入力!$W$7),IF(②選手情報入力!$W$8=\"\",\"\",②選手情報入力!$W$8))))","v":""},{"$f":"IF(E55=\"\",\"\",IF(②選手情報入力!V64=\"\",\"\",IF(K55=1,IF(②選手情報入力!$V$7=\"\",0,1),IF(②選手情報入力!$V$8=\"\",0,1))))","v":""},{"$f":"IF(E55=\"\",\"\",IF(②選手情報入力!V64=\"\",\"\",2))","v":""},null,null,{"$f":"IF(②選手情報入力!F64=\"\",\"\",ASC(②選手情報入力!F64))","v":""},{"$f":"IF(②選手情報入力!F64=\"\",\"\",ASC(②選手情報入力!G64))","v":""}]
["",{"$f":"IF(E56=\"\",\"\",①団体情報入力!$C$5)","v":""},null,{"$f":"IF(E56=\"\",\"\",IF(①団体情報入力!C64=\"\",\"\",①団体情報入力!C64))","v":""},{"$f":"IF(②選手情報入力!C65=\"\",\"\",②選手情報入力!C65)","v":""},{"$f":"IF(E56=\"\",\"\",②選手情報入力!D65)","v":""},{"$f":"IF(E56=\"\",\"\",ASC(②選手情報入力!E65))","v":""},"","",{"$f":"IF(E56=\"\",\"\",IF(②選手情報入力!H65=\"\",\"JPN\",LEFT(②選手情報入力!H65,3)))","v":""},{"$f":"IF(E56=\"\",\"\",IF(②選手情報入力!I65=\"男\",1,2))","v":""},{"$f":"IF(E56=\"\",\"\",IF(②選手情報入力!J65=\"\",\"\",②選手情報入力!J65))","v":""},{"$f":"IF(E56=\"\",\"\",LEFT(②選手情報入力!K65,4))","v":""},{"$f":"IF(E56=\"\",\"\",RIGHT(②選手情報入力!K65,4))","v":""},"",null,{"$f":"IF(E56=\"\",\"\",IF(②選手情報入力!L65=\"\",\"\",IF(K56=1,VLOOKUP(②選手情報入力!L65,種目情報!$A$5:$B$167,2,FALSE),VLOOKUP(②選手情報入力!L65,種目情報!$E$5:$F$142,2,FALSE))))","v":""},{"$f":"IF(E56=\"\",\"\",IF(②選手情報入力!M65=\"\",\"\",②選手情報入力!M65))","v":""},null,{"$f":"IF(E56=\"\",\"\",IF(②選手情報入力!L65=\"\",\"\",IF(K56=1,VLOOKUP(②選手情報入力!L65,種目情報!$A$5:$C$135,3,FALSE),VLOOKUP(②選手情報入力!L65,種目情報!$E$5:$G$135,3,FALSE))))","v":""},{"$f":"IF(E56=\"\",\"\",IF(②選手情報入力!O65=\"\",\"\",IF(K56=1,VLOOKUP(②選手情報入力!O65,種目情報!$A$5:$B$151,2,FALSE),VLOOKUP(②選手情報入力!O65,種目情報!$E$5:$F$135,2,FALSE))))","v":""},{"$f":"IF(E56=\"\",\"\",IF(②選手情報入力!P65=\"\",\"\",②選手情報入力!P65))","v":""},{"$f":"IF(E56=\"\",\"\",IF(②選手情報入力!N65=\"\",\"\",1))","v":""},{"$f":"IF(E56=\"\",\"\",IF(②選手情報入力!O65=\"\",\"\",IF(K56=1,VLOOKUP(②選手情報入力!O65,種目情報!$A$5:$C$135,3,FALSE),VLOOKUP(②選手情報入力!O65,種目情報!$E$5:$G$135,3,FALSE))))","v":""},{"$f":"IF(E56=\"\",\"\",IF(②選手情報入力!R65=\"\",\"\",IF(K56=1,VLOOKUP(②選手情報入力!R65,種目情報!$A$5:$B$151,2,FALSE),VLOOKUP(②選手情報入力!R65,種目情報!$E$5:$F$135,2,FALSE))))","v":""},{"$f":"IF(E56=\"\",\"\",IF(②選手情報入力!S65=\"\",\"\",②選手情報入力!S65))","v":""},{"$f":"IF(E56=\"\",\"\",IF(②選手情報入力!Q65=\"\",\"\",1))","v":""},{"$f":"IF(E56=\"\",\"\",IF(②選手情報入力!R65=\"\",\"\",IF(K56=1,VLOOKUP(②選手情報入力!R65,種目情報!$A$5:$C$135,3,FALSE),VLOOKUP(②選手情報入力!R65,種目情報!$E$5:$G$135,3,FALSE))))","v":""},{"$f":"IF(E56=\"\",\"\",IF(②選手情報入力!T65=\"\",\"\",IF(K56=1,種目情報!$J$4,種目情報!$J$6)))","v":""},{"$f":"IF(E56=\"\",\"\",IF(②選手情報入力!T65=\"\",\"\",IF(K56=1,IF(②選手情報入力!$U$7=\"\",\"\",②選手情報入力!$U$7),IF(②選手情報入力!$U$8=\"\",\"\",②選手情報入力!$U$8))))","v":""},{"$f":"IF(E56=\"\",\"\",IF(②選手情報入力!T65=\"\",\"\",IF(K56=1,IF(②選手情報入力!$T$7=\"\",0,1),IF(②選手情報入力!$T$8=\"\",0,1))))","v":""},{"$f":"IF(E56=\"\",\"\",IF(②選手情報入力!T65=\"\",\"\",2))","v":""},{"$f":"IF(E56=\"\",\"\",IF(②選手情報入力!V65=\"\",\"\",IF(K56=1,種目情報!$J$5,種目情報!$J$7)))","v":""},{"$f":"IF(E56=\"\",\"\",IF(②選手情報入力!V65=\"\",\"\",IF(K56=1,IF(②選手情報入力!$W$7=\"\",\"\",②選手情報入力!$W$7),IF(②選手情報入力!$W$8=\"\",\"\",②選手情報入力!$W$8))))","v":""},{"$f":"IF(E56=\"\",\"\",IF(②選手情報入力!V65=\"\",\"\",IF(K56=1,IF(②選手情報入力!$V$7=\"\",0,1),IF(②選手情報入力!$V$8=\"\",0,1))))","v":""},{"$f":"IF(E56=\"\",\"\",IF(②選手情報入力!V65=\"\",\"\",2))","v":""},null,null,{"$f":"IF(②選手情報入力!F65=\"\",\"\",ASC(②選手情報入力!F65))","v":""},{"$f":"IF(②選手情報入力!F65=\"\",\"\",ASC(②選手情報入力!G65))","v":""}]
["",{"$f":"IF(E57=\"\",\"\",①団体情報入力!$C$5)","v":""},null,{"$f":"IF(E57=\"\",\"\",IF(①団体情報入力!C65=\"\",\"\",①団体情報入力!C65))","v":""},{"$f":"IF(②選手情報入力!C66=\"\",\"\",②選手情報入力!C66)","v":""},{"$f":"IF(E57=\"\",\"\",②選手情報入力!D66)","v":""},{"$f":"IF(E57=\"\",\"\",ASC(②選手情報入力!E66))","v":""},"","",{"$f":"IF(E57=\"\",\"\",IF(②選手情報入力!H66=\"\",\"JPN\",LEFT(②選手情報入力!H66,3)))","v":""},{"$f":"IF(E57=\"\",\"\",IF(②選手情報入力!I66=\"男\",1,2))","v":""},{"$f":"IF(E57=\"\",\"\",IF(②選手情報入力!J66=\"\",\"\",②選手情報入力!J66))","v":""},{"$f":"IF(E57=\"\",\"\",LEFT(②選手情報入力!K66,4))","v":""},{"$f":"IF(E57=\"\",\"\",RIGHT(②選手情報入力!K66,4))","v":""},"",null,{"$f":"IF(E57=\"\",\"\",IF(②選手情報入力!L66=\"\",\"\",IF(K57=1,VLOOKUP(②選手情報入力!L66,種目情報!$A$5:$B$167,2,FALSE),VLOOKUP(②選手情報入力!L66,種目情報!$E$5:$F$142,2,FALSE))))","v":""},{"$f":"IF(E57=\"\",\"\",IF(②選手情報入力!M66=\"\",\"\",②選手情報入力!M66))","v":""},null,{"$f":"IF(E57=\"\",\"\",IF(②選手情報入力!L66=\"\",\"\",IF(K57=1,VLOOKUP(②選手情報入力!L66,種目情報!$A$5:$C$135,3,FALSE),VLOOKUP(②選手情報入力!L66,種目情報!$E$5:$G$135,3,FALSE))))","v":""},{"$f":"IF(E57=\"\",\"\",IF(②選手情報入力!O66=\"\",\"\",IF(K57=1,VLOOKUP(②選手情報入力!O66,種目情報!$A$5:$B$151,2,FALSE),VLOOKUP(②選手情報入力!O66,種目情報!$E$5:$F$135,2,FALSE))))","v":""},{"$f":"IF(E57=\"\",\"\",IF(②選手情報入力!P66=\"\",\"\",②選手情報入力!P66))","v":""},{"$f":"IF(E57=\"\",\"\",IF(②選手情報入力!N66=\"\",\"\",1))","v":""},{"$f":"IF(E57=\"\",\"\",IF(②選手情報入力!O66=\"\",\"\",IF(K57=1,VLOOKUP(②選手情報入力!O66,種目情報!$A$5:$C$135,3,FALSE),VLOOKUP(②選手情報入力!O66,種目情報!$E$5:$G$135,3,FALSE))))","v":""},{"$f":"IF(E57=\"\",\"\",IF(②選手情報入力!R66=\"\",\"\",IF(K57=1,VLOOKUP(②選手情報入力!R66,種目情報!$A$5:$B$151,2,FALSE),VLOOKUP(②選手情報入力!R66,種目情報!$E$5:$F$135,2,FALSE))))","v":""},{"$f":"IF(E57=\"\",\"\",IF(②選手情報入力!S66=\"\",\"\",②選手情報入力!S66))","v":""},{"$f":"IF(E57=\"\",\"\",IF(②選手情報入力!Q66=\"\",\"\",1))","v":""},{"$f":"IF(E57=\"\",\"\",IF(②選手情報入力!R66=\"\",\"\",IF(K57=1,VLOOKUP(②選手情報入力!R66,種目情報!$A$5:$C$135,3,FALSE),VLOOKUP(②選手情報入力!R66,種目情報!$E$5:$G$135,3,FALSE))))","v":""},{"$f":"IF(E57=\"\",\"\",IF(②選手情報入力!T66=\"\",\"\",IF(K57=1,種目情報!$J$4,種目情報!$J$6)))","v":""},{"$f":"IF(E57=\"\",\"\",IF(②選手情報入力!T66=\"\",\"\",IF(K57=1,IF(②選手情報入力!$U$7=\"\",\"\",②選手情報入力!$U$7),IF(②選手情報入力!$U$8=\"\",\"\",②選手情報入力!$U$8))))","v":""},{"$f":"IF(E57=\"\",\"\",IF(②選手情報入力!T66=\"\",\"\",IF(K57=1,IF(②選手情報入力!$T$7=\"\",0,1),IF(②選手情報入力!$T$8=\"\",0,1))))","v":""},{"$f":"IF(E57=\"\",\"\",IF(②選手情報入力!T66=\"\",\"\",2))","v":""},{"$f":"IF(E57=\"\",\"\",IF(②選手情報入力!V66=\"\",\"\",IF(K57=1,種目情報!$J$5,種目情報!$J$7)))","v":""},{"$f":"IF(E57=\"\",\"\",IF(②選手情報入力!V66=\"\",\"\",IF(K57=1,IF(②選手情報入力!$W$7=\"\",\"\",②選手情報入力!$W$7),IF(②選手情報入力!$W$8=\"\",\"\",②選手情報入力!$W$8))))","v":""},{"$f":"IF(E57=\"\",\"\",IF(②選手情報入力!V66=\"\",\"\",IF(K57=1,IF(②選手情報入力!$V$7=\"\",0,1),IF(②選手情報入力!$V$8=\"\",0,1))))","v":""},{"$f":"IF(E57=\"\",\"\",IF(②選手情報入力!V66=\"\",\"\",2))","v":""},null,null,{"$f":"IF(②選手情報入力!F66=\"\",\"\",ASC(②選手情報入力!F66))","v":""},{"$f":"IF(②選手情報入力!F66=\"\",\"\",ASC(②選手情報入力!G66))","v":""}]
["",{"$f":"IF(E58=\"\",\"\",①団体情報入力!$C$5)","v":""},null,{"$f":"IF(E58=\"\",\"\",IF(①団体情報入力!C66=\"\",\"\",①団体情報入力!C66))","v":""},{"$f":"IF(②選手情報入力!C67=\"\",\"\",②選手情報入力!C67)","v":""},{"$f":"IF(E58=\"\",\"\",②選手情報入力!D67)","v":""},{"$f":"IF(E58=\"\",\"\",ASC(②選手情報入力!E67))","v":""},"","",{"$f":"IF(E58=\"\",\"\",IF(②選手情報入力!H67=\"\",\"JPN\",LEFT(②選手情報入力!H67,3)))","v":""},{"$f":"IF(E58=\"\",\"\",IF(②選手情報入力!I67=\"男\",1,2))","v":""},{"$f":"IF(E58=\"\",\"\",IF(②選手情報入力!J67=\"\",\"\",②選手情報入力!J67))","v":""},{"$f":"IF(E58=\"\",\"\",LEFT(②選手情報入力!K67,4))","v":""},{"$f":"IF(E58=\"\",\"\",RIGHT(②選手情報入力!K67,4))","v":""},"",null,{"$f":"IF(E58=\"\",\"\",IF(②選手情報入力!L67=\"\",\"\",IF(K58=1,VLOOKUP(②選手情報入力!L67,種目情報!$A$5:$B$167,2,FALSE),VLOOKUP(②選手情報入力!L67,種目情報!$E$5:$F$142,2,FALSE))))","v":""},{"$f":"IF(E58=\"\",\"\",IF(②選手情報入力!M67=\"\",\"\",②選手情報入力!M67))","v":""},null,{"$f":"IF(E58=\"\",\"\",IF(②選手情報入力!L67=\"\",\"\",IF(K58=1,VLOOKUP(②選手情報入力!L67,種目情報!$A$5:$C$135,3,FALSE),VLOOKUP(②選手情報入力!L67,種目情報!$E$5:$G$135,3,FALSE))))","v":""},{"$f":"IF(E58=\"\",\"\",IF(②選手情報入力!O67=\"\",\"\",IF(K58=1,VLOOKUP(②選手情報入力!O67,種目情報!$A$5:$B$151,2,FALSE),VLOOKUP(②選手情報入力!O67,種目情報!$E$5:$F$135,2,FALSE))))","v":""},{"$f":"IF(E58=\"\",\"\",IF(②選手情報入力!P67=\"\",\"\",②選手情報入力!P67))","v":""},{"$f":"IF(E58=\"\",\"\",IF(②選手情報入力!N67=\"\",\"\",1))","v":""},{"$f":"IF(E58=\"\",\"\",IF(②選手情報入力!O67=\"\",\"\",IF(K58=1,VLOOKUP(②選手情報入力!O67,種目情報!$A$5:$C$135,3,FALSE),VLOOKUP(②選手情報入力!O67,種目情報!$E$5:$G$135,3,FALSE))))","v":""},{"$f":"IF(E58=\"\",\"\",IF(②選手情報入力!R67=\"\",\"\",IF(K58=1,VLOOKUP(②選手情報入力!R67,種目情報!$A$5:$B$151,2,FALSE),VLOOKUP(②選手情報入力!R67,種目情報!$E$5:$F$135,2,FALSE))))","v":""},{"$f":"IF(E58=\"\",\"\",IF(②選手情報入力!S67=\"\",\"\",②選手情報入力!S67))","v":""},{"$f":"IF(E58=\"\",\"\",IF(②選手情報入力!Q67=\"\",\"\",1))","v":""},{"$f":"IF(E58=\"\",\"\",IF(②選手情報入力!R67=\"\",\"\",IF(K58=1,VLOOKUP(②選手情報入力!R67,種目情報!$A$5:$C$135,3,FALSE),VLOOKUP(②選手情報入力!R67,種目情報!$E$5:$G$135,3,FALSE))))","v":""},{"$f":"IF(E58=\"\",\"\",IF(②選手情報入力!T67=\"\",\"\",IF(K58=1,種目情報!$J$4,種目情報!$J$6)))","v":""},{"$f":"IF(E58=\"\",\"\",IF(②選手情報入力!T67=\"\",\"\",IF(K58=1,IF(②選手情報入力!$U$7=\"\",\"\",②選手情報入力!$U$7),IF(②選手情報入力!$U$8=\"\",\"\",②選手情報入力!$U$8))))","v":""},{"$f":"IF(E58=\"\",\"\",IF(②選手情報入力!T67=\"\",\"\",IF(K58=1,IF(②選手情報入力!$T$7=\"\",0,1),IF(②選手情報入力!$T$8=\"\",0,1))))","v":""},{"$f":"IF(E58=\"\",\"\",IF(②選手情報入力!T67=\"\",\"\",2))","v":""},{"$f":"IF(E58=\"\",\"\",IF(②選手情報入力!V67=\"\",\"\",IF(K58=1,種目情報!$J$5,種目情報!$J$7)))","v":""},{"$f":"IF(E58=\"\",\"\",IF(②選手情報入力!V67=\"\",\"\",IF(K58=1,IF(②選手情報入力!$W$7=\"\",\"\",②選手情報入力!$W$7),IF(②選手情報入力!$W$8=\"\",\"\",②選手情報入力!$W$8))))","v":""},{"$f":"IF(E58=\"\",\"\",IF(②選手情報入力!V67=\"\",\"\",IF(K58=1,IF(②選手情報入力!$V$7=\"\",0,1),IF(②選手情報入力!$V$8=\"\",0,1))))","v":""},{"$f":"IF(E58=\"\",\"\",IF(②選手情報入力!V67=\"\",\"\",2))","v":""},null,null,{"$f":"IF(②選手情報入力!F67=\"\",\"\",ASC(②選手情報入力!F67))","v":""},{"$f":"IF(②選手情報入力!F67=\"\",\"\",ASC(②選手情報入力!G67))","v":""}]
["",{"$f":"IF(E59=\"\",\"\",①団体情報入力!$C$5)","v":""},null,{"$f":"IF(E59=\"\",\"\",IF(①団体情報入力!C67=\"\",\"\",①団体情報入力!C67))","v":""},{"$f":"IF(②選手情報入力!C68=\"\",\"\",②選手情報入力!C68)","v":""},{"$f":"IF(E59=\"\",\"\",②選手情報入力!D68)","v":""},{"$f":"IF(E59=\"\",\"\",ASC(②選手情報入力!E68))","v":""},"","",{"$f":"IF(E59=\"\",\"\",IF(②選手情報入力!H68=\"\",\"JPN\",LEFT(②選手情報入力!H68,3)))","v":""},{"$f":"IF(E59=\"\",\"\",IF(②選手情報入力!I68=\"男\",1,2))","v":""},{"$f":"IF(E59=\"\",\"\",IF(②選手情報入力!J68=\"\",\"\",②選手情報入力!J68))","v":""},{"$f":"IF(E59=\"\",\"\",LEFT(②選手情報入力!K68,4))","v":""},{"$f":"IF(E59=\"\",\"\",RIGHT(②選手情報入力!K68,4))","v":""},"",null,{"$f":"IF(E59=\"\",\"\",IF(②選手情報入力!L68=\"\",\"\",IF(K59=1,VLOOKUP(②選手情報入力!L68,種目情報!$A$5:$B$167,2,FALSE),VLOOKUP(②選手情報入力!L68,種目情報!$E$5:$F$142,2,FALSE))))","v":""},{"$f":"IF(E59=\"\",\"\",IF(②選手情報入力!M68=\"\",\"\",②選手情報入力!M68))","v":""},null,{"$f":"IF(E59=\"\",\"\",IF(②選手情報入力!L68=\"\",\"\",IF(K59=1,VLOOKUP(②選手情報入力!L68,種目情報!$A$5:$C$135,3,FALSE),VLOOKUP(②選手情報入力!L68,種目情報!$E$5:$G$135,3,FALSE))))","v":""},{"$f":"IF(E59=\"\",\"\",IF(②選手情報入力!O68=\"\",\"\",IF(K59=1,VLOOKUP(②選手情報入力!O68,種目情報!$A$5:$B$151,2,FALSE),VLOOKUP(②選手情報入力!O68,種目情報!$E$5:$F$135,2,FALSE))))","v":""},{"$f":"IF(E59=\"\",\"\",IF(②選手情報入力!P68=\"\",\"\",②選手情報入力!P68))","v":""},{"$f":"IF(E59=\"\",\"\",IF(②選手情報入力!N68=\"\",\"\",1))","v":""},{"$f":"IF(E59=\"\",\"\",IF(②選手情報入力!O68=\"\",\"\",IF(K59=1,VLOOKUP(②選手情報入力!O68,種目情報!$A$5:$C$135,3,FALSE),VLOOKUP(②選手情報入力!O68,種目情報!$E$5:$G$135,3,FALSE))))","v":""},{"$f":"IF(E59=\"\",\"\",IF(②選手情報入力!R68=\"\",\"\",IF(K59=1,VLOOKUP(②選手情報入力!R68,種目情報!$A$5:$B$151,2,FALSE),VLOOKUP(②選手情報入力!R68,種目情報!$E$5:$F$135,2,FALSE))))","v":""},{"$f":"IF(E59=\"\",\"\",IF(②選手情報入力!S68=\"\",\"\",②選手情報入力!S68))","v":""},{"$f":"IF(E59=\"\",\"\",IF(②選手情報入力!Q68=\"\",\"\",1))","v":""},{"$f":"IF(E59=\"\",\"\",IF(②選手情報入力!R68=\"\",\"\",IF(K59=1,VLOOKUP(②選手情報入力!R68,種目情報!$A$5:$C$135,3,FALSE),VLOOKUP(②選手情報入力!R68,種目情報!$E$5:$G$135,3,FALSE))))","v":""},{"$f":"IF(E59=\"\",\"\",IF(②選手情報入力!T68=\"\",\"\",IF(K59=1,種目情報!$J$4,種目情報!$J$6)))","v":""},{"$f":"IF(E59=\"\",\"\",IF(②選手情報入力!T68=\"\",\"\",IF(K59=1,IF(②選手情報入力!$U$7=\"\",\"\",②選手情報入力!$U$7),IF(②選手情報入力!$U$8=\"\",\"\",②選手情報入力!$U$8))))","v":""},{"$f":"IF(E59=\"\",\"\",IF(②選手情報入力!T68=\"\",\"\",IF(K59=1,IF(②選手情報入力!$T$7=\"\",0,1),IF(②選手情報入力!$T$8=\"\",0,1))))","v":""},{"$f":"IF(E59=\"\",\"\",IF(②選手情報入力!T68=\"\",\"\",2))","v":""},{"$f":"IF(E59=\"\",\"\",IF(②選手情報入力!V68=\"\",\"\",IF(K59=1,種目情報!$J$5,種目情報!$J$7)))","v":""},{"$f":"IF(E59=\"\",\"\",IF(②選手情報入力!V68=\"\",\"\",IF(K59=1,IF(②選手情報入力!$W$7=\"\",\"\",②選手情報入力!$W$7),IF(②選手情報入力!$W$8=\"\",\"\",②選手情報入力!$W$8))))","v":""},{"$f":"IF(E59=\"\",\"\",IF(②選手情報入力!V68=\"\",\"\",IF(K59=1,IF(②選手情報入力!$V$7=\"\",0,1),IF(②選手情報入力!$V$8=\"\",0,1))))","v":""},{"$f":"IF(E59=\"\",\"\",IF(②選手情報入力!V68=\"\",\"\",2))","v":""},null,null,{"$f":"IF(②選手情報入力!F68=\"\",\"\",ASC(②選手情報入力!F68))","v":""},{"$f":"IF(②選手情報入力!F68=\"\",\"\",ASC(②選手情報入力!G68))","v":""}]
["",{"$f":"IF(E60=\"\",\"\",①団体情報入力!$C$5)","v":""},null,{"$f":"IF(E60=\"\",\"\",IF(①団体情報入力!C68=\"\",\"\",①団体情報入力!C68))","v":""},{"$f":"IF(②選手情報入力!C69=\"\",\"\",②選手情報入力!C69)","v":""},{"$f":"IF(E60=\"\",\"\",②選手情報入力!D69)","v":""},{"$f":"IF(E60=\"\",\"\",ASC(②選手情報入力!E69))","v":""},"","",{"$f":"IF(E60=\"\",\"\",IF(②選手情報入力!H69=\"\",\"JPN\",LEFT(②選手情報入力!H69,3)))","v":""},{"$f":"IF(E60=\"\",\"\",IF(②選手情報入力!I69=\"男\",1,2))","v":""},{"$f":"IF(E60=\"\",\"\",IF(②選手情報入力!J69=\"\",\"\",②選手情報入力!J69))","v":""},{"$f":"IF(E60=\"\",\"\",LEFT(②選手情報入力!K69,4))","v":""},{"$f":"IF(E60=\"\",\"\",RIGHT(②選手情報入力!K69,4))","v":""},"",null,{"$f":"IF(E60=\"\",\"\",IF(②選手情報入力!L69=\"\",\"\",IF(K60=1,VLOOKUP(②選手情報入力!L69,種目情報!$A$5:$B$167,2,FALSE),VLOOKUP(②選手情報入力!L69,種目情報!$E$5:$F$142,2,FALSE))))","v":""},{"$f":"IF(E60=\"\",\"\",IF(②選手情報入力!M69=\"\",\"\",②選手情報入力!M69))","v":""},null,{"$f":"IF(E60=\"\",\"\",IF(②選手情報入力!L69=\"\",\"\",IF(K60=1,VLOOKUP(②選手情報入力!L69,種目情報!$A$5:$C$135,3,FALSE),VLOOKUP(②選手情報入力!L69,種目情報!$E$5:$G$135,3,FALSE))))","v":""},{"$f":"IF(E60=\"\",\"\",IF(②選手情報入力!O69=\"\",\"\",IF(K60=1,VLOOKUP(②選手情報入力!O69,種目情報!$A$5:$B$151,2,FALSE),VLOOKUP(②選手情報入力!O69,種目情報!$E$5:$F$135,2,FALSE))))","v":""},{"$f":"IF(E60=\"\",\"\",IF(②選手情報入力!P69=\"\",\"\",②選手情報入力!P69))","v":""},{"$f":"IF(E60=\"\",\"\",IF(②選手情報入力!N69=\"\",\"\",1))","v":""},{"$f":"IF(E60=\"\",\"\",IF(②選手情報入力!O69=\"\",\"\",IF(K60=1,VLOOKUP(②選手情報入力!O69,種目情報!$A$5:$C$135,3,FALSE),VLOOKUP(②選手情報入力!O69,種目情報!$E$5:$G$135,3,FALSE))))","v":""},{"$f":"IF(E60=\"\",\"\",IF(②選手情報入力!R69=\"\",\"\",IF(K60=1,VLOOKUP(②選手情報入力!R69,種目情報!$A$5:$B$151,2,FALSE),VLOOKUP(②選手情報入力!R69,種目情報!$E$5:$F$135,2,FALSE))))","v":""},{"$f":"IF(E60=\"\",\"\",IF(②選手情報入力!S69=\"\",\"\",②選手情報入力!S69))","v":""},{"$f":"IF(E60=\"\",\"\",IF(②選手情報入力!Q69=\"\",\"\",1))","v":""},{"$f":"IF(E60=\"\",\"\",IF(②選手情報入力!R69=\"\",\"\",IF(K60=1,VLOOKUP(②選手情報入力!R69,種目情報!$A$5:$C$135,3,FALSE),VLOOKUP(②選手情報入力!R69,種目情報!$E$5:$G$135,3,FALSE))))","v":""},{"$f":"IF(E60=\"\",\"\",IF(②選手情報入力!T69=\"\",\"\",IF(K60=1,種目情報!$J$4,種目情報!$J$6)))","v":""},{"$f":"IF(E60=\"\",\"\",IF(②選手情報入力!T69=\"\",\"\",IF(K60=1,IF(②選手情報入力!$U$7=\"\",\"\",②選手情報入力!$U$7),IF(②選手情報入力!$U$8=\"\",\"\",②選手情報入力!$U$8))))","v":""},{"$f":"IF(E60=\"\",\"\",IF(②選手情報入力!T69=\"\",\"\",IF(K60=1,IF(②選手情報入力!$T$7=\"\",0,1),IF(②選手情報入力!$T$8=\"\",0,1))))","v":""},{"$f":"IF(E60=\"\",\"\",IF(②選手情報入力!T69=\"\",\"\",2))","v":""},{"$f":"IF(E60=\"\",\"\",IF(②選手情報入力!V69=\"\",\"\",IF(K60=1,種目情報!$J$5,種目情報!$J$7)))","v":""},{"$f":"IF(E60=\"\",\"\",IF(②選手情報入力!V69=\"\",\"\",IF(K60=1,IF(②選手情報入力!$W$7=\"\",\"\",②選手情報入力!$W$7),IF(②選手情報入力!$W$8=\"\",\"\",②選手情報入力!$W$8))))","v":""},{"$f":"IF(E60=\"\",\"\",IF(②選手情報入力!V69=\"\",\"\",IF(K60=1,IF(②選手情報入力!$V$7=\"\",0,1),IF(②選手情報入力!$V$8=\"\",0,1))))","v":""},{"$f":"IF(E60=\"\",\"\",IF(②選手情報入力!V69=\"\",\"\",2))","v":""},null,null,{"$f":"IF(②選手情報入力!F69=\"\",\"\",ASC(②選手情報入力!F69))","v":""},{"$f":"IF(②選手情報入力!F69=\"\",\"\",ASC(②選手情報入力!G69))","v":""}]
["",{"$f":"IF(E61=\"\",\"\",①団体情報入力!$C$5)","v":""},null,{"$f":"IF(E61=\"\",\"\",IF(①団体情報入力!C69=\"\",\"\",①団体情報入力!C69))","v":""},{"$f":"IF(②選手情報入力!C70=\"\",\"\",②選手情報入力!C70)","v":""},{"$f":"IF(E61=\"\",\"\",②選手情報入力!D70)","v":""},{"$f":"IF(E61=\"\",\"\",ASC(②選手情報入力!E70))","v":""},"","",{"$f":"IF(E61=\"\",\"\",IF(②選手情報入力!H70=\"\",\"JPN\",LEFT(②選手情報入力!H70,3)))","v":""},{"$f":"IF(E61=\"\",\"\",IF(②選手情報入力!I70=\"男\",1,2))","v":""},{"$f":"IF(E61=\"\",\"\",IF(②選手情報入力!J70=\"\",\"\",②選手情報入力!J70))","v":""},{"$f":"IF(E61=\"\",\"\",LEFT(②選手情報入力!K70,4))","v":""},{"$f":"IF(E61=\"\",\"\",RIGHT(②選手情報入力!K70,4))","v":""},"",null,{"$f":"IF(E61=\"\",\"\",IF(②選手情報入力!L70=\"\",\"\",IF(K61=1,VLOOKUP(②選手情報入力!L70,種目情報!$A$5:$B$167,2,FALSE),VLOOKUP(②選手情報入力!L70,種目情報!$E$5:$F$142,2,FALSE))))","v":""},{"$f":"IF(E61=\"\",\"\",IF(②選手情報入力!M70=\"\",\"\",②選手情報入力!M70))","v":""},null,{"$f":"IF(E61=\"\",\"\",IF(②選手情報入力!L70=\"\",\"\",IF(K61=1,VLOOKUP(②選手情報入力!L70,種目情報!$A$5:$C$135,3,FALSE),VLOOKUP(②選手情報入力!L70,種目情報!$E$5:$G$135,3,FALSE))))","v":""},{"$f":"IF(E61=\"\",\"\",IF(②選手情報入力!O70=\"\",\"\",IF(K61=1,VLOOKUP(②選手情報入力!O70,種目情報!$A$5:$B$151,2,FALSE),VLOOKUP(②選手情報入力!O70,種目情報!$E$5:$F$135,2,FALSE))))","v":""},{"$f":"IF(E61=\"\",\"\",IF(②選手情報入力!P70=\"\",\"\",②選手情報入力!P70))","v":""},{"$f":"IF(E61=\"\",\"\",IF(②選手情報入力!N70=\"\",\"\",1))","v":""},{"$f":"IF(E61=\"\",\"\",IF(②選手情報入力!O70=\"\",\"\",IF(K61=1,VLOOKUP(②選手情報入力!O70,種目情報!$A$5:$C$135,3,FALSE),VLOOKUP(②選手情報入力!O70,種目情報!$E$5:$G$135,3,FALSE))))","v":""},{"$f":"IF(E61=\"\",\"\",IF(②選手情報入力!R70=\"\",\"\",IF(K61=1,VLOOKUP(②選手情報入力!R70,種目情報!$A$5:$B$151,2,FALSE),VLOOKUP(②選手情報入力!R70,種目情報!$E$5:$F$135,2,FALSE))))","v":""},{"$f":"IF(E61=\"\",\"\",IF(②選手情報入力!S70=\"\",\"\",②選手情報入力!S70))","v":""},{"$f":"IF(E61=\"\",\"\",IF(②選手情報入力!Q70=\"\",\"\",1))","v":""},{"$f":"IF(E61=\"\",\"\",IF(②選手情報入力!R70=\"\",\"\",IF(K61=1,VLOOKUP(②選手情報入力!R70,種目情報!$A$5:$C$135,3,FALSE),VLOOKUP(②選手情報入力!R70,種目情報!$E$5:$G$135,3,FALSE))))","v":""},{"$f":"IF(E61=\"\",\"\",IF(②選手情報入力!T70=\"\",\"\",IF(K61=1,種目情報!$J$4,種目情報!$J$6)))","v":""},{"$f":"IF(E61=\"\",\"\",IF(②選手情報入力!T70=\"\",\"\",IF(K61=1,IF(②選手情報入力!$U$7=\"\",\"\",②選手情報入力!$U$7),IF(②選手情報入力!$U$8=\"\",\"\",②選手情報入力!$U$8))))","v":""},{"$f":"IF(E61=\"\",\"\",IF(②選手情報入力!T70=\"\",\"\",IF(K61=1,IF(②選手情報入力!$T$7=\"\",0,1),IF(②選手情報入力!$T$8=\"\",0,1))))","v":""},{"$f":"IF(E61=\"\",\"\",IF(②選手情報入力!T70=\"\",\"\",2))","v":""},{"$f":"IF(E61=\"\",\"\",IF(②選手情報入力!V70=\"\",\"\",IF(K61=1,種目情報!$J$5,種目情報!$J$7)))","v":""},{"$f":"IF(E61=\"\",\"\",IF(②選手情報入力!V70=\"\",\"\",IF(K61=1,IF(②選手情報入力!$W$7=\"\",\"\",②選手情報入力!$W$7),IF(②選手情報入力!$W$8=\"\",\"\",②選手情報入力!$W$8))))","v":""},{"$f":"IF(E61=\"\",\"\",IF(②選手情報入力!V70=\"\",\"\",IF(K61=1,IF(②選手情報入力!$V$7=\"\",0,1),IF(②選手情報入力!$V$8=\"\",0,1))))","v":""},{"$f":"IF(E61=\"\",\"\",IF(②選手情報入力!V70=\"\",\"\",2))","v":""},null,null,{"$f":"IF(②選手情報入力!F70=\"\",\"\",ASC(②選手情報入力!F70))","v":""},{"$f":"IF(②選手情報入力!F70=\"\",\"\",ASC(②選手情報入力!G70))","v":""}]
["",{"$f":"IF(E62=\"\",\"\",①団体情報入力!$C$5)","v":""},null,{"$f":"IF(E62=\"\",\"\",IF(①団体情報入力!C70=\"\",\"\",①団体情報入力!C70))","v":""},{"$f":"IF(②選手情報入力!C71=\"\",\"\",②選手情報入力!C71)","v":""},{"$f":"IF(E62=\"\",\"\",②選手情報入力!D71)","v":""},{"$f":"IF(E62=\"\",\"\",ASC(②選手情報入力!E71))","v":""},"","",{"$f":"IF(E62=\"\",\"\",IF(②選手情報入力!H71=\"\",\"JPN\",LEFT(②選手情報入力!H71,3)))","v":""},{"$f":"IF(E62=\"\",\"\",IF(②選手情報入力!I71=\"男\",1,2))","v":""},{"$f":"IF(E62=\"\",\"\",IF(②選手情報入力!J71=\"\",\"\",②選手情報入力!J71))","v":""},{"$f":"IF(E62=\"\",\"\",LEFT(②選手情報入力!K71,4))","v":""},{"$f":"IF(E62=\"\",\"\",RIGHT(②選手情報入力!K71,4))","v":""},"",null,{"$f":"IF(E62=\"\",\"\",IF(②選手情報入力!L71=\"\",\"\",IF(K62=1,VLOOKUP(②選手情報入力!L71,種目情報!$A$5:$B$167,2,FALSE),VLOOKUP(②選手情報入力!L71,種目情報!$E$5:$F$142,2,FALSE))))","v":""},{"$f":"IF(E62=\"\",\"\",IF(②選手情報入力!M71=\"\",\"\",②選手情報入力!M71))","v":""},null,{"$f":"IF(E62=\"\",\"\",IF(②選手情報入力!L71=\"\",\"\",IF(K62=1,VLOOKUP(②選手情報入力!L71,種目情報!$A$5:$C$135,3,FALSE),VLOOKUP(②選手情報入力!L71,種目情報!$E$5:$G$135,3,FALSE))))","v":""},{"$f":"IF(E62=\"\",\"\",IF(②選手情報入力!O71=\"\",\"\",IF(K62=1,VLOOKUP(②選手情報入力!O71,種目情報!$A$5:$B$151,2,FALSE),VLOOKUP(②選手情報入力!O71,種目情報!$E$5:$F$135,2,FALSE))))","v":""},{"$f":"IF(E62=\"\",\"\",IF(②選手情報入力!P71=\"\",\"\",②選手情報入力!P71))","v":""},{"$f":"IF(E62=\"\",\"\",IF(②選手情報入力!N71=\"\",\"\",1))","v":""},{"$f":"IF(E62=\"\",\"\",IF(②選手情報入力!O71=\"\",\"\",IF(K62=1,VLOOKUP(②選手情報入力!O71,種目情報!$A$5:$C$135,3,FALSE),VLOOKUP(②選手情報入力!O71,種目情報!$E$5:$G$135,3,FALSE))))","v":""},{"$f":"IF(E62=\"\",\"\",IF(②選手情報入力!R71=\"\",\"\",IF(K62=1,VLOOKUP(②選手情報入力!R71,種目情報!$A$5:$B$151,2,FALSE),VLOOKUP(②選手情報入力!R71,種目情報!$E$5:$F$135,2,FALSE))))","v":""},{"$f":"IF(E62=\"\",\"\",IF(②選手情報入力!S71=\"\",\"\",②選手情報入力!S71))","v":""},{"$f":"IF(E62=\"\",\"\",IF(②選手情報入力!Q71=\"\",\"\",1))","v":""},{"$f":"IF(E62=\"\",\"\",IF(②選手情報入力!R71=\"\",\"\",IF(K62=1,VLOOKUP(②選手情報入力!R71,種目情報!$A$5:$C$135,3,FALSE),VLOOKUP(②選手情報入力!R71,種目情報!$E$5:$G$135,3,FALSE))))","v":""},{"$f":"IF(E62=\"\",\"\",IF(②選手情報入力!T71=\"\",\"\",IF(K62=1,種目情報!$J$4,種目情報!$J$6)))","v":""},{"$f":"IF(E62=\"\",\"\",IF(②選手情報入力!T71=\"\",\"\",IF(K62=1,IF(②選手情報入力!$U$7=\"\",\"\",②選手情報入力!$U$7),IF(②選手情報入力!$U$8=\"\",\"\",②選手情報入力!$U$8))))","v":""},{"$f":"IF(E62=\"\",\"\",IF(②選手情報入力!T71=\"\",\"\",IF(K62=1,IF(②選手情報入力!$T$7=\"\",0,1),IF(②選手情報入力!$T$8=\"\",0,1))))","v":""},{"$f":"IF(E62=\"\",\"\",IF(②選手情報入力!T71=\"\",\"\",2))","v":""},{"$f":"IF(E62=\"\",\"\",IF(②選手情報入力!V71=\"\",\"\",IF(K62=1,種目情報!$J$5,種目情報!$J$7)))","v":""},{"$f":"IF(E62=\"\",\"\",IF(②選手情報入力!V71=\"\",\"\",IF(K62=1,IF(②選手情報入力!$W$7=\"\",\"\",②選手情報入力!$W$7),IF(②選手情報入力!$W$8=\"\",\"\",②選手情報入力!$W$8))))","v":""},{"$f":"IF(E62=\"\",\"\",IF(②選手情報入力!V71=\"\",\"\",IF(K62=1,IF(②選手情報入力!$V$7=\"\",0,1),IF(②選手情報入力!$V$8=\"\",0,1))))","v":""},{"$f":"IF(E62=\"\",\"\",IF(②選手情報入力!V71=\"\",\"\",2))","v":""},null,null,{"$f":"IF(②選手情報入力!F71=\"\",\"\",ASC(②選手情報入力!F71))","v":""},{"$f":"IF(②選手情報入力!F71=\"\",\"\",ASC(②選手情報入力!G71))","v":""}]
["",{"$f":"IF(E63=\"\",\"\",①団体情報入力!$C$5)","v":""},null,{"$f":"IF(E63=\"\",\"\",IF(①団体情報入力!C71=\"\",\"\",①団体情報入力!C71))","v":""},{"$f":"IF(②選手情報入力!C72=\"\",\"\",②選手情報入力!C72)","v":""},{"$f":"IF(E63=\"\",\"\",②選手情報入力!D72)","v":""},{"$f":"IF(E63=\"\",\"\",ASC(②選手情報入力!E72))","v":""},"","",{"$f":"IF(E63=\"\",\"\",IF(②選手情報入力!H72=\"\",\"JPN\",LEFT(②選手情報入力!H72,3)))","v":""},{"$f":"IF(E63=\"\",\"\",IF(②選手情報入力!I72=\"男\",1,2))","v":""},{"$f":"IF(E63=\"\",\"\",IF(②選手情報入力!J72=\"\",\"\",②選手情報入力!J72))","v":""},{"$f":"IF(E63=\"\",\"\",LEFT(②選手情報入力!K72,4))","v":""},{"$f":"IF(E63=\"\",\"\",RIGHT(②選手情報入力!K72,4))","v":""},"",null,{"$f":"IF(E63=\"\",\"\",IF(②選手情報入力!L72=\"\",\"\",IF(K63=1,VLOOKUP(②選手情報入力!L72,種目情報!$A$5:$B$167,2,FALSE),VLOOKUP(②選手情報入力!L72,種目情報!$E$5:$F$142,2,FALSE))))","v":""},{"$f":"IF(E63=\"\",\"\",IF(②選手情報入力!M72=\"\",\"\",②選手情報入力!M72))","v":""},null,{"$f":"IF(E63=\"\",\"\",IF(②選手情報入力!L72=\"\",\"\",IF(K63=1,VLOOKUP(②選手情報入力!L72,種目情報!$A$5:$C$135,3,FALSE),VLOOKUP(②選手情報入力!L72,種目情報!$E$5:$G$135,3,FALSE))))","v":""},{"$f":"IF(E63=\"\",\"\",IF(②選手情報入力!O72=\"\",\"\",IF(K63=1,VLOOKUP(②選手情報入力!O72,種目情報!$A$5:$B$151,2,FALSE),VLOOKUP(②選手情報入力!O72,種目情報!$E$5:$F$135,2,FALSE))))","v":""},{"$f":"IF(E63=\"\",\"\",IF(②選手情報入力!P72=\"\",\"\",②選手情報入力!P72))","v":""},{"$f":"IF(E63=\"\",\"\",IF(②選手情報入力!N72=\"\",\"\",1))","v":""},{"$f":"IF(E63=\"\",\"\",IF(②選手情報入力!O72=\"\",\"\",IF(K63=1,VLOOKUP(②選手情報入力!O72,種目情報!$A$5:$C$135,3,FALSE),VLOOKUP(②選手情報入力!O72,種目情報!$E$5:$G$135,3,FALSE))))","v":""},{"$f":"IF(E63=\"\",\"\",IF(②選手情報入力!R72=\"\",\"\",IF(K63=1,VLOOKUP(②選手情報入力!R72,種目情報!$A$5:$B$151,2,FALSE),VLOOKUP(②選手情報入力!R72,種目情報!$E$5:$F$135,2,FALSE))))","v":""},{"$f":"IF(E63=\"\",\"\",IF(②選手情報入力!S72=\"\",\"\",②選手情報入力!S72))","v":""},{"$f":"IF(E63=\"\",\"\",IF(②選手情報入力!Q72=\"\",\"\",1))","v":""},{"$f":"IF(E63=\"\",\"\",IF(②選手情報入力!R72=\"\",\"\",IF(K63=1,VLOOKUP(②選手情報入力!R72,種目情報!$A$5:$C$135,3,FALSE),VLOOKUP(②選手情報入力!R72,種目情報!$E$5:$G$135,3,FALSE))))","v":""},{"$f":"IF(E63=\"\",\"\",IF(②選手情報入力!T72=\"\",\"\",IF(K63=1,種目情報!$J$4,種目情報!$J$6)))","v":""},{"$f":"IF(E63=\"\",\"\",IF(②選手情報入力!T72=\"\",\"\",IF(K63=1,IF(②選手情報入力!$U$7=\"\",\"\",②選手情報入力!$U$7),IF(②選手情報入力!$U$8=\"\",\"\",②選手情報入力!$U$8))))","v":""},{"$f":"IF(E63=\"\",\"\",IF(②選手情報入力!T72=\"\",\"\",IF(K63=1,IF(②選手情報入力!$T$7=\"\",0,1),IF(②選手情報入力!$T$8=\"\",0,1))))","v":""},{"$f":"IF(E63=\"\",\"\",IF(②選手情報入力!T72=\"\",\"\",2))","v":""},{"$f":"IF(E63=\"\",\"\",IF(②選手情報入力!V72=\"\",\"\",IF(K63=1,種目情報!$J$5,種目情報!$J$7)))","v":""},{"$f":"IF(E63=\"\",\"\",IF(②選手情報入力!V72=\"\",\"\",IF(K63=1,IF(②選手情報入力!$W$7=\"\",\"\",②選手情報入力!$W$7),IF(②選手情報入力!$W$8=\"\",\"\",②選手情報入力!$W$8))))","v":""},{"$f":"IF(E63=\"\",\"\",IF(②選手情報入力!V72=\"\",\"\",IF(K63=1,IF(②選手情報入力!$V$7=\"\",0,1),IF(②選手情報入力!$V$8=\"\",0,1))))","v":""},{"$f":"IF(E63=\"\",\"\",IF(②選手情報入力!V72=\"\",\"\",2))","v":""},null,null,{"$f":"IF(②選手情報入力!F72=\"\",\"\",ASC(②選手情報入力!F72))","v":""},{"$f":"IF(②選手情報入力!F72=\"\",\"\",ASC(②選手情報入力!G72))","v":""}]
["",{"$f":"IF(E64=\"\",\"\",①団体情報入力!$C$5)","v":""},null,{"$f":"IF(E64=\"\",\"\",IF(①団体情報入力!C72=\"\",\"\",①団体情報入力!C72))","v":""},{"$f":"IF(②選手情報入力!C73=\"\",\"\",②選手情報入力!C73)","v":""},{"$f":"IF(E64=\"\",\"\",②選手情報入力!D73)","v":""},{"$f":"IF(E64=\"\",\"\",ASC(②選手情報入力!E73))","v":""},"","",{"$f":"IF(E64=\"\",\"\",IF(②選手情報入力!H73=\"\",\"JPN\",LEFT(②選手情報入力!H73,3)))","v":""},{"$f":"IF(E64=\"\",\"\",IF(②選手情報入力!I73=\"男\",1,2))","v":""},{"$f":"IF(E64=\"\",\"\",IF(②選手情報入力!J73=\"\",\"\",②選手情報入力!J73))","v":""},{"$f":"IF(E64=\"\",\"\",LEFT(②選手情報入力!K73,4))","v":""},{"$f":"IF(E64=\"\",\"\",RIGHT(②選手情報入力!K73,4))","v":""},"",null,{"$f":"IF(E64=\"\",\"\",IF(②選手情報入力!L73=\"\",\"\",IF(K64=1,VLOOKUP(②選手情報入力!L73,種目情報!$A$5:$B$167,2,FALSE),VLOOKUP(②選手情報入力!L73,種目情報!$E$5:$F$142,2,FALSE))))","v":""},{"$f":"IF(E64=\"\",\"\",IF(②選手情報入力!M73=\"\",\"\",②選手情報入力!M73))","v":""},null,{"$f":"IF(E64=\"\",\"\",IF(②選手情報入力!L73=\"\",\"\",IF(K64=1,VLOOKUP(②選手情報入力!L73,種目情報!$A$5:$C$135,3,FALSE),VLOOKUP(②選手情報入力!L73,種目情報!$E$5:$G$135,3,FALSE))))","v":""},{"$f":"IF(E64=\"\",\"\",IF(②選手情報入力!O73=\"\",\"\",IF(K64=1,VLOOKUP(②選手情報入力!O73,種目情報!$A$5:$B$151,2,FALSE),VLOOKUP(②選手情報入力!O73,種目情報!$E$5:$F$135,2,FALSE))))","v":""},{"$f":"IF(E64=\"\",\"\",IF(②選手情報入力!P73=\"\",\"\",②選手情報入力!P73))","v":""},{"$f":"IF(E64=\"\",\"\",IF(②選手情報入力!N73=\"\",\"\",1))","v":""},{"$f":"IF(E64=\"\",\"\",IF(②選手情報入力!O73=\"\",\"\",IF(K64=1,VLOOKUP(②選手情報入力!O73,種目情報!$A$5:$C$135,3,FALSE),VLOOKUP(②選手情報入力!O73,種目情報!$E$5:$G$135,3,FALSE))))","v":""},{"$f":"IF(E64=\"\",\"\",IF(②選手情報入力!R73=\"\",\"\",IF(K64=1,VLOOKUP(②選手情報入力!R73,種目情報!$A$5:$B$151,2,FALSE),VLOOKUP(②選手情報入力!R73,種目情報!$E$5:$F$135,2,FALSE))))","v":""},{"$f":"IF(E64=\"\",\"\",IF(②選手情報入力!S73=\"\",\"\",②選手情報入力!S73))","v":""},{"$f":"IF(E64=\"\",\"\",IF(②選手情報入力!Q73=\"\",\"\",1))","v":""},{"$f":"IF(E64=\"\",\"\",IF(②選手情報入力!R73=\"\",\"\",IF(K64=1,VLOOKUP(②選手情報入力!R73,種目情報!$A$5:$C$135,3,FALSE),VLOOKUP(②選手情報入力!R73,種目情報!$E$5:$G$135,3,FALSE))))","v":""},{"$f":"IF(E64=\"\",\"\",IF(②選手情報入力!T73=\"\",\"\",IF(K64=1,種目情報!$J$4,種目情報!$J$6)))","v":""},{"$f":"IF(E64=\"\",\"\",IF(②選手情報入力!T73=\"\",\"\",IF(K64=1,IF(②選手情報入力!$U$7=\"\",\"\",②選手情報入力!$U$7),IF(②選手情報入力!$U$8=\"\",\"\",②選手情報入力!$U$8))))","v":""},{"$f":"IF(E64=\"\",\"\",IF(②選手情報入力!T73=\"\",\"\",IF(K64=1,IF(②選手情報入力!$T$7=\"\",0,1),IF(②選手情報入力!$T$8=\"\",0,1))))","v":""},{"$f":"IF(E64=\"\",\"\",IF(②選手情報入力!T73=\"\",\"\",2))","v":""},{"$f":"IF(E64=\"\",\"\",IF(②選手情報入力!V73=\"\",\"\",IF(K64=1,種目情報!$J$5,種目情報!$J$7)))","v":""},{"$f":"IF(E64=\"\",\"\",IF(②選手情報入力!V73=\"\",\"\",IF(K64=1,IF(②選手情報入力!$W$7=\"\",\"\",②選手情報入力!$W$7),IF(②選手情報入力!$W$8=\"\",\"\",②選手情報入力!$W$8))))","v":""},{"$f":"IF(E64=\"\",\"\",IF(②選手情報入力!V73=\"\",\"\",IF(K64=1,IF(②選手情報入力!$V$7=\"\",0,1),IF(②選手情報入力!$V$8=\"\",0,1))))","v":""},{"$f":"IF(E64=\"\",\"\",IF(②選手情報入力!V73=\"\",\"\",2))","v":""},null,null,{"$f":"IF(②選手情報入力!F73=\"\",\"\",ASC(②選手情報入力!F73))","v":""},{"$f":"IF(②選手情報入力!F73=\"\",\"\",ASC(②選手情報入力!G73))","v":""}]
["",{"$f":"IF(E65=\"\",\"\",①団体情報入力!$C$5)","v":""},null,{"$f":"IF(E65=\"\",\"\",IF(①団体情報入力!C73=\"\",\"\",①団体情報入力!C73))","v":""},{"$f":"IF(②選手情報入力!C74=\"\",\"\",②選手情報入力!C74)","v":""},{"$f":"IF(E65=\"\",\"\",②選手情報入力!D74)","v":""},{"$f":"IF(E65=\"\",\"\",ASC(②選手情報入力!E74))","v":""},"","",{"$f":"IF(E65=\"\",\"\",IF(②選手情報入力!H74=\"\",\"JPN\",LEFT(②選手情報入力!H74,3)))","v":""},{"$f":"IF(E65=\"\",\"\",IF(②選手情報入力!I74=\"男\",1,2))","v":""},{"$f":"IF(E65=\"\",\"\",IF(②選手情報入力!J74=\"\",\"\",②選手情報入力!J74))","v":""},{"$f":"IF(E65=\"\",\"\",LEFT(②選手情報入力!K74,4))","v":""},{"$f":"IF(E65=\"\",\"\",RIGHT(②選手情報入力!K74,4))","v":""},"",null,{"$f":"IF(E65=\"\",\"\",IF(②選手情報入力!L74=\"\",\"\",IF(K65=1,VLOOKUP(②選手情報入力!L74,種目情報!$A$5:$B$167,2,FALSE),VLOOKUP(②選手情報入力!L74,種目情報!$E$5:$F$142,2,FALSE))))","v":""},{"$f":"IF(E65=\"\",\"\",IF(②選手情報入力!M74=\"\",\"\",②選手情報入力!M74))","v":""},null,{"$f":"IF(E65=\"\",\"\",IF(②選手情報入力!L74=\"\",\"\",IF(K65=1,VLOOKUP(②選手情報入力!L74,種目情報!$A$5:$C$135,3,FALSE),VLOOKUP(②選手情報入力!L74,種目情報!$E$5:$G$135,3,FALSE))))","v":""},{"$f":"IF(E65=\"\",\"\",IF(②選手情報入力!O74=\"\",\"\",IF(K65=1,VLOOKUP(②選手情報入力!O74,種目情報!$A$5:$B$151,2,FALSE),VLOOKUP(②選手情報入力!O74,種目情報!$E$5:$F$135,2,FALSE))))","v":""},{"$f":"IF(E65=\"\",\"\",IF(②選手情報入力!P74=\"\",\"\",②選手情報入力!P74))","v":""},{"$f":"IF(E65=\"\",\"\",IF(②選手情報入力!N74=\"\",\"\",1))","v":""},{"$f":"IF(E65=\"\",\"\",IF(②選手情報入力!O74=\"\",\"\",IF(K65=1,VLOOKUP(②選手情報入力!O74,種目情報!$A$5:$C$135,3,FALSE),VLOOKUP(②選手情報入力!O74,種目情報!$E$5:$G$135,3,FALSE))))","v":""},{"$f":"IF(E65=\"\",\"\",IF(②選手情報入力!R74=\"\",\"\",IF(K65=1,VLOOKUP(②選手情報入力!R74,種目情報!$A$5:$B$151,2,FALSE),VLOOKUP(②選手情報入力!R74,種目情報!$E$5:$F$135,2,FALSE))))","v":""},{"$f":"IF(E65=\"\",\"\",IF(②選手情報入力!S74=\"\",\"\",②選手情報入力!S74))","v":""},{"$f":"IF(E65=\"\",\"\",IF(②選手情報入力!Q74=\"\",\"\",1))","v":""},{"$f":"IF(E65=\"\",\"\",IF(②選手情報入力!R74=\"\",\"\",IF(K65=1,VLOOKUP(②選手情報入力!R74,種目情報!$A$5:$C$135,3,FALSE),VLOOKUP(②選手情報入力!R74,種目情報!$E$5:$G$135,3,FALSE))))","v":""},{"$f":"IF(E65=\"\",\"\",IF(②選手情報入力!T74=\"\",\"\",IF(K65=1,種目情報!$J$4,種目情報!$J$6)))","v":""},{"$f":"IF(E65=\"\",\"\",IF(②選手情報入力!T74=\"\",\"\",IF(K65=1,IF(②選手情報入力!$U$7=\"\",\"\",②選手情報入力!$U$7),IF(②選手情報入力!$U$8=\"\",\"\",②選手情報入力!$U$8))))","v":""},{"$f":"IF(E65=\"\",\"\",IF(②選手情報入力!T74=\"\",\"\",IF(K65=1,IF(②選手情報入力!$T$7=\"\",0,1),IF(②選手情報入力!$T$8=\"\",0,1))))","v":""},{"$f":"IF(E65=\"\",\"\",IF(②選手情報入力!T74=\"\",\"\",2))","v":""},{"$f":"IF(E65=\"\",\"\",IF(②選手情報入力!V74=\"\",\"\",IF(K65=1,種目情報!$J$5,種目情報!$J$7)))","v":""},{"$f":"IF(E65=\"\",\"\",IF(②選手情報入力!V74=\"\",\"\",IF(K65=1,IF(②選手情報入力!$W$7=\"\",\"\",②選手情報入力!$W$7),IF(②選手情報入力!$W$8=\"\",\"\",②選手情報入力!$W$8))))","v":""},{"$f":"IF(E65=\"\",\"\",IF(②選手情報入力!V74=\"\",\"\",IF(K65=1,IF(②選手情報入力!$V$7=\"\",0,1),IF(②選手情報入力!$V$8=\"\",0,1))))","v":""},{"$f":"IF(E65=\"\",\"\",IF(②選手情報入力!V74=\"\",\"\",2))","v":""},null,null,{"$f":"IF(②選手情報入力!F74=\"\",\"\",ASC(②選手情報入力!F74))","v":""},{"$f":"IF(②選手情報入力!F74=\"\",\"\",ASC(②選手情報入力!G74))","v":""}]
["",{"$f":"IF(E66=\"\",\"\",①団体情報入力!$C$5)","v":""},null,{"$f":"IF(E66=\"\",\"\",IF(①団体情報入力!C74=\"\",\"\",①団体情報入力!C74))","v":""},{"$f":"IF(②選手情報入力!C75=\"\",\"\",②選手情報入力!C75)","v":""},{"$f":"IF(E66=\"\",\"\",②選手情報入力!D75)","v":""},{"$f":"IF(E66=\"\",\"\",ASC(②選手情報入力!E75))","v":""},"","",{"$f":"IF(E66=\"\",\"\",IF(②選手情報入力!H75=\"\",\"JPN\",LEFT(②選手情報入力!H75,3)))","v":""},{"$f":"IF(E66=\"\",\"\",IF(②選手情報入力!I75=\"男\",1,2))","v":""},{"$f":"IF(E66=\"\",\"\",IF(②選手情報入力!J75=\"\",\"\",②選手情報入力!J75))","v":""},{"$f":"IF(E66=\"\",\"\",LEFT(②選手情報入力!K75,4))","v":""},{"$f":"IF(E66=\"\",\"\",RIGHT(②選手情報入力!K75,4))","v":""},"",null,{"$f":"IF(E66=\"\",\"\",IF(②選手情報入力!L75=\"\",\"\",IF(K66=1,VLOOKUP(②選手情報入力!L75,種目情報!$A$5:$B$167,2,FALSE),VLOOKUP(②選手情報入力!L75,種目情報!$E$5:$F$142,2,FALSE))))","v":""},{"$f":"IF(E66=\"\",\"\",IF(②選手情報入力!M75=\"\",\"\",②選手情報入力!M75))","v":""},null,{"$f":"IF(E66=\"\",\"\",IF(②選手情報入力!L75=\"\",\"\",IF(K66=1,VLOOKUP(②選手情報入力!L75,種目情報!$A$5:$C$135,3,FALSE),VLOOKUP(②選手情報入力!L75,種目情報!$E$5:$G$135,3,FALSE))))","v":""},{"$f":"IF(E66=\"\",\"\",IF(②選手情報入力!O75=\"\",\"\",IF(K66=1,VLOOKUP(②選手情報入力!O75,種目情報!$A$5:$B$151,2,FALSE),VLOOKUP(②選手情報入力!O75,種目情報!$E$5:$F$135,2,FALSE))))","v":""},{"$f":"IF(E66=\"\",\"\",IF(②選手情報入力!P75=\"\",\"\",②選手情報入力!P75))","v":""},{"$f":"IF(E66=\"\",\"\",IF(②選手情報入力!N75=\"\",\"\",1))","v":""},{"$f":"IF(E66=\"\",\"\",IF(②選手情報入力!O75=\"\",\"\",IF(K66=1,VLOOKUP(②選手情報入力!O75,種目情報!$A$5:$C$135,3,FALSE),VLOOKUP(②選手情報入力!O75,種目情報!$E$5:$G$135,3,FALSE))))","v":""},{"$f":"IF(E66=\"\",\"\",IF(②選手情報入力!R75=\"\",\"\",IF(K66=1,VLOOKUP(②選手情報入力!R75,種目情報!$A$5:$B$151,2,FALSE),VLOOKUP(②選手情報入力!R75,種目情報!$E$5:$F$135,2,FALSE))))","v":""},{"$f":"IF(E66=\"\",\"\",IF(②選手情報入力!S75=\"\",\"\",②選手情報入力!S75))","v":""},{"$f":"IF(E66=\"\",\"\",IF(②選手情報入力!Q75=\"\",\"\",1))","v":""},{"$f":"IF(E66=\"\",\"\",IF(②選手情報入力!R75=\"\",\"\",IF(K66=1,VLOOKUP(②選手情報入力!R75,種目情報!$A$5:$C$135,3,FALSE),VLOOKUP(②選手情報入力!R75,種目情報!$E$5:$G$135,3,FALSE))))","v":""},{"$f":"IF(E66=\"\",\"\",IF(②選手情報入力!T75=\"\",\"\",IF(K66=1,種目情報!$J$4,種目情報!$J$6)))","v":""},{"$f":"IF(E66=\"\",\"\",IF(②選手情報入力!T75=\"\",\"\",IF(K66=1,IF(②選手情報入力!$U$7=\"\",\"\",②選手情報入力!$U$7),IF(②選手情報入力!$U$8=\"\",\"\",②選手情報入力!$U$8))))","v":""},{"$f":"IF(E66=\"\",\"\",IF(②選手情報入力!T75=\"\",\"\",IF(K66=1,IF(②選手情報入力!$T$7=\"\",0,1),IF(②選手情報入力!$T$8=\"\",0,1))))","v":""},{"$f":"IF(E66=\"\",\"\",IF(②選手情報入力!T75=\"\",\"\",2))","v":""},{"$f":"IF(E66=\"\",\"\",IF(②選手情報入力!V75=\"\",\"\",IF(K66=1,種目情報!$J$5,種目情報!$J$7)))","v":""},{"$f":"IF(E66=\"\",\"\",IF(②選手情報入力!V75=\"\",\"\",IF(K66=1,IF(②選手情報入力!$W$7=\"\",\"\",②選手情報入力!$W$7),IF(②選手情報入力!$W$8=\"\",\"\",②選手情報入力!$W$8))))","v":""},{"$f":"IF(E66=\"\",\"\",IF(②選手情報入力!V75=\"\",\"\",IF(K66=1,IF(②選手情報入力!$V$7=\"\",0,1),IF(②選手情報入力!$V$8=\"\",0,1))))","v":""},{"$f":"IF(E66=\"\",\"\",IF(②選手情報入力!V75=\"\",\"\",2))","v":""},null,null,{"$f":"IF(②選手情報入力!F75=\"\",\"\",ASC(②選手情報入力!F75))","v":""},{"$f":"IF(②選手情報入力!F75=\"\",\"\",ASC(②選手情報入力!G75))","v":""}]
[{"$f":"IF(E67=\"\",\"\",B67+10000000+E67)","v":""},{"$f":"IF(E67=\"\",\"\",①団体情報入力!$C$5)","v":""},null,{"$f":"IF(E67=\"\",\"\",IF(①団体情報入力!C75=\"\",\"\",①団体情報入力!C75))","v":""},{"$f":"IF(②選手情報入力!C76=\"\",\"\",②選手情報入力!C76)","v":""},{"$f":"IF(E67=\"\",\"\",②選手情報入力!D76)","v":""},{"$f":"IF(E67=\"\",\"\",ASC(②選手情報入力!E76))","v":""},{"$f":"IF(E67=\"\",\"\",F67)","v":""},{"$f":"IF(E67=\"\",\"\",AM67&\"　\"&AN67)","v":""},{"$f":"IF(E67=\"\",\"\",IF(②選手情報入力!H76=\"\",\"JPN\",LEFT(②選手情報入力!H76,3)))","v":""},{"$f":"IF(E67=\"\",\"\",IF(②選手情報入力!I76=\"男\",1,2))","v":""},{"$f":"IF(E67=\"\",\"\",IF(②選手情報入力!J76=\"\",\"\",②選手情報入力!J76))","v":""},{"$f":"IF(E67=\"\",\"\",LEFT(②選手情報入力!K76,4))","v":""},{"$f":"IF(E67=\"\",\"\",RIGHT(②選手情報入力!K76,4))","v":""},{"$f":"IF(E67=\"\",\"\",\"愛知\")","v":""},null,{"$f":"IF(E67=\"\",\"\",IF(②選手情報入力!L76=\"\",\"\",IF(K67=1,VLOOKUP(②選手情報入力!L76,種目情報!$A$5:$B$167,2,FALSE),VLOOKUP(②選手情報入力!L76,種目情報!$E$5:$F$142,2,FALSE))))","v":""},{"$f":"IF(E67=\"\",\"\",IF(②選手情報入力!M76=\"\",\"\",②選手情報入力!M76))","v":""},null,{"$f":"IF(E67=\"\",\"\",IF(②選手情報入力!L76=\"\",\"\",IF(K67=1,VLOOKUP(②選手情報入力!L76,種目情報!$A$5:$C$135,3,FALSE),VLOOKUP(②選手情報入力!L76,種目情報!$E$5:$G$135,3,FALSE))))","v":""},{"$f":"IF(E67=\"\",\"\",IF(②選手情報入力!O76=\"\",\"\",IF(K67=1,VLOOKUP(②選手情報入力!O76,種目情報!$A$5:$B$151,2,FALSE),VLOOKUP(②選手情報入力!O76,種目情報!$E$5:$F$135,2,FALSE))))","v":""},{"$f":"IF(E67=\"\",\"\",IF(②選手情報入力!P76=\"\",\"\",②選手情報入力!P76))","v":""},{"$f":"IF(E67=\"\",\"\",IF(②選手情報入力!N76=\"\",\"\",1))","v":""},{"$f":"IF(E67=\"\",\"\",IF(②選手情報入力!O76=\"\",\"\",IF(K67=1,VLOOKUP(②選手情報入力!O76,種目情報!$A$5:$C$135,3,FALSE),VLOOKUP(②選手情報入力!O76,種目情報!$E$5:$G$135,3,FALSE))))","v":""},{"$f":"IF(E67=\"\",\"\",IF(②選手情報入力!R76=\"\",\"\",IF(K67=1,VLOOKUP(②選手情報入力!R76,種目情報!$A$5:$B$151,2,FALSE),VLOOKUP(②選手情報入力!R76,種目情報!$E$5:$F$135,2,FALSE))))","v":""},{"$f":"IF(E67=\"\",\"\",IF(②選手情報入力!S76=\"\",\"\",②選手情報入力!S76))","v":""},{"$f":"IF(E67=\"\",\"\",IF(②選手情報入力!Q76=\"\",\"\",1))","v":""},{"$f":"IF(E67=\"\",\"\",IF(②選手情報入力!R76=\"\",\"\",IF(K67=1,VLOOKUP(②選手情報入力!R76,種目情報!$A$5:$C$135,3,FALSE),VLOOKUP(②選手情報入力!R76,種目情報!$E$5:$G$135,3,FALSE))))","v":""},{"$f":"IF(E67=\"\",\"\",IF(②選手情報入力!T76=\"\",\"\",IF(K67=1,種目情報!$J$4,種目情報!$J$6)))","v":""},{"$f":"IF(E67=\"\",\"\",IF(②選手情報入力!T76=\"\",\"\",IF(K67=1,IF(②選手情報入力!$U$7=\"\",\"\",②選手情報入力!$U$7),IF(②選手情報入力!$U$8=\"\",\"\",②選手情報入力!$U$8))))","v":""},{"$f":"IF(E67=\"\",\"\",IF(②選手情報入力!T76=\"\",\"\",IF(K67=1,IF(②選手情報入力!$T$7=\"\",0,1),IF(②選手情報入力!$T$8=\"\",0,1))))","v":""},{"$f":"IF(E67=\"\",\"\",IF(②選手情報入力!T76=\"\",\"\",2))","v":""},{"$f":"IF(E67=\"\",\"\",IF(②選手情報入力!V76=\"\",\"\",IF(K67=1,種目情報!$J$5,種目情報!$J$7)))","v":""},{"$f":"IF(E67=\"\",\"\",IF(②選手情報入力!V76=\"\",\"\",IF(K67=1,IF(②選手情報入力!$W$7=\"\",\"\",②選手情報入力!$W$7),IF(②選手情報入力!$W$8=\"\",\"\",②選手情報入力!$W$8))))","v":""},{"$f":"IF(E67=\"\",\"\",IF(②選手情報入力!V76=\"\",\"\",IF(K67=1,IF(②選手情報入力!$V$7=\"\",0,1),IF(②選手情報入力!$V$8=\"\",0,1))))","v":""},{"$f":"IF(E67=\"\",\"\",IF(②選手情報入力!V76=\"\",\"\",2))","v":""},null,null,{"$f":"IF(②選手情報入力!F76=\"\",\"\",ASC(②選手情報入力!F76))","v":""},{"$f":"IF(②選手情報入力!F76=\"\",\"\",ASC(②選手情報入力!G76))","v":""}]
["",{"$f":"IF(E68=\"\",\"\",①団体情報入力!$C$5)","v":""},null,{"$f":"IF(E68=\"\",\"\",IF(①団体情報入力!C76=\"\",\"\",①団体情報入力!C76))","v":""},{"$f":"IF(②選手情報入力!C77=\"\",\"\",②選手情報入力!C77)","v":""},{"$f":"IF(E68=\"\",\"\",②選手情報入力!D77)","v":""},{"$f":"IF(E68=\"\",\"\",ASC(②選手情報入力!E77))","v":""},"","",{"$f":"IF(E68=\"\",\"\",IF(②選手情報入力!H77=\"\",\"JPN\",LEFT(②選手情報入力!H77,3)))","v":""},{"$f":"IF(E68=\"\",\"\",IF(②選手情報入力!I77=\"男\",1,2))","v":""},{"$f":"IF(E68=\"\",\"\",IF(②選手情報入力!J77=\"\",\"\",②選手情報入力!J77))","v":""},{"$f":"IF(E68=\"\",\"\",LEFT(②選手情報入力!K77,4))","v":""},{"$f":"IF(E68=\"\",\"\",RIGHT(②選手情報入力!K77,4))","v":""},"",null,{"$f":"IF(E68=\"\",\"\",IF(②選手情報入力!L77=\"\",\"\",IF(K68=1,VLOOKUP(②選手情報入力!L77,種目情報!$A$5:$B$167,2,FALSE),VLOOKUP(②選手情報入力!L77,種目情報!$E$5:$F$142,2,FALSE))))","v":""},{"$f":"IF(E68=\"\",\"\",IF(②選手情報入力!M77=\"\",\"\",②選手情報入力!M77))","v":""},null,{"$f":"IF(E68=\"\",\"\",IF(②選手情報入力!L77=\"\",\"\",IF(K68=1,VLOOKUP(②選手情報入力!L77,種目情報!$A$5:$C$135,3,FALSE),VLOOKUP(②選手情報入力!L77,種目情報!$E$5:$G$135,3,FALSE))))","v":""},{"$f":"IF(E68=\"\",\"\",IF(②選手情報入力!O77=\"\",\"\",IF(K68=1,VLOOKUP(②選手情報入力!O77,種目情報!$A$5:$B$151,2,FALSE),VLOOKUP(②選手情報入力!O77,種目情報!$E$5:$F$135,2,FALSE))))","v":""},{"$f":"IF(E68=\"\",\"\",IF(②選手情報入力!P77=\"\",\"\",②選手情報入力!P77))","v":""},{"$f":"IF(E68=\"\",\"\",IF(②選手情報入力!N77=\"\",\"\",1))","v":""},{"$f":"IF(E68=\"\",\"\",IF(②選手情報入力!O77=\"\",\"\",IF(K68=1,VLOOKUP(②選手情報入力!O77,種目情報!$A$5:$C$135,3,FALSE),VLOOKUP(②選手情報入力!O77,種目情報!$E$5:$G$135,3,FALSE))))","v":""},{"$f":"IF(E68=\"\",\"\",IF(②選手情報入力!R77=\"\",\"\",IF(K68=1,VLOOKUP(②選手情報入力!R77,種目情報!$A$5:$B$151,2,FALSE),VLOOKUP(②選手情報入力!R77,種目情報!$E$5:$F$135,2,FALSE))))","v":""},{"$f":"IF(E68=\"\",\"\",IF(②選手情報入力!S77=\"\",\"\",②選手情報入力!S77))","v":""},{"$f":"IF(E68=\"\",\"\",IF(②選手情報入力!Q77=\"\",\"\",1))","v":""},{"$f":"IF(E68=\"\",\"\",IF(②選手情報入力!R77=\"\",\"\",IF(K68=1,VLOOKUP(②選手情報入力!R77,種目情報!$A$5:$C$135,3,FALSE),VLOOKUP(②選手情報入力!R77,種目情報!$E$5:$G$135,3,FALSE))))","v":""},{"$f":"IF(E68=\"\",\"\",IF(②選手情報入力!T77=\"\",\"\",IF(K68=1,種目情報!$J$4,種目情報!$J$6)))","v":""},{"$f":"IF(E68=\"\",\"\",IF(②選手情報入力!T77=\"\",\"\",IF(K68=1,IF(②選手情報入力!$U$7=\"\",\"\",②選手情報入力!$U$7),IF(②選手情報入力!$U$8=\"\",\"\",②選手情報入力!$U$8))))","v":""},{"$f":"IF(E68=\"\",\"\",IF(②選手情報入力!T77=\"\",\"\",IF(K68=1,IF(②選手情報入力!$T$7=\"\",0,1),IF(②選手情報入力!$T$8=\"\",0,1))))","v":""},{"$f":"IF(E68=\"\",\"\",IF(②選手情報入力!T77=\"\",\"\",2))","v":""},{"$f":"IF(E68=\"\",\"\",IF(②選手情報入力!V77=\"\",\"\",IF(K68=1,種目情報!$J$5,種目情報!$J$7)))","v":""},{"$f":"IF(E68=\"\",\"\",IF(②選手情報入力!V77=\"\",\"\",IF(K68=1,IF(②選手情報入力!$W$7=\"\",\"\",②選手情報入力!$W$7),IF(②選手情報入力!$W$8=\"\",\"\",②選手情報入力!$W$8))))","v":""},{"$f":"IF(E68=\"\",\"\",IF(②選手情報入力!V77=\"\",\"\",IF(K68=1,IF(②選手情報入力!$V$7=\"\",0,1),IF(②選手情報入力!$V$8=\"\",0,1))))","v":""},{"$f":"IF(E68=\"\",\"\",IF(②選手情報入力!V77=\"\",\"\",2))","v":""},null,null,{"$f":"IF(②選手情報入力!F77=\"\",\"\",ASC(②選手情報入力!F77))","v":""},{"$f":"IF(②選手情報入力!F77=\"\",\"\",ASC(②選手情報入力!G77))","v":""}]
["",{"$f":"IF(E69=\"\",\"\",①団体情報入力!$C$5)","v":""},null,{"$f":"IF(E69=\"\",\"\",IF(①団体情報入力!C77=\"\",\"\",①団体情報入力!C77))","v":""},{"$f":"IF(②選手情報入力!C78=\"\",\"\",②選手情報入力!C78)","v":""},{"$f":"IF(E69=\"\",\"\",②選手情報入力!D78)","v":""},{"$f":"IF(E69=\"\",\"\",ASC(②選手情報入力!E78))","v":""},"","",{"$f":"IF(E69=\"\",\"\",IF(②選手情報入力!H78=\"\",\"JPN\",LEFT(②選手情報入力!H78,3)))","v":""},{"$f":"IF(E69=\"\",\"\",IF(②選手情報入力!I78=\"男\",1,2))","v":""},{"$f":"IF(E69=\"\",\"\",IF(②選手情報入力!J78=\"\",\"\",②選手情報入力!J78))","v":""},{"$f":"IF(E69=\"\",\"\",LEFT(②選手情報入力!K78,4))","v":""},{"$f":"IF(E69=\"\",\"\",RIGHT(②選手情報入力!K78,4))","v":""},"",null,{"$f":"IF(E69=\"\",\"\",IF(②選手情報入力!L78=\"\",\"\",IF(K69=1,VLOOKUP(②選手情報入力!L78,種目情報!$A$5:$B$167,2,FALSE),VLOOKUP(②選手情報入力!L78,種目情報!$E$5:$F$142,2,FALSE))))","v":""},{"$f":"IF(E69=\"\",\"\",IF(②選手情報入力!M78=\"\",\"\",②選手情報入力!M78))","v":""},null,{"$f":"IF(E69=\"\",\"\",IF(②選手情報入力!L78=\"\",\"\",IF(K69=1,VLOOKUP(②選手情報入力!L78,種目情報!$A$5:$C$135,3,FALSE),VLOOKUP(②選手情報入力!L78,種目情報!$E$5:$G$135,3,FALSE))))","v":""},{"$f":"IF(E69=\"\",\"\",IF(②選手情報入力!O78=\"\",\"\",IF(K69=1,VLOOKUP(②選手情報入力!O78,種目情報!$A$5:$B$151,2,FALSE),VLOOKUP(②選手情報入力!O78,種目情報!$E$5:$F$135,2,FALSE))))","v":""},{"$f":"IF(E69=\"\",\"\",IF(②選手情報入力!P78=\"\",\"\",②選手情報入力!P78))","v":""},{"$f":"IF(E69=\"\",\"\",IF(②選手情報入力!N78=\"\",\"\",1))","v":""},{"$f":"IF(E69=\"\",\"\",IF(②選手情報入力!O78=\"\",\"\",IF(K69=1,VLOOKUP(②選手情報入力!O78,種目情報!$A$5:$C$135,3,FALSE),VLOOKUP(②選手情報入力!O78,種目情報!$E$5:$G$135,3,FALSE))))","v":""},{"$f":"IF(E69=\"\",\"\",IF(②選手情報入力!R78=\"\",\"\",IF(K69=1,VLOOKUP(②選手情報入力!R78,種目情報!$A$5:$B$151,2,FALSE),VLOOKUP(②選手情報入力!R78,種目情報!$E$5:$F$135,2,FALSE))))","v":""},{"$f":"IF(E69=\"\",\"\",IF(②選手情報入力!S78=\"\",\"\",②選手情報入力!S78))","v":""},{"$f":"IF(E69=\"\",\"\",IF(②選手情報入力!Q78=\"\",\"\",1))","v":""},{"$f":"IF(E69=\"\",\"\",IF(②選手情報入力!R78=\"\",\"\",IF(K69=1,VLOOKUP(②選手情報入力!R78,種目情報!$A$5:$C$135,3,FALSE),VLOOKUP(②選手情報入力!R78,種目情報!$E$5:$G$135,3,FALSE))))","v":""},{"$f":"IF(E69=\"\",\"\",IF(②選手情報入力!T78=\"\",\"\",IF(K69=1,種目情報!$J$4,種目情報!$J$6)))","v":""},{"$f":"IF(E69=\"\",\"\",IF(②選手情報入力!T78=\"\",\"\",IF(K69=1,IF(②選手情報入力!$U$7=\"\",\"\",②選手情報入力!$U$7),IF(②選手情報入力!$U$8=\"\",\"\",②選手情報入力!$U$8))))","v":""},{"$f":"IF(E69=\"\",\"\",IF(②選手情報入力!T78=\"\",\"\",IF(K69=1,IF(②選手情報入力!$T$7=\"\",0,1),IF(②選手情報入力!$T$8=\"\",0,1))))","v":""},{"$f":"IF(E69=\"\",\"\",IF(②選手情報入力!T78=\"\",\"\",2))","v":""},{"$f":"IF(E69=\"\",\"\",IF(②選手情報入力!V78=\"\",\"\",IF(K69=1,種目情報!$J$5,種目情報!$J$7)))","v":""},{"$f":"IF(E69=\"\",\"\",IF(②選手情報入力!V78=\"\",\"\",IF(K69=1,IF(②選手情報入力!$W$7=\"\",\"\",②選手情報入力!$W$7),IF(②選手情報入力!$W$8=\"\",\"\",②選手情報入力!$W$8))))","v":""},{"$f":"IF(E69=\"\",\"\",IF(②選手情報入力!V78=\"\",\"\",IF(K69=1,IF(②選手情報入力!$V$7=\"\",0,1),IF(②選手情報入力!$V$8=\"\",0,1))))","v":""},{"$f":"IF(E69=\"\",\"\",IF(②選手情報入力!V78=\"\",\"\",2))","v":""},null,null,{"$f":"IF(②選手情報入力!F78=\"\",\"\",ASC(②選手情報入力!F78))","v":""},{"$f":"IF(②選手情報入力!F78=\"\",\"\",ASC(②選手情報入力!G78))","v":""}]
["",{"$f":"IF(E70=\"\",\"\",①団体情報入力!$C$5)","v":""},null,{"$f":"IF(E70=\"\",\"\",IF(①団体情報入力!C78=\"\",\"\",①団体情報入力!C78))","v":""},{"$f":"IF(②選手情報入力!C79=\"\",\"\",②選手情報入力!C79)","v":""},{"$f":"IF(E70=\"\",\"\",②選手情報入力!D79)","v":""},{"$f":"IF(E70=\"\",\"\",ASC(②選手情報入力!E79))","v":""},"","",{"$f":"IF(E70=\"\",\"\",IF(②選手情報入力!H79=\"\",\"JPN\",LEFT(②選手情報入力!H79,3)))","v":""},{"$f":"IF(E70=\"\",\"\",IF(②選手情報入力!I79=\"男\",1,2))","v":""},{"$f":"IF(E70=\"\",\"\",IF(②選手情報入力!J79=\"\",\"\",②選手情報入力!J79))","v":""},{"$f":"IF(E70=\"\",\"\",LEFT(②選手情報入力!K79,4))","v":""},{"$f":"IF(E70=\"\",\"\",RIGHT(②選手情報入力!K79,4))","v":""},"",null,{"$f":"IF(E70=\"\",\"\",IF(②選手情報入力!L79=\"\",\"\",IF(K70=1,VLOOKUP(②選手情報入力!L79,種目情報!$A$5:$B$167,2,FALSE),VLOOKUP(②選手情報入力!L79,種目情報!$E$5:$F$142,2,FALSE))))","v":""},{"$f":"IF(E70=\"\",\"\",IF(②選手情報入力!M79=\"\",\"\",②選手情報入力!M79))","v":""},null,{"$f":"IF(E70=\"\",\"\",IF(②選手情報入力!L79=\"\",\"\",IF(K70=1,VLOOKUP(②選手情報入力!L79,種目情報!$A$5:$C$135,3,FALSE),VLOOKUP(②選手情報入力!L79,種目情報!$E$5:$G$135,3,FALSE))))","v":""},{"$f":"IF(E70=\"\",\"\",IF(②選手情報入力!O79=\"\",\"\",IF(K70=1,VLOOKUP(②選手情報入力!O79,種目情報!$A$5:$B$151,2,FALSE),VLOOKUP(②選手情報入力!O79,種目情報!$E$5:$F$135,2,FALSE))))","v":""},{"$f":"IF(E70=\"\",\"\",IF(②選手情報入力!P79=\"\",\"\",②選手情報入力!P79))","v":""},{"$f":"IF(E70=\"\",\"\",IF(②選手情報入力!N79=\"\",\"\",1))","v":""},{"$f":"IF(E70=\"\",\"\",IF(②選手情報入力!O79=\"\",\"\",IF(K70=1,VLOOKUP(②選手情報入力!O79,種目情報!$A$5:$C$135,3,FALSE),VLOOKUP(②選手情報入力!O79,種目情報!$E$5:$G$135,3,FALSE))))","v":""},{"$f":"IF(E70=\"\",\"\",IF(②選手情報入力!R79=\"\",\"\",IF(K70=1,VLOOKUP(②選手情報入力!R79,種目情報!$A$5:$B$151,2,FALSE),VLOOKUP(②選手情報入力!R79,種目情報!$E$5:$F$135,2,FALSE))))","v":""},{"$f":"IF(E70=\"\",\"\",IF(②選手情報入力!S79=\"\",\"\",②選手情報入力!S79))","v":""},{"$f":"IF(E70=\"\",\"\",IF(②選手情報入力!Q79=\"\",\"\",1))","v":""},{"$f":"IF(E70=\"\",\"\",IF(②選手情報入力!R79=\"\",\"\",IF(K70=1,VLOOKUP(②選手情報入力!R79,種目情報!$A$5:$C$135,3,FALSE),VLOOKUP(②選手情報入力!R79,種目情報!$E$5:$G$135,3,FALSE))))","v":""},{"$f":"IF(E70=\"\",\"\",IF(②選手情報入力!T79=\"\",\"\",IF(K70=1,種目情報!$J$4,種目情報!$J$6)))","v":""},{"$f":"IF(E70=\"\",\"\",IF(②選手情報入力!T79=\"\",\"\",IF(K70=1,IF(②選手情報入力!$U$7=\"\",\"\",②選手情報入力!$U$7),IF(②選手情報入力!$U$8=\"\",\"\",②選手情報入力!$U$8))))","v":""},{"$f":"IF(E70=\"\",\"\",IF(②選手情報入力!T79=\"\",\"\",IF(K70=1,IF(②選手情報入力!$T$7=\"\",0,1),IF(②選手情報入力!$T$8=\"\",0,1))))","v":""},{"$f":"IF(E70=\"\",\"\",IF(②選手情報入力!T79=\"\",\"\",2))","v":""},{"$f":"IF(E70=\"\",\"\",IF(②選手情報入力!V79=\"\",\"\",IF(K70=1,種目情報!$J$5,種目情報!$J$7)))","v":""},{"$f":"IF(E70=\"\",\"\",IF(②選手情報入力!V79=\"\",\"\",IF(K70=1,IF(②選手情報入力!$W$7=\"\",\"\",②選手情報入力!$W$7),IF(②選手情報入力!$W$8=\"\",\"\",②選手情報入力!$W$8))))","v":""},{"$f":"IF(E70=\"\",\"\",IF(②選手情報入力!V79=\"\",\"\",IF(K70=1,IF(②選手情報入力!$V$7=\"\",0,1),IF(②選手情報入力!$V$8=\"\",0,1))))","v":""},{"$f":"IF(E70=\"\",\"\",IF(②選手情報入力!V79=\"\",\"\",2))","v":""},null,null,{"$f":"IF(②選手情報入力!F79=\"\",\"\",ASC(②選手情報入力!F79))","v":""},{"$f":"IF(②選手情報入力!F79=\"\",\"\",ASC(②選手情報入力!G79))","v":""}]
["",{"$f":"IF(E71=\"\",\"\",①団体情報入力!$C$5)","v":""},null,{"$f":"IF(E71=\"\",\"\",IF(①団体情報入力!C79=\"\",\"\",①団体情報入力!C79))","v":""},{"$f":"IF(②選手情報入力!C80=\"\",\"\",②選手情報入力!C80)","v":""},{"$f":"IF(E71=\"\",\"\",②選手情報入力!D80)","v":""},{"$f":"IF(E71=\"\",\"\",ASC(②選手情報入力!E80))","v":""},"","",{"$f":"IF(E71=\"\",\"\",IF(②選手情報入力!H80=\"\",\"JPN\",LEFT(②選手情報入力!H80,3)))","v":""},{"$f":"IF(E71=\"\",\"\",IF(②選手情報入力!I80=\"男\",1,2))","v":""},{"$f":"IF(E71=\"\",\"\",IF(②選手情報入力!J80=\"\",\"\",②選手情報入力!J80))","v":""},{"$f":"IF(E71=\"\",\"\",LEFT(②選手情報入力!K80,4))","v":""},{"$f":"IF(E71=\"\",\"\",RIGHT(②選手情報入力!K80,4))","v":""},"",null,{"$f":"IF(E71=\"\",\"\",IF(②選手情報入力!L80=\"\",\"\",IF(K71=1,VLOOKUP(②選手情報入力!L80,種目情報!$A$5:$B$167,2,FALSE),VLOOKUP(②選手情報入力!L80,種目情報!$E$5:$F$142,2,FALSE))))","v":""},{"$f":"IF(E71=\"\",\"\",IF(②選手情報入力!M80=\"\",\"\",②選手情報入力!M80))","v":""},null,{"$f":"IF(E71=\"\",\"\",IF(②選手情報入力!L80=\"\",\"\",IF(K71=1,VLOOKUP(②選手情報入力!L80,種目情報!$A$5:$C$135,3,FALSE),VLOOKUP(②選手情報入力!L80,種目情報!$E$5:$G$135,3,FALSE))))","v":""},{"$f":"IF(E71=\"\",\"\",IF(②選手情報入力!O80=\"\",\"\",IF(K71=1,VLOOKUP(②選手情報入力!O80,種目情報!$A$5:$B$151,2,FALSE),VLOOKUP(②選手情報入力!O80,種目情報!$E$5:$F$135,2,FALSE))))","v":""},{"$f":"IF(E71=\"\",\"\",IF(②選手情報入力!P80=\"\",\"\",②選手情報入力!P80))","v":""},{"$f":"IF(E71=\"\",\"\",IF(②選手情報入力!N80=\"\",\"\",1))","v":""},{"$f":"IF(E71=\"\",\"\",IF(②選手情報入力!O80=\"\",\"\",IF(K71=1,VLOOKUP(②選手情報入力!O80,種目情報!$A$5:$C$135,3,FALSE),VLOOKUP(②選手情報入力!O80,種目情報!$E$5:$G$135,3,FALSE))))","v":""},{"$f":"IF(E71=\"\",\"\",IF(②選手情報入力!R80=\"\",\"\",IF(K71=1,VLOOKUP(②選手情報入力!R80,種目情報!$A$5:$B$151,2,FALSE),VLOOKUP(②選手情報入力!R80,種目情報!$E$5:$F$135,2,FALSE))))","v":""},{"$f":"IF(E71=\"\",\"\",IF(②選手情報入力!S80=\"\",\"\",②選手情報入力!S80))","v":""},{"$f":"IF(E71=\"\",\"\",IF(②選手情報入力!Q80=\"\",\"\",1))","v":""},{"$f":"IF(E71=\"\",\"\",IF(②選手情報入力!R80=\"\",\"\",IF(K71=1,VLOOKUP(②選手情報入力!R80,種目情報!$A$5:$C$135,3,FALSE),VLOOKUP(②選手情報入力!R80,種目情報!$E$5:$G$135,3,FALSE))))","v":""},{"$f":"IF(E71=\"\",\"\",IF(②選手情報入力!T80=\"\",\"\",IF(K71=1,種目情報!$J$4,種目情報!$J$6)))","v":""},{"$f":"IF(E71=\"\",\"\",IF(②選手情報入力!T80=\"\",\"\",IF(K71=1,IF(②選手情報入力!$U$7=\"\",\"\",②選手情報入力!$U$7),IF(②選手情報入力!$U$8=\"\",\"\",②選手情報入力!$U$8))))","v":""},{"$f":"IF(E71=\"\",\"\",IF(②選手情報入力!T80=\"\",\"\",IF(K71=1,IF(②選手情報入力!$T$7=\"\",0,1),IF(②選手情報入力!$T$8=\"\",0,1))))","v":""},{"$f":"IF(E71=\"\",\"\",IF(②選手情報入力!T80=\"\",\"\",2))","v":""},{"$f":"IF(E71=\"\",\"\",IF(②選手情報入力!V80=\"\",\"\",IF(K71=1,種目情報!$J$5,種目情報!$J$7)))","v":""},{"$f":"IF(E71=\"\",\"\",IF(②選手情報入力!V80=\"\",\"\",IF(K71=1,IF(②選手情報入力!$W$7=\"\",\"\",②選手情報入力!$W$7),IF(②選手情報入力!$W$8=\"\",\"\",②選手情報入力!$W$8))))","v":""},{"$f":"IF(E71=\"\",\"\",IF(②選手情報入力!V80=\"\",\"\",IF(K71=1,IF(②選手情報入力!$V$7=\"\",0,1),IF(②選手情報入力!$V$8=\"\",0,1))))","v":""},{"$f":"IF(E71=\"\",\"\",IF(②選手情報入力!V80=\"\",\"\",2))","v":""},null,null,{"$f":"IF(②選手情報入力!F80=\"\",\"\",ASC(②選手情報入力!F80))","v":""},{"$f":"IF(②選手情報入力!F80=\"\",\"\",ASC(②選手情報入力!G80))","v":""}]
["",{"$f":"IF(E72=\"\",\"\",①団体情報入力!$C$5)","v":""},null,{"$f":"IF(E72=\"\",\"\",IF(①団体情報入力!C80=\"\",\"\",①団体情報入力!C80))","v":""},{"$f":"IF(②選手情報入力!C81=\"\",\"\",②選手情報入力!C81)","v":""},{"$f":"IF(E72=\"\",\"\",②選手情報入力!D81)","v":""},{"$f":"IF(E72=\"\",\"\",ASC(②選手情報入力!E81))","v":""},"","",{"$f":"IF(E72=\"\",\"\",IF(②選手情報入力!H81=\"\",\"JPN\",LEFT(②選手情報入力!H81,3)))","v":""},{"$f":"IF(E72=\"\",\"\",IF(②選手情報入力!I81=\"男\",1,2))","v":""},{"$f":"IF(E72=\"\",\"\",IF(②選手情報入力!J81=\"\",\"\",②選手情報入力!J81))","v":""},{"$f":"IF(E72=\"\",\"\",LEFT(②選手情報入力!K81,4))","v":""},{"$f":"IF(E72=\"\",\"\",RIGHT(②選手情報入力!K81,4))","v":""},"",null,{"$f":"IF(E72=\"\",\"\",IF(②選手情報入力!L81=\"\",\"\",IF(K72=1,VLOOKUP(②選手情報入力!L81,種目情報!$A$5:$B$167,2,FALSE),VLOOKUP(②選手情報入力!L81,種目情報!$E$5:$F$142,2,FALSE))))","v":""},{"$f":"IF(E72=\"\",\"\",IF(②選手情報入力!M81=\"\",\"\",②選手情報入力!M81))","v":""},null,{"$f":"IF(E72=\"\",\"\",IF(②選手情報入力!L81=\"\",\"\",IF(K72=1,VLOOKUP(②選手情報入力!L81,種目情報!$A$5:$C$135,3,FALSE),VLOOKUP(②選手情報入力!L81,種目情報!$E$5:$G$135,3,FALSE))))","v":""},{"$f":"IF(E72=\"\",\"\",IF(②選手情報入力!O81=\"\",\"\",IF(K72=1,VLOOKUP(②選手情報入力!O81,種目情報!$A$5:$B$151,2,FALSE),VLOOKUP(②選手情報入力!O81,種目情報!$E$5:$F$135,2,FALSE))))","v":""},{"$f":"IF(E72=\"\",\"\",IF(②選手情報入力!P81=\"\",\"\",②選手情報入力!P81))","v":""},{"$f":"IF(E72=\"\",\"\",IF(②選手情報入力!N81=\"\",\"\",1))","v":""},{"$f":"IF(E72=\"\",\"\",IF(②選手情報入力!O81=\"\",\"\",IF(K72=1,VLOOKUP(②選手情報入力!O81,種目情報!$A$5:$C$135,3,FALSE),VLOOKUP(②選手情報入力!O81,種目情報!$E$5:$G$135,3,FALSE))))","v":""},{"$f":"IF(E72=\"\",\"\",IF(②選手情報入力!R81=\"\",\"\",IF(K72=1,VLOOKUP(②選手情報入力!R81,種目情報!$A$5:$B$151,2,FALSE),VLOOKUP(②選手情報入力!R81,種目情報!$E$5:$F$135,2,FALSE))))","v":""},{"$f":"IF(E72=\"\",\"\",IF(②選手情報入力!S81=\"\",\"\",②選手情報入力!S81))","v":""},{"$f":"IF(E72=\"\",\"\",IF(②選手情報入力!Q81=\"\",\"\",1))","v":""},{"$f":"IF(E72=\"\",\"\",IF(②選手情報入力!R81=\"\",\"\",IF(K72=1,VLOOKUP(②選手情報入力!R81,種目情報!$A$5:$C$135,3,FALSE),VLOOKUP(②選手情報入力!R81,種目情報!$E$5:$G$135,3,FALSE))))","v":""},{"$f":"IF(E72=\"\",\"\",IF(②選手情報入力!T81=\"\",\"\",IF(K72=1,種目情報!$J$4,種目情報!$J$6)))","v":""},{"$f":"IF(E72=\"\",\"\",IF(②選手情報入力!T81=\"\",\"\",IF(K72=1,IF(②選手情報入力!$U$7=\"\",\"\",②選手情報入力!$U$7),IF(②選手情報入力!$U$8=\"\",\"\",②選手情報入力!$U$8))))","v":""},{"$f":"IF(E72=\"\",\"\",IF(②選手情報入力!T81=\"\",\"\",IF(K72=1,IF(②選手情報入力!$T$7=\"\",0,1),IF(②選手情報入力!$T$8=\"\",0,1))))","v":""},{"$f":"IF(E72=\"\",\"\",IF(②選手情報入力!T81=\"\",\"\",2))","v":""},{"$f":"IF(E72=\"\",\"\",IF(②選手情報入力!V81=\"\",\"\",IF(K72=1,種目情報!$J$5,種目情報!$J$7)))","v":""},{"$f":"IF(E72=\"\",\"\",IF(②選手情報入力!V81=\"\",\"\",IF(K72=1,IF(②選手情報入力!$W$7=\"\",\"\",②選手情報入力!$W$7),IF(②選手情報入力!$W$8=\"\",\"\",②選手情報入力!$W$8))))","v":""},{"$f":"IF(E72=\"\",\"\",IF(②選手情報入力!V81=\"\",\"\",IF(K72=1,IF(②選手情報入力!$V$7=\"\",0,1),IF(②選手情報入力!$V$8=\"\",0,1))))","v":""},{"$f":"IF(E72=\"\",\"\",IF(②選手情報入力!V81=\"\",\"\",2))","v":""},null,null,{"$f":"IF(②選手情報入力!F81=\"\",\"\",ASC(②選手情報入力!F81))","v":""},{"$f":"IF(②選手情報入力!F81=\"\",\"\",ASC(②選手情報入力!G81))","v":""}]
["",{"$f":"IF(E73=\"\",\"\",①団体情報入力!$C$5)","v":""},null,{"$f":"IF(E73=\"\",\"\",IF(①団体情報入力!C81=\"\",\"\",①団体情報入力!C81))","v":""},{"$f":"IF(②選手情報入力!C82=\"\",\"\",②選手情報入力!C82)","v":""},{"$f":"IF(E73=\"\",\"\",②選手情報入力!D82)","v":""},{"$f":"IF(E73=\"\",\"\",ASC(②選手情報入力!E82))","v":""},"","",{"$f":"IF(E73=\"\",\"\",IF(②選手情報入力!H82=\"\",\"JPN\",LEFT(②選手情報入力!H82,3)))","v":""},{"$f":"IF(E73=\"\",\"\",IF(②選手情報入力!I82=\"男\",1,2))","v":""},{"$f":"IF(E73=\"\",\"\",IF(②選手情報入力!J82=\"\",\"\",②選手情報入力!J82))","v":""},{"$f":"IF(E73=\"\",\"\",LEFT(②選手情報入力!K82,4))","v":""},{"$f":"IF(E73=\"\",\"\",RIGHT(②選手情報入力!K82,4))","v":""},"",null,{"$f":"IF(E73=\"\",\"\",IF(②選手情報入力!L82=\"\",\"\",IF(K73=1,VLOOKUP(②選手情報入力!L82,種目情報!$A$5:$B$167,2,FALSE),VLOOKUP(②選手情報入力!L82,種目情報!$E$5:$F$142,2,FALSE))))","v":""},{"$f":"IF(E73=\"\",\"\",IF(②選手情報入力!M82=\"\",\"\",②選手情報入力!M82))","v":""},null,{"$f":"IF(E73=\"\",\"\",IF(②選手情報入力!L82=\"\",\"\",IF(K73=1,VLOOKUP(②選手情報入力!L82,種目情報!$A$5:$C$135,3,FALSE),VLOOKUP(②選手情報入力!L82,種目情報!$E$5:$G$135,3,FALSE))))","v":""},{"$f":"IF(E73=\"\",\"\",IF(②選手情報入力!O82=\"\",\"\",IF(K73=1,VLOOKUP(②選手情報入力!O82,種目情報!$A$5:$B$151,2,FALSE),VLOOKUP(②選手情報入力!O82,種目情報!$E$5:$F$135,2,FALSE))))","v":""},{"$f":"IF(E73=\"\",\"\",IF(②選手情報入力!P82=\"\",\"\",②選手情報入力!P82))","v":""},{"$f":"IF(E73=\"\",\"\",IF(②選手情報入力!N82=\"\",\"\",1))","v":""},{"$f":"IF(E73=\"\",\"\",IF(②選手情報入力!O82=\"\",\"\",IF(K73=1,VLOOKUP(②選手情報入力!O82,種目情報!$A$5:$C$135,3,FALSE),VLOOKUP(②選手情報入力!O82,種目情報!$E$5:$G$135,3,FALSE))))","v":""},{"$f":"IF(E73=\"\",\"\",IF(②選手情報入力!R82=\"\",\"\",IF(K73=1,VLOOKUP(②選手情報入力!R82,種目情報!$A$5:$B$151,2,FALSE),VLOOKUP(②選手情報入力!R82,種目情報!$E$5:$F$135,2,FALSE))))","v":""},{"$f":"IF(E73=\"\",\"\",IF(②選手情報入力!S82=\"\",\"\",②選手情報入力!S82))","v":""},{"$f":"IF(E73=\"\",\"\",IF(②選手情報入力!Q82=\"\",\"\",1))","v":""},{"$f":"IF(E73=\"\",\"\",IF(②選手情報入力!R82=\"\",\"\",IF(K73=1,VLOOKUP(②選手情報入力!R82,種目情報!$A$5:$C$135,3,FALSE),VLOOKUP(②選手情報入力!R82,種目情報!$E$5:$G$135,3,FALSE))))","v":""},{"$f":"IF(E73=\"\",\"\",IF(②選手情報入力!T82=\"\",\"\",IF(K73=1,種目情報!$J$4,種目情報!$J$6)))","v":""},{"$f":"IF(E73=\"\",\"\",IF(②選手情報入力!T82=\"\",\"\",IF(K73=1,IF(②選手情報入力!$U$7=\"\",\"\",②選手情報入力!$U$7),IF(②選手情報入力!$U$8=\"\",\"\",②選手情報入力!$U$8))))","v":""},{"$f":"IF(E73=\"\",\"\",IF(②選手情報入力!T82=\"\",\"\",IF(K73=1,IF(②選手情報入力!$T$7=\"\",0,1),IF(②選手情報入力!$T$8=\"\",0,1))))","v":""},{"$f":"IF(E73=\"\",\"\",IF(②選手情報入力!T82=\"\",\"\",2))","v":""},{"$f":"IF(E73=\"\",\"\",IF(②選手情報入力!V82=\"\",\"\",IF(K73=1,種目情報!$J$5,種目情報!$J$7)))","v":""},{"$f":"IF(E73=\"\",\"\",IF(②選手情報入力!V82=\"\",\"\",IF(K73=1,IF(②選手情報入力!$W$7=\"\",\"\",②選手情報入力!$W$7),IF(②選手情報入力!$W$8=\"\",\"\",②選手情報入力!$W$8))))","v":""},{"$f":"IF(E73=\"\",\"\",IF(②選手情報入力!V82=\"\",\"\",IF(K73=1,IF(②選手情報入力!$V$7=\"\",0,1),IF(②選手情報入力!$V$8=\"\",0,1))))","v":""},{"$f":"IF(E73=\"\",\"\",IF(②選手情報入力!V82=\"\",\"\",2))","v":""},null,null,{"$f":"IF(②選手情報入力!F82=\"\",\"\",ASC(②選手情報入力!F82))","v":""},{"$f":"IF(②選手情報入力!F82=\"\",\"\",ASC(②選手情報入力!G82))","v":""}]
["",{"$f":"IF(E74=\"\",\"\",①団体情報入力!$C$5)","v":""},null,{"$f":"IF(E74=\"\",\"\",IF(①団体情報入力!C82=\"\",\"\",①団体情報入力!C82))","v":""},{"$f":"IF(②選手情報入力!C83=\"\",\"\",②選手情報入力!C83)","v":""},{"$f":"IF(E74=\"\",\"\",②選手情報入力!D83)","v":""},{"$f":"IF(E74=\"\",\"\",ASC(②選手情報入力!E83))","v":""},"","",{"$f":"IF(E74=\"\",\"\",IF(②選手情報入力!H83=\"\",\"JPN\",LEFT(②選手情報入力!H83,3)))","v":""},{"$f":"IF(E74=\"\",\"\",IF(②選手情報入力!I83=\"男\",1,2))","v":""},{"$f":"IF(E74=\"\",\"\",IF(②選手情報入力!J83=\"\",\"\",②選手情報入力!J83))","v":""},{"$f":"IF(E74=\"\",\"\",LEFT(②選手情報入力!K83,4))","v":""},{"$f":"IF(E74=\"\",\"\",RIGHT(②選手情報入力!K83,4))","v":""},"",null,{"$f":"IF(E74=\"\",\"\",IF(②選手情報入力!L83=\"\",\"\",IF(K74=1,VLOOKUP(②選手情報入力!L83,種目情報!$A$5:$B$167,2,FALSE),VLOOKUP(②選手情報入力!L83,種目情報!$E$5:$F$142,2,FALSE))))","v":""},{"$f":"IF(E74=\"\",\"\",IF(②選手情報入力!M83=\"\",\"\",②選手情報入力!M83))","v":""},null,{"$f":"IF(E74=\"\",\"\",IF(②選手情報入力!L83=\"\",\"\",IF(K74=1,VLOOKUP(②選手情報入力!L83,種目情報!$A$5:$C$135,3,FALSE),VLOOKUP(②選手情報入力!L83,種目情報!$E$5:$G$135,3,FALSE))))","v":""},{"$f":"IF(E74=\"\",\"\",IF(②選手情報入力!O83=\"\",\"\",IF(K74=1,VLOOKUP(②選手情報入力!O83,種目情報!$A$5:$B$151,2,FALSE),VLOOKUP(②選手情報入力!O83,種目情報!$E$5:$F$135,2,FALSE))))","v":""},{"$f":"IF(E74=\"\",\"\",IF(②選手情報入力!P83=\"\",\"\",②選手情報入力!P83))","v":""},{"$f":"IF(E74=\"\",\"\",IF(②選手情報入力!N83=\"\",\"\",1))","v":""},{"$f":"IF(E74=\"\",\"\",IF(②選手情報入力!O83=\"\",\"\",IF(K74=1,VLOOKUP(②選手情報入力!O83,種目情報!$A$5:$C$135,3,FALSE),VLOOKUP(②選手情報入力!O83,種目情報!$E$5:$G$135,3,FALSE))))","v":""},{"$f":"IF(E74=\"\",\"\",IF(②選手情報入力!R83=\"\",\"\",IF(K74=1,VLOOKUP(②選手情報入力!R83,種目情報!$A$5:$B$151,2,FALSE),VLOOKUP(②選手情報入力!R83,種目情報!$E$5:$F$135,2,FALSE))))","v":""},{"$f":"IF(E74=\"\",\"\",IF(②選手情報入力!S83=\"\",\"\",②選手情報入力!S83))","v":""},{"$f":"IF(E74=\"\",\"\",IF(②選手情報入力!Q83=\"\",\"\",1))","v":""},{"$f":"IF(E74=\"\",\"\",IF(②選手情報入力!R83=\"\",\"\",IF(K74=1,VLOOKUP(②選手情報入力!R83,種目情報!$A$5:$C$135,3,FALSE),VLOOKUP(②選手情報入力!R83,種目情報!$E$5:$G$135,3,FALSE))))","v":""},{"$f":"IF(E74=\"\",\"\",IF(②選手情報入力!T83=\"\",\"\",IF(K74=1,種目情報!$J$4,種目情報!$J$6)))","v":""},{"$f":"IF(E74=\"\",\"\",IF(②選手情報入力!T83=\"\",\"\",IF(K74=1,IF(②選手情報入力!$U$7=\"\",\"\",②選手情報入力!$U$7),IF(②選手情報入力!$U$8=\"\",\"\",②選手情報入力!$U$8))))","v":""},{"$f":"IF(E74=\"\",\"\",IF(②選手情報入力!T83=\"\",\"\",IF(K74=1,IF(②選手情報入力!$T$7=\"\",0,1),IF(②選手情報入力!$T$8=\"\",0,1))))","v":""},{"$f":"IF(E74=\"\",\"\",IF(②選手情報入力!T83=\"\",\"\",2))","v":""},{"$f":"IF(E74=\"\",\"\",IF(②選手情報入力!V83=\"\",\"\",IF(K74=1,種目情報!$J$5,種目情報!$J$7)))","v":""},{"$f":"IF(E74=\"\",\"\",IF(②選手情報入力!V83=\"\",\"\",IF(K74=1,IF(②選手情報入力!$W$7=\"\",\"\",②選手情報入力!$W$7),IF(②選手情報入力!$W$8=\"\",\"\",②選手情報入力!$W$8))))","v":""},{"$f":"IF(E74=\"\",\"\",IF(②選手情報入力!V83=\"\",\"\",IF(K74=1,IF(②選手情報入力!$V$7=\"\",0,1),IF(②選手情報入力!$V$8=\"\",0,1))))","v":""},{"$f":"IF(E74=\"\",\"\",IF(②選手情報入力!V83=\"\",\"\",2))","v":""},null,null,{"$f":"IF(②選手情報入力!F83=\"\",\"\",ASC(②選手情報入力!F83))","v":""},{"$f":"IF(②選手情報入力!F83=\"\",\"\",ASC(②選手情報入力!G83))","v":""}]
["",{"$f":"IF(E75=\"\",\"\",①団体情報入力!$C$5)","v":""},null,{"$f":"IF(E75=\"\",\"\",IF(①団体情報入力!C83=\"\",\"\",①団体情報入力!C83))","v":""},{"$f":"IF(②選手情報入力!C84=\"\",\"\",②選手情報入力!C84)","v":""},{"$f":"IF(E75=\"\",\"\",②選手情報入力!D84)","v":""},{"$f":"IF(E75=\"\",\"\",ASC(②選手情報入力!E84))","v":""},"","",{"$f":"IF(E75=\"\",\"\",IF(②選手情報入力!H84=\"\",\"JPN\",LEFT(②選手情報入力!H84,3)))","v":""},{"$f":"IF(E75=\"\",\"\",IF(②選手情報入力!I84=\"男\",1,2))","v":""},{"$f":"IF(E75=\"\",\"\",IF(②選手情報入力!J84=\"\",\"\",②選手情報入力!J84))","v":""},{"$f":"IF(E75=\"\",\"\",LEFT(②選手情報入力!K84,4))","v":""},{"$f":"IF(E75=\"\",\"\",RIGHT(②選手情報入力!K84,4))","v":""},"",null,{"$f":"IF(E75=\"\",\"\",IF(②選手情報入力!L84=\"\",\"\",IF(K75=1,VLOOKUP(②選手情報入力!L84,種目情報!$A$5:$B$167,2,FALSE),VLOOKUP(②選手情報入力!L84,種目情報!$E$5:$F$142,2,FALSE))))","v":""},{"$f":"IF(E75=\"\",\"\",IF(②選手情報入力!M84=\"\",\"\",②選手情報入力!M84))","v":""},null,{"$f":"IF(E75=\"\",\"\",IF(②選手情報入力!L84=\"\",\"\",IF(K75=1,VLOOKUP(②選手情報入力!L84,種目情報!$A$5:$C$135,3,FALSE),VLOOKUP(②選手情報入力!L84,種目情報!$E$5:$G$135,3,FALSE))))","v":""},{"$f":"IF(E75=\"\",\"\",IF(②選手情報入力!O84=\"\",\"\",IF(K75=1,VLOOKUP(②選手情報入力!O84,種目情報!$A$5:$B$151,2,FALSE),VLOOKUP(②選手情報入力!O84,種目情報!$E$5:$F$135,2,FALSE))))","v":""},{"$f":"IF(E75=\"\",\"\",IF(②選手情報入力!P84=\"\",\"\",②選手情報入力!P84))","v":""},{"$f":"IF(E75=\"\",\"\",IF(②選手情報入力!N84=\"\",\"\",1))","v":""},{"$f":"IF(E75=\"\",\"\",IF(②選手情報入力!O84=\"\",\"\",IF(K75=1,VLOOKUP(②選手情報入力!O84,種目情報!$A$5:$C$135,3,FALSE),VLOOKUP(②選手情報入力!O84,種目情報!$E$5:$G$135,3,FALSE))))","v":""},{"$f":"IF(E75=\"\",\"\",IF(②選手情報入力!R84=\"\",\"\",IF(K75=1,VLOOKUP(②選手情報入力!R84,種目情報!$A$5:$B$151,2,FALSE),VLOOKUP(②選手情報入力!R84,種目情報!$E$5:$F$135,2,FALSE))))","v":""},{"$f":"IF(E75=\"\",\"\",IF(②選手情報入力!S84=\"\",\"\",②選手情報入力!S84))","v":""},{"$f":"IF(E75=\"\",\"\",IF(②選手情報入力!Q84=\"\",\"\",1))","v":""},{"$f":"IF(E75=\"\",\"\",IF(②選手情報入力!R84=\"\",\"\",IF(K75=1,VLOOKUP(②選手情報入力!R84,種目情報!$A$5:$C$135,3,FALSE),VLOOKUP(②選手情報入力!R84,種目情報!$E$5:$G$135,3,FALSE))))","v":""},{"$f":"IF(E75=\"\",\"\",IF(②選手情報入力!T84=\"\",\"\",IF(K75=1,種目情報!$J$4,種目情報!$J$6)))","v":""},{"$f":"IF(E75=\"\",\"\",IF(②選手情報入力!T84=\"\",\"\",IF(K75=1,IF(②選手情報入力!$U$7=\"\",\"\",②選手情報入力!$U$7),IF(②選手情報入力!$U$8=\"\",\"\",②選手情報入力!$U$8))))","v":""},{"$f":"IF(E75=\"\",\"\",IF(②選手情報入力!T84=\"\",\"\",IF(K75=1,IF(②選手情報入力!$T$7=\"\",0,1),IF(②選手情報入力!$T$8=\"\",0,1))))","v":""},{"$f":"IF(E75=\"\",\"\",IF(②選手情報入力!T84=\"\",\"\",2))","v":""},{"$f":"IF(E75=\"\",\"\",IF(②選手情報入力!V84=\"\",\"\",IF(K75=1,種目情報!$J$5,種目情報!$J$7)))","v":""},{"$f":"IF(E75=\"\",\"\",IF(②選手情報入力!V84=\"\",\"\",IF(K75=1,IF(②選手情報入力!$W$7=\"\",\"\",②選手情報入力!$W$7),IF(②選手情報入力!$W$8=\"\",\"\",②選手情報入力!$W$8))))","v":""},{"$f":"IF(E75=\"\",\"\",IF(②選手情報入力!V84=\"\",\"\",IF(K75=1,IF(②選手情報入力!$V$7=\"\",0,1),IF(②選手情報入力!$V$8=\"\",0,1))))","v":""},{"$f":"IF(E75=\"\",\"\",IF(②選手情報入力!V84=\"\",\"\",2))","v":""},null,null,{"$f":"IF(②選手情報入力!F84=\"\",\"\",ASC(②選手情報入力!F84))","v":""},{"$f":"IF(②選手情報入力!F84=\"\",\"\",ASC(②選手情報入力!G84))","v":""}]
["",{"$f":"IF(E76=\"\",\"\",①団体情報入力!$C$5)","v":""},null,{"$f":"IF(E76=\"\",\"\",IF(①団体情報入力!C84=\"\",\"\",①団体情報入力!C84))","v":""},{"$f":"IF(②選手情報入力!C85=\"\",\"\",②選手情報入力!C85)","v":""},{"$f":"IF(E76=\"\",\"\",②選手情報入力!D85)","v":""},{"$f":"IF(E76=\"\",\"\",ASC(②選手情報入力!E85))","v":""},"","",{"$f":"IF(E76=\"\",\"\",IF(②選手情報入力!H85=\"\",\"JPN\",LEFT(②選手情報入力!H85,3)))","v":""},{"$f":"IF(E76=\"\",\"\",IF(②選手情報入力!I85=\"男\",1,2))","v":""},{"$f":"IF(E76=\"\",\"\",IF(②選手情報入力!J85=\"\",\"\",②選手情報入力!J85))","v":""},{"$f":"IF(E76=\"\",\"\",LEFT(②選手情報入力!K85,4))","v":""},{"$f":"IF(E76=\"\",\"\",RIGHT(②選手情報入力!K85,4))","v":""},"",null,{"$f":"IF(E76=\"\",\"\",IF(②選手情報入力!L85=\"\",\"\",IF(K76=1,VLOOKUP(②選手情報入力!L85,種目情報!$A$5:$B$167,2,FALSE),VLOOKUP(②選手情報入力!L85,種目情報!$E$5:$F$142,2,FALSE))))","v":""},{"$f":"IF(E76=\"\",\"\",IF(②選手情報入力!M85=\"\",\"\",②選手情報入力!M85))","v":""},null,{"$f":"IF(E76=\"\",\"\",IF(②選手情報入力!L85=\"\",\"\",IF(K76=1,VLOOKUP(②選手情報入力!L85,種目情報!$A$5:$C$135,3,FALSE),VLOOKUP(②選手情報入力!L85,種目情報!$E$5:$G$135,3,FALSE))))","v":""},{"$f":"IF(E76=\"\",\"\",IF(②選手情報入力!O85=\"\",\"\",IF(K76=1,VLOOKUP(②選手情報入力!O85,種目情報!$A$5:$B$151,2,FALSE),VLOOKUP(②選手情報入力!O85,種目情報!$E$5:$F$135,2,FALSE))))","v":""},{"$f":"IF(E76=\"\",\"\",IF(②選手情報入力!P85=\"\",\"\",②選手情報入力!P85))","v":""},{"$f":"IF(E76=\"\",\"\",IF(②選手情報入力!N85=\"\",\"\",1))","v":""},{"$f":"IF(E76=\"\",\"\",IF(②選手情報入力!O85=\"\",\"\",IF(K76=1,VLOOKUP(②選手情報入力!O85,種目情報!$A$5:$C$135,3,FALSE),VLOOKUP(②選手情報入力!O85,種目情報!$E$5:$G$135,3,FALSE))))","v":""},{"$f":"IF(E76=\"\",\"\",IF(②選手情報入力!R85=\"\",\"\",IF(K76=1,VLOOKUP(②選手情報入力!R85,種目情報!$A$5:$B$151,2,FALSE),VLOOKUP(②選手情報入力!R85,種目情報!$E$5:$F$135,2,FALSE))))","v":""},{"$f":"IF(E76=\"\",\"\",IF(②選手情報入力!S85=\"\",\"\",②選手情報入力!S85))","v":""},{"$f":"IF(E76=\"\",\"\",IF(②選手情報入力!Q85=\"\",\"\",1))","v":""},{"$f":"IF(E76=\"\",\"\",IF(②選手情報入力!R85=\"\",\"\",IF(K76=1,VLOOKUP(②選手情報入力!R85,種目情報!$A$5:$C$135,3,FALSE),VLOOKUP(②選手情報入力!R85,種目情報!$E$5:$G$135,3,FALSE))))","v":""},{"$f":"IF(E76=\"\",\"\",IF(②選手情報入力!T85=\"\",\"\",IF(K76=1,種目情報!$J$4,種目情報!$J$6)))","v":""},{"$f":"IF(E76=\"\",\"\",IF(②選手情報入力!T85=\"\",\"\",IF(K76=1,IF(②選手情報入力!$U$7=\"\",\"\",②選手情報入力!$U$7),IF(②選手情報入力!$U$8=\"\",\"\",②選手情報入力!$U$8))))","v":""},{"$f":"IF(E76=\"\",\"\",IF(②選手情報入力!T85=\"\",\"\",IF(K76=1,IF(②選手情報入力!$T$7=\"\",0,1),IF(②選手情報入力!$T$8=\"\",0,1))))","v":""},{"$f":"IF(E76=\"\",\"\",IF(②選手情報入力!T85=\"\",\"\",2))","v":""},{"$f":"IF(E76=\"\",\"\",IF(②選手情報入力!V85=\"\",\"\",IF(K76=1,種目情報!$J$5,種目情報!$J$7)))","v":""},{"$f":"IF(E76=\"\",\"\",IF(②選手情報入力!V85=\"\",\"\",IF(K76=1,IF(②選手情報入力!$W$7=\"\",\"\",②選手情報入力!$W$7),IF(②選手情報入力!$W$8=\"\",\"\",②選手情報入力!$W$8))))","v":""},{"$f":"IF(E76=\"\",\"\",IF(②選手情報入力!V85=\"\",\"\",IF(K76=1,IF(②選手情報入力!$V$7=\"\",0,1),IF(②選手情報入力!$V$8=\"\",0,1))))","v":""},{"$f":"IF(E76=\"\",\"\",IF(②選手情報入力!V85=\"\",\"\",2))","v":""},null,null,{"$f":"IF(②選手情報入力!F85=\"\",\"\",ASC(②選手情報入力!F85))","v":""},{"$f":"IF(②選手情報入力!F85=\"\",\"\",ASC(②選手情報入力!G85))","v":""}]
["",{"$f":"IF(E77=\"\",\"\",①団体情報入力!$C$5)","v":""},null,{"$f":"IF(E77=\"\",\"\",IF(①団体情報入力!C85=\"\",\"\",①団体情報入力!C85))","v":""},{"$f":"IF(②選手情報入力!C86=\"\",\"\",②選手情報入力!C86)","v":""},{"$f":"IF(E77=\"\",\"\",②選手情報入力!D86)","v":""},{"$f":"IF(E77=\"\",\"\",ASC(②選手情報入力!E86))","v":""},"","",{"$f":"IF(E77=\"\",\"\",IF(②選手情報入力!H86=\"\",\"JPN\",LEFT(②選手情報入力!H86,3)))","v":""},{"$f":"IF(E77=\"\",\"\",IF(②選手情報入力!I86=\"男\",1,2))","v":""},{"$f":"IF(E77=\"\",\"\",IF(②選手情報入力!J86=\"\",\"\",②選手情報入力!J86))","v":""},{"$f":"IF(E77=\"\",\"\",LEFT(②選手情報入力!K86,4))","v":""},{"$f":"IF(E77=\"\",\"\",RIGHT(②選手情報入力!K86,4))","v":""},"",null,{"$f":"IF(E77=\"\",\"\",IF(②選手情報入力!L86=\"\",\"\",IF(K77=1,VLOOKUP(②選手情報入力!L86,種目情報!$A$5:$B$167,2,FALSE),VLOOKUP(②選手情報入力!L86,種目情報!$E$5:$F$142,2,FALSE))))","v":""},{"$f":"IF(E77=\"\",\"\",IF(②選手情報入力!M86=\"\",\"\",②選手情報入力!M86))","v":""},null,{"$f":"IF(E77=\"\",\"\",IF(②選手情報入力!L86=\"\",\"\",IF(K77=1,VLOOKUP(②選手情報入力!L86,種目情報!$A$5:$C$135,3,FALSE),VLOOKUP(②選手情報入力!L86,種目情報!$E$5:$G$135,3,FALSE))))","v":""},{"$f":"IF(E77=\"\",\"\",IF(②選手情報入力!O86=\"\",\"\",IF(K77=1,VLOOKUP(②選手情報入力!O86,種目情報!$A$5:$B$151,2,FALSE),VLOOKUP(②選手情報入力!O86,種目情報!$E$5:$F$135,2,FALSE))))","v":""},{"$f":"IF(E77=\"\",\"\",IF(②選手情報入力!P86=\"\",\"\",②選手情報入力!P86))","v":""},{"$f":"IF(E77=\"\",\"\",IF(②選手情報入力!N86=\"\",\"\",1))","v":""},{"$f":"IF(E77=\"\",\"\",IF(②選手情報入力!O86=\"\",\"\",IF(K77=1,VLOOKUP(②選手情報入力!O86,種目情報!$A$5:$C$135,3,FALSE),VLOOKUP(②選手情報入力!O86,種目情報!$E$5:$G$135,3,FALSE))))","v":""},{"$f":"IF(E77=\"\",\"\",IF(②選手情報入力!R86=\"\",\"\",IF(K77=1,VLOOKUP(②選手情報入力!R86,種目情報!$A$5:$B$151,2,FALSE),VLOOKUP(②選手情報入力!R86,種目情報!$E$5:$F$135,2,FALSE))))","v":""},{"$f":"IF(E77=\"\",\"\",IF(②選手情報入力!S86=\"\",\"\",②選手情報入力!S86))","v":""},{"$f":"IF(E77=\"\",\"\",IF(②選手情報入力!Q86=\"\",\"\",1))","v":""},{"$f":"IF(E77=\"\",\"\",IF(②選手情報入力!R86=\"\",\"\",IF(K77=1,VLOOKUP(②選手情報入力!R86,種目情報!$A$5:$C$135,3,FALSE),VLOOKUP(②選手情報入力!R86,種目情報!$E$5:$G$135,3,FALSE))))","v":""},{"$f":"IF(E77=\"\",\"\",IF(②選手情報入力!T86=\"\",\"\",IF(K77=1,種目情報!$J$4,種目情報!$J$6)))","v":""},{"$f":"IF(E77=\"\",\"\",IF(②選手情報入力!T86=\"\",\"\",IF(K77=1,IF(②選手情報入力!$U$7=\"\",\"\",②選手情報入力!$U$7),IF(②選手情報入力!$U$8=\"\",\"\",②選手情報入力!$U$8))))","v":""},{"$f":"IF(E77=\"\",\"\",IF(②選手情報入力!T86=\"\",\"\",IF(K77=1,IF(②選手情報入力!$T$7=\"\",0,1),IF(②選手情報入力!$T$8=\"\",0,1))))","v":""},{"$f":"IF(E77=\"\",\"\",IF(②選手情報入力!T86=\"\",\"\",2))","v":""},{"$f":"IF(E77=\"\",\"\",IF(②選手情報入力!V86=\"\",\"\",IF(K77=1,種目情報!$J$5,種目情報!$J$7)))","v":""},{"$f":"IF(E77=\"\",\"\",IF(②選手情報入力!V86=\"\",\"\",IF(K77=1,IF(②選手情報入力!$W$7=\"\",\"\",②選手情報入力!$W$7),IF(②選手情報入力!$W$8=\"\",\"\",②選手情報入力!$W$8))))","v":""},{"$f":"IF(E77=\"\",\"\",IF(②選手情報入力!V86=\"\",\"\",IF(K77=1,IF(②選手情報入力!$V$7=\"\",0,1),IF(②選手情報入力!$V$8=\"\",0,1))))","v":""},{"$f":"IF(E77=\"\",\"\",IF(②選手情報入力!V86=\"\",\"\",2))","v":""},null,null,{"$f":"IF(②選手情報入力!F86=\"\",\"\",ASC(②選手情報入力!F86))","v":""},{"$f":"IF(②選手情報入力!F86=\"\",\"\",ASC(②選手情報入力!G86))","v":""}]
["",{"$f":"IF(E78=\"\",\"\",①団体情報入力!$C$5)","v":""},null,{"$f":"IF(E78=\"\",\"\",IF(①団体情報入力!C86=\"\",\"\",①団体情報入力!C86))","v":""},{"$f":"IF(②選手情報入力!C87=\"\",\"\",②選手情報入力!C87)","v":""},{"$f":"IF(E78=\"\",\"\",②選手情報入力!D87)","v":""},{"$f":"IF(E78=\"\",\"\",ASC(②選手情報入力!E87))","v":""},"","",{"$f":"IF(E78=\"\",\"\",IF(②選手情報入力!H87=\"\",\"JPN\",LEFT(②選手情報入力!H87,3)))","v":""},{"$f":"IF(E78=\"\",\"\",IF(②選手情報入力!I87=\"男\",1,2))","v":""},{"$f":"IF(E78=\"\",\"\",IF(②選手情報入力!J87=\"\",\"\",②選手情報入力!J87))","v":""},{"$f":"IF(E78=\"\",\"\",LEFT(②選手情報入力!K87,4))","v":""},{"$f":"IF(E78=\"\",\"\",RIGHT(②選手情報入力!K87,4))","v":""},"",null,{"$f":"IF(E78=\"\",\"\",IF(②選手情報入力!L87=\"\",\"\",IF(K78=1,VLOOKUP(②選手情報入力!L87,種目情報!$A$5:$B$167,2,FALSE),VLOOKUP(②選手情報入力!L87,種目情報!$E$5:$F$142,2,FALSE))))","v":""},{"$f":"IF(E78=\"\",\"\",IF(②選手情報入力!M87=\"\",\"\",②選手情報入力!M87))","v":""},null,{"$f":"IF(E78=\"\",\"\",IF(②選手情報入力!L87=\"\",\"\",IF(K78=1,VLOOKUP(②選手情報入力!L87,種目情報!$A$5:$C$135,3,FALSE),VLOOKUP(②選手情報入力!L87,種目情報!$E$5:$G$135,3,FALSE))))","v":""},{"$f":"IF(E78=\"\",\"\",IF(②選手情報入力!O87=\"\",\"\",IF(K78=1,VLOOKUP(②選手情報入力!O87,種目情報!$A$5:$B$151,2,FALSE),VLOOKUP(②選手情報入力!O87,種目情報!$E$5:$F$135,2,FALSE))))","v":""},{"$f":"IF(E78=\"\",\"\",IF(②選手情報入力!P87=\"\",\"\",②選手情報入力!P87))","v":""},{"$f":"IF(E78=\"\",\"\",IF(②選手情報入力!N87=\"\",\"\",1))","v":""},{"$f":"IF(E78=\"\",\"\",IF(②選手情報入力!O87=\"\",\"\",IF(K78=1,VLOOKUP(②選手情報入力!O87,種目情報!$A$5:$C$135,3,FALSE),VLOOKUP(②選手情報入力!O87,種目情報!$E$5:$G$135,3,FALSE))))","v":""},{"$f":"IF(E78=\"\",\"\",IF(②選手情報入力!R87=\"\",\"\",IF(K78=1,VLOOKUP(②選手情報入力!R87,種目情報!$A$5:$B$151,2,FALSE),VLOOKUP(②選手情報入力!R87,種目情報!$E$5:$F$135,2,FALSE))))","v":""},{"$f":"IF(E78=\"\",\"\",IF(②選手情報入力!S87=\"\",\"\",②選手情報入力!S87))","v":""},{"$f":"IF(E78=\"\",\"\",IF(②選手情報入力!Q87=\"\",\"\",1))","v":""},{"$f":"IF(E78=\"\",\"\",IF(②選手情報入力!R87=\"\",\"\",IF(K78=1,VLOOKUP(②選手情報入力!R87,種目情報!$A$5:$C$135,3,FALSE),VLOOKUP(②選手情報入力!R87,種目情報!$E$5:$G$135,3,FALSE))))","v":""},{"$f":"IF(E78=\"\",\"\",IF(②選手情報入力!T87=\"\",\"\",IF(K78=1,種目情報!$J$4,種目情報!$J$6)))","v":""},{"$f":"IF(E78=\"\",\"\",IF(②選手情報入力!T87=\"\",\"\",IF(K78=1,IF(②選手情報入力!$U$7=\"\",\"\",②選手情報入力!$U$7),IF(②選手情報入力!$U$8=\"\",\"\",②選手情報入力!$U$8))))","v":""},{"$f":"IF(E78=\"\",\"\",IF(②選手情報入力!T87=\"\",\"\",IF(K78=1,IF(②選手情報入力!$T$7=\"\",0,1),IF(②選手情報入力!$T$8=\"\",0,1))))","v":""},{"$f":"IF(E78=\"\",\"\",IF(②選手情報入力!T87=\"\",\"\",2))","v":""},{"$f":"IF(E78=\"\",\"\",IF(②選手情報入力!V87=\"\",\"\",IF(K78=1,種目情報!$J$5,種目情報!$J$7)))","v":""},{"$f":"IF(E78=\"\",\"\",IF(②選手情報入力!V87=\"\",\"\",IF(K78=1,IF(②選手情報入力!$W$7=\"\",\"\",②選手情報入力!$W$7),IF(②選手情報入力!$W$8=\"\",\"\",②選手情報入力!$W$8))))","v":""},{"$f":"IF(E78=\"\",\"\",IF(②選手情報入力!V87=\"\",\"\",IF(K78=1,IF(②選手情報入力!$V$7=\"\",0,1),IF(②選手情報入力!$V$8=\"\",0,1))))","v":""},{"$f":"IF(E78=\"\",\"\",IF(②選手情報入力!V87=\"\",\"\",2))","v":""},null,null,{"$f":"IF(②選手情報入力!F87=\"\",\"\",ASC(②選手情報入力!F87))","v":""},{"$f":"IF(②選手情報入力!F87=\"\",\"\",ASC(②選手情報入力!G87))","v":""}]
["",{"$f":"IF(E79=\"\",\"\",①団体情報入力!$C$5)","v":""},null,{"$f":"IF(E79=\"\",\"\",IF(①団体情報入力!C87=\"\",\"\",①団体情報入力!C87))","v":""},{"$f":"IF(②選手情報入力!C88=\"\",\"\",②選手情報入力!C88)","v":""},{"$f":"IF(E79=\"\",\"\",②選手情報入力!D88)","v":""},{"$f":"IF(E79=\"\",\"\",ASC(②選手情報入力!E88))","v":""},"","",{"$f":"IF(E79=\"\",\"\",IF(②選手情報入力!H88=\"\",\"JPN\",LEFT(②選手情報入力!H88,3)))","v":""},{"$f":"IF(E79=\"\",\"\",IF(②選手情報入力!I88=\"男\",1,2))","v":""},{"$f":"IF(E79=\"\",\"\",IF(②選手情報入力!J88=\"\",\"\",②選手情報入力!J88))","v":""},{"$f":"IF(E79=\"\",\"\",LEFT(②選手情報入力!K88,4))","v":""},{"$f":"IF(E79=\"\",\"\",RIGHT(②選手情報入力!K88,4))","v":""},"",null,{"$f":"IF(E79=\"\",\"\",IF(②選手情報入力!L88=\"\",\"\",IF(K79=1,VLOOKUP(②選手情報入力!L88,種目情報!$A$5:$B$167,2,FALSE),VLOOKUP(②選手情報入力!L88,種目情報!$E$5:$F$142,2,FALSE))))","v":""},{"$f":"IF(E79=\"\",\"\",IF(②選手情報入力!M88=\"\",\"\",②選手情報入力!M88))","v":""},null,{"$f":"IF(E79=\"\",\"\",IF(②選手情報入力!L88=\"\",\"\",IF(K79=1,VLOOKUP(②選手情報入力!L88,種目情報!$A$5:$C$135,3,FALSE),VLOOKUP(②選手情報入力!L88,種目情報!$E$5:$G$135,3,FALSE))))","v":""},{"$f":"IF(E79=\"\",\"\",IF(②選手情報入力!O88=\"\",\"\",IF(K79=1,VLOOKUP(②選手情報入力!O88,種目情報!$A$5:$B$151,2,FALSE),VLOOKUP(②選手情報入力!O88,種目情報!$E$5:$F$135,2,FALSE))))","v":""},{"$f":"IF(E79=\"\",\"\",IF(②選手情報入力!P88=\"\",\"\",②選手情報入力!P88))","v":""},{"$f":"IF(E79=\"\",\"\",IF(②選手情報入力!N88=\"\",\"\",1))","v":""},{"$f":"IF(E79=\"\",\"\",IF(②選手情報入力!O88=\"\",\"\",IF(K79=1,VLOOKUP(②選手情報入力!O88,種目情報!$A$5:$C$135,3,FALSE),VLOOKUP(②選手情報入力!O88,種目情報!$E$5:$G$135,3,FALSE))))","v":""},{"$f":"IF(E79=\"\",\"\",IF(②選手情報入力!R88=\"\",\"\",IF(K79=1,VLOOKUP(②選手情報入力!R88,種目情報!$A$5:$B$151,2,FALSE),VLOOKUP(②選手情報入力!R88,種目情報!$E$5:$F$135,2,FALSE))))","v":""},{"$f":"IF(E79=\"\",\"\",IF(②選手情報入力!S88=\"\",\"\",②選手情報入力!S88))","v":""},{"$f":"IF(E79=\"\",\"\",IF(②選手情報入力!Q88=\"\",\"\",1))","v":""},{"$f":"IF(E79=\"\",\"\",IF(②選手情報入力!R88=\"\",\"\",IF(K79=1,VLOOKUP(②選手情報入力!R88,種目情報!$A$5:$C$135,3,FALSE),VLOOKUP(②選手情報入力!R88,種目情報!$E$5:$G$135,3,FALSE))))","v":""},{"$f":"IF(E79=\"\",\"\",IF(②選手情報入力!T88=\"\",\"\",IF(K79=1,種目情報!$J$4,種目情報!$J$6)))","v":""},{"$f":"IF(E79=\"\",\"\",IF(②選手情報入力!T88=\"\",\"\",IF(K79=1,IF(②選手情報入力!$U$7=\"\",\"\",②選手情報入力!$U$7),IF(②選手情報入力!$U$8=\"\",\"\",②選手情報入力!$U$8))))","v":""},{"$f":"IF(E79=\"\",\"\",IF(②選手情報入力!T88=\"\",\"\",IF(K79=1,IF(②選手情報入力!$T$7=\"\",0,1),IF(②選手情報入力!$T$8=\"\",0,1))))","v":""},{"$f":"IF(E79=\"\",\"\",IF(②選手情報入力!T88=\"\",\"\",2))","v":""},{"$f":"IF(E79=\"\",\"\",IF(②選手情報入力!V88=\"\",\"\",IF(K79=1,種目情報!$J$5,種目情報!$J$7)))","v":""},{"$f":"IF(E79=\"\",\"\",IF(②選手情報入力!V88=\"\",\"\",IF(K79=1,IF(②選手情報入力!$W$7=\"\",\"\",②選手情報入力!$W$7),IF(②選手情報入力!$W$8=\"\",\"\",②選手情報入力!$W$8))))","v":""},{"$f":"IF(E79=\"\",\"\",IF(②選手情報入力!V88=\"\",\"\",IF(K79=1,IF(②選手情報入力!$V$7=\"\",0,1),IF(②選手情報入力!$V$8=\"\",0,1))))","v":""},{"$f":"IF(E79=\"\",\"\",IF(②選手情報入力!V88=\"\",\"\",2))","v":""},null,null,{"$f":"IF(②選手情報入力!F88=\"\",\"\",ASC(②選手情報入力!F88))","v":""},{"$f":"IF(②選手情報入力!F88=\"\",\"\",ASC(②選手情報入力!G88))","v":""}]
["",{"$f":"IF(E80=\"\",\"\",①団体情報入力!$C$5)","v":""},null,{"$f":"IF(E80=\"\",\"\",IF(①団体情報入力!C88=\"\",\"\",①団体情報入力!C88))","v":""},{"$f":"IF(②選手情報入力!C89=\"\",\"\",②選手情報入力!C89)","v":""},{"$f":"IF(E80=\"\",\"\",②選手情報入力!D89)","v":""},{"$f":"IF(E80=\"\",\"\",ASC(②選手情報入力!E89))","v":""},"","",{"$f":"IF(E80=\"\",\"\",IF(②選手情報入力!H89=\"\",\"JPN\",LEFT(②選手情報入力!H89,3)))","v":""},{"$f":"IF(E80=\"\",\"\",IF(②選手情報入力!I89=\"男\",1,2))","v":""},{"$f":"IF(E80=\"\",\"\",IF(②選手情報入力!J89=\"\",\"\",②選手情報入力!J89))","v":""},{"$f":"IF(E80=\"\",\"\",LEFT(②選手情報入力!K89,4))","v":""},{"$f":"IF(E80=\"\",\"\",RIGHT(②選手情報入力!K89,4))","v":""},"",null,{"$f":"IF(E80=\"\",\"\",IF(②選手情報入力!L89=\"\",\"\",IF(K80=1,VLOOKUP(②選手情報入力!L89,種目情報!$A$5:$B$167,2,FALSE),VLOOKUP(②選手情報入力!L89,種目情報!$E$5:$F$142,2,FALSE))))","v":""},{"$f":"IF(E80=\"\",\"\",IF(②選手情報入力!M89=\"\",\"\",②選手情報入力!M89))","v":""},null,{"$f":"IF(E80=\"\",\"\",IF(②選手情報入力!L89=\"\",\"\",IF(K80=1,VLOOKUP(②選手情報入力!L89,種目情報!$A$5:$C$135,3,FALSE),VLOOKUP(②選手情報入力!L89,種目情報!$E$5:$G$135,3,FALSE))))","v":""},{"$f":"IF(E80=\"\",\"\",IF(②選手情報入力!O89=\"\",\"\",IF(K80=1,VLOOKUP(②選手情報入力!O89,種目情報!$A$5:$B$151,2,FALSE),VLOOKUP(②選手情報入力!O89,種目情報!$E$5:$F$135,2,FALSE))))","v":""},{"$f":"IF(E80=\"\",\"\",IF(②選手情報入力!P89=\"\",\"\",②選手情報入力!P89))","v":""},{"$f":"IF(E80=\"\",\"\",IF(②選手情報入力!N89=\"\",\"\",1))","v":""},{"$f":"IF(E80=\"\",\"\",IF(②選手情報入力!O89=\"\",\"\",IF(K80=1,VLOOKUP(②選手情報入力!O89,種目情報!$A$5:$C$135,3,FALSE),VLOOKUP(②選手情報入力!O89,種目情報!$E$5:$G$135,3,FALSE))))","v":""},{"$f":"IF(E80=\"\",\"\",IF(②選手情報入力!R89=\"\",\"\",IF(K80=1,VLOOKUP(②選手情報入力!R89,種目情報!$A$5:$B$151,2,FALSE),VLOOKUP(②選手情報入力!R89,種目情報!$E$5:$F$135,2,FALSE))))","v":""},{"$f":"IF(E80=\"\",\"\",IF(②選手情報入力!S89=\"\",\"\",②選手情報入力!S89))","v":""},{"$f":"IF(E80=\"\",\"\",IF(②選手情報入力!Q89=\"\",\"\",1))","v":""},{"$f":"IF(E80=\"\",\"\",IF(②選手情報入力!R89=\"\",\"\",IF(K80=1,VLOOKUP(②選手情報入力!R89,種目情報!$A$5:$C$135,3,FALSE),VLOOKUP(②選手情報入力!R89,種目情報!$E$5:$G$135,3,FALSE))))","v":""},{"$f":"IF(E80=\"\",\"\",IF(②選手情報入力!T89=\"\",\"\",IF(K80=1,種目情報!$J$4,種目情報!$J$6)))","v":""},{"$f":"IF(E80=\"\",\"\",IF(②選手情報入力!T89=\"\",\"\",IF(K80=1,IF(②選手情報入力!$U$7=\"\",\"\",②選手情報入力!$U$7),IF(②選手情報入力!$U$8=\"\",\"\",②選手情報入力!$U$8))))","v":""},{"$f":"IF(E80=\"\",\"\",IF(②選手情報入力!T89=\"\",\"\",IF(K80=1,IF(②選手情報入力!$T$7=\"\",0,1),IF(②選手情報入力!$T$8=\"\",0,1))))","v":""},{"$f":"IF(E80=\"\",\"\",IF(②選手情報入力!T89=\"\",\"\",2))","v":""},{"$f":"IF(E80=\"\",\"\",IF(②選手情報入力!V89=\"\",\"\",IF(K80=1,種目情報!$J$5,種目情報!$J$7)))","v":""},{"$f":"IF(E80=\"\",\"\",IF(②選手情報入力!V89=\"\",\"\",IF(K80=1,IF(②選手情報入力!$W$7=\"\",\"\",②選手情報入力!$W$7),IF(②選手情報入力!$W$8=\"\",\"\",②選手情報入力!$W$8))))","v":""},{"$f":"IF(E80=\"\",\"\",IF(②選手情報入力!V89=\"\",\"\",IF(K80=1,IF(②選手情報入力!$V$7=\"\",0,1),IF(②選手情報入力!$V$8=\"\",0,1))))","v":""},{"$f":"IF(E80=\"\",\"\",IF(②選手情報入力!V89=\"\",\"\",2))","v":""},null,null,{"$f":"IF(②選手情報入力!F89=\"\",\"\",ASC(②選手情報入力!F89))","v":""},{"$f":"IF(②選手情報入力!F89=\"\",\"\",ASC(②選手情報入力!G89))","v":""}]
["",{"$f":"IF(E81=\"\",\"\",①団体情報入力!$C$5)","v":""},null,{"$f":"IF(E81=\"\",\"\",IF(①団体情報入力!C89=\"\",\"\",①団体情報入力!C89))","v":""},{"$f":"IF(②選手情報入力!C90=\"\",\"\",②選手情報入力!C90)","v":""},{"$f":"IF(E81=\"\",\"\",②選手情報入力!D90)","v":""},{"$f":"IF(E81=\"\",\"\",ASC(②選手情報入力!E90))","v":""},"","",{"$f":"IF(E81=\"\",\"\",IF(②選手情報入力!H90=\"\",\"JPN\",LEFT(②選手情報入力!H90,3)))","v":""},{"$f":"IF(E81=\"\",\"\",IF(②選手情報入力!I90=\"男\",1,2))","v":""},{"$f":"IF(E81=\"\",\"\",IF(②選手情報入力!J90=\"\",\"\",②選手情報入力!J90))","v":""},{"$f":"IF(E81=\"\",\"\",LEFT(②選手情報入力!K90,4))","v":""},{"$f":"IF(E81=\"\",\"\",RIGHT(②選手情報入力!K90,4))","v":""},"",null,{"$f":"IF(E81=\"\",\"\",IF(②選手情報入力!L90=\"\",\"\",IF(K81=1,VLOOKUP(②選手情報入力!L90,種目情報!$A$5:$B$167,2,FALSE),VLOOKUP(②選手情報入力!L90,種目情報!$E$5:$F$142,2,FALSE))))","v":""},{"$f":"IF(E81=\"\",\"\",IF(②選手情報入力!M90=\"\",\"\",②選手情報入力!M90))","v":""},null,{"$f":"IF(E81=\"\",\"\",IF(②選手情報入力!L90=\"\",\"\",IF(K81=1,VLOOKUP(②選手情報入力!L90,種目情報!$A$5:$C$135,3,FALSE),VLOOKUP(②選手情報入力!L90,種目情報!$E$5:$G$135,3,FALSE))))","v":""},{"$f":"IF(E81=\"\",\"\",IF(②選手情報入力!O90=\"\",\"\",IF(K81=1,VLOOKUP(②選手情報入力!O90,種目情報!$A$5:$B$151,2,FALSE),VLOOKUP(②選手情報入力!O90,種目情報!$E$5:$F$135,2,FALSE))))","v":""},{"$f":"IF(E81=\"\",\"\",IF(②選手情報入力!P90=\"\",\"\",②選手情報入力!P90))","v":""},{"$f":"IF(E81=\"\",\"\",IF(②選手情報入力!N90=\"\",\"\",1))","v":""},{"$f":"IF(E81=\"\",\"\",IF(②選手情報入力!O90=\"\",\"\",IF(K81=1,VLOOKUP(②選手情報入力!O90,種目情報!$A$5:$C$135,3,FALSE),VLOOKUP(②選手情報入力!O90,種目情報!$E$5:$G$135,3,FALSE))))","v":""},{"$f":"IF(E81=\"\",\"\",IF(②選手情報入力!R90=\"\",\"\",IF(K81=1,VLOOKUP(②選手情報入力!R90,種目情報!$A$5:$B$151,2,FALSE),VLOOKUP(②選手情報入力!R90,種目情報!$E$5:$F$135,2,FALSE))))","v":""},{"$f":"IF(E81=\"\",\"\",IF(②選手情報入力!S90=\"\",\"\",②選手情報入力!S90))","v":""},{"$f":"IF(E81=\"\",\"\",IF(②選手情報入力!Q90=\"\",\"\",1))","v":""},{"$f":"IF(E81=\"\",\"\",IF(②選手情報入力!R90=\"\",\"\",IF(K81=1,VLOOKUP(②選手情報入力!R90,種目情報!$A$5:$C$135,3,FALSE),VLOOKUP(②選手情報入力!R90,種目情報!$E$5:$G$135,3,FALSE))))","v":""},{"$f":"IF(E81=\"\",\"\",IF(②選手情報入力!T90=\"\",\"\",IF(K81=1,種目情報!$J$4,種目情報!$J$6)))","v":""},{"$f":"IF(E81=\"\",\"\",IF(②選手情報入力!T90=\"\",\"\",IF(K81=1,IF(②選手情報入力!$U$7=\"\",\"\",②選手情報入力!$U$7),IF(②選手情報入力!$U$8=\"\",\"\",②選手情報入力!$U$8))))","v":""},{"$f":"IF(E81=\"\",\"\",IF(②選手情報入力!T90=\"\",\"\",IF(K81=1,IF(②選手情報入力!$T$7=\"\",0,1),IF(②選手情報入力!$T$8=\"\",0,1))))","v":""},{"$f":"IF(E81=\"\",\"\",IF(②選手情報入力!T90=\"\",\"\",2))","v":""},{"$f":"IF(E81=\"\",\"\",IF(②選手情報入力!V90=\"\",\"\",IF(K81=1,種目情報!$J$5,種目情報!$J$7)))","v":""},{"$f":"IF(E81=\"\",\"\",IF(②選手情報入力!V90=\"\",\"\",IF(K81=1,IF(②選手情報入力!$W$7=\"\",\"\",②選手情報入力!$W$7),IF(②選手情報入力!$W$8=\"\",\"\",②選手情報入力!$W$8))))","v":""},{"$f":"IF(E81=\"\",\"\",IF(②選手情報入力!V90=\"\",\"\",IF(K81=1,IF(②選手情報入力!$V$7=\"\",0,1),IF(②選手情報入力!$V$8=\"\",0,1))))","v":""},{"$f":"IF(E81=\"\",\"\",IF(②選手情報入力!V90=\"\",\"\",2))","v":""},null,null,{"$f":"IF(②選手情報入力!F90=\"\",\"\",ASC(②選手情報入力!F90))","v":""},{"$f":"IF(②選手情報入力!F90=\"\",\"\",ASC(②選手情報入力!G90))","v":""}]
["",{"$f":"IF(E82=\"\",\"\",①団体情報入力!$C$5)","v":""},null,{"$f":"IF(E82=\"\",\"\",IF(①団体情報入力!C90=\"\",\"\",①団体情報入力!C90))","v":""},{"$f":"IF(②選手情報入力!C91=\"\",\"\",②選手情報入力!C91)","v":""},{"$f":"IF(E82=\"\",\"\",②選手情報入力!D91)","v":""},{"$f":"IF(E82=\"\",\"\",ASC(②選手情報入力!E91))","v":""},"","",{"$f":"IF(E82=\"\",\"\",IF(②選手情報入力!H91=\"\",\"JPN\",LEFT(②選手情報入力!H91,3)))","v":""},{"$f":"IF(E82=\"\",\"\",IF(②選手情報入力!I91=\"男\",1,2))","v":""},{"$f":"IF(E82=\"\",\"\",IF(②選手情報入力!J91=\"\",\"\",②選手情報入力!J91))","v":""},{"$f":"IF(E82=\"\",\"\",LEFT(②選手情報入力!K91,4))","v":""},{"$f":"IF(E82=\"\",\"\",RIGHT(②選手情報入力!K91,4))","v":""},"",null,{"$f":"IF(E82=\"\",\"\",IF(②選手情報入力!L91=\"\",\"\",IF(K82=1,VLOOKUP(②選手情報入力!L91,種目情報!$A$5:$B$167,2,FALSE),VLOOKUP(②選手情報入力!L91,種目情報!$E$5:$F$142,2,FALSE))))","v":""},{"$f":"IF(E82=\"\",\"\",IF(②選手情報入力!M91=\"\",\"\",②選手情報入力!M91))","v":""},null,{"$f":"IF(E82=\"\",\"\",IF(②選手情報入力!L91=\"\",\"\",IF(K82=1,VLOOKUP(②選手情報入力!L91,種目情報!$A$5:$C$135,3,FALSE),VLOOKUP(②選手情報入力!L91,種目情報!$E$5:$G$135,3,FALSE))))","v":""},{"$f":"IF(E82=\"\",\"\",IF(②選手情報入力!O91=\"\",\"\",IF(K82=1,VLOOKUP(②選手情報入力!O91,種目情報!$A$5:$B$151,2,FALSE),VLOOKUP(②選手情報入力!O91,種目情報!$E$5:$F$135,2,FALSE))))","v":""},{"$f":"IF(E82=\"\",\"\",IF(②選手情報入力!P91=\"\",\"\",②選手情報入力!P91))","v":""},{"$f":"IF(E82=\"\",\"\",IF(②選手情報入力!N91=\"\",\"\",1))","v":""},{"$f":"IF(E82=\"\",\"\",IF(②選手情報入力!O91=\"\",\"\",IF(K82=1,VLOOKUP(②選手情報入力!O91,種目情報!$A$5:$C$135,3,FALSE),VLOOKUP(②選手情報入力!O91,種目情報!$E$5:$G$135,3,FALSE))))","v":""},{"$f":"IF(E82=\"\",\"\",IF(②選手情報入力!R91=\"\",\"\",IF(K82=1,VLOOKUP(②選手情報入力!R91,種目情報!$A$5:$B$151,2,FALSE),VLOOKUP(②選手情報入力!R91,種目情報!$E$5:$F$135,2,FALSE))))","v":""},{"$f":"IF(E82=\"\",\"\",IF(②選手情報入力!S91=\"\",\"\",②選手情報入力!S91))","v":""},{"$f":"IF(E82=\"\",\"\",IF(②選手情報入力!Q91=\"\",\"\",1))","v":""},{"$f":"IF(E82=\"\",\"\",IF(②選手情報入力!R91=\"\",\"\",IF(K82=1,VLOOKUP(②選手情報入力!R91,種目情報!$A$5:$C$135,3,FALSE),VLOOKUP(②選手情報入力!R91,種目情報!$E$5:$G$135,3,FALSE))))","v":""},{"$f":"IF(E82=\"\",\"\",IF(②選手情報入力!T91=\"\",\"\",IF(K82=1,種目情報!$J$4,種目情報!$J$6)))","v":""},{"$f":"IF(E82=\"\",\"\",IF(②選手情報入力!T91=\"\",\"\",IF(K82=1,IF(②選手情報入力!$U$7=\"\",\"\",②選手情報入力!$U$7),IF(②選手情報入力!$U$8=\"\",\"\",②選手情報入力!$U$8))))","v":""},{"$f":"IF(E82=\"\",\"\",IF(②選手情報入力!T91=\"\",\"\",IF(K82=1,IF(②選手情報入力!$T$7=\"\",0,1),IF(②選手情報入力!$T$8=\"\",0,1))))","v":""},{"$f":"IF(E82=\"\",\"\",IF(②選手情報入力!T91=\"\",\"\",2))","v":""},{"$f":"IF(E82=\"\",\"\",IF(②選手情報入力!V91=\"\",\"\",IF(K82=1,種目情報!$J$5,種目情報!$J$7)))","v":""},{"$f":"IF(E82=\"\",\"\",IF(②選手情報入力!V91=\"\",\"\",IF(K82=1,IF(②選手情報入力!$W$7=\"\",\"\",②選手情報入力!$W$7),IF(②選手情報入力!$W$8=\"\",\"\",②選手情報入力!$W$8))))","v":""},{"$f":"IF(E82=\"\",\"\",IF(②選手情報入力!V91=\"\",\"\",IF(K82=1,IF(②選手情報入力!$V$7=\"\",0,1),IF(②選手情報入力!$V$8=\"\",0,1))))","v":""},{"$f":"IF(E82=\"\",\"\",IF(②選手情報入力!V91=\"\",\"\",2))","v":""},null,null,{"$f":"IF(②選手情報入力!F91=\"\",\"\",ASC(②選手情報入力!F91))","v":""},{"$f":"IF(②選手情報入力!F91=\"\",\"\",ASC(②選手情報入力!G91))","v":""}]
["",{"$f":"IF(E83=\"\",\"\",①団体情報入力!$C$5)","v":""},null,{"$f":"IF(E83=\"\",\"\",IF(①団体情報入力!C91=\"\",\"\",①団体情報入力!C91))","v":""},{"$f":"IF(②選手情報入力!C92=\"\",\"\",②選手情報入力!C92)","v":""},{"$f":"IF(E83=\"\",\"\",②選手情報入力!D92)","v":""},{"$f":"IF(E83=\"\",\"\",ASC(②選手情報入力!E92))","v":""},"","",{"$f":"IF(E83=\"\",\"\",IF(②選手情報入力!H92=\"\",\"JPN\",LEFT(②選手情報入力!H92,3)))","v":""},{"$f":"IF(E83=\"\",\"\",IF(②選手情報入力!I92=\"男\",1,2))","v":""},{"$f":"IF(E83=\"\",\"\",IF(②選手情報入力!J92=\"\",\"\",②選手情報入力!J92))","v":""},{"$f":"IF(E83=\"\",\"\",LEFT(②選手情報入力!K92,4))","v":""},{"$f":"IF(E83=\"\",\"\",RIGHT(②選手情報入力!K92,4))","v":""},"",null,{"$f":"IF(E83=\"\",\"\",IF(②選手情報入力!L92=\"\",\"\",IF(K83=1,VLOOKUP(②選手情報入力!L92,種目情報!$A$5:$B$167,2,FALSE),VLOOKUP(②選手情報入力!L92,種目情報!$E$5:$F$142,2,FALSE))))","v":""},{"$f":"IF(E83=\"\",\"\",IF(②選手情報入力!M92=\"\",\"\",②選手情報入力!M92))","v":""},null,{"$f":"IF(E83=\"\",\"\",IF(②選手情報入力!L92=\"\",\"\",IF(K83=1,VLOOKUP(②選手情報入力!L92,種目情報!$A$5:$C$135,3,FALSE),VLOOKUP(②選手情報入力!L92,種目情報!$E$5:$G$135,3,FALSE))))","v":""},{"$f":"IF(E83=\"\",\"\",IF(②選手情報入力!O92=\"\",\"\",IF(K83=1,VLOOKUP(②選手情報入力!O92,種目情報!$A$5:$B$151,2,FALSE),VLOOKUP(②選手情報入力!O92,種目情報!$E$5:$F$135,2,FALSE))))","v":""},{"$f":"IF(E83=\"\",\"\",IF(②選手情報入力!P92=\"\",\"\",②選手情報入力!P92))","v":""},{"$f":"IF(E83=\"\",\"\",IF(②選手情報入力!N92=\"\",\"\",1))","v":""},{"$f":"IF(E83=\"\",\"\",IF(②選手情報入力!O92=\"\",\"\",IF(K83=1,VLOOKUP(②選手情報入力!O92,種目情報!$A$5:$C$135,3,FALSE),VLOOKUP(②選手情報入力!O92,種目情報!$E$5:$G$135,3,FALSE))))","v":""},{"$f":"IF(E83=\"\",\"\",IF(②選手情報入力!R92=\"\",\"\",IF(K83=1,VLOOKUP(②選手情報入力!R92,種目情報!$A$5:$B$151,2,FALSE),VLOOKUP(②選手情報入力!R92,種目情報!$E$5:$F$135,2,FALSE))))","v":""},{"$f":"IF(E83=\"\",\"\",IF(②選手情報入力!S92=\"\",\"\",②選手情報入力!S92))","v":""},{"$f":"IF(E83=\"\",\"\",IF(②選手情報入力!Q92=\"\",\"\",1))","v":""},{"$f":"IF(E83=\"\",\"\",IF(②選手情報入力!R92=\"\",\"\",IF(K83=1,VLOOKUP(②選手情報入力!R92,種目情報!$A$5:$C$135,3,FALSE),VLOOKUP(②選手情報入力!R92,種目情報!$E$5:$G$135,3,FALSE))))","v":""},{"$f":"IF(E83=\"\",\"\",IF(②選手情報入力!T92=\"\",\"\",IF(K83=1,種目情報!$J$4,種目情報!$J$6)))","v":""},{"$f":"IF(E83=\"\",\"\",IF(②選手情報入力!T92=\"\",\"\",IF(K83=1,IF(②選手情報入力!$U$7=\"\",\"\",②選手情報入力!$U$7),IF(②選手情報入力!$U$8=\"\",\"\",②選手情報入力!$U$8))))","v":""},{"$f":"IF(E83=\"\",\"\",IF(②選手情報入力!T92=\"\",\"\",IF(K83=1,IF(②選手情報入力!$T$7=\"\",0,1),IF(②選手情報入力!$T$8=\"\",0,1))))","v":""},{"$f":"IF(E83=\"\",\"\",IF(②選手情報入力!T92=\"\",\"\",2))","v":""},{"$f":"IF(E83=\"\",\"\",IF(②選手情報入力!V92=\"\",\"\",IF(K83=1,種目情報!$J$5,種目情報!$J$7)))","v":""},{"$f":"IF(E83=\"\",\"\",IF(②選手情報入力!V92=\"\",\"\",IF(K83=1,IF(②選手情報入力!$W$7=\"\",\"\",②選手情報入力!$W$7),IF(②選手情報入力!$W$8=\"\",\"\",②選手情報入力!$W$8))))","v":""},{"$f":"IF(E83=\"\",\"\",IF(②選手情報入力!V92=\"\",\"\",IF(K83=1,IF(②選手情報入力!$V$7=\"\",0,1),IF(②選手情報入力!$V$8=\"\",0,1))))","v":""},{"$f":"IF(E83=\"\",\"\",IF(②選手情報入力!V92=\"\",\"\",2))","v":""},null,null,{"$f":"IF(②選手情報入力!F92=\"\",\"\",ASC(②選手情報入力!F92))","v":""},{"$f":"IF(②選手情報入力!F92=\"\",\"\",ASC(②選手情報入力!G92))","v":""}]
["",{"$f":"IF(E84=\"\",\"\",①団体情報入力!$C$5)","v":""},null,{"$f":"IF(E84=\"\",\"\",IF(①団体情報入力!C92=\"\",\"\",①団体情報入力!C92))","v":""},{"$f":"IF(②選手情報入力!C93=\"\",\"\",②選手情報入力!C93)","v":""},{"$f":"IF(E84=\"\",\"\",②選手情報入力!D93)","v":""},{"$f":"IF(E84=\"\",\"\",ASC(②選手情報入力!E93))","v":""},"","",{"$f":"IF(E84=\"\",\"\",IF(②選手情報入力!H93=\"\",\"JPN\",LEFT(②選手情報入力!H93,3)))","v":""},{"$f":"IF(E84=\"\",\"\",IF(②選手情報入力!I93=\"男\",1,2))","v":""},{"$f":"IF(E84=\"\",\"\",IF(②選手情報入力!J93=\"\",\"\",②選手情報入力!J93))","v":""},{"$f":"IF(E84=\"\",\"\",LEFT(②選手情報入力!K93,4))","v":""},{"$f":"IF(E84=\"\",\"\",RIGHT(②選手情報入力!K93,4))","v":""},"",null,{"$f":"IF(E84=\"\",\"\",IF(②選手情報入力!L93=\"\",\"\",IF(K84=1,VLOOKUP(②選手情報入力!L93,種目情報!$A$5:$B$167,2,FALSE),VLOOKUP(②選手情報入力!L93,種目情報!$E$5:$F$142,2,FALSE))))","v":""},{"$f":"IF(E84=\"\",\"\",IF(②選手情報入力!M93=\"\",\"\",②選手情報入力!M93))","v":""},null,{"$f":"IF(E84=\"\",\"\",IF(②選手情報入力!L93=\"\",\"\",IF(K84=1,VLOOKUP(②選手情報入力!L93,種目情報!$A$5:$C$135,3,FALSE),VLOOKUP(②選手情報入力!L93,種目情報!$E$5:$G$135,3,FALSE))))","v":""},{"$f":"IF(E84=\"\",\"\",IF(②選手情報入力!O93=\"\",\"\",IF(K84=1,VLOOKUP(②選手情報入力!O93,種目情報!$A$5:$B$151,2,FALSE),VLOOKUP(②選手情報入力!O93,種目情報!$E$5:$F$135,2,FALSE))))","v":""},{"$f":"IF(E84=\"\",\"\",IF(②選手情報入力!P93=\"\",\"\",②選手情報入力!P93))","v":""},{"$f":"IF(E84=\"\",\"\",IF(②選手情報入力!N93=\"\",\"\",1))","v":""},{"$f":"IF(E84=\"\",\"\",IF(②選手情報入力!O93=\"\",\"\",IF(K84=1,VLOOKUP(②選手情報入力!O93,種目情報!$A$5:$C$135,3,FALSE),VLOOKUP(②選手情報入力!O93,種目情報!$E$5:$G$135,3,FALSE))))","v":""},{"$f":"IF(E84=\"\",\"\",IF(②選手情報入力!R93=\"\",\"\",IF(K84=1,VLOOKUP(②選手情報入力!R93,種目情報!$A$5:$B$151,2,FALSE),VLOOKUP(②選手情報入力!R93,種目情報!$E$5:$F$135,2,FALSE))))","v":""},{"$f":"IF(E84=\"\",\"\",IF(②選手情報入力!S93=\"\",\"\",②選手情報入力!S93))","v":""},{"$f":"IF(E84=\"\",\"\",IF(②選手情報入力!Q93=\"\",\"\",1))","v":""},{"$f":"IF(E84=\"\",\"\",IF(②選手情報入力!R93=\"\",\"\",IF(K84=1,VLOOKUP(②選手情報入力!R93,種目情報!$A$5:$C$135,3,FALSE),VLOOKUP(②選手情報入力!R93,種目情報!$E$5:$G$135,3,FALSE))))","v":""},{"$f":"IF(E84=\"\",\"\",IF(②選手情報入力!T93=\"\",\"\",IF(K84=1,種目情報!$J$4,種目情報!$J$6)))","v":""},{"$f":"IF(E84=\"\",\"\",IF(②選手情報入力!T93=\"\",\"\",IF(K84=1,IF(②選手情報入力!$U$7=\"\",\"\",②選手情報入力!$U$7),IF(②選手情報入力!$U$8=\"\",\"\",②選手情報入力!$U$8))))","v":""},{"$f":"IF(E84=\"\",\"\",IF(②選手情報入力!T93=\"\",\"\",IF(K84=1,IF(②選手情報入力!$T$7=\"\",0,1),IF(②選手情報入力!$T$8=\"\",0,1))))","v":""},{"$f":"IF(E84=\"\",\"\",IF(②選手情報入力!T93=\"\",\"\",2))","v":""},{"$f":"IF(E84=\"\",\"\",IF(②選手情報入力!V93=\"\",\"\",IF(K84=1,種目情報!$J$5,種目情報!$J$7)))","v":""},{"$f":"IF(E84=\"\",\"\",IF(②選手情報入力!V93=\"\",\"\",IF(K84=1,IF(②選手情報入力!$W$7=\"\",\"\",②選手情報入力!$W$7),IF(②選手情報入力!$W$8=\"\",\"\",②選手情報入力!$W$8))))","v":""},{"$f":"IF(E84=\"\",\"\",IF(②選手情報入力!V93=\"\",\"\",IF(K84=1,IF(②選手情報入力!$V$7=\"\",0,1),IF(②選手情報入力!$V$8=\"\",0,1))))","v":""},{"$f":"IF(E84=\"\",\"\",IF(②選手情報入力!V93=\"\",\"\",2))","v":""},null,null,{"$f":"IF(②選手情報入力!F93=\"\",\"\",ASC(②選手情報入力!F93))","v":""},{"$f":"IF(②選手情報入力!F93=\"\",\"\",ASC(②選手情報入力!G93))","v":""}]
["",{"$f":"IF(E85=\"\",\"\",①団体情報入力!$C$5)","v":""},null,{"$f":"IF(E85=\"\",\"\",IF(①団体情報入力!C93=\"\",\"\",①団体情報入力!C93))","v":""},{"$f":"IF(②選手情報入力!C94=\"\",\"\",②選手情報入力!C94)","v":""},{"$f":"IF(E85=\"\",\"\",②選手情報入力!D94)","v":""},{"$f":"IF(E85=\"\",\"\",ASC(②選手情報入力!E94))","v":""},"","",{"$f":"IF(E85=\"\",\"\",IF(②選手情報入力!H94=\"\",\"JPN\",LEFT(②選手情報入力!H94,3)))","v":""},{"$f":"IF(E85=\"\",\"\",IF(②選手情報入力!I94=\"男\",1,2))","v":""},{"$f":"IF(E85=\"\",\"\",IF(②選手情報入力!J94=\"\",\"\",②選手情報入力!J94))","v":""},{"$f":"IF(E85=\"\",\"\",LEFT(②選手情報入力!K94,4))","v":""},{"$f":"IF(E85=\"\",\"\",RIGHT(②選手情報入力!K94,4))","v":""},"",null,{"$f":"IF(E85=\"\",\"\",IF(②選手情報入力!L94=\"\",\"\",IF(K85=1,VLOOKUP(②選手情報入力!L94,種目情報!$A$5:$B$167,2,FALSE),VLOOKUP(②選手情報入力!L94,種目情報!$E$5:$F$142,2,FALSE))))","v":""},{"$f":"IF(E85=\"\",\"\",IF(②選手情報入力!M94=\"\",\"\",②選手情報入力!M94))","v":""},null,{"$f":"IF(E85=\"\",\"\",IF(②選手情報入力!L94=\"\",\"\",IF(K85=1,VLOOKUP(②選手情報入力!L94,種目情報!$A$5:$C$135,3,FALSE),VLOOKUP(②選手情報入力!L94,種目情報!$E$5:$G$135,3,FALSE))))","v":""},{"$f":"IF(E85=\"\",\"\",IF(②選手情報入力!O94=\"\",\"\",IF(K85=1,VLOOKUP(②選手情報入力!O94,種目情報!$A$5:$B$151,2,FALSE),VLOOKUP(②選手情報入力!O94,種目情報!$E$5:$F$135,2,FALSE))))","v":""},{"$f":"IF(E85=\"\",\"\",IF(②選手情報入力!P94=\"\",\"\",②選手情報入力!P94))","v":""},{"$f":"IF(E85=\"\",\"\",IF(②選手情報入力!N94=\"\",\"\",1))","v":""},{"$f":"IF(E85=\"\",\"\",IF(②選手情報入力!O94=\"\",\"\",IF(K85=1,VLOOKUP(②選手情報入力!O94,種目情報!$A$5:$C$135,3,FALSE),VLOOKUP(②選手情報入力!O94,種目情報!$E$5:$G$135,3,FALSE))))","v":""},{"$f":"IF(E85=\"\",\"\",IF(②選手情報入力!R94=\"\",\"\",IF(K85=1,VLOOKUP(②選手情報入力!R94,種目情報!$A$5:$B$151,2,FALSE),VLOOKUP(②選手情報入力!R94,種目情報!$E$5:$F$135,2,FALSE))))","v":""},{"$f":"IF(E85=\"\",\"\",IF(②選手情報入力!S94=\"\",\"\",②選手情報入力!S94))","v":""},{"$f":"IF(E85=\"\",\"\",IF(②選手情報入力!Q94=\"\",\"\",1))","v":""},{"$f":"IF(E85=\"\",\"\",IF(②選手情報入力!R94=\"\",\"\",IF(K85=1,VLOOKUP(②選手情報入力!R94,種目情報!$A$5:$C$135,3,FALSE),VLOOKUP(②選手情報入力!R94,種目情報!$E$5:$G$135,3,FALSE))))","v":""},{"$f":"IF(E85=\"\",\"\",IF(②選手情報入力!T94=\"\",\"\",IF(K85=1,種目情報!$J$4,種目情報!$J$6)))","v":""},{"$f":"IF(E85=\"\",\"\",IF(②選手情報入力!T94=\"\",\"\",IF(K85=1,IF(②選手情報入力!$U$7=\"\",\"\",②選手情報入力!$U$7),IF(②選手情報入力!$U$8=\"\",\"\",②選手情報入力!$U$8))))","v":""},{"$f":"IF(E85=\"\",\"\",IF(②選手情報入力!T94=\"\",\"\",IF(K85=1,IF(②選手情報入力!$T$7=\"\",0,1),IF(②選手情報入力!$T$8=\"\",0,1))))","v":""},{"$f":"IF(E85=\"\",\"\",IF(②選手情報入力!T94=\"\",\"\",2))","v":""},{"$f":"IF(E85=\"\",\"\",IF(②選手情報入力!V94=\"\",\"\",IF(K85=1,種目情報!$J$5,種目情報!$J$7)))","v":""},{"$f":"IF(E85=\"\",\"\",IF(②選手情報入力!V94=\"\",\"\",IF(K85=1,IF(②選手情報入力!$W$7=\"\",\"\",②選手情報入力!$W$7),IF(②選手情報入力!$W$8=\"\",\"\",②選手情報入力!$W$8))))","v":""},{"$f":"IF(E85=\"\",\"\",IF(②選手情報入力!V94=\"\",\"\",IF(K85=1,IF(②選手情報入力!$V$7=\"\",0,1),IF(②選手情報入力!$V$8=\"\",0,1))))","v":""},{"$f":"IF(E85=\"\",\"\",IF(②選手情報入力!V94=\"\",\"\",2))","v":""},null,null,{"$f":"IF(②選手情報入力!F94=\"\",\"\",ASC(②選手情報入力!F94))","v":""},{"$f":"IF(②選手情報入力!F94=\"\",\"\",ASC(②選手情報入力!G94))","v":""}]
["",{"$f":"IF(E86=\"\",\"\",①団体情報入力!$C$5)","v":""},null,{"$f":"IF(E86=\"\",\"\",IF(①団体情報入力!C94=\"\",\"\",①団体情報入力!C94))","v":""},{"$f":"IF(②選手情報入力!C95=\"\",\"\",②選手情報入力!C95)","v":""},{"$f":"IF(E86=\"\",\"\",②選手情報入力!D95)","v":""},{"$f":"IF(E86=\"\",\"\",ASC(②選手情報入力!E95))","v":""},"","",{"$f":"IF(E86=\"\",\"\",IF(②選手情報入力!H95=\"\",\"JPN\",LEFT(②選手情報入力!H95,3)))","v":""},{"$f":"IF(E86=\"\",\"\",IF(②選手情報入力!I95=\"男\",1,2))","v":""},{"$f":"IF(E86=\"\",\"\",IF(②選手情報入力!J95=\"\",\"\",②選手情報入力!J95))","v":""},{"$f":"IF(E86=\"\",\"\",LEFT(②選手情報入力!K95,4))","v":""},{"$f":"IF(E86=\"\",\"\",RIGHT(②選手情報入力!K95,4))","v":""},"",null,{"$f":"IF(E86=\"\",\"\",IF(②選手情報入力!L95=\"\",\"\",IF(K86=1,VLOOKUP(②選手情報入力!L95,種目情報!$A$5:$B$167,2,FALSE),VLOOKUP(②選手情報入力!L95,種目情報!$E$5:$F$142,2,FALSE))))","v":""},{"$f":"IF(E86=\"\",\"\",IF(②選手情報入力!M95=\"\",\"\",②選手情報入力!M95))","v":""},null,{"$f":"IF(E86=\"\",\"\",IF(②選手情報入力!L95=\"\",\"\",IF(K86=1,VLOOKUP(②選手情報入力!L95,種目情報!$A$5:$C$135,3,FALSE),VLOOKUP(②選手情報入力!L95,種目情報!$E$5:$G$135,3,FALSE))))","v":""},{"$f":"IF(E86=\"\",\"\",IF(②選手情報入力!O95=\"\",\"\",IF(K86=1,VLOOKUP(②選手情報入力!O95,種目情報!$A$5:$B$151,2,FALSE),VLOOKUP(②選手情報入力!O95,種目情報!$E$5:$F$135,2,FALSE))))","v":""},{"$f":"IF(E86=\"\",\"\",IF(②選手情報入力!P95=\"\",\"\",②選手情報入力!P95))","v":""},{"$f":"IF(E86=\"\",\"\",IF(②選手情報入力!N95=\"\",\"\",1))","v":""},{"$f":"IF(E86=\"\",\"\",IF(②選手情報入力!O95=\"\",\"\",IF(K86=1,VLOOKUP(②選手情報入力!O95,種目情報!$A$5:$C$135,3,FALSE),VLOOKUP(②選手情報入力!O95,種目情報!$E$5:$G$135,3,FALSE))))","v":""},{"$f":"IF(E86=\"\",\"\",IF(②選手情報入力!R95=\"\",\"\",IF(K86=1,VLOOKUP(②選手情報入力!R95,種目情報!$A$5:$B$151,2,FALSE),VLOOKUP(②選手情報入力!R95,種目情報!$E$5:$F$135,2,FALSE))))","v":""},{"$f":"IF(E86=\"\",\"\",IF(②選手情報入力!S95=\"\",\"\",②選手情報入力!S95))","v":""},{"$f":"IF(E86=\"\",\"\",IF(②選手情報入力!Q95=\"\",\"\",1))","v":""},{"$f":"IF(E86=\"\",\"\",IF(②選手情報入力!R95=\"\",\"\",IF(K86=1,VLOOKUP(②選手情報入力!R95,種目情報!$A$5:$C$135,3,FALSE),VLOOKUP(②選手情報入力!R95,種目情報!$E$5:$G$135,3,FALSE))))","v":""},{"$f":"IF(E86=\"\",\"\",IF(②選手情報入力!T95=\"\",\"\",IF(K86=1,種目情報!$J$4,種目情報!$J$6)))","v":""},{"$f":"IF(E86=\"\",\"\",IF(②選手情報入力!T95=\"\",\"\",IF(K86=1,IF(②選手情報入力!$U$7=\"\",\"\",②選手情報入力!$U$7),IF(②選手情報入力!$U$8=\"\",\"\",②選手情報入力!$U$8))))","v":""},{"$f":"IF(E86=\"\",\"\",IF(②選手情報入力!T95=\"\",\"\",IF(K86=1,IF(②選手情報入力!$T$7=\"\",0,1),IF(②選手情報入力!$T$8=\"\",0,1))))","v":""},{"$f":"IF(E86=\"\",\"\",IF(②選手情報入力!T95=\"\",\"\",2))","v":""},{"$f":"IF(E86=\"\",\"\",IF(②選手情報入力!V95=\"\",\"\",IF(K86=1,種目情報!$J$5,種目情報!$J$7)))","v":""},{"$f":"IF(E86=\"\",\"\",IF(②選手情報入力!V95=\"\",\"\",IF(K86=1,IF(②選手情報入力!$W$7=\"\",\"\",②選手情報入力!$W$7),IF(②選手情報入力!$W$8=\"\",\"\",②選手情報入力!$W$8))))","v":""},{"$f":"IF(E86=\"\",\"\",IF(②選手情報入力!V95=\"\",\"\",IF(K86=1,IF(②選手情報入力!$V$7=\"\",0,1),IF(②選手情報入力!$V$8=\"\",0,1))))","v":""},{"$f":"IF(E86=\"\",\"\",IF(②選手情報入力!V95=\"\",\"\",2))","v":""},null,null,{"$f":"IF(②選手情報入力!F95=\"\",\"\",ASC(②選手情報入力!F95))","v":""},{"$f":"IF(②選手情報入力!F95=\"\",\"\",ASC(②選手情報入力!G95))","v":""}]
["",{"$f":"IF(E87=\"\",\"\",①団体情報入力!$C$5)","v":""},null,{"$f":"IF(E87=\"\",\"\",IF(①団体情報入力!C95=\"\",\"\",①団体情報入力!C95))","v":""},{"$f":"IF(②選手情報入力!C96=\"\",\"\",②選手情報入力!C96)","v":""},{"$f":"IF(E87=\"\",\"\",②選手情報入力!D96)","v":""},{"$f":"IF(E87=\"\",\"\",ASC(②選手情報入力!E96))","v":""},"","",{"$f":"IF(E87=\"\",\"\",IF(②選手情報入力!H96=\"\",\"JPN\",LEFT(②選手情報入力!H96,3)))","v":""},{"$f":"IF(E87=\"\",\"\",IF(②選手情報入力!I96=\"男\",1,2))","v":""},{"$f":"IF(E87=\"\",\"\",IF(②選手情報入力!J96=\"\",\"\",②選手情報入力!J96))","v":""},{"$f":"IF(E87=\"\",\"\",LEFT(②選手情報入力!K96,4))","v":""},{"$f":"IF(E87=\"\",\"\",RIGHT(②選手情報入力!K96,4))","v":""},"",null,{"$f":"IF(E87=\"\",\"\",IF(②選手情報入力!L96=\"\",\"\",IF(K87=1,VLOOKUP(②選手情報入力!L96,種目情報!$A$5:$B$167,2,FALSE),VLOOKUP(②選手情報入力!L96,種目情報!$E$5:$F$142,2,FALSE))))","v":""},{"$f":"IF(E87=\"\",\"\",IF(②選手情報入力!M96=\"\",\"\",②選手情報入力!M96))","v":""},null,{"$f":"IF(E87=\"\",\"\",IF(②選手情報入力!L96=\"\",\"\",IF(K87=1,VLOOKUP(②選手情報入力!L96,種目情報!$A$5:$C$135,3,FALSE),VLOOKUP(②選手情報入力!L96,種目情報!$E$5:$G$135,3,FALSE))))","v":""},{"$f":"IF(E87=\"\",\"\",IF(②選手情報入力!O96=\"\",\"\",IF(K87=1,VLOOKUP(②選手情報入力!O96,種目情報!$A$5:$B$151,2,FALSE),VLOOKUP(②選手情報入力!O96,種目情報!$E$5:$F$135,2,FALSE))))","v":""},{"$f":"IF(E87=\"\",\"\",IF(②選手情報入力!P96=\"\",\"\",②選手情報入力!P96))","v":""},{"$f":"IF(E87=\"\",\"\",IF(②選手情報入力!N96=\"\",\"\",1))","v":""},{"$f":"IF(E87=\"\",\"\",IF(②選手情報入力!O96=\"\",\"\",IF(K87=1,VLOOKUP(②選手情報入力!O96,種目情報!$A$5:$C$135,3,FALSE),VLOOKUP(②選手情報入力!O96,種目情報!$E$5:$G$135,3,FALSE))))","v":""},{"$f":"IF(E87=\"\",\"\",IF(②選手情報入力!R96=\"\",\"\",IF(K87=1,VLOOKUP(②選手情報入力!R96,種目情報!$A$5:$B$151,2,FALSE),VLOOKUP(②選手情報入力!R96,種目情報!$E$5:$F$135,2,FALSE))))","v":""},{"$f":"IF(E87=\"\",\"\",IF(②選手情報入力!S96=\"\",\"\",②選手情報入力!S96))","v":""},{"$f":"IF(E87=\"\",\"\",IF(②選手情報入力!Q96=\"\",\"\",1))","v":""},{"$f":"IF(E87=\"\",\"\",IF(②選手情報入力!R96=\"\",\"\",IF(K87=1,VLOOKUP(②選手情報入力!R96,種目情報!$A$5:$C$135,3,FALSE),VLOOKUP(②選手情報入力!R96,種目情報!$E$5:$G$135,3,FALSE))))","v":""},{"$f":"IF(E87=\"\",\"\",IF(②選手情報入力!T96=\"\",\"\",IF(K87=1,種目情報!$J$4,種目情報!$J$6)))","v":""},{"$f":"IF(E87=\"\",\"\",IF(②選手情報入力!T96=\"\",\"\",IF(K87=1,IF(②選手情報入力!$U$7=\"\",\"\",②選手情報入力!$U$7),IF(②選手情報入力!$U$8=\"\",\"\",②選手情報入力!$U$8))))","v":""},{"$f":"IF(E87=\"\",\"\",IF(②選手情報入力!T96=\"\",\"\",IF(K87=1,IF(②選手情報入力!$T$7=\"\",0,1),IF(②選手情報入力!$T$8=\"\",0,1))))","v":""},{"$f":"IF(E87=\"\",\"\",IF(②選手情報入力!T96=\"\",\"\",2))","v":""},{"$f":"IF(E87=\"\",\"\",IF(②選手情報入力!V96=\"\",\"\",IF(K87=1,種目情報!$J$5,種目情報!$J$7)))","v":""},{"$f":"IF(E87=\"\",\"\",IF(②選手情報入力!V96=\"\",\"\",IF(K87=1,IF(②選手情報入力!$W$7=\"\",\"\",②選手情報入力!$W$7),IF(②選手情報入力!$W$8=\"\",\"\",②選手情報入力!$W$8))))","v":""},{"$f":"IF(E87=\"\",\"\",IF(②選手情報入力!V96=\"\",\"\",IF(K87=1,IF(②選手情報入力!$V$7=\"\",0,1),IF(②選手情報入力!$V$8=\"\",0,1))))","v":""},{"$f":"IF(E87=\"\",\"\",IF(②選手情報入力!V96=\"\",\"\",2))","v":""},null,null,{"$f":"IF(②選手情報入力!F96=\"\",\"\",ASC(②選手情報入力!F96))","v":""},{"$f":"IF(②選手情報入力!F96=\"\",\"\",ASC(②選手情報入力!G96))","v":""}]
["",{"$f":"IF(E88=\"\",\"\",①団体情報入力!$C$5)","v":""},null,{"$f":"IF(E88=\"\",\"\",IF(①団体情報入力!C96=\"\",\"\",①団体情報入力!C96))","v":""},{"$f":"IF(②選手情報入力!C97=\"\",\"\",②選手情報入力!C97)","v":""},{"$f":"IF(E88=\"\",\"\",②選手情報入力!D97)","v":""},{"$f":"IF(E88=\"\",\"\",ASC(②選手情報入力!E97))","v":""},"","",{"$f":"IF(E88=\"\",\"\",IF(②選手情報入力!H97=\"\",\"JPN\",LEFT(②選手情報入力!H97,3)))","v":""},{"$f":"IF(E88=\"\",\"\",IF(②選手情報入力!I97=\"男\",1,2))","v":""},{"$f":"IF(E88=\"\",\"\",IF(②選手情報入力!J97=\"\",\"\",②選手情報入力!J97))","v":""},{"$f":"IF(E88=\"\",\"\",LEFT(②選手情報入力!K97,4))","v":""},{"$f":"IF(E88=\"\",\"\",RIGHT(②選手情報入力!K97,4))","v":""},"",null,{"$f":"IF(E88=\"\",\"\",IF(②選手情報入力!L97=\"\",\"\",IF(K88=1,VLOOKUP(②選手情報入力!L97,種目情報!$A$5:$B$167,2,FALSE),VLOOKUP(②選手情報入力!L97,種目情報!$E$5:$F$142,2,FALSE))))","v":""},{"$f":"IF(E88=\"\",\"\",IF(②選手情報入力!M97=\"\",\"\",②選手情報入力!M97))","v":""},null,{"$f":"IF(E88=\"\",\"\",IF(②選手情報入力!L97=\"\",\"\",IF(K88=1,VLOOKUP(②選手情報入力!L97,種目情報!$A$5:$C$135,3,FALSE),VLOOKUP(②選手情報入力!L97,種目情報!$E$5:$G$135,3,FALSE))))","v":""},{"$f":"IF(E88=\"\",\"\",IF(②選手情報入力!O97=\"\",\"\",IF(K88=1,VLOOKUP(②選手情報入力!O97,種目情報!$A$5:$B$151,2,FALSE),VLOOKUP(②選手情報入力!O97,種目情報!$E$5:$F$135,2,FALSE))))","v":""},{"$f":"IF(E88=\"\",\"\",IF(②選手情報入力!P97=\"\",\"\",②選手情報入力!P97))","v":""},{"$f":"IF(E88=\"\",\"\",IF(②選手情報入力!N97=\"\",\"\",1))","v":""},{"$f":"IF(E88=\"\",\"\",IF(②選手情報入力!O97=\"\",\"\",IF(K88=1,VLOOKUP(②選手情報入力!O97,種目情報!$A$5:$C$135,3,FALSE),VLOOKUP(②選手情報入力!O97,種目情報!$E$5:$G$135,3,FALSE))))","v":""},{"$f":"IF(E88=\"\",\"\",IF(②選手情報入力!R97=\"\",\"\",IF(K88=1,VLOOKUP(②選手情報入力!R97,種目情報!$A$5:$B$151,2,FALSE),VLOOKUP(②選手情報入力!R97,種目情報!$E$5:$F$135,2,FALSE))))","v":""},{"$f":"IF(E88=\"\",\"\",IF(②選手情報入力!S97=\"\",\"\",②選手情報入力!S97))","v":""},{"$f":"IF(E88=\"\",\"\",IF(②選手情報入力!Q97=\"\",\"\",1))","v":""},{"$f":"IF(E88=\"\",\"\",IF(②選手情報入力!R97=\"\",\"\",IF(K88=1,VLOOKUP(②選手情報入力!R97,種目情報!$A$5:$C$135,3,FALSE),VLOOKUP(②選手情報入力!R97,種目情報!$E$5:$G$135,3,FALSE))))","v":""},{"$f":"IF(E88=\"\",\"\",IF(②選手情報入力!T97=\"\",\"\",IF(K88=1,種目情報!$J$4,種目情報!$J$6)))","v":""},{"$f":"IF(E88=\"\",\"\",IF(②選手情報入力!T97=\"\",\"\",IF(K88=1,IF(②選手情報入力!$U$7=\"\",\"\",②選手情報入力!$U$7),IF(②選手情報入力!$U$8=\"\",\"\",②選手情報入力!$U$8))))","v":""},{"$f":"IF(E88=\"\",\"\",IF(②選手情報入力!T97=\"\",\"\",IF(K88=1,IF(②選手情報入力!$T$7=\"\",0,1),IF(②選手情報入力!$T$8=\"\",0,1))))","v":""},{"$f":"IF(E88=\"\",\"\",IF(②選手情報入力!T97=\"\",\"\",2))","v":""},{"$f":"IF(E88=\"\",\"\",IF(②選手情報入力!V97=\"\",\"\",IF(K88=1,種目情報!$J$5,種目情報!$J$7)))","v":""},{"$f":"IF(E88=\"\",\"\",IF(②選手情報入力!V97=\"\",\"\",IF(K88=1,IF(②選手情報入力!$W$7=\"\",\"\",②選手情報入力!$W$7),IF(②選手情報入力!$W$8=\"\",\"\",②選手情報入力!$W$8))))","v":""},{"$f":"IF(E88=\"\",\"\",IF(②選手情報入力!V97=\"\",\"\",IF(K88=1,IF(②選手情報入力!$V$7=\"\",0,1),IF(②選手情報入力!$V$8=\"\",0,1))))","v":""},{"$f":"IF(E88=\"\",\"\",IF(②選手情報入力!V97=\"\",\"\",2))","v":""},null,null,{"$f":"IF(②選手情報入力!F97=\"\",\"\",ASC(②選手情報入力!F97))","v":""},{"$f":"IF(②選手情報入力!F97=\"\",\"\",ASC(②選手情報入力!G97))","v":""}]
["",{"$f":"IF(E89=\"\",\"\",①団体情報入力!$C$5)","v":""},null,{"$f":"IF(E89=\"\",\"\",IF(①団体情報入力!C97=\"\",\"\",①団体情報入力!C97))","v":""},{"$f":"IF(②選手情報入力!C98=\"\",\"\",②選手情報入力!C98)","v":""},{"$f":"IF(E89=\"\",\"\",②選手情報入力!D98)","v":""},{"$f":"IF(E89=\"\",\"\",ASC(②選手情報入力!E98))","v":""},"","",{"$f":"IF(E89=\"\",\"\",IF(②選手情報入力!H98=\"\",\"JPN\",LEFT(②選手情報入力!H98,3)))","v":""},{"$f":"IF(E89=\"\",\"\",IF(②選手情報入力!I98=\"男\",1,2))","v":""},{"$f":"IF(E89=\"\",\"\",IF(②選手情報入力!J98=\"\",\"\",②選手情報入力!J98))","v":""},{"$f":"IF(E89=\"\",\"\",LEFT(②選手情報入力!K98,4))","v":""},{"$f":"IF(E89=\"\",\"\",RIGHT(②選手情報入力!K98,4))","v":""},"",null,{"$f":"IF(E89=\"\",\"\",IF(②選手情報入力!L98=\"\",\"\",IF(K89=1,VLOOKUP(②選手情報入力!L98,種目情報!$A$5:$B$167,2,FALSE),VLOOKUP(②選手情報入力!L98,種目情報!$E$5:$F$142,2,FALSE))))","v":""},{"$f":"IF(E89=\"\",\"\",IF(②選手情報入力!M98=\"\",\"\",②選手情報入力!M98))","v":""},null,{"$f":"IF(E89=\"\",\"\",IF(②選手情報入力!L98=\"\",\"\",IF(K89=1,VLOOKUP(②選手情報入力!L98,種目情報!$A$5:$C$135,3,FALSE),VLOOKUP(②選手情報入力!L98,種目情報!$E$5:$G$135,3,FALSE))))","v":""},{"$f":"IF(E89=\"\",\"\",IF(②選手情報入力!O98=\"\",\"\",IF(K89=1,VLOOKUP(②選手情報入力!O98,種目情報!$A$5:$B$151,2,FALSE),VLOOKUP(②選手情報入力!O98,種目情報!$E$5:$F$135,2,FALSE))))","v":""},{"$f":"IF(E89=\"\",\"\",IF(②選手情報入力!P98=\"\",\"\",②選手情報入力!P98))","v":""},{"$f":"IF(E89=\"\",\"\",IF(②選手情報入力!N98=\"\",\"\",1))","v":""},{"$f":"IF(E89=\"\",\"\",IF(②選手情報入力!O98=\"\",\"\",IF(K89=1,VLOOKUP(②選手情報入力!O98,種目情報!$A$5:$C$135,3,FALSE),VLOOKUP(②選手情報入力!O98,種目情報!$E$5:$G$135,3,FALSE))))","v":""},{"$f":"IF(E89=\"\",\"\",IF(②選手情報入力!R98=\"\",\"\",IF(K89=1,VLOOKUP(②選手情報入力!R98,種目情報!$A$5:$B$151,2,FALSE),VLOOKUP(②選手情報入力!R98,種目情報!$E$5:$F$135,2,FALSE))))","v":""},{"$f":"IF(E89=\"\",\"\",IF(②選手情報入力!S98=\"\",\"\",②選手情報入力!S98))","v":""},{"$f":"IF(E89=\"\",\"\",IF(②選手情報入力!Q98=\"\",\"\",1))","v":""},{"$f":"IF(E89=\"\",\"\",IF(②選手情報入力!R98=\"\",\"\",IF(K89=1,VLOOKUP(②選手情報入力!R98,種目情報!$A$5:$C$135,3,FALSE),VLOOKUP(②選手情報入力!R98,種目情報!$E$5:$G$135,3,FALSE))))","v":""},{"$f":"IF(E89=\"\",\"\",IF(②選手情報入力!T98=\"\",\"\",IF(K89=1,種目情報!$J$4,種目情報!$J$6)))","v":""},{"$f":"IF(E89=\"\",\"\",IF(②選手情報入力!T98=\"\",\"\",IF(K89=1,IF(②選手情報入力!$U$7=\"\",\"\",②選手情報入力!$U$7),IF(②選手情報入力!$U$8=\"\",\"\",②選手情報入力!$U$8))))","v":""},{"$f":"IF(E89=\"\",\"\",IF(②選手情報入力!T98=\"\",\"\",IF(K89=1,IF(②選手情報入力!$T$7=\"\",0,1),IF(②選手情報入力!$T$8=\"\",0,1))))","v":""},{"$f":"IF(E89=\"\",\"\",IF(②選手情報入力!T98=\"\",\"\",2))","v":""},{"$f":"IF(E89=\"\",\"\",IF(②選手情報入力!V98=\"\",\"\",IF(K89=1,種目情報!$J$5,種目情報!$J$7)))","v":""},{"$f":"IF(E89=\"\",\"\",IF(②選手情報入力!V98=\"\",\"\",IF(K89=1,IF(②選手情報入力!$W$7=\"\",\"\",②選手情報入力!$W$7),IF(②選手情報入力!$W$8=\"\",\"\",②選手情報入力!$W$8))))","v":""},{"$f":"IF(E89=\"\",\"\",IF(②選手情報入力!V98=\"\",\"\",IF(K89=1,IF(②選手情報入力!$V$7=\"\",0,1),IF(②選手情報入力!$V$8=\"\",0,1))))","v":""},{"$f":"IF(E89=\"\",\"\",IF(②選手情報入力!V98=\"\",\"\",2))","v":""},null,null,{"$f":"IF(②選手情報入力!F98=\"\",\"\",ASC(②選手情報入力!F98))","v":""},{"$f":"IF(②選手情報入力!F98=\"\",\"\",ASC(②選手情報入力!G98))","v":""}]
["",{"$f":"IF(E90=\"\",\"\",①団体情報入力!$C$5)","v":""},null,{"$f":"IF(E90=\"\",\"\",IF(①団体情報入力!C98=\"\",\"\",①団体情報入力!C98))","v":""},{"$f":"IF(②選手情報入力!C99=\"\",\"\",②選手情報入力!C99)","v":""},{"$f":"IF(E90=\"\",\"\",②選手情報入力!D99)","v":""},{"$f":"IF(E90=\"\",\"\",ASC(②選手情報入力!E99))","v":""},"","",{"$f":"IF(E90=\"\",\"\",IF(②選手情報入力!H99=\"\",\"JPN\",LEFT(②選手情報入力!H99,3)))","v":""},{"$f":"IF(E90=\"\",\"\",IF(②選手情報入力!I99=\"男\",1,2))","v":""},{"$f":"IF(E90=\"\",\"\",IF(②選手情報入力!J99=\"\",\"\",②選手情報入力!J99))","v":""},{"$f":"IF(E90=\"\",\"\",LEFT(②選手情報入力!K99,4))","v":""},{"$f":"IF(E90=\"\",\"\",RIGHT(②選手情報入力!K99,4))","v":""},"",null,{"$f":"IF(E90=\"\",\"\",IF(②選手情報入力!L99=\"\",\"\",IF(K90=1,VLOOKUP(②選手情報入力!L99,種目情報!$A$5:$B$167,2,FALSE),VLOOKUP(②選手情報入力!L99,種目情報!$E$5:$F$142,2,FALSE))))","v":""},{"$f":"IF(E90=\"\",\"\",IF(②選手情報入力!M99=\"\",\"\",②選手情報入力!M99))","v":""},null,{"$f":"IF(E90=\"\",\"\",IF(②選手情報入力!L99=\"\",\"\",IF(K90=1,VLOOKUP(②選手情報入力!L99,種目情報!$A$5:$C$135,3,FALSE),VLOOKUP(②選手情報入力!L99,種目情報!$E$5:$G$135,3,FALSE))))","v":""},{"$f":"IF(E90=\"\",\"\",IF(②選手情報入力!O99=\"\",\"\",IF(K90=1,VLOOKUP(②選手情報入力!O99,種目情報!$A$5:$B$151,2,FALSE),VLOOKUP(②選手情報入力!O99,種目情報!$E$5:$F$135,2,FALSE))))","v":""},{"$f":"IF(E90=\"\",\"\",IF(②選手情報入力!P99=\"\",\"\",②選手情報入力!P99))","v":""},{"$f":"IF(E90=\"\",\"\",IF(②選手情報入力!N99=\"\",\"\",1))","v":""},{"$f":"IF(E90=\"\",\"\",IF(②選手情報入力!O99=\"\",\"\",IF(K90=1,VLOOKUP(②選手情報入力!O99,種目情報!$A$5:$C$135,3,FALSE),VLOOKUP(②選手情報入力!O99,種目情報!$E$5:$G$135,3,FALSE))))","v":""},{"$f":"IF(E90=\"\",\"\",IF(②選手情報入力!R99=\"\",\"\",IF(K90=1,VLOOKUP(②選手情報入力!R99,種目情報!$A$5:$B$151,2,FALSE),VLOOKUP(②選手情報入力!R99,種目情報!$E$5:$F$135,2,FALSE))))","v":""},{"$f":"IF(E90=\"\",\"\",IF(②選手情報入力!S99=\"\",\"\",②選手情報入力!S99))","v":""},{"$f":"IF(E90=\"\",\"\",IF(②選手情報入力!Q99=\"\",\"\",1))","v":""},{"$f":"IF(E90=\"\",\"\",IF(②選手情報入力!R99=\"\",\"\",IF(K90=1,VLOOKUP(②選手情報入力!R99,種目情報!$A$5:$C$135,3,FALSE),VLOOKUP(②選手情報入力!R99,種目情報!$E$5:$G$135,3,FALSE))))","v":""},{"$f":"IF(E90=\"\",\"\",IF(②選手情報入力!T99=\"\",\"\",IF(K90=1,種目情報!$J$4,種目情報!$J$6)))","v":""},{"$f":"IF(E90=\"\",\"\",IF(②選手情報入力!T99=\"\",\"\",IF(K90=1,IF(②選手情報入力!$U$7=\"\",\"\",②選手情報入力!$U$7),IF(②選手情報入力!$U$8=\"\",\"\",②選手情報入力!$U$8))))","v":""},{"$f":"IF(E90=\"\",\"\",IF(②選手情報入力!T99=\"\",\"\",IF(K90=1,IF(②選手情報入力!$T$7=\"\",0,1),IF(②選手情報入力!$T$8=\"\",0,1))))","v":""},{"$f":"IF(E90=\"\",\"\",IF(②選手情報入力!T99=\"\",\"\",2))","v":""},{"$f":"IF(E90=\"\",\"\",IF(②選手情報入力!V99=\"\",\"\",IF(K90=1,種目情報!$J$5,種目情報!$J$7)))","v":""},{"$f":"IF(E90=\"\",\"\",IF(②選手情報入力!V99=\"\",\"\",IF(K90=1,IF(②選手情報入力!$W$7=\"\",\"\",②選手情報入力!$W$7),IF(②選手情報入力!$W$8=\"\",\"\",②選手情報入力!$W$8))))","v":""},{"$f":"IF(E90=\"\",\"\",IF(②選手情報入力!V99=\"\",\"\",IF(K90=1,IF(②選手情報入力!$V$7=\"\",0,1),IF(②選手情報入力!$V$8=\"\",0,1))))","v":""},{"$f":"IF(E90=\"\",\"\",IF(②選手情報入力!V99=\"\",\"\",2))","v":""},null,null,{"$f":"IF(②選手情報入力!F99=\"\",\"\",ASC(②選手情報入力!F99))","v":""},{"$f":"IF(②選手情報入力!F99=\"\",\"\",ASC(②選手情報入力!G99))","v":""}]
["",{"$f":"IF(E91=\"\",\"\",①団体情報入力!$C$5)","v":""},null,{"$f":"IF(E91=\"\",\"\",IF(①団体情報入力!C99=\"\",\"\",①団体情報入力!C99))","v":""},{"$f":"IF(②選手情報入力!C100=\"\",\"\",②選手情報入力!C100)","v":""},{"$f":"IF(E91=\"\",\"\",②選手情報入力!D100)","v":""},{"$f":"IF(E91=\"\",\"\",ASC(②選手情報入力!E100))","v":""},"","",{"$f":"IF(E91=\"\",\"\",IF(②選手情報入力!H100=\"\",\"JPN\",LEFT(②選手情報入力!H100,3)))","v":""},{"$f":"IF(E91=\"\",\"\",IF(②選手情報入力!I100=\"男\",1,2))","v":""},{"$f":"IF(E91=\"\",\"\",IF(②選手情報入力!J100=\"\",\"\",②選手情報入力!J100))","v":""},{"$f":"IF(E91=\"\",\"\",LEFT(②選手情報入力!K100,4))","v":""},{"$f":"IF(E91=\"\",\"\",RIGHT(②選手情報入力!K100,4))","v":""},"",null,{"$f":"IF(E91=\"\",\"\",IF(②選手情報入力!L100=\"\",\"\",IF(K91=1,VLOOKUP(②選手情報入力!L100,種目情報!$A$5:$B$167,2,FALSE),VLOOKUP(②選手情報入力!L100,種目情報!$E$5:$F$142,2,FALSE))))","v":""},{"$f":"IF(E91=\"\",\"\",IF(②選手情報入力!M100=\"\",\"\",②選手情報入力!M100))","v":""},null,{"$f":"IF(E91=\"\",\"\",IF(②選手情報入力!L100=\"\",\"\",IF(K91=1,VLOOKUP(②選手情報入力!L100,種目情報!$A$5:$C$135,3,FALSE),VLOOKUP(②選手情報入力!L100,種目情報!$E$5:$G$135,3,FALSE))))","v":""},{"$f":"IF(E91=\"\",\"\",IF(②選手情報入力!O100=\"\",\"\",IF(K91=1,VLOOKUP(②選手情報入力!O100,種目情報!$A$5:$B$151,2,FALSE),VLOOKUP(②選手情報入力!O100,種目情報!$E$5:$F$135,2,FALSE))))","v":""},{"$f":"IF(E91=\"\",\"\",IF(②選手情報入力!P100=\"\",\"\",②選手情報入力!P100))","v":""},{"$f":"IF(E91=\"\",\"\",IF(②選手情報入力!N100=\"\",\"\",1))","v":""},{"$f":"IF(E91=\"\",\"\",IF(②選手情報入力!O100=\"\",\"\",IF(K91=1,VLOOKUP(②選手情報入力!O100,種目情報!$A$5:$C$135,3,FALSE),VLOOKUP(②選手情報入力!O100,種目情報!$E$5:$G$135,3,FALSE))))","v":""},{"$f":"IF(E91=\"\",\"\",IF(②選手情報入力!R100=\"\",\"\",IF(K91=1,VLOOKUP(②選手情報入力!R100,種目情報!$A$5:$B$151,2,FALSE),VLOOKUP(②選手情報入力!R100,種目情報!$E$5:$F$135,2,FALSE))))","v":""},{"$f":"IF(E91=\"\",\"\",IF(②選手情報入力!S100=\"\",\"\",②選手情報入力!S100))","v":""},{"$f":"IF(E91=\"\",\"\",IF(②選手情報入力!Q100=\"\",\"\",1))","v":""},{"$f":"IF(E91=\"\",\"\",IF(②選手情報入力!R100=\"\",\"\",IF(K91=1,VLOOKUP(②選手情報入力!R100,種目情報!$A$5:$C$135,3,FALSE),VLOOKUP(②選手情報入力!R100,種目情報!$E$5:$G$135,3,FALSE))))","v":""},{"$f":"IF(E91=\"\",\"\",IF(②選手情報入力!T100=\"\",\"\",IF(K91=1,種目情報!$J$4,種目情報!$J$6)))","v":""},{"$f":"IF(E91=\"\",\"\",IF(②選手情報入力!T100=\"\",\"\",IF(K91=1,IF(②選手情報入力!$U$7=\"\",\"\",②選手情報入力!$U$7),IF(②選手情報入力!$U$8=\"\",\"\",②選手情報入力!$U$8))))","v":""},{"$f":"IF(E91=\"\",\"\",IF(②選手情報入力!T100=\"\",\"\",IF(K91=1,IF(②選手情報入力!$T$7=\"\",0,1),IF(②選手情報入力!$T$8=\"\",0,1))))","v":""},{"$f":"IF(E91=\"\",\"\",IF(②選手情報入力!T100=\"\",\"\",2))","v":""},{"$f":"IF(E91=\"\",\"\",IF(②選手情報入力!V100=\"\",\"\",IF(K91=1,種目情報!$J$5,種目情報!$J$7)))","v":""},{"$f":"IF(E91=\"\",\"\",IF(②選手情報入力!V100=\"\",\"\",IF(K91=1,IF(②選手情報入力!$W$7=\"\",\"\",②選手情報入力!$W$7),IF(②選手情報入力!$W$8=\"\",\"\",②選手情報入力!$W$8))))","v":""},{"$f":"IF(E91=\"\",\"\",IF(②選手情報入力!V100=\"\",\"\",IF(K91=1,IF(②選手情報入力!$V$7=\"\",0,1),IF(②選手情報入力!$V$8=\"\",0,1))))","v":""},{"$f":"IF(E91=\"\",\"\",IF(②選手情報入力!V100=\"\",\"\",2))","v":""},null,null,{"$f":"IF(②選手情報入力!F100=\"\",\"\",ASC(②選手情報入力!F100))","v":""},{"$f":"IF(②選手情報入力!F100=\"\",\"\",ASC(②選手情報入力!G100))","v":""}]

{"sheet":"data_team","index":14,"n_rows":25,"n_cols":13,"rows_kept":25,"cut":false,"hidden":false,"merged":[]}
["チームNO","所属コード","チーム名","チーム名カナ","チーム名略称","チーム正式名称","ID","競技者NO","競技者名","参加競技-競技コード","参加競技-自己記録","参加競技-オープン参加FLG","参加競技-記録FLG"]
[{"$f":"IF('　　　　　　　　　'!C8=\"\",\"\",410000+①団体情報入力!$C$5*10)","v":""},{"$f":"IF(A2=\"\",\"\",①団体情報入力!$C$5)","v":""},{"$f":"IF(A2=\"\",\"\",'　　　　　　　　　'!$J$1)","v":""},{"$f":"IF(A2=\"\",\"\",'　　　　　　　　　'!$P$1)","v":""},null,null,1,{"$f":"IF(A2=\"\",\"\",'　　　　　　　　　'!E8)","v":""},{"$f":"IF(A2=\"\",\"\",'　　　　　　　　　'!D8)","v":""},{"$f":"IF(A2=\"\",\"\",種目情報!$J$4)","v":""},{"$f":"IF(A2=\"\",\"\",'　　　　　　　　　'!$F$8)","v":""},{"$f":"IF(A2=\"\",\"\",IF(②選手情報入力!$T$7=\"\",0,1))","v":""},{"$f":"IF(A2=\"\",\"\",種目情報!$K$4)","v":""}]
[{"$f":"IF('　　　　　　　　　'!C9=\"\",\"\",410000+①団体情報入力!$C$5*10)","v":""},{"$f":"IF(A3=\"\",\"\",①団体情報入力!$C$5)","v":""},{"$f":"IF(A3=\"\",\"\",'　　　　　　　　　'!$J$1)","v":""},{"$f":"IF(A3=\"\",\"\",'　　　　　　　　　'!$P$1)","v":""},null,null,2,{"$f":"IF(A3=\"\",\"\",'　　　　　　　　　'!E9)","v":""},{"$f":"IF(A3=\"\",\"\",'　　　　　　　　　'!D9)","v":""},{"$f":"IF(A3=\"\",\"\",種目情報!$J$4)","v":""},{"$f":"IF(A3=\"\",\"\",'　　　　　　　　　'!$F$8)","v":""},{"$f":"IF(A3=\"\",\"\",IF(②選手情報入力!$T$7=\"\",0,1))","v":""},{"$f":"IF(A3=\"\",\"\",種目情報!$K$4)","v":""}]
[{"$f":"IF('　　　　　　　　　'!C10=\"\",\"\",410000+①団体情報入力!$C$5*10)","v":""},{"$f":"IF(A4=\"\",\"\",①団体情報入力!$C$5)","v":""},{"$f":"IF(A4=\"\",\"\",'　　　　　　　　　'!$J$1)","v":""},{"$f":"IF(A4=\"\",\"\",'　　　　　　　　　'!$P$1)","v":""},null,null,3,{"$f":"IF(A4=\"\",\"\",'　　　　　　　　　'!E10)","v":""},{"$f":"IF(A4=\"\",\"\",'　　　　　　　　　'!D10)","v":""},{"$f":"IF(A4=\"\",\"\",種目情報!$J$4)","v":""},{"$f":"IF(A4=\"\",\"\",'　　　　　　　　　'!$F$8)","v":""},{"$f":"IF(A4=\"\",\"\",IF(②選手情報入力!$T$7=\"\",0,1))","v":""},{"$f":"IF(A4=\"\",\"\",種目情報!$K$4)","v":""}]
[{"$f":"IF('　　　　　　　　　'!C11=\"\",\"\",410000+①団体情報入力!$C$5*10)","v":""},{"$f":"IF(A5=\"\",\"\",①団体情報入力!$C$5)","v":""},{"$f":"IF(A5=\"\",\"\",'　　　　　　　　　'!$J$1)","v":""},{"$f":"IF(A5=\"\",\"\",'　　　　　　　　　'!$P$1)","v":""},null,null,4,{"$f":"IF(A5=\"\",\"\",'　　　　　　　　　'!E11)","v":""},{"$f":"IF(A5=\"\",\"\",'　　　　　　　　　'!D11)","v":""},{"$f":"IF(A5=\"\",\"\",種目情報!$J$4)","v":""},{"$f":"IF(A5=\"\",\"\",'　　　　　　　　　'!$F$8)","v":""},{"$f":"IF(A5=\"\",\"\",IF(②選手情報入力!$T$7=\"\",0,1))","v":""},{"$f":"IF(A5=\"\",\"\",種目情報!$K$4)","v":""}]
[{"$f":"IF('　　　　　　　　　'!C12=\"\",\"\",410000+①団体情報入力!$C$5*10)","v":""},{"$f":"IF(A6=\"\",\"\",①団体情報入力!$C$5)","v":""},{"$f":"IF(A6=\"\",\"\",'　　　　　　　　　'!$J$1)","v":""},{"$f":"IF(A6=\"\",\"\",'　　　　　　　　　'!$P$1)","v":""},null,null,5,{"$f":"IF(A6=\"\",\"\",'　　　　　　　　　'!E12)","v":""},{"$f":"IF(A6=\"\",\"\",'　　　　　　　　　'!D12)","v":""},{"$f":"IF(A6=\"\",\"\",種目情報!$J$4)","v":""},{"$f":"IF(A6=\"\",\"\",'　　　　　　　　　'!$F$8)","v":""},{"$f":"IF(A6=\"\",\"\",IF(②選手情報入力!$T$7=\"\",0,1))","v":""},{"$f":"IF(A6=\"\",\"\",種目情報!$K$4)","v":""}]
[{"$f":"IF('　　　　　　　　　'!C13=\"\",\"\",410000+①団体情報入力!$C$5*10)","v":""},{"$f":"IF(A7=\"\",\"\",①団体情報入力!$C$5)","v":""},{"$f":"IF(A7=\"\",\"\",'　　　　　　　　　'!$J$1)","v":""},{"$f":"IF(A7=\"\",\"\",'　　　　　　　　　'!$P$1)","v":""},null,null,6,{"$f":"IF(A7=\"\",\"\",'　　　　　　　　　'!E13)","v":""},{"$f":"IF(A7=\"\",\"\",'　　　　　　　　　'!D13)","v":""},{"$f":"IF(A7=\"\",\"\",種目情報!$J$4)","v":""},{"$f":"IF(A7=\"\",\"\",'　　　　　　　　　'!$F$8)","v":""},{"$f":"IF(A7=\"\",\"\",IF(②選手情報入力!$T$7=\"\",0,1))","v":""},{"$f":"IF(A7=\"\",\"\",種目情報!$K$4)","v":""}]
[{"$f":"IF('　　　　　　　　　'!I8=\"\",\"\",1610000+①団体情報入力!$C$5*10)","v":""},{"$f":"IF(A8=\"\",\"\",①団体情報入力!$C$5)","v":""},{"$f":"IF(A8=\"\",\"\",'　　　　　　　　　'!$J$1)","v":""},{"$f":"IF(A8=\"\",\"\",'　　　　　　　　　'!$P$1)","v":""},null,null,1,{"$f":"IF(A8=\"\",\"\",'　　　　　　　　　'!K8)","v":""},{"$f":"IF(A8=\"\",\"\",'　　　　　　　　　'!J8)","v":""},{"$f":"IF(A8=\"\",\"\",種目情報!$J$5)","v":""},{"$f":"IF(A8=\"\",\"\",'　　　　　　　　　'!$L$8)","v":""},{"$f":"IF(A8=\"\",\"\",IF(②選手情報入力!$T$8=\"\",0,1))","v":""},{"$f":"IF(A8=\"\",\"\",種目情報!$K$5)","v":""}]
[{"$f":"IF('　　　　　　　　　'!I9=\"\",\"\",1610000+①団体情報入力!$C$5*10)","v":""},{"$f":"IF(A9=\"\",\"\",①団体情報入力!$C$5)","v":""},{"$f":"IF(A9=\"\",\"\",'　　　　　　　　　'!$J$1)","v":""},{"$f":"IF(A9=\"\",\"\",'　　　　　　　　　'!$P$1)","v":""},null,null,2,{"$f":"IF(A9=\"\",\"\",'　　　　　　　　　'!K9)","v":""},{"$f":"IF(A9=\"\",\"\",'　　　　　　　　　'!J9)","v":""},{"$f":"IF(A9=\"\",\"\",種目情報!$J$5)","v":""},{"$f":"IF(A9=\"\",\"\",'　　　　　　　　　'!$L$8)","v":""},{"$f":"IF(A9=\"\",\"\",IF(②選手情報入力!$T$8=\"\",0,1))","v":""},{"$f":"IF(A9=\"\",\"\",種目情報!$K$5)","v":""}]
[{"$f":"IF('　　　　　　　　　'!I10=\"\",\"\",1610000+①団体情報入力!$C$5*10)","v":""},{"$f":"IF(A10=\"\",\"\",①団体情報入力!$C$5)","v":""},{"$f":"IF(A10=\"\",\"\",'　　　　　　　　　'!$J$1)","v":""},{"$f":"IF(A10=\"\",\"\",'　　　　　　　　　'!$P$1)","v":""},null,null,3,{"$f":"IF(A10=\"\",\"\",'　　　　　　　　　'!K10)","v":""},{"$f":"IF(A10=\"\",\"\",'　　　　　　　　　'!J10)","v":""},{"$f":"IF(A10=\"\",\"\",種目情報!$J$5)","v":""},{"$f":"IF(A10=\"\",\"\",'　　　　　　　　　'!$L$8)","v":""},{"$f":"IF(A10=\"\",\"\",IF(②選手情報入力!$T$8=\"\",0,1))","v":""},{"$f":"IF(A10=\"\",\"\",種目情報!$K$5)","v":""}]
[{"$f":"IF('　　　　　　　　　'!I11=\"\",\"\",1610000+①団体情報入力!$C$5*10)","v":""},{"$f":"IF(A11=\"\",\"\",①団体情報入力!$C$5)","v":""},{"$f":"IF(A11=\"\",\"\",'　　　　　　　　　'!$J$1)","v":""},{"$f":"IF(A11=\"\",\"\",'　　　　　　　　　'!$P$1)","v":""},null,null,4,{"$f":"IF(A11=\"\",\"\",'　　　　　　　　　'!K11)","v":""},{"$f":"IF(A11=\"\",\"\",'　　　　　　　　　'!J11)","v":""},{"$f":"IF(A11=\"\",\"\",種目情報!$J$5)","v":""},{"$f":"IF(A11=\"\",\"\",'　　　　　　　　　'!$L$8)","v":""},{"$f":"IF(A11=\"\",\"\",IF(②選手情報入力!$T$8=\"\",0,1))","v":""},{"$f":"IF(A11=\"\",\"\",種目情報!$K$5)","v":""}]
[{"$f":"IF('　　　　　　　　　'!I12=\"\",\"\",1610000+①団体情報入力!$C$5*10)","v":""},{"$f":"IF(A12=\"\",\"\",①団体情報入力!$C$5)","v":""},{"$f":"IF(A12=\"\",\"\",'　　　　　　　　　'!$J$1)","v":""},{"$f":"IF(A12=\"\",\"\",'　　　　　　　　　'!$P$1)","v":""},null,null,5,{"$f":"IF(A12=\"\",\"\",'　　　　　　　　　'!K12)","v":""},{"$f":"IF(A12=\"\",\"\",'　　　　　　　　　'!J12)","v":""},{"$f":"IF(A12=\"\",\"\",種目情報!$J$5)","v":""},{"$f":"IF(A12=\"\",\"\",'　　　　　　　　　'!$L$8)","v":""},{"$f":"IF(A12=\"\",\"\",IF(②選手情報入力!$T$8=\"\",0,1))","v":""},{"$f":"IF(A12=\"\",\"\",種目情報!$K$5)","v":""}]
[{"$f":"IF('　　　　　　　　　'!I13=\"\",\"\",1610000+①団体情報入力!$C$5*10)","v":""},{"$f":"IF(A13=\"\",\"\",①団体情報入力!$C$5)","v":""},{"$f":"IF(A13=\"\",\"\",'　　　　　　　　　'!$J$1)","v":""},{"$f":"IF(A13=\"\",\"\",'　　　　　　　　　'!$P$1)","v":""},null,null,6,{"$f":"IF(A13=\"\",\"\",'　　　　　　　　　'!K13)","v":""},{"$f":"IF(A13=\"\",\"\",'　　　　　　　　　'!J13)","v":""},{"$f":"IF(A13=\"\",\"\",種目情報!$J$5)","v":""},{"$f":"IF(A13=\"\",\"\",'　　　　　　　　　'!$L$8)","v":""},{"$f":"IF(A13=\"\",\"\",IF(②選手情報入力!$T$8=\"\",0,1))","v":""},{"$f":"IF(A13=\"\",\"\",種目情報!$K$5)","v":""}]
[{"$f":"IF('　　　　　　　　　'!O8=\"\",\"\",420000+①団体情報入力!$C$5*10)","v":""},{"$f":"IF(A14=\"\",\"\",①団体情報入力!$C$5)","v":""},{"$f":"IF(A14=\"\",\"\",'　　　　　　　　　'!$J$1)","v":""},{"$f":"IF(A14=\"\",\"\",'　　　　　　　　　'!$P$1)","v":""},null,null,1,{"$f":"IF(A14=\"\",\"\",'　　　　　　　　　'!Q8)","v":""},{"$f":"IF(A14=\"\",\"\",'　　　　　　　　　'!P8)","v":""},{"$f":"IF(A14=\"\",\"\",種目情報!$J$6)","v":""},{"$f":"IF(A14=\"\",\"\",'　　　　　　　　　'!$R$8)","v":""},{"$f":"IF(A14=\"\",\"\",IF(②選手情報入力!$V$7=\"\",0,1))","v":""},{"$f":"IF(A14=\"\",\"\",種目情報!$K$6)","v":""}]
[{"$f":"IF('　　　　　　　　　'!O9=\"\",\"\",420000+①団体情報入力!$C$5*10)","v":""},{"$f":"IF(A15=\"\",\"\",①団体情報入力!$C$5)","v":""},{"$f":"IF(A15=\"\",\"\",'　　　　　　　　　'!$J$1)","v":""},{"$f":"IF(A15=\"\",\"\",'　　　　　　　　　'!$P$1)","v":""},null,null,2,{"$f":"IF(A15=\"\",\"\",'　　　　　　　　　'!Q9)","v":""},{"$f":"IF(A15=\"\",\"\",'　　　　　　　　　'!P9)","v":""},{"$f":"IF(A15=\"\",\"\",種目情報!$J$6)","v":""},{"$f":"IF(A15=\"\",\"\",'　　　　　　　　　'!$R$8)","v":""},{"$f":"IF(A15=\"\",\"\",IF(②選手情報入力!$V$7=\"\",0,1))","v":""},{"$f":"IF(A15=\"\",\"\",種目情報!$K$6)","v":""}]
[{"$f":"IF('　　　　　　　　　'!O10=\"\",\"\",420000+①団体情報入力!$C$5*10)","v":""},{"$f":"IF(A16=\"\",\"\",①団体情報入力!$C$5)","v":""},{"$f":"IF(A16=\"\",\"\",'　　　　　　　　　'!$J$1)","v":""},{"$f":"IF(A16=\"\",\"\",'　　　　　　　　　'!$P$1)","v":""},null,null,3,{"$f":"IF(A16=\"\",\"\",'　　　　　　　　　'!Q10)","v":""},{"$f":"IF(A16=\"\",\"\",'　　　　　　　　　'!P10)","v":""},{"$f":"IF(A16=\"\",\"\",種目情報!$J$6)","v":""},{"$f":"IF(A16=\"\",\"\",'　　　　　　　　　'!$R$8)","v":""},{"$f":"IF(A16=\"\",\"\",IF(②選手情報入力!$V$7=\"\",0,1))","v":""},{"$f":"IF(A16=\"\",\"\",種目情報!$K$6)","v":""}]
[{"$f":"IF('　　　　　　　　　'!O11=\"\",\"\",420000+①団体情報入力!$C$5*10)","v":""},{"$f":"IF(A17=\"\",\"\",①団体情報入力!$C$5)","v":""},{"$f":"IF(A17=\"\",\"\",'　　　　　　　　　'!$J$1)","v":""},{"$f":"IF(A17=\"\",\"\",'　　　　　　　　　'!$P$1)","v":""},null,null,4,{"$f":"IF(A17=\"\",\"\",'　　　　　　　　　'!Q11)","v":""},{"$f":"IF(A17=\"\",\"\",'　　　　　　　　　'!P11)","v":""},{"$f":"IF(A17=\"\",\"\",種目情報!$J$6)","v":""},{"$f":"IF(A17=\"\",\"\",'　　　　　　　　　'!$R$8)","v":""},{"$f":"IF(A17=\"\",\"\",IF(②選手情報入力!$V$7=\"\",0,1))","v":""},{"$f":"IF(A17=\"\",\"\",種目情報!$K$6)","v":""}]
[{"$f":"IF('　　　　　　　　　'!O12=\"\",\"\",420000+①団体情報入力!$C$5*10)","v":""},{"$f":"IF(A18=\"\",\"\",①団体情報入力!$C$5)","v":""},{"$f":"IF(A18=\"\",\"\",'　　　　　　　　　'!$J$1)","v":""},{"$f":"IF(A18=\"\",\"\",'　　　　　　　　　'!$P$1)","v":""},null,null,5,{"$f":"IF(A18=\"\",\"\",'　　　　　　　　　'!Q12)","v":""},{"$f":"IF(A18=\"\",\"\",'　　　　　　　　　'!P12)","v":""},{"$f":"IF(A18=\"\",\"\",種目情報!$J$6)","v":""},{"$f":"IF(A18=\"\",\"\",'　　　　　　　　　'!$R$8)","v":""},{"$f":"IF(A18=\"\",\"\",IF(②選手情報入力!$V$7=\"\",0,1))","v":""},{"$f":"IF(A18=\"\",\"\",種目情報!$K$6)","v":""}]
[{"$f":"IF('　　　　　　　　　'!O13=\"\",\"\",420000+①団体情報入力!$C$5*10)","v":""},{"$f":"IF(A19=\"\",\"\",①団体情報入力!$C$5)","v":""},{"$f":"IF(A19=\"\",\"\",'　　　　　　　　　'!$J$1)","v":""},{"$f":"IF(A19=\"\",\"\",'　　　　　　　　　'!$P$1)","v":""},null,null,6,{"$f":"IF(A19=\"\",\"\",'　　　　　　　　　'!Q13)","v":""},{"$f":"IF(A19=\"\",\"\",'　　　　　　　　　'!P13)","v":""},{"$f":"IF(A19=\"\",\"\",種目情報!$J$6)","v":""},{"$f":"IF(A19=\"\",\"\",'　　　　　　　　　'!$R$8)","v":""},{"$f":"IF(A19=\"\",\"\",IF(②選手情報入力!$V$7=\"\",0,1))","v":""},{"$f":"IF(A19=\"\",\"\",種目情報!$K$6)","v":""}]
[{"$f":"IF('　　　　　　　　　'!U8=\"\",\"\",1620000+①団体情報入力!$C$5*10)","v":""},{"$f":"IF(A20=\"\",\"\",①団体情報入力!$C$5)","v":""},{"$f":"IF(A20=\"\",\"\",'　　　　　　　　　'!$J$1)","v":""},{"$f":"IF(A20=\"\",\"\",'　　　　　　　　　'!$P$1)","v":""},null,null,1,{"$f":"IF(A20=\"\",\"\",'　　　　　　　　　'!W8)","v":""},{"$f":"IF(A20=\"\",\"\",'　　　　　　　　　'!V8)","v":""},{"$f":"IF(A20=\"\",\"\",種目情報!$J$7)","v":""},{"$f":"IF(A20=\"\",\"\",'　　　　　　　　　'!$X$8)","v":""},{"$f":"IF(A20=\"\",\"\",IF(②選手情報入力!$V$8=\"\",0,1))","v":""},{"$f":"IF(A20=\"\",\"\",種目情報!$K$7)","v":""}]
[{"$f":"IF('　　　　　　　　　'!U9=\"\",\"\",1620000+①団体情報入力!$C$5*10)","v":""},{"$f":"IF(A21=\"\",\"\",①団体情報入力!$C$5)","v":""},{"$f":"IF(A21=\"\",\"\",'　　　　　　　　　'!$J$1)","v":""},{"$f":"IF(A21=\"\",\"\",'　　　　　　　　　'!$P$1)","v":""},null,null,2,{"$f":"IF(A21=\"\",\"\",'　　　　　　　　　'!W9)","v":""},{"$f":"IF(A21=\"\",\"\",'　　　　　　　　　'!V9)","v":""},{"$f":"IF(A21=\"\",\"\",種目情報!$J$7)","v":""},{"$f":"IF(A21=\"\",\"\",'　　　　　　　　　'!$X$8)","v":""},{"$f":"IF(A21=\"\",\"\",IF(②選手情報入力!$V$8=\"\",0,1))","v":""},{"$f":"IF(A21=\"\",\"\",種目情報!$K$7)","v":""}]
[{"$f":"IF('　　　　　　　　　'!U10=\"\",\"\",1620000+①団体情報入力!$C$5*10)","v":""},{"$f":"IF(A22=\"\",\"\",①団体情報入力!$C$5)","v":""},{"$f":"IF(A22=\"\",\"\",'　　　　　　　　　'!$J$1)","v":""},{"$f":"IF(A22=\"\",\"\",'　　　　　　　　　'!$P$1)","v":""},null,null,3,{"$f":"IF(A22=\"\",\"\",'　　　　　　　　　'!W10)","v":""},{"$f":"IF(A22=\"\",\"\",'　　　　　　　　　'!V10)","v":""},{"$f":"IF(A22=\"\",\"\",種目情報!$J$7)","v":""},{"$f":"IF(A22=\"\",\"\",'　　　　　　　　　'!$X$8)","v":""},{"$f":"IF(A22=\"\",\"\",IF(②選手情報入力!$V$8=\"\",0,1))","v":""},{"$f":"IF(A22=\"\",\"\",種目情報!$K$7)","v":""}]
[{"$f":"IF('　　　　　　　　　'!U11=\"\",\"\",1620000+①団体情報入力!$C$5*10)","v":""},{"$f":"IF(A23=\"\",\"\",①団体情報入力!$C$5)","v":""},{"$f":"IF(A23=\"\",\"\",'　　　　　　　　　'!$J$1)","v":""},{"$f":"IF(A23=\"\",\"\",'　　　　　　　　　'!$P$1)","v":""},null,null,4,{"$f":"IF(A23=\"\",\"\",'　　　　　　　　　'!W11)","v":""},{"$f":"IF(A23=\"\",\"\",'　　　　　　　　　'!V11)","v":""},{"$f":"IF(A23=\"\",\"\",種目情報!$J$7)","v":""},{"$f":"IF(A23=\"\",\"\",'　　　　　　　　　'!$X$8)","v":""},{"$f":"IF(A23=\"\",\"\",IF(②選手情報入力!$V$8=\"\",0,1))","v":""},{"$f":"IF(A23=\"\",\"\",種目情報!$K$7)","v":""}]
[{"$f":"IF('　　　　　　　　　'!U12=\"\",\"\",1620000+①団体情報入力!$C$5*10)","v":""},{"$f":"IF(A24=\"\",\"\",①団体情報入力!$C$5)","v":""},{"$f":"IF(A24=\"\",\"\",'　　　　　　　　　'!$J$1)","v":""},{"$f":"IF(A24=\"\",\"\",'　　　　　　　　　'!$P$1)","v":""},null,null,5,{"$f":"IF(A24=\"\",\"\",'　　　　　　　　　'!W12)","v":""},{"$f":"IF(A24=\"\",\"\",'　　　　　　　　　'!V12)","v":""},{"$f":"IF(A24=\"\",\"\",種目情報!$J$7)","v":""},{"$f":"IF(A24=\"\",\"\",'　　　　　　　　　'!$X$8)","v":""},{"$f":"IF(A24=\"\",\"\",IF(②選手情報入力!$V$8=\"\",0,1))","v":""},{"$f":"IF(A24=\"\",\"\",種目情報!$K$7)","v":""}]
[{"$f":"IF('　　　　　　　　　'!U13=\"\",\"\",1620000+①団体情報入力!$C$5*10)","v":""},{"$f":"IF(A25=\"\",\"\",①団体情報入力!$C$5)","v":""},{"$f":"IF(A25=\"\",\"\",'　　　　　　　　　'!$J$1)","v":""},{"$f":"IF(A25=\"\",\"\",'　　　　　　　　　'!$P$1)","v":""},null,null,6,{"$f":"IF(A25=\"\",\"\",'　　　　　　　　　'!W13)","v":""},{"$f":"IF(A25=\"\",\"\",'　　　　　　　　　'!V13)","v":""},{"$f":"IF(A25=\"\",\"\",種目情報!$J$7)","v":""},{"$f":"IF(A25=\"\",\"\",'　　　　　　　　　'!$X$8)","v":""},{"$f":"IF(A25=\"\",\"\",IF(②選手情報入力!$V$8=\"\",0,1))","v":""},{"$f":"IF(A25=\"\",\"\",種目情報!$K$7)","v":""}]

{"sheet":"Sheet6","index":15,"n_rows":3,"n_cols":6,"rows_kept":3,"cut":false,"hidden":false,"merged":[]}
["No","団体名略称","団体ID","団体名略称","団体名カナ","No"]
[1,"愛知陸協",19868,"愛知陸協","アイチリッキョウ",1]
[2,"愛知マスターズ",19101,"愛知マスターズ","アイチマスターズ",2]