{"text_format":"1","workbook":"xlsx","n_sheets":16,"sheets":["夏季競技会","注意事項","①団体情報入力","②選手情報入力","③リレー情報確認","④種目別人数","⑤大会前 提出用","⑥大会後 個人管理用","⑦ADカード申請","⑧リレーの選手が反映されない","⑨日付が数字になる","　　　　　","種目情報","data_kyogisha","data_team","Sheet6"],"not_rendered":{"charts":0,"images":9,"macros":0,"external_links":4,"defined_names":69,"comments":2,"pivot_tables":0},"unopened":[],"bounds":{"document_bytes":16777216,"sheet_cells":100000,"rows_first":2000,"rows_last":500,"rows_between":2000,"halvings":0,"cell_chars":16384,"cell_head_chars":4096},"cells_cut":0,"cells_raw":0,"read":"whole","date_system":"1900"}

{"sheet":"夏季競技会","index":0,"n_rows":111,"n_cols":7,"rows_kept":111,"cut":false,"hidden":false,"merged":[[110,1,110,6],[53,1,53,6],[55,1,55,6],[62,5,62,6],[73,1,75,6],[76,1,76,3],[76,4,76,6],[61,5,61,6],[100,1,100,6],[109,1,109,6],[78,2,78,6],[80,1,80,6],[101,1,101,6],[0,0,0,4],[3,0,3,6],[5,0,5,6],[7,0,7,6],[9,0,16,6],[1,0,2,6],[4,0,4,6],[6,0,6,6],[17,0,17,6],[48,1,48,6],[49,1,49,6],[18,0,18,6],[19,0,27,6],[29,1,29,2],[29,3,29,4],[46,1,46,6]]}
["２０２０年度　名古屋地区夏季陸上競技大会\n　兼　愛知県国体選手選考会(案)",null,null,null,null,"大会番号　００２","６月１１日 訂正版"]
["この大会は、無観客で実施します。参加者･役員以外は競技場への入場ができませんことをご理解ください。"]
[]
["個人参加者・団体引率者で審判をされない方は、ADカードの申請が必要となります。申込ファイルの⑦ADカード申請を印刷"]
["　　して、当日お受取りください。"]
["　当面の間、名古屋地区の競技会出場に当たり、体調管理チェツクシートの提出を義務付けとします。"]
["　受付時に提出をお願いいたします。提出がない場合は、競技会への参加を認めない場合があります。"]
["※参加料の振り込みは、８月３日(月)～７日(金)の間にお願いします。"]
["日本陸連の陸上競技活動再開について のガイダンスに基づき、参加者の皆さんに以下の項目を実施します。"]
["① 競技者には競技会１週間前からの検温を義務付ます。指定の体調管理チェック表に記入し提出してください。\n\n② 受付時に体調管理チェック表を受け取ります。（※チーム・学校の場合は代表者がまとめて提出しても構いません）\n　　主催者は、万が一感染が発生した場合に備え、個人情報の取扱いに十分注意しながら、イベント当日に参加者より提出を求　　　\n　　めた書面の保存期間（少なくとも１月以上）を定めて保存します。\n　　主催者は提出していない競技者を出場不可とする場合があります。\n\n③ 不確かな競技者がいた場合は、その場で検温を実施し、状況により参加を許可しない場合があります。\n　　(不確かな競技者の事例：一見して体調が悪そうに見える、顔がほてっている、咳、鼻水の症状（風邪の症状）が見られる。)\n\n④ 運動時を除きマスクの着用を義務とし、主催者はマスクをしてない人に対し注意を促します。\n\n⑤ 手洗い・手指の消毒・洗顔の徹底を呼び掛けます。"]
[]
[]
[]
[]
[]
[]
[]
["なお、ガイダンスの詳細は日本陸連のＨＰを御覧ください　➡　https://www.jaaf.or.jp/news/article/13857/"]
["参加者の皆さんへ　新型コロナウィルス感染拡大防止のための措置として、以下の点をお守りください。 "]
["① 以下の事項に該当する場合は、自主的に参加を見合わせてください。 \nア 体調がよくない場合（例：発熱・咳・咽頭痛などの症状がある場合）\nイ 同居家族や身近な知人に感染が疑われる方がいる場合 \nウ 過去 14 日以内に政府から入国制限、入国後の観察期間を必要とされている国、地域等への渡航又は当該在\n　 住者との濃厚接触がある場合\n\n② 参加者は競技のウオーミングアップ開始に合わせて来場し、競技終了後は速やかに帰宅してください。\n\n③ 来場にあたっては、マスク・マイタオルを持参し、運動時を除いては原則としてマスクを着用してください。\n\n④ 石けん等を用いた手洗い・手指消毒、うがい、洗顔を実施してください。\n\n⑤ ウオーミングアップ・招集等については、競技役員の指示に従い、ソーシャルディスタンスを確保する（できるだけ\n　 ２ｍ以上）ことに努めてください。（障がい者の誘導や介助等は除きます。）\n\n⑥ イベント中に大きな声での会話をしないでください。また声を出しての応援、集団での応援は禁止します。\n　 選手も、試技前等の発生を禁止します。\n\n⑦ 更衣室の滞在は短時間にしてください（シャワールームの使用は禁止します）。\n\n⑧ 飲食等の際は感染リスクが高くなる為、短時間・ソーシャルディスタンス・換気の良い場所で行ってください。\n\n⑨ タオル、ペットボトル、コップ、皿、袋等の共用を控え、個人用を用意してください。\n　 また、体液の付着したゴミは各自で持ち帰ってください。\n\n⑩ 感染防止のために主催者が決めたその他の措置の遵守、主催者の指示に従うこと。\n\n⑪ イベント終了後２週間以内に新型コロナウイルス感染症を発症した場合は、主催者に対して速やかに濃厚接\n　 触者の有無等について報告を行ってください。\n\nこれらの項目が守られない場合には退場して頂く場合があります。"]
[]
[]
[]
[]
[]
[]
[]
[]
[]
["１．期  日        ","2020-08-15",null,"2020-08-16"]
[]
["２．場  所","パロマ瑞穂スタジアム･パロマ瑞穂北陸上競技場"]
[]
["３．種　目","◎第１日",{"$f":"B30","v":"2020-08-15"}]
[null,"（男子）１００ｍ，４００ｍ，１５００ｍ，１１０ｍＨ(1.067m), １１０ｍＪＨ(0.991m)，中学１１０ｍＨ(0.914m)"]
[null," ,４×１００ｍＲ，棒高跳，三段跳，円盤投(2.000kg)"]
[null," 高校円盤投(1.750kg)，中学円盤投(1.500kg)，ハンマー投(7.260kg)，高校ハンマー投(6.000kg)"]
[null,"（女子）１００ｍ，４００ｍ，１５００ｍ，１００ｍＨ(0.840m)，１００ｍＹＨ(0.762m/8.5m)，"]
[null,"中学１００ｍＨ(0.762m)  ,４×１００ｍＲ，棒高跳，走幅跳，円盤投(1.000kg)，ハンマー投(4.000kg)"]
[null,null,"　"]
[null,"◎第2日",{"$f":"D30","v":"2020-08-16"}]
[null,"（男子）２００ｍ，８００ｍ，４００ｍＨ(0.914m)，４×４００ｍＲ，"]
[null,"　走高跳，走幅跳，砲丸投(7.260kg)，高校砲丸投(6.000kg)，中学砲丸投(5.000kg)，やり投(0.800kg)"]
[null,"（女子）２００ｍ，８００ｍ，４００ｍＨ(0.762m)，４×４００ｍＲ，"]
[null,"　走高跳，三段跳，砲丸投(4.000kg)，中学砲丸投(2.721kg)，やり投(0.600kg)"]
[]
["４．参加について","招集の方法が通常の大会とは異なりますのでご注意ください。"]
[null,"競技者の招集ミスにより発生する招集漏れは基本的に救済しません。"]
[null,"トラック種目はすべてタイムレース、フィールド長さ種目は３回試技とします。"]
[null,"･フィールド種目は参加人数に応じて組分けを行います。事前にスタートリストでの確認をお願いします"]
[null,"・男子三段跳は１１ｍ,女子三段跳は９ｍの踏切板を使用します。"]
[null,"・個人出場種目数は１人２種目までとします。"]
[null,"・リレーは１団体１チームとします。"]
[null,"・他地区･他県登録者の参加は認めていません。\n　　（名古屋地区陸協の登記・登録者のみ）"]
[null,"・大学生は学連登録者であり、登録が愛知・名古屋地区陸協であることが必要です。"]
[null,"・中学生は愛知陸協（名古屋地区）の登録番号で申し込んでください。"]
[null,"・同時進行になる競技がありますが、番組編成は考慮しません。"]
[null,"・中学生の出場は、太字で示した種目に限ります。"]
[null,"・団体情報シートをプリントアウトして,参加料振込用紙のコピーを添付して"]
[null,"　　 〒463-8799 守山郵便局私書箱１４号まで郵送してください。"]
[null,"・この大会に表彰はありません。"]
[null,"･走高跳の最初の高さは、男子１ｍ５０、女子１ｍ３０とします。",null,null,null,"←状況に応じて変更することがあります。"]
[null,"･棒高跳の最初の高さは、男子３ｍ６０、女子２ｍ００とします。",null,null,null,"←状況に応じて変更することがあります。"]
[null,"・この大会は、招集時間･競技時間を細分化して競技を実施します。"]
[null,"　　大会前にHPで、組と招集時間の確認をお願い致します。"]
[]
["５．参加料","１種目　高校生以上８００円　中学生５００円　　　"]
[null,"リレー　１チーム１２００円"]
[null,"プログラム事前申し込み１部",null,"１０００円","プログラムの当日販売は1200円です"]
[]
["６．申込ｱﾄﾞﾚｽ","メールアドレス　　　nagoya.kirokukai@gmail.com"]
[null,"＊申し込みはメールを最優先してください。メール未送信の場合は出場できない場合があります。"]
[null,"＊申し込みのファイルは,各カテゴリーのものを使用してください。"]
[null,"申し込みアドレスの間違えが多く発生しています。\n正しいアドレスに送信してください。\n問い合わせのアドレスに送信されても受付できません。"]
[]
[]
["７．申込締切","2020-07-20",null,null,"2020-08-11"]
[]
["８．大会参加料の納入先",null,"振込は、８月３日(月)～７日(金)の間にお願いします。"]
[null,"☆郵便振替"]
[null,"払込取扱票に必要事項を記入し、郵便振替払込請求書兼受領証の写しを「種目別申込人数一覧表」の貼付欄に貼付してください。振替用紙は郵便局に備え付けの青の振込取扱票を使用し、下記の事項を必ず記入してください。"]
[null,"口座番号",null,"00870 = 3 = 90904"]
[null,"加入者名",null,"名古屋地区陸上競技協会"]
[null,"金　　額",null,"参加料（プログラム代も含める）【申込一覧表の合計金額】"]
[null,"通信欄に記入事項（おところ、おなまえの他に）"]
[null,null,"①申込大会名（大会期日）"]
[null,null,"②申込団体名・学校名のいずれか"]
[null,"ゆうちょ銀行以外からの振り込みを行う場合は、以下の番号を使用してください。"]
[null,"店名","〇八九","店",null,"店番","０８９"]
[null,null,"ｾﾞﾛﾊﾁｷｭｳ"]
[null,"預金項目","２","当座預金",null,"口座番号","００９０９０４"]
[]
[null,"振込口座の間違いにお気をつけください。"]
[null,"団体名が判らなくなりますので、"]
[null,"振込団体名に、ｱｲﾁｹﾝﾘﾂやﾅｺﾞﾔｼﾘﾂなどは、絶対に付けないでください."]
[]
[null,"個人登録の方は、愛知陸協は使用せずに、個人名で振込を行ってください。"]
[]
["９．表彰について","この大会に表彰はありません。"]
[]
["10．その他","・時間プログラム,受付一覧,大会注意事項,待機場所割当表,エントリーリストは,大会７日程度前に愛知陸協ホームページにアップします。\n　　　　↓名古屋地区の競技会のアドレスです。"]
[null,"http://www.aichi-rk.jp/01_01nittei.htm"]
[null,"・メールの件名は,必ず団体名を記入してください。"]
[null,"・申込ファイル名も団体名に変えてから送信してください。"]
[null,"・申し込み人数に応じて,本競技場メインスタンドの"]
[null,"　割り振りを行います。場所取りは行わないでください。２・３Ｆスタンド下での待機は禁止します。"]
[null,"・２０２０年度登録を完了してください。"]
[null,"　　　申請中の申し込みは受付けません。"]
[null,"・問合せは、申込みアドレスに件名を問合せとして送信願います。"]
[null,"･競技中に発生した負傷・傷病の応急処置は主催者において行いますが,以後の責任は負いません。"]
[null,"・個人情報の扱いについて\n　名古屋地区陸協は,個人情報保護に関する法令を遵守し,日本陸上競技連盟個人情報保護方針に基づいて取り扱います。尚,取得した個人情報は大会の資格審査,プログラム編成及び作成,記録発表,その他競技運営及び陸上競技に必要な連絡等に使用します。\n＊本競技会の結果は,記録速報のほかリザルトが公表されます。結果には,順位・記録のほか選手の氏名・所属・学年を含みます。\n"]

{"sheet":"注意事項","index":1,"n_rows":67,"n_cols":10,"rows_kept":67,"cut":false,"hidden":false,"merged":[[2,2,2,11],[0,0,0,13],[6,1,6,2],[6,3,6,7],[4,2,4,7],[3,9,5,11],[19,1,19,9],[28,1,28,19],[9,1,9,2],[9,3,9,5],[3,2,3,4],[3,5,3,7],[9,7,9,8],[9,9,9,14]]}
["　★データ入力前にこのページの内容を必ずお読みください。"]
[]
[null,"大会名",{"$f":"夏季競技会!A1","v":"２０２０年度　名古屋地区夏季陸上競技大会\n　兼　愛知県国体選手選考会(案)"}]
[null,"期　日",{"$f":"夏季競技会!B30","v":"2020-08-15"},null,null,{"$f":"夏季競技会!D30","v":"2020-08-16"},null,null,null,"一般団体用"]
[null,"会　場",{"$f":"夏季競技会!B32","v":"パロマ瑞穂スタジアム･パロマ瑞穂北陸上競技場"}]
[]
[null,"メール送信期限",null,{"$f":"夏季競技会!B77","v":"2020-07-20"}]
[null,"日付が数字になる場合には、ホームタブの数値メニューのリストから"]
[null,"短い日付表示を選択してください。⑧日付が数字になる場合を参照してください。"]
[null,"郵送期限",null,{"$f":"夏季競技会!E77","v":"2020-08-11"},null,null,null,"振込期間→",null,{"$f":"夏季競技会!C79","v":"振込は、８月３日(月)～７日(金)の間にお願いします。"}]
["　＜注意事項等＞",null,"このファイルでは、個人登録(愛知陸協・マスターズ名古屋)の方は申し込めません."]
[null,"４月１１，１２日の大会参加料との差し引きでお支払い頂く場合は、④種目別人数で"]
[null,"前回入金金額を入力する欄がありますので、そちらに金額を入力してください。"]
[]
[null,"日本陸連の陸上競技活動再開のガイダンスに基づき、名古屋地区陸上競技協会は、感染防止に最大限の注意を払った上、"]
[null,"できる限り感染リスクを軽減させた競技会の運営に務めてまいります。"]
[null,"そこで、競技会に参加される皆様には、大会前後の体調を確認・記録し、大会前の体調については大会当日に提出をして頂きます。"]
[null,"①団体情報入力と②選手情報入力を行ってから、⑤大会前提出用⑥大会後個人管理用を印刷してお使いください。"]
[]
[null,"※このファイルをメールに添付して送信してください！"]
[null,"　①ファイルの送信がないと受付けしたことにはなりません。"]
[null,"　②必ず、ファイル名を団体名に変更して下さい。また、メールの件名(タイトル：Subject)にも団体名を入れて下さい。"]
[null,"　③ファイルの内容に訂正がある場合は、ファイル名の後に必ず訂正版等の文字を入れて下さい。"]
[null,"　　選手を追加する場合に差分だけではなく、全員分のデータに追加する人を入力してください。"]
[null,"　④ファイルの送信忘れ・訂正時のファイル名の変更がない場合等によりプログラムから漏れた場合には、"]
[null,"　　トラックレースでは最後の組以降に新たに組を追加する場合があります。リレーの場合は、再番編を行う場合があります。"]
[null,"　　フィールド種目では、記録の近い組の最後に追加します。"]
[null,"　⑤リレー情報確認で、メンバーが反映されていることを必ず確認してください。"]
[null,"　　ナンバーが正しく入力されていて情報が反映されていない場合、選手情報入力シートのナンバーが左寄りになってい 　\n　　ます。この場合、ナンバーのセルが文字列になっていますので数値に変換してください。\n    方法は、⑦リレーの選手が反映されない場合の対処をご覧ください。"]
[null,"　⑥クラス分けの有る種目において、記録を記載せずにエントリーした場合はすべてCクラスとします。"]
[]
["　★作業の流れは次のとおりです。　データの入力は①②のシートのみです。"]
["　　①団体情報の入力"]
["↓","　・必要事項を入力してください。",null,null,null,"・プログラム購入部数もこちらで入力となります。"]
["　　②選手情報の入力",null,null,"ナンバーは、数字のみ入力してください。"]
["↓","　　※種目はドロップダウンリストから選択してください。"]
["↓","　・参加選手のナンバー、氏名、性別、学年、申込種目、記録を入力してください。"]
["↓","　　※入力は、男子を先に入力し、続けて女子を入力してください。"]
["↓","　　※氏名については、姓と名の間に全角スペースを１つ入れてください。"]
["↓","　　※ﾌﾘｶﾞﾅについては、姓と名の間に半角スペースを１つ入れてください。"]
["↓","　　※記録は、次のとおり入力してください。"]
["↓",null,"◎トラック種目・・・・分秒をドット「．」で区切り、100分の1秒まで入力"]
["↓",null,"例１",null,"54秒23","⇒",54.23]
["↓",null,"例２",null,"4分07秒00","⇒","4.07.00"]
["↓",null,null,"　 ※記録が１分未満で、10分の1以下が「00」"]
["↓",null,null,"　　 のときは整数で表示されます。"]
["↓",null,null,"例","12秒00","⇒",12]
["↓",null,"◎フィールド種目・・・メートルを「m」で区切り、cm単位まで入力（「cm」の文字は入れない）"]
["↓",null,"例３",null,"20m","⇒","20m00"]
["↓",null,"★記録がない場合は空欄にしてください。"]
["↓","　　※リレーに出場する選手は、リレー種目の欄へ「○」を入力してください。"]
["↓","　  ※リレーメンバーは、③リレー情報確認タブでご確認ください。"]
["　　③種目別人数の確認・印刷"]
["↓","　・種目ごとの申込人数と申込金額を確認してください。"]
["　　④ファイルの保存"]
["↓","　・ファイル名をチーム名（例：○○○）に変更し保存してください。メールに添付するときは、ファイル名がチーム名に"]
["↓","　　なっていることを確認してください。"]
["　　⑤メール送信"]
["↓","　・入力したファイルを添付して送信してください。アドレスは要項を確認してください。"]
["↓","　・メールの件名に「大会名」と「団体名」を入力してください。"]
["　　⑥参加料の振込"]
["↓","　・参加料を振り込んでください。"]
["　　⑦郵送"]
["↓","　・「④申し込み表」の余白に振込明細書のコピーを添付して郵送してください。"]
["↓",null,"送付先"]
["↓",null,"〒463-8799　守山郵便局　私書箱１４号　名古屋地区陸上競技協会"]
["　　⑧申込完了"]

{"sheet":"①団体情報入力","index":2,"n_rows":76,"n_cols":15,"rows_kept":76,"cut":false,"hidden":false,"merged":[[0,5,0,8],[12,0,12,3],[12,4,12,7],[12,8,12,9],[7,0,7,1],[7,2,7,4],[8,0,8,1],[8,2,8,4],[9,0,9,1],[10,0,10,7],[10,8,10,9],[11,0,11,3],[11,4,11,7],[11,8,11,9],[1,0,1,1],[1,2,1,4],[1,5,1,11],[2,0,2,1],[2,2,2,4],[2,5,2,11],[3,0,3,1],[3,2,3,4],[3,5,5,9],[4,0,4,1],[9,8,9,11],[4,2,4,4],[5,0,5,1],[5,2,5,4],[6,0,6,1],[6,2,6,4]]}
["①団体情報入力",null,"一般・大学生用",null,null,"一般団体・大学専用",null,null,null,"個人登録の方は、個人登録用のファイルを利用してください、"]
["団体名検索",null,null,null,null,"←団体名最初の一文字を入力してください。",null,null,null,null,null,null,null,{"$f":"C2","v":0}]
["団体名",null,null,null,null,"←団体名の一部を入力すると、候補がドロップダウンに表示されますので選択してください。",null,null,null,null,null,null,1,{"$f":"VLOOKUP(\"*\"&$N$2&\"*\",Sheet6!D2:F408,1,FALSE)","v":{"$error":"#N/A"}},{"$f":"VLOOKUP(\"*\"&N2&\"*\",Sheet6!B2:F408,5,FALSE)","v":{"$error":"#N/A"}}]
["団体コード",null,{"$f":"IF(C3=\"\",\"\",VLOOKUP(C3,Sheet6!B:C,2,0))","v":""},null,null,"←団体名を選択すると、自動で入力されます。",null,null,null,null,null,null,2,{"$f":"VLOOKUP(\"*\"&$N$2&\"*\",OFFSET(Sheet6!$B$2:$F$408,O3,0),1,FALSE)","v":{"$error":"#N/A"}},{"$f":"VLOOKUP(\"*\"&$N$2&\"*\",OFFSET(Sheet6!$B$2:$F$408,O3,0),5,FALSE)","v":{"$error":"#N/A"}}]
["略称団体名",null,{"$f":"IF(C3=\"\",\"\",C3)","v":""},null,null,null,null,null,null,null,null,null,3,{"$f":"VLOOKUP(\"*\"&$N$2&\"*\",OFFSET(Sheet6!$B$2:$F$408,O4,0),1,FALSE)","v":{"$error":"#N/A"}},{"$f":"VLOOKUP(\"*\"&$N$2&\"*\",OFFSET(Sheet6!$B$2:$F$408,O4,0),5,FALSE)","v":{"$error":"#N/A"}}]
["団体名ﾌﾘｶﾞﾅ",null,{"$f":"IF(C3=\"\",\"\",VLOOKUP(C3,Sheet6!B:E,4,0))","v":""},null,null,null,null,null,null,null,null,null,4,{"$f":"VLOOKUP(\"*\"&$N$2&\"*\",OFFSET(Sheet6!$B$2:$F$408,O5,0),1,FALSE)","v":{"$error":"#N/A"}},{"$f":"VLOOKUP(\"*\"&$N$2&\"*\",OFFSET(Sheet6!$B$2:$F$408,O5,0),5,FALSE)","v":{"$error":"#N/A"}}]
["申込責任者",null,null,null,null,"←入力",null,null,null,null,null,null,5,{"$f":"VLOOKUP(\"*\"&$N$2&\"*\",OFFSET(Sheet6!$B$2:$F$408,O6,0),1,FALSE)","v":{"$error":"#N/A"}},{"$f":"VLOOKUP(\"*\"&$N$2&\"*\",OFFSET(Sheet6!$B$2:$F$408,O6,0),5,FALSE)","v":{"$error":"#N/A"}}]
["連絡先電話番号",null,null,null,null,"←入力(ハイフンを入れる)　※緊急時に連絡がとれる番号",null,null,null,null,null,null,6,{"$f":"VLOOKUP(\"*\"&$N$2&\"*\",OFFSET(Sheet6!$B$2:$F$408,O7,0),1,FALSE)","v":{"$error":"#N/A"}},{"$f":"VLOOKUP(\"*\"&$N$2&\"*\",OFFSET(Sheet6!$B$2:$F$408,O7,0),5,FALSE)","v":{"$error":"#N/A"}}]
["大学生のみ学連地域コードをハイフンを付けて入力",null,null,null,null,"←大学生のみ、地域学連コードをハイフンを含めて入力してください。",null,null,null,null,null,null,7,{"$f":"VLOOKUP(\"*\"&$N$2&\"*\",OFFSET(Sheet6!$B$2:$F$408,O8,0),1,FALSE)","v":{"$error":"#N/A"}},{"$f":"VLOOKUP(\"*\"&$N$2&\"*\",OFFSET(Sheet6!$B$2:$F$408,O8,0),5,FALSE)","v":{"$error":"#N/A"}}]
["プログラム購入部数",null,null,"部",null,null,null,null,"新規登録団体(検索できない団体)の場合は以下に団体名とフリガナを入力してください",null,null,null,8,{"$f":"VLOOKUP(\"*\"&$N$2&\"*\",OFFSET(Sheet6!$B$2:$F$408,O9,0),1,FALSE)","v":{"$error":"#N/A"}},{"$f":"VLOOKUP(\"*\"&$N$2&\"*\",OFFSET(Sheet6!$B$2:$F$408,O9,0),5,FALSE)","v":{"$error":"#N/A"}}]
["役員のできる方のお名前を入力してください",null,null,null,null,null,null,null,"団体名",null,null,null,9,{"$f":"VLOOKUP(\"*\"&$N$2&\"*\",OFFSET(Sheet6!$B$2:$F$408,O10,0),1,FALSE)","v":{"$error":"#N/A"}},{"$f":"VLOOKUP(\"*\"&$N$2&\"*\",OFFSET(Sheet6!$B$2:$F$408,O10,0),5,FALSE)","v":{"$error":"#N/A"}}]
[null,null,null,null,null,null,null,null,"略称団体名",null,null,null,10,{"$f":"VLOOKUP(\"*\"&$N$2&\"*\",OFFSET(Sheet6!$B$2:$F$408,O11,0),1,FALSE)","v":{"$error":"#N/A"}},{"$f":"VLOOKUP(\"*\"&$N$2&\"*\",OFFSET(Sheet6!$B$2:$F$408,O11,0),5,FALSE)","v":{"$error":"#N/A"}}]
[null,null,null,null,null,null,null,null,"団体名ﾌﾘｶﾞﾅ",null,null,null,11,{"$f":"VLOOKUP(\"*\"&$N$2&\"*\",OFFSET(Sheet6!$B$2:$F$408,O12,0),1,FALSE)","v":{"$error":"#N/A"}},{"$f":"VLOOKUP(\"*\"&$N$2&\"*\",OFFSET(Sheet6!$B$2:$F$408,O12,0),5,FALSE)","v":{"$error":"#N/A"}}]
[null,null,null,null,null,null,null,null,null,null,null,null,12,{"$f":"VLOOKUP(\"*\"&$N$2&\"*\",OFFSET(Sheet6!$B$2:$F$408,O13,0),1,FALSE)","v":{"$error":"#N/A"}},{"$f":"VLOOKUP(\"*\"&$N$2&\"*\",OFFSET(Sheet6!$B$2:$F$408,O13,0),5,FALSE)","v":{"$error":"#N/A"}}]
[null,null,null,null,null,null,null,null,null,null,null,null,13,{"$f":"VLOOKUP(\"*\"&$N$2&\"*\",OFFSET(Sheet6!$B$2:$F$408,O14,0),1,FALSE)","v":{"$error":"#N/A"}},{"$f":"VLOOKUP(\"*\"&$N$2&\"*\",OFFSET(Sheet6!$B$2:$F$408,O14,0),5,FALSE)","v":{"$error":"#N/A"}}]
[null,null,null,null,null,null,null,null,null,null,null,null,14,{"$f":"VLOOKUP(\"*\"&$N$2&\"*\",OFFSET(Sheet6!$B$2:$F$408,O15,0),1,FALSE)","v":{"$error":"#N/A"}},{"$f":"VLOOKUP(\"*\"&$N$2&\"*\",OFFSET(Sheet6!$B$2:$F$408,O15,0),5,FALSE)","v":{"$error":"#N/A"}}]
[null,null,null,null,null,null,null,null,null,null,null,null,15,{"$f":"VLOOKUP(\"*\"&$N$2&\"*\",OFFSET(Sheet6!$B$2:$F$408,O16,0),1,FALSE)","v":{"$error":"#N/A"}},{"$f":"VLOOKUP(\"*\"&$N$2&\"*\",OFFSET(Sheet6!$B$2:$F$408,O16,0),5,FALSE)","v":{"$error":"#N/A"}}]
[null,null,null,null,null,null,null,null,null,null,null,null,16,{"$f":"VLOOKUP(\"*\"&$N$2&\"*\",OFFSET(Sheet6!$B$2:$F$408,O17,0),1,FALSE)","v":{"$error":"#N/A"}},{"$f":"VLOOKUP(\"*\"&$N$2&\"*\",OFFSET(Sheet6!$B$2:$F$408,O17,0),5,FALSE)","v":{"$error":"#N/A"}}]
[null,null,null,null,null,null,null,null,null,null,null,null,17,{"$f":"VLOOKUP(\"*\"&$N$2&\"*\",OFFSET(Sheet6!$B$2:$F$408,O18,0),1,FALSE)","v":{"$error":"#N/A"}},{"$f":"VLOOKUP(\"*\"&$N$2&\"*\",OFFSET(Sheet6!$B$2:$F$408,O18,0),5,FALSE)","v":{"$error":"#N/A"}}]
[null,null,null,null,null,null,null,null,null,null,null,null,18,{"$f":"VLOOKUP(\"*\"&$N$2&\"*\",OFFSET(Sheet6!$B$2:$F$408,O19,0),1,FALSE)","v":{"$error":"#N/A"}},{"$f":"VLOOKUP(\"*\"&$N$2&\"*\",OFFSET(Sheet6!$B$2:$F$408,O19,0),5,FALSE)","v":{"$error":"#N/A"}}]
[null,null,null,null,null,null,null,null,null,null,null,null,19,{"$f":"VLOOKUP(\"*\"&$N$2&\"*\",OFFSET(Sheet6!$B$2:$F$408,O20,0),1,FALSE)","v":{"$error":"#N/A"}},{"$f":"VLOOKUP(\"*\"&$N$2&\"*\",OFFSET(Sheet6!$B$2:$F$408,O20,0),5,FALSE)","v":{"$error":"#N/A"}}]
[null,null,null,null,null,null,null,null,null,null,null,null,20,{"$f":"VLOOKUP(\"*\"&$N$2&\"*\",OFFSET(Sheet6!$B$2:$F$408,O21,0),1,FALSE)","v":{"$error":"#N/A"}},{"$f":"VLOOKUP(\"*\"&$N$2&\"*\",OFFSET(Sheet6!$B$2:$F$408,O21,0),5,FALSE)","v":{"$error":"#N/A"}}]
[null,null,null,null,null,null,null,null,null,null,null,null,21,{"$f":"VLOOKUP(\"*\"&$N$2&\"*\",OFFSET(Sheet6!$B$2:$F$408,O22,0),1,FALSE)","v":{"$error":"#N/A"}},{"$f":"VLOOKUP(\"*\"&$N$2&\"*\",OFFSET(Sheet6!$B$2:$F$408,O22,0),5,FALSE)","v":{"$error":"#N/A"}}]
[null,null,null,null,null,null,null,null,null,null,null,null,22,{"$f":"VLOOKUP(\"*\"&$N$2&\"*\",OFFSET(Sheet6!$B$2:$F$408,O23,0),1,FALSE)","v":{"$error":"#N/A"}},{"$f":"VLOOKUP(\"*\"&$N$2&\"*\",OFFSET(Sheet6!$B$2:$F$408,O23,0),5,FALSE)","v":{"$error":"#N/A"}}]
[null,null,null,null,null,null,null,null,null,null,null,null,23,{"$f":"VLOOKUP(\"*\"&$N$2&\"*\",OFFSET(Sheet6!$B$2:$F$408,O24,0),1,FALSE)","v":{"$error":"#N/A"}},{"$f":"VLOOKUP(\"*\"&$N$2&\"*\",OFFSET(Sheet6!$B$2:$F$408,O24,0),5,FALSE)","v":{"$error":"#N/A"}}]
[null,null,null,null,null,null,null,null,null,null,null,null,24,{"$f":"VLOOKUP(\"*\"&$N$2&\"*\",OFFSET(Sheet6!$B$2:$F$408,O25,0),1,FALSE)","v":{"$error":"#N/A"}},{"$f":"VLOOKUP(\"*\"&$N$2&\"*\",OFFSET(Sheet6!$B$2:$F$408,O25,0),5,FALSE)","v":{"$error":"#N/A"}}]
[null,null,null,null,null,null,null,null,null,null,null,null,25,{"$f":"VLOOKUP(\"*\"&$N$2&\"*\",OFFSET(Sheet6!$B$2:$F$408,O26,0),1,FALSE)","v":{"$error":"#N/A"}},{"$f":"VLOOKUP(\"*\"&$N$2&\"*\",OFFSET(Sheet6!$B$2:$F$408,O26,0),5,FALSE)","v":{"$error":"#N/A"}}]
[null,null,null,null,null,null,null,null,null,null,null,null,26,{"$f":"VLOOKUP(\"*\"&$N$2&\"*\",OFFSET(Sheet6!$B$2:$F$408,O27,0),1,FALSE)","v":{"$error":"#N/A"}},{"$f":"VLOOKUP(\"*\"&$N$2&\"*\",OFFSET(Sheet6!$B$2:$F$408,O27,0),5,FALSE)","v":{"$error":"#N/A"}}]
[null,null,null,null,null,null,null,null,null,null,null,null,27,{"$f":"VLOOKUP(\"*\"&$N$2&\"*\",OFFSET(Sheet6!$B$2:$F$408,O28,0),1,FALSE)","v":{"$error":"#N/A"}},{"$f":"VLOOKUP(\"*\"&$N$2&\"*\",OFFSET(Sheet6!$B$2:$F$408,O28,0),5,FALSE)","v":{"$error":"#N/A"}}]
[null,null,null,null,null,null,null,null,null,null,null,null,28,{"$f":"VLOOKUP(\"*\"&$N$2&\"*\",OFFSET(Sheet6!$B$2:$F$408,O29,0),1,FALSE)","v":{"$error":"#N/A"}},{"$f":"VLOOKUP(\"*\"&$N$2&\"*\",OFFSET(Sheet6!$B$2:$F$408,O29,0),5,FALSE)","v":{"$error":"#N/A"}}]
[null,null,null,null,null,null,null,null,null,null,null,null,29,{"$f":"VLOOKUP(\"*\"&$N$2&\"*\",OFFSET(Sheet6!$B$2:$F$408,O30,0),1,FALSE)","v":{"$error":"#N/A"}},{"$f":"VLOOKUP(\"*\"&$N$2&\"*\",OFFSET(Sheet6!$B$2:$F$408,O30,0),5,FALSE)","v":{"$error":"#N/A"}}]
[null,null,null,null,null,null,null,null,null,null,null,null,30,{"$f":"VLOOKUP(\"*\"&$N$2&\"*\",OFFSET(Sheet6!$B$2:$F$408,O31,0),1,FALSE)","v":{"$error":"#N/A"}},{"$f":"VLOOKUP(\"*\"&$N$2&\"*\",OFFSET(Sheet6!$B$2:$F$408,O31,0),5,FALSE)","v":{"$error":"#N/A"}}]
[null,null,null,null,null,null,null,null,null,null,null,null,31,{"$f":"VLOOKUP(\"*\"&$N$2&\"*\",OFFSET(Sheet6!$B$2:$F$408,O32,0),1,FALSE)","v":{"$error":"#N/A"}},{"$f":"VLOOKUP(\"*\"&$N$2&\"*\",OFFSET(Sheet6!$B$2:$F$408,O32,0),5,FALSE)","v":{"$error":"#N/A"}}]
[null,null,null,null,null,null,null,null,null,null,null,null,32,{"$f":"VLOOKUP(\"*\"&$N$2&\"*\",OFFSET(Sheet6!$B$2:$F$408,O33,0),1,FALSE)","v":{"$error":"#N/A"}},{"$f":"VLOOKUP(\"*\"&$N$2&\"*\",OFFSET(Sheet6!$B$2:$F$408,O33,0),5,FALSE)","v":{"$error":"#N/A"}}]
[null,null,null,null,null,null,null,null,null,null,null,null,33,{"$f":"VLOOKUP(\"*\"&$N$2&\"*\",OFFSET(Sheet6!$B$2:$F$408,O34,0),1,FALSE)","v":{"$error":"#N/A"}},{"$f":"VLOOKUP(\"*\"&$N$2&\"*\",OFFSET(Sheet6!$B$2:$F$408,O34,0),5,FALSE)","v":{"$error":"#N/A"}}]
[null,null,null,null,null,null,null,null,null,null,null,null,34,{"$f":"VLOOKUP(\"*\"&$N$2&\"*\",OFFSET(Sheet6!$B$2:$F$408,O35,0),1,FALSE)","v":{"$error":"#N/A"}},{"$f":"VLOOKUP(\"*\"&$N$2&\"*\",OFFSET(Sheet6!$B$2:$F$408,O35,0),5,FALSE)","v":{"$error":"#N/A"}}]
[null,null,null,null,null,null,null,null,null,null,null,null,35,{"$f":"VLOOKUP(\"*\"&$N$2&\"*\",OFFSET(Sheet6!$B$2:$F$408,O36,0),1,FALSE)","v":{"$error":"#N/A"}},{"$f":"VLOOKUP(\"*\"&$N$2&\"*\",OFFSET(Sheet6!$B$2:$F$408,O36,0),5,FALSE)","v":{"$error":"#N/A"}}]
[null,null,null,null,null,null,null,null,null,null,null,null,36,{"$f":"VLOOKUP(\"*\"&$N$2&\"*\",OFFSET(Sheet6!$B$2:$F$408,O37,0),1,FALSE)","v":{"$error":"#N/A"}},{"$f":"VLOOKUP(\"*\"&$N$2&\"*\",OFFSET(Sheet6!$B$2:$F$408,O37,0),5,FALSE)","v":{"$error":"#N/A"}}]
[null,null,null,null,null,null,null,null,null,null,null,null,37,{"$f":"VLOOKUP(\"*\"&$N$2&\"*\",OFFSET(Sheet6!$B$2:$F$408,O38,0),1,FALSE)","v":{"$error":"#N/A"}},{"$f":"VLOOKUP(\"*\"&$N$2&\"*\",OFFSET(Sheet6!$B$2:$F$408,O38,0),5,FALSE)","v":{"$error":"#N/A"}}]
[null,null,null,null,null,null,null,null,null,null,null,null,38,{"$f":"VLOOKUP(\"*\"&$N$2&\"*\",OFFSET(Sheet6!$B$2:$F$408,O39,0),1,FALSE)","v":{"$error":"#N/A"}},{"$f":"VLOOKUP(\"*\"&$N$2&\"*\",OFFSET(Sheet6!$B$2:$F$408,O39,0),5,FALSE)","v":{"$error":"#N/A"}}]
[null,null,null,null,null,null,null,null,null,null,null,null,39,{"$f":"VLOOKUP(\"*\"&$N$2&\"*\",OFFSET(Sheet6!$B$2:$F$408,O40,0),1,FALSE)","v":{"$error":"#N/A"}},{"$f":"VLOOKUP(\"*\"&$N$2&\"*\",OFFSET(Sheet6!$B$2:$F$408,O40,0),5,FALSE)","v":{"$error":"#N/A"}}]
[null,null,null,null,null,null,null,null,null,null,null,null,40,{"$f":"VLOOKUP(\"*\"&$N$2&\"*\",OFFSET(Sheet6!$B$2:$F$408,O41,0),1,FALSE)","v":{"$error":"#N/A"}},{"$f":"VLOOKUP(\"*\"&$N$2&\"*\",OFFSET(Sheet6!$B$2:$F$408,O41,0),5,FALSE)","v":{"$error":"#N/A"}}]
[null,null,null,null,null,null,null,null,null,null,null,null,41,{"$f":"VLOOKUP(\"*\"&$N$2&\"*\",OFFSET(Sheet6!$B$2:$F$408,O42,0),1,FALSE)","v":{"$error":"#N/A"}},{"$f":"VLOOKUP(\"*\"&$N$2&\"*\",OFFSET(Sheet6!$B$2:$F$408,O42,0),5,FALSE)","v":{"$error":"#N/A"}}]
[null,null,null,null,null,null,null,null,null,null,null,null,42,{"$f":"VLOOKUP(\"*\"&$N$2&\"*\",OFFSET(Sheet6!$B$2:$F$408,O43,0),1,FALSE)","v":{"$error":"#N/A"}},{"$f":"VLOOKUP(\"*\"&$N$2&\"*\",OFFSET(Sheet6!$B$2:$F$408,O43,0),5,FALSE)","v":{"$error":"#N/A"}}]
[null,null,null,null,null,null,null,null,null,null,null,null,43,{"$f":"VLOOKUP(\"*\"&$N$2&\"*\",OFFSET(Sheet6!$B$2:$F$408,O44,0),1,FALSE)","v":{"$error":"#N/A"}},{"$f":"VLOOKUP(\"*\"&$N$2&\"*\",OFFSET(Sheet6!$B$2:$F$408,O44,0),5,FALSE)","v":{"$error":"#N/A"}}]
[null,null,null,null,null,null,null,null,null,null,null,null,44,{"$f":"VLOOKUP(\"*\"&$N$2&\"*\",OFFSET(Sheet6!$B$2:$F$408,O45,0),1,FALSE)","v":{"$error":"#N/A"}},{"$f":"VLOOKUP(\"*\"&$N$2&\"*\",OFFSET(Sheet6!$B$2:$F$408,O45,0),5,FALSE)","v":{"$error":"#N/A"}}]
[null,null,null,null,null,null,null,null,null,null,null,null,45,{"$f":"VLOOKUP(\"*\"&$N$2&\"*\",OFFSET(Sheet6!$B$2:$F$408,O46,0),1,FALSE)","v":{"$error":"#N/A"}},{"$f":"VLOOKUP(\"*\"&$N$2&\"*\",OFFSET(Sheet6!$B$2:$F$408,O46,0),5,FALSE)","v":{"$error":"#N/A"}}]
[null,null,null,null,null,null,null,null,null,null,null,null,46,{"$f":"VLOOKUP(\"*\"&$N$2&\"*\",OFFSET(Sheet6!$B$2:$F$408,O47,0),1,FALSE)","v":{"$error":"#N/A"}},{"$f":"VLOOKUP(\"*\"&$N$2&\"*\",OFFSET(Sheet6!$B$2:$F$408,O47,0),5,FALSE)","v":{"$error":"#N/A"}}]
[null,null,null,null,null,null,null,null,null,null,null,null,47,{"$f":"VLOOKUP(\"*\"&$N$2&\"*\",OFFSET(Sheet6!$B$2:$F$408,O48,0),1,FALSE)","v":{"$error":"#N/A"}},{"$f":"VLOOKUP(\"*\"&$N$2&\"*\",OFFSET(Sheet6!$B$2:$F$408,O48,0),5,FALSE)","v":{"$error":"#N/A"}}]
[null,null,null,null,null,null,null,null,null,null,null,null,48,{"$f":"VLOOKUP(\"*\"&$N$2&\"*\",OFFSET(Sheet6!$B$2:$F$408,O49,0),1,FALSE)","v":{"$error":"#N/A"}},{"$f":"VLOOKUP(\"*\"&$N$2&\"*\",OFFSET(Sheet6!$B$2:$F$408,O49,0),5,FALSE)","v":{"$error":"#N/A"}}]
[null,null,null,null,null,null,null,null,null,null,null,null,49,{"$f":"VLOOKUP(\"*\"&$N$2&\"*\",OFFSET(Sheet6!$B$2:$F$408,O50,0),1,FALSE)","v":{"$error":"#N/A"}},{"$f":"VLOOKUP(\"*\"&$N$2&\"*\",OFFSET(Sheet6!$B$2:$F$408,O50,0),5,FALSE)","v":{"$error":"#N/A"}}]
[null,null,null,null,null,null,null,null,null,null,null,null,50,{"$f":"VLOOKUP(\"*\"&$N$2&\"*\",OFFSET(Sheet6!$B$2:$F$408,O51,0),1,FALSE)","v":{"$error":"#N/A"}},{"$f":"VLOOKUP(\"*\"&$N$2&\"*\",OFFSET(Sheet6!$B$2:$F$408,O51,0),5,FALSE)","v":{"$error":"#N/A"}}]
[null,null,null,null,null,null,null,null,null,null,null,null,51,{"$f":"VLOOKUP(\"*\"&$N$2&\"*\",OFFSET(Sheet6!$B$2:$F$408,O52,0),1,FALSE)","v":{"$error":"#N/A"}},{"$f":"VLOOKUP(\"*\"&$N$2&\"*\",OFFSET(Sheet6!$B$2:$F$408,O52,0),5,FALSE)","v":{"$error":"#N/A"}}]
[null,null,null,null,null,null,null,null,null,null,null,null,52,{"$f":"VLOOKUP(\"*\"&$N$2&\"*\",OFFSET(Sheet6!$B$2:$F$408,O53,0),1,FALSE)","v":{"$error":"#N/A"}},{"$f":"VLOOKUP(\"*\"&$N$2&\"*\",OFFSET(Sheet6!$B$2:$F$408,O53,0),5,FALSE)","v":{"$error":"#N/A"}}]
[null,null,null,null,null,null,null,null,null,null,null,null,53,{"$f":"VLOOKUP(\"*\"&$N$2&\"*\",OFFSET(Sheet6!$B$2:$F$408,O54,0),1,FALSE)","v":{"$error":"#N/A"}},{"$f":"VLOOKUP(\"*\"&$N$2&\"*\",OFFSET(Sheet6!$B$2:$F$408,O54,0),5,FALSE)","v":{"$error":"#N/A"}}]
[null,null,null,null,null,null,null,null,null,null,null,null,54,{"$f":"VLOOKUP(\"*\"&$N$2&\"*\",OFFSET(Sheet6!$B$2:$F$408,O55,0),1,FALSE)","v":{"$error":"#N/A"}},{"$f":"VLOOKUP(\"*\"&$N$2&\"*\",OFFSET(Sheet6!$B$2:$F$408,O55,0),5,FALSE)","v":{"$error":"#N/A"}}]
[null,null,null,null,null,null,null,null,null,null,null,null,55,{"$f":"VLOOKUP(\"*\"&$N$2&\"*\",OFFSET(Sheet6!$B$2:$F$408,O56,0),1,FALSE)","v":{"$error":"#N/A"}},{"$f":"VLOOKUP(\"*\"&$N$2&\"*\",OFFSET(Sheet6!$B$2:$F$408,O56,0),5,FALSE)","v":{"$error":"#N/A"}}]
[null,null,null,null,null,null,null,null,null,null,null,null,56,{"$f":"VLOOKUP(\"*\"&$N$2&\"*\",OFFSET(Sheet6!$B$2:$F$408,O57,0),1,FALSE)","v":{"$error":"#N/A"}},{"$f":"VLOOKUP(\"*\"&$N$2&\"*\",OFFSET(Sheet6!$B$2:$F$408,O57,0),5,FALSE)","v":{"$error":"#N/A"}}]
[null,null,null,null,null,null,null,null,null,null,null,null,57,{"$f":"VLOOKUP(\"*\"&$N$2&\"*\",OFFSET(Sheet6!$B$2:$F$408,O58,0),1,FALSE)","v":{"$error":"#N/A"}},{"$f":"VLOOKUP(\"*\"&$N$2&\"*\",OFFSET(Sheet6!$B$2:$F$408,O58,0),5,FALSE)","v":{"$error":"#N/A"}}]
[null,null,null,null,null,null,null,null,null,null,null,null,58,{"$f":"VLOOKUP(\"*\"&$N$2&\"*\",OFFSET(Sheet6!$B$2:$F$408,O59,0),1,FALSE)","v":{"$error":"#N/A"}},{"$f":"VLOOKUP(\"*\"&$N$2&\"*\",OFFSET(Sheet6!$B$2:$F$408,O59,0),5,FALSE)","v":{"$error":"#N/A"}}]
[null,null,null,null,null,null,null,null,null,null,null,null,59,{"$f":"VLOOKUP(\"*\"&$N$2&\"*\",OFFSET(Sheet6!$B$2:$F$408,O60,0),1,FALSE)","v":{"$error":"#N/A"}},{"$f":"VLOOKUP(\"*\"&$N$2&\"*\",OFFSET(Sheet6!$B$2:$F$408,O60,0),5,FALSE)","v":{"$error":"#N/A"}}]
[null,null,null,null,null,null,null,null,null,null,null,null,60,{"$f":"VLOOKUP(\"*\"&$N$2&\"*\",OFFSET(Sheet6!$B$2:$F$408,O61,0),1,FALSE)","v":{"$error":"#N/A"}},{"$f":"VLOOKUP(\"*\"&$N$2&\"*\",OFFSET(Sheet6!$B$2:$F$408,O61,0),5,FALSE)","v":{"$error":"#N/A"}}]
[null,null,null,null,null,null,null,null,null,null,null,null,61,{"$f":"VLOOKUP(\"*\"&$N$2&\"*\",OFFSET(Sheet6!$B$2:$F$408,O62,0),1,FALSE)","v":{"$error":"#N/A"}},{"$f":"VLOOKUP(\"*\"&$N$2&\"*\",OFFSET(Sheet6!$B$2:$F$408,O62,0),5,FALSE)","v":{"$error":"#N/A"}}]
[null,null,null,null,null,null,null,null,null,null,null,null,62,{"$f":"VLOOKUP(\"*\"&$N$2&\"*\",OFFSET(Sheet6!$B$2:$F$408,O63,0),1,FALSE)","v":{"$error":"#N/A"}},{"$f":"VLOOKUP(\"*\"&$N$2&\"*\",OFFSET(Sheet6!$B$2:$F$408,O63,0),5,FALSE)","v":{"$error":"#N/A"}}]
[null,null,null,null,null,null,null,null,null,null,null,null,63,{"$f":"VLOOKUP(\"*\"&$N$2&\"*\",OFFSET(Sheet6!$B$2:$F$408,O64,0),1,FALSE)","v":{"$error":"#N/A"}},{"$f":"VLOOKUP(\"*\"&$N$2&\"*\",OFFSET(Sheet6!$B$2:$F$408,O64,0),5,FALSE)","v":{"$error":"#N/A"}}]
[null,null,null,null,null,null,null,null,null,null,null,null,64,{"$f":"VLOOKUP(\"*\"&$N$2&\"*\",OFFSET(Sheet6!$B$2:$F$408,O65,0),1,FALSE)","v":{"$error":"#N/A"}},{"$f":"VLOOKUP(\"*\"&$N$2&\"*\",OFFSET(Sheet6!$B$2:$F$408,O65,0),5,FALSE)","v":{"$error":"#N/A"}}]
[null,null,null,null,null,null,null,null,null,null,null,null,65,{"$f":"VLOOKUP(\"*\"&$N$2&\"*\",OFFSET(Sheet6!$B$2:$F$408,O66,0),1,FALSE)","v":{"$error":"#N/A"}},{"$f":"VLOOKUP(\"*\"&$N$2&\"*\",OFFSET(Sheet6!$B$2:$F$408,O66,0),5,FALSE)","v":{"$error":"#N/A"}}]
[null,null,null,null,null,null,null,null,null,null,null,null,66,{"$f":"VLOOKUP(\"*\"&$N$2&\"*\",OFFSET(Sheet6!$B$2:$F$408,O67,0),1,FALSE)","v":{"$error":"#N/A"}},{"$f":"VLOOKUP(\"*\"&$N$2&\"*\",OFFSET(Sheet6!$B$2:$F$408,O67,0),5,FALSE)","v":{"$error":"#N/A"}}]
[null,null,null,null,null,null,null,null,null,null,null,null,67,{"$f":"VLOOKUP(\"*\"&$N$2&\"*\",OFFSET(Sheet6!$B$2:$F$408,O68,0),1,FALSE)","v":{"$error":"#N/A"}},{"$f":"VLOOKUP(\"*\"&$N$2&\"*\",OFFSET(Sheet6!$B$2:$F$408,O68,0),5,FALSE)","v":{"$error":"#N/A"}}]
[null,null,null,null,null,null,null,null,null,null,null,null,68,{"$f":"VLOOKUP(\"*\"&$N$2&\"*\",OFFSET(Sheet6!$B$2:$F$408,O69,0),1,FALSE)","v":{"$error":"#N/A"}},{"$f":"VLOOKUP(\"*\"&$N$2&\"*\",OFFSET(Sheet6!$B$2:$F$408,O69,0),5,FALSE)","v":{"$error":"#N/A"}}]
[null,null,null,null,null,null,null,null,null,null,null,null,69,{"$f":"VLOOKUP(\"*\"&$N$2&\"*\",OFFSET(Sheet6!$B$2:$F$408,O70,0),1,FALSE)","v":{"$error":"#N/A"}},{"$f":"VLOOKUP(\"*\"&$N$2&\"*\",OFFSET(Sheet6!$B$2:$F$408,O70,0),5,FALSE)","v":{"$error":"#N/A"}}]
[null,null,null,null,null,null,null,null,null,null,null,null,70,{"$f":"VLOOKUP(\"*\"&$N$2&\"*\",OFFSET(Sheet6!$B$2:$F$408,O71,0),1,FALSE)","v":{"$error":"#N/A"}},{"$f":"VLOOKUP(\"*\"&$N$2&\"*\",OFFSET(Sheet6!$B$2:$F$408,O71,0),5,FALSE)","v":{"$error":"#N/A"}}]
[null,null,null,null,null,null,null,null,null,null,null,null,71,{"$f":"VLOOKUP(\"*\"&$N$2&\"*\",OFFSET(Sheet6!$B$2:$F$408,O72,0),1,FALSE)","v":{"$error":"#N/A"}},{"$f":"VLOOKUP(\"*\"&$N$2&\"*\",OFFSET(Sheet6!$B$2:$F$408,O72,0),5,FALSE)","v":{"$error":"#N/A"}}]
[null,null,null,null,null,null,null,null,null,null,null,null,72,{"$f":"VLOOKUP(\"*\"&$N$2&\"*\",OFFSET(Sheet6!$B$2:$F$408,O73,0),1,FALSE)","v":{"$error":"#N/A"}},{"$f":"VLOOKUP(\"*\"&$N$2&\"*\",OFFSET(Sheet6!$B$2:$F$408,O73,0),5,FALSE)","v":{"$error":"#N/A"}}]
[null,null,null,null,null,null,null,null,null,null,null,null,73,{"$f":"VLOOKUP(\"*\"&$N$2&\"*\",OFFSET(Sheet6!$B$2:$F$408,O74,0),1,FALSE)","v":{"$error":"#N/A"}},{"$f":"VLOOKUP(\"*\"&$N$2&\"*\",OFFSET(Sheet6!$B$2:$F$408,O74,0),5,FALSE)","v":{"$error":"#N/A"}}]
[null,null,null,null,null,null,null,null,null,null,null,null,74,{"$f":"VLOOKUP(\"*\"&$N$2&\"*\",OFFSET(Sheet6!$B$2:$F$408,O75,0),1,FALSE)","v":{"$error":"#N/A"}},{"$f":"VLOOKUP(\"*\"&$N$2&\"*\",OFFSET(Sheet6!$B$2:$F$408,O75,0),5,FALSE)","v":{"$error":"#N/A"}}]

{"sheet":"②選手情報入力","index":3,"n_rows":105,"n_cols":47,"rows_kept":105,"cut":false,"hidden":false,"merged":[[2,13,2,20],[3,13,4,13],[8,1,8,2],[12,17,12,18],[13,17,13,18],[14,17,14,18],[15,17,15,18],[16,17,16,18],[8,17,8,18],[9,17,9,18],[10,17,10,18],[11,17,11,18],[3,19,3,20],[3,16,4,16],[8,4,8,5],[22,17,22,18],[23,17,23,18],[24,17,24,18],[25,17,25,18],[26,17,26,18],[17,17,17,18],[18,17,18,18],[19,17,19,18],[20,17,20,18],[21,17,21,18],[32,17,32,18],[33,17,33,18],[34,17,34,18],[35,17,35,18],[36,17,36,18],[27,17,27,18],[28,17,28,18],[29,17,29,18],[30,17,30,18],[31,17,31,18],[42,17,42,18],[43,17,43,18],[44,17,44,18],[45,17,45,18],[46,17,46,18],[37,17,37,18],[38,17,38,18],[39,17,39,18],[40,17,40,18],[41,17,41,18],[52,17,52,18],[53,17,53,18],[54,17,54,18],[55,17,55,18],[56,17,56,18],[47,17,47,18],[48,17,48,18],[49,17,49,18],[50,17,50,18],[51,17,51,18],[62,17,62,18],[63,17,63,18],[64,17,64,18],[65,17,65,18],[66,17,66,18],[57,17,57,18],[58,17,58,18],[59,17,59,18],[60,17,60,18],[61,17,61,18],[72,17,72,18],[73,17,73,18],[74,17,74,18],[75,17,75,18],[76,17,76,18],[67,17,67,18],[68,17,68,18],[69,17,69,18],[70,17,70,18],[71,17,71,18],[90,17,90,18],[91,17,91,18],[82,17,82,18],[83,17,83,18],[84,17,84,18],[85,17,85,18],[86,17,86,18],[77,17,77,18],[78,17,78,18],[79,17,79,18],[80,17,80,18],[81,17,81,18],[97,17,97,18],[98,17,98,18],[99,17,99,18],[3,17,3,18],[8,19,8,20],[9,19,9,20],[10,19,10,20],[11,19,11,20],[12,19,12,20],[13,19,13,20],[14,19,14,20],[15,19,15,20],[16,19,16,20],[17,19,17,20],[18,19,18,20],[19,19,19,20],[92,17,92,18],[93,17,93,18],[94,17,94,18],[95,17,95,18],[96,17,96,18],[87,17,87,18],[88,17,88,18],[89,17,89,18],[25,19,25,20],[26,19,26,20],[27,19,27,20],[28,19,28,20],[29,19,29,20],[20,19,20,20],[21,19,21,20],[22,19,22,20],[23,19,23,20],[24,19,24,20],[35,19,35,20],[36,19,36,20],[37,19,37,20],[38,19,38,20],[39,19,39,20],[30,19,30,20],[31,19,31,20],[32,19,32,20],[33,19,33,20],[34,19,34,20],[45,19,45,20],[46,19,46,20],[47,19,47,20],[48,19,48,20],[49,19,49,20],[40,19,40,20],[41,19,41,20],[42,19,42,20],[43,19,43,20],[44,19,44,20],[55,19,55,20],[56,19,56,20],[57,19,57,20],[58,19,58,20],[59,19,59,20],[50,19,50,20],[51,19,51,20],[52,19,52,20],[53,19,53,20],[54,19,54,20],[65,19,65,20],[66,19,66,20],[67,19,67,20],[68,19,68,20],[69,19,69,20],[60,19,60,20],[61,19,61,20],[62,19,62,20],[63,19,63,20],[64,19,64,20],[75,19,75,20],[76,19,76,20],[77,19,77,20],[78,19,78,20],[79,19,79,20],[70,19,70,20],[71,19,71,20],[72,19,72,20],[73,19,73,20],[74,19,74,20],[85,19,85,20],[86,19,86,20],[87,19,87,20],[88,19,88,20],[89,19,89,20],[80,19,80,20],[81,19,81,20],[82,19,82,20],[83,19,83,20],[84,19,84,20],[95,19,95,20],[96,19,96,20],[97,19,97,20],[98,19,98,20],[99,19,99,20],[90,19,90,20],[91,19,91,20],[92,19,92,20],[93,19,93,20],[94,19,94,20]]}
["③選手情報入力",null,null,null,{"$f":"IF(①団体情報入力!D5=\"\",\"\",①団体情報入力!D5)","v":""}]
[null,null,"絶対に、行を空けて入力しないでください。"]
[null,null,"※必要事項を全て入力してください。",null,null,null,null,null,null,null,null,null,null,"リレー記録"]
[null,null,"※リレー種目にエントリーをする場合は○を選択し、「③リレー情報確認」でメンバーを確認してください。",null,null,null,null,null,null,null,null,null,null,null,null,null,null,"4X100mR",null,"4X400mR"]
[null,null,"※ナンバーを入力してもリレーメンバーが反映されない場合、ナンバーのセルが文字列になっています。",null,null,null,null,null,null,null,null,null,null,null,null,null,null,"OP","記録","OP","記録"]
[null,null,"※コピーしたデータを貼り付ける場合は、「形式を選択して貼り付け」から「値」で貼り付けてください。",null,null,null,null,null,null,null,null,null,null,"男子",null,null,"男子"]
[null,null,"※データを修正する場合は、必ず「Delete」キーを使用してください。",null,null,null,null,null,null,null,null,null,null,"女子",null,null,"女子"]
[]
[null,"ﾅﾝﾊﾞｰ",null,"氏　名\n姓と名の間に\n全角ｽﾍﾟｰｽ1つ","英字名",null,"性別","学年","OP1","種目１","記録１","OP2","種目２","記録２","OP3","種目３","記録３","4X100mR",null,"4X400mR"]
["例","A",1234,"西三　太郎","英字(姓)NAGOYA","英字(名)taro","男",2,null,"男100m",12.53,null,"男砲丸投","12m00",null,"男1500m","4.35.67","○",null,"○",null,null,null,null,null,null,null,"ﾅﾝﾊﾞｰ","氏　名","ﾌﾘｶﾞﾅ","性別","学年","競技者NO","ﾅﾝﾊﾞｰ","氏　名","ﾌﾘｶﾞﾅ","性別","学年","競技者NO","男400R",{"$f":"COUNT(AO11:AO100)","v":0},"男1600R",{"$f":"COUNT(AQ11:AQ100)","v":0},"女400R",{"$f":"COUNT(AS11:AS100)","v":0},"女1600R",{"$f":"COUNT(AU11:AU100)","v":0}]
[1,{"$f":"IF(①団体情報入力!C9=\"\",\"\",IF(C11=\"\",\"\",①団体情報入力!C9))","v":""},null,null,null,null,null,null,null,null,null,null,null,null,null,null,null,null,null,null,null,null,null,null,null,null,null,{"$f":"IF(G11=\"男\",C11,\"\")","v":""},{"$f":"IF(G11=\"男\",D11,\"\")","v":""},{"$f":"IF(G11=\"男\",E11,\"\")","v":""},{"$f":"IF(G11=\"男\",G11,\"\")","v":""},{"$f":"IF(G11=\"男\",IF(H11=\"\",\"\",H11),\"\")","v":""},{"$f":"IF(G11=\"男\",data_kyogisha!A2,\"\")","v":""},{"$f":"IF(G11=\"女\",C11,\"\")","v":""},{"$f":"IF(G11=\"女\",D11,\"\")","v":""},{"$f":"IF(G11=\"女\",E11,\"\")","v":""},{"$f":"IF(G11=\"女\",G11,\"\")","v":""},{"$f":"IF(G11=\"女\",IF(H11=\"\",\"\",H11),\"\")","v":""},{"$f":"IF(G11=\"女\",data_kyogisha!A2,\"\")","v":""},{"$f":"IF(AND(G11=\"男\",R11=\"○\"),1,0)","v":0},{"$f":"IF(AND($G11=\"男\",$R11=\"○\"),$C11,\"\")","v":""},{"$f":"IF(AND(G11=\"男\",T11=\"○\"),1,0)","v":0},{"$f":"IF(AND($G11=\"男\",$T11=\"○\"),$C11,\"\")","v":""},{"$f":"IF(AND(G11=\"女\",R11=\"○\"),1,0)","v":0},{"$f":"IF(AND($G11=\"女\",$R11=\"○\"),$C11,\"\")","v":""},{"$f":"IF(AND(G11=\"女\",T11=\"○\"),1,0)","v":0},{"$f":"IF(AND($G11=\"女\",$T11=\"○\"),$C11,\"\")","v":""}]
[2,{"$f":"IF(①団体情報入力!C10=\"\",\"\",IF(C12=\"\",\"\",①団体情報入力!C10))","v":""},null,null,null,null,null,null,null,null,null,null,null,null,null,null,null,null,null,null,null,null,null,"男",{"$f":"IF(種目情報!A4=\"\",\"\",種目情報!A4)","v":"男100mA"},{"$f":"IF(種目情報!E4=\"\",\"\",種目情報!E4)","v":"女100mA"},"○","","","","","",{"$f":"IF(G12=\"男\",data_kyogisha!A3,\"\")","v":""},"","","","","",{"$f":"IF(G12=\"女\",data_kyogisha!A3,\"\")","v":""},{"$f":"IF(AND(G12=\"男\",R12=\"○\"),AN11+1,AN11)","v":0},{"$f":"IF(AND(G12=\"男\",R12=\"○\"),C12,\"\")","v":""},{"$f":"IF(AND(G12=\"男\",T12=\"○\"),AP11+1,AP11)","v":0},{"$f":"IF(AND(G12=\"男\",T12=\"○\"),C12,\"\")","v":""},{"$f":"IF(AND(G12=\"女\",R12=\"○\"),AR11+1,AR11)","v":0},"",{"$f":"IF(AND(G12=\"女\",T12=\"○\"),AT11+1,AT11)","v":0},""]
[3,{"$f":"IF(①団体情報入力!C11=\"\",\"\",IF(C13=\"\",\"\",①団体情報入力!C11))","v":""},null,null,null,null,null,null,null,null,null,null,null,null,null,null,null,null,null,null,null,null,null,"女",{"$f":"IF(種目情報!A5=\"\",\"\",種目情報!A5)","v":"男100mB"},{"$f":"IF(種目情報!E5=\"\",\"\",種目情報!E5)","v":"女100mB"},null,"","","","","",{"$f":"IF(G13=\"男\",data_kyogisha!A4,\"\")","v":""},"","","","","",{"$f":"IF(G13=\"女\",data_kyogisha!A4,\"\")","v":""},0,"",0,"",0,"",0,""]
[4,{"$f":"IF(①団体情報入力!C12=\"\",\"\",IF(C14=\"\",\"\",①団体情報入力!C12))","v":""},null,null,null,null,null,null,null,null,null,null,null,null,null,null,null,null,null,null,null,null,null,null,{"$f":"IF(種目情報!A6=\"\",\"\",種目情報!A6)","v":"男100mC"},{"$f":"IF(種目情報!E6=\"\",\"\",種目情報!E6)","v":"女100mC"},null,"","","","","",{"$f":"IF(G14=\"男\",data_kyogisha!A5,\"\")","v":""},"","","","","",{"$f":"IF(G14=\"女\",data_kyogisha!A5,\"\")","v":""},0,"",0,"",0,"",0,""]
[5,{"$f":"IF(①団体情報入力!C13=\"\",\"\",IF(C15=\"\",\"\",①団体情報入力!C13))","v":""},null,null,null,null,null,null,null,null,null,null,null,null,null,null,null,null,null,null,null,null,null,null,{"$f":"IF(種目情報!A7=\"\",\"\",種目情報!A7)","v":"男200mA"},{"$f":"IF(種目情報!E7=\"\",\"\",種目情報!E7)","v":"女200mA"},null,"","","","","",{"$f":"IF(G15=\"男\",data_kyogisha!A6,\"\")","v":""},"","","","","",{"$f":"IF(G15=\"女\",data_kyogisha!A6,\"\")","v":""},0,"",0,"",0,"",0,""]
[6,{"$f":"IF(①団体情報入力!C14=\"\",\"\",IF(C16=\"\",\"\",①団体情報入力!C14))","v":""},null,null,null,null,null,null,null,null,null,null,null,null,null,null,null,null,null,null,null,null,null,null,{"$f":"IF(種目情報!A8=\"\",\"\",種目情報!A8)","v":"男200mB"},{"$f":"IF(種目情報!E8=\"\",\"\",種目情報!E8)","v":"女200mB"},null,"","","","","",{"$f":"IF(G16=\"男\",data_kyogisha!A7,\"\")","v":""},"","","","","",{"$f":"IF(G16=\"女\",data_kyogisha!A7,\"\")","v":""},0,"",0,"",0,"",0,""]
[7,{"$f":"IF(①団体情報入力!C15=\"\",\"\",IF(C17=\"\",\"\",①団体情報入力!C15))","v":""},null,null,null,null,null,null,null,null,null,null,null,null,null,null,null,null,null,null,null,null,null,null,{"$f":"IF(種目情報!A9=\"\",\"\",種目情報!A9)","v":"男200mC"},{"$f":"IF(種目情報!E9=\"\",\"\",種目情報!E9)","v":"女200mC"},null,"","","","","",{"$f":"IF(G17=\"男\",data_kyogisha!A8,\"\")","v":""},"","","","","",{"$f":"IF(G17=\"女\",data_kyogisha!A8,\"\")","v":""},0,"",0,"",0,"",0,""]
[8,{"$f":"IF(①団体情報入力!C16=\"\",\"\",IF(C18=\"\",\"\",①団体情報入力!C16))","v":""},null,null,null,null,null,null,null,null,null,null,null,null,null,null,null,null,null,null,null,null,null,null,{"$f":"IF(種目情報!A10=\"\",\"\",種目情報!A10)","v":"男400mA"},{"$f":"IF(種目情報!E10=\"\",\"\",種目情報!E10)","v":"女400mA"},null,"","","","","",{"$f":"IF(G18=\"男\",data_kyogisha!A9,\"\")","v":""},"","","","","",{"$f":"IF(G18=\"女\",data_kyogisha!A9,\"\")","v":""},0,"",0,"",0,"",0,""]
[9,{"$f":"IF(①団体情報入力!C17=\"\",\"\",IF(C19=\"\",\"\",①団体情報入力!C17))","v":""},null,null,null,null,null,null,null,null,null,null,null,null,null,null,null,null,null,null,null,null,null,null,{"$f":"IF(種目情報!A11=\"\",\"\",種目情報!A11)","v":"男400mB"},{"$f":"IF(種目情報!E11=\"\",\"\",種目情報!E11)","v":"女400mB"},null,"","","","","",{"$f":"IF(G19=\"男\",data_kyogisha!A10,\"\")","v":""},"","","","","",{"$f":"IF(G19=\"女\",data_kyogisha!A10,\"\")","v":""},0,"",0,"",0,"",0,""]
[10,{"$f":"IF(①団体情報入力!C18=\"\",\"\",IF(C20=\"\",\"\",①団体情報入力!C18))","v":""},null,null,null,null,null,null,null,null,null,null,null,null,null,null,null,null,null,null,null,null,null,null,{"$f":"IF(種目情報!A12=\"\",\"\",種目情報!A12)","v":"男400mC"},{"$f":"IF(種目情報!E12=\"\",\"\",種目情報!E12)","v":"女400mC"},null,"","","","","",{"$f":"IF(G20=\"男\",data_kyogisha!A11,\"\")","v":""},"","","","","",{"$f":"IF(G20=\"女\",data_kyogisha!A11,\"\")","v":""},0,"",0,"",0,"",0,""]
[11,{"$f":"IF(①団体情報入力!C19=\"\",\"\",IF(C21=\"\",\"\",①団体情報入力!C19))","v":""},null,null,null,null,null,null,null,null,null,null,null,null,null,null,null,null,null,null,null,null,null,null,{"$f":"IF(種目情報!A13=\"\",\"\",種目情報!A13)","v":"男800mA"},{"$f":"IF(種目情報!E13=\"\",\"\",種目情報!E13)","v":"女800mA"},null,"","","","","",{"$f":"IF(G21=\"男\",data_kyogisha!A12,\"\")","v":""},"","","","","",{"$f":"IF(G21=\"女\",data_kyogisha!A12,\"\")","v":""},0,"",0,"",0,"",0,""]
[12,{"$f":"IF(①団体情報入力!C20=\"\",\"\",IF(C22=\"\",\"\",①団体情報入力!C20))","v":""},null,null,null,null,null,null,null,null,null,null,null,null,null,null,null,null,null,null,null,null,null,null,{"$f":"IF(種目情報!A14=\"\",\"\",種目情報!A14)","v":"男800mB"},{"$f":"IF(種目情報!E14=\"\",\"\",種目情報!E14)","v":"女800mB"},null,"","","","","",{"$f":"IF(G22=\"男\",data_kyogisha!A13,\"\")","v":""},"","","","","",{"$f":"IF(G22=\"女\",data_kyogisha!A13,\"\")","v":""},0,"",0,"",0,"",0,""]
[13,{"$f":"IF(①団体情報入力!C21=\"\",\"\",IF(C23=\"\",\"\",①団体情報入力!C21))","v":""},null,null,null,null,null,null,null,null,null,null,null,null,null,null,null,null,null,null,null,null,null,null,{"$f":"IF(種目情報!A15=\"\",\"\",種目情報!A15)","v":"男1500m"},{"$f":"IF(種目情報!E15=\"\",\"\",種目情報!E15)","v":"女1500m"},null,"","","","","",{"$f":"IF(G23=\"男\",data_kyogisha!A14,\"\")","v":""},"","","","","",{"$f":"IF(G23=\"女\",data_kyogisha!A14,\"\")","v":""},0,"",0,"",0,"",0,""]
[14,{"$f":"IF(①団体情報入力!C22=\"\",\"\",IF(C24=\"\",\"\",①団体情報入力!C22))","v":""},null,null,null,null,null,null,null,null,null,null,null,null,null,null,null,null,null,null,null,null,null,null,{"$f":"IF(種目情報!A16=\"\",\"\",種目情報!A16)","v":"男110mJH(0.991m)"},{"$f":"IF(種目情報!E16=\"\",\"\",種目情報!E16)","v":"女100mYH(0.762m/8.5m)"},null,"","","","","",{"$f":"IF(G24=\"男\",data_kyogisha!A15,\"\")","v":""},"","","","","",{"$f":"IF(G24=\"女\",data_kyogisha!A15,\"\")","v":""},0,"",0,"",0,"",0,""]
[15,{"$f":"IF(①団体情報入力!C23=\"\",\"\",IF(C25=\"\",\"\",①団体情報入力!C23))","v":""},null,null,null,null,null,null,null,null,null,null,null,null,null,null,null,null,null,null,null,null,null,null,{"$f":"IF(種目情報!A17=\"\",\"\",種目情報!A17)","v":"男110mH(1.067m)"},{"$f":"IF(種目情報!E17=\"\",\"\",種目情報!E17)","v":"女100mH(0.840m)"},null,"","","","","",{"$f":"IF(G25=\"男\",data_kyogisha!A16,\"\")","v":""},"","","","","",{"$f":"IF(G25=\"女\",data_kyogisha!A16,\"\")","v":""},0,"",0,"",0,"",0,""]
[16,{"$f":"IF(①団体情報入力!C24=\"\",\"\",IF(C26=\"\",\"\",①団体情報入力!C24))","v":""},null,null,null,null,null,null,null,null,null,null,null,null,null,null,null,null,null,null,null,null,null,null,{"$f":"IF(種目情報!A18=\"\",\"\",種目情報!A18)","v":"男400mH(0.914m)"},{"$f":"IF(種目情報!E18=\"\",\"\",種目情報!E18)","v":"女400mH(0.762m)"},null,"","","","","",{"$f":"IF(G26=\"男\",data_kyogisha!A17,\"\")","v":""},"","","","","",{"$f":"IF(G26=\"女\",data_kyogisha!A17,\"\")","v":""},0,"",0,"",0,"",0,""]
[17,{"$f":"IF(①団体情報入力!C25=\"\",\"\",IF(C27=\"\",\"\",①団体情報入力!C25))","v":""},null,null,null,null,null,null,null,null,null,null,null,null,null,null,null,null,null,null,null,null,null,null,{"$f":"IF(種目情報!A19=\"\",\"\",種目情報!A19)","v":"男走高跳"},{"$f":"IF(種目情報!E19=\"\",\"\",種目情報!E19)","v":"女走高跳"},null,"","","","","",{"$f":"IF(G27=\"男\",data_kyogisha!A18,\"\")","v":""},"","","","","",{"$f":"IF(G27=\"女\",data_kyogisha!A18,\"\")","v":""},0,"",0,"",0,"",0,""]
[18,{"$f":"IF(①団体情報入力!C26=\"\",\"\",IF(C28=\"\",\"\",①団体情報入力!C26))","v":""},null,null,null,null,null,null,null,null,null,null,null,null,null,null,null,null,null,null,null,null,null,null,{"$f":"IF(種目情報!A20=\"\",\"\",種目情報!A20)","v":"男棒高跳"},{"$f":"IF(種目情報!E20=\"\",\"\",種目情報!E20)","v":"女棒高跳"},null,"","","","","",{"$f":"IF(G28=\"男\",data_kyogisha!A19,\"\")","v":""},"","","","","",{"$f":"IF(G28=\"女\",data_kyogisha!A19,\"\")","v":""},0,"",0,"",0,"",0,""]
[19,{"$f":"IF(①団体情報入力!C27=\"\",\"\",IF(C29=\"\",\"\",①団体情報入力!C27))","v":""},null,null,null,null,null,null,null,null,null,null,null,null,null,null,null,null,null,null,null,null,null,null,{"$f":"IF(種目情報!A21=\"\",\"\",種目情報!A21)","v":"男走幅跳A"},{"$f":"IF(種目情報!E21=\"\",\"\",種目情報!E21)","v":"女走幅跳A"},null,"","","","","",{"$f":"IF(G29=\"男\",data_kyogisha!A20,\"\")","v":""},"","","","","",{"$f":"IF(G29=\"女\",data_kyogisha!A20,\"\")","v":""},0,"",0,"",0,"",0,""]
[20,{"$f":"IF(①団体情報入力!C28=\"\",\"\",IF(C30=\"\",\"\",①団体情報入力!C28))","v":""},null,null,null,null,null,null,null,null,null,null,null,null,null,null,null,null,null,null,null,null,null,null,{"$f":"IF(種目情報!A22=\"\",\"\",種目情報!A22)","v":"男走幅跳B"},{"$f":"IF(種目情報!E22=\"\",\"\",種目情報!E22)","v":"女走幅跳B"},null,"","","","","",{"$f":"IF(G30=\"男\",data_kyogisha!A21,\"\")","v":""},"","","","","",{"$f":"IF(G30=\"女\",data_kyogisha!A21,\"\")","v":""},0,"",0,"",0,"",0,""]
[21,{"$f":"IF(①団体情報入力!C29=\"\",\"\",IF(C31=\"\",\"\",①団体情報入力!C29))","v":""},null,null,null,null,null,null,null,null,null,null,null,null,null,null,null,null,null,null,null,null,null,null,{"$f":"IF(種目情報!A23=\"\",\"\",種目情報!A23)","v":"男走幅跳C"},{"$f":"IF(種目情報!E23=\"\",\"\",種目情報!E23)","v":"女走幅跳C"},null,"","","","","",{"$f":"IF(G31=\"男\",data_kyogisha!A22,\"\")","v":""},"","","","","",{"$f":"IF(G31=\"女\",data_kyogisha!A22,\"\")","v":""},0,"",0,"",0,"",0,""]
[22,{"$f":"IF(①団体情報入力!C30=\"\",\"\",IF(C32=\"\",\"\",①団体情報入力!C30))","v":""},null,null,null,null,null,null,null,null,null,null,null,null,null,null,null,null,null,null,null,null,null,null,{"$f":"IF(種目情報!A24=\"\",\"\",種目情報!A24)","v":"男三段跳"},{"$f":"IF(種目情報!E24=\"\",\"\",種目情報!E24)","v":"女三段跳"},null,"","","","","",{"$f":"IF(G32=\"男\",data_kyogisha!A23,\"\")","v":""},"","","","","",{"$f":"IF(G32=\"女\",data_kyogisha!A23,\"\")","v":""},0,"",0,"",0,"",0,""]
[23,{"$f":"IF(①団体情報入力!C31=\"\",\"\",IF(C33=\"\",\"\",①団体情報入力!C31))","v":""},null,null,null,null,null,null,null,null,null,null,null,null,null,null,null,null,null,null,null,null,null,null,{"$f":"IF(種目情報!A25=\"\",\"\",種目情報!A25)","v":"男砲丸投(7.260kg)"},{"$f":"IF(種目情報!E25=\"\",\"\",種目情報!E25)","v":"女砲丸投(4.000kg)"},null,"","","","","",{"$f":"IF(G33=\"男\",data_kyogisha!A24,\"\")","v":""},"","","","","",{"$f":"IF(G33=\"女\",data_kyogisha!A24,\"\")","v":""},0,"",0,"",0,"",0,""]
[24,{"$f":"IF(①団体情報入力!C32=\"\",\"\",IF(C34=\"\",\"\",①団体情報入力!C32))","v":""},null,null,null,null,null,null,null,null,null,null,null,null,null,null,null,null,null,null,null,null,null,null,{"$f":"IF(種目情報!A26=\"\",\"\",種目情報!A26)","v":"男円盤投(2.000kg)"},{"$f":"IF(種目情報!E26=\"\",\"\",種目情報!E26)","v":"女円盤投(1.000kg)"},null,"","","","","",{"$f":"IF(G34=\"男\",data_kyogisha!A25,\"\")","v":""},"","","","","",{"$f":"IF(G34=\"女\",data_kyogisha!A25,\"\")","v":""},0,"",0,"",0,"",0,""]
[25,{"$f":"IF(①団体情報入力!C33=\"\",\"\",IF(C35=\"\",\"\",①団体情報入力!C33))","v":""},null,null,null,null,null,null,null,null,null,null,null,null,null,null,null,null,null,null,null,null,null,null,{"$f":"IF(種目情報!A27=\"\",\"\",種目情報!A27)","v":"男ハンマー投(7.260kg)"},{"$f":"IF(種目情報!E27=\"\",\"\",種目情報!E27)","v":"女ハンマー投(4.000kg)"},null,"","","","","",{"$f":"IF(G35=\"男\",data_kyogisha!A26,\"\")","v":""},"","","","","",{"$f":"IF(G35=\"女\",data_kyogisha!A26,\"\")","v":""},0,"",0,"",0,"",0,""]
[26,{"$f":"IF(①団体情報入力!C34=\"\",\"\",IF(C36=\"\",\"\",①団体情報入力!C34))","v":""},null,null,null,null,null,null,null,null,null,null,null,null,null,null,null,null,null,null,null,null,null,null,{"$f":"IF(種目情報!A28=\"\",\"\",種目情報!A28)","v":"男やり投A(0.800kg)"},{"$f":"IF(種目情報!E28=\"\",\"\",種目情報!E28)","v":"女やり投A(0.600kg)"},null,"","","","","",{"$f":"IF(G36=\"男\",data_kyogisha!A27,\"\")","v":""},"","","","","",{"$f":"IF(G36=\"女\",data_kyogisha!A27,\"\")","v":""},0,"",0,"",0,"",0,""]
[27,{"$f":"IF(①団体情報入力!C35=\"\",\"\",IF(C37=\"\",\"\",①団体情報入力!C35))","v":""},null,null,null,null,null,null,null,null,null,null,null,null,null,null,null,null,null,null,null,null,null,null,{"$f":"IF(種目情報!A29=\"\",\"\",種目情報!A29)","v":"男やり投B(0.800kg)"},{"$f":"IF(種目情報!E29=\"\",\"\",種目情報!E29)","v":"女やり投B(0.600kg)"},null,"","","","","",{"$f":"IF(G37=\"男\",data_kyogisha!A28,\"\")","v":""},"","","","","",{"$f":"IF(G37=\"女\",data_kyogisha!A28,\"\")","v":""},0,"",0,"",0,"",0,""]
[28,{"$f":"IF(①団体情報入力!C36=\"\",\"\",IF(C38=\"\",\"\",①団体情報入力!C36))","v":""},null,null,null,null,null,null,null,null,null,null,null,null,null,null,null,null,null,null,null,null,null,null,null,null,null,"","","","","",{"$f":"IF(G38=\"男\",data_kyogisha!A29,\"\")","v":""},"","","","","",{"$f":"IF(G38=\"女\",data_kyogisha!A29,\"\")","v":""},0,"",0,"",0,"",0,""]
[29,{"$f":"IF(①団体情報入力!C37=\"\",\"\",IF(C39=\"\",\"\",①団体情報入力!C37))","v":""},null,null,null,null,null,null,null,null,null,null,null,null,null,null,null,null,null,null,null,null,null,null,null,null,null,"","","","","",{"$f":"IF(G39=\"男\",data_kyogisha!A30,\"\")","v":""},"","","","","",{"$f":"IF(G39=\"女\",data_kyogisha!A30,\"\")","v":""},0,"",0,"",0,"",0,""]
[30,{"$f":"IF(①団体情報入力!C38=\"\",\"\",IF(C40=\"\",\"\",①団体情報入力!C38))","v":""},null,null,null,null,null,null,null,null,null,null,null,null,null,null,null,null,null,null,null,null,null,null,null,null,null,"","","","","",{"$f":"IF(G40=\"男\",data_kyogisha!A31,\"\")","v":""},"","","","","",{"$f":"IF(G40=\"女\",data_kyogisha!A31,\"\")","v":""},0,"",0,"",0,"",0,""]
[31,{"$f":"IF(①団体情報入力!C39=\"\",\"\",IF(C41=\"\",\"\",①団体情報入力!C39))","v":""},null,null,null,null,null,null,null,null,null,null,null,null,null,null,null,null,null,null,null,null,null,null,null,null,null,"","","","","",{"$f":"IF(G41=\"男\",data_kyogisha!A32,\"\")","v":""},"","","","","",{"$f":"IF(G41=\"女\",data_kyogisha!A32,\"\")","v":""},0,"",0,"",0,"",0,""]
[32,{"$f":"IF(①団体情報入力!C40=\"\",\"\",IF(C42=\"\",\"\",①団体情報入力!C40))","v":""},null,null,null,null,null,null,null,null,null,null,null,null,null,null,null,null,null,null,null,null,null,null,null,null,null,"","","","","",{"$f":"IF(G42=\"男\",data_kyogisha!A33,\"\")","v":""},"","","","","",{"$f":"IF(G42=\"女\",data_kyogisha!A33,\"\")","v":""},0,"",0,"",0,"",0,""]
[33,{"$f":"IF(①団体情報入力!C41=\"\",\"\",IF(C43=\"\",\"\",①団体情報入力!C41))","v":""},null,null,null,null,null,null,null,null,null,null,null,null,null,null,null,null,null,null,null,null,null,null,null,null,null,{"$f":"IF(G43=\"男\",C43,\"\")","v":""},{"$f":"IF(G43=\"男\",D43,\"\")","v":""},{"$f":"IF(G43=\"男\",E43,\"\")","v":""},{"$f":"IF(G43=\"男\",G43,\"\")","v":""},{"$f":"IF(G43=\"男\",IF(H43=\"\",\"\",H43),\"\")","v":""},{"$f":"IF(G43=\"男\",data_kyogisha!A34,\"\")","v":""},{"$f":"IF(G43=\"女\",C43,\"\")","v":""},{"$f":"IF(G43=\"女\",D43,\"\")","v":""},{"$f":"IF(G43=\"女\",E43,\"\")","v":""},{"$f":"IF(G43=\"女\",G43,\"\")","v":""},{"$f":"IF(G43=\"女\",IF(H43=\"\",\"\",H43),\"\")","v":""},{"$f":"IF(G43=\"女\",data_kyogisha!A34,\"\")","v":""},0,"",0,"",0,{"$f":"IF(AND($G43=\"女\",$R43=\"○\"),$C43,\"\")","v":""},0,{"$f":"IF(AND($G43=\"女\",$T43=\"○\"),$C43,\"\")","v":""}]
[34,{"$f":"IF(①団体情報入力!C42=\"\",\"\",IF(C44=\"\",\"\",①団体情報入力!C42))","v":""},null,null,null,null,null,null,null,null,null,null,null,null,null,null,null,null,null,null,null,null,null,null,null,null,null,"","","","","",{"$f":"IF(G44=\"男\",data_kyogisha!A35,\"\")","v":""},"","","","","",{"$f":"IF(G44=\"女\",data_kyogisha!A35,\"\")","v":""},{"$f":"IF(AND(G44=\"男\",R44=\"○\"),AN43+1,AN43)","v":0},{"$f":"IF(AND(G44=\"男\",R44=\"○\"),C44,\"\")","v":""},{"$f":"IF(AND(G44=\"男\",T44=\"○\"),AP43+1,AP43)","v":0},{"$f":"IF(AND(G44=\"男\",T44=\"○\"),C44,\"\")","v":""},{"$f":"IF(AND(G44=\"女\",R44=\"○\"),AR43+1,AR43)","v":0},"",{"$f":"IF(AND(G44=\"女\",T44=\"○\"),AT43+1,AT43)","v":0},""]
[35,{"$f":"IF(①団体情報入力!C43=\"\",\"\",IF(C45=\"\",\"\",①団体情報入力!C43))","v":""},null,null,null,null,null,null,null,null,null,null,null,null,null,null,null,null,null,null,null,null,null,null,null,null,null,"","","","","",{"$f":"IF(G45=\"男\",data_kyogisha!A36,\"\")","v":""},"","","","","",{"$f":"IF(G45=\"女\",data_kyogisha!A36,\"\")","v":""},0,"",0,"",0,"",0,""]
[36,{"$f":"IF(①団体情報入力!C44=\"\",\"\",IF(C46=\"\",\"\",①団体情報入力!C44))","v":""},null,null,null,null,null,null,null,null,null,null,null,null,null,null,null,null,null,null,null,null,null,null,null,null,null,"","","","","",{"$f":"IF(G46=\"男\",data_kyogisha!A37,\"\")","v":""},"","","","","",{"$f":"IF(G46=\"女\",data_kyogisha!A37,\"\")","v":""},0,"",0,"",0,"",0,""]
[37,{"$f":"IF(①団体情報入力!C45=\"\",\"\",IF(C47=\"\",\"\",①団体情報入力!C45))","v":""},null,null,null,null,null,null,null,null,null,null,null,null,null,null,null,null,null,null,null,null,null,null,null,null,null,"","","","","",{"$f":"IF(G47=\"男\",data_kyogisha!A38,\"\")","v":""},"","","","","",{"$f":"IF(G47=\"女\",data_kyogisha!A38,\"\")","v":""},0,"",0,"",0,"",0,""]
[38,{"$f":"IF(①団体情報入力!C46=\"\",\"\",IF(C48=\"\",\"\",①団体情報入力!C46))","v":""},null,null,null,null,null,null,null,null,null,null,null,null,null,null,null,null,null,null,null,null,null,null,{"$f":"IF(種目情報!A34=\"\",\"\",種目情報!A34)","v":""},{"$f":"IF(種目情報!E34=\"\",\"\",種目情報!E34)","v":""},null,"","","","","",{"$f":"IF(G48=\"男\",data_kyogisha!A39,\"\")","v":""},"","","","","",{"$f":"IF(G48=\"女\",data_kyogisha!A39,\"\")","v":""},0,"",0,"",0,"",0,""]
[39,{"$f":"IF(①団体情報入力!C47=\"\",\"\",IF(C49=\"\",\"\",①団体情報入力!C47))","v":""},null,null,null,null,null,null,null,null,null,null,null,null,null,null,null,null,null,null,null,null,null,null,{"$f":"IF(種目情報!A35=\"\",\"\",種目情報!A35)","v":""},{"$f":"IF(種目情報!E35=\"\",\"\",種目情報!E35)","v":""},null,"","","","","",{"$f":"IF(G49=\"男\",data_kyogisha!A40,\"\")","v":""},"","","","","",{"$f":"IF(G49=\"女\",data_kyogisha!A40,\"\")","v":""},0,"",0,"",0,"",0,""]
[40,{"$f":"IF(①団体情報入力!C48=\"\",\"\",IF(C50=\"\",\"\",①団体情報入力!C48))","v":""},null,null,null,null,null,null,null,null,null,null,null,null,null,null,null,null,null,null,null,null,null,null,{"$f":"IF(種目情報!A36=\"\",\"\",種目情報!A36)","v":""},{"$f":"IF(種目情報!E36=\"\",\"\",種目情報!E36)","v":""},null,"","","","","",{"$f":"IF(G50=\"男\",data_kyogisha!A41,\"\")","v":""},"","","","","",{"$f":"IF(G50=\"女\",data_kyogisha!A41,\"\")","v":""},0,"",0,"",0,"",0,""]
[41,{"$f":"IF(①団体情報入力!C49=\"\",\"\",IF(C51=\"\",\"\",①団体情報入力!C49))","v":""},null,null,null,null,null,null,null,null,null,null,null,null,null,null,null,null,null,null,null,null,null,null,{"$f":"IF(種目情報!A37=\"\",\"\",種目情報!A37)","v":""},{"$f":"IF(種目情報!E37=\"\",\"\",種目情報!E37)","v":""},null,"","","","","",{"$f":"IF(G51=\"男\",data_kyogisha!A42,\"\")","v":""},"","","","","",{"$f":"IF(G51=\"女\",data_kyogisha!A42,\"\")","v":""},0,"",0,"",0,"",0,""]
[42,{"$f":"IF(①団体情報入力!C50=\"\",\"\",IF(C52=\"\",\"\",①団体情報入力!C50))","v":""},null,null,null,null,null,null,null,null,null,null,null,null,null,null,null,null,null,null,null,null,null,null,{"$f":"IF(種目情報!A38=\"\",\"\",種目情報!A38)","v":""},{"$f":"IF(種目情報!E38=\"\",\"\",種目情報!E38)","v":""},null,"","","","","",{"$f":"IF(G52=\"男\",data_kyogisha!A43,\"\")","v":""},"","","","","",{"$f":"IF(G52=\"女\",data_kyogisha!A43,\"\")","v":""},0,"",0,"",0,"",0,""]
[43,{"$f":"IF(①団体情報入力!C51=\"\",\"\",IF(C53=\"\",\"\",①団体情報入力!C51))","v":""},null,null,null,null,null,null,null,null,null,null,null,null,null,null,null,null,null,null,null,null,null,null,{"$f":"IF(種目情報!A39=\"\",\"\",種目情報!A39)","v":""},{"$f":"IF(種目情報!E39=\"\",\"\",種目情報!E39)","v":""},null,"","","","","",{"$f":"IF(G53=\"男\",data_kyogisha!A44,\"\")","v":""},"","","","","",{"$f":"IF(G53=\"女\",data_kyogisha!A44,\"\")","v":""},0,"",0,"",0,"",0,""]
[44,{"$f":"IF(①団体情報入力!C52=\"\",\"\",IF(C54=\"\",\"\",①団体情報入力!C52))","v":""},null,null,null,null,null,null,null,null,null,null,null,null,null,null,null,null,null,null,null,null,null,null,{"$f":"IF(種目情報!A40=\"\",\"\",種目情報!A40)","v":""},{"$f":"IF(種目情報!E40=\"\",\"\",種目情報!E40)","v":""},null,"","","","","",{"$f":"IF(G54=\"男\",data_kyogisha!A45,\"\")","v":""},"","","","","",{"$f":"IF(G54=\"女\",data_kyogisha!A45,\"\")","v":""},0,"",0,"",0,"",0,""]
[45,{"$f":"IF(①団体情報入力!C53=\"\",\"\",IF(C55=\"\",\"\",①団体情報入力!C53))","v":""},null,null,null,null,null,null,null,null,null,null,null,null,null,null,null,null,null,null,null,null,null,null,{"$f":"IF(種目情報!A41=\"\",\"\",種目情報!A41)","v":""},{"$f":"IF(種目情報!E41=\"\",\"\",種目情報!E41)","v":""},null,"","","","","",{"$f":"IF(G55=\"男\",data_kyogisha!A46,\"\")","v":""},"","","","","",{"$f":"IF(G55=\"女\",data_kyogisha!A46,\"\")","v":""},0,"",0,"",0,"",0,""]
[46,{"$f":"IF(①団体情報入力!C54=\"\",\"\",IF(C56=\"\",\"\",①団体情報入力!C54))","v":""},null,null,null,null,null,null,null,null,null,null,null,null,null,null,null,null,null,null,null,null,null,null,{"$f":"IF(種目情報!A42=\"\",\"\",種目情報!A42)","v":""},{"$f":"IF(種目情報!E42=\"\",\"\",種目情報!E42)","v":""},null,"","","","","",{"$f":"IF(G56=\"男\",data_kyogisha!A47,\"\")","v":""},"","","","","",{"$f":"IF(G56=\"女\",data_kyogisha!A47,\"\")","v":""},0,"",0,"",0,"",0,""]
[47,{"$f":"IF(①団体情報入力!C55=\"\",\"\",IF(C57=\"\",\"\",①団体情報入力!C55))","v":""},null,null,null,null,null,null,null,null,null,null,null,null,null,null,null,null,null,null,null,null,null,null,null,null,null,"","","","","",{"$f":"IF(G57=\"男\",data_kyogisha!A48,\"\")","v":""},"","","","","",{"$f":"IF(G57=\"女\",data_kyogisha!A48,\"\")","v":""},0,"",0,"",0,"",0,""]
[48,{"$f":"IF(①団体情報入力!C56=\"\",\"\",IF(C58=\"\",\"\",①団体情報入力!C56))","v":""},null,null,null,null,null,null,null,null,null,null,null,null,null,null,null,null,null,null,null,null,null,null,null,null,null,"","","","","",{"$f":"IF(G58=\"男\",data_kyogisha!A49,\"\")","v":""},"","","","","",{"$f":"IF(G58=\"女\",data_kyogisha!A49,\"\")","v":""},0,"",0,"",0,"",0,""]
[49,{"$f":"IF(①団体情報入力!C57=\"\",\"\",IF(C59=\"\",\"\",①団体情報入力!C57))","v":""},null,null,null,null,null,null,null,null,null,null,null,null,null,null,null,null,null,null,null,null,null,null,null,null,null,"","","","","",{"$f":"IF(G59=\"男\",data_kyogisha!A50,\"\")","v":""},"","","","","",{"$f":"IF(G59=\"女\",data_kyogisha!A50,\"\")","v":""},0,"",0,"",0,"",0,""]
[50,{"$f":"IF(①団体情報入力!C58=\"\",\"\",IF(C60=\"\",\"\",①団体情報入力!C58))","v":""},null,null,null,null,null,null,null,null,null,null,null,null,null,null,null,null,null,null,null,null,null,null,null,null,null,"","","","","",{"$f":"IF(G60=\"男\",data_kyogisha!A51,\"\")","v":""},"","","","","",{"$f":"IF(G60=\"女\",data_kyogisha!A51,\"\")","v":""},0,"",0,"",0,"",0,""]
[51,{"$f":"IF(①団体情報入力!C59=\"\",\"\",IF(C61=\"\",\"\",①団体情報入力!C59))","v":""},null,null,null,null,null,null,null,null,null,null,null,null,null,null,null,null,null,null,null,null,null,null,null,null,null,"","","","","",{"$f":"IF(G61=\"男\",data_kyogisha!A52,\"\")","v":""},"","","","","",{"$f":"IF(G61=\"女\",data_kyogisha!A52,\"\")","v":""},0,"",0,"",0,"",0,""]
[52,{"$f":"IF(①団体情報入力!C60=\"\",\"\",IF(C62=\"\",\"\",①団体情報入力!C60))","v":""},null,null,null,null,null,null,null,null,null,null,null,null,null,null,null,null,null,null,null,null,null,null,null,null,null,"","","","","",{"$f":"IF(G62=\"男\",data_kyogisha!A53,\"\")","v":""},"","","","","",{"$f":"IF(G62=\"女\",data_kyogisha!A53,\"\")","v":""},0,"",0,"",0,"",0,""]
[53,{"$f":"IF(①団体情報入力!C61=\"\",\"\",IF(C63=\"\",\"\",①団体情報入力!C61))","v":""},null,null,null,null,null,null,null,null,null,null,null,null,null,null,null,null,null,null,null,null,null,null,null,null,null,"","","","","",{"$f":"IF(G63=\"男\",data_kyogisha!A54,\"\")","v":""},"","","","","",{"$f":"IF(G63=\"女\",data_kyogisha!A54,\"\")","v":""},0,"",0,"",0,"",0,""]
[54,{"$f":"IF(①団体情報入力!C62=\"\",\"\",IF(C64=\"\",\"\",①団体情報入力!C62))","v":""},null,null,null,null,null,null,null,null,null,null,null,null,null,null,null,null,null,null,null,null,null,null,null,null,null,"","","","","",{"$f":"IF(G64=\"男\",data_kyogisha!A55,\"\")","v":""},"","","","","",{"$f":"IF(G64=\"女\",data_kyogisha!A55,\"\")","v":""},0,"",0,"",0,"",0,""]
[55,{"$f":"IF(①団体情報入力!C63=\"\",\"\",IF(C65=\"\",\"\",①団体情報入力!C63))","v":""},null,null,null,null,null,null,null,null,null,null,null,null,null,null,null,null,null,null,null,null,null,null,null,null,null,"","","","","",{"$f":"IF(G65=\"男\",data_kyogisha!A56,\"\")","v":""},"","","","","",{"$f":"IF(G65=\"女\",data_kyogisha!A56,\"\")","v":""},0,"",0,"",0,"",0,""]
[56,{"$f":"IF(①団体情報入力!C64=\"\",\"\",IF(C66=\"\",\"\",①団体情報入力!C64))","v":""},null,null,null,null,null,null,null,null,null,null,null,null,null,null,null,null,null,null,null,null,null,null,null,null,null,"","","","","",{"$f":"IF(G66=\"男\",data_kyogisha!A57,\"\")","v":""},"","","","","",{"$f":"IF(G66=\"女\",data_kyogisha!A57,\"\")","v":""},0,"",0,"",0,"",0,""]
[57,{"$f":"IF(①団体情報入力!C65=\"\",\"\",IF(C67=\"\",\"\",①団体情報入力!C65))","v":""},null,null,null,null,null,null,null,null,null,null,null,null,null,null,null,null,null,null,null,null,null,null,null,null,null,"","","","","",{"$f":"IF(G67=\"男\",data_kyogisha!A58,\"\")","v":""},"","","","","",{"$f":"IF(G67=\"女\",data_kyogisha!A58,\"\")","v":""},0,"",0,"",0,"",0,""]
[58,{"$f":"IF(①団体情報入力!C66=\"\",\"\",IF(C68=\"\",\"\",①団体情報入力!C66))","v":""},null,null,null,null,null,null,null,null,null,null,null,null,null,null,null,null,null,null,null,null,null,null,null,null,null,"","","","","",{"$f":"IF(G68=\"男\",data_kyogisha!A59,\"\")","v":""},"","","","","",{"$f":"IF(G68=\"女\",data_kyogisha!A59,\"\")","v":""},0,"",0,"",0,"",0,""]
[59,{"$f":"IF(①団体情報入力!C67=\"\",\"\",IF(C69=\"\",\"\",①団体情報入力!C67))","v":""},null,null,null,null,null,null,null,null,null,null,null,null,null,null,null,null,null,null,null,null,null,null,null,null,null,"","","","","",{"$f":"IF(G69=\"男\",data_kyogisha!A60,\"\")","v":""},"","","","","",{"$f":"IF(G69=\"女\",data_kyogisha!A60,\"\")","v":""},0,"",0,"",0,"",0,""]
[60,{"$f":"IF(①団体情報入力!C68=\"\",\"\",IF(C70=\"\",\"\",①団体情報入力!C68))","v":""},null,null,null,null,null,null,null,null,null,null,null,null,null,null,null,null,null,null,null,null,null,null,null,null,null,"","","","","",{"$f":"IF(G70=\"男\",data_kyogisha!A61,\"\")","v":""},"","","","","",{"$f":"IF(G70=\"女\",data_kyogisha!A61,\"\")","v":""},0,"",0,"",0,"",0,""]
[61,{"$f":"IF(①団体情報入力!C69=\"\",\"\",IF(C71=\"\",\"\",①団体情報入力!C69))","v":""},null,null,null,null,null,null,null,null,null,null,null,null,null,null,null,null,null,null,null,null,null,null,null,null,null,"","","","","",{"$f":"IF(G71=\"男\",data_kyogisha!A62,\"\")","v":""},"","","","","",{"$f":"IF(G71=\"女\",data_kyogisha!A62,\"\")","v":""},0,"",0,"",0,"",0,""]
[62,{"$f":"IF(①団体情報入力!C70=\"\",\"\",IF(C72=\"\",\"\",①団体情報入力!C70))","v":""},null,null,null,null,null,null,null,null,null,null,null,null,null,null,null,null,null,null,null,null,null,null,null,null,null,"","","","","",{"$f":"IF(G72=\"男\",data_kyogisha!A63,\"\")","v":""},"","","","","",{"$f":"IF(G72=\"女\",data_kyogisha!A63,\"\")","v":""},0,"",0,"",0,"",0,""]
[63,{"$f":"IF(①団体情報入力!C71=\"\",\"\",IF(C73=\"\",\"\",①団体情報入力!C71))","v":""},null,null,null,null,null,null,null,null,null,null,null,null,null,null,null,null,null,null,null,null,null,null,null,null,null,"","","","","",{"$f":"IF(G73=\"男\",data_kyogisha!A64,\"\")","v":""},"","","","","",{"$f":"IF(G73=\"女\",data_kyogisha!A64,\"\")","v":""},0,"",0,"",0,"",0,""]
[64,{"$f":"IF(①団体情報入力!C72=\"\",\"\",IF(C74=\"\",\"\",①団体情報入力!C72))","v":""},null,null,null,null,null,null,null,null,null,null,null,null,null,null,null,null,null,null,null,null,null,null,null,null,null,"","","","","",{"$f":"IF(G74=\"男\",data_kyogisha!A65,\"\")","v":""},"","","","","",{"$f":"IF(G74=\"女\",data_kyogisha!A65,\"\")","v":""},0,"",0,"",0,"",0,""]
[65,{"$f":"IF(①団体情報入力!C73=\"\",\"\",IF(C75=\"\",\"\",①団体情報入力!C73))","v":""},null,null,null,null,null,null,null,null,null,null,null,null,null,null,null,null,null,null,null,null,null,null,null,null,null,{"$f":"IF(G75=\"男\",C75,\"\")","v":""},{"$f":"IF(G75=\"男\",D75,\"\")","v":""},{"$f":"IF(G75=\"男\",E75,\"\")","v":""},{"$f":"IF(G75=\"男\",G75,\"\")","v":""},{"$f":"IF(G75=\"男\",IF(H75=\"\",\"\",H75),\"\")","v":""},{"$f":"IF(G75=\"男\",data_kyogisha!A66,\"\")","v":""},{"$f":"IF(G75=\"女\",C75,\"\")","v":""},{"$f":"IF(G75=\"女\",D75,\"\")","v":""},{"$f":"IF(G75=\"女\",E75,\"\")","v":""},{"$f":"IF(G75=\"女\",G75,\"\")","v":""},{"$f":"IF(G75=\"女\",IF(H75=\"\",\"\",H75),\"\")","v":""},{"$f":"IF(G75=\"女\",data_kyogisha!A66,\"\")","v":""},0,"",0,"",0,{"$f":"IF(AND($G75=\"女\",$R75=\"○\"),$C75,\"\")","v":""},0,{"$f":"IF(AND($G75=\"女\",$T75=\"○\"),$C75,\"\")","v":""}]
[66,{"$f":"IF(①団体情報入力!C74=\"\",\"\",IF(C76=\"\",\"\",①団体情報入力!C74))","v":""},null,null,null,null,null,null,null,null,null,null,null,null,null,null,null,null,null,null,null,null,null,null,null,null,null,"","","","","",{"$f":"IF(G76=\"男\",data_kyogisha!A67,\"\")","v":""},"","","","","",{"$f":"IF(G76=\"女\",data_kyogisha!A67,\"\")","v":""},{"$f":"IF(AND(G76=\"男\",R76=\"○\"),AN75+1,AN75)","v":0},{"$f":"IF(AND(G76=\"男\",R76=\"○\"),C76,\"\")","v":""},{"$f":"IF(AND(G76=\"男\",T76=\"○\"),AP75+1,AP75)","v":0},{"$f":"IF(AND(G76=\"男\",T76=\"○\"),C76,\"\")","v":""},{"$f":"IF(AND(G76=\"女\",R76=\"○\"),AR75+1,AR75)","v":0},"",{"$f":"IF(AND(G76=\"女\",T76=\"○\"),AT75+1,AT75)","v":0},""]
[67,{"$f":"IF(①団体情報入力!C75=\"\",\"\",IF(C77=\"\",\"\",①団体情報入力!C75))","v":""},null,null,null,null,null,null,null,null,null,null,null,null,null,null,null,null,null,null,null,null,null,null,null,null,null,"","","","","",{"$f":"IF(G77=\"男\",data_kyogisha!A68,\"\")","v":""},"","","","","",{"$f":"IF(G77=\"女\",data_kyogisha!A68,\"\")","v":""},0,"",0,"",0,"",0,""]
[68,{"$f":"IF(①団体情報入力!C76=\"\",\"\",IF(C78=\"\",\"\",①団体情報入力!C76))","v":""},null,null,null,null,null,null,null,null,null,null,null,null,null,null,null,null,null,null,null,null,null,null,null,null,null,"","","","","",{"$f":"IF(G78=\"男\",data_kyogisha!A69,\"\")","v":""},"","","","","",{"$f":"IF(G78=\"女\",data_kyogisha!A69,\"\")","v":""},0,"",0,"",0,"",0,""]
[69,{"$f":"IF(①団体情報入力!C77=\"\",\"\",IF(C79=\"\",\"\",①団体情報入力!C77))","v":""},null,null,null,null,null,null,null,null,null,null,null,null,null,null,null,null,null,null,null,null,null,null,null,null,null,"","","","","",{"$f":"IF(G79=\"男\",data_kyogisha!A70,\"\")","v":""},"","","","","",{"$f":"IF(G79=\"女\",data_kyogisha!A70,\"\")","v":""},0,"",0,"",0,"",0,""]
[70,{"$f":"IF(①団体情報入力!C78=\"\",\"\",IF(C80=\"\",\"\",①団体情報入力!C78))","v":""},null,null,null,null,null,null,null,null,null,null,null,null,null,null,null,null,null,null,null,null,null,null,null,null,null,"","","","","",{"$f":"IF(G80=\"男\",data_kyogisha!A71,\"\")","v":""},"","","","","",{"$f":"IF(G80=\"女\",data_kyogisha!A71,\"\")","v":""},0,"",0,"",0,"",0,""]
[71,{"$f":"IF(①団体情報入力!C79=\"\",\"\",IF(C81=\"\",\"\",①団体情報入力!C79))","v":""},null,null,null,null,null,null,null,null,null,null,null,null,null,null,null,null,null,null,null,null,null,null,null,null,null,"","","","","",{"$f":"IF(G81=\"男\",data_kyogisha!A72,\"\")","v":""},"","","","","",{"$f":"IF(G81=\"女\",data_kyogisha!A72,\"\")","v":""},0,"",0,"",0,"",0,""]
[72,{"$f":"IF(①団体情報入力!C80=\"\",\"\",IF(C82=\"\",\"\",①団体情報入力!C80))","v":""},null,null,null,null,null,null,null,null,null,null,null,null,null,null,null,null,null,null,null,null,null,null,null,null,null,"","","","","",{"$f":"IF(G82=\"男\",data_kyogisha!A73,\"\")","v":""},"","","","","",{"$f":"IF(G82=\"女\",data_kyogisha!A73,\"\")","v":""},0,"",0,"",0,"",0,""]
[73,{"$f":"IF(①団体情報入力!C81=\"\",\"\",IF(C83=\"\",\"\",①団体情報入力!C81))","v":""},null,null,null,null,null,null,null,null,null,null,null,null,null,null,null,null,null,null,null,null,null,null,null,null,null,"","","","","",{"$f":"IF(G83=\"男\",data_kyogisha!A74,\"\")","v":""},"","","","","",{"$f":"IF(G83=\"女\",data_kyogisha!A74,\"\")","v":""},0,"",0,"",0,"",0,""]
[74,{"$f":"IF(①団体情報入力!C82=\"\",\"\",IF(C84=\"\",\"\",①団体情報入力!C82))","v":""},null,null,null,null,null,null,null,null,null,null,null,null,null,null,null,null,null,null,null,null,null,null,null,null,null,"","","","","",{"$f":"IF(G84=\"男\",data_kyogisha!A75,\"\")","v":""},"","","","","",{"$f":"IF(G84=\"女\",data_kyogisha!A75,\"\")","v":""},0,"",0,"",0,"",0,""]
[75,{"$f":"IF(①団体情報入力!C83=\"\",\"\",IF(C85=\"\",\"\",①団体情報入力!C83))","v":""},null,null,null,null,null,null,null,null,null,null,null,null,null,null,null,null,null,null,null,null,null,null,null,null,null,"","","","","",{"$f":"IF(G85=\"男\",data_kyogisha!A76,\"\")","v":""},"","","","","",{"$f":"IF(G85=\"女\",data_kyogisha!A76,\"\")","v":""},0,"",0,"",0,"",0,""]
[76,{"$f":"IF(①団体情報入力!C84=\"\",\"\",IF(C86=\"\",\"\",①団体情報入力!C84))","v":""},null,null,null,null,null,null,null,null,null,null,null,null,null,null,null,null,null,null,null,null,null,null,null,null,null,"","","","","",{"$f":"IF(G86=\"男\",data_kyogisha!A77,\"\")","v":""},"","","","","",{"$f":"IF(G86=\"女\",data_kyogisha!A77,\"\")","v":""},0,"",0,"",0,"",0,""]
[77,{"$f":"IF(①団体情報入力!C85=\"\",\"\",IF(C87=\"\",\"\",①団体情報入力!C85))","v":""},null,null,null,null,null,null,null,null,null,null,null,null,null,null,null,null,null,null,null,null,null,null,null,null,null,"","","","","",{"$f":"IF(G87=\"男\",data_kyogisha!A78,\"\")","v":""},"","","","","",{"$f":"IF(G87=\"女\",data_kyogisha!A78,\"\")","v":""},0,"",0,"",0,"",0,""]
[78,{"$f":"IF(①団体情報入力!C86=\"\",\"\",IF(C88=\"\",\"\",①団体情報入力!C86))","v":""},null,null,null,null,null,null,null,null,null,null,null,null,null,null,null,null,null,null,null,null,null,null,null,null,null,"","","","","",{"$f":"IF(G88=\"男\",data_kyogisha!A79,\"\")","v":""},"","","","","",{"$f":"IF(G88=\"女\",data_kyogisha!A79,\"\")","v":""},0,"",0,"",0,"",0,""]
[79,{"$f":"IF(①団体情報入力!C87=\"\",\"\",IF(C89=\"\",\"\",①団体情報入力!C87))","v":""},null,null,null,null,null,null,null,null,null,null,null,null,null,null,null,null,null,null,null,null,null,null,null,null,null,"","","","","",{"$f":"IF(G89=\"男\",data_kyogisha!A80,\"\")","v":""},"","","","","",{"$f":"IF(G89=\"女\",data_kyogisha!A80,\"\")","v":""},0,"",0,"",0,"",0,""]
[80,{"$f":"IF(①団体情報入力!C88=\"\",\"\",IF(C90=\"\",\"\",①団体情報入力!C88))","v":""},null,null,null,null,null,null,null,null,null,null,null,null,null,null,null,null,null,null,null,null,null,null,null,null,null,"","","","","",{"$f":"IF(G90=\"男\",data_kyogisha!A81,\"\")","v":""},"","","","","",{"$f":"IF(G90=\"女\",data_kyogisha!A81,\"\")","v":""},0,"",0,"",0,"",0,""]
[81,{"$f":"IF(①団体情報入力!C89=\"\",\"\",IF(C91=\"\",\"\",①団体情報入力!C89))","v":""},null,null,null,null,null,null,null,null,null,null,null,null,null,null,null,null,null,null,null,null,null,null,null,null,null,"","","","","",{"$f":"IF(G91=\"男\",data_kyogisha!A82,\"\")","v":""},"","","","","",{"$f":"IF(G91=\"女\",data_kyogisha!A82,\"\")","v":""},0,"",0,"",0,"",0,""]
[82,{"$f":"IF(①団体情報入力!C90=\"\",\"\",IF(C92=\"\",\"\",①団体情報入力!C90))","v":""},null,null,null,null,null,null,null,null,null,null,null,null,null,null,null,null,null,null,null,null,null,null,null,null,null,"","","","","",{"$f":"IF(G92=\"男\",data_kyogisha!A83,\"\")","v":""},"","","","","",{"$f":"IF(G92=\"女\",data_kyogisha!A83,\"\")","v":""},0,"",0,"",0,"",0,""]
[83,{"$f":"IF(①団体情報入力!C91=\"\",\"\",IF(C93=\"\",\"\",①団体情報入力!C91))","v":""},null,null,null,null,null,null,null,null,null,null,null,null,null,null,null,null,null,null,null,null,null,null,null,null,null,"","","","","",{"$f":"IF(G93=\"男\",data_kyogisha!A84,\"\")","v":""},"","","","","",{"$f":"IF(G93=\"女\",data_kyogisha!A84,\"\")","v":""},0,"",0,"",0,"",0,""]
[84,{"$f":"IF(①団体情報入力!C92=\"\",\"\",IF(C94=\"\",\"\",①団体情報入力!C92))","v":""},null,null,null,null,null,null,null,null,null,null,null,null,null,null,null,null,null,null,null,null,null,null,null,null,null,"","","","","",{"$f":"IF(G94=\"男\",data_kyogisha!A85,\"\")","v":""},"","","","","",{"$f":"IF(G94=\"女\",data_kyogisha!A85,\"\")","v":""},0,"",0,"",0,"",0,""]
[85,{"$f":"IF(①団体情報入力!C93=\"\",\"\",IF(C95=\"\",\"\",①団体情報入力!C93))","v":""},null,null,null,null,null,null,null,null,null,null,null,null,null,null,null,null,null,null,null,null,null,null,null,null,null,"","","","","",{"$f":"IF(G95=\"男\",data_kyogisha!A86,\"\")","v":""},"","","","","",{"$f":"IF(G95=\"女\",data_kyogisha!A86,\"\")","v":""},0,"",0,"",0,"",0,""]
[86,{"$f":"IF(①団体情報入力!C94=\"\",\"\",IF(C96=\"\",\"\",①団体情報入力!C94))","v":""},null,null,null,null,null,null,null,null,null,null,null,null,null,null,null,null,null,null,null,null,null,null,null,null,null,"","","","","",{"$f":"IF(G96=\"男\",data_kyogisha!A87,\"\")","v":""},"","","","","",{"$f":"IF(G96=\"女\",data_kyogisha!A87,\"\")","v":""},0,"",0,"",0,"",0,""]
[87,{"$f":"IF(①団体情報入力!C95=\"\",\"\",IF(C97=\"\",\"\",①団体情報入力!C95))","v":""},null,null,null,null,null,null,null,null,null,null,null,null,null,null,null,null,null,null,null,null,null,null,null,null,null,"","","","","",{"$f":"IF(G97=\"男\",data_kyogisha!A88,\"\")","v":""},"","","","","",{"$f":"IF(G97=\"女\",data_kyogisha!A88,\"\")","v":""},0,"",0,"",0,"",0,""]
[88,{"$f":"IF(①団体情報入力!C96=\"\",\"\",IF(C98=\"\",\"\",①団体情報入力!C96))","v":""},null,null,null,null,null,null,null,null,null,null,null,null,null,null,null,null,null,null,null,null,null,null,null,null,null,"","","","","",{"$f":"IF(G98=\"男\",data_kyogisha!A89,\"\")","v":""},"","","","","",{"$f":"IF(G98=\"女\",data_kyogisha!A89,\"\")","v":""},0,"",0,"",0,"",0,""]
[89,{"$f":"IF(①団体情報入力!C97=\"\",\"\",IF(C99=\"\",\"\",①団体情報入力!C97))","v":""},null,null,null,null,null,null,null,null,null,null,null,null,null,null,null,null,null,null,null,null,null,null,null,null,null,"","","","","",{"$f":"IF(G99=\"男\",data_kyogisha!A90,\"\")","v":""},"","","","","",{"$f":"IF(G99=\"女\",data_kyogisha!A90,\"\")","v":""},0,"",0,"",0,"",0,""]
[90,{"$f":"IF(①団体情報入力!C98=\"\",\"\",IF(C100=\"\",\"\",①団体情報入力!C98))","v":""},null,null,null,null,null,null,null,null,null,null,null,null,null,null,null,null,null,null,null,null,null,null,null,null,null,"","","","","",{"$f":"IF(G100=\"男\",data_kyogisha!A91,\"\")","v":""},"","","","","",{"$f":"IF(G100=\"女\",data_kyogisha!A91,\"\")","v":""},0,"",0,"",0,"",0,""]
[null,null,null,null,null,"種目計",{"$f":"SUM(J101:P101)","v":0},null,null,{"$f":"COUNTA(J11:J100)","v":0},null,null,{"$f":"COUNTA(M11:M100)","v":0},null,null,{"$f":"COUNTA(P11:P100)","v":0}]
[null,null,null,null,null,"リレー計",{"$f":"③リレー情報確認!F14+③リレー情報確認!L14+③リレー情報確認!R14+③リレー情報確認!X14","v":0}]
[null,null,null,null,null,"男",{"$f":"COUNTIF(G11:G100,\"男\")","v":0}]
[null,null,null,null,null,"女",{"$f":"COUNTIF(G11:G100,\"女\")","v":0}]
[null,null,null,null,null,"男女計",{"$f":"SUM(G103:G104)","v":0}]

{"sheet":"③リレー情報確認","index":4,"n_rows":14,"n_cols":24,"rows_kept":14,"cut":false,"hidden":false,"merged":[[0,9,0,11],[7,17,12,17],[7,5,12,5],[5,1,5,5],[7,23,12,23],[5,13,5,17],[5,19,5,23],[5,7,5,11],[7,11,12,11],[0,15,0,17]]}
["④リレー情報確認",null,null,null,null,null,null,null,"チーム名 ",{"$f":"IF(①団体情報入力!D5=\"\",\"\",①団体情報入力!D5)","v":""},null,null,null,null,"ｶﾅ",{"$f":"IF(①団体情報入力!D6=\"\",\"\",①団体情報入力!D6)","v":""}]
[]
[null,null,"※リレーにエントリーをする選手とチームの記録を確認してください。"]
[null,null,"※修正をする場合は「②選手情報入力」で修正してください。"]
[null,null,"※リレーエントリーに○を付けても、データが反映されない場合、「②選手権情報入力」のナンバーのセルが文字列になっていますので数値に変換してください。"]
[null,"男4X100mR",null,null,null,null,null,"男4X400mR",null,null,null,null,null,"女4X100mR",null,null,null,null,null,"女4X400mR"]
[null,"Ord","ﾅﾝﾊﾞｰ","氏　名","競技者NO","記録",null,"Ord","ﾅﾝﾊﾞｰ","氏　名","競技者NO","記録",null,"Ord","ﾅﾝﾊﾞｰ","氏　名","競技者NO","記録",null,"Ord","ﾅﾝﾊﾞｰ","氏　名","競技者NO","記録"]
[null,1,{"$f":"IF(②選手情報入力!$AO$10<1,\"\",VLOOKUP(B8,②選手情報入力!$AN$11:$AO$100,2,FALSE))","v":""},{"$f":"IF(C8=\"\",\"\",VLOOKUP(C8,②選手情報入力!$AB$11:$AC$100,2,FALSE))","v":""},{"$f":"IF(C8=\"\",\"\",VLOOKUP(C8,②選手情報入力!$AB$11:$AH$100,6,FALSE))","v":""},{"$f":"IF(②選手情報入力!S6=\"\",\"\",②選手情報入力!S6)","v":""},null,1,{"$f":"IF(②選手情報入力!$AQ$10<1,\"\",VLOOKUP(H8,②選手情報入力!$AP$11:$AQ$100,2,FALSE))","v":""},{"$f":"IF(I8=\"\",\"\",VLOOKUP(I8,②選手情報入力!$AB$11:$AC$100,2,FALSE))","v":""},{"$f":"IF(I8=\"\",\"\",VLOOKUP(I8,②選手情報入力!$AB$11:$AH$100,6,FALSE))","v":""},{"$f":"IF(②選手情報入力!U6=\"\",\"\",②選手情報入力!U6)","v":""},null,1,{"$f":"IF(②選手情報入力!$AS$10<1,\"\",VLOOKUP(N8,②選手情報入力!$AR$11:$AS$100,2,FALSE))","v":""},{"$f":"IF(O8=\"\",\"\",VLOOKUP(O8,②選手情報入力!$AH$11:$AI$100,2,FALSE))","v":""},{"$f":"IF(O8=\"\",\"\",VLOOKUP(O8,②選手情報入力!$AH$11:$AO$100,6,FALSE))","v":""},{"$f":"IF(②選手情報入力!S7=\"\",\"\",②選手情報入力!S7)","v":""},null,1,{"$f":"IF(②選手情報入力!$AU$10<1,\"\",VLOOKUP(T8,②選手情報入力!$AT$11:$AU$100,2,FALSE))","v":""},{"$f":"IF(U8=\"\",\"\",VLOOKUP(U8,②選手情報入力!$AH$11:$AI$100,2,FALSE))","v":""},{"$f":"IF(U8=\"\",\"\",VLOOKUP(U8,②選手情報入力!$AH$11:$AO$100,6,FALSE))","v":""},{"$f":"IF(②選手情報入力!U7=\"\",\"\",②選手情報入力!U7)","v":""}]
[null,2,{"$f":"IF(②選手情報入力!$AO$10<2,\"\",VLOOKUP(B9,②選手情報入力!$AN$11:$AO$100,2,FALSE))","v":""},{"$f":"IF(C9=\"\",\"\",VLOOKUP(C9,②選手情報入力!$AB$11:$AC$100,2,FALSE))","v":""},{"$f":"IF(C9=\"\",\"\",VLOOKUP(C9,②選手情報入力!$AB$11:$AH$100,6,FALSE))","v":""},null,null,2,{"$f":"IF(②選手情報入力!$AQ$10<2,\"\",VLOOKUP(H9,②選手情報入力!$AP$11:$AQ$100,2,FALSE))","v":""},{"$f":"IF(I9=\"\",\"\",VLOOKUP(I9,②選手情報入力!$AB$11:$AC$100,2,FALSE))","v":""},{"$f":"IF(I9=\"\",\"\",VLOOKUP(I9,②選手情報入力!$AB$11:$AH$100,6,FALSE))","v":""},null,null,2,{"$f":"IF(②選手情報入力!$AS$10<2,\"\",VLOOKUP(N9,②選手情報入力!$AR$11:$AS$100,2,FALSE))","v":""},{"$f":"IF(O9=\"\",\"\",VLOOKUP(O9,②選手情報入力!$AH$11:$AI$100,2,FALSE))","v":""},{"$f":"IF(O9=\"\",\"\",VLOOKUP(O9,②選手情報入力!$AH$11:$AO$100,6,FALSE))","v":""},null,null,2,{"$f":"IF(②選手情報入力!$AU$10<2,\"\",VLOOKUP(T9,②選手情報入力!$AT$11:$AU$100,2,FALSE))","v":""},{"$f":"IF(U9=\"\",\"\",VLOOKUP(U9,②選手情報入力!$AH$11:$AI$100,2,FALSE))","v":""},{"$f":"IF(U9=\"\",\"\",VLOOKUP(U9,②選手情報入力!$AH$11:$AO$100,6,FALSE))","v":""}]
[null,3,{"$f":"IF(②選手情報入力!$AO$10<3,\"\",VLOOKUP(B10,②選手情報入力!$AN$11:$AO$100,2,FALSE))","v":""},{"$f":"IF(C10=\"\",\"\",VLOOKUP(C10,②選手情報入力!$AB$11:$AC$100,2,FALSE))","v":""},{"$f":"IF(C10=\"\",\"\",VLOOKUP(C10,②選手情報入力!$AB$11:$AH$100,6,FALSE))","v":""},null,null,3,{"$f":"IF(②選手情報入力!$AQ$10<3,\"\",VLOOKUP(H10,②選手情報入力!$AP$11:$AQ$100,2,FALSE))","v":""},{"$f":"IF(I10=\"\",\"\",VLOOKUP(I10,②選手情報入力!$AB$11:$AC$100,2,FALSE))","v":""},{"$f":"IF(I10=\"\",\"\",VLOOKUP(I10,②選手情報入力!$AB$11:$AH$100,6,FALSE))","v":""},null,null,3,{"$f":"IF(②選手情報入力!$AS$10<3,\"\",VLOOKUP(N10,②選手情報入力!$AR$11:$AS$100,2,FALSE))","v":""},{"$f":"IF(O10=\"\",\"\",VLOOKUP(O10,②選手情報入力!$AH$11:$AI$100,2,FALSE))","v":""},{"$f":"IF(O10=\"\",\"\",VLOOKUP(O10,②選手情報入力!$AH$11:$AO$100,6,FALSE))","v":""},null,null,3,{"$f":"IF(②選手情報入力!$AU$10<3,\"\",VLOOKUP(T10,②選手情報入力!$AT$11:$AU$100,2,FALSE))","v":""},{"$f":"IF(U10=\"\",\"\",VLOOKUP(U10,②選手情報入力!$AH$11:$AI$100,2,FALSE))","v":""},{"$f":"IF(U10=\"\",\"\",VLOOKUP(U10,②選手情報入力!$AH$11:$AO$100,6,FALSE))","v":""}]
[null,4,{"$f":"IF(②選手情報入力!$AO$10<4,\"\",VLOOKUP(B11,②選手情報入力!$AN$11:$AO$100,2,FALSE))","v":""},{"$f":"IF(C11=\"\",\"\",VLOOKUP(C11,②選手情報入力!$AB$11:$AC$100,2,FALSE))","v":""},{"$f":"IF(C11=\"\",\"\",VLOOKUP(C11,②選手情報入力!$AB$11:$AH$100,6,FALSE))","v":""},null,null,4,{"$f":"IF(②選手情報入力!$AQ$10<4,\"\",VLOOKUP(H11,②選手情報入力!$AP$11:$AQ$100,2,FALSE))","v":""},{"$f":"IF(I11=\"\",\"\",VLOOKUP(I11,②選手情報入力!$AB$11:$AC$100,2,FALSE))","v":""},{"$f":"IF(I11=\"\",\"\",VLOOKUP(I11,②選手情報入力!$AB$11:$AH$100,6,FALSE))","v":""},null,null,4,{"$f":"IF(②選手情報入力!$AS$10<4,\"\",VLOOKUP(N11,②選手情報入力!$AR$11:$AS$100,2,FALSE))","v":""},{"$f":"IF(O11=\"\",\"\",VLOOKUP(O11,②選手情報入力!$AH$11:$AI$100,2,FALSE))","v":""},{"$f":"IF(O11=\"\",\"\",VLOOKUP(O11,②選手情報入力!$AH$11:$AO$100,6,FALSE))","v":""},null,null,4,{"$f":"IF(②選手情報入力!$AU$10<4,\"\",VLOOKUP(T11,②選手情報入力!$AT$11:$AU$100,2,FALSE))","v":""},{"$f":"IF(U11=\"\",\"\",VLOOKUP(U11,②選手情報入力!$AH$11:$AI$100,2,FALSE))","v":""},{"$f":"IF(U11=\"\",\"\",VLOOKUP(U11,②選手情報入力!$AH$11:$AO$100,6,FALSE))","v":""}]
[null,5,{"$f":"IF(②選手情報入力!$AO$10<5,\"\",VLOOKUP(B12,②選手情報入力!$AN$11:$AO$100,2,FALSE))","v":""},{"$f":"IF(C12=\"\",\"\",VLOOKUP(C12,②選手情報入力!$AB$11:$AC$100,2,FALSE))","v":""},{"$f":"IF(C12=\"\",\"\",VLOOKUP(C12,②選手情報入力!$AB$11:$AH$100,6,FALSE))","v":""},null,null,5,{"$f":"IF(②選手情報入力!$AQ$10<5,\"\",VLOOKUP(H12,②選手情報入力!$AP$11:$AQ$100,2,FALSE))","v":""},{"$f":"IF(I12=\"\",\"\",VLOOKUP(I12,②選手情報入力!$AB$11:$AC$100,2,FALSE))","v":""},{"$f":"IF(I12=\"\",\"\",VLOOKUP(I12,②選手情報入力!$AB$11:$AH$100,6,FALSE))","v":""},null,null,5,{"$f":"IF(②選手情報入力!$AS$10<5,\"\",VLOOKUP(N12,②選手情報入力!$AR$11:$AS$100,2,FALSE))","v":""},{"$f":"IF(O12=\"\",\"\",VLOOKUP(O12,②選手情報入力!$AH$11:$AI$100,2,FALSE))","v":""},{"$f":"IF(O12=\"\",\"\",VLOOKUP(O12,②選手情報入力!$AH$11:$AO$100,6,FALSE))","v":""},null,null,5,{"$f":"IF(②選手情報入力!$AU$10<5,\"\",VLOOKUP(T12,②選手情報入力!$AT$11:$AU$100,2,FALSE))","v":""},{"$f":"IF(U12=\"\",\"\",VLOOKUP(U12,②選手情報入力!$AH$11:$AI$100,2,FALSE))","v":""},{"$f":"IF(U12=\"\",\"\",VLOOKUP(U12,②選手情報入力!$AH$11:$AO$100,6,FALSE))","v":""}]
[null,6,{"$f":"IF(②選手情報入力!$AO$10<6,\"\",VLOOKUP(B13,②選手情報入力!$AN$11:$AO$100,2,FALSE))","v":""},{"$f":"IF(C13=\"\",\"\",VLOOKUP(C13,②選手情報入力!$AB$11:$AC$100,2,FALSE))","v":""},{"$f":"IF(C13=\"\",\"\",VLOOKUP(C13,②選手情報入力!$AB$11:$AH$100,6,FALSE))","v":""},null,null,6,{"$f":"IF(②選手情報入力!$AQ$10<6,\"\",VLOOKUP(H13,②選手情報入力!$AP$11:$AQ$100,2,FALSE))","v":""},{"$f":"IF(I13=\"\",\"\",VLOOKUP(I13,②選手情報入力!$AB$11:$AC$100,2,FALSE))","v":""},{"$f":"IF(I13=\"\",\"\",VLOOKUP(I13,②選手情報入力!$AB$11:$AH$100,6,FALSE))","v":""},null,null,6,{"$f":"IF(②選手情報入力!$AS$10<6,\"\",VLOOKUP(N13,②選手情報入力!$AR$11:$AS$100,2,FALSE))","v":""},{"$f":"IF(O13=\"\",\"\",VLOOKUP(O13,②選手情報入力!$AH$11:$AI$100,2,FALSE))","v":""},{"$f":"IF(O13=\"\",\"\",VLOOKUP(O13,②選手情報入力!$AH$11:$AO$100,6,FALSE))","v":""},null,null,6,{"$f":"IF(②選手情報入力!$AU$10<6,\"\",VLOOKUP(T13,②選手情報入力!$AT$11:$AU$100,2,FALSE))","v":""},{"$f":"IF(U13=\"\",\"\",VLOOKUP(U13,②選手情報入力!$AH$11:$AI$100,2,FALSE))","v":""},{"$f":"IF(U13=\"\",\"\",VLOOKUP(U13,②選手情報入力!$AH$11:$AO$100,6,FALSE))","v":""}]
[null,null,null,"申込チーム数",null,{"$f":"IF(②選手情報入力!AO10>=4,1,0)","v":0},null,null,null,"申込チーム数",null,{"$f":"IF(②選手情報入力!AQ10>=4,1,0)","v":0},null,null,null,"申込チーム数",null,{"$f":"IF(②選手情報入力!AS10>=4,1,0)","v":0},null,null,null,"申込チーム数",null,{"$f":"IF(②選手情報入力!AU10>=4,1,0)","v":0}]

{"sheet":"④種目別人数","index":5,"n_rows":16,"n_cols":10,"rows_kept":16,"cut":false,"hidden":false,"merged":[[1,0,1,7],[3,0,3,7],[5,3,5,6],[4,2,4,5],[2,0,2,6],[15,5,15,6],[6,1,6,2],[6,5,6,6],[13,2,13,4],[7,2,7,3],[12,2,12,4],[11,1,11,4],[8,2,8,3]]}
["⑤種目別人数一覧表"]
["※種目数・参加料等を確認してから印刷をしてください。"]
[{"$f":"注意事項!C3","v":"２０２０年度　名古屋地区夏季陸上競技大会\n　兼　愛知県国体選手選考会(案)"}]
["種目別申込人数一覧表"]
[null,"申込責任者",{"$f":"IF(①団体情報入力!C7=\"\",\"\",①団体情報入力!C7)","v":""},null,null,null,"A4サイズ"]
[null,{"$f":"IF(①団体情報入力!C8=\"\",\"\",①団体情報入力!C8)","v":""},"学校名",{"$f":"IF(①団体情報入力!C5=\"\",\"\",①団体情報入力!C5)","v":""}]
[null,"種　目　数",null,null,null,"参　　加　　料"]
[null,"種目数",{"$f":"②選手情報入力!G101","v":0},null,null,"種目数×800円",{"$f":"C8*800","v":0}]
[null,"リレー",{"$f":"②選手情報入力!G102","v":0},null,null,"リレー参加数✕1200円",{"$f":"C9*1200","v":0}]
[null,"プログラム購入部数",{"$f":"IF(①団体情報入力!C10=\"\",0,①団体情報入力!C10)","v":0},"部",null,"プログラム部数✕1000円",{"$f":"C10*1000","v":0}]
[null,null,null,null,null,"合計",{"$f":"SUM(G8:G10)","v":0},null,"⬅","領収書に記載される金額です。"]
[null,"役員のできる方のお名前",null,null,null,"支払い済み参加料",10000,null,"⬅","支払い済み参加料がある場合はこちらに金額（数字のみ）を入力してください。"]
[null,{"$f":"IF(①団体情報入力!B11=\"\",\"\",①団体情報入力!B11)","v":""},{"$f":"IF(①団体情報入力!F11=\"\",\"\",①団体情報入力!F11)","v":""},null,null,{"$f":"IF(G13<0,\"返金金額\",\"入金金額\")","v":"返金金額"},{"$f":"SUM(G8:G10)-G12","v":-10000},null,"⬅","実際に振込んで頂く金額です。－の場合は返金となります。"]
[null,{"$f":"IF(①団体情報入力!B12=\"\",\"\",①団体情報入力!B12)","v":""},{"$f":"IF(①団体情報入力!F12=\"\",\"\",①団体情報入力!F12)","v":""},null,null,"参加人数",{"$f":"IF(②選手情報入力!G105=0,\"\",②選手情報入力!G105)","v":""}]
[]
[null,"振込明細書のコピーを余白に添付してください",null,null,null,{"$f":"TODAY()","v":"2020-07-08"}]

{"sheet":"⑤大会前 提出用","index":6,"n_rows":26,"n_cols":11,"rows_kept":26,"cut":false,"hidden":false,"merged":[[23,0,23,1],[24,0,24,1],[24,3,24,4],[24,5,24,10],[25,0,26,1],[25,2,26,2],[25,3,26,10],[22,0,22,1],[5,0,9,10],[12,0,12,1],[13,0,13,1],[14,0,14,1],[15,0,15,1],[16,0,16,1],[17,0,17,1],[18,0,18,1],[19,0,19,1],[20,0,20,1],[21,0,21,1]]}
[null,"①団体情報入力を行ってから、⑤大会前提出用⑥大会後個人管理用を必要数印刷してお使いください。"]
[]
[null,"　　　　　　　　　　　　　　　　　　　　]ＡＡＦ"]
[null,"【大会前／提出用】新型コロナウイルス感染症についての体調管理チェツクシート"]
[]
["本チェックシートは各種大会において新型コロナウイルス感染症の拡大を防⽌するため、参加者の健康状態を確認することを⽬的としています。本チェックシートに記入いただいた個⼈情報については、厳正なる管理のもとに保管し、健康状態の把握、来場可否の判断および必要なご連絡のためにのみ利⽤します。また、個⼈情報保護法等の法令において認められる場合を除きご本⼈の同意を得ずに第三者に提供いたしません。但し、大会会場にて感染症患者またはその疑いのある⽅が発⾒された場合に必要な範囲で保健所等に提供することがあります。"]
[]
[]
[]
[]
["※犬会1週間前から記入し、犬会当日、主催者の指示に従い指定の場所に提出すること"]
["※該当しない場合は☓を入れ、該当する場合は○を記入すること（体温0.1℃単位の数字を記入）"]
["N0.",null,"チェックリスト",{"$f":"E13-1","v":-8},-7,-6,-5,-4,-3,{"$f":"K13-1","v":-2},{"$f":"夏季競技会!B13-1","v":-1}]
["]．",null,"のどの痛みがある"]
["２",null,"咳（せき）が出る"]
["３",null,"痰（たん）がでたリ、からんだリする"]
["４",null,"鼻水（はなみず）、鼻づまリがある　※アレルギーを除く"]
["５",null,"頭が痛い"]
["６",null,"体のだるさなどがある"]
["７",null,"発熱の症状がある"]
["８",null,"息苦しさがある"]
["９",null,"味覚異常(味がしない)"]
[10,null,"咬覚異常(匂いがしない)"]
[11,null,"体温","゜Ｃ","゜Ｃ","゜Ｃ","゜Ｃ","゜Ｃ","゜Ｃ","゜Ｃ","゜Ｃ"]
["氏名",null,null,"所属（学校名など）",null,{"$f":"IF(①団体情報入力!C3=\"\",\"\",①団体情報入力!C3)","v":""}]
["連絡先（電話番号）",null,{"$f":"IF(①団体情報入力!C8=\"\",\"\",①団体情報入力!C8)","v":""},"保護者氏名\n(中学生･高校生のみ)"]

{"sheet":"⑥大会後 個人管理用","index":7,"n_rows":22,"n_cols":17,"rows_kept":22,"cut":false,"hidden":false,"merged":[[19,2,19,4],[19,5,19,16],[13,5,13,6],[14,5,14,6],[15,5,15,6],[16,5,16,6],[17,5,17,6],[18,5,18,6],[12,5,12,6],[7,5,7,6],[8,5,8,6],[9,5,9,6],[10,5,10,6],[11,5,11,6]]}
[null,"①団体情報入力を行ってから、⑤大会前提出用⑥大会後個人管理用を必要数印刷してお使いください。"]
[]
[null,null,null,null,null,null,"]ＡＡＦ"]
["　【大会後／個人管理用】新型コロナウイルス感染症についての体調管理チェツクシート"]
["※犬会終了後２週間は健康チェックをすること。"]
["※該当しない場合は☓を入れ、該当する場合は○を記入すること［体温は0.1℃単位の数字を記入］"]
[]
["N0.","チェックリスト",{"$f":"夏季競技会!D13+1","v":"1900-01-01"},{"$f":"C8+1","v":"1900-01-02"},{"$f":"D8+1","v":"1900-01-03"},{"$f":"E8+1","v":"1900-01-04"},null,{"$f":"F8+1","v":"1900-01-05"},{"$f":"H8+1","v":"1900-01-06"},{"$f":"I8+1","v":"1900-01-07"},"1900-01-08","1900-01-09","1900-01-10","1900-01-11","1900-01-12","1900-01-13","1900-01-14"]
["１","のどの痛みがある"]
["２","咳（せき）が出る"]
["３","痰（たん）がでたり、からんだりする"]
["４","鼻水、鼻づまりがある　ﾒｱﾚﾉﾚｷﾞｰを匹"]
["５","頭が痛い"]
["６","体のだるさなどがある"]
["７","発熱の症状がある"]
["８","息苦しさがある"]
["９","味覚異常(味がしない)"]
[10,"嗅覚異常(匂いがしない)"]
[11,"体温","゜ Ｃ","゜ Ｃ","゜ Ｃ","゜ Ｃ",null,"゜ Ｃ","゜ Ｃ","゜ Ｃ","゜ Ｃ","゜ Ｃ","゜ Ｃ","゜ Ｃ","゜ Ｃ","゜ Ｃ","゜ Ｃ"]
["氏名",null,"所属（学校名など）",null,null,{"$f":"IF(①団体情報入力!C3=\"\",\"\",①団体情報入力!C3)","v":""}]
["※症状が４日以上続く場合は必ず最寄りの保健所、医師会、診療所等に報告してください。症状には個人差がありますので、強い症状と思う場合にはすぐに報告してください。"]
["※保健所、医師会、診療所等に相談後、必ず大会主催者に報告してください。"]

{"sheet":"⑦ADカード申請","index":8,"n_rows":44,"n_cols":7,"rows_kept":44,"cut":false,"hidden":false,"merged":[[36,0,36,1],[39,0,39,8],[40,0,40,8],[14,3,15,5],[17,0,17,8],[19,6,19,8],[25,0,25,1],[31,0,31,1],[34,0,34,1],[28,0,28,1]]}
[]
[null,"アクレディテーションカード"]
[null,"Accreditation Card",null,"試合のときに発行する入場許可証"]
[]
["当分の間、名古屋地区の競技会は無観客で実施します。"]
[]
["選手は、各自のナンバーカード、競技役員は公認審判員証の提示により会場への入場を許可します。"]
[]
["個人参加者の引率などについて、選手1名に付き1名の帯同を認めます。"]
["学校等の引率で、審判をされない方も１団体１名の帯同を認めます。"]
["ただし、事前申請者に限ります。当日受付はいたしませんのでご注意ください。"]
["選手同様、大会前後の検温等の実施・提出も合わせてお願い致します。"]
[]
[]
[null,null,null,"キ　　　リ　　　ト　　リ"]
[]
[]
["ADカード申請書"]
[]
[null,null,null,null,null,"申請日","令和２年　　　　月　　　　日"]
[]
["名古屋地区陸上競技協会　会長　坂井田　酵三殿"]
[]
[]
[]
["団　体　名"]
[]
[]
["選手との続柄"]
[]
[]
["申請者 氏名"]
[]
[]
["申請者住所"]
[]
["電話番号\n（携帯が望ましい）"]
[]
[]
["大会要項・競技注意事項等に記されている注意事項を厳守し引率します。"]
["これらの項目が守られない場合には退場して頂く場合があります。、"]
[]
[]
[null,null,null,null,"本人自署"]

{"sheet":"⑧リレーの選手が反映されない","index":9,"n_rows":23,"n_cols":2,"rows_kept":23,"cut":false,"hidden":false,"merged":[]}
[]
[null,"文字列を数値に変換する"]
[null,"エクセルでは数値と判断できる文字列を数式に使用したとき、自動で数値に変換されます。"]
[]
[]
[]
[]
[]
[]
[]
[]
[]
[null,"これらの文字列を数値に変換するには、[セル] をクリックしてエラーチェックの機能から [数値に変換する] をクリックします。変換したいセルを範囲選択してから行うと一括で変換できます。"]
[]
[]
[]
[]
[]
[]
[]
[]
[]
[null,"文字列が数値に変換されます。"]

{"sheet":"⑨日付が数字になる","index":10,"n_rows":5,"n_cols":1,"rows_kept":5,"cut":false,"hidden":false,"merged":[]}
["表示形式を日付に戻す"]
[]
["日付の表示形式が失われてシリアル値になったデータは、簡単に日付の形に戻すことができます。"]
[]
["操作方法は対象のセル（例ではB5:B14）をアクティブにし、「ホーム」タブの「表示形式」の▼をクリックし、一覧から「短い日付形式」もしくは「長い日付形式」をクリックします。"]

{"sheet":"　　　　　","index":11,"n_rows":0,"n_cols":0,"rows_kept":0,"cut":false,"hidden":false,"merged":[]}

{"sheet":"種目情報","index":12,"n_rows":48,"n_cols":15,"rows_kept":48,"cut":false,"hidden":false,"merged":[[30,12,50,12],[1,13,1,14],[0,0,0,2],[0,4,0,6],[0,8,0,10],[1,0,2,0],[1,4,2,4],[1,8,2,8]]}
["男子",null,null,null,"女子",null,null,null,"リレー"]
["種目","種目","記録",null,"種目","種目","記録",null,"種目","種目","記録",null,null,"一覧表用　種目名"]
[null,"No","FLAG",null,null,"No","FLAG",null,null,"No","FLAG"]
["男100mA",1,2,null,"女100mA",35,2,null,"男4X100mR",17,2,null,"男　　　子","男100m","男100m"]
["男100mB",2,2,null,"女100mB",36,2,null,"男4X400mR",18,2,null,null,"男200m","男200m"]
["男100mC",3,2,null,"女100mC",37,2,null,"女4X100mR",51,2,null,null,"男400m","男400m"]
["男200mA",4,2,null,"女200mA",38,2,null,"女4X400mR",52,2,null,null,"男800m","男800m"]
["男200mB",5,2,null,"女200mB",39,2,null,null,null,null,null,null,"男1500m","男1500m"]
["男200mC",6,2,null,"女200mC",40,2,null,null,null,null,null,null,"男5000m","男5000m"]
["男400mA",7,2,null,"女400mA",41,2,null,null,null,null,null,null,"男10000m","男10000m"]
["男400mB",8,2,null,"女400mB",42,2,null,null,null,null,null,null,"男110mH","男110mH"]
["男400mC",9,2,null,"女400mC",43,2,null,null,null,null,null,null,"男400mH","男400mH"]
["男800mA",10,2,null,"女800mA",44,2,null,null,null,null,null,null,"男3000mSC","男3000mSC"]
["男800mB",11,2,null,"女800mB",45,2,null,null,null,null,null,null,"男5000mW","男5000mW"]
["男1500m",12,2,null,"女1500m",46,2,null,null,null,null,null,null,"男走高跳","男走高跳"]
["男110mJH(0.991m)",14,2,null,"女100mYH(0.762m/8.5m)",48,2,null,null,null,null,null,null,"男棒高跳","男棒高跳"]
["男110mH(1.067m)",15,2,null,"女100mH(0.840m)",49,2,null,null,null,null,null,null,"男走幅跳","男走幅跳"]
["男400mH(0.914m)",16,2,null,"女400mH(0.762m)",50,2,null,null,null,null,null,null,"男三段跳","男三段跳"]
["男走高跳",19,0,null,"女走高跳",53,0,null,null,null,null,null,null,"男砲丸投","男砲丸投"]
["男棒高跳",20,0,null,"女棒高跳",54,0,null,null,null,null,null,null,"男円盤投","男円盤投"]
["男走幅跳A",21,0,null,"女走幅跳A",55,0,null,null,null,null,null,null,"男ﾊﾝﾏｰ投","男ﾊﾝﾏｰ投"]
["男走幅跳B",22,0,null,"女走幅跳B",56,0,null,null,null,null,null,null,"男やり投","男やり投"]
["男走幅跳C",23,0,null,"女走幅跳C",57,0]
["男三段跳",24,0,null,"女三段跳",58,0]
["男砲丸投(7.260kg)",25,0,null,"女砲丸投(4.000kg)",59,0]
["男円盤投(2.000kg)",26,0,null,"女円盤投(1.000kg)",60,0]
["男ハンマー投(7.260kg)",27,0,null,"女ハンマー投(4.000kg)",61,0]
["男やり投A(0.800kg)",28,0,null,"女やり投A(0.600kg)",62,0]
["男やり投B(0.800kg)",29,0,null,"女やり投B(0.600kg)",63,0]
[]
[null,null,null,null,null,null,null,null,null,null,null,null,"女　　　子","女100m","女100m"]
[null,null,null,null,null,null,null,null,null,null,null,null,null,"女200m","女200m"]
[null,null,null,null,null,null,null,null,null,null,null,null,null,"女400m","女400m"]
[null,null,null,null,null,null,null,null,null,null,null,null,null,"女800m","女800m"]
[null,null,null,null,null,null,null,null,null,null,null,null,null,"女1500m","女1500m"]
[null,null,null,null,null,null,null,null,null,null,null,null,null,"女5000m","女5000m"]
[null,null,null,null,null,null,null,null,null,null,null,null,null,"女100mH","女100mH"]
[null,null,null,null,null,null,null,null,null,null,null,null,null,"女400mH","女400mH"]
[null,null,null,null,null,null,null,null,null,null,null,null,null,"女5000mW","女5000mW"]
[null,null,null,null,null,null,null,null,null,null,null,null,null,"女走高跳","女走高跳"]
[null,null,null,null,null,null,null,null,null,null,null,null,null,"女棒高跳","女棒高跳"]
[null,null,null,null,null,null,null,null,null,null,null,null,null,"女走幅跳","女走幅跳"]
[null,null,null,null,null,null,null,null,null,null,null,null,null,"女三段跳","女三段跳"]
[null,null,null,null,null,null,null,null,null,null,null,null,null,"女砲丸投","女砲丸投"]
[null,null,null,null,null,null,null,null,null,null,null,null,null,"女中学砲丸投","女中学砲丸投"]
[null,null,null,null,null,null,null,null,null,null,null,null,null,"女円盤投","女円盤投"]
[null,null,null,null,null,null,null,null,null,null,null,null,null,"女ﾊﾝﾏｰ投","女ﾊﾝﾏｰ投"]
[null,null,null,null,null,null,null,null,null,null,null,null,null,"女やり投","女やり投"]

{"sheet":"data_kyogisha","index":13,"n_rows":91,"n_cols":34,"rows_kept":91,"cut":false,"hidden":false,"merged":[]}
["競技者NO","所属コード1","所属コード2","ナンバー","ナンバー2","競技者名","競技者名カナ","競技者名略称","性別","学年","生年","月日","個人所属地名","陸連コード","参加競技-競技コード1","参加競技-自己記録1","参加競技-オープン参加FLG1","参加競技-記録FLG1","参加競技-競技コード2","参加競技-自己記録2","参加競技-オープン参加FLG2","参加競技-記録FLG2","参加競技-競技コード3","参加競技-自己記録3","参加競技-オープン参加FLG3","参加競技-記録FLG3","参加競技-競技コード4","参加競技-自己記録4","参加競技-オープン参加FLG4","参加競技-記録FLG4","参加競技-競技コード5","参加競技-自己記録5","参加競技-オープン参加FLG5","参加競技-記録FLG5"]
[{"$f":"IF(E2=\"\",\"\",data_kyogisha!I2&①団体情報入力!C$4+②選手情報入力!C11+10000000)","v":""},{"$f":"IF(E2=\"\",\"\",①団体情報入力!$C$4)","v":""},null,{"$f":"IF(E2=\"\",\"\",②選手情報入力!B$11)","v":""},{"$f":"IF(②選手情報入力!C11=\"\",\"\",②選手情報入力!C11)","v":""},{"$f":"IF(E2=\"\",\"\",②選手情報入力!D11)","v":""},{"$f":"IF(E2=\"\",\"\",ASC(②選手情報入力!E11&\" \"&②選手情報入力!F11))","v":""},{"$f":"IF(E2=\"\",\"\",F2)","v":""},{"$f":"IF(E2=\"\",\"\",IF(②選手情報入力!G11=\"男\",1,2))","v":""},{"$f":"IF(E2=\"\",\"\",IF(②選手情報入力!H11=\"\",\"\",②選手情報入力!H11))","v":""},null,null,{"$f":"IF(E2=\"\",\"\",\"愛知\")","v":""},null,{"$f":"IF(E2=\"\",\"\",IF(②選手情報入力!J11=\"\",\"\",IF(I2=1,VLOOKUP(②選手情報入力!J11,種目情報!$A$4:$B$39,2,FALSE),VLOOKUP(②選手情報入力!J11,種目情報!$E$4:$F$29,2,FALSE))))","v":""},{"$f":"IF(E2=\"\",\"\",IF(②選手情報入力!K11=\"\",\"\",②選手情報入力!K11))","v":""},{"$f":"IF(E2=\"\",\"\",IF(②選手情報入力!I11=\"\",\"\",1))","v":""},{"$f":"IF(E2=\"\",\"\",IF(②選手情報入力!J11=\"\",\"\",IF(I2=1,VLOOKUP(②選手情報入力!J11,種目情報!$A$4:$C$29,3,FALSE),VLOOKUP(②選手情報入力!J11,種目情報!$E$4:$G$32,3,FALSE))))","v":""},{"$f":"IF(E2=\"\",\"\",IF(②選手情報入力!M11=\"\",\"\",IF(I2=1,VLOOKUP(②選手情報入力!M11,種目情報!$A$4:$B$29,2,FALSE),VLOOKUP(②選手情報入力!M11,種目情報!$E$4:$F$32,2,FALSE))))","v":""},{"$f":"IF(E2=\"\",\"\",IF(②選手情報入力!N11=\"\",\"\",②選手情報入力!N11))","v":""},{"$f":"IF(E2=\"\",\"\",IF(②選手情報入力!L11=\"\",\"\",1))","v":""},{"$f":"IF(E2=\"\",\"\",IF(②選手情報入力!M11=\"\",\"\",IF(I2=1,VLOOKUP(②選手情報入力!M11,種目情報!$A$4:$C$29,3,FALSE),VLOOKUP(②選手情報入力!M11,種目情報!$E$4:$G$32,3,FALSE))))","v":""},{"$f":"IF(E2=\"\",\"\",IF(②選手情報入力!P11=\"\",\"\",IF(I2=1,VLOOKUP(②選手情報入力!P11,種目情報!$A$4:$B$29,2,FALSE),VLOOKUP(②選手情報入力!P11,種目情報!$E$4:$F$32,2,FALSE))))","v":""},{"$f":"IF(E2=\"\",\"\",IF(②選手情報入力!Q11=\"\",\"\",②選手情報入力!Q11))","v":""},{"$f":"IF(E2=\"\",\"\",IF(②選手情報入力!O11=\"\",\"\",1))","v":""},{"$f":"IF(E2=\"\",\"\",IF(②選手情報入力!P11=\"\",\"\",IF(I2=1,VLOOKUP(②選手情報入力!P11,種目情報!$A$4:$C$29,3,FALSE),VLOOKUP(②選手情報入力!P11,種目情報!$E$4:$G$32,3,FALSE))))","v":""},{"$f":"IF(E2=\"\",\"\",IF(②選手情報入力!R11=\"\",\"\",IF(I2=1,種目情報!$J$4,種目情報!$J$6)))","v":""},{"$f":"IF(E2=\"\",\"\",IF(②選手情報入力!R11=\"\",\"\",IF(I2=1,IF(②選手情報入力!$S$6=\"\",\"\",②選手情報入力!$S$6),IF(②選手情報入力!$S$7=\"\",\"\",②選手情報入力!$S$7))))","v":""},{"$f":"IF(E2=\"\",\"\",IF(②選手情報入力!R11=\"\",\"\",IF(I2=1,IF(②選手情報入力!$R$6=\"\",0,1),IF(②選手情報入力!$R$7=\"\",0,1))))","v":""},{"$f":"IF(E2=\"\",\"\",IF(②選手情報入力!R11=\"\",\"\",2))","v":""},{"$f":"IF(E2=\"\",\"\",IF(②選手情報入力!T11=\"\",\"\",IF(I2=1,種目情報!$J$5,種目情報!$J$7)))","v":""},{"$f":"IF(E2=\"\",\"\",IF(②選手情報入力!T11=\"\",\"\",IF(I2=1,IF(②選手情報入力!$U$6=\"\",\"\",②選手情報入力!$U$6),IF(②選手情報入力!$U$7=\"\",\"\",②選手情報入力!$U$7))))","v":""},{"$f":"IF(E2=\"\",\"\",IF(②選手情報入力!T11=\"\",\"\",IF(I2=1,IF(②選手情報入力!$T$6=\"\",0,1),IF(②選手情報入力!$T$7=\"\",0,1))))","v":""},{"$f":"IF(E2=\"\",\"\",IF(②選手情報入力!T11=\"\",\"\",2))","v":""}]
[{"$f":"IF(E3=\"\",\"\",data_kyogisha!I3&①団体情報入力!C$4+②選手情報入力!C12+10000000)","v":""},{"$f":"IF(E3=\"\",\"\",①団体情報入力!$C$4)","v":""},null,{"$f":"IF(E3=\"\",\"\",②選手情報入力!B$11)","v":""},{"$f":"IF(②選手情報入力!C12=\"\",\"\",②選手情報入力!C12)","v":""},{"$f":"IF(E3=\"\",\"\",②選手情報入力!D12)","v":""},{"$f":"IF(E3=\"\",\"\",ASC(②選手情報入力!E12&\" \"&②選手情報入力!F12))","v":""},{"$f":"IF(E3=\"\",\"\",F3)","v":""},{"$f":"IF(E3=\"\",\"\",IF(②選手情報入力!G12=\"男\",1,2))","v":""},{"$f":"IF(E3=\"\",\"\",IF(②選手情報入力!H12=\"\",\"\",②選手情報入力!H12))","v":""},null,null,{"$f":"IF(E3=\"\",\"\",\"愛知\")","v":""},null,{"$f":"IF(E3=\"\",\"\",IF(②選手情報入力!J12=\"\",\"\",IF(I3=1,VLOOKUP(②選手情報入力!J12,種目情報!$A$4:$B$39,2,FALSE),VLOOKUP(②選手情報入力!J12,種目情報!$E$4:$F$29,2,FALSE))))","v":""},{"$f":"IF(E3=\"\",\"\",IF(②選手情報入力!K12=\"\",\"\",②選手情報入力!K12))","v":""},{"$f":"IF(E3=\"\",\"\",IF(②選手情報入力!I12=\"\",\"\",1))","v":""},{"$f":"IF(E3=\"\",\"\",IF(②選手情報入力!J12=\"\",\"\",IF(I3=1,VLOOKUP(②選手情報入力!J12,種目情報!$A$4:$C$29,3,FALSE),VLOOKUP(②選手情報入力!J12,種目情報!$E$4:$G$32,3,FALSE))))","v":""},{"$f":"IF(E3=\"\",\"\",IF(②選手情報入力!M12=\"\",\"\",IF(I3=1,VLOOKUP(②選手情報入力!M12,種目情報!$A$4:$B$29,2,FALSE),VLOOKUP(②選手情報入力!M12,種目情報!$E$4:$F$32,2,FALSE))))","v":""},{"$f":"IF(E3=\"\",\"\",IF(②選手情報入力!N12=\"\",\"\",②選手情報入力!N12))","v":""},{"$f":"IF(E3=\"\",\"\",IF(②選手情報入力!L12=\"\",\"\",1))","v":""},{"$f":"IF(E3=\"\",\"\",IF(②選手情報入力!M12=\"\",\"\",IF(I3=1,VLOOKUP(②選手情報入力!M12,種目情報!$A$4:$C$29,3,FALSE),VLOOKUP(②選手情報入力!M12,種目情報!$E$4:$G$32,3,FALSE))))","v":""},{"$f":"IF(E3=\"\",\"\",IF(②選手情報入力!P12=\"\",\"\",IF(I3=1,VLOOKUP(②選手情報入力!P12,種目情報!$A$4:$B$29,2,FALSE),VLOOKUP(②選手情報入力!P12,種目情報!$E$4:$F$32,2,FALSE))))","v":""},{"$f":"IF(E3=\"\",\"\",IF(②選手情報入力!Q12=\"\",\"\",②選手情報入力!Q12))","v":""},{"$f":"IF(E3=\"\",\"\",IF(②選手情報入力!O12=\"\",\"\",1))","v":""},{"$f":"IF(E3=\"\",\"\",IF(②選手情報入力!P12=\"\",\"\",IF(I3=1,VLOOKUP(②選手情報入力!P12,種目情報!$A$4:$C$29,3,FALSE),VLOOKUP(②選手情報入力!P12,種目情報!$E$4:$G$32,3,FALSE))))","v":""},{"$f":"IF(E3=\"\",\"\",IF(②選手情報入力!R12=\"\",\"\",IF(I3=1,種目情報!$J$4,種目情報!$J$6)))","v":""},{"$f":"IF(E3=\"\",\"\",IF(②選手情報入力!R12=\"\",\"\",IF(I3=1,IF(②選手情報入力!$S$6=\"\",\"\",②選手情報入力!$S$6),IF(②選手情報入力!$S$7=\"\",\"\",②選手情報入力!$S$7))))","v":""},{"$f":"IF(E3=\"\",\"\",IF(②選手情報入力!R12=\"\",\"\",IF(I3=1,IF(②選手情報入力!$R$6=\"\",0,1),IF(②選手情報入力!$R$7=\"\",0,1))))","v":""},{"$f":"IF(E3=\"\",\"\",IF(②選手情報入力!R12=\"\",\"\",2))","v":""},{"$f":"IF(E3=\"\",\"\",IF(②選手情報入力!T12=\"\",\"\",IF(I3=1,種目情報!$J$5,種目情報!$J$7)))","v":""},{"$f":"IF(E3=\"\",\"\",IF(②選手情報入力!T12=\"\",\"\",IF(I3=1,IF(②選手情報入力!$U$6=\"\",\"\",②選手情報入力!$U$6),IF(②選手情報入力!$U$7=\"\",\"\",②選手情報入力!$U$7))))","v":""},{"$f":"IF(E3=\"\",\"\",IF(②選手情報入力!T12=\"\",\"\",IF(I3=1,IF(②選手情報入力!$T$6=\"\",0,1),IF(②選手情報入力!$T$7=\"\",0,1))))","v":""},{"$f":"IF(E3=\"\",\"\",IF(②選手情報入力!T12=\"\",\"\",2))","v":""}]
[{"$f":"IF(E4=\"\",\"\",data_kyogisha!I4&①団体情報入力!C$4+②選手情報入力!C13+10000000)","v":""},{"$f":"IF(E4=\"\",\"\",①団体情報入力!$C$4)","v":""},null,{"$f":"IF(E4=\"\",\"\",②選手情報入力!B$11)","v":""},{"$f":"IF(②選手情報入力!C13=\"\",\"\",②選手情報入力!C13)","v":""},{"$f":"IF(E4=\"\",\"\",②選手情報入力!D13)","v":""},{"$f":"IF(E4=\"\",\"\",ASC(②選手情報入力!E13&\" \"&②選手情報入力!F13))","v":""},"",{"$f":"IF(E4=\"\",\"\",IF(②選手情報入力!G13=\"男\",1,2))","v":""},{"$f":"IF(E4=\"\",\"\",IF(②選手情報入力!H13=\"\",\"\",②選手情報入力!H13))","v":""},null,null,"",null,{"$f":"IF(E4=\"\",\"\",IF(②選手情報入力!J13=\"\",\"\",IF(I4=1,VLOOKUP(②選手情報入力!J13,種目情報!$A$4:$B$39,2,FALSE),VLOOKUP(②選手情報入力!J13,種目情報!$E$4:$F$29,2,FALSE))))","v":""},{"$f":"IF(E4=\"\",\"\",IF(②選手情報入力!K13=\"\",\"\",②選手情報入力!K13))","v":""},{"$f":"IF(E4=\"\",\"\",IF(②選手情報入力!I13=\"\",\"\",1))","v":""},{"$f":"IF(E4=\"\",\"\",IF(②選手情報入力!J13=\"\",\"\",IF(I4=1,VLOOKUP(②選手情報入力!J13,種目情報!$A$4:$C$29,3,FALSE),VLOOKUP(②選手情報入力!J13,種目情報!$E$4:$G$32,3,FALSE))))","v":""},{"$f":"IF(E4=\"\",\"\",IF(②選手情報入力!M13=\"\",\"\",IF(I4=1,VLOOKUP(②選手情報入力!M13,種目情報!$A$4:$B$29,2,FALSE),VLOOKUP(②選手情報入力!M13,種目情報!$E$4:$F$32,2,FALSE))))","v":""},{"$f":"IF(E4=\"\",\"\",IF(②選手情報入力!N13=\"\",\"\",②選手情報入力!N13))","v":""},{"$f":"IF(E4=\"\",\"\",IF(②選手情報入力!L13=\"\",\"\",1))","v":""},{"$f":"IF(E4=\"\",\"\",IF(②選手情報入力!M13=\"\",\"\",IF(I4=1,VLOOKUP(②選手情報入力!M13,種目情報!$A$4:$C$29,3,FALSE),VLOOKUP(②選手情報入力!M13,種目情報!$E$4:$G$32,3,FALSE))))","v":""},{"$f":"IF(E4=\"\",\"\",IF(②選手情報入力!P13=\"\",\"\",IF(I4=1,VLOOKUP(②選手情報入力!P13,種目情報!$A$4:$B$29,2,FALSE),VLOOKUP(②選手情報入力!P13,種目情報!$E$4:$F$32,2,FALSE))))","v":""},{"$f":"IF(E4=\"\",\"\",IF(②選手情報入力!Q13=\"\",\"\",②選手情報入力!Q13))","v":""},{"$f":"IF(E4=\"\",\"\",IF(②選手情報入力!O13=\"\",\"\",1))","v":""},{"$f":"IF(E4=\"\",\"\",IF(②選手情報入力!P13=\"\",\"\",IF(I4=1,VLOOKUP(②選手情報入力!P13,種目情報!$A$4:$C$29,3,FALSE),VLOOKUP(②選手情報入力!P13,種目情報!$E$4:$G$32,3,FALSE))))","v":""},{"$f":"IF(E4=\"\",\"\",IF(②選手情報入力!R13=\"\",\"\",IF(I4=1,種目情報!$J$4,種目情報!$J$6)))","v":""},{"$f":"IF(E4=\"\",\"\",IF(②選手情報入力!R13=\"\",\"\",IF(I4=1,IF(②選手情報入力!$S$6=\"\",\"\",②選手情報入力!$S$6),IF(②選手情報入力!$S$7=\"\",\"\",②選手情報入力!$S$7))))","v":""},{"$f":"IF(E4=\"\",\"\",IF(②選手情報入力!R13=\"\",\"\",IF(I4=1,IF(②選手情報入力!$R$6=\"\",0,1),IF(②選手情報入力!$R$7=\"\",0,1))))","v":""},{"$f":"IF(E4=\"\",\"\",IF(②選手情報入力!R13=\"\",\"\",2))","v":""},{"$f":"IF(E4=\"\",\"\",IF(②選手情報入力!T13=\"\",\"\",IF(I4=1,種目情報!$J$5,種目情報!$J$7)))","v":""},{"$f":"IF(E4=\"\",\"\",IF(②選手情報入力!T13=\"\",\"\",IF(I4=1,IF(②選手情報入力!$U$6=\"\",\"\",②選手情報入力!$U$6),IF(②選手情報入力!$U$7=\"\",\"\",②選手情報入力!$U$7))))","v":""},{"$f":"IF(E4=\"\",\"\",IF(②選手情報入力!T13=\"\",\"\",IF(I4=1,IF(②選手情報入力!$T$6=\"\",0,1),IF(②選手情報入力!$T$7=\"\",0,1))))","v":""},{"$f":"IF(E4=\"\",\"\",IF(②選手情報入力!T13=\"\",\"\",2))","v":""}]
[{"$f":"IF(E5=\"\",\"\",data_kyogisha!I5&①団体情報入力!C$4+②選手情報入力!C14+10000000)","v":""},{"$f":"IF(E5=\"\",\"\",①団体情報入力!$C$4)","v":""},null,{"$f":"IF(E5=\"\",\"\",②選手情報入力!B$11)","v":""},{"$f":"IF(②選手情報入力!C14=\"\",\"\",②選手情報入力!C14)","v":""},{"$f":"IF(E5=\"\",\"\",②選手情報入力!D14)","v":""},{"$f":"IF(E5=\"\",\"\",ASC(②選手情報入力!E14&\" \"&②選手情報入力!F14))","v":""},"",{"$f":"IF(E5=\"\",\"\",IF(②選手情報入力!G14=\"男\",1,2))","v":""},{"$f":"IF(E5=\"\",\"\",IF(②選手情報入力!H14=\"\",\"\",②選手情報入力!H14))","v":""},null,null,"",null,{"$f":"IF(E5=\"\",\"\",IF(②選手情報入力!J14=\"\",\"\",IF(I5=1,VLOOKUP(②選手情報入力!J14,種目情報!$A$4:$B$39,2,FALSE),VLOOKUP(②選手情報入力!J14,種目情報!$E$4:$F$29,2,FALSE))))","v":""},{"$f":"IF(E5=\"\",\"\",IF(②選手情報入力!K14=\"\",\"\",②選手情報入力!K14))","v":""},{"$f":"IF(E5=\"\",\"\",IF(②選手情報入力!I14=\"\",\"\",1))","v":""},{"$f":"IF(E5=\"\",\"\",IF(②選手情報入力!J14=\"\",\"\",IF(I5=1,VLOOKUP(②選手情報入力!J14,種目情報!$A$4:$C$29,3,FALSE),VLOOKUP(②選手情報入力!J14,種目情報!$E$4:$G$32,3,FALSE))))","v":""},{"$f":"IF(E5=\"\",\"\",IF(②選手情報入力!M14=\"\",\"\",IF(I5=1,VLOOKUP(②選手情報入力!M14,種目情報!$A$4:$B$29,2,FALSE),VLOOKUP(②選手情報入力!M14,種目情報!$E$4:$F$32,2,FALSE))))","v":""},{"$f":"IF(E5=\"\",\"\",IF(②選手情報入力!N14=\"\",\"\",②選手情報入力!N14))","v":""},{"$f":"IF(E5=\"\",\"\",IF(②選手情報入力!L14=\"\",\"\",1))","v":""},{"$f":"IF(E5=\"\",\"\",IF(②選手情報入力!M14=\"\",\"\",IF(I5=1,VLOOKUP(②選手情報入力!M14,種目情報!$A$4:$C$29,3,FALSE),VLOOKUP(②選手情報入力!M14,種目情報!$E$4:$G$32,3,FALSE))))","v":""},{"$f":"IF(E5=\"\",\"\",IF(②選手情報入力!P14=\"\",\"\",IF(I5=1,VLOOKUP(②選手情報入力!P14,種目情報!$A$4:$B$29,2,FALSE),VLOOKUP(②選手情報入力!P14,種目情報!$E$4:$F$32,2,FALSE))))","v":""},{"$f":"IF(E5=\"\",\"\",IF(②選手情報入力!Q14=\"\",\"\",②選手情報入力!Q14))","v":""},{"$f":"IF(E5=\"\",\"\",IF(②選手情報入力!O14=\"\",\"\",1))","v":""},{"$f":"IF(E5=\"\",\"\",IF(②選手情報入力!P14=\"\",\"\",IF(I5=1,VLOOKUP(②選手情報入力!P14,種目情報!$A$4:$C$29,3,FALSE),VLOOKUP(②選手情報入力!P14,種目情報!$E$4:$G$32,3,FALSE))))","v":""},{"$f":"IF(E5=\"\",\"\",IF(②選手情報入力!R14=\"\",\"\",IF(I5=1,種目情報!$J$4,種目情報!$J$6)))","v":""},{"$f":"IF(E5=\"\",\"\",IF(②選手情報入力!R14=\"\",\"\",IF(I5=1,IF(②選手情報入力!$S$6=\"\",\"\",②選手情報入力!$S$6),IF(②選手情報入力!$S$7=\"\",\"\",②選手情報入力!$S$7))))","v":""},{"$f":"IF(E5=\"\",\"\",IF(②選手情報入力!R14=\"\",\"\",IF(I5=1,IF(②選手情報入力!$R$6=\"\",0,1),IF(②選手情報入力!$R$7=\"\",0,1))))","v":""},{"$f":"IF(E5=\"\",\"\",IF(②選手情報入力!R14=\"\",\"\",2))","v":""},{"$f":"IF(E5=\"\",\"\",IF(②選手情報入力!T14=\"\",\"\",IF(I5=1,種目情報!$J$5,種目情報!$J$7)))","v":""},{"$f":"IF(E5=\"\",\"\",IF(②選手情報入力!T14=\"\",\"\",IF(I5=1,IF(②選手情報入力!$U$6=\"\",\"\",②選手情報入力!$U$6),IF(②選手情報入力!$U$7=\"\",\"\",②選手情報入力!$U$7))))","v":""},{"$f":"IF(E5=\"\",\"\",IF(②選手情報入力!T14=\"\",\"\",IF(I5=1,IF(②選手情報入力!$T$6=\"\",0,1),IF(②選手情報入力!$T$7=\"\",0,1))))","v":""},{"$f":"IF(E5=\"\",\"\",IF(②選手情報入力!T14=\"\",\"\",2))","v":""}]
[{"$f":"IF(E6=\"\",\"\",data_kyogisha!I6&①団体情報入力!C$4+②選手情報入力!C15+10000000)","v":""},{"$f":"IF(E6=\"\",\"\",①団体情報入力!$C$4)","v":""},null,{"$f":"IF(E6=\"\",\"\",②選手情報入力!B$11)","v":""},{"$f":"IF(②選手情報入力!C15=\"\",\"\",②選手情報入力!C15)","v":""},{"$f":"IF(E6=\"\",\"\",②選手情報入力!D15)","v":""},{"$f":"IF(E6=\"\",\"\",ASC(②選手情報入力!E15&\" \"&②選手情報入力!F15))","v":""},"",{"$f":"IF(E6=\"\",\"\",IF(②選手情報入力!G15=\"男\",1,2))","v":""},{"$f":"IF(E6=\"\",\"\",IF(②選手情報入力!H15=\"\",\"\",②選手情報入力!H15))","v":""},null,null,"",null,{"$f":"IF(E6=\"\",\"\",IF(②選手情報入力!J15=\"\",\"\",IF(I6=1,VLOOKUP(②選手情報入力!J15,種目情報!$A$4:$B$39,2,FALSE),VLOOKUP(②選手情報入力!J15,種目情報!$E$4:$F$29,2,FALSE))))","v":""},{"$f":"IF(E6=\"\",\"\",IF(②選手情報入力!K15=\"\",\"\",②選手情報入力!K15))","v":""},{"$f":"IF(E6=\"\",\"\",IF(②選手情報入力!I15=\"\",\"\",1))","v":""},{"$f":"IF(E6=\"\",\"\",IF(②選手情報入力!J15=\"\",\"\",IF(I6=1,VLOOKUP(②選手情報入力!J15,種目情報!$A$4:$C$29,3,FALSE),VLOOKUP(②選手情報入力!J15,種目情報!$E$4:$G$32,3,FALSE))))","v":""},{"$f":"IF(E6=\"\",\"\",IF(②選手情報入力!M15=\"\",\"\",IF(I6=1,VLOOKUP(②選手情報入力!M15,種目情報!$A$4:$B$29,2,FALSE),VLOOKUP(②選手情報入力!M15,種目情報!$E$4:$F$32,2,FALSE))))","v":""},{"$f":"IF(E6=\"\",\"\",IF(②選手情報入力!N15=\"\",\"\",②選手情報入力!N15))","v":""},{"$f":"IF(E6=\"\",\"\",IF(②選手情報入力!L15=\"\",\"\",1))","v":""},{"$f":"IF(E6=\"\",\"\",IF(②選手情報入力!M15=\"\",\"\",IF(I6=1,VLOOKUP(②選手情報入力!M15,種目情報!$A$4:$C$29,3,FALSE),VLOOKUP(②選手情報入力!M15,種目情報!$E$4:$G$32,3,FALSE))))","v":""},{"$f":"IF(E6=\"\",\"\",IF(②選手情報入力!P15=\"\",\"\",IF(I6=1,VLOOKUP(②選手情報入力!P15,種目情報!$A$4:$B$29,2,FALSE),VLOOKUP(②選手情報入力!P15,種目情報!$E$4:$F$32,2,FALSE))))","v":""},{"$f":"IF(E6=\"\",\"\",IF(②選手情報入力!Q15=\"\",\"\",②選手情報入力!Q15))","v":""},{"$f":"IF(E6=\"\",\"\",IF(②選手情報入力!O15=\"\",\"\",1))","v":""},{"$f":"IF(E6=\"\",\"\",IF(②選手情報入力!P15=\"\",\"\",IF(I6=1,VLOOKUP(②選手情報入力!P15,種目情報!$A$4:$C$29,3,FALSE),VLOOKUP(②選手情報入力!P15,種目情報!$E$4:$G$32,3,FALSE))))","v":""},{"$f":"IF(E6=\"\",\"\",IF(②選手情報入力!R15=\"\",\"\",IF(I6=1,種目情報!$J$4,種目情報!$J$6)))","v":""},{"$f":"IF(E6=\"\",\"\",IF(②選手情報入力!R15=\"\",\"\",IF(I6=1,IF(②選手情報入力!$S$6=\"\",\"\",②選手情報入力!$S$6),IF(②選手情報入力!$S$7=\"\",\"\",②選手情報入力!$S$7))))","v":""},{"$f":"IF(E6=\"\",\"\",IF(②選手情報入力!R15=\"\",\"\",IF(I6=1,IF(②選手情報入力!$R$6=\"\",0,1),IF(②選手情報入力!$R$7=\"\",0,1))))","v":""},{"$f":"IF(E6=\"\",\"\",IF(②選手情報入力!R15=\"\",\"\",2))","v":""},{"$f":"IF(E6=\"\",\"\",IF(②選手情報入力!T15=\"\",\"\",IF(I6=1,種目情報!$J$5,種目情報!$J$7)))","v":""},{"$f":"IF(E6=\"\",\"\",IF(②選手情報入力!T15=\"\",\"\",IF(I6=1,IF(②選手情報入力!$U$6=\"\",\"\",②選手情報入力!$U$6),IF(②選手情報入力!$U$7=\"\",\"\",②選手情報入力!$U$7))))","v":""},{"$f":"IF(E6=\"\",\"\",IF(②選手情報入力!T15=\"\",\"\",IF(I6=1,IF(②選手情報入力!$T$6=\"\",0,1),IF(②選手情報入力!$T$7=\"\",0,1))))","v":""},{"$f":"IF(E6=\"\",\"\",IF(②選手情報入力!T15=\"\",\"\",2))","v":""}]
[{"$f":"IF(E7=\"\",\"\",data_kyogisha!I7&①団体情報入力!C$4+②選手情報入力!C16+10000000)","v":""},{"$f":"IF(E7=\"\",\"\",①団体情報入力!$C$4)","v":""},null,{"$f":"IF(E7=\"\",\"\",②選手情報入力!B$11)","v":""},{"$f":"IF(②選手情報入力!C16=\"\",\"\",②選手情報入力!C16)","v":""},{"$f":"IF(E7=\"\",\"\",②選手情報入力!D16)","v":""},{"$f":"IF(E7=\"\",\"\",ASC(②選手情報入力!E16&\" \"&②選手情報入力!F16))","v":""},"",{"$f":"IF(E7=\"\",\"\",IF(②選手情報入力!G16=\"男\",1,2))","v":""},{"$f":"IF(E7=\"\",\"\",IF(②選手情報入力!H16=\"\",\"\",②選手情報入力!H16))","v":""},null,null,"",null,{"$f":"IF(E7=\"\",\"\",IF(②選手情報入力!J16=\"\",\"\",IF(I7=1,VLOOKUP(②選手情報入力!J16,種目情報!$A$4:$B$39,2,FALSE),VLOOKUP(②選手情報入力!J16,種目情報!$E$4:$F$29,2,FALSE))))","v":""},{"$f":"IF(E7=\"\",\"\",IF(②選手情報入力!K16=\"\",\"\",②選手情報入力!K16))","v":""},{"$f":"IF(E7=\"\",\"\",IF(②選手情報入力!I16=\"\",\"\",1))","v":""},{"$f":"IF(E7=\"\",\"\",IF(②選手情報入力!J16=\"\",\"\",IF(I7=1,VLOOKUP(②選手情報入力!J16,種目情報!$A$4:$C$29,3,FALSE),VLOOKUP(②選手情報入力!J16,種目情報!$E$4:$G$32,3,FALSE))))","v":""},{"$f":"IF(E7=\"\",\"\",IF(②選手情報入力!M16=\"\",\"\",IF(I7=1,VLOOKUP(②選手情報入力!M16,種目情報!$A$4:$B$29,2,FALSE),VLOOKUP(②選手情報入力!M16,種目情報!$E$4:$F$32,2,FALSE))))","v":""},{"$f":"IF(E7=\"\",\"\",IF(②選手情報入力!N16=\"\",\"\",②選手情報入力!N16))","v":""},{"$f":"IF(E7=\"\",\"\",IF(②選手情報入力!L16=\"\",\"\",1))","v":""},{"$f":"IF(E7=\"\",\"\",IF(②選手情報入力!M16=\"\",\"\",IF(I7=1,VLOOKUP(②選手情報入力!M16,種目情報!$A$4:$C$29,3,FALSE),VLOOKUP(②選手情報入力!M16,種目情報!$E$4:$G$32,3,FALSE))))","v":""},{"$f":"IF(E7=\"\",\"\",IF(②選手情報入力!P16=\"\",\"\",IF(I7=1,VLOOKUP(②選手情報入力!P16,種目情報!$A$4:$B$29,2,FALSE),VLOOKUP(②選手情報入力!P16,種目情報!$E$4:$F$32,2,FALSE))))","v":""},{"$f":"IF(E7=\"\",\"\",IF(②選手情報入力!Q16=\"\",\"\",②選手情報入力!Q16))","v":""},{"$f":"IF(E7=\"\",\"\",IF(②選手情報入力!O16=\"\",\"\",1))","v":""},{"$f":"IF(E7=\"\",\"\",IF(②選手情報入力!P16=\"\",\"\",IF(I7=1,VLOOKUP(②選手情報入力!P16,種目情報!$A$4:$C$29,3,FALSE),VLOOKUP(②選手情報入力!P16,種目情報!$E$4:$G$32,3,FALSE))))","v":""},{"$f":"IF(E7=\"\",\"\",IF(②選手情報入力!R16=\"\",\"\",IF(I7=1,種目情報!$J$4,種目情報!$J$6)))","v":""},{"$f":"IF(E7=\"\",\"\",IF(②選手情報入力!R16=\"\",\"\",IF(I7=1,IF(②選手情報入力!$S$6=\"\",\"\",②選手情報入力!$S$6),IF(②選手情報入力!$S$7=\"\",\"\",②選手情報入力!$S$7))))","v":""},{"$f":"IF(E7=\"\",\"\",IF(②選手情報入力!R16=\"\",\"\",IF(I7=1,IF(②選手情報入力!$R$6=\"\",0,1),IF(②選手情報入力!$R$7=\"\",0,1))))","v":""},{"$f":"IF(E7=\"\",\"\",IF(②選手情報入力!R16=\"\",\"\",2))","v":""},{"$f":"IF(E7=\"\",\"\",IF(②選手情報入力!T16=\"\",\"\",IF(I7=1,種目情報!$J$5,種目情報!$J$7)))","v":""},{"$f":"IF(E7=\"\",\"\",IF(②選手情報入力!T16=\"\",\"\",IF(I7=1,IF(②選手情報入力!$U$6=\"\",\"\",②選手情報入力!$U$6),IF(②選手情報入力!$U$7=\"\",\"\",②選手情報入力!$U$7))))","v":""},{"$f":"IF(E7=\"\",\"\",IF(②選手情報入力!T16=\"\",\"\",IF(I7=1,IF(②選手情報入力!$T$6=\"\",0,1),IF(②選手情報入力!$T$7=\"\",0,1))))","v":""},{"$f":"IF(E7=\"\",\"\",IF(②選手情報入力!T16=\"\",\"\",2))","v":""}]
[{"$f":"IF(E8=\"\",\"\",data_kyogisha!I8&①団体情報入力!C$4+②選手情報入力!C17+10000000)","v":""},{"$f":"IF(E8=\"\",\"\",①団体情報入力!$C$4)","v":""},null,{"$f":"IF(E8=\"\",\"\",②選手情報入力!B$11)","v":""},{"$f":"IF(②選手情報入力!C17=\"\",\"\",②選手情報入力!C17)","v":""},{"$f":"IF(E8=\"\",\"\",②選手情報入力!D17)","v":""},{"$f":"IF(E8=\"\",\"\",ASC(②選手情報入力!E17&\" \"&②選手情報入力!F17))","v":""},"",{"$f":"IF(E8=\"\",\"\",IF(②選手情報入力!G17=\"男\",1,2))","v":""},{"$f":"IF(E8=\"\",\"\",IF(②選手情報入力!H17=\"\",\"\",②選手情報入力!H17))","v":""},null,null,"",null,{"$f":"IF(E8=\"\",\"\",IF(②選手情報入力!J17=\"\",\"\",IF(I8=1,VLOOKUP(②選手情報入力!J17,種目情報!$A$4:$B$39,2,FALSE),VLOOKUP(②選手情報入力!J17,種目情報!$E$4:$F$29,2,FALSE))))","v":""},{"$f":"IF(E8=\"\",\"\",IF(②選手情報入力!K17=\"\",\"\",②選手情報入力!K17))","v":""},{"$f":"IF(E8=\"\",\"\",IF(②選手情報入力!I17=\"\",\"\",1))","v":""},{"$f":"IF(E8=\"\",\"\",IF(②選手情報入力!J17=\"\",\"\",IF(I8=1,VLOOKUP(②選手情報入力!J17,種目情報!$A$4:$C$29,3,FALSE),VLOOKUP(②選手情報入力!J17,種目情報!$E$4:$G$32,3,FALSE))))","v":""},{"$f":"IF(E8=\"\",\"\",IF(②選手情報入力!M17=\"\",\"\",IF(I8=1,VLOOKUP(②選手情報入力!M17,種目情報!$A$4:$B$29,2,FALSE),VLOOKUP(②選手情報入力!M17,種目情報!$E$4:$F$32,2,FALSE))))","v":""},{"$f":"IF(E8=\"\",\"\",IF(②選手情報入力!N17=\"\",\"\",②選手情報入力!N17))","v":""},{"$f":"IF(E8=\"\",\"\",IF(②選手情報入力!L17=\"\",\"\",1))","v":""},{"$f":"IF(E8=\"\",\"\",IF(②選手情報入力!M17=\"\",\"\",IF(I8=1,VLOOKUP(②選手情報入力!M17,種目情報!$A$4:$C$29,3,FALSE),VLOOKUP(②選手情報入力!M17,種目情報!$E$4:$G$32,3,FALSE))))","v":""},{"$f":"IF(E8=\"\",\"\",IF(②選手情報入力!P17=\"\",\"\",IF(I8=1,VLOOKUP(②選手情報入力!P17,種目情報!$A$4:$B$29,2,FALSE),VLOOKUP(②選手情報入力!P17,種目情報!$E$4:$F$32,2,FALSE))))","v":""},{"$f":"IF(E8=\"\",\"\",IF(②選手情報入力!Q17=\"\",\"\",②選手情報入力!Q17))","v":""},{"$f":"IF(E8=\"\",\"\",IF(②選手情報入力!O17=\"\",\"\",1))","v":""},{"$f":"IF(E8=\"\",\"\",IF(②選手情報入力!P17=\"\",\"\",IF(I8=1,VLOOKUP(②選手情報入力!P17,種目情報!$A$4:$C$29,3,FALSE),VLOOKUP(②選手情報入力!P17,種目情報!$E$4:$G$32,3,FALSE))))","v":""},{"$f":"IF(E8=\"\",\"\",IF(②選手情報入力!R17=\"\",\"\",IF(I8=1,種目情報!$J$4,種目情報!$J$6)))","v":""},{"$f":"IF(E8=\"\",\"\",IF(②選手情報入力!R17=\"\",\"\",IF(I8=1,IF(②選手情報入力!$S$6=\"\",\"\",②選手情報入力!$S$6),IF(②選手情報入力!$S$7=\"\",\"\",②選手情報入力!$S$7))))","v":""},{"$f":"IF(E8=\"\",\"\",IF(②選手情報入力!R17=\"\",\"\",IF(I8=1,IF(②選手情報入力!$R$6=\"\",0,1),IF(②選手情報入力!$R$7=\"\",0,1))))","v":""},{"$f":"IF(E8=\"\",\"\",IF(②選手情報入力!R17=\"\",\"\",2))","v":""},{"$f":"IF(E8=\"\",\"\",IF(②選手情報入力!T17=\"\",\"\",IF(I8=1,種目情報!$J$5,種目情報!$J$7)))","v":""},{"$f":"IF(E8=\"\",\"\",IF(②選手情報入力!T17=\"\",\"\",IF(I8=1,IF(②選手情報入力!$U$6=\"\",\"\",②選手情報入力!$U$6),IF(②選手情報入力!$U$7=\"\",\"\",②選手情報入力!$U$7))))","v":""},{"$f":"IF(E8=\"\",\"\",IF(②選手情報入力!T17=\"\",\"\",IF(I8=1,IF(②選手情報入力!$T$6=\"\",0,1),IF(②選手情報入力!$T$7=\"\",0,1))))","v":""},{"$f":"IF(E8=\"\",\"\",IF(②選手情報入力!T17=\"\",\"\",2))","v":""}]
[{"$f":"IF(E9=\"\",\"\",data_kyogisha!I9&①団体情報入力!C$4+②選手情報入力!C18+10000000)","v":""},{"$f":"IF(E9=\"\",\"\",①団体情報入力!$C$4)","v":""},null,{"$f":"IF(E9=\"\",\"\",②選手情報入力!B$11)","v":""},{"$f":"IF(②選手情報入力!C18=\"\",\"\",②選手情報入力!C18)","v":""},{"$f":"IF(E9=\"\",\"\",②選手情報入力!D18)","v":""},{"$f":"IF(E9=\"\",\"\",ASC(②選手情報入力!E18&\" \"&②選手情報入力!F18))","v":""},"",{"$f":"IF(E9=\"\",\"\",IF(②選手情報入力!G18=\"男\",1,2))","v":""},{"$f":"IF(E9=\"\",\"\",IF(②選手情報入力!H18=\"\",\"\",②選手情報入力!H18))","v":""},null,null,"",null,{"$f":"IF(E9=\"\",\"\",IF(②選手情報入力!J18=\"\",\"\",IF(I9=1,VLOOKUP(②選手情報入力!J18,種目情報!$A$4:$B$39,2,FALSE),VLOOKUP(②選手情報入力!J18,種目情報!$E$4:$F$29,2,FALSE))))","v":""},{"$f":"IF(E9=\"\",\"\",IF(②選手情報入力!K18=\"\",\"\",②選手情報入力!K18))","v":""},{"$f":"IF(E9=\"\",\"\",IF(②選手情報入力!I18=\"\",\"\",1))","v":""},{"$f":"IF(E9=\"\",\"\",IF(②選手情報入力!J18=\"\",\"\",IF(I9=1,VLOOKUP(②選手情報入力!J18,種目情報!$A$4:$C$29,3,FALSE),VLOOKUP(②選手情報入力!J18,種目情報!$E$4:$G$32,3,FALSE))))","v":""},{"$f":"IF(E9=\"\",\"\",IF(②選手情報入力!M18=\"\",\"\",IF(I9=1,VLOOKUP(②選手情報入力!M18,種目情報!$A$4:$B$29,2,FALSE),VLOOKUP(②選手情報入力!M18,種目情報!$E$4:$F$32,2,FALSE))))","v":""},{"$f":"IF(E9=\"\",\"\",IF(②選手情報入力!N18=\"\",\"\",②選手情報入力!N18))","v":""},{"$f":"IF(E9=\"\",\"\",IF(②選手情報入力!L18=\"\",\"\",1))","v":""},{"$f":"IF(E9=\"\",\"\",IF(②選手情報入力!M18=\"\",\"\",IF(I9=1,VLOOKUP(②選手情報入力!M18,種目情報!$A$4:$C$29,3,FALSE),VLOOKUP(②選手情報入力!M18,種目情報!$E$4:$G$32,3,FALSE))))","v":""},{"$f":"IF(E9=\"\",\"\",IF(②選手情報入力!P18=\"\",\"\",IF(I9=1,VLOOKUP(②選手情報入力!P18,種目情報!$A$4:$B$29,2,FALSE),VLOOKUP(②選手情報入力!P18,種目情報!$E$4:$F$32,2,FALSE))))","v":""},{"$f":"IF(E9=\"\",\"\",IF(②選手情報入力!Q18=\"\",\"\",②選手情報入力!Q18))","v":""},{"$f":"IF(E9=\"\",\"\",IF(②選手情報入力!O18=\"\",\"\",1))","v":""},{"$f":"IF(E9=\"\",\"\",IF(②選手情報入力!P18=\"\",\"\",IF(I9=1,VLOOKUP(②選手情報入力!P18,種目情報!$A$4:$C$29,3,FALSE),VLOOKUP(②選手情報入力!P18,種目情報!$E$4:$G$32,3,FALSE))))","v":""},{"$f":"IF(E9=\"\",\"\",IF(②選手情報入力!R18=\"\",\"\",IF(I9=1,種目情報!$J$4,種目情報!$J$6)))","v":""},{"$f":"IF(E9=\"\",\"\",IF(②選手情報入力!R18=\"\",\"\",IF(I9=1,IF(②選手情報入力!$S$6=\"\",\"\",②選手情報入力!$S$6),IF(②選手情報入力!$S$7=\"\",\"\",②選手情報入力!$S$7))))","v":""},{"$f":"IF(E9=\"\",\"\",IF(②選手情報入力!R18=\"\",\"\",IF(I9=1,IF(②選手情報入力!$R$6=\"\",0,1),IF(②選手情報入力!$R$7=\"\",0,1))))","v":""},{"$f":"IF(E9=\"\",\"\",IF(②選手情報入力!R18=\"\",\"\",2))","v":""},{"$f":"IF(E9=\"\",\"\",IF(②選手情報入力!T18=\"\",\"\",IF(I9=1,種目情報!$J$5,種目情報!$J$7)))","v":""},{"$f":"IF(E9=\"\",\"\",IF(②選手情報入力!T18=\"\",\"\",IF(I9=1,IF(②選手情報入力!$U$6=\"\",\"\",②選手情報入力!$U$6),IF(②選手情報入力!$U$7=\"\",\"\",②選手情報入力!$U$7))))","v":""},{"$f":"IF(E9=\"\",\"\",IF(②選手情報入力!T18=\"\",\"\",IF(I9=1,IF(②選手情報入力!$T$6=\"\",0,1),IF(②選手情報入力!$T$7=\"\",0,1))))","v":""},{"$f":"IF(E9=\"\",\"\",IF(②選手情報入力!T18=\"\",\"\",2))","v":""}]
[{"$f":"IF(E10=\"\",\"\",data_kyogisha!I10&①団体情報入力!C$4+②選手情報入力!C19+10000000)","v":""},{"$f":"IF(E10=\"\",\"\",①団体情報入力!$C$4)","v":""},null,{"$f":"IF(E10=\"\",\"\",②選手情報入力!B$11)","v":""},{"$f":"IF(②選手情報入力!C19=\"\",\"\",②選手情報入力!C19)","v":""},{"$f":"IF(E10=\"\",\"\",②選手情報入力!D19)","v":""},{"$f":"IF(E10=\"\",\"\",ASC(②選手情報入力!E19&\" \"&②選手情報入力!F19))","v":""},"",{"$f":"IF(E10=\"\",\"\",IF(②選手情報入力!G19=\"男\",1,2))","v":""},{"$f":"IF(E10=\"\",\"\",IF(②選手情報入力!H19=\"\",\"\",②選手情報入力!H19))","v":""},null,null,"",null,{"$f":"IF(E10=\"\",\"\",IF(②選手情報入力!J19=\"\",\"\",IF(I10=1,VLOOKUP(②選手情報入力!J19,種目情報!$A$4:$B$39,2,FALSE),VLOOKUP(②選手情報入力!J19,種目情報!$E$4:$F$29,2,FALSE))))","v":""},{"$f":"IF(E10=\"\",\"\",IF(②選手情報入力!K19=\"\",\"\",②選手情報入力!K19))","v":""},{"$f":"IF(E10=\"\",\"\",IF(②選手情報入力!I19=\"\",\"\",1))","v":""},{"$f":"IF(E10=\"\",\"\",IF(②選手情報入力!J19=\"\",\"\",IF(I10=1,VLOOKUP(②選手情報入力!J19,種目情報!$A$4:$C$29,3,FALSE),VLOOKUP(②選手情報入力!J19,種目情報!$E$4:$G$32,3,FALSE))))","v":""},{"$f":"IF(E10=\"\",\"\",IF(②選手情報入力!M19=\"\",\"\",IF(I10=1,VLOOKUP(②選手情報入力!M19,種目情報!$A$4:$B$29,2,FALSE),VLOOKUP(②選手情報入力!M19,種目情報!$E$4:$F$32,2,FALSE))))","v":""},{"$f":"IF(E10=\"\",\"\",IF(②選手情報入力!N19=\"\",\"\",②選手情報入力!N19))","v":""},{"$f":"IF(E10=\"\",\"\",IF(②選手情報入力!L19=\"\",\"\",1))","v":""},{"$f":"IF(E10=\"\",\"\",IF(②選手情報入力!M19=\"\",\"\",IF(I10=1,VLOOKUP(②選手情報入力!M19,種目情報!$A$4:$C$29,3,FALSE),VLOOKUP(②選手情報入力!M19,種目情報!$E$4:$G$32,3,FALSE))))","v":""},{"$f":"IF(E10=\"\",\"\",IF(②選手情報入力!P19=\"\",\"\",IF(I10=1,VLOOKUP(②選手情報入力!P19,種目情報!$A$4:$B$29,2,FALSE),VLOOKUP(②選手情報入力!P19,種目情報!$E$4:$F$32,2,FALSE))))","v":""},{"$f":"IF(E10=\"\",\"\",IF(②選手情報入力!Q19=\"\",\"\",②選手情報入力!Q19))","v":""},{"$f":"IF(E10=\"\",\"\",IF(②選手情報入力!O19=\"\",\"\",1))","v":""},{"$f":"IF(E10=\"\",\"\",IF(②選手情報入力!P19=\"\",\"\",IF(I10=1,VLOOKUP(②選手情報入力!P19,種目情報!$A$4:$C$29,3,FALSE),VLOOKUP(②選手情報入力!P19,種目情報!$E$4:$G$32,3,FALSE))))","v":""},{"$f":"IF(E10=\"\",\"\",IF(②選手情報入力!R19=\"\",\"\",IF(I10=1,種目情報!$J$4,種目情報!$J$6)))","v":""},{"$f":"IF(E10=\"\",\"\",IF(②選手情報入力!R19=\"\",\"\",IF(I10=1,IF(②選手情報入力!$S$6=\"\",\"\",②選手情報入力!$S$6),IF(②選手情報入力!$S$7=\"\",\"\",②選手情報入力!$S$7))))","v":""},{"$f":"IF(E10=\"\",\"\",IF(②選手情報入力!R19=\"\",\"\",IF(I10=1,IF(②選手情報入力!$R$6=\"\",0,1),IF(②選手情報入力!$R$7=\"\",0,1))))","v":""},{"$f":"IF(E10=\"\",\"\",IF(②選手情報入力!R19=\"\",\"\",2))","v":""},{"$f":"IF(E10=\"\",\"\",IF(②選手情報入力!T19=\"\",\"\",IF(I10=1,種目情報!$J$5,種目情報!$J$7)))","v":""},{"$f":"IF(E10=\"\",\"\",IF(②選手情報入力!T19=\"\",\"\",IF(I10=1,IF(②選手情報入力!$U$6=\"\",\"\",②選手情報入力!$U$6),IF(②選手情報入力!$U$7=\"\",\"\",②選手情報入力!$U$7))))","v":""},{"$f":"IF(E10=\"\",\"\",IF(②選手情報入力!T19=\"\",\"\",IF(I10=1,IF(②選手情報入力!$T$6=\"\",0,1),IF(②選手情報入力!$T$7=\"\",0,1))))","v":""},{"$f":"IF(E10=\"\",\"\",IF(②選手情報入力!T19=\"\",\"\",2))","v":""}]
[{"$f":"IF(E11=\"\",\"\",data_kyogisha!I11&①団体情報入力!C$4+②選手情報入力!C20+10000000)","v":""},{"$f":"IF(E11=\"\",\"\",①団体情報入力!$C$4)","v":""},null,{"$f":"IF(E11=\"\",\"\",②選手情報入力!B$11)","v":""},{"$f":"IF(②選手情報入力!C20=\"\",\"\",②選手情報入力!C20)","v":""},{"$f":"IF(E11=\"\",\"\",②選手情報入力!D20)","v":""},{"$f":"IF(E11=\"\",\"\",ASC(②選手情報入力!E20&\" \"&②選手情報入力!F20))","v":""},"",{"$f":"IF(E11=\"\",\"\",IF(②選手情報入力!G20=\"男\",1,2))","v":""},{"$f":"IF(E11=\"\",\"\",IF(②選手情報入力!H20=\"\",\"\",②選手情報入力!H20))","v":""},null,null,"",null,{"$f":"IF(E11=\"\",\"\",IF(②選手情報入力!J20=\"\",\"\",IF(I11=1,VLOOKUP(②選手情報入力!J20,種目情報!$A$4:$B$39,2,FALSE),VLOOKUP(②選手情報入力!J20,種目情報!$E$4:$F$29,2,FALSE))))","v":""},{"$f":"IF(E11=\"\",\"\",IF(②選手情報入力!K20=\"\",\"\",②選手情報入力!K20))","v":""},{"$f":"IF(E11=\"\",\"\",IF(②選手情報入力!I20=\"\",\"\",1))","v":""},{"$f":"IF(E11=\"\",\"\",IF(②選手情報入力!J20=\"\",\"\",IF(I11=1,VLOOKUP(②選手情報入力!J20,種目情報!$A$4:$C$29,3,FALSE),VLOOKUP(②選手情報入力!J20,種目情報!$E$4:$G$32,3,FALSE))))","v":""},{"$f":"IF(E11=\"\",\"\",IF(②選手情報入力!M20=\"\",\"\",IF(I11=1,VLOOKUP(②選手情報入力!M20,種目情報!$A$4:$B$29,2,FALSE),VLOOKUP(②選手情報入力!M20,種目情報!$E$4:$F$32,2,FALSE))))","v":""},{"$f":"IF(E11=\"\",\"\",IF(②選手情報入力!N20=\"\",\"\",②選手情報入力!N20))","v":""},{"$f":"IF(E11=\"\",\"\",IF(②選手情報入力!L20=\"\",\"\",1))","v":""},{"$f":"IF(E11=\"\",\"\",IF(②選手情報入力!M20=\"\",\"\",IF(I11=1,VLOOKUP(②選手情報入力!M20,種目情報!$A$4:$C$29,3,FALSE),VLOOKUP(②選手情報入力!M20,種目情報!$E$4:$G$32,3,FALSE))))","v":""},{"$f":"IF(E11=\"\",\"\",IF(②選手情報入力!P20=\"\",\"\",IF(I11=1,VLOOKUP(②選手情報入力!P20,種目情報!$A$4:$B$29,2,FALSE),VLOOKUP(②選手情報入力!P20,種目情報!$E$4:$F$32,2,FALSE))))","v":""},{"$f":"IF(E11=\"\",\"\",IF(②選手情報入力!Q20=\"\",\"\",②選手情報入力!Q20))","v":""},{"$f":"IF(E11=\"\",\"\",IF(②選手情報入力!O20=\"\",\"\",1))","v":""},{"$f":"IF(E11=\"\",\"\",IF(②選手情報入力!P20=\"\",\"\",IF(I11=1,VLOOKUP(②選手情報入力!P20,種目情報!$A$4:$C$29,3,FALSE),VLOOKUP(②選手情報入力!P20,種目情報!$E$4:$G$32,3,FALSE))))","v":""},{"$f":"IF(E11=\"\",\"\",IF(②選手情報入力!R20=\"\",\"\",IF(I11=1,種目情報!$J$4,種目情報!$J$6)))","v":""},{"$f":"IF(E11=\"\",\"\",IF(②選手情報入力!R20=\"\",\"\",IF(I11=1,IF(②選手情報入力!$S$6=\"\",\"\",②選手情報入力!$S$6),IF(②選手情報入力!$S$7=\"\",\"\",②選手情報入力!$S$7))))","v":""},{"$f":"IF(E11=\"\",\"\",IF(②選手情報入力!R20=\"\",\"\",IF(I11=1,IF(②選手情報入力!$R$6=\"\",0,1),IF(②選手情報入力!$R$7=\"\",0,1))))","v":""},{"$f":"IF(E11=\"\",\"\",IF(②選手情報入力!R20=\"\",\"\",2))","v":""},{"$f":"IF(E11=\"\",\"\",IF(②選手情報入力!T20=\"\",\"\",IF(I11=1,種目情報!$J$5,種目情報!$J$7)))","v":""},{"$f":"IF(E11=\"\",\"\",IF(②選手情報入力!T20=\"\",\"\",IF(I11=1,IF(②選手情報入力!$U$6=\"\",\"\",②選手情報入力!$U$6),IF(②選手情報入力!$U$7=\"\",\"\",②選手情報入力!$U$7))))","v":""},{"$f":"IF(E11=\"\",\"\",IF(②選手情報入力!T20=\"\",\"\",IF(I11=1,IF(②選手情報入力!$T$6=\"\",0,1),IF(②選手情報入力!$T$7=\"\",0,1))))","v":""},{"$f":"IF(E11=\"\",\"\",IF(②選手情報入力!T20=\"\",\"\",2))","v":""}]
[{"$f":"IF(E12=\"\",\"\",data_kyogisha!I12&①団体情報入力!C$4+②選手情報入力!C21+10000000)","v":""},{"$f":"IF(E12=\"\",\"\",①団体情報入力!$C$4)","v":""},null,{"$f":"IF(E12=\"\",\"\",②選手情報入力!B$11)","v":""},{"$f":"IF(②選手情報入力!C21=\"\",\"\",②選手情報入力!C21)","v":""},{"$f":"IF(E12=\"\",\"\",②選手情報入力!D21)","v":""},{"$f":"IF(E12=\"\",\"\",ASC(②選手情報入力!E21&\" \"&②選手情報入力!F21))","v":""},"",{"$f":"IF(E12=\"\",\"\",IF(②選手情報入力!G21=\"男\",1,2))","v":""},{"$f":"IF(E12=\"\",\"\",IF(②選手情報入力!H21=\"\",\"\",②選手情報入力!H21))","v":""},null,null,"",null,{"$f":"IF(E12=\"\",\"\",IF(②選手情報入力!J21=\"\",\"\",IF(I12=1,VLOOKUP(②選手情報入力!J21,種目情報!$A$4:$B$39,2,FALSE),VLOOKUP(②選手情報入力!J21,種目情報!$E$4:$F$29,2,FALSE))))","v":""},{"$f":"IF(E12=\"\",\"\",IF(②選手情報入力!K21=\"\",\"\",②選手情報入力!K21))","v":""},{"$f":"IF(E12=\"\",\"\",IF(②選手情報入力!I21=\"\",\"\",1))","v":""},{"$f":"IF(E12=\"\",\"\",IF(②選手情報入力!J21=\"\",\"\",IF(I12=1,VLOOKUP(②選手情報入力!J21,種目情報!$A$4:$C$29,3,FALSE),VLOOKUP(②選手情報入力!J21,種目情報!$E$4:$G$32,3,FALSE))))","v":""},{"$f":"IF(E12=\"\",\"\",IF(②選手情報入力!M21=\"\",\"\",IF(I12=1,VLOOKUP(②選手情報入力!M21,種目情報!$A$4:$B$29,2,FALSE),VLOOKUP(②選手情報入力!M21,種目情報!$E$4:$F$32,2,FALSE))))","v":""},{"$f":"IF(E12=\"\",\"\",IF(②選手情報入力!N21=\"\",\"\",②選手情報入力!N21))","v":""},{"$f":"IF(E12=\"\",\"\",IF(②選手情報入力!L21=\"\",\"\",1))","v":""},{"$f":"IF(E12=\"\",\"\",IF(②選手情報入力!M21=\"\",\"\",IF(I12=1,VLOOKUP(②選手情報入力!M21,種目情報!$A$4:$C$29,3,FALSE),VLOOKUP(②選手情報入力!M21,種目情報!$E$4:$G$32,3,FALSE))))","v":""},{"$f":"IF(E12=\"\",\"\",IF(②選手情報入力!P21=\"\",\"\",IF(I12=1,VLOOKUP(②選手情報入力!P21,種目情報!$A$4:$B$29,2,FALSE),VLOOKUP(②選手情報入力!P21,種目情報!$E$4:$F$32,2,FALSE))))","v":""},{"$f":"IF(E12=\"\",\"\",IF(②選手情報入力!Q21=\"\",\"\",②選手情報入力!Q21))","v":""},{"$f":"IF(E12=\"\",\"\",IF(②選手情報入力!O21=\"\",\"\",1))","v":""},{"$f":"IF(E12=\"\",\"\",IF(②選手情報入力!P21=\"\",\"\",IF(I12=1,VLOOKUP(②選手情報入力!P21,種目情報!$A$4:$C$29,3,FALSE),VLOOKUP(②選手情報入力!P21,種目情報!$E$4:$G$32,3,FALSE))))","v":""},{"$f":"IF(E12=\"\",\"\",IF(②選手情報入力!R21=\"\",\"\",IF(I12=1,種目情報!$J$4,種目情報!$J$6)))","v":""},{"$f":"IF(E12=\"\",\"\",IF(②選手情報入力!R21=\"\",\"\",IF(I12=1,IF(②選手情報入力!$S$6=\"\",\"\",②選手情報入力!$S$6),IF(②選手情報入力!$S$7=\"\",\"\",②選手情報入力!$S$7))))","v":""},{"$f":"IF(E12=\"\",\"\",IF(②選手情報入力!R21=\"\",\"\",IF(I12=1,IF(②選手情報入力!$R$6=\"\",0,1),IF(②選手情報入力!$R$7=\"\",0,1))))","v":""},{"$f":"IF(E12=\"\",\"\",IF(②選手情報入力!R21=\"\",\"\",2))","v":""},{"$f":"IF(E12=\"\",\"\",IF(②選手情報入力!T21=\"\",\"\",IF(I12=1,種目情報!$J$5,種目情報!$J$7)))","v":""},{"$f":"IF(E12=\"\",\"\",IF(②選手情報入力!T21=\"\",\"\",IF(I12=1,IF(②選手情報入力!$U$6=\"\",\"\",②選手情報入力!$U$6),IF(②選手情報入力!$U$7=\"\",\"\",②選手情報入力!$U$7))))","v":""},{"$f":"IF(E12=\"\",\"\",IF(②選手情報入力!T21=\"\",\"\",IF(I12=1,IF(②選手情報入力!$T$6=\"\",0,1),IF(②選手情報入力!$T$7=\"\",0,1))))","v":""},{"$f":"IF(E12=\"\",\"\",IF(②選手情報入力!T21=\"\",\"\",2))","v":""}]
[{"$f":"IF(E13=\"\",\"\",data_kyogisha!I13&①団体情報入力!C$4+②選手情報入力!C22+10000000)","v":""},{"$f":"IF(E13=\"\",\"\",①団体情報入力!$C$4)","v":""},null,{"$f":"IF(E13=\"\",\"\",②選手情報入力!B$11)","v":""},{"$f":"IF(②選手情報入力!C22=\"\",\"\",②選手情報入力!C22)","v":""},{"$f":"IF(E13=\"\",\"\",②選手情報入力!D22)","v":""},{"$f":"IF(E13=\"\",\"\",ASC(②選手情報入力!E22&\" \"&②選手情報入力!F22))","v":""},"",{"$f":"IF(E13=\"\",\"\",IF(②選手情報入力!G22=\"男\",1,2))","v":""},{"$f":"IF(E13=\"\",\"\",IF(②選手情報入力!H22=\"\",\"\",②選手情報入力!H22))","v":""},null,null,"",null,{"$f":"IF(E13=\"\",\"\",IF(②選手情報入力!J22=\"\",\"\",IF(I13=1,VLOOKUP(②選手情報入力!J22,種目情報!$A$4:$B$39,2,FALSE),VLOOKUP(②選手情報入力!J22,種目情報!$E$4:$F$29,2,FALSE))))","v":""},{"$f":"IF(E13=\"\",\"\",IF(②選手情報入力!K22=\"\",\"\",②選手情報入力!K22))","v":""},{"$f":"IF(E13=\"\",\"\",IF(②選手情報入力!I22=\"\",\"\",1))","v":""},{"$f":"IF(E13=\"\",\"\",IF(②選手情報入力!J22=\"\",\"\",IF(I13=1,VLOOKUP(②選手情報入力!J22,種目情報!$A$4:$C$29,3,FALSE),VLOOKUP(②選手情報入力!J22,種目情報!$E$4:$G$32,3,FALSE))))","v":""},{"$f":"IF(E13=\"\",\"\",IF(②選手情報入力!M22=\"\",\"\",IF(I13=1,VLOOKUP(②選手情報入力!M22,種目情報!$A$4:$B$29,2,FALSE),VLOOKUP(②選手情報入力!M22,種目情報!$E$4:$F$32,2,FALSE))))","v":""},{"$f":"IF(E13=\"\",\"\",IF(②選手情報入力!N22=\"\",\"\",②選手情報入力!N22))","v":""},{"$f":"IF(E13=\"\",\"\",IF(②選手情報入力!L22=\"\",\"\",1))","v":""},{"$f":"IF(E13=\"\",\"\",IF(②選手情報入力!M22=\"\",\"\",IF(I13=1,VLOOKUP(②選手情報入力!M22,種目情報!$A$4:$C$29,3,FALSE),VLOOKUP(②選手情報入力!M22,種目情報!$E$4:$G$32,3,FALSE))))","v":""},{"$f":"IF(E13=\"\",\"\",IF(②選手情報入力!P22=\"\",\"\",IF(I13=1,VLOOKUP(②選手情報入力!P22,種目情報!$A$4:$B$29,2,FALSE),VLOOKUP(②選手情報入力!P22,種目情報!$E$4:$F$32,2,FALSE))))","v":""},{"$f":"IF(E13=\"\",\"\",IF(②選手情報入力!Q22=\"\",\"\",②選手情報入力!Q22))","v":""},{"$f":"IF(E13=\"\",\"\",IF(②選手情報入力!O22=\"\",\"\",1))","v":""},{"$f":"IF(E13=\"\",\"\",IF(②選手情報入力!P22=\"\",\"\",IF(I13=1,VLOOKUP(②選手情報入力!P22,種目情報!$A$4:$C$29,3,FALSE),VLOOKUP(②選手情報入力!P22,種目情報!$E$4:$G$32,3,FALSE))))","v":""},{"$f":"IF(E13=\"\",\"\",IF(②選手情報入力!R22=\"\",\"\",IF(I13=1,種目情報!$J$4,種目情報!$J$6)))","v":""},{"$f":"IF(E13=\"\",\"\",IF(②選手情報入力!R22=\"\",\"\",IF(I13=1,IF(②選手情報入力!$S$6=\"\",\"\",②選手情報入力!$S$6),IF(②選手情報入力!$S$7=\"\",\"\",②選手情報入力!$S$7))))","v":""},{"$f":"IF(E13=\"\",\"\",IF(②選手情報入力!R22=\"\",\"\",IF(I13=1,IF(②選手情報入力!$R$6=\"\",0,1),IF(②選手情報入力!$R$7=\"\",0,1))))","v":""},{"$f":"IF(E13=\"\",\"\",IF(②選手情報入力!R22=\"\",\"\",2))","v":""},{"$f":"IF(E13=\"\",\"\",IF(②選手情報入力!T22=\"\",\"\",IF(I13=1,種目情報!$J$5,種目情報!$J$7)))","v":""},{"$f":"IF(E13=\"\",\"\",IF(②選手情報入力!T22=\"\",\"\",IF(I13=1,IF(②選手情報入力!$U$6=\"\",\"\",②選手情報入力!$U$6),IF(②選手情報入力!$U$7=\"\",\"\",②選手情報入力!$U$7))))","v":""},{"$f":"IF(E13=\"\",\"\",IF(②選手情報入力!T22=\"\",\"\",IF(I13=1,IF(②選手情報入力!$T$6=\"\",0,1),IF(②選手情報入力!$T$7=\"\",0,1))))","v":""},{"$f":"IF(E13=\"\",\"\",IF(②選手情報入力!T22=\"\",\"\",2))","v":""}]
[{"$f":"IF(E14=\"\",\"\",data_kyogisha!I14&①団体情報入力!C$4+②選手情報入力!C23+10000000)","v":""},{"$f":"IF(E14=\"\",\"\",①団体情報入力!$C$4)","v":""},null,{"$f":"IF(E14=\"\",\"\",②選手情報入力!B$11)","v":""},{"$f":"IF(②選手情報入力!C23=\"\",\"\",②選手情報入力!C23)","v":""},{"$f":"IF(E14=\"\",\"\",②選手情報入力!D23)","v":""},{"$f":"IF(E14=\"\",\"\",ASC(②選手情報入力!E23&\" \"&②選手情報入力!F23))","v":""},"",{"$f":"IF(E14=\"\",\"\",IF(②選手情報入力!G23=\"男\",1,2))","v":""},{"$f":"IF(E14=\"\",\"\",IF(②選手情報入力!H23=\"\",\"\",②選手情報入力!H23))","v":""},null,null,"",null,{"$f":"IF(E14=\"\",\"\",IF(②選手情報入力!J23=\"\",\"\",IF(I14=1,VLOOKUP(②選手情報入力!J23,種目情報!$A$4:$B$39,2,FALSE),VLOOKUP(②選手情報入力!J23,種目情報!$E$4:$F$29,2,FALSE))))","v":""},{"$f":"IF(E14=\"\",\"\",IF(②選手情報入力!K23=\"\",\"\",②選手情報入力!K23))","v":""},{"$f":"IF(E14=\"\",\"\",IF(②選手情報入力!I23=\"\",\"\",1))","v":""},{"$f":"IF(E14=\"\",\"\",IF(②選手情報入力!J23=\"\",\"\",IF(I14=1,VLOOKUP(②選手情報入力!J23,種目情報!$A$4:$C$29,3,FALSE),VLOOKUP(②選手情報入力!J23,種目情報!$E$4:$G$32,3,FALSE))))","v":""},{"$f":"IF(E14=\"\",\"\",IF(②選手情報入力!M23=\"\",\"\",IF(I14=1,VLOOKUP(②選手情報入力!M23,種目情報!$A$4:$B$29,2,FALSE),VLOOKUP(②選手情報入力!M23,種目情報!$E$4:$F$32,2,FALSE))))","v":""},{"$f":"IF(E14=\"\",\"\",IF(②選手情報入力!N23=\"\",\"\",②選手情報入力!N23))","v":""},{"$f":"IF(E14=\"\",\"\",IF(②選手情報入力!L23=\"\",\"\",1))","v":""},{"$f":"IF(E14=\"\",\"\",IF(②選手情報入力!M23=\"\",\"\",IF(I14=1,VLOOKUP(②選手情報入力!M23,種目情報!$A$4:$C$29,3,FALSE),VLOOKUP(②選手情報入力!M23,種目情報!$E$4:$G$32,3,FALSE))))","v":""},{"$f":"IF(E14=\"\",\"\",IF(②選手情報入力!P23=\"\",\"\",IF(I14=1,VLOOKUP(②選手情報入力!P23,種目情報!$A$4:$B$29,2,FALSE),VLOOKUP(②選手情報入力!P23,種目情報!$E$4:$F$32,2,FALSE))))","v":""},{"$f":"IF(E14=\"\",\"\",IF(②選手情報入力!Q23=\"\",\"\",②選手情報入力!Q23))","v":""},{"$f":"IF(E14=\"\",\"\",IF(②選手情報入力!O23=\"\",\"\",1))","v":""},{"$f":"IF(E14=\"\",\"\",IF(②選手情報入力!P23=\"\",\"\",IF(I14=1,VLOOKUP(②選手情報入力!P23,種目情報!$A$4:$C$29,3,FALSE),VLOOKUP(②選手情報入力!P23,種目情報!$E$4:$G$32,3,FALSE))))","v":""},{"$f":"IF(E14=\"\",\"\",IF(②選手情報入力!R23=\"\",\"\",IF(I14=1,種目情報!$J$4,種目情報!$J$6)))","v":""},{"$f":"IF(E14=\"\",\"\",IF(②選手情報入力!R23=\"\",\"\",IF(I14=1,IF(②選手情報入力!$S$6=\"\",\"\",②選手情報入力!$S$6),IF(②選手情報入力!$S$7=\"\",\"\",②選手情報入力!$S$7))))","v":""},{"$f":"IF(E14=\"\",\"\",IF(②選手情報入力!R23=\"\",\"\",IF(I14=1,IF(②選手情報入力!$R$6=\"\",0,1),IF(②選手情報入力!$R$7=\"\",0,1))))","v":""},{"$f":"IF(E14=\"\",\"\",IF(②選手情報入力!R23=\"\",\"\",2))","v":""},{"$f":"IF(E14=\"\",\"\",IF(②選手情報入力!T23=\"\",\"\",IF(I14=1,種目情報!$J$5,種目情報!$J$7)))","v":""},{"$f":"IF(E14=\"\",\"\",IF(②選手情報入力!T23=\"\",\"\",IF(I14=1,IF(②選手情報入力!$U$6=\"\",\"\",②選手情報入力!$U$6),IF(②選手情報入力!$U$7=\"\",\"\",②選手情報入力!$U$7))))","v":""},{"$f":"IF(E14=\"\",\"\",IF(②選手情報入力!T23=\"\",\"\",IF(I14=1,IF(②選手情報入力!$T$6=\"\",0,1),IF(②選手情報入力!$T$7=\"\",0,1))))","v":""},{"$f":"IF(E14=\"\",\"\",IF(②選手情報入力!T23=\"\",\"\",2))","v":""}]
[{"$f":"IF(E15=\"\",\"\",data_kyogisha!I15&①団体情報入力!C$4+②選手情報入力!C24+10000000)","v":""},{"$f":"IF(E15=\"\",\"\",①団体情報入力!$C$4)","v":""},null,{"$f":"IF(E15=\"\",\"\",②選手情報入力!B$11)","v":""},{"$f":"IF(②選手情報入力!C24=\"\",\"\",②選手情報入力!C24)","v":""},{"$f":"IF(E15=\"\",\"\",②選手情報入力!D24)","v":""},{"$f":"IF(E15=\"\",\"\",ASC(②選手情報入力!E24&\" \"&②選手情報入力!F24))","v":""},"",{"$f":"IF(E15=\"\",\"\",IF(②選手情報入力!G24=\"男\",1,2))","v":""},{"$f":"IF(E15=\"\",\"\",IF(②選手情報入力!H24=\"\",\"\",②選手情報入力!H24))","v":""},null,null,"",null,{"$f":"IF(E15=\"\",\"\",IF(②選手情報入力!J24=\"\",\"\",IF(I15=1,VLOOKUP(②選手情報入力!J24,種目情報!$A$4:$B$39,2,FALSE),VLOOKUP(②選手情報入力!J24,種目情報!$E$4:$F$29,2,FALSE))))","v":""},{"$f":"IF(E15=\"\",\"\",IF(②選手情報入力!K24=\"\",\"\",②選手情報入力!K24))","v":""},{"$f":"IF(E15=\"\",\"\",IF(②選手情報入力!I24=\"\",\"\",1))","v":""},{"$f":"IF(E15=\"\",\"\",IF(②選手情報入力!J24=\"\",\"\",IF(I15=1,VLOOKUP(②選手情報入力!J24,種目情報!$A$4:$C$29,3,FALSE),VLOOKUP(②選手情報入力!J24,種目情報!$E$4:$G$32,3,FALSE))))","v":""},{"$f":"IF(E15=\"\",\"\",IF(②選手情報入力!M24=\"\",\"\",IF(I15=1,VLOOKUP(②選手情報入力!M24,種目情報!$A$4:$B$29,2,FALSE),VLOOKUP(②選手情報入力!M24,種目情報!$E$4:$F$32,2,FALSE))))","v":""},{"$f":"IF(E15=\"\",\"\",IF(②選手情報入力!N24=\"\",\"\",②選手情報入力!N24))","v":""},{"$f":"IF(E15=\"\",\"\",IF(②選手情報入力!L24=\"\",\"\",1))","v":""},{"$f":"IF(E15=\"\",\"\",IF(②選手情報入力!M24=\"\",\"\",IF(I15=1,VLOOKUP(②選手情報入力!M24,種目情報!$A$4:$C$29,3,FALSE),VLOOKUP(②選手情報入力!M24,種目情報!$E$4:$G$32,3,FALSE))))","v":""},{"$f":"IF(E15=\"\",\"\",IF(②選手情報入力!P24=\"\",\"\",IF(I15=1,VLOOKUP(②選手情報入力!P24,種目情報!$A$4:$B$29,2,FALSE),VLOOKUP(②選手情報入力!P24,種目情報!$E$4:$F$32,2,FALSE))))","v":""},{"$f":"IF(E15=\"\",\"\",IF(②選手情報入力!Q24=\"\",\"\",②選手情報入力!Q24))","v":""},{"$f":"IF(E15=\"\",\"\",IF(②選手情報入力!O24=\"\",\"\",1))","v":""},{"$f":"IF(E15=\"\",\"\",IF(②選手情報入力!P24=\"\",\"\",IF(I15=1,VLOOKUP(②選手情報入力!P24,種目情報!$A$4:$C$29,3,FALSE),VLOOKUP(②選手情報入力!P24,種目情報!$E$4:$G$32,3,FALSE))))","v":""},{"$f":"IF(E15=\"\",\"\",IF(②選手情報入力!R24=\"\",\"\",IF(I15=1,種目情報!$J$4,種目情報!$J$6)))","v":""},{"$f":"IF(E15=\"\",\"\",IF(②選手情報入力!R24=\"\",\"\",IF(I15=1,IF(②選手情報入力!$S$6=\"\",\"\",②選手情報入力!$S$6),IF(②選手情報入力!$S$7=\"\",\"\",②選手情報入力!$S$7))))","v":""},{"$f":"IF(E15=\"\",\"\",IF(②選手情報入力!R24=\"\",\"\",IF(I15=1,IF(②選手情報入力!$R$6=\"\",0,1),IF(②選手情報入力!$R$7=\"\",0,1))))","v":""},{"$f":"IF(E15=\"\",\"\",IF(②選手情報入力!R24=\"\",\"\",2))","v":""},{"$f":"IF(E15=\"\",\"\",IF(②選手情報入力!T24=\"\",\"\",IF(I15=1,種目情報!$J$5,種目情報!$J$7)))","v":""},{"$f":"IF(E15=\"\",\"\",IF(②選手情報入力!T24=\"\",\"\",IF(I15=1,IF(②選手情報入力!$U$6=\"\",\"\",②選手情報入力!$U$6),IF(②選手情報入力!$U$7=\"\",\"\",②選手情報入力!$U$7))))","v":""},{"$f":"IF(E15=\"\",\"\",IF(②選手情報入力!T24=\"\",\"\",IF(I15=1,IF(②選手情報入力!$T$6=\"\",0,1),IF(②選手情報入力!$T$7=\"\",0,1))))","v":""},{"$f":"IF(E15=\"\",\"\",IF(②選手情報入力!T24=\"\",\"\",2))","v":""}]
[{"$f":"IF(E16=\"\",\"\",data_kyogisha!I16&①団体情報入力!C$4+②選手情報入力!C25+10000000)","v":""},{"$f":"IF(E16=\"\",\"\",①団体情報入力!$C$4)","v":""},null,{"$f":"IF(E16=\"\",\"\",②選手情報入力!B$11)","v":""},{"$f":"IF(②選手情報入力!C25=\"\",\"\",②選手情報入力!C25)","v":""},{"$f":"IF(E16=\"\",\"\",②選手情報入力!D25)","v":""},{"$f":"IF(E16=\"\",\"\",ASC(②選手情報入力!E25&\" \"&②選手情報入力!F25))","v":""},"",{"$f":"IF(E16=\"\",\"\",IF(②選手情報入力!G25=\"男\",1,2))","v":""},{"$f":"IF(E16=\"\",\"\",IF(②選手情報入力!H25=\"\",\"\",②選手情報入力!H25))","v":""},null,null,"",null,{"$f":"IF(E16=\"\",\"\",IF(②選手情報入力!J25=\"\",\"\",IF(I16=1,VLOOKUP(②選手情報入力!J25,種目情報!$A$4:$B$39,2,FALSE),VLOOKUP(②選手情報入力!J25,種目情報!$E$4:$F$29,2,FALSE))))","v":""},{"$f":"IF(E16=\"\",\"\",IF(②選手情報入力!K25=\"\",\"\",②選手情報入力!K25))","v":""},{"$f":"IF(E16=\"\",\"\",IF(②選手情報入力!I25=\"\",\"\",1))","v":""},{"$f":"IF(E16=\"\",\"\",IF(②選手情報入力!J25=\"\",\"\",IF(I16=1,VLOOKUP(②選手情報入力!J25,種目情報!$A$4:$C$29,3,FALSE),VLOOKUP(②選手情報入力!J25,種目情報!$E$4:$G$32,3,FALSE))))","v":""},{"$f":"IF(E16=\"\",\"\",IF(②選手情報入力!M25=\"\",\"\",IF(I16=1,VLOOKUP(②選手情報入力!M25,種目情報!$A$4:$B$29,2,FALSE),VLOOKUP(②選手情報入力!M25,種目情報!$E$4:$F$32,2,FALSE))))","v":""},{"$f":"IF(E16=\"\",\"\",IF(②選手情報入力!N25=\"\",\"\",②選手情報入力!N25))","v":""},{"$f":"IF(E16=\"\",\"\",IF(②選手情報入力!L25=\"\",\"\",1))","v":""},{"$f":"IF(E16=\"\",\"\",IF(②選手情報入力!M25=\"\",\"\",IF(I16=1,VLOOKUP(②選手情報入力!M25,種目情報!$A$4:$C$29,3,FALSE),VLOOKUP(②選手情報入力!M25,種目情報!$E$4:$G$32,3,FALSE))))","v":""},{"$f":"IF(E16=\"\",\"\",IF(②選手情報入力!P25=\"\",\"\",IF(I16=1,VLOOKUP(②選手情報入力!P25,種目情報!$A$4:$B$29,2,FALSE),VLOOKUP(②選手情報入力!P25,種目情報!$E$4:$F$32,2,FALSE))))","v":""},{"$f":"IF(E16=\"\",\"\",IF(②選手情報入力!Q25=\"\",\"\",②選手情報入力!Q25))","v":""},{"$f":"IF(E16=\"\",\"\",IF(②選手情報入力!O25=\"\",\"\",1))","v":""},{"$f":"IF(E16=\"\",\"\",IF(②選手情報入力!P25=\"\",\"\",IF(I16=1,VLOOKUP(②選手情報入力!P25,種目情報!$A$4:$C$29,3,FALSE),VLOOKUP(②選手情報入力!P25,種目情報!$E$4:$G$32,3,FALSE))))","v":""},{"$f":"IF(E16=\"\",\"\",IF(②選手情報入力!R25=\"\",\"\",IF(I16=1,種目情報!$J$4,種目情報!$J$6)))","v":""},{"$f":"IF(E16=\"\",\"\",IF(②選手情報入力!R25=\"\",\"\",IF(I16=1,IF(②選手情報入力!$S$6=\"\",\"\",②選手情報入力!$S$6),IF(②選手情報入力!$S$7=\"\",\"\",②選手情報入力!$S$7))))","v":""},{"$f":"IF(E16=\"\",\"\",IF(②選手情報入力!R25=\"\",\"\",IF(I16=1,IF(②選手情報入力!$R$6=\"\",0,1),IF(②選手情報入力!$R$7=\"\",0,1))))","v":""},{"$f":"IF(E16=\"\",\"\",IF(②選手情報入力!R25=\"\",\"\",2))","v":""},{"$f":"IF(E16=\"\",\"\",IF(②選手情報入力!T25=\"\",\"\",IF(I16=1,種目情報!$J$5,種目情報!$J$7)))","v":""},{"$f":"IF(E16=\"\",\"\",IF(②選手情報入力!T25=\"\",\"\",IF(I16=1,IF(②選手情報入力!$U$6=\"\",\"\",②選手情報入力!$U$6),IF(②選手情報入力!$U$7=\"\",\"\",②選手情報入力!$U$7))))","v":""},{"$f":"IF(E16=\"\",\"\",IF(②選手情報入力!T25=\"\",\"\",IF(I16=1,IF(②選手情報入力!$T$6=\"\",0,1),IF(②選手情報入力!$T$7=\"\",0,1))))","v":""},{"$f":"IF(E16=\"\",\"\",IF(②選手情報入力!T25=\"\",\"\",2))","v":""}]
[{"$f":"IF(E17=\"\",\"\",data_kyogisha!I17&①団体情報入力!C$4+②選手情報入力!C26+10000000)","v":""},{"$f":"IF(E17=\"\",\"\",①団体情報入力!$C$4)","v":""},null,{"$f":"IF(E17=\"\",\"\",②選手情報入力!B$11)","v":""},{"$f":"IF(②選手情報入力!C26=\"\",\"\",②選手情報入力!C26)","v":""},{"$f":"IF(E17=\"\",\"\",②選手情報入力!D26)","v":""},{"$f":"IF(E17=\"\",\"\",ASC(②選手情報入力!E26&\" \"&②選手情報入力!F26))","v":""},"",{"$f":"IF(E17=\"\",\"\",IF(②選手情報入力!G26=\"男\",1,2))","v":""},{"$f":"IF(E17=\"\",\"\",IF(②選手情報入力!H26=\"\",\"\",②選手情報入力!H26))","v":""},null,null,"",null,{"$f":"IF(E17=\"\",\"\",IF(②選手情報入力!J26=\"\",\"\",IF(I17=1,VLOOKUP(②選手情報入力!J26,種目情報!$A$4:$B$39,2,FALSE),VLOOKUP(②選手情報入力!J26,種目情報!$E$4:$F$29,2,FALSE))))","v":""},{"$f":"IF(E17=\"\",\"\",IF(②選手情報入力!K26=\"\",\"\",②選手情報入力!K26))","v":""},{"$f":"IF(E17=\"\",\"\",IF(②選手情報入力!I26=\"\",\"\",1))","v":""},{"$f":"IF(E17=\"\",\"\",IF(②選手情報入力!J26=\"\",\"\",IF(I17=1,VLOOKUP(②選手情報入力!J26,種目情報!$A$4:$C$29,3,FALSE),VLOOKUP(②選手情報入力!J26,種目情報!$E$4:$G$32,3,FALSE))))","v":""},{"$f":"IF(E17=\"\",\"\",IF(②選手情報入力!M26=\"\",\"\",IF(I17=1,VLOOKUP(②選手情報入力!M26,種目情報!$A$4:$B$29,2,FALSE),VLOOKUP(②選手情報入力!M26,種目情報!$E$4:$F$32,2,FALSE))))","v":""},{"$f":"IF(E17=\"\",\"\",IF(②選手情報入力!N26=\"\",\"\",②選手情報入力!N26))","v":""},{"$f":"IF(E17=\"\",\"\",IF(②選手情報入力!L26=\"\",\"\",1))","v":""},{"$f":"IF(E17=\"\",\"\",IF(②選手情報入力!M26=\"\",\"\",IF(I17=1,VLOOKUP(②選手情報入力!M26,種目情報!$A$4:$C$29,3,FALSE),VLOOKUP(②選手情報入力!M26,種目情報!$E$4:$G$32,3,FALSE))))","v":""},{"$f":"IF(E17=\"\",\"\",IF(②選手情報入力!P26=\"\",\"\",IF(I17=1,VLOOKUP(②選手情報入力!P26,種目情報!$A$4:$B$29,2,FALSE),VLOOKUP(②選手情報入力!P26,種目情報!$E$4:$F$32,2,FALSE))))","v":""},{"$f":"IF(E17=\"\",\"\",IF(②選手情報入力!Q26=\"\",\"\",②選手情報入力!Q26))","v":""},{"$f":"IF(E17=\"\",\"\",IF(②選手情報入力!O26=\"\",\"\",1))","v":""},{"$f":"IF(E17=\"\",\"\",IF(②選手情報入力!P26=\"\",\"\",IF(I17=1,VLOOKUP(②選手情報入力!P26,種目情報!$A$4:$C$29,3,FALSE),VLOOKUP(②選手情報入力!P26,種目情報!$E$4:$G$32,3,FALSE))))","v":""},{"$f":"IF(E17=\"\",\"\",IF(②選手情報入力!R26=\"\",\"\",IF(I17=1,種目情報!$J$4,種目情報!$J$6)))","v":""},{"$f":"IF(E17=\"\",\"\",IF(②選手情報入力!R26=\"\",\"\",IF(I17=1,IF(②選手情報入力!$S$6=\"\",\"\",②選手情報入力!$S$6),IF(②選手情報入力!$S$7=\"\",\"\",②選手情報入力!$S$7))))","v":""},{"$f":"IF(E17=\"\",\"\",IF(②選手情報入力!R26=\"\",\"\",IF(I17=1,IF(②選手情報入力!$R$6=\"\",0,1),IF(②選手情報入力!$R$7=\"\",0,1))))","v":""},{"$f":"IF(E17=\"\",\"\",IF(②選手情報入力!R26=\"\",\"\",2))","v":""},{"$f":"IF(E17=\"\",\"\",IF(②選手情報入力!T26=\"\",\"\",IF(I17=1,種目情報!$J$5,種目情報!$J$7)))","v":""},{"$f":"IF(E17=\"\",\"\",IF(②選手情報入力!T26=\"\",\"\",IF(I17=1,IF(②選手情報入力!$U$6=\"\",\"\",②選手情報入力!$U$6),IF(②選手情報入力!$U$7=\"\",\"\",②選手情報入力!$U$7))))","v":""},{"$f":"IF(E17=\"\",\"\",IF(②選手情報入力!T26=\"\",\"\",IF(I17=1,IF(②選手情報入力!$T$6=\"\",0,1),IF(②選手情報入力!$T$7=\"\",0,1))))","v":""},{"$f":"IF(E17=\"\",\"\",IF(②選手情報入力!T26=\"\",\"\",2))","v":""}]
[{"$f":"IF(E18=\"\",\"\",data_kyogisha!I18&①団体情報入力!C$4+②選手情報入力!C27+10000000)","v":""},{"$f":"IF(E18=\"\",\"\",①団体情報入力!$C$4)","v":""},null,{"$f":"IF(E18=\"\",\"\",②選手情報入力!B$11)","v":""},{"$f":"IF(②選手情報入力!C27=\"\",\"\",②選手情報入力!C27)","v":""},{"$f":"IF(E18=\"\",\"\",②選手情報入力!D27)","v":""},{"$f":"IF(E18=\"\",\"\",ASC(②選手情報入力!E27&\" \"&②選手情報入力!F27))","v":""},"",{"$f":"IF(E18=\"\",\"\",IF(②選手情報入力!G27=\"男\",1,2))","v":""},{"$f":"IF(E18=\"\",\"\",IF(②選手情報入力!H27=\"\",\"\",②選手情報入力!H27))","v":""},null,null,"",null,{"$f":"IF(E18=\"\",\"\",IF(②選手情報入力!J27=\"\",\"\",IF(I18=1,VLOOKUP(②選手情報入力!J27,種目情報!$A$4:$B$39,2,FALSE),VLOOKUP(②選手情報入力!J27,種目情報!$E$4:$F$29,2,FALSE))))","v":""},{"$f":"IF(E18=\"\",\"\",IF(②選手情報入力!K27=\"\",\"\",②選手情報入力!K27))","v":""},{"$f":"IF(E18=\"\",\"\",IF(②選手情報入力!I27=\"\",\"\",1))","v":""},{"$f":"IF(E18=\"\",\"\",IF(②選手情報入力!J27=\"\",\"\",IF(I18=1,VLOOKUP(②選手情報入力!J27,種目情報!$A$4:$C$29,3,FALSE),VLOOKUP(②選手情報入力!J27,種目情報!$E$4:$G$32,3,FALSE))))","v":""},{"$f":"IF(E18=\"\",\"\",IF(②選手情報入力!M27=\"\",\"\",IF(I18=1,VLOOKUP(②選手情報入力!M27,種目情報!$A$4:$B$29,2,FALSE),VLOOKUP(②選手情報入力!M27,種目情報!$E$4:$F$32,2,FALSE))))","v":""},{"$f":"IF(E18=\"\",\"\",IF(②選手情報入力!N27=\"\",\"\",②選手情報入力!N27))","v":""},{"$f":"IF(E18=\"\",\"\",IF(②選手情報入力!L27=\"\",\"\",1))","v":""},{"$f":"IF(E18=\"\",\"\",IF(②選手情報入力!M27=\"\",\"\",IF(I18=1,VLOOKUP(②選手情報入力!M27,種目情報!$A$4:$C$29,3,FALSE),VLOOKUP(②選手情報入力!M27,種目情報!$E$4:$G$32,3,FALSE))))","v":""},{"$f":"IF(E18=\"\",\"\",IF(②選手情報入力!P27=\"\",\"\",IF(I18=1,VLOOKUP(②選手情報入力!P27,種目情報!$A$4:$B$29,2,FALSE),VLOOKUP(②選手情報入力!P27,種目情報!$E$4:$F$32,2,FALSE))))","v":""},{"$f":"IF(E18=\"\",\"\",IF(②選手情報入力!Q27=\"\",\"\",②選手情報入力!Q27))","v":""},{"$f":"IF(E18=\"\",\"\",IF(②選手情報入力!O27=\"\",\"\",1))","v":""},{"$f":"IF(E18=\"\",\"\",IF(②選手情報入力!P27=\"\",\"\",IF(I18=1,VLOOKUP(②選手情報入力!P27,種目情報!$A$4:$C$29,3,FALSE),VLOOKUP(②選手情報入力!P27,種目情報!$E$4:$G$32,3,FALSE))))","v":""},{"$f":"IF(E18=\"\",\"\",IF(②選手情報入力!R27=\"\",\"\",IF(I18=1,種目情報!$J$4,種目情報!$J$6)))","v":""},{"$f":"IF(E18=\"\",\"\",IF(②選手情報入力!R27=\"\",\"\",IF(I18=1,IF(②選手情報入力!$S$6=\"\",\"\",②選手情報入力!$S$6),IF(②選手情報入力!$S$7=\"\",\"\",②選手情報入力!$S$7))))","v":""},{"$f":"IF(E18=\"\",\"\",IF(②選手情報入力!R27=\"\",\"\",IF(I18=1,IF(②選手情報入力!$R$6=\"\",0,1),IF(②選手情報入力!$R$7=\"\",0,1))))","v":""},{"$f":"IF(E18=\"\",\"\",IF(②選手情報入力!R27=\"\",\"\",2))","v":""},{"$f":"IF(E18=\"\",\"\",IF(②選手情報入力!T27=\"\",\"\",IF(I18=1,種目情報!$J$5,種目情報!$J$7)))","v":""},{"$f":"IF(E18=\"\",\"\",IF(②選手情報入力!T27=\"\",\"\",IF(I18=1,IF(②選手情報入力!$U$6=\"\",\"\",②選手情報入力!$U$6),IF(②選手情報入力!$U$7=\"\",\"\",②選手情報入力!$U$7))))","v":""},{"$f":"IF(E18=\"\",\"\",IF(②選手情報入力!T27=\"\",\"\",IF(I18=1,IF(②選手情報入力!$T$6=\"\",0,1),IF(②選手情報入力!$T$7=\"\",0,1))))","v":""},{"$f":"IF(E18=\"\",\"\",IF(②選手情報入力!T27=\"\",\"\",2))","v":""}]
[{"$f":"IF(E19=\"\",\"\",data_kyogisha!I19&①団体情報入力!C$4+②選手情報入力!C28+10000000)","v":""},{"$f":"IF(E19=\"\",\"\",①団体情報入力!$C$4)","v":""},null,{"$f":"IF(E19=\"\",\"\",②選手情報入力!B$11)","v":""},{"$f":"IF(②選手情報入力!C28=\"\",\"\",②選手情報入力!C28)","v":""},{"$f":"IF(E19=\"\",\"\",②選手情報入力!D28)","v":""},{"$f":"IF(E19=\"\",\"\",ASC(②選手情報入力!E28&\" \"&②選手情報入力!F28))","v":""},"",{"$f":"IF(E19=\"\",\"\",IF(②選手情報入力!G28=\"男\",1,2))","v":""},{"$f":"IF(E19=\"\",\"\",IF(②選手情報入力!H28=\"\",\"\",②選手情報入力!H28))","v":""},null,null,"",null,{"$f":"IF(E19=\"\",\"\",IF(②選手情報入力!J28=\"\",\"\",IF(I19=1,VLOOKUP(②選手情報入力!J28,種目情報!$A$4:$B$39,2,FALSE),VLOOKUP(②選手情報入力!J28,種目情報!$E$4:$F$29,2,FALSE))))","v":""},{"$f":"IF(E19=\"\",\"\",IF(②選手情報入力!K28=\"\",\"\",②選手情報入力!K28))","v":""},{"$f":"IF(E19=\"\",\"\",IF(②選手情報入力!I28=\"\",\"\",1))","v":""},{"$f":"IF(E19=\"\",\"\",IF(②選手情報入力!J28=\"\",\"\",IF(I19=1,VLOOKUP(②選手情報入力!J28,種目情報!$A$4:$C$29,3,FALSE),VLOOKUP(②選手情報入力!J28,種目情報!$E$4:$G$32,3,FALSE))))","v":""},{"$f":"IF(E19=\"\",\"\",IF(②選手情報入力!M28=\"\",\"\",IF(I19=1,VLOOKUP(②選手情報入力!M28,種目情報!$A$4:$B$29,2,FALSE),VLOOKUP(②選手情報入力!M28,種目情報!$E$4:$F$32,2,FALSE))))","v":""},{"$f":"IF(E19=\"\",\"\",IF(②選手情報入力!N28=\"\",\"\",②選手情報入力!N28))","v":""},{"$f":"IF(E19=\"\",\"\",IF(②選手情報入力!L28=\"\",\"\",1))","v":""},{"$f":"IF(E19=\"\",\"\",IF(②選手情報入力!M28=\"\",\"\",IF(I19=1,VLOOKUP(②選手情報入力!M28,種目情報!$A$4:$C$29,3,FALSE),VLOOKUP(②選手情報入力!M28,種目情報!$E$4:$G$32,3,FALSE))))","v":""},{"$f":"IF(E19=\"\",\"\",IF(②選手情報入力!P28=\"\",\"\",IF(I19=1,VLOOKUP(②選手情報入力!P28,種目情報!$A$4:$B$29,2,FALSE),VLOOKUP(②選手情報入力!P28,種目情報!$E$4:$F$32,2,FALSE))))","v":""},{"$f":"IF(E19=\"\",\"\",IF(②選手情報入力!Q28=\"\",\"\",②選手情報入力!Q28))","v":""},{"$f":"IF(E19=\"\",\"\",IF(②選手情報入力!O28=\"\",\"\",1))","v":""},{"$f":"IF(E19=\"\",\"\",IF(②選手情報入力!P28=\"\",\"\",IF(I19=1,VLOOKUP(②選手情報入力!P28,種目情報!$A$4:$C$29,3,FALSE),VLOOKUP(②選手情報入力!P28,種目情報!$E$4:$G$32,3,FALSE))))","v":""},{"$f":"IF(E19=\"\",\"\",IF(②選手情報入力!R28=\"\",\"\",IF(I19=1,種目情報!$J$4,種目情報!$J$6)))","v":""},{"$f":"IF(E19=\"\",\"\",IF(②選手情報入力!R28=\"\",\"\",IF(I19=1,IF(②選手情報入力!$S$6=\"\",\"\",②選手情報入力!$S$6),IF(②選手情報入力!$S$7=\"\",\"\",②選手情報入力!$S$7))))","v":""},{"$f":"IF(E19=\"\",\"\",IF(②選手情報入力!R28=\"\",\"\",IF(I19=1,IF(②選手情報入力!$R$6=\"\",0,1),IF(②選手情報入力!$R$7=\"\",0,1))))","v":""},{"$f":"IF(E19=\"\",\"\",IF(②選手情報入力!R28=\"\",\"\",2))","v":""},{"$f":"IF(E19=\"\",\"\",IF(②選手情報入力!T28=\"\",\"\",IF(I19=1,種目情報!$J$5,種目情報!$J$7)))","v":""},{"$f":"IF(E19=\"\",\"\",IF(②選手情報入力!T28=\"\",\"\",IF(I19=1,IF(②選手情報入力!$U$6=\"\",\"\",②選手情報入力!$U$6),IF(②選手情報入力!$U$7=\"\",\"\",②選手情報入力!$U$7))))","v":""},{"$f":"IF(E19=\"\",\"\",IF(②選手情報入力!T28=\"\",\"\",IF(I19=1,IF(②選手情報入力!$T$6=\"\",0,1),IF(②選手情報入力!$T$7=\"\",0,1))))","v":""},{"$f":"IF(E19=\"\",\"\",IF(②選手情報入力!T28=\"\",\"\",2))","v":""}]
[{"$f":"IF(E20=\"\",\"\",data_kyogisha!I20&①団体情報入力!C$4+②選手情報入力!C29+10000000)","v":""},{"$f":"IF(E20=\"\",\"\",①団体情報入力!$C$4)","v":""},null,{"$f":"IF(E20=\"\",\"\",②選手情報入力!B$11)","v":""},{"$f":"IF(②選手情報入力!C29=\"\",\"\",②選手情報入力!C29)","v":""},{"$f":"IF(E20=\"\",\"\",②選手情報入力!D29)","v":""},{"$f":"IF(E20=\"\",\"\",ASC(②選手情報入力!E29&\" \"&②選手情報入力!F29))","v":""},"",{"$f":"IF(E20=\"\",\"\",IF(②選手情報入力!G29=\"男\",1,2))","v":""},{"$f":"IF(E20=\"\",\"\",IF(②選手情報入力!H29=\"\",\"\",②選手情報入力!H29))","v":""},null,null,"",null,{"$f":"IF(E20=\"\",\"\",IF(②選手情報入力!J29=\"\",\"\",IF(I20=1,VLOOKUP(②選手情報入力!J29,種目情報!$A$4:$B$39,2,FALSE),VLOOKUP(②選手情報入力!J29,種目情報!$E$4:$F$29,2,FALSE))))","v":""},{"$f":"IF(E20=\"\",\"\",IF(②選手情報入力!K29=\"\",\"\",②選手情報入力!K29))","v":""},{"$f":"IF(E20=\"\",\"\",IF(②選手情報入力!I29=\"\",\"\",1))","v":""},{"$f":"IF(E20=\"\",\"\",IF(②選手情報入力!J29=\"\",\"\",IF(I20=1,VLOOKUP(②選手情報入力!J29,種目情報!$A$4:$C$29,3,FALSE),VLOOKUP(②選手情報入力!J29,種目情報!$E$4:$G$32,3,FALSE))))","v":""},{"$f":"IF(E20=\"\",\"\",IF(②選手情報入力!M29=\"\",\"\",IF(I20=1,VLOOKUP(②選手情報入力!M29,種目情報!$A$4:$B$29,2,FALSE),VLOOKUP(②選手情報入力!M29,種目情報!$E$4:$F$32,2,FALSE))))","v":""},{"$f":"IF(E20=\"\",\"\",IF(②選手情報入力!N29=\"\",\"\",②選手情報入力!N29))","v":""},{"$f":"IF(E20=\"\",\"\",IF(②選手情報入力!L29=\"\",\"\",1))","v":""},{"$f":"IF(E20=\"\",\"\",IF(②選手情報入力!M29=\"\",\"\",IF(I20=1,VLOOKUP(②選手情報入力!M29,種目情報!$A$4:$C$29,3,FALSE),VLOOKUP(②選手情報入力!M29,種目情報!$E$4:$G$32,3,FALSE))))","v":""},{"$f":"IF(E20=\"\",\"\",IF(②選手情報入力!P29=\"\",\"\",IF(I20=1,VLOOKUP(②選手情報入力!P29,種目情報!$A$4:$B$29,2,FALSE),VLOOKUP(②選手情報入力!P29,種目情報!$E$4:$F$32,2,FALSE))))","v":""},{"$f":"IF(E20=\"\",\"\",IF(②選手情報入力!Q29=\"\",\"\",②選手情報入力!Q29))","v":""},{"$f":"IF(E20=\"\",\"\",IF(②選手情報入力!O29=\"\",\"\",1))","v":""},{"$f":"IF(E20=\"\",\"\",IF(②選手情報入力!P29=\"\",\"\",IF(I20=1,VLOOKUP(②選手情報入力!P29,種目情報!$A$4:$C$29,3,FALSE),VLOOKUP(②選手情報入力!P29,種目情報!$E$4:$G$32,3,FALSE))))","v":""},{"$f":"IF(E20=\"\",\"\",IF(②選手情報入力!R29=\"\",\"\",IF(I20=1,種目情報!$J$4,種目情報!$J$6)))","v":""},{"$f":"IF(E20=\"\",\"\",IF(②選手情報入力!R29=\"\",\"\",IF(I20=1,IF(②選手情報入力!$S$6=\"\",\"\",②選手情報入力!$S$6),IF(②選手情報入力!$S$7=\"\",\"\",②選手情報入力!$S$7))))","v":""},{"$f":"IF(E20=\"\",\"\",IF(②選手情報入力!R29=\"\",\"\",IF(I20=1,IF(②選手情報入力!$R$6=\"\",0,1),IF(②選手情報入力!$R$7=\"\",0,1))))","v":""},{"$f":"IF(E20=\"\",\"\",IF(②選手情報入力!R29=\"\",\"\",2))","v":""},{"$f":"IF(E20=\"\",\"\",IF(②選手情報入力!T29=\"\",\"\",IF(I20=1,種目情報!$J$5,種目情報!$J$7)))","v":""},{"$f":"IF(E20=\"\",\"\",IF(②選手情報入力!T29=\"\",\"\",IF(I20=1,IF(②選手情報入力!$U$6=\"\",\"\",②選手情報入力!$U$6),IF(②選手情報入力!$U$7=\"\",\"\",②選手情報入力!$U$7))))","v":""},{"$f":"IF(E20=\"\",\"\",IF(②選手情報入力!T29=\"\",\"\",IF(I20=1,IF(②選手情報入力!$T$6=\"\",0,1),IF(②選手情報入力!$T$7=\"\",0,1))))","v":""},{"$f":"IF(E20=\"\",\"\",IF(②選手情報入力!T29=\"\",\"\",2))","v":""}]
[{"$f":"IF(E21=\"\",\"\",data_kyogisha!I21&①団体情報入力!C$4+②選手情報入力!C30+10000000)","v":""},{"$f":"IF(E21=\"\",\"\",①団体情報入力!$C$4)","v":""},null,{"$f":"IF(E21=\"\",\"\",②選手情報入力!B$11)","v":""},{"$f":"IF(②選手情報入力!C30=\"\",\"\",②選手情報入力!C30)","v":""},{"$f":"IF(E21=\"\",\"\",②選手情報入力!D30)","v":""},{"$f":"IF(E21=\"\",\"\",ASC(②選手情報入力!E30&\" \"&②選手情報入力!F30))","v":""},"",{"$f":"IF(E21=\"\",\"\",IF(②選手情報入力!G30=\"男\",1,2))","v":""},{"$f":"IF(E21=\"\",\"\",IF(②選手情報入力!H30=\"\",\"\",②選手情報入力!H30))","v":""},null,null,"",null,{"$f":"IF(E21=\"\",\"\",IF(②選手情報入力!J30=\"\",\"\",IF(I21=1,VLOOKUP(②選手情報入力!J30,種目情報!$A$4:$B$39,2,FALSE),VLOOKUP(②選手情報入力!J30,種目情報!$E$4:$F$29,2,FALSE))))","v":""},{"$f":"IF(E21=\"\",\"\",IF(②選手情報入力!K30=\"\",\"\",②選手情報入力!K30))","v":""},{"$f":"IF(E21=\"\",\"\",IF(②選手情報入力!I30=\"\",\"\",1))","v":""},{"$f":"IF(E21=\"\",\"\",IF(②選手情報入力!J30=\"\",\"\",IF(I21=1,VLOOKUP(②選手情報入力!J30,種目情報!$A$4:$C$29,3,FALSE),VLOOKUP(②選手情報入力!J30,種目情報!$E$4:$G$32,3,FALSE))))","v":""},{"$f":"IF(E21=\"\",\"\",IF(②選手情報入力!M30=\"\",\"\",IF(I21=1,VLOOKUP(②選手情報入力!M30,種目情報!$A$4:$B$29,2,FALSE),VLOOKUP(②選手情報入力!M30,種目情報!$E$4:$F$32,2,FALSE))))","v":""},{"$f":"IF(E21=\"\",\"\",IF(②選手情報入力!N30=\"\",\"\",②選手情報入力!N30))","v":""},{"$f":"IF(E21=\"\",\"\",IF(②選手情報入力!L30=\"\",\"\",1))","v":""},{"$f":"IF(E21=\"\",\"\",IF(②選手情報入力!M30=\"\",\"\",IF(I21=1,VLOOKUP(②選手情報入力!M30,種目情報!$A$4:$C$29,3,FALSE),VLOOKUP(②選手情報入力!M30,種目情報!$E$4:$G$32,3,FALSE))))","v":""},{"$f":"IF(E21=\"\",\"\",IF(②選手情報入力!P30=\"\",\"\",IF(I21=1,VLOOKUP(②選手情報入力!P30,種目情報!$A$4:$B$29,2,FALSE),VLOOKUP(②選手情報入力!P30,種目情報!$E$4:$F$32,2,FALSE))))","v":""},{"$f":"IF(E21=\"\",\"\",IF(②選手情報入力!Q30=\"\",\"\",②選手情報入力!Q30))","v":""},{"$f":"IF(E21=\"\",\"\",IF(②選手情報入力!O30=\"\",\"\",1))","v":""},{"$f":"IF(E21=\"\",\"\",IF(②選手情報入力!P30=\"\",\"\",IF(I21=1,VLOOKUP(②選手情報入力!P30,種目情報!$A$4:$C$29,3,FALSE),VLOOKUP(②選手情報入力!P30,種目情報!$E$4:$G$32,3,FALSE))))","v":""},{"$f":"IF(E21=\"\",\"\",IF(②選手情報入力!R30=\"\",\"\",IF(I21=1,種目情報!$J$4,種目情報!$J$6)))","v":""},{"$f":"IF(E21=\"\",\"\",IF(②選手情報入力!R30=\"\",\"\",IF(I21=1,IF(②選手情報入力!$S$6=\"\",\"\",②選手情報入力!$S$6),IF(②選手情報入力!$S$7=\"\",\"\",②選手情報入力!$S$7))))","v":""},{"$f":"IF(E21=\"\",\"\",IF(②選手情報入力!R30=\"\",\"\",IF(I21=1,IF(②選手情報入力!$R$6=\"\",0,1),IF(②選手情報入力!$R$7=\"\",0,1))))","v":""},{"$f":"IF(E21=\"\",\"\",IF(②選手情報入力!R30=\"\",\"\",2))","v":""},{"$f":"IF(E21=\"\",\"\",IF(②選手情報入力!T30=\"\",\"\",IF(I21=1,種目情報!$J$5,種目情報!$J$7)))","v":""},{"$f":"IF(E21=\"\",\"\",IF(②選手情報入力!T30=\"\",\"\",IF(I21=1,IF(②選手情報入力!$U$6=\"\",\"\",②選手情報入力!$U$6),IF(②選手情報入力!$U$7=\"\",\"\",②選手情報入力!$U$7))))","v":""},{"$f":"IF(E21=\"\",\"\",IF(②選手情報入力!T30=\"\",\"\",IF(I21=1,IF(②選手情報入力!$T$6=\"\",0,1),IF(②選手情報入力!$T$7=\"\",0,1))))","v":""},{"$f":"IF(E21=\"\",\"\",IF(②選手情報入力!T30=\"\",\"\",2))","v":""}]
[{"$f":"IF(E22=\"\",\"\",data_kyogisha!I22&①団体情報入力!C$4+②選手情報入力!C31+10000000)","v":""},{"$f":"IF(E22=\"\",\"\",①団体情報入力!$C$4)","v":""},null,{"$f":"IF(E22=\"\",\"\",②選手情報入力!B$11)","v":""},{"$f":"IF(②選手情報入力!C31=\"\",\"\",②選手情報入力!C31)","v":""},{"$f":"IF(E22=\"\",\"\",②選手情報入力!D31)","v":""},{"$f":"IF(E22=\"\",\"\",ASC(②選手情報入力!E31&\" \"&②選手情報入力!F31))","v":""},"",{"$f":"IF(E22=\"\",\"\",IF(②選手情報入力!G31=\"男\",1,2))","v":""},{"$f":"IF(E22=\"\",\"\",IF(②選手情報入力!H31=\"\",\"\",②選手情報入力!H31))","v":""},null,null,"",null,{"$f":"IF(E22=\"\",\"\",IF(②選手情報入力!J31=\"\",\"\",IF(I22=1,VLOOKUP(②選手情報入力!J31,種目情報!$A$4:$B$39,2,FALSE),VLOOKUP(②選手情報入力!J31,種目情報!$E$4:$F$29,2,FALSE))))","v":""},{"$f":"IF(E22=\"\",\"\",IF(②選手情報入力!K31=\"\",\"\",②選手情報入力!K31))","v":""},{"$f":"IF(E22=\"\",\"\",IF(②選手情報入力!I31=\"\",\"\",1))","v":""},{"$f":"IF(E22=\"\",\"\",IF(②選手情報入力!J31=\"\",\"\",IF(I22=1,VLOOKUP(②選手情報入力!J31,種目情報!$A$4:$C$29,3,FALSE),VLOOKUP(②選手情報入力!J31,種目情報!$E$4:$G$32,3,FALSE))))","v":""},{"$f":"IF(E22=\"\",\"\",IF(②選手情報入力!M31=\"\",\"\",IF(I22=1,VLOOKUP(②選手情報入力!M31,種目情報!$A$4:$B$29,2,FALSE),VLOOKUP(②選手情報入力!M31,種目情報!$E$4:$F$32,2,FALSE))))","v":""},{"$f":"IF(E22=\"\",\"\",IF(②選手情報入力!N31=\"\",\"\",②選手情報入力!N31))","v":""},{"$f":"IF(E22=\"\",\"\",IF(②選手情報入力!L31=\"\",\"\",1))","v":""},{"$f":"IF(E22=\"\",\"\",IF(②選手情報入力!M31=\"\",\"\",IF(I22=1,VLOOKUP(②選手情報入力!M31,種目情報!$A$4:$C$29,3,FALSE),VLOOKUP(②選手情報入力!M31,種目情報!$E$4:$G$32,3,FALSE))))","v":""},{"$f":"IF(E22=\"\",\"\",IF(②選手情報入力!P31=\"\",\"\",IF(I22=1,VLOOKUP(②選手情報入力!P31,種目情報!$A$4:$B$29,2,FALSE),VLOOKUP(②選手情報入力!P31,種目情報!$E$4:$F$32,2,FALSE))))","v":""},{"$f":"IF(E22=\"\",\"\",IF(②選手情報入力!Q31=\"\",\"\",②選手情報入力!Q31))","v":""},{"$f":"IF(E22=\"\",\"\",IF(②選手情報入力!O31=\"\",\"\",1))","v":""},{"$f":"IF(E22=\"\",\"\",IF(②選手情報入力!P31=\"\",\"\",IF(I22=1,VLOOKUP(②選手情報入力!P31,種目情報!$A$4:$C$29,3,FALSE),VLOOKUP(②選手情報入力!P31,種目情報!$E$4:$G$32,3,FALSE))))","v":""},{"$f":"IF(E22=\"\",\"\",IF(②選手情報入力!R31=\"\",\"\",IF(I22=1,種目情報!$J$4,種目情報!$J$6)))","v":""},{"$f":"IF(E22=\"\",\"\",IF(②選手情報入力!R31=\"\",\"\",IF(I22=1,IF(②選手情報入力!$S$6=\"\",\"\",②選手情報入力!$S$6),IF(②選手情報入力!$S$7=\"\",\"\",②選手情報入力!$S$7))))","v":""},{"$f":"IF(E22=\"\",\"\",IF(②選手情報入力!R31=\"\",\"\",IF(I22=1,IF(②選手情報入力!$R$6=\"\",0,1),IF(②選手情報入力!$R$7=\"\",0,1))))","v":""},{"$f":"IF(E22=\"\",\"\",IF(②選手情報入力!R31=\"\",\"\",2))","v":""},{"$f":"IF(E22=\"\",\"\",IF(②選手情報入力!T31=\"\",\"\",IF(I22=1,種目情報!$J$5,種目情報!$J$7)))","v":""},{"$f":"IF(E22=\"\",\"\",IF(②選手情報入力!T31=\"\",\"\",IF(I22=1,IF(②選手情報入力!$U$6=\"\",\"\",②選手情報入力!$U$6),IF(②選手情報入力!$U$7=\"\",\"\",②選手情報入力!$U$7))))","v":""},{"$f":"IF(E22=\"\",\"\",IF(②選手情報入力!T31=\"\",\"\",IF(I22=1,IF(②選手情報入力!$T$6=\"\",0,1),IF(②選手情報入力!$T$7=\"\",0,1))))","v":""},{"$f":"IF(E22=\"\",\"\",IF(②選手情報入力!T31=\"\",\"\",2))","v":""}]
[{"$f":"IF(E23=\"\",\"\",data_kyogisha!I23&①団体情報入力!C$4+②選手情報入力!C32+10000000)","v":""},{"$f":"IF(E23=\"\",\"\",①団体情報入力!$C$4)","v":""},null,{"$f":"IF(E23=\"\",\"\",②選手情報入力!B$11)","v":""},{"$f":"IF(②選手情報入力!C32=\"\",\"\",②選手情報入力!C32)","v":""},{"$f":"IF(E23=\"\",\"\",②選手情報入力!D32)","v":""},{"$f":"IF(E23=\"\",\"\",ASC(②選手情報入力!E32&\" \"&②選手情報入力!F32))","v":""},"",{"$f":"IF(E23=\"\",\"\",IF(②選手情報入力!G32=\"男\",1,2))","v":""},{"$f":"IF(E23=\"\",\"\",IF(②選手情報入力!H32=\"\",\"\",②選手情報入力!H32))","v":""},null,null,"",null,{"$f":"IF(E23=\"\",\"\",IF(②選手情報入力!J32=\"\",\"\",IF(I23=1,VLOOKUP(②選手情報入力!J32,種目情報!$A$4:$B$39,2,FALSE),VLOOKUP(②選手情報入力!J32,種目情報!$E$4:$F$29,2,FALSE))))","v":""},{"$f":"IF(E23=\"\",\"\",IF(②選手情報入力!K32=\"\",\"\",②選手情報入力!K32))","v":""},{"$f":"IF(E23=\"\",\"\",IF(②選手情報入力!I32=\"\",\"\",1))","v":""},{"$f":"IF(E23=\"\",\"\",IF(②選手情報入力!J32=\"\",\"\",IF(I23=1,VLOOKUP(②選手情報入力!J32,種目情報!$A$4:$C$29,3,FALSE),VLOOKUP(②選手情報入力!J32,種目情報!$E$4:$G$32,3,FALSE))))","v":""},{"$f":"IF(E23=\"\",\"\",IF(②選手情報入力!M32=\"\",\"\",IF(I23=1,VLOOKUP(②選手情報入力!M32,種目情報!$A$4:$B$29,2,FALSE),VLOOKUP(②選手情報入力!M32,種目情報!$E$4:$F$32,2,FALSE))))","v":""},{"$f":"IF(E23=\"\",\"\",IF(②選手情報入力!N32=\"\",\"\",②選手情報入力!N32))","v":""},{"$f":"IF(E23=\"\",\"\",IF(②選手情報入力!L32=\"\",\"\",1))","v":""},{"$f":"IF(E23=\"\",\"\",IF(②選手情報入力!M32=\"\",\"\",IF(I23=1,VLOOKUP(②選手情報入力!M32,種目情報!$A$4:$C$29,3,FALSE),VLOOKUP(②選手情報入力!M32,種目情報!$E$4:$G$32,3,FALSE))))","v":""},{"$f":"IF(E23=\"\",\"\",IF(②選手情報入力!P32=\"\",\"\",IF(I23=1,VLOOKUP(②選手情報入力!P32,種目情報!$A$4:$B$29,2,FALSE),VLOOKUP(②選手情報入力!P32,種目情報!$E$4:$F$32,2,FALSE))))","v":""},{"$f":"IF(E23=\"\",\"\",IF(②選手情報入力!Q32=\"\",\"\",②選手情報入力!Q32))","v":""},{"$f":"IF(E23=\"\",\"\",IF(②選手情報入力!O32=\"\",\"\",1))","v":""},{"$f":"IF(E23=\"\",\"\",IF(②選手情報入力!P32=\"\",\"\",IF(I23=1,VLOOKUP(②選手情報入力!P32,種目情報!$A$4:$C$29,3,FALSE),VLOOKUP(②選手情報入力!P32,種目情報!$E$4:$G$32,3,FALSE))))","v":""},{"$f":"IF(E23=\"\",\"\",IF(②選手情報入力!R32=\"\",\"\",IF(I23=1,種目情報!$J$4,種目情報!$J$6)))","v":""},{"$f":"IF(E23=\"\",\"\",IF(②選手情報入力!R32=\"\",\"\",IF(I23=1,IF(②選手情報入力!$S$6=\"\",\"\",②選手情報入力!$S$6),IF(②選手情報入力!$S$7=\"\",\"\",②選手情報入力!$S$7))))","v":""},{"$f":"IF(E23=\"\",\"\",IF(②選手情報入力!R32=\"\",\"\",IF(I23=1,IF(②選手情報入力!$R$6=\"\",0,1),IF(②選手情報入力!$R$7=\"\",0,1))))","v":""},{"$f":"IF(E23=\"\",\"\",IF(②選手情報入力!R32=\"\",\"\",2))","v":""},{"$f":"IF(E23=\"\",\"\",IF(②選手情報入力!T32=\"\",\"\",IF(I23=1,種目情報!$J$5,種目情報!$J$7)))","v":""},{"$f":"IF(E23=\"\",\"\",IF(②選手情報入力!T32=\"\",\"\",IF(I23=1,IF(②選手情報入力!$U$6=\"\",\"\",②選手情報入力!$U$6),IF(②選手情報入力!$U$7=\"\",\"\",②選手情報入力!$U$7))))","v":""},{"$f":"IF(E23=\"\",\"\",IF(②選手情報入力!T32=\"\",\"\",IF(I23=1,IF(②選手情報入力!$T$6=\"\",0,1),IF(②選手情報入力!$T$7=\"\",0,1))))","v":""},{"$f":"IF(E23=\"\",\"\",IF(②選手情報入力!T32=\"\",\"\",2))","v":""}]
[{"$f":"IF(E24=\"\",\"\",data_kyogisha!I24&①団体情報入力!C$4+②選手情報入力!C33+10000000)","v":""},{"$f":"IF(E24=\"\",\"\",①団体情報入力!$C$4)","v":""},null,{"$f":"IF(E24=\"\",\"\",②選手情報入力!B$11)","v":""},{"$f":"IF(②選手情報入力!C33=\"\",\"\",②選手情報入力!C33)","v":""},{"$f":"IF(E24=\"\",\"\",②選手情報入力!D33)","v":""},{"$f":"IF(E24=\"\",\"\",ASC(②選手情報入力!E33&\" \"&②選手情報入力!F33))","v":""},"",{"$f":"IF(E24=\"\",\"\",IF(②選手情報入力!G33=\"男\",1,2))","v":""},{"$f":"IF(E24=\"\",\"\",IF(②選手情報入力!H33=\"\",\"\",②選手情報入力!H33))","v":""},null,null,"",null,{"$f":"IF(E24=\"\",\"\",IF(②選手情報入力!J33=\"\",\"\",IF(I24=1,VLOOKUP(②選手情報入力!J33,種目情報!$A$4:$B$39,2,FALSE),VLOOKUP(②選手情報入力!J33,種目情報!$E$4:$F$29,2,FALSE))))","v":""},{"$f":"IF(E24=\"\",\"\",IF(②選手情報入力!K33=\"\",\"\",②選手情報入力!K33))","v":""},{"$f":"IF(E24=\"\",\"\",IF(②選手情報入力!I33=\"\",\"\",1))","v":""},{"$f":"IF(E24=\"\",\"\",IF(②選手情報入力!J33=\"\",\"\",IF(I24=1,VLOOKUP(②選手情報入力!J33,種目情報!$A$4:$C$29,3,FALSE),VLOOKUP(②選手情報入力!J33,種目情報!$E$4:$G$32,3,FALSE))))","v":""},{"$f":"IF(E24=\"\",\"\",IF(②選手情報入力!M33=\"\",\"\",IF(I24=1,VLOOKUP(②選手情報入力!M33,種目情報!$A$4:$B$29,2,FALSE),VLOOKUP(②選手情報入力!M33,種目情報!$E$4:$F$32,2,FALSE))))","v":""},{"$f":"IF(E24=\"\",\"\",IF(②選手情報入力!N33=\"\",\"\",②選手情報入力!N33))","v":""},{"$f":"IF(E24=\"\",\"\",IF(②選手情報入力!L33=\"\",\"\",1))","v":""},{"$f":"IF(E24=\"\",\"\",IF(②選手情報入力!M33=\"\",\"\",IF(I24=1,VLOOKUP(②選手情報入力!M33,種目情報!$A$4:$C$29,3,FALSE),VLOOKUP(②選手情報入力!M33,種目情報!$E$4:$G$32,3,FALSE))))","v":""},{"$f":"IF(E24=\"\",\"\",IF(②選手情報入力!P33=\"\",\"\",IF(I24=1,VLOOKUP(②選手情報入力!P33,種目情報!$A$4:$B$29,2,FALSE),VLOOKUP(②選手情報入力!P33,種目情報!$E$4:$F$32,2,FALSE))))","v":""},{"$f":"IF(E24=\"\",\"\",IF(②選手情報入力!Q33=\"\",\"\",②選手情報入力!Q33))","v":""},{"$f":"IF(E24=\"\",\"\",IF(②選手情報入力!O33=\"\",\"\",1))","v":""},{"$f":"IF(E24=\"\",\"\",IF(②選手情報入力!P33=\"\",\"\",IF(I24=1,VLOOKUP(②選手情報入力!P33,種目情報!$A$4:$C$29,3,FALSE),VLOOKUP(②選手情報入力!P33,種目情報!$E$4:$G$32,3,FALSE))))","v":""},{"$f":"IF(E24=\"\",\"\",IF(②選手情報入力!R33=\"\",\"\",IF(I24=1,種目情報!$J$4,種目情報!$J$6)))","v":""},{"$f":"IF(E24=\"\",\"\",IF(②選手情報入力!R33=\"\",\"\",IF(I24=1,IF(②選手情報入力!$S$6=\"\",\"\",②選手情報入力!$S$6),IF(②選手情報入力!$S$7=\"\",\"\",②選手情報入力!$S$7))))","v":""},{"$f":"IF(E24=\"\",\"\",IF(②選手情報入力!R33=\"\",\"\",IF(I24=1,IF(②選手情報入力!$R$6=\"\",0,1),IF(②選手情報入力!$R$7=\"\",0,1))))","v":""},{"$f":"IF(E24=\"\",\"\",IF(②選手情報入力!R33=\"\",\"\",2))","v":""},{"$f":"IF(E24=\"\",\"\",IF(②選手情報入力!T33=\"\",\"\",IF(I24=1,種目情報!$J$5,種目情報!$J$7)))","v":""},{"$f":"IF(E24=\"\",\"\",IF(②選手情報入力!T33=\"\",\"\",IF(I24=1,IF(②選手情報入力!$U$6=\"\",\"\",②選手情報入力!$U$6),IF(②選手情報入力!$U$7=\"\",\"\",②選手情報入力!$U$7))))","v":""},{"$f":"IF(E24=\"\",\"\",IF(②選手情報入力!T33=\"\",\"\",IF(I24=1,IF(②選手情報入力!$T$6=\"\",0,1),IF(②選手情報入力!$T$7=\"\",0,1))))","v":""},{"$f":"IF(E24=\"\",\"\",IF(②選手情報入力!T33=\"\",\"\",2))","v":""}]
[{"$f":"IF(E25=\"\",\"\",data_kyogisha!I25&①団体情報入力!C$4+②選手情報入力!C34+10000000)","v":""},{"$f":"IF(E25=\"\",\"\",①団体情報入力!$C$4)","v":""},null,{"$f":"IF(E25=\"\",\"\",②選手情報入力!B$11)","v":""},{"$f":"IF(②選手情報入力!C34=\"\",\"\",②選手情報入力!C34)","v":""},{"$f":"IF(E25=\"\",\"\",②選手情報入力!D34)","v":""},{"$f":"IF(E25=\"\",\"\",ASC(②選手情報入力!E34&\" \"&②選手情報入力!F34))","v":""},"",{"$f":"IF(E25=\"\",\"\",IF(②選手情報入力!G34=\"男\",1,2))","v":""},{"$f":"IF(E25=\"\",\"\",IF(②選手情報入力!H34=\"\",\"\",②選手情報入力!H34))","v":""},null,null,"",null,{"$f":"IF(E25=\"\",\"\",IF(②選手情報入力!J34=\"\",\"\",IF(I25=1,VLOOKUP(②選手情報入力!J34,種目情報!$A$4:$B$39,2,FALSE),VLOOKUP(②選手情報入力!J34,種目情報!$E$4:$F$29,2,FALSE))))","v":""},{"$f":"IF(E25=\"\",\"\",IF(②選手情報入力!K34=\"\",\"\",②選手情報入力!K34))","v":""},{"$f":"IF(E25=\"\",\"\",IF(②選手情報入力!I34=\"\",\"\",1))","v":""},{"$f":"IF(E25=\"\",\"\",IF(②選手情報入力!J34=\"\",\"\",IF(I25=1,VLOOKUP(②選手情報入力!J34,種目情報!$A$4:$C$29,3,FALSE),VLOOKUP(②選手情報入力!J34,種目情報!$E$4:$G$32,3,FALSE))))","v":""},{"$f":"IF(E25=\"\",\"\",IF(②選手情報入力!M34=\"\",\"\",IF(I25=1,VLOOKUP(②選手情報入力!M34,種目情報!$A$4:$B$29,2,FALSE),VLOOKUP(②選手情報入力!M34,種目情報!$E$4:$F$32,2,FALSE))))","v":""},{"$f":"IF(E25=\"\",\"\",IF(②選手情報入力!N34=\"\",\"\",②選手情報入力!N34))","v":""},{"$f":"IF(E25=\"\",\"\",IF(②選手情報入力!L34=\"\",\"\",1))","v":""},{"$f":"IF(E25=\"\",\"\",IF(②選手情報入力!M34=\"\",\"\",IF(I25=1,VLOOKUP(②選手情報入力!M34,種目情報!$A$4:$C$29,3,FALSE),VLOOKUP(②選手情報入力!M34,種目情報!$E$4:$G$32,3,FALSE))))","v":""},{"$f":"IF(E25=\"\",\"\",IF(②選手情報入力!P34=\"\",\"\",IF(I25=1,VLOOKUP(②選手情報入力!P34,種目情報!$A$4:$B$29,2,FALSE),VLOOKUP(②選手情報入力!P34,種目情報!$E$4:$F$32,2,FALSE))))","v":""},{"$f":"IF(E25=\"\",\"\",IF(②選手情報入力!Q34=\"\",\"\",②選手情報入力!Q34))","v":""},{"$f":"IF(E25=\"\",\"\",IF(②選手情報入力!O34=\"\",\"\",1))","v":""},{"$f":"IF(E25=\"\",\"\",IF(②選手情報入力!P34=\"\",\"\",IF(I25=1,VLOOKUP(②選手情報入力!P34,種目情報!$A$4:$C$29,3,FALSE),VLOOKUP(②選手情報入力!P34,種目情報!$E$4:$G$32,3,FALSE))))","v":""},{"$f":"IF(E25=\"\",\"\",IF(②選手情報入力!R34=\"\",\"\",IF(I25=1,種目情報!$J$4,種目情報!$J$6)))","v":""},{"$f":"IF(E25=\"\",\"\",IF(②選手情報入力!R34=\"\",\"\",IF(I25=1,IF(②選手情報入力!$S$6=\"\",\"\",②選手情報入力!$S$6),IF(②選手情報入力!$S$7=\"\",\"\",②選手情報入力!$S$7))))","v":""},{"$f":"IF(E25=\"\",\"\",IF(②選手情報入力!R34=\"\",\"\",IF(I25=1,IF(②選手情報入力!$R$6=\"\",0,1),IF(②選手情報入力!$R$7=\"\",0,1))))","v":""},{"$f":"IF(E25=\"\",\"\",IF(②選手情報入力!R34=\"\",\"\",2))","v":""},{"$f":"IF(E25=\"\",\"\",IF(②選手情報入力!T34=\"\",\"\",IF(I25=1,種目情報!$J$5,種目情報!$J$7)))","v":""},{"$f":"IF(E25=\"\",\"\",IF(②選手情報入力!T34=\"\",\"\",IF(I25=1,IF(②選手情報入力!$U$6=\"\",\"\",②選手情報入力!$U$6),IF(②選手情報入力!$U$7=\"\",\"\",②選手情報入力!$U$7))))","v":""},{"$f":"IF(E25=\"\",\"\",IF(②選手情報入力!T34=\"\",\"\",IF(I25=1,IF(②選手情報入力!$T$6=\"\",0,1),IF(②選手情報入力!$T$7=\"\",0,1))))","v":""},{"$f":"IF(E25=\"\",\"\",IF(②選手情報入力!T34=\"\",\"\",2))","v":""}]
[{"$f":"IF(E26=\"\",\"\",data_kyogisha!I26&①団体情報入力!C$4+②選手情報入力!C35+10000000)","v":""},{"$f":"IF(E26=\"\",\"\",①団体情報入力!$C$4)","v":""},null,{"$f":"IF(E26=\"\",\"\",②選手情報入力!B$11)","v":""},{"$f":"IF(②選手情報入力!C35=\"\",\"\",②選手情報入力!C35)","v":""},{"$f":"IF(E26=\"\",\"\",②選手情報入力!D35)","v":""},{"$f":"IF(E26=\"\",\"\",ASC(②選手情報入力!E35&\" \"&②選手情報入力!F35))","v":""},"",{"$f":"IF(E26=\"\",\"\",IF(②選手情報入力!G35=\"男\",1,2))","v":""},{"$f":"IF(E26=\"\",\"\",IF(②選手情報入力!H35=\"\",\"\",②選手情報入力!H35))","v":""},null,null,"",null,{"$f":"IF(E26=\"\",\"\",IF(②選手情報入力!J35=\"\",\"\",IF(I26=1,VLOOKUP(②選手情報入力!J35,種目情報!$A$4:$B$39,2,FALSE),VLOOKUP(②選手情報入力!J35,種目情報!$E$4:$F$29,2,FALSE))))","v":""},{"$f":"IF(E26=\"\",\"\",IF(②選手情報入力!K35=\"\",\"\",②選手情報入力!K35))","v":""},{"$f":"IF(E26=\"\",\"\",IF(②選手情報入力!I35=\"\",\"\",1))","v":""},{"$f":"IF(E26=\"\",\"\",IF(②選手情報入力!J35=\"\",\"\",IF(I26=1,VLOOKUP(②選手情報入力!J35,種目情報!$A$4:$C$29,3,FALSE),VLOOKUP(②選手情報入力!J35,種目情報!$E$4:$G$32,3,FALSE))))","v":""},{"$f":"IF(E26=\"\",\"\",IF(②選手情報入力!M35=\"\",\"\",IF(I26=1,VLOOKUP(②選手情報入力!M35,種目情報!$A$4:$B$29,2,FALSE),VLOOKUP(②選手情報入力!M35,種目情報!$E$4:$F$32,2,FALSE))))","v":""},{"$f":"IF(E26=\"\",\"\",IF(②選手情報入力!N35=\"\",\"\",②選手情報入力!N35))","v":""},{"$f":"IF(E26=\"\",\"\",IF(②選手情報入力!L35=\"\",\"\",1))","v":""},{"$f":"IF(E26=\"\",\"\",IF(②選手情報入力!M35=\"\",\"\",IF(I26=1,VLOOKUP(②選手情報入力!M35,種目情報!$A$4:$C$29,3,FALSE),VLOOKUP(②選手情報入力!M35,種目情報!$E$4:$G$32,3,FALSE))))","v":""},{"$f":"IF(E26=\"\",\"\",IF(②選手情報入力!P35=\"\",\"\",IF(I26=1,VLOOKUP(②選手情報入力!P35,種目情報!$A$4:$B$29,2,FALSE),VLOOKUP(②選手情報入力!P35,種目情報!$E$4:$F$32,2,FALSE))))","v":""},{"$f":"IF(E26=\"\",\"\",IF(②選手情報入力!Q35=\"\",\"\",②選手情報入力!Q35))","v":""},{"$f":"IF(E26=\"\",\"\",IF(②選手情報入力!O35=\"\",\"\",1))","v":""},{"$f":"IF(E26=\"\",\"\",IF(②選手情報入力!P35=\"\",\"\",IF(I26=1,VLOOKUP(②選手情報入力!P35,種目情報!$A$4:$C$29,3,FALSE),VLOOKUP(②選手情報入力!P35,種目情報!$E$4:$G$32,3,FALSE))))","v":""},{"$f":"IF(E26=\"\",\"\",IF(②選手情報入力!R35=\"\",\"\",IF(I26=1,種目情報!$J$4,種目情報!$J$6)))","v":""},{"$f":"IF(E26=\"\",\"\",IF(②選手情報入力!R35=\"\",\"\",IF(I26=1,IF(②選手情報入力!$S$6=\"\",\"\",②選手情報入力!$S$6),IF(②選手情報入力!$S$7=\"\",\"\",②選手情報入力!$S$7))))","v":""},{"$f":"IF(E26=\"\",\"\",IF(②選手情報入力!R35=\"\",\"\",IF(I26=1,IF(②選手情報入力!$R$6=\"\",0,1),IF(②選手情報入力!$R$7=\"\",0,1))))","v":""},{"$f":"IF(E26=\"\",\"\",IF(②選手情報入力!R35=\"\",\"\",2))","v":""},{"$f":"IF(E26=\"\",\"\",IF(②選手情報入力!T35=\"\",\"\",IF(I26=1,種目情報!$J$5,種目情報!$J$7)))","v":""},{"$f":"IF(E26=\"\",\"\",IF(②選手情報入力!T35=\"\",\"\",IF(I26=1,IF(②選手情報入力!$U$6=\"\",\"\",②選手情報入力!$U$6),IF(②選手情報入力!$U$7=\"\",\"\",②選手情報入力!$U$7))))","v":""},{"$f":"IF(E26=\"\",\"\",IF(②選手情報入力!T35=\"\",\"\",IF(I26=1,IF(②選手情報入力!$T$6=\"\",0,1),IF(②選手情報入力!$T$7=\"\",0,1))))","v":""},{"$f":"IF(E26=\"\",\"\",IF(②選手情報入力!T35=\"\",\"\",2))","v":""}]
[{"$f":"IF(E27=\"\",\"\",data_kyogisha!I27&①団体情報入力!C$4+②選手情報入力!C36+10000000)","v":""},{"$f":"IF(E27=\"\",\"\",①団体情報入力!$C$4)","v":""},null,{"$f":"IF(E27=\"\",\"\",②選手情報入力!B$11)","v":""},{"$f":"IF(②選手情報入力!C36=\"\",\"\",②選手情報入力!C36)","v":""},{"$f":"IF(E27=\"\",\"\",②選手情報入力!D36)","v":""},{"$f":"IF(E27=\"\",\"\",ASC(②選手情報入力!E36&\" \"&②選手情報入力!F36))","v":""},"",{"$f":"IF(E27=\"\",\"\",IF(②選手情報入力!G36=\"男\",1,2))","v":""},{"$f":"IF(E27=\"\",\"\",IF(②選手情報入力!H36=\"\",\"\",②選手情報入力!H36))","v":""},null,null,"",null,{"$f":"IF(E27=\"\",\"\",IF(②選手情報入力!J36=\"\",\"\",IF(I27=1,VLOOKUP(②選手情報入力!J36,種目情報!$A$4:$B$39,2,FALSE),VLOOKUP(②選手情報入力!J36,種目情報!$E$4:$F$29,2,FALSE))))","v":""},{"$f":"IF(E27=\"\",\"\",IF(②選手情報入力!K36=\"\",\"\",②選手情報入力!K36))","v":""},{"$f":"IF(E27=\"\",\"\",IF(②選手情報入力!I36=\"\",\"\",1))","v":""},{"$f":"IF(E27=\"\",\"\",IF(②選手情報入力!J36=\"\",\"\",IF(I27=1,VLOOKUP(②選手情報入力!J36,種目情報!$A$4:$C$29,3,FALSE),VLOOKUP(②選手情報入力!J36,種目情報!$E$4:$G$32,3,FALSE))))","v":""},{"$f":"IF(E27=\"\",\"\",IF(②選手情報入力!M36=\"\",\"\",IF(I27=1,VLOOKUP(②選手情報入力!M36,種目情報!$A$4:$B$29,2,FALSE),VLOOKUP(②選手情報入力!M36,種目情報!$E$4:$F$32,2,FALSE))))","v":""},{"$f":"IF(E27=\"\",\"\",IF(②選手情報入力!N36=\"\",\"\",②選手情報入力!N36))","v":""},{"$f":"IF(E27=\"\",\"\",IF(②選手情報入力!L36=\"\",\"\",1))","v":""},{"$f":"IF(E27=\"\",\"\",IF(②選手情報入力!M36=\"\",\"\",IF(I27=1,VLOOKUP(②選手情報入力!M36,種目情報!$A$4:$C$29,3,FALSE),VLOOKUP(②選手情報入力!M36,種目情報!$E$4:$G$32,3,FALSE))))","v":""},{"$f":"IF(E27=\"\",\"\",IF(②選手情報入力!P36=\"\",\"\",IF(I27=1,VLOOKUP(②選手情報入力!P36,種目情報!$A$4:$B$29,2,FALSE),VLOOKUP(②選手情報入力!P36,種目情報!$E$4:$F$32,2,FALSE))))","v":""},{"$f":"IF(E27=\"\",\"\",IF(②選手情報入力!Q36=\"\",\"\",②選手情報入力!Q36))","v":""},{"$f":"IF(E27=\"\",\"\",IF(②選手情報入力!O36=\"\",\"\",1))","v":""},{"$f":"IF(E27=\"\",\"\",IF(②選手情報入力!P36=\"\",\"\",IF(I27=1,VLOOKUP(②選手情報入力!P36,種目情報!$A$4:$C$29,3,FALSE),VLOOKUP(②選手情報入力!P36,種目情報!$E$4:$G$32,3,FALSE))))","v":""},{"$f":"IF(E27=\"\",\"\",IF(②選手情報入力!R36=\"\",\"\",IF(I27=1,種目情報!$J$4,種目情報!$J$6)))","v":""},{"$f":"IF(E27=\"\",\"\",IF(②選手情報入力!R36=\"\",\"\",IF(I27=1,IF(②選手情報入力!$S$6=\"\",\"\",②選手情報入力!$S$6),IF(②選手情報入力!$S$7=\"\",\"\",②選手情報入力!$S$7))))","v":""},{"$f":"IF(E27=\"\",\"\",IF(②選手情報入力!R36=\"\",\"\",IF(I27=1,IF(②選手情報入力!$R$6=\"\",0,1),IF(②選手情報入力!$R$7=\"\",0,1))))","v":""},{"$f":"IF(E27=\"\",\"\",IF(②選手情報入力!R36=\"\",\"\",2))","v":""},{"$f":"IF(E27=\"\",\"\",IF(②選手情報入力!T36=\"\",\"\",IF(I27=1,種目情報!$J$5,種目情報!$J$7)))","v":""},{"$f":"IF(E27=\"\",\"\",IF(②選手情報入力!T36=\"\",\"\",IF(I27=1,IF(②選手情報入力!$U$6=\"\",\"\",②選手情報入力!$U$6),IF(②選手情報入力!$U$7=\"\",\"\",②選手情報入力!$U$7))))","v":""},{"$f":"IF(E27=\"\",\"\",IF(②選手情報入力!T36=\"\",\"\",IF(I27=1,IF(②選手情報入力!$T$6=\"\",0,1),IF(②選手情報入力!$T$7=\"\",0,1))))","v":""},{"$f":"IF(E27=\"\",\"\",IF(②選手情報入力!T36=\"\",\"\",2))","v":""}]
[{"$f":"IF(E28=\"\",\"\",data_kyogisha!I28&①団体情報入力!C$4+②選手情報入力!C37+10000000)","v":""},{"$f":"IF(E28=\"\",\"\",①団体情報入力!$C$4)","v":""},null,{"$f":"IF(E28=\"\",\"\",②選手情報入力!B$11)","v":""},{"$f":"IF(②選手情報入力!C37=\"\",\"\",②選手情報入力!C37)","v":""},{"$f":"IF(E28=\"\",\"\",②選手情報入力!D37)","v":""},{"$f":"IF(E28=\"\",\"\",ASC(②選手情報入力!E37&\" \"&②選手情報入力!F37))","v":""},"",{"$f":"IF(E28=\"\",\"\",IF(②選手情報入力!G37=\"男\",1,2))","v":""},{"$f":"IF(E28=\"\",\"\",IF(②選手情報入力!H37=\"\",\"\",②選手情報入力!H37))","v":""},null,null,"",null,{"$f":"IF(E28=\"\",\"\",IF(②選手情報入力!J37=\"\",\"\",IF(I28=1,VLOOKUP(②選手情報入力!J37,種目情報!$A$4:$B$39,2,FALSE),VLOOKUP(②選手情報入力!J37,種目情報!$E$4:$F$29,2,FALSE))))","v":""},{"$f":"IF(E28=\"\",\"\",IF(②選手情報入力!K37=\"\",\"\",②選手情報入力!K37))","v":""},{"$f":"IF(E28=\"\",\"\",IF(②選手情報入力!I37=\"\",\"\",1))","v":""},{"$f":"IF(E28=\"\",\"\",IF(②選手情報入力!J37=\"\",\"\",IF(I28=1,VLOOKUP(②選手情報入力!J37,種目情報!$A$4:$C$29,3,FALSE),VLOOKUP(②選手情報入力!J37,種目情報!$E$4:$G$32,3,FALSE))))","v":""},{"$f":"IF(E28=\"\",\"\",IF(②選手情報入力!M37=\"\",\"\",IF(I28=1,VLOOKUP(②選手情報入力!M37,種目情報!$A$4:$B$29,2,FALSE),VLOOKUP(②選手情報入力!M37,種目情報!$E$4:$F$32,2,FALSE))))","v":""},{"$f":"IF(E28=\"\",\"\",IF(②選手情報入力!N37=\"\",\"\",②選手情報入力!N37))","v":""},{"$f":"IF(E28=\"\",\"\",IF(②選手情報入力!L37=\"\",\"\",1))","v":""},{"$f":"IF(E28=\"\",\"\",IF(②選手情報入力!M37=\"\",\"\",IF(I28=1,VLOOKUP(②選手情報入力!M37,種目情報!$A$4:$C$29,3,FALSE),VLOOKUP(②選手情報入力!M37,種目情報!$E$4:$G$32,3,FALSE))))","v":""},{"$f":"IF(E28=\"\",\"\",IF(②選手情報入力!P37=\"\",\"\",IF(I28=1,VLOOKUP(②選手情報入力!P37,種目情報!$A$4:$B$29,2,FALSE),VLOOKUP(②選手情報入力!P37,種目情報!$E$4:$F$32,2,FALSE))))","v":""},{"$f":"IF(E28=\"\",\"\",IF(②選手情報入力!Q37=\"\",\"\",②選手情報入力!Q37))","v":""},{"$f":"IF(E28=\"\",\"\",IF(②選手情報入力!O37=\"\",\"\",1))","v":""},{"$f":"IF(E28=\"\",\"\",IF(②選手情報入力!P37=\"\",\"\",IF(I28=1,VLOOKUP(②選手情報入力!P37,種目情報!$A$4:$C$29,3,FALSE),VLOOKUP(②選手情報入力!P37,種目情報!$E$4:$G$32,3,FALSE))))","v":""},{"$f":"IF(E28=\"\",\"\",IF(②選手情報入力!R37=\"\",\"\",IF(I28=1,種目情報!$J$4,種目情報!$J$6)))","v":""},{"$f":"IF(E28=\"\",\"\",IF(②選手情報入力!R37=\"\",\"\",IF(I28=1,IF(②選手情報入力!$S$6=\"\",\"\",②選手情報入力!$S$6),IF(②選手情報入力!$S$7=\"\",\"\",②選手情報入力!$S$7))))","v":""},{"$f":"IF(E28=\"\",\"\",IF(②選手情報入力!R37=\"\",\"\",IF(I28=1,IF(②選手情報入力!$R$6=\"\",0,1),IF(②選手情報入力!$R$7=\"\",0,1))))","v":""},{"$f":"IF(E28=\"\",\"\",IF(②選手情報入力!R37=\"\",\"\",2))","v":""},{"$f":"IF(E28=\"\",\"\",IF(②選手情報入力!T37=\"\",\"\",IF(I28=1,種目情報!$J$5,種目情報!$J$7)))","v":""},{"$f":"IF(E28=\"\",\"\",IF(②選手情報入力!T37=\"\",\"\",IF(I28=1,IF(②選手情報入力!$U$6=\"\",\"\",②選手情報入力!$U$6),IF(②選手情報入力!$U$7=\"\",\"\",②選手情報入力!$U$7))))","v":""},{"$f":"IF(E28=\"\",\"\",IF(②選手情報入力!T37=\"\",\"\",IF(I28=1,IF(②選手情報入力!$T$6=\"\",0,1),IF(②選手情報入力!$T$7=\"\",0,1))))","v":""},{"$f":"IF(E28=\"\",\"\",IF(②選手情報入力!T37=\"\",\"\",2))","v":""}]
[{"$f":"IF(E29=\"\",\"\",data_kyogisha!I29&①団体情報入力!C$4+②選手情報入力!C38+10000000)","v":""},{"$f":"IF(E29=\"\",\"\",①団体情報入力!$C$4)","v":""},null,{"$f":"IF(E29=\"\",\"\",②選手情報入力!B$11)","v":""},{"$f":"IF(②選手情報入力!C38=\"\",\"\",②選手情報入力!C38)","v":""},{"$f":"IF(E29=\"\",\"\",②選手情報入力!D38)","v":""},{"$f":"IF(E29=\"\",\"\",ASC(②選手情報入力!E38&\" \"&②選手情報入力!F38))","v":""},"",{"$f":"IF(E29=\"\",\"\",IF(②選手情報入力!G38=\"男\",1,2))","v":""},{"$f":"IF(E29=\"\",\"\",IF(②選手情報入力!H38=\"\",\"\",②選手情報入力!H38))","v":""},null,null,"",null,{"$f":"IF(E29=\"\",\"\",IF(②選手情報入力!J38=\"\",\"\",IF(I29=1,VLOOKUP(②選手情報入力!J38,種目情報!$A$4:$B$39,2,FALSE),VLOOKUP(②選手情報入力!J38,種目情報!$E$4:$F$29,2,FALSE))))","v":""},{"$f":"IF(E29=\"\",\"\",IF(②選手情報入力!K38=\"\",\"\",②選手情報入力!K38))","v":""},{"$f":"IF(E29=\"\",\"\",IF(②選手情報入力!I38=\"\",\"\",1))","v":""},{"$f":"IF(E29=\"\",\"\",IF(②選手情報入力!J38=\"\",\"\",IF(I29=1,VLOOKUP(②選手情報入力!J38,種目情報!$A$4:$C$29,3,FALSE),VLOOKUP(②選手情報入力!J38,種目情報!$E$4:$G$32,3,FALSE))))","v":""},{"$f":"IF(E29=\"\",\"\",IF(②選手情報入力!M38=\"\",\"\",IF(I29=1,VLOOKUP(②選手情報入力!M38,種目情報!$A$4:$B$29,2,FALSE),VLOOKUP(②選手情報入力!M38,種目情報!$E$4:$F$32,2,FALSE))))","v":""},{"$f":"IF(E29=\"\",\"\",IF(②選手情報入力!N38=\"\",\"\",②選手情報入力!N38))","v":""},{"$f":"IF(E29=\"\",\"\",IF(②選手情報入力!L38=\"\",\"\",1))","v":""},{"$f":"IF(E29=\"\",\"\",IF(②選手情報入力!M38=\"\",\"\",IF(I29=1,VLOOKUP(②選手情報入力!M38,種目情報!$A$4:$C$29,3,FALSE),VLOOKUP(②選手情報入力!M38,種目情報!$E$4:$G$32,3,FALSE))))","v":""},{"$f":"IF(E29=\"\",\"\",IF(②選手情報入力!P38=\"\",\"\",IF(I29=1,VLOOKUP(②選手情報入力!P38,種目情報!$A$4:$B$29,2,FALSE),VLOOKUP(②選手情報入力!P38,種目情報!$E$4:$F$32,2,FALSE))))","v":""},{"$f":"IF(E29=\"\",\"\",IF(②選手情報入力!Q38=\"\",\"\",②選手情報入力!Q38))","v":""},{"$f":"IF(E29=\"\",\"\",IF(②選手情報入力!O38=\"\",\"\",1))","v":""},{"$f":"IF(E29=\"\",\"\",IF(②選手情報入力!P38=\"\",\"\",IF(I29=1,VLOOKUP(②選手情報入力!P38,種目情報!$A$4:$C$29,3,FALSE),VLOOKUP(②選手情報入力!P38,種目情報!$E$4:$G$32,3,FALSE))))","v":""},{"$f":"IF(E29=\"\",\"\",IF(②選手情報入力!R38=\"\",\"\",IF(I29=1,種目情報!$J$4,種目情報!$J$6)))","v":""},{"$f":"IF(E29=\"\",\"\",IF(②選手情報入力!R38=\"\",\"\",IF(I29=1,IF(②選手情報入力!$S$6=\"\",\"\",②選手情報入力!$S$6),IF(②選手情報入力!$S$7=\"\",\"\",②選手情報入力!$S$7))))","v":""},{"$f":"IF(E29=\"\",\"\",IF(②選手情報入力!R38=\"\",\"\",IF(I29=1,IF(②選手情報入力!$R$6=\"\",0,1),IF(②選手情報入力!$R$7=\"\",0,1))))","v":""},{"$f":"IF(E29=\"\",\"\",IF(②選手情報入力!R38=\"\",\"\",2))","v":""},{"$f":"IF(E29=\"\",\"\",IF(②選手情報入力!T38=\"\",\"\",IF(I29=1,種目情報!$J$5,種目情報!$J$7)))","v":""},{"$f":"IF(E29=\"\",\"\",IF(②選手情報入力!T38=\"\",\"\",IF(I29=1,IF(②選手情報入力!$U$6=\"\",\"\",②選手情報入力!$U$6),IF(②選手情報入力!$U$7=\"\",\"\",②選手情報入力!$U$7))))","v":""},{"$f":"IF(E29=\"\",\"\",IF(②選手情報入力!T38=\"\",\"\",IF(I29=1,IF(②選手情報入力!$T$6=\"\",0,1),IF(②選手情報入力!$T$7=\"\",0,1))))","v":""},{"$f":"IF(E29=\"\",\"\",IF(②選手情報入力!T38=\"\",\"\",2))","v":""}]
[{"$f":"IF(E30=\"\",\"\",data_kyogisha!I30&①団体情報入力!C$4+②選手情報入力!C39+10000000)","v":""},{"$f":"IF(E30=\"\",\"\",①団体情報入力!$C$4)","v":""},null,{"$f":"IF(E30=\"\",\"\",②選手情報入力!B$11)","v":""},{"$f":"IF(②選手情報入力!C39=\"\",\"\",②選手情報入力!C39)","v":""},{"$f":"IF(E30=\"\",\"\",②選手情報入力!D39)","v":""},{"$f":"IF(E30=\"\",\"\",ASC(②選手情報入力!E39&\" \"&②選手情報入力!F39))","v":""},"",{"$f":"IF(E30=\"\",\"\",IF(②選手情報入力!G39=\"男\",1,2))","v":""},{"$f":"IF(E30=\"\",\"\",IF(②選手情報入力!H39=\"\",\"\",②選手情報入力!H39))","v":""},null,null,"",null,{"$f":"IF(E30=\"\",\"\",IF(②選手情報入力!J39=\"\",\"\",IF(I30=1,VLOOKUP(②選手情報入力!J39,種目情報!$A$4:$B$39,2,FALSE),VLOOKUP(②選手情報入力!J39,種目情報!$E$4:$F$29,2,FALSE))))","v":""},{"$f":"IF(E30=\"\",\"\",IF(②選手情報入力!K39=\"\",\"\",②選手情報入力!K39))","v":""},{"$f":"IF(E30=\"\",\"\",IF(②選手情報入力!I39=\"\",\"\",1))","v":""},{"$f":"IF(E30=\"\",\"\",IF(②選手情報入力!J39=\"\",\"\",IF(I30=1,VLOOKUP(②選手情報入力!J39,種目情報!$A$4:$C$29,3,FALSE),VLOOKUP(②選手情報入力!J39,種目情報!$E$4:$G$32,3,FALSE))))","v":""},{"$f":"IF(E30=\"\",\"\",IF(②選手情報入力!M39=\"\",\"\",IF(I30=1,VLOOKUP(②選手情報入力!M39,種目情報!$A$4:$B$29,2,FALSE),VLOOKUP(②選手情報入力!M39,種目情報!$E$4:$F$32,2,FALSE))))","v":""},{"$f":"IF(E30=\"\",\"\",IF(②選手情報入力!N39=\"\",\"\",②選手情報入力!N39))","v":""},{"$f":"IF(E30=\"\",\"\",IF(②選手情報入力!L39=\"\",\"\",1))","v":""},{"$f":"IF(E30=\"\",\"\",IF(②選手情報入力!M39=\"\",\"\",IF(I30=1,VLOOKUP(②選手情報入力!M39,種目情報!$A$4:$C$29,3,FALSE),VLOOKUP(②選手情報入力!M39,種目情報!$E$4:$G$32,3,FALSE))))","v":""},{"$f":"IF(E30=\"\",\"\",IF(②選手情報入力!P39=\"\",\"\",IF(I30=1,VLOOKUP(②選手情報入力!P39,種目情報!$A$4:$B$29,2,FALSE),VLOOKUP(②選手情報入力!P39,種目情報!$E$4:$F$32,2,FALSE))))","v":""},{"$f":"IF(E30=\"\",\"\",IF(②選手情報入力!Q39=\"\",\"\",②選手情報入力!Q39))","v":""},{"$f":"IF(E30=\"\",\"\",IF(②選手情報入力!O39=\"\",\"\",1))","v":""},{"$f":"IF(E30=\"\",\"\",IF(②選手情報入力!P39=\"\",\"\",IF(I30=1,VLOOKUP(②選手情報入力!P39,種目情報!$A$4:$C$29,3,FALSE),VLOOKUP(②選手情報入力!P39,種目情報!$E$4:$G$32,3,FALSE))))","v":""},{"$f":"IF(E30=\"\",\"\",IF(②選手情報入力!R39=\"\",\"\",IF(I30=1,種目情報!$J$4,種目情報!$J$6)))","v":""},{"$f":"IF(E30=\"\",\"\",IF(②選手情報入力!R39=\"\",\"\",IF(I30=1,IF(②選手情報入力!$S$6=\"\",\"\",②選手情報入力!$S$6),IF(②選手情報入力!$S$7=\"\",\"\",②選手情報入力!$S$7))))","v":""},{"$f":"IF(E30=\"\",\"\",IF(②選手情報入力!R39=\"\",\"\",IF(I30=1,IF(②選手情報入力!$R$6=\"\",0,1),IF(②選手情報入力!$R$7=\"\",0,1))))","v":""},{"$f":"IF(E30=\"\",\"\",IF(②選手情報入力!R39=\"\",\"\",2))","v":""},{"$f":"IF(E30=\"\",\"\",IF(②選手情報入力!T39=\"\",\"\",IF(I30=1,種目情報!$J$5,種目情報!$J$7)))","v":""},{"$f":"IF(E30=\"\",\"\",IF(②選手情報入力!T39=\"\",\"\",IF(I30=1,IF(②選手情報入力!$U$6=\"\",\"\",②選手情報入力!$U$6),IF(②選手情報入力!$U$7=\"\",\"\",②選手情報入力!$U$7))))","v":""},{"$f":"IF(E30=\"\",\"\",IF(②選手情報入力!T39=\"\",\"\",IF(I30=1,IF(②選手情報入力!$T$6=\"\",0,1),IF(②選手情報入力!$T$7=\"\",0,1))))","v":""},{"$f":"IF(E30=\"\",\"\",IF(②選手情報入力!T39=\"\",\"\",2))","v":""}]
[{"$f":"IF(E31=\"\",\"\",data_kyogisha!I31&①団体情報入力!C$4+②選手情報入力!C40+10000000)","v":""},{"$f":"IF(E31=\"\",\"\",①団体情報入力!$C$4)","v":""},null,{"$f":"IF(E31=\"\",\"\",②選手情報入力!B$11)","v":""},{"$f":"IF(②選手情報入力!C40=\"\",\"\",②選手情報入力!C40)","v":""},{"$f":"IF(E31=\"\",\"\",②選手情報入力!D40)","v":""},{"$f":"IF(E31=\"\",\"\",ASC(②選手情報入力!E40&\" \"&②選手情報入力!F40))","v":""},"",{"$f":"IF(E31=\"\",\"\",IF(②選手情報入力!G40=\"男\",1,2))","v":""},{"$f":"IF(E31=\"\",\"\",IF(②選手情報入力!H40=\"\",\"\",②選手情報入力!H40))","v":""},null,null,"",null,{"$f":"IF(E31=\"\",\"\",IF(②選手情報入力!J40=\"\",\"\",IF(I31=1,VLOOKUP(②選手情報入力!J40,種目情報!$A$4:$B$39,2,FALSE),VLOOKUP(②選手情報入力!J40,種目情報!$E$4:$F$29,2,FALSE))))","v":""},{"$f":"IF(E31=\"\",\"\",IF(②選手情報入力!K40=\"\",\"\",②選手情報入力!K40))","v":""},{"$f":"IF(E31=\"\",\"\",IF(②選手情報入力!I40=\"\",\"\",1))","v":""},{"$f":"IF(E31=\"\",\"\",IF(②選手情報入力!J40=\"\",\"\",IF(I31=1,VLOOKUP(②選手情報入力!J40,種目情報!$A$4:$C$29,3,FALSE),VLOOKUP(②選手情報入力!J40,種目情報!$E$4:$G$32,3,FALSE))))","v":""},{"$f":"IF(E31=\"\",\"\",IF(②選手情報入力!M40=\"\",\"\",IF(I31=1,VLOOKUP(②選手情報入力!M40,種目情報!$A$4:$B$29,2,FALSE),VLOOKUP(②選手情報入力!M40,種目情報!$E$4:$F$32,2,FALSE))))","v":""},{"$f":"IF(E31=\"\",\"\",IF(②選手情報入力!N40=\"\",\"\",②選手情報入力!N40))","v":""},{"$f":"IF(E31=\"\",\"\",IF(②選手情報入力!L40=\"\",\"\",1))","v":""},{"$f":"IF(E31=\"\",\"\",IF(②選手情報入力!M40=\"\",\"\",IF(I31=1,VLOOKUP(②選手情報入力!M40,種目情報!$A$4:$C$29,3,FALSE),VLOOKUP(②選手情報入力!M40,種目情報!$E$4:$G$32,3,FALSE))))","v":""},{"$f":"IF(E31=\"\",\"\",IF(②選手情報入力!P40=\"\",\"\",IF(I31=1,VLOOKUP(②選手情報入力!P40,種目情報!$A$4:$B$29,2,FALSE),VLOOKUP(②選手情報入力!P40,種目情報!$E$4:$F$32,2,FALSE))))","v":""},{"$f":"IF(E31=\"\",\"\",IF(②選手情報入力!Q40=\"\",\"\",②選手情報入力!Q40))","v":""},{"$f":"IF(E31=\"\",\"\",IF(②選手情報入力!O40=\"\",\"\",1))","v":""},{"$f":"IF(E31=\"\",\"\",IF(②選手情報入力!P40=\"\",\"\",IF(I31=1,VLOOKUP(②選手情報入力!P40,種目情報!$A$4:$C$29,3,FALSE),VLOOKUP(②選手情報入力!P40,種目情報!$E$4:$G$32,3,FALSE))))","v":""},{"$f":"IF(E31=\"\",\"\",IF(②選手情報入力!R40=\"\",\"\",IF(I31=1,種目情報!$J$4,種目情報!$J$6)))","v":""},{"$f":"IF(E31=\"\",\"\",IF(②選手情報入力!R40=\"\",\"\",IF(I31=1,IF(②選手情報入力!$S$6=\"\",\"\",②選手情報入力!$S$6),IF(②選手情報入力!$S$7=\"\",\"\",②選手情報入力!$S$7))))","v":""},{"$f":"IF(E31=\"\",\"\",IF(②選手情報入力!R40=\"\",\"\",IF(I31=1,IF(②選手情報入力!$R$6=\"\",0,1),IF(②選手情報入力!$R$7=\"\",0,1))))","v":""},{"$f":"IF(E31=\"\",\"\",IF(②選手情報入力!R40=\"\",\"\",2))","v":""},{"$f":"IF(E31=\"\",\"\",IF(②選手情報入力!T40=\"\",\"\",IF(I31=1,種目情報!$J$5,種目情報!$J$7)))","v":""},{"$f":"IF(E31=\"\",\"\",IF(②選手情報入力!T40=\"\",\"\",IF(I31=1,IF(②選手情報入力!$U$6=\"\",\"\",②選手情報入力!$U$6),IF(②選手情報入力!$U$7=\"\",\"\",②選手情報入力!$U$7))))","v":""},{"$f":"IF(E31=\"\",\"\",IF(②選手情報入力!T40=\"\",\"\",IF(I31=1,IF(②選手情報入力!$T$6=\"\",0,1),IF(②選手情報入力!$T$7=\"\",0,1))))","v":""},{"$f":"IF(E31=\"\",\"\",IF(②選手情報入力!T40=\"\",\"\",2))","v":""}]
[{"$f":"IF(E32=\"\",\"\",data_kyogisha!I32&①団体情報入力!C$4+②選手情報入力!C41+10000000)","v":""},{"$f":"IF(E32=\"\",\"\",①団体情報入力!$C$4)","v":""},null,{"$f":"IF(E32=\"\",\"\",②選手情報入力!B$11)","v":""},{"$f":"IF(②選手情報入力!C41=\"\",\"\",②選手情報入力!C41)","v":""},{"$f":"IF(E32=\"\",\"\",②選手情報入力!D41)","v":""},{"$f":"IF(E32=\"\",\"\",ASC(②選手情報入力!E41&\" \"&②選手情報入力!F41))","v":""},"",{"$f":"IF(E32=\"\",\"\",IF(②選手情報入力!G41=\"男\",1,2))","v":""},{"$f":"IF(E32=\"\",\"\",IF(②選手情報入力!H41=\"\",\"\",②選手情報入力!H41))","v":""},null,null,"",null,{"$f":"IF(E32=\"\",\"\",IF(②選手情報入力!J41=\"\",\"\",IF(I32=1,VLOOKUP(②選手情報入力!J41,種目情報!$A$4:$B$39,2,FALSE),VLOOKUP(②選手情報入力!J41,種目情報!$E$4:$F$29,2,FALSE))))","v":""},{"$f":"IF(E32=\"\",\"\",IF(②選手情報入力!K41=\"\",\"\",②選手情報入力!K41))","v":""},{"$f":"IF(E32=\"\",\"\",IF(②選手情報入力!I41=\"\",\"\",1))","v":""},{"$f":"IF(E32=\"\",\"\",IF(②選手情報入力!J41=\"\",\"\",IF(I32=1,VLOOKUP(②選手情報入力!J41,種目情報!$A$4:$C$29,3,FALSE),VLOOKUP(②選手情報入力!J41,種目情報!$E$4:$G$32,3,FALSE))))","v":""},{"$f":"IF(E32=\"\",\"\",IF(②選手情報入力!M41=\"\",\"\",IF(I32=1,VLOOKUP(②選手情報入力!M41,種目情報!$A$4:$B$29,2,FALSE),VLOOKUP(②選手情報入力!M41,種目情報!$E$4:$F$32,2,FALSE))))","v":""},{"$f":"IF(E32=\"\",\"\",IF(②選手情報入力!N41=\"\",\"\",②選手情報入力!N41))","v":""},{"$f":"IF(E32=\"\",\"\",IF(②選手情報入力!L41=\"\",\"\",1))","v":""},{"$f":"IF(E32=\"\",\"\",IF(②選手情報入力!M41=\"\",\"\",IF(I32=1,VLOOKUP(②選手情報入力!M41,種目情報!$A$4:$C$29,3,FALSE),VLOOKUP(②選手情報入力!M41,種目情報!$E$4:$G$32,3,FALSE))))","v":""},{"$f":"IF(E32=\"\",\"\",IF(②選手情報入力!P41=\"\",\"\",IF(I32=1,VLOOKUP(②選手情報入力!P41,種目情報!$A$4:$B$29,2,FALSE),VLOOKUP(②選手情報入力!P41,種目情報!$E$4:$F$32,2,FALSE))))","v":""},{"$f":"IF(E32=\"\",\"\",IF(②選手情報入力!Q41=\"\",\"\",②選手情報入力!Q41))","v":""},{"$f":"IF(E32=\"\",\"\",IF(②選手情報入力!O41=\"\",\"\",1))","v":""},{"$f":"IF(E32=\"\",\"\",IF(②選手情報入力!P41=\"\",\"\",IF(I32=1,VLOOKUP(②選手情報入力!P41,種目情報!$A$4:$C$29,3,FALSE),VLOOKUP(②選手情報入力!P41,種目情報!$E$4:$G$32,3,FALSE))))","v":""},{"$f":"IF(E32=\"\",\"\",IF(②選手情報入力!R41=\"\",\"\",IF(I32=1,種目情報!$J$4,種目情報!$J$6)))","v":""},{"$f":"IF(E32=\"\",\"\",IF(②選手情報入力!R41=\"\",\"\",IF(I32=1,IF(②選手情報入力!$S$6=\"\",\"\",②選手情報入力!$S$6),IF(②選手情報入力!$S$7=\"\",\"\",②選手情報入力!$S$7))))","v":""},{"$f":"IF(E32=\"\",\"\",IF(②選手情報入力!R41=\"\",\"\",IF(I32=1,IF(②選手情報入力!$R$6=\"\",0,1),IF(②選手情報入力!$R$7=\"\",0,1))))","v":""},{"$f":"IF(E32=\"\",\"\",IF(②選手情報入力!R41=\"\",\"\",2))","v":""},{"$f":"IF(E32=\"\",\"\",IF(②選手情報入力!T41=\"\",\"\",IF(I32=1,種目情報!$J$5,種目情報!$J$7)))","v":""},{"$f":"IF(E32=\"\",\"\",IF(②選手情報入力!T41=\"\",\"\",IF(I32=1,IF(②選手情報入力!$U$6=\"\",\"\",②選手情報入力!$U$6),IF(②選手情報入力!$U$7=\"\",\"\",②選手情報入力!$U$7))))","v":""},{"$f":"IF(E32=\"\",\"\",IF(②選手情報入力!T41=\"\",\"\",IF(I32=1,IF(②選手情報入力!$T$6=\"\",0,1),IF(②選手情報入力!$T$7=\"\",0,1))))","v":""},{"$f":"IF(E32=\"\",\"\",IF(②選手情報入力!T41=\"\",\"\",2))","v":""}]
[{"$f":"IF(E33=\"\",\"\",data_kyogisha!I33&①団体情報入力!C$4+②選手情報入力!C42+10000000)","v":""},{"$f":"IF(E33=\"\",\"\",①団体情報入力!$C$4)","v":""},null,{"$f":"IF(E33=\"\",\"\",②選手情報入力!B$11)","v":""},{"$f":"IF(②選手情報入力!C42=\"\",\"\",②選手情報入力!C42)","v":""},{"$f":"IF(E33=\"\",\"\",②選手情報入力!D42)","v":""},{"$f":"IF(E33=\"\",\"\",ASC(②選手情報入力!E42&\" \"&②選手情報入力!F42))","v":""},"",{"$f":"IF(E33=\"\",\"\",IF(②選手情報入力!G42=\"男\",1,2))","v":""},{"$f":"IF(E33=\"\",\"\",IF(②選手情報入力!H42=\"\",\"\",②選手情報入力!H42))","v":""},null,null,"",null,{"$f":"IF(E33=\"\",\"\",IF(②選手情報入力!J42=\"\",\"\",IF(I33=1,VLOOKUP(②選手情報入力!J42,種目情報!$A$4:$B$39,2,FALSE),VLOOKUP(②選手情報入力!J42,種目情報!$E$4:$F$29,2,FALSE))))","v":""},{"$f":"IF(E33=\"\",\"\",IF(②選手情報入力!K42=\"\",\"\",②選手情報入力!K42))","v":""},{"$f":"IF(E33=\"\",\"\",IF(②選手情報入力!I42=\"\",\"\",1))","v":""},{"$f":"IF(E33=\"\",\"\",IF(②選手情報入力!J42=\"\",\"\",IF(I33=1,VLOOKUP(②選手情報入力!J42,種目情報!$A$4:$C$29,3,FALSE),VLOOKUP(②選手情報入力!J42,種目情報!$E$4:$G$32,3,FALSE))))","v":""},{"$f":"IF(E33=\"\",\"\",IF(②選手情報入力!M42=\"\",\"\",IF(I33=1,VLOOKUP(②選手情報入力!M42,種目情報!$A$4:$B$29,2,FALSE),VLOOKUP(②選手情報入力!M42,種目情報!$E$4:$F$32,2,FALSE))))","v":""},{"$f":"IF(E33=\"\",\"\",IF(②選手情報入力!N42=\"\",\"\",②選手情報入力!N42))","v":""},{"$f":"IF(E33=\"\",\"\",IF(②選手情報入力!L42=\"\",\"\",1))","v":""},{"$f":"IF(E33=\"\",\"\",IF(②選手情報入力!M42=\"\",\"\",IF(I33=1,VLOOKUP(②選手情報入力!M42,種目情報!$A$4:$C$29,3,FALSE),VLOOKUP(②選手情報入力!M42,種目情報!$E$4:$G$32,3,FALSE))))","v":""},{"$f":"IF(E33=\"\",\"\",IF(②選手情報入力!P42=\"\",\"\",IF(I33=1,VLOOKUP(②選手情報入力!P42,種目情報!$A$4:$B$29,2,FALSE),VLOOKUP(②選手情報入力!P42,種目情報!$E$4:$F$32,2,FALSE))))","v":""},{"$f":"IF(E33=\"\",\"\",IF(②選手情報入力!Q42=\"\",\"\",②選手情報入力!Q42))","v":""},{"$f":"IF(E33=\"\",\"\",IF(②選手情報入力!O42=\"\",\"\",1))","v":""},{"$f":"IF(E33=\"\",\"\",IF(②選手情報入力!P42=\"\",\"\",IF(I33=1,VLOOKUP(②選手情報入力!P42,種目情報!$A$4:$C$29,3,FALSE),VLOOKUP(②選手情報入力!P42,種目情報!$E$4:$G$32,3,FALSE))))","v":""},{"$f":"IF(E33=\"\",\"\",IF(②選手情報入力!R42=\"\",\"\",IF(I33=1,種目情報!$J$4,種目情報!$J$6)))","v":""},{"$f":"IF(E33=\"\",\"\",IF(②選手情報入力!R42=\"\",\"\",IF(I33=1,IF(②選手情報入力!$S$6=\"\",\"\",②選手情報入力!$S$6),IF(②選手情報入力!$S$7=\"\",\"\",②選手情報入力!$S$7))))","v":""},{"$f":"IF(E33=\"\",\"\",IF(②選手情報入力!R42=\"\",\"\",IF(I33=1,IF(②選手情報入力!$R$6=\"\",0,1),IF(②選手情報入力!$R$7=\"\",0,1))))","v":""},{"$f":"IF(E33=\"\",\"\",IF(②選手情報入力!R42=\"\",\"\",2))","v":""},{"$f":"IF(E33=\"\",\"\",IF(②選手情報入力!T42=\"\",\"\",IF(I33=1,種目情報!$J$5,種目情報!$J$7)))","v":""},{"$f":"IF(E33=\"\",\"\",IF(②選手情報入力!T42=\"\",\"\",IF(I33=1,IF(②選手情報入力!$U$6=\"\",\"\",②選手情報入力!$U$6),IF(②選手情報入力!$U$7=\"\",\"\",②選手情報入力!$U$7))))","v":""},{"$f":"IF(E33=\"\",\"\",IF(②選手情報入力!T42=\"\",\"\",IF(I33=1,IF(②選手情報入力!$T$6=\"\",0,1),IF(②選手情報入力!$T$7=\"\",0,1))))","v":""},{"$f":"IF(E33=\"\",\"\",IF(②選手情報入力!T42=\"\",\"\",2))","v":""}]
[{"$f":"IF(E34=\"\",\"\",data_kyogisha!I34&①団体情報入力!C$4+②選手情報入力!C43+10000000)","v":""},{"$f":"IF(E34=\"\",\"\",①団体情報入力!$C$4)","v":""},null,{"$f":"IF(E34=\"\",\"\",②選手情報入力!B$11)","v":""},{"$f":"IF(②選手情報入力!C43=\"\",\"\",②選手情報入力!C43)","v":""},{"$f":"IF(E34=\"\",\"\",②選手情報入力!D43)","v":""},{"$f":"IF(E34=\"\",\"\",ASC(②選手情報入力!E43&\" \"&②選手情報入力!F43))","v":""},"",{"$f":"IF(E34=\"\",\"\",IF(②選手情報入力!G43=\"男\",1,2))","v":""},{"$f":"IF(E34=\"\",\"\",IF(②選手情報入力!H43=\"\",\"\",②選手情報入力!H43))","v":""},null,null,"",null,{"$f":"IF(E34=\"\",\"\",IF(②選手情報入力!J43=\"\",\"\",IF(I34=1,VLOOKUP(②選手情報入力!J43,種目情報!$A$4:$B$39,2,FALSE),VLOOKUP(②選手情報入力!J43,種目情報!$E$4:$F$29,2,FALSE))))","v":""},{"$f":"IF(E34=\"\",\"\",IF(②選手情報入力!K43=\"\",\"\",②選手情報入力!K43))","v":""},{"$f":"IF(E34=\"\",\"\",IF(②選手情報入力!I43=\"\",\"\",1))","v":""},{"$f":"IF(E34=\"\",\"\",IF(②選手情報入力!J43=\"\",\"\",IF(I34=1,VLOOKUP(②選手情報入力!J43,種目情報!$A$4:$C$29,3,FALSE),VLOOKUP(②選手情報入力!J43,種目情報!$E$4:$G$32,3,FALSE))))","v":""},{"$f":"IF(E34=\"\",\"\",IF(②選手情報入力!M43=\"\",\"\",IF(I34=1,VLOOKUP(②選手情報入力!M43,種目情報!$A$4:$B$29,2,FALSE),VLOOKUP(②選手情報入力!M43,種目情報!$E$4:$F$32,2,FALSE))))","v":""},{"$f":"IF(E34=\"\",\"\",IF(②選手情報入力!N43=\"\",\"\",②選手情報入力!N43))","v":""},{"$f":"IF(E34=\"\",\"\",IF(②選手情報入力!L43=\"\",\"\",1))","v":""},{"$f":"IF(E34=\"\",\"\",IF(②選手情報入力!M43=\"\",\"\",IF(I34=1,VLOOKUP(②選手情報入力!M43,種目情報!$A$4:$C$29,3,FALSE),VLOOKUP(②選手情報入力!M43,種目情報!$E$4:$G$32,3,FALSE))))","v":""},{"$f":"IF(E34=\"\",\"\",IF(②選手情報入力!P43=\"\",\"\",IF(I34=1,VLOOKUP(②選手情報入力!P43,種目情報!$A$4:$B$29,2,FALSE),VLOOKUP(②選手情報入力!P43,種目情報!$E$4:$F$32,2,FALSE))))","v":""},{"$f":"IF(E34=\"\",\"\",IF(②選手情報入力!Q43=\"\",\"\",②選手情報入力!Q43))","v":""},{"$f":"IF(E34=\"\",\"\",IF(②選手情報入力!O43=\"\",\"\",1))","v":""},{"$f":"IF(E34=\"\",\"\",IF(②選手情報入力!P43=\"\",\"\",IF(I34=1,VLOOKUP(②選手情報入力!P43,種目情報!$A$4:$C$29,3,FALSE),VLOOKUP(②選手情報入力!P43,種目情報!$E$4:$G$32,3,FALSE))))","v":""},{"$f":"IF(E34=\"\",\"\",IF(②選手情報入力!R43=\"\",\"\",IF(I34=1,種目情報!$J$4,種目情報!$J$6)))","v":""},{"$f":"IF(E34=\"\",\"\",IF(②選手情報入力!R43=\"\",\"\",IF(I34=1,IF(②選手情報入力!$S$6=\"\",\"\",②選手情報入力!$S$6),IF(②選手情報入力!$S$7=\"\",\"\",②選手情報入力!$S$7))))","v":""},{"$f":"IF(E34=\"\",\"\",IF(②選手情報入力!R43=\"\",\"\",IF(I34=1,IF(②選手情報入力!$R$6=\"\",0,1),IF(②選手情報入力!$R$7=\"\",0,1))))","v":""},{"$f":"IF(E34=\"\",\"\",IF(②選手情報入力!R43=\"\",\"\",2))","v":""},{"$f":"IF(E34=\"\",\"\",IF(②選手情報入力!T43=\"\",\"\",IF(I34=1,種目情報!$J$5,種目情報!$J$7)))","v":""},{"$f":"IF(E34=\"\",\"\",IF(②選手情報入力!T43=\"\",\"\",IF(I34=1,IF(②選手情報入力!$U$6=\"\",\"\",②選手情報入力!$U$6),IF(②選手情報入力!$U$7=\"\",\"\",②選手情報入力!$U$7))))","v":""},{"$f":"IF(E34=\"\",\"\",IF(②選手情報入力!T43=\"\",\"\",IF(I34=1,IF(②選手情報入力!$T$6=\"\",0,1),IF(②選手情報入力!$T$7=\"\",0,1))))","v":""},{"$f":"IF(E34=\"\",\"\",IF(②選手情報入力!T43=\"\",\"\",2))","v":""}]
[{"$f":"IF(E35=\"\",\"\",data_kyogisha!I35&①団体情報入力!C$4+②選手情報入力!C44+10000000)","v":""},{"$f":"IF(E35=\"\",\"\",①団体情報入力!$C$4)","v":""},null,{"$f":"IF(E35=\"\",\"\",②選手情報入力!B$11)","v":""},{"$f":"IF(②選手情報入力!C44=\"\",\"\",②選手情報入力!C44)","v":""},{"$f":"IF(E35=\"\",\"\",②選手情報入力!D44)","v":""},{"$f":"IF(E35=\"\",\"\",ASC(②選手情報入力!E44&\" \"&②選手情報入力!F44))","v":""},"",{"$f":"IF(E35=\"\",\"\",IF(②選手情報入力!G44=\"男\",1,2))","v":""},{"$f":"IF(E35=\"\",\"\",IF(②選手情報入力!H44=\"\",\"\",②選手情報入力!H44))","v":""},null,null,"",null,{"$f":"IF(E35=\"\",\"\",IF(②選手情報入力!J44=\"\",\"\",IF(I35=1,VLOOKUP(②選手情報入力!J44,種目情報!$A$4:$B$39,2,FALSE),VLOOKUP(②選手情報入力!J44,種目情報!$E$4:$F$29,2,FALSE))))","v":""},{"$f":"IF(E35=\"\",\"\",IF(②選手情報入力!K44=\"\",\"\",②選手情報入力!K44))","v":""},{"$f":"IF(E35=\"\",\"\",IF(②選手情報入力!I44=\"\",\"\",1))","v":""},{"$f":"IF(E35=\"\",\"\",IF(②選手情報入力!J44=\"\",\"\",IF(I35=1,VLOOKUP(②選手情報入力!J44,種目情報!$A$4:$C$29,3,FALSE),VLOOKUP(②選手情報入力!J44,種目情報!$E$4:$G$32,3,FALSE))))","v":""},{"$f":"IF(E35=\"\",\"\",IF(②選手情報入力!M44=\"\",\"\",IF(I35=1,VLOOKUP(②選手情報入力!M44,種目情報!$A$4:$B$29,2,FALSE),VLOOKUP(②選手情報入力!M44,種目情報!$E$4:$F$32,2,FALSE))))","v":""},{"$f":"IF(E35=\"\",\"\",IF(②選手情報入力!N44=\"\",\"\",②選手情報入力!N44))","v":""},{"$f":"IF(E35=\"\",\"\",IF(②選手情報入力!L44=\"\",\"\",1))","v":""},{"$f":"IF(E35=\"\",\"\",IF(②選手情報入力!M44=\"\",\"\",IF(I35=1,VLOOKUP(②選手情報入力!M44,種目情報!$A$4:$C$29,3,FALSE),VLOOKUP(②選手情報入力!M44,種目情報!$E$4:$G$32,3,FALSE))))","v":""},{"$f":"IF(E35=\"\",\"\",IF(②選手情報入力!P44=\"\",\"\",IF(I35=1,VLOOKUP(②選手情報入力!P44,種目情報!$A$4:$B$29,2,FALSE),VLOOKUP(②選手情報入力!P44,種目情報!$E$4:$F$32,2,FALSE))))","v":""},{"$f":"IF(E35=\"\",\"\",IF(②選手情報入力!Q44=\"\",\"\",②選手情報入力!Q44))","v":""},{"$f":"IF(E35=\"\",\"\",IF(②選手情報入力!O44=\"\",\"\",1))","v":""},{"$f":"IF(E35=\"\",\"\",IF(②選手情報入力!P44=\"\",\"\",IF(I35=1,VLOOKUP(②選手情報入力!P44,種目情報!$A$4:$C$29,3,FALSE),VLOOKUP(②選手情報入力!P44,種目情報!$E$4:$G$32,3,FALSE))))","v":""},{"$f":"IF(E35=\"\",\"\",IF(②選手情報入力!R44=\"\",\"\",IF(I35=1,種目情報!$J$4,種目情報!$J$6)))","v":""},{"$f":"IF(E35=\"\",\"\",IF(②選手情報入力!R44=\"\",\"\",IF(I35=1,IF(②選手情報入力!$S$6=\"\",\"\",②選手情報入力!$S$6),IF(②選手情報入力!$S$7=\"\",\"\",②選手情報入力!$S$7))))","v":""},{"$f":"IF(E35=\"\",\"\",IF(②選手情報入力!R44=\"\",\"\",IF(I35=1,IF(②選手情報入力!$R$6=\"\",0,1),IF(②選手情報入力!$R$7=\"\",0,1))))","v":""},{"$f":"IF(E35=\"\",\"\",IF(②選手情報入力!R44=\"\",\"\",2))","v":""},{"$f":"IF(E35=\"\",\"\",IF(②選手情報入力!T44=\"\",\"\",IF(I35=1,種目情報!$J$5,種目情報!$J$7)))","v":""},{"$f":"IF(E35=\"\",\"\",IF(②選手情報入力!T44=\"\",\"\",IF(I35=1,IF(②選手情報入力!$U$6=\"\",\"\",②選手情報入力!$U$6),IF(②選手情報入力!$U$7=\"\",\"\",②選手情報入力!$U$7))))","v":""},{"$f":"IF(E35=\"\",\"\",IF(②選手情報入力!T44=\"\",\"\",IF(I35=1,IF(②選手情報入力!$T$6=\"\",0,1),IF(②選手情報入力!$T$7=\"\",0,1))))","v":""},{"$f":"IF(E35=\"\",\"\",IF(②選手情報入力!T44=\"\",\"\",2))","v":""}]
[{"$f":"IF(E36=\"\",\"\",data_kyogisha!I36&①団体情報入力!C$4+②選手情報入力!C45+10000000)","v":""},{"$f":"IF(E36=\"\",\"\",①団体情報入力!$C$4)","v":""},null,{"$f":"IF(E36=\"\",\"\",②選手情報入力!B$11)","v":""},{"$f":"IF(②選手情報入力!C45=\"\",\"\",②選手情報入力!C45)","v":""},{"$f":"IF(E36=\"\",\"\",②選手情報入力!D45)","v":""},{"$f":"IF(E36=\"\",\"\",ASC(②選手情報入力!E45&\" \"&②選手情報入力!F45))","v":""},"",{"$f":"IF(E36=\"\",\"\",IF(②選手情報入力!G45=\"男\",1,2))","v":""},{"$f":"IF(E36=\"\",\"\",IF(②選手情報入力!H45=\"\",\"\",②選手情報入力!H45))","v":""},null,null,"",null,{"$f":"IF(E36=\"\",\"\",IF(②選手情報入力!J45=\"\",\"\",IF(I36=1,VLOOKUP(②選手情報入力!J45,種目情報!$A$4:$B$39,2,FALSE),VLOOKUP(②選手情報入力!J45,種目情報!$E$4:$F$29,2,FALSE))))","v":""},{"$f":"IF(E36=\"\",\"\",IF(②選手情報入力!K45=\"\",\"\",②選手情報入力!K45))","v":""},{"$f":"IF(E36=\"\",\"\",IF(②選手情報入力!I45=\"\",\"\",1))","v":""},{"$f":"IF(E36=\"\",\"\",IF(②選手情報入力!J45=\"\",\"\",IF(I36=1,VLOOKUP(②選手情報入力!J45,種目情報!$A$4:$C$29,3,FALSE),VLOOKUP(②選手情報入力!J45,種目情報!$E$4:$G$32,3,FALSE))))","v":""},{"$f":"IF(E36=\"\",\"\",IF(②選手情報入力!M45=\"\",\"\",IF(I36=1,VLOOKUP(②選手情報入力!M45,種目情報!$A$4:$B$29,2,FALSE),VLOOKUP(②選手情報入力!M45,種目情報!$E$4:$F$32,2,FALSE))))","v":""},{"$f":"IF(E36=\"\",\"\",IF(②選手情報入力!N45=\"\",\"\",②選手情報入力!N45))","v":""},{"$f":"IF(E36=\"\",\"\",IF(②選手情報入力!L45=\"\",\"\",1))","v":""},{"$f":"IF(E36=\"\",\"\",IF(②選手情報入力!M45=\"\",\"\",IF(I36=1,VLOOKUP(②選手情報入力!M45,種目情報!$A$4:$C$29,3,FALSE),VLOOKUP(②選手情報入力!M45,種目情報!$E$4:$G$32,3,FALSE))))","v":""},{"$f":"IF(E36=\"\",\"\",IF(②選手情報入力!P45=\"\",\"\",IF(I36=1,VLOOKUP(②選手情報入力!P45,種目情報!$A$4:$B$29,2,FALSE),VLOOKUP(②選手情報入力!P45,種目情報!$E$4:$F$32,2,FALSE))))","v":""},{"$f":"IF(E36=\"\",\"\",IF(②選手情報入力!Q45=\"\",\"\",②選手情報入力!Q45))","v":""},{"$f":"IF(E36=\"\",\"\",IF(②選手情報入力!O45=\"\",\"\",1))","v":""},{"$f":"IF(E36=\"\",\"\",IF(②選手情報入力!P45=\"\",\"\",IF(I36=1,VLOOKUP(②選手情報入力!P45,種目情報!$A$4:$C$29,3,FALSE),VLOOKUP(②選手情報入力!P45,種目情報!$E$4:$G$32,3,FALSE))))","v":""},{"$f":"IF(E36=\"\",\"\",IF(②選手情報入力!R45=\"\",\"\",IF(I36=1,種目情報!$J$4,種目情報!$J$6)))","v":""},{"$f":"IF(E36=\"\",\"\",IF(②選手情報入力!R45=\"\",\"\",IF(I36=1,IF(②選手情報入力!$S$6=\"\",\"\",②選手情報入力!$S$6),IF(②選手情報入力!$S$7=\"\",\"\",②選手情報入力!$S$7))))","v":""},{"$f":"IF(E36=\"\",\"\",IF(②選手情報入力!R45=\"\",\"\",IF(I36=1,IF(②選手情報入力!$R$6=\"\",0,1),IF(②選手情報入力!$R$7=\"\",0,1))))","v":""},{"$f":"IF(E36=\"\",\"\",IF(②選手情報入力!R45=\"\",\"\",2))","v":""},{"$f":"IF(E36=\"\",\"\",IF(②選手情報入力!T45=\"\",\"\",IF(I36=1,種目情報!$J$5,種目情報!$J$7)))","v":""},{"$f":"IF(E36=\"\",\"\",IF(②選手情報入力!T45=\"\",\"\",IF(I36=1,IF(②選手情報入力!$U$6=\"\",\"\",②選手情報入力!$U$6),IF(②選手情報入力!$U$7=\"\",\"\",②選手情報入力!$U$7))))","v":""},{"$f":"IF(E36=\"\",\"\",IF(②選手情報入力!T45=\"\",\"\",IF(I36=1,IF(②選手情報入力!$T$6=\"\",0,1),IF(②選手情報入力!$T$7=\"\",0,1))))","v":""},{"$f":"IF(E36=\"\",\"\",IF(②選手情報入力!T45=\"\",\"\",2))","v":""}]
[{"$f":"IF(E37=\"\",\"\",data_kyogisha!I37&①団体情報入力!C$4+②選手情報入力!C46+10000000)","v":""},{"$f":"IF(E37=\"\",\"\",①団体情報入力!$C$4)","v":""},null,{"$f":"IF(E37=\"\",\"\",②選手情報入力!B$11)","v":""},{"$f":"IF(②選手情報入力!C46=\"\",\"\",②選手情報入力!C46)","v":""},{"$f":"IF(E37=\"\",\"\",②選手情報入力!D46)","v":""},{"$f":"IF(E37=\"\",\"\",ASC(②選手情報入力!E46&\" \"&②選手情報入力!F46))","v":""},"",{"$f":"IF(E37=\"\",\"\",IF(②選手情報入力!G46=\"男\",1,2))","v":""},{"$f":"IF(E37=\"\",\"\",IF(②選手情報入力!H46=\"\",\"\",②選手情報入力!H46))","v":""},null,null,"",null,{"$f":"IF(E37=\"\",\"\",IF(②選手情報入力!J46=\"\",\"\",IF(I37=1,VLOOKUP(②選手情報入力!J46,種目情報!$A$4:$B$39,2,FALSE),VLOOKUP(②選手情報入力!J46,種目情報!$E$4:$F$29,2,FALSE))))","v":""},{"$f":"IF(E37=\"\",\"\",IF(②選手情報入力!K46=\"\",\"\",②選手情報入力!K46))","v":""},{"$f":"IF(E37=\"\",\"\",IF(②選手情報入力!I46=\"\",\"\",1))","v":""},{"$f":"IF(E37=\"\",\"\",IF(②選手情報入力!J46=\"\",\"\",IF(I37=1,VLOOKUP(②選手情報入力!J46,種目情報!$A$4:$C$29,3,FALSE),VLOOKUP(②選手情報入力!J46,種目情報!$E$4:$G$32,3,FALSE))))","v":""},{"$f":"IF(E37=\"\",\"\",IF(②選手情報入力!M46=\"\",\"\",IF(I37=1,VLOOKUP(②選手情報入力!M46,種目情報!$A$4:$B$29,2,FALSE),VLOOKUP(②選手情報入力!M46,種目情報!$E$4:$F$32,2,FALSE))))","v":""},{"$f":"IF(E37=\"\",\"\",IF(②選手情報入力!N46=\"\",\"\",②選手情報入力!N46))","v":""},{"$f":"IF(E37=\"\",\"\",IF(②選手情報入力!L46=\"\",\"\",1))","v":""},{"$f":"IF(E37=\"\",\"\",IF(②選手情報入力!M46=\"\",\"\",IF(I37=1,VLOOKUP(②選手情報入力!M46,種目情報!$A$4:$C$29,3,FALSE),VLOOKUP(②選手情報入力!M46,種目情報!$E$4:$G$32,3,FALSE))))","v":""},{"$f":"IF(E37=\"\",\"\",IF(②選手情報入力!P46=\"\",\"\",IF(I37=1,VLOOKUP(②選手情報入力!P46,種目情報!$A$4:$B$29,2,FALSE),VLOOKUP(②選手情報入力!P46,種目情報!$E$4:$F$32,2,FALSE))))","v":""},{"$f":"IF(E37=\"\",\"\",IF(②選手情報入力!Q46=\"\",\"\",②選手情報入力!Q46))","v":""},{"$f":"IF(E37=\"\",\"\",IF(②選手情報入力!O46=\"\",\"\",1))","v":""},{"$f":"IF(E37=\"\",\"\",IF(②選手情報入力!P46=\"\",\"\",IF(I37=1,VLOOKUP(②選手情報入力!P46,種目情報!$A$4:$C$29,3,FALSE),VLOOKUP(②選手情報入力!P46,種目情報!$E$4:$G$32,3,FALSE))))","v":""},{"$f":"IF(E37=\"\",\"\",IF(②選手情報入力!R46=\"\",\"\",IF(I37=1,種目情報!$J$4,種目情報!$J$6)))","v":""},{"$f":"IF(E37=\"\",\"\",IF(②選手情報入力!R46=\"\",\"\",IF(I37=1,IF(②選手情報入力!$S$6=\"\",\"\",②選手情報入力!$S$6),IF(②選手情報入力!$S$7=\"\",\"\",②選手情報入力!$S$7))))","v":""},{"$f":"IF(E37=\"\",\"\",IF(②選手情報入力!R46=\"\",\"\",IF(I37=1,IF(②選手情報入力!$R$6=\"\",0,1),IF(②選手情報入力!$R$7=\"\",0,1))))","v":""},{"$f":"IF(E37=\"\",\"\",IF(②選手情報入力!R46=\"\",\"\",2))","v":""},{"$f":"IF(E37=\"\",\"\",IF(②選手情報入力!T46=\"\",\"\",IF(I37=1,種目情報!$J$5,種目情報!$J$7)))","v":""},{"$f":"IF(E37=\"\",\"\",IF(②選手情報入力!T46=\"\",\"\",IF(I37=1,IF(②選手情報入力!$U$6=\"\",\"\",②選手情報入力!$U$6),IF(②選手情報入力!$U$7=\"\",\"\",②選手情報入力!$U$7))))","v":""},{"$f":"IF(E37=\"\",\"\",IF(②選手情報入力!T46=\"\",\"\",IF(I37=1,IF(②選手情報入力!$T$6=\"\",0,1),IF(②選手情報入力!$T$7=\"\",0,1))))","v":""},{"$f":"IF(E37=\"\",\"\",IF(②選手情報入力!T46=\"\",\"\",2))","v":""}]
[{"$f":"IF(E38=\"\",\"\",data_kyogisha!I38&①団体情報入力!C$4+②選手情報入力!C47+10000000)","v":""},{"$f":"IF(E38=\"\",\"\",①団体情報入力!$C$4)","v":""},null,{"$f":"IF(E38=\"\",\"\",②選手情報入力!B$11)","v":""},{"$f":"IF(②選手情報入力!C47=\"\",\"\",②選手情報入力!C47)","v":""},{"$f":"IF(E38=\"\",\"\",②選手情報入力!D47)","v":""},{"$f":"IF(E38=\"\",\"\",ASC(②選手情報入力!E47&\" \"&②選手情報入力!F47))","v":""},"",{"$f":"IF(E38=\"\",\"\",IF(②選手情報入力!G47=\"男\",1,2))","v":""},{"$f":"IF(E38=\"\",\"\",IF(②選手情報入力!H47=\"\",\"\",②選手情報入力!H47))","v":""},null,null,"",null,{"$f":"IF(E38=\"\",\"\",IF(②選手情報入力!J47=\"\",\"\",IF(I38=1,VLOOKUP(②選手情報入力!J47,種目情報!$A$4:$B$39,2,FALSE),VLOOKUP(②選手情報入力!J47,種目情報!$E$4:$F$29,2,FALSE))))","v":""},{"$f":"IF(E38=\"\",\"\",IF(②選手情報入力!K47=\"\",\"\",②選手情報入力!K47))","v":""},{"$f":"IF(E38=\"\",\"\",IF(②選手情報入力!I47=\"\",\"\",1))","v":""},{"$f":"IF(E38=\"\",\"\",IF(②選手情報入力!J47=\"\",\"\",IF(I38=1,VLOOKUP(②選手情報入力!J47,種目情報!$A$4:$C$29,3,FALSE),VLOOKUP(②選手情報入力!J47,種目情報!$E$4:$G$32,3,FALSE))))","v":""},{"$f":"IF(E38=\"\",\"\",IF(②選手情報入力!M47=\"\",\"\",IF(I38=1,VLOOKUP(②選手情報入力!M47,種目情報!$A$4:$B$29,2,FALSE),VLOOKUP(②選手情報入力!M47,種目情報!$E$4:$F$32,2,FALSE))))","v":""},{"$f":"IF(E38=\"\",\"\",IF(②選手情報入力!N47=\"\",\"\",②選手情報入力!N47))","v":""},{"$f":"IF(E38=\"\",\"\",IF(②選手情報入力!L47=\"\",\"\",1))","v":""},{"$f":"IF(E38=\"\",\"\",IF(②選手情報入力!M47=\"\",\"\",IF(I38=1,VLOOKUP(②選手情報入力!M47,種目情報!$A$4:$C$29,3,FALSE),VLOOKUP(②選手情報入力!M47,種目情報!$E$4:$G$32,3,FALSE))))","v":""},{"$f":"IF(E38=\"\",\"\",IF(②選手情報入力!P47=\"\",\"\",IF(I38=1,VLOOKUP(②選手情報入力!P47,種目情報!$A$4:$B$29,2,FALSE),VLOOKUP(②選手情報入力!P47,種目情報!$E$4:$F$32,2,FALSE))))","v":""},{"$f":"IF(E38=\"\",\"\",IF(②選手情報入力!Q47=\"\",\"\",②選手情報入力!Q47))","v":""},{"$f":"IF(E38=\"\",\"\",IF(②選手情報入力!O47=\"\",\"\",1))","v":""},{"$f":"IF(E38=\"\",\"\",IF(②選手情報入力!P47=\"\",\"\",IF(I38=1,VLOOKUP(②選手情報入力!P47,種目情報!$A$4:$C$29,3,FALSE),VLOOKUP(②選手情報入力!P47,種目情報!$E$4:$G$32,3,FALSE))))","v":""},{"$f":"IF(E38=\"\",\"\",IF(②選手情報入力!R47=\"\",\"\",IF(I38=1,種目情報!$J$4,種目情報!$J$6)))","v":""},{"$f":"IF(E38=\"\",\"\",IF(②選手情報入力!R47=\"\",\"\",IF(I38=1,IF(②選手情報入力!$S$6=\"\",\"\",②選手情報入力!$S$6),IF(②選手情報入力!$S$7=\"\",\"\",②選手情報入力!$S$7))))","v":""},{"$f":"IF(E38=\"\",\"\",IF(②選手情報入力!R47=\"\",\"\",IF(I38=1,IF(②選手情報入力!$R$6=\"\",0,1),IF(②選手情報入力!$R$7=\"\",0,1))))","v":""},{"$f":"IF(E38=\"\",\"\",IF(②選手情報入力!R47=\"\",\"\",2))","v":""},{"$f":"IF(E38=\"\",\"\",IF(②選手情報入力!T47=\"\",\"\",IF(I38=1,種目情報!$J$5,種目情報!$J$7)))","v":""},{"$f":"IF(E38=\"\",\"\",IF(②選手情報入力!T47=\"\",\"\",IF(I38=1,IF(②選手情報入力!$U$6=\"\",\"\",②選手情報入力!$U$6),IF(②選手情報入力!$U$7=\"\",\"\",②選手情報入力!$U$7))))","v":""},{"$f":"IF(E38=\"\",\"\",IF(②選手情報入力!T47=\"\",\"\",IF(I38=1,IF(②選手情報入力!$T$6=\"\",0,1),IF(②選手情報入力!$T$7=\"\",0,1))))","v":""},{"$f":"IF(E38=\"\",\"\",IF(②選手情報入力!T47=\"\",\"\",2))","v":""}]
[{"$f":"IF(E39=\"\",\"\",data_kyogisha!I39&①団体情報入力!C$4+②選手情報入力!C48+10000000)","v":""},{"$f":"IF(E39=\"\",\"\",①団体情報入力!$C$4)","v":""},null,{"$f":"IF(E39=\"\",\"\",②選手情報入力!B$11)","v":""},{"$f":"IF(②選手情報入力!C48=\"\",\"\",②選手情報入力!C48)","v":""},{"$f":"IF(E39=\"\",\"\",②選手情報入力!D48)","v":""},{"$f":"IF(E39=\"\",\"\",ASC(②選手情報入力!E48&\" \"&②選手情報入力!F48))","v":""},"",{"$f":"IF(E39=\"\",\"\",IF(②選手情報入力!G48=\"男\",1,2))","v":""},{"$f":"IF(E39=\"\",\"\",IF(②選手情報入力!H48=\"\",\"\",②選手情報入力!H48))","v":""},null,null,"",null,{"$f":"IF(E39=\"\",\"\",IF(②選手情報入力!J48=\"\",\"\",IF(I39=1,VLOOKUP(②選手情報入力!J48,種目情報!$A$4:$B$39,2,FALSE),VLOOKUP(②選手情報入力!J48,種目情報!$E$4:$F$29,2,FALSE))))","v":""},{"$f":"IF(E39=\"\",\"\",IF(②選手情報入力!K48=\"\",\"\",②選手情報入力!K48))","v":""},{"$f":"IF(E39=\"\",\"\",IF(②選手情報入力!I48=\"\",\"\",1))","v":""},{"$f":"IF(E39=\"\",\"\",IF(②選手情報入力!J48=\"\",\"\",IF(I39=1,VLOOKUP(②選手情報入力!J48,種目情報!$A$4:$C$29,3,FALSE),VLOOKUP(②選手情報入力!J48,種目情報!$E$4:$G$32,3,FALSE))))","v":""},{"$f":"IF(E39=\"\",\"\",IF(②選手情報入力!M48=\"\",\"\",IF(I39=1,VLOOKUP(②選手情報入力!M48,種目情報!$A$4:$B$29,2,FALSE),VLOOKUP(②選手情報入力!M48,種目情報!$E$4:$F$32,2,FALSE))))","v":""},{"$f":"IF(E39=\"\",\"\",IF(②選手情報入力!N48=\"\",\"\",②選手情報入力!N48))","v":""},{"$f":"IF(E39=\"\",\"\",IF(②選手情報入力!L48=\"\",\"\",1))","v":""},{"$f":"IF(E39=\"\",\"\",IF(②選手情報入力!M48=\"\",\"\",IF(I39=1,VLOOKUP(②選手情報入力!M48,種目情報!$A$4:$C$29,3,FALSE),VLOOKUP(②選手情報入力!M48,種目情報!$E$4:$G$32,3,FALSE))))","v":""},{"$f":"IF(E39=\"\",\"\",IF(②選手情報入力!P48=\"\",\"\",IF(I39=1,VLOOKUP(②選手情報入力!P48,種目情報!$A$4:$B$29,2,FALSE),VLOOKUP(②選手情報入力!P48,種目情報!$E$4:$F$32,2,FALSE))))","v":""},{"$f":"IF(E39=\"\",\"\",IF(②選手情報入力!Q48=\"\",\"\",②選手情報入力!Q48))","v":""},{"$f":"IF(E39=\"\",\"\",IF(②選手情報入力!O48=\"\",\"\",1))","v":""},{"$f":"IF(E39=\"\",\"\",IF(②選手情報入力!P48=\"\",\"\",IF(I39=1,VLOOKUP(②選手情報入力!P48,種目情報!$A$4:$C$29,3,FALSE),VLOOKUP(②選手情報入力!P48,種目情報!$E$4:$G$32,3,FALSE))))","v":""},{"$f":"IF(E39=\"\",\"\",IF(②選手情報入力!R48=\"\",\"\",IF(I39=1,種目情報!$J$4,種目情報!$J$6)))","v":""},{"$f":"IF(E39=\"\",\"\",IF(②選手情報入力!R48=\"\",\"\",IF(I39=1,IF(②選手情報入力!$S$6=\"\",\"\",②選手情報入力!$S$6),IF(②選手情報入力!$S$7=\"\",\"\",②選手情報入力!$S$7))))","v":""},{"$f":"IF(E39=\"\",\"\",IF(②選手情報入力!R48=\"\",\"\",IF(I39=1,IF(②選手情報入力!$R$6=\"\",0,1),IF(②選手情報入力!$R$7=\"\",0,1))))","v":""},{"$f":"IF(E39=\"\",\"\",IF(②選手情報入力!R48=\"\",\"\",2))","v":""},{"$f":"IF(E39=\"\",\"\",IF(②選手情報入力!T48=\"\",\"\",IF(I39=1,種目情報!$J$5,種目情報!$J$7)))","v":""},{"$f":"IF(E39=\"\",\"\",IF(②選手情報入力!T48=\"\",\"\",IF(I39=1,IF(②選手情報入力!$U$6=\"\",\"\",②選手情報入力!$U$6),IF(②選手情報入力!$U$7=\"\",\"\",②選手情報入力!$U$7))))","v":""},{"$f":"IF(E39=\"\",\"\",IF(②選手情報入力!T48=\"\",\"\",IF(I39=1,IF(②選手情報入力!$T$6=\"\",0,1),IF(②選手情報入力!$T$7=\"\",0,1))))","v":""},{"$f":"IF(E39=\"\",\"\",IF(②選手情報入力!T48=\"\",\"\",2))","v":""}]
[{"$f":"IF(E40=\"\",\"\",data_kyogisha!I40&①団体情報入力!C$4+②選手情報入力!C49+10000000)","v":""},{"$f":"IF(E40=\"\",\"\",①団体情報入力!$C$4)","v":""},null,{"$f":"IF(E40=\"\",\"\",②選手情報入力!B$11)","v":""},{"$f":"IF(②選手情報入力!C49=\"\",\"\",②選手情報入力!C49)","v":""},{"$f":"IF(E40=\"\",\"\",②選手情報入力!D49)","v":""},{"$f":"IF(E40=\"\",\"\",ASC(②選手情報入力!E49&\" \"&②選手情報入力!F49))","v":""},"",{"$f":"IF(E40=\"\",\"\",IF(②選手情報入力!G49=\"男\",1,2))","v":""},{"$f":"IF(E40=\"\",\"\",IF(②選手情報入力!H49=\"\",\"\",②選手情報入力!H49))","v":""},null,null,"",null,{"$f":"IF(E40=\"\",\"\",IF(②選手情報入力!J49=\"\",\"\",IF(I40=1,VLOOKUP(②選手情報入力!J49,種目情報!$A$4:$B$39,2,FALSE),VLOOKUP(②選手情報入力!J49,種目情報!$E$4:$F$29,2,FALSE))))","v":""},{"$f":"IF(E40=\"\",\"\",IF(②選手情報入力!K49=\"\",\"\",②選手情報入力!K49))","v":""},{"$f":"IF(E40=\"\",\"\",IF(②選手情報入力!I49=\"\",\"\",1))","v":""},{"$f":"IF(E40=\"\",\"\",IF(②選手情報入力!J49=\"\",\"\",IF(I40=1,VLOOKUP(②選手情報入力!J49,種目情報!$A$4:$C$29,3,FALSE),VLOOKUP(②選手情報入力!J49,種目情報!$E$4:$G$32,3,FALSE))))","v":""},{"$f":"IF(E40=\"\",\"\",IF(②選手情報入力!M49=\"\",\"\",IF(I40=1,VLOOKUP(②選手情報入力!M49,種目情報!$A$4:$B$29,2,FALSE),VLOOKUP(②選手情報入力!M49,種目情報!$E$4:$F$32,2,FALSE))))","v":""},{"$f":"IF(E40=\"\",\"\",IF(②選手情報入力!N49=\"\",\"\",②選手情報入力!N49))","v":""},{"$f":"IF(E40=\"\",\"\",IF(②選手情報入力!L49=\"\",\"\",1))","v":""},{"$f":"IF(E40=\"\",\"\",IF(②選手情報入力!M49=\"\",\"\",IF(I40=1,VLOOKUP(②選手情報入力!M49,種目情報!$A$4:$C$29,3,FALSE),VLOOKUP(②選手情報入力!M49,種目情報!$E$4:$G$32,3,FALSE))))","v":""},{"$f":"IF(E40=\"\",\"\",IF(②選手情報入力!P49=\"\",\"\",IF(I40=1,VLOOKUP(②選手情報入力!P49,種目情報!$A$4:$B$29,2,FALSE),VLOOKUP(②選手情報入力!P49,種目情報!$E$4:$F$32,2,FALSE))))","v":""},{"$f":"IF(E40=\"\",\"\",IF(②選手情報入力!Q49=\"\",\"\",②選手情報入力!Q49))","v":""},{"$f":"IF(E40=\"\",\"\",IF(②選手情報入力!O49=\"\",\"\",1))","v":""},{"$f":"IF(E40=\"\",\"\",IF(②選手情報入力!P49=\"\",\"\",IF(I40=1,VLOOKUP(②選手情報入力!P49,種目情報!$A$4:$C$29,3,FALSE),VLOOKUP(②選手情報入力!P49,種目情報!$E$4:$G$32,3,FALSE))))","v":""},{"$f":"IF(E40=\"\",\"\",IF(②選手情報入力!R49=\"\",\"\",IF(I40=1,種目情報!$J$4,種目情報!$J$6)))","v":""},{"$f":"IF(E40=\"\",\"\",IF(②選手情報入力!R49=\"\",\"\",IF(I40=1,IF(②選手情報入力!$S$6=\"\",\"\",②選手情報入力!$S$6),IF(②選手情報入力!$S$7=\"\",\"\",②選手情報入力!$S$7))))","v":""},{"$f":"IF(E40=\"\",\"\",IF(②選手情報入力!R49=\"\",\"\",IF(I40=1,IF(②選手情報入力!$R$6=\"\",0,1),IF(②選手情報入力!$R$7=\"\",0,1))))","v":""},{"$f":"IF(E40=\"\",\"\",IF(②選手情報入力!R49=\"\",\"\",2))","v":""},{"$f":"IF(E40=\"\",\"\",IF(②選手情報入力!T49=\"\",\"\",IF(I40=1,種目情報!$J$5,種目情報!$J$7)))","v":""},{"$f":"IF(E40=\"\",\"\",IF(②選手情報入力!T49=\"\",\"\",IF(I40=1,IF(②選手情報入力!$U$6=\"\",\"\",②選手情報入力!$U$6),IF(②選手情報入力!$U$7=\"\",\"\",②選手情報入力!$U$7))))","v":""},{"$f":"IF(E40=\"\",\"\",IF(②選手情報入力!T49=\"\",\"\",IF(I40=1,IF(②選手情報入力!$T$6=\"\",0,1),IF(②選手情報入力!$T$7=\"\",0,1))))","v":""},{"$f":"IF(E40=\"\",\"\",IF(②選手情報入力!T49=\"\",\"\",2))","v":""}]
[{"$f":"IF(E41=\"\",\"\",data_kyogisha!I41&①団体情報入力!C$4+②選手情報入力!C50+10000000)","v":""},{"$f":"IF(E41=\"\",\"\",①団体情報入力!$C$4)","v":""},null,{"$f":"IF(E41=\"\",\"\",②選手情報入力!B$11)","v":""},{"$f":"IF(②選手情報入力!C50=\"\",\"\",②選手情報入力!C50)","v":""},{"$f":"IF(E41=\"\",\"\",②選手情報入力!D50)","v":""},{"$f":"IF(E41=\"\",\"\",ASC(②選手情報入力!E50&\" \"&②選手情報入力!F50))","v":""},"",{"$f":"IF(E41=\"\",\"\",IF(②選手情報入力!G50=\"男\",1,2))","v":""},{"$f":"IF(E41=\"\",\"\",IF(②選手情報入力!H50=\"\",\"\",②選手情報入力!H50))","v":""},null,null,"",null,{"$f":"IF(E41=\"\",\"\",IF(②選手情報入力!J50=\"\",\"\",IF(I41=1,VLOOKUP(②選手情報入力!J50,種目情報!$A$4:$B$39,2,FALSE),VLOOKUP(②選手情報入力!J50,種目情報!$E$4:$F$29,2,FALSE))))","v":""},{"$f":"IF(E41=\"\",\"\",IF(②選手情報入力!K50=\"\",\"\",②選手情報入力!K50))","v":""},{"$f":"IF(E41=\"\",\"\",IF(②選手情報入力!I50=\"\",\"\",1))","v":""},{"$f":"IF(E41=\"\",\"\",IF(②選手情報入力!J50=\"\",\"\",IF(I41=1,VLOOKUP(②選手情報入力!J50,種目情報!$A$4:$C$29,3,FALSE),VLOOKUP(②選手情報入力!J50,種目情報!$E$4:$G$32,3,FALSE))))","v":""},{"$f":"IF(E41=\"\",\"\",IF(②選手情報入力!M50=\"\",\"\",IF(I41=1,VLOOKUP(②選手情報入力!M50,種目情報!$A$4:$B$29,2,FALSE),VLOOKUP(②選手情報入力!M50,種目情報!$E$4:$F$32,2,FALSE))))","v":""},{"$f":"IF(E41=\"\",\"\",IF(②選手情報入力!N50=\"\",\"\",②選手情報入力!N50))","v":""},{"$f":"IF(E41=\"\",\"\",IF(②選手情報入力!L50=\"\",\"\",1))","v":""},{"$f":"IF(E41=\"\",\"\",IF(②選手情報入力!M50=\"\",\"\",IF(I41=1,VLOOKUP(②選手情報入力!M50,種目情報!$A$4:$C$29,3,FALSE),VLOOKUP(②選手情報入力!M50,種目情報!$E$4:$G$32,3,FALSE))))","v":""},{"$f":"IF(E41=\"\",\"\",IF(②選手情報入力!P50=\"\",\"\",IF(I41=1,VLOOKUP(②選手情報入力!P50,種目情報!$A$4:$B$29,2,FALSE),VLOOKUP(②選手情報入力!P50,種目情報!$E$4:$F$32,2,FALSE))))","v":""},{"$f":"IF(E41=\"\",\"\",IF(②選手情報入力!Q50=\"\",\"\",②選手情報入力!Q50))","v":""},{"$f":"IF(E41=\"\",\"\",IF(②選手情報入力!O50=\"\",\"\",1))","v":""},{"$f":"IF(E41=\"\",\"\",IF(②選手情報入力!P50=\"\",\"\",IF(I41=1,VLOOKUP(②選手情報入力!P50,種目情報!$A$4:$C$29,3,FALSE),VLOOKUP(②選手情報入力!P50,種目情報!$E$4:$G$32,3,FALSE))))","v":""},{"$f":"IF(E41=\"\",\"\",IF(②選手情報入力!R50=\"\",\"\",IF(I41=1,種目情報!$J$4,種目情報!$J$6)))","v":""},{"$f":"IF(E41=\"\",\"\",IF(②選手情報入力!R50=\"\",\"\",IF(I41=1,IF(②選手情報入力!$S$6=\"\",\"\",②選手情報入力!$S$6),IF(②選手情報入力!$S$7=\"\",\"\",②選手情報入力!$S$7))))","v":""},{"$f":"IF(E41=\"\",\"\",IF(②選手情報入力!R50=\"\",\"\",IF(I41=1,IF(②選手情報入力!$R$6=\"\",0,1),IF(②選手情報入力!$R$7=\"\",0,1))))","v":""},{"$f":"IF(E41=\"\",\"\",IF(②選手情報入力!R50=\"\",\"\",2))","v":""},{"$f":"IF(E41=\"\",\"\",IF(②選手情報入力!T50=\"\",\"\",IF(I41=1,種目情報!$J$5,種目情報!$J$7)))","v":""},{"$f":"IF(E41=\"\",\"\",IF(②選手情報入力!T50=\"\",\"\",IF(I41=1,IF(②選手情報入力!$U$6=\"\",\"\",②選手情報入力!$U$6),IF(②選手情報入力!$U$7=\"\",\"\",②選手情報入力!$U$7))))","v":""},{"$f":"IF(E41=\"\",\"\",IF(②選手情報入力!T50=\"\",\"\",IF(I41=1,IF(②選手情報入力!$T$6=\"\",0,1),IF(②選手情報入力!$T$7=\"\",0,1))))","v":""},{"$f":"IF(E41=\"\",\"\",IF(②選手情報入力!T50=\"\",\"\",2))","v":""}]
[{"$f":"IF(E42=\"\",\"\",data_kyogisha!I42&①団体情報入力!C$4+②選手情報入力!C51+10000000)","v":""},{"$f":"IF(E42=\"\",\"\",①団体情報入力!$C$4)","v":""},null,{"$f":"IF(E42=\"\",\"\",②選手情報入力!B$11)","v":""},{"$f":"IF(②選手情報入力!C51=\"\",\"\",②選手情報入力!C51)","v":""},{"$f":"IF(E42=\"\",\"\",②選手情報入力!D51)","v":""},{"$f":"IF(E42=\"\",\"\",ASC(②選手情報入力!E51&\" \"&②選手情報入力!F51))","v":""},"",{"$f":"IF(E42=\"\",\"\",IF(②選手情報入力!G51=\"男\",1,2))","v":""},{"$f":"IF(E42=\"\",\"\",IF(②選手情報入力!H51=\"\",\"\",②選手情報入力!H51))","v":""},null,null,"",null,{"$f":"IF(E42=\"\",\"\",IF(②選手情報入力!J51=\"\",\"\",IF(I42=1,VLOOKUP(②選手情報入力!J51,種目情報!$A$4:$B$39,2,FALSE),VLOOKUP(②選手情報入力!J51,種目情報!$E$4:$F$29,2,FALSE))))","v":""},{"$f":"IF(E42=\"\",\"\",IF(②選手情報入力!K51=\"\",\"\",②選手情報入力!K51))","v":""},{"$f":"IF(E42=\"\",\"\",IF(②選手情報入力!I51=\"\",\"\",1))","v":""},{"$f":"IF(E42=\"\",\"\",IF(②選手情報入力!J51=\"\",\"\",IF(I42=1,VLOOKUP(②選手情報入力!J51,種目情報!$A$4:$C$29,3,FALSE),VLOOKUP(②選手情報入力!J51,種目情報!$E$4:$G$32,3,FALSE))))","v":""},{"$f":"IF(E42=\"\",\"\",IF(②選手情報入力!M51=\"\",\"\",IF(I42=1,VLOOKUP(②選手情報入力!M51,種目情報!$A$4:$B$29,2,FALSE),VLOOKUP(②選手情報入力!M51,種目情報!$E$4:$F$32,2,FALSE))))","v":""},{"$f":"IF(E42=\"\",\"\",IF(②選手情報入力!N51=\"\",\"\",②選手情報入力!N51))","v":""},{"$f":"IF(E42=\"\",\"\",IF(②選手情報入力!L51=\"\",\"\",1))","v":""},{"$f":"IF(E42=\"\",\"\",IF(②選手情報入力!M51=\"\",\"\",IF(I42=1,VLOOKUP(②選手情報入力!M51,種目情報!$A$4:$C$29,3,FALSE),VLOOKUP(②選手情報入力!M51,種目情報!$E$4:$G$32,3,FALSE))))","v":""},{"$f":"IF(E42=\"\",\"\",IF(②選手情報入力!P51=\"\",\"\",IF(I42=1,VLOOKUP(②選手情報入力!P51,種目情報!$A$4:$B$29,2,FALSE),VLOOKUP(②選手情報入力!P51,種目情報!$E$4:$F$32,2,FALSE))))","v":""},{"$f":"IF(E42=\"\",\"\",IF(②選手情報入力!Q51=\"\",\"\",②選手情報入力!Q51))","v":""},{"$f":"IF(E42=\"\",\"\",IF(②選手情報入力!O51=\"\",\"\",1))","v":""},{"$f":"IF(E42=\"\",\"\",IF(②選手情報入力!P51=\"\",\"\",IF(I42=1,VLOOKUP(②選手情報入力!P51,種目情報!$A$4:$C$29,3,FALSE),VLOOKUP(②選手情報入力!P51,種目情報!$E$4:$G$32,3,FALSE))))","v":""},{"$f":"IF(E42=\"\",\"\",IF(②選手情報入力!R51=\"\",\"\",IF(I42=1,種目情報!$J$4,種目情報!$J$6)))","v":""},{"$f":"IF(E42=\"\",\"\",IF(②選手情報入力!R51=\"\",\"\",IF(I42=1,IF(②選手情報入力!$S$6=\"\",\"\",②選手情報入力!$S$6),IF(②選手情報入力!$S$7=\"\",\"\",②選手情報入力!$S$7))))","v":""},{"$f":"IF(E42=\"\",\"\",IF(②選手情報入力!R51=\"\",\"\",IF(I42=1,IF(②選手情報入力!$R$6=\"\",0,1),IF(②選手情報入力!$R$7=\"\",0,1))))","v":""},{"$f":"IF(E42=\"\",\"\",IF(②選手情報入力!R51=\"\",\"\",2))","v":""},{"$f":"IF(E42=\"\",\"\",IF(②選手情報入力!T51=\"\",\"\",IF(I42=1,種目情報!$J$5,種目情報!$J$7)))","v":""},{"$f":"IF(E42=\"\",\"\",IF(②選手情報入力!T51=\"\",\"\",IF(I42=1,IF(②選手情報入力!$U$6=\"\",\"\",②選手情報入力!$U$6),IF(②選手情報入力!$U$7=\"\",\"\",②選手情報入力!$U$7))))","v":""},{"$f":"IF(E42=\"\",\"\",IF(②選手情報入力!T51=\"\",\"\",IF(I42=1,IF(②選手情報入力!$T$6=\"\",0,1),IF(②選手情報入力!$T$7=\"\",0,1))))","v":""},{"$f":"IF(E42=\"\",\"\",IF(②選手情報入力!T51=\"\",\"\",2))","v":""}]
[{"$f":"IF(E43=\"\",\"\",data_kyogisha!I43&①団体情報入力!C$4+②選手情報入力!C52+10000000)","v":""},{"$f":"IF(E43=\"\",\"\",①団体情報入力!$C$4)","v":""},null,{"$f":"IF(E43=\"\",\"\",②選手情報入力!B$11)","v":""},{"$f":"IF(②選手情報入力!C52=\"\",\"\",②選手情報入力!C52)","v":""},{"$f":"IF(E43=\"\",\"\",②選手情報入力!D52)","v":""},{"$f":"IF(E43=\"\",\"\",ASC(②選手情報入力!E52&\" \"&②選手情報入力!F52))","v":""},"",{"$f":"IF(E43=\"\",\"\",IF(②選手情報入力!G52=\"男\",1,2))","v":""},{"$f":"IF(E43=\"\",\"\",IF(②選手情報入力!H52=\"\",\"\",②選手情報入力!H52))","v":""},null,null,"",null,{"$f":"IF(E43=\"\",\"\",IF(②選手情報入力!J52=\"\",\"\",IF(I43=1,VLOOKUP(②選手情報入力!J52,種目情報!$A$4:$B$39,2,FALSE),VLOOKUP(②選手情報入力!J52,種目情報!$E$4:$F$29,2,FALSE))))","v":""},{"$f":"IF(E43=\"\",\"\",IF(②選手情報入力!K52=\"\",\"\",②選手情報入力!K52))","v":""},{"$f":"IF(E43=\"\",\"\",IF(②選手情報入力!I52=\"\",\"\",1))","v":""},{"$f":"IF(E43=\"\",\"\",IF(②選手情報入力!J52=\"\",\"\",IF(I43=1,VLOOKUP(②選手情報入力!J52,種目情報!$A$4:$C$29,3,FALSE),VLOOKUP(②選手情報入力!J52,種目情報!$E$4:$G$32,3,FALSE))))","v":""},{"$f":"IF(E43=\"\",\"\",IF(②選手情報入力!M52=\"\",\"\",IF(I43=1,VLOOKUP(②選手情報入力!M52,種目情報!$A$4:$B$29,2,FALSE),VLOOKUP(②選手情報入力!M52,種目情報!$E$4:$F$32,2,FALSE))))","v":""},{"$f":"IF(E43=\"\",\"\",IF(②選手情報入力!N52=\"\",\"\",②選手情報入力!N52))","v":""},{"$f":"IF(E43=\"\",\"\",IF(②選手情報入力!L52=\"\",\"\",1))","v":""},{"$f":"IF(E43=\"\",\"\",IF(②選手情報入力!M52=\"\",\"\",IF(I43=1,VLOOKUP(②選手情報入力!M52,種目情報!$A$4:$C$29,3,FALSE),VLOOKUP(②選手情報入力!M52,種目情報!$E$4:$G$32,3,FALSE))))","v":""},{"$f":"IF(E43=\"\",\"\",IF(②選手情報入力!P52=\"\",\"\",IF(I43=1,VLOOKUP(②選手情報入力!P52,種目情報!$A$4:$B$29,2,FALSE),VLOOKUP(②選手情報入力!P52,種目情報!$E$4:$F$32,2,FALSE))))","v":""},{"$f":"IF(E43=\"\",\"\",IF(②選手情報入力!Q52=\"\",\"\",②選手情報入力!Q52))","v":""},{"$f":"IF(E43=\"\",\"\",IF(②選手情報入力!O52=\"\",\"\",1))","v":""},{"$f":"IF(E43=\"\",\"\",IF(②選手情報入力!P52=\"\",\"\",IF(I43=1,VLOOKUP(②選手情報入力!P52,種目情報!$A$4:$C$29,3,FALSE),VLOOKUP(②選手情報入力!P52,種目情報!$E$4:$G$32,3,FALSE))))","v":""},{"$f":"IF(E43=\"\",\"\",IF(②選手情報入力!R52=\"\",\"\",IF(I43=1,種目情報!$J$4,種目情報!$J$6)))","v":""},{"$f":"IF(E43=\"\",\"\",IF(②選手情報入力!R52=\"\",\"\",IF(I43=1,IF(②選手情報入力!$S$6=\"\",\"\",②選手情報入力!$S$6),IF(②選手情報入力!$S$7=\"\",\"\",②選手情報入力!$S$7))))","v":""},{"$f":"IF(E43=\"\",\"\",IF(②選手情報入力!R52=\"\",\"\",IF(I43=1,IF(②選手情報入力!$R$6=\"\",0,1),IF(②選手情報入力!$R$7=\"\",0,1))))","v":""},{"$f":"IF(E43=\"\",\"\",IF(②選手情報入力!R52=\"\",\"\",2))","v":""},{"$f":"IF(E43=\"\",\"\",IF(②選手情報入力!T52=\"\",\"\",IF(I43=1,種目情報!$J$5,種目情報!$J$7)))","v":""},{"$f":"IF(E43=\"\",\"\",IF(②選手情報入力!T52=\"\",\"\",IF(I43=1,IF(②選手情報入力!$U$6=\"\",\"\",②選手情報入力!$U$6),IF(②選手情報入力!$U$7=\"\",\"\",②選手情報入力!$U$7))))","v":""},{"$f":"IF(E43=\"\",\"\",IF(②選手情報入力!T52=\"\",\"\",IF(I43=1,IF(②選手情報入力!$T$6=\"\",0,1),IF(②選手情報入力!$T$7=\"\",0,1))))","v":""},{"$f":"IF(E43=\"\",\"\",IF(②選手情報入力!T52=\"\",\"\",2))","v":""}]
[{"$f":"IF(E44=\"\",\"\",data_kyogisha!I44&①団体情報入力!C$4+②選手情報入力!C53+10000000)","v":""},{"$f":"IF(E44=\"\",\"\",①団体情報入力!$C$4)","v":""},null,{"$f":"IF(E44=\"\",\"\",②選手情報入力!B$11)","v":""},{"$f":"IF(②選手情報入力!C53=\"\",\"\",②選手情報入力!C53)","v":""},{"$f":"IF(E44=\"\",\"\",②選手情報入力!D53)","v":""},{"$f":"IF(E44=\"\",\"\",ASC(②選手情報入力!E53&\" \"&②選手情報入力!F53))","v":""},"",{"$f":"IF(E44=\"\",\"\",IF(②選手情報入力!G53=\"男\",1,2))","v":""},{"$f":"IF(E44=\"\",\"\",IF(②選手情報入力!H53=\"\",\"\",②選手情報入力!H53))","v":""},null,null,"",null,{"$f":"IF(E44=\"\",\"\",IF(②選手情報入力!J53=\"\",\"\",IF(I44=1,VLOOKUP(②選手情報入力!J53,種目情報!$A$4:$B$39,2,FALSE),VLOOKUP(②選手情報入力!J53,種目情報!$E$4:$F$29,2,FALSE))))","v":""},{"$f":"IF(E44=\"\",\"\",IF(②選手情報入力!K53=\"\",\"\",②選手情報入力!K53))","v":""},{"$f":"IF(E44=\"\",\"\",IF(②選手情報入力!I53=\"\",\"\",1))","v":""},{"$f":"IF(E44=\"\",\"\",IF(②選手情報入力!J53=\"\",\"\",IF(I44=1,VLOOKUP(②選手情報入力!J53,種目情報!$A$4:$C$29,3,FALSE),VLOOKUP(②選手情報入力!J53,種目情報!$E$4:$G$32,3,FALSE))))","v":""},{"$f":"IF(E44=\"\",\"\",IF(②選手情報入力!M53=\"\",\"\",IF(I44=1,VLOOKUP(②選手情報入力!M53,種目情報!$A$4:$B$29,2,FALSE),VLOOKUP(②選手情報入力!M53,種目情報!$E$4:$F$32,2,FALSE))))","v":""},{"$f":"IF(E44=\"\",\"\",IF(②選手情報入力!N53=\"\",\"\",②選手情報入力!N53))","v":""},{"$f":"IF(E44=\"\",\"\",IF(②選手情報入力!L53=\"\",\"\",1))","v":""},{"$f":"IF(E44=\"\",\"\",IF(②選手情報入力!M53=\"\",\"\",IF(I44=1,VLOOKUP(②選手情報入力!M53,種目情報!$A$4:$C$29,3,FALSE),VLOOKUP(②選手情報入力!M53,種目情報!$E$4:$G$32,3,FALSE))))","v":""},{"$f":"IF(E44=\"\",\"\",IF(②選手情報入力!P53=\"\",\"\",IF(I44=1,VLOOKUP(②選手情報入力!P53,種目情報!$A$4:$B$29,2,FALSE),VLOOKUP(②選手情報入力!P53,種目情報!$E$4:$F$32,2,FALSE))))","v":""},{"$f":"IF(E44=\"\",\"\",IF(②選手情報入力!Q53=\"\",\"\",②選手情報入力!Q53))","v":""},{"$f":"IF(E44=\"\",\"\",IF(②選手情報入力!O53=\"\",\"\",1))","v":""},{"$f":"IF(E44=\"\",\"\",IF(②選手情報入力!P53=\"\",\"\",IF(I44=1,VLOOKUP(②選手情報入力!P53,種目情報!$A$4:$C$29,3,FALSE),VLOOKUP(②選手情報入力!P53,種目情報!$E$4:$G$32,3,FALSE))))","v":""},{"$f":"IF(E44=\"\",\"\",IF(②選手情報入力!R53=\"\",\"\",IF(I44=1,種目情報!$J$4,種目情報!$J$6)))","v":""},{"$f":"IF(E44=\"\",\"\",IF(②選手情報入力!R53=\"\",\"\",IF(I44=1,IF(②選手情報入力!$S$6=\"\",\"\",②選手情報入力!$S$6),IF(②選手情報入力!$S$7=\"\",\"\",②選手情報入力!$S$7))))","v":""},{"$f":"IF(E44=\"\",\"\",IF(②選手情報入力!R53=\"\",\"\",IF(I44=1,IF(②選手情報入力!$R$6=\"\",0,1),IF(②選手情報入力!$R$7=\"\",0,1))))","v":""},{"$f":"IF(E44=\"\",\"\",IF(②選手情報入力!R53=\"\",\"\",2))","v":""},{"$f":"IF(E44=\"\",\"\",IF(②選手情報入力!T53=\"\",\"\",IF(I44=1,種目情報!$J$5,種目情報!$J$7)))","v":""},{"$f":"IF(E44=\"\",\"\",IF(②選手情報入力!T53=\"\",\"\",IF(I44=1,IF(②選手情報入力!$U$6=\"\",\"\",②選手情報入力!$U$6),IF(②選手情報入力!$U$7=\"\",\"\",②選手情報入力!$U$7))))","v":""},{"$f":"IF(E44=\"\",\"\",IF(②選手情報入力!T53=\"\",\"\",IF(I44=1,IF(②選手情報入力!$T$6=\"\",0,1),IF(②選手情報入力!$T$7=\"\",0,1))))","v":""},{"$f":"IF(E44=\"\",\"\",IF(②選手情報入力!T53=\"\",\"\",2))","v":""}]
[{"$f":"IF(E45=\"\",\"\",data_kyogisha!I45&①団体情報入力!C$4+②選手情報入力!C54+10000000)","v":""},{"$f":"IF(E45=\"\",\"\",①団体情報入力!$C$4)","v":""},null,{"$f":"IF(E45=\"\",\"\",②選手情報入力!B$11)","v":""},{"$f":"IF(②選手情報入力!C54=\"\",\"\",②選手情報入力!C54)","v":""},{"$f":"IF(E45=\"\",\"\",②選手情報入力!D54)","v":""},{"$f":"IF(E45=\"\",\"\",ASC(②選手情報入力!E54&\" \"&②選手情報入力!F54))","v":""},"",{"$f":"IF(E45=\"\",\"\",IF(②選手情報入力!G54=\"男\",1,2))","v":""},{"$f":"IF(E45=\"\",\"\",IF(②選手情報入力!H54=\"\",\"\",②選手情報入力!H54))","v":""},null,null,"",null,{"$f":"IF(E45=\"\",\"\",IF(②選手情報入力!J54=\"\",\"\",IF(I45=1,VLOOKUP(②選手情報入力!J54,種目情報!$A$4:$B$39,2,FALSE),VLOOKUP(②選手情報入力!J54,種目情報!$E$4:$F$29,2,FALSE))))","v":""},{"$f":"IF(E45=\"\",\"\",IF(②選手情報入力!K54=\"\",\"\",②選手情報入力!K54))","v":""},{"$f":"IF(E45=\"\",\"\",IF(②選手情報入力!I54=\"\",\"\",1))","v":""},{"$f":"IF(E45=\"\",\"\",IF(②選手情報入力!J54=\"\",\"\",IF(I45=1,VLOOKUP(②選手情報入力!J54,種目情報!$A$4:$C$29,3,FALSE),VLOOKUP(②選手情報入力!J54,種目情報!$E$4:$G$32,3,FALSE))))","v":""},{"$f":"IF(E45=\"\",\"\",IF(②選手情報入力!M54=\"\",\"\",IF(I45=1,VLOOKUP(②選手情報入力!M54,種目情報!$A$4:$B$29,2,FALSE),VLOOKUP(②選手情報入力!M54,種目情報!$E$4:$F$32,2,FALSE))))","v":""},{"$f":"IF(E45=\"\",\"\",IF(②選手情報入力!N54=\"\",\"\",②選手情報入力!N54))","v":""},{"$f":"IF(E45=\"\",\"\",IF(②選手情報入力!L54=\"\",\"\",1))","v":""},{"$f":"IF(E45=\"\",\"\",IF(②選手情報入力!M54=\"\",\"\",IF(I45=1,VLOOKUP(②選手情報入力!M54,種目情報!$A$4:$C$29,3,FALSE),VLOOKUP(②選手情報入力!M54,種目情報!$E$4:$G$32,3,FALSE))))","v":""},{"$f":"IF(E45=\"\",\"\",IF(②選手情報入力!P54=\"\",\"\",IF(I45=1,VLOOKUP(②選手情報入力!P54,種目情報!$A$4:$B$29,2,FALSE),VLOOKUP(②選手情報入力!P54,種目情報!$E$4:$F$32,2,FALSE))))","v":""},{"$f":"IF(E45=\"\",\"\",IF(②選手情報入力!Q54=\"\",\"\",②選手情報入力!Q54))","v":""},{"$f":"IF(E45=\"\",\"\",IF(②選手情報入力!O54=\"\",\"\",1))","v":""},{"$f":"IF(E45=\"\",\"\",IF(②選手情報入力!P54=\"\",\"\",IF(I45=1,VLOOKUP(②選手情報入力!P54,種目情報!$A$4:$C$29,3,FALSE),VLOOKUP(②選手情報入力!P54,種目情報!$E$4:$G$32,3,FALSE))))","v":""},{"$f":"IF(E45=\"\",\"\",IF(②選手情報入力!R54=\"\",\"\",IF(I45=1,種目情報!$J$4,種目情報!$J$6)))","v":""},{"$f":"IF(E45=\"\",\"\",IF(②選手情報入力!R54=\"\",\"\",IF(I45=1,IF(②選手情報入力!$S$6=\"\",\"\",②選手情報入力!$S$6),IF(②選手情報入力!$S$7=\"\",\"\",②選手情報入力!$S$7))))","v":""},{"$f":"IF(E45=\"\",\"\",IF(②選手情報入力!R54=\"\",\"\",IF(I45=1,IF(②選手情報入力!$R$6=\"\",0,1),IF(②選手情報入力!$R$7=\"\",0,1))))","v":""},{"$f":"IF(E45=\"\",\"\",IF(②選手情報入力!R54=\"\",\"\",2))","v":""},{"$f":"IF(E45=\"\",\"\",IF(②選手情報入力!T54=\"\",\"\",IF(I45=1,種目情報!$J$5,種目情報!$J$7)))","v":""},{"$f":"IF(E45=\"\",\"\",IF(②選手情報入力!T54=\"\",\"\",IF(I45=1,IF(②選手情報入力!$U$6=\"\",\"\",②選手情報入力!$U$6),IF(②選手情報入力!$U$7=\"\",\"\",②選手情報入力!$U$7))))","v":""},{"$f":"IF(E45=\"\",\"\",IF(②選手情報入力!T54=\"\",\"\",IF(I45=1,IF(②選手情報入力!$T$6=\"\",0,1),IF(②選手情報入力!$T$7=\"\",0,1))))","v":""},{"$f":"IF(E45=\"\",\"\",IF(②選手情報入力!T54=\"\",\"\",2))","v":""}]
[{"$f":"IF(E46=\"\",\"\",data_kyogisha!I46&①団体情報入力!C$4+②選手情報入力!C55+10000000)","v":""},{"$f":"IF(E46=\"\",\"\",①団体情報入力!$C$4)","v":""},null,{"$f":"IF(E46=\"\",\"\",②選手情報入力!B$11)","v":""},{"$f":"IF(②選手情報入力!C55=\"\",\"\",②選手情報入力!C55)","v":""},{"$f":"IF(E46=\"\",\"\",②選手情報入力!D55)","v":""},{"$f":"IF(E46=\"\",\"\",ASC(②選手情報入力!E55&\" \"&②選手情報入力!F55))","v":""},"",{"$f":"IF(E46=\"\",\"\",IF(②選手情報入力!G55=\"男\",1,2))","v":""},{"$f":"IF(E46=\"\",\"\",IF(②選手情報入力!H55=\"\",\"\",②選手情報入力!H55))","v":""},null,null,"",null,{"$f":"IF(E46=\"\",\"\",IF(②選手情報入力!J55=\"\",\"\",IF(I46=1,VLOOKUP(②選手情報入力!J55,種目情報!$A$4:$B$39,2,FALSE),VLOOKUP(②選手情報入力!J55,種目情報!$E$4:$F$29,2,FALSE))))","v":""},{"$f":"IF(E46=\"\",\"\",IF(②選手情報入力!K55=\"\",\"\",②選手情報入力!K55))","v":""},{"$f":"IF(E46=\"\",\"\",IF(②選手情報入力!I55=\"\",\"\",1))","v":""},{"$f":"IF(E46=\"\",\"\",IF(②選手情報入力!J55=\"\",\"\",IF(I46=1,VLOOKUP(②選手情報入力!J55,種目情報!$A$4:$C$29,3,FALSE),VLOOKUP(②選手情報入力!J55,種目情報!$E$4:$G$32,3,FALSE))))","v":""},{"$f":"IF(E46=\"\",\"\",IF(②選手情報入力!M55=\"\",\"\",IF(I46=1,VLOOKUP(②選手情報入力!M55,種目情報!$A$4:$B$29,2,FALSE),VLOOKUP(②選手情報入力!M55,種目情報!$E$4:$F$32,2,FALSE))))","v":""},{"$f":"IF(E46=\"\",\"\",IF(②選手情報入力!N55=\"\",\"\",②選手情報入力!N55))","v":""},{"$f":"IF(E46=\"\",\"\",IF(②選手情報入力!L55=\"\",\"\",1))","v":""},{"$f":"IF(E46=\"\",\"\",IF(②選手情報入力!M55=\"\",\"\",IF(I46=1,VLOOKUP(②選手情報入力!M55,種目情報!$A$4:$C$29,3,FALSE),VLOOKUP(②選手情報入力!M55,種目情報!$E$4:$G$32,3,FALSE))))","v":""},{"$f":"IF(E46=\"\",\"\",IF(②選手情報入力!P55=\"\",\"\",IF(I46=1,VLOOKUP(②選手情報入力!P55,種目情報!$A$4:$B$29,2,FALSE),VLOOKUP(②選手情報入力!P55,種目情報!$E$4:$F$32,2,FALSE))))","v":""},{"$f":"IF(E46=\"\",\"\",IF(②選手情報入力!Q55=\"\",\"\",②選手情報入力!Q55))","v":""},{"$f":"IF(E46=\"\",\"\",IF(②選手情報入力!O55=\"\",\"\",1))","v":""},{"$f":"IF(E46=\"\",\"\",IF(②選手情報入力!P55=\"\",\"\",IF(I46=1,VLOOKUP(②選手情報入力!P55,種目情報!$A$4:$C$29,3,FALSE),VLOOKUP(②選手情報入力!P55,種目情報!$E$4:$G$32,3,FALSE))))","v":""},{"$f":"IF(E46=\"\",\"\",IF(②選手情報入力!R55=\"\",\"\",IF(I46=1,種目情報!$J$4,種目情報!$J$6)))","v":""},{"$f":"IF(E46=\"\",\"\",IF(②選手情報入力!R55=\"\",\"\",IF(I46=1,IF(②選手情報入力!$S$6=\"\",\"\",②選手情報入力!$S$6),IF(②選手情報入力!$S$7=\"\",\"\",②選手情報入力!$S$7))))","v":""},{"$f":"IF(E46=\"\",\"\",IF(②選手情報入力!R55=\"\",\"\",IF(I46=1,IF(②選手情報入力!$R$6=\"\",0,1),IF(②選手情報入力!$R$7=\"\",0,1))))","v":""},{"$f":"IF(E46=\"\",\"\",IF(②選手情報入力!R55=\"\",\"\",2))","v":""},{"$f":"IF(E46=\"\",\"\",IF(②選手情報入力!T55=\"\",\"\",IF(I46=1,種目情報!$J$5,種目情報!$J$7)))","v":""},{"$f":"IF(E46=\"\",\"\",IF(②選手情報入力!T55=\"\",\"\",IF(I46=1,IF(②選手情報入力!$U$6=\"\",\"\",②選手情報入力!$U$6),IF(②選手情報入力!$U$7=\"\",\"\",②選手情報入力!$U$7))))","v":""},{"$f":"IF(E46=\"\",\"\",IF(②選手情報入力!T55=\"\",\"\",IF(I46=1,IF(②選手情報入力!$T$6=\"\",0,1),IF(②選手情報入力!$T$7=\"\",0,1))))","v":""},{"$f":"IF(E46=\"\",\"\",IF(②選手情報入力!T55=\"\",\"\",2))","v":""}]
[{"$f":"IF(E47=\"\",\"\",data_kyogisha!I47&①団体情報入力!C$4+②選手情報入力!C56+10000000)","v":""},{"$f":"IF(E47=\"\",\"\",①団体情報入力!$C$4)","v":""},null,{"$f":"IF(E47=\"\",\"\",②選手情報入力!B$11)","v":""},{"$f":"IF(②選手情報入力!C56=\"\",\"\",②選手情報入力!C56)","v":""},{"$f":"IF(E47=\"\",\"\",②選手情報入力!D56)","v":""},{"$f":"IF(E47=\"\",\"\",ASC(②選手情報入力!E56&\" \"&②選手情報入力!F56))","v":""},"",{"$f":"IF(E47=\"\",\"\",IF(②選手情報入力!G56=\"男\",1,2))","v":""},{"$f":"IF(E47=\"\",\"\",IF(②選手情報入力!H56=\"\",\"\",②選手情報入力!H56))","v":""},null,null,"",null,{"$f":"IF(E47=\"\",\"\",IF(②選手情報入力!J56=\"\",\"\",IF(I47=1,VLOOKUP(②選手情報入力!J56,種目情報!$A$4:$B$39,2,FALSE),VLOOKUP(②選手情報入力!J56,種目情報!$E$4:$F$29,2,FALSE))))","v":""},{"$f":"IF(E47=\"\",\"\",IF(②選手情報入力!K56=\"\",\"\",②選手情報入力!K56))","v":""},{"$f":"IF(E47=\"\",\"\",IF(②選手情報入力!I56=\"\",\"\",1))","v":""},{"$f":"IF(E47=\"\",\"\",IF(②選手情報入力!J56=\"\",\"\",IF(I47=1,VLOOKUP(②選手情報入力!J56,種目情報!$A$4:$C$29,3,FALSE),VLOOKUP(②選手情報入力!J56,種目情報!$E$4:$G$32,3,FALSE))))","v":""},{"$f":"IF(E47=\"\",\"\",IF(②選手情報入力!M56=\"\",\"\",IF(I47=1,VLOOKUP(②選手情報入力!M56,種目情報!$A$4:$B$29,2,FALSE),VLOOKUP(②選手情報入力!M56,種目情報!$E$4:$F$32,2,FALSE))))","v":""},{"$f":"IF(E47=\"\",\"\",IF(②選手情報入力!N56=\"\",\"\",②選手情報入力!N56))","v":""},{"$f":"IF(E47=\"\",\"\",IF(②選手情報入力!L56=\"\",\"\",1))","v":""},{"$f":"IF(E47=\"\",\"\",IF(②選手情報入力!M56=\"\",\"\",IF(I47=1,VLOOKUP(②選手情報入力!M56,種目情報!$A$4:$C$29,3,FALSE),VLOOKUP(②選手情報入力!M56,種目情報!$E$4:$G$32,3,FALSE))))","v":""},{"$f":"IF(E47=\"\",\"\",IF(②選手情報入力!P56=\"\",\"\",IF(I47=1,VLOOKUP(②選手情報入力!P56,種目情報!$A$4:$B$29,2,FALSE),VLOOKUP(②選手情報入力!P56,種目情報!$E$4:$F$32,2,FALSE))))","v":""},{"$f":"IF(E47=\"\",\"\",IF(②選手情報入力!Q56=\"\",\"\",②選手情報入力!Q56))","v":""},{"$f":"IF(E47=\"\",\"\",IF(②選手情報入力!O56=\"\",\"\",1))","v":""},{"$f":"IF(E47=\"\",\"\",IF(②選手情報入力!P56=\"\",\"\",IF(I47=1,VLOOKUP(②選手情報入力!P56,種目情報!$A$4:$C$29,3,FALSE),VLOOKUP(②選手情報入力!P56,種目情報!$E$4:$G$32,3,FALSE))))","v":""},{"$f":"IF(E47=\"\",\"\",IF(②選手情報入力!R56=\"\",\"\",IF(I47=1,種目情報!$J$4,種目情報!$J$6)))","v":""},{"$f":"IF(E47=\"\",\"\",IF(②選手情報入力!R56=\"\",\"\",IF(I47=1,IF(②選手情報入力!$S$6=\"\",\"\",②選手情報入力!$S$6),IF(②選手情報入力!$S$7=\"\",\"\",②選手情報入力!$S$7))))","v":""},{"$f":"IF(E47=\"\",\"\",IF(②選手情報入力!R56=\"\",\"\",IF(I47=1,IF(②選手情報入力!$R$6=\"\",0,1),IF(②選手情報入力!$R$7=\"\",0,1))))","v":""},{"$f":"IF(E47=\"\",\"\",IF(②選手情報入力!R56=\"\",\"\",2))","v":""},{"$f":"IF(E47=\"\",\"\",IF(②選手情報入力!T56=\"\",\"\",IF(I47=1,種目情報!$J$5,種目情報!$J$7)))","v":""},{"$f":"IF(E47=\"\",\"\",IF(②選手情報入力!T56=\"\",\"\",IF(I47=1,IF(②選手情報入力!$U$6=\"\",\"\",②選手情報入力!$U$6),IF(②選手情報入力!$U$7=\"\",\"\",②選手情報入力!$U$7))))","v":""},{"$f":"IF(E47=\"\",\"\",IF(②選手情報入力!T56=\"\",\"\",IF(I47=1,IF(②選手情報入力!$T$6=\"\",0,1),IF(②選手情報入力!$T$7=\"\",0,1))))","v":""},{"$f":"IF(E47=\"\",\"\",IF(②選手情報入力!T56=\"\",\"\",2))","v":""}]
[{"$f":"IF(E48=\"\",\"\",data_kyogisha!I48&①団体情報入力!C$4+②選手情報入力!C57+10000000)","v":""},{"$f":"IF(E48=\"\",\"\",①団体情報入力!$C$4)","v":""},null,{"$f":"IF(E48=\"\",\"\",②選手情報入力!B$11)","v":""},{"$f":"IF(②選手情報入力!C57=\"\",\"\",②選手情報入力!C57)","v":""},{"$f":"IF(E48=\"\",\"\",②選手情報入力!D57)","v":""},{"$f":"IF(E48=\"\",\"\",ASC(②選手情報入力!E57&\" \"&②選手情報入力!F57))","v":""},"",{"$f":"IF(E48=\"\",\"\",IF(②選手情報入力!G57=\"男\",1,2))","v":""},{"$f":"IF(E48=\"\",\"\",IF(②選手情報入力!H57=\"\",\"\",②選手情報入力!H57))","v":""},null,null,"",null,{"$f":"IF(E48=\"\",\"\",IF(②選手情報入力!J57=\"\",\"\",IF(I48=1,VLOOKUP(②選手情報入力!J57,種目情報!$A$4:$B$39,2,FALSE),VLOOKUP(②選手情報入力!J57,種目情報!$E$4:$F$29,2,FALSE))))","v":""},{"$f":"IF(E48=\"\",\"\",IF(②選手情報入力!K57=\"\",\"\",②選手情報入力!K57))","v":""},{"$f":"IF(E48=\"\",\"\",IF(②選手情報入力!I57=\"\",\"\",1))","v":""},{"$f":"IF(E48=\"\",\"\",IF(②選手情報入力!J57=\"\",\"\",IF(I48=1,VLOOKUP(②選手情報入力!J57,種目情報!$A$4:$C$29,3,FALSE),VLOOKUP(②選手情報入力!J57,種目情報!$E$4:$G$32,3,FALSE))))","v":""},{"$f":"IF(E48=\"\",\"\",IF(②選手情報入力!M57=\"\",\"\",IF(I48=1,VLOOKUP(②選手情報入力!M57,種目情報!$A$4:$B$29,2,FALSE),VLOOKUP(②選手情報入力!M57,種目情報!$E$4:$F$32,2,FALSE))))","v":""},{"$f":"IF(E48=\"\",\"\",IF(②選手情報入力!N57=\"\",\"\",②選手情報入力!N57))","v":""},{"$f":"IF(E48=\"\",\"\",IF(②選手情報入力!L57=\"\",\"\",1))","v":""},{"$f":"IF(E48=\"\",\"\",IF(②選手情報入力!M57=\"\",\"\",IF(I48=1,VLOOKUP(②選手情報入力!M57,種目情報!$A$4:$C$29,3,FALSE),VLOOKUP(②選手情報入力!M57,種目情報!$E$4:$G$32,3,FALSE))))","v":""},{"$f":"IF(E48=\"\",\"\",IF(②選手情報入力!P57=\"\",\"\",IF(I48=1,VLOOKUP(②選手情報入力!P57,種目情報!$A$4:$B$29,2,FALSE),VLOOKUP(②選手情報入力!P57,種目情報!$E$4:$F$32,2,FALSE))))","v":""},{"$f":"IF(E48=\"\",\"\",IF(②選手情報入力!Q57=\"\",\"\",②選手情報入力!Q57))","v":""},{"$f":"IF(E48=\"\",\"\",IF(②選手情報入力!O57=\"\",\"\",1))","v":""},{"$f":"IF(E48=\"\",\"\",IF(②選手情報入力!P57=\"\",\"\",IF(I48=1,VLOOKUP(②選手情報入力!P57,種目情報!$A$4:$C$29,3,FALSE),VLOOKUP(②選手情報入力!P57,種目情報!$E$4:$G$32,3,FALSE))))","v":""},{"$f":"IF(E48=\"\",\"\",IF(②選手情報入力!R57=\"\",\"\",IF(I48=1,種目情報!$J$4,種目情報!$J$6)))","v":""},{"$f":"IF(E48=\"\",\"\",IF(②選手情報入力!R57=\"\",\"\",IF(I48=1,IF(②選手情報入力!$S$6=\"\",\"\",②選手情報入力!$S$6),IF(②選手情報入力!$S$7=\"\",\"\",②選手情報入力!$S$7))))","v":""},{"$f":"IF(E48=\"\",\"\",IF(②選手情報入力!R57=\"\",\"\",IF(I48=1,IF(②選手情報入力!$R$6=\"\",0,1),IF(②選手情報入力!$R$7=\"\",0,1))))","v":""},{"$f":"IF(E48=\"\",\"\",IF(②選手情報入力!R57=\"\",\"\",2))","v":""},{"$f":"IF(E48=\"\",\"\",IF(②選手情報入力!T57=\"\",\"\",IF(I48=1,種目情報!$J$5,種目情報!$J$7)))","v":""},{"$f":"IF(E48=\"\",\"\",IF(②選手情報入力!T57=\"\",\"\",IF(I48=1,IF(②選手情報入力!$U$6=\"\",\"\",②選手情報入力!$U$6),IF(②選手情報入力!$U$7=\"\",\"\",②選手情報入力!$U$7))))","v":""},{"$f":"IF(E48=\"\",\"\",IF(②選手情報入力!T57=\"\",\"\",IF(I48=1,IF(②選手情報入力!$T$6=\"\",0,1),IF(②選手情報入力!$T$7=\"\",0,1))))","v":""},{"$f":"IF(E48=\"\",\"\",IF(②選手情報入力!T57=\"\",\"\",2))","v":""}]
[{"$f":"IF(E49=\"\",\"\",data_kyogisha!I49&①団体情報入力!C$4+②選手情報入力!C58+10000000)","v":""},{"$f":"IF(E49=\"\",\"\",①団体情報入力!$C$4)","v":""},null,{"$f":"IF(E49=\"\",\"\",②選手情報入力!B$11)","v":""},{"$f":"IF(②選手情報入力!C58=\"\",\"\",②選手情報入力!C58)","v":""},{"$f":"IF(E49=\"\",\"\",②選手情報入力!D58)","v":""},{"$f":"IF(E49=\"\",\"\",ASC(②選手情報入力!E58&\" \"&②選手情報入力!F58))","v":""},"",{"$f":"IF(E49=\"\",\"\",IF(②選手情報入力!G58=\"男\",1,2))","v":""},{"$f":"IF(E49=\"\",\"\",IF(②選手情報入力!H58=\"\",\"\",②選手情報入力!H58))","v":""},null,null,"",null,{"$f":"IF(E49=\"\",\"\",IF(②選手情報入力!J58=\"\",\"\",IF(I49=1,VLOOKUP(②選手情報入力!J58,種目情報!$A$4:$B$39,2,FALSE),VLOOKUP(②選手情報入力!J58,種目情報!$E$4:$F$29,2,FALSE))))","v":""},{"$f":"IF(E49=\"\",\"\",IF(②選手情報入力!K58=\"\",\"\",②選手情報入力!K58))","v":""},{"$f":"IF(E49=\"\",\"\",IF(②選手情報入力!I58=\"\",\"\",1))","v":""},{"$f":"IF(E49=\"\",\"\",IF(②選手情報入力!J58=\"\",\"\",IF(I49=1,VLOOKUP(②選手情報入力!J58,種目情報!$A$4:$C$29,3,FALSE),VLOOKUP(②選手情報入力!J58,種目情報!$E$4:$G$32,3,FALSE))))","v":""},{"$f":"IF(E49=\"\",\"\",IF(②選手情報入力!M58=\"\",\"\",IF(I49=1,VLOOKUP(②選手情報入力!M58,種目情報!$A$4:$B$29,2,FALSE),VLOOKUP(②選手情報入力!M58,種目情報!$E$4:$F$32,2,FALSE))))","v":""},{"$f":"IF(E49=\"\",\"\",IF(②選手情報入力!N58=\"\",\"\",②選手情報入力!N58))","v":""},{"$f":"IF(E49=\"\",\"\",IF(②選手情報入力!L58=\"\",\"\",1))","v":""},{"$f":"IF(E49=\"\",\"\",IF(②選手情報入力!M58=\"\",\"\",IF(I49=1,VLOOKUP(②選手情報入力!M58,種目情報!$A$4:$C$29,3,FALSE),VLOOKUP(②選手情報入力!M58,種目情報!$E$4:$G$32,3,FALSE))))","v":""},{"$f":"IF(E49=\"\",\"\",IF(②選手情報入力!P58=\"\",\"\",IF(I49=1,VLOOKUP(②選手情報入力!P58,種目情報!$A$4:$B$29,2,FALSE),VLOOKUP(②選手情報入力!P58,種目情報!$E$4:$F$32,2,FALSE))))","v":""},{"$f":"IF(E49=\"\",\"\",IF(②選手情報入力!Q58=\"\",\"\",②選手情報入力!Q58))","v":""},{"$f":"IF(E49=\"\",\"\",IF(②選手情報入力!O58=\"\",\"\",1))","v":""},{"$f":"IF(E49=\"\",\"\",IF(②選手情報入力!P58=\"\",\"\",IF(I49=1,VLOOKUP(②選手情報入力!P58,種目情報!$A$4:$C$29,3,FALSE),VLOOKUP(②選手情報入力!P58,種目情報!$E$4:$G$32,3,FALSE))))","v":""},{"$f":"IF(E49=\"\",\"\",IF(②選手情報入力!R58=\"\",\"\",IF(I49=1,種目情報!$J$4,種目情報!$J$6)))","v":""},{"$f":"IF(E49=\"\",\"\",IF(②選手情報入力!R58=\"\",\"\",IF(I49=1,IF(②選手情報入力!$S$6=\"\",\"\",②選手情報入力!$S$6),IF(②選手情報入力!$S$7=\"\",\"\",②選手情報入力!$S$7))))","v":""},{"$f":"IF(E49=\"\",\"\",IF(②選手情報入力!R58=\"\",\"\",IF(I49=1,IF(②選手情報入力!$R$6=\"\",0,1),IF(②選手情報入力!$R$7=\"\",0,1))))","v":""},{"$f":"IF(E49=\"\",\"\",IF(②選手情報入力!R58=\"\",\"\",2))","v":""},{"$f":"IF(E49=\"\",\"\",IF(②選手情報入力!T58=\"\",\"\",IF(I49=1,種目情報!$J$5,種目情報!$J$7)))","v":""},{"$f":"IF(E49=\"\",\"\",IF(②選手情報入力!T58=\"\",\"\",IF(I49=1,IF(②選手情報入力!$U$6=\"\",\"\",②選手情報入力!$U$6),IF(②選手情報入力!$U$7=\"\",\"\",②選手情報入力!$U$7))))","v":""},{"$f":"IF(E49=\"\",\"\",IF(②選手情報入力!T58=\"\",\"\",IF(I49=1,IF(②選手情報入力!$T$6=\"\",0,1),IF(②選手情報入力!$T$7=\"\",0,1))))","v":""},{"$f":"IF(E49=\"\",\"\",IF(②選手情報入力!T58=\"\",\"\",2))","v":""}]
[{"$f":"IF(E50=\"\",\"\",data_kyogisha!I50&①団体情報入力!C$4+②選手情報入力!C59+10000000)","v":""},{"$f":"IF(E50=\"\",\"\",①団体情報入力!$C$4)","v":""},null,{"$f":"IF(E50=\"\",\"\",②選手情報入力!B$11)","v":""},{"$f":"IF(②選手情報入力!C59=\"\",\"\",②選手情報入力!C59)","v":""},{"$f":"IF(E50=\"\",\"\",②選手情報入力!D59)","v":""},{"$f":"IF(E50=\"\",\"\",ASC(②選手情報入力!E59&\" \"&②選手情報入力!F59))","v":""},"",{"$f":"IF(E50=\"\",\"\",IF(②選手情報入力!G59=\"男\",1,2))","v":""},{"$f":"IF(E50=\"\",\"\",IF(②選手情報入力!H59=\"\",\"\",②選手情報入力!H59))","v":""},null,null,"",null,{"$f":"IF(E50=\"\",\"\",IF(②選手情報入力!J59=\"\",\"\",IF(I50=1,VLOOKUP(②選手情報入力!J59,種目情報!$A$4:$B$39,2,FALSE),VLOOKUP(②選手情報入力!J59,種目情報!$E$4:$F$29,2,FALSE))))","v":""},{"$f":"IF(E50=\"\",\"\",IF(②選手情報入力!K59=\"\",\"\",②選手情報入力!K59))","v":""},{"$f":"IF(E50=\"\",\"\",IF(②選手情報入力!I59=\"\",\"\",1))","v":""},{"$f":"IF(E50=\"\",\"\",IF(②選手情報入力!J59=\"\",\"\",IF(I50=1,VLOOKUP(②選手情報入力!J59,種目情報!$A$4:$C$29,3,FALSE),VLOOKUP(②選手情報入力!J59,種目情報!$E$4:$G$32,3,FALSE))))","v":""},{"$f":"IF(E50=\"\",\"\",IF(②選手情報入力!M59=\"\",\"\",IF(I50=1,VLOOKUP(②選手情報入力!M59,種目情報!$A$4:$B$29,2,FALSE),VLOOKUP(②選手情報入力!M59,種目情報!$E$4:$F$32,2,FALSE))))","v":""},{"$f":"IF(E50=\"\",\"\",IF(②選手情報入力!N59=\"\",\"\",②選手情報入力!N59))","v":""},{"$f":"IF(E50=\"\",\"\",IF(②選手情報入力!L59=\"\",\"\",1))","v":""},{"$f":"IF(E50=\"\",\"\",IF(②選手情報入力!M59=\"\",\"\",IF(I50=1,VLOOKUP(②選手情報入力!M59,種目情報!$A$4:$C$29,3,FALSE),VLOOKUP(②選手情報入力!M59,種目情報!$E$4:$G$32,3,FALSE))))","v":""},{"$f":"IF(E50=\"\",\"\",IF(②選手情報入力!P59=\"\",\"\",IF(I50=1,VLOOKUP(②選手情報入力!P59,種目情報!$A$4:$B$29,2,FALSE),VLOOKUP(②選手情報入力!P59,種目情報!$E$4:$F$32,2,FALSE))))","v":""},{"$f":"IF(E50=\"\",\"\",IF(②選手情報入力!Q59=\"\",\"\",②選手情報入力!Q59))","v":""},{"$f":"IF(E50=\"\",\"\",IF(②選手情報入力!O59=\"\",\"\",1))","v":""},{"$f":"IF(E50=\"\",\"\",IF(②選手情報入力!P59=\"\",\"\",IF(I50=1,VLOOKUP(②選手情報入力!P59,種目情報!$A$4:$C$29,3,FALSE),VLOOKUP(②選手情報入力!P59,種目情報!$E$4:$G$32,3,FALSE))))","v":""},{"$f":"IF(E50=\"\",\"\",IF(②選手情報入力!R59=\"\",\"\",IF(I50=1,種目情報!$J$4,種目情報!$J$6)))","v":""},{"$f":"IF(E50=\"\",\"\",IF(②選手情報入力!R59=\"\",\"\",IF(I50=1,IF(②選手情報入力!$S$6=\"\",\"\",②選手情報入力!$S$6),IF(②選手情報入力!$S$7=\"\",\"\",②選手情報入力!$S$7))))","v":""},{"$f":"IF(E50=\"\",\"\",IF(②選手情報入力!R59=\"\",\"\",IF(I50=1,IF(②選手情報入力!$R$6=\"\",0,1),IF(②選手情報入力!$R$7=\"\",0,1))))","v":""},{"$f":"IF(E50=\"\",\"\",IF(②選手情報入力!R59=\"\",\"\",2))","v":""},{"$f":"IF(E50=\"\",\"\",IF(②選手情報入力!T59=\"\",\"\",IF(I50=1,種目情報!$J$5,種目情報!$J$7)))","v":""},{"$f":"IF(E50=\"\",\"\",IF(②選手情報入力!T59=\"\",\"\",IF(I50=1,IF(②選手情報入力!$U$6=\"\",\"\",②選手情報入力!$U$6),IF(②選手情報入力!$U$7=\"\",\"\",②選手情報入力!$U$7))))","v":""},{"$f":"IF(E50=\"\",\"\",IF(②選手情報入力!T59=\"\",\"\",IF(I50=1,IF(②選手情報入力!$T$6=\"\",0,1),IF(②選手情報入力!$T$7=\"\",0,1))))","v":""},{"$f":"IF(E50=\"\",\"\",IF(②選手情報入力!T59=\"\",\"\",2))","v":""}]
[{"$f":"IF(E51=\"\",\"\",data_kyogisha!I51&①団体情報入力!C$4+②選手情報入力!C60+10000000)","v":""},{"$f":"IF(E51=\"\",\"\",①団体情報入力!$C$4)","v":""},null,{"$f":"IF(E51=\"\",\"\",②選手情報入力!B$11)","v":""},{"$f":"IF(②選手情報入力!C60=\"\",\"\",②選手情報入力!C60)","v":""},{"$f":"IF(E51=\"\",\"\",②選手情報入力!D60)","v":""},{"$f":"IF(E51=\"\",\"\",ASC(②選手情報入力!E60&\" \"&②選手情報入力!F60))","v":""},"",{"$f":"IF(E51=\"\",\"\",IF(②選手情報入力!G60=\"男\",1,2))","v":""},{"$f":"IF(E51=\"\",\"\",IF(②選手情報入力!H60=\"\",\"\",②選手情報入力!H60))","v":""},null,null,"",null,{"$f":"IF(E51=\"\",\"\",IF(②選手情報入力!J60=\"\",\"\",IF(I51=1,VLOOKUP(②選手情報入力!J60,種目情報!$A$4:$B$39,2,FALSE),VLOOKUP(②選手情報入力!J60,種目情報!$E$4:$F$29,2,FALSE))))","v":""},{"$f":"IF(E51=\"\",\"\",IF(②選手情報入力!K60=\"\",\"\",②選手情報入力!K60))","v":""},{"$f":"IF(E51=\"\",\"\",IF(②選手情報入力!I60=\"\",\"\",1))","v":""},{"$f":"IF(E51=\"\",\"\",IF(②選手情報入力!J60=\"\",\"\",IF(I51=1,VLOOKUP(②選手情報入力!J60,種目情報!$A$4:$C$29,3,FALSE),VLOOKUP(②選手情報入力!J60,種目情報!$E$4:$G$32,3,FALSE))))","v":""},{"$f":"IF(E51=\"\",\"\",IF(②選手情報入力!M60=\"\",\"\",IF(I51=1,VLOOKUP(②選手情報入力!M60,種目情報!$A$4:$B$29,2,FALSE),VLOOKUP(②選手情報入力!M60,種目情報!$E$4:$F$32,2,FALSE))))","v":""},{"$f":"IF(E51=\"\",\"\",IF(②選手情報入力!N60=\"\",\"\",②選手情報入力!N60))","v":""},{"$f":"IF(E51=\"\",\"\",IF(②選手情報入力!L60=\"\",\"\",1))","v":""},{"$f":"IF(E51=\"\",\"\",IF(②選手情報入力!M60=\"\",\"\",IF(I51=1,VLOOKUP(②選手情報入力!M60,種目情報!$A$4:$C$29,3,FALSE),VLOOKUP(②選手情報入力!M60,種目情報!$E$4:$G$32,3,FALSE))))","v":""},{"$f":"IF(E51=\"\",\"\",IF(②選手情報入力!P60=\"\",\"\",IF(I51=1,VLOOKUP(②選手情報入力!P60,種目情報!$A$4:$B$29,2,FALSE),VLOOKUP(②選手情報入力!P60,種目情報!$E$4:$F$32,2,FALSE))))","v":""},{"$f":"IF(E51=\"\",\"\",IF(②選手情報入力!Q60=\"\",\"\",②選手情報入力!Q60))","v":""},{"$f":"IF(E51=\"\",\"\",IF(②選手情報入力!O60=\"\",\"\",1))","v":""},{"$f":"IF(E51=\"\",\"\",IF(②選手情報入力!P60=\"\",\"\",IF(I51=1,VLOOKUP(②選手情報入力!P60,種目情報!$A$4:$C$29,3,FALSE),VLOOKUP(②選手情報入力!P60,種目情報!$E$4:$G$32,3,FALSE))))","v":""},{"$f":"IF(E51=\"\",\"\",IF(②選手情報入力!R60=\"\",\"\",IF(I51=1,種目情報!$J$4,種目情報!$J$6)))","v":""},{"$f":"IF(E51=\"\",\"\",IF(②選手情報入力!R60=\"\",\"\",IF(I51=1,IF(②選手情報入力!$S$6=\"\",\"\",②選手情報入力!$S$6),IF(②選手情報入力!$S$7=\"\",\"\",②選手情報入力!$S$7))))","v":""},{"$f":"IF(E51=\"\",\"\",IF(②選手情報入力!R60=\"\",\"\",IF(I51=1,IF(②選手情報入力!$R$6=\"\",0,1),IF(②選手情報入力!$R$7=\"\",0,1))))","v":""},{"$f":"IF(E51=\"\",\"\",IF(②選手情報入力!R60=\"\",\"\",2))","v":""},{"$f":"IF(E51=\"\",\"\",IF(②選手情報入力!T60=\"\",\"\",IF(I51=1,種目情報!$J$5,種目情報!$J$7)))","v":""},{"$f":"IF(E51=\"\",\"\",IF(②選手情報入力!T60=\"\",\"\",IF(I51=1,IF(②選手情報入力!$U$6=\"\",\"\",②選手情報入力!$U$6),IF(②選手情報入力!$U$7=\"\",\"\",②選手情報入力!$U$7))))","v":""},{"$f":"IF(E51=\"\",\"\",IF(②選手情報入力!T60=\"\",\"\",IF(I51=1,IF(②選手情報入力!$T$6=\"\",0,1),IF(②選手情報入力!$T$7=\"\",0,1))))","v":""},{"$f":"IF(E51=\"\",\"\",IF(②選手情報入力!T60=\"\",\"\",2))","v":""}]
[{"$f":"IF(E52=\"\",\"\",data_kyogisha!I52&①団体情報入力!C$4+②選手情報入力!C61+10000000)","v":""},{"$f":"IF(E52=\"\",\"\",①団体情報入力!$C$4)","v":""},null,{"$f":"IF(E52=\"\",\"\",②選手情報入力!B$11)","v":""},{"$f":"IF(②選手情報入力!C61=\"\",\"\",②選手情報入力!C61)","v":""},{"$f":"IF(E52=\"\",\"\",②選手情報入力!D61)","v":""},{"$f":"IF(E52=\"\",\"\",ASC(②選手情報入力!E61&\" \"&②選手情報入力!F61))","v":""},"",{"$f":"IF(E52=\"\",\"\",IF(②選手情報入力!G61=\"男\",1,2))","v":""},{"$f":"IF(E52=\"\",\"\",IF(②選手情報入力!H61=\"\",\"\",②選手情報入力!H61))","v":""},null,null,"",null,{"$f":"IF(E52=\"\",\"\",IF(②選手情報入力!J61=\"\",\"\",IF(I52=1,VLOOKUP(②選手情報入力!J61,種目情報!$A$4:$B$39,2,FALSE),VLOOKUP(②選手情報入力!J61,種目情報!$E$4:$F$29,2,FALSE))))","v":""},{"$f":"IF(E52=\"\",\"\",IF(②選手情報入力!K61=\"\",\"\",②選手情報入力!K61))","v":""},{"$f":"IF(E52=\"\",\"\",IF(②選手情報入力!I61=\"\",\"\",1))","v":""},{"$f":"IF(E52=\"\",\"\",IF(②選手情報入力!J61=\"\",\"\",IF(I52=1,VLOOKUP(②選手情報入力!J61,種目情報!$A$4:$C$29,3,FALSE),VLOOKUP(②選手情報入力!J61,種目情報!$E$4:$G$32,3,FALSE))))","v":""},{"$f":"IF(E52=\"\",\"\",IF(②選手情報入力!M61=\"\",\"\",IF(I52=1,VLOOKUP(②選手情報入力!M61,種目情報!$A$4:$B$29,2,FALSE),VLOOKUP(②選手情報入力!M61,種目情報!$E$4:$F$32,2,FALSE))))","v":""},{"$f":"IF(E52=\"\",\"\",IF(②選手情報入力!N61=\"\",\"\",②選手情報入力!N61))","v":""},{"$f":"IF(E52=\"\",\"\",IF(②選手情報入力!L61=\"\",\"\",1))","v":""},{"$f":"IF(E52=\"\",\"\",IF(②選手情報入力!M61=\"\",\"\",IF(I52=1,VLOOKUP(②選手情報入力!M61,種目情報!$A$4:$C$29,3,FALSE),VLOOKUP(②選手情報入力!M61,種目情報!$E$4:$G$32,3,FALSE))))","v":""},{"$f":"IF(E52=\"\",\"\",IF(②選手情報入力!P61=\"\",\"\",IF(I52=1,VLOOKUP(②選手情報入力!P61,種目情報!$A$4:$B$29,2,FALSE),VLOOKUP(②選手情報入力!P61,種目情報!$E$4:$F$32,2,FALSE))))","v":""},{"$f":"IF(E52=\"\",\"\",IF(②選手情報入力!Q61=\"\",\"\",②選手情報入力!Q61))","v":""},{"$f":"IF(E52=\"\",\"\",IF(②選手情報入力!O61=\"\",\"\",1))","v":""},{"$f":"IF(E52=\"\",\"\",IF(②選手情報入力!P61=\"\",\"\",IF(I52=1,VLOOKUP(②選手情報入力!P61,種目情報!$A$4:$C$29,3,FALSE),VLOOKUP(②選手情報入力!P61,種目情報!$E$4:$G$32,3,FALSE))))","v":""},{"$f":"IF(E52=\"\",\"\",IF(②選手情報入力!R61=\"\",\"\",IF(I52=1,種目情報!$J$4,種目情報!$J$6)))","v":""},{"$f":"IF(E52=\"\",\"\",IF(②選手情報入力!R61=\"\",\"\",IF(I52=1,IF(②選手情報入力!$S$6=\"\",\"\",②選手情報入力!$S$6),IF(②選手情報入力!$S$7=\"\",\"\",②選手情報入力!$S$7))))","v":""},{"$f":"IF(E52=\"\",\"\",IF(②選手情報入力!R61=\"\",\"\",IF(I52=1,IF(②選手情報入力!$R$6=\"\",0,1),IF(②選手情報入力!$R$7=\"\",0,1))))","v":""},{"$f":"IF(E52=\"\",\"\",IF(②選手情報入力!R61=\"\",\"\",2))","v":""},{"$f":"IF(E52=\"\",\"\",IF(②選手情報入力!T61=\"\",\"\",IF(I52=1,種目情報!$J$5,種目情報!$J$7)))","v":""},{"$f":"IF(E52=\"\",\"\",IF(②選手情報入力!T61=\"\",\"\",IF(I52=1,IF(②選手情報入力!$U$6=\"\",\"\",②選手情報入力!$U$6),IF(②選手情報入力!$U$7=\"\",\"\",②選手情報入力!$U$7))))","v":""},{"$f":"IF(E52=\"\",\"\",IF(②選手情報入力!T61=\"\",\"\",IF(I52=1,IF(②選手情報入力!$T$6=\"\",0,1),IF(②選手情報入力!$T$7=\"\",0,1))))","v":""},{"$f":"IF(E52=\"\",\"\",IF(②選手情報入力!T61=\"\",\"\",2))","v":""}]
[{"$f":"IF(E53=\"\",\"\",data_kyogisha!I53&①団体情報入力!C$4+②選手情報入力!C62+10000000)","v":""},{"$f":"IF(E53=\"\",\"\",①団体情報入力!$C$4)","v":""},null,{"$f":"IF(E53=\"\",\"\",②選手情報入力!B$11)","v":""},{"$f":"IF(②選手情報入力!C62=\"\",\"\",②選手情報入力!C62)","v":""},{"$f":"IF(E53=\"\",\"\",②選手情報入力!D62)","v":""},{"$f":"IF(E53=\"\",\"\",ASC(②選手情報入力!E62&\" \"&②選手情報入力!F62))","v":""},"",{"$f":"IF(E53=\"\",\"\",IF(②選手情報入力!G62=\"男\",1,2))","v":""},{"$f":"IF(E53=\"\",\"\",IF(②選手情報入力!H62=\"\",\"\",②選手情報入力!H62))","v":""},null,null,"",null,{"$f":"IF(E53=\"\",\"\",IF(②選手情報入力!J62=\"\",\"\",IF(I53=1,VLOOKUP(②選手情報入力!J62,種目情報!$A$4:$B$39,2,FALSE),VLOOKUP(②選手情報入力!J62,種目情報!$E$4:$F$29,2,FALSE))))","v":""},{"$f":"IF(E53=\"\",\"\",IF(②選手情報入力!K62=\"\",\"\",②選手情報入力!K62))","v":""},{"$f":"IF(E53=\"\",\"\",IF(②選手情報入力!I62=\"\",\"\",1))","v":""},{"$f":"IF(E53=\"\",\"\",IF(②選手情報入力!J62=\"\",\"\",IF(I53=1,VLOOKUP(②選手情報入力!J62,種目情報!$A$4:$C$29,3,FALSE),VLOOKUP(②選手情報入力!J62,種目情報!$E$4:$G$32,3,FALSE))))","v":""},{"$f":"IF(E53=\"\",\"\",IF(②選手情報入力!M62=\"\",\"\",IF(I53=1,VLOOKUP(②選手情報入力!M62,種目情報!$A$4:$B$29,2,FALSE),VLOOKUP(②選手情報入力!M62,種目情報!$E$4:$F$32,2,FALSE))))","v":""},{"$f":"IF(E53=\"\",\"\",IF(②選手情報入力!N62=\"\",\"\",②選手情報入力!N62))","v":""},{"$f":"IF(E53=\"\",\"\",IF(②選手情報入力!L62=\"\",\"\",1))","v":""},{"$f":"IF(E53=\"\",\"\",IF(②選手情報入力!M62=\"\",\"\",IF(I53=1,VLOOKUP(②選手情報入力!M62,種目情報!$A$4:$C$29,3,FALSE),VLOOKUP(②選手情報入力!M62,種目情報!$E$4:$G$32,3,FALSE))))","v":""},{"$f":"IF(E53=\"\",\"\",IF(②選手情報入力!P62=\"\",\"\",IF(I53=1,VLOOKUP(②選手情報入力!P62,種目情報!$A$4:$B$29,2,FALSE),VLOOKUP(②選手情報入力!P62,種目情報!$E$4:$F$32,2,FALSE))))","v":""},{"$f":"IF(E53=\"\",\"\",IF(②選手情報入力!Q62=\"\",\"\",②選手情報入力!Q62))","v":""},{"$f":"IF(E53=\"\",\"\",IF(②選手情報入力!O62=\"\",\"\",1))","v":""},{"$f":"IF(E53=\"\",\"\",IF(②選手情報入力!P62=\"\",\"\",IF(I53=1,VLOOKUP(②選手情報入力!P62,種目情報!$A$4:$C$29,3,FALSE),VLOOKUP(②選手情報入力!P62,種目情報!$E$4:$G$32,3,FALSE))))","v":""},{"$f":"IF(E53=\"\",\"\",IF(②選手情報入力!R62=\"\",\"\",IF(I53=1,種目情報!$J$4,種目情報!$J$6)))","v":""},{"$f":"IF(E53=\"\",\"\",IF(②選手情報入力!R62=\"\",\"\",IF(I53=1,IF(②選手情報入力!$S$6=\"\",\"\",②選手情報入力!$S$6),IF(②選手情報入力!$S$7=\"\",\"\",②選手情報入力!$S$7))))","v":""},{"$f":"IF(E53=\"\",\"\",IF(②選手情報入力!R62=\"\",\"\",IF(I53=1,IF(②選手情報入力!$R$6=\"\",0,1),IF(②選手情報入力!$R$7=\"\",0,1))))","v":""},{"$f":"IF(E53=\"\",\"\",IF(②選手情報入力!R62=\"\",\"\",2))","v":""},{"$f":"IF(E53=\"\",\"\",IF(②選手情報入力!T62=\"\",\"\",IF(I53=1,種目情報!$J$5,種目情報!$J$7)))","v":""},{"$f":"IF(E53=\"\",\"\",IF(②選手情報入力!T62=\"\",\"\",IF(I53=1,IF(②選手情報入力!$U$6=\"\",\"\",②選手情報入力!$U$6),IF(②選手情報入力!$U$7=\"\",\"\",②選手情報入力!$U$7))))","v":""},{"$f":"IF(E53=\"\",\"\",IF(②選手情報入力!T62=\"\",\"\",IF(I53=1,IF(②選手情報入力!$T$6=\"\",0,1),IF(②選手情報入力!$T$7=\"\",0,1))))","v":""},{"$f":"IF(E53=\"\",\"\",IF(②選手情報入力!T62=\"\",\"\",2))","v":""}]
[{"$f":"IF(E54=\"\",\"\",data_kyogisha!I54&①団体情報入力!C$4+②選手情報入力!C63+10000000)","v":""},{"$f":"IF(E54=\"\",\"\",①団体情報入力!$C$4)","v":""},null,{"$f":"IF(E54=\"\",\"\",②選手情報入力!B$11)","v":""},{"$f":"IF(②選手情報入力!C63=\"\",\"\",②選手情報入力!C63)","v":""},{"$f":"IF(E54=\"\",\"\",②選手情報入力!D63)","v":""},{"$f":"IF(E54=\"\",\"\",ASC(②選手情報入力!E63&\" \"&②選手情報入力!F63))","v":""},"",{"$f":"IF(E54=\"\",\"\",IF(②選手情報入力!G63=\"男\",1,2))","v":""},{"$f":"IF(E54=\"\",\"\",IF(②選手情報入力!H63=\"\",\"\",②選手情報入力!H63))","v":""},null,null,"",null,{"$f":"IF(E54=\"\",\"\",IF(②選手情報入力!J63=\"\",\"\",IF(I54=1,VLOOKUP(②選手情報入力!J63,種目情報!$A$4:$B$39,2,FALSE),VLOOKUP(②選手情報入力!J63,種目情報!$E$4:$F$29,2,FALSE))))","v":""},{"$f":"IF(E54=\"\",\"\",IF(②選手情報入力!K63=\"\",\"\",②選手情報入力!K63))","v":""},{"$f":"IF(E54=\"\",\"\",IF(②選手情報入力!I63=\"\",\"\",1))","v":""},{"$f":"IF(E54=\"\",\"\",IF(②選手情報入力!J63=\"\",\"\",IF(I54=1,VLOOKUP(②選手情報入力!J63,種目情報!$A$4:$C$29,3,FALSE),VLOOKUP(②選手情報入力!J63,種目情報!$E$4:$G$32,3,FALSE))))","v":""},{"$f":"IF(E54=\"\",\"\",IF(②選手情報入力!M63=\"\",\"\",IF(I54=1,VLOOKUP(②選手情報入力!M63,種目情報!$A$4:$B$29,2,FALSE),VLOOKUP(②選手情報入力!M63,種目情報!$E$4:$F$32,2,FALSE))))","v":""},{"$f":"IF(E54=\"\",\"\",IF(②選手情報入力!N63=\"\",\"\",②選手情報入力!N63))","v":""},{"$f":"IF(E54=\"\",\"\",IF(②選手情報入力!L63=\"\",\"\",1))","v":""},{"$f":"IF(E54=\"\",\"\",IF(②選手情報入力!M63=\"\",\"\",IF(I54=1,VLOOKUP(②選手情報入力!M63,種目情報!$A$4:$C$29,3,FALSE),VLOOKUP(②選手情報入力!M63,種目情報!$E$4:$G$32,3,FALSE))))","v":""},{"$f":"IF(E54=\"\",\"\",IF(②選手情報入力!P63=\"\",\"\",IF(I54=1,VLOOKUP(②選手情報入力!P63,種目情報!$A$4:$B$29,2,FALSE),VLOOKUP(②選手情報入力!P63,種目情報!$E$4:$F$32,2,FALSE))))","v":""},{"$f":"IF(E54=\"\",\"\",IF(②選手情報入力!Q63=\"\",\"\",②選手情報入力!Q63))","v":""},{"$f":"IF(E54=\"\",\"\",IF(②選手情報入力!O63=\"\",\"\",1))","v":""},{"$f":"IF(E54=\"\",\"\",IF(②選手情報入力!P63=\"\",\"\",IF(I54=1,VLOOKUP(②選手情報入力!P63,種目情報!$A$4:$C$29,3,FALSE),VLOOKUP(②選手情報入力!P63,種目情報!$E$4:$G$32,3,FALSE))))","v":""},{"$f":"IF(E54=\"\",\"\",IF(②選手情報入力!R63=\"\",\"\",IF(I54=1,種目情報!$J$4,種目情報!$J$6)))","v":""},{"$f":"IF(E54=\"\",\"\",IF(②選手情報入力!R63=\"\",\"\",IF(I54=1,IF(②選手情報入力!$S$6=\"\",\"\",②選手情報入力!$S$6),IF(②選手情報入力!$S$7=\"\",\"\",②選手情報入力!$S$7))))","v":""},{"$f":"IF(E54=\"\",\"\",IF(②選手情報入力!R63=\"\",\"\",IF(I54=1,IF(②選手情報入力!$R$6=\"\",0,1),IF(②選手情報入力!$R$7=\"\",0,1))))","v":""},{"$f":"IF(E54=\"\",\"\",IF(②選手情報入力!R63=\"\",\"\",2))","v":""},{"$f":"IF(E54=\"\",\"\",IF(②選手情報入力!T63=\"\",\"\",IF(I54=1,種目情報!$J$5,種目情報!$J$7)))","v":""},{"$f":"IF(E54=\"\",\"\",IF(②選手情報入力!T63=\"\",\"\",IF(I54=1,IF(②選手情報入力!$U$6=\"\",\"\",②選手情報入力!$U$6),IF(②選手情報入力!$U$7=\"\",\"\",②選手情報入力!$U$7))))","v":""},{"$f":"IF(E54=\"\",\"\",IF(②選手情報入力!T63=\"\",\"\",IF(I54=1,IF(②選手情報入力!$T$6=\"\",0,1),IF(②選手情報入力!$T$7=\"\",0,1))))","v":""},{"$f":"IF(E54=\"\",\"\",IF(②選手情報入力!T63=\"\",\"\",2))","v":""}]
[{"$f":"IF(E55=\"\",\"\",data_kyogisha!I55&①団体情報入力!C$4+②選手情報入力!C64+10000000)","v":""},{"$f":"IF(E55=\"\",\"\",①団体情報入力!$C$4)","v":""},null,{"$f":"IF(E55=\"\",\"\",②選手情報入力!B$11)","v":""},{"$f":"IF(②選手情報入力!C64=\"\",\"\",②選手情報入力!C64)","v":""},{"$f":"IF(E55=\"\",\"\",②選手情報入力!D64)","v":""},{"$f":"IF(E55=\"\",\"\",ASC(②選手情報入力!E64&\" \"&②選手情報入力!F64))","v":""},"",{"$f":"IF(E55=\"\",\"\",IF(②選手情報入力!G64=\"男\",1,2))","v":""},{"$f":"IF(E55=\"\",\"\",IF(②選手情報入力!H64=\"\",\"\",②選手情報入力!H64))","v":""},null,null,"",null,{"$f":"IF(E55=\"\",\"\",IF(②選手情報入力!J64=\"\",\"\",IF(I55=1,VLOOKUP(②選手情報入力!J64,種目情報!$A$4:$B$39,2,FALSE),VLOOKUP(②選手情報入力!J64,種目情報!$E$4:$F$29,2,FALSE))))","v":""},{"$f":"IF(E55=\"\",\"\",IF(②選手情報入力!K64=\"\",\"\",②選手情報入力!K64))","v":""},{"$f":"IF(E55=\"\",\"\",IF(②選手情報入力!I64=\"\",\"\",1))","v":""},{"$f":"IF(E55=\"\",\"\",IF(②選手情報入力!J64=\"\",\"\",IF(I55=1,VLOOKUP(②選手情報入力!J64,種目情報!$A$4:$C$29,3,FALSE),VLOOKUP(②選手情報入力!J64,種目情報!$E$4:$G$32,3,FALSE))))","v":""},{"$f":"IF(E55=\"\",\"\",IF(②選手情報入力!M64=\"\",\"\",IF(I55=1,VLOOKUP(②選手情報入力!M64,種目情報!$A$4:$B$29,2,FALSE),VLOOKUP(②選手情報入力!M64,種目情報!$E$4:$F$32,2,FALSE))))","v":""},{"$f":"IF(E55=\"\",\"\",IF(②選手情報入力!N64=\"\",\"\",②選手情報入力!N64))","v":""},{"$f":"IF(E55=\"\",\"\",IF(②選手情報入力!L64=\"\",\"\",1))","v":""},{"$f":"IF(E55=\"\",\"\",IF(②選手情報入力!M64=\"\",\"\",IF(I55=1,VLOOKUP(②選手情報入力!M64,種目情報!$A$4:$C$29,3,FALSE),VLOOKUP(②選手情報入力!M64,種目情報!$E$4:$G$32,3,FALSE))))","v":""},{"$f":"IF(E55=\"\",\"\",IF(②選手情報入力!P64=\"\",\"\",IF(I55=1,VLOOKUP(②選手情報入力!P64,種目情報!$A$4:$B$29,2,FALSE),VLOOKUP(②選手情報入力!P64,種目情報!$E$4:$F$32,2,FALSE))))","v":""},{"$f":"IF(E55=\"\",\"\",IF(②選手情報入力!Q64=\"\",\"\",②選手情報入力!Q64))","v":""},{"$f":"IF(E55=\"\",\"\",IF(②選手情報入力!O64=\"\",\"\",1))","v":""},{"$f":"IF(E55=\"\",\"\",IF(②選手情報入力!P64=\"\",\"\",IF(I55=1,VLOOKUP(②選手情報入力!P64,種目情報!$A$4:$C$29,3,FALSE),VLOOKUP(②選手情報入力!P64,種目情報!$E$4:$G$32,3,FALSE))))","v":""},{"$f":"IF(E55=\"\",\"\",IF(②選手情報入力!R64=\"\",\"\",IF(I55=1,種目情報!$J$4,種目情報!$J$6)))","v":""},{"$f":"IF(E55=\"\",\"\",IF(②選手情報入力!R64=\"\",\"\",IF(I55=1,IF(②選手情報入力!$S$6=\"\",\"\",②選手情報入力!$S$6),IF(②選手情報入力!$S$7=\"\",\"\",②選手情報入力!$S$7))))","v":""},{"$f":"IF(E55=\"\",\"\",IF(②選手情報入力!R64=\"\",\"\",IF(I55=1,IF(②選手情報入力!$R$6=\"\",0,1),IF(②選手情報入力!$R$7=\"\",0,1))))","v":""},{"$f":"IF(E55=\"\",\"\",IF(②選手情報入力!R64=\"\",\"\",2))","v":""},{"$f":"IF(E55=\"\",\"\",IF(②選手情報入力!T64=\"\",\"\",IF(I55=1,種目情報!$J$5,種目情報!$J$7)))","v":""},{"$f":"IF(E55=\"\",\"\",IF(②選手情報入力!T64=\"\",\"\",IF(I55=1,IF(②選手情報入力!$U$6=\"\",\"\",②選手情報入力!$U$6),IF(②選手情報入力!$U$7=\"\",\"\",②選手情報入力!$U$7))))","v":""},{"$f":"IF(E55=\"\",\"\",IF(②選手情報入力!T64=\"\",\"\",IF(I55=1,IF(②選手情報入力!$T$6=\"\",0,1),IF(②選手情報入力!$T$7=\"\",0,1))))","v":""},{"$f":"IF(E55=\"\",\"\",IF(②選手情報入力!T64=\"\",\"\",2))","v":""}]
[{"$f":"IF(E56=\"\",\"\",data_kyogisha!I56&①団体情報入力!C$4+②選手情報入力!C65+10000000)","v":""},{"$f":"IF(E56=\"\",\"\",①団体情報入力!$C$4)","v":""},null,{"$f":"IF(E56=\"\",\"\",②選手情報入力!B$11)","v":""},{"$f":"IF(②選手情報入力!C65=\"\",\"\",②選手情報入力!C65)","v":""},{"$f":"IF(E56=\"\",\"\",②選手情報入力!D65)","v":""},{"$f":"IF(E56=\"\",\"\",ASC(②選手情報入力!E65&\" \"&②選手情報入力!F65))","v":""},"",{"$f":"IF(E56=\"\",\"\",IF(②選手情報入力!G65=\"男\",1,2))","v":""},{"$f":"IF(E56=\"\",\"\",IF(②選手情報入力!H65=\"\",\"\",②選手情報入力!H65))","v":""},null,null,"",null,{"$f":"IF(E56=\"\",\"\",IF(②選手情報入力!J65=\"\",\"\",IF(I56=1,VLOOKUP(②選手情報入力!J65,種目情報!$A$4:$B$39,2,FALSE),VLOOKUP(②選手情報入力!J65,種目情報!$E$4:$F$29,2,FALSE))))","v":""},{"$f":"IF(E56=\"\",\"\",IF(②選手情報入力!K65=\"\",\"\",②選手情報入力!K65))","v":""},{"$f":"IF(E56=\"\",\"\",IF(②選手情報入力!I65=\"\",\"\",1))","v":""},{"$f":"IF(E56=\"\",\"\",IF(②選手情報入力!J65=\"\",\"\",IF(I56=1,VLOOKUP(②選手情報入力!J65,種目情報!$A$4:$C$29,3,FALSE),VLOOKUP(②選手情報入力!J65,種目情報!$E$4:$G$32,3,FALSE))))","v":""},{"$f":"IF(E56=\"\",\"\",IF(②選手情報入力!M65=\"\",\"\",IF(I56=1,VLOOKUP(②選手情報入力!M65,種目情報!$A$4:$B$29,2,FALSE),VLOOKUP(②選手情報入力!M65,種目情報!$E$4:$F$32,2,FALSE))))","v":""},{"$f":"IF(E56=\"\",\"\",IF(②選手情報入力!N65=\"\",\"\",②選手情報入力!N65))","v":""},{"$f":"IF(E56=\"\",\"\",IF(②選手情報入力!L65=\"\",\"\",1))","v":""},{"$f":"IF(E56=\"\",\"\",IF(②選手情報入力!M65=\"\",\"\",IF(I56=1,VLOOKUP(②選手情報入力!M65,種目情報!$A$4:$C$29,3,FALSE),VLOOKUP(②選手情報入力!M65,種目情報!$E$4:$G$32,3,FALSE))))","v":""},{"$f":"IF(E56=\"\",\"\",IF(②選手情報入力!P65=\"\",\"\",IF(I56=1,VLOOKUP(②選手情報入力!P65,種目情報!$A$4:$B$29,2,FALSE),VLOOKUP(②選手情報入力!P65,種目情報!$E$4:$F$32,2,FALSE))))","v":""},{"$f":"IF(E56=\"\",\"\",IF(②選手情報入力!Q65=\"\",\"\",②選手情報入力!Q65))","v":""},{"$f":"IF(E56=\"\",\"\",IF(②選手情報入力!O65=\"\",\"\",1))","v":""},{"$f":"IF(E56=\"\",\"\",IF(②選手情報入力!P65=\"\",\"\",IF(I56=1,VLOOKUP(②選手情報入力!P65,種目情報!$A$4:$C$29,3,FALSE),VLOOKUP(②選手情報入力!P65,種目情報!$E$4:$G$32,3,FALSE))))","v":""},{"$f":"IF(E56=\"\",\"\",IF(②選手情報入力!R65=\"\",\"\",IF(I56=1,種目情報!$J$4,種目情報!$J$6)))","v":""},{"$f":"IF(E56=\"\",\"\",IF(②選手情報入力!R65=\"\",\"\",IF(I56=1,IF(②選手情報入力!$S$6=\"\",\"\",②選手情報入力!$S$6),IF(②選手情報入力!$S$7=\"\",\"\",②選手情報入力!$S$7))))","v":""},{"$f":"IF(E56=\"\",\"\",IF(②選手情報入力!R65=\"\",\"\",IF(I56=1,IF(②選手情報入力!$R$6=\"\",0,1),IF(②選手情報入力!$R$7=\"\",0,1))))","v":""},{"$f":"IF(E56=\"\",\"\",IF(②選手情報入力!R65=\"\",\"\",2))","v":""},{"$f":"IF(E56=\"\",\"\",IF(②選手情報入力!T65=\"\",\"\",IF(I56=1,種目情報!$J$5,種目情報!$J$7)))","v":""},{"$f":"IF(E56=\"\",\"\",IF(②選手情報入力!T65=\"\",\"\",IF(I56=1,IF(②選手情報入力!$U$6=\"\",\"\",②選手情報入力!$U$6),IF(②選手情報入力!$U$7=\"\",\"\",②選手情報入力!$U$7))))","v":""},{"$f":"IF(E56=\"\",\"\",IF(②選手情報入力!T65=\"\",\"\",IF(I56=1,IF(②選手情報入力!$T$6=\"\",0,1),IF(②選手情報入力!$T$7=\"\",0,1))))","v":""},{"$f":"IF(E56=\"\",\"\",IF(②選手情報入力!T65=\"\",\"\",2))","v":""}]
[{"$f":"IF(E57=\"\",\"\",data_kyogisha!I57&①団体情報入力!C$4+②選手情報入力!C66+10000000)","v":""},{"$f":"IF(E57=\"\",\"\",①団体情報入力!$C$4)","v":""},null,{"$f":"IF(E57=\"\",\"\",②選手情報入力!B$11)","v":""},{"$f":"IF(②選手情報入力!C66=\"\",\"\",②選手情報入力!C66)","v":""},{"$f":"IF(E57=\"\",\"\",②選手情報入力!D66)","v":""},{"$f":"IF(E57=\"\",\"\",ASC(②選手情報入力!E66&\" \"&②選手情報入力!F66))","v":""},"",{"$f":"IF(E57=\"\",\"\",IF(②選手情報入力!G66=\"男\",1,2))","v":""},{"$f":"IF(E57=\"\",\"\",IF(②選手情報入力!H66=\"\",\"\",②選手情報入力!H66))","v":""},null,null,"",null,{"$f":"IF(E57=\"\",\"\",IF(②選手情報入力!J66=\"\",\"\",IF(I57=1,VLOOKUP(②選手情報入力!J66,種目情報!$A$4:$B$39,2,FALSE),VLOOKUP(②選手情報入力!J66,種目情報!$E$4:$F$29,2,FALSE))))","v":""},{"$f":"IF(E57=\"\",\"\",IF(②選手情報入力!K66=\"\",\"\",②選手情報入力!K66))","v":""},{"$f":"IF(E57=\"\",\"\",IF(②選手情報入力!I66=\"\",\"\",1))","v":""},{"$f":"IF(E57=\"\",\"\",IF(②選手情報入力!J66=\"\",\"\",IF(I57=1,VLOOKUP(②選手情報入力!J66,種目情報!$A$4:$C$29,3,FALSE),VLOOKUP(②選手情報入力!J66,種目情報!$E$4:$G$32,3,FALSE))))","v":""},{"$f":"IF(E57=\"\",\"\",IF(②選手情報入力!M66=\"\",\"\",IF(I57=1,VLOOKUP(②選手情報入力!M66,種目情報!$A$4:$B$29,2,FALSE),VLOOKUP(②選手情報入力!M66,種目情報!$E$4:$F$32,2,FALSE))))","v":""},{"$f":"IF(E57=\"\",\"\",IF(②選手情報入力!N66=\"\",\"\",②選手情報入力!N66))","v":""},{"$f":"IF(E57=\"\",\"\",IF(②選手情報入力!L66=\"\",\"\",1))","v":""},{"$f":"IF(E57=\"\",\"\",IF(②選手情報入力!M66=\"\",\"\",IF(I57=1,VLOOKUP(②選手情報入力!M66,種目情報!$A$4:$C$29,3,FALSE),VLOOKUP(②選手情報入力!M66,種目情報!$E$4:$G$32,3,FALSE))))","v":""},{"$f":"IF(E57=\"\",\"\",IF(②選手情報入力!P66=\"\",\"\",IF(I57=1,VLOOKUP(②選手情報入力!P66,種目情報!$A$4:$B$29,2,FALSE),VLOOKUP(②選手情報入力!P66,種目情報!$E$4:$F$32,2,FALSE))))","v":""},{"$f":"IF(E57=\"\",\"\",IF(②選手情報入力!Q66=\"\",\"\",②選手情報入力!Q66))","v":""},{"$f":"IF(E57=\"\",\"\",IF(②選手情報入力!O66=\"\",\"\",1))","v":""},{"$f":"IF(E57=\"\",\"\",IF(②選手情報入力!P66=\"\",\"\",IF(I57=1,VLOOKUP(②選手情報入力!P66,種目情報!$A$4:$C$29,3,FALSE),VLOOKUP(②選手情報入力!P66,種目情報!$E$4:$G$32,3,FALSE))))","v":""},{"$f":"IF(E57=\"\",\"\",IF(②選手情報入力!R66=\"\",\"\",IF(I57=1,種目情報!$J$4,種目情報!$J$6)))","v":""},{"$f":"IF(E57=\"\",\"\",IF(②選手情報入力!R66=\"\",\"\",IF(I57=1,IF(②選手情報入力!$S$6=\"\",\"\",②選手情報入力!$S$6),IF(②選手情報入力!$S$7=\"\",\"\",②選手情報入力!$S$7))))","v":""},{"$f":"IF(E57=\"\",\"\",IF(②選手情報入力!R66=\"\",\"\",IF(I57=1,IF(②選手情報入力!$R$6=\"\",0,1),IF(②選手情報入力!$R$7=\"\",0,1))))","v":""},{"$f":"IF(E57=\"\",\"\",IF(②選手情報入力!R66=\"\",\"\",2))","v":""},{"$f":"IF(E57=\"\",\"\",IF(②選手情報入力!T66=\"\",\"\",IF(I57=1,種目情報!$J$5,種目情報!$J$7)))","v":""},{"$f":"IF(E57=\"\",\"\",IF(②選手情報入力!T66=\"\",\"\",IF(I57=1,IF(②選手情報入力!$U$6=\"\",\"\",②選手情報入力!$U$6),IF(②選手情報入力!$U$7=\"\",\"\",②選手情報入力!$U$7))))","v":""},{"$f":"IF(E57=\"\",\"\",IF(②選手情報入力!T66=\"\",\"\",IF(I57=1,IF(②選手情報入力!$T$6=\"\",0,1),IF(②選手情報入力!$T$7=\"\",0,1))))","v":""},{"$f":"IF(E57=\"\",\"\",IF(②選手情報入力!T66=\"\",\"\",2))","v":""}]
[{"$f":"IF(E58=\"\",\"\",data_kyogisha!I58&①団体情報入力!C$4+②選手情報入力!C67+10000000)","v":""},{"$f":"IF(E58=\"\",\"\",①団体情報入力!$C$4)","v":""},null,{"$f":"IF(E58=\"\",\"\",②選手情報入力!B$11)","v":""},{"$f":"IF(②選手情報入力!C67=\"\",\"\",②選手情報入力!C67)","v":""},{"$f":"IF(E58=\"\",\"\",②選手情報入力!D67)","v":""},{"$f":"IF(E58=\"\",\"\",ASC(②選手情報入力!E67&\" \"&②選手情報入力!F67))","v":""},"",{"$f":"IF(E58=\"\",\"\",IF(②選手情報入力!G67=\"男\",1,2))","v":""},{"$f":"IF(E58=\"\",\"\",IF(②選手情報入力!H67=\"\",\"\",②選手情報入力!H67))","v":""},null,null,"",null,{"$f":"IF(E58=\"\",\"\",IF(②選手情報入力!J67=\"\",\"\",IF(I58=1,VLOOKUP(②選手情報入力!J67,種目情報!$A$4:$B$39,2,FALSE),VLOOKUP(②選手情報入力!J67,種目情報!$E$4:$F$29,2,FALSE))))","v":""},{"$f":"IF(E58=\"\",\"\",IF(②選手情報入力!K67=\"\",\"\",②選手情報入力!K67))","v":""},{"$f":"IF(E58=\"\",\"\",IF(②選手情報入力!I67=\"\",\"\",1))","v":""},{"$f":"IF(E58=\"\",\"\",IF(②選手情報入力!J67=\"\",\"\",IF(I58=1,VLOOKUP(②選手情報入力!J67,種目情報!$A$4:$C$29,3,FALSE),VLOOKUP(②選手情報入力!J67,種目情報!$E$4:$G$32,3,FALSE))))","v":""},{"$f":"IF(E58=\"\",\"\",IF(②選手情報入力!M67=\"\",\"\",IF(I58=1,VLOOKUP(②選手情報入力!M67,種目情報!$A$4:$B$29,2,FALSE),VLOOKUP(②選手情報入力!M67,種目情報!$E$4:$F$32,2,FALSE))))","v":""},{"$f":"IF(E58=\"\",\"\",IF(②選手情報入力!N67=\"\",\"\",②選手情報入力!N67))","v":""},{"$f":"IF(E58=\"\",\"\",IF(②選手情報入力!L67=\"\",\"\",1))","v":""},{"$f":"IF(E58=\"\",\"\",IF(②選手情報入力!M67=\"\",\"\",IF(I58=1,VLOOKUP(②選手情報入力!M67,種目情報!$A$4:$C$29,3,FALSE),VLOOKUP(②選手情報入力!M67,種目情報!$E$4:$G$32,3,FALSE))))","v":""},{"$f":"IF(E58=\"\",\"\",IF(②選手情報入力!P67=\"\",\"\",IF(I58=1,VLOOKUP(②選手情報入力!P67,種目情報!$A$4:$B$29,2,FALSE),VLOOKUP(②選手情報入力!P67,種目情報!$E$4:$F$32,2,FALSE))))","v":""},{"$f":"IF(E58=\"\",\"\",IF(②選手情報入力!Q67=\"\",\"\",②選手情報入力!Q67))","v":""},{"$f":"IF(E58=\"\",\"\",IF(②選手情報入力!O67=\"\",\"\",1))","v":""},{"$f":"IF(E58=\"\",\"\",IF(②選手情報入力!P67=\"\",\"\",IF(I58=1,VLOOKUP(②選手情報入力!P67,種目情報!$A$4:$C$29,3,FALSE),VLOOKUP(②選手情報入力!P67,種目情報!$E$4:$G$32,3,FALSE))))","v":""},{"$f":"IF(E58=\"\",\"\",IF(②選手情報入力!R67=\"\",\"\",IF(I58=1,種目情報!$J$4,種目情報!$J$6)))","v":""},{"$f":"IF(E58=\"\",\"\",IF(②選手情報入力!R67=\"\",\"\",IF(I58=1,IF(②選手情報入力!$S$6=\"\",\"\",②選手情報入力!$S$6),IF(②選手情報入力!$S$7=\"\",\"\",②選手情報入力!$S$7))))","v":""},{"$f":"IF(E58=\"\",\"\",IF(②選手情報入力!R67=\"\",\"\",IF(I58=1,IF(②選手情報入力!$R$6=\"\",0,1),IF(②選手情報入力!$R$7=\"\",0,1))))","v":""},{"$f":"IF(E58=\"\",\"\",IF(②選手情報入力!R67=\"\",\"\",2))","v":""},{"$f":"IF(E58=\"\",\"\",IF(②選手情報入力!T67=\"\",\"\",IF(I58=1,種目情報!$J$5,種目情報!$J$7)))","v":""},{"$f":"IF(E58=\"\",\"\",IF(②選手情報入力!T67=\"\",\"\",IF(I58=1,IF(②選手情報入力!$U$6=\"\",\"\",②選手情報入力!$U$6),IF(②選手情報入力!$U$7=\"\",\"\",②選手情報入力!$U$7))))","v":""},{"$f":"IF(E58=\"\",\"\",IF(②選手情報入力!T67=\"\",\"\",IF(I58=1,IF(②選手情報入力!$T$6=\"\",0,1),IF(②選手情報入力!$T$7=\"\",0,1))))","v":""},{"$f":"IF(E58=\"\",\"\",IF(②選手情報入力!T67=\"\",\"\",2))","v":""}]
[{"$f":"IF(E59=\"\",\"\",data_kyogisha!I59&①団体情報入力!C$4+②選手情報入力!C68+10000000)","v":""},{"$f":"IF(E59=\"\",\"\",①団体情報入力!$C$4)","v":""},null,{"$f":"IF(E59=\"\",\"\",②選手情報入力!B$11)","v":""},{"$f":"IF(②選手情報入力!C68=\"\",\"\",②選手情報入力!C68)","v":""},{"$f":"IF(E59=\"\",\"\",②選手情報入力!D68)","v":""},{"$f":"IF(E59=\"\",\"\",ASC(②選手情報入力!E68&\" \"&②選手情報入力!F68))","v":""},"",{"$f":"IF(E59=\"\",\"\",IF(②選手情報入力!G68=\"男\",1,2))","v":""},{"$f":"IF(E59=\"\",\"\",IF(②選手情報入力!H68=\"\",\"\",②選手情報入力!H68))","v":""},null,null,"",null,{"$f":"IF(E59=\"\",\"\",IF(②選手情報入力!J68=\"\",\"\",IF(I59=1,VLOOKUP(②選手情報入力!J68,種目情報!$A$4:$B$39,2,FALSE),VLOOKUP(②選手情報入力!J68,種目情報!$E$4:$F$29,2,FALSE))))","v":""},{"$f":"IF(E59=\"\",\"\",IF(②選手情報入力!K68=\"\",\"\",②選手情報入力!K68))","v":""},{"$f":"IF(E59=\"\",\"\",IF(②選手情報入力!I68=\"\",\"\",1))","v":""},{"$f":"IF(E59=\"\",\"\",IF(②選手情報入力!J68=\"\",\"\",IF(I59=1,VLOOKUP(②選手情報入力!J68,種目情報!$A$4:$C$29,3,FALSE),VLOOKUP(②選手情報入力!J68,種目情報!$E$4:$G$32,3,FALSE))))","v":""},{"$f":"IF(E59=\"\",\"\",IF(②選手情報入力!M68=\"\",\"\",IF(I59=1,VLOOKUP(②選手情報入力!M68,種目情報!$A$4:$B$29,2,FALSE),VLOOKUP(②選手情報入力!M68,種目情報!$E$4:$F$32,2,FALSE))))","v":""},{"$f":"IF(E59=\"\",\"\",IF(②選手情報入力!N68=\"\",\"\",②選手情報入力!N68))","v":""},{"$f":"IF(E59=\"\",\"\",IF(②選手情報入力!L68=\"\",\"\",1))","v":""},{"$f":"IF(E59=\"\",\"\",IF(②選手情報入力!M68=\"\",\"\",IF(I59=1,VLOOKUP(②選手情報入力!M68,種目情報!$A$4:$C$29,3,FALSE),VLOOKUP(②選手情報入力!M68,種目情報!$E$4:$G$32,3,FALSE))))","v":""},{"$f":"IF(E59=\"\",\"\",IF(②選手情報入力!P68=\"\",\"\",IF(I59=1,VLOOKUP(②選手情報入力!P68,種目情報!$A$4:$B$29,2,FALSE),VLOOKUP(②選手情報入力!P68,種目情報!$E$4:$F$32,2,FALSE))))","v":""},{"$f":"IF(E59=\"\",\"\",IF(②選手情報入力!Q68=\"\",\"\",②選手情報入力!Q68))","v":""},{"$f":"IF(E59=\"\",\"\",IF(②選手情報入力!O68=\"\",\"\",1))","v":""},{"$f":"IF(E59=\"\",\"\",IF(②選手情報入力!P68=\"\",\"\",IF(I59=1,VLOOKUP(②選手情報入力!P68,種目情報!$A$4:$C$29,3,FALSE),VLOOKUP(②選手情報入力!P68,種目情報!$E$4:$G$32,3,FALSE))))","v":""},{"$f":"IF(E59=\"\",\"\",IF(②選手情報入力!R68=\"\",\"\",IF(I59=1,種目情報!$J$4,種目情報!$J$6)))","v":""},{"$f":"IF(E59=\"\",\"\",IF(②選手情報入力!R68=\"\",\"\",IF(I59=1,IF(②選手情報入力!$S$6=\"\",\"\",②選手情報入力!$S$6),IF(②選手情報入力!$S$7=\"\",\"\",②選手情報入力!$S$7))))","v":""},{"$f":"IF(E59=\"\",\"\",IF(②選手情報入力!R68=\"\",\"\",IF(I59=1,IF(②選手情報入力!$R$6=\"\",0,1),IF(②選手情報入力!$R$7=\"\",0,1))))","v":""},{"$f":"IF(E59=\"\",\"\",IF(②選手情報入力!R68=\"\",\"\",2))","v":""},{"$f":"IF(E59=\"\",\"\",IF(②選手情報入力!T68=\"\",\"\",IF(I59=1,種目情報!$J$5,種目情報!$J$7)))","v":""},{"$f":"IF(E59=\"\",\"\",IF(②選手情報入力!T68=\"\",\"\",IF(I59=1,IF(②選手情報入力!$U$6=\"\",\"\",②選手情報入力!$U$6),IF(②選手情報入力!$U$7=\"\",\"\",②選手情報入力!$U$7))))","v":""},{"$f":"IF(E59=\"\",\"\",IF(②選手情報入力!T68=\"\",\"\",IF(I59=1,IF(②選手情報入力!$T$6=\"\",0,1),IF(②選手情報入力!$T$7=\"\",0,1))))","v":""},{"$f":"IF(E59=\"\",\"\",IF(②選手情報入力!T68=\"\",\"\",2))","v":""}]
[{"$f":"IF(E60=\"\",\"\",data_kyogisha!I60&①団体情報入力!C$4+②選手情報入力!C69+10000000)","v":""},{"$f":"IF(E60=\"\",\"\",①団体情報入力!$C$4)","v":""},null,{"$f":"IF(E60=\"\",\"\",②選手情報入力!B$11)","v":""},{"$f":"IF(②選手情報入力!C69=\"\",\"\",②選手情報入力!C69)","v":""},{"$f":"IF(E60=\"\",\"\",②選手情報入力!D69)","v":""},{"$f":"IF(E60=\"\",\"\",ASC(②選手情報入力!E69&\" \"&②選手情報入力!F69))","v":""},"",{"$f":"IF(E60=\"\",\"\",IF(②選手情報入力!G69=\"男\",1,2))","v":""},{"$f":"IF(E60=\"\",\"\",IF(②選手情報入力!H69=\"\",\"\",②選手情報入力!H69))","v":""},null,null,"",null,{"$f":"IF(E60=\"\",\"\",IF(②選手情報入力!J69=\"\",\"\",IF(I60=1,VLOOKUP(②選手情報入力!J69,種目情報!$A$4:$B$39,2,FALSE),VLOOKUP(②選手情報入力!J69,種目情報!$E$4:$F$29,2,FALSE))))","v":""},{"$f":"IF(E60=\"\",\"\",IF(②選手情報入力!K69=\"\",\"\",②選手情報入力!K69))","v":""},{"$f":"IF(E60=\"\",\"\",IF(②選手情報入力!I69=\"\",\"\",1))","v":""},{"$f":"IF(E60=\"\",\"\",IF(②選手情報入力!J69=\"\",\"\",IF(I60=1,VLOOKUP(②選手情報入力!J69,種目情報!$A$4:$C$29,3,FALSE),VLOOKUP(②選手情報入力!J69,種目情報!$E$4:$G$32,3,FALSE))))","v":""},{"$f":"IF(E60=\"\",\"\",IF(②選手情報入力!M69=\"\",\"\",IF(I60=1,VLOOKUP(②選手情報入力!M69,種目情報!$A$4:$B$29,2,FALSE),VLOOKUP(②選手情報入力!M69,種目情報!$E$4:$F$32,2,FALSE))))","v":""},{"$f":"IF(E60=\"\",\"\",IF(②選手情報入力!N69=\"\",\"\",②選手情報入力!N69))","v":""},{"$f":"IF(E60=\"\",\"\",IF(②選手情報入力!L69=\"\",\"\",1))","v":""},{"$f":"IF(E60=\"\",\"\",IF(②選手情報入力!M69=\"\",\"\",IF(I60=1,VLOOKUP(②選手情報入力!M69,種目情報!$A$4:$C$29,3,FALSE),VLOOKUP(②選手情報入力!M69,種目情報!$E$4:$G$32,3,FALSE))))","v":""},{"$f":"IF(E60=\"\",\"\",IF(②選手情報入力!P69=\"\",\"\",IF(I60=1,VLOOKUP(②選手情報入力!P69,種目情報!$A$4:$B$29,2,FALSE),VLOOKUP(②選手情報入力!P69,種目情報!$E$4:$F$32,2,FALSE))))","v":""},{"$f":"IF(E60=\"\",\"\",IF(②選手情報入力!Q69=\"\",\"\",②選手情報入力!Q69))","v":""},{"$f":"IF(E60=\"\",\"\",IF(②選手情報入力!O69=\"\",\"\",1))","v":""},{"$f":"IF(E60=\"\",\"\",IF(②選手情報入力!P69=\"\",\"\",IF(I60=1,VLOOKUP(②選手情報入力!P69,種目情報!$A$4:$C$29,3,FALSE),VLOOKUP(②選手情報入力!P69,種目情報!$E$4:$G$32,3,FALSE))))","v":""},{"$f":"IF(E60=\"\",\"\",IF(②選手情報入力!R69=\"\",\"\",IF(I60=1,種目情報!$J$4,種目情報!$J$6)))","v":""},{"$f":"IF(E60=\"\",\"\",IF(②選手情報入力!R69=\"\",\"\",IF(I60=1,IF(②選手情報入力!$S$6=\"\",\"\",②選手情報入力!$S$6),IF(②選手情報入力!$S$7=\"\",\"\",②選手情報入力!$S$7))))","v":""},{"$f":"IF(E60=\"\",\"\",IF(②選手情報入力!R69=\"\",\"\",IF(I60=1,IF(②選手情報入力!$R$6=\"\",0,1),IF(②選手情報入力!$R$7=\"\",0,1))))","v":""},{"$f":"IF(E60=\"\",\"\",IF(②選手情報入力!R69=\"\",\"\",2))","v":""},{"$f":"IF(E60=\"\",\"\",IF(②選手情報入力!T69=\"\",\"\",IF(I60=1,種目情報!$J$5,種目情報!$J$7)))","v":""},{"$f":"IF(E60=\"\",\"\",IF(②選手情報入力!T69=\"\",\"\",IF(I60=1,IF(②選手情報入力!$U$6=\"\",\"\",②選手情報入力!$U$6),IF(②選手情報入力!$U$7=\"\",\"\",②選手情報入力!$U$7))))","v":""},{"$f":"IF(E60=\"\",\"\",IF(②選手情報入力!T69=\"\",\"\",IF(I60=1,IF(②選手情報入力!$T$6=\"\",0,1),IF(②選手情報入力!$T$7=\"\",0,1))))","v":""},{"$f":"IF(E60=\"\",\"\",IF(②選手情報入力!T69=\"\",\"\",2))","v":""}]
[{"$f":"IF(E61=\"\",\"\",data_kyogisha!I61&①団体情報入力!C$4+②選手情報入力!C70+10000000)","v":""},{"$f":"IF(E61=\"\",\"\",①団体情報入力!$C$4)","v":""},null,{"$f":"IF(E61=\"\",\"\",②選手情報入力!B$11)","v":""},{"$f":"IF(②選手情報入力!C70=\"\",\"\",②選手情報入力!C70)","v":""},{"$f":"IF(E61=\"\",\"\",②選手情報入力!D70)","v":""},{"$f":"IF(E61=\"\",\"\",ASC(②選手情報入力!E70&\" \"&②選手情報入力!F70))","v":""},"",{"$f":"IF(E61=\"\",\"\",IF(②選手情報入力!G70=\"男\",1,2))","v":""},{"$f":"IF(E61=\"\",\"\",IF(②選手情報入力!H70=\"\",\"\",②選手情報入力!H70))","v":""},null,null,"",null,{"$f":"IF(E61=\"\",\"\",IF(②選手情報入力!J70=\"\",\"\",IF(I61=1,VLOOKUP(②選手情報入力!J70,種目情報!$A$4:$B$39,2,FALSE),VLOOKUP(②選手情報入力!J70,種目情報!$E$4:$F$29,2,FALSE))))","v":""},{"$f":"IF(E61=\"\",\"\",IF(②選手情報入力!K70=\"\",\"\",②選手情報入力!K70))","v":""},{"$f":"IF(E61=\"\",\"\",IF(②選手情報入力!I70=\"\",\"\",1))","v":""},{"$f":"IF(E61=\"\",\"\",IF(②選手情報入力!J70=\"\",\"\",IF(I61=1,VLOOKUP(②選手情報入力!J70,種目情報!$A$4:$C$29,3,FALSE),VLOOKUP(②選手情報入力!J70,種目情報!$E$4:$G$32,3,FALSE))))","v":""},{"$f":"IF(E61=\"\",\"\",IF(②選手情報入力!M70=\"\",\"\",IF(I61=1,VLOOKUP(②選手情報入力!M70,種目情報!$A$4:$B$29,2,FALSE),VLOOKUP(②選手情報入力!M70,種目情報!$E$4:$F$32,2,FALSE))))","v":""},{"$f":"IF(E61=\"\",\"\",IF(②選手情報入力!N70=\"\",\"\",②選手情報入力!N70))","v":""},{"$f":"IF(E61=\"\",\"\",IF(②選手情報入力!L70=\"\",\"\",1))","v":""},{"$f":"IF(E61=\"\",\"\",IF(②選手情報入力!M70=\"\",\"\",IF(I61=1,VLOOKUP(②選手情報入力!M70,種目情報!$A$4:$C$29,3,FALSE),VLOOKUP(②選手情報入力!M70,種目情報!$E$4:$G$32,3,FALSE))))","v":""},{"$f":"IF(E61=\"\",\"\",IF(②選手情報入力!P70=\"\",\"\",IF(I61=1,VLOOKUP(②選手情報入力!P70,種目情報!$A$4:$B$29,2,FALSE),VLOOKUP(②選手情報入力!P70,種目情報!$E$4:$F$32,2,FALSE))))","v":""},{"$f":"IF(E61=\"\",\"\",IF(②選手情報入力!Q70=\"\",\"\",②選手情報入力!Q70))","v":""},{"$f":"IF(E61=\"\",\"\",IF(②選手情報入力!O70=\"\",\"\",1))","v":""},{"$f":"IF(E61=\"\",\"\",IF(②選手情報入力!P70=\"\",\"\",IF(I61=1,VLOOKUP(②選手情報入力!P70,種目情報!$A$4:$C$29,3,FALSE),VLOOKUP(②選手情報入力!P70,種目情報!$E$4:$G$32,3,FALSE))))","v":""},{"$f":"IF(E61=\"\",\"\",IF(②選手情報入力!R70=\"\",\"\",IF(I61=1,種目情報!$J$4,種目情報!$J$6)))","v":""},{"$f":"IF(E61=\"\",\"\",IF(②選手情報入力!R70=\"\",\"\",IF(I61=1,IF(②選手情報入力!$S$6=\"\",\"\",②選手情報入力!$S$6),IF(②選手情報入力!$S$7=\"\",\"\",②選手情報入力!$S$7))))","v":""},{"$f":"IF(E61=\"\",\"\",IF(②選手情報入力!R70=\"\",\"\",IF(I61=1,IF(②選手情報入力!$R$6=\"\",0,1),IF(②選手情報入力!$R$7=\"\",0,1))))","v":""},{"$f":"IF(E61=\"\",\"\",IF(②選手情報入力!R70=\"\",\"\",2))","v":""},{"$f":"IF(E61=\"\",\"\",IF(②選手情報入力!T70=\"\",\"\",IF(I61=1,種目情報!$J$5,種目情報!$J$7)))","v":""},{"$f":"IF(E61=\"\",\"\",IF(②選手情報入力!T70=\"\",\"\",IF(I61=1,IF(②選手情報入力!$U$6=\"\",\"\",②選手情報入力!$U$6),IF(②選手情報入力!$U$7=\"\",\"\",②選手情報入力!$U$7))))","v":""},{"$f":"IF(E61=\"\",\"\",IF(②選手情報入力!T70=\"\",\"\",IF(I61=1,IF(②選手情報入力!$T$6=\"\",0,1),IF(②選手情報入力!$T$7=\"\",0,1))))","v":""},{"$f":"IF(E61=\"\",\"\",IF(②選手情報入力!T70=\"\",\"\",2))","v":""}]
[{"$f":"IF(E62=\"\",\"\",data_kyogisha!I62&①団体情報入力!C$4+②選手情報入力!C71+10000000)","v":""},{"$f":"IF(E62=\"\",\"\",①団体情報入力!$C$4)","v":""},null,{"$f":"IF(E62=\"\",\"\",②選手情報入力!B$11)","v":""},{"$f":"IF(②選手情報入力!C71=\"\",\"\",②選手情報入力!C71)","v":""},{"$f":"IF(E62=\"\",\"\",②選手情報入力!D71)","v":""},{"$f":"IF(E62=\"\",\"\",ASC(②選手情報入力!E71&\" \"&②選手情報入力!F71))","v":""},"",{"$f":"IF(E62=\"\",\"\",IF(②選手情報入力!G71=\"男\",1,2))","v":""},{"$f":"IF(E62=\"\",\"\",IF(②選手情報入力!H71=\"\",\"\",②選手情報入力!H71))","v":""},null,null,"",null,{"$f":"IF(E62=\"\",\"\",IF(②選手情報入力!J71=\"\",\"\",IF(I62=1,VLOOKUP(②選手情報入力!J71,種目情報!$A$4:$B$39,2,FALSE),VLOOKUP(②選手情報入力!J71,種目情報!$E$4:$F$29,2,FALSE))))","v":""},{"$f":"IF(E62=\"\",\"\",IF(②選手情報入力!K71=\"\",\"\",②選手情報入力!K71))","v":""},{"$f":"IF(E62=\"\",\"\",IF(②選手情報入力!I71=\"\",\"\",1))","v":""},{"$f":"IF(E62=\"\",\"\",IF(②選手情報入力!J71=\"\",\"\",IF(I62=1,VLOOKUP(②選手情報入力!J71,種目情報!$A$4:$C$29,3,FALSE),VLOOKUP(②選手情報入力!J71,種目情報!$E$4:$G$32,3,FALSE))))","v":""},{"$f":"IF(E62=\"\",\"\",IF(②選手情報入力!M71=\"\",\"\",IF(I62=1,VLOOKUP(②選手情報入力!M71,種目情報!$A$4:$B$29,2,FALSE),VLOOKUP(②選手情報入力!M71,種目情報!$E$4:$F$32,2,FALSE))))","v":""},{"$f":"IF(E62=\"\",\"\",IF(②選手情報入力!N71=\"\",\"\",②選手情報入力!N71))","v":""},{"$f":"IF(E62=\"\",\"\",IF(②選手情報入力!L71=\"\",\"\",1))","v":""},{"$f":"IF(E62=\"\",\"\",IF(②選手情報入力!M71=\"\",\"\",IF(I62=1,VLOOKUP(②選手情報入力!M71,種目情報!$A$4:$C$29,3,FALSE),VLOOKUP(②選手情報入力!M71,種目情報!$E$4:$G$32,3,FALSE))))","v":""},{"$f":"IF(E62=\"\",\"\",IF(②選手情報入力!P71=\"\",\"\",IF(I62=1,VLOOKUP(②選手情報入力!P71,種目情報!$A$4:$B$29,2,FALSE),VLOOKUP(②選手情報入力!P71,種目情報!$E$4:$F$32,2,FALSE))))","v":""},{"$f":"IF(E62=\"\",\"\",IF(②選手情報入力!Q71=\"\",\"\",②選手情報入力!Q71))","v":""},{"$f":"IF(E62=\"\",\"\",IF(②選手情報入力!O71=\"\",\"\",1))","v":""},{"$f":"IF(E62=\"\",\"\",IF(②選手情報入力!P71=\"\",\"\",IF(I62=1,VLOOKUP(②選手情報入力!P71,種目情報!$A$4:$C$29,3,FALSE),VLOOKUP(②選手情報入力!P71,種目情報!$E$4:$G$32,3,FALSE))))","v":""},{"$f":"IF(E62=\"\",\"\",IF(②選手情報入力!R71=\"\",\"\",IF(I62=1,種目情報!$J$4,種目情報!$J$6)))","v":""},{"$f":"IF(E62=\"\",\"\",IF(②選手情報入力!R71=\"\",\"\",IF(I62=1,IF(②選手情報入力!$S$6=\"\",\"\",②選手情報入力!$S$6),IF(②選手情報入力!$S$7=\"\",\"\",②選手情報入力!$S$7))))","v":""},{"$f":"IF(E62=\"\",\"\",IF(②選手情報入力!R71=\"\",\"\",IF(I62=1,IF(②選手情報入力!$R$6=\"\",0,1),IF(②選手情報入力!$R$7=\"\",0,1))))","v":""},{"$f":"IF(E62=\"\",\"\",IF(②選手情報入力!R71=\"\",\"\",2))","v":""},{"$f":"IF(E62=\"\",\"\",IF(②選手情報入力!T71=\"\",\"\",IF(I62=1,種目情報!$J$5,種目情報!$J$7)))","v":""},{"$f":"IF(E62=\"\",\"\",IF(②選手情報入力!T71=\"\",\"\",IF(I62=1,IF(②選手情報入力!$U$6=\"\",\"\",②選手情報入力!$U$6),IF(②選手情報入力!$U$7=\"\",\"\",②選手情報入力!$U$7))))","v":""},{"$f":"IF(E62=\"\",\"\",IF(②選手情報入力!T71=\"\",\"\",IF(I62=1,IF(②選手情報入力!$T$6=\"\",0,1),IF(②選手情報入力!$T$7=\"\",0,1))))","v":""},{"$f":"IF(E62=\"\",\"\",IF(②選手情報入力!T71=\"\",\"\",2))","v":""}]
[{"$f":"IF(E63=\"\",\"\",data_kyogisha!I63&①団体情報入力!C$4+②選手情報入力!C72+10000000)","v":""},{"$f":"IF(E63=\"\",\"\",①団体情報入力!$C$4)","v":""},null,{"$f":"IF(E63=\"\",\"\",②選手情報入力!B$11)","v":""},{"$f":"IF(②選手情報入力!C72=\"\",\"\",②選手情報入力!C72)","v":""},{"$f":"IF(E63=\"\",\"\",②選手情報入力!D72)","v":""},{"$f":"IF(E63=\"\",\"\",ASC(②選手情報入力!E72&\" \"&②選手情報入力!F72))","v":""},"",{"$f":"IF(E63=\"\",\"\",IF(②選手情報入力!G72=\"男\",1,2))","v":""},{"$f":"IF(E63=\"\",\"\",IF(②選手情報入力!H72=\"\",\"\",②選手情報入力!H72))","v":""},null,null,"",null,{"$f":"IF(E63=\"\",\"\",IF(②選手情報入力!J72=\"\",\"\",IF(I63=1,VLOOKUP(②選手情報入力!J72,種目情報!$A$4:$B$39,2,FALSE),VLOOKUP(②選手情報入力!J72,種目情報!$E$4:$F$29,2,FALSE))))","v":""},{"$f":"IF(E63=\"\",\"\",IF(②選手情報入力!K72=\"\",\"\",②選手情報入力!K72))","v":""},{"$f":"IF(E63=\"\",\"\",IF(②選手情報入力!I72=\"\",\"\",1))","v":""},{"$f":"IF(E63=\"\",\"\",IF(②選手情報入力!J72=\"\",\"\",IF(I63=1,VLOOKUP(②選手情報入力!J72,種目情報!$A$4:$C$29,3,FALSE),VLOOKUP(②選手情報入力!J72,種目情報!$E$4:$G$32,3,FALSE))))","v":""},{"$f":"IF(E63=\"\",\"\",IF(②選手情報入力!M72=\"\",\"\",IF(I63=1,VLOOKUP(②選手情報入力!M72,種目情報!$A$4:$B$29,2,FALSE),VLOOKUP(②選手情報入力!M72,種目情報!$E$4:$F$32,2,FALSE))))","v":""},{"$f":"IF(E63=\"\",\"\",IF(②選手情報入力!N72=\"\",\"\",②選手情報入力!N72))","v":""},{"$f":"IF(E63=\"\",\"\",IF(②選手情報入力!L72=\"\",\"\",1))","v":""},{"$f":"IF(E63=\"\",\"\",IF(②選手情報入力!M72=\"\",\"\",IF(I63=1,VLOOKUP(②選手情報入力!M72,種目情報!$A$4:$C$29,3,FALSE),VLOOKUP(②選手情報入力!M72,種目情報!$E$4:$G$32,3,FALSE))))","v":""},{"$f":"IF(E63=\"\",\"\",IF(②選手情報入力!P72=\"\",\"\",IF(I63=1,VLOOKUP(②選手情報入力!P72,種目情報!$A$4:$B$29,2,FALSE),VLOOKUP(②選手情報入力!P72,種目情報!$E$4:$F$32,2,FALSE))))","v":""},{"$f":"IF(E63=\"\",\"\",IF(②選手情報入力!Q72=\"\",\"\",②選手情報入力!Q72))","v":""},{"$f":"IF(E63=\"\",\"\",IF(②選手情報入力!O72=\"\",\"\",1))","v":""},{"$f":"IF(E63=\"\",\"\",IF(②選手情報入力!P72=\"\",\"\",IF(I63=1,VLOOKUP(②選手情報入力!P72,種目情報!$A$4:$C$29,3,FALSE),VLOOKUP(②選手情報入力!P72,種目情報!$E$4:$G$32,3,FALSE))))","v":""},{"$f":"IF(E63=\"\",\"\",IF(②選手情報入力!R72=\"\",\"\",IF(I63=1,種目情報!$J$4,種目情報!$J$6)))","v":""},{"$f":"IF(E63=\"\",\"\",IF(②選手情報入力!R72=\"\",\"\",IF(I63=1,IF(②選手情報入力!$S$6=\"\",\"\",②選手情報入力!$S$6),IF(②選手情報入力!$S$7=\"\",\"\",②選手情報入力!$S$7))))","v":""},{"$f":"IF(E63=\"\",\"\",IF(②選手情報入力!R72=\"\",\"\",IF(I63=1,IF(②選手情報入力!$R$6=\"\",0,1),IF(②選手情報入力!$R$7=\"\",0,1))))","v":""},{"$f":"IF(E63=\"\",\"\",IF(②選手情報入力!R72=\"\",\"\",2))","v":""},{"$f":"IF(E63=\"\",\"\",IF(②選手情報入力!T72=\"\",\"\",IF(I63=1,種目情報!$J$5,種目情報!$J$7)))","v":""},{"$f":"IF(E63=\"\",\"\",IF(②選手情報入力!T72=\"\",\"\",IF(I63=1,IF(②選手情報入力!$U$6=\"\",\"\",②選手情報入力!$U$6),IF(②選手情報入力!$U$7=\"\",\"\",②選手情報入力!$U$7))))","v":""},{"$f":"IF(E63=\"\",\"\",IF(②選手情報入力!T72=\"\",\"\",IF(I63=1,IF(②選手情報入力!$T$6=\"\",0,1),IF(②選手情報入力!$T$7=\"\",0,1))))","v":""},{"$f":"IF(E63=\"\",\"\",IF(②選手情報入力!T72=\"\",\"\",2))","v":""}]
[{"$f":"IF(E64=\"\",\"\",data_kyogisha!I64&①団体情報入力!C$4+②選手情報入力!C73+10000000)","v":""},{"$f":"IF(E64=\"\",\"\",①団体情報入力!$C$4)","v":""},null,{"$f":"IF(E64=\"\",\"\",②選手情報入力!B$11)","v":""},{"$f":"IF(②選手情報入力!C73=\"\",\"\",②選手情報入力!C73)","v":""},{"$f":"IF(E64=\"\",\"\",②選手情報入力!D73)","v":""},{"$f":"IF(E64=\"\",\"\",ASC(②選手情報入力!E73&\" \"&②選手情報入力!F73))","v":""},"",{"$f":"IF(E64=\"\",\"\",IF(②選手情報入力!G73=\"男\",1,2))","v":""},{"$f":"IF(E64=\"\",\"\",IF(②選手情報入力!H73=\"\",\"\",②選手情報入力!H73))","v":""},null,null,"",null,{"$f":"IF(E64=\"\",\"\",IF(②選手情報入力!J73=\"\",\"\",IF(I64=1,VLOOKUP(②選手情報入力!J73,種目情報!$A$4:$B$39,2,FALSE),VLOOKUP(②選手情報入力!J73,種目情報!$E$4:$F$29,2,FALSE))))","v":""},{"$f":"IF(E64=\"\",\"\",IF(②選手情報入力!K73=\"\",\"\",②選手情報入力!K73))","v":""},{"$f":"IF(E64=\"\",\"\",IF(②選手情報入力!I73=\"\",\"\",1))","v":""},{"$f":"IF(E64=\"\",\"\",IF(②選手情報入力!J73=\"\",\"\",IF(I64=1,VLOOKUP(②選手情報入力!J73,種目情報!$A$4:$C$29,3,FALSE),VLOOKUP(②選手情報入力!J73,種目情報!$E$4:$G$32,3,FALSE))))","v":""},{"$f":"IF(E64=\"\",\"\",IF(②選手情報入力!M73=\"\",\"\",IF(I64=1,VLOOKUP(②選手情報入力!M73,種目情報!$A$4:$B$29,2,FALSE),VLOOKUP(②選手情報入力!M73,種目情報!$E$4:$F$32,2,FALSE))))","v":""},{"$f":"IF(E64=\"\",\"\",IF(②選手情報入力!N73=\"\",\"\",②選手情報入力!N73))","v":""},{"$f":"IF(E64=\"\",\"\",IF(②選手情報入力!L73=\"\",\"\",1))","v":""},{"$f":"IF(E64=\"\",\"\",IF(②選手情報入力!M73=\"\",\"\",IF(I64=1,VLOOKUP(②選手情報入力!M73,種目情報!$A$4:$C$29,3,FALSE),VLOOKUP(②選手情報入力!M73,種目情報!$E$4:$G$32,3,FALSE))))","v":""},{"$f":"IF(E64=\"\",\"\",IF(②選手情報入力!P73=\"\",\"\",IF(I64=1,VLOOKUP(②選手情報入力!P73,種目情報!$A$4:$B$29,2,FALSE),VLOOKUP(②選手情報入力!P73,種目情報!$E$4:$F$32,2,FALSE))))","v":""},{"$f":"IF(E64=\"\",\"\",IF(②選手情報入力!Q73=\"\",\"\",②選手情報入力!Q73))","v":""},{"$f":"IF(E64=\"\",\"\",IF(②選手情報入力!O73=\"\",\"\",1))","v":""},{"$f":"IF(E64=\"\",\"\",IF(②選手情報入力!P73=\"\",\"\",IF(I64=1,VLOOKUP(②選手情報入力!P73,種目情報!$A$4:$C$29,3,FALSE),VLOOKUP(②選手情報入力!P73,種目情報!$E$4:$G$32,3,FALSE))))","v":""},{"$f":"IF(E64=\"\",\"\",IF(②選手情報入力!R73=\"\",\"\",IF(I64=1,種目情報!$J$4,種目情報!$J$6)))","v":""},{"$f":"IF(E64=\"\",\"\",IF(②選手情報入力!R73=\"\",\"\",IF(I64=1,IF(②選手情報入力!$S$6=\"\",\"\",②選手情報入力!$S$6),IF(②選手情報入力!$S$7=\"\",\"\",②選手情報入力!$S$7))))","v":""},{"$f":"IF(E64=\"\",\"\",IF(②選手情報入力!R73=\"\",\"\",IF(I64=1,IF(②選手情報入力!$R$6=\"\",0,1),IF(②選手情報入力!$R$7=\"\",0,1))))","v":""},{"$f":"IF(E64=\"\",\"\",IF(②選手情報入力!R73=\"\",\"\",2))","v":""},{"$f":"IF(E64=\"\",\"\",IF(②選手情報入力!T73=\"\",\"\",IF(I64=1,種目情報!$J$5,種目情報!$J$7)))","v":""},{"$f":"IF(E64=\"\",\"\",IF(②選手情報入力!T73=\"\",\"\",IF(I64=1,IF(②選手情報入力!$U$6=\"\",\"\",②選手情報入力!$U$6),IF(②選手情報入力!$U$7=\"\",\"\",②選手情報入力!$U$7))))","v":""},{"$f":"IF(E64=\"\",\"\",IF(②選手情報入力!T73=\"\",\"\",IF(I64=1,IF(②選手情報入力!$T$6=\"\",0,1),IF(②選手情報入力!$T$7=\"\",0,1))))","v":""},{"$f":"IF(E64=\"\",\"\",IF(②選手情報入力!T73=\"\",\"\",2))","v":""}]
[{"$f":"IF(E65=\"\",\"\",data_kyogisha!I65&①団体情報入力!C$4+②選手情報入力!C74+10000000)","v":""},{"$f":"IF(E65=\"\",\"\",①団体情報入力!$C$4)","v":""},null,{"$f":"IF(E65=\"\",\"\",②選手情報入力!B$11)","v":""},{"$f":"IF(②選手情報入力!C74=\"\",\"\",②選手情報入力!C74)","v":""},{"$f":"IF(E65=\"\",\"\",②選手情報入力!D74)","v":""},{"$f":"IF(E65=\"\",\"\",ASC(②選手情報入力!E74&\" \"&②選手情報入力!F74))","v":""},"",{"$f":"IF(E65=\"\",\"\",IF(②選手情報入力!G74=\"男\",1,2))","v":""},{"$f":"IF(E65=\"\",\"\",IF(②選手情報入力!H74=\"\",\"\",②選手情報入力!H74))","v":""},null,null,"",null,{"$f":"IF(E65=\"\",\"\",IF(②選手情報入力!J74=\"\",\"\",IF(I65=1,VLOOKUP(②選手情報入力!J74,種目情報!$A$4:$B$39,2,FALSE),VLOOKUP(②選手情報入力!J74,種目情報!$E$4:$F$29,2,FALSE))))","v":""},{"$f":"IF(E65=\"\",\"\",IF(②選手情報入力!K74=\"\",\"\",②選手情報入力!K74))","v":""},{"$f":"IF(E65=\"\",\"\",IF(②選手情報入力!I74=\"\",\"\",1))","v":""},{"$f":"IF(E65=\"\",\"\",IF(②選手情報入力!J74=\"\",\"\",IF(I65=1,VLOOKUP(②選手情報入力!J74,種目情報!$A$4:$C$29,3,FALSE),VLOOKUP(②選手情報入力!J74,種目情報!$E$4:$G$32,3,FALSE))))","v":""},{"$f":"IF(E65=\"\",\"\",IF(②選手情報入力!M74=\"\",\"\",IF(I65=1,VLOOKUP(②選手情報入力!M74,種目情報!$A$4:$B$29,2,FALSE),VLOOKUP(②選手情報入力!M74,種目情報!$E$4:$F$32,2,FALSE))))","v":""},{"$f":"IF(E65=\"\",\"\",IF(②選手情報入力!N74=\"\",\"\",②選手情報入力!N74))","v":""},{"$f":"IF(E65=\"\",\"\",IF(②選手情報入力!L74=\"\",\"\",1))","v":""},{"$f":"IF(E65=\"\",\"\",IF(②選手情報入力!M74=\"\",\"\",IF(I65=1,VLOOKUP(②選手情報入力!M74,種目情報!$A$4:$C$29,3,FALSE),VLOOKUP(②選手情報入力!M74,種目情報!$E$4:$G$32,3,FALSE))))","v":""},{"$f":"IF(E65=\"\",\"\",IF(②選手情報入力!P74=\"\",\"\",IF(I65=1,VLOOKUP(②選手情報入力!P74,種目情報!$A$4:$B$29,2,FALSE),VLOOKUP(②選手情報入力!P74,種目情報!$E$4:$F$32,2,FALSE))))","v":""},{"$f":"IF(E65=\"\",\"\",IF(②選手情報入力!Q74=\"\",\"\",②選手情報入力!Q74))","v":""},{"$f":"IF(E65=\"\",\"\",IF(②選手情報入力!O74=\"\",\"\",1))","v":""},{"$f":"IF(E65=\"\",\"\",IF(②選手情報入力!P74=\"\",\"\",IF(I65=1,VLOOKUP(②選手情報入力!P74,種目情報!$A$4:$C$29,3,FALSE),VLOOKUP(②選手情報入力!P74,種目情報!$E$4:$G$32,3,FALSE))))","v":""},{"$f":"IF(E65=\"\",\"\",IF(②選手情報入力!R74=\"\",\"\",IF(I65=1,種目情報!$J$4,種目情報!$J$6)))","v":""},{"$f":"IF(E65=\"\",\"\",IF(②選手情報入力!R74=\"\",\"\",IF(I65=1,IF(②選手情報入力!$S$6=\"\",\"\",②選手情報入力!$S$6),IF(②選手情報入力!$S$7=\"\",\"\",②選手情報入力!$S$7))))","v":""},{"$f":"IF(E65=\"\",\"\",IF(②選手情報入力!R74=\"\",\"\",IF(I65=1,IF(②選手情報入力!$R$6=\"\",0,1),IF(②選手情報入力!$R$7=\"\",0,1))))","v":""},{"$f":"IF(E65=\"\",\"\",IF(②選手情報入力!R74=\"\",\"\",2))","v":""},{"$f":"IF(E65=\"\",\"\",IF(②選手情報入力!T74=\"\",\"\",IF(I65=1,種目情報!$J$5,種目情報!$J$7)))","v":""},{"$f":"IF(E65=\"\",\"\",IF(②選手情報入力!T74=\"\",\"\",IF(I65=1,IF(②選手情報入力!$U$6=\"\",\"\",②選手情報入力!$U$6),IF(②選手情報入力!$U$7=\"\",\"\",②選手情報入力!$U$7))))","v":""},{"$f":"IF(E65=\"\",\"\",IF(②選手情報入力!T74=\"\",\"\",IF(I65=1,IF(②選手情報入力!$T$6=\"\",0,1),IF(②選手情報入力!$T$7=\"\",0,1))))","v":""},{"$f":"IF(E65=\"\",\"\",IF(②選手情報入力!T74=\"\",\"\",2))","v":""}]
[{"$f":"IF(E66=\"\",\"\",data_kyogisha!I66&①団体情報入力!C$4+②選手情報入力!C75+10000000)","v":""},{"$f":"IF(E66=\"\",\"\",①団体情報入力!$C$4)","v":""},null,{"$f":"IF(E66=\"\",\"\",②選手情報入力!B$11)","v":""},{"$f":"IF(②選手情報入力!C75=\"\",\"\",②選手情報入力!C75)","v":""},{"$f":"IF(E66=\"\",\"\",②選手情報入力!D75)","v":""},{"$f":"IF(E66=\"\",\"\",ASC(②選手情報入力!E75&\" \"&②選手情報入力!F75))","v":""},"",{"$f":"IF(E66=\"\",\"\",IF(②選手情報入力!G75=\"男\",1,2))","v":""},{"$f":"IF(E66=\"\",\"\",IF(②選手情報入力!H75=\"\",\"\",②選手情報入力!H75))","v":""},null,null,"",null,{"$f":"IF(E66=\"\",\"\",IF(②選手情報入力!J75=\"\",\"\",IF(I66=1,VLOOKUP(②選手情報入力!J75,種目情報!$A$4:$B$39,2,FALSE),VLOOKUP(②選手情報入力!J75,種目情報!$E$4:$F$29,2,FALSE))))","v":""},{"$f":"IF(E66=\"\",\"\",IF(②選手情報入力!K75=\"\",\"\",②選手情報入力!K75))","v":""},{"$f":"IF(E66=\"\",\"\",IF(②選手情報入力!I75=\"\",\"\",1))","v":""},{"$f":"IF(E66=\"\",\"\",IF(②選手情報入力!J75=\"\",\"\",IF(I66=1,VLOOKUP(②選手情報入力!J75,種目情報!$A$4:$C$29,3,FALSE),VLOOKUP(②選手情報入力!J75,種目情報!$E$4:$G$32,3,FALSE))))","v":""},{"$f":"IF(E66=\"\",\"\",IF(②選手情報入力!M75=\"\",\"\",IF(I66=1,VLOOKUP(②選手情報入力!M75,種目情報!$A$4:$B$29,2,FALSE),VLOOKUP(②選手情報入力!M75,種目情報!$E$4:$F$32,2,FALSE))))","v":""},{"$f":"IF(E66=\"\",\"\",IF(②選手情報入力!N75=\"\",\"\",②選手情報入力!N75))","v":""},{"$f":"IF(E66=\"\",\"\",IF(②選手情報入力!L75=\"\",\"\",1))","v":""},{"$f":"IF(E66=\"\",\"\",IF(②選手情報入力!M75=\"\",\"\",IF(I66=1,VLOOKUP(②選手情報入力!M75,種目情報!$A$4:$C$29,3,FALSE),VLOOKUP(②選手情報入力!M75,種目情報!$E$4:$G$32,3,FALSE))))","v":""},{"$f":"IF(E66=\"\",\"\",IF(②選手情報入力!P75=\"\",\"\",IF(I66=1,VLOOKUP(②選手情報入力!P75,種目情報!$A$4:$B$29,2,FALSE),VLOOKUP(②選手情報入力!P75,種目情報!$E$4:$F$32,2,FALSE))))","v":""},{"$f":"IF(E66=\"\",\"\",IF(②選手情報入力!Q75=\"\",\"\",②選手情報入力!Q75))","v":""},{"$f":"IF(E66=\"\",\"\",IF(②選手情報入力!O75=\"\",\"\",1))","v":""},{"$f":"IF(E66=\"\",\"\",IF(②選手情報入力!P75=\"\",\"\",IF(I66=1,VLOOKUP(②選手情報入力!P75,種目情報!$A$4:$C$29,3,FALSE),VLOOKUP(②選手情報入力!P75,種目情報!$E$4:$G$32,3,FALSE))))","v":""},{"$f":"IF(E66=\"\",\"\",IF(②選手情報入力!R75=\"\",\"\",IF(I66=1,種目情報!$J$4,種目情報!$J$6)))","v":""},{"$f":"IF(E66=\"\",\"\",IF(②選手情報入力!R75=\"\",\"\",IF(I66=1,IF(②選手情報入力!$S$6=\"\",\"\",②選手情報入力!$S$6),IF(②選手情報入力!$S$7=\"\",\"\",②選手情報入力!$S$7))))","v":""},{"$f":"IF(E66=\"\",\"\",IF(②選手情報入力!R75=\"\",\"\",IF(I66=1,IF(②選手情報入力!$R$6=\"\",0,1),IF(②選手情報入力!$R$7=\"\",0,1))))","v":""},{"$f":"IF(E66=\"\",\"\",IF(②選手情報入力!R75=\"\",\"\",2))","v":""},{"$f":"IF(E66=\"\",\"\",IF(②選手情報入力!T75=\"\",\"\",IF(I66=1,種目情報!$J$5,種目情報!$J$7)))","v":""},{"$f":"IF(E66=\"\",\"\",IF(②選手情報入力!T75=\"\",\"\",IF(I66=1,IF(②選手情報入力!$U$6=\"\",\"\",②選手情報入力!$U$6),IF(②選手情報入力!$U$7=\"\",\"\",②選手情報入力!$U$7))))","v":""},{"$f":"IF(E66=\"\",\"\",IF(②選手情報入力!T75=\"\",\"\",IF(I66=1,IF(②選手情報入力!$T$6=\"\",0,1),IF(②選手情報入力!$T$7=\"\",0,1))))","v":""},{"$f":"IF(E66=\"\",\"\",IF(②選手情報入力!T75=\"\",\"\",2))","v":""}]
[{"$f":"IF(E67=\"\",\"\",data_kyogisha!I67&①団体情報入力!C$4+②選手情報入力!C76+10000000)","v":""},{"$f":"IF(E67=\"\",\"\",①団体情報入力!$C$4)","v":""},null,{"$f":"IF(E67=\"\",\"\",②選手情報入力!B$11)","v":""},{"$f":"IF(②選手情報入力!C76=\"\",\"\",②選手情報入力!C76)","v":""},{"$f":"IF(E67=\"\",\"\",②選手情報入力!D76)","v":""},{"$f":"IF(E67=\"\",\"\",ASC(②選手情報入力!E76&\" \"&②選手情報入力!F76))","v":""},{"$f":"IF(E67=\"\",\"\",F67)","v":""},{"$f":"IF(E67=\"\",\"\",IF(②選手情報入力!G76=\"男\",1,2))","v":""},{"$f":"IF(E67=\"\",\"\",IF(②選手情報入力!H76=\"\",\"\",②選手情報入力!H76))","v":""},null,null,{"$f":"IF(E67=\"\",\"\",\"愛知\")","v":""},null,{"$f":"IF(E67=\"\",\"\",IF(②選手情報入力!J76=\"\",\"\",IF(I67=1,VLOOKUP(②選手情報入力!J76,種目情報!$A$4:$B$39,2,FALSE),VLOOKUP(②選手情報入力!J76,種目情報!$E$4:$F$29,2,FALSE))))","v":""},{"$f":"IF(E67=\"\",\"\",IF(②選手情報入力!K76=\"\",\"\",②選手情報入力!K76))","v":""},{"$f":"IF(E67=\"\",\"\",IF(②選手情報入力!I76=\"\",\"\",1))","v":""},{"$f":"IF(E67=\"\",\"\",IF(②選手情報入力!J76=\"\",\"\",IF(I67=1,VLOOKUP(②選手情報入力!J76,種目情報!$A$4:$C$29,3,FALSE),VLOOKUP(②選手情報入力!J76,種目情報!$E$4:$G$32,3,FALSE))))","v":""},{"$f":"IF(E67=\"\",\"\",IF(②選手情報入力!M76=\"\",\"\",IF(I67=1,VLOOKUP(②選手情報入力!M76,種目情報!$A$4:$B$29,2,FALSE),VLOOKUP(②選手情報入力!M76,種目情報!$E$4:$F$32,2,FALSE))))","v":""},{"$f":"IF(E67=\"\",\"\",IF(②選手情報入力!N76=\"\",\"\",②選手情報入力!N76))","v":""},{"$f":"IF(E67=\"\",\"\",IF(②選手情報入力!L76=\"\",\"\",1))","v":""},{"$f":"IF(E67=\"\",\"\",IF(②選手情報入力!M76=\"\",\"\",IF(I67=1,VLOOKUP(②選手情報入力!M76,種目情報!$A$4:$C$29,3,FALSE),VLOOKUP(②選手情報入力!M76,種目情報!$E$4:$G$32,3,FALSE))))","v":""},{"$f":"IF(E67=\"\",\"\",IF(②選手情報入力!P76=\"\",\"\",IF(I67=1,VLOOKUP(②選手情報入力!P76,種目情報!$A$4:$B$29,2,FALSE),VLOOKUP(②選手情報入力!P76,種目情報!$E$4:$F$32,2,FALSE))))","v":""},{"$f":"IF(E67=\"\",\"\",IF(②選手情報入力!Q76=\"\",\"\",②選手情報入力!Q76))","v":""},{"$f":"IF(E67=\"\",\"\",IF(②選手情報入力!O76=\"\",\"\",1))","v":""},{"$f":"IF(E67=\"\",\"\",IF(②選手情報入力!P76=\"\",\"\",IF(I67=1,VLOOKUP(②選手情報入力!P76,種目情報!$A$4:$C$29,3,FALSE),VLOOKUP(②選手情報入力!P76,種目情報!$E$4:$G$32,3,FALSE))))","v":""},{"$f":"IF(E67=\"\",\"\",IF(②選手情報入力!R76=\"\",\"\",IF(I67=1,種目情報!$J$4,種目情報!$J$6)))","v":""},{"$f":"IF(E67=\"\",\"\",IF(②選手情報入力!R76=\"\",\"\",IF(I67=1,IF(②選手情報入力!$S$6=\"\",\"\",②選手情報入力!$S$6),IF(②選手情報入力!$S$7=\"\",\"\",②選手情報入力!$S$7))))","v":""},{"$f":"IF(E67=\"\",\"\",IF(②選手情報入力!R76=\"\",\"\",IF(I67=1,IF(②選手情報入力!$R$6=\"\",0,1),IF(②選手情報入力!$R$7=\"\",0,1))))","v":""},{"$f":"IF(E67=\"\",\"\",IF(②選手情報入力!R76=\"\",\"\",2))","v":""},{"$f":"IF(E67=\"\",\"\",IF(②選手情報入力!T76=\"\",\"\",IF(I67=1,種目情報!$J$5,種目情報!$J$7)))","v":""},{"$f":"IF(E67=\"\",\"\",IF(②選手情報入力!T76=\"\",\"\",IF(I67=1,IF(②選手情報入力!$U$6=\"\",\"\",②選手情報入力!$U$6),IF(②選手情報入力!$U$7=\"\",\"\",②選手情報入力!$U$7))))","v":""},{"$f":"IF(E67=\"\",\"\",IF(②選手情報入力!T76=\"\",\"\",IF(I67=1,IF(②選手情報入力!$T$6=\"\",0,1),IF(②選手情報入力!$T$7=\"\",0,1))))","v":""},{"$f":"IF(E67=\"\",\"\",IF(②選手情報入力!T76=\"\",\"\",2))","v":""}]
[{"$f":"IF(E68=\"\",\"\",data_kyogisha!I68&①団体情報入力!C$4+②選手情報入力!C77+10000000)","v":""},{"$f":"IF(E68=\"\",\"\",①団体情報入力!$C$4)","v":""},null,{"$f":"IF(E68=\"\",\"\",②選手情報入力!B$11)","v":""},{"$f":"IF(②選手情報入力!C77=\"\",\"\",②選手情報入力!C77)","v":""},{"$f":"IF(E68=\"\",\"\",②選手情報入力!D77)","v":""},{"$f":"IF(E68=\"\",\"\",ASC(②選手情報入力!E77&\" \"&②選手情報入力!F77))","v":""},"",{"$f":"IF(E68=\"\",\"\",IF(②選手情報入力!G77=\"男\",1,2))","v":""},{"$f":"IF(E68=\"\",\"\",IF(②選手情報入力!H77=\"\",\"\",②選手情報入力!H77))","v":""},null,null,"",null,{"$f":"IF(E68=\"\",\"\",IF(②選手情報入力!J77=\"\",\"\",IF(I68=1,VLOOKUP(②選手情報入力!J77,種目情報!$A$4:$B$39,2,FALSE),VLOOKUP(②選手情報入力!J77,種目情報!$E$4:$F$29,2,FALSE))))","v":""},{"$f":"IF(E68=\"\",\"\",IF(②選手情報入力!K77=\"\",\"\",②選手情報入力!K77))","v":""},{"$f":"IF(E68=\"\",\"\",IF(②選手情報入力!I77=\"\",\"\",1))","v":""},{"$f":"IF(E68=\"\",\"\",IF(②選手情報入力!J77=\"\",\"\",IF(I68=1,VLOOKUP(②選手情報入力!J77,種目情報!$A$4:$C$29,3,FALSE),VLOOKUP(②選手情報入力!J77,種目情報!$E$4:$G$32,3,FALSE))))","v":""},{"$f":"IF(E68=\"\",\"\",IF(②選手情報入力!M77=\"\",\"\",IF(I68=1,VLOOKUP(②選手情報入力!M77,種目情報!$A$4:$B$29,2,FALSE),VLOOKUP(②選手情報入力!M77,種目情報!$E$4:$F$32,2,FALSE))))","v":""},{"$f":"IF(E68=\"\",\"\",IF(②選手情報入力!N77=\"\",\"\",②選手情報入力!N77))","v":""},{"$f":"IF(E68=\"\",\"\",IF(②選手情報入力!L77=\"\",\"\",1))","v":""},{"$f":"IF(E68=\"\",\"\",IF(②選手情報入力!M77=\"\",\"\",IF(I68=1,VLOOKUP(②選手情報入力!M77,種目情報!$A$4:$C$29,3,FALSE),VLOOKUP(②選手情報入力!M77,種目情報!$E$4:$G$32,3,FALSE))))","v":""},{"$f":"IF(E68=\"\",\"\",IF(②選手情報入力!P77=\"\",\"\",IF(I68=1,VLOOKUP(②選手情報入力!P77,種目情報!$A$4:$B$29,2,FALSE),VLOOKUP(②選手情報入力!P77,種目情報!$E$4:$F$32,2,FALSE))))","v":""},{"$f":"IF(E68=\"\",\"\",IF(②選手情報入力!Q77=\"\",\"\",②選手情報入力!Q77))","v":""},{"$f":"IF(E68=\"\",\"\",IF(②選手情報入力!O77=\"\",\"\",1))","v":""},{"$f":"IF(E68=\"\",\"\",IF(②選手情報入力!P77=\"\",\"\",IF(I68=1,VLOOKUP(②選手情報入力!P77,種目情報!$A$4:$C$29,3,FALSE),VLOOKUP(②選手情報入力!P77,種目情報!$E$4:$G$32,3,FALSE))))","v":""},{"$f":"IF(E68=\"\",\"\",IF(②選手情報入力!R77=\"\",\"\",IF(I68=1,種目情報!$J$4,種目情報!$J$6)))","v":""},{"$f":"IF(E68=\"\",\"\",IF(②選手情報入力!R77=\"\",\"\",IF(I68=1,IF(②選手情報入力!$S$6=\"\",\"\",②選手情報入力!$S$6),IF(②選手情報入力!$S$7=\"\",\"\",②選手情報入力!$S$7))))","v":""},{"$f":"IF(E68=\"\",\"\",IF(②選手情報入力!R77=\"\",\"\",IF(I68=1,IF(②選手情報入力!$R$6=\"\",0,1),IF(②選手情報入力!$R$7=\"\",0,1))))","v":""},{"$f":"IF(E68=\"\",\"\",IF(②選手情報入力!R77=\"\",\"\",2))","v":""},{"$f":"IF(E68=\"\",\"\",IF(②選手情報入力!T77=\"\",\"\",IF(I68=1,種目情報!$J$5,種目情報!$J$7)))","v":""},{"$f":"IF(E68=\"\",\"\",IF(②選手情報入力!T77=\"\",\"\",IF(I68=1,IF(②選手情報入力!$U$6=\"\",\"\",②選手情報入力!$U$6),IF(②選手情報入力!$U$7=\"\",\"\",②選手情報入力!$U$7))))","v":""},{"$f":"IF(E68=\"\",\"\",IF(②選手情報入力!T77=\"\",\"\",IF(I68=1,IF(②選手情報入力!$T$6=\"\",0,1),IF(②選手情報入力!$T$7=\"\",0,1))))","v":""},{"$f":"IF(E68=\"\",\"\",IF(②選手情報入力!T77=\"\",\"\",2))","v":""}]
[{"$f":"IF(E69=\"\",\"\",data_kyogisha!I69&①団体情報入力!C$4+②選手情報入力!C78+10000000)","v":""},{"$f":"IF(E69=\"\",\"\",①団体情報入力!$C$4)","v":""},null,{"$f":"IF(E69=\"\",\"\",②選手情報入力!B$11)","v":""},{"$f":"IF(②選手情報入力!C78=\"\",\"\",②選手情報入力!C78)","v":""},{"$f":"IF(E69=\"\",\"\",②選手情報入力!D78)","v":""},{"$f":"IF(E69=\"\",\"\",ASC(②選手情報入力!E78&\" \"&②選手情報入力!F78))","v":""},"",{"$f":"IF(E69=\"\",\"\",IF(②選手情報入力!G78=\"男\",1,2))","v":""},{"$f":"IF(E69=\"\",\"\",IF(②選手情報入力!H78=\"\",\"\",②選手情報入力!H78))","v":""},null,null,"",null,{"$f":"IF(E69=\"\",\"\",IF(②選手情報入力!J78=\"\",\"\",IF(I69=1,VLOOKUP(②選手情報入力!J78,種目情報!$A$4:$B$39,2,FALSE),VLOOKUP(②選手情報入力!J78,種目情報!$E$4:$F$29,2,FALSE))))","v":""},{"$f":"IF(E69=\"\",\"\",IF(②選手情報入力!K78=\"\",\"\",②選手情報入力!K78))","v":""},{"$f":"IF(E69=\"\",\"\",IF(②選手情報入力!I78=\"\",\"\",1))","v":""},{"$f":"IF(E69=\"\",\"\",IF(②選手情報入力!J78=\"\",\"\",IF(I69=1,VLOOKUP(②選手情報入力!J78,種目情報!$A$4:$C$29,3,FALSE),VLOOKUP(②選手情報入力!J78,種目情報!$E$4:$G$32,3,FALSE))))","v":""},{"$f":"IF(E69=\"\",\"\",IF(②選手情報入力!M78=\"\",\"\",IF(I69=1,VLOOKUP(②選手情報入力!M78,種目情報!$A$4:$B$29,2,FALSE),VLOOKUP(②選手情報入力!M78,種目情報!$E$4:$F$32,2,FALSE))))","v":""},{"$f":"IF(E69=\"\",\"\",IF(②選手情報入力!N78=\"\",\"\",②選手情報入力!N78))","v":""},{"$f":"IF(E69=\"\",\"\",IF(②選手情報入力!L78=\"\",\"\",1))","v":""},{"$f":"IF(E69=\"\",\"\",IF(②選手情報入力!M78=\"\",\"\",IF(I69=1,VLOOKUP(②選手情報入力!M78,種目情報!$A$4:$C$29,3,FALSE),VLOOKUP(②選手情報入力!M78,種目情報!$E$4:$G$32,3,FALSE))))","v":""},{"$f":"IF(E69=\"\",\"\",IF(②選手情報入力!P78=\"\",\"\",IF(I69=1,VLOOKUP(②選手情報入力!P78,種目情報!$A$4:$B$29,2,FALSE),VLOOKUP(②選手情報入力!P78,種目情報!$E$4:$F$32,2,FALSE))))","v":""},{"$f":"IF(E69=\"\",\"\",IF(②選手情報入力!Q78=\"\",\"\",②選手情報入力!Q78))","v":""},{"$f":"IF(E69=\"\",\"\",IF(②選手情報入力!O78=\"\",\"\",1))","v":""},{"$f":"IF(E69=\"\",\"\",IF(②選手情報入力!P78=\"\",\"\",IF(I69=1,VLOOKUP(②選手情報入力!P78,種目情報!$A$4:$C$29,3,FALSE),VLOOKUP(②選手情報入力!P78,種目情報!$E$4:$G$32,3,FALSE))))","v":""},{"$f":"IF(E69=\"\",\"\",IF(②選手情報入力!R78=\"\",\"\",IF(I69=1,種目情報!$J$4,種目情報!$J$6)))","v":""},{"$f":"IF(E69=\"\",\"\",IF(②選手情報入力!R78=\"\",\"\",IF(I69=1,IF(②選手情報入力!$S$6=\"\",\"\",②選手情報入力!$S$6),IF(②選手情報入力!$S$7=\"\",\"\",②選手情報入力!$S$7))))","v":""},{"$f":"IF(E69=\"\",\"\",IF(②選手情報入力!R78=\"\",\"\",IF(I69=1,IF(②選手情報入力!$R$6=\"\",0,1),IF(②選手情報入力!$R$7=\"\",0,1))))","v":""},{"$f":"IF(E69=\"\",\"\",IF(②選手情報入力!R78=\"\",\"\",2))","v":""},{"$f":"IF(E69=\"\",\"\",IF(②選手情報入力!T78=\"\",\"\",IF(I69=1,種目情報!$J$5,種目情報!$J$7)))","v":""},{"$f":"IF(E69=\"\",\"\",IF(②選手情報入力!T78=\"\",\"\",IF(I69=1,IF(②選手情報入力!$U$6=\"\",\"\",②選手情報入力!$U$6),IF(②選手情報入力!$U$7=\"\",\"\",②選手情報入力!$U$7))))","v":""},{"$f":"IF(E69=\"\",\"\",IF(②選手情報入力!T78=\"\",\"\",IF(I69=1,IF(②選手情報入力!$T$6=\"\",0,1),IF(②選手情報入力!$T$7=\"\",0,1))))","v":""},{"$f":"IF(E69=\"\",\"\",IF(②選手情報入力!T78=\"\",\"\",2))","v":""}]
[{"$f":"IF(E70=\"\",\"\",data_kyogisha!I70&①団体情報入力!C$4+②選手情報入力!C79+10000000)","v":""},{"$f":"IF(E70=\"\",\"\",①団体情報入力!$C$4)","v":""},null,{"$f":"IF(E70=\"\",\"\",②選手情報入力!B$11)","v":""},{"$f":"IF(②選手情報入力!C79=\"\",\"\",②選手情報入力!C79)","v":""},{"$f":"IF(E70=\"\",\"\",②選手情報入力!D79)","v":""},{"$f":"IF(E70=\"\",\"\",ASC(②選手情報入力!E79&\" \"&②選手情報入力!F79))","v":""},"",{"$f":"IF(E70=\"\",\"\",IF(②選手情報入力!G79=\"男\",1,2))","v":""},{"$f":"IF(E70=\"\",\"\",IF(②選手情報入力!H79=\"\",\"\",②選手情報入力!H79))","v":""},null,null,"",null,{"$f":"IF(E70=\"\",\"\",IF(②選手情報入力!J79=\"\",\"\",IF(I70=1,VLOOKUP(②選手情報入力!J79,種目情報!$A$4:$B$39,2,FALSE),VLOOKUP(②選手情報入力!J79,種目情報!$E$4:$F$29,2,FALSE))))","v":""},{"$f":"IF(E70=\"\",\"\",IF(②選手情報入力!K79=\"\",\"\",②選手情報入力!K79))","v":""},{"$f":"IF(E70=\"\",\"\",IF(②選手情報入力!I79=\"\",\"\",1))","v":""},{"$f":"IF(E70=\"\",\"\",IF(②選手情報入力!J79=\"\",\"\",IF(I70=1,VLOOKUP(②選手情報入力!J79,種目情報!$A$4:$C$29,3,FALSE),VLOOKUP(②選手情報入力!J79,種目情報!$E$4:$G$32,3,FALSE))))","v":""},{"$f":"IF(E70=\"\",\"\",IF(②選手情報入力!M79=\"\",\"\",IF(I70=1,VLOOKUP(②選手情報入力!M79,種目情報!$A$4:$B$29,2,FALSE),VLOOKUP(②選手情報入力!M79,種目情報!$E$4:$F$32,2,FALSE))))","v":""},{"$f":"IF(E70=\"\",\"\",IF(②選手情報入力!N79=\"\",\"\",②選手情報入力!N79))","v":""},{"$f":"IF(E70=\"\",\"\",IF(②選手情報入力!L79=\"\",\"\",1))","v":""},{"$f":"IF(E70=\"\",\"\",IF(②選手情報入力!M79=\"\",\"\",IF(I70=1,VLOOKUP(②選手情報入力!M79,種目情報!$A$4:$C$29,3,FALSE),VLOOKUP(②選手情報入力!M79,種目情報!$E$4:$G$32,3,FALSE))))","v":""},{"$f":"IF(E70=\"\",\"\",IF(②選手情報入力!P79=\"\",\"\",IF(I70=1,VLOOKUP(②選手情報入力!P79,種目情報!$A$4:$B$29,2,FALSE),VLOOKUP(②選手情報入力!P79,種目情報!$E$4:$F$32,2,FALSE))))","v":""},{"$f":"IF(E70=\"\",\"\",IF(②選手情報入力!Q79=\"\",\"\",②選手情報入力!Q79))","v":""},{"$f":"IF(E70=\"\",\"\",IF(②選手情報入力!O79=\"\",\"\",1))","v":""},{"$f":"IF(E70=\"\",\"\",IF(②選手情報入力!P79=\"\",\"\",IF(I70=1,VLOOKUP(②選手情報入力!P79,種目情報!$A$4:$C$29,3,FALSE),VLOOKUP(②選手情報入力!P79,種目情報!$E$4:$G$32,3,FALSE))))","v":""},{"$f":"IF(E70=\"\",\"\",IF(②選手情報入力!R79=\"\",\"\",IF(I70=1,種目情報!$J$4,種目情報!$J$6)))","v":""},{"$f":"IF(E70=\"\",\"\",IF(②選手情報入力!R79=\"\",\"\",IF(I70=1,IF(②選手情報入力!$S$6=\"\",\"\",②選手情報入力!$S$6),IF(②選手情報入力!$S$7=\"\",\"\",②選手情報入力!$S$7))))","v":""},{"$f":"IF(E70=\"\",\"\",IF(②選手情報入力!R79=\"\",\"\",IF(I70=1,IF(②選手情報入力!$R$6=\"\",0,1),IF(②選手情報入力!$R$7=\"\",0,1))))","v":""},{"$f":"IF(E70=\"\",\"\",IF(②選手情報入力!R79=\"\",\"\",2))","v":""},{"$f":"IF(E70=\"\",\"\",IF(②選手情報入力!T79=\"\",\"\",IF(I70=1,種目情報!$J$5,種目情報!$J$7)))","v":""},{"$f":"IF(E70=\"\",\"\",IF(②選手情報入力!T79=\"\",\"\",IF(I70=1,IF(②選手情報入力!$U$6=\"\",\"\",②選手情報入力!$U$6),IF(②選手情報入力!$U$7=\"\",\"\",②選手情報入力!$U$7))))","v":""},{"$f":"IF(E70=\"\",\"\",IF(②選手情報入力!T79=\"\",\"\",IF(I70=1,IF(②選手情報入力!$T$6=\"\",0,1),IF(②選手情報入力!$T$7=\"\",0,1))))","v":""},{"$f":"IF(E70=\"\",\"\",IF(②選手情報入力!T79=\"\",\"\",2))","v":""}]
[{"$f":"IF(E71=\"\",\"\",data_kyogisha!I71&①団体情報入力!C$4+②選手情報入力!C80+10000000)","v":""},{"$f":"IF(E71=\"\",\"\",①団体情報入力!$C$4)","v":""},null,{"$f":"IF(E71=\"\",\"\",②選手情報入力!B$11)","v":""},{"$f":"IF(②選手情報入力!C80=\"\",\"\",②選手情報入力!C80)","v":""},{"$f":"IF(E71=\"\",\"\",②選手情報入力!D80)","v":""},{"$f":"IF(E71=\"\",\"\",ASC(②選手情報入力!E80&\" \"&②選手情報入力!F80))","v":""},"",{"$f":"IF(E71=\"\",\"\",IF(②選手情報入力!G80=\"男\",1,2))","v":""},{"$f":"IF(E71=\"\",\"\",IF(②選手情報入力!H80=\"\",\"\",②選手情報入力!H80))","v":""},null,null,"",null,{"$f":"IF(E71=\"\",\"\",IF(②選手情報入力!J80=\"\",\"\",IF(I71=1,VLOOKUP(②選手情報入力!J80,種目情報!$A$4:$B$39,2,FALSE),VLOOKUP(②選手情報入力!J80,種目情報!$E$4:$F$29,2,FALSE))))","v":""},{"$f":"IF(E71=\"\",\"\",IF(②選手情報入力!K80=\"\",\"\",②選手情報入力!K80))","v":""},{"$f":"IF(E71=\"\",\"\",IF(②選手情報入力!I80=\"\",\"\",1))","v":""},{"$f":"IF(E71=\"\",\"\",IF(②選手情報入力!J80=\"\",\"\",IF(I71=1,VLOOKUP(②選手情報入力!J80,種目情報!$A$4:$C$29,3,FALSE),VLOOKUP(②選手情報入力!J80,種目情報!$E$4:$G$32,3,FALSE))))","v":""},{"$f":"IF(E71=\"\",\"\",IF(②選手情報入力!M80=\"\",\"\",IF(I71=1,VLOOKUP(②選手情報入力!M80,種目情報!$A$4:$B$29,2,FALSE),VLOOKUP(②選手情報入力!M80,種目情報!$E$4:$F$32,2,FALSE))))","v":""},{"$f":"IF(E71=\"\",\"\",IF(②選手情報入力!N80=\"\",\"\",②選手情報入力!N80))","v":""},{"$f":"IF(E71=\"\",\"\",IF(②選手情報入力!L80=\"\",\"\",1))","v":""},{"$f":"IF(E71=\"\",\"\",IF(②選手情報入力!M80=\"\",\"\",IF(I71=1,VLOOKUP(②選手情報入力!M80,種目情報!$A$4:$C$29,3,FALSE),VLOOKUP(②選手情報入力!M80,種目情報!$E$4:$G$32,3,FALSE))))","v":""},{"$f":"IF(E71=\"\",\"\",IF(②選手情報入力!P80=\"\",\"\",IF(I71=1,VLOOKUP(②選手情報入力!P80,種目情報!$A$4:$B$29,2,FALSE),VLOOKUP(②選手情報入力!P80,種目情報!$E$4:$F$32,2,FALSE))))","v":""},{"$f":"IF(E71=\"\",\"\",IF(②選手情報入力!Q80=\"\",\"\",②選手情報入力!Q80))","v":""},{"$f":"IF(E71=\"\",\"\",IF(②選手情報入力!O80=\"\",\"\",1))","v":""},{"$f":"IF(E71=\"\",\"\",IF(②選手情報入力!P80=\"\",\"\",IF(I71=1,VLOOKUP(②選手情報入力!P80,種目情報!$A$4:$C$29,3,FALSE),VLOOKUP(②選手情報入力!P80,種目情報!$E$4:$G$32,3,FALSE))))","v":""},{"$f":"IF(E71=\"\",\"\",IF(②選手情報入力!R80=\"\",\"\",IF(I71=1,種目情報!$J$4,種目情報!$J$6)))","v":""},{"$f":"IF(E71=\"\",\"\",IF(②選手情報入力!R80=\"\",\"\",IF(I71=1,IF(②選手情報入力!$S$6=\"\",\"\",②選手情報入力!$S$6),IF(②選手情報入力!$S$7=\"\",\"\",②選手情報入力!$S$7))))","v":""},{"$f":"IF(E71=\"\",\"\",IF(②選手情報入力!R80=\"\",\"\",IF(I71=1,IF(②選手情報入力!$R$6=\"\",0,1),IF(②選手情報入力!$R$7=\"\",0,1))))","v":""},{"$f":"IF(E71=\"\",\"\",IF(②選手情報入力!R80=\"\",\"\",2))","v":""},{"$f":"IF(E71=\"\",\"\",IF(②選手情報入力!T80=\"\",\"\",IF(I71=1,種目情報!$J$5,種目情報!$J$7)))","v":""},{"$f":"IF(E71=\"\",\"\",IF(②選手情報入力!T80=\"\",\"\",IF(I71=1,IF(②選手情報入力!$U$6=\"\",\"\",②選手情報入力!$U$6),IF(②選手情報入力!$U$7=\"\",\"\",②選手情報入力!$U$7))))","v":""},{"$f":"IF(E71=\"\",\"\",IF(②選手情報入力!T80=\"\",\"\",IF(I71=1,IF(②選手情報入力!$T$6=\"\",0,1),IF(②選手情報入力!$T$7=\"\",0,1))))","v":""},{"$f":"IF(E71=\"\",\"\",IF(②選手情報入力!T80=\"\",\"\",2))","v":""}]
[{"$f":"IF(E72=\"\",\"\",data_kyogisha!I72&①団体情報入力!C$4+②選手情報入力!C81+10000000)","v":""},{"$f":"IF(E72=\"\",\"\",①団体情報入力!$C$4)","v":""},null,{"$f":"IF(E72=\"\",\"\",②選手情報入力!B$11)","v":""},{"$f":"IF(②選手情報入力!C81=\"\",\"\",②選手情報入力!C81)","v":""},{"$f":"IF(E72=\"\",\"\",②選手情報入力!D81)","v":""},{"$f":"IF(E72=\"\",\"\",ASC(②選手情報入力!E81&\" \"&②選手情報入力!F81))","v":""},"",{"$f":"IF(E72=\"\",\"\",IF(②選手情報入力!G81=\"男\",1,2))","v":""},{"$f":"IF(E72=\"\",\"\",IF(②選手情報入力!H81=\"\",\"\",②選手情報入力!H81))","v":""},null,null,"",null,{"$f":"IF(E72=\"\",\"\",IF(②選手情報入力!J81=\"\",\"\",IF(I72=1,VLOOKUP(②選手情報入力!J81,種目情報!$A$4:$B$39,2,FALSE),VLOOKUP(②選手情報入力!J81,種目情報!$E$4:$F$29,2,FALSE))))","v":""},{"$f":"IF(E72=\"\",\"\",IF(②選手情報入力!K81=\"\",\"\",②選手情報入力!K81))","v":""},{"$f":"IF(E72=\"\",\"\",IF(②選手情報入力!I81=\"\",\"\",1))","v":""},{"$f":"IF(E72=\"\",\"\",IF(②選手情報入力!J81=\"\",\"\",IF(I72=1,VLOOKUP(②選手情報入力!J81,種目情報!$A$4:$C$29,3,FALSE),VLOOKUP(②選手情報入力!J81,種目情報!$E$4:$G$32,3,FALSE))))","v":""},{"$f":"IF(E72=\"\",\"\",IF(②選手情報入力!M81=\"\",\"\",IF(I72=1,VLOOKUP(②選手情報入力!M81,種目情報!$A$4:$B$29,2,FALSE),VLOOKUP(②選手情報入力!M81,種目情報!$E$4:$F$32,2,FALSE))))","v":""},{"$f":"IF(E72=\"\",\"\",IF(②選手情報入力!N81=\"\",\"\",②選手情報入力!N81))","v":""},{"$f":"IF(E72=\"\",\"\",IF(②選手情報入力!L81=\"\",\"\",1))","v":""},{"$f":"IF(E72=\"\",\"\",IF(②選手情報入力!M81=\"\",\"\",IF(I72=1,VLOOKUP(②選手情報入力!M81,種目情報!$A$4:$C$29,3,FALSE),VLOOKUP(②選手情報入力!M81,種目情報!$E$4:$G$32,3,FALSE))))","v":""},{"$f":"IF(E72=\"\",\"\",IF(②選手情報入力!P81=\"\",\"\",IF(I72=1,VLOOKUP(②選手情報入力!P81,種目情報!$A$4:$B$29,2,FALSE),VLOOKUP(②選手情報入力!P81,種目情報!$E$4:$F$32,2,FALSE))))","v":""},{"$f":"IF(E72=\"\",\"\",IF(②選手情報入力!Q81=\"\",\"\",②選手情報入力!Q81))","v":""},{"$f":"IF(E72=\"\",\"\",IF(②選手情報入力!O81=\"\",\"\",1))","v":""},{"$f":"IF(E72=\"\",\"\",IF(②選手情報入力!P81=\"\",\"\",IF(I72=1,VLOOKUP(②選手情報入力!P81,種目情報!$A$4:$C$29,3,FALSE),VLOOKUP(②選手情報入力!P81,種目情報!$E$4:$G$32,3,FALSE))))","v":""},{"$f":"IF(E72=\"\",\"\",IF(②選手情報入力!R81=\"\",\"\",IF(I72=1,種目情報!$J$4,種目情報!$J$6)))","v":""},{"$f":"IF(E72=\"\",\"\",IF(②選手情報入力!R81=\"\",\"\",IF(I72=1,IF(②選手情報入力!$S$6=\"\",\"\",②選手情報入力!$S$6),IF(②選手情報入力!$S$7=\"\",\"\",②選手情報入力!$S$7))))","v":""},{"$f":"IF(E72=\"\",\"\",IF(②選手情報入力!R81=\"\",\"\",IF(I72=1,IF(②選手情報入力!$R$6=\"\",0,1),IF(②選手情報入力!$R$7=\"\",0,1))))","v":""},{"$f":"IF(E72=\"\",\"\",IF(②選手情報入力!R81=\"\",\"\",2))","v":""},{"$f":"IF(E72=\"\",\"\",IF(②選手情報入力!T81=\"\",\"\",IF(I72=1,種目情報!$J$5,種目情報!$J$7)))","v":""},{"$f":"IF(E72=\"\",\"\",IF(②選手情報入力!T81=\"\",\"\",IF(I72=1,IF(②選手情報入力!$U$6=\"\",\"\",②選手情報入力!$U$6),IF(②選手情報入力!$U$7=\"\",\"\",②選手情報入力!$U$7))))","v":""},{"$f":"IF(E72=\"\",\"\",IF(②選手情報入力!T81=\"\",\"\",IF(I72=1,IF(②選手情報入力!$T$6=\"\",0,1),IF(②選手情報入力!$T$7=\"\",0,1))))","v":""},{"$f":"IF(E72=\"\",\"\",IF(②選手情報入力!T81=\"\",\"\",2))","v":""}]
[{"$f":"IF(E73=\"\",\"\",data_kyogisha!I73&①団体情報入力!C$4+②選手情報入力!C82+10000000)","v":""},{"$f":"IF(E73=\"\",\"\",①団体情報入力!$C$4)","v":""},null,{"$f":"IF(E73=\"\",\"\",②選手情報入力!B$11)","v":""},{"$f":"IF(②選手情報入力!C82=\"\",\"\",②選手情報入力!C82)","v":""},{"$f":"IF(E73=\"\",\"\",②選手情報入力!D82)","v":""},{"$f":"IF(E73=\"\",\"\",ASC(②選手情報入力!E82&\" \"&②選手情報入力!F82))","v":""},"",{"$f":"IF(E73=\"\",\"\",IF(②選手情報入力!G82=\"男\",1,2))","v":""},{"$f":"IF(E73=\"\",\"\",IF(②選手情報入力!H82=\"\",\"\",②選手情報入力!H82))","v":""},null,null,"",null,{"$f":"IF(E73=\"\",\"\",IF(②選手情報入力!J82=\"\",\"\",IF(I73=1,VLOOKUP(②選手情報入力!J82,種目情報!$A$4:$B$39,2,FALSE),VLOOKUP(②選手情報入力!J82,種目情報!$E$4:$F$29,2,FALSE))))","v":""},{"$f":"IF(E73=\"\",\"\",IF(②選手情報入力!K82=\"\",\"\",②選手情報入力!K82))","v":""},{"$f":"IF(E73=\"\",\"\",IF(②選手情報入力!I82=\"\",\"\",1))","v":""},{"$f":"IF(E73=\"\",\"\",IF(②選手情報入力!J82=\"\",\"\",IF(I73=1,VLOOKUP(②選手情報入力!J82,種目情報!$A$4:$C$29,3,FALSE),VLOOKUP(②選手情報入力!J82,種目情報!$E$4:$G$32,3,FALSE))))","v":""},{"$f":"IF(E73=\"\",\"\",IF(②選手情報入力!M82=\"\",\"\",IF(I73=1,VLOOKUP(②選手情報入力!M82,種目情報!$A$4:$B$29,2,FALSE),VLOOKUP(②選手情報入力!M82,種目情報!$E$4:$F$32,2,FALSE))))","v":""},{"$f":"IF(E73=\"\",\"\",IF(②選手情報入力!N82=\"\",\"\",②選手情報入力!N82))","v":""},{"$f":"IF(E73=\"\",\"\",IF(②選手情報入力!L82=\"\",\"\",1))","v":""},{"$f":"IF(E73=\"\",\"\",IF(②選手情報入力!M82=\"\",\"\",IF(I73=1,VLOOKUP(②選手情報入力!M82,種目情報!$A$4:$C$29,3,FALSE),VLOOKUP(②選手情報入力!M82,種目情報!$E$4:$G$32,3,FALSE))))","v":""},{"$f":"IF(E73=\"\",\"\",IF(②選手情報入力!P82=\"\",\"\",IF(I73=1,VLOOKUP(②選手情報入力!P82,種目情報!$A$4:$B$29,2,FALSE),VLOOKUP(②選手情報入力!P82,種目情報!$E$4:$F$32,2,FALSE))))","v":""},{"$f":"IF(E73=\"\",\"\",IF(②選手情報入力!Q82=\"\",\"\",②選手情報入力!Q82))","v":""},{"$f":"IF(E73=\"\",\"\",IF(②選手情報入力!O82=\"\",\"\",1))","v":""},{"$f":"IF(E73=\"\",\"\",IF(②選手情報入力!P82=\"\",\"\",IF(I73=1,VLOOKUP(②選手情報入力!P82,種目情報!$A$4:$C$29,3,FALSE),VLOOKUP(②選手情報入力!P82,種目情報!$E$4:$G$32,3,FALSE))))","v":""},{"$f":"IF(E73=\"\",\"\",IF(②選手情報入力!R82=\"\",\"\",IF(I73=1,種目情報!$J$4,種目情報!$J$6)))","v":""},{"$f":"IF(E73=\"\",\"\",IF(②選手情報入力!R82=\"\",\"\",IF(I73=1,IF(②選手情報入力!$S$6=\"\",\"\",②選手情報入力!$S$6),IF(②選手情報入力!$S$7=\"\",\"\",②選手情報入力!$S$7))))","v":""},{"$f":"IF(E73=\"\",\"\",IF(②選手情報入力!R82=\"\",\"\",IF(I73=1,IF(②選手情報入力!$R$6=\"\",0,1),IF(②選手情報入力!$R$7=\"\",0,1))))","v":""},{"$f":"IF(E73=\"\",\"\",IF(②選手情報入力!R82=\"\",\"\",2))","v":""},{"$f":"IF(E73=\"\",\"\",IF(②選手情報入力!T82=\"\",\"\",IF(I73=1,種目情報!$J$5,種目情報!$J$7)))","v":""},{"$f":"IF(E73=\"\",\"\",IF(②選手情報入力!T82=\"\",\"\",IF(I73=1,IF(②選手情報入力!$U$6=\"\",\"\",②選手情報入力!$U$6),IF(②選手情報入力!$U$7=\"\",\"\",②選手情報入力!$U$7))))","v":""},{"$f":"IF(E73=\"\",\"\",IF(②選手情報入力!T82=\"\",\"\",IF(I73=1,IF(②選手情報入力!$T$6=\"\",0,1),IF(②選手情報入力!$T$7=\"\",0,1))))","v":""},{"$f":"IF(E73=\"\",\"\",IF(②選手情報入力!T82=\"\",\"\",2))","v":""}]
[{"$f":"IF(E74=\"\",\"\",data_kyogisha!I74&①団体情報入力!C$4+②選手情報入力!C83+10000000)","v":""},{"$f":"IF(E74=\"\",\"\",①団体情報入力!$C$4)","v":""},null,{"$f":"IF(E74=\"\",\"\",②選手情報入力!B$11)","v":""},{"$f":"IF(②選手情報入力!C83=\"\",\"\",②選手情報入力!C83)","v":""},{"$f":"IF(E74=\"\",\"\",②選手情報入力!D83)","v":""},{"$f":"IF(E74=\"\",\"\",ASC(②選手情報入力!E83&\" \"&②選手情報入力!F83))","v":""},"",{"$f":"IF(E74=\"\",\"\",IF(②選手情報入力!G83=\"男\",1,2))","v":""},{"$f":"IF(E74=\"\",\"\",IF(②選手情報入力!H83=\"\",\"\",②選手情報入力!H83))","v":""},null,null,"",null,{"$f":"IF(E74=\"\",\"\",IF(②選手情報入力!J83=\"\",\"\",IF(I74=1,VLOOKUP(②選手情報入力!J83,種目情報!$A$4:$B$39,2,FALSE),VLOOKUP(②選手情報入力!J83,種目情報!$E$4:$F$29,2,FALSE))))","v":""},{"$f":"IF(E74=\"\",\"\",IF(②選手情報入力!K83=\"\",\"\",②選手情報入力!K83))","v":""},{"$f":"IF(E74=\"\",\"\",IF(②選手情報入力!I83=\"\",\"\",1))","v":""},{"$f":"IF(E74=\"\",\"\",IF(②選手情報入力!J83=\"\",\"\",IF(I74=1,VLOOKUP(②選手情報入力!J83,種目情報!$A$4:$C$29,3,FALSE),VLOOKUP(②選手情報入力!J83,種目情報!$E$4:$G$32,3,FALSE))))","v":""},{"$f":"IF(E74=\"\",\"\",IF(②選手情報入力!M83=\"\",\"\",IF(I74=1,VLOOKUP(②選手情報入力!M83,種目情報!$A$4:$B$29,2,FALSE),VLOOKUP(②選手情報入力!M83,種目情報!$E$4:$F$32,2,FALSE))))","v":""},{"$f":"IF(E74=\"\",\"\",IF(②選手情報入力!N83=\"\",\"\",②選手情報入力!N83))","v":""},{"$f":"IF(E74=\"\",\"\",IF(②選手情報入力!L83=\"\",\"\",1))","v":""},{"$f":"IF(E74=\"\",\"\",IF(②選手情報入力!M83=\"\",\"\",IF(I74=1,VLOOKUP(②選手情報入力!M83,種目情報!$A$4:$C$29,3,FALSE),VLOOKUP(②選手情報入力!M83,種目情報!$E$4:$G$32,3,FALSE))))","v":""},{"$f":"IF(E74=\"\",\"\",IF(②選手情報入力!P83=\"\",\"\",IF(I74=1,VLOOKUP(②選手情報入力!P83,種目情報!$A$4:$B$29,2,FALSE),VLOOKUP(②選手情報入力!P83,種目情報!$E$4:$F$32,2,FALSE))))","v":""},{"$f":"IF(E74=\"\",\"\",IF(②選手情報入力!Q83=\"\",\"\",②選手情報入力!Q83))","v":""},{"$f":"IF(E74=\"\",\"\",IF(②選手情報入力!O83=\"\",\"\",1))","v":""},{"$f":"IF(E74=\"\",\"\",IF(②選手情報入力!P83=\"\",\"\",IF(I74=1,VLOOKUP(②選手情報入力!P83,種目情報!$A$4:$C$29,3,FALSE),VLOOKUP(②選手情報入力!P83,種目情報!$E$4:$G$32,3,FALSE))))","v":""},{"$f":"IF(E74=\"\",\"\",IF(②選手情報入力!R83=\"\",\"\",IF(I74=1,種目情報!$J$4,種目情報!$J$6)))","v":""},{"$f":"IF(E74=\"\",\"\",IF(②選手情報入力!R83=\"\",\"\",IF(I74=1,IF(②選手情報入力!$S$6=\"\",\"\",②選手情報入力!$S$6),IF(②選手情報入力!$S$7=\"\",\"\",②選手情報入力!$S$7))))","v":""},{"$f":"IF(E74=\"\",\"\",IF(②選手情報入力!R83=\"\",\"\",IF(I74=1,IF(②選手情報入力!$R$6=\"\",0,1),IF(②選手情報入力!$R$7=\"\",0,1))))","v":""},{"$f":"IF(E74=\"\",\"\",IF(②選手情報入力!R83=\"\",\"\",2))","v":""},{"$f":"IF(E74=\"\",\"\",IF(②選手情報入力!T83=\"\",\"\",IF(I74=1,種目情報!$J$5,種目情報!$J$7)))","v":""},{"$f":"IF(E74=\"\",\"\",IF(②選手情報入力!T83=\"\",\"\",IF(I74=1,IF(②選手情報入力!$U$6=\"\",\"\",②選手情報入力!$U$6),IF(②選手情報入力!$U$7=\"\",\"\",②選手情報入力!$U$7))))","v":""},{"$f":"IF(E74=\"\",\"\",IF(②選手情報入力!T83=\"\",\"\",IF(I74=1,IF(②選手情報入力!$T$6=\"\",0,1),IF(②選手情報入力!$T$7=\"\",0,1))))","v":""},{"$f":"IF(E74=\"\",\"\",IF(②選手情報入力!T83=\"\",\"\",2))","v":""}]
[{"$f":"IF(E75=\"\",\"\",data_kyogisha!I75&①団体情報入力!C$4+②選手情報入力!C84+10000000)","v":""},{"$f":"IF(E75=\"\",\"\",①団体情報入力!$C$4)","v":""},null,{"$f":"IF(E75=\"\",\"\",②選手情報入力!B$11)","v":""},{"$f":"IF(②選手情報入力!C84=\"\",\"\",②選手情報入力!C84)","v":""},{"$f":"IF(E75=\"\",\"\",②選手情報入力!D84)","v":""},{"$f":"IF(E75=\"\",\"\",ASC(②選手情報入力!E84&\" \"&②選手情報入力!F84))","v":""},"",{"$f":"IF(E75=\"\",\"\",IF(②選手情報入力!G84=\"男\",1,2))","v":""},{"$f":"IF(E75=\"\",\"\",IF(②選手情報入力!H84=\"\",\"\",②選手情報入力!H84))","v":""},null,null,"",null,{"$f":"IF(E75=\"\",\"\",IF(②選手情報入力!J84=\"\",\"\",IF(I75=1,VLOOKUP(②選手情報入力!J84,種目情報!$A$4:$B$39,2,FALSE),VLOOKUP(②選手情報入力!J84,種目情報!$E$4:$F$29,2,FALSE))))","v":""},{"$f":"IF(E75=\"\",\"\",IF(②選手情報入力!K84=\"\",\"\",②選手情報入力!K84))","v":""},{"$f":"IF(E75=\"\",\"\",IF(②選手情報入力!I84=\"\",\"\",1))","v":""},{"$f":"IF(E75=\"\",\"\",IF(②選手情報入力!J84=\"\",\"\",IF(I75=1,VLOOKUP(②選手情報入力!J84,種目情報!$A$4:$C$29,3,FALSE),VLOOKUP(②選手情報入力!J84,種目情報!$E$4:$G$32,3,FALSE))))","v":""},{"$f":"IF(E75=\"\",\"\",IF(②選手情報入力!M84=\"\",\"\",IF(I75=1,VLOOKUP(②選手情報入力!M84,種目情報!$A$4:$B$29,2,FALSE),VLOOKUP(②選手情報入力!M84,種目情報!$E$4:$F$32,2,FALSE))))","v":""},{"$f":"IF(E75=\"\",\"\",IF(②選手情報入力!N84=\"\",\"\",②選手情報入力!N84))","v":""},{"$f":"IF(E75=\"\",\"\",IF(②選手情報入力!L84=\"\",\"\",1))","v":""},{"$f":"IF(E75=\"\",\"\",IF(②選手情報入力!M84=\"\",\"\",IF(I75=1,VLOOKUP(②選手情報入力!M84,種目情報!$A$4:$C$29,3,FALSE),VLOOKUP(②選手情報入力!M84,種目情報!$E$4:$G$32,3,FALSE))))","v":""},{"$f":"IF(E75=\"\",\"\",IF(②選手情報入力!P84=\"\",\"\",IF(I75=1,VLOOKUP(②選手情報入力!P84,種目情報!$A$4:$B$29,2,FALSE),VLOOKUP(②選手情報入力!P84,種目情報!$E$4:$F$32,2,FALSE))))","v":""},{"$f":"IF(E75=\"\",\"\",IF(②選手情報入力!Q84=\"\",\"\",②選手情報入力!Q84))","v":""},{"$f":"IF(E75=\"\",\"\",IF(②選手情報入力!O84=\"\",\"\",1))","v":""},{"$f":"IF(E75=\"\",\"\",IF(②選手情報入力!P84=\"\",\"\",IF(I75=1,VLOOKUP(②選手情報入力!P84,種目情報!$A$4:$C$29,3,FALSE),VLOOKUP(②選手情報入力!P84,種目情報!$E$4:$G$32,3,FALSE))))","v":""},{"$f":"IF(E75=\"\",\"\",IF(②選手情報入力!R84=\"\",\"\",IF(I75=1,種目情報!$J$4,種目情報!$J$6)))","v":""},{"$f":"IF(E75=\"\",\"\",IF(②選手情報入力!R84=\"\",\"\",IF(I75=1,IF(②選手情報入力!$S$6=\"\",\"\",②選手情報入力!$S$6),IF(②選手情報入力!$S$7=\"\",\"\",②選手情報入力!$S$7))))","v":""},{"$f":"IF(E75=\"\",\"\",IF(②選手情報入力!R84=\"\",\"\",IF(I75=1,IF(②選手情報入力!$R$6=\"\",0,1),IF(②選手情報入力!$R$7=\"\",0,1))))","v":""},{"$f":"IF(E75=\"\",\"\",IF(②選手情報入力!R84=\"\",\"\",2))","v":""},{"$f":"IF(E75=\"\",\"\",IF(②選手情報入力!T84=\"\",\"\",IF(I75=1,種目情報!$J$5,種目情報!$J$7)))","v":""},{"$f":"IF(E75=\"\",\"\",IF(②選手情報入力!T84=\"\",\"\",IF(I75=1,IF(②選手情報入力!$U$6=\"\",\"\",②選手情報入力!$U$6),IF(②選手情報入力!$U$7=\"\",\"\",②選手情報入力!$U$7))))","v":""},{"$f":"IF(E75=\"\",\"\",IF(②選手情報入力!T84=\"\",\"\",IF(I75=1,IF(②選手情報入力!$T$6=\"\",0,1),IF(②選手情報入力!$T$7=\"\",0,1))))","v":""},{"$f":"IF(E75=\"\",\"\",IF(②選手情報入力!T84=\"\",\"\",2))","v":""}]
[{"$f":"IF(E76=\"\",\"\",data_kyogisha!I76&①団体情報入力!C$4+②選手情報入力!C85+10000000)","v":""},{"$f":"IF(E76=\"\",\"\",①団体情報入力!$C$4)","v":""},null,{"$f":"IF(E76=\"\",\"\",②選手情報入力!B$11)","v":""},{"$f":"IF(②選手情報入力!C85=\"\",\"\",②選手情報入力!C85)","v":""},{"$f":"IF(E76=\"\",\"\",②選手情報入力!D85)","v":""},{"$f":"IF(E76=\"\",\"\",ASC(②選手情報入力!E85&\" \"&②選手情報入力!F85))","v":""},"",{"$f":"IF(E76=\"\",\"\",IF(②選手情報入力!G85=\"男\",1,2))","v":""},{"$f":"IF(E76=\"\",\"\",IF(②選手情報入力!H85=\"\",\"\",②選手情報入力!H85))","v":""},null,null,"",null,{"$f":"IF(E76=\"\",\"\",IF(②選手情報入力!J85=\"\",\"\",IF(I76=1,VLOOKUP(②選手情報入力!J85,種目情報!$A$4:$B$39,2,FALSE),VLOOKUP(②選手情報入力!J85,種目情報!$E$4:$F$29,2,FALSE))))","v":""},{"$f":"IF(E76=\"\",\"\",IF(②選手情報入力!K85=\"\",\"\",②選手情報入力!K85))","v":""},{"$f":"IF(E76=\"\",\"\",IF(②選手情報入力!I85=\"\",\"\",1))","v":""},{"$f":"IF(E76=\"\",\"\",IF(②選手情報入力!J85=\"\",\"\",IF(I76=1,VLOOKUP(②選手情報入力!J85,種目情報!$A$4:$C$29,3,FALSE),VLOOKUP(②選手情報入力!J85,種目情報!$E$4:$G$32,3,FALSE))))","v":""},{"$f":"IF(E76=\"\",\"\",IF(②選手情報入力!M85=\"\",\"\",IF(I76=1,VLOOKUP(②選手情報入力!M85,種目情報!$A$4:$B$29,2,FALSE),VLOOKUP(②選手情報入力!M85,種目情報!$E$4:$F$32,2,FALSE))))","v":""},{"$f":"IF(E76=\"\",\"\",IF(②選手情報入力!N85=\"\",\"\",②選手情報入力!N85))","v":""},{"$f":"IF(E76=\"\",\"\",IF(②選手情報入力!L85=\"\",\"\",1))","v":""},{"$f":"IF(E76=\"\",\"\",IF(②選手情報入力!M85=\"\",\"\",IF(I76=1,VLOOKUP(②選手情報入力!M85,種目情報!$A$4:$C$29,3,FALSE),VLOOKUP(②選手情報入力!M85,種目情報!$E$4:$G$32,3,FALSE))))","v":""},{"$f":"IF(E76=\"\",\"\",IF(②選手情報入力!P85=\"\",\"\",IF(I76=1,VLOOKUP(②選手情報入力!P85,種目情報!$A$4:$B$29,2,FALSE),VLOOKUP(②選手情報入力!P85,種目情報!$E$4:$F$32,2,FALSE))))","v":""},{"$f":"IF(E76=\"\",\"\",IF(②選手情報入力!Q85=\"\",\"\",②選手情報入力!Q85))","v":""},{"$f":"IF(E76=\"\",\"\",IF(②選手情報入力!O85=\"\",\"\",1))","v":""},{"$f":"IF(E76=\"\",\"\",IF(②選手情報入力!P85=\"\",\"\",IF(I76=1,VLOOKUP(②選手情報入力!P85,種目情報!$A$4:$C$29,3,FALSE),VLOOKUP(②選手情報入力!P85,種目情報!$E$4:$G$32,3,FALSE))))","v":""},{"$f":"IF(E76=\"\",\"\",IF(②選手情報入力!R85=\"\",\"\",IF(I76=1,種目情報!$J$4,種目情報!$J$6)))","v":""},{"$f":"IF(E76=\"\",\"\",IF(②選手情報入力!R85=\"\",\"\",IF(I76=1,IF(②選手情報入力!$S$6=\"\",\"\",②選手情報入力!$S$6),IF(②選手情報入力!$S$7=\"\",\"\",②選手情報入力!$S$7))))","v":""},{"$f":"IF(E76=\"\",\"\",IF(②選手情報入力!R85=\"\",\"\",IF(I76=1,IF(②選手情報入力!$R$6=\"\",0,1),IF(②選手情報入力!$R$7=\"\",0,1))))","v":""},{"$f":"IF(E76=\"\",\"\",IF(②選手情報入力!R85=\"\",\"\",2))","v":""},{"$f":"IF(E76=\"\",\"\",IF(②選手情報入力!T85=\"\",\"\",IF(I76=1,種目情報!$J$5,種目情報!$J$7)))","v":""},{"$f":"IF(E76=\"\",\"\",IF(②選手情報入力!T85=\"\",\"\",IF(I76=1,IF(②選手情報入力!$U$6=\"\",\"\",②選手情報入力!$U$6),IF(②選手情報入力!$U$7=\"\",\"\",②選手情報入力!$U$7))))","v":""},{"$f":"IF(E76=\"\",\"\",IF(②選手情報入力!T85=\"\",\"\",IF(I76=1,IF(②選手情報入力!$T$6=\"\",0,1),IF(②選手情報入力!$T$7=\"\",0,1))))","v":""},{"$f":"IF(E76=\"\",\"\",IF(②選手情報入力!T85=\"\",\"\",2))","v":""}]
[{"$f":"IF(E77=\"\",\"\",data_kyogisha!I77&①団体情報入力!C$4+②選手情報入力!C86+10000000)","v":""},{"$f":"IF(E77=\"\",\"\",①団体情報入力!$C$4)","v":""},null,{"$f":"IF(E77=\"\",\"\",②選手情報入力!B$11)","v":""},{"$f":"IF(②選手情報入力!C86=\"\",\"\",②選手情報入力!C86)","v":""},{"$f":"IF(E77=\"\",\"\",②選手情報入力!D86)","v":""},{"$f":"IF(E77=\"\",\"\",ASC(②選手情報入力!E86&\" \"&②選手情報入力!F86))","v":""},"",{"$f":"IF(E77=\"\",\"\",IF(②選手情報入力!G86=\"男\",1,2))","v":""},{"$f":"IF(E77=\"\",\"\",IF(②選手情報入力!H86=\"\",\"\",②選手情報入力!H86))","v":""},null,null,"",null,{"$f":"IF(E77=\"\",\"\",IF(②選手情報入力!J86=\"\",\"\",IF(I77=1,VLOOKUP(②選手情報入力!J86,種目情報!$A$4:$B$39,2,FALSE),VLOOKUP(②選手情報入力!J86,種目情報!$E$4:$F$29,2,FALSE))))","v":""},{"$f":"IF(E77=\"\",\"\",IF(②選手情報入力!K86=\"\",\"\",②選手情報入力!K86))","v":""},{"$f":"IF(E77=\"\",\"\",IF(②選手情報入力!I86=\"\",\"\",1))","v":""},{"$f":"IF(E77=\"\",\"\",IF(②選手情報入力!J86=\"\",\"\",IF(I77=1,VLOOKUP(②選手情報入力!J86,種目情報!$A$4:$C$29,3,FALSE),VLOOKUP(②選手情報入力!J86,種目情報!$E$4:$G$32,3,FALSE))))","v":""},{"$f":"IF(E77=\"\",\"\",IF(②選手情報入力!M86=\"\",\"\",IF(I77=1,VLOOKUP(②選手情報入力!M86,種目情報!$A$4:$B$29,2,FALSE),VLOOKUP(②選手情報入力!M86,種目情報!$E$4:$F$32,2,FALSE))))","v":""},{"$f":"IF(E77=\"\",\"\",IF(②選手情報入力!N86=\"\",\"\",②選手情報入力!N86))","v":""},{"$f":"IF(E77=\"\",\"\",IF(②選手情報入力!L86=\"\",\"\",1))","v":""},{"$f":"IF(E77=\"\",\"\",IF(②選手情報入力!M86=\"\",\"\",IF(I77=1,VLOOKUP(②選手情報入力!M86,種目情報!$A$4:$C$29,3,FALSE),VLOOKUP(②選手情報入力!M86,種目情報!$E$4:$G$32,3,FALSE))))","v":""},{"$f":"IF(E77=\"\",\"\",IF(②選手情報入力!P86=\"\",\"\",IF(I77=1,VLOOKUP(②選手情報入力!P86,種目情報!$A$4:$B$29,2,FALSE),VLOOKUP(②選手情報入力!P86,種目情報!$E$4:$F$32,2,FALSE))))","v":""},{"$f":"IF(E77=\"\",\"\",IF(②選手情報入力!Q86=\"\",\"\",②選手情報入力!Q86))","v":""},{"$f":"IF(E77=\"\",\"\",IF(②選手情報入力!O86=\"\",\"\",1))","v":""},{"$f":"IF(E77=\"\",\"\",IF(②選手情報入力!P86=\"\",\"\",IF(I77=1,VLOOKUP(②選手情報入力!P86,種目情報!$A$4:$C$29,3,FALSE),VLOOKUP(②選手情報入力!P86,種目情報!$E$4:$G$32,3,FALSE))))","v":""},{"$f":"IF(E77=\"\",\"\",IF(②選手情報入力!R86=\"\",\"\",IF(I77=1,種目情報!$J$4,種目情報!$J$6)))","v":""},{"$f":"IF(E77=\"\",\"\",IF(②選手情報入力!R86=\"\",\"\",IF(I77=1,IF(②選手情報入力!$S$6=\"\",\"\",②選手情報入力!$S$6),IF(②選手情報入力!$S$7=\"\",\"\",②選手情報入力!$S$7))))","v":""},{"$f":"IF(E77=\"\",\"\",IF(②選手情報入力!R86=\"\",\"\",IF(I77=1,IF(②選手情報入力!$R$6=\"\",0,1),IF(②選手情報入力!$R$7=\"\",0,1))))","v":""},{"$f":"IF(E77=\"\",\"\",IF(②選手情報入力!R86=\"\",\"\",2))","v":""},{"$f":"IF(E77=\"\",\"\",IF(②選手情報入力!T86=\"\",\"\",IF(I77=1,種目情報!$J$5,種目情報!$J$7)))","v":""},{"$f":"IF(E77=\"\",\"\",IF(②選手情報入力!T86=\"\",\"\",IF(I77=1,IF(②選手情報入力!$U$6=\"\",\"\",②選手情報入力!$U$6),IF(②選手情報入力!$U$7=\"\",\"\",②選手情報入力!$U$7))))","v":""},{"$f":"IF(E77=\"\",\"\",IF(②選手情報入力!T86=\"\",\"\",IF(I77=1,IF(②選手情報入力!$T$6=\"\",0,1),IF(②選手情報入力!$T$7=\"\",0,1))))","v":""},{"$f":"IF(E77=\"\",\"\",IF(②選手情報入力!T86=\"\",\"\",2))","v":""}]
[{"$f":"IF(E78=\"\",\"\",data_kyogisha!I78&①団体情報入力!C$4+②選手情報入力!C87+10000000)","v":""},{"$f":"IF(E78=\"\",\"\",①団体情報入力!$C$4)","v":""},null,{"$f":"IF(E78=\"\",\"\",②選手情報入力!B$11)","v":""},{"$f":"IF(②選手情報入力!C87=\"\",\"\",②選手情報入力!C87)","v":""},{"$f":"IF(E78=\"\",\"\",②選手情報入力!D87)","v":""},{"$f":"IF(E78=\"\",\"\",ASC(②選手情報入力!E87&\" \"&②選手情報入力!F87))","v":""},"",{"$f":"IF(E78=\"\",\"\",IF(②選手情報入力!G87=\"男\",1,2))","v":""},{"$f":"IF(E78=\"\",\"\",IF(②選手情報入力!H87=\"\",\"\",②選手情報入力!H87))","v":""},null,null,"",null,{"$f":"IF(E78=\"\",\"\",IF(②選手情報入力!J87=\"\",\"\",IF(I78=1,VLOOKUP(②選手情報入力!J87,種目情報!$A$4:$B$39,2,FALSE),VLOOKUP(②選手情報入力!J87,種目情報!$E$4:$F$29,2,FALSE))))","v":""},{"$f":"IF(E78=\"\",\"\",IF(②選手情報入力!K87=\"\",\"\",②選手情報入力!K87))","v":""},{"$f":"IF(E78=\"\",\"\",IF(②選手情報入力!I87=\"\",\"\",1))","v":""},{"$f":"IF(E78=\"\",\"\",IF(②選手情報入力!J87=\"\",\"\",IF(I78=1,VLOOKUP(②選手情報入力!J87,種目情報!$A$4:$C$29,3,FALSE),VLOOKUP(②選手情報入力!J87,種目情報!$E$4:$G$32,3,FALSE))))","v":""},{"$f":"IF(E78=\"\",\"\",IF(②選手情報入力!M87=\"\",\"\",IF(I78=1,VLOOKUP(②選手情報入力!M87,種目情報!$A$4:$B$29,2,FALSE),VLOOKUP(②選手情報入力!M87,種目情報!$E$4:$F$32,2,FALSE))))","v":""},{"$f":"IF(E78=\"\",\"\",IF(②選手情報入力!N87=\"\",\"\",②選手情報入力!N87))","v":""},{"$f":"IF(E78=\"\",\"\",IF(②選手情報入力!L87=\"\",\"\",1))","v":""},{"$f":"IF(E78=\"\",\"\",IF(②選手情報入力!M87=\"\",\"\",IF(I78=1,VLOOKUP(②選手情報入力!M87,種目情報!$A$4:$C$29,3,FALSE),VLOOKUP(②選手情報入力!M87,種目情報!$E$4:$G$32,3,FALSE))))","v":""},{"$f":"IF(E78=\"\",\"\",IF(②選手情報入力!P87=\"\",\"\",IF(I78=1,VLOOKUP(②選手情報入力!P87,種目情報!$A$4:$B$29,2,FALSE),VLOOKUP(②選手情報入力!P87,種目情報!$E$4:$F$32,2,FALSE))))","v":""},{"$f":"IF(E78=\"\",\"\",IF(②選手情報入力!Q87=\"\",\"\",②選手情報入力!Q87))","v":""},{"$f":"IF(E78=\"\",\"\",IF(②選手情報入力!O87=\"\",\"\",1))","v":""},{"$f":"IF(E78=\"\",\"\",IF(②選手情報入力!P87=\"\",\"\",IF(I78=1,VLOOKUP(②選手情報入力!P87,種目情報!$A$4:$C$29,3,FALSE),VLOOKUP(②選手情報入力!P87,種目情報!$E$4:$G$32,3,FALSE))))","v":""},{"$f":"IF(E78=\"\",\"\",IF(②選手情報入力!R87=\"\",\"\",IF(I78=1,種目情報!$J$4,種目情報!$J$6)))","v":""},{"$f":"IF(E78=\"\",\"\",IF(②選手情報入力!R87=\"\",\"\",IF(I78=1,IF(②選手情報入力!$S$6=\"\",\"\",②選手情報入力!$S$6),IF(②選手情報入力!$S$7=\"\",\"\",②選手情報入力!$S$7))))","v":""},{"$f":"IF(E78=\"\",\"\",IF(②選手情報入力!R87=\"\",\"\",IF(I78=1,IF(②選手情報入力!$R$6=\"\",0,1),IF(②選手情報入力!$R$7=\"\",0,1))))","v":""},{"$f":"IF(E78=\"\",\"\",IF(②選手情報入力!R87=\"\",\"\",2))","v":""},{"$f":"IF(E78=\"\",\"\",IF(②選手情報入力!T87=\"\",\"\",IF(I78=1,種目情報!$J$5,種目情報!$J$7)))","v":""},{"$f":"IF(E78=\"\",\"\",IF(②選手情報入力!T87=\"\",\"\",IF(I78=1,IF(②選手情報入力!$U$6=\"\",\"\",②選手情報入力!$U$6),IF(②選手情報入力!$U$7=\"\",\"\",②選手情報入力!$U$7))))","v":""},{"$f":"IF(E78=\"\",\"\",IF(②選手情報入力!T87=\"\",\"\",IF(I78=1,IF(②選手情報入力!$T$6=\"\",0,1),IF(②選手情報入力!$T$7=\"\",0,1))))","v":""},{"$f":"IF(E78=\"\",\"\",IF(②選手情報入力!T87=\"\",\"\",2))","v":""}]
[{"$f":"IF(E79=\"\",\"\",data_kyogisha!I79&①団体情報入力!C$4+②選手情報入力!C88+10000000)","v":""},{"$f":"IF(E79=\"\",\"\",①団体情報入力!$C$4)","v":""},null,{"$f":"IF(E79=\"\",\"\",②選手情報入力!B$11)","v":""},{"$f":"IF(②選手情報入力!C88=\"\",\"\",②選手情報入力!C88)","v":""},{"$f":"IF(E79=\"\",\"\",②選手情報入力!D88)","v":""},{"$f":"IF(E79=\"\",\"\",ASC(②選手情報入力!E88&\" \"&②選手情報入力!F88))","v":""},"",{"$f":"IF(E79=\"\",\"\",IF(②選手情報入力!G88=\"男\",1,2))","v":""},{"$f":"IF(E79=\"\",\"\",IF(②選手情報入力!H88=\"\",\"\",②選手情報入力!H88))","v":""},null,null,"",null,{"$f":"IF(E79=\"\",\"\",IF(②選手情報入力!J88=\"\",\"\",IF(I79=1,VLOOKUP(②選手情報入力!J88,種目情報!$A$4:$B$39,2,FALSE),VLOOKUP(②選手情報入力!J88,種目情報!$E$4:$F$29,2,FALSE))))","v":""},{"$f":"IF(E79=\"\",\"\",IF(②選手情報入力!K88=\"\",\"\",②選手情報入力!K88))","v":""},{"$f":"IF(E79=\"\",\"\",IF(②選手情報入力!I88=\"\",\"\",1))","v":""},{"$f":"IF(E79=\"\",\"\",IF(②選手情報入力!J88=\"\",\"\",IF(I79=1,VLOOKUP(②選手情報入力!J88,種目情報!$A$4:$C$29,3,FALSE),VLOOKUP(②選手情報入力!J88,種目情報!$E$4:$G$32,3,FALSE))))","v":""},{"$f":"IF(E79=\"\",\"\",IF(②選手情報入力!M88=\"\",\"\",IF(I79=1,VLOOKUP(②選手情報入力!M88,種目情報!$A$4:$B$29,2,FALSE),VLOOKUP(②選手情報入力!M88,種目情報!$E$4:$F$32,2,FALSE))))","v":""},{"$f":"IF(E79=\"\",\"\",IF(②選手情報入力!N88=\"\",\"\",②選手情報入力!N88))","v":""},{"$f":"IF(E79=\"\",\"\",IF(②選手情報入力!L88=\"\",\"\",1))","v":""},{"$f":"IF(E79=\"\",\"\",IF(②選手情報入力!M88=\"\",\"\",IF(I79=1,VLOOKUP(②選手情報入力!M88,種目情報!$A$4:$C$29,3,FALSE),VLOOKUP(②選手情報入力!M88,種目情報!$E$4:$G$32,3,FALSE))))","v":""},{"$f":"IF(E79=\"\",\"\",IF(②選手情報入力!P88=\"\",\"\",IF(I79=1,VLOOKUP(②選手情報入力!P88,種目情報!$A$4:$B$29,2,FALSE),VLOOKUP(②選手情報入力!P88,種目情報!$E$4:$F$32,2,FALSE))))","v":""},{"$f":"IF(E79=\"\",\"\",IF(②選手情報入力!Q88=\"\",\"\",②選手情報入力!Q88))","v":""},{"$f":"IF(E79=\"\",\"\",IF(②選手情報入力!O88=\"\",\"\",1))","v":""},{"$f":"IF(E79=\"\",\"\",IF(②選手情報入力!P88=\"\",\"\",IF(I79=1,VLOOKUP(②選手情報入力!P88,種目情報!$A$4:$C$29,3,FALSE),VLOOKUP(②選手情報入力!P88,種目情報!$E$4:$G$32,3,FALSE))))","v":""},{"$f":"IF(E79=\"\",\"\",IF(②選手情報入力!R88=\"\",\"\",IF(I79=1,種目情報!$J$4,種目情報!$J$6)))","v":""},{"$f":"IF(E79=\"\",\"\",IF(②選手情報入力!R88=\"\",\"\",IF(I79=1,IF(②選手情報入力!$S$6=\"\",\"\",②選手情報入力!$S$6),IF(②選手情報入力!$S$7=\"\",\"\",②選手情報入力!$S$7))))","v":""},{"$f":"IF(E79=\"\",\"\",IF(②選手情報入力!R88=\"\",\"\",IF(I79=1,IF(②選手情報入力!$R$6=\"\",0,1),IF(②選手情報入力!$R$7=\"\",0,1))))","v":""},{"$f":"IF(E79=\"\",\"\",IF(②選手情報入力!R88=\"\",\"\",2))","v":""},{"$f":"IF(E79=\"\",\"\",IF(②選手情報入力!T88=\"\",\"\",IF(I79=1,種目情報!$J$5,種目情報!$J$7)))","v":""},{"$f":"IF(E79=\"\",\"\",IF(②選手情報入力!T88=\"\",\"\",IF(I79=1,IF(②選手情報入力!$U$6=\"\",\"\",②選手情報入力!$U$6),IF(②選手情報入力!$U$7=\"\",\"\",②選手情報入力!$U$7))))","v":""},{"$f":"IF(E79=\"\",\"\",IF(②選手情報入力!T88=\"\",\"\",IF(I79=1,IF(②選手情報入力!$T$6=\"\",0,1),IF(②選手情報入力!$T$7=\"\",0,1))))","v":""},{"$f":"IF(E79=\"\",\"\",IF(②選手情報入力!T88=\"\",\"\",2))","v":""}]
[{"$f":"IF(E80=\"\",\"\",data_kyogisha!I80&①団体情報入力!C$4+②選手情報入力!C89+10000000)","v":""},{"$f":"IF(E80=\"\",\"\",①団体情報入力!$C$4)","v":""},null,{"$f":"IF(E80=\"\",\"\",②選手情報入力!B$11)","v":""},{"$f":"IF(②選手情報入力!C89=\"\",\"\",②選手情報入力!C89)","v":""},{"$f":"IF(E80=\"\",\"\",②選手情報入力!D89)","v":""},{"$f":"IF(E80=\"\",\"\",ASC(②選手情報入力!E89&\" \"&②選手情報入力!F89))","v":""},"",{"$f":"IF(E80=\"\",\"\",IF(②選手情報入力!G89=\"男\",1,2))","v":""},{"$f":"IF(E80=\"\",\"\",IF(②選手情報入力!H89=\"\",\"\",②選手情報入力!H89))","v":""},null,null,"",null,{"$f":"IF(E80=\"\",\"\",IF(②選手情報入力!J89=\"\",\"\",IF(I80=1,VLOOKUP(②選手情報入力!J89,種目情報!$A$4:$B$39,2,FALSE),VLOOKUP(②選手情報入力!J89,種目情報!$E$4:$F$29,2,FALSE))))","v":""},{"$f":"IF(E80=\"\",\"\",IF(②選手情報入力!K89=\"\",\"\",②選手情報入力!K89))","v":""},{"$f":"IF(E80=\"\",\"\",IF(②選手情報入力!I89=\"\",\"\",1))","v":""},{"$f":"IF(E80=\"\",\"\",IF(②選手情報入力!J89=\"\",\"\",IF(I80=1,VLOOKUP(②選手情報入力!J89,種目情報!$A$4:$C$29,3,FALSE),VLOOKUP(②選手情報入力!J89,種目情報!$E$4:$G$32,3,FALSE))))","v":""},{"$f":"IF(E80=\"\",\"\",IF(②選手情報入力!M89=\"\",\"\",IF(I80=1,VLOOKUP(②選手情報入力!M89,種目情報!$A$4:$B$29,2,FALSE),VLOOKUP(②選手情報入力!M89,種目情報!$E$4:$F$32,2,FALSE))))","v":""},{"$f":"IF(E80=\"\",\"\",IF(②選手情報入力!N89=\"\",\"\",②選手情報入力!N89))","v":""},{"$f":"IF(E80=\"\",\"\",IF(②選手情報入力!L89=\"\",\"\",1))","v":""},{"$f":"IF(E80=\"\",\"\",IF(②選手情報入力!M89=\"\",\"\",IF(I80=1,VLOOKUP(②選手情報入力!M89,種目情報!$A$4:$C$29,3,FALSE),VLOOKUP(②選手情報入力!M89,種目情報!$E$4:$G$32,3,FALSE))))","v":""},{"$f":"IF(E80=\"\",\"\",IF(②選手情報入力!P89=\"\",\"\",IF(I80=1,VLOOKUP(②選手情報入力!P89,種目情報!$A$4:$B$29,2,FALSE),VLOOKUP(②選手情報入力!P89,種目情報!$E$4:$F$32,2,FALSE))))","v":""},{"$f":"IF(E80=\"\",\"\",IF(②選手情報入力!Q89=\"\",\"\",②選手情報入力!Q89))","v":""},{"$f":"IF(E80=\"\",\"\",IF(②選手情報入力!O89=\"\",\"\",1))","v":""},{"$f":"IF(E80=\"\",\"\",IF(②選手情報入力!P89=\"\",\"\",IF(I80=1,VLOOKUP(②選手情報入力!P89,種目情報!$A$4:$C$29,3,FALSE),VLOOKUP(②選手情報入力!P89,種目情報!$E$4:$G$32,3,FALSE))))","v":""},{"$f":"IF(E80=\"\",\"\",IF(②選手情報入力!R89=\"\",\"\",IF(I80=1,種目情報!$J$4,種目情報!$J$6)))","v":""},{"$f":"IF(E80=\"\",\"\",IF(②選手情報入力!R89=\"\",\"\",IF(I80=1,IF(②選手情報入力!$S$6=\"\",\"\",②選手情報入力!$S$6),IF(②選手情報入力!$S$7=\"\",\"\",②選手情報入力!$S$7))))","v":""},{"$f":"IF(E80=\"\",\"\",IF(②選手情報入力!R89=\"\",\"\",IF(I80=1,IF(②選手情報入力!$R$6=\"\",0,1),IF(②選手情報入力!$R$7=\"\",0,1))))","v":""},{"$f":"IF(E80=\"\",\"\",IF(②選手情報入力!R89=\"\",\"\",2))","v":""},{"$f":"IF(E80=\"\",\"\",IF(②選手情報入力!T89=\"\",\"\",IF(I80=1,種目情報!$J$5,種目情報!$J$7)))","v":""},{"$f":"IF(E80=\"\",\"\",IF(②選手情報入力!T89=\"\",\"\",IF(I80=1,IF(②選手情報入力!$U$6=\"\",\"\",②選手情報入力!$U$6),IF(②選手情報入力!$U$7=\"\",\"\",②選手情報入力!$U$7))))","v":""},{"$f":"IF(E80=\"\",\"\",IF(②選手情報入力!T89=\"\",\"\",IF(I80=1,IF(②選手情報入力!$T$6=\"\",0,1),IF(②選手情報入力!$T$7=\"\",0,1))))","v":""},{"$f":"IF(E80=\"\",\"\",IF(②選手情報入力!T89=\"\",\"\",2))","v":""}]
[{"$f":"IF(E81=\"\",\"\",data_kyogisha!I81&①団体情報入力!C$4+②選手情報入力!C90+10000000)","v":""},{"$f":"IF(E81=\"\",\"\",①団体情報入力!$C$4)","v":""},null,{"$f":"IF(E81=\"\",\"\",②選手情報入力!B$11)","v":""},{"$f":"IF(②選手情報入力!C90=\"\",\"\",②選手情報入力!C90)","v":""},{"$f":"IF(E81=\"\",\"\",②選手情報入力!D90)","v":""},{"$f":"IF(E81=\"\",\"\",ASC(②選手情報入力!E90&\" \"&②選手情報入力!F90))","v":""},"",{"$f":"IF(E81=\"\",\"\",IF(②選手情報入力!G90=\"男\",1,2))","v":""},{"$f":"IF(E81=\"\",\"\",IF(②選手情報入力!H90=\"\",\"\",②選手情報入力!H90))","v":""},null,null,"",null,{"$f":"IF(E81=\"\",\"\",IF(②選手情報入力!J90=\"\",\"\",IF(I81=1,VLOOKUP(②選手情報入力!J90,種目情報!$A$4:$B$39,2,FALSE),VLOOKUP(②選手情報入力!J90,種目情報!$E$4:$F$29,2,FALSE))))","v":""},{"$f":"IF(E81=\"\",\"\",IF(②選手情報入力!K90=\"\",\"\",②選手情報入力!K90))","v":""},{"$f":"IF(E81=\"\",\"\",IF(②選手情報入力!I90=\"\",\"\",1))","v":""},{"$f":"IF(E81=\"\",\"\",IF(②選手情報入力!J90=\"\",\"\",IF(I81=1,VLOOKUP(②選手情報入力!J90,種目情報!$A$4:$C$29,3,FALSE),VLOOKUP(②選手情報入力!J90,種目情報!$E$4:$G$32,3,FALSE))))","v":""},{"$f":"IF(E81=\"\",\"\",IF(②選手情報入力!M90=\"\",\"\",IF(I81=1,VLOOKUP(②選手情報入力!M90,種目情報!$A$4:$B$29,2,FALSE),VLOOKUP(②選手情報入力!M90,種目情報!$E$4:$F$32,2,FALSE))))","v":""},{"$f":"IF(E81=\"\",\"\",IF(②選手情報入力!N90=\"\",\"\",②選手情報入力!N90))","v":""},{"$f":"IF(E81=\"\",\"\",IF(②選手情報入力!L90=\"\",\"\",1))","v":""},{"$f":"IF(E81=\"\",\"\",IF(②選手情報入力!M90=\"\",\"\",IF(I81=1,VLOOKUP(②選手情報入力!M90,種目情報!$A$4:$C$29,3,FALSE),VLOOKUP(②選手情報入力!M90,種目情報!$E$4:$G$32,3,FALSE))))","v":""},{"$f":"IF(E81=\"\",\"\",IF(②選手情報入力!P90=\"\",\"\",IF(I81=1,VLOOKUP(②選手情報入力!P90,種目情報!$A$4:$B$29,2,FALSE),VLOOKUP(②選手情報入力!P90,種目情報!$E$4:$F$32,2,FALSE))))","v":""},{"$f":"IF(E81=\"\",\"\",IF(②選手情報入力!Q90=\"\",\"\",②選手情報入力!Q90))","v":""},{"$f":"IF(E81=\"\",\"\",IF(②選手情報入力!O90=\"\",\"\",1))","v":""},{"$f":"IF(E81=\"\",\"\",IF(②選手情報入力!P90=\"\",\"\",IF(I81=1,VLOOKUP(②選手情報入力!P90,種目情報!$A$4:$C$29,3,FALSE),VLOOKUP(②選手情報入力!P90,種目情報!$E$4:$G$32,3,FALSE))))","v":""},{"$f":"IF(E81=\"\",\"\",IF(②選手情報入力!R90=\"\",\"\",IF(I81=1,種目情報!$J$4,種目情報!$J$6)))","v":""},{"$f":"IF(E81=\"\",\"\",IF(②選手情報入力!R90=\"\",\"\",IF(I81=1,IF(②選手情報入力!$S$6=\"\",\"\",②選手情報入力!$S$6),IF(②選手情報入力!$S$7=\"\",\"\",②選手情報入力!$S$7))))","v":""},{"$f":"IF(E81=\"\",\"\",IF(②選手情報入力!R90=\"\",\"\",IF(I81=1,IF(②選手情報入力!$R$6=\"\",0,1),IF(②選手情報入力!$R$7=\"\",0,1))))","v":""},{"$f":"IF(E81=\"\",\"\",IF(②選手情報入力!R90=\"\",\"\",2))","v":""},{"$f":"IF(E81=\"\",\"\",IF(②選手情報入力!T90=\"\",\"\",IF(I81=1,種目情報!$J$5,種目情報!$J$7)))","v":""},{"$f":"IF(E81=\"\",\"\",IF(②選手情報入力!T90=\"\",\"\",IF(I81=1,IF(②選手情報入力!$U$6=\"\",\"\",②選手情報入力!$U$6),IF(②選手情報入力!$U$7=\"\",\"\",②選手情報入力!$U$7))))","v":""},{"$f":"IF(E81=\"\",\"\",IF(②選手情報入力!T90=\"\",\"\",IF(I81=1,IF(②選手情報入力!$T$6=\"\",0,1),IF(②選手情報入力!$T$7=\"\",0,1))))","v":""},{"$f":"IF(E81=\"\",\"\",IF(②選手情報入力!T90=\"\",\"\",2))","v":""}]
[{"$f":"IF(E82=\"\",\"\",data_kyogisha!I82&①団体情報入力!C$4+②選手情報入力!C91+10000000)","v":""},{"$f":"IF(E82=\"\",\"\",①団体情報入力!$C$4)","v":""},null,{"$f":"IF(E82=\"\",\"\",②選手情報入力!B$11)","v":""},{"$f":"IF(②選手情報入力!C91=\"\",\"\",②選手情報入力!C91)","v":""},{"$f":"IF(E82=\"\",\"\",②選手情報入力!D91)","v":""},{"$f":"IF(E82=\"\",\"\",ASC(②選手情報入力!E91&\" \"&②選手情報入力!F91))","v":""},"",{"$f":"IF(E82=\"\",\"\",IF(②選手情報入力!G91=\"男\",1,2))","v":""},{"$f":"IF(E82=\"\",\"\",IF(②選手情報入力!H91=\"\",\"\",②選手情報入力!H91))","v":""},null,null,"",null,{"$f":"IF(E82=\"\",\"\",IF(②選手情報入力!J91=\"\",\"\",IF(I82=1,VLOOKUP(②選手情報入力!J91,種目情報!$A$4:$B$39,2,FALSE),VLOOKUP(②選手情報入力!J91,種目情報!$E$4:$F$29,2,FALSE))))","v":""},{"$f":"IF(E82=\"\",\"\",IF(②選手情報入力!K91=\"\",\"\",②選手情報入力!K91))","v":""},{"$f":"IF(E82=\"\",\"\",IF(②選手情報入力!I91=\"\",\"\",1))","v":""},{"$f":"IF(E82=\"\",\"\",IF(②選手情報入力!J91=\"\",\"\",IF(I82=1,VLOOKUP(②選手情報入力!J91,種目情報!$A$4:$C$29,3,FALSE),VLOOKUP(②選手情報入力!J91,種目情報!$E$4:$G$32,3,FALSE))))","v":""},{"$f":"IF(E82=\"\",\"\",IF(②選手情報入力!M91=\"\",\"\",IF(I82=1,VLOOKUP(②選手情報入力!M91,種目情報!$A$4:$B$29,2,FALSE),VLOOKUP(②選手情報入力!M91,種目情報!$E$4:$F$32,2,FALSE))))","v":""},{"$f":"IF(E82=\"\",\"\",IF(②選手情報入力!N91=\"\",\"\",②選手情報入力!N91))","v":""},{"$f":"IF(E82=\"\",\"\",IF(②選手情報入力!L91=\"\",\"\",1))","v":""},{"$f":"IF(E82=\"\",\"\",IF(②選手情報入力!M91=\"\",\"\",IF(I82=1,VLOOKUP(②選手情報入力!M91,種目情報!$A$4:$C$29,3,FALSE),VLOOKUP(②選手情報入力!M91,種目情報!$E$4:$G$32,3,FALSE))))","v":""},{"$f":"IF(E82=\"\",\"\",IF(②選手情報入力!P91=\"\",\"\",IF(I82=1,VLOOKUP(②選手情報入力!P91,種目情報!$A$4:$B$29,2,FALSE),VLOOKUP(②選手情報入力!P91,種目情報!$E$4:$F$32,2,FALSE))))","v":""},{"$f":"IF(E82=\"\",\"\",IF(②選手情報入力!Q91=\"\",\"\",②選手情報入力!Q91))","v":""},{"$f":"IF(E82=\"\",\"\",IF(②選手情報入力!O91=\"\",\"\",1))","v":""},{"$f":"IF(E82=\"\",\"\",IF(②選手情報入力!P91=\"\",\"\",IF(I82=1,VLOOKUP(②選手情報入力!P91,種目情報!$A$4:$C$29,3,FALSE),VLOOKUP(②選手情報入力!P91,種目情報!$E$4:$G$32,3,FALSE))))","v":""},{"$f":"IF(E82=\"\",\"\",IF(②選手情報入力!R91=\"\",\"\",IF(I82=1,種目情報!$J$4,種目情報!$J$6)))","v":""},{"$f":"IF(E82=\"\",\"\",IF(②選手情報入力!R91=\"\",\"\",IF(I82=1,IF(②選手情報入力!$S$6=\"\",\"\",②選手情報入力!$S$6),IF(②選手情報入力!$S$7=\"\",\"\",②選手情報入力!$S$7))))","v":""},{"$f":"IF(E82=\"\",\"\",IF(②選手情報入力!R91=\"\",\"\",IF(I82=1,IF(②選手情報入力!$R$6=\"\",0,1),IF(②選手情報入力!$R$7=\"\",0,1))))","v":""},{"$f":"IF(E82=\"\",\"\",IF(②選手情報入力!R91=\"\",\"\",2))","v":""},{"$f":"IF(E82=\"\",\"\",IF(②選手情報入力!T91=\"\",\"\",IF(I82=1,種目情報!$J$5,種目情報!$J$7)))","v":""},{"$f":"IF(E82=\"\",\"\",IF(②選手情報入力!T91=\"\",\"\",IF(I82=1,IF(②選手情報入力!$U$6=\"\",\"\",②選手情報入力!$U$6),IF(②選手情報入力!$U$7=\"\",\"\",②選手情報入力!$U$7))))","v":""},{"$f":"IF(E82=\"\",\"\",IF(②選手情報入力!T91=\"\",\"\",IF(I82=1,IF(②選手情報入力!$T$6=\"\",0,1),IF(②選手情報入力!$T$7=\"\",0,1))))","v":""},{"$f":"IF(E82=\"\",\"\",IF(②選手情報入力!T91=\"\",\"\",2))","v":""}]
[{"$f":"IF(E83=\"\",\"\",data_kyogisha!I83&①団体情報入力!C$4+②選手情報入力!C92+10000000)","v":""},{"$f":"IF(E83=\"\",\"\",①団体情報入力!$C$4)","v":""},null,{"$f":"IF(E83=\"\",\"\",②選手情報入力!B$11)","v":""},{"$f":"IF(②選手情報入力!C92=\"\",\"\",②選手情報入力!C92)","v":""},{"$f":"IF(E83=\"\",\"\",②選手情報入力!D92)","v":""},{"$f":"IF(E83=\"\",\"\",ASC(②選手情報入力!E92&\" \"&②選手情報入力!F92))","v":""},"",{"$f":"IF(E83=\"\",\"\",IF(②選手情報入力!G92=\"男\",1,2))","v":""},{"$f":"IF(E83=\"\",\"\",IF(②選手情報入力!H92=\"\",\"\",②選手情報入力!H92))","v":""},null,null,"",null,{"$f":"IF(E83=\"\",\"\",IF(②選手情報入力!J92=\"\",\"\",IF(I83=1,VLOOKUP(②選手情報入力!J92,種目情報!$A$4:$B$39,2,FALSE),VLOOKUP(②選手情報入力!J92,種目情報!$E$4:$F$29,2,FALSE))))","v":""},{"$f":"IF(E83=\"\",\"\",IF(②選手情報入力!K92=\"\",\"\",②選手情報入力!K92))","v":""},{"$f":"IF(E83=\"\",\"\",IF(②選手情報入力!I92=\"\",\"\",1))","v":""},{"$f":"IF(E83=\"\",\"\",IF(②選手情報入力!J92=\"\",\"\",IF(I83=1,VLOOKUP(②選手情報入力!J92,種目情報!$A$4:$C$29,3,FALSE),VLOOKUP(②選手情報入力!J92,種目情報!$E$4:$G$32,3,FALSE))))","v":""},{"$f":"IF(E83=\"\",\"\",IF(②選手情報入力!M92=\"\",\"\",IF(I83=1,VLOOKUP(②選手情報入力!M92,種目情報!$A$4:$B$29,2,FALSE),VLOOKUP(②選手情報入力!M92,種目情報!$E$4:$F$32,2,FALSE))))","v":""},{"$f":"IF(E83=\"\",\"\",IF(②選手情報入力!N92=\"\",\"\",②選手情報入力!N92))","v":""},{"$f":"IF(E83=\"\",\"\",IF(②選手情報入力!L92=\"\",\"\",1))","v":""},{"$f":"IF(E83=\"\",\"\",IF(②選手情報入力!M92=\"\",\"\",IF(I83=1,VLOOKUP(②選手情報入力!M92,種目情報!$A$4:$C$29,3,FALSE),VLOOKUP(②選手情報入力!M92,種目情報!$E$4:$G$32,3,FALSE))))","v":""},{"$f":"IF(E83=\"\",\"\",IF(②選手情報入力!P92=\"\",\"\",IF(I83=1,VLOOKUP(②選手情報入力!P92,種目情報!$A$4:$B$29,2,FALSE),VLOOKUP(②選手情報入力!P92,種目情報!$E$4:$F$32,2,FALSE))))","v":""},{"$f":"IF(E83=\"\",\"\",IF(②選手情報入力!Q92=\"\",\"\",②選手情報入力!Q92))","v":""},{"$f":"IF(E83=\"\",\"\",IF(②選手情報入力!O92=\"\",\"\",1))","v":""},{"$f":"IF(E83=\"\",\"\",IF(②選手情報入力!P92=\"\",\"\",IF(I83=1,VLOOKUP(②選手情報入力!P92,種目情報!$A$4:$C$29,3,FALSE),VLOOKUP(②選手情報入力!P92,種目情報!$E$4:$G$32,3,FALSE))))","v":""},{"$f":"IF(E83=\"\",\"\",IF(②選手情報入力!R92=\"\",\"\",IF(I83=1,種目情報!$J$4,種目情報!$J$6)))","v":""},{"$f":"IF(E83=\"\",\"\",IF(②選手情報入力!R92=\"\",\"\",IF(I83=1,IF(②選手情報入力!$S$6=\"\",\"\",②選手情報入力!$S$6),IF(②選手情報入力!$S$7=\"\",\"\",②選手情報入力!$S$7))))","v":""},{"$f":"IF(E83=\"\",\"\",IF(②選手情報入力!R92=\"\",\"\",IF(I83=1,IF(②選手情報入力!$R$6=\"\",0,1),IF(②選手情報入力!$R$7=\"\",0,1))))","v":""},{"$f":"IF(E83=\"\",\"\",IF(②選手情報入力!R92=\"\",\"\",2))","v":""},{"$f":"IF(E83=\"\",\"\",IF(②選手情報入力!T92=\"\",\"\",IF(I83=1,種目情報!$J$5,種目情報!$J$7)))","v":""},{"$f":"IF(E83=\"\",\"\",IF(②選手情報入力!T92=\"\",\"\",IF(I83=1,IF(②選手情報入力!$U$6=\"\",\"\",②選手情報入力!$U$6),IF(②選手情報入力!$U$7=\"\",\"\",②選手情報入力!$U$7))))","v":""},{"$f":"IF(E83=\"\",\"\",IF(②選手情報入力!T92=\"\",\"\",IF(I83=1,IF(②選手情報入力!$T$6=\"\",0,1),IF(②選手情報入力!$T$7=\"\",0,1))))","v":""},{"$f":"IF(E83=\"\",\"\",IF(②選手情報入力!T92=\"\",\"\",2))","v":""}]
[{"$f":"IF(E84=\"\",\"\",data_kyogisha!I84&①団体情報入力!C$4+②選手情報入力!C93+10000000)","v":""},{"$f":"IF(E84=\"\",\"\",①団体情報入力!$C$4)","v":""},null,{"$f":"IF(E84=\"\",\"\",②選手情報入力!B$11)","v":""},{"$f":"IF(②選手情報入力!C93=\"\",\"\",②選手情報入力!C93)","v":""},{"$f":"IF(E84=\"\",\"\",②選手情報入力!D93)","v":""},{"$f":"IF(E84=\"\",\"\",ASC(②選手情報入力!E93&\" \"&②選手情報入力!F93))","v":""},"",{"$f":"IF(E84=\"\",\"\",IF(②選手情報入力!G93=\"男\",1,2))","v":""},{"$f":"IF(E84=\"\",\"\",IF(②選手情報入力!H93=\"\",\"\",②選手情報入力!H93))","v":""},null,null,"",null,{"$f":"IF(E84=\"\",\"\",IF(②選手情報入力!J93=\"\",\"\",IF(I84=1,VLOOKUP(②選手情報入力!J93,種目情報!$A$4:$B$39,2,FALSE),VLOOKUP(②選手情報入力!J93,種目情報!$E$4:$F$29,2,FALSE))))","v":""},{"$f":"IF(E84=\"\",\"\",IF(②選手情報入力!K93=\"\",\"\",②選手情報入力!K93))","v":""},{"$f":"IF(E84=\"\",\"\",IF(②選手情報入力!I93=\"\",\"\",1))","v":""},{"$f":"IF(E84=\"\",\"\",IF(②選手情報入力!J93=\"\",\"\",IF(I84=1,VLOOKUP(②選手情報入力!J93,種目情報!$A$4:$C$29,3,FALSE),VLOOKUP(②選手情報入力!J93,種目情報!$E$4:$G$32,3,FALSE))))","v":""},{"$f":"IF(E84=\"\",\"\",IF(②選手情報入力!M93=\"\",\"\",IF(I84=1,VLOOKUP(②選手情報入力!M93,種目情報!$A$4:$B$29,2,FALSE),VLOOKUP(②選手情報入力!M93,種目情報!$E$4:$F$32,2,FALSE))))","v":""},{"$f":"IF(E84=\"\",\"\",IF(②選手情報入力!N93=\"\",\"\",②選手情報入力!N93))","v":""},{"$f":"IF(E84=\"\",\"\",IF(②選手情報入力!L93=\"\",\"\",1))","v":""},{"$f":"IF(E84=\"\",\"\",IF(②選手情報入力!M93=\"\",\"\",IF(I84=1,VLOOKUP(②選手情報入力!M93,種目情報!$A$4:$C$29,3,FALSE),VLOOKUP(②選手情報入力!M93,種目情報!$E$4:$G$32,3,FALSE))))","v":""},{"$f":"IF(E84=\"\",\"\",IF(②選手情報入力!P93=\"\",\"\",IF(I84=1,VLOOKUP(②選手情報入力!P93,種目情報!$A$4:$B$29,2,FALSE),VLOOKUP(②選手情報入力!P93,種目情報!$E$4:$F$32,2,FALSE))))","v":""},{"$f":"IF(E84=\"\",\"\",IF(②選手情報入力!Q93=\"\",\"\",②選手情報入力!Q93))","v":""},{"$f":"IF(E84=\"\",\"\",IF(②選手情報入力!O93=\"\",\"\",1))","v":""},{"$f":"IF(E84=\"\",\"\",IF(②選手情報入力!P93=\"\",\"\",IF(I84=1,VLOOKUP(②選手情報入力!P93,種目情報!$A$4:$C$29,3,FALSE),VLOOKUP(②選手情報入力!P93,種目情報!$E$4:$G$32,3,FALSE))))","v":""},{"$f":"IF(E84=\"\",\"\",IF(②選手情報入力!R93=\"\",\"\",IF(I84=1,種目情報!$J$4,種目情報!$J$6)))","v":""},{"$f":"IF(E84=\"\",\"\",IF(②選手情報入力!R93=\"\",\"\",IF(I84=1,IF(②選手情報入力!$S$6=\"\",\"\",②選手情報入力!$S$6),IF(②選手情報入力!$S$7=\"\",\"\",②選手情報入力!$S$7))))","v":""},{"$f":"IF(E84=\"\",\"\",IF(②選手情報入力!R93=\"\",\"\",IF(I84=1,IF(②選手情報入力!$R$6=\"\",0,1),IF(②選手情報入力!$R$7=\"\",0,1))))","v":""},{"$f":"IF(E84=\"\",\"\",IF(②選手情報入力!R93=\"\",\"\",2))","v":""},{"$f":"IF(E84=\"\",\"\",IF(②選手情報入力!T93=\"\",\"\",IF(I84=1,種目情報!$J$5,種目情報!$J$7)))","v":""},{"$f":"IF(E84=\"\",\"\",IF(②選手情報入力!T93=\"\",\"\",IF(I84=1,IF(②選手情報入力!$U$6=\"\",\"\",②選手情報入力!$U$6),IF(②選手情報入力!$U$7=\"\",\"\",②選手情報入力!$U$7))))","v":""},{"$f":"IF(E84=\"\",\"\",IF(②選手情報入力!T93=\"\",\"\",IF(I84=1,IF(②選手情報入力!$T$6=\"\",0,1),IF(②選手情報入力!$T$7=\"\",0,1))))","v":""},{"$f":"IF(E84=\"\",\"\",IF(②選手情報入力!T93=\"\",\"\",2))","v":""}]
[{"$f":"IF(E85=\"\",\"\",data_kyogisha!I85&①団体情報入力!C$4+②選手情報入力!C94+10000000)","v":""},{"$f":"IF(E85=\"\",\"\",①団体情報入力!$C$4)","v":""},null,{"$f":"IF(E85=\"\",\"\",②選手情報入力!B$11)","v":""},{"$f":"IF(②選手情報入力!C94=\"\",\"\",②選手情報入力!C94)","v":""},{"$f":"IF(E85=\"\",\"\",②選手情報入力!D94)","v":""},{"$f":"IF(E85=\"\",\"\",ASC(②選手情報入力!E94&\" \"&②選手情報入力!F94))","v":""},"",{"$f":"IF(E85=\"\",\"\",IF(②選手情報入力!G94=\"男\",1,2))","v":""},{"$f":"IF(E85=\"\",\"\",IF(②選手情報入力!H94=\"\",\"\",②選手情報入力!H94))","v":""},null,null,"",null,{"$f":"IF(E85=\"\",\"\",IF(②選手情報入力!J94=\"\",\"\",IF(I85=1,VLOOKUP(②選手情報入力!J94,種目情報!$A$4:$B$39,2,FALSE),VLOOKUP(②選手情報入力!J94,種目情報!$E$4:$F$29,2,FALSE))))","v":""},{"$f":"IF(E85=\"\",\"\",IF(②選手情報入力!K94=\"\",\"\",②選手情報入力!K94))","v":""},{"$f":"IF(E85=\"\",\"\",IF(②選手情報入力!I94=\"\",\"\",1))","v":""},{"$f":"IF(E85=\"\",\"\",IF(②選手情報入力!J94=\"\",\"\",IF(I85=1,VLOOKUP(②選手情報入力!J94,種目情報!$A$4:$C$29,3,FALSE),VLOOKUP(②選手情報入力!J94,種目情報!$E$4:$G$32,3,FALSE))))","v":""},{"$f":"IF(E85=\"\",\"\",IF(②選手情報入力!M94=\"\",\"\",IF(I85=1,VLOOKUP(②選手情報入力!M94,種目情報!$A$4:$B$29,2,FALSE),VLOOKUP(②選手情報入力!M94,種目情報!$E$4:$F$32,2,FALSE))))","v":""},{"$f":"IF(E85=\"\",\"\",IF(②選手情報入力!N94=\"\",\"\",②選手情報入力!N94))","v":""},{"$f":"IF(E85=\"\",\"\",IF(②選手情報入力!L94=\"\",\"\",1))","v":""},{"$f":"IF(E85=\"\",\"\",IF(②選手情報入力!M94=\"\",\"\",IF(I85=1,VLOOKUP(②選手情報入力!M94,種目情報!$A$4:$C$29,3,FALSE),VLOOKUP(②選手情報入力!M94,種目情報!$E$4:$G$32,3,FALSE))))","v":""},{"$f":"IF(E85=\"\",\"\",IF(②選手情報入力!P94=\"\",\"\",IF(I85=1,VLOOKUP(②選手情報入力!P94,種目情報!$A$4:$B$29,2,FALSE),VLOOKUP(②選手情報入力!P94,種目情報!$E$4:$F$32,2,FALSE))))","v":""},{"$f":"IF(E85=\"\",\"\",IF(②選手情報入力!Q94=\"\",\"\",②選手情報入力!Q94))","v":""},{"$f":"IF(E85=\"\",\"\",IF(②選手情報入力!O94=\"\",\"\",1))","v":""},{"$f":"IF(E85=\"\",\"\",IF(②選手情報入力!P94=\"\",\"\",IF(I85=1,VLOOKUP(②選手情報入力!P94,種目情報!$A$4:$C$29,3,FALSE),VLOOKUP(②選手情報入力!P94,種目情報!$E$4:$G$32,3,FALSE))))","v":""},{"$f":"IF(E85=\"\",\"\",IF(②選手情報入力!R94=\"\",\"\",IF(I85=1,種目情報!$J$4,種目情報!$J$6)))","v":""},{"$f":"IF(E85=\"\",\"\",IF(②選手情報入力!R94=\"\",\"\",IF(I85=1,IF(②選手情報入力!$S$6=\"\",\"\",②選手情報入力!$S$6),IF(②選手情報入力!$S$7=\"\",\"\",②選手情報入力!$S$7))))","v":""},{"$f":"IF(E85=\"\",\"\",IF(②選手情報入力!R94=\"\",\"\",IF(I85=1,IF(②選手情報入力!$R$6=\"\",0,1),IF(②選手情報入力!$R$7=\"\",0,1))))","v":""},{"$f":"IF(E85=\"\",\"\",IF(②選手情報入力!R94=\"\",\"\",2))","v":""},{"$f":"IF(E85=\"\",\"\",IF(②選手情報入力!T94=\"\",\"\",IF(I85=1,種目情報!$J$5,種目情報!$J$7)))","v":""},{"$f":"IF(E85=\"\",\"\",IF(②選手情報入力!T94=\"\",\"\",IF(I85=1,IF(②選手情報入力!$U$6=\"\",\"\",②選手情報入力!$U$6),IF(②選手情報入力!$U$7=\"\",\"\",②選手情報入力!$U$7))))","v":""},{"$f":"IF(E85=\"\",\"\",IF(②選手情報入力!T94=\"\",\"\",IF(I85=1,IF(②選手情報入力!$T$6=\"\",0,1),IF(②選手情報入力!$T$7=\"\",0,1))))","v":""},{"$f":"IF(E85=\"\",\"\",IF(②選手情報入力!T94=\"\",\"\",2))","v":""}]
[{"$f":"IF(E86=\"\",\"\",data_kyogisha!I86&①団体情報入力!C$4+②選手情報入力!C95+10000000)","v":""},{"$f":"IF(E86=\"\",\"\",①団体情報入力!$C$4)","v":""},null,{"$f":"IF(E86=\"\",\"\",②選手情報入力!B$11)","v":""},{"$f":"IF(②選手情報入力!C95=\"\",\"\",②選手情報入力!C95)","v":""},{"$f":"IF(E86=\"\",\"\",②選手情報入力!D95)","v":""},{"$f":"IF(E86=\"\",\"\",ASC(②選手情報入力!E95&\" \"&②選手情報入力!F95))","v":""},"",{"$f":"IF(E86=\"\",\"\",IF(②選手情報入力!G95=\"男\",1,2))","v":""},{"$f":"IF(E86=\"\",\"\",IF(②選手情報入力!H95=\"\",\"\",②選手情報入力!H95))","v":""},null,null,"",null,{"$f":"IF(E86=\"\",\"\",IF(②選手情報入力!J95=\"\",\"\",IF(I86=1,VLOOKUP(②選手情報入力!J95,種目情報!$A$4:$B$39,2,FALSE),VLOOKUP(②選手情報入力!J95,種目情報!$E$4:$F$29,2,FALSE))))","v":""},{"$f":"IF(E86=\"\",\"\",IF(②選手情報入力!K95=\"\",\"\",②選手情報入力!K95))","v":""},{"$f":"IF(E86=\"\",\"\",IF(②選手情報入力!I95=\"\",\"\",1))","v":""},{"$f":"IF(E86=\"\",\"\",IF(②選手情報入力!J95=\"\",\"\",IF(I86=1,VLOOKUP(②選手情報入力!J95,種目情報!$A$4:$C$29,3,FALSE),VLOOKUP(②選手情報入力!J95,種目情報!$E$4:$G$32,3,FALSE))))","v":""},{"$f":"IF(E86=\"\",\"\",IF(②選手情報入力!M95=\"\",\"\",IF(I86=1,VLOOKUP(②選手情報入力!M95,種目情報!$A$4:$B$29,2,FALSE),VLOOKUP(②選手情報入力!M95,種目情報!$E$4:$F$32,2,FALSE))))","v":""},{"$f":"IF(E86=\"\",\"\",IF(②選手情報入力!N95=\"\",\"\",②選手情報入力!N95))","v":""},{"$f":"IF(E86=\"\",\"\",IF(②選手情報入力!L95=\"\",\"\",1))","v":""},{"$f":"IF(E86=\"\",\"\",IF(②選手情報入力!M95=\"\",\"\",IF(I86=1,VLOOKUP(②選手情報入力!M95,種目情報!$A$4:$C$29,3,FALSE),VLOOKUP(②選手情報入力!M95,種目情報!$E$4:$G$32,3,FALSE))))","v":""},{"$f":"IF(E86=\"\",\"\",IF(②選手情報入力!P95=\"\",\"\",IF(I86=1,VLOOKUP(②選手情報入力!P95,種目情報!$A$4:$B$29,2,FALSE),VLOOKUP(②選手情報入力!P95,種目情報!$E$4:$F$32,2,FALSE))))","v":""},{"$f":"IF(E86=\"\",\"\",IF(②選手情報入力!Q95=\"\",\"\",②選手情報入力!Q95))","v":""},{"$f":"IF(E86=\"\",\"\",IF(②選手情報入力!O95=\"\",\"\",1))","v":""},{"$f":"IF(E86=\"\",\"\",IF(②選手情報入力!P95=\"\",\"\",IF(I86=1,VLOOKUP(②選手情報入力!P95,種目情報!$A$4:$C$29,3,FALSE),VLOOKUP(②選手情報入力!P95,種目情報!$E$4:$G$32,3,FALSE))))","v":""},{"$f":"IF(E86=\"\",\"\",IF(②選手情報入力!R95=\"\",\"\",IF(I86=1,種目情報!$J$4,種目情報!$J$6)))","v":""},{"$f":"IF(E86=\"\",\"\",IF(②選手情報入力!R95=\"\",\"\",IF(I86=1,IF(②選手情報入力!$S$6=\"\",\"\",②選手情報入力!$S$6),IF(②選手情報入力!$S$7=\"\",\"\",②選手情報入力!$S$7))))","v":""},{"$f":"IF(E86=\"\",\"\",IF(②選手情報入力!R95=\"\",\"\",IF(I86=1,IF(②選手情報入力!$R$6=\"\",0,1),IF(②選手情報入力!$R$7=\"\",0,1))))","v":""},{"$f":"IF(E86=\"\",\"\",IF(②選手情報入力!R95=\"\",\"\",2))","v":""},{"$f":"IF(E86=\"\",\"\",IF(②選手情報入力!T95=\"\",\"\",IF(I86=1,種目情報!$J$5,種目情報!$J$7)))","v":""},{"$f":"IF(E86=\"\",\"\",IF(②選手情報入力!T95=\"\",\"\",IF(I86=1,IF(②選手情報入力!$U$6=\"\",\"\",②選手情報入力!$U$6),IF(②選手情報入力!$U$7=\"\",\"\",②選手情報入力!$U$7))))","v":""},{"$f":"IF(E86=\"\",\"\",IF(②選手情報入力!T95=\"\",\"\",IF(I86=1,IF(②選手情報入力!$T$6=\"\",0,1),IF(②選手情報入力!$T$7=\"\",0,1))))","v":""},{"$f":"IF(E86=\"\",\"\",IF(②選手情報入力!T95=\"\",\"\",2))","v":""}]
[{"$f":"IF(E87=\"\",\"\",data_kyogisha!I87&①団体情報入力!C$4+②選手情報入力!C96+10000000)","v":""},{"$f":"IF(E87=\"\",\"\",①団体情報入力!$C$4)","v":""},null,{"$f":"IF(E87=\"\",\"\",②選手情報入力!B$11)","v":""},{"$f":"IF(②選手情報入力!C96=\"\",\"\",②選手情報入力!C96)","v":""},{"$f":"IF(E87=\"\",\"\",②選手情報入力!D96)","v":""},{"$f":"IF(E87=\"\",\"\",ASC(②選手情報入力!E96&\" \"&②選手情報入力!F96))","v":""},"",{"$f":"IF(E87=\"\",\"\",IF(②選手情報入力!G96=\"男\",1,2))","v":""},{"$f":"IF(E87=\"\",\"\",IF(②選手情報入力!H96=\"\",\"\",②選手情報入力!H96))","v":""},null,null,"",null,{"$f":"IF(E87=\"\",\"\",IF(②選手情報入力!J96=\"\",\"\",IF(I87=1,VLOOKUP(②選手情報入力!J96,種目情報!$A$4:$B$39,2,FALSE),VLOOKUP(②選手情報入力!J96,種目情報!$E$4:$F$29,2,FALSE))))","v":""},{"$f":"IF(E87=\"\",\"\",IF(②選手情報入力!K96=\"\",\"\",②選手情報入力!K96))","v":""},{"$f":"IF(E87=\"\",\"\",IF(②選手情報入力!I96=\"\",\"\",1))","v":""},{"$f":"IF(E87=\"\",\"\",IF(②選手情報入力!J96=\"\",\"\",IF(I87=1,VLOOKUP(②選手情報入力!J96,種目情報!$A$4:$C$29,3,FALSE),VLOOKUP(②選手情報入力!J96,種目情報!$E$4:$G$32,3,FALSE))))","v":""},{"$f":"IF(E87=\"\",\"\",IF(②選手情報入力!M96=\"\",\"\",IF(I87=1,VLOOKUP(②選手情報入力!M96,種目情報!$A$4:$B$29,2,FALSE),VLOOKUP(②選手情報入力!M96,種目情報!$E$4:$F$32,2,FALSE))))","v":""},{"$f":"IF(E87=\"\",\"\",IF(②選手情報入力!N96=\"\",\"\",②選手情報入力!N96))","v":""},{"$f":"IF(E87=\"\",\"\",IF(②選手情報入力!L96=\"\",\"\",1))","v":""},{"$f":"IF(E87=\"\",\"\",IF(②選手情報入力!M96=\"\",\"\",IF(I87=1,VLOOKUP(②選手情報入力!M96,種目情報!$A$4:$C$29,3,FALSE),VLOOKUP(②選手情報入力!M96,種目情報!$E$4:$G$32,3,FALSE))))","v":""},{"$f":"IF(E87=\"\",\"\",IF(②選手情報入力!P96=\"\",\"\",IF(I87=1,VLOOKUP(②選手情報入力!P96,種目情報!$A$4:$B$29,2,FALSE),VLOOKUP(②選手情報入力!P96,種目情報!$E$4:$F$32,2,FALSE))))","v":""},{"$f":"IF(E87=\"\",\"\",IF(②選手情報入力!Q96=\"\",\"\",②選手情報入力!Q96))","v":""},{"$f":"IF(E87=\"\",\"\",IF(②選手情報入力!O96=\"\",\"\",1))","v":""},{"$f":"IF(E87=\"\",\"\",IF(②選手情報入力!P96=\"\",\"\",IF(I87=1,VLOOKUP(②選手情報入力!P96,種目情報!$A$4:$C$29,3,FALSE),VLOOKUP(②選手情報入力!P96,種目情報!$E$4:$G$32,3,FALSE))))","v":""},{"$f":"IF(E87=\"\",\"\",IF(②選手情報入力!R96=\"\",\"\",IF(I87=1,種目情報!$J$4,種目情報!$J$6)))","v":""},{"$f":"IF(E87=\"\",\"\",IF(②選手情報入力!R96=\"\",\"\",IF(I87=1,IF(②選手情報入力!$S$6=\"\",\"\",②選手情報入力!$S$6),IF(②選手情報入力!$S$7=\"\",\"\",②選手情報入力!$S$7))))","v":""},{"$f":"IF(E87=\"\",\"\",IF(②選手情報入力!R96=\"\",\"\",IF(I87=1,IF(②選手情報入力!$R$6=\"\",0,1),IF(②選手情報入力!$R$7=\"\",0,1))))","v":""},{"$f":"IF(E87=\"\",\"\",IF(②選手情報入力!R96=\"\",\"\",2))","v":""},{"$f":"IF(E87=\"\",\"\",IF(②選手情報入力!T96=\"\",\"\",IF(I87=1,種目情報!$J$5,種目情報!$J$7)))","v":""},{"$f":"IF(E87=\"\",\"\",IF(②選手情報入力!T96=\"\",\"\",IF(I87=1,IF(②選手情報入力!$U$6=\"\",\"\",②選手情報入力!$U$6),IF(②選手情報入力!$U$7=\"\",\"\",②選手情報入力!$U$7))))","v":""},{"$f":"IF(E87=\"\",\"\",IF(②選手情報入力!T96=\"\",\"\",IF(I87=1,IF(②選手情報入力!$T$6=\"\",0,1),IF(②選手情報入力!$T$7=\"\",0,1))))","v":""},{"$f":"IF(E87=\"\",\"\",IF(②選手情報入力!T96=\"\",\"\",2))","v":""}]
[{"$f":"IF(E88=\"\",\"\",data_kyogisha!I88&①団体情報入力!C$4+②選手情報入力!C97+10000000)","v":""},{"$f":"IF(E88=\"\",\"\",①団体情報入力!$C$4)","v":""},null,{"$f":"IF(E88=\"\",\"\",②選手情報入力!B$11)","v":""},{"$f":"IF(②選手情報入力!C97=\"\",\"\",②選手情報入力!C97)","v":""},{"$f":"IF(E88=\"\",\"\",②選手情報入力!D97)","v":""},{"$f":"IF(E88=\"\",\"\",ASC(②選手情報入力!E97&\" \"&②選手情報入力!F97))","v":""},"",{"$f":"IF(E88=\"\",\"\",IF(②選手情報入力!G97=\"男\",1,2))","v":""},{"$f":"IF(E88=\"\",\"\",IF(②選手情報入力!H97=\"\",\"\",②選手情報入力!H97))","v":""},null,null,"",null,{"$f":"IF(E88=\"\",\"\",IF(②選手情報入力!J97=\"\",\"\",IF(I88=1,VLOOKUP(②選手情報入力!J97,種目情報!$A$4:$B$39,2,FALSE),VLOOKUP(②選手情報入力!J97,種目情報!$E$4:$F$29,2,FALSE))))","v":""},{"$f":"IF(E88=\"\",\"\",IF(②選手情報入力!K97=\"\",\"\",②選手情報入力!K97))","v":""},{"$f":"IF(E88=\"\",\"\",IF(②選手情報入力!I97=\"\",\"\",1))","v":""},{"$f":"IF(E88=\"\",\"\",IF(②選手情報入力!J97=\"\",\"\",IF(I88=1,VLOOKUP(②選手情報入力!J97,種目情報!$A$4:$C$29,3,FALSE),VLOOKUP(②選手情報入力!J97,種目情報!$E$4:$G$32,3,FALSE))))","v":""},{"$f":"IF(E88=\"\",\"\",IF(②選手情報入力!M97=\"\",\"\",IF(I88=1,VLOOKUP(②選手情報入力!M97,種目情報!$A$4:$B$29,2,FALSE),VLOOKUP(②選手情報入力!M97,種目情報!$E$4:$F$32,2,FALSE))))","v":""},{"$f":"IF(E88=\"\",\"\",IF(②選手情報入力!N97=\"\",\"\",②選手情報入力!N97))","v":""},{"$f":"IF(E88=\"\",\"\",IF(②選手情報入力!L97=\"\",\"\",1))","v":""},{"$f":"IF(E88=\"\",\"\",IF(②選手情報入力!M97=\"\",\"\",IF(I88=1,VLOOKUP(②選手情報入力!M97,種目情報!$A$4:$C$29,3,FALSE),VLOOKUP(②選手情報入力!M97,種目情報!$E$4:$G$32,3,FALSE))))","v":""},{"$f":"IF(E88=\"\",\"\",IF(②選手情報入力!P97=\"\",\"\",IF(I88=1,VLOOKUP(②選手情報入力!P97,種目情報!$A$4:$B$29,2,FALSE),VLOOKUP(②選手情報入力!P97,種目情報!$E$4:$F$32,2,FALSE))))","v":""},{"$f":"IF(E88=\"\",\"\",IF(②選手情報入力!Q97=\"\",\"\",②選手情報入力!Q97))","v":""},{"$f":"IF(E88=\"\",\"\",IF(②選手情報入力!O97=\"\",\"\",1))","v":""},{"$f":"IF(E88=\"\",\"\",IF(②選手情報入力!P97=\"\",\"\",IF(I88=1,VLOOKUP(②選手情報入力!P97,種目情報!$A$4:$C$29,3,FALSE),VLOOKUP(②選手情報入力!P97,種目情報!$E$4:$G$32,3,FALSE))))","v":""},{"$f":"IF(E88=\"\",\"\",IF(②選手情報入力!R97=\"\",\"\",IF(I88=1,種目情報!$J$4,種目情報!$J$6)))","v":""},{"$f":"IF(E88=\"\",\"\",IF(②選手情報入力!R97=\"\",\"\",IF(I88=1,IF(②選手情報入力!$S$6=\"\",\"\",②選手情報入力!$S$6),IF(②選手情報入力!$S$7=\"\",\"\",②選手情報入力!$S$7))))","v":""},{"$f":"IF(E88=\"\",\"\",IF(②選手情報入力!R97=\"\",\"\",IF(I88=1,IF(②選手情報入力!$R$6=\"\",0,1),IF(②選手情報入力!$R$7=\"\",0,1))))","v":""},{"$f":"IF(E88=\"\",\"\",IF(②選手情報入力!R97=\"\",\"\",2))","v":""},{"$f":"IF(E88=\"\",\"\",IF(②選手情報入力!T97=\"\",\"\",IF(I88=1,種目情報!$J$5,種目情報!$J$7)))","v":""},{"$f":"IF(E88=\"\",\"\",IF(②選手情報入力!T97=\"\",\"\",IF(I88=1,IF(②選手情報入力!$U$6=\"\",\"\",②選手情報入力!$U$6),IF(②選手情報入力!$U$7=\"\",\"\",②選手情報入力!$U$7))))","v":""},{"$f":"IF(E88=\"\",\"\",IF(②選手情報入力!T97=\"\",\"\",IF(I88=1,IF(②選手情報入力!$T$6=\"\",0,1),IF(②選手情報入力!$T$7=\"\",0,1))))","v":""},{"$f":"IF(E88=\"\",\"\",IF(②選手情報入力!T97=\"\",\"\",2))","v":""}]
[{"$f":"IF(E89=\"\",\"\",data_kyogisha!I89&①団体情報入力!C$4+②選手情報入力!C98+10000000)","v":""},{"$f":"IF(E89=\"\",\"\",①団体情報入力!$C$4)","v":""},null,{"$f":"IF(E89=\"\",\"\",②選手情報入力!B$11)","v":""},{"$f":"IF(②選手情報入力!C98=\"\",\"\",②選手情報入力!C98)","v":""},{"$f":"IF(E89=\"\",\"\",②選手情報入力!D98)","v":""},{"$f":"IF(E89=\"\",\"\",ASC(②選手情報入力!E98&\" \"&②選手情報入力!F98))","v":""},"",{"$f":"IF(E89=\"\",\"\",IF(②選手情報入力!G98=\"男\",1,2))","v":""},{"$f":"IF(E89=\"\",\"\",IF(②選手情報入力!H98=\"\",\"\",②選手情報入力!H98))","v":""},null,null,"",null,{"$f":"IF(E89=\"\",\"\",IF(②選手情報入力!J98=\"\",\"\",IF(I89=1,VLOOKUP(②選手情報入力!J98,種目情報!$A$4:$B$39,2,FALSE),VLOOKUP(②選手情報入力!J98,種目情報!$E$4:$F$29,2,FALSE))))","v":""},{"$f":"IF(E89=\"\",\"\",IF(②選手情報入力!K98=\"\",\"\",②選手情報入力!K98))","v":""},{"$f":"IF(E89=\"\",\"\",IF(②選手情報入力!I98=\"\",\"\",1))","v":""},{"$f":"IF(E89=\"\",\"\",IF(②選手情報入力!J98=\"\",\"\",IF(I89=1,VLOOKUP(②選手情報入力!J98,種目情報!$A$4:$C$29,3,FALSE),VLOOKUP(②選手情報入力!J98,種目情報!$E$4:$G$32,3,FALSE))))","v":""},{"$f":"IF(E89=\"\",\"\",IF(②選手情報入力!M98=\"\",\"\",IF(I89=1,VLOOKUP(②選手情報入力!M98,種目情報!$A$4:$B$29,2,FALSE),VLOOKUP(②選手情報入力!M98,種目情報!$E$4:$F$32,2,FALSE))))","v":""},{"$f":"IF(E89=\"\",\"\",IF(②選手情報入力!N98=\"\",\"\",②選手情報入力!N98))","v":""},{"$f":"IF(E89=\"\",\"\",IF(②選手情報入力!L98=\"\",\"\",1))","v":""},{"$f":"IF(E89=\"\",\"\",IF(②選手情報入力!M98=\"\",\"\",IF(I89=1,VLOOKUP(②選手情報入力!M98,種目情報!$A$4:$C$29,3,FALSE),VLOOKUP(②選手情報入力!M98,種目情報!$E$4:$G$32,3,FALSE))))","v":""},{"$f":"IF(E89=\"\",\"\",IF(②選手情報入力!P98=\"\",\"\",IF(I89=1,VLOOKUP(②選手情報入力!P98,種目情報!$A$4:$B$29,2,FALSE),VLOOKUP(②選手情報入力!P98,種目情報!$E$4:$F$32,2,FALSE))))","v":""},{"$f":"IF(E89=\"\",\"\",IF(②選手情報入力!Q98=\"\",\"\",②選手情報入力!Q98))","v":""},{"$f":"IF(E89=\"\",\"\",IF(②選手情報入力!O98=\"\",\"\",1))","v":""},{"$f":"IF(E89=\"\",\"\",IF(②選手情報入力!P98=\"\",\"\",IF(I89=1,VLOOKUP(②選手情報入力!P98,種目情報!$A$4:$C$29,3,FALSE),VLOOKUP(②選手情報入力!P98,種目情報!$E$4:$G$32,3,FALSE))))","v":""},{"$f":"IF(E89=\"\",\"\",IF(②選手情報入力!R98=\"\",\"\",IF(I89=1,種目情報!$J$4,種目情報!$J$6)))","v":""},{"$f":"IF(E89=\"\",\"\",IF(②選手情報入力!R98=\"\",\"\",IF(I89=1,IF(②選手情報入力!$S$6=\"\",\"\",②選手情報入力!$S$6),IF(②選手情報入力!$S$7=\"\",\"\",②選手情報入力!$S$7))))","v":""},{"$f":"IF(E89=\"\",\"\",IF(②選手情報入力!R98=\"\",\"\",IF(I89=1,IF(②選手情報入力!$R$6=\"\",0,1),IF(②選手情報入力!$R$7=\"\",0,1))))","v":""},{"$f":"IF(E89=\"\",\"\",IF(②選手情報入力!R98=\"\",\"\",2))","v":""},{"$f":"IF(E89=\"\",\"\",IF(②選手情報入力!T98=\"\",\"\",IF(I89=1,種目情報!$J$5,種目情報!$J$7)))","v":""},{"$f":"IF(E89=\"\",\"\",IF(②選手情報入力!T98=\"\",\"\",IF(I89=1,IF(②選手情報入力!$U$6=\"\",\"\",②選手情報入力!$U$6),IF(②選手情報入力!$U$7=\"\",\"\",②選手情報入力!$U$7))))","v":""},{"$f":"IF(E89=\"\",\"\",IF(②選手情報入力!T98=\"\",\"\",IF(I89=1,IF(②選手情報入力!$T$6=\"\",0,1),IF(②選手情報入力!$T$7=\"\",0,1))))","v":""},{"$f":"IF(E89=\"\",\"\",IF(②選手情報入力!T98=\"\",\"\",2))","v":""}]
[{"$f":"IF(E90=\"\",\"\",data_kyogisha!I90&①団体情報入力!C$4+②選手情報入力!C99+10000000)","v":""},{"$f":"IF(E90=\"\",\"\",①団体情報入力!$C$4)","v":""},null,{"$f":"IF(E90=\"\",\"\",②選手情報入力!B$11)","v":""},{"$f":"IF(②選手情報入力!C99=\"\",\"\",②選手情報入力!C99)","v":""},{"$f":"IF(E90=\"\",\"\",②選手情報入力!D99)","v":""},{"$f":"IF(E90=\"\",\"\",ASC(②選手情報入力!E99&\" \"&②選手情報入力!F99))","v":""},"",{"$f":"IF(E90=\"\",\"\",IF(②選手情報入力!G99=\"男\",1,2))","v":""},{"$f":"IF(E90=\"\",\"\",IF(②選手情報入力!H99=\"\",\"\",②選手情報入力!H99))","v":""},null,null,"",null,{"$f":"IF(E90=\"\",\"\",IF(②選手情報入力!J99=\"\",\"\",IF(I90=1,VLOOKUP(②選手情報入力!J99,種目情報!$A$4:$B$39,2,FALSE),VLOOKUP(②選手情報入力!J99,種目情報!$E$4:$F$29,2,FALSE))))","v":""},{"$f":"IF(E90=\"\",\"\",IF(②選手情報入力!K99=\"\",\"\",②選手情報入力!K99))","v":""},{"$f":"IF(E90=\"\",\"\",IF(②選手情報入力!I99=\"\",\"\",1))","v":""},{"$f":"IF(E90=\"\",\"\",IF(②選手情報入力!J99=\"\",\"\",IF(I90=1,VLOOKUP(②選手情報入力!J99,種目情報!$A$4:$C$29,3,FALSE),VLOOKUP(②選手情報入力!J99,種目情報!$E$4:$G$32,3,FALSE))))","v":""},{"$f":"IF(E90=\"\",\"\",IF(②選手情報入力!M99=\"\",\"\",IF(I90=1,VLOOKUP(②選手情報入力!M99,種目情報!$A$4:$B$29,2,FALSE),VLOOKUP(②選手情報入力!M99,種目情報!$E$4:$F$32,2,FALSE))))","v":""},{"$f":"IF(E90=\"\",\"\",IF(②選手情報入力!N99=\"\",\"\",②選手情報入力!N99))","v":""},{"$f":"IF(E90=\"\",\"\",IF(②選手情報入力!L99=\"\",\"\",1))","v":""},{"$f":"IF(E90=\"\",\"\",IF(②選手情報入力!M99=\"\",\"\",IF(I90=1,VLOOKUP(②選手情報入力!M99,種目情報!$A$4:$C$29,3,FALSE),VLOOKUP(②選手情報入力!M99,種目情報!$E$4:$G$32,3,FALSE))))","v":""},{"$f":"IF(E90=\"\",\"\",IF(②選手情報入力!P99=\"\",\"\",IF(I90=1,VLOOKUP(②選手情報入力!P99,種目情報!$A$4:$B$29,2,FALSE),VLOOKUP(②選手情報入力!P99,種目情報!$E$4:$F$32,2,FALSE))))","v":""},{"$f":"IF(E90=\"\",\"\",IF(②選手情報入力!Q99=\"\",\"\",②選手情報入力!Q99))","v":""},{"$f":"IF(E90=\"\",\"\",IF(②選手情報入力!O99=\"\",\"\",1))","v":""},{"$f":"IF(E90=\"\",\"\",IF(②選手情報入力!P99=\"\",\"\",IF(I90=1,VLOOKUP(②選手情報入力!P99,種目情報!$A$4:$C$29,3,FALSE),VLOOKUP(②選手情報入力!P99,種目情報!$E$4:$G$32,3,FALSE))))","v":""},{"$f":"IF(E90=\"\",\"\",IF(②選手情報入力!R99=\"\",\"\",IF(I90=1,種目情報!$J$4,種目情報!$J$6)))","v":""},{"$f":"IF(E90=\"\",\"\",IF(②選手情報入力!R99=\"\",\"\",IF(I90=1,IF(②選手情報入力!$S$6=\"\",\"\",②選手情報入力!$S$6),IF(②選手情報入力!$S$7=\"\",\"\",②選手情報入力!$S$7))))","v":""},{"$f":"IF(E90=\"\",\"\",IF(②選手情報入力!R99=\"\",\"\",IF(I90=1,IF(②選手情報入力!$R$6=\"\",0,1),IF(②選手情報入力!$R$7=\"\",0,1))))","v":""},{"$f":"IF(E90=\"\",\"\",IF(②選手情報入力!R99=\"\",\"\",2))","v":""},{"$f":"IF(E90=\"\",\"\",IF(②選手情報入力!T99=\"\",\"\",IF(I90=1,種目情報!$J$5,種目情報!$J$7)))","v":""},{"$f":"IF(E90=\"\",\"\",IF(②選手情報入力!T99=\"\",\"\",IF(I90=1,IF(②選手情報入力!$U$6=\"\",\"\",②選手情報入力!$U$6),IF(②選手情報入力!$U$7=\"\",\"\",②選手情報入力!$U$7))))","v":""},{"$f":"IF(E90=\"\",\"\",IF(②選手情報入力!T99=\"\",\"\",IF(I90=1,IF(②選手情報入力!$T$6=\"\",0,1),IF(②選手情報入力!$T$7=\"\",0,1))))","v":""},{"$f":"IF(E90=\"\",\"\",IF(②選手情報入力!T99=\"\",\"\",2))","v":""}]
[{"$f":"IF(E91=\"\",\"\",data_kyogisha!I91&①団体情報入力!C$4+②選手情報入力!C100+10000000)","v":""},{"$f":"IF(E91=\"\",\"\",①団体情報入力!$C$4)","v":""},null,{"$f":"IF(E91=\"\",\"\",②選手情報入力!B$11)","v":""},{"$f":"IF(②選手情報入力!C100=\"\",\"\",②選手情報入力!C100)","v":""},{"$f":"IF(E91=\"\",\"\",②選手情報入力!D100)","v":""},{"$f":"IF(E91=\"\",\"\",ASC(②選手情報入力!E100&\" \"&②選手情報入力!F100))","v":""},"",{"$f":"IF(E91=\"\",\"\",IF(②選手情報入力!G100=\"男\",1,2))","v":""},{"$f":"IF(E91=\"\",\"\",IF(②選手情報入力!H100=\"\",\"\",②選手情報入力!H100))","v":""},null,null,"",null,{"$f":"IF(E91=\"\",\"\",IF(②選手情報入力!J100=\"\",\"\",IF(I91=1,VLOOKUP(②選手情報入力!J100,種目情報!$A$4:$B$39,2,FALSE),VLOOKUP(②選手情報入力!J100,種目情報!$E$4:$F$29,2,FALSE))))","v":""},{"$f":"IF(E91=\"\",\"\",IF(②選手情報入力!K100=\"\",\"\",②選手情報入力!K100))","v":""},{"$f":"IF(E91=\"\",\"\",IF(②選手情報入力!I100=\"\",\"\",1))","v":""},{"$f":"IF(E91=\"\",\"\",IF(②選手情報入力!J100=\"\",\"\",IF(I91=1,VLOOKUP(②選手情報入力!J100,種目情報!$A$4:$C$29,3,FALSE),VLOOKUP(②選手情報入力!J100,種目情報!$E$4:$G$32,3,FALSE))))","v":""},{"$f":"IF(E91=\"\",\"\",IF(②選手情報入力!M100=\"\",\"\",IF(I91=1,VLOOKUP(②選手情報入力!M100,種目情報!$A$4:$B$29,2,FALSE),VLOOKUP(②選手情報入力!M100,種目情報!$E$4:$F$32,2,FALSE))))","v":""},{"$f":"IF(E91=\"\",\"\",IF(②選手情報入力!N100=\"\",\"\",②選手情報入力!N100))","v":""},{"$f":"IF(E91=\"\",\"\",IF(②選手情報入力!L100=\"\",\"\",1))","v":""},{"$f":"IF(E91=\"\",\"\",IF(②選手情報入力!M100=\"\",\"\",IF(I91=1,VLOOKUP(②選手情報入力!M100,種目情報!$A$4:$C$29,3,FALSE),VLOOKUP(②選手情報入力!M100,種目情報!$E$4:$G$32,3,FALSE))))","v":""},{"$f":"IF(E91=\"\",\"\",IF(②選手情報入力!P100=\"\",\"\",IF(I91=1,VLOOKUP(②選手情報入力!P100,種目情報!$A$4:$B$29,2,FALSE),VLOOKUP(②選手情報入力!P100,種目情報!$E$4:$F$32,2,FALSE))))","v":""},{"$f":"IF(E91=\"\",\"\",IF(②選手情報入力!Q100=\"\",\"\",②選手情報入力!Q100))","v":""},{"$f":"IF(E91=\"\",\"\",IF(②選手情報入力!O100=\"\",\"\",1))","v":""},{"$f":"IF(E91=\"\",\"\",IF(②選手情報入力!P100=\"\",\"\",IF(I91=1,VLOOKUP(②選手情報入力!P100,種目情報!$A$4:$C$29,3,FALSE),VLOOKUP(②選手情報入力!P100,種目情報!$E$4:$G$32,3,FALSE))))","v":""},{"$f":"IF(E91=\"\",\"\",IF(②選手情報入力!R100=\"\",\"\",IF(I91=1,種目情報!$J$4,種目情報!$J$6)))","v":""},{"$f":"IF(E91=\"\",\"\",IF(②選手情報入力!R100=\"\",\"\",IF(I91=1,IF(②選手情報入力!$S$6=\"\",\"\",②選手情報入力!$S$6),IF(②選手情報入力!$S$7=\"\",\"\",②選手情報入力!$S$7))))","v":""},{"$f":"IF(E91=\"\",\"\",IF(②選手情報入力!R100=\"\",\"\",IF(I91=1,IF(②選手情報入力!$R$6=\"\",0,1),IF(②選手情報入力!$R$7=\"\",0,1))))","v":""},{"$f":"IF(E91=\"\",\"\",IF(②選手情報入力!R100=\"\",\"\",2))","v":""},{"$f":"IF(E91=\"\",\"\",IF(②選手情報入力!T100=\"\",\"\",IF(I91=1,種目情報!$J$5,種目情報!$J$7)))","v":""},{"$f":"IF(E91=\"\",\"\",IF(②選手情報入力!T100=\"\",\"\",IF(I91=1,IF(②選手情報入力!$U$6=\"\",\"\",②選手情報入力!$U$6),IF(②選手情報入力!$U$7=\"\",\"\",②選手情報入力!$U$7))))","v":""},{"$f":"IF(E91=\"\",\"\",IF(②選手情報入力!T100=\"\",\"\",IF(I91=1,IF(②選手情報入力!$T$6=\"\",0,1),IF(②選手情報入力!$T$7=\"\",0,1))))","v":""},{"$f":"IF(E91=\"\",\"\",IF(②選手情報入力!T100=\"\",\"\",2))","v":""}]

{"sheet":"data_team","index":14,"n_rows":25,"n_cols":13,"rows_kept":25,"cut":false,"hidden":false,"merged":[]}
["チームNO","所属コード","チーム名","チーム名カナ","チーム名略称","チーム正式名称","ID","競技者NO","競技者名","参加競技-競技コード","参加競技-自己記録","参加競技-オープン参加FLG","参加競技-記録FLG"]
[{"$f":"IF(③リレー情報確認!C8=\"\",\"\",410000+①団体情報入力!$D$4*10)","v":""},{"$f":"IF(A2=\"\",\"\",①団体情報入力!$D$4)","v":""},{"$f":"IF(A2=\"\",\"\",③リレー情報確認!$J$1)","v":""},{"$f":"IF(A2=\"\",\"\",③リレー情報確認!$P$1)","v":""},null,null,1,{"$f":"IF(A2=\"\",\"\",③リレー情報確認!E8)","v":""},{"$f":"IF(A2=\"\",\"\",③リレー情報確認!D8)","v":""},{"$f":"IF(A2=\"\",\"\",種目情報!$J$4)","v":""},{"$f":"IF(A2=\"\",\"\",③リレー情報確認!$F$8)","v":""},{"$f":"IF(A2=\"\",\"\",IF(②選手情報入力!$R$6=\"\",0,1))","v":""},{"$f":"IF(A2=\"\",\"\",種目情報!$K$4)","v":""}]
[{"$f":"IF(③リレー情報確認!C9=\"\",\"\",410000+①団体情報入力!$D$4*10)","v":""},{"$f":"IF(A3=\"\",\"\",①団体情報入力!$D$4)","v":""},{"$f":"IF(A3=\"\",\"\",③リレー情報確認!$J$1)","v":""},{"$f":"IF(A3=\"\",\"\",③リレー情報確認!$P$1)","v":""},null,null,2,{"$f":"IF(A3=\"\",\"\",③リレー情報確認!E9)","v":""},{"$f":"IF(A3=\"\",\"\",③リレー情報確認!D9)","v":""},{"$f":"IF(A3=\"\",\"\",種目情報!$J$4)","v":""},{"$f":"IF(A3=\"\",\"\",③リレー情報確認!$F$8)","v":""},{"$f":"IF(A3=\"\",\"\",IF(②選手情報入力!$R$6=\"\",0,1))","v":""},{"$f":"IF(A3=\"\",\"\",種目情報!$K$4)","v":""}]
[{"$f":"IF(③リレー情報確認!C10=\"\",\"\",410000+①団体情報入力!$D$4*10)","v":""},{"$f":"IF(A4=\"\",\"\",①団体情報入力!$D$4)","v":""},{"$f":"IF(A4=\"\",\"\",③リレー情報確認!$J$1)","v":""},{"$f":"IF(A4=\"\",\"\",③リレー情報確認!$P$1)","v":""},null,null,3,{"$f":"IF(A4=\"\",\"\",③リレー情報確認!E10)","v":""},{"$f":"IF(A4=\"\",\"\",③リレー情報確認!D10)","v":""},{"$f":"IF(A4=\"\",\"\",種目情報!$J$4)","v":""},{"$f":"IF(A4=\"\",\"\",③リレー情報確認!$F$8)","v":""},{"$f":"IF(A4=\"\",\"\",IF(②選手情報入力!$R$6=\"\",0,1))","v":""},{"$f":"IF(A4=\"\",\"\",種目情報!$K$4)","v":""}]
[{"$f":"IF(③リレー情報確認!C11=\"\",\"\",410000+①団体情報入力!$D$4*10)","v":""},{"$f":"IF(A5=\"\",\"\",①団体情報入力!$D$4)","v":""},{"$f":"IF(A5=\"\",\"\",③リレー情報確認!$J$1)","v":""},{"$f":"IF(A5=\"\",\"\",③リレー情報確認!$P$1)","v":""},null,null,4,{"$f":"IF(A5=\"\",\"\",③リレー情報確認!E11)","v":""},{"$f":"IF(A5=\"\",\"\",③リレー情報確認!D11)","v":""},{"$f":"IF(A5=\"\",\"\",種目情報!$J$4)","v":""},{"$f":"IF(A5=\"\",\"\",③リレー情報確認!$F$8)","v":""},{"$f":"IF(A5=\"\",\"\",IF(②選手情報入力!$R$6=\"\",0,1))","v":""},{"$f":"IF(A5=\"\",\"\",種目情報!$K$4)","v":""}]
[{"$f":"IF(③リレー情報確認!C12=\"\",\"\",410000+①団体情報入力!$D$4*10)","v":""},{"$f":"IF(A6=\"\",\"\",①団体情報入力!$D$4)","v":""},{"$f":"IF(A6=\"\",\"\",③リレー情報確認!$J$1)","v":""},{"$f":"IF(A6=\"\",\"\",③リレー情報確認!$P$1)","v":""},null,null,5,{"$f":"IF(A6=\"\",\"\",③リレー情報確認!E12)","v":""},{"$f":"IF(A6=\"\",\"\",③リレー情報確認!D12)","v":""},{"$f":"IF(A6=\"\",\"\",種目情報!$J$4)","v":""},{"$f":"IF(A6=\"\",\"\",③リレー情報確認!$F$8)","v":""},{"$f":"IF(A6=\"\",\"\",IF(②選手情報入力!$R$6=\"\",0,1))","v":""},{"$f":"IF(A6=\"\",\"\",種目情報!$K$4)","v":""}]
[{"$f":"IF(③リレー情報確認!C13=\"\",\"\",410000+①団体情報入力!$D$4*10)","v":""},{"$f":"IF(A7=\"\",\"\",①団体情報入力!$D$4)","v":""},{"$f":"IF(A7=\"\",\"\",③リレー情報確認!$J$1)","v":""},{"$f":"IF(A7=\"\",\"\",③リレー情報確認!$P$1)","v":""},null,null,6,{"$f":"IF(A7=\"\",\"\",③リレー情報確認!E13)","v":""},{"$f":"IF(A7=\"\",\"\",③リレー情報確認!D13)","v":""},{"$f":"IF(A7=\"\",\"\",種目情報!$J$4)","v":""},{"$f":"IF(A7=\"\",\"\",③リレー情報確認!$F$8)","v":""},{"$f":"IF(A7=\"\",\"\",IF(②選手情報入力!$R$6=\"\",0,1))","v":""},{"$f":"IF(A7=\"\",\"\",種目情報!$K$4)","v":""}]
[{"$f":"IF(③リレー情報確認!I8=\"\",\"\",1610000+①団体情報入力!$D$4*10)","v":""},{"$f":"IF(A8=\"\",\"\",①団体情報入力!$D$4)","v":""},{"$f":"IF(A8=\"\",\"\",③リレー情報確認!$J$1)","v":""},{"$f":"IF(A8=\"\",\"\",③リレー情報確認!$P$1)","v":""},null,null,1,{"$f":"IF(A8=\"\",\"\",③リレー情報確認!K8)","v":""},{"$f":"IF(A8=\"\",\"\",③リレー情報確認!J8)","v":""},{"$f":"IF(A8=\"\",\"\",種目情報!$J$5)","v":""},{"$f":"IF(A8=\"\",\"\",③リレー情報確認!$L$8)","v":""},{"$f":"IF(A8=\"\",\"\",IF(②選手情報入力!$R$7=\"\",0,1))","v":""},{"$f":"IF(A8=\"\",\"\",種目情報!$K$5)","v":""}]
[{"$f":"IF(③リレー情報確認!I9=\"\",\"\",1610000+①団体情報入力!$D$4*10)","v":""},{"$f":"IF(A9=\"\",\"\",①団体情報入力!$D$4)","v":""},{"$f":"IF(A9=\"\",\"\",③リレー情報確認!$J$1)","v":""},{"$f":"IF(A9=\"\",\"\",③リレー情報確認!$P$1)","v":""},null,null,2,{"$f":"IF(A9=\"\",\"\",③リレー情報確認!K9)","v":""},{"$f":"IF(A9=\"\",\"\",③リレー情報確認!J9)","v":""},{"$f":"IF(A9=\"\",\"\",種目情報!$J$5)","v":""},{"$f":"IF(A9=\"\",\"\",③リレー情報確認!$L$8)","v":""},{"$f":"IF(A9=\"\",\"\",IF(②選手情報入力!$R$7=\"\",0,1))","v":""},{"$f":"IF(A9=\"\",\"\",種目情報!$K$5)","v":""}]
[{"$f":"IF(③リレー情報確認!I10=\"\",\"\",1610000+①団体情報入力!$D$4*10)","v":""},{"$f":"IF(A10=\"\",\"\",①団体情報入力!$D$4)","v":""},{"$f":"IF(A10=\"\",\"\",③リレー情報確認!$J$1)","v":""},{"$f":"IF(A10=\"\",\"\",③リレー情報確認!$P$1)","v":""},null,null,3,{"$f":"IF(A10=\"\",\"\",③リレー情報確認!K10)","v":""},{"$f":"IF(A10=\"\",\"\",③リレー情報確認!J10)","v":""},{"$f":"IF(A10=\"\",\"\",種目情報!$J$5)","v":""},{"$f":"IF(A10=\"\",\"\",③リレー情報確認!$L$8)","v":""},{"$f":"IF(A10=\"\",\"\",IF(②選手情報入力!$R$7=\"\",0,1))","v":""},{"$f":"IF(A10=\"\",\"\",種目情報!$K$5)","v":""}]
[{"$f":"IF(③リレー情報確認!I11=\"\",\"\",1610000+①団体情報入力!$D$4*10)","v":""},{"$f":"IF(A11=\"\",\"\",①団体情報入力!$D$4)","v":""},{"$f":"IF(A11=\"\",\"\",③リレー情報確認!$J$1)","v":""},{"$f":"IF(A11=\"\",\"\",③リレー情報確認!$P$1)","v":""},null,null,4,{"$f":"IF(A11=\"\",\"\",③リレー情報確認!K11)","v":""},{"$f":"IF(A11=\"\",\"\",③リレー情報確認!J11)","v":""},{"$f":"IF(A11=\"\",\"\",種目情報!$J$5)","v":""},{"$f":"IF(A11=\"\",\"\",③リレー情報確認!$L$8)","v":""},{"$f":"IF(A11=\"\",\"\",IF(②選手情報入力!$R$7=\"\",0,1))","v":""},{"$f":"IF(A11=\"\",\"\",種目情報!$K$5)","v":""}]
[{"$f":"IF(③リレー情報確認!I12=\"\",\"\",1610000+①団体情報入力!$D$4*10)","v":""},{"$f":"IF(A12=\"\",\"\",①団体情報入力!$D$4)","v":""},{"$f":"IF(A12=\"\",\"\",③リレー情報確認!$J$1)","v":""},{"$f":"IF(A12=\"\",\"\",③リレー情報確認!$P$1)","v":""},null,null,5,{"$f":"IF(A12=\"\",\"\",③リレー情報確認!K12)","v":""},{"$f":"IF(A12=\"\",\"\",③リレー情報確認!J12)","v":""},{"$f":"IF(A12=\"\",\"\",種目情報!$J$5)","v":""},{"$f":"IF(A12=\"\",\"\",③リレー情報確認!$L$8)","v":""},{"$f":"IF(A12=\"\",\"\",IF(②選手情報入力!$R$7=\"\",0,1))","v":""},{"$f":"IF(A12=\"\",\"\",種目情報!$K$5)","v":""}]
[{"$f":"IF(③リレー情報確認!I13=\"\",\"\",1610000+①団体情報入力!$D$4*10)","v":""},{"$f":"IF(A13=\"\",\"\",①団体情報入力!$D$4)","v":""},{"$f":"IF(A13=\"\",\"\",③リレー情報確認!$J$1)","v":""},{"$f":"IF(A13=\"\",\"\",③リレー情報確認!$P$1)","v":""},null,null,6,{"$f":"IF(A13=\"\",\"\",③リレー情報確認!K13)","v":""},{"$f":"IF(A13=\"\",\"\",③リレー情報確認!J13)","v":""},{"$f":"IF(A13=\"\",\"\",種目情報!$J$5)","v":""},{"$f":"IF(A13=\"\",\"\",③リレー情報確認!$L$8)","v":""},{"$f":"IF(A13=\"\",\"\",IF(②選手情報入力!$R$7=\"\",0,1))","v":""},{"$f":"IF(A13=\"\",\"\",種目情報!$K$5)","v":""}]
[{"$f":"IF(③リレー情報確認!O8=\"\",\"\",420000+①団体情報入力!$D$4*10)","v":""},{"$f":"IF(A14=\"\",\"\",①団体情報入力!$D$4)","v":""},{"$f":"IF(A14=\"\",\"\",③リレー情報確認!$J$1)","v":""},{"$f":"IF(A14=\"\",\"\",③リレー情報確認!$P$1)","v":""},null,null,1,{"$f":"IF(A14=\"\",\"\",③リレー情報確認!Q8)","v":""},{"$f":"IF(A14=\"\",\"\",③リレー情報確認!P8)","v":""},{"$f":"IF(A14=\"\",\"\",種目情報!$J$6)","v":""},{"$f":"IF(A14=\"\",\"\",③リレー情報確認!$R$8)","v":""},{"$f":"IF(A14=\"\",\"\",IF(②選手情報入力!$T$6=\"\",0,1))","v":""},{"$f":"IF(A14=\"\",\"\",種目情報!$K$6)","v":""}]
[{"$f":"IF(③リレー情報確認!O9=\"\",\"\",420000+①団体情報入力!$D$4*10)","v":""},{"$f":"IF(A15=\"\",\"\",①団体情報入力!$D$4)","v":""},{"$f":"IF(A15=\"\",\"\",③リレー情報確認!$J$1)","v":""},{"$f":"IF(A15=\"\",\"\",③リレー情報確認!$P$1)","v":""},null,null,2,{"$f":"IF(A15=\"\",\"\",③リレー情報確認!Q9)","v":""},{"$f":"IF(A15=\"\",\"\",③リレー情報確認!P9)","v":""},{"$f":"IF(A15=\"\",\"\",種目情報!$J$6)","v":""},{"$f":"IF(A15=\"\",\"\",③リレー情報確認!$R$8)","v":""},{"$f":"IF(A15=\"\",\"\",IF(②選手情報入力!$T$6=\"\",0,1))","v":""},{"$f":"IF(A15=\"\",\"\",種目情報!$K$6)","v":""}]
[{"$f":"IF(③リレー情報確認!O10=\"\",\"\",420000+①団体情報入力!$D$4*10)","v":""},{"$f":"IF(A16=\"\",\"\",①団体情報入力!$D$4)","v":""},{"$f":"IF(A16=\"\",\"\",③リレー情報確認!$J$1)","v":""},{"$f":"IF(A16=\"\",\"\",③リレー情報確認!$P$1)","v":""},null,null,3,{"$f":"IF(A16=\"\",\"\",③リレー情報確認!Q10)","v":""},{"$f":"IF(A16=\"\",\"\",③リレー情報確認!P10)","v":""},{"$f":"IF(A16=\"\",\"\",種目情報!$J$6)","v":""},{"$f":"IF(A16=\"\",\"\",③リレー情報確認!$R$8)","v":""},{"$f":"IF(A16=\"\",\"\",IF(②選手情報入力!$T$6=\"\",0,1))","v":""},{"$f":"IF(A16=\"\",\"\",種目情報!$K$6)","v":""}]
[{"$f":"IF(③リレー情報確認!O11=\"\",\"\",420000+①団体情報入力!$D$4*10)","v":""},{"$f":"IF(A17=\"\",\"\",①団体情報入力!$D$4)","v":""},{"$f":"IF(A17=\"\",\"\",③リレー情報確認!$J$1)","v":""},{"$f":"IF(A17=\"\",\"\",③リレー情報確認!$P$1)","v":""},null,null,4,{"$f":"IF(A17=\"\",\"\",③リレー情報確認!Q11)","v":""},{"$f":"IF(A17=\"\",\"\",③リレー情報確認!P11)","v":""},{"$f":"IF(A17=\"\",\"\",種目情報!$J$6)","v":""},{"$f":"IF(A17=\"\",\"\",③リレー情報確認!$R$8)","v":""},{"$f":"IF(A17=\"\",\"\",IF(②選手情報入力!$T$6=\"\",0,1))","v":""},{"$f":"IF(A17=\"\",\"\",種目情報!$K$6)","v":""}]
[{"$f":"IF(③リレー情報確認!O12=\"\",\"\",420000+①団体情報入力!$D$4*10)","v":""},{"$f":"IF(A18=\"\",\"\",①団体情報入力!$D$4)","v":""},{"$f":"IF(A18=\"\",\"\",③リレー情報確認!$J$1)","v":""},{"$f":"IF(A18=\"\",\"\",③リレー情報確認!$P$1)","v":""},null,null,5,{"$f":"IF(A18=\"\",\"\",③リレー情報確認!Q12)","v":""},{"$f":"IF(A18=\"\",\"\",③リレー情報確認!P12)","v":""},{"$f":"IF(A18=\"\",\"\",種目情報!$J$6)","v":""},{"$f":"IF(A18=\"\",\"\",③リレー情報確認!$R$8)","v":""},{"$f":"IF(A18=\"\",\"\",IF(②選手情報入力!$T$6=\"\",0,1))","v":""},{"$f":"IF(A18=\"\",\"\",種目情報!$K$6)","v":""}]
[{"$f":"IF(③リレー情報確認!O13=\"\",\"\",420000+①団体情報入力!$D$4*10)","v":""},{"$f":"IF(A19=\"\",\"\",①団体情報入力!$D$4)","v":""},{"$f":"IF(A19=\"\",\"\",③リレー情報確認!$J$1)","v":""},{"$f":"IF(A19=\"\",\"\",③リレー情報確認!$P$1)","v":""},null,null,6,{"$f":"IF(A19=\"\",\"\",③リレー情報確認!Q13)","v":""},{"$f":"IF(A19=\"\",\"\",③リレー情報確認!P13)","v":""},{"$f":"IF(A19=\"\",\"\",種目情報!$J$6)","v":""},{"$f":"IF(A19=\"\",\"\",③リレー情報確認!$R$8)","v":""},{"$f":"IF(A19=\"\",\"\",IF(②選手情報入力!$T$6=\"\",0,1))","v":""},{"$f":"IF(A19=\"\",\"\",種目情報!$K$6)","v":""}]
[{"$f":"IF(③リレー情報確認!U8=\"\",\"\",1620000+①団体情報入力!$D$4*10)","v":""},{"$f":"IF(A20=\"\",\"\",①団体情報入力!$D$4)","v":""},{"$f":"IF(A20=\"\",\"\",③リレー情報確認!$J$1)","v":""},{"$f":"IF(A20=\"\",\"\",③リレー情報確認!$P$1)","v":""},null,null,1,{"$f":"IF(A20=\"\",\"\",③リレー情報確認!W8)","v":""},{"$f":"IF(A20=\"\",\"\",③リレー情報確認!V8)","v":""},{"$f":"IF(A20=\"\",\"\",種目情報!$J$7)","v":""},{"$f":"IF(A20=\"\",\"\",③リレー情報確認!$X$8)","v":""},{"$f":"IF(A20=\"\",\"\",IF(②選手情報入力!$T$7=\"\",0,1))","v":""},{"$f":"IF(A20=\"\",\"\",種目情報!$K$7)","v":""}]
[{"$f":"IF(③リレー情報確認!U9=\"\",\"\",1620000+①団体情報入力!$D$4*10)","v":""},{"$f":"IF(A21=\"\",\"\",①団体情報入力!$D$4)","v":""},{"$f":"IF(A21=\"\",\"\",③リレー情報確認!$J$1)","v":""},{"$f":"IF(A21=\"\",\"\",③リレー情報確認!$P$1)","v":""},null,null,2,{"$f":"IF(A21=\"\",\"\",③リレー情報確認!W9)","v":""},{"$f":"IF(A21=\"\",\"\",③リレー情報確認!V9)","v":""},{"$f":"IF(A21=\"\",\"\",種目情報!$J$7)","v":""},{"$f":"IF(A21=\"\",\"\",③リレー情報確認!$X$8)","v":""},{"$f":"IF(A21=\"\",\"\",IF(②選手情報入力!$T$7=\"\",0,1))","v":""},{"$f":"IF(A21=\"\",\"\",種目情報!$K$7)","v":""}]
[{"$f":"IF(③リレー情報確認!U10=\"\",\"\",1620000+①団体情報入力!$D$4*10)","v":""},{"$f":"IF(A22=\"\",\"\",①団体情報入力!$D$4)","v":""},{"$f":"IF(A22=\"\",\"\",③リレー情報確認!$J$1)","v":""},{"$f":"IF(A22=\"\",\"\",③リレー情報確認!$P$1)","v":""},null,null,3,{"$f":"IF(A22=\"\",\"\",③リレー情報確認!W10)","v":""},{"$f":"IF(A22=\"\",\"\",③リレー情報確認!V10)","v":""},{"$f":"IF(A22=\"\",\"\",種目情報!$J$7)","v":""},{"$f":"IF(A22=\"\",\"\",③リレー情報確認!$X$8)","v":""},{"$f":"IF(A22=\"\",\"\",IF(②選手情報入力!$T$7=\"\",0,1))","v":""},{"$f":"IF(A22=\"\",\"\",種目情報!$K$7)","v":""}]
[{"$f":"IF(③リレー情報確認!U11=\"\",\"\",1620000+①団体情報入力!$D$4*10)","v":""},{"$f":"IF(A23=\"\",\"\",①団体情報入力!$D$4)","v":""},{"$f":"IF(A23=\"\",\"\",③リレー情報確認!$J$1)","v":""},{"$f":"IF(A23=\"\",\"\",③リレー情報確認!$P$1)","v":""},null,null,4,{"$f":"IF(A23=\"\",\"\",③リレー情報確認!W11)","v":""},{"$f":"IF(A23=\"\",\"\",③リレー情報確認!V11)","v":""},{"$f":"IF(A23=\"\",\"\",種目情報!$J$7)","v":""},{"$f":"IF(A23=\"\",\"\",③リレー情報確認!$X$8)","v":""},{"$f":"IF(A23=\"\",\"\",IF(②選手情報入力!$T$7=\"\",0,1))","v":""},{"$f":"IF(A23=\"\",\"\",種目情報!$K$7)","v":""}]
[{"$f":"IF(③リレー情報確認!U12=\"\",\"\",1620000+①団体情報入力!$D$4*10)","v":""},{"$f":"IF(A24=\"\",\"\",①団体情報入力!$D$4)","v":""},{"$f":"IF(A24=\"\",\"\",③リレー情報確認!$J$1)","v":""},{"$f":"IF(A24=\"\",\"\",③リレー情報確認!$P$1)","v":""},null,null,5,{"$f":"IF(A24=\"\",\"\",③リレー情報確認!W12)","v":""},{"$f":"IF(A24=\"\",\"\",③リレー情報確認!V12)","v":""},{"$f":"IF(A24=\"\",\"\",種目情報!$J$7)","v":""},{"$f":"IF(A24=\"\",\"\",③リレー情報確認!$X$8)","v":""},{"$f":"IF(A24=\"\",\"\",IF(②選手情報入力!$T$7=\"\",0,1))","v":""},{"$f":"IF(A24=\"\",\"\",種目情報!$K$7)","v":""}]
[{"$f":"IF(③リレー情報確認!U13=\"\",\"\",1620000+①団体情報入力!$D$4*10)","v":""},{"$f":"IF(A25=\"\",\"\",①団体情報入力!$D$4)","v":""},{"$f":"IF(A25=\"\",\"\",③リレー情報確認!$J$1)","v":""},{"$f":"IF(A25=\"\",\"\",③リレー情報確認!$P$1)","v":""},null,null,6,{"$f":"IF(A25=\"\",\"\",③リレー情報確認!W13)","v":""},{"$f":"IF(A25=\"\",\"\",③リレー情報確認!V13)","v":""},{"$f":"IF(A25=\"\",\"\",種目情報!$J$7)","v":""},{"$f":"IF(A25=\"\",\"\",③リレー情報確認!$X$8)","v":""},{"$f":"IF(A25=\"\",\"\",IF(②選手情報入力!$T$7=\"\",0,1))","v":""},{"$f":"IF(A25=\"\",\"\",種目情報!$K$7)","v":""}]

{"sheet":"Sheet6","index":15,"n_rows":416,"n_cols":6,"rows_kept":416,"cut":false,"hidden":false,"merged":[]}
["No","団体名略称","団体コード","団体名略称","団体名カナ","No"]
[1,"ﾋﾃﾞｿﾝｽﾞ",230010,"ﾋﾃﾞｿﾝｽﾞ","ヒデソンズ",{"$f":"A2","v":1}]
[2,"中京大ｸﾗﾌﾞ",230017,"中京大ｸﾗﾌﾞ","チュウキョウダイ",{"$f":"A3","v":2}]
[3,"愛知茗友ｸﾗﾌﾞ",230019,"愛知茗友ｸﾗﾌﾞ","アイチメイユウクラブ",3]
[4,"知多体協クラブ",230024,"知多体協クラブ","チタタイキョウクラブ",4]
[5,"愛知県庁ｸﾗﾌﾞ",230026,"愛知県庁ｸﾗﾌﾞ","アイチケンチョウクラブ",5]
[6,"知多ﾗﾝﾅｰｽﾞ",230030,"知多ﾗﾝﾅｰｽﾞ","チタランナーズ",6]
[7,"三菱重工名古屋",230033,"三菱重工名古屋","ミツビシジュウコウナゴヤ",7]
[8,"知多AC",230035,"知多AC","チタエーシー",8]
[9,"愛知製鋼",230036,"愛知製鋼","アイチセイコウ",9]
[10,"名大倶楽部",230039,"名大倶楽部","メイダイクラブ",10]
[11,"中央発條(株)",230041,"中央発條(株)","チュウオウハツジョウ(カ)",11]
[12,"名古屋AC",230044,"名古屋AC","ナゴヤエーシー",12]
[13,"名古屋市役所",230045,"名古屋市役所","ナゴヤシヤクショソウユウカイ",13]
[14,"なごや陸上ｸ",230054,"なごや陸上ｸ","ナゴヤリクジョウクラブ",14]
[15,"ｵｵﾀﾆｸﾗﾌﾞ",230060,"ｵｵﾀﾆｸﾗﾌﾞ","オオタニクラブ",15]
[16,"CHUKYO ",230067,"CHUKYO ","チュウキョウスピリッツ",16]
[17,"OWLS",230075,"OWLS","オウルズ",17]
[18,"東海理化",230077,"東海理化","トウカイリカ",18]
[19,"T･K",230083,"T･K","チームケー",19]
[20,"知多教員ｸﾗﾌﾞ",230086,"知多教員ｸﾗﾌﾞ","チタキョウインクラブ",20]
[21,"愛教大ｸ名古屋",230090,"愛教大ｸ名古屋","アイキョウダイクラブナゴヤ",21]
[22,"愛三工業",230091,"愛三工業","アイサンコウギョウ",22]
[23,"菊里クラブ",230093,"菊里クラブ","キクザトクラブ",23]
[24,"名城ARC",230094,"名城ARC","メイジョウオールランナーズクラブ",24]
[25,"愛知電機",230095,"愛知電機","アイチデンキ",25]
[26,"三菱重工冷熱",230097,"三菱重工冷熱","ミツビシジュウコウレイネツ",26]
[27,"ｾｶﾝﾄﾞｳｲﾝﾄﾞ",230099,"ｾｶﾝﾄﾞｳｲﾝﾄﾞ","セカンドウインド",27]
[28,"名学院ｸﾗﾌﾞ",230108,"名学院ｸﾗﾌﾞ","ナゴヤガクインクラブ",28]
[29,"大同特殊鋼",230123,"大同特殊鋼","ダイドウトクシュコウ",29]
[30,"あいち健康の森",230124,"あいち健康の森","アイチケンコンノモリソウユウカイ",30]
[31,"KSAC",230139,"KSAC","ケイエスエーシー",31]
[32,"名古屋市消防局",230142,"名古屋市消防局","ナゴヤシショウボウキョク",32]
[33,"庄内ＲＴ",230154,"庄内ＲＴ","ショウナイアールティ",33]
[34,"ﾄｰｴﾈｯｸ",230165,"ﾄｰｴﾈｯｸ","（カ）トーエネック",34]
[35,"至学館クラブ",230169,"至学館クラブ","シガクカンクラブ",35]
[36,"守山35普連",230175,"守山35普連","モリヤマサンジュウゴフレン",36]
[37,"天白川走友会",230180,"天白川走友会","テンパクガワソウユウカイ",37]
[38,"KTMC",230198,"KTMC","ケーティーエムクラブ",38]
[39,"ﾐｽﾞﾉ",230200,"ﾐｽﾞﾉ","ミズノ",39]
[40,"ｱｽｶﾑRC",230226,"ｱｽｶﾑRC","アスカムアールシー",40]
[41,"TTC",230251,"TTC","ティーティーシー",41]
[42,"東海ﾃﾞｶｽﾛﾝ",230252,"東海ﾃﾞｶｽﾛﾝ","トウカイデカスロン",42]
[43,"ANC",230268,"ANC","アイチナゴヤクラブ",43]
[44,"中部電力名古屋",230272,"中部電力名古屋","チュウブデンリョクナゴヤ",44]
[45,"にっとTFC",230278,"にっとTFC","ニットティーエフシー",45]
[46,"日本保育ｻｰﾋﾞ",230289,"日本保育ｻｰﾋﾞ","ニホンホイクサービス",46]
[47,"みかん山",230315,"みかん山","ミカンヤマ",47]
[48,"ﾁｰﾑKoi",230326,"ﾁｰﾑKoi","チームコイ",48]
[49,"知多TC",230329,"知多TC","チタトラッククラブ",49]
[50,"兄弟駅伝部",230338,"兄弟駅伝部","キョウダイエキデンブ",50]
[51,"JR東海",230340,"JR東海","ジェイアールトウカイリクジョウキョウギクラブ",51]
[52,"TSM",230346,"TSM","ティーエスエム",52]
[53,"三菱重工走友会",230353,"三菱重工走友会","ミツビシジュウコウソウユウカイ",53]
[54,"知多走友会",230354,"知多走友会","チタソウユウカイ",54]
[55,"ｳｨﾝﾄﾞﾗﾝ",230355,"ｳｨﾝﾄﾞﾗﾝ","ウィンドラン",55]
[56,"YAMATE AC",230356,"YAMATE AC","ヤマテエイシー",56]
[57,"名聾AC",230365,"名聾AC","メイロウエーシー",57]
[58,"AGUD",230366,"AGUD","アイチガクインダイガクシガクブ",58]
[59,"百花繚･RUN",230368,"百花繚･RUN","チーム　ヒャッカリョウラン",59]
[60,"AGX",230372,"AGX","エージーエックス",60]
[61,"東郷AC",230374,"東郷AC","トウゴウエイシー",61]
[62,"尾張旭RC",230384,"尾張旭RC","オワリアサヒランニングクラブ",62]
[63,"名古屋指導者",230385,"名古屋指導者","ナゴヤシドウシャキョウギカイクラブ",63]
[64,"名古屋AOI RC",230388,"名古屋AOI RC","ナゴヤアオイランニングクラブ",64]
[65,"ﾗﾝｱｯﾌﾟ",230390,"ﾗﾝｱｯﾌﾟ","ランアップ",65]
[66,"ﾌｧｲﾝﾄﾞｱｳﾄ",230393,"ﾌｧｲﾝﾄﾞｱｳﾄ","ファインドアウト",{"$f":"A67","v":66}]
[67,"大須AC",230394,"大須AC","オオスエーシー",67]
[68,"南知多RC",230397,"南知多RC","ミナミチタ　アール　シー",68]
[69,"FROG",230398,"FROG","フロッグ",69]
[70,"ﾗｲｽﾞｳｨﾝﾄﾞ",230399,"ﾗｲｽﾞｳｨﾝﾄﾞ","ライズウィンドランニングクラブ",70]
[71,"つばさﾄﾗｯｸｸﾗﾌﾞ",230403,"つばさﾄﾗｯｸｸﾗﾌﾞ","アイチツバサトラッククラブアカデミー",71]
[72,"JRC",230406,"JRC","トヨヤマジェイアールシー",72]
[73,"POWERMAX",230407,"POWERMAX","パワーマックス",73]
[74,"日進ＲＣ",230411,"日進ＲＣ","ニッシンランニングクラブ",74]
[75,"名古屋テレビ",230413,"名古屋テレビ","ナゴヤテレビランニングクラブ",75]
[76,"R2中日本",230414,"R2中日本","クラブアールツーナカニホン",76]
[77,"神野会",230416,"神野会","ジンノカイ",77]
[78,"栄徳EAGLES",230424,"栄徳EAGLES","エイトクイーグルス",78]
[79,"良友クラブ",230426,"良友クラブ","リョウユウクラブ",79]
[80,"加藤建設",230431,"加藤建設","カブシキガイシャカトウケンセツ",80]
[81,"グランシエル",230435,"グランシエル","グランシエル",81]
[82,"よかにせＰＲＣ",230436,"よかにせＰＲＣ","ヨカニセピーアールシー",82]
[83,"高蔵寺自衛隊",230437,"高蔵寺自衛隊","コウゾウジジエイタイ",83]
[84,"大日本図書",230438,"大日本図書","ダイニッポントショ",84]
[85,"OBUエニスポ",230440,"OBUエニスポ","オオブエニスポアスリートクラブ",85]
[86,"アクアAC",230442,"アクアAC","アクアエシー",86]
[87,"ハムちゃんず",230448,"ハムちゃんず","ランニングチームハムチャンズ",87]
[88,"スズラン",230449,"スズラン","スズキランニングクラブ",88]
[89,"ＹＯＵＫＩ陸上",230450,"ＹＯＵＫＩ陸上","ユウキリクジョウクラブ",89]
[90,"明正アスリーツ",230453,"明正アスリーツ","メイセイアスリーツ",90]
[91,"ＲＣベルマーレ",230455,"ＲＣベルマーレ","アールシーベルマーレ",91]
[92,"レッドオルカ",230463,"レッドオルカ","レッドオルカ",92]
[93,"リップル",230464,"リップル","リップル",93]
[94,"No-Mark",230466,"No-Mark","ノーマーク",94]
[95,"中部桃丘TFC",230467,"中部桃丘TFC","チュウブトウキュウトラックアンドフィールドクラブ",95]
[96,"SET PROJECT",230468,"SET PROJECT","セットプロジェクト",96]
[97,"TNP",230477,"TNP","ティーエヌピー",97]
[98,"名城大薬学部",230962,"名城大薬学部","メイジョウダイヤクガクブ",98]
[99,"旭丘高",233101,"旭丘高","アサヒガオカ",99]
[100,"明和高",233102,"明和高","メイワ",100]
[101,"千種高",233103,"千種高","チグサ",101]
[102,"瑞陵高",233104,"瑞陵高","ズイリョウ",102]
[103,"惟信高",233105,"惟信高","イシン",103]
[104,"松蔭高",233106,"松蔭高","ショウイン",104]
[105,"昭和高",233107,"昭和高","ショウワ",105]
[106,"名古屋西高",233108,"名古屋西高","ナゴヤニシ",106]
[107,"熱田高",233109,"熱田高","アツタ",107]
[108,"中村高",233110,"中村高","ナカムラ",108]
[109,"南陽高",233111,"南陽高","ナンヨウ",109]
[110,"鳴海高",233112,"鳴海高","ナルミ",110]
[111,"守山高",233113,"守山高","モリヤマ",111]
[112,"愛知工高",233114,"愛知工高","アイチコウギョウ",112]
[113,"愛知総合工科高",233115,"愛知総合工科高","ソウゴウコウカ",113]
[114,"名南工高",233116,"名南工高","メイナンコウギョウ",114]
[115,"愛知商高",233117,"愛知商高","アイチショウギョウ",115]
[116,"中川商高",233118,"中川商高","ナカガワショウギョウ",116]
[117,"緑丘高",233119,"緑丘高","ミドリガオカ",117]
[118,"春日井高",233124,"春日井高","カスガイ",118]
[119,"春日井西高",233125,"春日井西高","カスガイニシ",119]
[120,"春日井商高",233126,"春日井商高","カスガイショウギョウ",120]
[121,"旭野高",233127,"旭野高","アサヒノ",121]
[122,"長久手高",233128,"長久手高","ナガクテ",122]
[123,"東郷高",233129,"東郷高","トウゴウ",123]
[124,"瀬戸高",233130,"瀬戸高","セト",124]
[125,"豊明高",233133,"豊明高","トヨアケ",125]
[126,"大府高",233159,"大府高","オオブ",126]
[127,"桃陵高",233160,"桃陵高","トウリョウ",127]
[128,"横須賀高",233161,"横須賀高","ヨコスカ",128]
[129,"東海商高",233162,"東海商高","トウカイショウギョウ",129]
[130,"常滑高",233163,"常滑高","トコナメ",{"$f":"A131","v":130}]
[131,"内海高",233165,"内海高","ウツミ",131]
[132,"半田高",233166,"半田高","ハンダ",132]
[133,"半田農高",233167,"半田農高","ハンダノウギョウ",133]
[134,"半田工高",233168,"半田工高","ハンダコウギョウ",134]
[135,"半田商高",233169,"半田商高","ハンダショウギョウ",135]
[136,"武豊高",233172,"武豊高","タケトヨ",136]
[137,"天白高",233226,"天白高","テンパク",137]
[138,"東海南高",233228,"東海南高","トウカイミナミ",138]
[139,"菊里高",233230,"菊里高","キクザト",139]
[140,"向陽高",233231,"向陽高","コウヨウ",140]
[141,"桜台高",233232,"桜台高","サクラダイ",141]
[142,"市立北高",233233,"市立北高","キタ",142]
[143,"市工業高",233234,"市工業高","コウギョウ",143]
[144,"市工芸高",233235,"市工芸高","コウゲイ",144]
[145,"西陵高",233236,"西陵高","セイリョウ",145]
[146,"名古屋商高",233237,"名古屋商高","ナゴヤショウギョウ",146]
[147,"若宮商高",233238,"若宮商高","ナゴヤイチリツワカミヤショウギョウ",147]
[148,"緑高",233239,"緑高","ミドリ",148]
[149,"富田高",233243,"富田高","トミダ",149]
[150,"山田高",233244,"山田高","ヤマダ",150]
[151,"瀬戸西高",233245,"瀬戸西高","セトニシ",151]
[152,"春日井東高",233246,"春日井東高","ヒガシ",152]
[153,"日進高",233247,"日進高","ニッシン",153]
[154,"阿久比高",233255,"阿久比高","アグイ",154]
[155,"高蔵寺高",233257,"高蔵寺高","コウゾウジ",155]
[156,"半田東高",233261,"半田東高","ハンダヒガシ",156]
[157,"春日井工高",233262,"春日井工高","カスガイコウギョウ",157]
[158,"日進西高",233263,"日進西高","ニッシンニシ",158]
[159,"大府東高",233266,"大府東高","オオブヒガシ",159]
[160,"知多翔洋高",233267,"知多翔洋高","チタショウヨウ",160]
[161,"名古屋南高",233271,"名古屋南高","ナゴヤミナミ",161]
[162,"瀬戸北総合高",233272,"瀬戸北総合高","セトキタソウゴウ",162]
[163,"名東高",233274,"名東高","メイトウ",163]
[164,"春日井南高",233275,"春日井南高","カスガイミナミ",164]
[165,"名古屋聾高",233454,"名古屋聾高","ナゴヤロウ",165]
[166,"愛知高",233501,"愛知高","アイチガクインアイチ",166]
[167,"愛知淑徳高",233502,"愛知淑徳高","アイチシュクトクガクエンアイチシュクトク",167]
[168,"啓明学館高",233503,"啓明学館高","アイビガクエンケイメイガッカン",168]
[169,"名経大市邨高",233504,"名経大市邨高","イチムラガクエンナゴヤケイザイタ",169]
[170,"名経大高蔵高",233505,"名経大高蔵高","イチムラガクエンナゴヤケイザイダ",170]
[171,"名古屋大谷高",233506,"名古屋大谷高","オワリガクエンナゴヤオオタニ",171]
[172,"享栄高",233507,"享栄高","アイチキョウエイガクエンキョウエイ",172]
[173,"椙山高",233509,"椙山高","スギヤマジョガクエンスギヤマシ",173]
[174,"大同大大同高",233510,"大同大大同高","ダイドウガクエンダイドウダイガクダイドウ",174]
[175,"福祉大付高",233511,"福祉大付高","ニホンフクシダイガクフゾク",175]
[176,"中京大中京高",233512,"中京大中京高","ウメムラガクエンチュウキョウダイガ",176]
[177,"至学館高",233513,"至学館高","シガッカンシガクカン",177]
[178,"東海高",233514,"東海高","トウカイガクエントウカイ",178]
[179,"東海学園高",233515,"東海学園高","トウカイガクエン",179]
[180,"愛産大工高",233516,"愛産大工高","アイチサンギョウダイガクアイチサン",180]
[181,"東邦高",233517,"東邦高","トウホウガクエントウホウ",181]
[182,"同朋高",233518,"同朋高","ドウホウガクエンドウホウ",182]
[183,"名古屋高",233519,"名古屋高","ナゴヤガクインナゴヤ",183]
[184,"名古屋工高",233520,"名古屋工高","メイコウガクエンナゴヤコウギョウ",184]
[185,"名女大高",233522,"名女大高","コシハラガクエンナゴヤジョシダイ",185]
[186,"中部大一高",233523,"中部大一高","チュウブダイガクチュウブダイカ",186]
[187,"桜花学園高",233524,"桜花学園高","オウカガクエンオウカガクエン",187]
[188,"愛工大名電高",233525,"愛工大名電高","ナゴヤデンキガクエンアイチコウギ",188]
[189,"南山男子高",233526,"南山男子高","ナンザンガクエンダンシ",189]
[190,"南山女高",233527,"南山女高","ナンザンガクエンナンザン(ジョシ",190]
[191,"名城大附高",233528,"名城大附高","メイジョウダイガクフゾク",191]
[192,"菊華高",233529,"菊華高","キクタケガクエンキクカ",192]
[193,"星城高",233533,"星城高","ナゴヤイシダガクエンセイジョウ",193]
[194,"聖霊高",233534,"聖霊高","ナンザンガクエンセイレイ",{"$f":"A195","v":194}]
[195,"中部大春日丘高",233536,"中部大春日丘高","チュウブダイガクチュウブダイガクハルヒガオカ",195]
[196,"栄徳高",233552,"栄徳高","アイチキョウエイガクエンエイトク",196]
[197,"名古屋情報",233801,"名古屋情報","ナゴヤジョウホウ",197]
[198,"名古屋工学院",233802,"名古屋工学院","ナゴヤコウガクイ",198]
[199,"東海工専",233991,"東海工専","トウカイコウギョウセンモンガッコウアツタコウ",199]
[200,"あぐい陸上ク",234029,"あぐい陸上ク","アグイリクジョウクラブ",200]
[201,"2nd ATHLETE",234030,"2nd ATHLETE","セカンドアスリート",201]
[202,"名大医学部AC",234090,"名大医学部AC","ﾒｲﾀﾞｲｲｶﾞｸﾌﾞｴｰｼｰ",202]
[203,"城山中",235002,"城山中","シロヤマチュウ",203]
[204,"千種台中",235003,"千種台中","チクサダイ",204]
[205,"振甫中",235004,"振甫中","シンポ",205]
[206,"若水中",235005,"若水中","ワカミズチュウ",206]
[207,"千種中",235006,"千種中","チクサチュウ",207]
[208,"冨士中",235009,"冨士中","フジチュウ",208]
[209,"北陵中",235014,"北陵中","ホクリョウチュウ",209]
[210,"大曽根中",235015,"大曽根中","オオゾネチュウ",210]
[211,"名古屋北中",235018,"名古屋北中","ナゴヤキタ",211]
[212,"名塚中",235021,"名塚中","ナヅカ",212]
[213,"天神山中",235022,"天神山中","テンジンヤマチュウ",213]
[214,"豊国中",235026,"豊国中","トヨクニチュウ",214]
[215,"豊正中",235030,"豊正中","ホウセイ",215]
[216,"伊勢山中",235035,"伊勢山中","イセヤマチュウ",216]
[217,"瑞穂ヶ丘中",235043,"瑞穂ヶ丘中","ミズホガオカチュウ",217]
[218,"萩山中",235044,"萩山中","ハギヤマチュウ",218]
[219,"汐路中",235045,"汐路中","シオジチュウ",219]
[220,"沢上中",235047,"沢上中","サワカミチュウ",220]
[221,"日比野中",235049,"日比野中","ヒビノチュウ",221]
[222,"長良中",235051,"長良中","ナガラチュウ",222]
[223,"一柳中",235053,"一柳中","イチヤナギチュウ",223]
[224,"富田中",235056,"富田中","トミダチュウ",224]
[225,"はとり中",235057,"はとり中","ハトリ",225]
[226,"港南中",235061,"港南中","コウナンチュウ",226]
[227,"東港中",235063,"東港中","トウコウ",227]
[228,"南陽中",235064,"南陽中","ナンヨウチュウ",228]
[229,"宝神中",235065,"宝神中","ホウジン",229]
[230,"当知中",235066,"当知中","トウチチュウ",230]
[231,"桜田中",235071,"桜田中","サクラダチュウ",231]
[232,"南光中",235075,"南光中","ナンコウチュウ",232]
[233,"守山中",235076,"守山中","モリヤマ",233]
[234,"守山東中",235077,"守山東中","モリヤマヒガシ",234]
[235,"守山西中",235078,"守山西中","モリヤマニシチュウ",235]
[236,"鳴海中",235083,"鳴海中","ナルミチュウ",236]
[237,"鳴子台中",235084,"鳴子台中","ナルコダイチュウ",237]
[238,"大高中",235085,"大高中","オオダカチュウ",238]
[239,"有松中",235086,"有松中","アリマツ",239]
[240,"千鳥丘中",235088,"千鳥丘中","チドリガオカチュウ",240]
[241,"扇台中",235090,"扇台中","オウギダイチュウ",241]
[242,"鎌倉台中",235093,"鎌倉台中","カマクラダイチュウ",242]
[243,"神の倉中",235094,"神の倉中","カミノクラ",243]
[244,"猪高中",235095,"猪高中","イタカチュウ",244]
[245,"神丘中",235096,"神丘中","カミオカチュウ",245]
[246,"高針台中",235097,"高針台中","タカバリダイ",246]
[247,"藤森中",235099,"藤森中","フジモリチュウ",247]
[248,"牧の池中",235100,"牧の池中","マキノイケチュウ",248]
[249,"御幸山中",235104,"御幸山中","ミユキヤマ",249]
[250,"平針中",235106,"平針中","ヒラバリ",250]
[251,"水無瀬中",235129,"水無瀬中","セトシリツミナセチュウ",251]
[252,"瀬戸南山中",235131,"瀬戸南山中","セトミナミヤマ",252]
[253,"春日井東部中",235137,"春日井東部中","トウブチュウ",253]
[254,"春日井中部中",235138,"春日井中部中","チュウブチュウ",254]
[255,"高蔵寺中",235141,"高蔵寺中","コウゾウジチュウ",255]
[256,"高森台中",235146,"高森台中","タカモリダイチュウ",256]
[257,"味美中",235148,"味美中","アジヨシチュウ",257]
[258,"味岡中",235162,"味岡中","アジオカチュウ",{"$f":"A259","v":258}]
[259,"尾張旭東中",235180,"尾張旭東中","オワリアサヒシリツヒガシチュウ",259]
[260,"尾張旭西中",235181,"尾張旭西中","オワリアサヒシリツニシチュウ",260]
[261,"豊明中",235184,"豊明中","トヨアケ",261]
[262,"栄中",235185,"栄中","サカエチュウ",262]
[263,"沓掛中",235186,"沓掛中","クツカケチュウ",263]
[264,"日進西中",235188,"日進西中","ニッシンニシチュウ",264]
[265,"日進東中",235189,"日進東中","ニッシンヒガシチュウ",265]
[266,"春木中",235201,"春木中","ハルキチュウ",266]
[267,"長久手中",235203,"長久手中","ナガクテ",267]
[268,"亀崎中",235233,"亀崎中","カメザキチュウ",268]
[269,"横須賀中",235242,"横須賀中","ヨコスカチュウ",269]
[270,"大府中",235246,"大府中","オオブチュウ",270]
[271,"大府西中",235247,"大府西中","オオブニシ",271]
[272,"大府北中",235248,"大府北中","オオブキタチュウ",272]
[273,"知多中",235251,"知多中","チタシツリチタチュウ",273]
[274,"知多東部中",235253,"知多東部中","チタトウブチュウ",274]
[275,"知多中部中",235254,"知多中部中","チタチュウブ",275]
[276,"東浦北部中",235257,"東浦北部中","ヒガシウラホクブチュウ",276]
[277,"東浦西部中",235258,"東浦西部中","ヒガシウラセイブチュウ",277]
[278,"野間中",235264,"野間中","ノマチュウ",278]
[279,"河和中",235265,"河和中","コウワチュウ",279]
[280,"武豊中",235266,"武豊中","タケトヨ",280]
[281,"富貴中",235267,"富貴中","フキ",281]
[282,"愛知中",235414,"愛知中","アイチ",282]
[283,"椙山女学園中",235415,"椙山女学園中","スギヤマジョガクエンチュウ",283]
[284,"愛知淑徳中",235417,"愛知淑徳中","アイチシュクトクチュウ",284]
[285,"東海中",235420,"東海中","トウカイ",285]
[286,"名古屋中",235421,"名古屋中","ナゴヤチュウ",286]
[287,"南山中男子部",235422,"南山中男子部","ナンザンチュウ　ダンシブ",287]
[288,"名古屋女子大学中",235424,"名古屋女子大学中","ナゴヤジョシダイガクチュウ",288]
[289,"名経大高蔵中",235425,"名経大高蔵中","メイケイダイタカクラ",289]
[290,"聖霊中",235428,"聖霊中","セイレイチュウ",290]
[291,"長久手北中",235437,"長久手北中","ナガクテシリツキタチュウ",291]
[292,"吉根中",235440,"吉根中","キッコチュウ",292]
[293,"阿久比中",235991,"阿久比中","ｱｸﾞｲﾁｭｳ",293]
[294,"乙川中",235992,"乙川中","ｵｯｶﾜﾁｭｳ",294]
[295,"東浦中",235993,"東浦中","ﾋｶﾞｼｳﾗﾁｭｳ",295]
[296,"北山中",235994,"北山中","ｷﾀﾔﾏﾁｭｳ",296]
[297,"前津中",235995,"前津中","ﾏｴﾂﾞﾁｭｳ",297]
[298,"田光中",235998,"田光中","タコウチュウ",298]
[299,"日進中",235999,"日進中","ニッシンチュウ",299]
[300,"水野中",236999,"水野中","ﾐｽﾞﾉﾁｭｳ",300]
[301,"北海道大",490001,"北海道大","ホッカイドウダイガク",301]
[302,"北見工業大",490007,"北見工業大","キタミコウギョウダイガク",302]
[303,"東北大",490010,"東北大","トウホクダイガク",303]
[304,"福島大",490014,"福島大","フクシマダイガク",304]
[305,"筑波大",490016,"筑波大","ツクバダイガク",305]
[306,"千葉大",490020,"千葉大","チバダイガク",306]
[307,"東京大",490021,"東京大","トウキョウダイガク",307]
[308,"東京外国語大",490023,"東京外国語大","トウキョウガイコクゴダイガク",308]
[309,"東京学芸大",490024,"東京学芸大","トウキョウガクゲイダイガク",309]
[310,"東京工業大",490028,"東京工業大","トウキョウコウギョウダイガク",310]
[311,"お茶の水女子大",490031,"お茶の水女子大","オチャノミズジョシダイガク",311]
[312,"電気通信大",490032,"電気通信大","デンキツウシンダイガク",312]
[313,"一橋大",490033,"一橋大","ヒトツバシダイガク",313]
[314,"横浜国立大",490034,"横浜国立大","ヨコハマコクリツダイガク",314]
[315,"富山大",490036,"富山大","トヤマダイガク",315]
[316,"福井大",490038,"福井大","フクイダイガク",316]
[317,"名古屋大",490043,"名古屋大","ナゴヤダイガク",317]
[318,"愛知教育大",490044,"愛知教育大","アイチキョウイクダイガク",318]
[319,"名古屋工業大",490045,"名古屋工業大","ナゴヤコウギョウダイガク",319]
[320,"三重大",490046,"三重大","ミエダイガク",320]
[321,"京都大",490048,"京都大","キョウトダイガク",321]
[322,"京都教育大",490049,"京都教育大","キョウトキョウイクダイガク",{"$f":"A323","v":322}]
[323,"大阪大",490051,"大阪大","オオサカダイガク",323]
[324,"大阪教育大",490053,"大阪教育大","オオサカキョウイクダイガク",324]
[325,"神戸大",490054,"神戸大","コウベダイガク",325]
[326,"岡山大",490061,"岡山大","オカヤマダイガク",326]
[327,"広島大",490062,"広島大","ヒロシマダイガク",327]
[328,"九州大",490069,"九州大","キュウシュウダイガク",328]
[329,"豊橋技術科学大",490085,"豊橋技術科学大","トヨハシギジュツカガクダイガク",329]
[330,"兵庫教育大",490092,"兵庫教育大","ヒョウゴキョウイクダイガク",330]
[331,"鹿屋体育大",490096,"鹿屋体育大","カノヤタイイクダイガク",331]
[332,"滋賀大",490100,"滋賀大","シガダイ",332]
[333,"札幌医科大",491001,"札幌医科大","サッポロイカダイガク",333]
[334,"高崎経済大",491003,"高崎経済大","タカサキケイザイダイガク",334]
[335,"横浜市立大",491005,"横浜市立大","ヨコハマイチリツダイガク",335]
[336,"都留文科大",491007,"都留文科大","ツルブンカダイガク",336]
[337,"愛知県立大",491011,"愛知県立大","アイチケンリツダイガク",337]
[338,"名古屋市立大",491013,"名古屋市立大","ナゴヤシリツダイガク",338]
[339,"首都大東京",491085,"首都大東京","シュトダイガクトウキョウ",339]
[340,"東京国際大",492035,"東京国際大","トウキョウコクサイダイガク",340]
[341,"城西大",492037,"城西大","ジョウサイダイガク",341]
[342,"中央学院大",492047,"中央学院大","チュウオウガクインダイガク",342]
[343,"麗澤大",492049,"麗澤大","レイタクダイガク",343]
[344,"青山学院大",492051,"青山学院大","アオヤマガクインダイガク",344]
[345,"亜細亜大",492052,"亜細亜大","アジアダイガク",345]
[346,"桜美林大",492055,"桜美林大","オウビリンダイガク",346]
[347,"慶應義塾大",492062,"慶應義塾大","ケイオウギジュクダイガク",347]
[348,"國學院大",492064,"國學院大","コクガクインダイガク",348]
[349,"国士舘大",492066,"国士舘大","コクシカンダイガク",349]
[350,"駒澤大",492067,"駒澤大","コマザワダイガク",350]
[351,"順天堂大",492070,"順天堂大","ジュンテンドウダイガク",351]
[352,"上智大",492071,"上智大","ジョウチダイガク",352]
[353,"成蹊大",492079,"成蹊大","セイケイダイガク",353]
[354,"創価大",492085,"創価大","ソウカダイガク",354]
[355,"大東文化大",492087,"大東文化大","ダイトウブンカダイガク",355]
[356,"玉川大",492090,"玉川大","タマガワダイガク",356]
[357,"中央大",492092,"中央大","チュウオウダイガク",357]
[358,"津田塾大",492093,"津田塾大","ツダジュクダイガク",358]
[359,"帝京大",492094,"帝京大","テイキョウダイガク",359]
[360,"東海大",492095,"東海大","トウカイダイガク",360]
[361,"東京経済大",492100,"東京経済大","トウキョウケイザイダイガク",361]
[362,"東京女子体育大",492105,"東京女子体育大","トウキョウジョシタイイクダイガク",362]
[363,"東京農業大",492109,"東京農業大","トウキョウノウギョウダイガク",363]
[364,"東京理科大",492111,"東京理科大","トウキョウリカダイガク",364]
[365,"東洋大",492114,"東洋大","トウヨウダイガク",365]
[366,"日本大",492116,"日本大","ニホンダイガク",366]
[367,"日本女子体育大",492122,"日本女子体育大","ニホンジョシタイイクダイガク",367]
[368,"日本体育大",492123,"日本体育大","ニッポンタイイクダイガク",368]
[369,"法政大",492126,"法政大","ホウセイダイガク",369]
[370,"東京都市大",492129,"東京都市大","トウキョウトシダイガク",370]
[371,"明治大",492133,"明治大","メイジダイガク",371]
[372,"早稲田大",492140,"早稲田大","ワセダダイガク",372]
[373,"神奈川大",492142,"神奈川大","カナガワダイガク",373]
[374,"関東学院大",492144,"関東学院大","カントウガクインダイガク",374]
[375,"山梨学院大",492158,"山梨学院大","ヤマナシガクインダイガク",375]
[376,"岐阜協立大",492161,"岐阜協立大","ギフキョウリツダイガク",376]
[377,"岐阜聖徳",492164,"岐阜聖徳","ギフショウトクガクエンダイガク",377]
[378,"愛知大",492165,"愛知大","アイチダイガク",378]
[379,"愛知医科大",492166,"愛知医科大","アイチイカダイガク",379]
[380,"愛知学院大",492167,"愛知学院大","アイチガクインダイガク",380]
[381,"愛知工業大",492168,"愛知工業大","アイチコウギョウダイガク",381]
[382,"金城学院大",492170,"金城学院大","キンジョウガクインダイガク",382]
[383,"椙山女学園大",492171,"椙山女学園大","スギヤマジョガクエンダイガク",383]
[384,"大同大",492172,"大同大","ダイドウダイガク",384]
[385,"中京大",492173,"中京大","チュウキョウダイガク",385]
[386,"至学館大",492174,"至学館大","シガッカンダイガク",{"$f":"A387","v":386}]
[387,"中部大",492175,"中部大","チュウブダイガク",387]
[388,"名古屋学院大",492177,"名古屋学院大","ナゴヤガクインダイガク",388]
[389,"藤田医科大",492181,"藤田医科大","フジタイカダイガク",389]
[390,"南山大",492182,"南山大","ナンザンダイガク",390]
[391,"日本福祉大",492183,"日本福祉大","ニホンフクシダイガク",391]
[392,"名城大",492184,"名城大","メイジョウダイガク",392]
[393,"皇學館大",492185,"皇學館大","コウガッカンダイガク",393]
[394,"京都光華女子大",492192,"京都光華女子大","キョウトコウカジョシダイガク",394]
[395,"同志社大",492195,"同志社大","ドウシシャダイガク",395]
[396,"立命館大",492200,"立命館大","リツメイカンダイガク",396]
[397,"大阪学院大",492204,"大阪学院大","オオサカガクインダイガク",397]
[398,"大阪芸術大",492207,"大阪芸術大","オオサカゲイジュツダイガク",398]
[399,"大阪産業大",492209,"大阪産業大","オオサカサンギョウダイガク",399]
[400,"大阪体育大",492213,"大阪体育大","オオサカタイイクダイガク",400]
[401,"関西外国語大",492220,"関西外国語大","カンサイガイコクゴダイガク",401]
[402,"近畿大",492221,"近畿大","キンキダイガク",402]
[403,"関西学院大",492232,"関西学院大","カンセイガクインダイガク",403]
[404,"甲南大",492234,"甲南大","コウナンダイガク",404]
[405,"愛知淑徳大",492301,"愛知淑徳大","アイチショウトクダイガク",405]
[406,"産業医科大",492314,"産業医科大","サンギョウイカダイガク",406]
[407,"国際武道大",492330,"国際武道大","コクサイブドウダイガク",407]
[408,"駿河台大",492337,"駿河台大","スルガダイダイガク",408]
[409,"東海学園大",492412,"東海学園大","トウカイガクエンダイガク",409]
[410,"平成国際大",492420,"平成国際大","ヘイセイコクサイダイガク",410]
[411,"愛知東邦大",492491,"愛知東邦大","アイチトウホウダイガク",411]
[412,"びわこｽﾎﾟｰﾂ大",492522,"びわこｽﾎﾟｰﾂ大","ビワコセイケイスポーツダイガク",412]
[413,"大阪成蹊大",492523,"大阪成蹊大","オオサカセイケイダイガク",413]
[414,"ｸﾗﾌﾞR2中日本",234031,"ｸﾗﾌﾞR2中日本","クラブアールツーナカニホン",414]
[415,"大阪府立大",499101,"大阪府立大","オオサカフリツダイ",415]