{"text_format":"1","workbook":"xlsx","n_sheets":12,"sheets":["注意事項","①団体情報入力","②選手情報入力","③リレー情報確認","④種目別人数","⑤申込一覧表","⑥リレーの選手が反映されない場合の対処","　　　　　","種目情報","data_kyogisha","data_team","団体一覧"],"not_rendered":{"charts":0,"images":4,"macros":1,"external_links":3,"defined_names":33,"comments":2,"pivot_tables":0},"unopened":[],"bounds":{"document_bytes":16777216,"sheet_cells":100000,"rows_first":2000,"rows_last":500,"rows_between":2000,"halvings":0,"cell_chars":16384,"cell_head_chars":4096},"cells_cut":0,"cells_raw":0,"read":"whole","date_system":"1900"}

{"sheet":"注意事項","index":0,"n_rows":76,"n_cols":10,"rows_kept":76,"cut":false,"hidden":false,"merged":[[59,4,59,7],[74,3,74,7],[35,6,35,7],[35,8,35,9],[3,2,3,4],[3,5,3,7],[14,1,14,9],[22,1,22,19],[9,1,9,7],[0,0,0,13],[6,1,6,2],[7,1,7,7],[8,1,8,2],[8,3,8,5],[2,2,2,7],[4,2,4,7],[8,6,8,7],[6,3,6,5],[6,6,6,7],[2,9,4,13]]}
["　★データ入力前にこのページの内容を必ずお読みください。"]
[]
[null,"大会名","2018年　名古屋市民スポーツ祭陸上競技大会",null,null,null,null,null,null,"中学用"]
[null,"期　日","2018-08-25",null,null,"2018-08-26"]
[null,"会　場","パロマ瑞穂スタジアム・パロマ瑞穂北陸上競技場"]
[]
[null,"メール送信期限",null,"2018-07-20",null,null,"19:00:00"]
[null,"※メール送信を完了してください！"]
[null,"書類郵送期限　",null,"2018-07-23",null,null,"必着"]
[null,"メール送信後、下記まで郵送してください"]
["　＜注意事項等＞"]
[null,"この大会は、名古屋市内の中学校に在学の方のみ参加できます。"]
[null,"中体連学校番号と陸協登録番号の混在は構いません。"]
[]
[null,"※このファイルをメールに添付して送信してください！"]
[null,"　①ファイルの送信がないと受付けしたことにはなりません。"]
[null,"　②必ず、ファイル名を団体名に変更して下さい。また、メールの件名(タイトル：Subject)にも団体名を入れて下さい。"]
[null,"　③ファイルの内容に訂正がある場合は、ファイル名の後に必ず訂正版等の文字を入れて下さい。"]
[null,"　④ファイルの送信忘れ・訂正時のファイル名の変更がない場合等によりプログラムから漏れた場合には、"]
[null,"　　トラックレースでは最後の組以降に新たに組を追加する場合があります。リレーの場合は、再番編を行う場合があります。"]
[null,"　　フィールド種目では、１番記録の近い組の一番最後に追加します。"]
[null,"　⑤リレー情報確認で、メンバーが反映されていることを必ず確認してください。"]
[null,"　　ナンバーが正しく入力されていて情報が反映されていない場合、選手情報入力シートのナンバーが左寄りになってい 　\n　　ます。この場合、ナンバーのセルが文字列になっていますので数値に変換してください。\n    方法は、⑥リレーの選手が反映されない場合の対処をご覧ください。"]
[]
["　★作業の流れは次のとおりです。"]
[]
["　　①選手情報の入力"]
["↓","　　入力を確認して、申込種目、記録を入力してください。"]
["↓","　　※ナンバーは、アルファベットは団体情報入力で、数字は選手情報入力で入力してください。"]
["↓","　　※入力は、男子を先に入力し、続けて女子を入力してください。絶対に行を空けないでください。"]
["↓","　　※氏名については、姓と名の間に全角スペースを１つ入れてください。"]
["↓","　　※ﾌﾘｶﾞﾅについては、姓と名の間に半角スペースを１つ入れてください。"]
["↓","　　※記録は、次のとおり入力してください。"]
["↓",null,"◎トラック種目・・・・分秒をドット「．」で区切り、100分の1秒まで入力"]
["↓",null,"例１",null,"54秒23","⇒",54.23]
["↓",null,"例２",null,"4分07秒00","⇒","4.07.00 ○",null,"4.7 X"]
["↓",null,null,"　 ※記録が１分未満で、10分の1以下が「00」"]
["↓",null,null,"　　 のときは整数で表示されます。"]
["↓",null,null,"例","12秒00","⇒",12]
["↓",null,"◎フィールド種目・・・メートルを「m」で区切り、cm単位まで入力（「cm」の文字は入れない）"]
["↓",null,"例３",null,"20m","⇒","20m00"]
["↓",null,"★記録がない場合は空欄にしてください。"]
["↓","　　※リレーに出場する選手は、リレー種目の欄へ「○」を入力してください。"]
["　　②団体情報の入力"]
["↓","　・必要事項を入力してください。"]
["　　③リレー情報の確認"]
["↓","　・リレーにエントリーをする選手のナンバーと、チームの記録を確認してください。"]
["↓","　　修正がある場合は、「②選手情報入力」で修正してください。"]
["　　④種目別人数の確認"]
["↓","　・種目ごとの申込人数と申込金額を確認してください。"]
["↓","　・プログラム購入部数、合計金額を確認してください。"]
["　　⑤申込一覧表の確認"]
["↓","　・入力漏れや入力間違い等がないかを確認してください。"]
["　　⑥種目別人数表と申込一覧表の印刷"]
["↓","　・「④種目別人数表」にある、帳票印刷ボタンをクリックして印刷を行ってください。"]
["　　⑦ファイルの保存"]
["↓","　・ファイル名を学校名（例：○○○）に変更し保存してください。メールに添付するときは、ファイル名が団体名に"]
["↓","　　なっていることを確認してください。"]
["↓"]
["　　⑧メール送信",null,null,"E-mail：","makinoike-j@nagoya-c.ed.jp"]
["↓","　・入力したファイルを送信してください。"]
["↓","　・メールの件名に「大会名」と「団体名」を入力してください。"]
["　　⑨参加料の振込"]
["↓","　・参加料を振り込み、明細書のコピーを「種目別人数一覧」の裏面に添付してください。"]
["　　⑩郵送"]
["↓","　・「④種目別一覧表」「⑤申込一覧表」を郵送してください。"]
["↓","　・「種目別人数一覧」の裏面には振込明細書のコピーを添付してください。"]
["↓"]
["↓",null,"送付先"]
["↓",null,"〒４６５－００６５　名古屋市名東区梅森坂一丁目２５０４番地　牧の池中学校　近藤　鷹之宛"]
["　　⑪申込完了"]
[]
[null,"　★問い合わせ先"]
[]
[null,null,"mail：","toiawase.nagoya@gmail.com"]
[null,null,"勝見　昌弘　宛",null,"こちらには、データを送信しないで下さい。"]

{"sheet":"①団体情報入力","index":1,"n_rows":139,"n_cols":15,"rows_kept":139,"cut":false,"hidden":false,"merged":[[1,2,1,4],[1,0,1,1],[2,5,2,11],[3,5,5,9],[9,0,9,1],[9,2,9,4],[8,2,8,4],[2,2,2,4],[4,0,4,1],[3,2,3,4],[5,2,5,4],[6,2,6,4],[5,0,5,1],[6,0,6,1],[8,0,8,1],[2,0,2,1],[11,0,11,7],[12,0,12,3],[12,4,12,7],[13,0,13,3],[13,4,13,7],[3,0,3,1],[4,2,4,4],[7,0,7,1],[7,2,7,4],[10,0,10,1]]}
["①団体情報入力"]
["団体名検索",null,null,null,null,"←団体名最初の一文字を入力してください。",null,null,null,null,null,null,null,{"$f":"C2","v":0}]
["団体名",null,null,null,null,"←このセルに直接団体名を入力しないで下さい。\n　上のセルで、団体名の最初の一文字を入力すると、候補がドロップダウンに表示されますので選択してください。",null,null,null,null,null,null,1,{"$f":"VLOOKUP(\"*\"&$N$2&\"*\",団体一覧!D2:F126,1,FALSE)","v":{"$error":"#N/A"}},{"$f":"VLOOKUP(\"*\"&N2&\"*\",団体一覧!B2:F126,5,FALSE)","v":{"$error":"#N/A"}}]
["団体コード",null,{"$f":"IF(C3=\"\",\"\",VLOOKUP(C3,団体一覧!B:C,2,0))","v":""},null,null,"←団体名を選択すると、自動で入力されます。",null,null,null,null,null,null,2,{"$f":"VLOOKUP(\"*\"&$N$2&\"*\",OFFSET(団体一覧!$B$2:$F$126,O3,0),1,FALSE)","v":{"$error":"#N/A"}},{"$f":"VLOOKUP(\"*\"&$N$2&\"*\",OFFSET(団体一覧!$B$2:$F$126,O3,0),5,FALSE)","v":{"$error":"#N/A"}}]
["略称団体名",null,{"$f":"IF(C3=\"\",\"\",C3)","v":""},null,null,null,null,null,null,null,null,null,3,{"$f":"VLOOKUP(\"*\"&$N$2&\"*\",OFFSET(団体一覧!$B$2:$F$126,O4,0),1,FALSE)","v":{"$error":"#N/A"}},{"$f":"VLOOKUP(\"*\"&$N$2&\"*\",OFFSET(団体一覧!$B$2:$F$126,O4,0),5,FALSE)","v":{"$error":"#N/A"}}]
["団体名ﾌﾘｶﾞﾅ",null,{"$f":"IF(C3=\"\",\"\",VLOOKUP(C3,団体一覧!B:E,4,0))","v":""},null,null,null,null,null,null,null,null,null,4,{"$f":"VLOOKUP(\"*\"&$N$2&\"*\",OFFSET(団体一覧!$B$2:$F$126,O5,0),1,FALSE)","v":{"$error":"#N/A"}},{"$f":"VLOOKUP(\"*\"&$N$2&\"*\",OFFSET(団体一覧!$B$2:$F$126,O5,0),5,FALSE)","v":{"$error":"#N/A"}}]
["校長名",null,null,null,null,"←入力してください。",null,null,null,null,null,null,5,{"$f":"VLOOKUP(\"*\"&$N$2&\"*\",OFFSET(団体一覧!$B$2:$F$126,O6,0),1,FALSE)","v":{"$error":"#N/A"}},{"$f":"VLOOKUP(\"*\"&$N$2&\"*\",OFFSET(団体一覧!$B$2:$F$126,O6,0),5,FALSE)","v":{"$error":"#N/A"}}]
["申込責任者",null,null,null,null,"←入力してください。",null,null,null,null,null,null,6,{"$f":"VLOOKUP(\"*\"&$N$2&\"*\",OFFSET(団体一覧!$B$2:$F$126,O7,0),1,FALSE)","v":{"$error":"#N/A"}},{"$f":"VLOOKUP(\"*\"&$N$2&\"*\",OFFSET(団体一覧!$B$2:$F$126,O7,0),5,FALSE)","v":{"$error":"#N/A"}}]
["連絡先電話番号",null,null,null,null,"←入力してください(ハイフンを入れる)。　※緊急時に連絡がとれる番号",null,null,null,null,null,null,7,{"$f":"VLOOKUP(\"*\"&$N$2&\"*\",OFFSET(団体一覧!$B$2:$F$126,O8,0),1,FALSE)","v":{"$error":"#N/A"}},{"$f":"VLOOKUP(\"*\"&$N$2&\"*\",OFFSET(団体一覧!$B$2:$F$126,O8,0),5,FALSE)","v":{"$error":"#N/A"}}]
["ナンバーのアルファベット",null,null,null,null,null,null,null,null,null,null,null,8,{"$f":"VLOOKUP(\"*\"&$N$2&\"*\",OFFSET(団体一覧!$B$2:$F$126,O9,0),1,FALSE)","v":{"$error":"#N/A"}},{"$f":"VLOOKUP(\"*\"&$N$2&\"*\",OFFSET(団体一覧!$B$2:$F$126,O9,0),5,FALSE)","v":{"$error":"#N/A"}}]
["プログラム追加購入部数",null,0,"部","←プログラムは個人団体毎に１部無料でお渡しします。追加購入が必要な場合のみ必要部数を入力してください。",null,null,null,null,null,null,null,9,{"$f":"VLOOKUP(\"*\"&$N$2&\"*\",OFFSET(団体一覧!$B$2:$F$126,O10,0),1,FALSE)","v":{"$error":"#N/A"}},{"$f":"VLOOKUP(\"*\"&$N$2&\"*\",OFFSET(団体一覧!$B$2:$F$126,O10,0),5,FALSE)","v":{"$error":"#N/A"}}]
["役員のできる方のお名前を入力してください",null,null,null,null,null,null,null,null,null,null,null,10,{"$f":"VLOOKUP(\"*\"&$N$2&\"*\",OFFSET(団体一覧!$B$2:$F$126,O11,0),1,FALSE)","v":{"$error":"#N/A"}},{"$f":"VLOOKUP(\"*\"&$N$2&\"*\",OFFSET(団体一覧!$B$2:$F$126,O11,0),5,FALSE)","v":{"$error":"#N/A"}}]
[null,null,null,null,null,null,null,null,null,null,null,null,11,{"$f":"VLOOKUP(\"*\"&$N$2&\"*\",OFFSET(団体一覧!$B$2:$F$126,O12,0),1,FALSE)","v":{"$error":"#N/A"}},{"$f":"VLOOKUP(\"*\"&$N$2&\"*\",OFFSET(団体一覧!$B$2:$F$126,O12,0),5,FALSE)","v":{"$error":"#N/A"}}]
[null,null,null,null,null,null,null,null,null,null,null,null,12,{"$f":"VLOOKUP(\"*\"&$N$2&\"*\",OFFSET(団体一覧!$B$2:$F$126,O13,0),1,FALSE)","v":{"$error":"#N/A"}},{"$f":"VLOOKUP(\"*\"&$N$2&\"*\",OFFSET(団体一覧!$B$2:$F$126,O13,0),5,FALSE)","v":{"$error":"#N/A"}}]
[null,null,null,null,null,null,null,null,null,null,null,null,13,{"$f":"VLOOKUP(\"*\"&$N$2&\"*\",OFFSET(団体一覧!$B$2:$F$126,O14,0),1,FALSE)","v":{"$error":"#N/A"}},{"$f":"VLOOKUP(\"*\"&$N$2&\"*\",OFFSET(団体一覧!$B$2:$F$126,O14,0),5,FALSE)","v":{"$error":"#N/A"}}]
[null,null,null,null,null,null,null,null,null,null,null,null,14,{"$f":"VLOOKUP(\"*\"&$N$2&\"*\",OFFSET(団体一覧!$B$2:$F$126,O15,0),1,FALSE)","v":{"$error":"#N/A"}},{"$f":"VLOOKUP(\"*\"&$N$2&\"*\",OFFSET(団体一覧!$B$2:$F$126,O15,0),5,FALSE)","v":{"$error":"#N/A"}}]
[null,null,null,null,null,null,null,null,null,null,null,null,15,{"$f":"VLOOKUP(\"*\"&$N$2&\"*\",OFFSET(団体一覧!$B$2:$F$126,O16,0),1,FALSE)","v":{"$error":"#N/A"}},{"$f":"VLOOKUP(\"*\"&$N$2&\"*\",OFFSET(団体一覧!$B$2:$F$126,O16,0),5,FALSE)","v":{"$error":"#N/A"}}]
[null,null,null,null,null,null,null,null,null,null,null,null,16,{"$f":"VLOOKUP(\"*\"&$N$2&\"*\",OFFSET(団体一覧!$B$2:$F$126,O17,0),1,FALSE)","v":{"$error":"#N/A"}},{"$f":"VLOOKUP(\"*\"&$N$2&\"*\",OFFSET(団体一覧!$B$2:$F$126,O17,0),5,FALSE)","v":{"$error":"#N/A"}}]
[null,null,null,null,null,null,null,null,null,null,null,null,17,{"$f":"VLOOKUP(\"*\"&$N$2&\"*\",OFFSET(団体一覧!$B$2:$F$126,O18,0),1,FALSE)","v":{"$error":"#N/A"}},{"$f":"VLOOKUP(\"*\"&$N$2&\"*\",OFFSET(団体一覧!$B$2:$F$126,O18,0),5,FALSE)","v":{"$error":"#N/A"}}]
[null,null,null,null,null,null,null,null,null,null,null,null,18,{"$f":"VLOOKUP(\"*\"&$N$2&\"*\",OFFSET(団体一覧!$B$2:$F$126,O19,0),1,FALSE)","v":{"$error":"#N/A"}},{"$f":"VLOOKUP(\"*\"&$N$2&\"*\",OFFSET(団体一覧!$B$2:$F$126,O19,0),5,FALSE)","v":{"$error":"#N/A"}}]
[null,null,null,null,null,null,null,null,null,null,null,null,19,{"$f":"VLOOKUP(\"*\"&$N$2&\"*\",OFFSET(団体一覧!$B$2:$F$126,O20,0),1,FALSE)","v":{"$error":"#N/A"}},{"$f":"VLOOKUP(\"*\"&$N$2&\"*\",OFFSET(団体一覧!$B$2:$F$126,O20,0),5,FALSE)","v":{"$error":"#N/A"}}]
[null,null,null,null,null,null,null,null,null,null,null,null,20,{"$f":"VLOOKUP(\"*\"&$N$2&\"*\",OFFSET(団体一覧!$B$2:$F$126,O21,0),1,FALSE)","v":{"$error":"#N/A"}},{"$f":"VLOOKUP(\"*\"&$N$2&\"*\",OFFSET(団体一覧!$B$2:$F$126,O21,0),5,FALSE)","v":{"$error":"#N/A"}}]
[null,null,null,null,null,null,null,null,null,null,null,null,21,{"$f":"VLOOKUP(\"*\"&$N$2&\"*\",OFFSET(団体一覧!$B$2:$F$126,O22,0),1,FALSE)","v":{"$error":"#N/A"}},{"$f":"VLOOKUP(\"*\"&$N$2&\"*\",OFFSET(団体一覧!$B$2:$F$126,O22,0),5,FALSE)","v":{"$error":"#N/A"}}]
[null,null,null,null,null,null,null,null,null,null,null,null,22,{"$f":"VLOOKUP(\"*\"&$N$2&\"*\",OFFSET(団体一覧!$B$2:$F$126,O23,0),1,FALSE)","v":{"$error":"#N/A"}},{"$f":"VLOOKUP(\"*\"&$N$2&\"*\",OFFSET(団体一覧!$B$2:$F$126,O23,0),5,FALSE)","v":{"$error":"#N/A"}}]
[null,null,null,null,null,null,null,null,null,null,null,null,23,{"$f":"VLOOKUP(\"*\"&$N$2&\"*\",OFFSET(団体一覧!$B$2:$F$126,O24,0),1,FALSE)","v":{"$error":"#N/A"}},{"$f":"VLOOKUP(\"*\"&$N$2&\"*\",OFFSET(団体一覧!$B$2:$F$126,O24,0),5,FALSE)","v":{"$error":"#N/A"}}]
[null,null,null,null,null,null,null,null,null,null,null,null,24,{"$f":"VLOOKUP(\"*\"&$N$2&\"*\",OFFSET(団体一覧!$B$2:$F$126,O25,0),1,FALSE)","v":{"$error":"#N/A"}},{"$f":"VLOOKUP(\"*\"&$N$2&\"*\",OFFSET(団体一覧!$B$2:$F$126,O25,0),5,FALSE)","v":{"$error":"#N/A"}}]
[null,null,null,null,null,null,null,null,null,null,null,null,25,{"$f":"VLOOKUP(\"*\"&$N$2&\"*\",OFFSET(団体一覧!$B$2:$F$126,O26,0),1,FALSE)","v":{"$error":"#N/A"}},{"$f":"VLOOKUP(\"*\"&$N$2&\"*\",OFFSET(団体一覧!$B$2:$F$126,O26,0),5,FALSE)","v":{"$error":"#N/A"}}]
[null,null,null,null,null,null,null,null,null,null,null,null,26,{"$f":"VLOOKUP(\"*\"&$N$2&\"*\",OFFSET(団体一覧!$B$2:$F$126,O27,0),1,FALSE)","v":{"$error":"#N/A"}},{"$f":"VLOOKUP(\"*\"&$N$2&\"*\",OFFSET(団体一覧!$B$2:$F$126,O27,0),5,FALSE)","v":{"$error":"#N/A"}}]
[null,null,null,null,null,null,null,null,null,null,null,null,27,{"$f":"VLOOKUP(\"*\"&$N$2&\"*\",OFFSET(団体一覧!$B$2:$F$126,O28,0),1,FALSE)","v":{"$error":"#N/A"}},{"$f":"VLOOKUP(\"*\"&$N$2&\"*\",OFFSET(団体一覧!$B$2:$F$126,O28,0),5,FALSE)","v":{"$error":"#N/A"}}]
[null,null,null,null,null,null,null,null,null,null,null,null,28,{"$f":"VLOOKUP(\"*\"&$N$2&\"*\",OFFSET(団体一覧!$B$2:$F$126,O29,0),1,FALSE)","v":{"$error":"#N/A"}},{"$f":"VLOOKUP(\"*\"&$N$2&\"*\",OFFSET(団体一覧!$B$2:$F$126,O29,0),5,FALSE)","v":{"$error":"#N/A"}}]
[null,null,null,null,null,null,null,null,null,null,null,null,29,{"$f":"VLOOKUP(\"*\"&$N$2&\"*\",OFFSET(団体一覧!$B$2:$F$126,O30,0),1,FALSE)","v":{"$error":"#N/A"}},{"$f":"VLOOKUP(\"*\"&$N$2&\"*\",OFFSET(団体一覧!$B$2:$F$126,O30,0),5,FALSE)","v":{"$error":"#N/A"}}]
[null,null,null,null,null,null,null,null,null,null,null,null,30,{"$f":"VLOOKUP(\"*\"&$N$2&\"*\",OFFSET(団体一覧!$B$2:$F$126,O31,0),1,FALSE)","v":{"$error":"#N/A"}},{"$f":"VLOOKUP(\"*\"&$N$2&\"*\",OFFSET(団体一覧!$B$2:$F$126,O31,0),5,FALSE)","v":{"$error":"#N/A"}}]
[null,null,null,null,null,null,null,null,null,null,null,null,31,{"$f":"VLOOKUP(\"*\"&$N$2&\"*\",OFFSET(団体一覧!$B$2:$F$126,O32,0),1,FALSE)","v":{"$error":"#N/A"}},{"$f":"VLOOKUP(\"*\"&$N$2&\"*\",OFFSET(団体一覧!$B$2:$F$126,O32,0),5,FALSE)","v":{"$error":"#N/A"}}]
[null,null,null,null,null,null,null,null,null,null,null,null,32,{"$f":"VLOOKUP(\"*\"&$N$2&\"*\",OFFSET(団体一覧!$B$2:$F$126,O33,0),1,FALSE)","v":{"$error":"#N/A"}},{"$f":"VLOOKUP(\"*\"&$N$2&\"*\",OFFSET(団体一覧!$B$2:$F$126,O33,0),5,FALSE)","v":{"$error":"#N/A"}}]
[null,null,null,null,null,null,null,null,null,null,null,null,33,{"$f":"VLOOKUP(\"*\"&$N$2&\"*\",OFFSET(団体一覧!$B$2:$F$126,O34,0),1,FALSE)","v":{"$error":"#N/A"}},{"$f":"VLOOKUP(\"*\"&$N$2&\"*\",OFFSET(団体一覧!$B$2:$F$126,O34,0),5,FALSE)","v":{"$error":"#N/A"}}]
[null,null,null,null,null,null,null,null,null,null,null,null,34,{"$f":"VLOOKUP(\"*\"&$N$2&\"*\",OFFSET(団体一覧!$B$2:$F$126,O35,0),1,FALSE)","v":{"$error":"#N/A"}},{"$f":"VLOOKUP(\"*\"&$N$2&\"*\",OFFSET(団体一覧!$B$2:$F$126,O35,0),5,FALSE)","v":{"$error":"#N/A"}}]
[null,null,null,null,null,null,null,null,null,null,null,null,35,{"$f":"VLOOKUP(\"*\"&$N$2&\"*\",OFFSET(団体一覧!$B$2:$F$126,O36,0),1,FALSE)","v":{"$error":"#N/A"}},{"$f":"VLOOKUP(\"*\"&$N$2&\"*\",OFFSET(団体一覧!$B$2:$F$126,O36,0),5,FALSE)","v":{"$error":"#N/A"}}]
[null,null,null,null,null,null,null,null,null,null,null,null,36,{"$f":"VLOOKUP(\"*\"&$N$2&\"*\",OFFSET(団体一覧!$B$2:$F$126,O37,0),1,FALSE)","v":{"$error":"#N/A"}},{"$f":"VLOOKUP(\"*\"&$N$2&\"*\",OFFSET(団体一覧!$B$2:$F$126,O37,0),5,FALSE)","v":{"$error":"#N/A"}}]
[null,null,null,null,null,null,null,null,null,null,null,null,37,{"$f":"VLOOKUP(\"*\"&$N$2&\"*\",OFFSET(団体一覧!$B$2:$F$126,O38,0),1,FALSE)","v":{"$error":"#N/A"}},{"$f":"VLOOKUP(\"*\"&$N$2&\"*\",OFFSET(団体一覧!$B$2:$F$126,O38,0),5,FALSE)","v":{"$error":"#N/A"}}]
[null,null,null,null,null,null,null,null,null,null,null,null,38,{"$f":"VLOOKUP(\"*\"&$N$2&\"*\",OFFSET(団体一覧!$B$2:$F$126,O39,0),1,FALSE)","v":{"$error":"#N/A"}},{"$f":"VLOOKUP(\"*\"&$N$2&\"*\",OFFSET(団体一覧!$B$2:$F$126,O39,0),5,FALSE)","v":{"$error":"#N/A"}}]
[null,null,null,null,null,null,null,null,null,null,null,null,39,{"$f":"VLOOKUP(\"*\"&$N$2&\"*\",OFFSET(団体一覧!$B$2:$F$126,O40,0),1,FALSE)","v":{"$error":"#N/A"}},{"$f":"VLOOKUP(\"*\"&$N$2&\"*\",OFFSET(団体一覧!$B$2:$F$126,O40,0),5,FALSE)","v":{"$error":"#N/A"}}]
[null,null,null,null,null,null,null,null,null,null,null,null,40,{"$f":"VLOOKUP(\"*\"&$N$2&\"*\",OFFSET(団体一覧!$B$2:$F$126,O41,0),1,FALSE)","v":{"$error":"#N/A"}},{"$f":"VLOOKUP(\"*\"&$N$2&\"*\",OFFSET(団体一覧!$B$2:$F$126,O41,0),5,FALSE)","v":{"$error":"#N/A"}}]
[null,null,null,null,null,null,null,null,null,null,null,null,41,{"$f":"VLOOKUP(\"*\"&$N$2&\"*\",OFFSET(団体一覧!$B$2:$F$126,O42,0),1,FALSE)","v":{"$error":"#N/A"}},{"$f":"VLOOKUP(\"*\"&$N$2&\"*\",OFFSET(団体一覧!$B$2:$F$126,O42,0),5,FALSE)","v":{"$error":"#N/A"}}]
[null,null,null,null,null,null,null,null,null,null,null,null,42,{"$f":"VLOOKUP(\"*\"&$N$2&\"*\",OFFSET(団体一覧!$B$2:$F$126,O43,0),1,FALSE)","v":{"$error":"#N/A"}},{"$f":"VLOOKUP(\"*\"&$N$2&\"*\",OFFSET(団体一覧!$B$2:$F$126,O43,0),5,FALSE)","v":{"$error":"#N/A"}}]
[null,null,null,null,null,null,null,null,null,null,null,null,43,{"$f":"VLOOKUP(\"*\"&$N$2&\"*\",OFFSET(団体一覧!$B$2:$F$126,O44,0),1,FALSE)","v":{"$error":"#N/A"}},{"$f":"VLOOKUP(\"*\"&$N$2&\"*\",OFFSET(団体一覧!$B$2:$F$126,O44,0),5,FALSE)","v":{"$error":"#N/A"}}]
[null,null,null,null,null,null,null,null,null,null,null,null,44,{"$f":"VLOOKUP(\"*\"&$N$2&\"*\",OFFSET(団体一覧!$B$2:$F$126,O45,0),1,FALSE)","v":{"$error":"#N/A"}},{"$f":"VLOOKUP(\"*\"&$N$2&\"*\",OFFSET(団体一覧!$B$2:$F$126,O45,0),5,FALSE)","v":{"$error":"#N/A"}}]
[null,null,null,null,null,null,null,null,null,null,null,null,45,{"$f":"VLOOKUP(\"*\"&$N$2&\"*\",OFFSET(団体一覧!$B$2:$F$126,O46,0),1,FALSE)","v":{"$error":"#N/A"}},{"$f":"VLOOKUP(\"*\"&$N$2&\"*\",OFFSET(団体一覧!$B$2:$F$126,O46,0),5,FALSE)","v":{"$error":"#N/A"}}]
[null,null,null,null,null,null,null,null,null,null,null,null,46,{"$f":"VLOOKUP(\"*\"&$N$2&\"*\",OFFSET(団体一覧!$B$2:$F$126,O47,0),1,FALSE)","v":{"$error":"#N/A"}},{"$f":"VLOOKUP(\"*\"&$N$2&\"*\",OFFSET(団体一覧!$B$2:$F$126,O47,0),5,FALSE)","v":{"$error":"#N/A"}}]
[null,null,null,null,null,null,null,null,null,null,null,null,47,{"$f":"VLOOKUP(\"*\"&$N$2&\"*\",OFFSET(団体一覧!$B$2:$F$126,O48,0),1,FALSE)","v":{"$error":"#N/A"}},{"$f":"VLOOKUP(\"*\"&$N$2&\"*\",OFFSET(団体一覧!$B$2:$F$126,O48,0),5,FALSE)","v":{"$error":"#N/A"}}]
[null,null,null,null,null,null,null,null,null,null,null,null,48,{"$f":"VLOOKUP(\"*\"&$N$2&\"*\",OFFSET(団体一覧!$B$2:$F$126,O49,0),1,FALSE)","v":{"$error":"#N/A"}},{"$f":"VLOOKUP(\"*\"&$N$2&\"*\",OFFSET(団体一覧!$B$2:$F$126,O49,0),5,FALSE)","v":{"$error":"#N/A"}}]
[null,null,null,null,null,null,null,null,null,null,null,null,49,{"$f":"VLOOKUP(\"*\"&$N$2&\"*\",OFFSET(団体一覧!$B$2:$F$126,O50,0),1,FALSE)","v":{"$error":"#N/A"}},{"$f":"VLOOKUP(\"*\"&$N$2&\"*\",OFFSET(団体一覧!$B$2:$F$126,O50,0),5,FALSE)","v":{"$error":"#N/A"}}]
[null,null,null,null,null,null,null,null,null,null,null,null,50,{"$f":"VLOOKUP(\"*\"&$N$2&\"*\",OFFSET(団体一覧!$B$2:$F$126,O51,0),1,FALSE)","v":{"$error":"#N/A"}},{"$f":"VLOOKUP(\"*\"&$N$2&\"*\",OFFSET(団体一覧!$B$2:$F$126,O51,0),5,FALSE)","v":{"$error":"#N/A"}}]
[null,null,null,null,null,null,null,null,null,null,null,null,51,{"$f":"VLOOKUP(\"*\"&$N$2&\"*\",OFFSET(団体一覧!$B$2:$F$126,O52,0),1,FALSE)","v":{"$error":"#N/A"}},{"$f":"VLOOKUP(\"*\"&$N$2&\"*\",OFFSET(団体一覧!$B$2:$F$126,O52,0),5,FALSE)","v":{"$error":"#N/A"}}]
[null,null,null,null,null,null,null,null,null,null,null,null,52,{"$f":"VLOOKUP(\"*\"&$N$2&\"*\",OFFSET(団体一覧!$B$2:$F$126,O53,0),1,FALSE)","v":{"$error":"#N/A"}},{"$f":"VLOOKUP(\"*\"&$N$2&\"*\",OFFSET(団体一覧!$B$2:$F$126,O53,0),5,FALSE)","v":{"$error":"#N/A"}}]
[null,null,null,null,null,null,null,null,null,null,null,null,53,{"$f":"VLOOKUP(\"*\"&$N$2&\"*\",OFFSET(団体一覧!$B$2:$F$126,O54,0),1,FALSE)","v":{"$error":"#N/A"}},{"$f":"VLOOKUP(\"*\"&$N$2&\"*\",OFFSET(団体一覧!$B$2:$F$126,O54,0),5,FALSE)","v":{"$error":"#N/A"}}]
[null,null,null,null,null,null,null,null,null,null,null,null,54,{"$f":"VLOOKUP(\"*\"&$N$2&\"*\",OFFSET(団体一覧!$B$2:$F$126,O55,0),1,FALSE)","v":{"$error":"#N/A"}},{"$f":"VLOOKUP(\"*\"&$N$2&\"*\",OFFSET(団体一覧!$B$2:$F$126,O55,0),5,FALSE)","v":{"$error":"#N/A"}}]
[null,null,null,null,null,null,null,null,null,null,null,null,55,{"$f":"VLOOKUP(\"*\"&$N$2&\"*\",OFFSET(団体一覧!$B$2:$F$126,O56,0),1,FALSE)","v":{"$error":"#N/A"}},{"$f":"VLOOKUP(\"*\"&$N$2&\"*\",OFFSET(団体一覧!$B$2:$F$126,O56,0),5,FALSE)","v":{"$error":"#N/A"}}]
[null,null,null,null,null,null,null,null,null,null,null,null,56,{"$f":"VLOOKUP(\"*\"&$N$2&\"*\",OFFSET(団体一覧!$B$2:$F$126,O57,0),1,FALSE)","v":{"$error":"#N/A"}},{"$f":"VLOOKUP(\"*\"&$N$2&\"*\",OFFSET(団体一覧!$B$2:$F$126,O57,0),5,FALSE)","v":{"$error":"#N/A"}}]
[null,null,null,null,null,null,null,null,null,null,null,null,57,{"$f":"VLOOKUP(\"*\"&$N$2&\"*\",OFFSET(団体一覧!$B$2:$F$126,O58,0),1,FALSE)","v":{"$error":"#N/A"}},{"$f":"VLOOKUP(\"*\"&$N$2&\"*\",OFFSET(団体一覧!$B$2:$F$126,O58,0),5,FALSE)","v":{"$error":"#N/A"}}]
[null,null,null,null,null,null,null,null,null,null,null,null,58,{"$f":"VLOOKUP(\"*\"&$N$2&\"*\",OFFSET(団体一覧!$B$2:$F$126,O59,0),1,FALSE)","v":{"$error":"#N/A"}},{"$f":"VLOOKUP(\"*\"&$N$2&\"*\",OFFSET(団体一覧!$B$2:$F$126,O59,0),5,FALSE)","v":{"$error":"#N/A"}}]
[null,null,null,null,null,null,null,null,null,null,null,null,59,{"$f":"VLOOKUP(\"*\"&$N$2&\"*\",OFFSET(団体一覧!$B$2:$F$126,O60,0),1,FALSE)","v":{"$error":"#N/A"}},{"$f":"VLOOKUP(\"*\"&$N$2&\"*\",OFFSET(団体一覧!$B$2:$F$126,O60,0),5,FALSE)","v":{"$error":"#N/A"}}]
[null,null,null,null,null,null,null,null,null,null,null,null,60,{"$f":"VLOOKUP(\"*\"&$N$2&\"*\",OFFSET(団体一覧!$B$2:$F$126,O61,0),1,FALSE)","v":{"$error":"#N/A"}},{"$f":"VLOOKUP(\"*\"&$N$2&\"*\",OFFSET(団体一覧!$B$2:$F$126,O61,0),5,FALSE)","v":{"$error":"#N/A"}}]
[null,null,null,null,null,null,null,null,null,null,null,null,61,{"$f":"VLOOKUP(\"*\"&$N$2&\"*\",OFFSET(団体一覧!$B$2:$F$126,O62,0),1,FALSE)","v":{"$error":"#N/A"}},{"$f":"VLOOKUP(\"*\"&$N$2&\"*\",OFFSET(団体一覧!$B$2:$F$126,O62,0),5,FALSE)","v":{"$error":"#N/A"}}]
[null,null,null,null,null,null,null,null,null,null,null,null,62,{"$f":"VLOOKUP(\"*\"&$N$2&\"*\",OFFSET(団体一覧!$B$2:$F$126,O63,0),1,FALSE)","v":{"$error":"#N/A"}},{"$f":"VLOOKUP(\"*\"&$N$2&\"*\",OFFSET(団体一覧!$B$2:$F$126,O63,0),5,FALSE)","v":{"$error":"#N/A"}}]
[null,null,null,null,null,null,null,null,null,null,null,null,63,{"$f":"VLOOKUP(\"*\"&$N$2&\"*\",OFFSET(団体一覧!$B$2:$F$126,O64,0),1,FALSE)","v":{"$error":"#N/A"}},{"$f":"VLOOKUP(\"*\"&$N$2&\"*\",OFFSET(団体一覧!$B$2:$F$126,O64,0),5,FALSE)","v":{"$error":"#N/A"}}]
[null,null,null,null,null,null,null,null,null,null,null,null,64,{"$f":"VLOOKUP(\"*\"&$N$2&\"*\",OFFSET(団体一覧!$B$2:$F$126,O65,0),1,FALSE)","v":{"$error":"#N/A"}},{"$f":"VLOOKUP(\"*\"&$N$2&\"*\",OFFSET(団体一覧!$B$2:$F$126,O65,0),5,FALSE)","v":{"$error":"#N/A"}}]
[null,null,null,null,null,null,null,null,null,null,null,null,65,{"$f":"VLOOKUP(\"*\"&$N$2&\"*\",OFFSET(団体一覧!$B$2:$F$126,O66,0),1,FALSE)","v":{"$error":"#N/A"}},{"$f":"VLOOKUP(\"*\"&$N$2&\"*\",OFFSET(団体一覧!$B$2:$F$126,O66,0),5,FALSE)","v":{"$error":"#N/A"}}]
[null,null,null,null,null,null,null,null,null,null,null,null,66,{"$f":"VLOOKUP(\"*\"&$N$2&\"*\",OFFSET(団体一覧!$B$2:$F$126,O67,0),1,FALSE)","v":{"$error":"#N/A"}},{"$f":"VLOOKUP(\"*\"&$N$2&\"*\",OFFSET(団体一覧!$B$2:$F$126,O67,0),5,FALSE)","v":{"$error":"#N/A"}}]
[null,null,null,null,null,null,null,null,null,null,null,null,67,{"$f":"VLOOKUP(\"*\"&$N$2&\"*\",OFFSET(団体一覧!$B$2:$F$126,O68,0),1,FALSE)","v":{"$error":"#N/A"}},{"$f":"VLOOKUP(\"*\"&$N$2&\"*\",OFFSET(団体一覧!$B$2:$F$126,O68,0),5,FALSE)","v":{"$error":"#N/A"}}]
[null,null,null,null,null,null,null,null,null,null,null,null,68,{"$f":"VLOOKUP(\"*\"&$N$2&\"*\",OFFSET(団体一覧!$B$2:$F$126,O69,0),1,FALSE)","v":{"$error":"#N/A"}},{"$f":"VLOOKUP(\"*\"&$N$2&\"*\",OFFSET(団体一覧!$B$2:$F$126,O69,0),5,FALSE)","v":{"$error":"#N/A"}}]
[null,null,null,null,null,null,null,null,null,null,null,null,69,{"$f":"VLOOKUP(\"*\"&$N$2&\"*\",OFFSET(団体一覧!$B$2:$F$126,O70,0),1,FALSE)","v":{"$error":"#N/A"}},{"$f":"VLOOKUP(\"*\"&$N$2&\"*\",OFFSET(団体一覧!$B$2:$F$126,O70,0),5,FALSE)","v":{"$error":"#N/A"}}]
[null,null,null,null,null,null,null,null,null,null,null,null,70,{"$f":"VLOOKUP(\"*\"&$N$2&\"*\",OFFSET(団体一覧!$B$2:$F$126,O71,0),1,FALSE)","v":{"$error":"#N/A"}},{"$f":"VLOOKUP(\"*\"&$N$2&\"*\",OFFSET(団体一覧!$B$2:$F$126,O71,0),5,FALSE)","v":{"$error":"#N/A"}}]
[null,null,null,null,null,null,null,null,null,null,null,null,71,{"$f":"VLOOKUP(\"*\"&$N$2&\"*\",OFFSET(団体一覧!$B$2:$F$126,O72,0),1,FALSE)","v":{"$error":"#N/A"}},{"$f":"VLOOKUP(\"*\"&$N$2&\"*\",OFFSET(団体一覧!$B$2:$F$126,O72,0),5,FALSE)","v":{"$error":"#N/A"}}]
[null,null,null,null,null,null,null,null,null,null,null,null,72,{"$f":"VLOOKUP(\"*\"&$N$2&\"*\",OFFSET(団体一覧!$B$2:$F$126,O73,0),1,FALSE)","v":{"$error":"#N/A"}},{"$f":"VLOOKUP(\"*\"&$N$2&\"*\",OFFSET(団体一覧!$B$2:$F$126,O73,0),5,FALSE)","v":{"$error":"#N/A"}}]
[null,null,null,null,null,null,null,null,null,null,null,null,73,{"$f":"VLOOKUP(\"*\"&$N$2&\"*\",OFFSET(団体一覧!$B$2:$F$126,O74,0),1,FALSE)","v":{"$error":"#N/A"}},{"$f":"VLOOKUP(\"*\"&$N$2&\"*\",OFFSET(団体一覧!$B$2:$F$126,O74,0),5,FALSE)","v":{"$error":"#N/A"}}]
[null,null,null,null,null,null,null,null,null,null,null,null,74,{"$f":"VLOOKUP(\"*\"&$N$2&\"*\",OFFSET(団体一覧!$B$2:$F$126,O75,0),1,FALSE)","v":{"$error":"#N/A"}},{"$f":"VLOOKUP(\"*\"&$N$2&\"*\",OFFSET(団体一覧!$B$2:$F$126,O75,0),5,FALSE)","v":{"$error":"#N/A"}}]
[null,null,null,null,null,null,null,null,null,null,null,null,75,{"$f":"VLOOKUP(\"*\"&$N$2&\"*\",OFFSET(団体一覧!$B$2:$F$126,O76,0),1,FALSE)","v":{"$error":"#N/A"}},{"$f":"VLOOKUP(\"*\"&$N$2&\"*\",OFFSET(団体一覧!$B$2:$F$126,O76,0),5,FALSE)","v":{"$error":"#N/A"}}]
[null,null,null,null,null,null,null,null,null,null,null,null,76,{"$f":"VLOOKUP(\"*\"&$N$2&\"*\",OFFSET(団体一覧!$B$2:$F$126,O77,0),1,FALSE)","v":{"$error":"#N/A"}},{"$f":"VLOOKUP(\"*\"&$N$2&\"*\",OFFSET(団体一覧!$B$2:$F$126,O77,0),5,FALSE)","v":{"$error":"#N/A"}}]
[null,null,null,null,null,null,null,null,null,null,null,null,77,{"$f":"VLOOKUP(\"*\"&$N$2&\"*\",OFFSET(団体一覧!$B$2:$F$126,O78,0),1,FALSE)","v":{"$error":"#N/A"}},{"$f":"VLOOKUP(\"*\"&$N$2&\"*\",OFFSET(団体一覧!$B$2:$F$126,O78,0),5,FALSE)","v":{"$error":"#N/A"}}]
[null,null,null,null,null,null,null,null,null,null,null,null,78,{"$f":"VLOOKUP(\"*\"&$N$2&\"*\",OFFSET(団体一覧!$B$2:$F$126,O79,0),1,FALSE)","v":{"$error":"#N/A"}},{"$f":"VLOOKUP(\"*\"&$N$2&\"*\",OFFSET(団体一覧!$B$2:$F$126,O79,0),5,FALSE)","v":{"$error":"#N/A"}}]
[null,null,null,null,null,null,null,null,null,null,null,null,79,{"$f":"VLOOKUP(\"*\"&$N$2&\"*\",OFFSET(団体一覧!$B$2:$F$126,O80,0),1,FALSE)","v":{"$error":"#N/A"}},{"$f":"VLOOKUP(\"*\"&$N$2&\"*\",OFFSET(団体一覧!$B$2:$F$126,O80,0),5,FALSE)","v":{"$error":"#N/A"}}]
[null,null,null,null,null,null,null,null,null,null,null,null,80,{"$f":"VLOOKUP(\"*\"&$N$2&\"*\",OFFSET(団体一覧!$B$2:$F$126,O81,0),1,FALSE)","v":{"$error":"#N/A"}},{"$f":"VLOOKUP(\"*\"&$N$2&\"*\",OFFSET(団体一覧!$B$2:$F$126,O81,0),5,FALSE)","v":{"$error":"#N/A"}}]
[null,null,null,null,null,null,null,null,null,null,null,null,81,{"$f":"VLOOKUP(\"*\"&$N$2&\"*\",OFFSET(団体一覧!$B$2:$F$126,O82,0),1,FALSE)","v":{"$error":"#N/A"}},{"$f":"VLOOKUP(\"*\"&$N$2&\"*\",OFFSET(団体一覧!$B$2:$F$126,O82,0),5,FALSE)","v":{"$error":"#N/A"}}]
[null,null,null,null,null,null,null,null,null,null,null,null,82,{"$f":"VLOOKUP(\"*\"&$N$2&\"*\",OFFSET(団体一覧!$B$2:$F$126,O83,0),1,FALSE)","v":{"$error":"#N/A"}},{"$f":"VLOOKUP(\"*\"&$N$2&\"*\",OFFSET(団体一覧!$B$2:$F$126,O83,0),5,FALSE)","v":{"$error":"#N/A"}}]
[null,null,null,null,null,null,null,null,null,null,null,null,83,{"$f":"VLOOKUP(\"*\"&$N$2&\"*\",OFFSET(団体一覧!$B$2:$F$126,O84,0),1,FALSE)","v":{"$error":"#N/A"}},{"$f":"VLOOKUP(\"*\"&$N$2&\"*\",OFFSET(団体一覧!$B$2:$F$126,O84,0),5,FALSE)","v":{"$error":"#N/A"}}]
[null,null,null,null,null,null,null,null,null,null,null,null,84,{"$f":"VLOOKUP(\"*\"&$N$2&\"*\",OFFSET(団体一覧!$B$2:$F$126,O85,0),1,FALSE)","v":{"$error":"#N/A"}},{"$f":"VLOOKUP(\"*\"&$N$2&\"*\",OFFSET(団体一覧!$B$2:$F$126,O85,0),5,FALSE)","v":{"$error":"#N/A"}}]
[null,null,null,null,null,null,null,null,null,null,null,null,85,{"$f":"VLOOKUP(\"*\"&$N$2&\"*\",OFFSET(団体一覧!$B$2:$F$126,O86,0),1,FALSE)","v":{"$error":"#N/A"}},{"$f":"VLOOKUP(\"*\"&$N$2&\"*\",OFFSET(団体一覧!$B$2:$F$126,O86,0),5,FALSE)","v":{"$error":"#N/A"}}]
[null,null,null,null,null,null,null,null,null,null,null,null,86,{"$f":"VLOOKUP(\"*\"&$N$2&\"*\",OFFSET(団体一覧!$B$2:$F$126,O87,0),1,FALSE)","v":{"$error":"#N/A"}},{"$f":"VLOOKUP(\"*\"&$N$2&\"*\",OFFSET(団体一覧!$B$2:$F$126,O87,0),5,FALSE)","v":{"$error":"#N/A"}}]
[null,null,null,null,null,null,null,null,null,null,null,null,87,{"$f":"VLOOKUP(\"*\"&$N$2&\"*\",OFFSET(団体一覧!$B$2:$F$126,O88,0),1,FALSE)","v":{"$error":"#N/A"}},{"$f":"VLOOKUP(\"*\"&$N$2&\"*\",OFFSET(団体一覧!$B$2:$F$126,O88,0),5,FALSE)","v":{"$error":"#N/A"}}]
[null,null,null,null,null,null,null,null,null,null,null,null,88,{"$f":"VLOOKUP(\"*\"&$N$2&\"*\",OFFSET(団体一覧!$B$2:$F$126,O89,0),1,FALSE)","v":{"$error":"#N/A"}},{"$f":"VLOOKUP(\"*\"&$N$2&\"*\",OFFSET(団体一覧!$B$2:$F$126,O89,0),5,FALSE)","v":{"$error":"#N/A"}}]
[null,null,null,null,null,null,null,null,null,null,null,null,89,{"$f":"VLOOKUP(\"*\"&$N$2&\"*\",OFFSET(団体一覧!$B$2:$F$126,O90,0),1,FALSE)","v":{"$error":"#N/A"}},{"$f":"VLOOKUP(\"*\"&$N$2&\"*\",OFFSET(団体一覧!$B$2:$F$126,O90,0),5,FALSE)","v":{"$error":"#N/A"}}]
[null,null,null,null,null,null,null,null,null,null,null,null,90,{"$f":"VLOOKUP(\"*\"&$N$2&\"*\",OFFSET(団体一覧!$B$2:$F$126,O91,0),1,FALSE)","v":{"$error":"#N/A"}},{"$f":"VLOOKUP(\"*\"&$N$2&\"*\",OFFSET(団体一覧!$B$2:$F$126,O91,0),5,FALSE)","v":{"$error":"#N/A"}}]
[null,null,null,null,null,null,null,null,null,null,null,null,91,{"$f":"VLOOKUP(\"*\"&$N$2&\"*\",OFFSET(団体一覧!$B$2:$F$126,O92,0),1,FALSE)","v":{"$error":"#N/A"}},{"$f":"VLOOKUP(\"*\"&$N$2&\"*\",OFFSET(団体一覧!$B$2:$F$126,O92,0),5,FALSE)","v":{"$error":"#N/A"}}]
[null,null,null,null,null,null,null,null,null,null,null,null,92,{"$f":"VLOOKUP(\"*\"&$N$2&\"*\",OFFSET(団体一覧!$B$2:$F$126,O93,0),1,FALSE)","v":{"$error":"#N/A"}},{"$f":"VLOOKUP(\"*\"&$N$2&\"*\",OFFSET(団体一覧!$B$2:$F$126,O93,0),5,FALSE)","v":{"$error":"#N/A"}}]
[null,null,null,null,null,null,null,null,null,null,null,null,93,{"$f":"VLOOKUP(\"*\"&$N$2&\"*\",OFFSET(団体一覧!$B$2:$F$126,O94,0),1,FALSE)","v":{"$error":"#N/A"}},{"$f":"VLOOKUP(\"*\"&$N$2&\"*\",OFFSET(団体一覧!$B$2:$F$126,O94,0),5,FALSE)","v":{"$error":"#N/A"}}]
[null,null,null,null,null,null,null,null,null,null,null,null,94,{"$f":"VLOOKUP(\"*\"&$N$2&\"*\",OFFSET(団体一覧!$B$2:$F$126,O95,0),1,FALSE)","v":{"$error":"#N/A"}},{"$f":"VLOOKUP(\"*\"&$N$2&\"*\",OFFSET(団体一覧!$B$2:$F$126,O95,0),5,FALSE)","v":{"$error":"#N/A"}}]
[null,null,null,null,null,null,null,null,null,null,null,null,95,{"$f":"VLOOKUP(\"*\"&$N$2&\"*\",OFFSET(団体一覧!$B$2:$F$126,O96,0),1,FALSE)","v":{"$error":"#N/A"}},{"$f":"VLOOKUP(\"*\"&$N$2&\"*\",OFFSET(団体一覧!$B$2:$F$126,O96,0),5,FALSE)","v":{"$error":"#N/A"}}]
[null,null,null,null,null,null,null,null,null,null,null,null,96,{"$f":"VLOOKUP(\"*\"&$N$2&\"*\",OFFSET(団体一覧!$B$2:$F$126,O97,0),1,FALSE)","v":{"$error":"#N/A"}},{"$f":"VLOOKUP(\"*\"&$N$2&\"*\",OFFSET(団体一覧!$B$2:$F$126,O97,0),5,FALSE)","v":{"$error":"#N/A"}}]
[null,null,null,null,null,null,null,null,null,null,null,null,97,{"$f":"VLOOKUP(\"*\"&$N$2&\"*\",OFFSET(団体一覧!$B$2:$F$126,O98,0),1,FALSE)","v":{"$error":"#N/A"}},{"$f":"VLOOKUP(\"*\"&$N$2&\"*\",OFFSET(団体一覧!$B$2:$F$126,O98,0),5,FALSE)","v":{"$error":"#N/A"}}]
[null,null,null,null,null,null,null,null,null,null,null,null,98,{"$f":"VLOOKUP(\"*\"&$N$2&\"*\",OFFSET(団体一覧!$B$2:$F$126,O99,0),1,FALSE)","v":{"$error":"#N/A"}},{"$f":"VLOOKUP(\"*\"&$N$2&\"*\",OFFSET(団体一覧!$B$2:$F$126,O99,0),5,FALSE)","v":{"$error":"#N/A"}}]
[null,null,null,null,null,null,null,null,null,null,null,null,99,{"$f":"VLOOKUP(\"*\"&$N$2&\"*\",OFFSET(団体一覧!$B$2:$F$126,O100,0),1,FALSE)","v":{"$error":"#N/A"}},{"$f":"VLOOKUP(\"*\"&$N$2&\"*\",OFFSET(団体一覧!$B$2:$F$126,O100,0),5,FALSE)","v":{"$error":"#N/A"}}]
[null,null,null,null,null,null,null,null,null,null,null,null,100,{"$f":"VLOOKUP(\"*\"&$N$2&\"*\",OFFSET(団体一覧!$B$2:$F$126,O101,0),1,FALSE)","v":{"$error":"#N/A"}},{"$f":"VLOOKUP(\"*\"&$N$2&\"*\",OFFSET(団体一覧!$B$2:$F$126,O101,0),5,FALSE)","v":{"$error":"#N/A"}}]
[null,null,null,null,null,null,null,null,null,null,null,null,101,{"$f":"VLOOKUP(\"*\"&$N$2&\"*\",OFFSET(団体一覧!$B$2:$F$126,O102,0),1,FALSE)","v":{"$error":"#N/A"}},{"$f":"VLOOKUP(\"*\"&$N$2&\"*\",OFFSET(団体一覧!$B$2:$F$126,O102,0),5,FALSE)","v":{"$error":"#N/A"}}]
[null,null,null,null,null,null,null,null,null,null,null,null,102,{"$f":"VLOOKUP(\"*\"&$N$2&\"*\",OFFSET(団体一覧!$B$2:$F$126,O103,0),1,FALSE)","v":{"$error":"#N/A"}},{"$f":"VLOOKUP(\"*\"&$N$2&\"*\",OFFSET(団体一覧!$B$2:$F$126,O103,0),5,FALSE)","v":{"$error":"#N/A"}}]
[null,null,null,null,null,null,null,null,null,null,null,null,103,{"$f":"VLOOKUP(\"*\"&$N$2&\"*\",OFFSET(団体一覧!$B$2:$F$126,O104,0),1,FALSE)","v":{"$error":"#N/A"}},{"$f":"VLOOKUP(\"*\"&$N$2&\"*\",OFFSET(団体一覧!$B$2:$F$126,O104,0),5,FALSE)","v":{"$error":"#N/A"}}]
[null,null,null,null,null,null,null,null,null,null,null,null,104,{"$f":"VLOOKUP(\"*\"&$N$2&\"*\",OFFSET(団体一覧!$B$2:$F$126,O105,0),1,FALSE)","v":{"$error":"#N/A"}},{"$f":"VLOOKUP(\"*\"&$N$2&\"*\",OFFSET(団体一覧!$B$2:$F$126,O105,0),5,FALSE)","v":{"$error":"#N/A"}}]
[null,null,null,null,null,null,null,null,null,null,null,null,105,{"$f":"VLOOKUP(\"*\"&$N$2&\"*\",OFFSET(団体一覧!$B$2:$F$126,O106,0),1,FALSE)","v":{"$error":"#N/A"}},{"$f":"VLOOKUP(\"*\"&$N$2&\"*\",OFFSET(団体一覧!$B$2:$F$126,O106,0),5,FALSE)","v":{"$error":"#N/A"}}]
[null,null,null,null,null,null,null,null,null,null,null,null,106,{"$f":"VLOOKUP(\"*\"&$N$2&\"*\",OFFSET(団体一覧!$B$2:$F$126,O107,0),1,FALSE)","v":{"$error":"#N/A"}},{"$f":"VLOOKUP(\"*\"&$N$2&\"*\",OFFSET(団体一覧!$B$2:$F$126,O107,0),5,FALSE)","v":{"$error":"#N/A"}}]
[null,null,null,null,null,null,null,null,null,null,null,null,107,{"$f":"VLOOKUP(\"*\"&$N$2&\"*\",OFFSET(団体一覧!$B$2:$F$126,O108,0),1,FALSE)","v":{"$error":"#N/A"}},{"$f":"VLOOKUP(\"*\"&$N$2&\"*\",OFFSET(団体一覧!$B$2:$F$126,O108,0),5,FALSE)","v":{"$error":"#N/A"}}]
[null,null,null,null,null,null,null,null,null,null,null,null,108,{"$f":"VLOOKUP(\"*\"&$N$2&\"*\",OFFSET(団体一覧!$B$2:$F$126,O109,0),1,FALSE)","v":{"$error":"#N/A"}},{"$f":"VLOOKUP(\"*\"&$N$2&\"*\",OFFSET(団体一覧!$B$2:$F$126,O109,0),5,FALSE)","v":{"$error":"#N/A"}}]
[null,null,null,null,null,null,null,null,null,null,null,null,109,{"$f":"VLOOKUP(\"*\"&$N$2&\"*\",OFFSET(団体一覧!$B$2:$F$126,O110,0),1,FALSE)","v":{"$error":"#N/A"}},{"$f":"VLOOKUP(\"*\"&$N$2&\"*\",OFFSET(団体一覧!$B$2:$F$126,O110,0),5,FALSE)","v":{"$error":"#N/A"}}]
[null,null,null,null,null,null,null,null,null,null,null,null,110,{"$f":"VLOOKUP(\"*\"&$N$2&\"*\",OFFSET(団体一覧!$B$2:$F$126,O111,0),1,FALSE)","v":{"$error":"#N/A"}},{"$f":"VLOOKUP(\"*\"&$N$2&\"*\",OFFSET(団体一覧!$B$2:$F$126,O111,0),5,FALSE)","v":{"$error":"#N/A"}}]
[null,null,null,null,null,null,null,null,null,null,null,null,111,{"$f":"VLOOKUP(\"*\"&$N$2&\"*\",OFFSET(団体一覧!$B$2:$F$126,O112,0),1,FALSE)","v":{"$error":"#N/A"}},{"$f":"VLOOKUP(\"*\"&$N$2&\"*\",OFFSET(団体一覧!$B$2:$F$126,O112,0),5,FALSE)","v":{"$error":"#N/A"}}]
[null,null,null,null,null,null,null,null,null,null,null,null,112,{"$f":"VLOOKUP(\"*\"&$N$2&\"*\",OFFSET(団体一覧!$B$2:$F$126,O113,0),1,FALSE)","v":{"$error":"#N/A"}},{"$f":"VLOOKUP(\"*\"&$N$2&\"*\",OFFSET(団体一覧!$B$2:$F$126,O113,0),5,FALSE)","v":{"$error":"#N/A"}}]
[null,null,null,null,null,null,null,null,null,null,null,null,113,{"$f":"VLOOKUP(\"*\"&$N$2&\"*\",OFFSET(団体一覧!$B$2:$F$126,O114,0),1,FALSE)","v":{"$error":"#N/A"}},{"$f":"VLOOKUP(\"*\"&$N$2&\"*\",OFFSET(団体一覧!$B$2:$F$126,O114,0),5,FALSE)","v":{"$error":"#N/A"}}]
[null,null,null,null,null,null,null,null,null,null,null,null,114,{"$f":"VLOOKUP(\"*\"&$N$2&\"*\",OFFSET(団体一覧!$B$2:$F$126,O115,0),1,FALSE)","v":{"$error":"#N/A"}},{"$f":"VLOOKUP(\"*\"&$N$2&\"*\",OFFSET(団体一覧!$B$2:$F$126,O115,0),5,FALSE)","v":{"$error":"#N/A"}}]
[null,null,null,null,null,null,null,null,null,null,null,null,115,{"$f":"VLOOKUP(\"*\"&$N$2&\"*\",OFFSET(団体一覧!$B$2:$F$126,O116,0),1,FALSE)","v":{"$error":"#N/A"}},{"$f":"VLOOKUP(\"*\"&$N$2&\"*\",OFFSET(団体一覧!$B$2:$F$126,O116,0),5,FALSE)","v":{"$error":"#N/A"}}]
[null,null,null,null,null,null,null,null,null,null,null,null,116,{"$f":"VLOOKUP(\"*\"&$N$2&\"*\",OFFSET(団体一覧!$B$2:$F$126,O117,0),1,FALSE)","v":{"$error":"#N/A"}},{"$f":"VLOOKUP(\"*\"&$N$2&\"*\",OFFSET(団体一覧!$B$2:$F$126,O117,0),5,FALSE)","v":{"$error":"#N/A"}}]
[null,null,null,null,null,null,null,null,null,null,null,null,117,{"$f":"VLOOKUP(\"*\"&$N$2&\"*\",OFFSET(団体一覧!$B$2:$F$126,O118,0),1,FALSE)","v":{"$error":"#N/A"}},{"$f":"VLOOKUP(\"*\"&$N$2&\"*\",OFFSET(団体一覧!$B$2:$F$126,O118,0),5,FALSE)","v":{"$error":"#N/A"}}]
[null,null,null,null,null,null,null,null,null,null,null,null,118,{"$f":"VLOOKUP(\"*\"&$N$2&\"*\",OFFSET(団体一覧!$B$2:$F$126,O119,0),1,FALSE)","v":{"$error":"#N/A"}},{"$f":"VLOOKUP(\"*\"&$N$2&\"*\",OFFSET(団体一覧!$B$2:$F$126,O119,0),5,FALSE)","v":{"$error":"#N/A"}}]
[null,null,null,null,null,null,null,null,null,null,null,null,119,{"$f":"VLOOKUP(\"*\"&$N$2&\"*\",OFFSET(団体一覧!$B$2:$F$126,O120,0),1,FALSE)","v":{"$error":"#N/A"}},{"$f":"VLOOKUP(\"*\"&$N$2&\"*\",OFFSET(団体一覧!$B$2:$F$126,O120,0),5,FALSE)","v":{"$error":"#N/A"}}]
[null,null,null,null,null,null,null,null,null,null,null,null,120,{"$f":"VLOOKUP(\"*\"&$N$2&\"*\",OFFSET(団体一覧!$B$2:$F$126,O121,0),1,FALSE)","v":{"$error":"#N/A"}},{"$f":"VLOOKUP(\"*\"&$N$2&\"*\",OFFSET(団体一覧!$B$2:$F$126,O121,0),5,FALSE)","v":{"$error":"#N/A"}}]
[null,null,null,null,null,null,null,null,null,null,null,null,121,{"$f":"VLOOKUP(\"*\"&$N$2&\"*\",OFFSET(団体一覧!$B$2:$F$126,O122,0),1,FALSE)","v":{"$error":"#N/A"}},{"$f":"VLOOKUP(\"*\"&$N$2&\"*\",OFFSET(団体一覧!$B$2:$F$126,O122,0),5,FALSE)","v":{"$error":"#N/A"}}]
[null,null,null,null,null,null,null,null,null,null,null,null,122,{"$f":"VLOOKUP(\"*\"&$N$2&\"*\",OFFSET(団体一覧!$B$2:$F$126,O123,0),1,FALSE)","v":{"$error":"#N/A"}},{"$f":"VLOOKUP(\"*\"&$N$2&\"*\",OFFSET(団体一覧!$B$2:$F$126,O123,0),5,FALSE)","v":{"$error":"#N/A"}}]
[null,null,null,null,null,null,null,null,null,null,null,null,123,{"$f":"VLOOKUP(\"*\"&$N$2&\"*\",OFFSET(団体一覧!$B$2:$F$126,O124,0),1,FALSE)","v":{"$error":"#N/A"}},{"$f":"VLOOKUP(\"*\"&$N$2&\"*\",OFFSET(団体一覧!$B$2:$F$126,O124,0),5,FALSE)","v":{"$error":"#N/A"}}]
[null,null,null,null,null,null,null,null,null,null,null,null,124,{"$f":"VLOOKUP(\"*\"&$N$2&\"*\",OFFSET(団体一覧!$B$2:$F$126,O125,0),1,FALSE)","v":{"$error":"#N/A"}},{"$f":"VLOOKUP(\"*\"&$N$2&\"*\",OFFSET(団体一覧!$B$2:$F$126,O125,0),5,FALSE)","v":{"$error":"#N/A"}}]
[null,null,null,null,null,null,null,null,null,null,null,null,125,{"$f":"VLOOKUP(\"*\"&$N$2&\"*\",OFFSET(団体一覧!$B$2:$F$126,O126,0),1,FALSE)","v":{"$error":"#N/A"}},{"$f":"VLOOKUP(\"*\"&$N$2&\"*\",OFFSET(団体一覧!$B$2:$F$126,O126,0),5,FALSE)","v":{"$error":"#N/A"}}]
[null,null,null,null,null,null,null,null,null,null,null,null,126,{"$f":"VLOOKUP(\"*\"&$N$2&\"*\",OFFSET(団体一覧!$B$2:$F$126,O127,0),1,FALSE)","v":{"$error":"#N/A"}},{"$f":"VLOOKUP(\"*\"&$N$2&\"*\",OFFSET(団体一覧!$B$2:$F$126,O127,0),5,FALSE)","v":{"$error":"#N/A"}}]
[null,null,null,null,null,null,null,null,null,null,null,null,127,{"$f":"VLOOKUP(\"*\"&$N$2&\"*\",OFFSET(団体一覧!$B$2:$F$126,O128,0),1,FALSE)","v":{"$error":"#N/A"}},{"$f":"VLOOKUP(\"*\"&$N$2&\"*\",OFFSET(団体一覧!$B$2:$F$126,O128,0),5,FALSE)","v":{"$error":"#N/A"}}]
[null,null,null,null,null,null,null,null,null,null,null,null,128,{"$f":"VLOOKUP(\"*\"&$N$2&\"*\",OFFSET(団体一覧!$B$2:$F$126,O129,0),1,FALSE)","v":{"$error":"#N/A"}},{"$f":"VLOOKUP(\"*\"&$N$2&\"*\",OFFSET(団体一覧!$B$2:$F$126,O129,0),5,FALSE)","v":{"$error":"#N/A"}}]
[null,null,null,null,null,null,null,null,null,null,null,null,129,{"$f":"VLOOKUP(\"*\"&$N$2&\"*\",OFFSET(団体一覧!$B$2:$F$126,O130,0),1,FALSE)","v":{"$error":"#N/A"}},{"$f":"VLOOKUP(\"*\"&$N$2&\"*\",OFFSET(団体一覧!$B$2:$F$126,O130,0),5,FALSE)","v":{"$error":"#N/A"}}]
[null,null,null,null,null,null,null,null,null,null,null,null,130,{"$f":"VLOOKUP(\"*\"&$N$2&\"*\",OFFSET(団体一覧!$B$2:$F$126,O131,0),1,FALSE)","v":{"$error":"#N/A"}},{"$f":"VLOOKUP(\"*\"&$N$2&\"*\",OFFSET(団体一覧!$B$2:$F$126,O131,0),5,FALSE)","v":{"$error":"#N/A"}}]
[null,null,null,null,null,null,null,null,null,null,null,null,131,{"$f":"VLOOKUP(\"*\"&$N$2&\"*\",OFFSET(団体一覧!$B$2:$F$126,O132,0),1,FALSE)","v":{"$error":"#N/A"}},{"$f":"VLOOKUP(\"*\"&$N$2&\"*\",OFFSET(団体一覧!$B$2:$F$126,O132,0),5,FALSE)","v":{"$error":"#N/A"}}]
[null,null,null,null,null,null,null,null,null,null,null,null,132,{"$f":"VLOOKUP(\"*\"&$N$2&\"*\",OFFSET(団体一覧!$B$2:$F$126,O133,0),1,FALSE)","v":{"$error":"#N/A"}},{"$f":"VLOOKUP(\"*\"&$N$2&\"*\",OFFSET(団体一覧!$B$2:$F$126,O133,0),5,FALSE)","v":{"$error":"#N/A"}}]
[null,null,null,null,null,null,null,null,null,null,null,null,133,{"$f":"VLOOKUP(\"*\"&$N$2&\"*\",OFFSET(団体一覧!$B$2:$F$126,O134,0),1,FALSE)","v":{"$error":"#N/A"}},{"$f":"VLOOKUP(\"*\"&$N$2&\"*\",OFFSET(団体一覧!$B$2:$F$126,O134,0),5,FALSE)","v":{"$error":"#N/A"}}]
[null,null,null,null,null,null,null,null,null,null,null,null,134,{"$f":"VLOOKUP(\"*\"&$N$2&\"*\",OFFSET(団体一覧!$B$2:$F$126,O135,0),1,FALSE)","v":{"$error":"#N/A"}},{"$f":"VLOOKUP(\"*\"&$N$2&\"*\",OFFSET(団体一覧!$B$2:$F$126,O135,0),5,FALSE)","v":{"$error":"#N/A"}}]
[null,null,null,null,null,null,null,null,null,null,null,null,135,{"$f":"VLOOKUP(\"*\"&$N$2&\"*\",OFFSET(団体一覧!$B$2:$F$126,O136,0),1,FALSE)","v":{"$error":"#N/A"}},{"$f":"VLOOKUP(\"*\"&$N$2&\"*\",OFFSET(団体一覧!$B$2:$F$126,O136,0),5,FALSE)","v":{"$error":"#N/A"}}]
[null,null,null,null,null,null,null,null,null,null,null,null,136,{"$f":"VLOOKUP(\"*\"&$N$2&\"*\",OFFSET(団体一覧!$B$2:$F$126,O137,0),1,FALSE)","v":{"$error":"#N/A"}},{"$f":"VLOOKUP(\"*\"&$N$2&\"*\",OFFSET(団体一覧!$B$2:$F$126,O137,0),5,FALSE)","v":{"$error":"#N/A"}}]
[null,null,null,null,null,null,null,null,null,null,null,null,137,{"$f":"VLOOKUP(\"*\"&$N$2&\"*\",OFFSET(団体一覧!$B$2:$F$126,O138,0),1,FALSE)","v":{"$error":"#N/A"}},{"$f":"VLOOKUP(\"*\"&$N$2&\"*\",OFFSET(団体一覧!$B$2:$F$126,O138,0),5,FALSE)","v":{"$error":"#N/A"}}]

{"sheet":"②選手情報入力","index":2,"n_rows":105,"n_cols":46,"rows_kept":105,"cut":false,"hidden":false,"merged":[[95,18,95,19],[96,18,96,19],[97,18,97,19],[98,18,98,19],[99,18,99,19],[90,18,90,19],[91,18,91,19],[92,18,92,19],[93,18,93,19],[94,18,94,19],[85,18,85,19],[86,18,86,19],[87,18,87,19],[88,18,88,19],[89,18,89,19],[80,18,80,19],[81,18,81,19],[82,18,82,19],[83,18,83,19],[84,18,84,19],[75,18,75,19],[76,18,76,19],[77,18,77,19],[78,18,78,19],[79,18,79,19],[70,18,70,19],[71,18,71,19],[72,18,72,19],[73,18,73,19],[74,18,74,19],[65,18,65,19],[66,18,66,19],[67,18,67,19],[68,18,68,19],[69,18,69,19],[60,18,60,19],[61,18,61,19],[62,18,62,19],[63,18,63,19],[64,18,64,19],[55,18,55,19],[56,18,56,19],[57,18,57,19],[58,18,58,19],[59,18,59,19],[50,18,50,19],[51,18,51,19],[52,18,52,19],[53,18,53,19],[54,18,54,19],[45,18,45,19],[46,18,46,19],[47,18,47,19],[48,18,48,19],[49,18,49,19],[40,18,40,19],[41,18,41,19],[42,18,42,19],[43,18,43,19],[44,18,44,19],[35,18,35,19],[36,18,36,19],[37,18,37,19],[38,18,38,19],[39,18,39,19],[30,18,30,19],[31,18,31,19],[32,18,32,19],[33,18,33,19],[34,18,34,19],[25,18,25,19],[26,18,26,19],[27,18,27,19],[28,18,28,19],[29,18,29,19],[20,18,20,19],[21,18,21,19],[22,18,22,19],[23,18,23,19],[24,18,24,19],[97,16,97,17],[98,16,98,17],[99,16,99,17],[3,16,3,17],[8,18,8,19],[9,18,9,19],[10,18,10,19],[11,18,11,19],[12,18,12,19],[13,18,13,19],[14,18,14,19],[15,18,15,19],[16,18,16,19],[17,18,17,19],[18,18,18,19],[19,18,19,19],[92,16,92,17],[93,16,93,17],[94,16,94,17],[95,16,95,17],[96,16,96,17],[87,16,87,17],[88,16,88,17],[89,16,89,17],[90,16,90,17],[91,16,91,17],[82,16,82,17],[83,16,83,17],[84,16,84,17],[85,16,85,17],[86,16,86,17],[77,16,77,17],[78,16,78,17],[79,16,79,17],[80,16,80,17],[81,16,81,17],[72,16,72,17],[73,16,73,17],[74,16,74,17],[75,16,75,17],[76,16,76,17],[67,16,67,17],[68,16,68,17],[69,16,69,17],[70,16,70,17],[71,16,71,17],[62,16,62,17],[63,16,63,17],[64,16,64,17],[65,16,65,17],[66,16,66,17],[57,16,57,17],[58,16,58,17],[59,16,59,17],[60,16,60,17],[61,16,61,17],[52,16,52,17],[53,16,53,17],[54,16,54,17],[55,16,55,17],[56,16,56,17],[47,16,47,17],[48,16,48,17],[49,16,49,17],[50,16,50,17],[51,16,51,17],[42,16,42,17],[43,16,43,17],[44,16,44,17],[45,16,45,17],[46,16,46,17],[37,16,37,17],[38,16,38,17],[39,16,39,17],[40,16,40,17],[41,16,41,17],[32,16,32,17],[33,16,33,17],[34,16,34,17],[35,16,35,17],[36,16,36,17],[27,16,27,17],[28,16,28,17],[29,16,29,17],[30,16,30,17],[31,16,31,17],[22,16,22,17],[23,16,23,17],[24,16,24,17],[25,16,25,17],[26,16,26,17],[17,16,17,17],[18,16,18,17],[19,16,19,17],[20,16,20,17],[21,16,21,17],[12,16,12,17],[13,16,13,17],[14,16,14,17],[15,16,15,17],[16,16,16,17],[2,15,2,19],[8,16,8,17],[9,16,9,17],[10,16,10,17],[11,16,11,17],[3,18,3,19],[3,15,4,15]]}
["②選手情報入力",null,null,{"$f":"IF(①団体情報入力!C5=\"\",\"\",①団体情報入力!C5)","v":""}]
[null,null,"絶対に、行を空けないでください。"]
[null,null,"※必要事項を全て入力してください。",null,null,null,null,null,null,null,null,null,null,null,null,"リレー記録"]
[null,null,"※リレー種目にエントリーをする場合は○を選択し、「③リレー情報確認」でメンバーを確認してください。",null,null,null,null,null,null,null,null,null,null,null,null,null,"4X100mR",null,"4X400mR"]
[null,null,"※コピーしたデータを貼り付ける場合は、「形式を選択して貼り付け」から「値」で貼り付けてください。",null,null,null,null,null,null,null,null,null,null,null,null,null,"OP","記録","OP","記録"]
[null,null,"※データを修正する場合は、必ず「Delete」キーを使用してください。",null,null,null,null,null,null,null,null,null,null,null,null,"男子"]
[null,null,null,null,null,null,null,null,null,null,null,null,null,null,null,"女子"]
[]
[null,"ﾅﾝﾊﾞｰ","氏　名\n姓と名の間に\n全角ｽﾍﾟｰｽ1つ","ﾌﾘｶﾞﾅ\n姓と名の間に\n半角ｽﾍﾟｰｽ1つ",null,"性別","学年","OP1","種目１","記録１","OP2","種目２","記録２","OP3","種目３",null,"4X100mR",null,"4X400mR"]
["例","X101","西三　太郎","ｾｲｻﾝ ﾀﾛｳ",null,"男",2,null,"男100m",12.53,null,"男砲丸投","12m00",null,"男1500m",null,"○",null,"○",null,null,null,null,null,null,null,"ﾅﾝﾊﾞｰ","氏　名","ﾌﾘｶﾞﾅ","性別","学年","競技者NO","ﾅﾝﾊﾞｰ","氏　名","ﾌﾘｶﾞﾅ","性別","学年","競技者NO","男400R",{"$f":"COUNTIF(AN11:AN100,\"<>0\")","v":0},"男1600R",{"$f":"COUNTIF(AP11:AP100,\"<>0\")","v":0},"女400R",{"$f":"COUNTIF(AR11:AR100,\"<>0\")","v":0},"女1600R",{"$f":"COUNTIF(AT11:AT100,\"<>0\")","v":0}]
[1,null,null,null,null,null,null,null,null,null,null,null,null,null,null,null,null,null,null,null,null,null,null,null,null,null,{"$f":"IF(F11=\"男\",B11,\"\")","v":""},{"$f":"IF(F11=\"男\",C11,\"\")","v":""},{"$f":"IF(F11=\"男\",D11,\"\")","v":""},{"$f":"IF(F11=\"男\",F11,\"\")","v":""},{"$f":"IF(F11=\"男\",IF(G11=\"\",\"\",G11),\"\")","v":""},{"$f":"IF(F11=\"男\",data_kyogisha!A2,\"\")","v":""},{"$f":"IF(F11=\"女\",B11,\"\")","v":""},{"$f":"IF(F11=\"女\",C11,\"\")","v":""},{"$f":"IF(F11=\"女\",D11,\"\")","v":""},{"$f":"IF(F11=\"女\",F11,\"\")","v":""},{"$f":"IF(F11=\"女\",IF(G11=\"\",\"\",G11),\"\")","v":""},{"$f":"IF(F11=\"女\",data_kyogisha!A2,\"\")","v":""},{"$f":"IF(AND(F11=\"男\",Q11=\"○\"),1,0)","v":0},{"$f":"IF(AND(F11=\"男\",Q11=\"○\"),B11,0)","v":0},{"$f":"IF(AND(F11=\"男\",S11=\"○\"),1,0)","v":0},{"$f":"IF(AND(F11=\"男\",S11=\"○\"),B11,0)","v":0},{"$f":"IF(AND(F11=\"女\",Q11=\"○\"),1,0)","v":0},{"$f":"IF(AND(F11=\"女\",Q11=\"○\"),B11,0)","v":0},{"$f":"IF(AND(F11=\"女\",S11=\"○\"),1,0)","v":0},{"$f":"IF(AND(F11=\"女\",S11=\"○\"),B11,0)","v":0}]
[2,null,null,null,null,null,null,null,null,null,null,null,null,null,null,null,null,null,null,null,null,null,"男",{"$f":"IF(種目情報!A4=\"\",\"\",種目情報!A4)","v":"中男100m"},{"$f":"IF(種目情報!E4=\"\",\"\",種目情報!E4)","v":"中女100m"},"○",{"$f":"IF(F12=\"男\",B12,\"\")","v":""},"","","","",{"$f":"IF(F12=\"男\",data_kyogisha!A3,\"\")","v":""},{"$f":"IF(F12=\"女\",B12,\"\")","v":""},"","","","",{"$f":"IF(F12=\"女\",data_kyogisha!A3,\"\")","v":""},{"$f":"IF(AND(F12=\"男\",Q12=\"○\"),AM11+1,AM11)","v":0},{"$f":"IF(AND(F12=\"男\",Q12=\"○\"),B12,0)","v":0},{"$f":"IF(AND(F12=\"男\",S12=\"○\"),AO11+1,AO11)","v":0},{"$f":"IF(AND(F12=\"男\",S12=\"○\"),B12,0)","v":0},{"$f":"IF(AND(F12=\"女\",Q12=\"○\"),AQ11+1,AQ11)","v":0},{"$f":"IF(AND(F12=\"女\",Q12=\"○\"),B12,0)","v":0},{"$f":"IF(AND(F12=\"女\",S12=\"○\"),AS11+1,AS11)","v":0},{"$f":"IF(AND(F12=\"女\",S12=\"○\"),B12,0)","v":0}]
[3,null,null,null,null,null,null,null,null,null,null,null,null,null,null,null,null,null,null,null,null,null,"女",{"$f":"IF(種目情報!A5=\"\",\"\",種目情報!A5)","v":"中男400m"},{"$f":"IF(種目情報!E5=\"\",\"\",種目情報!E5)","v":"中女200m"},null,"","","","","",{"$f":"IF(F13=\"男\",data_kyogisha!A4,\"\")","v":""},"","","","","",{"$f":"IF(F13=\"女\",data_kyogisha!A4,\"\")","v":""},{"$f":"IF(AND(F13=\"男\",Q13=\"○\"),AM12+1,AM12)","v":0},0,0,0,{"$f":"IF(AND(F13=\"女\",Q13=\"○\"),AQ12+1,AQ12)","v":0},0,0,0]
[4,null,null,null,null,null,null,null,null,null,null,null,null,null,null,null,null,null,null,null,null,null,null,{"$f":"IF(種目情報!A6=\"\",\"\",種目情報!A6)","v":"中男1500m"},{"$f":"IF(種目情報!E6=\"\",\"\",種目情報!E6)","v":"中女800m"},null,"","","","","",{"$f":"IF(F14=\"男\",data_kyogisha!A5,\"\")","v":""},"","","","","",{"$f":"IF(F14=\"女\",data_kyogisha!A5,\"\")","v":""},0,0,0,0,0,0,0,0]
[5,null,null,null,null,null,null,null,null,null,null,null,null,null,null,null,null,null,null,null,null,null,null,{"$f":"IF(種目情報!A7=\"\",\"\",種目情報!A7)","v":"中男110mH(0.914m)"},{"$f":"IF(種目情報!E7=\"\",\"\",種目情報!E7)","v":"中女100mH(0.762m)"},null,"","","","","",{"$f":"IF(F15=\"男\",data_kyogisha!A6,\"\")","v":""},"","","","","",{"$f":"IF(F15=\"女\",data_kyogisha!A6,\"\")","v":""},0,0,0,0,0,0,0,0]
[6,null,null,null,null,null,null,null,null,null,null,null,null,null,null,null,null,null,null,null,null,null,null,{"$f":"IF(種目情報!A8=\"\",\"\",種目情報!A8)","v":"中男走高跳"},{"$f":"IF(種目情報!E8=\"\",\"\",種目情報!E8)","v":"中女走高跳"},null,"","","","","",{"$f":"IF(F16=\"男\",data_kyogisha!A7,\"\")","v":""},"","","","","",{"$f":"IF(F16=\"女\",data_kyogisha!A7,\"\")","v":""},0,0,0,0,0,0,0,0]
[7,null,null,null,null,null,null,null,null,null,null,null,null,null,null,null,null,null,null,null,null,null,null,{"$f":"IF(種目情報!A9=\"\",\"\",種目情報!A9)","v":"中男走幅跳"},{"$f":"IF(種目情報!E9=\"\",\"\",種目情報!E9)","v":"中女走幅跳"},null,"","","","","",{"$f":"IF(F17=\"男\",data_kyogisha!A8,\"\")","v":""},"","","","","",{"$f":"IF(F17=\"女\",data_kyogisha!A8,\"\")","v":""},0,0,0,0,0,0,0,0]
[8,null,null,null,null,null,null,null,null,null,null,null,null,null,null,null,null,null,null,null,null,null,null,{"$f":"IF(種目情報!A10=\"\",\"\",種目情報!A10)","v":"中男砲丸投(5.000kg)"},{"$f":"IF(種目情報!E10=\"\",\"\",種目情報!E10)","v":"中女砲丸投(2.721kg)"},null,"","","","","",{"$f":"IF(F18=\"男\",data_kyogisha!A9,\"\")","v":""},"","","","","",{"$f":"IF(F18=\"女\",data_kyogisha!A9,\"\")","v":""},0,0,0,0,0,0,0,0]
[9,null,null,null,null,null,null,null,null,null,null,null,null,null,null,null,null,null,null,null,null,null,null,{"$f":"IF(種目情報!A11=\"\",\"\",種目情報!A11)","v":""},{"$f":"IF(種目情報!E11=\"\",\"\",種目情報!E11)","v":""},null,"","","","","",{"$f":"IF(F19=\"男\",data_kyogisha!A10,\"\")","v":""},"","","","","",{"$f":"IF(F19=\"女\",data_kyogisha!A10,\"\")","v":""},0,0,0,0,0,0,0,0]
[10,null,null,null,null,null,null,null,null,null,null,null,null,null,null,null,null,null,null,null,null,null,null,{"$f":"IF(種目情報!A12=\"\",\"\",種目情報!A12)","v":""},{"$f":"IF(種目情報!E12=\"\",\"\",種目情報!E12)","v":""},null,"","","","","",{"$f":"IF(F20=\"男\",data_kyogisha!A11,\"\")","v":""},"","","","","",{"$f":"IF(F20=\"女\",data_kyogisha!A11,\"\")","v":""},0,0,0,0,0,0,0,0]
[11,null,null,null,null,null,null,null,null,null,null,null,null,null,null,null,null,null,null,null,null,null,null,{"$f":"IF(種目情報!A13=\"\",\"\",種目情報!A13)","v":""},{"$f":"IF(種目情報!E13=\"\",\"\",種目情報!E13)","v":""},null,"","","","","",{"$f":"IF(F21=\"男\",data_kyogisha!A12,\"\")","v":""},"","","","","",{"$f":"IF(F21=\"女\",data_kyogisha!A12,\"\")","v":""},0,0,0,0,0,0,0,0]
[12,null,null,null,null,null,null,null,null,null,null,null,null,null,null,null,null,null,null,null,null,null,null,null,null,null,"","","","","",{"$f":"IF(F22=\"男\",data_kyogisha!A13,\"\")","v":""},"","","","","",{"$f":"IF(F22=\"女\",data_kyogisha!A13,\"\")","v":""},0,0,0,0,0,0,0,0]
[13,null,null,null,null,null,null,null,null,null,null,null,null,null,null,null,null,null,null,null,null,null,null,null,null,null,"","","","","",{"$f":"IF(F23=\"男\",data_kyogisha!A14,\"\")","v":""},"","","","","",{"$f":"IF(F23=\"女\",data_kyogisha!A14,\"\")","v":""},0,0,0,0,0,0,0,0]
[14,null,null,null,null,null,null,null,null,null,null,null,null,null,null,null,null,null,null,null,null,null,null,null,null,null,"","","","","",{"$f":"IF(F24=\"男\",data_kyogisha!A15,\"\")","v":""},"","","","","",{"$f":"IF(F24=\"女\",data_kyogisha!A15,\"\")","v":""},0,0,0,0,0,0,0,0]
[15,null,null,null,null,null,null,null,null,null,null,null,null,null,null,null,null,null,null,null,null,null,null,null,null,null,"","","","","",{"$f":"IF(F25=\"男\",data_kyogisha!A16,\"\")","v":""},"","","","","",{"$f":"IF(F25=\"女\",data_kyogisha!A16,\"\")","v":""},0,0,0,0,0,0,0,0]
[16,null,null,null,null,null,null,null,null,null,null,null,null,null,null,null,null,null,null,null,null,null,null,null,null,null,"","","","","",{"$f":"IF(F26=\"男\",data_kyogisha!A17,\"\")","v":""},"","","","","",{"$f":"IF(F26=\"女\",data_kyogisha!A17,\"\")","v":""},0,0,0,0,0,0,0,0]
[17,null,null,null,null,null,null,null,null,null,null,null,null,null,null,null,null,null,null,null,null,null,null,null,null,null,"","","","","",{"$f":"IF(F27=\"男\",data_kyogisha!A18,\"\")","v":""},"","","","","",{"$f":"IF(F27=\"女\",data_kyogisha!A18,\"\")","v":""},0,0,0,0,0,0,0,0]
[18,null,null,null,null,null,null,null,null,null,null,null,null,null,null,null,null,null,null,null,null,null,null,null,null,null,"","","","","",{"$f":"IF(F28=\"男\",data_kyogisha!A19,\"\")","v":""},"","","","","",{"$f":"IF(F28=\"女\",data_kyogisha!A19,\"\")","v":""},0,0,0,0,0,0,0,0]
[19,null,null,null,null,null,null,null,null,null,null,null,null,null,null,null,null,null,null,null,null,null,null,null,null,null,"","","","","",{"$f":"IF(F29=\"男\",data_kyogisha!A20,\"\")","v":""},"","","","","",{"$f":"IF(F29=\"女\",data_kyogisha!A20,\"\")","v":""},0,0,0,0,0,0,0,0]
[20,null,null,null,null,null,null,null,null,null,null,null,null,null,null,null,null,null,null,null,null,null,null,null,null,null,"","","","","",{"$f":"IF(F30=\"男\",data_kyogisha!A21,\"\")","v":""},"","","","","",{"$f":"IF(F30=\"女\",data_kyogisha!A21,\"\")","v":""},0,0,0,0,0,0,0,0]
[21,null,null,null,null,null,null,null,null,null,null,null,null,null,null,null,null,null,null,null,null,null,null,null,null,null,"","","","","",{"$f":"IF(F31=\"男\",data_kyogisha!A22,\"\")","v":""},"","","","","",{"$f":"IF(F31=\"女\",data_kyogisha!A22,\"\")","v":""},0,0,0,0,0,0,0,0]
[22,null,null,null,null,null,null,null,null,null,null,null,null,null,null,null,null,null,null,null,null,null,null,null,null,null,"","","","","",{"$f":"IF(F32=\"男\",data_kyogisha!A23,\"\")","v":""},"","","","","",{"$f":"IF(F32=\"女\",data_kyogisha!A23,\"\")","v":""},0,0,0,0,0,0,0,0]
[23,null,null,null,null,null,null,null,null,null,null,null,null,null,null,null,null,null,null,null,null,null,null,null,null,null,"","","","","",{"$f":"IF(F33=\"男\",data_kyogisha!A24,\"\")","v":""},"","","","","",{"$f":"IF(F33=\"女\",data_kyogisha!A24,\"\")","v":""},0,0,0,0,0,0,0,0]
[24,null,null,null,null,null,null,null,null,null,null,null,null,null,null,null,null,null,null,null,null,null,null,null,null,null,"","","","","",{"$f":"IF(F34=\"男\",data_kyogisha!A25,\"\")","v":""},"","","","","",{"$f":"IF(F34=\"女\",data_kyogisha!A25,\"\")","v":""},0,0,0,0,0,0,0,0]
[25,null,null,null,null,null,null,null,null,null,null,null,null,null,null,null,null,null,null,null,null,null,null,null,null,null,"","","","","",{"$f":"IF(F35=\"男\",data_kyogisha!A26,\"\")","v":""},"","","","","",{"$f":"IF(F35=\"女\",data_kyogisha!A26,\"\")","v":""},0,0,0,0,0,0,0,0]
[26,null,null,null,null,null,null,null,null,null,null,null,null,null,null,null,null,null,null,null,null,null,null,null,null,null,"","","","","",{"$f":"IF(F36=\"男\",data_kyogisha!A27,\"\")","v":""},"","","","","",{"$f":"IF(F36=\"女\",data_kyogisha!A27,\"\")","v":""},0,0,0,0,0,0,0,0]
[27,null,null,null,null,null,null,null,null,null,null,null,null,null,null,null,null,null,null,null,null,null,null,null,null,null,"","","","","",{"$f":"IF(F37=\"男\",data_kyogisha!A28,\"\")","v":""},"","","","","",{"$f":"IF(F37=\"女\",data_kyogisha!A28,\"\")","v":""},0,0,0,0,0,0,0,0]
[28,null,null,null,null,null,null,null,null,null,null,null,null,null,null,null,null,null,null,null,null,null,null,null,null,null,"","","","","",{"$f":"IF(F38=\"男\",data_kyogisha!A29,\"\")","v":""},"","","","","",{"$f":"IF(F38=\"女\",data_kyogisha!A29,\"\")","v":""},0,0,0,0,0,0,0,0]
[29,null,null,null,null,null,null,null,null,null,null,null,null,null,null,null,null,null,null,null,null,null,null,null,null,null,"","","","","",{"$f":"IF(F39=\"男\",data_kyogisha!A30,\"\")","v":""},"","","","","",{"$f":"IF(F39=\"女\",data_kyogisha!A30,\"\")","v":""},0,0,0,0,0,0,0,0]
[30,null,null,null,null,null,null,null,null,null,null,null,null,null,null,null,null,null,null,null,null,null,null,null,null,null,"","","","","",{"$f":"IF(F40=\"男\",data_kyogisha!A31,\"\")","v":""},"","","","","",{"$f":"IF(F40=\"女\",data_kyogisha!A31,\"\")","v":""},0,0,0,0,0,0,0,0]
[31,null,null,null,null,null,null,null,null,null,null,null,null,null,null,null,null,null,null,null,null,null,null,null,null,null,"","","","","",{"$f":"IF(F41=\"男\",data_kyogisha!A32,\"\")","v":""},"","","","","",{"$f":"IF(F41=\"女\",data_kyogisha!A32,\"\")","v":""},0,0,0,0,0,0,0,0]
[32,null,null,null,null,null,null,null,null,null,null,null,null,null,null,null,null,null,null,null,null,null,null,null,null,null,"","","","","",{"$f":"IF(F42=\"男\",data_kyogisha!A33,\"\")","v":""},"","","","","",{"$f":"IF(F42=\"女\",data_kyogisha!A33,\"\")","v":""},0,0,0,0,0,0,0,0]
[33,null,null,null,null,null,null,null,null,null,null,null,null,null,null,null,null,null,null,null,null,null,null,null,null,null,"",{"$f":"IF(F43=\"男\",C43,\"\")","v":""},{"$f":"IF(F43=\"男\",D43,\"\")","v":""},{"$f":"IF(F43=\"男\",F43,\"\")","v":""},{"$f":"IF(F43=\"男\",IF(G43=\"\",\"\",G43),\"\")","v":""},{"$f":"IF(F43=\"男\",data_kyogisha!A34,\"\")","v":""},"",{"$f":"IF(F43=\"女\",C43,\"\")","v":""},{"$f":"IF(F43=\"女\",D43,\"\")","v":""},{"$f":"IF(F43=\"女\",F43,\"\")","v":""},{"$f":"IF(F43=\"女\",IF(G43=\"\",\"\",G43),\"\")","v":""},{"$f":"IF(F43=\"女\",data_kyogisha!A34,\"\")","v":""},0,0,0,0,0,0,0,0]
[34,null,null,null,null,null,null,null,null,null,null,null,null,null,null,null,null,null,null,null,null,null,null,null,null,null,"","","","","",{"$f":"IF(F44=\"男\",data_kyogisha!A35,\"\")","v":""},"","","","","",{"$f":"IF(F44=\"女\",data_kyogisha!A35,\"\")","v":""},0,0,{"$f":"IF(AND(F44=\"男\",S44=\"○\"),AO43+1,AO43)","v":0},0,0,0,{"$f":"IF(AND(F44=\"女\",S44=\"○\"),AS43+1,AS43)","v":0},0]
[35,null,null,null,null,null,null,null,null,null,null,null,null,null,null,null,null,null,null,null,null,null,null,null,null,null,"","","","","",{"$f":"IF(F45=\"男\",data_kyogisha!A36,\"\")","v":""},"","","","","",{"$f":"IF(F45=\"女\",data_kyogisha!A36,\"\")","v":""},0,0,0,0,0,0,0,0]
[36,null,null,null,null,null,null,null,null,null,null,null,null,null,null,null,null,null,null,null,null,null,null,null,null,null,"","","","","",{"$f":"IF(F46=\"男\",data_kyogisha!A37,\"\")","v":""},"","","","","",{"$f":"IF(F46=\"女\",data_kyogisha!A37,\"\")","v":""},0,0,0,0,0,0,0,0]
[37,null,null,null,null,null,null,null,null,null,null,null,null,null,null,null,null,null,null,null,null,null,null,null,null,null,"","","","","",{"$f":"IF(F47=\"男\",data_kyogisha!A38,\"\")","v":""},"","","","","",{"$f":"IF(F47=\"女\",data_kyogisha!A38,\"\")","v":""},0,0,0,0,0,0,0,0]
[38,null,null,null,null,null,null,null,null,null,null,null,null,null,null,null,null,null,null,null,null,null,null,null,null,null,"","","","","",{"$f":"IF(F48=\"男\",data_kyogisha!A39,\"\")","v":""},"","","","","",{"$f":"IF(F48=\"女\",data_kyogisha!A39,\"\")","v":""},0,0,0,0,0,0,0,0]
[39,null,null,null,null,null,null,null,null,null,null,null,null,null,null,null,null,null,null,null,null,null,null,null,null,null,"","","","","",{"$f":"IF(F49=\"男\",data_kyogisha!A40,\"\")","v":""},"","","","","",{"$f":"IF(F49=\"女\",data_kyogisha!A40,\"\")","v":""},0,0,0,0,0,0,0,0]
[40,null,null,null,null,null,null,null,null,null,null,null,null,null,null,null,null,null,null,null,null,null,null,null,null,null,"","","","","",{"$f":"IF(F50=\"男\",data_kyogisha!A41,\"\")","v":""},"","","","","",{"$f":"IF(F50=\"女\",data_kyogisha!A41,\"\")","v":""},0,0,0,0,0,0,0,0]
[41,null,null,null,null,null,null,null,null,null,null,null,null,null,null,null,null,null,null,null,null,null,null,null,null,null,"","","","","",{"$f":"IF(F51=\"男\",data_kyogisha!A42,\"\")","v":""},"","","","","",{"$f":"IF(F51=\"女\",data_kyogisha!A42,\"\")","v":""},0,0,0,0,0,0,0,0]
[42,null,null,null,null,null,null,null,null,null,null,null,null,null,null,null,null,null,null,null,null,null,null,null,null,null,"","","","","",{"$f":"IF(F52=\"男\",data_kyogisha!A43,\"\")","v":""},"","","","","",{"$f":"IF(F52=\"女\",data_kyogisha!A43,\"\")","v":""},0,0,0,0,0,0,0,0]
[43,null,null,null,null,null,null,null,null,null,null,null,null,null,null,null,null,null,null,null,null,null,null,null,null,null,"","","","","",{"$f":"IF(F53=\"男\",data_kyogisha!A44,\"\")","v":""},"","","","","",{"$f":"IF(F53=\"女\",data_kyogisha!A44,\"\")","v":""},0,0,0,0,0,0,0,0]
[44,null,null,null,null,null,null,null,null,null,null,null,null,null,null,null,null,null,null,null,null,null,null,null,null,null,"","","","","",{"$f":"IF(F54=\"男\",data_kyogisha!A45,\"\")","v":""},"","","","","",{"$f":"IF(F54=\"女\",data_kyogisha!A45,\"\")","v":""},0,0,0,0,0,0,0,0]
[45,null,null,null,null,null,null,null,null,null,null,null,null,null,null,null,null,null,null,null,null,null,null,null,null,null,"","","","","",{"$f":"IF(F55=\"男\",data_kyogisha!A46,\"\")","v":""},"","","","","",{"$f":"IF(F55=\"女\",data_kyogisha!A46,\"\")","v":""},0,0,0,0,0,0,0,0]
[46,null,null,null,null,null,null,null,null,null,null,null,null,null,null,null,null,null,null,null,null,null,null,null,null,null,"","","","","",{"$f":"IF(F56=\"男\",data_kyogisha!A47,\"\")","v":""},"","","","","",{"$f":"IF(F56=\"女\",data_kyogisha!A47,\"\")","v":""},0,0,0,0,0,0,0,0]
[47,null,null,null,null,null,null,null,null,null,null,null,null,null,null,null,null,null,null,null,null,null,null,null,null,null,"","","","","",{"$f":"IF(F57=\"男\",data_kyogisha!A48,\"\")","v":""},"","","","","",{"$f":"IF(F57=\"女\",data_kyogisha!A48,\"\")","v":""},0,0,0,0,0,0,0,0]
[48,null,null,null,null,null,null,null,null,null,null,null,null,null,null,null,null,null,null,null,null,null,null,null,null,null,"","","","","",{"$f":"IF(F58=\"男\",data_kyogisha!A49,\"\")","v":""},"","","","","",{"$f":"IF(F58=\"女\",data_kyogisha!A49,\"\")","v":""},0,0,0,0,0,0,0,0]
[49,null,null,null,null,null,null,null,null,null,null,null,null,null,null,null,null,null,null,null,null,null,null,null,null,null,"","","","","",{"$f":"IF(F59=\"男\",data_kyogisha!A50,\"\")","v":""},"","","","","",{"$f":"IF(F59=\"女\",data_kyogisha!A50,\"\")","v":""},0,0,0,0,0,0,0,0]
[50,null,null,null,null,null,null,null,null,null,null,null,null,null,null,null,null,null,null,null,null,null,null,null,null,null,"","","","","",{"$f":"IF(F60=\"男\",data_kyogisha!A51,\"\")","v":""},"","","","","",{"$f":"IF(F60=\"女\",data_kyogisha!A51,\"\")","v":""},0,0,0,0,0,0,0,0]
[51,null,null,null,null,null,null,null,null,null,null,null,null,null,null,null,null,null,null,null,null,null,null,null,null,null,"","","","","",{"$f":"IF(F61=\"男\",data_kyogisha!A52,\"\")","v":""},"","","","","",{"$f":"IF(F61=\"女\",data_kyogisha!A52,\"\")","v":""},0,0,0,0,0,0,0,0]
[52,null,null,null,null,null,null,null,null,null,null,null,null,null,null,null,null,null,null,null,null,null,null,null,null,null,"","","","","",{"$f":"IF(F62=\"男\",data_kyogisha!A53,\"\")","v":""},"","","","","",{"$f":"IF(F62=\"女\",data_kyogisha!A53,\"\")","v":""},0,0,0,0,0,0,0,0]
[53,null,null,null,null,null,null,null,null,null,null,null,null,null,null,null,null,null,null,null,null,null,null,null,null,null,"","","","","",{"$f":"IF(F63=\"男\",data_kyogisha!A54,\"\")","v":""},"","","","","",{"$f":"IF(F63=\"女\",data_kyogisha!A54,\"\")","v":""},0,0,0,0,0,0,0,0]
[54,null,null,null,null,null,null,null,null,null,null,null,null,null,null,null,null,null,null,null,null,null,null,null,null,null,"","","","","",{"$f":"IF(F64=\"男\",data_kyogisha!A55,\"\")","v":""},"","","","","",{"$f":"IF(F64=\"女\",data_kyogisha!A55,\"\")","v":""},0,0,0,0,0,0,0,0]
[55,null,null,null,null,null,null,null,null,null,null,null,null,null,null,null,null,null,null,null,null,null,null,null,null,null,"","","","","",{"$f":"IF(F65=\"男\",data_kyogisha!A56,\"\")","v":""},"","","","","",{"$f":"IF(F65=\"女\",data_kyogisha!A56,\"\")","v":""},0,0,0,0,0,0,0,0]
[56,null,null,null,null,null,null,null,null,null,null,null,null,null,null,null,null,null,null,null,null,null,null,null,null,null,"","","","","",{"$f":"IF(F66=\"男\",data_kyogisha!A57,\"\")","v":""},"","","","","",{"$f":"IF(F66=\"女\",data_kyogisha!A57,\"\")","v":""},0,0,0,0,0,0,0,0]
[57,null,null,null,null,null,null,null,null,null,null,null,null,null,null,null,null,null,null,null,null,null,null,null,null,null,"","","","","",{"$f":"IF(F67=\"男\",data_kyogisha!A58,\"\")","v":""},"","","","","",{"$f":"IF(F67=\"女\",data_kyogisha!A58,\"\")","v":""},0,0,0,0,0,0,0,0]
[58,null,null,null,null,null,null,null,null,null,null,null,null,null,null,null,null,null,null,null,null,null,null,null,null,null,"","","","","",{"$f":"IF(F68=\"男\",data_kyogisha!A59,\"\")","v":""},"","","","","",{"$f":"IF(F68=\"女\",data_kyogisha!A59,\"\")","v":""},0,0,0,0,0,0,0,0]
[59,null,null,null,null,null,null,null,null,null,null,null,null,null,null,null,null,null,null,null,null,null,null,null,null,null,"","","","","",{"$f":"IF(F69=\"男\",data_kyogisha!A60,\"\")","v":""},"","","","","",{"$f":"IF(F69=\"女\",data_kyogisha!A60,\"\")","v":""},0,0,0,0,0,0,0,0]
[60,null,null,null,null,null,null,null,null,null,null,null,null,null,null,null,null,null,null,null,null,null,null,null,null,null,"","","","","",{"$f":"IF(F70=\"男\",data_kyogisha!A61,\"\")","v":""},"","","","","",{"$f":"IF(F70=\"女\",data_kyogisha!A61,\"\")","v":""},0,0,0,0,0,0,0,0]
[61,null,null,null,null,null,null,null,null,null,null,null,null,null,null,null,null,null,null,null,null,null,null,null,null,null,"","","","","",{"$f":"IF(F71=\"男\",data_kyogisha!A62,\"\")","v":""},"","","","","",{"$f":"IF(F71=\"女\",data_kyogisha!A62,\"\")","v":""},0,0,0,0,0,0,0,0]
[62,null,null,null,null,null,null,null,null,null,null,null,null,null,null,null,null,null,null,null,null,null,null,null,null,null,"","","","","",{"$f":"IF(F72=\"男\",data_kyogisha!A63,\"\")","v":""},"","","","","",{"$f":"IF(F72=\"女\",data_kyogisha!A63,\"\")","v":""},0,0,0,0,0,0,0,0]
[63,null,null,null,null,null,null,null,null,null,null,null,null,null,null,null,null,null,null,null,null,null,null,null,null,null,"","","","","",{"$f":"IF(F73=\"男\",data_kyogisha!A64,\"\")","v":""},"","","","","",{"$f":"IF(F73=\"女\",data_kyogisha!A64,\"\")","v":""},0,0,0,0,0,0,0,0]
[64,null,null,null,null,null,null,null,null,null,null,null,null,null,null,null,null,null,null,null,null,null,null,null,null,null,"","","","","",{"$f":"IF(F74=\"男\",data_kyogisha!A65,\"\")","v":""},"","","","","",{"$f":"IF(F74=\"女\",data_kyogisha!A65,\"\")","v":""},0,0,0,0,0,0,0,0]
[65,null,null,null,null,null,null,null,null,null,null,null,null,null,null,null,null,null,null,null,null,null,null,null,null,null,"","","","","",{"$f":"IF(F75=\"男\",data_kyogisha!A66,\"\")","v":""},"",{"$f":"IF(F75=\"女\",C75,\"\")","v":""},"",{"$f":"IF(F75=\"女\",F75,\"\")","v":""},"",{"$f":"IF(F75=\"女\",data_kyogisha!A66,\"\")","v":""},0,0,0,0,0,0,0,0]
[66,null,null,null,null,null,null,null,null,null,null,null,null,null,null,null,null,null,null,null,null,null,null,null,null,null,{"$f":"IF(F76=\"男\",B76,\"\")","v":""},{"$f":"IF(F76=\"男\",C76,\"\")","v":""},{"$f":"IF(F76=\"男\",D76,\"\")","v":""},{"$f":"IF(F76=\"男\",F76,\"\")","v":""},{"$f":"IF(F76=\"男\",IF(G76=\"\",\"\",G76),\"\")","v":""},{"$f":"IF(F76=\"男\",data_kyogisha!A67,\"\")","v":""},{"$f":"IF(F76=\"女\",B76,\"\")","v":""},"",{"$f":"IF(F76=\"女\",D76,\"\")","v":""},"",{"$f":"IF(F76=\"女\",IF(G76=\"\",\"\",G76),\"\")","v":""},{"$f":"IF(F76=\"女\",data_kyogisha!A67,\"\")","v":""},0,{"$f":"IF(AND(F76=\"男\",Q76=\"○\"),B76,0)","v":0},{"$f":"IF(AND(F76=\"男\",S76=\"○\"),AO75+1,AO75)","v":0},{"$f":"IF(AND(F76=\"男\",S76=\"○\"),B76,0)","v":0},0,{"$f":"IF(AND(F76=\"女\",Q76=\"○\"),B76,0)","v":0},{"$f":"IF(AND(F76=\"女\",S76=\"○\"),AS75+1,AS75)","v":0},{"$f":"IF(AND(F76=\"女\",S76=\"○\"),B76,0)","v":0}]
[67,null,null,null,null,null,null,null,null,null,null,null,null,null,null,null,null,null,null,null,null,null,null,null,null,null,"","","","","",{"$f":"IF(F77=\"男\",data_kyogisha!A68,\"\")","v":""},"","","","","",{"$f":"IF(F77=\"女\",data_kyogisha!A68,\"\")","v":""},{"$f":"IF(AND(F77=\"男\",Q77=\"○\"),AM76+1,AM76)","v":0},0,0,0,{"$f":"IF(AND(F77=\"女\",Q77=\"○\"),AQ76+1,AQ76)","v":0},0,0,0]
[68,null,null,null,null,null,null,null,null,null,null,null,null,null,null,null,null,null,null,null,null,null,null,null,null,null,"","","","","",{"$f":"IF(F78=\"男\",data_kyogisha!A69,\"\")","v":""},"","","","","",{"$f":"IF(F78=\"女\",data_kyogisha!A69,\"\")","v":""},0,0,0,0,0,0,0,0]
[69,null,null,null,null,null,null,null,null,null,null,null,null,null,null,null,null,null,null,null,null,null,null,null,null,null,"","","","","",{"$f":"IF(F79=\"男\",data_kyogisha!A70,\"\")","v":""},"","","","","",{"$f":"IF(F79=\"女\",data_kyogisha!A70,\"\")","v":""},0,0,0,0,0,0,0,0]
[70,null,null,null,null,null,null,null,null,null,null,null,null,null,null,null,null,null,null,null,null,null,null,null,null,null,"","","","","",{"$f":"IF(F80=\"男\",data_kyogisha!A71,\"\")","v":""},"","","","","",{"$f":"IF(F80=\"女\",data_kyogisha!A71,\"\")","v":""},0,0,0,0,0,0,0,0]
[71,null,null,null,null,null,null,null,null,null,null,null,null,null,null,null,null,null,null,null,null,null,null,null,null,null,"","","","","",{"$f":"IF(F81=\"男\",data_kyogisha!A72,\"\")","v":""},"","","","","",{"$f":"IF(F81=\"女\",data_kyogisha!A72,\"\")","v":""},0,0,0,0,0,0,0,0]
[72,null,null,null,null,null,null,null,null,null,null,null,null,null,null,null,null,null,null,null,null,null,null,null,null,null,"","","","","",{"$f":"IF(F82=\"男\",data_kyogisha!A73,\"\")","v":""},"","","","","",{"$f":"IF(F82=\"女\",data_kyogisha!A73,\"\")","v":""},0,0,0,0,0,0,0,0]
[73,null,null,null,null,null,null,null,null,null,null,null,null,null,null,null,null,null,null,null,null,null,null,null,null,null,"","","","","",{"$f":"IF(F83=\"男\",data_kyogisha!A74,\"\")","v":""},"","","","","",{"$f":"IF(F83=\"女\",data_kyogisha!A74,\"\")","v":""},0,0,0,0,0,0,0,0]
[74,null,null,null,null,null,null,null,null,null,null,null,null,null,null,null,null,null,null,null,null,null,null,null,null,null,"","","","","",{"$f":"IF(F84=\"男\",data_kyogisha!A75,\"\")","v":""},"","","","","",{"$f":"IF(F84=\"女\",data_kyogisha!A75,\"\")","v":""},0,0,0,0,0,0,0,0]
[75,null,null,null,null,null,null,null,null,null,null,null,null,null,null,null,null,null,null,null,null,null,null,null,null,null,"","","","","",{"$f":"IF(F85=\"男\",data_kyogisha!A76,\"\")","v":""},"","","","","",{"$f":"IF(F85=\"女\",data_kyogisha!A76,\"\")","v":""},0,0,0,0,0,0,0,0]
[76,null,null,null,null,null,null,null,null,null,null,null,null,null,null,null,null,null,null,null,null,null,null,null,null,null,"","","","","",{"$f":"IF(F86=\"男\",data_kyogisha!A77,\"\")","v":""},"","","","","",{"$f":"IF(F86=\"女\",data_kyogisha!A77,\"\")","v":""},0,0,0,0,0,0,0,0]
[77,null,null,null,null,null,null,null,null,null,null,null,null,null,null,null,null,null,null,null,null,null,null,null,null,null,"","","","","",{"$f":"IF(F87=\"男\",data_kyogisha!A78,\"\")","v":""},"","","","","",{"$f":"IF(F87=\"女\",data_kyogisha!A78,\"\")","v":""},0,0,0,0,0,0,0,0]
[78,null,null,null,null,null,null,null,null,null,null,null,null,null,null,null,null,null,null,null,null,null,null,null,null,null,"","","","","",{"$f":"IF(F88=\"男\",data_kyogisha!A79,\"\")","v":""},"","","","","",{"$f":"IF(F88=\"女\",data_kyogisha!A79,\"\")","v":""},0,0,0,0,0,0,0,0]
[79,null,null,null,null,null,null,null,null,null,null,null,null,null,null,null,null,null,null,null,null,null,null,null,null,null,"","","","","",{"$f":"IF(F89=\"男\",data_kyogisha!A80,\"\")","v":""},"","","","","",{"$f":"IF(F89=\"女\",data_kyogisha!A80,\"\")","v":""},0,0,0,0,0,0,0,0]
[80,null,null,null,null,null,null,null,null,null,null,null,null,null,null,null,null,null,null,null,null,null,null,null,null,null,"","","","","",{"$f":"IF(F90=\"男\",data_kyogisha!A81,\"\")","v":""},"","","","","",{"$f":"IF(F90=\"女\",data_kyogisha!A81,\"\")","v":""},0,0,0,0,0,0,0,0]
[81,null,null,null,null,null,null,null,null,null,null,null,null,null,null,null,null,null,null,null,null,null,null,null,null,null,"","","","","",{"$f":"IF(F91=\"男\",data_kyogisha!A82,\"\")","v":""},"","","","","",{"$f":"IF(F91=\"女\",data_kyogisha!A82,\"\")","v":""},0,0,0,0,0,0,0,0]
[82,null,null,null,null,null,null,null,null,null,null,null,null,null,null,null,null,null,null,null,null,null,null,null,null,null,"","","","","",{"$f":"IF(F92=\"男\",data_kyogisha!A83,\"\")","v":""},"","","","","",{"$f":"IF(F92=\"女\",data_kyogisha!A83,\"\")","v":""},0,0,0,0,0,0,0,0]
[83,null,null,null,null,null,null,null,null,null,null,null,null,null,null,null,null,null,null,null,null,null,null,null,null,null,"","","","","",{"$f":"IF(F93=\"男\",data_kyogisha!A84,\"\")","v":""},"","","","","",{"$f":"IF(F93=\"女\",data_kyogisha!A84,\"\")","v":""},0,0,0,0,0,0,0,0]
[84,null,null,null,null,null,null,null,null,null,null,null,null,null,null,null,null,null,null,null,null,null,null,null,null,null,"","","","","",{"$f":"IF(F94=\"男\",data_kyogisha!A85,\"\")","v":""},"","","","","",{"$f":"IF(F94=\"女\",data_kyogisha!A85,\"\")","v":""},0,0,0,0,0,0,0,0]
[85,null,null,null,null,null,null,null,null,null,null,null,null,null,null,null,null,null,null,null,null,null,null,null,null,null,"","","","","",{"$f":"IF(F95=\"男\",data_kyogisha!A86,\"\")","v":""},"","","","","",{"$f":"IF(F95=\"女\",data_kyogisha!A86,\"\")","v":""},0,0,0,0,0,0,0,0]
[86,null,null,null,null,null,null,null,null,null,null,null,null,null,null,null,null,null,null,null,null,null,null,null,null,null,"","","","","",{"$f":"IF(F96=\"男\",data_kyogisha!A87,\"\")","v":""},"","","","","",{"$f":"IF(F96=\"女\",data_kyogisha!A87,\"\")","v":""},0,0,0,0,0,0,0,0]
[87,null,null,null,null,null,null,null,null,null,null,null,null,null,null,null,null,null,null,null,null,null,null,null,null,null,"","","","","",{"$f":"IF(F97=\"男\",data_kyogisha!A88,\"\")","v":""},"","","","","",{"$f":"IF(F97=\"女\",data_kyogisha!A88,\"\")","v":""},0,0,0,0,0,0,0,0]
[88,null,null,null,null,null,null,null,null,null,null,null,null,null,null,null,null,null,null,null,null,null,null,null,null,null,"","","","","",{"$f":"IF(F98=\"男\",data_kyogisha!A89,\"\")","v":""},"","","","","",{"$f":"IF(F98=\"女\",data_kyogisha!A89,\"\")","v":""},0,0,0,0,0,0,0,0]
[89,null,null,null,null,null,null,null,null,null,null,null,null,null,null,null,null,null,null,null,null,null,null,null,null,null,"","","","","",{"$f":"IF(F99=\"男\",data_kyogisha!A90,\"\")","v":""},"","","","","",{"$f":"IF(F99=\"女\",data_kyogisha!A90,\"\")","v":""},0,0,0,0,0,0,0,0]
[90,null,null,null,null,null,null,null,null,null,null,null,null,null,null,null,null,null,null,null,null,null,null,null,null,null,"","","","","",{"$f":"IF(F100=\"男\",data_kyogisha!A91,\"\")","v":""},"","","","","",{"$f":"IF(F100=\"女\",data_kyogisha!A91,\"\")","v":""},0,0,0,0,0,0,0,0]
[null,null,null,null,"種目計",{"$f":"SUM(I101:O101)","v":0},null,null,{"$f":"COUNTA(I11:I100)","v":0},null,null,{"$f":"COUNTA(L11:L100)","v":0},null,null,{"$f":"COUNTA(O11:O100)","v":0}]
[null,null,null,null,"リレー計",{"$f":"③リレー情報確認!F14+③リレー情報確認!L14+③リレー情報確認!R14+③リレー情報確認!X14","v":0}]
[null,null,null,null,"男",{"$f":"COUNTIF(F11:F100,\"男\")","v":0}]
[null,null,null,null,"女",{"$f":"COUNTIF(F11:F100,\"女\")","v":0}]
[null,null,null,null,"男女計",{"$f":"SUM(F103:F104)","v":0}]

{"sheet":"③リレー情報確認","index":3,"n_rows":14,"n_cols":24,"rows_kept":14,"cut":false,"hidden":false,"merged":[[0,9,0,11],[7,17,12,17],[7,5,12,5],[5,1,5,5],[7,23,12,23],[5,13,5,17],[5,19,5,23],[5,7,5,11],[7,11,12,11],[0,15,0,17]]}
["③リレー情報確認",null,null,null,null,null,null,null,"チーム名 ",{"$f":"IF(①団体情報入力!C5=\"\",\"\",①団体情報入力!C5)","v":""},null,null,null,null,"ｶﾅ",{"$f":"IF(①団体情報入力!C6=\"\",\"\",①団体情報入力!C6)","v":""}]
[]
[null,null,"※リレーにエントリーをする選手とチームの記録を確認してください。"]
[null,null,"※修正をする場合は「②選手情報入力」で修正してください。"]
[]
[null,"男4X100mR",null,null,null,null,null,"男4X400mR",null,null,null,null,null,"女4X100mR",null,null,null,null,null,"女4X400mR"]
[null,"Ord","ﾅﾝﾊﾞｰ","氏　名","競技者NO","記録",null,"Ord","ﾅﾝﾊﾞｰ","氏　名","競技者NO","記録",null,"Ord","ﾅﾝﾊﾞｰ","氏　名","競技者NO","記録",null,"Ord","ﾅﾝﾊﾞｰ","氏　名","競技者NO","記録"]
[null,1,{"$f":"IF(②選手情報入力!$AN$10<1,\"\",VLOOKUP(B8,②選手情報入力!$AM$11:$AN$100,2,FALSE))","v":""},{"$f":"IF(C8=\"\",\"\",VLOOKUP(C8,②選手情報入力!$AA$11:$AB$100,2,FALSE))","v":""},{"$f":"IF(C8=\"\",\"\",VLOOKUP(C8,②選手情報入力!$AA$11:$AG$100,6,FALSE))","v":""},{"$f":"IF(②選手情報入力!R6=\"\",\"\",②選手情報入力!R6)","v":""},null,1,{"$f":"IF(②選手情報入力!$AP$10<1,\"\",VLOOKUP(H8,②選手情報入力!$AO$11:$AP$100,2,FALSE))","v":""},{"$f":"IF(I8=\"\",\"\",VLOOKUP(I8,②選手情報入力!$AA$11:$AB$100,2,FALSE))","v":""},{"$f":"IF(I8=\"\",\"\",VLOOKUP(I8,②選手情報入力!$AA$11:$AG$100,6,FALSE))","v":""},{"$f":"IF(②選手情報入力!T6=\"\",\"\",②選手情報入力!T6)","v":""},null,1,{"$f":"IF(②選手情報入力!$AR$10<1,\"\",VLOOKUP(N8,②選手情報入力!$AQ$11:$AR$100,2,FALSE))","v":""},{"$f":"IF(O8=\"\",\"\",VLOOKUP(O8,②選手情報入力!$AG$11:$AH$100,2,FALSE))","v":""},{"$f":"IF(O8=\"\",\"\",VLOOKUP(O8,②選手情報入力!$AG$11:$AN$100,6,FALSE))","v":""},{"$f":"IF(②選手情報入力!R7=\"\",\"\",②選手情報入力!R7)","v":""},null,1,{"$f":"IF(②選手情報入力!$AT$10<1,\"\",VLOOKUP(T8,②選手情報入力!$AS$11:$AT$100,2,FALSE))","v":""},{"$f":"IF(U8=\"\",\"\",VLOOKUP(U8,②選手情報入力!$AG$11:$AH$100,2,FALSE))","v":""},{"$f":"IF(U8=\"\",\"\",VLOOKUP(U8,②選手情報入力!$AG$11:$AN$100,6,FALSE))","v":""},{"$f":"IF(②選手情報入力!T7=\"\",\"\",②選手情報入力!T7)","v":""}]
[null,2,{"$f":"IF(②選手情報入力!$AN$10<1,\"\",VLOOKUP(B9,②選手情報入力!$AM$11:$AN$100,2,FALSE))","v":""},{"$f":"IF(C9=\"\",\"\",VLOOKUP(C9,②選手情報入力!$AA$11:$AB$100,2,FALSE))","v":""},{"$f":"IF(C9=\"\",\"\",VLOOKUP(C9,②選手情報入力!$AA$11:$AG$100,6,FALSE))","v":""},null,null,2,{"$f":"IF(②選手情報入力!$AP$10<2,\"\",VLOOKUP(H9,②選手情報入力!$AO$11:$AP$100,2,FALSE))","v":""},{"$f":"IF(I9=\"\",\"\",VLOOKUP(I9,②選手情報入力!$AA$11:$AB$100,2,FALSE))","v":""},{"$f":"IF(I9=\"\",\"\",VLOOKUP(I9,②選手情報入力!$AA$11:$AG$100,6,FALSE))","v":""},null,null,2,{"$f":"IF(②選手情報入力!$AR$10<2,\"\",VLOOKUP(N9,②選手情報入力!$AQ$11:$AR$100,2,FALSE))","v":""},{"$f":"IF(O9=\"\",\"\",VLOOKUP(O9,②選手情報入力!$AG$11:$AH$100,2,FALSE))","v":""},{"$f":"IF(O9=\"\",\"\",VLOOKUP(O9,②選手情報入力!$AG$11:$AN$100,6,FALSE))","v":""},null,null,2,{"$f":"IF(②選手情報入力!$AT$10<2,\"\",VLOOKUP(T9,②選手情報入力!$AS$11:$AT$100,2,FALSE))","v":""},{"$f":"IF(U9=\"\",\"\",VLOOKUP(U9,②選手情報入力!$AG$11:$AH$100,2,FALSE))","v":""},{"$f":"IF(U9=\"\",\"\",VLOOKUP(U9,②選手情報入力!$AG$11:$AN$100,6,FALSE))","v":""}]
[null,3,{"$f":"IF(②選手情報入力!$AN$10<1,\"\",VLOOKUP(B10,②選手情報入力!$AM$11:$AN$100,2,FALSE))","v":""},{"$f":"IF(C10=\"\",\"\",VLOOKUP(C10,②選手情報入力!$AA$11:$AB$100,2,FALSE))","v":""},{"$f":"IF(C10=\"\",\"\",VLOOKUP(C10,②選手情報入力!$AA$11:$AG$100,6,FALSE))","v":""},null,null,3,{"$f":"IF(②選手情報入力!$AP$10<3,\"\",VLOOKUP(H10,②選手情報入力!$AO$11:$AP$100,2,FALSE))","v":""},{"$f":"IF(I10=\"\",\"\",VLOOKUP(I10,②選手情報入力!$AA$11:$AB$100,2,FALSE))","v":""},{"$f":"IF(I10=\"\",\"\",VLOOKUP(I10,②選手情報入力!$AA$11:$AG$100,6,FALSE))","v":""},null,null,3,{"$f":"IF(②選手情報入力!$AR$10<3,\"\",VLOOKUP(N10,②選手情報入力!$AQ$11:$AR$100,2,FALSE))","v":""},{"$f":"IF(O10=\"\",\"\",VLOOKUP(O10,②選手情報入力!$AG$11:$AH$100,2,FALSE))","v":""},{"$f":"IF(O10=\"\",\"\",VLOOKUP(O10,②選手情報入力!$AG$11:$AN$100,6,FALSE))","v":""},null,null,3,{"$f":"IF(②選手情報入力!$AT$10<3,\"\",VLOOKUP(T10,②選手情報入力!$AS$11:$AT$100,2,FALSE))","v":""},{"$f":"IF(U10=\"\",\"\",VLOOKUP(U10,②選手情報入力!$AG$11:$AH$100,2,FALSE))","v":""},{"$f":"IF(U10=\"\",\"\",VLOOKUP(U10,②選手情報入力!$AG$11:$AN$100,6,FALSE))","v":""}]
[null,4,{"$f":"IF(②選手情報入力!$AN$10<1,\"\",VLOOKUP(B11,②選手情報入力!$AM$11:$AN$100,2,FALSE))","v":""},{"$f":"IF(C11=\"\",\"\",VLOOKUP(C11,②選手情報入力!$AA$11:$AB$100,2,FALSE))","v":""},{"$f":"IF(C11=\"\",\"\",VLOOKUP(C11,②選手情報入力!$AA$11:$AG$100,6,FALSE))","v":""},null,null,4,{"$f":"IF(②選手情報入力!$AP$10<4,\"\",VLOOKUP(H11,②選手情報入力!$AO$11:$AP$100,2,FALSE))","v":""},{"$f":"IF(I11=\"\",\"\",VLOOKUP(I11,②選手情報入力!$AA$11:$AB$100,2,FALSE))","v":""},{"$f":"IF(I11=\"\",\"\",VLOOKUP(I11,②選手情報入力!$AA$11:$AG$100,6,FALSE))","v":""},null,null,4,{"$f":"IF(②選手情報入力!$AR$10<4,\"\",VLOOKUP(N11,②選手情報入力!$AQ$11:$AR$100,2,FALSE))","v":""},{"$f":"IF(O11=\"\",\"\",VLOOKUP(O11,②選手情報入力!$AG$11:$AH$100,2,FALSE))","v":""},{"$f":"IF(O11=\"\",\"\",VLOOKUP(O11,②選手情報入力!$AG$11:$AN$100,6,FALSE))","v":""},null,null,4,{"$f":"IF(②選手情報入力!$AT$10<4,\"\",VLOOKUP(T11,②選手情報入力!$AS$11:$AT$100,2,FALSE))","v":""},{"$f":"IF(U11=\"\",\"\",VLOOKUP(U11,②選手情報入力!$AG$11:$AH$100,2,FALSE))","v":""},{"$f":"IF(U11=\"\",\"\",VLOOKUP(U11,②選手情報入力!$AG$11:$AN$100,6,FALSE))","v":""}]
[null,5,{"$f":"IF(②選手情報入力!$AN$10<1,\"\",VLOOKUP(B12,②選手情報入力!$AM$11:$AN$100,2,FALSE))","v":""},{"$f":"IF(C12=\"\",\"\",VLOOKUP(C12,②選手情報入力!$AA$11:$AB$100,2,FALSE))","v":""},{"$f":"IF(C12=\"\",\"\",VLOOKUP(C12,②選手情報入力!$AA$11:$AG$100,6,FALSE))","v":""},null,null,5,{"$f":"IF(②選手情報入力!$AP$10<5,\"\",VLOOKUP(H12,②選手情報入力!$AO$11:$AP$100,2,FALSE))","v":""},{"$f":"IF(I12=\"\",\"\",VLOOKUP(I12,②選手情報入力!$AA$11:$AB$100,2,FALSE))","v":""},{"$f":"IF(I12=\"\",\"\",VLOOKUP(I12,②選手情報入力!$AA$11:$AG$100,6,FALSE))","v":""},null,null,5,{"$f":"IF(②選手情報入力!$AR$10<5,\"\",VLOOKUP(N12,②選手情報入力!$AQ$11:$AR$100,2,FALSE))","v":""},{"$f":"IF(O12=\"\",\"\",VLOOKUP(O12,②選手情報入力!$AG$11:$AH$100,2,FALSE))","v":""},{"$f":"IF(O12=\"\",\"\",VLOOKUP(O12,②選手情報入力!$AG$11:$AN$100,6,FALSE))","v":""},null,null,5,{"$f":"IF(②選手情報入力!$AT$10<5,\"\",VLOOKUP(T12,②選手情報入力!$AS$11:$AT$100,2,FALSE))","v":""},{"$f":"IF(U12=\"\",\"\",VLOOKUP(U12,②選手情報入力!$AG$11:$AH$100,2,FALSE))","v":""},{"$f":"IF(U12=\"\",\"\",VLOOKUP(U12,②選手情報入力!$AG$11:$AN$100,6,FALSE))","v":""}]
[null,6,{"$f":"IF(②選手情報入力!$AN$10<6,\"\",VLOOKUP(B13,②選手情報入力!$AM$11:$AN$100,2,FALSE))","v":""},{"$f":"IF(C13=\"\",\"\",VLOOKUP(C13,②選手情報入力!$AA$11:$AB$100,2,FALSE))","v":""},{"$f":"IF(C13=\"\",\"\",VLOOKUP(C13,②選手情報入力!$AA$11:$AG$100,6,FALSE))","v":""},null,null,6,{"$f":"IF(②選手情報入力!$AP$10<6,\"\",VLOOKUP(H13,②選手情報入力!$AO$11:$AP$100,2,FALSE))","v":""},{"$f":"IF(I13=\"\",\"\",VLOOKUP(I13,②選手情報入力!$AA$11:$AB$100,2,FALSE))","v":""},{"$f":"IF(I13=\"\",\"\",VLOOKUP(I13,②選手情報入力!$AA$11:$AG$100,6,FALSE))","v":""},null,null,6,{"$f":"IF(②選手情報入力!$AR$10<6,\"\",VLOOKUP(N13,②選手情報入力!$AQ$11:$AR$100,2,FALSE))","v":""},{"$f":"IF(O13=\"\",\"\",VLOOKUP(O13,②選手情報入力!$AG$11:$AH$100,2,FALSE))","v":""},{"$f":"IF(O13=\"\",\"\",VLOOKUP(O13,②選手情報入力!$AG$11:$AN$100,6,FALSE))","v":""},null,null,6,{"$f":"IF(②選手情報入力!$AT$10<6,\"\",VLOOKUP(T13,②選手情報入力!$AS$11:$AT$100,2,FALSE))","v":""},{"$f":"IF(U13=\"\",\"\",VLOOKUP(U13,②選手情報入力!$AG$11:$AH$100,2,FALSE))","v":""},{"$f":"IF(U13=\"\",\"\",VLOOKUP(U13,②選手情報入力!$AG$11:$AN$100,6,FALSE))","v":""}]
[null,null,null,"申込チーム数",null,{"$f":"IF(②選手情報入力!AN10>=4,1,0)","v":0},null,null,null,"申込チーム数",null,null,null,null,null,"申込チーム数",null,{"$f":"IF(②選手情報入力!AR10>=4,1,0)","v":0},null,null,null,"申込チーム数"]

{"sheet":"④種目別人数","index":4,"n_rows":27,"n_cols":14,"rows_kept":27,"cut":false,"hidden":false,"merged":[[15,2,15,3],[24,1,24,4],[21,2,21,3],[18,2,18,3],[17,2,17,3],[16,2,16,3],[23,5,23,6],[19,1,19,2],[19,5,19,6],[26,2,26,4],[20,2,20,3],[25,2,25,4],[12,2,12,3],[13,2,13,3],[14,2,14,3],[1,0,1,7],[3,0,3,7],[6,1,6,2],[6,5,6,6],[2,0,2,4],[5,3,5,6],[4,2,4,5],[7,2,7,3],[8,2,8,3],[9,2,9,3],[10,2,10,3],[11,2,11,3]]}
["④種目別人数一覧表",null,"※種目数・参加料等を確認してから印刷をしてください。"]
["　　　帳票印刷ボタンをクリックして印刷を行ってください。↓　　"]
[{"$f":"注意事項!C3","v":"2018年　名古屋市民スポーツ祭陸上競技大会"},null,null,null,null,null,{"$f":"IF(①団体情報入力!C3=\"\",\"\",①団体情報入力!C3)","v":""}]
["種目別申込人数一覧表"]
[null,"申込責任者",{"$f":"IF(①団体情報入力!C9=\"\",\"\",①団体情報入力!C9)","v":""},null,null,null,"A4サイズ"]
[null,{"$f":"IF(①団体情報入力!C7=\"\",\"\",①団体情報入力!C7)","v":""},"学校名",{"$f":"IF(①団体情報入力!C5=\"\",\"\",①団体情報入力!C5)","v":""}]
[null,"男　　　子",null,null,"Ver2","女　　　子"]
[null,"種　　目","申込数",null,null,"種　　　目","申込数",null,null,null,null,"男種目",null,"女種目"]
[null,"中男100m",{"$f":"IF(L9=0,0,L9)","v":0},null,null,"中女100m",{"$f":"IF(N9=0,0,N9)","v":0},null,null,null,{"$f":"種目情報!A4","v":"中男100m"},{"$f":"COUNTIF(②選手情報入力!$I$11:$P$100,K9)","v":0},{"$f":"種目情報!E4","v":"中女100m"},{"$f":"COUNTIF(②選手情報入力!$I$11:$P$100,M9)","v":0}]
[null,"中男400m",0,null,null,"中女200m",0,null,null,null,{"$f":"種目情報!A5","v":"中男400m"},{"$f":"COUNTIF(②選手情報入力!$I$11:$P$100,K10)","v":0},{"$f":"種目情報!E5","v":"中女200m"},{"$f":"COUNTIF(②選手情報入力!$I$11:$P$100,M10)","v":0}]
[null,"中男1500m",0,null,null,"中女800m",0,null,null,null,{"$f":"種目情報!A6","v":"中男1500m"},{"$f":"COUNTIF(②選手情報入力!$I$11:$P$100,K11)","v":0},{"$f":"種目情報!E6","v":"中女800m"},{"$f":"COUNTIF(②選手情報入力!$I$11:$P$100,M11)","v":0}]
[null,"中男110mH(0.914m)",0,null,null,"中女100mH(0.762m)",0,null,null,null,{"$f":"種目情報!A7","v":"中男110mH(0.914m)"},{"$f":"COUNTIF(②選手情報入力!$I$11:$P$100,K12)","v":0},{"$f":"種目情報!E7","v":"中女100mH(0.762m)"},{"$f":"COUNTIF(②選手情報入力!$I$11:$P$100,M12)","v":0}]
[null,"中男走高跳",0,null,null,"中女走高跳",0,null,null,null,{"$f":"種目情報!A8","v":"中男走高跳"},{"$f":"COUNTIF(②選手情報入力!$I$11:$P$100,K13)","v":0},{"$f":"種目情報!E8","v":"中女走高跳"},{"$f":"COUNTIF(②選手情報入力!$I$11:$P$100,M13)","v":0}]
[null,"中男走幅跳",{"$f":"IF(L14=0,0,L14)","v":0},null,null,"中女走幅跳",0,null,null,null,{"$f":"種目情報!A9","v":"中男走幅跳"},{"$f":"COUNTIF(②選手情報入力!$I$11:$P$100,K14)","v":0},{"$f":"種目情報!E9","v":"中女走幅跳"},{"$f":"COUNTIF(②選手情報入力!$I$11:$P$100,M14)","v":0}]
[null,"中男砲丸投(5.000kg)",0,null,null,"中女砲丸投(2.721kg)",0,null,null,null,{"$f":"種目情報!A10","v":"中男砲丸投(5.000kg)"},{"$f":"COUNTIF(②選手情報入力!$I$11:$P$100,K15)","v":0},{"$f":"種目情報!E10","v":"中女砲丸投(2.721kg)"},{"$f":"COUNTIF(②選手情報入力!$I$11:$P$100,M15)","v":0}]
[null,null,null,null,null,null,null,null,null,null,{"$f":"種目情報!A28","v":0},{"$f":"COUNTIF(②選手情報入力!$I$11:$P$100,K16)","v":0},{"$f":"種目情報!E23","v":0},{"$f":"COUNTIF(②選手情報入力!$I$11:$P$100,M16)","v":0}]
[null,null,null,null,null,null,null,null,null,null,{"$f":"種目情報!A29","v":0},{"$f":"COUNTIF(②選手情報入力!$I$11:$P$100,K17)","v":0},{"$f":"種目情報!E24","v":0},{"$f":"COUNTIF(②選手情報入力!$I$11:$P$100,M17)","v":0}]
[null,"４×１００ｍＲ",{"$f":"IF(③リレー情報確認!F14=0,0,③リレー情報確認!F14)","v":0},null,null,"４×１００ｍＲ",{"$f":"IF(③リレー情報確認!R14=0,0,③リレー情報確認!R14)","v":0},null,null,null,{"$f":"種目情報!A30","v":0},{"$f":"COUNTIF(②選手情報入力!$I$11:$P$100,K18)","v":0},{"$f":"種目情報!E25","v":0},{"$f":"COUNTIF(②選手情報入力!$I$11:$P$100,M18)","v":0}]
[null,"４×４００ｍＲ",{"$f":"IF(③リレー情報確認!L14=0,0,③リレー情報確認!L14)","v":0},null,null,"４×４００ｍＲ",{"$f":"IF(③リレー情報確認!X14=0,0,③リレー情報確認!X14)","v":0},null,null,null,{"$f":"種目情報!A31","v":0}]
[null,"種　目　数",null,null,null,"プログラム追加購入部数",null,null,null,null,{"$f":"種目情報!A33","v":0},{"$f":"COUNTIF(②選手情報入力!$I$11:$P$100,K20)","v":0},{"$f":"種目情報!E27","v":0},{"$f":"COUNTIF(②選手情報入力!$I$11:$P$100,M20)","v":0}]
[null,"種目数",{"$f":"②選手情報入力!F101","v":0},null,null,"プログラム追加部数✕1000円",{"$f":"C23*1000","v":0},null,null,null,{"$f":"種目情報!A34","v":0}]
[null,"リレー",{"$f":"②選手情報入力!F102","v":0},null,null,"参加人数",{"$f":"IF(②選手情報入力!F105=0,\"\",②選手情報入力!F105)","v":""},null,null,null,{"$f":"種目情報!A35","v":0}]
[null,"プログラム追加購入部数",{"$f":"IF(①団体情報入力!C11=\"\",0,①団体情報入力!C11)","v":0},"部",null,"振込明細書のコピーを裏面に添付してください"]
[null,null,null,null,null,{"$f":"TODAY()","v":"2018-07-06"}]
[null,"役員のできる方のお名前"]
[null,{"$f":"IF(①団体情報入力!A13=\"\",\"\",①団体情報入力!A13)","v":""},{"$f":"IF(①団体情報入力!E13=\"\",\"\",①団体情報入力!E13)","v":""}]
[null,{"$f":"IF(①団体情報入力!A14=\"\",\"\",①団体情報入力!A14)","v":""},{"$f":"IF(①団体情報入力!E14=\"\",\"\",①団体情報入力!E14)","v":""}]

{"sheet":"⑤申込一覧表","index":5,"n_rows":101,"n_cols":13,"rows_kept":101,"cut":false,"hidden":false,"merged":[[7,1,7,2],[7,3,7,5],[7,6,7,7],[1,3,1,7],[8,1,9,1],[8,6,9,6],[8,3,8,4],[9,3,9,4],[5,2,5,4],[5,5,5,9],[1,9,1,10]]}
["⑤申込一覧表"]
[null,null,"大会名",{"$f":"注意事項!C3&注意事項!F3","v":"2018年　名古屋市民スポーツ祭陸上競技大会"},null,null,null,null,"学校名",{"$f":"IF(①団体情報入力!C5=\"\",\"\",①団体情報入力!C5)","v":""}]
[]
[null,null,"下記生徒は本校生徒であって健康であるので出場することを認めます。"]
[]
[null,null,"学校長",null,null,{"$f":"IF(①団体情報入力!C7=\"\",\"\",①団体情報入力!C7)","v":""},null,null,null,null,"印"]
[]
[null,"申込責任者",null,{"$f":"IF(①団体情報入力!C8=\"\",\"\",①団体情報入力!C8)","v":""},null,null,{"$f":"IF(①団体情報入力!C9=\"\",\"\",①団体情報入力!C9)","v":""}]
[null,"人数","男　　子",{"$f":"②選手情報入力!F103","v":0},null,null,"リレー","男4X100mR",{"$f":"IF(③リレー情報確認!F8=\"\",\"\",③リレー情報確認!F8)","v":""}]
[null,null,"女　　子",{"$f":"②選手情報入力!F104","v":0},null,null,null,"女4X100mR",{"$f":"IF(③リレー情報確認!R8=\"\",\"\",③リレー情報確認!R8)","v":""}]
[null,"ﾅﾝﾊﾞｰ","氏　名","性","学年","種目１","記録１",null,null,null,null,"4R","16R"]
[1,{"$f":"IF(②選手情報入力!B11=\"\",\"\",②選手情報入力!B11)","v":""},{"$f":"IF(②選手情報入力!C11=\"\",\"\",②選手情報入力!C11)","v":""},{"$f":"IF(②選手情報入力!F11=\"\",\"\",②選手情報入力!F11)","v":""},{"$f":"IF(②選手情報入力!G11=\"\",\"\",②選手情報入力!G11)","v":""},{"$f":"IF(②選手情報入力!I11=\"\",\"\",IF(②選手情報入力!H11=\"\",②選手情報入力!I11,②選手情報入力!H11&②選手情報入力!I11))","v":""},{"$f":"IF(②選手情報入力!J11=\"\",\"\",②選手情報入力!J11)","v":""},null,null,null,null,{"$f":"IF(②選手情報入力!Q11=\"\",\"\",②選手情報入力!Q11)","v":""},{"$f":"IF(②選手情報入力!T11=\"\",\"\",②選手情報入力!T11)","v":""}]
[2,{"$f":"IF(②選手情報入力!B12=\"\",\"\",②選手情報入力!B12)","v":""},{"$f":"IF(②選手情報入力!C12=\"\",\"\",②選手情報入力!C12)","v":""},{"$f":"IF(②選手情報入力!F12=\"\",\"\",②選手情報入力!F12)","v":""},{"$f":"IF(②選手情報入力!G12=\"\",\"\",②選手情報入力!G12)","v":""},{"$f":"IF(②選手情報入力!I12=\"\",\"\",IF(②選手情報入力!H12=\"\",②選手情報入力!I12,②選手情報入力!H12&②選手情報入力!I12))","v":""},{"$f":"IF(②選手情報入力!J12=\"\",\"\",②選手情報入力!J12)","v":""},null,null,null,null,{"$f":"IF(②選手情報入力!Q12=\"\",\"\",②選手情報入力!Q12)","v":""},{"$f":"IF(②選手情報入力!T12=\"\",\"\",②選手情報入力!T12)","v":""}]
[3,{"$f":"IF(②選手情報入力!B13=\"\",\"\",②選手情報入力!B13)","v":""},{"$f":"IF(②選手情報入力!C13=\"\",\"\",②選手情報入力!C13)","v":""},{"$f":"IF(②選手情報入力!F13=\"\",\"\",②選手情報入力!F13)","v":""},{"$f":"IF(②選手情報入力!G13=\"\",\"\",②選手情報入力!G13)","v":""},{"$f":"IF(②選手情報入力!I13=\"\",\"\",IF(②選手情報入力!H13=\"\",②選手情報入力!I13,②選手情報入力!H13&②選手情報入力!I13))","v":""},{"$f":"IF(②選手情報入力!J13=\"\",\"\",②選手情報入力!J13)","v":""},null,null,null,null,{"$f":"IF(②選手情報入力!Q13=\"\",\"\",②選手情報入力!Q13)","v":""},{"$f":"IF(②選手情報入力!T13=\"\",\"\",②選手情報入力!T13)","v":""}]
[4,{"$f":"IF(②選手情報入力!B14=\"\",\"\",②選手情報入力!B14)","v":""},{"$f":"IF(②選手情報入力!C14=\"\",\"\",②選手情報入力!C14)","v":""},{"$f":"IF(②選手情報入力!F14=\"\",\"\",②選手情報入力!F14)","v":""},{"$f":"IF(②選手情報入力!G14=\"\",\"\",②選手情報入力!G14)","v":""},{"$f":"IF(②選手情報入力!I14=\"\",\"\",IF(②選手情報入力!H14=\"\",②選手情報入力!I14,②選手情報入力!H14&②選手情報入力!I14))","v":""},{"$f":"IF(②選手情報入力!J14=\"\",\"\",②選手情報入力!J14)","v":""},null,null,null,null,{"$f":"IF(②選手情報入力!Q14=\"\",\"\",②選手情報入力!Q14)","v":""},{"$f":"IF(②選手情報入力!T14=\"\",\"\",②選手情報入力!T14)","v":""}]
[5,{"$f":"IF(②選手情報入力!B15=\"\",\"\",②選手情報入力!B15)","v":""},{"$f":"IF(②選手情報入力!C15=\"\",\"\",②選手情報入力!C15)","v":""},{"$f":"IF(②選手情報入力!F15=\"\",\"\",②選手情報入力!F15)","v":""},{"$f":"IF(②選手情報入力!G15=\"\",\"\",②選手情報入力!G15)","v":""},{"$f":"IF(②選手情報入力!I15=\"\",\"\",IF(②選手情報入力!H15=\"\",②選手情報入力!I15,②選手情報入力!H15&②選手情報入力!I15))","v":""},{"$f":"IF(②選手情報入力!J15=\"\",\"\",②選手情報入力!J15)","v":""},null,null,null,null,{"$f":"IF(②選手情報入力!Q15=\"\",\"\",②選手情報入力!Q15)","v":""},{"$f":"IF(②選手情報入力!T15=\"\",\"\",②選手情報入力!T15)","v":""}]
[6,{"$f":"IF(②選手情報入力!B16=\"\",\"\",②選手情報入力!B16)","v":""},{"$f":"IF(②選手情報入力!C16=\"\",\"\",②選手情報入力!C16)","v":""},{"$f":"IF(②選手情報入力!F16=\"\",\"\",②選手情報入力!F16)","v":""},{"$f":"IF(②選手情報入力!G16=\"\",\"\",②選手情報入力!G16)","v":""},{"$f":"IF(②選手情報入力!I16=\"\",\"\",IF(②選手情報入力!H16=\"\",②選手情報入力!I16,②選手情報入力!H16&②選手情報入力!I16))","v":""},{"$f":"IF(②選手情報入力!J16=\"\",\"\",②選手情報入力!J16)","v":""},null,null,null,null,{"$f":"IF(②選手情報入力!Q16=\"\",\"\",②選手情報入力!Q16)","v":""},{"$f":"IF(②選手情報入力!T16=\"\",\"\",②選手情報入力!T16)","v":""}]
[7,{"$f":"IF(②選手情報入力!B17=\"\",\"\",②選手情報入力!B17)","v":""},{"$f":"IF(②選手情報入力!C17=\"\",\"\",②選手情報入力!C17)","v":""},{"$f":"IF(②選手情報入力!F17=\"\",\"\",②選手情報入力!F17)","v":""},{"$f":"IF(②選手情報入力!G17=\"\",\"\",②選手情報入力!G17)","v":""},{"$f":"IF(②選手情報入力!I17=\"\",\"\",IF(②選手情報入力!H17=\"\",②選手情報入力!I17,②選手情報入力!H17&②選手情報入力!I17))","v":""},{"$f":"IF(②選手情報入力!J17=\"\",\"\",②選手情報入力!J17)","v":""},null,null,null,null,{"$f":"IF(②選手情報入力!Q17=\"\",\"\",②選手情報入力!Q17)","v":""},{"$f":"IF(②選手情報入力!T17=\"\",\"\",②選手情報入力!T17)","v":""}]
[8,{"$f":"IF(②選手情報入力!B18=\"\",\"\",②選手情報入力!B18)","v":""},{"$f":"IF(②選手情報入力!C18=\"\",\"\",②選手情報入力!C18)","v":""},{"$f":"IF(②選手情報入力!F18=\"\",\"\",②選手情報入力!F18)","v":""},{"$f":"IF(②選手情報入力!G18=\"\",\"\",②選手情報入力!G18)","v":""},{"$f":"IF(②選手情報入力!I18=\"\",\"\",IF(②選手情報入力!H18=\"\",②選手情報入力!I18,②選手情報入力!H18&②選手情報入力!I18))","v":""},{"$f":"IF(②選手情報入力!J18=\"\",\"\",②選手情報入力!J18)","v":""},null,null,null,null,{"$f":"IF(②選手情報入力!Q18=\"\",\"\",②選手情報入力!Q18)","v":""},{"$f":"IF(②選手情報入力!T18=\"\",\"\",②選手情報入力!T18)","v":""}]
[9,{"$f":"IF(②選手情報入力!B19=\"\",\"\",②選手情報入力!B19)","v":""},{"$f":"IF(②選手情報入力!C19=\"\",\"\",②選手情報入力!C19)","v":""},{"$f":"IF(②選手情報入力!F19=\"\",\"\",②選手情報入力!F19)","v":""},{"$f":"IF(②選手情報入力!G19=\"\",\"\",②選手情報入力!G19)","v":""},{"$f":"IF(②選手情報入力!I19=\"\",\"\",IF(②選手情報入力!H19=\"\",②選手情報入力!I19,②選手情報入力!H19&②選手情報入力!I19))","v":""},{"$f":"IF(②選手情報入力!J19=\"\",\"\",②選手情報入力!J19)","v":""},null,null,null,null,{"$f":"IF(②選手情報入力!Q19=\"\",\"\",②選手情報入力!Q19)","v":""},{"$f":"IF(②選手情報入力!T19=\"\",\"\",②選手情報入力!T19)","v":""}]
[10,{"$f":"IF(②選手情報入力!B20=\"\",\"\",②選手情報入力!B20)","v":""},{"$f":"IF(②選手情報入力!C20=\"\",\"\",②選手情報入力!C20)","v":""},{"$f":"IF(②選手情報入力!F20=\"\",\"\",②選手情報入力!F20)","v":""},{"$f":"IF(②選手情報入力!G20=\"\",\"\",②選手情報入力!G20)","v":""},{"$f":"IF(②選手情報入力!I20=\"\",\"\",IF(②選手情報入力!H20=\"\",②選手情報入力!I20,②選手情報入力!H20&②選手情報入力!I20))","v":""},{"$f":"IF(②選手情報入力!J20=\"\",\"\",②選手情報入力!J20)","v":""},null,null,null,null,{"$f":"IF(②選手情報入力!Q20=\"\",\"\",②選手情報入力!Q20)","v":""},{"$f":"IF(②選手情報入力!T20=\"\",\"\",②選手情報入力!T20)","v":""}]
[11,{"$f":"IF(②選手情報入力!B21=\"\",\"\",②選手情報入力!B21)","v":""},{"$f":"IF(②選手情報入力!C21=\"\",\"\",②選手情報入力!C21)","v":""},{"$f":"IF(②選手情報入力!F21=\"\",\"\",②選手情報入力!F21)","v":""},{"$f":"IF(②選手情報入力!G21=\"\",\"\",②選手情報入力!G21)","v":""},{"$f":"IF(②選手情報入力!I21=\"\",\"\",IF(②選手情報入力!H21=\"\",②選手情報入力!I21,②選手情報入力!H21&②選手情報入力!I21))","v":""},{"$f":"IF(②選手情報入力!J21=\"\",\"\",②選手情報入力!J21)","v":""},null,null,null,null,{"$f":"IF(②選手情報入力!Q21=\"\",\"\",②選手情報入力!Q21)","v":""},{"$f":"IF(②選手情報入力!T21=\"\",\"\",②選手情報入力!T21)","v":""}]
[12,{"$f":"IF(②選手情報入力!B22=\"\",\"\",②選手情報入力!B22)","v":""},{"$f":"IF(②選手情報入力!C22=\"\",\"\",②選手情報入力!C22)","v":""},{"$f":"IF(②選手情報入力!F22=\"\",\"\",②選手情報入力!F22)","v":""},{"$f":"IF(②選手情報入力!G22=\"\",\"\",②選手情報入力!G22)","v":""},{"$f":"IF(②選手情報入力!I22=\"\",\"\",IF(②選手情報入力!H22=\"\",②選手情報入力!I22,②選手情報入力!H22&②選手情報入力!I22))","v":""},{"$f":"IF(②選手情報入力!J22=\"\",\"\",②選手情報入力!J22)","v":""},null,null,null,null,{"$f":"IF(②選手情報入力!Q22=\"\",\"\",②選手情報入力!Q22)","v":""},{"$f":"IF(②選手情報入力!T22=\"\",\"\",②選手情報入力!T22)","v":""}]
[13,{"$f":"IF(②選手情報入力!B23=\"\",\"\",②選手情報入力!B23)","v":""},{"$f":"IF(②選手情報入力!C23=\"\",\"\",②選手情報入力!C23)","v":""},{"$f":"IF(②選手情報入力!F23=\"\",\"\",②選手情報入力!F23)","v":""},{"$f":"IF(②選手情報入力!G23=\"\",\"\",②選手情報入力!G23)","v":""},{"$f":"IF(②選手情報入力!I23=\"\",\"\",IF(②選手情報入力!H23=\"\",②選手情報入力!I23,②選手情報入力!H23&②選手情報入力!I23))","v":""},{"$f":"IF(②選手情報入力!J23=\"\",\"\",②選手情報入力!J23)","v":""},null,null,null,null,{"$f":"IF(②選手情報入力!Q23=\"\",\"\",②選手情報入力!Q23)","v":""},{"$f":"IF(②選手情報入力!T23=\"\",\"\",②選手情報入力!T23)","v":""}]
[14,{"$f":"IF(②選手情報入力!B24=\"\",\"\",②選手情報入力!B24)","v":""},{"$f":"IF(②選手情報入力!C24=\"\",\"\",②選手情報入力!C24)","v":""},{"$f":"IF(②選手情報入力!F24=\"\",\"\",②選手情報入力!F24)","v":""},{"$f":"IF(②選手情報入力!G24=\"\",\"\",②選手情報入力!G24)","v":""},{"$f":"IF(②選手情報入力!I24=\"\",\"\",IF(②選手情報入力!H24=\"\",②選手情報入力!I24,②選手情報入力!H24&②選手情報入力!I24))","v":""},{"$f":"IF(②選手情報入力!J24=\"\",\"\",②選手情報入力!J24)","v":""},null,null,null,null,{"$f":"IF(②選手情報入力!Q24=\"\",\"\",②選手情報入力!Q24)","v":""},{"$f":"IF(②選手情報入力!T24=\"\",\"\",②選手情報入力!T24)","v":""}]
[15,{"$f":"IF(②選手情報入力!B25=\"\",\"\",②選手情報入力!B25)","v":""},{"$f":"IF(②選手情報入力!C25=\"\",\"\",②選手情報入力!C25)","v":""},{"$f":"IF(②選手情報入力!F25=\"\",\"\",②選手情報入力!F25)","v":""},{"$f":"IF(②選手情報入力!G25=\"\",\"\",②選手情報入力!G25)","v":""},{"$f":"IF(②選手情報入力!I25=\"\",\"\",IF(②選手情報入力!H25=\"\",②選手情報入力!I25,②選手情報入力!H25&②選手情報入力!I25))","v":""},{"$f":"IF(②選手情報入力!J25=\"\",\"\",②選手情報入力!J25)","v":""},null,null,null,null,{"$f":"IF(②選手情報入力!Q25=\"\",\"\",②選手情報入力!Q25)","v":""},{"$f":"IF(②選手情報入力!T25=\"\",\"\",②選手情報入力!T25)","v":""}]
[16,{"$f":"IF(②選手情報入力!B26=\"\",\"\",②選手情報入力!B26)","v":""},{"$f":"IF(②選手情報入力!C26=\"\",\"\",②選手情報入力!C26)","v":""},{"$f":"IF(②選手情報入力!F26=\"\",\"\",②選手情報入力!F26)","v":""},{"$f":"IF(②選手情報入力!G26=\"\",\"\",②選手情報入力!G26)","v":""},{"$f":"IF(②選手情報入力!I26=\"\",\"\",IF(②選手情報入力!H26=\"\",②選手情報入力!I26,②選手情報入力!H26&②選手情報入力!I26))","v":""},{"$f":"IF(②選手情報入力!J26=\"\",\"\",②選手情報入力!J26)","v":""},null,null,null,null,{"$f":"IF(②選手情報入力!Q26=\"\",\"\",②選手情報入力!Q26)","v":""},{"$f":"IF(②選手情報入力!T26=\"\",\"\",②選手情報入力!T26)","v":""}]
[17,{"$f":"IF(②選手情報入力!B27=\"\",\"\",②選手情報入力!B27)","v":""},{"$f":"IF(②選手情報入力!C27=\"\",\"\",②選手情報入力!C27)","v":""},{"$f":"IF(②選手情報入力!F27=\"\",\"\",②選手情報入力!F27)","v":""},{"$f":"IF(②選手情報入力!G27=\"\",\"\",②選手情報入力!G27)","v":""},{"$f":"IF(②選手情報入力!I27=\"\",\"\",IF(②選手情報入力!H27=\"\",②選手情報入力!I27,②選手情報入力!H27&②選手情報入力!I27))","v":""},{"$f":"IF(②選手情報入力!J27=\"\",\"\",②選手情報入力!J27)","v":""},null,null,null,null,{"$f":"IF(②選手情報入力!Q27=\"\",\"\",②選手情報入力!Q27)","v":""},{"$f":"IF(②選手情報入力!T27=\"\",\"\",②選手情報入力!T27)","v":""}]
[18,{"$f":"IF(②選手情報入力!B28=\"\",\"\",②選手情報入力!B28)","v":""},{"$f":"IF(②選手情報入力!C28=\"\",\"\",②選手情報入力!C28)","v":""},{"$f":"IF(②選手情報入力!F28=\"\",\"\",②選手情報入力!F28)","v":""},{"$f":"IF(②選手情報入力!G28=\"\",\"\",②選手情報入力!G28)","v":""},{"$f":"IF(②選手情報入力!I28=\"\",\"\",IF(②選手情報入力!H28=\"\",②選手情報入力!I28,②選手情報入力!H28&②選手情報入力!I28))","v":""},{"$f":"IF(②選手情報入力!J28=\"\",\"\",②選手情報入力!J28)","v":""},null,null,null,null,{"$f":"IF(②選手情報入力!Q28=\"\",\"\",②選手情報入力!Q28)","v":""},{"$f":"IF(②選手情報入力!T28=\"\",\"\",②選手情報入力!T28)","v":""}]
[19,{"$f":"IF(②選手情報入力!B29=\"\",\"\",②選手情報入力!B29)","v":""},{"$f":"IF(②選手情報入力!C29=\"\",\"\",②選手情報入力!C29)","v":""},{"$f":"IF(②選手情報入力!F29=\"\",\"\",②選手情報入力!F29)","v":""},{"$f":"IF(②選手情報入力!G29=\"\",\"\",②選手情報入力!G29)","v":""},{"$f":"IF(②選手情報入力!I29=\"\",\"\",IF(②選手情報入力!H29=\"\",②選手情報入力!I29,②選手情報入力!H29&②選手情報入力!I29))","v":""},{"$f":"IF(②選手情報入力!J29=\"\",\"\",②選手情報入力!J29)","v":""},null,null,null,null,{"$f":"IF(②選手情報入力!Q29=\"\",\"\",②選手情報入力!Q29)","v":""},{"$f":"IF(②選手情報入力!T29=\"\",\"\",②選手情報入力!T29)","v":""}]
[20,{"$f":"IF(②選手情報入力!B30=\"\",\"\",②選手情報入力!B30)","v":""},{"$f":"IF(②選手情報入力!C30=\"\",\"\",②選手情報入力!C30)","v":""},{"$f":"IF(②選手情報入力!F30=\"\",\"\",②選手情報入力!F30)","v":""},{"$f":"IF(②選手情報入力!G30=\"\",\"\",②選手情報入力!G30)","v":""},{"$f":"IF(②選手情報入力!I30=\"\",\"\",IF(②選手情報入力!H30=\"\",②選手情報入力!I30,②選手情報入力!H30&②選手情報入力!I30))","v":""},{"$f":"IF(②選手情報入力!J30=\"\",\"\",②選手情報入力!J30)","v":""},null,null,null,null,{"$f":"IF(②選手情報入力!Q30=\"\",\"\",②選手情報入力!Q30)","v":""},{"$f":"IF(②選手情報入力!T30=\"\",\"\",②選手情報入力!T30)","v":""}]
[21,{"$f":"IF(②選手情報入力!B31=\"\",\"\",②選手情報入力!B31)","v":""},{"$f":"IF(②選手情報入力!C31=\"\",\"\",②選手情報入力!C31)","v":""},{"$f":"IF(②選手情報入力!F31=\"\",\"\",②選手情報入力!F31)","v":""},{"$f":"IF(②選手情報入力!G31=\"\",\"\",②選手情報入力!G31)","v":""},{"$f":"IF(②選手情報入力!I31=\"\",\"\",IF(②選手情報入力!H31=\"\",②選手情報入力!I31,②選手情報入力!H31&②選手情報入力!I31))","v":""},{"$f":"IF(②選手情報入力!J31=\"\",\"\",②選手情報入力!J31)","v":""},null,null,null,null,{"$f":"IF(②選手情報入力!Q31=\"\",\"\",②選手情報入力!Q31)","v":""},{"$f":"IF(②選手情報入力!T31=\"\",\"\",②選手情報入力!T31)","v":""}]
[22,{"$f":"IF(②選手情報入力!B32=\"\",\"\",②選手情報入力!B32)","v":""},{"$f":"IF(②選手情報入力!C32=\"\",\"\",②選手情報入力!C32)","v":""},{"$f":"IF(②選手情報入力!F32=\"\",\"\",②選手情報入力!F32)","v":""},{"$f":"IF(②選手情報入力!G32=\"\",\"\",②選手情報入力!G32)","v":""},{"$f":"IF(②選手情報入力!I32=\"\",\"\",IF(②選手情報入力!H32=\"\",②選手情報入力!I32,②選手情報入力!H32&②選手情報入力!I32))","v":""},{"$f":"IF(②選手情報入力!J32=\"\",\"\",②選手情報入力!J32)","v":""},null,null,null,null,{"$f":"IF(②選手情報入力!Q32=\"\",\"\",②選手情報入力!Q32)","v":""},{"$f":"IF(②選手情報入力!T32=\"\",\"\",②選手情報入力!T32)","v":""}]
[23,{"$f":"IF(②選手情報入力!B33=\"\",\"\",②選手情報入力!B33)","v":""},{"$f":"IF(②選手情報入力!C33=\"\",\"\",②選手情報入力!C33)","v":""},{"$f":"IF(②選手情報入力!F33=\"\",\"\",②選手情報入力!F33)","v":""},{"$f":"IF(②選手情報入力!G33=\"\",\"\",②選手情報入力!G33)","v":""},{"$f":"IF(②選手情報入力!I33=\"\",\"\",IF(②選手情報入力!H33=\"\",②選手情報入力!I33,②選手情報入力!H33&②選手情報入力!I33))","v":""},{"$f":"IF(②選手情報入力!J33=\"\",\"\",②選手情報入力!J33)","v":""},null,null,null,null,{"$f":"IF(②選手情報入力!Q33=\"\",\"\",②選手情報入力!Q33)","v":""},{"$f":"IF(②選手情報入力!T33=\"\",\"\",②選手情報入力!T33)","v":""}]
[24,{"$f":"IF(②選手情報入力!B34=\"\",\"\",②選手情報入力!B34)","v":""},{"$f":"IF(②選手情報入力!C34=\"\",\"\",②選手情報入力!C34)","v":""},{"$f":"IF(②選手情報入力!F34=\"\",\"\",②選手情報入力!F34)","v":""},{"$f":"IF(②選手情報入力!G34=\"\",\"\",②選手情報入力!G34)","v":""},{"$f":"IF(②選手情報入力!I34=\"\",\"\",IF(②選手情報入力!H34=\"\",②選手情報入力!I34,②選手情報入力!H34&②選手情報入力!I34))","v":""},{"$f":"IF(②選手情報入力!J34=\"\",\"\",②選手情報入力!J34)","v":""},null,null,null,null,{"$f":"IF(②選手情報入力!Q34=\"\",\"\",②選手情報入力!Q34)","v":""},{"$f":"IF(②選手情報入力!T34=\"\",\"\",②選手情報入力!T34)","v":""}]
[25,{"$f":"IF(②選手情報入力!B35=\"\",\"\",②選手情報入力!B35)","v":""},{"$f":"IF(②選手情報入力!C35=\"\",\"\",②選手情報入力!C35)","v":""},{"$f":"IF(②選手情報入力!F35=\"\",\"\",②選手情報入力!F35)","v":""},{"$f":"IF(②選手情報入力!G35=\"\",\"\",②選手情報入力!G35)","v":""},{"$f":"IF(②選手情報入力!I35=\"\",\"\",IF(②選手情報入力!H35=\"\",②選手情報入力!I35,②選手情報入力!H35&②選手情報入力!I35))","v":""},{"$f":"IF(②選手情報入力!J35=\"\",\"\",②選手情報入力!J35)","v":""},null,null,null,null,{"$f":"IF(②選手情報入力!Q35=\"\",\"\",②選手情報入力!Q35)","v":""},{"$f":"IF(②選手情報入力!T35=\"\",\"\",②選手情報入力!T35)","v":""}]
[26,{"$f":"IF(②選手情報入力!B36=\"\",\"\",②選手情報入力!B36)","v":""},{"$f":"IF(②選手情報入力!C36=\"\",\"\",②選手情報入力!C36)","v":""},{"$f":"IF(②選手情報入力!F36=\"\",\"\",②選手情報入力!F36)","v":""},{"$f":"IF(②選手情報入力!G36=\"\",\"\",②選手情報入力!G36)","v":""},{"$f":"IF(②選手情報入力!I36=\"\",\"\",IF(②選手情報入力!H36=\"\",②選手情報入力!I36,②選手情報入力!H36&②選手情報入力!I36))","v":""},{"$f":"IF(②選手情報入力!J36=\"\",\"\",②選手情報入力!J36)","v":""},null,null,null,null,{"$f":"IF(②選手情報入力!Q36=\"\",\"\",②選手情報入力!Q36)","v":""},{"$f":"IF(②選手情報入力!T36=\"\",\"\",②選手情報入力!T36)","v":""}]
[27,{"$f":"IF(②選手情報入力!B37=\"\",\"\",②選手情報入力!B37)","v":""},{"$f":"IF(②選手情報入力!C37=\"\",\"\",②選手情報入力!C37)","v":""},{"$f":"IF(②選手情報入力!F37=\"\",\"\",②選手情報入力!F37)","v":""},{"$f":"IF(②選手情報入力!G37=\"\",\"\",②選手情報入力!G37)","v":""},{"$f":"IF(②選手情報入力!I37=\"\",\"\",IF(②選手情報入力!H37=\"\",②選手情報入力!I37,②選手情報入力!H37&②選手情報入力!I37))","v":""},{"$f":"IF(②選手情報入力!J37=\"\",\"\",②選手情報入力!J37)","v":""},null,null,null,null,{"$f":"IF(②選手情報入力!Q37=\"\",\"\",②選手情報入力!Q37)","v":""},{"$f":"IF(②選手情報入力!T37=\"\",\"\",②選手情報入力!T37)","v":""}]
[28,{"$f":"IF(②選手情報入力!B38=\"\",\"\",②選手情報入力!B38)","v":""},{"$f":"IF(②選手情報入力!C38=\"\",\"\",②選手情報入力!C38)","v":""},{"$f":"IF(②選手情報入力!F38=\"\",\"\",②選手情報入力!F38)","v":""},{"$f":"IF(②選手情報入力!G38=\"\",\"\",②選手情報入力!G38)","v":""},{"$f":"IF(②選手情報入力!I38=\"\",\"\",IF(②選手情報入力!H38=\"\",②選手情報入力!I38,②選手情報入力!H38&②選手情報入力!I38))","v":""},{"$f":"IF(②選手情報入力!J38=\"\",\"\",②選手情報入力!J38)","v":""},null,null,null,null,{"$f":"IF(②選手情報入力!Q38=\"\",\"\",②選手情報入力!Q38)","v":""},{"$f":"IF(②選手情報入力!T38=\"\",\"\",②選手情報入力!T38)","v":""}]
[29,{"$f":"IF(②選手情報入力!B39=\"\",\"\",②選手情報入力!B39)","v":""},{"$f":"IF(②選手情報入力!C39=\"\",\"\",②選手情報入力!C39)","v":""},{"$f":"IF(②選手情報入力!F39=\"\",\"\",②選手情報入力!F39)","v":""},{"$f":"IF(②選手情報入力!G39=\"\",\"\",②選手情報入力!G39)","v":""},{"$f":"IF(②選手情報入力!I39=\"\",\"\",IF(②選手情報入力!H39=\"\",②選手情報入力!I39,②選手情報入力!H39&②選手情報入力!I39))","v":""},{"$f":"IF(②選手情報入力!J39=\"\",\"\",②選手情報入力!J39)","v":""},null,null,null,null,{"$f":"IF(②選手情報入力!Q39=\"\",\"\",②選手情報入力!Q39)","v":""},{"$f":"IF(②選手情報入力!T39=\"\",\"\",②選手情報入力!T39)","v":""}]
[30,{"$f":"IF(②選手情報入力!B40=\"\",\"\",②選手情報入力!B40)","v":""},{"$f":"IF(②選手情報入力!C40=\"\",\"\",②選手情報入力!C40)","v":""},{"$f":"IF(②選手情報入力!F40=\"\",\"\",②選手情報入力!F40)","v":""},{"$f":"IF(②選手情報入力!G40=\"\",\"\",②選手情報入力!G40)","v":""},{"$f":"IF(②選手情報入力!I40=\"\",\"\",IF(②選手情報入力!H40=\"\",②選手情報入力!I40,②選手情報入力!H40&②選手情報入力!I40))","v":""},{"$f":"IF(②選手情報入力!J40=\"\",\"\",②選手情報入力!J40)","v":""},null,null,null,null,{"$f":"IF(②選手情報入力!Q40=\"\",\"\",②選手情報入力!Q40)","v":""},{"$f":"IF(②選手情報入力!T40=\"\",\"\",②選手情報入力!T40)","v":""}]
[31,{"$f":"IF(②選手情報入力!B41=\"\",\"\",②選手情報入力!B41)","v":""},{"$f":"IF(②選手情報入力!C41=\"\",\"\",②選手情報入力!C41)","v":""},{"$f":"IF(②選手情報入力!F41=\"\",\"\",②選手情報入力!F41)","v":""},{"$f":"IF(②選手情報入力!G41=\"\",\"\",②選手情報入力!G41)","v":""},{"$f":"IF(②選手情報入力!I41=\"\",\"\",IF(②選手情報入力!H41=\"\",②選手情報入力!I41,②選手情報入力!H41&②選手情報入力!I41))","v":""},{"$f":"IF(②選手情報入力!J41=\"\",\"\",②選手情報入力!J41)","v":""},null,null,null,null,{"$f":"IF(②選手情報入力!Q41=\"\",\"\",②選手情報入力!Q41)","v":""},{"$f":"IF(②選手情報入力!T41=\"\",\"\",②選手情報入力!T41)","v":""}]
[32,{"$f":"IF(②選手情報入力!B42=\"\",\"\",②選手情報入力!B42)","v":""},{"$f":"IF(②選手情報入力!C42=\"\",\"\",②選手情報入力!C42)","v":""},{"$f":"IF(②選手情報入力!F42=\"\",\"\",②選手情報入力!F42)","v":""},{"$f":"IF(②選手情報入力!G42=\"\",\"\",②選手情報入力!G42)","v":""},{"$f":"IF(②選手情報入力!I42=\"\",\"\",IF(②選手情報入力!H42=\"\",②選手情報入力!I42,②選手情報入力!H42&②選手情報入力!I42))","v":""},{"$f":"IF(②選手情報入力!J42=\"\",\"\",②選手情報入力!J42)","v":""},null,null,null,null,{"$f":"IF(②選手情報入力!Q42=\"\",\"\",②選手情報入力!Q42)","v":""},{"$f":"IF(②選手情報入力!T42=\"\",\"\",②選手情報入力!T42)","v":""}]
[33,{"$f":"IF(②選手情報入力!B43=\"\",\"\",②選手情報入力!B43)","v":""},{"$f":"IF(②選手情報入力!C43=\"\",\"\",②選手情報入力!C43)","v":""},{"$f":"IF(②選手情報入力!F43=\"\",\"\",②選手情報入力!F43)","v":""},{"$f":"IF(②選手情報入力!G43=\"\",\"\",②選手情報入力!G43)","v":""},{"$f":"IF(②選手情報入力!I43=\"\",\"\",IF(②選手情報入力!H43=\"\",②選手情報入力!I43,②選手情報入力!H43&②選手情報入力!I43))","v":""},{"$f":"IF(②選手情報入力!J43=\"\",\"\",②選手情報入力!J43)","v":""},null,null,null,null,{"$f":"IF(②選手情報入力!Q43=\"\",\"\",②選手情報入力!Q43)","v":""},{"$f":"IF(②選手情報入力!T43=\"\",\"\",②選手情報入力!T43)","v":""}]
[34,{"$f":"IF(②選手情報入力!B44=\"\",\"\",②選手情報入力!B44)","v":""},{"$f":"IF(②選手情報入力!C44=\"\",\"\",②選手情報入力!C44)","v":""},{"$f":"IF(②選手情報入力!F44=\"\",\"\",②選手情報入力!F44)","v":""},{"$f":"IF(②選手情報入力!G44=\"\",\"\",②選手情報入力!G44)","v":""},{"$f":"IF(②選手情報入力!I44=\"\",\"\",IF(②選手情報入力!H44=\"\",②選手情報入力!I44,②選手情報入力!H44&②選手情報入力!I44))","v":""},{"$f":"IF(②選手情報入力!J44=\"\",\"\",②選手情報入力!J44)","v":""},null,null,null,null,{"$f":"IF(②選手情報入力!Q44=\"\",\"\",②選手情報入力!Q44)","v":""},{"$f":"IF(②選手情報入力!T44=\"\",\"\",②選手情報入力!T44)","v":""}]
[35,{"$f":"IF(②選手情報入力!B45=\"\",\"\",②選手情報入力!B45)","v":""},{"$f":"IF(②選手情報入力!C45=\"\",\"\",②選手情報入力!C45)","v":""},{"$f":"IF(②選手情報入力!F45=\"\",\"\",②選手情報入力!F45)","v":""},{"$f":"IF(②選手情報入力!G45=\"\",\"\",②選手情報入力!G45)","v":""},{"$f":"IF(②選手情報入力!I45=\"\",\"\",IF(②選手情報入力!H45=\"\",②選手情報入力!I45,②選手情報入力!H45&②選手情報入力!I45))","v":""},{"$f":"IF(②選手情報入力!J45=\"\",\"\",②選手情報入力!J45)","v":""},null,null,null,null,{"$f":"IF(②選手情報入力!Q45=\"\",\"\",②選手情報入力!Q45)","v":""},{"$f":"IF(②選手情報入力!T45=\"\",\"\",②選手情報入力!T45)","v":""}]
[36,{"$f":"IF(②選手情報入力!B46=\"\",\"\",②選手情報入力!B46)","v":""},{"$f":"IF(②選手情報入力!C46=\"\",\"\",②選手情報入力!C46)","v":""},{"$f":"IF(②選手情報入力!F46=\"\",\"\",②選手情報入力!F46)","v":""},{"$f":"IF(②選手情報入力!G46=\"\",\"\",②選手情報入力!G46)","v":""},{"$f":"IF(②選手情報入力!I46=\"\",\"\",IF(②選手情報入力!H46=\"\",②選手情報入力!I46,②選手情報入力!H46&②選手情報入力!I46))","v":""},{"$f":"IF(②選手情報入力!J46=\"\",\"\",②選手情報入力!J46)","v":""},null,null,null,null,{"$f":"IF(②選手情報入力!Q46=\"\",\"\",②選手情報入力!Q46)","v":""},{"$f":"IF(②選手情報入力!T46=\"\",\"\",②選手情報入力!T46)","v":""}]
[37,{"$f":"IF(②選手情報入力!B47=\"\",\"\",②選手情報入力!B47)","v":""},{"$f":"IF(②選手情報入力!C47=\"\",\"\",②選手情報入力!C47)","v":""},{"$f":"IF(②選手情報入力!F47=\"\",\"\",②選手情報入力!F47)","v":""},{"$f":"IF(②選手情報入力!G47=\"\",\"\",②選手情報入力!G47)","v":""},{"$f":"IF(②選手情報入力!I47=\"\",\"\",IF(②選手情報入力!H47=\"\",②選手情報入力!I47,②選手情報入力!H47&②選手情報入力!I47))","v":""},{"$f":"IF(②選手情報入力!J47=\"\",\"\",②選手情報入力!J47)","v":""},null,null,null,null,{"$f":"IF(②選手情報入力!Q47=\"\",\"\",②選手情報入力!Q47)","v":""},{"$f":"IF(②選手情報入力!T47=\"\",\"\",②選手情報入力!T47)","v":""}]
[38,{"$f":"IF(②選手情報入力!B48=\"\",\"\",②選手情報入力!B48)","v":""},{"$f":"IF(②選手情報入力!C48=\"\",\"\",②選手情報入力!C48)","v":""},{"$f":"IF(②選手情報入力!F48=\"\",\"\",②選手情報入力!F48)","v":""},{"$f":"IF(②選手情報入力!G48=\"\",\"\",②選手情報入力!G48)","v":""},{"$f":"IF(②選手情報入力!I48=\"\",\"\",IF(②選手情報入力!H48=\"\",②選手情報入力!I48,②選手情報入力!H48&②選手情報入力!I48))","v":""},{"$f":"IF(②選手情報入力!J48=\"\",\"\",②選手情報入力!J48)","v":""},null,null,null,null,{"$f":"IF(②選手情報入力!Q48=\"\",\"\",②選手情報入力!Q48)","v":""},{"$f":"IF(②選手情報入力!T48=\"\",\"\",②選手情報入力!T48)","v":""}]
[39,{"$f":"IF(②選手情報入力!B49=\"\",\"\",②選手情報入力!B49)","v":""},{"$f":"IF(②選手情報入力!C49=\"\",\"\",②選手情報入力!C49)","v":""},{"$f":"IF(②選手情報入力!F49=\"\",\"\",②選手情報入力!F49)","v":""},{"$f":"IF(②選手情報入力!G49=\"\",\"\",②選手情報入力!G49)","v":""},{"$f":"IF(②選手情報入力!I49=\"\",\"\",IF(②選手情報入力!H49=\"\",②選手情報入力!I49,②選手情報入力!H49&②選手情報入力!I49))","v":""},{"$f":"IF(②選手情報入力!J49=\"\",\"\",②選手情報入力!J49)","v":""},null,null,null,null,{"$f":"IF(②選手情報入力!Q49=\"\",\"\",②選手情報入力!Q49)","v":""},{"$f":"IF(②選手情報入力!T49=\"\",\"\",②選手情報入力!T49)","v":""}]
[40,{"$f":"IF(②選手情報入力!B50=\"\",\"\",②選手情報入力!B50)","v":""},{"$f":"IF(②選手情報入力!C50=\"\",\"\",②選手情報入力!C50)","v":""},{"$f":"IF(②選手情報入力!F50=\"\",\"\",②選手情報入力!F50)","v":""},{"$f":"IF(②選手情報入力!G50=\"\",\"\",②選手情報入力!G50)","v":""},{"$f":"IF(②選手情報入力!I50=\"\",\"\",IF(②選手情報入力!H50=\"\",②選手情報入力!I50,②選手情報入力!H50&②選手情報入力!I50))","v":""},{"$f":"IF(②選手情報入力!J50=\"\",\"\",②選手情報入力!J50)","v":""},null,null,null,null,{"$f":"IF(②選手情報入力!Q50=\"\",\"\",②選手情報入力!Q50)","v":""},{"$f":"IF(②選手情報入力!T50=\"\",\"\",②選手情報入力!T50)","v":""}]
[41,{"$f":"IF(②選手情報入力!B51=\"\",\"\",②選手情報入力!B51)","v":""},{"$f":"IF(②選手情報入力!C51=\"\",\"\",②選手情報入力!C51)","v":""},{"$f":"IF(②選手情報入力!F51=\"\",\"\",②選手情報入力!F51)","v":""},{"$f":"IF(②選手情報入力!G51=\"\",\"\",②選手情報入力!G51)","v":""},{"$f":"IF(②選手情報入力!I51=\"\",\"\",IF(②選手情報入力!H51=\"\",②選手情報入力!I51,②選手情報入力!H51&②選手情報入力!I51))","v":""},{"$f":"IF(②選手情報入力!J51=\"\",\"\",②選手情報入力!J51)","v":""},null,null,null,null,{"$f":"IF(②選手情報入力!Q51=\"\",\"\",②選手情報入力!Q51)","v":""},{"$f":"IF(②選手情報入力!T51=\"\",\"\",②選手情報入力!T51)","v":""}]
[42,{"$f":"IF(②選手情報入力!B52=\"\",\"\",②選手情報入力!B52)","v":""},{"$f":"IF(②選手情報入力!C52=\"\",\"\",②選手情報入力!C52)","v":""},{"$f":"IF(②選手情報入力!F52=\"\",\"\",②選手情報入力!F52)","v":""},{"$f":"IF(②選手情報入力!G52=\"\",\"\",②選手情報入力!G52)","v":""},{"$f":"IF(②選手情報入力!I52=\"\",\"\",IF(②選手情報入力!H52=\"\",②選手情報入力!I52,②選手情報入力!H52&②選手情報入力!I52))","v":""},{"$f":"IF(②選手情報入力!J52=\"\",\"\",②選手情報入力!J52)","v":""},null,null,null,null,{"$f":"IF(②選手情報入力!Q52=\"\",\"\",②選手情報入力!Q52)","v":""},{"$f":"IF(②選手情報入力!T52=\"\",\"\",②選手情報入力!T52)","v":""}]
[43,{"$f":"IF(②選手情報入力!B53=\"\",\"\",②選手情報入力!B53)","v":""},{"$f":"IF(②選手情報入力!C53=\"\",\"\",②選手情報入力!C53)","v":""},{"$f":"IF(②選手情報入力!F53=\"\",\"\",②選手情報入力!F53)","v":""},{"$f":"IF(②選手情報入力!G53=\"\",\"\",②選手情報入力!G53)","v":""},{"$f":"IF(②選手情報入力!I53=\"\",\"\",IF(②選手情報入力!H53=\"\",②選手情報入力!I53,②選手情報入力!H53&②選手情報入力!I53))","v":""},{"$f":"IF(②選手情報入力!J53=\"\",\"\",②選手情報入力!J53)","v":""},null,null,null,null,{"$f":"IF(②選手情報入力!Q53=\"\",\"\",②選手情報入力!Q53)","v":""},{"$f":"IF(②選手情報入力!T53=\"\",\"\",②選手情報入力!T53)","v":""}]
[44,{"$f":"IF(②選手情報入力!B54=\"\",\"\",②選手情報入力!B54)","v":""},{"$f":"IF(②選手情報入力!C54=\"\",\"\",②選手情報入力!C54)","v":""},{"$f":"IF(②選手情報入力!F54=\"\",\"\",②選手情報入力!F54)","v":""},{"$f":"IF(②選手情報入力!G54=\"\",\"\",②選手情報入力!G54)","v":""},{"$f":"IF(②選手情報入力!I54=\"\",\"\",IF(②選手情報入力!H54=\"\",②選手情報入力!I54,②選手情報入力!H54&②選手情報入力!I54))","v":""},{"$f":"IF(②選手情報入力!J54=\"\",\"\",②選手情報入力!J54)","v":""},null,null,null,null,{"$f":"IF(②選手情報入力!Q54=\"\",\"\",②選手情報入力!Q54)","v":""},{"$f":"IF(②選手情報入力!T54=\"\",\"\",②選手情報入力!T54)","v":""}]
[45,{"$f":"IF(②選手情報入力!B55=\"\",\"\",②選手情報入力!B55)","v":""},{"$f":"IF(②選手情報入力!C55=\"\",\"\",②選手情報入力!C55)","v":""},{"$f":"IF(②選手情報入力!F55=\"\",\"\",②選手情報入力!F55)","v":""},{"$f":"IF(②選手情報入力!G55=\"\",\"\",②選手情報入力!G55)","v":""},{"$f":"IF(②選手情報入力!I55=\"\",\"\",IF(②選手情報入力!H55=\"\",②選手情報入力!I55,②選手情報入力!H55&②選手情報入力!I55))","v":""},{"$f":"IF(②選手情報入力!J55=\"\",\"\",②選手情報入力!J55)","v":""},null,null,null,null,{"$f":"IF(②選手情報入力!Q55=\"\",\"\",②選手情報入力!Q55)","v":""},{"$f":"IF(②選手情報入力!T55=\"\",\"\",②選手情報入力!T55)","v":""}]
[46,{"$f":"IF(②選手情報入力!B56=\"\",\"\",②選手情報入力!B56)","v":""},{"$f":"IF(②選手情報入力!C56=\"\",\"\",②選手情報入力!C56)","v":""},{"$f":"IF(②選手情報入力!F56=\"\",\"\",②選手情報入力!F56)","v":""},{"$f":"IF(②選手情報入力!G56=\"\",\"\",②選手情報入力!G56)","v":""},{"$f":"IF(②選手情報入力!I56=\"\",\"\",IF(②選手情報入力!H56=\"\",②選手情報入力!I56,②選手情報入力!H56&②選手情報入力!I56))","v":""},{"$f":"IF(②選手情報入力!J56=\"\",\"\",②選手情報入力!J56)","v":""},null,null,null,null,{"$f":"IF(②選手情報入力!Q56=\"\",\"\",②選手情報入力!Q56)","v":""},{"$f":"IF(②選手情報入力!T56=\"\",\"\",②選手情報入力!T56)","v":""}]
[47,{"$f":"IF(②選手情報入力!B57=\"\",\"\",②選手情報入力!B57)","v":""},{"$f":"IF(②選手情報入力!C57=\"\",\"\",②選手情報入力!C57)","v":""},{"$f":"IF(②選手情報入力!F57=\"\",\"\",②選手情報入力!F57)","v":""},{"$f":"IF(②選手情報入力!G57=\"\",\"\",②選手情報入力!G57)","v":""},{"$f":"IF(②選手情報入力!I57=\"\",\"\",IF(②選手情報入力!H57=\"\",②選手情報入力!I57,②選手情報入力!H57&②選手情報入力!I57))","v":""},{"$f":"IF(②選手情報入力!J57=\"\",\"\",②選手情報入力!J57)","v":""},null,null,null,null,{"$f":"IF(②選手情報入力!Q57=\"\",\"\",②選手情報入力!Q57)","v":""},{"$f":"IF(②選手情報入力!T57=\"\",\"\",②選手情報入力!T57)","v":""}]
[48,{"$f":"IF(②選手情報入力!B58=\"\",\"\",②選手情報入力!B58)","v":""},{"$f":"IF(②選手情報入力!C58=\"\",\"\",②選手情報入力!C58)","v":""},{"$f":"IF(②選手情報入力!F58=\"\",\"\",②選手情報入力!F58)","v":""},{"$f":"IF(②選手情報入力!G58=\"\",\"\",②選手情報入力!G58)","v":""},{"$f":"IF(②選手情報入力!I58=\"\",\"\",IF(②選手情報入力!H58=\"\",②選手情報入力!I58,②選手情報入力!H58&②選手情報入力!I58))","v":""},{"$f":"IF(②選手情報入力!J58=\"\",\"\",②選手情報入力!J58)","v":""},null,null,null,null,{"$f":"IF(②選手情報入力!Q58=\"\",\"\",②選手情報入力!Q58)","v":""},{"$f":"IF(②選手情報入力!T58=\"\",\"\",②選手情報入力!T58)","v":""}]
[49,{"$f":"IF(②選手情報入力!B59=\"\",\"\",②選手情報入力!B59)","v":""},{"$f":"IF(②選手情報入力!C59=\"\",\"\",②選手情報入力!C59)","v":""},{"$f":"IF(②選手情報入力!F59=\"\",\"\",②選手情報入力!F59)","v":""},{"$f":"IF(②選手情報入力!G59=\"\",\"\",②選手情報入力!G59)","v":""},{"$f":"IF(②選手情報入力!I59=\"\",\"\",IF(②選手情報入力!H59=\"\",②選手情報入力!I59,②選手情報入力!H59&②選手情報入力!I59))","v":""},{"$f":"IF(②選手情報入力!J59=\"\",\"\",②選手情報入力!J59)","v":""},null,null,null,null,{"$f":"IF(②選手情報入力!Q59=\"\",\"\",②選手情報入力!Q59)","v":""},{"$f":"IF(②選手情報入力!T59=\"\",\"\",②選手情報入力!T59)","v":""}]
[50,{"$f":"IF(②選手情報入力!B60=\"\",\"\",②選手情報入力!B60)","v":""},{"$f":"IF(②選手情報入力!C60=\"\",\"\",②選手情報入力!C60)","v":""},{"$f":"IF(②選手情報入力!F60=\"\",\"\",②選手情報入力!F60)","v":""},{"$f":"IF(②選手情報入力!G60=\"\",\"\",②選手情報入力!G60)","v":""},{"$f":"IF(②選手情報入力!I60=\"\",\"\",IF(②選手情報入力!H60=\"\",②選手情報入力!I60,②選手情報入力!H60&②選手情報入力!I60))","v":""},{"$f":"IF(②選手情報入力!J60=\"\",\"\",②選手情報入力!J60)","v":""},null,null,null,null,{"$f":"IF(②選手情報入力!Q60=\"\",\"\",②選手情報入力!Q60)","v":""},{"$f":"IF(②選手情報入力!T60=\"\",\"\",②選手情報入力!T60)","v":""}]
[51,{"$f":"IF(②選手情報入力!B61=\"\",\"\",②選手情報入力!B61)","v":""},{"$f":"IF(②選手情報入力!C61=\"\",\"\",②選手情報入力!C61)","v":""},{"$f":"IF(②選手情報入力!F61=\"\",\"\",②選手情報入力!F61)","v":""},{"$f":"IF(②選手情報入力!G61=\"\",\"\",②選手情報入力!G61)","v":""},{"$f":"IF(②選手情報入力!I61=\"\",\"\",IF(②選手情報入力!H61=\"\",②選手情報入力!I61,②選手情報入力!H61&②選手情報入力!I61))","v":""},{"$f":"IF(②選手情報入力!J61=\"\",\"\",②選手情報入力!J61)","v":""},null,null,null,null,{"$f":"IF(②選手情報入力!Q61=\"\",\"\",②選手情報入力!Q61)","v":""},{"$f":"IF(②選手情報入力!T61=\"\",\"\",②選手情報入力!T61)","v":""}]
[52,{"$f":"IF(②選手情報入力!B62=\"\",\"\",②選手情報入力!B62)","v":""},{"$f":"IF(②選手情報入力!C62=\"\",\"\",②選手情報入力!C62)","v":""},{"$f":"IF(②選手情報入力!F62=\"\",\"\",②選手情報入力!F62)","v":""},{"$f":"IF(②選手情報入力!G62=\"\",\"\",②選手情報入力!G62)","v":""},{"$f":"IF(②選手情報入力!I62=\"\",\"\",IF(②選手情報入力!H62=\"\",②選手情報入力!I62,②選手情報入力!H62&②選手情報入力!I62))","v":""},{"$f":"IF(②選手情報入力!J62=\"\",\"\",②選手情報入力!J62)","v":""},null,null,null,null,{"$f":"IF(②選手情報入力!Q62=\"\",\"\",②選手情報入力!Q62)","v":""},{"$f":"IF(②選手情報入力!T62=\"\",\"\",②選手情報入力!T62)","v":""}]
[53,{"$f":"IF(②選手情報入力!B63=\"\",\"\",②選手情報入力!B63)","v":""},{"$f":"IF(②選手情報入力!C63=\"\",\"\",②選手情報入力!C63)","v":""},{"$f":"IF(②選手情報入力!F63=\"\",\"\",②選手情報入力!F63)","v":""},{"$f":"IF(②選手情報入力!G63=\"\",\"\",②選手情報入力!G63)","v":""},{"$f":"IF(②選手情報入力!I63=\"\",\"\",IF(②選手情報入力!H63=\"\",②選手情報入力!I63,②選手情報入力!H63&②選手情報入力!I63))","v":""},{"$f":"IF(②選手情報入力!J63=\"\",\"\",②選手情報入力!J63)","v":""},null,null,null,null,{"$f":"IF(②選手情報入力!Q63=\"\",\"\",②選手情報入力!Q63)","v":""},{"$f":"IF(②選手情報入力!T63=\"\",\"\",②選手情報入力!T63)","v":""}]
[54,{"$f":"IF(②選手情報入力!B64=\"\",\"\",②選手情報入力!B64)","v":""},{"$f":"IF(②選手情報入力!C64=\"\",\"\",②選手情報入力!C64)","v":""},{"$f":"IF(②選手情報入力!F64=\"\",\"\",②選手情報入力!F64)","v":""},{"$f":"IF(②選手情報入力!G64=\"\",\"\",②選手情報入力!G64)","v":""},{"$f":"IF(②選手情報入力!I64=\"\",\"\",IF(②選手情報入力!H64=\"\",②選手情報入力!I64,②選手情報入力!H64&②選手情報入力!I64))","v":""},{"$f":"IF(②選手情報入力!J64=\"\",\"\",②選手情報入力!J64)","v":""},null,null,null,null,{"$f":"IF(②選手情報入力!Q64=\"\",\"\",②選手情報入力!Q64)","v":""},{"$f":"IF(②選手情報入力!T64=\"\",\"\",②選手情報入力!T64)","v":""}]
[55,{"$f":"IF(②選手情報入力!B65=\"\",\"\",②選手情報入力!B65)","v":""},{"$f":"IF(②選手情報入力!C65=\"\",\"\",②選手情報入力!C65)","v":""},{"$f":"IF(②選手情報入力!F65=\"\",\"\",②選手情報入力!F65)","v":""},{"$f":"IF(②選手情報入力!G65=\"\",\"\",②選手情報入力!G65)","v":""},{"$f":"IF(②選手情報入力!I65=\"\",\"\",IF(②選手情報入力!H65=\"\",②選手情報入力!I65,②選手情報入力!H65&②選手情報入力!I65))","v":""},{"$f":"IF(②選手情報入力!J65=\"\",\"\",②選手情報入力!J65)","v":""},null,null,null,null,{"$f":"IF(②選手情報入力!Q65=\"\",\"\",②選手情報入力!Q65)","v":""},{"$f":"IF(②選手情報入力!T65=\"\",\"\",②選手情報入力!T65)","v":""}]
[56,{"$f":"IF(②選手情報入力!B66=\"\",\"\",②選手情報入力!B66)","v":""},{"$f":"IF(②選手情報入力!C66=\"\",\"\",②選手情報入力!C66)","v":""},{"$f":"IF(②選手情報入力!F66=\"\",\"\",②選手情報入力!F66)","v":""},{"$f":"IF(②選手情報入力!G66=\"\",\"\",②選手情報入力!G66)","v":""},{"$f":"IF(②選手情報入力!I66=\"\",\"\",IF(②選手情報入力!H66=\"\",②選手情報入力!I66,②選手情報入力!H66&②選手情報入力!I66))","v":""},{"$f":"IF(②選手情報入力!J66=\"\",\"\",②選手情報入力!J66)","v":""},null,null,null,null,{"$f":"IF(②選手情報入力!Q66=\"\",\"\",②選手情報入力!Q66)","v":""},{"$f":"IF(②選手情報入力!T66=\"\",\"\",②選手情報入力!T66)","v":""}]
[57,{"$f":"IF(②選手情報入力!B67=\"\",\"\",②選手情報入力!B67)","v":""},{"$f":"IF(②選手情報入力!C67=\"\",\"\",②選手情報入力!C67)","v":""},{"$f":"IF(②選手情報入力!F67=\"\",\"\",②選手情報入力!F67)","v":""},{"$f":"IF(②選手情報入力!G67=\"\",\"\",②選手情報入力!G67)","v":""},{"$f":"IF(②選手情報入力!I67=\"\",\"\",IF(②選手情報入力!H67=\"\",②選手情報入力!I67,②選手情報入力!H67&②選手情報入力!I67))","v":""},{"$f":"IF(②選手情報入力!J67=\"\",\"\",②選手情報入力!J67)","v":""},null,null,null,null,{"$f":"IF(②選手情報入力!Q67=\"\",\"\",②選手情報入力!Q67)","v":""},{"$f":"IF(②選手情報入力!T67=\"\",\"\",②選手情報入力!T67)","v":""}]
[58,{"$f":"IF(②選手情報入力!B68=\"\",\"\",②選手情報入力!B68)","v":""},{"$f":"IF(②選手情報入力!C68=\"\",\"\",②選手情報入力!C68)","v":""},{"$f":"IF(②選手情報入力!F68=\"\",\"\",②選手情報入力!F68)","v":""},{"$f":"IF(②選手情報入力!G68=\"\",\"\",②選手情報入力!G68)","v":""},{"$f":"IF(②選手情報入力!I68=\"\",\"\",IF(②選手情報入力!H68=\"\",②選手情報入力!I68,②選手情報入力!H68&②選手情報入力!I68))","v":""},{"$f":"IF(②選手情報入力!J68=\"\",\"\",②選手情報入力!J68)","v":""},null,null,null,null,{"$f":"IF(②選手情報入力!Q68=\"\",\"\",②選手情報入力!Q68)","v":""},{"$f":"IF(②選手情報入力!T68=\"\",\"\",②選手情報入力!T68)","v":""}]
[59,{"$f":"IF(②選手情報入力!B69=\"\",\"\",②選手情報入力!B69)","v":""},{"$f":"IF(②選手情報入力!C69=\"\",\"\",②選手情報入力!C69)","v":""},{"$f":"IF(②選手情報入力!F69=\"\",\"\",②選手情報入力!F69)","v":""},{"$f":"IF(②選手情報入力!G69=\"\",\"\",②選手情報入力!G69)","v":""},{"$f":"IF(②選手情報入力!I69=\"\",\"\",IF(②選手情報入力!H69=\"\",②選手情報入力!I69,②選手情報入力!H69&②選手情報入力!I69))","v":""},{"$f":"IF(②選手情報入力!J69=\"\",\"\",②選手情報入力!J69)","v":""},null,null,null,null,{"$f":"IF(②選手情報入力!Q69=\"\",\"\",②選手情報入力!Q69)","v":""},{"$f":"IF(②選手情報入力!T69=\"\",\"\",②選手情報入力!T69)","v":""}]
[60,{"$f":"IF(②選手情報入力!B70=\"\",\"\",②選手情報入力!B70)","v":""},{"$f":"IF(②選手情報入力!C70=\"\",\"\",②選手情報入力!C70)","v":""},{"$f":"IF(②選手情報入力!F70=\"\",\"\",②選手情報入力!F70)","v":""},{"$f":"IF(②選手情報入力!G70=\"\",\"\",②選手情報入力!G70)","v":""},{"$f":"IF(②選手情報入力!I70=\"\",\"\",IF(②選手情報入力!H70=\"\",②選手情報入力!I70,②選手情報入力!H70&②選手情報入力!I70))","v":""},{"$f":"IF(②選手情報入力!J70=\"\",\"\",②選手情報入力!J70)","v":""},null,null,null,null,{"$f":"IF(②選手情報入力!Q70=\"\",\"\",②選手情報入力!Q70)","v":""},{"$f":"IF(②選手情報入力!T70=\"\",\"\",②選手情報入力!T70)","v":""}]
[61,{"$f":"IF(②選手情報入力!B71=\"\",\"\",②選手情報入力!B71)","v":""},{"$f":"IF(②選手情報入力!C71=\"\",\"\",②選手情報入力!C71)","v":""},{"$f":"IF(②選手情報入力!F71=\"\",\"\",②選手情報入力!F71)","v":""},{"$f":"IF(②選手情報入力!G71=\"\",\"\",②選手情報入力!G71)","v":""},{"$f":"IF(②選手情報入力!I71=\"\",\"\",IF(②選手情報入力!H71=\"\",②選手情報入力!I71,②選手情報入力!H71&②選手情報入力!I71))","v":""},{"$f":"IF(②選手情報入力!J71=\"\",\"\",②選手情報入力!J71)","v":""},null,null,null,null,{"$f":"IF(②選手情報入力!Q71=\"\",\"\",②選手情報入力!Q71)","v":""},{"$f":"IF(②選手情報入力!T71=\"\",\"\",②選手情報入力!T71)","v":""}]
[62,{"$f":"IF(②選手情報入力!B72=\"\",\"\",②選手情報入力!B72)","v":""},{"$f":"IF(②選手情報入力!C72=\"\",\"\",②選手情報入力!C72)","v":""},{"$f":"IF(②選手情報入力!F72=\"\",\"\",②選手情報入力!F72)","v":""},{"$f":"IF(②選手情報入力!G72=\"\",\"\",②選手情報入力!G72)","v":""},{"$f":"IF(②選手情報入力!I72=\"\",\"\",IF(②選手情報入力!H72=\"\",②選手情報入力!I72,②選手情報入力!H72&②選手情報入力!I72))","v":""},{"$f":"IF(②選手情報入力!J72=\"\",\"\",②選手情報入力!J72)","v":""},null,null,null,null,{"$f":"IF(②選手情報入力!Q72=\"\",\"\",②選手情報入力!Q72)","v":""},{"$f":"IF(②選手情報入力!T72=\"\",\"\",②選手情報入力!T72)","v":""}]
[63,{"$f":"IF(②選手情報入力!B73=\"\",\"\",②選手情報入力!B73)","v":""},{"$f":"IF(②選手情報入力!C73=\"\",\"\",②選手情報入力!C73)","v":""},{"$f":"IF(②選手情報入力!F73=\"\",\"\",②選手情報入力!F73)","v":""},{"$f":"IF(②選手情報入力!G73=\"\",\"\",②選手情報入力!G73)","v":""},{"$f":"IF(②選手情報入力!I73=\"\",\"\",IF(②選手情報入力!H73=\"\",②選手情報入力!I73,②選手情報入力!H73&②選手情報入力!I73))","v":""},{"$f":"IF(②選手情報入力!J73=\"\",\"\",②選手情報入力!J73)","v":""},null,null,null,null,{"$f":"IF(②選手情報入力!Q73=\"\",\"\",②選手情報入力!Q73)","v":""},{"$f":"IF(②選手情報入力!T73=\"\",\"\",②選手情報入力!T73)","v":""}]
[64,{"$f":"IF(②選手情報入力!B74=\"\",\"\",②選手情報入力!B74)","v":""},{"$f":"IF(②選手情報入力!C74=\"\",\"\",②選手情報入力!C74)","v":""},{"$f":"IF(②選手情報入力!F74=\"\",\"\",②選手情報入力!F74)","v":""},{"$f":"IF(②選手情報入力!G74=\"\",\"\",②選手情報入力!G74)","v":""},{"$f":"IF(②選手情報入力!I74=\"\",\"\",IF(②選手情報入力!H74=\"\",②選手情報入力!I74,②選手情報入力!H74&②選手情報入力!I74))","v":""},{"$f":"IF(②選手情報入力!J74=\"\",\"\",②選手情報入力!J74)","v":""},null,null,null,null,{"$f":"IF(②選手情報入力!Q74=\"\",\"\",②選手情報入力!Q74)","v":""},{"$f":"IF(②選手情報入力!T74=\"\",\"\",②選手情報入力!T74)","v":""}]
[65,{"$f":"IF(②選手情報入力!B75=\"\",\"\",②選手情報入力!B75)","v":""},{"$f":"IF(②選手情報入力!C75=\"\",\"\",②選手情報入力!C75)","v":""},{"$f":"IF(②選手情報入力!F75=\"\",\"\",②選手情報入力!F75)","v":""},{"$f":"IF(②選手情報入力!G75=\"\",\"\",②選手情報入力!G75)","v":""},{"$f":"IF(②選手情報入力!I75=\"\",\"\",IF(②選手情報入力!H75=\"\",②選手情報入力!I75,②選手情報入力!H75&②選手情報入力!I75))","v":""},{"$f":"IF(②選手情報入力!J75=\"\",\"\",②選手情報入力!J75)","v":""},null,null,null,null,{"$f":"IF(②選手情報入力!Q75=\"\",\"\",②選手情報入力!Q75)","v":""},{"$f":"IF(②選手情報入力!T75=\"\",\"\",②選手情報入力!T75)","v":""}]
[66,{"$f":"IF(②選手情報入力!B76=\"\",\"\",②選手情報入力!B76)","v":""},{"$f":"IF(②選手情報入力!C76=\"\",\"\",②選手情報入力!C76)","v":""},{"$f":"IF(②選手情報入力!F76=\"\",\"\",②選手情報入力!F76)","v":""},{"$f":"IF(②選手情報入力!G76=\"\",\"\",②選手情報入力!G76)","v":""},{"$f":"IF(②選手情報入力!I76=\"\",\"\",IF(②選手情報入力!H76=\"\",②選手情報入力!I76,②選手情報入力!H76&②選手情報入力!I76))","v":""},{"$f":"IF(②選手情報入力!J76=\"\",\"\",②選手情報入力!J76)","v":""},null,null,null,null,{"$f":"IF(②選手情報入力!Q76=\"\",\"\",②選手情報入力!Q76)","v":""},{"$f":"IF(②選手情報入力!T76=\"\",\"\",②選手情報入力!T76)","v":""}]
[67,{"$f":"IF(②選手情報入力!B77=\"\",\"\",②選手情報入力!B77)","v":""},{"$f":"IF(②選手情報入力!C77=\"\",\"\",②選手情報入力!C77)","v":""},{"$f":"IF(②選手情報入力!F77=\"\",\"\",②選手情報入力!F77)","v":""},{"$f":"IF(②選手情報入力!G77=\"\",\"\",②選手情報入力!G77)","v":""},{"$f":"IF(②選手情報入力!I77=\"\",\"\",IF(②選手情報入力!H77=\"\",②選手情報入力!I77,②選手情報入力!H77&②選手情報入力!I77))","v":""},{"$f":"IF(②選手情報入力!J77=\"\",\"\",②選手情報入力!J77)","v":""},null,null,null,null,{"$f":"IF(②選手情報入力!Q77=\"\",\"\",②選手情報入力!Q77)","v":""},{"$f":"IF(②選手情報入力!T77=\"\",\"\",②選手情報入力!T77)","v":""}]
[68,{"$f":"IF(②選手情報入力!B78=\"\",\"\",②選手情報入力!B78)","v":""},{"$f":"IF(②選手情報入力!C78=\"\",\"\",②選手情報入力!C78)","v":""},{"$f":"IF(②選手情報入力!F78=\"\",\"\",②選手情報入力!F78)","v":""},{"$f":"IF(②選手情報入力!G78=\"\",\"\",②選手情報入力!G78)","v":""},{"$f":"IF(②選手情報入力!I78=\"\",\"\",IF(②選手情報入力!H78=\"\",②選手情報入力!I78,②選手情報入力!H78&②選手情報入力!I78))","v":""},{"$f":"IF(②選手情報入力!J78=\"\",\"\",②選手情報入力!J78)","v":""},null,null,null,null,{"$f":"IF(②選手情報入力!Q78=\"\",\"\",②選手情報入力!Q78)","v":""},{"$f":"IF(②選手情報入力!T78=\"\",\"\",②選手情報入力!T78)","v":""}]
[69,{"$f":"IF(②選手情報入力!B79=\"\",\"\",②選手情報入力!B79)","v":""},{"$f":"IF(②選手情報入力!C79=\"\",\"\",②選手情報入力!C79)","v":""},{"$f":"IF(②選手情報入力!F79=\"\",\"\",②選手情報入力!F79)","v":""},{"$f":"IF(②選手情報入力!G79=\"\",\"\",②選手情報入力!G79)","v":""},{"$f":"IF(②選手情報入力!I79=\"\",\"\",IF(②選手情報入力!H79=\"\",②選手情報入力!I79,②選手情報入力!H79&②選手情報入力!I79))","v":""},{"$f":"IF(②選手情報入力!J79=\"\",\"\",②選手情報入力!J79)","v":""},null,null,null,null,{"$f":"IF(②選手情報入力!Q79=\"\",\"\",②選手情報入力!Q79)","v":""},{"$f":"IF(②選手情報入力!T79=\"\",\"\",②選手情報入力!T79)","v":""}]
[70,{"$f":"IF(②選手情報入力!B80=\"\",\"\",②選手情報入力!B80)","v":""},{"$f":"IF(②選手情報入力!C80=\"\",\"\",②選手情報入力!C80)","v":""},{"$f":"IF(②選手情報入力!F80=\"\",\"\",②選手情報入力!F80)","v":""},{"$f":"IF(②選手情報入力!G80=\"\",\"\",②選手情報入力!G80)","v":""},{"$f":"IF(②選手情報入力!I80=\"\",\"\",IF(②選手情報入力!H80=\"\",②選手情報入力!I80,②選手情報入力!H80&②選手情報入力!I80))","v":""},{"$f":"IF(②選手情報入力!J80=\"\",\"\",②選手情報入力!J80)","v":""},null,null,null,null,{"$f":"IF(②選手情報入力!Q80=\"\",\"\",②選手情報入力!Q80)","v":""},{"$f":"IF(②選手情報入力!T80=\"\",\"\",②選手情報入力!T80)","v":""}]
[71,{"$f":"IF(②選手情報入力!B81=\"\",\"\",②選手情報入力!B81)","v":""},{"$f":"IF(②選手情報入力!C81=\"\",\"\",②選手情報入力!C81)","v":""},{"$f":"IF(②選手情報入力!F81=\"\",\"\",②選手情報入力!F81)","v":""},{"$f":"IF(②選手情報入力!G81=\"\",\"\",②選手情報入力!G81)","v":""},{"$f":"IF(②選手情報入力!I81=\"\",\"\",IF(②選手情報入力!H81=\"\",②選手情報入力!I81,②選手情報入力!H81&②選手情報入力!I81))","v":""},{"$f":"IF(②選手情報入力!J81=\"\",\"\",②選手情報入力!J81)","v":""},null,null,null,null,{"$f":"IF(②選手情報入力!Q81=\"\",\"\",②選手情報入力!Q81)","v":""},{"$f":"IF(②選手情報入力!T81=\"\",\"\",②選手情報入力!T81)","v":""}]
[72,{"$f":"IF(②選手情報入力!B82=\"\",\"\",②選手情報入力!B82)","v":""},{"$f":"IF(②選手情報入力!C82=\"\",\"\",②選手情報入力!C82)","v":""},{"$f":"IF(②選手情報入力!F82=\"\",\"\",②選手情報入力!F82)","v":""},{"$f":"IF(②選手情報入力!G82=\"\",\"\",②選手情報入力!G82)","v":""},{"$f":"IF(②選手情報入力!I82=\"\",\"\",IF(②選手情報入力!H82=\"\",②選手情報入力!I82,②選手情報入力!H82&②選手情報入力!I82))","v":""},{"$f":"IF(②選手情報入力!J82=\"\",\"\",②選手情報入力!J82)","v":""},null,null,null,null,{"$f":"IF(②選手情報入力!Q82=\"\",\"\",②選手情報入力!Q82)","v":""},{"$f":"IF(②選手情報入力!T82=\"\",\"\",②選手情報入力!T82)","v":""}]
[73,{"$f":"IF(②選手情報入力!B83=\"\",\"\",②選手情報入力!B83)","v":""},{"$f":"IF(②選手情報入力!C83=\"\",\"\",②選手情報入力!C83)","v":""},{"$f":"IF(②選手情報入力!F83=\"\",\"\",②選手情報入力!F83)","v":""},{"$f":"IF(②選手情報入力!G83=\"\",\"\",②選手情報入力!G83)","v":""},{"$f":"IF(②選手情報入力!I83=\"\",\"\",IF(②選手情報入力!H83=\"\",②選手情報入力!I83,②選手情報入力!H83&②選手情報入力!I83))","v":""},{"$f":"IF(②選手情報入力!J83=\"\",\"\",②選手情報入力!J83)","v":""},null,null,null,null,{"$f":"IF(②選手情報入力!Q83=\"\",\"\",②選手情報入力!Q83)","v":""},{"$f":"IF(②選手情報入力!T83=\"\",\"\",②選手情報入力!T83)","v":""}]
[74,{"$f":"IF(②選手情報入力!B84=\"\",\"\",②選手情報入力!B84)","v":""},{"$f":"IF(②選手情報入力!C84=\"\",\"\",②選手情報入力!C84)","v":""},{"$f":"IF(②選手情報入力!F84=\"\",\"\",②選手情報入力!F84)","v":""},{"$f":"IF(②選手情報入力!G84=\"\",\"\",②選手情報入力!G84)","v":""},{"$f":"IF(②選手情報入力!I84=\"\",\"\",IF(②選手情報入力!H84=\"\",②選手情報入力!I84,②選手情報入力!H84&②選手情報入力!I84))","v":""},{"$f":"IF(②選手情報入力!J84=\"\",\"\",②選手情報入力!J84)","v":""},null,null,null,null,{"$f":"IF(②選手情報入力!Q84=\"\",\"\",②選手情報入力!Q84)","v":""},{"$f":"IF(②選手情報入力!T84=\"\",\"\",②選手情報入力!T84)","v":""}]
[75,{"$f":"IF(②選手情報入力!B85=\"\",\"\",②選手情報入力!B85)","v":""},{"$f":"IF(②選手情報入力!C85=\"\",\"\",②選手情報入力!C85)","v":""},{"$f":"IF(②選手情報入力!F85=\"\",\"\",②選手情報入力!F85)","v":""},{"$f":"IF(②選手情報入力!G85=\"\",\"\",②選手情報入力!G85)","v":""},{"$f":"IF(②選手情報入力!I85=\"\",\"\",IF(②選手情報入力!H85=\"\",②選手情報入力!I85,②選手情報入力!H85&②選手情報入力!I85))","v":""},{"$f":"IF(②選手情報入力!J85=\"\",\"\",②選手情報入力!J85)","v":""},null,null,null,null,{"$f":"IF(②選手情報入力!Q85=\"\",\"\",②選手情報入力!Q85)","v":""},{"$f":"IF(②選手情報入力!T85=\"\",\"\",②選手情報入力!T85)","v":""}]
[76,{"$f":"IF(②選手情報入力!B86=\"\",\"\",②選手情報入力!B86)","v":""},{"$f":"IF(②選手情報入力!C86=\"\",\"\",②選手情報入力!C86)","v":""},{"$f":"IF(②選手情報入力!F86=\"\",\"\",②選手情報入力!F86)","v":""},{"$f":"IF(②選手情報入力!G86=\"\",\"\",②選手情報入力!G86)","v":""},{"$f":"IF(②選手情報入力!I86=\"\",\"\",IF(②選手情報入力!H86=\"\",②選手情報入力!I86,②選手情報入力!H86&②選手情報入力!I86))","v":""},{"$f":"IF(②選手情報入力!J86=\"\",\"\",②選手情報入力!J86)","v":""},null,null,null,null,{"$f":"IF(②選手情報入力!Q86=\"\",\"\",②選手情報入力!Q86)","v":""},{"$f":"IF(②選手情報入力!T86=\"\",\"\",②選手情報入力!T86)","v":""}]
[77,{"$f":"IF(②選手情報入力!B87=\"\",\"\",②選手情報入力!B87)","v":""},{"$f":"IF(②選手情報入力!C87=\"\",\"\",②選手情報入力!C87)","v":""},{"$f":"IF(②選手情報入力!F87=\"\",\"\",②選手情報入力!F87)","v":""},{"$f":"IF(②選手情報入力!G87=\"\",\"\",②選手情報入力!G87)","v":""},{"$f":"IF(②選手情報入力!I87=\"\",\"\",IF(②選手情報入力!H87=\"\",②選手情報入力!I87,②選手情報入力!H87&②選手情報入力!I87))","v":""},{"$f":"IF(②選手情報入力!J87=\"\",\"\",②選手情報入力!J87)","v":""},null,null,null,null,{"$f":"IF(②選手情報入力!Q87=\"\",\"\",②選手情報入力!Q87)","v":""},{"$f":"IF(②選手情報入力!T87=\"\",\"\",②選手情報入力!T87)","v":""}]
[78,{"$f":"IF(②選手情報入力!B88=\"\",\"\",②選手情報入力!B88)","v":""},{"$f":"IF(②選手情報入力!C88=\"\",\"\",②選手情報入力!C88)","v":""},{"$f":"IF(②選手情報入力!F88=\"\",\"\",②選手情報入力!F88)","v":""},{"$f":"IF(②選手情報入力!G88=\"\",\"\",②選手情報入力!G88)","v":""},{"$f":"IF(②選手情報入力!I88=\"\",\"\",IF(②選手情報入力!H88=\"\",②選手情報入力!I88,②選手情報入力!H88&②選手情報入力!I88))","v":""},{"$f":"IF(②選手情報入力!J88=\"\",\"\",②選手情報入力!J88)","v":""},null,null,null,null,{"$f":"IF(②選手情報入力!Q88=\"\",\"\",②選手情報入力!Q88)","v":""},{"$f":"IF(②選手情報入力!T88=\"\",\"\",②選手情報入力!T88)","v":""}]
[79,{"$f":"IF(②選手情報入力!B89=\"\",\"\",②選手情報入力!B89)","v":""},{"$f":"IF(②選手情報入力!C89=\"\",\"\",②選手情報入力!C89)","v":""},{"$f":"IF(②選手情報入力!F89=\"\",\"\",②選手情報入力!F89)","v":""},{"$f":"IF(②選手情報入力!G89=\"\",\"\",②選手情報入力!G89)","v":""},{"$f":"IF(②選手情報入力!I89=\"\",\"\",IF(②選手情報入力!H89=\"\",②選手情報入力!I89,②選手情報入力!H89&②選手情報入力!I89))","v":""},{"$f":"IF(②選手情報入力!J89=\"\",\"\",②選手情報入力!J89)","v":""},null,null,null,null,{"$f":"IF(②選手情報入力!Q89=\"\",\"\",②選手情報入力!Q89)","v":""},{"$f":"IF(②選手情報入力!T89=\"\",\"\",②選手情報入力!T89)","v":""}]
[80,{"$f":"IF(②選手情報入力!B90=\"\",\"\",②選手情報入力!B90)","v":""},{"$f":"IF(②選手情報入力!C90=\"\",\"\",②選手情報入力!C90)","v":""},{"$f":"IF(②選手情報入力!F90=\"\",\"\",②選手情報入力!F90)","v":""},{"$f":"IF(②選手情報入力!G90=\"\",\"\",②選手情報入力!G90)","v":""},{"$f":"IF(②選手情報入力!I90=\"\",\"\",IF(②選手情報入力!H90=\"\",②選手情報入力!I90,②選手情報入力!H90&②選手情報入力!I90))","v":""},{"$f":"IF(②選手情報入力!J90=\"\",\"\",②選手情報入力!J90)","v":""},null,null,null,null,{"$f":"IF(②選手情報入力!Q90=\"\",\"\",②選手情報入力!Q90)","v":""},{"$f":"IF(②選手情報入力!T90=\"\",\"\",②選手情報入力!T90)","v":""}]
[81,{"$f":"IF(②選手情報入力!B91=\"\",\"\",②選手情報入力!B91)","v":""},{"$f":"IF(②選手情報入力!C91=\"\",\"\",②選手情報入力!C91)","v":""},{"$f":"IF(②選手情報入力!F91=\"\",\"\",②選手情報入力!F91)","v":""},{"$f":"IF(②選手情報入力!G91=\"\",\"\",②選手情報入力!G91)","v":""},{"$f":"IF(②選手情報入力!I91=\"\",\"\",IF(②選手情報入力!H91=\"\",②選手情報入力!I91,②選手情報入力!H91&②選手情報入力!I91))","v":""},{"$f":"IF(②選手情報入力!J91=\"\",\"\",②選手情報入力!J91)","v":""},null,null,null,null,{"$f":"IF(②選手情報入力!Q91=\"\",\"\",②選手情報入力!Q91)","v":""},{"$f":"IF(②選手情報入力!T91=\"\",\"\",②選手情報入力!T91)","v":""}]
[82,{"$f":"IF(②選手情報入力!B92=\"\",\"\",②選手情報入力!B92)","v":""},{"$f":"IF(②選手情報入力!C92=\"\",\"\",②選手情報入力!C92)","v":""},{"$f":"IF(②選手情報入力!F92=\"\",\"\",②選手情報入力!F92)","v":""},{"$f":"IF(②選手情報入力!G92=\"\",\"\",②選手情報入力!G92)","v":""},{"$f":"IF(②選手情報入力!I92=\"\",\"\",IF(②選手情報入力!H92=\"\",②選手情報入力!I92,②選手情報入力!H92&②選手情報入力!I92))","v":""},{"$f":"IF(②選手情報入力!J92=\"\",\"\",②選手情報入力!J92)","v":""},null,null,null,null,{"$f":"IF(②選手情報入力!Q92=\"\",\"\",②選手情報入力!Q92)","v":""},{"$f":"IF(②選手情報入力!T92=\"\",\"\",②選手情報入力!T92)","v":""}]
[83,{"$f":"IF(②選手情報入力!B93=\"\",\"\",②選手情報入力!B93)","v":""},{"$f":"IF(②選手情報入力!C93=\"\",\"\",②選手情報入力!C93)","v":""},{"$f":"IF(②選手情報入力!F93=\"\",\"\",②選手情報入力!F93)","v":""},{"$f":"IF(②選手情報入力!G93=\"\",\"\",②選手情報入力!G93)","v":""},{"$f":"IF(②選手情報入力!I93=\"\",\"\",IF(②選手情報入力!H93=\"\",②選手情報入力!I93,②選手情報入力!H93&②選手情報入力!I93))","v":""},{"$f":"IF(②選手情報入力!J93=\"\",\"\",②選手情報入力!J93)","v":""},null,null,null,null,{"$f":"IF(②選手情報入力!Q93=\"\",\"\",②選手情報入力!Q93)","v":""},{"$f":"IF(②選手情報入力!T93=\"\",\"\",②選手情報入力!T93)","v":""}]
[84,{"$f":"IF(②選手情報入力!B94=\"\",\"\",②選手情報入力!B94)","v":""},{"$f":"IF(②選手情報入力!C94=\"\",\"\",②選手情報入力!C94)","v":""},{"$f":"IF(②選手情報入力!F94=\"\",\"\",②選手情報入力!F94)","v":""},{"$f":"IF(②選手情報入力!G94=\"\",\"\",②選手情報入力!G94)","v":""},{"$f":"IF(②選手情報入力!I94=\"\",\"\",IF(②選手情報入力!H94=\"\",②選手情報入力!I94,②選手情報入力!H94&②選手情報入力!I94))","v":""},{"$f":"IF(②選手情報入力!J94=\"\",\"\",②選手情報入力!J94)","v":""},null,null,null,null,{"$f":"IF(②選手情報入力!Q94=\"\",\"\",②選手情報入力!Q94)","v":""},{"$f":"IF(②選手情報入力!T94=\"\",\"\",②選手情報入力!T94)","v":""}]
[85,{"$f":"IF(②選手情報入力!B95=\"\",\"\",②選手情報入力!B95)","v":""},{"$f":"IF(②選手情報入力!C95=\"\",\"\",②選手情報入力!C95)","v":""},{"$f":"IF(②選手情報入力!F95=\"\",\"\",②選手情報入力!F95)","v":""},{"$f":"IF(②選手情報入力!G95=\"\",\"\",②選手情報入力!G95)","v":""},{"$f":"IF(②選手情報入力!I95=\"\",\"\",IF(②選手情報入力!H95=\"\",②選手情報入力!I95,②選手情報入力!H95&②選手情報入力!I95))","v":""},{"$f":"IF(②選手情報入力!J95=\"\",\"\",②選手情報入力!J95)","v":""},null,null,null,null,{"$f":"IF(②選手情報入力!Q95=\"\",\"\",②選手情報入力!Q95)","v":""},{"$f":"IF(②選手情報入力!T95=\"\",\"\",②選手情報入力!T95)","v":""}]
[86,{"$f":"IF(②選手情報入力!B96=\"\",\"\",②選手情報入力!B96)","v":""},{"$f":"IF(②選手情報入力!C96=\"\",\"\",②選手情報入力!C96)","v":""},{"$f":"IF(②選手情報入力!F96=\"\",\"\",②選手情報入力!F96)","v":""},{"$f":"IF(②選手情報入力!G96=\"\",\"\",②選手情報入力!G96)","v":""},{"$f":"IF(②選手情報入力!I96=\"\",\"\",IF(②選手情報入力!H96=\"\",②選手情報入力!I96,②選手情報入力!H96&②選手情報入力!I96))","v":""},{"$f":"IF(②選手情報入力!J96=\"\",\"\",②選手情報入力!J96)","v":""},null,null,null,null,{"$f":"IF(②選手情報入力!Q96=\"\",\"\",②選手情報入力!Q96)","v":""},{"$f":"IF(②選手情報入力!T96=\"\",\"\",②選手情報入力!T96)","v":""}]
[87,{"$f":"IF(②選手情報入力!B97=\"\",\"\",②選手情報入力!B97)","v":""},{"$f":"IF(②選手情報入力!C97=\"\",\"\",②選手情報入力!C97)","v":""},{"$f":"IF(②選手情報入力!F97=\"\",\"\",②選手情報入力!F97)","v":""},{"$f":"IF(②選手情報入力!G97=\"\",\"\",②選手情報入力!G97)","v":""},{"$f":"IF(②選手情報入力!I97=\"\",\"\",IF(②選手情報入力!H97=\"\",②選手情報入力!I97,②選手情報入力!H97&②選手情報入力!I97))","v":""},{"$f":"IF(②選手情報入力!J97=\"\",\"\",②選手情報入力!J97)","v":""},null,null,null,null,{"$f":"IF(②選手情報入力!Q97=\"\",\"\",②選手情報入力!Q97)","v":""},{"$f":"IF(②選手情報入力!T97=\"\",\"\",②選手情報入力!T97)","v":""}]
[88,{"$f":"IF(②選手情報入力!B98=\"\",\"\",②選手情報入力!B98)","v":""},{"$f":"IF(②選手情報入力!C98=\"\",\"\",②選手情報入力!C98)","v":""},{"$f":"IF(②選手情報入力!F98=\"\",\"\",②選手情報入力!F98)","v":""},{"$f":"IF(②選手情報入力!G98=\"\",\"\",②選手情報入力!G98)","v":""},{"$f":"IF(②選手情報入力!I98=\"\",\"\",IF(②選手情報入力!H98=\"\",②選手情報入力!I98,②選手情報入力!H98&②選手情報入力!I98))","v":""},{"$f":"IF(②選手情報入力!J98=\"\",\"\",②選手情報入力!J98)","v":""},null,null,null,null,{"$f":"IF(②選手情報入力!Q98=\"\",\"\",②選手情報入力!Q98)","v":""},{"$f":"IF(②選手情報入力!T98=\"\",\"\",②選手情報入力!T98)","v":""}]
[89,{"$f":"IF(②選手情報入力!B99=\"\",\"\",②選手情報入力!B99)","v":""},{"$f":"IF(②選手情報入力!C99=\"\",\"\",②選手情報入力!C99)","v":""},{"$f":"IF(②選手情報入力!F99=\"\",\"\",②選手情報入力!F99)","v":""},{"$f":"IF(②選手情報入力!G99=\"\",\"\",②選手情報入力!G99)","v":""},{"$f":"IF(②選手情報入力!I99=\"\",\"\",IF(②選手情報入力!H99=\"\",②選手情報入力!I99,②選手情報入力!H99&②選手情報入力!I99))","v":""},{"$f":"IF(②選手情報入力!J99=\"\",\"\",②選手情報入力!J99)","v":""},null,null,null,null,{"$f":"IF(②選手情報入力!Q99=\"\",\"\",②選手情報入力!Q99)","v":""},{"$f":"IF(②選手情報入力!T99=\"\",\"\",②選手情報入力!T99)","v":""}]
[90,{"$f":"IF(②選手情報入力!B100=\"\",\"\",②選手情報入力!B100)","v":""},{"$f":"IF(②選手情報入力!C100=\"\",\"\",②選手情報入力!C100)","v":""},{"$f":"IF(②選手情報入力!F100=\"\",\"\",②選手情報入力!F100)","v":""},{"$f":"IF(②選手情報入力!G100=\"\",\"\",②選手情報入力!G100)","v":""},{"$f":"IF(②選手情報入力!I100=\"\",\"\",IF(②選手情報入力!H100=\"\",②選手情報入力!I100,②選手情報入力!H100&②選手情報入力!I100))","v":""},{"$f":"IF(②選手情報入力!J100=\"\",\"\",②選手情報入力!J100)","v":""},null,null,null,null,{"$f":"IF(②選手情報入力!Q100=\"\",\"\",②選手情報入力!Q100)","v":""},{"$f":"IF(②選手情報入力!T100=\"\",\"\",②選手情報入力!T100)","v":""}]

{"sheet":"⑥リレーの選手が反映されない場合の対処","index":6,"n_rows":23,"n_cols":2,"rows_kept":23,"cut":false,"hidden":false,"merged":[]}
[]
[null,"文字列を数値に変換する"]
[null,"エクセルでは数値と判断できる文字列を数式に使用したとき、自動で数値に変換されます。"]
[]
[]
[]
[]
[]
[]
[]
[]
[]
[null,"これらの文字列を数値に変換するには、[セル] をクリックしてエラーチェックの機能から [数値に変換する] をクリックします。変換したいセルを範囲選択してから行うと一括で変換できます。"]
[]
[]
[]
[]
[]
[]
[]
[]
[]
[null,"文字列が数値に変換されます。"]

{"sheet":"　　　　　","index":7,"n_rows":0,"n_cols":0,"rows_kept":0,"cut":false,"hidden":false,"merged":[]}

{"sheet":"種目情報","index":8,"n_rows":37,"n_cols":15,"rows_kept":37,"cut":false,"hidden":false,"merged":[[3,12,28,12],[30,12,50,12],[1,13,1,14],[0,0,0,2],[0,4,0,6],[0,8,0,10],[1,0,2,0],[1,4,2,4],[1,8,2,8]]}
["男子",null,null,null,"女子",null,null,null,"リレー"]
["種目","種目","記録",null,"種目","種目","記録",null,"種目","種目","記録",null,null,"一覧表用　種目名"]
[null,"No","FLAG",null,null,"No","FLAG",null,null,"No","FLAG"]
["中男100m",43,2,null,"中女100m",51,2,null,"男子4X100mR",50,2,null,"男　　　子","中男100m","中男100m"]
["中男400m",44,2,null,"中女200m",52,2,null,null,null,null,null,null,"中男400m","中男400m"]
["中男1500m",45,2,null,"中女800m",53,2,null,"女子4X100mR",58,2,null,null,"中男1500m","中男1500m"]
["中男110mH(0.914m)",46,2,null,"中女100mH(0.762m)",54,2,null,null,null,null,null,null,"中男110mH(0.914m)","中男110mH(0.914m)"]
["中男走高跳",47,2,null,"中女走高跳",55,2,null,null,null,null,null,null,"中男走高跳","中男走高跳"]
["中男走幅跳",48,0,null,"中女走幅跳",56,0,null,null,null,null,null,null,"中男走幅跳","中男走幅跳"]
["中男砲丸投(5.000kg)",49,0,null,"中女砲丸投(2.721kg)",57,0,null,null,null,null,null,null,"中男砲丸投(5.000kg)","中男砲丸投(5.000kg)"]
[]
[]
[]
[]
[]
[]
[]
[]
[]
[]
[]
[]
[]
[]
[]
[]
[]
[]
[]
[]
[null,null,null,null,null,null,null,null,null,null,null,null,"女　　　子","中女100m","中女100m"]
[null,null,null,null,null,null,null,null,null,null,null,null,null,"中女200m","中女200m"]
[null,null,null,null,null,null,null,null,null,null,null,null,null,"中女800m","中女800m"]
[null,null,null,null,null,null,null,null,null,null,null,null,null,"中女100mH(0.762m)","中女100mH(0.762m)"]
[null,null,null,null,null,null,null,null,null,null,null,null,null,"中女走高跳","中女走高跳"]
[null,null,null,null,null,null,null,null,null,null,null,null,null,"中女走幅跳","中女走幅跳"]
[null,null,null,null,null,null,null,null,null,null,null,null,null,"中女砲丸投(2.721kg)","中女砲丸投(2.721kg)"]

{"sheet":"data_kyogisha","index":9,"n_rows":91,"n_cols":34,"rows_kept":91,"cut":false,"hidden":false,"merged":[]}
["競技者NO","所属コード1","所属コード2","ナンバー","ナンバー2","競技者名","競技者名カナ","競技者名略称","性別","学年","生年","月日","個人所属地名","陸連コード","参加競技-競技コード1","参加競技-自己記録1","参加競技-オープン参加FLG1","参加競技-記録FLG1","参加競技-競技コード2","参加競技-自己記録2","参加競技-オープン参加FLG2","参加競技-記録FLG2","参加競技-競技コード3","参加競技-自己記録3","参加競技-オープン参加FLG3","参加競技-記録FLG3","参加競技-競技コード4","参加競技-自己記録4","参加競技-オープン参加FLG4","参加競技-記録FLG4","参加競技-競技コード5","参加競技-自己記録5","参加競技-オープン参加FLG5","参加競技-記録FLG5"]
[{"$f":"IF(E2=\"\",\"\",I2*1200000+①団体情報入力!$C$3*1000+②選手情報入力!A11)","v":""},{"$f":"IF(E2=\"\",\"\",①団体情報入力!$C$3)","v":""},null,{"$f":"IF(E2=\"\",\"\",LEFT(②選手情報入力!B11,1))","v":""},{"$f":"IF(②選手情報入力!B11=\"\",\"\",RIGHT(②選手情報入力!B11,LEN(②選手情報入力!B11)-1))","v":""},{"$f":"IF(E2=\"\",\"\",②選手情報入力!C11)","v":""},{"$f":"IF(E2=\"\",\"\",②選手情報入力!D11)","v":""},{"$f":"IF(E2=\"\",\"\",F2)","v":""},{"$f":"IF(E2=\"\",\"\",IF(②選手情報入力!F11=\"男\",1,2))","v":""},{"$f":"IF(E2=\"\",\"\",IF(②選手情報入力!G11=\"\",\"\",②選手情報入力!G11))","v":""},null,{"$f":"IF(E2=\"\",\"\",0)","v":""},{"$f":"IF(E2=\"\",\"\",\"愛知\")","v":""},null,{"$f":"IF(E2=\"\",\"\",IF(②選手情報入力!I11=\"\",\"\",IF(I2=1,VLOOKUP(②選手情報入力!I11,種目情報!$A$4:$B$135,2,FALSE),VLOOKUP(②選手情報入力!I11,種目情報!$E$4:$F$135,2,FALSE))))","v":""},{"$f":"IF(E2=\"\",\"\",IF(②選手情報入力!J11=\"\",\"\",②選手情報入力!J11))","v":""},{"$f":"IF(E2=\"\",\"\",IF(②選手情報入力!H11=\"\",0,1))","v":""},{"$f":"IF(E2=\"\",\"\",IF(②選手情報入力!I11=\"\",\"\",IF(I2=1,VLOOKUP(②選手情報入力!I11,種目情報!$A$4:$C$39,3,FALSE),VLOOKUP(②選手情報入力!I11,種目情報!$E$4:$G$40,3,FALSE))))","v":""},{"$f":"IF(E2=\"\",\"\",IF(②選手情報入力!L11=\"\",\"\",IF(I2=1,VLOOKUP(②選手情報入力!L11,種目情報!$A$4:$B$39,2,FALSE),VLOOKUP(②選手情報入力!L11,種目情報!$E$4:$F$40,2,FALSE))))","v":""},{"$f":"IF(E2=\"\",\"\",IF(②選手情報入力!M11=\"\",\"\",②選手情報入力!M11))","v":""},{"$f":"IF(E2=\"\",\"\",IF(②選手情報入力!K11=\"\",0,1))","v":""},{"$f":"IF(E2=\"\",\"\",IF(②選手情報入力!L11=\"\",\"\",IF(I2=1,VLOOKUP(②選手情報入力!L11,種目情報!$A$4:$C$39,3,FALSE),VLOOKUP(②選手情報入力!L11,種目情報!$E$4:$G$40,3,FALSE))))","v":""},{"$f":"IF(E2=\"\",\"\",IF(②選手情報入力!O11=\"\",\"\",IF(I2=1,VLOOKUP(②選手情報入力!O11,種目情報!$A$4:$B$39,2,FALSE),VLOOKUP(②選手情報入力!O11,種目情報!$E$4:$F$40,2,FALSE))))","v":""},{"$f":"IF(E2=\"\",\"\",IF(②選手情報入力!P11=\"\",\"\",②選手情報入力!P11))","v":""},{"$f":"IF(E2=\"\",\"\",IF(②選手情報入力!N11=\"\",0,1))","v":""},{"$f":"IF(E2=\"\",\"\",IF(②選手情報入力!O11=\"\",\"\",IF(I2=1,VLOOKUP(②選手情報入力!O11,種目情報!$A$4:$C$39,3,FALSE),VLOOKUP(②選手情報入力!O11,種目情報!$E$4:$G$40,3,FALSE))))","v":""},{"$f":"IF(E2=\"\",\"\",IF(②選手情報入力!Q11=\"\",\"\",IF(I2=1,種目情報!$J$4,種目情報!$J$6)))","v":""},{"$f":"IF(E2=\"\",\"\",IF(②選手情報入力!Q11=\"\",\"\",IF(I2=1,IF(②選手情報入力!$R$6=\"\",\"\",②選手情報入力!$R$6),IF(②選手情報入力!$R$7=\"\",\"\",②選手情報入力!$R$7))))","v":""},{"$f":"IF(E2=\"\",\"\",IF(②選手情報入力!Q11=\"\",\"\",IF(I2=1,IF(②選手情報入力!$Q$6=\"\",0,1),IF(②選手情報入力!$Q$7=\"\",0,1))))","v":""},{"$f":"IF(E2=\"\",\"\",IF(②選手情報入力!Q11=\"\",\"\",2))","v":""},{"$f":"IF(E2=\"\",\"\",IF(②選手情報入力!S11=\"\",\"\",IF(I2=1,種目情報!$J$5,種目情報!$J$7)))","v":""},{"$f":"IF(E2=\"\",\"\",IF(②選手情報入力!S11=\"\",\"\",IF(I2=1,IF(②選手情報入力!$T$6=\"\",\"\",②選手情報入力!$T$6),IF(②選手情報入力!$T$7=\"\",\"\",②選手情報入力!$T$7))))","v":""},{"$f":"IF(E2=\"\",\"\",IF(②選手情報入力!S11=\"\",\"\",IF(I2=1,IF(②選手情報入力!$S$6=\"\",0,1),IF(②選手情報入力!$S$7=\"\",0,1))))","v":""},{"$f":"IF(E2=\"\",\"\",IF(②選手情報入力!S11=\"\",\"\",2))","v":""}]
[{"$f":"IF(E3=\"\",\"\",I3*1200000+①団体情報入力!$C$3*1000+②選手情報入力!A12)","v":""},{"$f":"IF(E3=\"\",\"\",①団体情報入力!$C$3)","v":""},null,{"$f":"IF(E3=\"\",\"\",LEFT(②選手情報入力!B12,1))","v":""},{"$f":"IF(②選手情報入力!B12=\"\",\"\",RIGHT(②選手情報入力!B12,LEN(②選手情報入力!B12)-1))","v":""},{"$f":"IF(E3=\"\",\"\",②選手情報入力!C12)","v":""},{"$f":"IF(E3=\"\",\"\",②選手情報入力!D12)","v":""},"",{"$f":"IF(E3=\"\",\"\",IF(②選手情報入力!F12=\"男\",1,2))","v":""},{"$f":"IF(E3=\"\",\"\",IF(②選手情報入力!G12=\"\",\"\",②選手情報入力!G12))","v":""},null,"","",null,{"$f":"IF(E3=\"\",\"\",IF(②選手情報入力!I12=\"\",\"\",IF(I3=1,VLOOKUP(②選手情報入力!I12,種目情報!$A$4:$B$135,2,FALSE),VLOOKUP(②選手情報入力!I12,種目情報!$E$4:$F$135,2,FALSE))))","v":""},{"$f":"IF(E3=\"\",\"\",IF(②選手情報入力!J12=\"\",\"\",②選手情報入力!J12))","v":""},{"$f":"IF(E3=\"\",\"\",IF(②選手情報入力!H12=\"\",0,1))","v":""},{"$f":"IF(E3=\"\",\"\",IF(②選手情報入力!I12=\"\",\"\",IF(I3=1,VLOOKUP(②選手情報入力!I12,種目情報!$A$4:$C$39,3,FALSE),VLOOKUP(②選手情報入力!I12,種目情報!$E$4:$G$40,3,FALSE))))","v":""},{"$f":"IF(E3=\"\",\"\",IF(②選手情報入力!L12=\"\",\"\",IF(I3=1,VLOOKUP(②選手情報入力!L12,種目情報!$A$4:$B$39,2,FALSE),VLOOKUP(②選手情報入力!L12,種目情報!$E$4:$F$40,2,FALSE))))","v":""},{"$f":"IF(E3=\"\",\"\",IF(②選手情報入力!M12=\"\",\"\",②選手情報入力!M12))","v":""},{"$f":"IF(E3=\"\",\"\",IF(②選手情報入力!K12=\"\",0,1))","v":""},{"$f":"IF(E3=\"\",\"\",IF(②選手情報入力!L12=\"\",\"\",IF(I3=1,VLOOKUP(②選手情報入力!L12,種目情報!$A$4:$C$39,3,FALSE),VLOOKUP(②選手情報入力!L12,種目情報!$E$4:$G$40,3,FALSE))))","v":""},{"$f":"IF(E3=\"\",\"\",IF(②選手情報入力!O12=\"\",\"\",IF(I3=1,VLOOKUP(②選手情報入力!O12,種目情報!$A$4:$B$39,2,FALSE),VLOOKUP(②選手情報入力!O12,種目情報!$E$4:$F$40,2,FALSE))))","v":""},{"$f":"IF(E3=\"\",\"\",IF(②選手情報入力!P12=\"\",\"\",②選手情報入力!P12))","v":""},{"$f":"IF(E3=\"\",\"\",IF(②選手情報入力!N12=\"\",0,1))","v":""},{"$f":"IF(E3=\"\",\"\",IF(②選手情報入力!O12=\"\",\"\",IF(I3=1,VLOOKUP(②選手情報入力!O12,種目情報!$A$4:$C$39,3,FALSE),VLOOKUP(②選手情報入力!O12,種目情報!$E$4:$G$40,3,FALSE))))","v":""},{"$f":"IF(E3=\"\",\"\",IF(②選手情報入力!Q12=\"\",\"\",IF(I3=1,種目情報!$J$4,種目情報!$J$6)))","v":""},{"$f":"IF(E3=\"\",\"\",IF(②選手情報入力!Q12=\"\",\"\",IF(I3=1,IF(②選手情報入力!$R$6=\"\",\"\",②選手情報入力!$R$6),IF(②選手情報入力!$R$7=\"\",\"\",②選手情報入力!$R$7))))","v":""},{"$f":"IF(E3=\"\",\"\",IF(②選手情報入力!Q12=\"\",\"\",IF(I3=1,IF(②選手情報入力!$Q$6=\"\",0,1),IF(②選手情報入力!$Q$7=\"\",0,1))))","v":""},{"$f":"IF(E3=\"\",\"\",IF(②選手情報入力!Q12=\"\",\"\",2))","v":""},{"$f":"IF(E3=\"\",\"\",IF(②選手情報入力!S12=\"\",\"\",IF(I3=1,種目情報!$J$5,種目情報!$J$7)))","v":""},{"$f":"IF(E3=\"\",\"\",IF(②選手情報入力!S12=\"\",\"\",IF(I3=1,IF(②選手情報入力!$T$6=\"\",\"\",②選手情報入力!$T$6),IF(②選手情報入力!$T$7=\"\",\"\",②選手情報入力!$T$7))))","v":""},{"$f":"IF(E3=\"\",\"\",IF(②選手情報入力!S12=\"\",\"\",IF(I3=1,IF(②選手情報入力!$S$6=\"\",0,1),IF(②選手情報入力!$S$7=\"\",0,1))))","v":""},{"$f":"IF(E3=\"\",\"\",IF(②選手情報入力!S12=\"\",\"\",2))","v":""}]
[{"$f":"IF(E4=\"\",\"\",I4*1200000+①団体情報入力!$C$3*1000+②選手情報入力!A13)","v":""},{"$f":"IF(E4=\"\",\"\",①団体情報入力!$C$3)","v":""},null,{"$f":"IF(E4=\"\",\"\",LEFT(②選手情報入力!B13,1))","v":""},{"$f":"IF(②選手情報入力!B13=\"\",\"\",RIGHT(②選手情報入力!B13,LEN(②選手情報入力!B13)-1))","v":""},{"$f":"IF(E4=\"\",\"\",②選手情報入力!C13)","v":""},{"$f":"IF(E4=\"\",\"\",②選手情報入力!D13)","v":""},"",{"$f":"IF(E4=\"\",\"\",IF(②選手情報入力!F13=\"男\",1,2))","v":""},{"$f":"IF(E4=\"\",\"\",IF(②選手情報入力!G13=\"\",\"\",②選手情報入力!G13))","v":""},null,"","",null,{"$f":"IF(E4=\"\",\"\",IF(②選手情報入力!I13=\"\",\"\",IF(I4=1,VLOOKUP(②選手情報入力!I13,種目情報!$A$4:$B$135,2,FALSE),VLOOKUP(②選手情報入力!I13,種目情報!$E$4:$F$135,2,FALSE))))","v":""},{"$f":"IF(E4=\"\",\"\",IF(②選手情報入力!J13=\"\",\"\",②選手情報入力!J13))","v":""},{"$f":"IF(E4=\"\",\"\",IF(②選手情報入力!H13=\"\",0,1))","v":""},{"$f":"IF(E4=\"\",\"\",IF(②選手情報入力!I13=\"\",\"\",IF(I4=1,VLOOKUP(②選手情報入力!I13,種目情報!$A$4:$C$39,3,FALSE),VLOOKUP(②選手情報入力!I13,種目情報!$E$4:$G$40,3,FALSE))))","v":""},{"$f":"IF(E4=\"\",\"\",IF(②選手情報入力!L13=\"\",\"\",IF(I4=1,VLOOKUP(②選手情報入力!L13,種目情報!$A$4:$B$39,2,FALSE),VLOOKUP(②選手情報入力!L13,種目情報!$E$4:$F$40,2,FALSE))))","v":""},{"$f":"IF(E4=\"\",\"\",IF(②選手情報入力!M13=\"\",\"\",②選手情報入力!M13))","v":""},{"$f":"IF(E4=\"\",\"\",IF(②選手情報入力!K13=\"\",0,1))","v":""},{"$f":"IF(E4=\"\",\"\",IF(②選手情報入力!L13=\"\",\"\",IF(I4=1,VLOOKUP(②選手情報入力!L13,種目情報!$A$4:$C$39,3,FALSE),VLOOKUP(②選手情報入力!L13,種目情報!$E$4:$G$40,3,FALSE))))","v":""},{"$f":"IF(E4=\"\",\"\",IF(②選手情報入力!O13=\"\",\"\",IF(I4=1,VLOOKUP(②選手情報入力!O13,種目情報!$A$4:$B$39,2,FALSE),VLOOKUP(②選手情報入力!O13,種目情報!$E$4:$F$40,2,FALSE))))","v":""},{"$f":"IF(E4=\"\",\"\",IF(②選手情報入力!P13=\"\",\"\",②選手情報入力!P13))","v":""},{"$f":"IF(E4=\"\",\"\",IF(②選手情報入力!N13=\"\",0,1))","v":""},{"$f":"IF(E4=\"\",\"\",IF(②選手情報入力!O13=\"\",\"\",IF(I4=1,VLOOKUP(②選手情報入力!O13,種目情報!$A$4:$C$39,3,FALSE),VLOOKUP(②選手情報入力!O13,種目情報!$E$4:$G$40,3,FALSE))))","v":""},{"$f":"IF(E4=\"\",\"\",IF(②選手情報入力!Q13=\"\",\"\",IF(I4=1,種目情報!$J$4,種目情報!$J$6)))","v":""},{"$f":"IF(E4=\"\",\"\",IF(②選手情報入力!Q13=\"\",\"\",IF(I4=1,IF(②選手情報入力!$R$6=\"\",\"\",②選手情報入力!$R$6),IF(②選手情報入力!$R$7=\"\",\"\",②選手情報入力!$R$7))))","v":""},{"$f":"IF(E4=\"\",\"\",IF(②選手情報入力!Q13=\"\",\"\",IF(I4=1,IF(②選手情報入力!$Q$6=\"\",0,1),IF(②選手情報入力!$Q$7=\"\",0,1))))","v":""},{"$f":"IF(E4=\"\",\"\",IF(②選手情報入力!Q13=\"\",\"\",2))","v":""},{"$f":"IF(E4=\"\",\"\",IF(②選手情報入力!S13=\"\",\"\",IF(I4=1,種目情報!$J$5,種目情報!$J$7)))","v":""},{"$f":"IF(E4=\"\",\"\",IF(②選手情報入力!S13=\"\",\"\",IF(I4=1,IF(②選手情報入力!$T$6=\"\",\"\",②選手情報入力!$T$6),IF(②選手情報入力!$T$7=\"\",\"\",②選手情報入力!$T$7))))","v":""},{"$f":"IF(E4=\"\",\"\",IF(②選手情報入力!S13=\"\",\"\",IF(I4=1,IF(②選手情報入力!$S$6=\"\",0,1),IF(②選手情報入力!$S$7=\"\",0,1))))","v":""},{"$f":"IF(E4=\"\",\"\",IF(②選手情報入力!S13=\"\",\"\",2))","v":""}]
[{"$f":"IF(E5=\"\",\"\",I5*1200000+①団体情報入力!$C$3*1000+②選手情報入力!A14)","v":""},{"$f":"IF(E5=\"\",\"\",①団体情報入力!$C$3)","v":""},null,{"$f":"IF(E5=\"\",\"\",LEFT(②選手情報入力!B14,1))","v":""},{"$f":"IF(②選手情報入力!B14=\"\",\"\",RIGHT(②選手情報入力!B14,LEN(②選手情報入力!B14)-1))","v":""},{"$f":"IF(E5=\"\",\"\",②選手情報入力!C14)","v":""},{"$f":"IF(E5=\"\",\"\",②選手情報入力!D14)","v":""},"",{"$f":"IF(E5=\"\",\"\",IF(②選手情報入力!F14=\"男\",1,2))","v":""},{"$f":"IF(E5=\"\",\"\",IF(②選手情報入力!G14=\"\",\"\",②選手情報入力!G14))","v":""},null,"","",null,{"$f":"IF(E5=\"\",\"\",IF(②選手情報入力!I14=\"\",\"\",IF(I5=1,VLOOKUP(②選手情報入力!I14,種目情報!$A$4:$B$135,2,FALSE),VLOOKUP(②選手情報入力!I14,種目情報!$E$4:$F$135,2,FALSE))))","v":""},{"$f":"IF(E5=\"\",\"\",IF(②選手情報入力!J14=\"\",\"\",②選手情報入力!J14))","v":""},{"$f":"IF(E5=\"\",\"\",IF(②選手情報入力!H14=\"\",0,1))","v":""},{"$f":"IF(E5=\"\",\"\",IF(②選手情報入力!I14=\"\",\"\",IF(I5=1,VLOOKUP(②選手情報入力!I14,種目情報!$A$4:$C$39,3,FALSE),VLOOKUP(②選手情報入力!I14,種目情報!$E$4:$G$40,3,FALSE))))","v":""},{"$f":"IF(E5=\"\",\"\",IF(②選手情報入力!L14=\"\",\"\",IF(I5=1,VLOOKUP(②選手情報入力!L14,種目情報!$A$4:$B$39,2,FALSE),VLOOKUP(②選手情報入力!L14,種目情報!$E$4:$F$40,2,FALSE))))","v":""},{"$f":"IF(E5=\"\",\"\",IF(②選手情報入力!M14=\"\",\"\",②選手情報入力!M14))","v":""},{"$f":"IF(E5=\"\",\"\",IF(②選手情報入力!K14=\"\",0,1))","v":""},{"$f":"IF(E5=\"\",\"\",IF(②選手情報入力!L14=\"\",\"\",IF(I5=1,VLOOKUP(②選手情報入力!L14,種目情報!$A$4:$C$39,3,FALSE),VLOOKUP(②選手情報入力!L14,種目情報!$E$4:$G$40,3,FALSE))))","v":""},{"$f":"IF(E5=\"\",\"\",IF(②選手情報入力!O14=\"\",\"\",IF(I5=1,VLOOKUP(②選手情報入力!O14,種目情報!$A$4:$B$39,2,FALSE),VLOOKUP(②選手情報入力!O14,種目情報!$E$4:$F$40,2,FALSE))))","v":""},{"$f":"IF(E5=\"\",\"\",IF(②選手情報入力!P14=\"\",\"\",②選手情報入力!P14))","v":""},{"$f":"IF(E5=\"\",\"\",IF(②選手情報入力!N14=\"\",0,1))","v":""},{"$f":"IF(E5=\"\",\"\",IF(②選手情報入力!O14=\"\",\"\",IF(I5=1,VLOOKUP(②選手情報入力!O14,種目情報!$A$4:$C$39,3,FALSE),VLOOKUP(②選手情報入力!O14,種目情報!$E$4:$G$40,3,FALSE))))","v":""},{"$f":"IF(E5=\"\",\"\",IF(②選手情報入力!Q14=\"\",\"\",IF(I5=1,種目情報!$J$4,種目情報!$J$6)))","v":""},{"$f":"IF(E5=\"\",\"\",IF(②選手情報入力!Q14=\"\",\"\",IF(I5=1,IF(②選手情報入力!$R$6=\"\",\"\",②選手情報入力!$R$6),IF(②選手情報入力!$R$7=\"\",\"\",②選手情報入力!$R$7))))","v":""},{"$f":"IF(E5=\"\",\"\",IF(②選手情報入力!Q14=\"\",\"\",IF(I5=1,IF(②選手情報入力!$Q$6=\"\",0,1),IF(②選手情報入力!$Q$7=\"\",0,1))))","v":""},{"$f":"IF(E5=\"\",\"\",IF(②選手情報入力!Q14=\"\",\"\",2))","v":""},{"$f":"IF(E5=\"\",\"\",IF(②選手情報入力!S14=\"\",\"\",IF(I5=1,種目情報!$J$5,種目情報!$J$7)))","v":""},{"$f":"IF(E5=\"\",\"\",IF(②選手情報入力!S14=\"\",\"\",IF(I5=1,IF(②選手情報入力!$T$6=\"\",\"\",②選手情報入力!$T$6),IF(②選手情報入力!$T$7=\"\",\"\",②選手情報入力!$T$7))))","v":""},{"$f":"IF(E5=\"\",\"\",IF(②選手情報入力!S14=\"\",\"\",IF(I5=1,IF(②選手情報入力!$S$6=\"\",0,1),IF(②選手情報入力!$S$7=\"\",0,1))))","v":""},{"$f":"IF(E5=\"\",\"\",IF(②選手情報入力!S14=\"\",\"\",2))","v":""}]
[{"$f":"IF(E6=\"\",\"\",I6*1200000+①団体情報入力!$C$3*1000+②選手情報入力!A15)","v":""},{"$f":"IF(E6=\"\",\"\",①団体情報入力!$C$3)","v":""},null,{"$f":"IF(E6=\"\",\"\",LEFT(②選手情報入力!B15,1))","v":""},{"$f":"IF(②選手情報入力!B15=\"\",\"\",RIGHT(②選手情報入力!B15,LEN(②選手情報入力!B15)-1))","v":""},{"$f":"IF(E6=\"\",\"\",②選手情報入力!C15)","v":""},{"$f":"IF(E6=\"\",\"\",②選手情報入力!D15)","v":""},"",{"$f":"IF(E6=\"\",\"\",IF(②選手情報入力!F15=\"男\",1,2))","v":""},{"$f":"IF(E6=\"\",\"\",IF(②選手情報入力!G15=\"\",\"\",②選手情報入力!G15))","v":""},null,"","",null,{"$f":"IF(E6=\"\",\"\",IF(②選手情報入力!I15=\"\",\"\",IF(I6=1,VLOOKUP(②選手情報入力!I15,種目情報!$A$4:$B$135,2,FALSE),VLOOKUP(②選手情報入力!I15,種目情報!$E$4:$F$135,2,FALSE))))","v":""},{"$f":"IF(E6=\"\",\"\",IF(②選手情報入力!J15=\"\",\"\",②選手情報入力!J15))","v":""},{"$f":"IF(E6=\"\",\"\",IF(②選手情報入力!H15=\"\",0,1))","v":""},{"$f":"IF(E6=\"\",\"\",IF(②選手情報入力!I15=\"\",\"\",IF(I6=1,VLOOKUP(②選手情報入力!I15,種目情報!$A$4:$C$39,3,FALSE),VLOOKUP(②選手情報入力!I15,種目情報!$E$4:$G$40,3,FALSE))))","v":""},{"$f":"IF(E6=\"\",\"\",IF(②選手情報入力!L15=\"\",\"\",IF(I6=1,VLOOKUP(②選手情報入力!L15,種目情報!$A$4:$B$39,2,FALSE),VLOOKUP(②選手情報入力!L15,種目情報!$E$4:$F$40,2,FALSE))))","v":""},{"$f":"IF(E6=\"\",\"\",IF(②選手情報入力!M15=\"\",\"\",②選手情報入力!M15))","v":""},{"$f":"IF(E6=\"\",\"\",IF(②選手情報入力!K15=\"\",0,1))","v":""},{"$f":"IF(E6=\"\",\"\",IF(②選手情報入力!L15=\"\",\"\",IF(I6=1,VLOOKUP(②選手情報入力!L15,種目情報!$A$4:$C$39,3,FALSE),VLOOKUP(②選手情報入力!L15,種目情報!$E$4:$G$40,3,FALSE))))","v":""},{"$f":"IF(E6=\"\",\"\",IF(②選手情報入力!O15=\"\",\"\",IF(I6=1,VLOOKUP(②選手情報入力!O15,種目情報!$A$4:$B$39,2,FALSE),VLOOKUP(②選手情報入力!O15,種目情報!$E$4:$F$40,2,FALSE))))","v":""},{"$f":"IF(E6=\"\",\"\",IF(②選手情報入力!P15=\"\",\"\",②選手情報入力!P15))","v":""},{"$f":"IF(E6=\"\",\"\",IF(②選手情報入力!N15=\"\",0,1))","v":""},{"$f":"IF(E6=\"\",\"\",IF(②選手情報入力!O15=\"\",\"\",IF(I6=1,VLOOKUP(②選手情報入力!O15,種目情報!$A$4:$C$39,3,FALSE),VLOOKUP(②選手情報入力!O15,種目情報!$E$4:$G$40,3,FALSE))))","v":""},{"$f":"IF(E6=\"\",\"\",IF(②選手情報入力!Q15=\"\",\"\",IF(I6=1,種目情報!$J$4,種目情報!$J$6)))","v":""},{"$f":"IF(E6=\"\",\"\",IF(②選手情報入力!Q15=\"\",\"\",IF(I6=1,IF(②選手情報入力!$R$6=\"\",\"\",②選手情報入力!$R$6),IF(②選手情報入力!$R$7=\"\",\"\",②選手情報入力!$R$7))))","v":""},{"$f":"IF(E6=\"\",\"\",IF(②選手情報入力!Q15=\"\",\"\",IF(I6=1,IF(②選手情報入力!$Q$6=\"\",0,1),IF(②選手情報入力!$Q$7=\"\",0,1))))","v":""},{"$f":"IF(E6=\"\",\"\",IF(②選手情報入力!Q15=\"\",\"\",2))","v":""},{"$f":"IF(E6=\"\",\"\",IF(②選手情報入力!S15=\"\",\"\",IF(I6=1,種目情報!$J$5,種目情報!$J$7)))","v":""},{"$f":"IF(E6=\"\",\"\",IF(②選手情報入力!S15=\"\",\"\",IF(I6=1,IF(②選手情報入力!$T$6=\"\",\"\",②選手情報入力!$T$6),IF(②選手情報入力!$T$7=\"\",\"\",②選手情報入力!$T$7))))","v":""},{"$f":"IF(E6=\"\",\"\",IF(②選手情報入力!S15=\"\",\"\",IF(I6=1,IF(②選手情報入力!$S$6=\"\",0,1),IF(②選手情報入力!$S$7=\"\",0,1))))","v":""},{"$f":"IF(E6=\"\",\"\",IF(②選手情報入力!S15=\"\",\"\",2))","v":""}]
[{"$f":"IF(E7=\"\",\"\",I7*1200000+①団体情報入力!$C$3*1000+②選手情報入力!A16)","v":""},{"$f":"IF(E7=\"\",\"\",①団体情報入力!$C$3)","v":""},null,{"$f":"IF(E7=\"\",\"\",LEFT(②選手情報入力!B16,1))","v":""},{"$f":"IF(②選手情報入力!B16=\"\",\"\",RIGHT(②選手情報入力!B16,LEN(②選手情報入力!B16)-1))","v":""},{"$f":"IF(E7=\"\",\"\",②選手情報入力!C16)","v":""},{"$f":"IF(E7=\"\",\"\",②選手情報入力!D16)","v":""},"",{"$f":"IF(E7=\"\",\"\",IF(②選手情報入力!F16=\"男\",1,2))","v":""},{"$f":"IF(E7=\"\",\"\",IF(②選手情報入力!G16=\"\",\"\",②選手情報入力!G16))","v":""},null,"","",null,{"$f":"IF(E7=\"\",\"\",IF(②選手情報入力!I16=\"\",\"\",IF(I7=1,VLOOKUP(②選手情報入力!I16,種目情報!$A$4:$B$135,2,FALSE),VLOOKUP(②選手情報入力!I16,種目情報!$E$4:$F$135,2,FALSE))))","v":""},{"$f":"IF(E7=\"\",\"\",IF(②選手情報入力!J16=\"\",\"\",②選手情報入力!J16))","v":""},{"$f":"IF(E7=\"\",\"\",IF(②選手情報入力!H16=\"\",0,1))","v":""},{"$f":"IF(E7=\"\",\"\",IF(②選手情報入力!I16=\"\",\"\",IF(I7=1,VLOOKUP(②選手情報入力!I16,種目情報!$A$4:$C$39,3,FALSE),VLOOKUP(②選手情報入力!I16,種目情報!$E$4:$G$40,3,FALSE))))","v":""},{"$f":"IF(E7=\"\",\"\",IF(②選手情報入力!L16=\"\",\"\",IF(I7=1,VLOOKUP(②選手情報入力!L16,種目情報!$A$4:$B$39,2,FALSE),VLOOKUP(②選手情報入力!L16,種目情報!$E$4:$F$40,2,FALSE))))","v":""},{"$f":"IF(E7=\"\",\"\",IF(②選手情報入力!M16=\"\",\"\",②選手情報入力!M16))","v":""},{"$f":"IF(E7=\"\",\"\",IF(②選手情報入力!K16=\"\",0,1))","v":""},{"$f":"IF(E7=\"\",\"\",IF(②選手情報入力!L16=\"\",\"\",IF(I7=1,VLOOKUP(②選手情報入力!L16,種目情報!$A$4:$C$39,3,FALSE),VLOOKUP(②選手情報入力!L16,種目情報!$E$4:$G$40,3,FALSE))))","v":""},{"$f":"IF(E7=\"\",\"\",IF(②選手情報入力!O16=\"\",\"\",IF(I7=1,VLOOKUP(②選手情報入力!O16,種目情報!$A$4:$B$39,2,FALSE),VLOOKUP(②選手情報入力!O16,種目情報!$E$4:$F$40,2,FALSE))))","v":""},{"$f":"IF(E7=\"\",\"\",IF(②選手情報入力!P16=\"\",\"\",②選手情報入力!P16))","v":""},{"$f":"IF(E7=\"\",\"\",IF(②選手情報入力!N16=\"\",0,1))","v":""},{"$f":"IF(E7=\"\",\"\",IF(②選手情報入力!O16=\"\",\"\",IF(I7=1,VLOOKUP(②選手情報入力!O16,種目情報!$A$4:$C$39,3,FALSE),VLOOKUP(②選手情報入力!O16,種目情報!$E$4:$G$40,3,FALSE))))","v":""},{"$f":"IF(E7=\"\",\"\",IF(②選手情報入力!Q16=\"\",\"\",IF(I7=1,種目情報!$J$4,種目情報!$J$6)))","v":""},{"$f":"IF(E7=\"\",\"\",IF(②選手情報入力!Q16=\"\",\"\",IF(I7=1,IF(②選手情報入力!$R$6=\"\",\"\",②選手情報入力!$R$6),IF(②選手情報入力!$R$7=\"\",\"\",②選手情報入力!$R$7))))","v":""},{"$f":"IF(E7=\"\",\"\",IF(②選手情報入力!Q16=\"\",\"\",IF(I7=1,IF(②選手情報入力!$Q$6=\"\",0,1),IF(②選手情報入力!$Q$7=\"\",0,1))))","v":""},{"$f":"IF(E7=\"\",\"\",IF(②選手情報入力!Q16=\"\",\"\",2))","v":""},{"$f":"IF(E7=\"\",\"\",IF(②選手情報入力!S16=\"\",\"\",IF(I7=1,種目情報!$J$5,種目情報!$J$7)))","v":""},{"$f":"IF(E7=\"\",\"\",IF(②選手情報入力!S16=\"\",\"\",IF(I7=1,IF(②選手情報入力!$T$6=\"\",\"\",②選手情報入力!$T$6),IF(②選手情報入力!$T$7=\"\",\"\",②選手情報入力!$T$7))))","v":""},{"$f":"IF(E7=\"\",\"\",IF(②選手情報入力!S16=\"\",\"\",IF(I7=1,IF(②選手情報入力!$S$6=\"\",0,1),IF(②選手情報入力!$S$7=\"\",0,1))))","v":""},{"$f":"IF(E7=\"\",\"\",IF(②選手情報入力!S16=\"\",\"\",2))","v":""}]
[{"$f":"IF(E8=\"\",\"\",I8*1200000+①団体情報入力!$C$3*1000+②選手情報入力!A17)","v":""},{"$f":"IF(E8=\"\",\"\",①団体情報入力!$C$3)","v":""},null,{"$f":"IF(E8=\"\",\"\",LEFT(②選手情報入力!B17,1))","v":""},{"$f":"IF(②選手情報入力!B17=\"\",\"\",RIGHT(②選手情報入力!B17,LEN(②選手情報入力!B17)-1))","v":""},{"$f":"IF(E8=\"\",\"\",②選手情報入力!C17)","v":""},{"$f":"IF(E8=\"\",\"\",②選手情報入力!D17)","v":""},"",{"$f":"IF(E8=\"\",\"\",IF(②選手情報入力!F17=\"男\",1,2))","v":""},{"$f":"IF(E8=\"\",\"\",IF(②選手情報入力!G17=\"\",\"\",②選手情報入力!G17))","v":""},null,"","",null,{"$f":"IF(E8=\"\",\"\",IF(②選手情報入力!I17=\"\",\"\",IF(I8=1,VLOOKUP(②選手情報入力!I17,種目情報!$A$4:$B$135,2,FALSE),VLOOKUP(②選手情報入力!I17,種目情報!$E$4:$F$135,2,FALSE))))","v":""},{"$f":"IF(E8=\"\",\"\",IF(②選手情報入力!J17=\"\",\"\",②選手情報入力!J17))","v":""},{"$f":"IF(E8=\"\",\"\",IF(②選手情報入力!H17=\"\",0,1))","v":""},{"$f":"IF(E8=\"\",\"\",IF(②選手情報入力!I17=\"\",\"\",IF(I8=1,VLOOKUP(②選手情報入力!I17,種目情報!$A$4:$C$39,3,FALSE),VLOOKUP(②選手情報入力!I17,種目情報!$E$4:$G$40,3,FALSE))))","v":""},{"$f":"IF(E8=\"\",\"\",IF(②選手情報入力!L17=\"\",\"\",IF(I8=1,VLOOKUP(②選手情報入力!L17,種目情報!$A$4:$B$39,2,FALSE),VLOOKUP(②選手情報入力!L17,種目情報!$E$4:$F$40,2,FALSE))))","v":""},{"$f":"IF(E8=\"\",\"\",IF(②選手情報入力!M17=\"\",\"\",②選手情報入力!M17))","v":""},{"$f":"IF(E8=\"\",\"\",IF(②選手情報入力!K17=\"\",0,1))","v":""},{"$f":"IF(E8=\"\",\"\",IF(②選手情報入力!L17=\"\",\"\",IF(I8=1,VLOOKUP(②選手情報入力!L17,種目情報!$A$4:$C$39,3,FALSE),VLOOKUP(②選手情報入力!L17,種目情報!$E$4:$G$40,3,FALSE))))","v":""},{"$f":"IF(E8=\"\",\"\",IF(②選手情報入力!O17=\"\",\"\",IF(I8=1,VLOOKUP(②選手情報入力!O17,種目情報!$A$4:$B$39,2,FALSE),VLOOKUP(②選手情報入力!O17,種目情報!$E$4:$F$40,2,FALSE))))","v":""},{"$f":"IF(E8=\"\",\"\",IF(②選手情報入力!P17=\"\",\"\",②選手情報入力!P17))","v":""},{"$f":"IF(E8=\"\",\"\",IF(②選手情報入力!N17=\"\",0,1))","v":""},{"$f":"IF(E8=\"\",\"\",IF(②選手情報入力!O17=\"\",\"\",IF(I8=1,VLOOKUP(②選手情報入力!O17,種目情報!$A$4:$C$39,3,FALSE),VLOOKUP(②選手情報入力!O17,種目情報!$E$4:$G$40,3,FALSE))))","v":""},{"$f":"IF(E8=\"\",\"\",IF(②選手情報入力!Q17=\"\",\"\",IF(I8=1,種目情報!$J$4,種目情報!$J$6)))","v":""},{"$f":"IF(E8=\"\",\"\",IF(②選手情報入力!Q17=\"\",\"\",IF(I8=1,IF(②選手情報入力!$R$6=\"\",\"\",②選手情報入力!$R$6),IF(②選手情報入力!$R$7=\"\",\"\",②選手情報入力!$R$7))))","v":""},{"$f":"IF(E8=\"\",\"\",IF(②選手情報入力!Q17=\"\",\"\",IF(I8=1,IF(②選手情報入力!$Q$6=\"\",0,1),IF(②選手情報入力!$Q$7=\"\",0,1))))","v":""},{"$f":"IF(E8=\"\",\"\",IF(②選手情報入力!Q17=\"\",\"\",2))","v":""},{"$f":"IF(E8=\"\",\"\",IF(②選手情報入力!S17=\"\",\"\",IF(I8=1,種目情報!$J$5,種目情報!$J$7)))","v":""},{"$f":"IF(E8=\"\",\"\",IF(②選手情報入力!S17=\"\",\"\",IF(I8=1,IF(②選手情報入力!$T$6=\"\",\"\",②選手情報入力!$T$6),IF(②選手情報入力!$T$7=\"\",\"\",②選手情報入力!$T$7))))","v":""},{"$f":"IF(E8=\"\",\"\",IF(②選手情報入力!S17=\"\",\"\",IF(I8=1,IF(②選手情報入力!$S$6=\"\",0,1),IF(②選手情報入力!$S$7=\"\",0,1))))","v":""},{"$f":"IF(E8=\"\",\"\",IF(②選手情報入力!S17=\"\",\"\",2))","v":""}]
[{"$f":"IF(E9=\"\",\"\",I9*1200000+①団体情報入力!$C$3*1000+②選手情報入力!A18)","v":""},{"$f":"IF(E9=\"\",\"\",①団体情報入力!$C$3)","v":""},null,{"$f":"IF(E9=\"\",\"\",LEFT(②選手情報入力!B18,1))","v":""},{"$f":"IF(②選手情報入力!B18=\"\",\"\",RIGHT(②選手情報入力!B18,LEN(②選手情報入力!B18)-1))","v":""},{"$f":"IF(E9=\"\",\"\",②選手情報入力!C18)","v":""},{"$f":"IF(E9=\"\",\"\",②選手情報入力!D18)","v":""},"",{"$f":"IF(E9=\"\",\"\",IF(②選手情報入力!F18=\"男\",1,2))","v":""},{"$f":"IF(E9=\"\",\"\",IF(②選手情報入力!G18=\"\",\"\",②選手情報入力!G18))","v":""},null,"","",null,{"$f":"IF(E9=\"\",\"\",IF(②選手情報入力!I18=\"\",\"\",IF(I9=1,VLOOKUP(②選手情報入力!I18,種目情報!$A$4:$B$135,2,FALSE),VLOOKUP(②選手情報入力!I18,種目情報!$E$4:$F$135,2,FALSE))))","v":""},{"$f":"IF(E9=\"\",\"\",IF(②選手情報入力!J18=\"\",\"\",②選手情報入力!J18))","v":""},{"$f":"IF(E9=\"\",\"\",IF(②選手情報入力!H18=\"\",0,1))","v":""},{"$f":"IF(E9=\"\",\"\",IF(②選手情報入力!I18=\"\",\"\",IF(I9=1,VLOOKUP(②選手情報入力!I18,種目情報!$A$4:$C$39,3,FALSE),VLOOKUP(②選手情報入力!I18,種目情報!$E$4:$G$40,3,FALSE))))","v":""},{"$f":"IF(E9=\"\",\"\",IF(②選手情報入力!L18=\"\",\"\",IF(I9=1,VLOOKUP(②選手情報入力!L18,種目情報!$A$4:$B$39,2,FALSE),VLOOKUP(②選手情報入力!L18,種目情報!$E$4:$F$40,2,FALSE))))","v":""},{"$f":"IF(E9=\"\",\"\",IF(②選手情報入力!M18=\"\",\"\",②選手情報入力!M18))","v":""},{"$f":"IF(E9=\"\",\"\",IF(②選手情報入力!K18=\"\",0,1))","v":""},{"$f":"IF(E9=\"\",\"\",IF(②選手情報入力!L18=\"\",\"\",IF(I9=1,VLOOKUP(②選手情報入力!L18,種目情報!$A$4:$C$39,3,FALSE),VLOOKUP(②選手情報入力!L18,種目情報!$E$4:$G$40,3,FALSE))))","v":""},{"$f":"IF(E9=\"\",\"\",IF(②選手情報入力!O18=\"\",\"\",IF(I9=1,VLOOKUP(②選手情報入力!O18,種目情報!$A$4:$B$39,2,FALSE),VLOOKUP(②選手情報入力!O18,種目情報!$E$4:$F$40,2,FALSE))))","v":""},{"$f":"IF(E9=\"\",\"\",IF(②選手情報入力!P18=\"\",\"\",②選手情報入力!P18))","v":""},{"$f":"IF(E9=\"\",\"\",IF(②選手情報入力!N18=\"\",0,1))","v":""},{"$f":"IF(E9=\"\",\"\",IF(②選手情報入力!O18=\"\",\"\",IF(I9=1,VLOOKUP(②選手情報入力!O18,種目情報!$A$4:$C$39,3,FALSE),VLOOKUP(②選手情報入力!O18,種目情報!$E$4:$G$40,3,FALSE))))","v":""},{"$f":"IF(E9=\"\",\"\",IF(②選手情報入力!Q18=\"\",\"\",IF(I9=1,種目情報!$J$4,種目情報!$J$6)))","v":""},{"$f":"IF(E9=\"\",\"\",IF(②選手情報入力!Q18=\"\",\"\",IF(I9=1,IF(②選手情報入力!$R$6=\"\",\"\",②選手情報入力!$R$6),IF(②選手情報入力!$R$7=\"\",\"\",②選手情報入力!$R$7))))","v":""},{"$f":"IF(E9=\"\",\"\",IF(②選手情報入力!Q18=\"\",\"\",IF(I9=1,IF(②選手情報入力!$Q$6=\"\",0,1),IF(②選手情報入力!$Q$7=\"\",0,1))))","v":""},{"$f":"IF(E9=\"\",\"\",IF(②選手情報入力!Q18=\"\",\"\",2))","v":""},{"$f":"IF(E9=\"\",\"\",IF(②選手情報入力!S18=\"\",\"\",IF(I9=1,種目情報!$J$5,種目情報!$J$7)))","v":""},{"$f":"IF(E9=\"\",\"\",IF(②選手情報入力!S18=\"\",\"\",IF(I9=1,IF(②選手情報入力!$T$6=\"\",\"\",②選手情報入力!$T$6),IF(②選手情報入力!$T$7=\"\",\"\",②選手情報入力!$T$7))))","v":""},{"$f":"IF(E9=\"\",\"\",IF(②選手情報入力!S18=\"\",\"\",IF(I9=1,IF(②選手情報入力!$S$6=\"\",0,1),IF(②選手情報入力!$S$7=\"\",0,1))))","v":""},{"$f":"IF(E9=\"\",\"\",IF(②選手情報入力!S18=\"\",\"\",2))","v":""}]
[{"$f":"IF(E10=\"\",\"\",I10*1200000+①団体情報入力!$C$3*1000+②選手情報入力!A19)","v":""},{"$f":"IF(E10=\"\",\"\",①団体情報入力!$C$3)","v":""},null,{"$f":"IF(E10=\"\",\"\",LEFT(②選手情報入力!B19,1))","v":""},{"$f":"IF(②選手情報入力!B19=\"\",\"\",RIGHT(②選手情報入力!B19,LEN(②選手情報入力!B19)-1))","v":""},{"$f":"IF(E10=\"\",\"\",②選手情報入力!C19)","v":""},{"$f":"IF(E10=\"\",\"\",②選手情報入力!D19)","v":""},"",{"$f":"IF(E10=\"\",\"\",IF(②選手情報入力!F19=\"男\",1,2))","v":""},{"$f":"IF(E10=\"\",\"\",IF(②選手情報入力!G19=\"\",\"\",②選手情報入力!G19))","v":""},null,"","",null,{"$f":"IF(E10=\"\",\"\",IF(②選手情報入力!I19=\"\",\"\",IF(I10=1,VLOOKUP(②選手情報入力!I19,種目情報!$A$4:$B$135,2,FALSE),VLOOKUP(②選手情報入力!I19,種目情報!$E$4:$F$135,2,FALSE))))","v":""},{"$f":"IF(E10=\"\",\"\",IF(②選手情報入力!J19=\"\",\"\",②選手情報入力!J19))","v":""},{"$f":"IF(E10=\"\",\"\",IF(②選手情報入力!H19=\"\",0,1))","v":""},{"$f":"IF(E10=\"\",\"\",IF(②選手情報入力!I19=\"\",\"\",IF(I10=1,VLOOKUP(②選手情報入力!I19,種目情報!$A$4:$C$39,3,FALSE),VLOOKUP(②選手情報入力!I19,種目情報!$E$4:$G$40,3,FALSE))))","v":""},{"$f":"IF(E10=\"\",\"\",IF(②選手情報入力!L19=\"\",\"\",IF(I10=1,VLOOKUP(②選手情報入力!L19,種目情報!$A$4:$B$39,2,FALSE),VLOOKUP(②選手情報入力!L19,種目情報!$E$4:$F$40,2,FALSE))))","v":""},{"$f":"IF(E10=\"\",\"\",IF(②選手情報入力!M19=\"\",\"\",②選手情報入力!M19))","v":""},{"$f":"IF(E10=\"\",\"\",IF(②選手情報入力!K19=\"\",0,1))","v":""},{"$f":"IF(E10=\"\",\"\",IF(②選手情報入力!L19=\"\",\"\",IF(I10=1,VLOOKUP(②選手情報入力!L19,種目情報!$A$4:$C$39,3,FALSE),VLOOKUP(②選手情報入力!L19,種目情報!$E$4:$G$40,3,FALSE))))","v":""},{"$f":"IF(E10=\"\",\"\",IF(②選手情報入力!O19=\"\",\"\",IF(I10=1,VLOOKUP(②選手情報入力!O19,種目情報!$A$4:$B$39,2,FALSE),VLOOKUP(②選手情報入力!O19,種目情報!$E$4:$F$40,2,FALSE))))","v":""},{"$f":"IF(E10=\"\",\"\",IF(②選手情報入力!P19=\"\",\"\",②選手情報入力!P19))","v":""},{"$f":"IF(E10=\"\",\"\",IF(②選手情報入力!N19=\"\",0,1))","v":""},{"$f":"IF(E10=\"\",\"\",IF(②選手情報入力!O19=\"\",\"\",IF(I10=1,VLOOKUP(②選手情報入力!O19,種目情報!$A$4:$C$39,3,FALSE),VLOOKUP(②選手情報入力!O19,種目情報!$E$4:$G$40,3,FALSE))))","v":""},{"$f":"IF(E10=\"\",\"\",IF(②選手情報入力!Q19=\"\",\"\",IF(I10=1,種目情報!$J$4,種目情報!$J$6)))","v":""},{"$f":"IF(E10=\"\",\"\",IF(②選手情報入力!Q19=\"\",\"\",IF(I10=1,IF(②選手情報入力!$R$6=\"\",\"\",②選手情報入力!$R$6),IF(②選手情報入力!$R$7=\"\",\"\",②選手情報入力!$R$7))))","v":""},{"$f":"IF(E10=\"\",\"\",IF(②選手情報入力!Q19=\"\",\"\",IF(I10=1,IF(②選手情報入力!$Q$6=\"\",0,1),IF(②選手情報入力!$Q$7=\"\",0,1))))","v":""},{"$f":"IF(E10=\"\",\"\",IF(②選手情報入力!Q19=\"\",\"\",2))","v":""},{"$f":"IF(E10=\"\",\"\",IF(②選手情報入力!S19=\"\",\"\",IF(I10=1,種目情報!$J$5,種目情報!$J$7)))","v":""},{"$f":"IF(E10=\"\",\"\",IF(②選手情報入力!S19=\"\",\"\",IF(I10=1,IF(②選手情報入力!$T$6=\"\",\"\",②選手情報入力!$T$6),IF(②選手情報入力!$T$7=\"\",\"\",②選手情報入力!$T$7))))","v":""},{"$f":"IF(E10=\"\",\"\",IF(②選手情報入力!S19=\"\",\"\",IF(I10=1,IF(②選手情報入力!$S$6=\"\",0,1),IF(②選手情報入力!$S$7=\"\",0,1))))","v":""},{"$f":"IF(E10=\"\",\"\",IF(②選手情報入力!S19=\"\",\"\",2))","v":""}]
[{"$f":"IF(E11=\"\",\"\",I11*1200000+①団体情報入力!$C$3*1000+②選手情報入力!A20)","v":""},{"$f":"IF(E11=\"\",\"\",①団体情報入力!$C$3)","v":""},null,{"$f":"IF(E11=\"\",\"\",LEFT(②選手情報入力!B20,1))","v":""},{"$f":"IF(②選手情報入力!B20=\"\",\"\",RIGHT(②選手情報入力!B20,LEN(②選手情報入力!B20)-1))","v":""},{"$f":"IF(E11=\"\",\"\",②選手情報入力!C20)","v":""},{"$f":"IF(E11=\"\",\"\",②選手情報入力!D20)","v":""},{"$f":"IF(E11=\"\",\"\",F11)","v":""},{"$f":"IF(E11=\"\",\"\",IF(②選手情報入力!F20=\"男\",1,2))","v":""},{"$f":"IF(E11=\"\",\"\",IF(②選手情報入力!G20=\"\",\"\",②選手情報入力!G20))","v":""},null,{"$f":"IF(E11=\"\",\"\",0)","v":""},{"$f":"IF(E11=\"\",\"\",\"愛知\")","v":""},null,{"$f":"IF(E11=\"\",\"\",IF(②選手情報入力!I20=\"\",\"\",IF(I11=1,VLOOKUP(②選手情報入力!I20,種目情報!$A$4:$B$135,2,FALSE),VLOOKUP(②選手情報入力!I20,種目情報!$E$4:$F$135,2,FALSE))))","v":""},{"$f":"IF(E11=\"\",\"\",IF(②選手情報入力!J20=\"\",\"\",②選手情報入力!J20))","v":""},{"$f":"IF(E11=\"\",\"\",IF(②選手情報入力!H20=\"\",0,1))","v":""},{"$f":"IF(E11=\"\",\"\",IF(②選手情報入力!I20=\"\",\"\",IF(I11=1,VLOOKUP(②選手情報入力!I20,種目情報!$A$4:$C$39,3,FALSE),VLOOKUP(②選手情報入力!I20,種目情報!$E$4:$G$40,3,FALSE))))","v":""},{"$f":"IF(E11=\"\",\"\",IF(②選手情報入力!L20=\"\",\"\",IF(I11=1,VLOOKUP(②選手情報入力!L20,種目情報!$A$4:$B$39,2,FALSE),VLOOKUP(②選手情報入力!L20,種目情報!$E$4:$F$40,2,FALSE))))","v":""},{"$f":"IF(E11=\"\",\"\",IF(②選手情報入力!M20=\"\",\"\",②選手情報入力!M20))","v":""},{"$f":"IF(E11=\"\",\"\",IF(②選手情報入力!K20=\"\",0,1))","v":""},{"$f":"IF(E11=\"\",\"\",IF(②選手情報入力!L20=\"\",\"\",IF(I11=1,VLOOKUP(②選手情報入力!L20,種目情報!$A$4:$C$39,3,FALSE),VLOOKUP(②選手情報入力!L20,種目情報!$E$4:$G$40,3,FALSE))))","v":""},{"$f":"IF(E11=\"\",\"\",IF(②選手情報入力!O20=\"\",\"\",IF(I11=1,VLOOKUP(②選手情報入力!O20,種目情報!$A$4:$B$39,2,FALSE),VLOOKUP(②選手情報入力!O20,種目情報!$E$4:$F$40,2,FALSE))))","v":""},{"$f":"IF(E11=\"\",\"\",IF(②選手情報入力!P20=\"\",\"\",②選手情報入力!P20))","v":""},{"$f":"IF(E11=\"\",\"\",IF(②選手情報入力!N20=\"\",0,1))","v":""},{"$f":"IF(E11=\"\",\"\",IF(②選手情報入力!O20=\"\",\"\",IF(I11=1,VLOOKUP(②選手情報入力!O20,種目情報!$A$4:$C$39,3,FALSE),VLOOKUP(②選手情報入力!O20,種目情報!$E$4:$G$40,3,FALSE))))","v":""},{"$f":"IF(E11=\"\",\"\",IF(②選手情報入力!Q20=\"\",\"\",IF(I11=1,種目情報!$J$4,種目情報!$J$6)))","v":""},{"$f":"IF(E11=\"\",\"\",IF(②選手情報入力!Q20=\"\",\"\",IF(I11=1,IF(②選手情報入力!$R$6=\"\",\"\",②選手情報入力!$R$6),IF(②選手情報入力!$R$7=\"\",\"\",②選手情報入力!$R$7))))","v":""},{"$f":"IF(E11=\"\",\"\",IF(②選手情報入力!Q20=\"\",\"\",IF(I11=1,IF(②選手情報入力!$Q$6=\"\",0,1),IF(②選手情報入力!$Q$7=\"\",0,1))))","v":""},{"$f":"IF(E11=\"\",\"\",IF(②選手情報入力!Q20=\"\",\"\",2))","v":""},{"$f":"IF(E11=\"\",\"\",IF(②選手情報入力!S20=\"\",\"\",IF(I11=1,種目情報!$J$5,種目情報!$J$7)))","v":""},{"$f":"IF(E11=\"\",\"\",IF(②選手情報入力!S20=\"\",\"\",IF(I11=1,IF(②選手情報入力!$T$6=\"\",\"\",②選手情報入力!$T$6),IF(②選手情報入力!$T$7=\"\",\"\",②選手情報入力!$T$7))))","v":""},{"$f":"IF(E11=\"\",\"\",IF(②選手情報入力!S20=\"\",\"\",IF(I11=1,IF(②選手情報入力!$S$6=\"\",0,1),IF(②選手情報入力!$S$7=\"\",0,1))))","v":""},{"$f":"IF(E11=\"\",\"\",IF(②選手情報入力!S20=\"\",\"\",2))","v":""}]
[{"$f":"IF(E12=\"\",\"\",I12*1200000+①団体情報入力!$C$3*1000+②選手情報入力!A21)","v":""},{"$f":"IF(E12=\"\",\"\",①団体情報入力!$C$3)","v":""},null,{"$f":"IF(E12=\"\",\"\",LEFT(②選手情報入力!B21,1))","v":""},{"$f":"IF(②選手情報入力!B21=\"\",\"\",RIGHT(②選手情報入力!B21,LEN(②選手情報入力!B21)-1))","v":""},{"$f":"IF(E12=\"\",\"\",②選手情報入力!C21)","v":""},{"$f":"IF(E12=\"\",\"\",②選手情報入力!D21)","v":""},"",{"$f":"IF(E12=\"\",\"\",IF(②選手情報入力!F21=\"男\",1,2))","v":""},{"$f":"IF(E12=\"\",\"\",IF(②選手情報入力!G21=\"\",\"\",②選手情報入力!G21))","v":""},null,"","",null,{"$f":"IF(E12=\"\",\"\",IF(②選手情報入力!I21=\"\",\"\",IF(I12=1,VLOOKUP(②選手情報入力!I21,種目情報!$A$4:$B$135,2,FALSE),VLOOKUP(②選手情報入力!I21,種目情報!$E$4:$F$135,2,FALSE))))","v":""},{"$f":"IF(E12=\"\",\"\",IF(②選手情報入力!J21=\"\",\"\",②選手情報入力!J21))","v":""},{"$f":"IF(E12=\"\",\"\",IF(②選手情報入力!H21=\"\",0,1))","v":""},{"$f":"IF(E12=\"\",\"\",IF(②選手情報入力!I21=\"\",\"\",IF(I12=1,VLOOKUP(②選手情報入力!I21,種目情報!$A$4:$C$39,3,FALSE),VLOOKUP(②選手情報入力!I21,種目情報!$E$4:$G$40,3,FALSE))))","v":""},{"$f":"IF(E12=\"\",\"\",IF(②選手情報入力!L21=\"\",\"\",IF(I12=1,VLOOKUP(②選手情報入力!L21,種目情報!$A$4:$B$39,2,FALSE),VLOOKUP(②選手情報入力!L21,種目情報!$E$4:$F$40,2,FALSE))))","v":""},{"$f":"IF(E12=\"\",\"\",IF(②選手情報入力!M21=\"\",\"\",②選手情報入力!M21))","v":""},{"$f":"IF(E12=\"\",\"\",IF(②選手情報入力!K21=\"\",0,1))","v":""},{"$f":"IF(E12=\"\",\"\",IF(②選手情報入力!L21=\"\",\"\",IF(I12=1,VLOOKUP(②選手情報入力!L21,種目情報!$A$4:$C$39,3,FALSE),VLOOKUP(②選手情報入力!L21,種目情報!$E$4:$G$40,3,FALSE))))","v":""},{"$f":"IF(E12=\"\",\"\",IF(②選手情報入力!O21=\"\",\"\",IF(I12=1,VLOOKUP(②選手情報入力!O21,種目情報!$A$4:$B$39,2,FALSE),VLOOKUP(②選手情報入力!O21,種目情報!$E$4:$F$40,2,FALSE))))","v":""},{"$f":"IF(E12=\"\",\"\",IF(②選手情報入力!P21=\"\",\"\",②選手情報入力!P21))","v":""},{"$f":"IF(E12=\"\",\"\",IF(②選手情報入力!N21=\"\",0,1))","v":""},{"$f":"IF(E12=\"\",\"\",IF(②選手情報入力!O21=\"\",\"\",IF(I12=1,VLOOKUP(②選手情報入力!O21,種目情報!$A$4:$C$39,3,FALSE),VLOOKUP(②選手情報入力!O21,種目情報!$E$4:$G$40,3,FALSE))))","v":""},{"$f":"IF(E12=\"\",\"\",IF(②選手情報入力!Q21=\"\",\"\",IF(I12=1,種目情報!$J$4,種目情報!$J$6)))","v":""},{"$f":"IF(E12=\"\",\"\",IF(②選手情報入力!Q21=\"\",\"\",IF(I12=1,IF(②選手情報入力!$R$6=\"\",\"\",②選手情報入力!$R$6),IF(②選手情報入力!$R$7=\"\",\"\",②選手情報入力!$R$7))))","v":""},{"$f":"IF(E12=\"\",\"\",IF(②選手情報入力!Q21=\"\",\"\",IF(I12=1,IF(②選手情報入力!$Q$6=\"\",0,1),IF(②選手情報入力!$Q$7=\"\",0,1))))","v":""},{"$f":"IF(E12=\"\",\"\",IF(②選手情報入力!Q21=\"\",\"\",2))","v":""},{"$f":"IF(E12=\"\",\"\",IF(②選手情報入力!S21=\"\",\"\",IF(I12=1,種目情報!$J$5,種目情報!$J$7)))","v":""},{"$f":"IF(E12=\"\",\"\",IF(②選手情報入力!S21=\"\",\"\",IF(I12=1,IF(②選手情報入力!$T$6=\"\",\"\",②選手情報入力!$T$6),IF(②選手情報入力!$T$7=\"\",\"\",②選手情報入力!$T$7))))","v":""},{"$f":"IF(E12=\"\",\"\",IF(②選手情報入力!S21=\"\",\"\",IF(I12=1,IF(②選手情報入力!$S$6=\"\",0,1),IF(②選手情報入力!$S$7=\"\",0,1))))","v":""},{"$f":"IF(E12=\"\",\"\",IF(②選手情報入力!S21=\"\",\"\",2))","v":""}]
[{"$f":"IF(E13=\"\",\"\",I13*1200000+①団体情報入力!$C$3*1000+②選手情報入力!A22)","v":""},{"$f":"IF(E13=\"\",\"\",①団体情報入力!$C$3)","v":""},null,{"$f":"IF(E13=\"\",\"\",LEFT(②選手情報入力!B22,1))","v":""},{"$f":"IF(②選手情報入力!B22=\"\",\"\",RIGHT(②選手情報入力!B22,LEN(②選手情報入力!B22)-1))","v":""},{"$f":"IF(E13=\"\",\"\",②選手情報入力!C22)","v":""},{"$f":"IF(E13=\"\",\"\",②選手情報入力!D22)","v":""},"",{"$f":"IF(E13=\"\",\"\",IF(②選手情報入力!F22=\"男\",1,2))","v":""},{"$f":"IF(E13=\"\",\"\",IF(②選手情報入力!G22=\"\",\"\",②選手情報入力!G22))","v":""},null,"","",null,{"$f":"IF(E13=\"\",\"\",IF(②選手情報入力!I22=\"\",\"\",IF(I13=1,VLOOKUP(②選手情報入力!I22,種目情報!$A$4:$B$135,2,FALSE),VLOOKUP(②選手情報入力!I22,種目情報!$E$4:$F$135,2,FALSE))))","v":""},{"$f":"IF(E13=\"\",\"\",IF(②選手情報入力!J22=\"\",\"\",②選手情報入力!J22))","v":""},{"$f":"IF(E13=\"\",\"\",IF(②選手情報入力!H22=\"\",0,1))","v":""},{"$f":"IF(E13=\"\",\"\",IF(②選手情報入力!I22=\"\",\"\",IF(I13=1,VLOOKUP(②選手情報入力!I22,種目情報!$A$4:$C$39,3,FALSE),VLOOKUP(②選手情報入力!I22,種目情報!$E$4:$G$40,3,FALSE))))","v":""},{"$f":"IF(E13=\"\",\"\",IF(②選手情報入力!L22=\"\",\"\",IF(I13=1,VLOOKUP(②選手情報入力!L22,種目情報!$A$4:$B$39,2,FALSE),VLOOKUP(②選手情報入力!L22,種目情報!$E$4:$F$40,2,FALSE))))","v":""},{"$f":"IF(E13=\"\",\"\",IF(②選手情報入力!M22=\"\",\"\",②選手情報入力!M22))","v":""},{"$f":"IF(E13=\"\",\"\",IF(②選手情報入力!K22=\"\",0,1))","v":""},{"$f":"IF(E13=\"\",\"\",IF(②選手情報入力!L22=\"\",\"\",IF(I13=1,VLOOKUP(②選手情報入力!L22,種目情報!$A$4:$C$39,3,FALSE),VLOOKUP(②選手情報入力!L22,種目情報!$E$4:$G$40,3,FALSE))))","v":""},{"$f":"IF(E13=\"\",\"\",IF(②選手情報入力!O22=\"\",\"\",IF(I13=1,VLOOKUP(②選手情報入力!O22,種目情報!$A$4:$B$39,2,FALSE),VLOOKUP(②選手情報入力!O22,種目情報!$E$4:$F$40,2,FALSE))))","v":""},{"$f":"IF(E13=\"\",\"\",IF(②選手情報入力!P22=\"\",\"\",②選手情報入力!P22))","v":""},{"$f":"IF(E13=\"\",\"\",IF(②選手情報入力!N22=\"\",0,1))","v":""},{"$f":"IF(E13=\"\",\"\",IF(②選手情報入力!O22=\"\",\"\",IF(I13=1,VLOOKUP(②選手情報入力!O22,種目情報!$A$4:$C$39,3,FALSE),VLOOKUP(②選手情報入力!O22,種目情報!$E$4:$G$40,3,FALSE))))","v":""},{"$f":"IF(E13=\"\",\"\",IF(②選手情報入力!Q22=\"\",\"\",IF(I13=1,種目情報!$J$4,種目情報!$J$6)))","v":""},{"$f":"IF(E13=\"\",\"\",IF(②選手情報入力!Q22=\"\",\"\",IF(I13=1,IF(②選手情報入力!$R$6=\"\",\"\",②選手情報入力!$R$6),IF(②選手情報入力!$R$7=\"\",\"\",②選手情報入力!$R$7))))","v":""},{"$f":"IF(E13=\"\",\"\",IF(②選手情報入力!Q22=\"\",\"\",IF(I13=1,IF(②選手情報入力!$Q$6=\"\",0,1),IF(②選手情報入力!$Q$7=\"\",0,1))))","v":""},{"$f":"IF(E13=\"\",\"\",IF(②選手情報入力!Q22=\"\",\"\",2))","v":""},{"$f":"IF(E13=\"\",\"\",IF(②選手情報入力!S22=\"\",\"\",IF(I13=1,種目情報!$J$5,種目情報!$J$7)))","v":""},{"$f":"IF(E13=\"\",\"\",IF(②選手情報入力!S22=\"\",\"\",IF(I13=1,IF(②選手情報入力!$T$6=\"\",\"\",②選手情報入力!$T$6),IF(②選手情報入力!$T$7=\"\",\"\",②選手情報入力!$T$7))))","v":""},{"$f":"IF(E13=\"\",\"\",IF(②選手情報入力!S22=\"\",\"\",IF(I13=1,IF(②選手情報入力!$S$6=\"\",0,1),IF(②選手情報入力!$S$7=\"\",0,1))))","v":""},{"$f":"IF(E13=\"\",\"\",IF(②選手情報入力!S22=\"\",\"\",2))","v":""}]
[{"$f":"IF(E14=\"\",\"\",I14*1200000+①団体情報入力!$C$3*1000+②選手情報入力!A23)","v":""},{"$f":"IF(E14=\"\",\"\",①団体情報入力!$C$3)","v":""},null,{"$f":"IF(E14=\"\",\"\",LEFT(②選手情報入力!B23,1))","v":""},{"$f":"IF(②選手情報入力!B23=\"\",\"\",RIGHT(②選手情報入力!B23,LEN(②選手情報入力!B23)-1))","v":""},{"$f":"IF(E14=\"\",\"\",②選手情報入力!C23)","v":""},{"$f":"IF(E14=\"\",\"\",②選手情報入力!D23)","v":""},"",{"$f":"IF(E14=\"\",\"\",IF(②選手情報入力!F23=\"男\",1,2))","v":""},{"$f":"IF(E14=\"\",\"\",IF(②選手情報入力!G23=\"\",\"\",②選手情報入力!G23))","v":""},null,"","",null,{"$f":"IF(E14=\"\",\"\",IF(②選手情報入力!I23=\"\",\"\",IF(I14=1,VLOOKUP(②選手情報入力!I23,種目情報!$A$4:$B$135,2,FALSE),VLOOKUP(②選手情報入力!I23,種目情報!$E$4:$F$135,2,FALSE))))","v":""},{"$f":"IF(E14=\"\",\"\",IF(②選手情報入力!J23=\"\",\"\",②選手情報入力!J23))","v":""},{"$f":"IF(E14=\"\",\"\",IF(②選手情報入力!H23=\"\",0,1))","v":""},{"$f":"IF(E14=\"\",\"\",IF(②選手情報入力!I23=\"\",\"\",IF(I14=1,VLOOKUP(②選手情報入力!I23,種目情報!$A$4:$C$39,3,FALSE),VLOOKUP(②選手情報入力!I23,種目情報!$E$4:$G$40,3,FALSE))))","v":""},{"$f":"IF(E14=\"\",\"\",IF(②選手情報入力!L23=\"\",\"\",IF(I14=1,VLOOKUP(②選手情報入力!L23,種目情報!$A$4:$B$39,2,FALSE),VLOOKUP(②選手情報入力!L23,種目情報!$E$4:$F$40,2,FALSE))))","v":""},{"$f":"IF(E14=\"\",\"\",IF(②選手情報入力!M23=\"\",\"\",②選手情報入力!M23))","v":""},{"$f":"IF(E14=\"\",\"\",IF(②選手情報入力!K23=\"\",0,1))","v":""},{"$f":"IF(E14=\"\",\"\",IF(②選手情報入力!L23=\"\",\"\",IF(I14=1,VLOOKUP(②選手情報入力!L23,種目情報!$A$4:$C$39,3,FALSE),VLOOKUP(②選手情報入力!L23,種目情報!$E$4:$G$40,3,FALSE))))","v":""},{"$f":"IF(E14=\"\",\"\",IF(②選手情報入力!O23=\"\",\"\",IF(I14=1,VLOOKUP(②選手情報入力!O23,種目情報!$A$4:$B$39,2,FALSE),VLOOKUP(②選手情報入力!O23,種目情報!$E$4:$F$40,2,FALSE))))","v":""},{"$f":"IF(E14=\"\",\"\",IF(②選手情報入力!P23=\"\",\"\",②選手情報入力!P23))","v":""},{"$f":"IF(E14=\"\",\"\",IF(②選手情報入力!N23=\"\",0,1))","v":""},{"$f":"IF(E14=\"\",\"\",IF(②選手情報入力!O23=\"\",\"\",IF(I14=1,VLOOKUP(②選手情報入力!O23,種目情報!$A$4:$C$39,3,FALSE),VLOOKUP(②選手情報入力!O23,種目情報!$E$4:$G$40,3,FALSE))))","v":""},{"$f":"IF(E14=\"\",\"\",IF(②選手情報入力!Q23=\"\",\"\",IF(I14=1,種目情報!$J$4,種目情報!$J$6)))","v":""},{"$f":"IF(E14=\"\",\"\",IF(②選手情報入力!Q23=\"\",\"\",IF(I14=1,IF(②選手情報入力!$R$6=\"\",\"\",②選手情報入力!$R$6),IF(②選手情報入力!$R$7=\"\",\"\",②選手情報入力!$R$7))))","v":""},{"$f":"IF(E14=\"\",\"\",IF(②選手情報入力!Q23=\"\",\"\",IF(I14=1,IF(②選手情報入力!$Q$6=\"\",0,1),IF(②選手情報入力!$Q$7=\"\",0,1))))","v":""},{"$f":"IF(E14=\"\",\"\",IF(②選手情報入力!Q23=\"\",\"\",2))","v":""},{"$f":"IF(E14=\"\",\"\",IF(②選手情報入力!S23=\"\",\"\",IF(I14=1,種目情報!$J$5,種目情報!$J$7)))","v":""},{"$f":"IF(E14=\"\",\"\",IF(②選手情報入力!S23=\"\",\"\",IF(I14=1,IF(②選手情報入力!$T$6=\"\",\"\",②選手情報入力!$T$6),IF(②選手情報入力!$T$7=\"\",\"\",②選手情報入力!$T$7))))","v":""},{"$f":"IF(E14=\"\",\"\",IF(②選手情報入力!S23=\"\",\"\",IF(I14=1,IF(②選手情報入力!$S$6=\"\",0,1),IF(②選手情報入力!$S$7=\"\",0,1))))","v":""},{"$f":"IF(E14=\"\",\"\",IF(②選手情報入力!S23=\"\",\"\",2))","v":""}]
[{"$f":"IF(E15=\"\",\"\",I15*1200000+①団体情報入力!$C$3*1000+②選手情報入力!A24)","v":""},{"$f":"IF(E15=\"\",\"\",①団体情報入力!$C$3)","v":""},null,{"$f":"IF(E15=\"\",\"\",LEFT(②選手情報入力!B24,1))","v":""},{"$f":"IF(②選手情報入力!B24=\"\",\"\",RIGHT(②選手情報入力!B24,LEN(②選手情報入力!B24)-1))","v":""},{"$f":"IF(E15=\"\",\"\",②選手情報入力!C24)","v":""},{"$f":"IF(E15=\"\",\"\",②選手情報入力!D24)","v":""},"",{"$f":"IF(E15=\"\",\"\",IF(②選手情報入力!F24=\"男\",1,2))","v":""},{"$f":"IF(E15=\"\",\"\",IF(②選手情報入力!G24=\"\",\"\",②選手情報入力!G24))","v":""},null,"","",null,{"$f":"IF(E15=\"\",\"\",IF(②選手情報入力!I24=\"\",\"\",IF(I15=1,VLOOKUP(②選手情報入力!I24,種目情報!$A$4:$B$135,2,FALSE),VLOOKUP(②選手情報入力!I24,種目情報!$E$4:$F$135,2,FALSE))))","v":""},{"$f":"IF(E15=\"\",\"\",IF(②選手情報入力!J24=\"\",\"\",②選手情報入力!J24))","v":""},{"$f":"IF(E15=\"\",\"\",IF(②選手情報入力!H24=\"\",0,1))","v":""},{"$f":"IF(E15=\"\",\"\",IF(②選手情報入力!I24=\"\",\"\",IF(I15=1,VLOOKUP(②選手情報入力!I24,種目情報!$A$4:$C$39,3,FALSE),VLOOKUP(②選手情報入力!I24,種目情報!$E$4:$G$40,3,FALSE))))","v":""},{"$f":"IF(E15=\"\",\"\",IF(②選手情報入力!L24=\"\",\"\",IF(I15=1,VLOOKUP(②選手情報入力!L24,種目情報!$A$4:$B$39,2,FALSE),VLOOKUP(②選手情報入力!L24,種目情報!$E$4:$F$40,2,FALSE))))","v":""},{"$f":"IF(E15=\"\",\"\",IF(②選手情報入力!M24=\"\",\"\",②選手情報入力!M24))","v":""},{"$f":"IF(E15=\"\",\"\",IF(②選手情報入力!K24=\"\",0,1))","v":""},{"$f":"IF(E15=\"\",\"\",IF(②選手情報入力!L24=\"\",\"\",IF(I15=1,VLOOKUP(②選手情報入力!L24,種目情報!$A$4:$C$39,3,FALSE),VLOOKUP(②選手情報入力!L24,種目情報!$E$4:$G$40,3,FALSE))))","v":""},{"$f":"IF(E15=\"\",\"\",IF(②選手情報入力!O24=\"\",\"\",IF(I15=1,VLOOKUP(②選手情報入力!O24,種目情報!$A$4:$B$39,2,FALSE),VLOOKUP(②選手情報入力!O24,種目情報!$E$4:$F$40,2,FALSE))))","v":""},{"$f":"IF(E15=\"\",\"\",IF(②選手情報入力!P24=\"\",\"\",②選手情報入力!P24))","v":""},{"$f":"IF(E15=\"\",\"\",IF(②選手情報入力!N24=\"\",0,1))","v":""},{"$f":"IF(E15=\"\",\"\",IF(②選手情報入力!O24=\"\",\"\",IF(I15=1,VLOOKUP(②選手情報入力!O24,種目情報!$A$4:$C$39,3,FALSE),VLOOKUP(②選手情報入力!O24,種目情報!$E$4:$G$40,3,FALSE))))","v":""},{"$f":"IF(E15=\"\",\"\",IF(②選手情報入力!Q24=\"\",\"\",IF(I15=1,種目情報!$J$4,種目情報!$J$6)))","v":""},{"$f":"IF(E15=\"\",\"\",IF(②選手情報入力!Q24=\"\",\"\",IF(I15=1,IF(②選手情報入力!$R$6=\"\",\"\",②選手情報入力!$R$6),IF(②選手情報入力!$R$7=\"\",\"\",②選手情報入力!$R$7))))","v":""},{"$f":"IF(E15=\"\",\"\",IF(②選手情報入力!Q24=\"\",\"\",IF(I15=1,IF(②選手情報入力!$Q$6=\"\",0,1),IF(②選手情報入力!$Q$7=\"\",0,1))))","v":""},{"$f":"IF(E15=\"\",\"\",IF(②選手情報入力!Q24=\"\",\"\",2))","v":""},{"$f":"IF(E15=\"\",\"\",IF(②選手情報入力!S24=\"\",\"\",IF(I15=1,種目情報!$J$5,種目情報!$J$7)))","v":""},{"$f":"IF(E15=\"\",\"\",IF(②選手情報入力!S24=\"\",\"\",IF(I15=1,IF(②選手情報入力!$T$6=\"\",\"\",②選手情報入力!$T$6),IF(②選手情報入力!$T$7=\"\",\"\",②選手情報入力!$T$7))))","v":""},{"$f":"IF(E15=\"\",\"\",IF(②選手情報入力!S24=\"\",\"\",IF(I15=1,IF(②選手情報入力!$S$6=\"\",0,1),IF(②選手情報入力!$S$7=\"\",0,1))))","v":""},{"$f":"IF(E15=\"\",\"\",IF(②選手情報入力!S24=\"\",\"\",2))","v":""}]
[{"$f":"IF(E16=\"\",\"\",I16*1200000+①団体情報入力!$C$3*1000+②選手情報入力!A25)","v":""},{"$f":"IF(E16=\"\",\"\",①団体情報入力!$C$3)","v":""},null,{"$f":"IF(E16=\"\",\"\",LEFT(②選手情報入力!B25,1))","v":""},{"$f":"IF(②選手情報入力!B25=\"\",\"\",RIGHT(②選手情報入力!B25,LEN(②選手情報入力!B25)-1))","v":""},{"$f":"IF(E16=\"\",\"\",②選手情報入力!C25)","v":""},{"$f":"IF(E16=\"\",\"\",②選手情報入力!D25)","v":""},"",{"$f":"IF(E16=\"\",\"\",IF(②選手情報入力!F25=\"男\",1,2))","v":""},{"$f":"IF(E16=\"\",\"\",IF(②選手情報入力!G25=\"\",\"\",②選手情報入力!G25))","v":""},null,"","",null,{"$f":"IF(E16=\"\",\"\",IF(②選手情報入力!I25=\"\",\"\",IF(I16=1,VLOOKUP(②選手情報入力!I25,種目情報!$A$4:$B$135,2,FALSE),VLOOKUP(②選手情報入力!I25,種目情報!$E$4:$F$135,2,FALSE))))","v":""},{"$f":"IF(E16=\"\",\"\",IF(②選手情報入力!J25=\"\",\"\",②選手情報入力!J25))","v":""},{"$f":"IF(E16=\"\",\"\",IF(②選手情報入力!H25=\"\",0,1))","v":""},{"$f":"IF(E16=\"\",\"\",IF(②選手情報入力!I25=\"\",\"\",IF(I16=1,VLOOKUP(②選手情報入力!I25,種目情報!$A$4:$C$39,3,FALSE),VLOOKUP(②選手情報入力!I25,種目情報!$E$4:$G$40,3,FALSE))))","v":""},{"$f":"IF(E16=\"\",\"\",IF(②選手情報入力!L25=\"\",\"\",IF(I16=1,VLOOKUP(②選手情報入力!L25,種目情報!$A$4:$B$39,2,FALSE),VLOOKUP(②選手情報入力!L25,種目情報!$E$4:$F$40,2,FALSE))))","v":""},{"$f":"IF(E16=\"\",\"\",IF(②選手情報入力!M25=\"\",\"\",②選手情報入力!M25))","v":""},{"$f":"IF(E16=\"\",\"\",IF(②選手情報入力!K25=\"\",0,1))","v":""},{"$f":"IF(E16=\"\",\"\",IF(②選手情報入力!L25=\"\",\"\",IF(I16=1,VLOOKUP(②選手情報入力!L25,種目情報!$A$4:$C$39,3,FALSE),VLOOKUP(②選手情報入力!L25,種目情報!$E$4:$G$40,3,FALSE))))","v":""},{"$f":"IF(E16=\"\",\"\",IF(②選手情報入力!O25=\"\",\"\",IF(I16=1,VLOOKUP(②選手情報入力!O25,種目情報!$A$4:$B$39,2,FALSE),VLOOKUP(②選手情報入力!O25,種目情報!$E$4:$F$40,2,FALSE))))","v":""},{"$f":"IF(E16=\"\",\"\",IF(②選手情報入力!P25=\"\",\"\",②選手情報入力!P25))","v":""},{"$f":"IF(E16=\"\",\"\",IF(②選手情報入力!N25=\"\",0,1))","v":""},{"$f":"IF(E16=\"\",\"\",IF(②選手情報入力!O25=\"\",\"\",IF(I16=1,VLOOKUP(②選手情報入力!O25,種目情報!$A$4:$C$39,3,FALSE),VLOOKUP(②選手情報入力!O25,種目情報!$E$4:$G$40,3,FALSE))))","v":""},{"$f":"IF(E16=\"\",\"\",IF(②選手情報入力!Q25=\"\",\"\",IF(I16=1,種目情報!$J$4,種目情報!$J$6)))","v":""},{"$f":"IF(E16=\"\",\"\",IF(②選手情報入力!Q25=\"\",\"\",IF(I16=1,IF(②選手情報入力!$R$6=\"\",\"\",②選手情報入力!$R$6),IF(②選手情報入力!$R$7=\"\",\"\",②選手情報入力!$R$7))))","v":""},{"$f":"IF(E16=\"\",\"\",IF(②選手情報入力!Q25=\"\",\"\",IF(I16=1,IF(②選手情報入力!$Q$6=\"\",0,1),IF(②選手情報入力!$Q$7=\"\",0,1))))","v":""},{"$f":"IF(E16=\"\",\"\",IF(②選手情報入力!Q25=\"\",\"\",2))","v":""},{"$f":"IF(E16=\"\",\"\",IF(②選手情報入力!S25=\"\",\"\",IF(I16=1,種目情報!$J$5,種目情報!$J$7)))","v":""},{"$f":"IF(E16=\"\",\"\",IF(②選手情報入力!S25=\"\",\"\",IF(I16=1,IF(②選手情報入力!$T$6=\"\",\"\",②選手情報入力!$T$6),IF(②選手情報入力!$T$7=\"\",\"\",②選手情報入力!$T$7))))","v":""},{"$f":"IF(E16=\"\",\"\",IF(②選手情報入力!S25=\"\",\"\",IF(I16=1,IF(②選手情報入力!$S$6=\"\",0,1),IF(②選手情報入力!$S$7=\"\",0,1))))","v":""},{"$f":"IF(E16=\"\",\"\",IF(②選手情報入力!S25=\"\",\"\",2))","v":""}]
[{"$f":"IF(E17=\"\",\"\",I17*1200000+①団体情報入力!$C$3*1000+②選手情報入力!A26)","v":""},{"$f":"IF(E17=\"\",\"\",①団体情報入力!$C$3)","v":""},null,{"$f":"IF(E17=\"\",\"\",LEFT(②選手情報入力!B26,1))","v":""},{"$f":"IF(②選手情報入力!B26=\"\",\"\",RIGHT(②選手情報入力!B26,LEN(②選手情報入力!B26)-1))","v":""},{"$f":"IF(E17=\"\",\"\",②選手情報入力!C26)","v":""},{"$f":"IF(E17=\"\",\"\",②選手情報入力!D26)","v":""},"",{"$f":"IF(E17=\"\",\"\",IF(②選手情報入力!F26=\"男\",1,2))","v":""},{"$f":"IF(E17=\"\",\"\",IF(②選手情報入力!G26=\"\",\"\",②選手情報入力!G26))","v":""},null,"","",null,{"$f":"IF(E17=\"\",\"\",IF(②選手情報入力!I26=\"\",\"\",IF(I17=1,VLOOKUP(②選手情報入力!I26,種目情報!$A$4:$B$135,2,FALSE),VLOOKUP(②選手情報入力!I26,種目情報!$E$4:$F$135,2,FALSE))))","v":""},{"$f":"IF(E17=\"\",\"\",IF(②選手情報入力!J26=\"\",\"\",②選手情報入力!J26))","v":""},{"$f":"IF(E17=\"\",\"\",IF(②選手情報入力!H26=\"\",0,1))","v":""},{"$f":"IF(E17=\"\",\"\",IF(②選手情報入力!I26=\"\",\"\",IF(I17=1,VLOOKUP(②選手情報入力!I26,種目情報!$A$4:$C$39,3,FALSE),VLOOKUP(②選手情報入力!I26,種目情報!$E$4:$G$40,3,FALSE))))","v":""},{"$f":"IF(E17=\"\",\"\",IF(②選手情報入力!L26=\"\",\"\",IF(I17=1,VLOOKUP(②選手情報入力!L26,種目情報!$A$4:$B$39,2,FALSE),VLOOKUP(②選手情報入力!L26,種目情報!$E$4:$F$40,2,FALSE))))","v":""},{"$f":"IF(E17=\"\",\"\",IF(②選手情報入力!M26=\"\",\"\",②選手情報入力!M26))","v":""},{"$f":"IF(E17=\"\",\"\",IF(②選手情報入力!K26=\"\",0,1))","v":""},{"$f":"IF(E17=\"\",\"\",IF(②選手情報入力!L26=\"\",\"\",IF(I17=1,VLOOKUP(②選手情報入力!L26,種目情報!$A$4:$C$39,3,FALSE),VLOOKUP(②選手情報入力!L26,種目情報!$E$4:$G$40,3,FALSE))))","v":""},{"$f":"IF(E17=\"\",\"\",IF(②選手情報入力!O26=\"\",\"\",IF(I17=1,VLOOKUP(②選手情報入力!O26,種目情報!$A$4:$B$39,2,FALSE),VLOOKUP(②選手情報入力!O26,種目情報!$E$4:$F$40,2,FALSE))))","v":""},{"$f":"IF(E17=\"\",\"\",IF(②選手情報入力!P26=\"\",\"\",②選手情報入力!P26))","v":""},{"$f":"IF(E17=\"\",\"\",IF(②選手情報入力!N26=\"\",0,1))","v":""},{"$f":"IF(E17=\"\",\"\",IF(②選手情報入力!O26=\"\",\"\",IF(I17=1,VLOOKUP(②選手情報入力!O26,種目情報!$A$4:$C$39,3,FALSE),VLOOKUP(②選手情報入力!O26,種目情報!$E$4:$G$40,3,FALSE))))","v":""},{"$f":"IF(E17=\"\",\"\",IF(②選手情報入力!Q26=\"\",\"\",IF(I17=1,種目情報!$J$4,種目情報!$J$6)))","v":""},{"$f":"IF(E17=\"\",\"\",IF(②選手情報入力!Q26=\"\",\"\",IF(I17=1,IF(②選手情報入力!$R$6=\"\",\"\",②選手情報入力!$R$6),IF(②選手情報入力!$R$7=\"\",\"\",②選手情報入力!$R$7))))","v":""},{"$f":"IF(E17=\"\",\"\",IF(②選手情報入力!Q26=\"\",\"\",IF(I17=1,IF(②選手情報入力!$Q$6=\"\",0,1),IF(②選手情報入力!$Q$7=\"\",0,1))))","v":""},{"$f":"IF(E17=\"\",\"\",IF(②選手情報入力!Q26=\"\",\"\",2))","v":""},{"$f":"IF(E17=\"\",\"\",IF(②選手情報入力!S26=\"\",\"\",IF(I17=1,種目情報!$J$5,種目情報!$J$7)))","v":""},{"$f":"IF(E17=\"\",\"\",IF(②選手情報入力!S26=\"\",\"\",IF(I17=1,IF(②選手情報入力!$T$6=\"\",\"\",②選手情報入力!$T$6),IF(②選手情報入力!$T$7=\"\",\"\",②選手情報入力!$T$7))))","v":""},{"$f":"IF(E17=\"\",\"\",IF(②選手情報入力!S26=\"\",\"\",IF(I17=1,IF(②選手情報入力!$S$6=\"\",0,1),IF(②選手情報入力!$S$7=\"\",0,1))))","v":""},{"$f":"IF(E17=\"\",\"\",IF(②選手情報入力!S26=\"\",\"\",2))","v":""}]
[{"$f":"IF(E18=\"\",\"\",I18*1200000+①団体情報入力!$C$3*1000+②選手情報入力!A27)","v":""},{"$f":"IF(E18=\"\",\"\",①団体情報入力!$C$3)","v":""},null,{"$f":"IF(E18=\"\",\"\",LEFT(②選手情報入力!B27,1))","v":""},{"$f":"IF(②選手情報入力!B27=\"\",\"\",RIGHT(②選手情報入力!B27,LEN(②選手情報入力!B27)-1))","v":""},{"$f":"IF(E18=\"\",\"\",②選手情報入力!C27)","v":""},{"$f":"IF(E18=\"\",\"\",②選手情報入力!D27)","v":""},"",{"$f":"IF(E18=\"\",\"\",IF(②選手情報入力!F27=\"男\",1,2))","v":""},{"$f":"IF(E18=\"\",\"\",IF(②選手情報入力!G27=\"\",\"\",②選手情報入力!G27))","v":""},null,"","",null,{"$f":"IF(E18=\"\",\"\",IF(②選手情報入力!I27=\"\",\"\",IF(I18=1,VLOOKUP(②選手情報入力!I27,種目情報!$A$4:$B$135,2,FALSE),VLOOKUP(②選手情報入力!I27,種目情報!$E$4:$F$135,2,FALSE))))","v":""},{"$f":"IF(E18=\"\",\"\",IF(②選手情報入力!J27=\"\",\"\",②選手情報入力!J27))","v":""},{"$f":"IF(E18=\"\",\"\",IF(②選手情報入力!H27=\"\",0,1))","v":""},{"$f":"IF(E18=\"\",\"\",IF(②選手情報入力!I27=\"\",\"\",IF(I18=1,VLOOKUP(②選手情報入力!I27,種目情報!$A$4:$C$39,3,FALSE),VLOOKUP(②選手情報入力!I27,種目情報!$E$4:$G$40,3,FALSE))))","v":""},{"$f":"IF(E18=\"\",\"\",IF(②選手情報入力!L27=\"\",\"\",IF(I18=1,VLOOKUP(②選手情報入力!L27,種目情報!$A$4:$B$39,2,FALSE),VLOOKUP(②選手情報入力!L27,種目情報!$E$4:$F$40,2,FALSE))))","v":""},{"$f":"IF(E18=\"\",\"\",IF(②選手情報入力!M27=\"\",\"\",②選手情報入力!M27))","v":""},{"$f":"IF(E18=\"\",\"\",IF(②選手情報入力!K27=\"\",0,1))","v":""},{"$f":"IF(E18=\"\",\"\",IF(②選手情報入力!L27=\"\",\"\",IF(I18=1,VLOOKUP(②選手情報入力!L27,種目情報!$A$4:$C$39,3,FALSE),VLOOKUP(②選手情報入力!L27,種目情報!$E$4:$G$40,3,FALSE))))","v":""},{"$f":"IF(E18=\"\",\"\",IF(②選手情報入力!O27=\"\",\"\",IF(I18=1,VLOOKUP(②選手情報入力!O27,種目情報!$A$4:$B$39,2,FALSE),VLOOKUP(②選手情報入力!O27,種目情報!$E$4:$F$40,2,FALSE))))","v":""},{"$f":"IF(E18=\"\",\"\",IF(②選手情報入力!P27=\"\",\"\",②選手情報入力!P27))","v":""},{"$f":"IF(E18=\"\",\"\",IF(②選手情報入力!N27=\"\",0,1))","v":""},{"$f":"IF(E18=\"\",\"\",IF(②選手情報入力!O27=\"\",\"\",IF(I18=1,VLOOKUP(②選手情報入力!O27,種目情報!$A$4:$C$39,3,FALSE),VLOOKUP(②選手情報入力!O27,種目情報!$E$4:$G$40,3,FALSE))))","v":""},{"$f":"IF(E18=\"\",\"\",IF(②選手情報入力!Q27=\"\",\"\",IF(I18=1,種目情報!$J$4,種目情報!$J$6)))","v":""},{"$f":"IF(E18=\"\",\"\",IF(②選手情報入力!Q27=\"\",\"\",IF(I18=1,IF(②選手情報入力!$R$6=\"\",\"\",②選手情報入力!$R$6),IF(②選手情報入力!$R$7=\"\",\"\",②選手情報入力!$R$7))))","v":""},{"$f":"IF(E18=\"\",\"\",IF(②選手情報入力!Q27=\"\",\"\",IF(I18=1,IF(②選手情報入力!$Q$6=\"\",0,1),IF(②選手情報入力!$Q$7=\"\",0,1))))","v":""},{"$f":"IF(E18=\"\",\"\",IF(②選手情報入力!Q27=\"\",\"\",2))","v":""},{"$f":"IF(E18=\"\",\"\",IF(②選手情報入力!S27=\"\",\"\",IF(I18=1,種目情報!$J$5,種目情報!$J$7)))","v":""},{"$f":"IF(E18=\"\",\"\",IF(②選手情報入力!S27=\"\",\"\",IF(I18=1,IF(②選手情報入力!$T$6=\"\",\"\",②選手情報入力!$T$6),IF(②選手情報入力!$T$7=\"\",\"\",②選手情報入力!$T$7))))","v":""},{"$f":"IF(E18=\"\",\"\",IF(②選手情報入力!S27=\"\",\"\",IF(I18=1,IF(②選手情報入力!$S$6=\"\",0,1),IF(②選手情報入力!$S$7=\"\",0,1))))","v":""},{"$f":"IF(E18=\"\",\"\",IF(②選手情報入力!S27=\"\",\"\",2))","v":""}]
[{"$f":"IF(E19=\"\",\"\",I19*1200000+①団体情報入力!$C$3*1000+②選手情報入力!A28)","v":""},{"$f":"IF(E19=\"\",\"\",①団体情報入力!$C$3)","v":""},null,{"$f":"IF(E19=\"\",\"\",LEFT(②選手情報入力!B28,1))","v":""},{"$f":"IF(②選手情報入力!B28=\"\",\"\",RIGHT(②選手情報入力!B28,LEN(②選手情報入力!B28)-1))","v":""},{"$f":"IF(E19=\"\",\"\",②選手情報入力!C28)","v":""},{"$f":"IF(E19=\"\",\"\",②選手情報入力!D28)","v":""},"",{"$f":"IF(E19=\"\",\"\",IF(②選手情報入力!F28=\"男\",1,2))","v":""},{"$f":"IF(E19=\"\",\"\",IF(②選手情報入力!G28=\"\",\"\",②選手情報入力!G28))","v":""},null,"","",null,{"$f":"IF(E19=\"\",\"\",IF(②選手情報入力!I28=\"\",\"\",IF(I19=1,VLOOKUP(②選手情報入力!I28,種目情報!$A$4:$B$135,2,FALSE),VLOOKUP(②選手情報入力!I28,種目情報!$E$4:$F$135,2,FALSE))))","v":""},{"$f":"IF(E19=\"\",\"\",IF(②選手情報入力!J28=\"\",\"\",②選手情報入力!J28))","v":""},{"$f":"IF(E19=\"\",\"\",IF(②選手情報入力!H28=\"\",0,1))","v":""},{"$f":"IF(E19=\"\",\"\",IF(②選手情報入力!I28=\"\",\"\",IF(I19=1,VLOOKUP(②選手情報入力!I28,種目情報!$A$4:$C$39,3,FALSE),VLOOKUP(②選手情報入力!I28,種目情報!$E$4:$G$40,3,FALSE))))","v":""},{"$f":"IF(E19=\"\",\"\",IF(②選手情報入力!L28=\"\",\"\",IF(I19=1,VLOOKUP(②選手情報入力!L28,種目情報!$A$4:$B$39,2,FALSE),VLOOKUP(②選手情報入力!L28,種目情報!$E$4:$F$40,2,FALSE))))","v":""},{"$f":"IF(E19=\"\",\"\",IF(②選手情報入力!M28=\"\",\"\",②選手情報入力!M28))","v":""},{"$f":"IF(E19=\"\",\"\",IF(②選手情報入力!K28=\"\",0,1))","v":""},{"$f":"IF(E19=\"\",\"\",IF(②選手情報入力!L28=\"\",\"\",IF(I19=1,VLOOKUP(②選手情報入力!L28,種目情報!$A$4:$C$39,3,FALSE),VLOOKUP(②選手情報入力!L28,種目情報!$E$4:$G$40,3,FALSE))))","v":""},{"$f":"IF(E19=\"\",\"\",IF(②選手情報入力!O28=\"\",\"\",IF(I19=1,VLOOKUP(②選手情報入力!O28,種目情報!$A$4:$B$39,2,FALSE),VLOOKUP(②選手情報入力!O28,種目情報!$E$4:$F$40,2,FALSE))))","v":""},{"$f":"IF(E19=\"\",\"\",IF(②選手情報入力!P28=\"\",\"\",②選手情報入力!P28))","v":""},{"$f":"IF(E19=\"\",\"\",IF(②選手情報入力!N28=\"\",0,1))","v":""},{"$f":"IF(E19=\"\",\"\",IF(②選手情報入力!O28=\"\",\"\",IF(I19=1,VLOOKUP(②選手情報入力!O28,種目情報!$A$4:$C$39,3,FALSE),VLOOKUP(②選手情報入力!O28,種目情報!$E$4:$G$40,3,FALSE))))","v":""},{"$f":"IF(E19=\"\",\"\",IF(②選手情報入力!Q28=\"\",\"\",IF(I19=1,種目情報!$J$4,種目情報!$J$6)))","v":""},{"$f":"IF(E19=\"\",\"\",IF(②選手情報入力!Q28=\"\",\"\",IF(I19=1,IF(②選手情報入力!$R$6=\"\",\"\",②選手情報入力!$R$6),IF(②選手情報入力!$R$7=\"\",\"\",②選手情報入力!$R$7))))","v":""},{"$f":"IF(E19=\"\",\"\",IF(②選手情報入力!Q28=\"\",\"\",IF(I19=1,IF(②選手情報入力!$Q$6=\"\",0,1),IF(②選手情報入力!$Q$7=\"\",0,1))))","v":""},{"$f":"IF(E19=\"\",\"\",IF(②選手情報入力!Q28=\"\",\"\",2))","v":""},{"$f":"IF(E19=\"\",\"\",IF(②選手情報入力!S28=\"\",\"\",IF(I19=1,種目情報!$J$5,種目情報!$J$7)))","v":""},{"$f":"IF(E19=\"\",\"\",IF(②選手情報入力!S28=\"\",\"\",IF(I19=1,IF(②選手情報入力!$T$6=\"\",\"\",②選手情報入力!$T$6),IF(②選手情報入力!$T$7=\"\",\"\",②選手情報入力!$T$7))))","v":""},{"$f":"IF(E19=\"\",\"\",IF(②選手情報入力!S28=\"\",\"\",IF(I19=1,IF(②選手情報入力!$S$6=\"\",0,1),IF(②選手情報入力!$S$7=\"\",0,1))))","v":""},{"$f":"IF(E19=\"\",\"\",IF(②選手情報入力!S28=\"\",\"\",2))","v":""}]
[{"$f":"IF(E20=\"\",\"\",I20*1200000+①団体情報入力!$C$3*1000+②選手情報入力!A29)","v":""},{"$f":"IF(E20=\"\",\"\",①団体情報入力!$C$3)","v":""},null,{"$f":"IF(E20=\"\",\"\",LEFT(②選手情報入力!B29,1))","v":""},{"$f":"IF(②選手情報入力!B29=\"\",\"\",RIGHT(②選手情報入力!B29,LEN(②選手情報入力!B29)-1))","v":""},{"$f":"IF(E20=\"\",\"\",②選手情報入力!C29)","v":""},{"$f":"IF(E20=\"\",\"\",②選手情報入力!D29)","v":""},"",{"$f":"IF(E20=\"\",\"\",IF(②選手情報入力!F29=\"男\",1,2))","v":""},{"$f":"IF(E20=\"\",\"\",IF(②選手情報入力!G29=\"\",\"\",②選手情報入力!G29))","v":""},null,"","",null,{"$f":"IF(E20=\"\",\"\",IF(②選手情報入力!I29=\"\",\"\",IF(I20=1,VLOOKUP(②選手情報入力!I29,種目情報!$A$4:$B$135,2,FALSE),VLOOKUP(②選手情報入力!I29,種目情報!$E$4:$F$135,2,FALSE))))","v":""},{"$f":"IF(E20=\"\",\"\",IF(②選手情報入力!J29=\"\",\"\",②選手情報入力!J29))","v":""},{"$f":"IF(E20=\"\",\"\",IF(②選手情報入力!H29=\"\",0,1))","v":""},{"$f":"IF(E20=\"\",\"\",IF(②選手情報入力!I29=\"\",\"\",IF(I20=1,VLOOKUP(②選手情報入力!I29,種目情報!$A$4:$C$39,3,FALSE),VLOOKUP(②選手情報入力!I29,種目情報!$E$4:$G$40,3,FALSE))))","v":""},{"$f":"IF(E20=\"\",\"\",IF(②選手情報入力!L29=\"\",\"\",IF(I20=1,VLOOKUP(②選手情報入力!L29,種目情報!$A$4:$B$39,2,FALSE),VLOOKUP(②選手情報入力!L29,種目情報!$E$4:$F$40,2,FALSE))))","v":""},{"$f":"IF(E20=\"\",\"\",IF(②選手情報入力!M29=\"\",\"\",②選手情報入力!M29))","v":""},{"$f":"IF(E20=\"\",\"\",IF(②選手情報入力!K29=\"\",0,1))","v":""},{"$f":"IF(E20=\"\",\"\",IF(②選手情報入力!L29=\"\",\"\",IF(I20=1,VLOOKUP(②選手情報入力!L29,種目情報!$A$4:$C$39,3,FALSE),VLOOKUP(②選手情報入力!L29,種目情報!$E$4:$G$40,3,FALSE))))","v":""},{"$f":"IF(E20=\"\",\"\",IF(②選手情報入力!O29=\"\",\"\",IF(I20=1,VLOOKUP(②選手情報入力!O29,種目情報!$A$4:$B$39,2,FALSE),VLOOKUP(②選手情報入力!O29,種目情報!$E$4:$F$40,2,FALSE))))","v":""},{"$f":"IF(E20=\"\",\"\",IF(②選手情報入力!P29=\"\",\"\",②選手情報入力!P29))","v":""},{"$f":"IF(E20=\"\",\"\",IF(②選手情報入力!N29=\"\",0,1))","v":""},{"$f":"IF(E20=\"\",\"\",IF(②選手情報入力!O29=\"\",\"\",IF(I20=1,VLOOKUP(②選手情報入力!O29,種目情報!$A$4:$C$39,3,FALSE),VLOOKUP(②選手情報入力!O29,種目情報!$E$4:$G$40,3,FALSE))))","v":""},{"$f":"IF(E20=\"\",\"\",IF(②選手情報入力!Q29=\"\",\"\",IF(I20=1,種目情報!$J$4,種目情報!$J$6)))","v":""},{"$f":"IF(E20=\"\",\"\",IF(②選手情報入力!Q29=\"\",\"\",IF(I20=1,IF(②選手情報入力!$R$6=\"\",\"\",②選手情報入力!$R$6),IF(②選手情報入力!$R$7=\"\",\"\",②選手情報入力!$R$7))))","v":""},{"$f":"IF(E20=\"\",\"\",IF(②選手情報入力!Q29=\"\",\"\",IF(I20=1,IF(②選手情報入力!$Q$6=\"\",0,1),IF(②選手情報入力!$Q$7=\"\",0,1))))","v":""},{"$f":"IF(E20=\"\",\"\",IF(②選手情報入力!Q29=\"\",\"\",2))","v":""},{"$f":"IF(E20=\"\",\"\",IF(②選手情報入力!S29=\"\",\"\",IF(I20=1,種目情報!$J$5,種目情報!$J$7)))","v":""},{"$f":"IF(E20=\"\",\"\",IF(②選手情報入力!S29=\"\",\"\",IF(I20=1,IF(②選手情報入力!$T$6=\"\",\"\",②選手情報入力!$T$6),IF(②選手情報入力!$T$7=\"\",\"\",②選手情報入力!$T$7))))","v":""},{"$f":"IF(E20=\"\",\"\",IF(②選手情報入力!S29=\"\",\"\",IF(I20=1,IF(②選手情報入力!$S$6=\"\",0,1),IF(②選手情報入力!$S$7=\"\",0,1))))","v":""},{"$f":"IF(E20=\"\",\"\",IF(②選手情報入力!S29=\"\",\"\",2))","v":""}]
[{"$f":"IF(E21=\"\",\"\",I21*1200000+①団体情報入力!$C$3*1000+②選手情報入力!A30)","v":""},{"$f":"IF(E21=\"\",\"\",①団体情報入力!$C$3)","v":""},null,{"$f":"IF(E21=\"\",\"\",LEFT(②選手情報入力!B30,1))","v":""},{"$f":"IF(②選手情報入力!B30=\"\",\"\",RIGHT(②選手情報入力!B30,LEN(②選手情報入力!B30)-1))","v":""},{"$f":"IF(E21=\"\",\"\",②選手情報入力!C30)","v":""},{"$f":"IF(E21=\"\",\"\",②選手情報入力!D30)","v":""},"",{"$f":"IF(E21=\"\",\"\",IF(②選手情報入力!F30=\"男\",1,2))","v":""},{"$f":"IF(E21=\"\",\"\",IF(②選手情報入力!G30=\"\",\"\",②選手情報入力!G30))","v":""},null,"","",null,{"$f":"IF(E21=\"\",\"\",IF(②選手情報入力!I30=\"\",\"\",IF(I21=1,VLOOKUP(②選手情報入力!I30,種目情報!$A$4:$B$135,2,FALSE),VLOOKUP(②選手情報入力!I30,種目情報!$E$4:$F$135,2,FALSE))))","v":""},{"$f":"IF(E21=\"\",\"\",IF(②選手情報入力!J30=\"\",\"\",②選手情報入力!J30))","v":""},{"$f":"IF(E21=\"\",\"\",IF(②選手情報入力!H30=\"\",0,1))","v":""},{"$f":"IF(E21=\"\",\"\",IF(②選手情報入力!I30=\"\",\"\",IF(I21=1,VLOOKUP(②選手情報入力!I30,種目情報!$A$4:$C$39,3,FALSE),VLOOKUP(②選手情報入力!I30,種目情報!$E$4:$G$40,3,FALSE))))","v":""},{"$f":"IF(E21=\"\",\"\",IF(②選手情報入力!L30=\"\",\"\",IF(I21=1,VLOOKUP(②選手情報入力!L30,種目情報!$A$4:$B$39,2,FALSE),VLOOKUP(②選手情報入力!L30,種目情報!$E$4:$F$40,2,FALSE))))","v":""},{"$f":"IF(E21=\"\",\"\",IF(②選手情報入力!M30=\"\",\"\",②選手情報入力!M30))","v":""},{"$f":"IF(E21=\"\",\"\",IF(②選手情報入力!K30=\"\",0,1))","v":""},{"$f":"IF(E21=\"\",\"\",IF(②選手情報入力!L30=\"\",\"\",IF(I21=1,VLOOKUP(②選手情報入力!L30,種目情報!$A$4:$C$39,3,FALSE),VLOOKUP(②選手情報入力!L30,種目情報!$E$4:$G$40,3,FALSE))))","v":""},{"$f":"IF(E21=\"\",\"\",IF(②選手情報入力!O30=\"\",\"\",IF(I21=1,VLOOKUP(②選手情報入力!O30,種目情報!$A$4:$B$39,2,FALSE),VLOOKUP(②選手情報入力!O30,種目情報!$E$4:$F$40,2,FALSE))))","v":""},{"$f":"IF(E21=\"\",\"\",IF(②選手情報入力!P30=\"\",\"\",②選手情報入力!P30))","v":""},{"$f":"IF(E21=\"\",\"\",IF(②選手情報入力!N30=\"\",0,1))","v":""},{"$f":"IF(E21=\"\",\"\",IF(②選手情報入力!O30=\"\",\"\",IF(I21=1,VLOOKUP(②選手情報入力!O30,種目情報!$A$4:$C$39,3,FALSE),VLOOKUP(②選手情報入力!O30,種目情報!$E$4:$G$40,3,FALSE))))","v":""},{"$f":"IF(E21=\"\",\"\",IF(②選手情報入力!Q30=\"\",\"\",IF(I21=1,種目情報!$J$4,種目情報!$J$6)))","v":""},{"$f":"IF(E21=\"\",\"\",IF(②選手情報入力!Q30=\"\",\"\",IF(I21=1,IF(②選手情報入力!$R$6=\"\",\"\",②選手情報入力!$R$6),IF(②選手情報入力!$R$7=\"\",\"\",②選手情報入力!$R$7))))","v":""},{"$f":"IF(E21=\"\",\"\",IF(②選手情報入力!Q30=\"\",\"\",IF(I21=1,IF(②選手情報入力!$Q$6=\"\",0,1),IF(②選手情報入力!$Q$7=\"\",0,1))))","v":""},{"$f":"IF(E21=\"\",\"\",IF(②選手情報入力!Q30=\"\",\"\",2))","v":""},{"$f":"IF(E21=\"\",\"\",IF(②選手情報入力!S30=\"\",\"\",IF(I21=1,種目情報!$J$5,種目情報!$J$7)))","v":""},{"$f":"IF(E21=\"\",\"\",IF(②選手情報入力!S30=\"\",\"\",IF(I21=1,IF(②選手情報入力!$T$6=\"\",\"\",②選手情報入力!$T$6),IF(②選手情報入力!$T$7=\"\",\"\",②選手情報入力!$T$7))))","v":""},{"$f":"IF(E21=\"\",\"\",IF(②選手情報入力!S30=\"\",\"\",IF(I21=1,IF(②選手情報入力!$S$6=\"\",0,1),IF(②選手情報入力!$S$7=\"\",0,1))))","v":""},{"$f":"IF(E21=\"\",\"\",IF(②選手情報入力!S30=\"\",\"\",2))","v":""}]
[{"$f":"IF(E22=\"\",\"\",I22*1200000+①団体情報入力!$C$3*1000+②選手情報入力!A31)","v":""},{"$f":"IF(E22=\"\",\"\",①団体情報入力!$C$3)","v":""},null,{"$f":"IF(E22=\"\",\"\",LEFT(②選手情報入力!B31,1))","v":""},{"$f":"IF(②選手情報入力!B31=\"\",\"\",RIGHT(②選手情報入力!B31,LEN(②選手情報入力!B31)-1))","v":""},{"$f":"IF(E22=\"\",\"\",②選手情報入力!C31)","v":""},{"$f":"IF(E22=\"\",\"\",②選手情報入力!D31)","v":""},"",{"$f":"IF(E22=\"\",\"\",IF(②選手情報入力!F31=\"男\",1,2))","v":""},{"$f":"IF(E22=\"\",\"\",IF(②選手情報入力!G31=\"\",\"\",②選手情報入力!G31))","v":""},null,"","",null,{"$f":"IF(E22=\"\",\"\",IF(②選手情報入力!I31=\"\",\"\",IF(I22=1,VLOOKUP(②選手情報入力!I31,種目情報!$A$4:$B$135,2,FALSE),VLOOKUP(②選手情報入力!I31,種目情報!$E$4:$F$135,2,FALSE))))","v":""},{"$f":"IF(E22=\"\",\"\",IF(②選手情報入力!J31=\"\",\"\",②選手情報入力!J31))","v":""},{"$f":"IF(E22=\"\",\"\",IF(②選手情報入力!H31=\"\",0,1))","v":""},{"$f":"IF(E22=\"\",\"\",IF(②選手情報入力!I31=\"\",\"\",IF(I22=1,VLOOKUP(②選手情報入力!I31,種目情報!$A$4:$C$39,3,FALSE),VLOOKUP(②選手情報入力!I31,種目情報!$E$4:$G$40,3,FALSE))))","v":""},{"$f":"IF(E22=\"\",\"\",IF(②選手情報入力!L31=\"\",\"\",IF(I22=1,VLOOKUP(②選手情報入力!L31,種目情報!$A$4:$B$39,2,FALSE),VLOOKUP(②選手情報入力!L31,種目情報!$E$4:$F$40,2,FALSE))))","v":""},{"$f":"IF(E22=\"\",\"\",IF(②選手情報入力!M31=\"\",\"\",②選手情報入力!M31))","v":""},{"$f":"IF(E22=\"\",\"\",IF(②選手情報入力!K31=\"\",0,1))","v":""},{"$f":"IF(E22=\"\",\"\",IF(②選手情報入力!L31=\"\",\"\",IF(I22=1,VLOOKUP(②選手情報入力!L31,種目情報!$A$4:$C$39,3,FALSE),VLOOKUP(②選手情報入力!L31,種目情報!$E$4:$G$40,3,FALSE))))","v":""},{"$f":"IF(E22=\"\",\"\",IF(②選手情報入力!O31=\"\",\"\",IF(I22=1,VLOOKUP(②選手情報入力!O31,種目情報!$A$4:$B$39,2,FALSE),VLOOKUP(②選手情報入力!O31,種目情報!$E$4:$F$40,2,FALSE))))","v":""},{"$f":"IF(E22=\"\",\"\",IF(②選手情報入力!P31=\"\",\"\",②選手情報入力!P31))","v":""},{"$f":"IF(E22=\"\",\"\",IF(②選手情報入力!N31=\"\",0,1))","v":""},{"$f":"IF(E22=\"\",\"\",IF(②選手情報入力!O31=\"\",\"\",IF(I22=1,VLOOKUP(②選手情報入力!O31,種目情報!$A$4:$C$39,3,FALSE),VLOOKUP(②選手情報入力!O31,種目情報!$E$4:$G$40,3,FALSE))))","v":""},{"$f":"IF(E22=\"\",\"\",IF(②選手情報入力!Q31=\"\",\"\",IF(I22=1,種目情報!$J$4,種目情報!$J$6)))","v":""},{"$f":"IF(E22=\"\",\"\",IF(②選手情報入力!Q31=\"\",\"\",IF(I22=1,IF(②選手情報入力!$R$6=\"\",\"\",②選手情報入力!$R$6),IF(②選手情報入力!$R$7=\"\",\"\",②選手情報入力!$R$7))))","v":""},{"$f":"IF(E22=\"\",\"\",IF(②選手情報入力!Q31=\"\",\"\",IF(I22=1,IF(②選手情報入力!$Q$6=\"\",0,1),IF(②選手情報入力!$Q$7=\"\",0,1))))","v":""},{"$f":"IF(E22=\"\",\"\",IF(②選手情報入力!Q31=\"\",\"\",2))","v":""},{"$f":"IF(E22=\"\",\"\",IF(②選手情報入力!S31=\"\",\"\",IF(I22=1,種目情報!$J$5,種目情報!$J$7)))","v":""},{"$f":"IF(E22=\"\",\"\",IF(②選手情報入力!S31=\"\",\"\",IF(I22=1,IF(②選手情報入力!$T$6=\"\",\"\",②選手情報入力!$T$6),IF(②選手情報入力!$T$7=\"\",\"\",②選手情報入力!$T$7))))","v":""},{"$f":"IF(E22=\"\",\"\",IF(②選手情報入力!S31=\"\",\"\",IF(I22=1,IF(②選手情報入力!$S$6=\"\",0,1),IF(②選手情報入力!$S$7=\"\",0,1))))","v":""},{"$f":"IF(E22=\"\",\"\",IF(②選手情報入力!S31=\"\",\"\",2))","v":""}]
[{"$f":"IF(E23=\"\",\"\",I23*1200000+①団体情報入力!$C$3*1000+②選手情報入力!A32)","v":""},{"$f":"IF(E23=\"\",\"\",①団体情報入力!$C$3)","v":""},null,{"$f":"IF(E23=\"\",\"\",LEFT(②選手情報入力!B32,1))","v":""},{"$f":"IF(②選手情報入力!B32=\"\",\"\",RIGHT(②選手情報入力!B32,LEN(②選手情報入力!B32)-1))","v":""},{"$f":"IF(E23=\"\",\"\",②選手情報入力!C32)","v":""},{"$f":"IF(E23=\"\",\"\",②選手情報入力!D32)","v":""},"",{"$f":"IF(E23=\"\",\"\",IF(②選手情報入力!F32=\"男\",1,2))","v":""},{"$f":"IF(E23=\"\",\"\",IF(②選手情報入力!G32=\"\",\"\",②選手情報入力!G32))","v":""},null,"","",null,{"$f":"IF(E23=\"\",\"\",IF(②選手情報入力!I32=\"\",\"\",IF(I23=1,VLOOKUP(②選手情報入力!I32,種目情報!$A$4:$B$135,2,FALSE),VLOOKUP(②選手情報入力!I32,種目情報!$E$4:$F$135,2,FALSE))))","v":""},{"$f":"IF(E23=\"\",\"\",IF(②選手情報入力!J32=\"\",\"\",②選手情報入力!J32))","v":""},{"$f":"IF(E23=\"\",\"\",IF(②選手情報入力!H32=\"\",0,1))","v":""},{"$f":"IF(E23=\"\",\"\",IF(②選手情報入力!I32=\"\",\"\",IF(I23=1,VLOOKUP(②選手情報入力!I32,種目情報!$A$4:$C$39,3,FALSE),VLOOKUP(②選手情報入力!I32,種目情報!$E$4:$G$40,3,FALSE))))","v":""},{"$f":"IF(E23=\"\",\"\",IF(②選手情報入力!L32=\"\",\"\",IF(I23=1,VLOOKUP(②選手情報入力!L32,種目情報!$A$4:$B$39,2,FALSE),VLOOKUP(②選手情報入力!L32,種目情報!$E$4:$F$40,2,FALSE))))","v":""},{"$f":"IF(E23=\"\",\"\",IF(②選手情報入力!M32=\"\",\"\",②選手情報入力!M32))","v":""},{"$f":"IF(E23=\"\",\"\",IF(②選手情報入力!K32=\"\",0,1))","v":""},{"$f":"IF(E23=\"\",\"\",IF(②選手情報入力!L32=\"\",\"\",IF(I23=1,VLOOKUP(②選手情報入力!L32,種目情報!$A$4:$C$39,3,FALSE),VLOOKUP(②選手情報入力!L32,種目情報!$E$4:$G$40,3,FALSE))))","v":""},{"$f":"IF(E23=\"\",\"\",IF(②選手情報入力!O32=\"\",\"\",IF(I23=1,VLOOKUP(②選手情報入力!O32,種目情報!$A$4:$B$39,2,FALSE),VLOOKUP(②選手情報入力!O32,種目情報!$E$4:$F$40,2,FALSE))))","v":""},{"$f":"IF(E23=\"\",\"\",IF(②選手情報入力!P32=\"\",\"\",②選手情報入力!P32))","v":""},{"$f":"IF(E23=\"\",\"\",IF(②選手情報入力!N32=\"\",0,1))","v":""},{"$f":"IF(E23=\"\",\"\",IF(②選手情報入力!O32=\"\",\"\",IF(I23=1,VLOOKUP(②選手情報入力!O32,種目情報!$A$4:$C$39,3,FALSE),VLOOKUP(②選手情報入力!O32,種目情報!$E$4:$G$40,3,FALSE))))","v":""},{"$f":"IF(E23=\"\",\"\",IF(②選手情報入力!Q32=\"\",\"\",IF(I23=1,種目情報!$J$4,種目情報!$J$6)))","v":""},{"$f":"IF(E23=\"\",\"\",IF(②選手情報入力!Q32=\"\",\"\",IF(I23=1,IF(②選手情報入力!$R$6=\"\",\"\",②選手情報入力!$R$6),IF(②選手情報入力!$R$7=\"\",\"\",②選手情報入力!$R$7))))","v":""},{"$f":"IF(E23=\"\",\"\",IF(②選手情報入力!Q32=\"\",\"\",IF(I23=1,IF(②選手情報入力!$Q$6=\"\",0,1),IF(②選手情報入力!$Q$7=\"\",0,1))))","v":""},{"$f":"IF(E23=\"\",\"\",IF(②選手情報入力!Q32=\"\",\"\",2))","v":""},{"$f":"IF(E23=\"\",\"\",IF(②選手情報入力!S32=\"\",\"\",IF(I23=1,種目情報!$J$5,種目情報!$J$7)))","v":""},{"$f":"IF(E23=\"\",\"\",IF(②選手情報入力!S32=\"\",\"\",IF(I23=1,IF(②選手情報入力!$T$6=\"\",\"\",②選手情報入力!$T$6),IF(②選手情報入力!$T$7=\"\",\"\",②選手情報入力!$T$7))))","v":""},{"$f":"IF(E23=\"\",\"\",IF(②選手情報入力!S32=\"\",\"\",IF(I23=1,IF(②選手情報入力!$S$6=\"\",0,1),IF(②選手情報入力!$S$7=\"\",0,1))))","v":""},{"$f":"IF(E23=\"\",\"\",IF(②選手情報入力!S32=\"\",\"\",2))","v":""}]
[{"$f":"IF(E24=\"\",\"\",I24*1200000+①団体情報入力!$C$3*1000+②選手情報入力!A33)","v":""},{"$f":"IF(E24=\"\",\"\",①団体情報入力!$C$3)","v":""},null,{"$f":"IF(E24=\"\",\"\",LEFT(②選手情報入力!B33,1))","v":""},{"$f":"IF(②選手情報入力!B33=\"\",\"\",RIGHT(②選手情報入力!B33,LEN(②選手情報入力!B33)-1))","v":""},{"$f":"IF(E24=\"\",\"\",②選手情報入力!C33)","v":""},{"$f":"IF(E24=\"\",\"\",②選手情報入力!D33)","v":""},"",{"$f":"IF(E24=\"\",\"\",IF(②選手情報入力!F33=\"男\",1,2))","v":""},{"$f":"IF(E24=\"\",\"\",IF(②選手情報入力!G33=\"\",\"\",②選手情報入力!G33))","v":""},null,"","",null,{"$f":"IF(E24=\"\",\"\",IF(②選手情報入力!I33=\"\",\"\",IF(I24=1,VLOOKUP(②選手情報入力!I33,種目情報!$A$4:$B$135,2,FALSE),VLOOKUP(②選手情報入力!I33,種目情報!$E$4:$F$135,2,FALSE))))","v":""},{"$f":"IF(E24=\"\",\"\",IF(②選手情報入力!J33=\"\",\"\",②選手情報入力!J33))","v":""},{"$f":"IF(E24=\"\",\"\",IF(②選手情報入力!H33=\"\",0,1))","v":""},{"$f":"IF(E24=\"\",\"\",IF(②選手情報入力!I33=\"\",\"\",IF(I24=1,VLOOKUP(②選手情報入力!I33,種目情報!$A$4:$C$39,3,FALSE),VLOOKUP(②選手情報入力!I33,種目情報!$E$4:$G$40,3,FALSE))))","v":""},{"$f":"IF(E24=\"\",\"\",IF(②選手情報入力!L33=\"\",\"\",IF(I24=1,VLOOKUP(②選手情報入力!L33,種目情報!$A$4:$B$39,2,FALSE),VLOOKUP(②選手情報入力!L33,種目情報!$E$4:$F$40,2,FALSE))))","v":""},{"$f":"IF(E24=\"\",\"\",IF(②選手情報入力!M33=\"\",\"\",②選手情報入力!M33))","v":""},{"$f":"IF(E24=\"\",\"\",IF(②選手情報入力!K33=\"\",0,1))","v":""},{"$f":"IF(E24=\"\",\"\",IF(②選手情報入力!L33=\"\",\"\",IF(I24=1,VLOOKUP(②選手情報入力!L33,種目情報!$A$4:$C$39,3,FALSE),VLOOKUP(②選手情報入力!L33,種目情報!$E$4:$G$40,3,FALSE))))","v":""},{"$f":"IF(E24=\"\",\"\",IF(②選手情報入力!O33=\"\",\"\",IF(I24=1,VLOOKUP(②選手情報入力!O33,種目情報!$A$4:$B$39,2,FALSE),VLOOKUP(②選手情報入力!O33,種目情報!$E$4:$F$40,2,FALSE))))","v":""},{"$f":"IF(E24=\"\",\"\",IF(②選手情報入力!P33=\"\",\"\",②選手情報入力!P33))","v":""},{"$f":"IF(E24=\"\",\"\",IF(②選手情報入力!N33=\"\",0,1))","v":""},{"$f":"IF(E24=\"\",\"\",IF(②選手情報入力!O33=\"\",\"\",IF(I24=1,VLOOKUP(②選手情報入力!O33,種目情報!$A$4:$C$39,3,FALSE),VLOOKUP(②選手情報入力!O33,種目情報!$E$4:$G$40,3,FALSE))))","v":""},{"$f":"IF(E24=\"\",\"\",IF(②選手情報入力!Q33=\"\",\"\",IF(I24=1,種目情報!$J$4,種目情報!$J$6)))","v":""},{"$f":"IF(E24=\"\",\"\",IF(②選手情報入力!Q33=\"\",\"\",IF(I24=1,IF(②選手情報入力!$R$6=\"\",\"\",②選手情報入力!$R$6),IF(②選手情報入力!$R$7=\"\",\"\",②選手情報入力!$R$7))))","v":""},{"$f":"IF(E24=\"\",\"\",IF(②選手情報入力!Q33=\"\",\"\",IF(I24=1,IF(②選手情報入力!$Q$6=\"\",0,1),IF(②選手情報入力!$Q$7=\"\",0,1))))","v":""},{"$f":"IF(E24=\"\",\"\",IF(②選手情報入力!Q33=\"\",\"\",2))","v":""},{"$f":"IF(E24=\"\",\"\",IF(②選手情報入力!S33=\"\",\"\",IF(I24=1,種目情報!$J$5,種目情報!$J$7)))","v":""},{"$f":"IF(E24=\"\",\"\",IF(②選手情報入力!S33=\"\",\"\",IF(I24=1,IF(②選手情報入力!$T$6=\"\",\"\",②選手情報入力!$T$6),IF(②選手情報入力!$T$7=\"\",\"\",②選手情報入力!$T$7))))","v":""},{"$f":"IF(E24=\"\",\"\",IF(②選手情報入力!S33=\"\",\"\",IF(I24=1,IF(②選手情報入力!$S$6=\"\",0,1),IF(②選手情報入力!$S$7=\"\",0,1))))","v":""},{"$f":"IF(E24=\"\",\"\",IF(②選手情報入力!S33=\"\",\"\",2))","v":""}]
[{"$f":"IF(E25=\"\",\"\",I25*1200000+①団体情報入力!$C$3*1000+②選手情報入力!A34)","v":""},{"$f":"IF(E25=\"\",\"\",①団体情報入力!$C$3)","v":""},null,{"$f":"IF(E25=\"\",\"\",LEFT(②選手情報入力!B34,1))","v":""},{"$f":"IF(②選手情報入力!B34=\"\",\"\",RIGHT(②選手情報入力!B34,LEN(②選手情報入力!B34)-1))","v":""},{"$f":"IF(E25=\"\",\"\",②選手情報入力!C34)","v":""},{"$f":"IF(E25=\"\",\"\",②選手情報入力!D34)","v":""},"",{"$f":"IF(E25=\"\",\"\",IF(②選手情報入力!F34=\"男\",1,2))","v":""},{"$f":"IF(E25=\"\",\"\",IF(②選手情報入力!G34=\"\",\"\",②選手情報入力!G34))","v":""},null,"","",null,{"$f":"IF(E25=\"\",\"\",IF(②選手情報入力!I34=\"\",\"\",IF(I25=1,VLOOKUP(②選手情報入力!I34,種目情報!$A$4:$B$135,2,FALSE),VLOOKUP(②選手情報入力!I34,種目情報!$E$4:$F$135,2,FALSE))))","v":""},{"$f":"IF(E25=\"\",\"\",IF(②選手情報入力!J34=\"\",\"\",②選手情報入力!J34))","v":""},{"$f":"IF(E25=\"\",\"\",IF(②選手情報入力!H34=\"\",0,1))","v":""},{"$f":"IF(E25=\"\",\"\",IF(②選手情報入力!I34=\"\",\"\",IF(I25=1,VLOOKUP(②選手情報入力!I34,種目情報!$A$4:$C$39,3,FALSE),VLOOKUP(②選手情報入力!I34,種目情報!$E$4:$G$40,3,FALSE))))","v":""},{"$f":"IF(E25=\"\",\"\",IF(②選手情報入力!L34=\"\",\"\",IF(I25=1,VLOOKUP(②選手情報入力!L34,種目情報!$A$4:$B$39,2,FALSE),VLOOKUP(②選手情報入力!L34,種目情報!$E$4:$F$40,2,FALSE))))","v":""},{"$f":"IF(E25=\"\",\"\",IF(②選手情報入力!M34=\"\",\"\",②選手情報入力!M34))","v":""},{"$f":"IF(E25=\"\",\"\",IF(②選手情報入力!K34=\"\",0,1))","v":""},{"$f":"IF(E25=\"\",\"\",IF(②選手情報入力!L34=\"\",\"\",IF(I25=1,VLOOKUP(②選手情報入力!L34,種目情報!$A$4:$C$39,3,FALSE),VLOOKUP(②選手情報入力!L34,種目情報!$E$4:$G$40,3,FALSE))))","v":""},{"$f":"IF(E25=\"\",\"\",IF(②選手情報入力!O34=\"\",\"\",IF(I25=1,VLOOKUP(②選手情報入力!O34,種目情報!$A$4:$B$39,2,FALSE),VLOOKUP(②選手情報入力!O34,種目情報!$E$4:$F$40,2,FALSE))))","v":""},{"$f":"IF(E25=\"\",\"\",IF(②選手情報入力!P34=\"\",\"\",②選手情報入力!P34))","v":""},{"$f":"IF(E25=\"\",\"\",IF(②選手情報入力!N34=\"\",0,1))","v":""},{"$f":"IF(E25=\"\",\"\",IF(②選手情報入力!O34=\"\",\"\",IF(I25=1,VLOOKUP(②選手情報入力!O34,種目情報!$A$4:$C$39,3,FALSE),VLOOKUP(②選手情報入力!O34,種目情報!$E$4:$G$40,3,FALSE))))","v":""},{"$f":"IF(E25=\"\",\"\",IF(②選手情報入力!Q34=\"\",\"\",IF(I25=1,種目情報!$J$4,種目情報!$J$6)))","v":""},{"$f":"IF(E25=\"\",\"\",IF(②選手情報入力!Q34=\"\",\"\",IF(I25=1,IF(②選手情報入力!$R$6=\"\",\"\",②選手情報入力!$R$6),IF(②選手情報入力!$R$7=\"\",\"\",②選手情報入力!$R$7))))","v":""},{"$f":"IF(E25=\"\",\"\",IF(②選手情報入力!Q34=\"\",\"\",IF(I25=1,IF(②選手情報入力!$Q$6=\"\",0,1),IF(②選手情報入力!$Q$7=\"\",0,1))))","v":""},{"$f":"IF(E25=\"\",\"\",IF(②選手情報入力!Q34=\"\",\"\",2))","v":""},{"$f":"IF(E25=\"\",\"\",IF(②選手情報入力!S34=\"\",\"\",IF(I25=1,種目情報!$J$5,種目情報!$J$7)))","v":""},{"$f":"IF(E25=\"\",\"\",IF(②選手情報入力!S34=\"\",\"\",IF(I25=1,IF(②選手情報入力!$T$6=\"\",\"\",②選手情報入力!$T$6),IF(②選手情報入力!$T$7=\"\",\"\",②選手情報入力!$T$7))))","v":""},{"$f":"IF(E25=\"\",\"\",IF(②選手情報入力!S34=\"\",\"\",IF(I25=1,IF(②選手情報入力!$S$6=\"\",0,1),IF(②選手情報入力!$S$7=\"\",0,1))))","v":""},{"$f":"IF(E25=\"\",\"\",IF(②選手情報入力!S34=\"\",\"\",2))","v":""}]
[{"$f":"IF(E26=\"\",\"\",I26*1200000+①団体情報入力!$C$3*1000+②選手情報入力!A35)","v":""},{"$f":"IF(E26=\"\",\"\",①団体情報入力!$C$3)","v":""},null,{"$f":"IF(E26=\"\",\"\",LEFT(②選手情報入力!B35,1))","v":""},{"$f":"IF(②選手情報入力!B35=\"\",\"\",RIGHT(②選手情報入力!B35,LEN(②選手情報入力!B35)-1))","v":""},{"$f":"IF(E26=\"\",\"\",②選手情報入力!C35)","v":""},{"$f":"IF(E26=\"\",\"\",②選手情報入力!D35)","v":""},"",{"$f":"IF(E26=\"\",\"\",IF(②選手情報入力!F35=\"男\",1,2))","v":""},{"$f":"IF(E26=\"\",\"\",IF(②選手情報入力!G35=\"\",\"\",②選手情報入力!G35))","v":""},null,"","",null,{"$f":"IF(E26=\"\",\"\",IF(②選手情報入力!I35=\"\",\"\",IF(I26=1,VLOOKUP(②選手情報入力!I35,種目情報!$A$4:$B$135,2,FALSE),VLOOKUP(②選手情報入力!I35,種目情報!$E$4:$F$135,2,FALSE))))","v":""},{"$f":"IF(E26=\"\",\"\",IF(②選手情報入力!J35=\"\",\"\",②選手情報入力!J35))","v":""},{"$f":"IF(E26=\"\",\"\",IF(②選手情報入力!H35=\"\",0,1))","v":""},{"$f":"IF(E26=\"\",\"\",IF(②選手情報入力!I35=\"\",\"\",IF(I26=1,VLOOKUP(②選手情報入力!I35,種目情報!$A$4:$C$39,3,FALSE),VLOOKUP(②選手情報入力!I35,種目情報!$E$4:$G$40,3,FALSE))))","v":""},{"$f":"IF(E26=\"\",\"\",IF(②選手情報入力!L35=\"\",\"\",IF(I26=1,VLOOKUP(②選手情報入力!L35,種目情報!$A$4:$B$39,2,FALSE),VLOOKUP(②選手情報入力!L35,種目情報!$E$4:$F$40,2,FALSE))))","v":""},{"$f":"IF(E26=\"\",\"\",IF(②選手情報入力!M35=\"\",\"\",②選手情報入力!M35))","v":""},{"$f":"IF(E26=\"\",\"\",IF(②選手情報入力!K35=\"\",0,1))","v":""},{"$f":"IF(E26=\"\",\"\",IF(②選手情報入力!L35=\"\",\"\",IF(I26=1,VLOOKUP(②選手情報入力!L35,種目情報!$A$4:$C$39,3,FALSE),VLOOKUP(②選手情報入力!L35,種目情報!$E$4:$G$40,3,FALSE))))","v":""},{"$f":"IF(E26=\"\",\"\",IF(②選手情報入力!O35=\"\",\"\",IF(I26=1,VLOOKUP(②選手情報入力!O35,種目情報!$A$4:$B$39,2,FALSE),VLOOKUP(②選手情報入力!O35,種目情報!$E$4:$F$40,2,FALSE))))","v":""},{"$f":"IF(E26=\"\",\"\",IF(②選手情報入力!P35=\"\",\"\",②選手情報入力!P35))","v":""},{"$f":"IF(E26=\"\",\"\",IF(②選手情報入力!N35=\"\",0,1))","v":""},{"$f":"IF(E26=\"\",\"\",IF(②選手情報入力!O35=\"\",\"\",IF(I26=1,VLOOKUP(②選手情報入力!O35,種目情報!$A$4:$C$39,3,FALSE),VLOOKUP(②選手情報入力!O35,種目情報!$E$4:$G$40,3,FALSE))))","v":""},{"$f":"IF(E26=\"\",\"\",IF(②選手情報入力!Q35=\"\",\"\",IF(I26=1,種目情報!$J$4,種目情報!$J$6)))","v":""},{"$f":"IF(E26=\"\",\"\",IF(②選手情報入力!Q35=\"\",\"\",IF(I26=1,IF(②選手情報入力!$R$6=\"\",\"\",②選手情報入力!$R$6),IF(②選手情報入力!$R$7=\"\",\"\",②選手情報入力!$R$7))))","v":""},{"$f":"IF(E26=\"\",\"\",IF(②選手情報入力!Q35=\"\",\"\",IF(I26=1,IF(②選手情報入力!$Q$6=\"\",0,1),IF(②選手情報入力!$Q$7=\"\",0,1))))","v":""},{"$f":"IF(E26=\"\",\"\",IF(②選手情報入力!Q35=\"\",\"\",2))","v":""},{"$f":"IF(E26=\"\",\"\",IF(②選手情報入力!S35=\"\",\"\",IF(I26=1,種目情報!$J$5,種目情報!$J$7)))","v":""},{"$f":"IF(E26=\"\",\"\",IF(②選手情報入力!S35=\"\",\"\",IF(I26=1,IF(②選手情報入力!$T$6=\"\",\"\",②選手情報入力!$T$6),IF(②選手情報入力!$T$7=\"\",\"\",②選手情報入力!$T$7))))","v":""},{"$f":"IF(E26=\"\",\"\",IF(②選手情報入力!S35=\"\",\"\",IF(I26=1,IF(②選手情報入力!$S$6=\"\",0,1),IF(②選手情報入力!$S$7=\"\",0,1))))","v":""},{"$f":"IF(E26=\"\",\"\",IF(②選手情報入力!S35=\"\",\"\",2))","v":""}]
[{"$f":"IF(E27=\"\",\"\",I27*1200000+①団体情報入力!$C$3*1000+②選手情報入力!A36)","v":""},{"$f":"IF(E27=\"\",\"\",①団体情報入力!$C$3)","v":""},null,{"$f":"IF(E27=\"\",\"\",LEFT(②選手情報入力!B36,1))","v":""},{"$f":"IF(②選手情報入力!B36=\"\",\"\",RIGHT(②選手情報入力!B36,LEN(②選手情報入力!B36)-1))","v":""},{"$f":"IF(E27=\"\",\"\",②選手情報入力!C36)","v":""},{"$f":"IF(E27=\"\",\"\",②選手情報入力!D36)","v":""},"",{"$f":"IF(E27=\"\",\"\",IF(②選手情報入力!F36=\"男\",1,2))","v":""},{"$f":"IF(E27=\"\",\"\",IF(②選手情報入力!G36=\"\",\"\",②選手情報入力!G36))","v":""},null,"","",null,{"$f":"IF(E27=\"\",\"\",IF(②選手情報入力!I36=\"\",\"\",IF(I27=1,VLOOKUP(②選手情報入力!I36,種目情報!$A$4:$B$135,2,FALSE),VLOOKUP(②選手情報入力!I36,種目情報!$E$4:$F$135,2,FALSE))))","v":""},{"$f":"IF(E27=\"\",\"\",IF(②選手情報入力!J36=\"\",\"\",②選手情報入力!J36))","v":""},{"$f":"IF(E27=\"\",\"\",IF(②選手情報入力!H36=\"\",0,1))","v":""},{"$f":"IF(E27=\"\",\"\",IF(②選手情報入力!I36=\"\",\"\",IF(I27=1,VLOOKUP(②選手情報入力!I36,種目情報!$A$4:$C$39,3,FALSE),VLOOKUP(②選手情報入力!I36,種目情報!$E$4:$G$40,3,FALSE))))","v":""},{"$f":"IF(E27=\"\",\"\",IF(②選手情報入力!L36=\"\",\"\",IF(I27=1,VLOOKUP(②選手情報入力!L36,種目情報!$A$4:$B$39,2,FALSE),VLOOKUP(②選手情報入力!L36,種目情報!$E$4:$F$40,2,FALSE))))","v":""},{"$f":"IF(E27=\"\",\"\",IF(②選手情報入力!M36=\"\",\"\",②選手情報入力!M36))","v":""},{"$f":"IF(E27=\"\",\"\",IF(②選手情報入力!K36=\"\",0,1))","v":""},{"$f":"IF(E27=\"\",\"\",IF(②選手情報入力!L36=\"\",\"\",IF(I27=1,VLOOKUP(②選手情報入力!L36,種目情報!$A$4:$C$39,3,FALSE),VLOOKUP(②選手情報入力!L36,種目情報!$E$4:$G$40,3,FALSE))))","v":""},{"$f":"IF(E27=\"\",\"\",IF(②選手情報入力!O36=\"\",\"\",IF(I27=1,VLOOKUP(②選手情報入力!O36,種目情報!$A$4:$B$39,2,FALSE),VLOOKUP(②選手情報入力!O36,種目情報!$E$4:$F$40,2,FALSE))))","v":""},{"$f":"IF(E27=\"\",\"\",IF(②選手情報入力!P36=\"\",\"\",②選手情報入力!P36))","v":""},{"$f":"IF(E27=\"\",\"\",IF(②選手情報入力!N36=\"\",0,1))","v":""},{"$f":"IF(E27=\"\",\"\",IF(②選手情報入力!O36=\"\",\"\",IF(I27=1,VLOOKUP(②選手情報入力!O36,種目情報!$A$4:$C$39,3,FALSE),VLOOKUP(②選手情報入力!O36,種目情報!$E$4:$G$40,3,FALSE))))","v":""},{"$f":"IF(E27=\"\",\"\",IF(②選手情報入力!Q36=\"\",\"\",IF(I27=1,種目情報!$J$4,種目情報!$J$6)))","v":""},{"$f":"IF(E27=\"\",\"\",IF(②選手情報入力!Q36=\"\",\"\",IF(I27=1,IF(②選手情報入力!$R$6=\"\",\"\",②選手情報入力!$R$6),IF(②選手情報入力!$R$7=\"\",\"\",②選手情報入力!$R$7))))","v":""},{"$f":"IF(E27=\"\",\"\",IF(②選手情報入力!Q36=\"\",\"\",IF(I27=1,IF(②選手情報入力!$Q$6=\"\",0,1),IF(②選手情報入力!$Q$7=\"\",0,1))))","v":""},{"$f":"IF(E27=\"\",\"\",IF(②選手情報入力!Q36=\"\",\"\",2))","v":""},{"$f":"IF(E27=\"\",\"\",IF(②選手情報入力!S36=\"\",\"\",IF(I27=1,種目情報!$J$5,種目情報!$J$7)))","v":""},{"$f":"IF(E27=\"\",\"\",IF(②選手情報入力!S36=\"\",\"\",IF(I27=1,IF(②選手情報入力!$T$6=\"\",\"\",②選手情報入力!$T$6),IF(②選手情報入力!$T$7=\"\",\"\",②選手情報入力!$T$7))))","v":""},{"$f":"IF(E27=\"\",\"\",IF(②選手情報入力!S36=\"\",\"\",IF(I27=1,IF(②選手情報入力!$S$6=\"\",0,1),IF(②選手情報入力!$S$7=\"\",0,1))))","v":""},{"$f":"IF(E27=\"\",\"\",IF(②選手情報入力!S36=\"\",\"\",2))","v":""}]
[{"$f":"IF(E28=\"\",\"\",I28*1200000+①団体情報入力!$C$3*1000+②選手情報入力!A37)","v":""},{"$f":"IF(E28=\"\",\"\",①団体情報入力!$C$3)","v":""},null,{"$f":"IF(E28=\"\",\"\",LEFT(②選手情報入力!B37,1))","v":""},{"$f":"IF(②選手情報入力!B37=\"\",\"\",RIGHT(②選手情報入力!B37,LEN(②選手情報入力!B37)-1))","v":""},{"$f":"IF(E28=\"\",\"\",②選手情報入力!C37)","v":""},{"$f":"IF(E28=\"\",\"\",②選手情報入力!D37)","v":""},"",{"$f":"IF(E28=\"\",\"\",IF(②選手情報入力!F37=\"男\",1,2))","v":""},{"$f":"IF(E28=\"\",\"\",IF(②選手情報入力!G37=\"\",\"\",②選手情報入力!G37))","v":""},null,"","",null,{"$f":"IF(E28=\"\",\"\",IF(②選手情報入力!I37=\"\",\"\",IF(I28=1,VLOOKUP(②選手情報入力!I37,種目情報!$A$4:$B$135,2,FALSE),VLOOKUP(②選手情報入力!I37,種目情報!$E$4:$F$135,2,FALSE))))","v":""},{"$f":"IF(E28=\"\",\"\",IF(②選手情報入力!J37=\"\",\"\",②選手情報入力!J37))","v":""},{"$f":"IF(E28=\"\",\"\",IF(②選手情報入力!H37=\"\",0,1))","v":""},{"$f":"IF(E28=\"\",\"\",IF(②選手情報入力!I37=\"\",\"\",IF(I28=1,VLOOKUP(②選手情報入力!I37,種目情報!$A$4:$C$39,3,FALSE),VLOOKUP(②選手情報入力!I37,種目情報!$E$4:$G$40,3,FALSE))))","v":""},{"$f":"IF(E28=\"\",\"\",IF(②選手情報入力!L37=\"\",\"\",IF(I28=1,VLOOKUP(②選手情報入力!L37,種目情報!$A$4:$B$39,2,FALSE),VLOOKUP(②選手情報入力!L37,種目情報!$E$4:$F$40,2,FALSE))))","v":""},{"$f":"IF(E28=\"\",\"\",IF(②選手情報入力!M37=\"\",\"\",②選手情報入力!M37))","v":""},{"$f":"IF(E28=\"\",\"\",IF(②選手情報入力!K37=\"\",0,1))","v":""},{"$f":"IF(E28=\"\",\"\",IF(②選手情報入力!L37=\"\",\"\",IF(I28=1,VLOOKUP(②選手情報入力!L37,種目情報!$A$4:$C$39,3,FALSE),VLOOKUP(②選手情報入力!L37,種目情報!$E$4:$G$40,3,FALSE))))","v":""},{"$f":"IF(E28=\"\",\"\",IF(②選手情報入力!O37=\"\",\"\",IF(I28=1,VLOOKUP(②選手情報入力!O37,種目情報!$A$4:$B$39,2,FALSE),VLOOKUP(②選手情報入力!O37,種目情報!$E$4:$F$40,2,FALSE))))","v":""},{"$f":"IF(E28=\"\",\"\",IF(②選手情報入力!P37=\"\",\"\",②選手情報入力!P37))","v":""},{"$f":"IF(E28=\"\",\"\",IF(②選手情報入力!N37=\"\",0,1))","v":""},{"$f":"IF(E28=\"\",\"\",IF(②選手情報入力!O37=\"\",\"\",IF(I28=1,VLOOKUP(②選手情報入力!O37,種目情報!$A$4:$C$39,3,FALSE),VLOOKUP(②選手情報入力!O37,種目情報!$E$4:$G$40,3,FALSE))))","v":""},{"$f":"IF(E28=\"\",\"\",IF(②選手情報入力!Q37=\"\",\"\",IF(I28=1,種目情報!$J$4,種目情報!$J$6)))","v":""},{"$f":"IF(E28=\"\",\"\",IF(②選手情報入力!Q37=\"\",\"\",IF(I28=1,IF(②選手情報入力!$R$6=\"\",\"\",②選手情報入力!$R$6),IF(②選手情報入力!$R$7=\"\",\"\",②選手情報入力!$R$7))))","v":""},{"$f":"IF(E28=\"\",\"\",IF(②選手情報入力!Q37=\"\",\"\",IF(I28=1,IF(②選手情報入力!$Q$6=\"\",0,1),IF(②選手情報入力!$Q$7=\"\",0,1))))","v":""},{"$f":"IF(E28=\"\",\"\",IF(②選手情報入力!Q37=\"\",\"\",2))","v":""},{"$f":"IF(E28=\"\",\"\",IF(②選手情報入力!S37=\"\",\"\",IF(I28=1,種目情報!$J$5,種目情報!$J$7)))","v":""},{"$f":"IF(E28=\"\",\"\",IF(②選手情報入力!S37=\"\",\"\",IF(I28=1,IF(②選手情報入力!$T$6=\"\",\"\",②選手情報入力!$T$6),IF(②選手情報入力!$T$7=\"\",\"\",②選手情報入力!$T$7))))","v":""},{"$f":"IF(E28=\"\",\"\",IF(②選手情報入力!S37=\"\",\"\",IF(I28=1,IF(②選手情報入力!$S$6=\"\",0,1),IF(②選手情報入力!$S$7=\"\",0,1))))","v":""},{"$f":"IF(E28=\"\",\"\",IF(②選手情報入力!S37=\"\",\"\",2))","v":""}]
[{"$f":"IF(E29=\"\",\"\",I29*1200000+①団体情報入力!$C$3*1000+②選手情報入力!A38)","v":""},{"$f":"IF(E29=\"\",\"\",①団体情報入力!$C$3)","v":""},null,{"$f":"IF(E29=\"\",\"\",LEFT(②選手情報入力!B38,1))","v":""},{"$f":"IF(②選手情報入力!B38=\"\",\"\",RIGHT(②選手情報入力!B38,LEN(②選手情報入力!B38)-1))","v":""},{"$f":"IF(E29=\"\",\"\",②選手情報入力!C38)","v":""},{"$f":"IF(E29=\"\",\"\",②選手情報入力!D38)","v":""},"",{"$f":"IF(E29=\"\",\"\",IF(②選手情報入力!F38=\"男\",1,2))","v":""},{"$f":"IF(E29=\"\",\"\",IF(②選手情報入力!G38=\"\",\"\",②選手情報入力!G38))","v":""},null,"","",null,{"$f":"IF(E29=\"\",\"\",IF(②選手情報入力!I38=\"\",\"\",IF(I29=1,VLOOKUP(②選手情報入力!I38,種目情報!$A$4:$B$135,2,FALSE),VLOOKUP(②選手情報入力!I38,種目情報!$E$4:$F$135,2,FALSE))))","v":""},{"$f":"IF(E29=\"\",\"\",IF(②選手情報入力!J38=\"\",\"\",②選手情報入力!J38))","v":""},{"$f":"IF(E29=\"\",\"\",IF(②選手情報入力!H38=\"\",0,1))","v":""},{"$f":"IF(E29=\"\",\"\",IF(②選手情報入力!I38=\"\",\"\",IF(I29=1,VLOOKUP(②選手情報入力!I38,種目情報!$A$4:$C$39,3,FALSE),VLOOKUP(②選手情報入力!I38,種目情報!$E$4:$G$40,3,FALSE))))","v":""},{"$f":"IF(E29=\"\",\"\",IF(②選手情報入力!L38=\"\",\"\",IF(I29=1,VLOOKUP(②選手情報入力!L38,種目情報!$A$4:$B$39,2,FALSE),VLOOKUP(②選手情報入力!L38,種目情報!$E$4:$F$40,2,FALSE))))","v":""},{"$f":"IF(E29=\"\",\"\",IF(②選手情報入力!M38=\"\",\"\",②選手情報入力!M38))","v":""},{"$f":"IF(E29=\"\",\"\",IF(②選手情報入力!K38=\"\",0,1))","v":""},{"$f":"IF(E29=\"\",\"\",IF(②選手情報入力!L38=\"\",\"\",IF(I29=1,VLOOKUP(②選手情報入力!L38,種目情報!$A$4:$C$39,3,FALSE),VLOOKUP(②選手情報入力!L38,種目情報!$E$4:$G$40,3,FALSE))))","v":""},{"$f":"IF(E29=\"\",\"\",IF(②選手情報入力!O38=\"\",\"\",IF(I29=1,VLOOKUP(②選手情報入力!O38,種目情報!$A$4:$B$39,2,FALSE),VLOOKUP(②選手情報入力!O38,種目情報!$E$4:$F$40,2,FALSE))))","v":""},{"$f":"IF(E29=\"\",\"\",IF(②選手情報入力!P38=\"\",\"\",②選手情報入力!P38))","v":""},{"$f":"IF(E29=\"\",\"\",IF(②選手情報入力!N38=\"\",0,1))","v":""},{"$f":"IF(E29=\"\",\"\",IF(②選手情報入力!O38=\"\",\"\",IF(I29=1,VLOOKUP(②選手情報入力!O38,種目情報!$A$4:$C$39,3,FALSE),VLOOKUP(②選手情報入力!O38,種目情報!$E$4:$G$40,3,FALSE))))","v":""},{"$f":"IF(E29=\"\",\"\",IF(②選手情報入力!Q38=\"\",\"\",IF(I29=1,種目情報!$J$4,種目情報!$J$6)))","v":""},{"$f":"IF(E29=\"\",\"\",IF(②選手情報入力!Q38=\"\",\"\",IF(I29=1,IF(②選手情報入力!$R$6=\"\",\"\",②選手情報入力!$R$6),IF(②選手情報入力!$R$7=\"\",\"\",②選手情報入力!$R$7))))","v":""},{"$f":"IF(E29=\"\",\"\",IF(②選手情報入力!Q38=\"\",\"\",IF(I29=1,IF(②選手情報入力!$Q$6=\"\",0,1),IF(②選手情報入力!$Q$7=\"\",0,1))))","v":""},{"$f":"IF(E29=\"\",\"\",IF(②選手情報入力!Q38=\"\",\"\",2))","v":""},{"$f":"IF(E29=\"\",\"\",IF(②選手情報入力!S38=\"\",\"\",IF(I29=1,種目情報!$J$5,種目情報!$J$7)))","v":""},{"$f":"IF(E29=\"\",\"\",IF(②選手情報入力!S38=\"\",\"\",IF(I29=1,IF(②選手情報入力!$T$6=\"\",\"\",②選手情報入力!$T$6),IF(②選手情報入力!$T$7=\"\",\"\",②選手情報入力!$T$7))))","v":""},{"$f":"IF(E29=\"\",\"\",IF(②選手情報入力!S38=\"\",\"\",IF(I29=1,IF(②選手情報入力!$S$6=\"\",0,1),IF(②選手情報入力!$S$7=\"\",0,1))))","v":""},{"$f":"IF(E29=\"\",\"\",IF(②選手情報入力!S38=\"\",\"\",2))","v":""}]
[{"$f":"IF(E30=\"\",\"\",I30*1200000+①団体情報入力!$C$3*1000+②選手情報入力!A39)","v":""},{"$f":"IF(E30=\"\",\"\",①団体情報入力!$C$3)","v":""},null,{"$f":"IF(E30=\"\",\"\",LEFT(②選手情報入力!B39,1))","v":""},{"$f":"IF(②選手情報入力!B39=\"\",\"\",RIGHT(②選手情報入力!B39,LEN(②選手情報入力!B39)-1))","v":""},{"$f":"IF(E30=\"\",\"\",②選手情報入力!C39)","v":""},{"$f":"IF(E30=\"\",\"\",②選手情報入力!D39)","v":""},"",{"$f":"IF(E30=\"\",\"\",IF(②選手情報入力!F39=\"男\",1,2))","v":""},{"$f":"IF(E30=\"\",\"\",IF(②選手情報入力!G39=\"\",\"\",②選手情報入力!G39))","v":""},null,"","",null,{"$f":"IF(E30=\"\",\"\",IF(②選手情報入力!I39=\"\",\"\",IF(I30=1,VLOOKUP(②選手情報入力!I39,種目情報!$A$4:$B$135,2,FALSE),VLOOKUP(②選手情報入力!I39,種目情報!$E$4:$F$135,2,FALSE))))","v":""},{"$f":"IF(E30=\"\",\"\",IF(②選手情報入力!J39=\"\",\"\",②選手情報入力!J39))","v":""},{"$f":"IF(E30=\"\",\"\",IF(②選手情報入力!H39=\"\",0,1))","v":""},{"$f":"IF(E30=\"\",\"\",IF(②選手情報入力!I39=\"\",\"\",IF(I30=1,VLOOKUP(②選手情報入力!I39,種目情報!$A$4:$C$39,3,FALSE),VLOOKUP(②選手情報入力!I39,種目情報!$E$4:$G$40,3,FALSE))))","v":""},{"$f":"IF(E30=\"\",\"\",IF(②選手情報入力!L39=\"\",\"\",IF(I30=1,VLOOKUP(②選手情報入力!L39,種目情報!$A$4:$B$39,2,FALSE),VLOOKUP(②選手情報入力!L39,種目情報!$E$4:$F$40,2,FALSE))))","v":""},{"$f":"IF(E30=\"\",\"\",IF(②選手情報入力!M39=\"\",\"\",②選手情報入力!M39))","v":""},{"$f":"IF(E30=\"\",\"\",IF(②選手情報入力!K39=\"\",0,1))","v":""},{"$f":"IF(E30=\"\",\"\",IF(②選手情報入力!L39=\"\",\"\",IF(I30=1,VLOOKUP(②選手情報入力!L39,種目情報!$A$4:$C$39,3,FALSE),VLOOKUP(②選手情報入力!L39,種目情報!$E$4:$G$40,3,FALSE))))","v":""},{"$f":"IF(E30=\"\",\"\",IF(②選手情報入力!O39=\"\",\"\",IF(I30=1,VLOOKUP(②選手情報入力!O39,種目情報!$A$4:$B$39,2,FALSE),VLOOKUP(②選手情報入力!O39,種目情報!$E$4:$F$40,2,FALSE))))","v":""},{"$f":"IF(E30=\"\",\"\",IF(②選手情報入力!P39=\"\",\"\",②選手情報入力!P39))","v":""},{"$f":"IF(E30=\"\",\"\",IF(②選手情報入力!N39=\"\",0,1))","v":""},{"$f":"IF(E30=\"\",\"\",IF(②選手情報入力!O39=\"\",\"\",IF(I30=1,VLOOKUP(②選手情報入力!O39,種目情報!$A$4:$C$39,3,FALSE),VLOOKUP(②選手情報入力!O39,種目情報!$E$4:$G$40,3,FALSE))))","v":""},{"$f":"IF(E30=\"\",\"\",IF(②選手情報入力!Q39=\"\",\"\",IF(I30=1,種目情報!$J$4,種目情報!$J$6)))","v":""},{"$f":"IF(E30=\"\",\"\",IF(②選手情報入力!Q39=\"\",\"\",IF(I30=1,IF(②選手情報入力!$R$6=\"\",\"\",②選手情報入力!$R$6),IF(②選手情報入力!$R$7=\"\",\"\",②選手情報入力!$R$7))))","v":""},{"$f":"IF(E30=\"\",\"\",IF(②選手情報入力!Q39=\"\",\"\",IF(I30=1,IF(②選手情報入力!$Q$6=\"\",0,1),IF(②選手情報入力!$Q$7=\"\",0,1))))","v":""},{"$f":"IF(E30=\"\",\"\",IF(②選手情報入力!Q39=\"\",\"\",2))","v":""},{"$f":"IF(E30=\"\",\"\",IF(②選手情報入力!S39=\"\",\"\",IF(I30=1,種目情報!$J$5,種目情報!$J$7)))","v":""},{"$f":"IF(E30=\"\",\"\",IF(②選手情報入力!S39=\"\",\"\",IF(I30=1,IF(②選手情報入力!$T$6=\"\",\"\",②選手情報入力!$T$6),IF(②選手情報入力!$T$7=\"\",\"\",②選手情報入力!$T$7))))","v":""},{"$f":"IF(E30=\"\",\"\",IF(②選手情報入力!S39=\"\",\"\",IF(I30=1,IF(②選手情報入力!$S$6=\"\",0,1),IF(②選手情報入力!$S$7=\"\",0,1))))","v":""},{"$f":"IF(E30=\"\",\"\",IF(②選手情報入力!S39=\"\",\"\",2))","v":""}]
[{"$f":"IF(E31=\"\",\"\",I31*1200000+①団体情報入力!$C$3*1000+②選手情報入力!A40)","v":""},{"$f":"IF(E31=\"\",\"\",①団体情報入力!$C$3)","v":""},null,{"$f":"IF(E31=\"\",\"\",LEFT(②選手情報入力!B40,1))","v":""},{"$f":"IF(②選手情報入力!B40=\"\",\"\",RIGHT(②選手情報入力!B40,LEN(②選手情報入力!B40)-1))","v":""},{"$f":"IF(E31=\"\",\"\",②選手情報入力!C40)","v":""},{"$f":"IF(E31=\"\",\"\",②選手情報入力!D40)","v":""},"",{"$f":"IF(E31=\"\",\"\",IF(②選手情報入力!F40=\"男\",1,2))","v":""},{"$f":"IF(E31=\"\",\"\",IF(②選手情報入力!G40=\"\",\"\",②選手情報入力!G40))","v":""},null,"","",null,{"$f":"IF(E31=\"\",\"\",IF(②選手情報入力!I40=\"\",\"\",IF(I31=1,VLOOKUP(②選手情報入力!I40,種目情報!$A$4:$B$135,2,FALSE),VLOOKUP(②選手情報入力!I40,種目情報!$E$4:$F$135,2,FALSE))))","v":""},{"$f":"IF(E31=\"\",\"\",IF(②選手情報入力!J40=\"\",\"\",②選手情報入力!J40))","v":""},{"$f":"IF(E31=\"\",\"\",IF(②選手情報入力!H40=\"\",0,1))","v":""},{"$f":"IF(E31=\"\",\"\",IF(②選手情報入力!I40=\"\",\"\",IF(I31=1,VLOOKUP(②選手情報入力!I40,種目情報!$A$4:$C$39,3,FALSE),VLOOKUP(②選手情報入力!I40,種目情報!$E$4:$G$40,3,FALSE))))","v":""},{"$f":"IF(E31=\"\",\"\",IF(②選手情報入力!L40=\"\",\"\",IF(I31=1,VLOOKUP(②選手情報入力!L40,種目情報!$A$4:$B$39,2,FALSE),VLOOKUP(②選手情報入力!L40,種目情報!$E$4:$F$40,2,FALSE))))","v":""},{"$f":"IF(E31=\"\",\"\",IF(②選手情報入力!M40=\"\",\"\",②選手情報入力!M40))","v":""},{"$f":"IF(E31=\"\",\"\",IF(②選手情報入力!K40=\"\",0,1))","v":""},{"$f":"IF(E31=\"\",\"\",IF(②選手情報入力!L40=\"\",\"\",IF(I31=1,VLOOKUP(②選手情報入力!L40,種目情報!$A$4:$C$39,3,FALSE),VLOOKUP(②選手情報入力!L40,種目情報!$E$4:$G$40,3,FALSE))))","v":""},{"$f":"IF(E31=\"\",\"\",IF(②選手情報入力!O40=\"\",\"\",IF(I31=1,VLOOKUP(②選手情報入力!O40,種目情報!$A$4:$B$39,2,FALSE),VLOOKUP(②選手情報入力!O40,種目情報!$E$4:$F$40,2,FALSE))))","v":""},{"$f":"IF(E31=\"\",\"\",IF(②選手情報入力!P40=\"\",\"\",②選手情報入力!P40))","v":""},{"$f":"IF(E31=\"\",\"\",IF(②選手情報入力!N40=\"\",0,1))","v":""},{"$f":"IF(E31=\"\",\"\",IF(②選手情報入力!O40=\"\",\"\",IF(I31=1,VLOOKUP(②選手情報入力!O40,種目情報!$A$4:$C$39,3,FALSE),VLOOKUP(②選手情報入力!O40,種目情報!$E$4:$G$40,3,FALSE))))","v":""},{"$f":"IF(E31=\"\",\"\",IF(②選手情報入力!Q40=\"\",\"\",IF(I31=1,種目情報!$J$4,種目情報!$J$6)))","v":""},{"$f":"IF(E31=\"\",\"\",IF(②選手情報入力!Q40=\"\",\"\",IF(I31=1,IF(②選手情報入力!$R$6=\"\",\"\",②選手情報入力!$R$6),IF(②選手情報入力!$R$7=\"\",\"\",②選手情報入力!$R$7))))","v":""},{"$f":"IF(E31=\"\",\"\",IF(②選手情報入力!Q40=\"\",\"\",IF(I31=1,IF(②選手情報入力!$Q$6=\"\",0,1),IF(②選手情報入力!$Q$7=\"\",0,1))))","v":""},{"$f":"IF(E31=\"\",\"\",IF(②選手情報入力!Q40=\"\",\"\",2))","v":""},{"$f":"IF(E31=\"\",\"\",IF(②選手情報入力!S40=\"\",\"\",IF(I31=1,種目情報!$J$5,種目情報!$J$7)))","v":""},{"$f":"IF(E31=\"\",\"\",IF(②選手情報入力!S40=\"\",\"\",IF(I31=1,IF(②選手情報入力!$T$6=\"\",\"\",②選手情報入力!$T$6),IF(②選手情報入力!$T$7=\"\",\"\",②選手情報入力!$T$7))))","v":""},{"$f":"IF(E31=\"\",\"\",IF(②選手情報入力!S40=\"\",\"\",IF(I31=1,IF(②選手情報入力!$S$6=\"\",0,1),IF(②選手情報入力!$S$7=\"\",0,1))))","v":""},{"$f":"IF(E31=\"\",\"\",IF(②選手情報入力!S40=\"\",\"\",2))","v":""}]
[{"$f":"IF(E32=\"\",\"\",I32*1200000+①団体情報入力!$C$3*1000+②選手情報入力!A41)","v":""},{"$f":"IF(E32=\"\",\"\",①団体情報入力!$C$3)","v":""},null,{"$f":"IF(E32=\"\",\"\",LEFT(②選手情報入力!B41,1))","v":""},{"$f":"IF(②選手情報入力!B41=\"\",\"\",RIGHT(②選手情報入力!B41,LEN(②選手情報入力!B41)-1))","v":""},{"$f":"IF(E32=\"\",\"\",②選手情報入力!C41)","v":""},{"$f":"IF(E32=\"\",\"\",②選手情報入力!D41)","v":""},"",{"$f":"IF(E32=\"\",\"\",IF(②選手情報入力!F41=\"男\",1,2))","v":""},{"$f":"IF(E32=\"\",\"\",IF(②選手情報入力!G41=\"\",\"\",②選手情報入力!G41))","v":""},null,"","",null,{"$f":"IF(E32=\"\",\"\",IF(②選手情報入力!I41=\"\",\"\",IF(I32=1,VLOOKUP(②選手情報入力!I41,種目情報!$A$4:$B$135,2,FALSE),VLOOKUP(②選手情報入力!I41,種目情報!$E$4:$F$135,2,FALSE))))","v":""},{"$f":"IF(E32=\"\",\"\",IF(②選手情報入力!J41=\"\",\"\",②選手情報入力!J41))","v":""},{"$f":"IF(E32=\"\",\"\",IF(②選手情報入力!H41=\"\",0,1))","v":""},{"$f":"IF(E32=\"\",\"\",IF(②選手情報入力!I41=\"\",\"\",IF(I32=1,VLOOKUP(②選手情報入力!I41,種目情報!$A$4:$C$39,3,FALSE),VLOOKUP(②選手情報入力!I41,種目情報!$E$4:$G$40,3,FALSE))))","v":""},{"$f":"IF(E32=\"\",\"\",IF(②選手情報入力!L41=\"\",\"\",IF(I32=1,VLOOKUP(②選手情報入力!L41,種目情報!$A$4:$B$39,2,FALSE),VLOOKUP(②選手情報入力!L41,種目情報!$E$4:$F$40,2,FALSE))))","v":""},{"$f":"IF(E32=\"\",\"\",IF(②選手情報入力!M41=\"\",\"\",②選手情報入力!M41))","v":""},{"$f":"IF(E32=\"\",\"\",IF(②選手情報入力!K41=\"\",0,1))","v":""},{"$f":"IF(E32=\"\",\"\",IF(②選手情報入力!L41=\"\",\"\",IF(I32=1,VLOOKUP(②選手情報入力!L41,種目情報!$A$4:$C$39,3,FALSE),VLOOKUP(②選手情報入力!L41,種目情報!$E$4:$G$40,3,FALSE))))","v":""},{"$f":"IF(E32=\"\",\"\",IF(②選手情報入力!O41=\"\",\"\",IF(I32=1,VLOOKUP(②選手情報入力!O41,種目情報!$A$4:$B$39,2,FALSE),VLOOKUP(②選手情報入力!O41,種目情報!$E$4:$F$40,2,FALSE))))","v":""},{"$f":"IF(E32=\"\",\"\",IF(②選手情報入力!P41=\"\",\"\",②選手情報入力!P41))","v":""},{"$f":"IF(E32=\"\",\"\",IF(②選手情報入力!N41=\"\",0,1))","v":""},{"$f":"IF(E32=\"\",\"\",IF(②選手情報入力!O41=\"\",\"\",IF(I32=1,VLOOKUP(②選手情報入力!O41,種目情報!$A$4:$C$39,3,FALSE),VLOOKUP(②選手情報入力!O41,種目情報!$E$4:$G$40,3,FALSE))))","v":""},{"$f":"IF(E32=\"\",\"\",IF(②選手情報入力!Q41=\"\",\"\",IF(I32=1,種目情報!$J$4,種目情報!$J$6)))","v":""},{"$f":"IF(E32=\"\",\"\",IF(②選手情報入力!Q41=\"\",\"\",IF(I32=1,IF(②選手情報入力!$R$6=\"\",\"\",②選手情報入力!$R$6),IF(②選手情報入力!$R$7=\"\",\"\",②選手情報入力!$R$7))))","v":""},{"$f":"IF(E32=\"\",\"\",IF(②選手情報入力!Q41=\"\",\"\",IF(I32=1,IF(②選手情報入力!$Q$6=\"\",0,1),IF(②選手情報入力!$Q$7=\"\",0,1))))","v":""},{"$f":"IF(E32=\"\",\"\",IF(②選手情報入力!Q41=\"\",\"\",2))","v":""},{"$f":"IF(E32=\"\",\"\",IF(②選手情報入力!S41=\"\",\"\",IF(I32=1,種目情報!$J$5,種目情報!$J$7)))","v":""},{"$f":"IF(E32=\"\",\"\",IF(②選手情報入力!S41=\"\",\"\",IF(I32=1,IF(②選手情報入力!$T$6=\"\",\"\",②選手情報入力!$T$6),IF(②選手情報入力!$T$7=\"\",\"\",②選手情報入力!$T$7))))","v":""},{"$f":"IF(E32=\"\",\"\",IF(②選手情報入力!S41=\"\",\"\",IF(I32=1,IF(②選手情報入力!$S$6=\"\",0,1),IF(②選手情報入力!$S$7=\"\",0,1))))","v":""},{"$f":"IF(E32=\"\",\"\",IF(②選手情報入力!S41=\"\",\"\",2))","v":""}]
[{"$f":"IF(E33=\"\",\"\",I33*1200000+①団体情報入力!$C$3*1000+②選手情報入力!A42)","v":""},{"$f":"IF(E33=\"\",\"\",①団体情報入力!$C$3)","v":""},null,{"$f":"IF(E33=\"\",\"\",LEFT(②選手情報入力!B42,1))","v":""},{"$f":"IF(②選手情報入力!B42=\"\",\"\",RIGHT(②選手情報入力!B42,LEN(②選手情報入力!B42)-1))","v":""},{"$f":"IF(E33=\"\",\"\",②選手情報入力!C42)","v":""},{"$f":"IF(E33=\"\",\"\",②選手情報入力!D42)","v":""},"",{"$f":"IF(E33=\"\",\"\",IF(②選手情報入力!F42=\"男\",1,2))","v":""},{"$f":"IF(E33=\"\",\"\",IF(②選手情報入力!G42=\"\",\"\",②選手情報入力!G42))","v":""},null,"","",null,{"$f":"IF(E33=\"\",\"\",IF(②選手情報入力!I42=\"\",\"\",IF(I33=1,VLOOKUP(②選手情報入力!I42,種目情報!$A$4:$B$135,2,FALSE),VLOOKUP(②選手情報入力!I42,種目情報!$E$4:$F$135,2,FALSE))))","v":""},{"$f":"IF(E33=\"\",\"\",IF(②選手情報入力!J42=\"\",\"\",②選手情報入力!J42))","v":""},{"$f":"IF(E33=\"\",\"\",IF(②選手情報入力!H42=\"\",0,1))","v":""},{"$f":"IF(E33=\"\",\"\",IF(②選手情報入力!I42=\"\",\"\",IF(I33=1,VLOOKUP(②選手情報入力!I42,種目情報!$A$4:$C$39,3,FALSE),VLOOKUP(②選手情報入力!I42,種目情報!$E$4:$G$40,3,FALSE))))","v":""},{"$f":"IF(E33=\"\",\"\",IF(②選手情報入力!L42=\"\",\"\",IF(I33=1,VLOOKUP(②選手情報入力!L42,種目情報!$A$4:$B$39,2,FALSE),VLOOKUP(②選手情報入力!L42,種目情報!$E$4:$F$40,2,FALSE))))","v":""},{"$f":"IF(E33=\"\",\"\",IF(②選手情報入力!M42=\"\",\"\",②選手情報入力!M42))","v":""},{"$f":"IF(E33=\"\",\"\",IF(②選手情報入力!K42=\"\",0,1))","v":""},{"$f":"IF(E33=\"\",\"\",IF(②選手情報入力!L42=\"\",\"\",IF(I33=1,VLOOKUP(②選手情報入力!L42,種目情報!$A$4:$C$39,3,FALSE),VLOOKUP(②選手情報入力!L42,種目情報!$E$4:$G$40,3,FALSE))))","v":""},{"$f":"IF(E33=\"\",\"\",IF(②選手情報入力!O42=\"\",\"\",IF(I33=1,VLOOKUP(②選手情報入力!O42,種目情報!$A$4:$B$39,2,FALSE),VLOOKUP(②選手情報入力!O42,種目情報!$E$4:$F$40,2,FALSE))))","v":""},{"$f":"IF(E33=\"\",\"\",IF(②選手情報入力!P42=\"\",\"\",②選手情報入力!P42))","v":""},{"$f":"IF(E33=\"\",\"\",IF(②選手情報入力!N42=\"\",0,1))","v":""},{"$f":"IF(E33=\"\",\"\",IF(②選手情報入力!O42=\"\",\"\",IF(I33=1,VLOOKUP(②選手情報入力!O42,種目情報!$A$4:$C$39,3,FALSE),VLOOKUP(②選手情報入力!O42,種目情報!$E$4:$G$40,3,FALSE))))","v":""},{"$f":"IF(E33=\"\",\"\",IF(②選手情報入力!Q42=\"\",\"\",IF(I33=1,種目情報!$J$4,種目情報!$J$6)))","v":""},{"$f":"IF(E33=\"\",\"\",IF(②選手情報入力!Q42=\"\",\"\",IF(I33=1,IF(②選手情報入力!$R$6=\"\",\"\",②選手情報入力!$R$6),IF(②選手情報入力!$R$7=\"\",\"\",②選手情報入力!$R$7))))","v":""},{"$f":"IF(E33=\"\",\"\",IF(②選手情報入力!Q42=\"\",\"\",IF(I33=1,IF(②選手情報入力!$Q$6=\"\",0,1),IF(②選手情報入力!$Q$7=\"\",0,1))))","v":""},{"$f":"IF(E33=\"\",\"\",IF(②選手情報入力!Q42=\"\",\"\",2))","v":""},{"$f":"IF(E33=\"\",\"\",IF(②選手情報入力!S42=\"\",\"\",IF(I33=1,種目情報!$J$5,種目情報!$J$7)))","v":""},{"$f":"IF(E33=\"\",\"\",IF(②選手情報入力!S42=\"\",\"\",IF(I33=1,IF(②選手情報入力!$T$6=\"\",\"\",②選手情報入力!$T$6),IF(②選手情報入力!$T$7=\"\",\"\",②選手情報入力!$T$7))))","v":""},{"$f":"IF(E33=\"\",\"\",IF(②選手情報入力!S42=\"\",\"\",IF(I33=1,IF(②選手情報入力!$S$6=\"\",0,1),IF(②選手情報入力!$S$7=\"\",0,1))))","v":""},{"$f":"IF(E33=\"\",\"\",IF(②選手情報入力!S42=\"\",\"\",2))","v":""}]
[{"$f":"IF(E34=\"\",\"\",I34*1200000+①団体情報入力!$C$3*1000+②選手情報入力!A43)","v":""},{"$f":"IF(E34=\"\",\"\",①団体情報入力!$C$3)","v":""},null,{"$f":"IF(E34=\"\",\"\",LEFT(②選手情報入力!B43,1))","v":""},{"$f":"IF(②選手情報入力!B43=\"\",\"\",RIGHT(②選手情報入力!B43,LEN(②選手情報入力!B43)-1))","v":""},{"$f":"IF(E34=\"\",\"\",②選手情報入力!C43)","v":""},{"$f":"IF(E34=\"\",\"\",②選手情報入力!D43)","v":""},"",{"$f":"IF(E34=\"\",\"\",IF(②選手情報入力!F43=\"男\",1,2))","v":""},{"$f":"IF(E34=\"\",\"\",IF(②選手情報入力!G43=\"\",\"\",②選手情報入力!G43))","v":""},null,"","",null,{"$f":"IF(E34=\"\",\"\",IF(②選手情報入力!I43=\"\",\"\",IF(I34=1,VLOOKUP(②選手情報入力!I43,種目情報!$A$4:$B$135,2,FALSE),VLOOKUP(②選手情報入力!I43,種目情報!$E$4:$F$135,2,FALSE))))","v":""},{"$f":"IF(E34=\"\",\"\",IF(②選手情報入力!J43=\"\",\"\",②選手情報入力!J43))","v":""},{"$f":"IF(E34=\"\",\"\",IF(②選手情報入力!H43=\"\",0,1))","v":""},{"$f":"IF(E34=\"\",\"\",IF(②選手情報入力!I43=\"\",\"\",IF(I34=1,VLOOKUP(②選手情報入力!I43,種目情報!$A$4:$C$39,3,FALSE),VLOOKUP(②選手情報入力!I43,種目情報!$E$4:$G$40,3,FALSE))))","v":""},{"$f":"IF(E34=\"\",\"\",IF(②選手情報入力!L43=\"\",\"\",IF(I34=1,VLOOKUP(②選手情報入力!L43,種目情報!$A$4:$B$39,2,FALSE),VLOOKUP(②選手情報入力!L43,種目情報!$E$4:$F$40,2,FALSE))))","v":""},{"$f":"IF(E34=\"\",\"\",IF(②選手情報入力!M43=\"\",\"\",②選手情報入力!M43))","v":""},{"$f":"IF(E34=\"\",\"\",IF(②選手情報入力!K43=\"\",0,1))","v":""},{"$f":"IF(E34=\"\",\"\",IF(②選手情報入力!L43=\"\",\"\",IF(I34=1,VLOOKUP(②選手情報入力!L43,種目情報!$A$4:$C$39,3,FALSE),VLOOKUP(②選手情報入力!L43,種目情報!$E$4:$G$40,3,FALSE))))","v":""},{"$f":"IF(E34=\"\",\"\",IF(②選手情報入力!O43=\"\",\"\",IF(I34=1,VLOOKUP(②選手情報入力!O43,種目情報!$A$4:$B$39,2,FALSE),VLOOKUP(②選手情報入力!O43,種目情報!$E$4:$F$40,2,FALSE))))","v":""},{"$f":"IF(E34=\"\",\"\",IF(②選手情報入力!P43=\"\",\"\",②選手情報入力!P43))","v":""},{"$f":"IF(E34=\"\",\"\",IF(②選手情報入力!N43=\"\",0,1))","v":""},{"$f":"IF(E34=\"\",\"\",IF(②選手情報入力!O43=\"\",\"\",IF(I34=1,VLOOKUP(②選手情報入力!O43,種目情報!$A$4:$C$39,3,FALSE),VLOOKUP(②選手情報入力!O43,種目情報!$E$4:$G$40,3,FALSE))))","v":""},{"$f":"IF(E34=\"\",\"\",IF(②選手情報入力!Q43=\"\",\"\",IF(I34=1,種目情報!$J$4,種目情報!$J$6)))","v":""},{"$f":"IF(E34=\"\",\"\",IF(②選手情報入力!Q43=\"\",\"\",IF(I34=1,IF(②選手情報入力!$R$6=\"\",\"\",②選手情報入力!$R$6),IF(②選手情報入力!$R$7=\"\",\"\",②選手情報入力!$R$7))))","v":""},{"$f":"IF(E34=\"\",\"\",IF(②選手情報入力!Q43=\"\",\"\",IF(I34=1,IF(②選手情報入力!$Q$6=\"\",0,1),IF(②選手情報入力!$Q$7=\"\",0,1))))","v":""},{"$f":"IF(E34=\"\",\"\",IF(②選手情報入力!Q43=\"\",\"\",2))","v":""},{"$f":"IF(E34=\"\",\"\",IF(②選手情報入力!S43=\"\",\"\",IF(I34=1,種目情報!$J$5,種目情報!$J$7)))","v":""},{"$f":"IF(E34=\"\",\"\",IF(②選手情報入力!S43=\"\",\"\",IF(I34=1,IF(②選手情報入力!$T$6=\"\",\"\",②選手情報入力!$T$6),IF(②選手情報入力!$T$7=\"\",\"\",②選手情報入力!$T$7))))","v":""},{"$f":"IF(E34=\"\",\"\",IF(②選手情報入力!S43=\"\",\"\",IF(I34=1,IF(②選手情報入力!$S$6=\"\",0,1),IF(②選手情報入力!$S$7=\"\",0,1))))","v":""},{"$f":"IF(E34=\"\",\"\",IF(②選手情報入力!S43=\"\",\"\",2))","v":""}]
[{"$f":"IF(E35=\"\",\"\",I35*1200000+①団体情報入力!$C$3*1000+②選手情報入力!A44)","v":""},{"$f":"IF(E35=\"\",\"\",①団体情報入力!$C$3)","v":""},null,{"$f":"IF(E35=\"\",\"\",LEFT(②選手情報入力!B44,1))","v":""},{"$f":"IF(②選手情報入力!B44=\"\",\"\",RIGHT(②選手情報入力!B44,LEN(②選手情報入力!B44)-1))","v":""},{"$f":"IF(E35=\"\",\"\",②選手情報入力!C44)","v":""},{"$f":"IF(E35=\"\",\"\",②選手情報入力!D44)","v":""},"",{"$f":"IF(E35=\"\",\"\",IF(②選手情報入力!F44=\"男\",1,2))","v":""},{"$f":"IF(E35=\"\",\"\",IF(②選手情報入力!G44=\"\",\"\",②選手情報入力!G44))","v":""},null,"","",null,{"$f":"IF(E35=\"\",\"\",IF(②選手情報入力!I44=\"\",\"\",IF(I35=1,VLOOKUP(②選手情報入力!I44,種目情報!$A$4:$B$135,2,FALSE),VLOOKUP(②選手情報入力!I44,種目情報!$E$4:$F$135,2,FALSE))))","v":""},{"$f":"IF(E35=\"\",\"\",IF(②選手情報入力!J44=\"\",\"\",②選手情報入力!J44))","v":""},{"$f":"IF(E35=\"\",\"\",IF(②選手情報入力!H44=\"\",0,1))","v":""},{"$f":"IF(E35=\"\",\"\",IF(②選手情報入力!I44=\"\",\"\",IF(I35=1,VLOOKUP(②選手情報入力!I44,種目情報!$A$4:$C$39,3,FALSE),VLOOKUP(②選手情報入力!I44,種目情報!$E$4:$G$40,3,FALSE))))","v":""},{"$f":"IF(E35=\"\",\"\",IF(②選手情報入力!L44=\"\",\"\",IF(I35=1,VLOOKUP(②選手情報入力!L44,種目情報!$A$4:$B$39,2,FALSE),VLOOKUP(②選手情報入力!L44,種目情報!$E$4:$F$40,2,FALSE))))","v":""},{"$f":"IF(E35=\"\",\"\",IF(②選手情報入力!M44=\"\",\"\",②選手情報入力!M44))","v":""},{"$f":"IF(E35=\"\",\"\",IF(②選手情報入力!K44=\"\",0,1))","v":""},{"$f":"IF(E35=\"\",\"\",IF(②選手情報入力!L44=\"\",\"\",IF(I35=1,VLOOKUP(②選手情報入力!L44,種目情報!$A$4:$C$39,3,FALSE),VLOOKUP(②選手情報入力!L44,種目情報!$E$4:$G$40,3,FALSE))))","v":""},{"$f":"IF(E35=\"\",\"\",IF(②選手情報入力!O44=\"\",\"\",IF(I35=1,VLOOKUP(②選手情報入力!O44,種目情報!$A$4:$B$39,2,FALSE),VLOOKUP(②選手情報入力!O44,種目情報!$E$4:$F$40,2,FALSE))))","v":""},{"$f":"IF(E35=\"\",\"\",IF(②選手情報入力!P44=\"\",\"\",②選手情報入力!P44))","v":""},{"$f":"IF(E35=\"\",\"\",IF(②選手情報入力!N44=\"\",0,1))","v":""},{"$f":"IF(E35=\"\",\"\",IF(②選手情報入力!O44=\"\",\"\",IF(I35=1,VLOOKUP(②選手情報入力!O44,種目情報!$A$4:$C$39,3,FALSE),VLOOKUP(②選手情報入力!O44,種目情報!$E$4:$G$40,3,FALSE))))","v":""},{"$f":"IF(E35=\"\",\"\",IF(②選手情報入力!Q44=\"\",\"\",IF(I35=1,種目情報!$J$4,種目情報!$J$6)))","v":""},{"$f":"IF(E35=\"\",\"\",IF(②選手情報入力!Q44=\"\",\"\",IF(I35=1,IF(②選手情報入力!$R$6=\"\",\"\",②選手情報入力!$R$6),IF(②選手情報入力!$R$7=\"\",\"\",②選手情報入力!$R$7))))","v":""},{"$f":"IF(E35=\"\",\"\",IF(②選手情報入力!Q44=\"\",\"\",IF(I35=1,IF(②選手情報入力!$Q$6=\"\",0,1),IF(②選手情報入力!$Q$7=\"\",0,1))))","v":""},{"$f":"IF(E35=\"\",\"\",IF(②選手情報入力!Q44=\"\",\"\",2))","v":""},{"$f":"IF(E35=\"\",\"\",IF(②選手情報入力!S44=\"\",\"\",IF(I35=1,種目情報!$J$5,種目情報!$J$7)))","v":""},{"$f":"IF(E35=\"\",\"\",IF(②選手情報入力!S44=\"\",\"\",IF(I35=1,IF(②選手情報入力!$T$6=\"\",\"\",②選手情報入力!$T$6),IF(②選手情報入力!$T$7=\"\",\"\",②選手情報入力!$T$7))))","v":""},{"$f":"IF(E35=\"\",\"\",IF(②選手情報入力!S44=\"\",\"\",IF(I35=1,IF(②選手情報入力!$S$6=\"\",0,1),IF(②選手情報入力!$S$7=\"\",0,1))))","v":""},{"$f":"IF(E35=\"\",\"\",IF(②選手情報入力!S44=\"\",\"\",2))","v":""}]
[{"$f":"IF(E36=\"\",\"\",I36*1200000+①団体情報入力!$C$3*1000+②選手情報入力!A45)","v":""},{"$f":"IF(E36=\"\",\"\",①団体情報入力!$C$3)","v":""},null,{"$f":"IF(E36=\"\",\"\",LEFT(②選手情報入力!B45,1))","v":""},{"$f":"IF(②選手情報入力!B45=\"\",\"\",RIGHT(②選手情報入力!B45,LEN(②選手情報入力!B45)-1))","v":""},{"$f":"IF(E36=\"\",\"\",②選手情報入力!C45)","v":""},{"$f":"IF(E36=\"\",\"\",②選手情報入力!D45)","v":""},"",{"$f":"IF(E36=\"\",\"\",IF(②選手情報入力!F45=\"男\",1,2))","v":""},{"$f":"IF(E36=\"\",\"\",IF(②選手情報入力!G45=\"\",\"\",②選手情報入力!G45))","v":""},null,"","",null,{"$f":"IF(E36=\"\",\"\",IF(②選手情報入力!I45=\"\",\"\",IF(I36=1,VLOOKUP(②選手情報入力!I45,種目情報!$A$4:$B$135,2,FALSE),VLOOKUP(②選手情報入力!I45,種目情報!$E$4:$F$135,2,FALSE))))","v":""},{"$f":"IF(E36=\"\",\"\",IF(②選手情報入力!J45=\"\",\"\",②選手情報入力!J45))","v":""},{"$f":"IF(E36=\"\",\"\",IF(②選手情報入力!H45=\"\",0,1))","v":""},{"$f":"IF(E36=\"\",\"\",IF(②選手情報入力!I45=\"\",\"\",IF(I36=1,VLOOKUP(②選手情報入力!I45,種目情報!$A$4:$C$39,3,FALSE),VLOOKUP(②選手情報入力!I45,種目情報!$E$4:$G$40,3,FALSE))))","v":""},{"$f":"IF(E36=\"\",\"\",IF(②選手情報入力!L45=\"\",\"\",IF(I36=1,VLOOKUP(②選手情報入力!L45,種目情報!$A$4:$B$39,2,FALSE),VLOOKUP(②選手情報入力!L45,種目情報!$E$4:$F$40,2,FALSE))))","v":""},{"$f":"IF(E36=\"\",\"\",IF(②選手情報入力!M45=\"\",\"\",②選手情報入力!M45))","v":""},{"$f":"IF(E36=\"\",\"\",IF(②選手情報入力!K45=\"\",0,1))","v":""},{"$f":"IF(E36=\"\",\"\",IF(②選手情報入力!L45=\"\",\"\",IF(I36=1,VLOOKUP(②選手情報入力!L45,種目情報!$A$4:$C$39,3,FALSE),VLOOKUP(②選手情報入力!L45,種目情報!$E$4:$G$40,3,FALSE))))","v":""},{"$f":"IF(E36=\"\",\"\",IF(②選手情報入力!O45=\"\",\"\",IF(I36=1,VLOOKUP(②選手情報入力!O45,種目情報!$A$4:$B$39,2,FALSE),VLOOKUP(②選手情報入力!O45,種目情報!$E$4:$F$40,2,FALSE))))","v":""},{"$f":"IF(E36=\"\",\"\",IF(②選手情報入力!P45=\"\",\"\",②選手情報入力!P45))","v":""},{"$f":"IF(E36=\"\",\"\",IF(②選手情報入力!N45=\"\",0,1))","v":""},{"$f":"IF(E36=\"\",\"\",IF(②選手情報入力!O45=\"\",\"\",IF(I36=1,VLOOKUP(②選手情報入力!O45,種目情報!$A$4:$C$39,3,FALSE),VLOOKUP(②選手情報入力!O45,種目情報!$E$4:$G$40,3,FALSE))))","v":""},{"$f":"IF(E36=\"\",\"\",IF(②選手情報入力!Q45=\"\",\"\",IF(I36=1,種目情報!$J$4,種目情報!$J$6)))","v":""},{"$f":"IF(E36=\"\",\"\",IF(②選手情報入力!Q45=\"\",\"\",IF(I36=1,IF(②選手情報入力!$R$6=\"\",\"\",②選手情報入力!$R$6),IF(②選手情報入力!$R$7=\"\",\"\",②選手情報入力!$R$7))))","v":""},{"$f":"IF(E36=\"\",\"\",IF(②選手情報入力!Q45=\"\",\"\",IF(I36=1,IF(②選手情報入力!$Q$6=\"\",0,1),IF(②選手情報入力!$Q$7=\"\",0,1))))","v":""},{"$f":"IF(E36=\"\",\"\",IF(②選手情報入力!Q45=\"\",\"\",2))","v":""},{"$f":"IF(E36=\"\",\"\",IF(②選手情報入力!S45=\"\",\"\",IF(I36=1,種目情報!$J$5,種目情報!$J$7)))","v":""},{"$f":"IF(E36=\"\",\"\",IF(②選手情報入力!S45=\"\",\"\",IF(I36=1,IF(②選手情報入力!$T$6=\"\",\"\",②選手情報入力!$T$6),IF(②選手情報入力!$T$7=\"\",\"\",②選手情報入力!$T$7))))","v":""},{"$f":"IF(E36=\"\",\"\",IF(②選手情報入力!S45=\"\",\"\",IF(I36=1,IF(②選手情報入力!$S$6=\"\",0,1),IF(②選手情報入力!$S$7=\"\",0,1))))","v":""},{"$f":"IF(E36=\"\",\"\",IF(②選手情報入力!S45=\"\",\"\",2))","v":""}]
[{"$f":"IF(E37=\"\",\"\",I37*1200000+①団体情報入力!$C$3*1000+②選手情報入力!A46)","v":""},{"$f":"IF(E37=\"\",\"\",①団体情報入力!$C$3)","v":""},null,{"$f":"IF(E37=\"\",\"\",LEFT(②選手情報入力!B46,1))","v":""},{"$f":"IF(②選手情報入力!B46=\"\",\"\",RIGHT(②選手情報入力!B46,LEN(②選手情報入力!B46)-1))","v":""},{"$f":"IF(E37=\"\",\"\",②選手情報入力!C46)","v":""},{"$f":"IF(E37=\"\",\"\",②選手情報入力!D46)","v":""},"",{"$f":"IF(E37=\"\",\"\",IF(②選手情報入力!F46=\"男\",1,2))","v":""},{"$f":"IF(E37=\"\",\"\",IF(②選手情報入力!G46=\"\",\"\",②選手情報入力!G46))","v":""},null,"","",null,{"$f":"IF(E37=\"\",\"\",IF(②選手情報入力!I46=\"\",\"\",IF(I37=1,VLOOKUP(②選手情報入力!I46,種目情報!$A$4:$B$135,2,FALSE),VLOOKUP(②選手情報入力!I46,種目情報!$E$4:$F$135,2,FALSE))))","v":""},{"$f":"IF(E37=\"\",\"\",IF(②選手情報入力!J46=\"\",\"\",②選手情報入力!J46))","v":""},{"$f":"IF(E37=\"\",\"\",IF(②選手情報入力!H46=\"\",0,1))","v":""},{"$f":"IF(E37=\"\",\"\",IF(②選手情報入力!I46=\"\",\"\",IF(I37=1,VLOOKUP(②選手情報入力!I46,種目情報!$A$4:$C$39,3,FALSE),VLOOKUP(②選手情報入力!I46,種目情報!$E$4:$G$40,3,FALSE))))","v":""},{"$f":"IF(E37=\"\",\"\",IF(②選手情報入力!L46=\"\",\"\",IF(I37=1,VLOOKUP(②選手情報入力!L46,種目情報!$A$4:$B$39,2,FALSE),VLOOKUP(②選手情報入力!L46,種目情報!$E$4:$F$40,2,FALSE))))","v":""},{"$f":"IF(E37=\"\",\"\",IF(②選手情報入力!M46=\"\",\"\",②選手情報入力!M46))","v":""},{"$f":"IF(E37=\"\",\"\",IF(②選手情報入力!K46=\"\",0,1))","v":""},{"$f":"IF(E37=\"\",\"\",IF(②選手情報入力!L46=\"\",\"\",IF(I37=1,VLOOKUP(②選手情報入力!L46,種目情報!$A$4:$C$39,3,FALSE),VLOOKUP(②選手情報入力!L46,種目情報!$E$4:$G$40,3,FALSE))))","v":""},{"$f":"IF(E37=\"\",\"\",IF(②選手情報入力!O46=\"\",\"\",IF(I37=1,VLOOKUP(②選手情報入力!O46,種目情報!$A$4:$B$39,2,FALSE),VLOOKUP(②選手情報入力!O46,種目情報!$E$4:$F$40,2,FALSE))))","v":""},{"$f":"IF(E37=\"\",\"\",IF(②選手情報入力!P46=\"\",\"\",②選手情報入力!P46))","v":""},{"$f":"IF(E37=\"\",\"\",IF(②選手情報入力!N46=\"\",0,1))","v":""},{"$f":"IF(E37=\"\",\"\",IF(②選手情報入力!O46=\"\",\"\",IF(I37=1,VLOOKUP(②選手情報入力!O46,種目情報!$A$4:$C$39,3,FALSE),VLOOKUP(②選手情報入力!O46,種目情報!$E$4:$G$40,3,FALSE))))","v":""},{"$f":"IF(E37=\"\",\"\",IF(②選手情報入力!Q46=\"\",\"\",IF(I37=1,種目情報!$J$4,種目情報!$J$6)))","v":""},{"$f":"IF(E37=\"\",\"\",IF(②選手情報入力!Q46=\"\",\"\",IF(I37=1,IF(②選手情報入力!$R$6=\"\",\"\",②選手情報入力!$R$6),IF(②選手情報入力!$R$7=\"\",\"\",②選手情報入力!$R$7))))","v":""},{"$f":"IF(E37=\"\",\"\",IF(②選手情報入力!Q46=\"\",\"\",IF(I37=1,IF(②選手情報入力!$Q$6=\"\",0,1),IF(②選手情報入力!$Q$7=\"\",0,1))))","v":""},{"$f":"IF(E37=\"\",\"\",IF(②選手情報入力!Q46=\"\",\"\",2))","v":""},{"$f":"IF(E37=\"\",\"\",IF(②選手情報入力!S46=\"\",\"\",IF(I37=1,種目情報!$J$5,種目情報!$J$7)))","v":""},{"$f":"IF(E37=\"\",\"\",IF(②選手情報入力!S46=\"\",\"\",IF(I37=1,IF(②選手情報入力!$T$6=\"\",\"\",②選手情報入力!$T$6),IF(②選手情報入力!$T$7=\"\",\"\",②選手情報入力!$T$7))))","v":""},{"$f":"IF(E37=\"\",\"\",IF(②選手情報入力!S46=\"\",\"\",IF(I37=1,IF(②選手情報入力!$S$6=\"\",0,1),IF(②選手情報入力!$S$7=\"\",0,1))))","v":""},{"$f":"IF(E37=\"\",\"\",IF(②選手情報入力!S46=\"\",\"\",2))","v":""}]
[{"$f":"IF(E38=\"\",\"\",I38*1200000+①団体情報入力!$C$3*1000+②選手情報入力!A47)","v":""},{"$f":"IF(E38=\"\",\"\",①団体情報入力!$C$3)","v":""},null,{"$f":"IF(E38=\"\",\"\",LEFT(②選手情報入力!B47,1))","v":""},{"$f":"IF(②選手情報入力!B47=\"\",\"\",RIGHT(②選手情報入力!B47,LEN(②選手情報入力!B47)-1))","v":""},{"$f":"IF(E38=\"\",\"\",②選手情報入力!C47)","v":""},{"$f":"IF(E38=\"\",\"\",②選手情報入力!D47)","v":""},"",{"$f":"IF(E38=\"\",\"\",IF(②選手情報入力!F47=\"男\",1,2))","v":""},{"$f":"IF(E38=\"\",\"\",IF(②選手情報入力!G47=\"\",\"\",②選手情報入力!G47))","v":""},null,"","",null,{"$f":"IF(E38=\"\",\"\",IF(②選手情報入力!I47=\"\",\"\",IF(I38=1,VLOOKUP(②選手情報入力!I47,種目情報!$A$4:$B$135,2,FALSE),VLOOKUP(②選手情報入力!I47,種目情報!$E$4:$F$135,2,FALSE))))","v":""},{"$f":"IF(E38=\"\",\"\",IF(②選手情報入力!J47=\"\",\"\",②選手情報入力!J47))","v":""},{"$f":"IF(E38=\"\",\"\",IF(②選手情報入力!H47=\"\",0,1))","v":""},{"$f":"IF(E38=\"\",\"\",IF(②選手情報入力!I47=\"\",\"\",IF(I38=1,VLOOKUP(②選手情報入力!I47,種目情報!$A$4:$C$39,3,FALSE),VLOOKUP(②選手情報入力!I47,種目情報!$E$4:$G$40,3,FALSE))))","v":""},{"$f":"IF(E38=\"\",\"\",IF(②選手情報入力!L47=\"\",\"\",IF(I38=1,VLOOKUP(②選手情報入力!L47,種目情報!$A$4:$B$39,2,FALSE),VLOOKUP(②選手情報入力!L47,種目情報!$E$4:$F$40,2,FALSE))))","v":""},{"$f":"IF(E38=\"\",\"\",IF(②選手情報入力!M47=\"\",\"\",②選手情報入力!M47))","v":""},{"$f":"IF(E38=\"\",\"\",IF(②選手情報入力!K47=\"\",0,1))","v":""},{"$f":"IF(E38=\"\",\"\",IF(②選手情報入力!L47=\"\",\"\",IF(I38=1,VLOOKUP(②選手情報入力!L47,種目情報!$A$4:$C$39,3,FALSE),VLOOKUP(②選手情報入力!L47,種目情報!$E$4:$G$40,3,FALSE))))","v":""},{"$f":"IF(E38=\"\",\"\",IF(②選手情報入力!O47=\"\",\"\",IF(I38=1,VLOOKUP(②選手情報入力!O47,種目情報!$A$4:$B$39,2,FALSE),VLOOKUP(②選手情報入力!O47,種目情報!$E$4:$F$40,2,FALSE))))","v":""},{"$f":"IF(E38=\"\",\"\",IF(②選手情報入力!P47=\"\",\"\",②選手情報入力!P47))","v":""},{"$f":"IF(E38=\"\",\"\",IF(②選手情報入力!N47=\"\",0,1))","v":""},{"$f":"IF(E38=\"\",\"\",IF(②選手情報入力!O47=\"\",\"\",IF(I38=1,VLOOKUP(②選手情報入力!O47,種目情報!$A$4:$C$39,3,FALSE),VLOOKUP(②選手情報入力!O47,種目情報!$E$4:$G$40,3,FALSE))))","v":""},{"$f":"IF(E38=\"\",\"\",IF(②選手情報入力!Q47=\"\",\"\",IF(I38=1,種目情報!$J$4,種目情報!$J$6)))","v":""},{"$f":"IF(E38=\"\",\"\",IF(②選手情報入力!Q47=\"\",\"\",IF(I38=1,IF(②選手情報入力!$R$6=\"\",\"\",②選手情報入力!$R$6),IF(②選手情報入力!$R$7=\"\",\"\",②選手情報入力!$R$7))))","v":""},{"$f":"IF(E38=\"\",\"\",IF(②選手情報入力!Q47=\"\",\"\",IF(I38=1,IF(②選手情報入力!$Q$6=\"\",0,1),IF(②選手情報入力!$Q$7=\"\",0,1))))","v":""},{"$f":"IF(E38=\"\",\"\",IF(②選手情報入力!Q47=\"\",\"\",2))","v":""},{"$f":"IF(E38=\"\",\"\",IF(②選手情報入力!S47=\"\",\"\",IF(I38=1,種目情報!$J$5,種目情報!$J$7)))","v":""},{"$f":"IF(E38=\"\",\"\",IF(②選手情報入力!S47=\"\",\"\",IF(I38=1,IF(②選手情報入力!$T$6=\"\",\"\",②選手情報入力!$T$6),IF(②選手情報入力!$T$7=\"\",\"\",②選手情報入力!$T$7))))","v":""},{"$f":"IF(E38=\"\",\"\",IF(②選手情報入力!S47=\"\",\"\",IF(I38=1,IF(②選手情報入力!$S$6=\"\",0,1),IF(②選手情報入力!$S$7=\"\",0,1))))","v":""},{"$f":"IF(E38=\"\",\"\",IF(②選手情報入力!S47=\"\",\"\",2))","v":""}]
[{"$f":"IF(E39=\"\",\"\",I39*1200000+①団体情報入力!$C$3*1000+②選手情報入力!A48)","v":""},{"$f":"IF(E39=\"\",\"\",①団体情報入力!$C$3)","v":""},null,{"$f":"IF(E39=\"\",\"\",LEFT(②選手情報入力!B48,1))","v":""},{"$f":"IF(②選手情報入力!B48=\"\",\"\",RIGHT(②選手情報入力!B48,LEN(②選手情報入力!B48)-1))","v":""},{"$f":"IF(E39=\"\",\"\",②選手情報入力!C48)","v":""},{"$f":"IF(E39=\"\",\"\",②選手情報入力!D48)","v":""},"",{"$f":"IF(E39=\"\",\"\",IF(②選手情報入力!F48=\"男\",1,2))","v":""},{"$f":"IF(E39=\"\",\"\",IF(②選手情報入力!G48=\"\",\"\",②選手情報入力!G48))","v":""},null,"","",null,{"$f":"IF(E39=\"\",\"\",IF(②選手情報入力!I48=\"\",\"\",IF(I39=1,VLOOKUP(②選手情報入力!I48,種目情報!$A$4:$B$135,2,FALSE),VLOOKUP(②選手情報入力!I48,種目情報!$E$4:$F$135,2,FALSE))))","v":""},{"$f":"IF(E39=\"\",\"\",IF(②選手情報入力!J48=\"\",\"\",②選手情報入力!J48))","v":""},{"$f":"IF(E39=\"\",\"\",IF(②選手情報入力!H48=\"\",0,1))","v":""},{"$f":"IF(E39=\"\",\"\",IF(②選手情報入力!I48=\"\",\"\",IF(I39=1,VLOOKUP(②選手情報入力!I48,種目情報!$A$4:$C$39,3,FALSE),VLOOKUP(②選手情報入力!I48,種目情報!$E$4:$G$40,3,FALSE))))","v":""},{"$f":"IF(E39=\"\",\"\",IF(②選手情報入力!L48=\"\",\"\",IF(I39=1,VLOOKUP(②選手情報入力!L48,種目情報!$A$4:$B$39,2,FALSE),VLOOKUP(②選手情報入力!L48,種目情報!$E$4:$F$40,2,FALSE))))","v":""},{"$f":"IF(E39=\"\",\"\",IF(②選手情報入力!M48=\"\",\"\",②選手情報入力!M48))","v":""},{"$f":"IF(E39=\"\",\"\",IF(②選手情報入力!K48=\"\",0,1))","v":""},{"$f":"IF(E39=\"\",\"\",IF(②選手情報入力!L48=\"\",\"\",IF(I39=1,VLOOKUP(②選手情報入力!L48,種目情報!$A$4:$C$39,3,FALSE),VLOOKUP(②選手情報入力!L48,種目情報!$E$4:$G$40,3,FALSE))))","v":""},{"$f":"IF(E39=\"\",\"\",IF(②選手情報入力!O48=\"\",\"\",IF(I39=1,VLOOKUP(②選手情報入力!O48,種目情報!$A$4:$B$39,2,FALSE),VLOOKUP(②選手情報入力!O48,種目情報!$E$4:$F$40,2,FALSE))))","v":""},{"$f":"IF(E39=\"\",\"\",IF(②選手情報入力!P48=\"\",\"\",②選手情報入力!P48))","v":""},{"$f":"IF(E39=\"\",\"\",IF(②選手情報入力!N48=\"\",0,1))","v":""},{"$f":"IF(E39=\"\",\"\",IF(②選手情報入力!O48=\"\",\"\",IF(I39=1,VLOOKUP(②選手情報入力!O48,種目情報!$A$4:$C$39,3,FALSE),VLOOKUP(②選手情報入力!O48,種目情報!$E$4:$G$40,3,FALSE))))","v":""},{"$f":"IF(E39=\"\",\"\",IF(②選手情報入力!Q48=\"\",\"\",IF(I39=1,種目情報!$J$4,種目情報!$J$6)))","v":""},{"$f":"IF(E39=\"\",\"\",IF(②選手情報入力!Q48=\"\",\"\",IF(I39=1,IF(②選手情報入力!$R$6=\"\",\"\",②選手情報入力!$R$6),IF(②選手情報入力!$R$7=\"\",\"\",②選手情報入力!$R$7))))","v":""},{"$f":"IF(E39=\"\",\"\",IF(②選手情報入力!Q48=\"\",\"\",IF(I39=1,IF(②選手情報入力!$Q$6=\"\",0,1),IF(②選手情報入力!$Q$7=\"\",0,1))))","v":""},{"$f":"IF(E39=\"\",\"\",IF(②選手情報入力!Q48=\"\",\"\",2))","v":""},{"$f":"IF(E39=\"\",\"\",IF(②選手情報入力!S48=\"\",\"\",IF(I39=1,種目情報!$J$5,種目情報!$J$7)))","v":""},{"$f":"IF(E39=\"\",\"\",IF(②選手情報入力!S48=\"\",\"\",IF(I39=1,IF(②選手情報入力!$T$6=\"\",\"\",②選手情報入力!$T$6),IF(②選手情報入力!$T$7=\"\",\"\",②選手情報入力!$T$7))))","v":""},{"$f":"IF(E39=\"\",\"\",IF(②選手情報入力!S48=\"\",\"\",IF(I39=1,IF(②選手情報入力!$S$6=\"\",0,1),IF(②選手情報入力!$S$7=\"\",0,1))))","v":""},{"$f":"IF(E39=\"\",\"\",IF(②選手情報入力!S48=\"\",\"\",2))","v":""}]
[{"$f":"IF(E40=\"\",\"\",I40*1200000+①団体情報入力!$C$3*1000+②選手情報入力!A49)","v":""},{"$f":"IF(E40=\"\",\"\",①団体情報入力!$C$3)","v":""},null,{"$f":"IF(E40=\"\",\"\",LEFT(②選手情報入力!B49,1))","v":""},{"$f":"IF(②選手情報入力!B49=\"\",\"\",RIGHT(②選手情報入力!B49,LEN(②選手情報入力!B49)-1))","v":""},{"$f":"IF(E40=\"\",\"\",②選手情報入力!C49)","v":""},{"$f":"IF(E40=\"\",\"\",②選手情報入力!D49)","v":""},"",{"$f":"IF(E40=\"\",\"\",IF(②選手情報入力!F49=\"男\",1,2))","v":""},{"$f":"IF(E40=\"\",\"\",IF(②選手情報入力!G49=\"\",\"\",②選手情報入力!G49))","v":""},null,"","",null,{"$f":"IF(E40=\"\",\"\",IF(②選手情報入力!I49=\"\",\"\",IF(I40=1,VLOOKUP(②選手情報入力!I49,種目情報!$A$4:$B$135,2,FALSE),VLOOKUP(②選手情報入力!I49,種目情報!$E$4:$F$135,2,FALSE))))","v":""},{"$f":"IF(E40=\"\",\"\",IF(②選手情報入力!J49=\"\",\"\",②選手情報入力!J49))","v":""},{"$f":"IF(E40=\"\",\"\",IF(②選手情報入力!H49=\"\",0,1))","v":""},{"$f":"IF(E40=\"\",\"\",IF(②選手情報入力!I49=\"\",\"\",IF(I40=1,VLOOKUP(②選手情報入力!I49,種目情報!$A$4:$C$39,3,FALSE),VLOOKUP(②選手情報入力!I49,種目情報!$E$4:$G$40,3,FALSE))))","v":""},{"$f":"IF(E40=\"\",\"\",IF(②選手情報入力!L49=\"\",\"\",IF(I40=1,VLOOKUP(②選手情報入力!L49,種目情報!$A$4:$B$39,2,FALSE),VLOOKUP(②選手情報入力!L49,種目情報!$E$4:$F$40,2,FALSE))))","v":""},{"$f":"IF(E40=\"\",\"\",IF(②選手情報入力!M49=\"\",\"\",②選手情報入力!M49))","v":""},{"$f":"IF(E40=\"\",\"\",IF(②選手情報入力!K49=\"\",0,1))","v":""},{"$f":"IF(E40=\"\",\"\",IF(②選手情報入力!L49=\"\",\"\",IF(I40=1,VLOOKUP(②選手情報入力!L49,種目情報!$A$4:$C$39,3,FALSE),VLOOKUP(②選手情報入力!L49,種目情報!$E$4:$G$40,3,FALSE))))","v":""},{"$f":"IF(E40=\"\",\"\",IF(②選手情報入力!O49=\"\",\"\",IF(I40=1,VLOOKUP(②選手情報入力!O49,種目情報!$A$4:$B$39,2,FALSE),VLOOKUP(②選手情報入力!O49,種目情報!$E$4:$F$40,2,FALSE))))","v":""},{"$f":"IF(E40=\"\",\"\",IF(②選手情報入力!P49=\"\",\"\",②選手情報入力!P49))","v":""},{"$f":"IF(E40=\"\",\"\",IF(②選手情報入力!N49=\"\",0,1))","v":""},{"$f":"IF(E40=\"\",\"\",IF(②選手情報入力!O49=\"\",\"\",IF(I40=1,VLOOKUP(②選手情報入力!O49,種目情報!$A$4:$C$39,3,FALSE),VLOOKUP(②選手情報入力!O49,種目情報!$E$4:$G$40,3,FALSE))))","v":""},{"$f":"IF(E40=\"\",\"\",IF(②選手情報入力!Q49=\"\",\"\",IF(I40=1,種目情報!$J$4,種目情報!$J$6)))","v":""},{"$f":"IF(E40=\"\",\"\",IF(②選手情報入力!Q49=\"\",\"\",IF(I40=1,IF(②選手情報入力!$R$6=\"\",\"\",②選手情報入力!$R$6),IF(②選手情報入力!$R$7=\"\",\"\",②選手情報入力!$R$7))))","v":""},{"$f":"IF(E40=\"\",\"\",IF(②選手情報入力!Q49=\"\",\"\",IF(I40=1,IF(②選手情報入力!$Q$6=\"\",0,1),IF(②選手情報入力!$Q$7=\"\",0,1))))","v":""},{"$f":"IF(E40=\"\",\"\",IF(②選手情報入力!Q49=\"\",\"\",2))","v":""},{"$f":"IF(E40=\"\",\"\",IF(②選手情報入力!S49=\"\",\"\",IF(I40=1,種目情報!$J$5,種目情報!$J$7)))","v":""},{"$f":"IF(E40=\"\",\"\",IF(②選手情報入力!S49=\"\",\"\",IF(I40=1,IF(②選手情報入力!$T$6=\"\",\"\",②選手情報入力!$T$6),IF(②選手情報入力!$T$7=\"\",\"\",②選手情報入力!$T$7))))","v":""},{"$f":"IF(E40=\"\",\"\",IF(②選手情報入力!S49=\"\",\"\",IF(I40=1,IF(②選手情報入力!$S$6=\"\",0,1),IF(②選手情報入力!$S$7=\"\",0,1))))","v":""},{"$f":"IF(E40=\"\",\"\",IF(②選手情報入力!S49=\"\",\"\",2))","v":""}]
[{"$f":"IF(E41=\"\",\"\",I41*1200000+①団体情報入力!$C$3*1000+②選手情報入力!A50)","v":""},{"$f":"IF(E41=\"\",\"\",①団体情報入力!$C$3)","v":""},null,{"$f":"IF(E41=\"\",\"\",LEFT(②選手情報入力!B50,1))","v":""},{"$f":"IF(②選手情報入力!B50=\"\",\"\",RIGHT(②選手情報入力!B50,LEN(②選手情報入力!B50)-1))","v":""},{"$f":"IF(E41=\"\",\"\",②選手情報入力!C50)","v":""},{"$f":"IF(E41=\"\",\"\",②選手情報入力!D50)","v":""},"",{"$f":"IF(E41=\"\",\"\",IF(②選手情報入力!F50=\"男\",1,2))","v":""},{"$f":"IF(E41=\"\",\"\",IF(②選手情報入力!G50=\"\",\"\",②選手情報入力!G50))","v":""},null,"","",null,{"$f":"IF(E41=\"\",\"\",IF(②選手情報入力!I50=\"\",\"\",IF(I41=1,VLOOKUP(②選手情報入力!I50,種目情報!$A$4:$B$135,2,FALSE),VLOOKUP(②選手情報入力!I50,種目情報!$E$4:$F$135,2,FALSE))))","v":""},{"$f":"IF(E41=\"\",\"\",IF(②選手情報入力!J50=\"\",\"\",②選手情報入力!J50))","v":""},{"$f":"IF(E41=\"\",\"\",IF(②選手情報入力!H50=\"\",0,1))","v":""},{"$f":"IF(E41=\"\",\"\",IF(②選手情報入力!I50=\"\",\"\",IF(I41=1,VLOOKUP(②選手情報入力!I50,種目情報!$A$4:$C$39,3,FALSE),VLOOKUP(②選手情報入力!I50,種目情報!$E$4:$G$40,3,FALSE))))","v":""},{"$f":"IF(E41=\"\",\"\",IF(②選手情報入力!L50=\"\",\"\",IF(I41=1,VLOOKUP(②選手情報入力!L50,種目情報!$A$4:$B$39,2,FALSE),VLOOKUP(②選手情報入力!L50,種目情報!$E$4:$F$40,2,FALSE))))","v":""},{"$f":"IF(E41=\"\",\"\",IF(②選手情報入力!M50=\"\",\"\",②選手情報入力!M50))","v":""},{"$f":"IF(E41=\"\",\"\",IF(②選手情報入力!K50=\"\",0,1))","v":""},{"$f":"IF(E41=\"\",\"\",IF(②選手情報入力!L50=\"\",\"\",IF(I41=1,VLOOKUP(②選手情報入力!L50,種目情報!$A$4:$C$39,3,FALSE),VLOOKUP(②選手情報入力!L50,種目情報!$E$4:$G$40,3,FALSE))))","v":""},{"$f":"IF(E41=\"\",\"\",IF(②選手情報入力!O50=\"\",\"\",IF(I41=1,VLOOKUP(②選手情報入力!O50,種目情報!$A$4:$B$39,2,FALSE),VLOOKUP(②選手情報入力!O50,種目情報!$E$4:$F$40,2,FALSE))))","v":""},{"$f":"IF(E41=\"\",\"\",IF(②選手情報入力!P50=\"\",\"\",②選手情報入力!P50))","v":""},{"$f":"IF(E41=\"\",\"\",IF(②選手情報入力!N50=\"\",0,1))","v":""},{"$f":"IF(E41=\"\",\"\",IF(②選手情報入力!O50=\"\",\"\",IF(I41=1,VLOOKUP(②選手情報入力!O50,種目情報!$A$4:$C$39,3,FALSE),VLOOKUP(②選手情報入力!O50,種目情報!$E$4:$G$40,3,FALSE))))","v":""},{"$f":"IF(E41=\"\",\"\",IF(②選手情報入力!Q50=\"\",\"\",IF(I41=1,種目情報!$J$4,種目情報!$J$6)))","v":""},{"$f":"IF(E41=\"\",\"\",IF(②選手情報入力!Q50=\"\",\"\",IF(I41=1,IF(②選手情報入力!$R$6=\"\",\"\",②選手情報入力!$R$6),IF(②選手情報入力!$R$7=\"\",\"\",②選手情報入力!$R$7))))","v":""},{"$f":"IF(E41=\"\",\"\",IF(②選手情報入力!Q50=\"\",\"\",IF(I41=1,IF(②選手情報入力!$Q$6=\"\",0,1),IF(②選手情報入力!$Q$7=\"\",0,1))))","v":""},{"$f":"IF(E41=\"\",\"\",IF(②選手情報入力!Q50=\"\",\"\",2))","v":""},{"$f":"IF(E41=\"\",\"\",IF(②選手情報入力!S50=\"\",\"\",IF(I41=1,種目情報!$J$5,種目情報!$J$7)))","v":""},{"$f":"IF(E41=\"\",\"\",IF(②選手情報入力!S50=\"\",\"\",IF(I41=1,IF(②選手情報入力!$T$6=\"\",\"\",②選手情報入力!$T$6),IF(②選手情報入力!$T$7=\"\",\"\",②選手情報入力!$T$7))))","v":""},{"$f":"IF(E41=\"\",\"\",IF(②選手情報入力!S50=\"\",\"\",IF(I41=1,IF(②選手情報入力!$S$6=\"\",0,1),IF(②選手情報入力!$S$7=\"\",0,1))))","v":""},{"$f":"IF(E41=\"\",\"\",IF(②選手情報入力!S50=\"\",\"\",2))","v":""}]
[{"$f":"IF(E42=\"\",\"\",I42*1200000+①団体情報入力!$C$3*1000+②選手情報入力!A51)","v":""},{"$f":"IF(E42=\"\",\"\",①団体情報入力!$C$3)","v":""},null,{"$f":"IF(E42=\"\",\"\",LEFT(②選手情報入力!B51,1))","v":""},{"$f":"IF(②選手情報入力!B51=\"\",\"\",RIGHT(②選手情報入力!B51,LEN(②選手情報入力!B51)-1))","v":""},{"$f":"IF(E42=\"\",\"\",②選手情報入力!C51)","v":""},{"$f":"IF(E42=\"\",\"\",②選手情報入力!D51)","v":""},"",{"$f":"IF(E42=\"\",\"\",IF(②選手情報入力!F51=\"男\",1,2))","v":""},{"$f":"IF(E42=\"\",\"\",IF(②選手情報入力!G51=\"\",\"\",②選手情報入力!G51))","v":""},null,"","",null,{"$f":"IF(E42=\"\",\"\",IF(②選手情報入力!I51=\"\",\"\",IF(I42=1,VLOOKUP(②選手情報入力!I51,種目情報!$A$4:$B$135,2,FALSE),VLOOKUP(②選手情報入力!I51,種目情報!$E$4:$F$135,2,FALSE))))","v":""},{"$f":"IF(E42=\"\",\"\",IF(②選手情報入力!J51=\"\",\"\",②選手情報入力!J51))","v":""},{"$f":"IF(E42=\"\",\"\",IF(②選手情報入力!H51=\"\",0,1))","v":""},{"$f":"IF(E42=\"\",\"\",IF(②選手情報入力!I51=\"\",\"\",IF(I42=1,VLOOKUP(②選手情報入力!I51,種目情報!$A$4:$C$39,3,FALSE),VLOOKUP(②選手情報入力!I51,種目情報!$E$4:$G$40,3,FALSE))))","v":""},{"$f":"IF(E42=\"\",\"\",IF(②選手情報入力!L51=\"\",\"\",IF(I42=1,VLOOKUP(②選手情報入力!L51,種目情報!$A$4:$B$39,2,FALSE),VLOOKUP(②選手情報入力!L51,種目情報!$E$4:$F$40,2,FALSE))))","v":""},{"$f":"IF(E42=\"\",\"\",IF(②選手情報入力!M51=\"\",\"\",②選手情報入力!M51))","v":""},{"$f":"IF(E42=\"\",\"\",IF(②選手情報入力!K51=\"\",0,1))","v":""},{"$f":"IF(E42=\"\",\"\",IF(②選手情報入力!L51=\"\",\"\",IF(I42=1,VLOOKUP(②選手情報入力!L51,種目情報!$A$4:$C$39,3,FALSE),VLOOKUP(②選手情報入力!L51,種目情報!$E$4:$G$40,3,FALSE))))","v":""},{"$f":"IF(E42=\"\",\"\",IF(②選手情報入力!O51=\"\",\"\",IF(I42=1,VLOOKUP(②選手情報入力!O51,種目情報!$A$4:$B$39,2,FALSE),VLOOKUP(②選手情報入力!O51,種目情報!$E$4:$F$40,2,FALSE))))","v":""},{"$f":"IF(E42=\"\",\"\",IF(②選手情報入力!P51=\"\",\"\",②選手情報入力!P51))","v":""},{"$f":"IF(E42=\"\",\"\",IF(②選手情報入力!N51=\"\",0,1))","v":""},{"$f":"IF(E42=\"\",\"\",IF(②選手情報入力!O51=\"\",\"\",IF(I42=1,VLOOKUP(②選手情報入力!O51,種目情報!$A$4:$C$39,3,FALSE),VLOOKUP(②選手情報入力!O51,種目情報!$E$4:$G$40,3,FALSE))))","v":""},{"$f":"IF(E42=\"\",\"\",IF(②選手情報入力!Q51=\"\",\"\",IF(I42=1,種目情報!$J$4,種目情報!$J$6)))","v":""},{"$f":"IF(E42=\"\",\"\",IF(②選手情報入力!Q51=\"\",\"\",IF(I42=1,IF(②選手情報入力!$R$6=\"\",\"\",②選手情報入力!$R$6),IF(②選手情報入力!$R$7=\"\",\"\",②選手情報入力!$R$7))))","v":""},{"$f":"IF(E42=\"\",\"\",IF(②選手情報入力!Q51=\"\",\"\",IF(I42=1,IF(②選手情報入力!$Q$6=\"\",0,1),IF(②選手情報入力!$Q$7=\"\",0,1))))","v":""},{"$f":"IF(E42=\"\",\"\",IF(②選手情報入力!Q51=\"\",\"\",2))","v":""},{"$f":"IF(E42=\"\",\"\",IF(②選手情報入力!S51=\"\",\"\",IF(I42=1,種目情報!$J$5,種目情報!$J$7)))","v":""},{"$f":"IF(E42=\"\",\"\",IF(②選手情報入力!S51=\"\",\"\",IF(I42=1,IF(②選手情報入力!$T$6=\"\",\"\",②選手情報入力!$T$6),IF(②選手情報入力!$T$7=\"\",\"\",②選手情報入力!$T$7))))","v":""},{"$f":"IF(E42=\"\",\"\",IF(②選手情報入力!S51=\"\",\"\",IF(I42=1,IF(②選手情報入力!$S$6=\"\",0,1),IF(②選手情報入力!$S$7=\"\",0,1))))","v":""},{"$f":"IF(E42=\"\",\"\",IF(②選手情報入力!S51=\"\",\"\",2))","v":""}]
[{"$f":"IF(E43=\"\",\"\",I43*1200000+①団体情報入力!$C$3*1000+②選手情報入力!A52)","v":""},{"$f":"IF(E43=\"\",\"\",①団体情報入力!$C$3)","v":""},null,{"$f":"IF(E43=\"\",\"\",LEFT(②選手情報入力!B52,1))","v":""},{"$f":"IF(②選手情報入力!B52=\"\",\"\",RIGHT(②選手情報入力!B52,LEN(②選手情報入力!B52)-1))","v":""},{"$f":"IF(E43=\"\",\"\",②選手情報入力!C52)","v":""},{"$f":"IF(E43=\"\",\"\",②選手情報入力!D52)","v":""},"",{"$f":"IF(E43=\"\",\"\",IF(②選手情報入力!F52=\"男\",1,2))","v":""},{"$f":"IF(E43=\"\",\"\",IF(②選手情報入力!G52=\"\",\"\",②選手情報入力!G52))","v":""},null,"","",null,{"$f":"IF(E43=\"\",\"\",IF(②選手情報入力!I52=\"\",\"\",IF(I43=1,VLOOKUP(②選手情報入力!I52,種目情報!$A$4:$B$135,2,FALSE),VLOOKUP(②選手情報入力!I52,種目情報!$E$4:$F$135,2,FALSE))))","v":""},{"$f":"IF(E43=\"\",\"\",IF(②選手情報入力!J52=\"\",\"\",②選手情報入力!J52))","v":""},{"$f":"IF(E43=\"\",\"\",IF(②選手情報入力!H52=\"\",0,1))","v":""},{"$f":"IF(E43=\"\",\"\",IF(②選手情報入力!I52=\"\",\"\",IF(I43=1,VLOOKUP(②選手情報入力!I52,種目情報!$A$4:$C$39,3,FALSE),VLOOKUP(②選手情報入力!I52,種目情報!$E$4:$G$40,3,FALSE))))","v":""},{"$f":"IF(E43=\"\",\"\",IF(②選手情報入力!L52=\"\",\"\",IF(I43=1,VLOOKUP(②選手情報入力!L52,種目情報!$A$4:$B$39,2,FALSE),VLOOKUP(②選手情報入力!L52,種目情報!$E$4:$F$40,2,FALSE))))","v":""},{"$f":"IF(E43=\"\",\"\",IF(②選手情報入力!M52=\"\",\"\",②選手情報入力!M52))","v":""},{"$f":"IF(E43=\"\",\"\",IF(②選手情報入力!K52=\"\",0,1))","v":""},{"$f":"IF(E43=\"\",\"\",IF(②選手情報入力!L52=\"\",\"\",IF(I43=1,VLOOKUP(②選手情報入力!L52,種目情報!$A$4:$C$39,3,FALSE),VLOOKUP(②選手情報入力!L52,種目情報!$E$4:$G$40,3,FALSE))))","v":""},{"$f":"IF(E43=\"\",\"\",IF(②選手情報入力!O52=\"\",\"\",IF(I43=1,VLOOKUP(②選手情報入力!O52,種目情報!$A$4:$B$39,2,FALSE),VLOOKUP(②選手情報入力!O52,種目情報!$E$4:$F$40,2,FALSE))))","v":""},{"$f":"IF(E43=\"\",\"\",IF(②選手情報入力!P52=\"\",\"\",②選手情報入力!P52))","v":""},{"$f":"IF(E43=\"\",\"\",IF(②選手情報入力!N52=\"\",0,1))","v":""},{"$f":"IF(E43=\"\",\"\",IF(②選手情報入力!O52=\"\",\"\",IF(I43=1,VLOOKUP(②選手情報入力!O52,種目情報!$A$4:$C$39,3,FALSE),VLOOKUP(②選手情報入力!O52,種目情報!$E$4:$G$40,3,FALSE))))","v":""},{"$f":"IF(E43=\"\",\"\",IF(②選手情報入力!Q52=\"\",\"\",IF(I43=1,種目情報!$J$4,種目情報!$J$6)))","v":""},{"$f":"IF(E43=\"\",\"\",IF(②選手情報入力!Q52=\"\",\"\",IF(I43=1,IF(②選手情報入力!$R$6=\"\",\"\",②選手情報入力!$R$6),IF(②選手情報入力!$R$7=\"\",\"\",②選手情報入力!$R$7))))","v":""},{"$f":"IF(E43=\"\",\"\",IF(②選手情報入力!Q52=\"\",\"\",IF(I43=1,IF(②選手情報入力!$Q$6=\"\",0,1),IF(②選手情報入力!$Q$7=\"\",0,1))))","v":""},{"$f":"IF(E43=\"\",\"\",IF(②選手情報入力!Q52=\"\",\"\",2))","v":""},{"$f":"IF(E43=\"\",\"\",IF(②選手情報入力!S52=\"\",\"\",IF(I43=1,種目情報!$J$5,種目情報!$J$7)))","v":""},{"$f":"IF(E43=\"\",\"\",IF(②選手情報入力!S52=\"\",\"\",IF(I43=1,IF(②選手情報入力!$T$6=\"\",\"\",②選手情報入力!$T$6),IF(②選手情報入力!$T$7=\"\",\"\",②選手情報入力!$T$7))))","v":""},{"$f":"IF(E43=\"\",\"\",IF(②選手情報入力!S52=\"\",\"\",IF(I43=1,IF(②選手情報入力!$S$6=\"\",0,1),IF(②選手情報入力!$S$7=\"\",0,1))))","v":""},{"$f":"IF(E43=\"\",\"\",IF(②選手情報入力!S52=\"\",\"\",2))","v":""}]
[{"$f":"IF(E44=\"\",\"\",I44*1200000+①団体情報入力!$C$3*1000+②選手情報入力!A53)","v":""},{"$f":"IF(E44=\"\",\"\",①団体情報入力!$C$3)","v":""},null,{"$f":"IF(E44=\"\",\"\",LEFT(②選手情報入力!B53,1))","v":""},{"$f":"IF(②選手情報入力!B53=\"\",\"\",RIGHT(②選手情報入力!B53,LEN(②選手情報入力!B53)-1))","v":""},{"$f":"IF(E44=\"\",\"\",②選手情報入力!C53)","v":""},{"$f":"IF(E44=\"\",\"\",②選手情報入力!D53)","v":""},"",{"$f":"IF(E44=\"\",\"\",IF(②選手情報入力!F53=\"男\",1,2))","v":""},{"$f":"IF(E44=\"\",\"\",IF(②選手情報入力!G53=\"\",\"\",②選手情報入力!G53))","v":""},null,"","",null,{"$f":"IF(E44=\"\",\"\",IF(②選手情報入力!I53=\"\",\"\",IF(I44=1,VLOOKUP(②選手情報入力!I53,種目情報!$A$4:$B$135,2,FALSE),VLOOKUP(②選手情報入力!I53,種目情報!$E$4:$F$135,2,FALSE))))","v":""},{"$f":"IF(E44=\"\",\"\",IF(②選手情報入力!J53=\"\",\"\",②選手情報入力!J53))","v":""},{"$f":"IF(E44=\"\",\"\",IF(②選手情報入力!H53=\"\",0,1))","v":""},{"$f":"IF(E44=\"\",\"\",IF(②選手情報入力!I53=\"\",\"\",IF(I44=1,VLOOKUP(②選手情報入力!I53,種目情報!$A$4:$C$39,3,FALSE),VLOOKUP(②選手情報入力!I53,種目情報!$E$4:$G$40,3,FALSE))))","v":""},{"$f":"IF(E44=\"\",\"\",IF(②選手情報入力!L53=\"\",\"\",IF(I44=1,VLOOKUP(②選手情報入力!L53,種目情報!$A$4:$B$39,2,FALSE),VLOOKUP(②選手情報入力!L53,種目情報!$E$4:$F$40,2,FALSE))))","v":""},{"$f":"IF(E44=\"\",\"\",IF(②選手情報入力!M53=\"\",\"\",②選手情報入力!M53))","v":""},{"$f":"IF(E44=\"\",\"\",IF(②選手情報入力!K53=\"\",0,1))","v":""},{"$f":"IF(E44=\"\",\"\",IF(②選手情報入力!L53=\"\",\"\",IF(I44=1,VLOOKUP(②選手情報入力!L53,種目情報!$A$4:$C$39,3,FALSE),VLOOKUP(②選手情報入力!L53,種目情報!$E$4:$G$40,3,FALSE))))","v":""},{"$f":"IF(E44=\"\",\"\",IF(②選手情報入力!O53=\"\",\"\",IF(I44=1,VLOOKUP(②選手情報入力!O53,種目情報!$A$4:$B$39,2,FALSE),VLOOKUP(②選手情報入力!O53,種目情報!$E$4:$F$40,2,FALSE))))","v":""},{"$f":"IF(E44=\"\",\"\",IF(②選手情報入力!P53=\"\",\"\",②選手情報入力!P53))","v":""},{"$f":"IF(E44=\"\",\"\",IF(②選手情報入力!N53=\"\",0,1))","v":""},{"$f":"IF(E44=\"\",\"\",IF(②選手情報入力!O53=\"\",\"\",IF(I44=1,VLOOKUP(②選手情報入力!O53,種目情報!$A$4:$C$39,3,FALSE),VLOOKUP(②選手情報入力!O53,種目情報!$E$4:$G$40,3,FALSE))))","v":""},{"$f":"IF(E44=\"\",\"\",IF(②選手情報入力!Q53=\"\",\"\",IF(I44=1,種目情報!$J$4,種目情報!$J$6)))","v":""},{"$f":"IF(E44=\"\",\"\",IF(②選手情報入力!Q53=\"\",\"\",IF(I44=1,IF(②選手情報入力!$R$6=\"\",\"\",②選手情報入力!$R$6),IF(②選手情報入力!$R$7=\"\",\"\",②選手情報入力!$R$7))))","v":""},{"$f":"IF(E44=\"\",\"\",IF(②選手情報入力!Q53=\"\",\"\",IF(I44=1,IF(②選手情報入力!$Q$6=\"\",0,1),IF(②選手情報入力!$Q$7=\"\",0,1))))","v":""},{"$f":"IF(E44=\"\",\"\",IF(②選手情報入力!Q53=\"\",\"\",2))","v":""},{"$f":"IF(E44=\"\",\"\",IF(②選手情報入力!S53=\"\",\"\",IF(I44=1,種目情報!$J$5,種目情報!$J$7)))","v":""},{"$f":"IF(E44=\"\",\"\",IF(②選手情報入力!S53=\"\",\"\",IF(I44=1,IF(②選手情報入力!$T$6=\"\",\"\",②選手情報入力!$T$6),IF(②選手情報入力!$T$7=\"\",\"\",②選手情報入力!$T$7))))","v":""},{"$f":"IF(E44=\"\",\"\",IF(②選手情報入力!S53=\"\",\"\",IF(I44=1,IF(②選手情報入力!$S$6=\"\",0,1),IF(②選手情報入力!$S$7=\"\",0,1))))","v":""},{"$f":"IF(E44=\"\",\"\",IF(②選手情報入力!S53=\"\",\"\",2))","v":""}]
[{"$f":"IF(E45=\"\",\"\",I45*1200000+①団体情報入力!$C$3*1000+②選手情報入力!A54)","v":""},{"$f":"IF(E45=\"\",\"\",①団体情報入力!$C$3)","v":""},null,{"$f":"IF(E45=\"\",\"\",LEFT(②選手情報入力!B54,1))","v":""},{"$f":"IF(②選手情報入力!B54=\"\",\"\",RIGHT(②選手情報入力!B54,LEN(②選手情報入力!B54)-1))","v":""},{"$f":"IF(E45=\"\",\"\",②選手情報入力!C54)","v":""},{"$f":"IF(E45=\"\",\"\",②選手情報入力!D54)","v":""},"",{"$f":"IF(E45=\"\",\"\",IF(②選手情報入力!F54=\"男\",1,2))","v":""},{"$f":"IF(E45=\"\",\"\",IF(②選手情報入力!G54=\"\",\"\",②選手情報入力!G54))","v":""},null,"","",null,{"$f":"IF(E45=\"\",\"\",IF(②選手情報入力!I54=\"\",\"\",IF(I45=1,VLOOKUP(②選手情報入力!I54,種目情報!$A$4:$B$135,2,FALSE),VLOOKUP(②選手情報入力!I54,種目情報!$E$4:$F$135,2,FALSE))))","v":""},{"$f":"IF(E45=\"\",\"\",IF(②選手情報入力!J54=\"\",\"\",②選手情報入力!J54))","v":""},{"$f":"IF(E45=\"\",\"\",IF(②選手情報入力!H54=\"\",0,1))","v":""},{"$f":"IF(E45=\"\",\"\",IF(②選手情報入力!I54=\"\",\"\",IF(I45=1,VLOOKUP(②選手情報入力!I54,種目情報!$A$4:$C$39,3,FALSE),VLOOKUP(②選手情報入力!I54,種目情報!$E$4:$G$40,3,FALSE))))","v":""},{"$f":"IF(E45=\"\",\"\",IF(②選手情報入力!L54=\"\",\"\",IF(I45=1,VLOOKUP(②選手情報入力!L54,種目情報!$A$4:$B$39,2,FALSE),VLOOKUP(②選手情報入力!L54,種目情報!$E$4:$F$40,2,FALSE))))","v":""},{"$f":"IF(E45=\"\",\"\",IF(②選手情報入力!M54=\"\",\"\",②選手情報入力!M54))","v":""},{"$f":"IF(E45=\"\",\"\",IF(②選手情報入力!K54=\"\",0,1))","v":""},{"$f":"IF(E45=\"\",\"\",IF(②選手情報入力!L54=\"\",\"\",IF(I45=1,VLOOKUP(②選手情報入力!L54,種目情報!$A$4:$C$39,3,FALSE),VLOOKUP(②選手情報入力!L54,種目情報!$E$4:$G$40,3,FALSE))))","v":""},{"$f":"IF(E45=\"\",\"\",IF(②選手情報入力!O54=\"\",\"\",IF(I45=1,VLOOKUP(②選手情報入力!O54,種目情報!$A$4:$B$39,2,FALSE),VLOOKUP(②選手情報入力!O54,種目情報!$E$4:$F$40,2,FALSE))))","v":""},{"$f":"IF(E45=\"\",\"\",IF(②選手情報入力!P54=\"\",\"\",②選手情報入力!P54))","v":""},{"$f":"IF(E45=\"\",\"\",IF(②選手情報入力!N54=\"\",0,1))","v":""},{"$f":"IF(E45=\"\",\"\",IF(②選手情報入力!O54=\"\",\"\",IF(I45=1,VLOOKUP(②選手情報入力!O54,種目情報!$A$4:$C$39,3,FALSE),VLOOKUP(②選手情報入力!O54,種目情報!$E$4:$G$40,3,FALSE))))","v":""},{"$f":"IF(E45=\"\",\"\",IF(②選手情報入力!Q54=\"\",\"\",IF(I45=1,種目情報!$J$4,種目情報!$J$6)))","v":""},{"$f":"IF(E45=\"\",\"\",IF(②選手情報入力!Q54=\"\",\"\",IF(I45=1,IF(②選手情報入力!$R$6=\"\",\"\",②選手情報入力!$R$6),IF(②選手情報入力!$R$7=\"\",\"\",②選手情報入力!$R$7))))","v":""},{"$f":"IF(E45=\"\",\"\",IF(②選手情報入力!Q54=\"\",\"\",IF(I45=1,IF(②選手情報入力!$Q$6=\"\",0,1),IF(②選手情報入力!$Q$7=\"\",0,1))))","v":""},{"$f":"IF(E45=\"\",\"\",IF(②選手情報入力!Q54=\"\",\"\",2))","v":""},{"$f":"IF(E45=\"\",\"\",IF(②選手情報入力!S54=\"\",\"\",IF(I45=1,種目情報!$J$5,種目情報!$J$7)))","v":""},{"$f":"IF(E45=\"\",\"\",IF(②選手情報入力!S54=\"\",\"\",IF(I45=1,IF(②選手情報入力!$T$6=\"\",\"\",②選手情報入力!$T$6),IF(②選手情報入力!$T$7=\"\",\"\",②選手情報入力!$T$7))))","v":""},{"$f":"IF(E45=\"\",\"\",IF(②選手情報入力!S54=\"\",\"\",IF(I45=1,IF(②選手情報入力!$S$6=\"\",0,1),IF(②選手情報入力!$S$7=\"\",0,1))))","v":""},{"$f":"IF(E45=\"\",\"\",IF(②選手情報入力!S54=\"\",\"\",2))","v":""}]
[{"$f":"IF(E46=\"\",\"\",I46*1200000+①団体情報入力!$C$3*1000+②選手情報入力!A55)","v":""},{"$f":"IF(E46=\"\",\"\",①団体情報入力!$C$3)","v":""},null,{"$f":"IF(E46=\"\",\"\",LEFT(②選手情報入力!B55,1))","v":""},{"$f":"IF(②選手情報入力!B55=\"\",\"\",RIGHT(②選手情報入力!B55,LEN(②選手情報入力!B55)-1))","v":""},{"$f":"IF(E46=\"\",\"\",②選手情報入力!C55)","v":""},{"$f":"IF(E46=\"\",\"\",②選手情報入力!D55)","v":""},"",{"$f":"IF(E46=\"\",\"\",IF(②選手情報入力!F55=\"男\",1,2))","v":""},{"$f":"IF(E46=\"\",\"\",IF(②選手情報入力!G55=\"\",\"\",②選手情報入力!G55))","v":""},null,"","",null,{"$f":"IF(E46=\"\",\"\",IF(②選手情報入力!I55=\"\",\"\",IF(I46=1,VLOOKUP(②選手情報入力!I55,種目情報!$A$4:$B$135,2,FALSE),VLOOKUP(②選手情報入力!I55,種目情報!$E$4:$F$135,2,FALSE))))","v":""},{"$f":"IF(E46=\"\",\"\",IF(②選手情報入力!J55=\"\",\"\",②選手情報入力!J55))","v":""},{"$f":"IF(E46=\"\",\"\",IF(②選手情報入力!H55=\"\",0,1))","v":""},{"$f":"IF(E46=\"\",\"\",IF(②選手情報入力!I55=\"\",\"\",IF(I46=1,VLOOKUP(②選手情報入力!I55,種目情報!$A$4:$C$39,3,FALSE),VLOOKUP(②選手情報入力!I55,種目情報!$E$4:$G$40,3,FALSE))))","v":""},{"$f":"IF(E46=\"\",\"\",IF(②選手情報入力!L55=\"\",\"\",IF(I46=1,VLOOKUP(②選手情報入力!L55,種目情報!$A$4:$B$39,2,FALSE),VLOOKUP(②選手情報入力!L55,種目情報!$E$4:$F$40,2,FALSE))))","v":""},{"$f":"IF(E46=\"\",\"\",IF(②選手情報入力!M55=\"\",\"\",②選手情報入力!M55))","v":""},{"$f":"IF(E46=\"\",\"\",IF(②選手情報入力!K55=\"\",0,1))","v":""},{"$f":"IF(E46=\"\",\"\",IF(②選手情報入力!L55=\"\",\"\",IF(I46=1,VLOOKUP(②選手情報入力!L55,種目情報!$A$4:$C$39,3,FALSE),VLOOKUP(②選手情報入力!L55,種目情報!$E$4:$G$40,3,FALSE))))","v":""},{"$f":"IF(E46=\"\",\"\",IF(②選手情報入力!O55=\"\",\"\",IF(I46=1,VLOOKUP(②選手情報入力!O55,種目情報!$A$4:$B$39,2,FALSE),VLOOKUP(②選手情報入力!O55,種目情報!$E$4:$F$40,2,FALSE))))","v":""},{"$f":"IF(E46=\"\",\"\",IF(②選手情報入力!P55=\"\",\"\",②選手情報入力!P55))","v":""},{"$f":"IF(E46=\"\",\"\",IF(②選手情報入力!N55=\"\",0,1))","v":""},{"$f":"IF(E46=\"\",\"\",IF(②選手情報入力!O55=\"\",\"\",IF(I46=1,VLOOKUP(②選手情報入力!O55,種目情報!$A$4:$C$39,3,FALSE),VLOOKUP(②選手情報入力!O55,種目情報!$E$4:$G$40,3,FALSE))))","v":""},{"$f":"IF(E46=\"\",\"\",IF(②選手情報入力!Q55=\"\",\"\",IF(I46=1,種目情報!$J$4,種目情報!$J$6)))","v":""},{"$f":"IF(E46=\"\",\"\",IF(②選手情報入力!Q55=\"\",\"\",IF(I46=1,IF(②選手情報入力!$R$6=\"\",\"\",②選手情報入力!$R$6),IF(②選手情報入力!$R$7=\"\",\"\",②選手情報入力!$R$7))))","v":""},{"$f":"IF(E46=\"\",\"\",IF(②選手情報入力!Q55=\"\",\"\",IF(I46=1,IF(②選手情報入力!$Q$6=\"\",0,1),IF(②選手情報入力!$Q$7=\"\",0,1))))","v":""},{"$f":"IF(E46=\"\",\"\",IF(②選手情報入力!Q55=\"\",\"\",2))","v":""},{"$f":"IF(E46=\"\",\"\",IF(②選手情報入力!S55=\"\",\"\",IF(I46=1,種目情報!$J$5,種目情報!$J$7)))","v":""},{"$f":"IF(E46=\"\",\"\",IF(②選手情報入力!S55=\"\",\"\",IF(I46=1,IF(②選手情報入力!$T$6=\"\",\"\",②選手情報入力!$T$6),IF(②選手情報入力!$T$7=\"\",\"\",②選手情報入力!$T$7))))","v":""},{"$f":"IF(E46=\"\",\"\",IF(②選手情報入力!S55=\"\",\"\",IF(I46=1,IF(②選手情報入力!$S$6=\"\",0,1),IF(②選手情報入力!$S$7=\"\",0,1))))","v":""},{"$f":"IF(E46=\"\",\"\",IF(②選手情報入力!S55=\"\",\"\",2))","v":""}]
[{"$f":"IF(E47=\"\",\"\",I47*1200000+①団体情報入力!$C$3*1000+②選手情報入力!A56)","v":""},{"$f":"IF(E47=\"\",\"\",①団体情報入力!$C$3)","v":""},null,{"$f":"IF(E47=\"\",\"\",LEFT(②選手情報入力!B56,1))","v":""},{"$f":"IF(②選手情報入力!B56=\"\",\"\",RIGHT(②選手情報入力!B56,LEN(②選手情報入力!B56)-1))","v":""},{"$f":"IF(E47=\"\",\"\",②選手情報入力!C56)","v":""},{"$f":"IF(E47=\"\",\"\",②選手情報入力!D56)","v":""},"",{"$f":"IF(E47=\"\",\"\",IF(②選手情報入力!F56=\"男\",1,2))","v":""},{"$f":"IF(E47=\"\",\"\",IF(②選手情報入力!G56=\"\",\"\",②選手情報入力!G56))","v":""},null,"","",null,{"$f":"IF(E47=\"\",\"\",IF(②選手情報入力!I56=\"\",\"\",IF(I47=1,VLOOKUP(②選手情報入力!I56,種目情報!$A$4:$B$135,2,FALSE),VLOOKUP(②選手情報入力!I56,種目情報!$E$4:$F$135,2,FALSE))))","v":""},{"$f":"IF(E47=\"\",\"\",IF(②選手情報入力!J56=\"\",\"\",②選手情報入力!J56))","v":""},{"$f":"IF(E47=\"\",\"\",IF(②選手情報入力!H56=\"\",0,1))","v":""},{"$f":"IF(E47=\"\",\"\",IF(②選手情報入力!I56=\"\",\"\",IF(I47=1,VLOOKUP(②選手情報入力!I56,種目情報!$A$4:$C$39,3,FALSE),VLOOKUP(②選手情報入力!I56,種目情報!$E$4:$G$40,3,FALSE))))","v":""},{"$f":"IF(E47=\"\",\"\",IF(②選手情報入力!L56=\"\",\"\",IF(I47=1,VLOOKUP(②選手情報入力!L56,種目情報!$A$4:$B$39,2,FALSE),VLOOKUP(②選手情報入力!L56,種目情報!$E$4:$F$40,2,FALSE))))","v":""},{"$f":"IF(E47=\"\",\"\",IF(②選手情報入力!M56=\"\",\"\",②選手情報入力!M56))","v":""},{"$f":"IF(E47=\"\",\"\",IF(②選手情報入力!K56=\"\",0,1))","v":""},{"$f":"IF(E47=\"\",\"\",IF(②選手情報入力!L56=\"\",\"\",IF(I47=1,VLOOKUP(②選手情報入力!L56,種目情報!$A$4:$C$39,3,FALSE),VLOOKUP(②選手情報入力!L56,種目情報!$E$4:$G$40,3,FALSE))))","v":""},{"$f":"IF(E47=\"\",\"\",IF(②選手情報入力!O56=\"\",\"\",IF(I47=1,VLOOKUP(②選手情報入力!O56,種目情報!$A$4:$B$39,2,FALSE),VLOOKUP(②選手情報入力!O56,種目情報!$E$4:$F$40,2,FALSE))))","v":""},{"$f":"IF(E47=\"\",\"\",IF(②選手情報入力!P56=\"\",\"\",②選手情報入力!P56))","v":""},{"$f":"IF(E47=\"\",\"\",IF(②選手情報入力!N56=\"\",0,1))","v":""},{"$f":"IF(E47=\"\",\"\",IF(②選手情報入力!O56=\"\",\"\",IF(I47=1,VLOOKUP(②選手情報入力!O56,種目情報!$A$4:$C$39,3,FALSE),VLOOKUP(②選手情報入力!O56,種目情報!$E$4:$G$40,3,FALSE))))","v":""},{"$f":"IF(E47=\"\",\"\",IF(②選手情報入力!Q56=\"\",\"\",IF(I47=1,種目情報!$J$4,種目情報!$J$6)))","v":""},{"$f":"IF(E47=\"\",\"\",IF(②選手情報入力!Q56=\"\",\"\",IF(I47=1,IF(②選手情報入力!$R$6=\"\",\"\",②選手情報入力!$R$6),IF(②選手情報入力!$R$7=\"\",\"\",②選手情報入力!$R$7))))","v":""},{"$f":"IF(E47=\"\",\"\",IF(②選手情報入力!Q56=\"\",\"\",IF(I47=1,IF(②選手情報入力!$Q$6=\"\",0,1),IF(②選手情報入力!$Q$7=\"\",0,1))))","v":""},{"$f":"IF(E47=\"\",\"\",IF(②選手情報入力!Q56=\"\",\"\",2))","v":""},{"$f":"IF(E47=\"\",\"\",IF(②選手情報入力!S56=\"\",\"\",IF(I47=1,種目情報!$J$5,種目情報!$J$7)))","v":""},{"$f":"IF(E47=\"\",\"\",IF(②選手情報入力!S56=\"\",\"\",IF(I47=1,IF(②選手情報入力!$T$6=\"\",\"\",②選手情報入力!$T$6),IF(②選手情報入力!$T$7=\"\",\"\",②選手情報入力!$T$7))))","v":""},{"$f":"IF(E47=\"\",\"\",IF(②選手情報入力!S56=\"\",\"\",IF(I47=1,IF(②選手情報入力!$S$6=\"\",0,1),IF(②選手情報入力!$S$7=\"\",0,1))))","v":""},{"$f":"IF(E47=\"\",\"\",IF(②選手情報入力!S56=\"\",\"\",2))","v":""}]
[{"$f":"IF(E48=\"\",\"\",I48*1200000+①団体情報入力!$C$3*1000+②選手情報入力!A57)","v":""},{"$f":"IF(E48=\"\",\"\",①団体情報入力!$C$3)","v":""},null,{"$f":"IF(E48=\"\",\"\",LEFT(②選手情報入力!B57,1))","v":""},{"$f":"IF(②選手情報入力!B57=\"\",\"\",RIGHT(②選手情報入力!B57,LEN(②選手情報入力!B57)-1))","v":""},{"$f":"IF(E48=\"\",\"\",②選手情報入力!C57)","v":""},{"$f":"IF(E48=\"\",\"\",②選手情報入力!D57)","v":""},"",{"$f":"IF(E48=\"\",\"\",IF(②選手情報入力!F57=\"男\",1,2))","v":""},{"$f":"IF(E48=\"\",\"\",IF(②選手情報入力!G57=\"\",\"\",②選手情報入力!G57))","v":""},null,"","",null,{"$f":"IF(E48=\"\",\"\",IF(②選手情報入力!I57=\"\",\"\",IF(I48=1,VLOOKUP(②選手情報入力!I57,種目情報!$A$4:$B$135,2,FALSE),VLOOKUP(②選手情報入力!I57,種目情報!$E$4:$F$135,2,FALSE))))","v":""},{"$f":"IF(E48=\"\",\"\",IF(②選手情報入力!J57=\"\",\"\",②選手情報入力!J57))","v":""},{"$f":"IF(E48=\"\",\"\",IF(②選手情報入力!H57=\"\",0,1))","v":""},{"$f":"IF(E48=\"\",\"\",IF(②選手情報入力!I57=\"\",\"\",IF(I48=1,VLOOKUP(②選手情報入力!I57,種目情報!$A$4:$C$39,3,FALSE),VLOOKUP(②選手情報入力!I57,種目情報!$E$4:$G$40,3,FALSE))))","v":""},{"$f":"IF(E48=\"\",\"\",IF(②選手情報入力!L57=\"\",\"\",IF(I48=1,VLOOKUP(②選手情報入力!L57,種目情報!$A$4:$B$39,2,FALSE),VLOOKUP(②選手情報入力!L57,種目情報!$E$4:$F$40,2,FALSE))))","v":""},{"$f":"IF(E48=\"\",\"\",IF(②選手情報入力!M57=\"\",\"\",②選手情報入力!M57))","v":""},{"$f":"IF(E48=\"\",\"\",IF(②選手情報入力!K57=\"\",0,1))","v":""},{"$f":"IF(E48=\"\",\"\",IF(②選手情報入力!L57=\"\",\"\",IF(I48=1,VLOOKUP(②選手情報入力!L57,種目情報!$A$4:$C$39,3,FALSE),VLOOKUP(②選手情報入力!L57,種目情報!$E$4:$G$40,3,FALSE))))","v":""},{"$f":"IF(E48=\"\",\"\",IF(②選手情報入力!O57=\"\",\"\",IF(I48=1,VLOOKUP(②選手情報入力!O57,種目情報!$A$4:$B$39,2,FALSE),VLOOKUP(②選手情報入力!O57,種目情報!$E$4:$F$40,2,FALSE))))","v":""},{"$f":"IF(E48=\"\",\"\",IF(②選手情報入力!P57=\"\",\"\",②選手情報入力!P57))","v":""},{"$f":"IF(E48=\"\",\"\",IF(②選手情報入力!N57=\"\",0,1))","v":""},{"$f":"IF(E48=\"\",\"\",IF(②選手情報入力!O57=\"\",\"\",IF(I48=1,VLOOKUP(②選手情報入力!O57,種目情報!$A$4:$C$39,3,FALSE),VLOOKUP(②選手情報入力!O57,種目情報!$E$4:$G$40,3,FALSE))))","v":""},{"$f":"IF(E48=\"\",\"\",IF(②選手情報入力!Q57=\"\",\"\",IF(I48=1,種目情報!$J$4,種目情報!$J$6)))","v":""},{"$f":"IF(E48=\"\",\"\",IF(②選手情報入力!Q57=\"\",\"\",IF(I48=1,IF(②選手情報入力!$R$6=\"\",\"\",②選手情報入力!$R$6),IF(②選手情報入力!$R$7=\"\",\"\",②選手情報入力!$R$7))))","v":""},{"$f":"IF(E48=\"\",\"\",IF(②選手情報入力!Q57=\"\",\"\",IF(I48=1,IF(②選手情報入力!$Q$6=\"\",0,1),IF(②選手情報入力!$Q$7=\"\",0,1))))","v":""},{"$f":"IF(E48=\"\",\"\",IF(②選手情報入力!Q57=\"\",\"\",2))","v":""},{"$f":"IF(E48=\"\",\"\",IF(②選手情報入力!S57=\"\",\"\",IF(I48=1,種目情報!$J$5,種目情報!$J$7)))","v":""},{"$f":"IF(E48=\"\",\"\",IF(②選手情報入力!S57=\"\",\"\",IF(I48=1,IF(②選手情報入力!$T$6=\"\",\"\",②選手情報入力!$T$6),IF(②選手情報入力!$T$7=\"\",\"\",②選手情報入力!$T$7))))","v":""},{"$f":"IF(E48=\"\",\"\",IF(②選手情報入力!S57=\"\",\"\",IF(I48=1,IF(②選手情報入力!$S$6=\"\",0,1),IF(②選手情報入力!$S$7=\"\",0,1))))","v":""},{"$f":"IF(E48=\"\",\"\",IF(②選手情報入力!S57=\"\",\"\",2))","v":""}]
[{"$f":"IF(E49=\"\",\"\",I49*1200000+①団体情報入力!$C$3*1000+②選手情報入力!A58)","v":""},{"$f":"IF(E49=\"\",\"\",①団体情報入力!$C$3)","v":""},null,{"$f":"IF(E49=\"\",\"\",LEFT(②選手情報入力!B58,1))","v":""},{"$f":"IF(②選手情報入力!B58=\"\",\"\",RIGHT(②選手情報入力!B58,LEN(②選手情報入力!B58)-1))","v":""},{"$f":"IF(E49=\"\",\"\",②選手情報入力!C58)","v":""},{"$f":"IF(E49=\"\",\"\",②選手情報入力!D58)","v":""},"",{"$f":"IF(E49=\"\",\"\",IF(②選手情報入力!F58=\"男\",1,2))","v":""},{"$f":"IF(E49=\"\",\"\",IF(②選手情報入力!G58=\"\",\"\",②選手情報入力!G58))","v":""},null,"","",null,{"$f":"IF(E49=\"\",\"\",IF(②選手情報入力!I58=\"\",\"\",IF(I49=1,VLOOKUP(②選手情報入力!I58,種目情報!$A$4:$B$135,2,FALSE),VLOOKUP(②選手情報入力!I58,種目情報!$E$4:$F$135,2,FALSE))))","v":""},{"$f":"IF(E49=\"\",\"\",IF(②選手情報入力!J58=\"\",\"\",②選手情報入力!J58))","v":""},{"$f":"IF(E49=\"\",\"\",IF(②選手情報入力!H58=\"\",0,1))","v":""},{"$f":"IF(E49=\"\",\"\",IF(②選手情報入力!I58=\"\",\"\",IF(I49=1,VLOOKUP(②選手情報入力!I58,種目情報!$A$4:$C$39,3,FALSE),VLOOKUP(②選手情報入力!I58,種目情報!$E$4:$G$40,3,FALSE))))","v":""},{"$f":"IF(E49=\"\",\"\",IF(②選手情報入力!L58=\"\",\"\",IF(I49=1,VLOOKUP(②選手情報入力!L58,種目情報!$A$4:$B$39,2,FALSE),VLOOKUP(②選手情報入力!L58,種目情報!$E$4:$F$40,2,FALSE))))","v":""},{"$f":"IF(E49=\"\",\"\",IF(②選手情報入力!M58=\"\",\"\",②選手情報入力!M58))","v":""},{"$f":"IF(E49=\"\",\"\",IF(②選手情報入力!K58=\"\",0,1))","v":""},{"$f":"IF(E49=\"\",\"\",IF(②選手情報入力!L58=\"\",\"\",IF(I49=1,VLOOKUP(②選手情報入力!L58,種目情報!$A$4:$C$39,3,FALSE),VLOOKUP(②選手情報入力!L58,種目情報!$E$4:$G$40,3,FALSE))))","v":""},{"$f":"IF(E49=\"\",\"\",IF(②選手情報入力!O58=\"\",\"\",IF(I49=1,VLOOKUP(②選手情報入力!O58,種目情報!$A$4:$B$39,2,FALSE),VLOOKUP(②選手情報入力!O58,種目情報!$E$4:$F$40,2,FALSE))))","v":""},{"$f":"IF(E49=\"\",\"\",IF(②選手情報入力!P58=\"\",\"\",②選手情報入力!P58))","v":""},{"$f":"IF(E49=\"\",\"\",IF(②選手情報入力!N58=\"\",0,1))","v":""},{"$f":"IF(E49=\"\",\"\",IF(②選手情報入力!O58=\"\",\"\",IF(I49=1,VLOOKUP(②選手情報入力!O58,種目情報!$A$4:$C$39,3,FALSE),VLOOKUP(②選手情報入力!O58,種目情報!$E$4:$G$40,3,FALSE))))","v":""},{"$f":"IF(E49=\"\",\"\",IF(②選手情報入力!Q58=\"\",\"\",IF(I49=1,種目情報!$J$4,種目情報!$J$6)))","v":""},{"$f":"IF(E49=\"\",\"\",IF(②選手情報入力!Q58=\"\",\"\",IF(I49=1,IF(②選手情報入力!$R$6=\"\",\"\",②選手情報入力!$R$6),IF(②選手情報入力!$R$7=\"\",\"\",②選手情報入力!$R$7))))","v":""},{"$f":"IF(E49=\"\",\"\",IF(②選手情報入力!Q58=\"\",\"\",IF(I49=1,IF(②選手情報入力!$Q$6=\"\",0,1),IF(②選手情報入力!$Q$7=\"\",0,1))))","v":""},{"$f":"IF(E49=\"\",\"\",IF(②選手情報入力!Q58=\"\",\"\",2))","v":""},{"$f":"IF(E49=\"\",\"\",IF(②選手情報入力!S58=\"\",\"\",IF(I49=1,種目情報!$J$5,種目情報!$J$7)))","v":""},{"$f":"IF(E49=\"\",\"\",IF(②選手情報入力!S58=\"\",\"\",IF(I49=1,IF(②選手情報入力!$T$6=\"\",\"\",②選手情報入力!$T$6),IF(②選手情報入力!$T$7=\"\",\"\",②選手情報入力!$T$7))))","v":""},{"$f":"IF(E49=\"\",\"\",IF(②選手情報入力!S58=\"\",\"\",IF(I49=1,IF(②選手情報入力!$S$6=\"\",0,1),IF(②選手情報入力!$S$7=\"\",0,1))))","v":""},{"$f":"IF(E49=\"\",\"\",IF(②選手情報入力!S58=\"\",\"\",2))","v":""}]
[{"$f":"IF(E50=\"\",\"\",I50*1200000+①団体情報入力!$C$3*1000+②選手情報入力!A59)","v":""},{"$f":"IF(E50=\"\",\"\",①団体情報入力!$C$3)","v":""},null,{"$f":"IF(E50=\"\",\"\",LEFT(②選手情報入力!B59,1))","v":""},{"$f":"IF(②選手情報入力!B59=\"\",\"\",RIGHT(②選手情報入力!B59,LEN(②選手情報入力!B59)-1))","v":""},{"$f":"IF(E50=\"\",\"\",②選手情報入力!C59)","v":""},{"$f":"IF(E50=\"\",\"\",②選手情報入力!D59)","v":""},"",{"$f":"IF(E50=\"\",\"\",IF(②選手情報入力!F59=\"男\",1,2))","v":""},{"$f":"IF(E50=\"\",\"\",IF(②選手情報入力!G59=\"\",\"\",②選手情報入力!G59))","v":""},null,"","",null,{"$f":"IF(E50=\"\",\"\",IF(②選手情報入力!I59=\"\",\"\",IF(I50=1,VLOOKUP(②選手情報入力!I59,種目情報!$A$4:$B$135,2,FALSE),VLOOKUP(②選手情報入力!I59,種目情報!$E$4:$F$135,2,FALSE))))","v":""},{"$f":"IF(E50=\"\",\"\",IF(②選手情報入力!J59=\"\",\"\",②選手情報入力!J59))","v":""},{"$f":"IF(E50=\"\",\"\",IF(②選手情報入力!H59=\"\",0,1))","v":""},{"$f":"IF(E50=\"\",\"\",IF(②選手情報入力!I59=\"\",\"\",IF(I50=1,VLOOKUP(②選手情報入力!I59,種目情報!$A$4:$C$39,3,FALSE),VLOOKUP(②選手情報入力!I59,種目情報!$E$4:$G$40,3,FALSE))))","v":""},{"$f":"IF(E50=\"\",\"\",IF(②選手情報入力!L59=\"\",\"\",IF(I50=1,VLOOKUP(②選手情報入力!L59,種目情報!$A$4:$B$39,2,FALSE),VLOOKUP(②選手情報入力!L59,種目情報!$E$4:$F$40,2,FALSE))))","v":""},{"$f":"IF(E50=\"\",\"\",IF(②選手情報入力!M59=\"\",\"\",②選手情報入力!M59))","v":""},{"$f":"IF(E50=\"\",\"\",IF(②選手情報入力!K59=\"\",0,1))","v":""},{"$f":"IF(E50=\"\",\"\",IF(②選手情報入力!L59=\"\",\"\",IF(I50=1,VLOOKUP(②選手情報入力!L59,種目情報!$A$4:$C$39,3,FALSE),VLOOKUP(②選手情報入力!L59,種目情報!$E$4:$G$40,3,FALSE))))","v":""},{"$f":"IF(E50=\"\",\"\",IF(②選手情報入力!O59=\"\",\"\",IF(I50=1,VLOOKUP(②選手情報入力!O59,種目情報!$A$4:$B$39,2,FALSE),VLOOKUP(②選手情報入力!O59,種目情報!$E$4:$F$40,2,FALSE))))","v":""},{"$f":"IF(E50=\"\",\"\",IF(②選手情報入力!P59=\"\",\"\",②選手情報入力!P59))","v":""},{"$f":"IF(E50=\"\",\"\",IF(②選手情報入力!N59=\"\",0,1))","v":""},{"$f":"IF(E50=\"\",\"\",IF(②選手情報入力!O59=\"\",\"\",IF(I50=1,VLOOKUP(②選手情報入力!O59,種目情報!$A$4:$C$39,3,FALSE),VLOOKUP(②選手情報入力!O59,種目情報!$E$4:$G$40,3,FALSE))))","v":""},{"$f":"IF(E50=\"\",\"\",IF(②選手情報入力!Q59=\"\",\"\",IF(I50=1,種目情報!$J$4,種目情報!$J$6)))","v":""},{"$f":"IF(E50=\"\",\"\",IF(②選手情報入力!Q59=\"\",\"\",IF(I50=1,IF(②選手情報入力!$R$6=\"\",\"\",②選手情報入力!$R$6),IF(②選手情報入力!$R$7=\"\",\"\",②選手情報入力!$R$7))))","v":""},{"$f":"IF(E50=\"\",\"\",IF(②選手情報入力!Q59=\"\",\"\",IF(I50=1,IF(②選手情報入力!$Q$6=\"\",0,1),IF(②選手情報入力!$Q$7=\"\",0,1))))","v":""},{"$f":"IF(E50=\"\",\"\",IF(②選手情報入力!Q59=\"\",\"\",2))","v":""},{"$f":"IF(E50=\"\",\"\",IF(②選手情報入力!S59=\"\",\"\",IF(I50=1,種目情報!$J$5,種目情報!$J$7)))","v":""},{"$f":"IF(E50=\"\",\"\",IF(②選手情報入力!S59=\"\",\"\",IF(I50=1,IF(②選手情報入力!$T$6=\"\",\"\",②選手情報入力!$T$6),IF(②選手情報入力!$T$7=\"\",\"\",②選手情報入力!$T$7))))","v":""},{"$f":"IF(E50=\"\",\"\",IF(②選手情報入力!S59=\"\",\"\",IF(I50=1,IF(②選手情報入力!$S$6=\"\",0,1),IF(②選手情報入力!$S$7=\"\",0,1))))","v":""},{"$f":"IF(E50=\"\",\"\",IF(②選手情報入力!S59=\"\",\"\",2))","v":""}]
[{"$f":"IF(E51=\"\",\"\",I51*1200000+①団体情報入力!$C$3*1000+②選手情報入力!A60)","v":""},{"$f":"IF(E51=\"\",\"\",①団体情報入力!$C$3)","v":""},null,{"$f":"IF(E51=\"\",\"\",LEFT(②選手情報入力!B60,1))","v":""},{"$f":"IF(②選手情報入力!B60=\"\",\"\",RIGHT(②選手情報入力!B60,LEN(②選手情報入力!B60)-1))","v":""},{"$f":"IF(E51=\"\",\"\",②選手情報入力!C60)","v":""},{"$f":"IF(E51=\"\",\"\",②選手情報入力!D60)","v":""},"",{"$f":"IF(E51=\"\",\"\",IF(②選手情報入力!F60=\"男\",1,2))","v":""},{"$f":"IF(E51=\"\",\"\",IF(②選手情報入力!G60=\"\",\"\",②選手情報入力!G60))","v":""},null,"","",null,{"$f":"IF(E51=\"\",\"\",IF(②選手情報入力!I60=\"\",\"\",IF(I51=1,VLOOKUP(②選手情報入力!I60,種目情報!$A$4:$B$135,2,FALSE),VLOOKUP(②選手情報入力!I60,種目情報!$E$4:$F$135,2,FALSE))))","v":""},{"$f":"IF(E51=\"\",\"\",IF(②選手情報入力!J60=\"\",\"\",②選手情報入力!J60))","v":""},{"$f":"IF(E51=\"\",\"\",IF(②選手情報入力!H60=\"\",0,1))","v":""},{"$f":"IF(E51=\"\",\"\",IF(②選手情報入力!I60=\"\",\"\",IF(I51=1,VLOOKUP(②選手情報入力!I60,種目情報!$A$4:$C$39,3,FALSE),VLOOKUP(②選手情報入力!I60,種目情報!$E$4:$G$40,3,FALSE))))","v":""},{"$f":"IF(E51=\"\",\"\",IF(②選手情報入力!L60=\"\",\"\",IF(I51=1,VLOOKUP(②選手情報入力!L60,種目情報!$A$4:$B$39,2,FALSE),VLOOKUP(②選手情報入力!L60,種目情報!$E$4:$F$40,2,FALSE))))","v":""},{"$f":"IF(E51=\"\",\"\",IF(②選手情報入力!M60=\"\",\"\",②選手情報入力!M60))","v":""},{"$f":"IF(E51=\"\",\"\",IF(②選手情報入力!K60=\"\",0,1))","v":""},{"$f":"IF(E51=\"\",\"\",IF(②選手情報入力!L60=\"\",\"\",IF(I51=1,VLOOKUP(②選手情報入力!L60,種目情報!$A$4:$C$39,3,FALSE),VLOOKUP(②選手情報入力!L60,種目情報!$E$4:$G$40,3,FALSE))))","v":""},{"$f":"IF(E51=\"\",\"\",IF(②選手情報入力!O60=\"\",\"\",IF(I51=1,VLOOKUP(②選手情報入力!O60,種目情報!$A$4:$B$39,2,FALSE),VLOOKUP(②選手情報入力!O60,種目情報!$E$4:$F$40,2,FALSE))))","v":""},{"$f":"IF(E51=\"\",\"\",IF(②選手情報入力!P60=\"\",\"\",②選手情報入力!P60))","v":""},{"$f":"IF(E51=\"\",\"\",IF(②選手情報入力!N60=\"\",0,1))","v":""},{"$f":"IF(E51=\"\",\"\",IF(②選手情報入力!O60=\"\",\"\",IF(I51=1,VLOOKUP(②選手情報入力!O60,種目情報!$A$4:$C$39,3,FALSE),VLOOKUP(②選手情報入力!O60,種目情報!$E$4:$G$40,3,FALSE))))","v":""},{"$f":"IF(E51=\"\",\"\",IF(②選手情報入力!Q60=\"\",\"\",IF(I51=1,種目情報!$J$4,種目情報!$J$6)))","v":""},{"$f":"IF(E51=\"\",\"\",IF(②選手情報入力!Q60=\"\",\"\",IF(I51=1,IF(②選手情報入力!$R$6=\"\",\"\",②選手情報入力!$R$6),IF(②選手情報入力!$R$7=\"\",\"\",②選手情報入力!$R$7))))","v":""},{"$f":"IF(E51=\"\",\"\",IF(②選手情報入力!Q60=\"\",\"\",IF(I51=1,IF(②選手情報入力!$Q$6=\"\",0,1),IF(②選手情報入力!$Q$7=\"\",0,1))))","v":""},{"$f":"IF(E51=\"\",\"\",IF(②選手情報入力!Q60=\"\",\"\",2))","v":""},{"$f":"IF(E51=\"\",\"\",IF(②選手情報入力!S60=\"\",\"\",IF(I51=1,種目情報!$J$5,種目情報!$J$7)))","v":""},{"$f":"IF(E51=\"\",\"\",IF(②選手情報入力!S60=\"\",\"\",IF(I51=1,IF(②選手情報入力!$T$6=\"\",\"\",②選手情報入力!$T$6),IF(②選手情報入力!$T$7=\"\",\"\",②選手情報入力!$T$7))))","v":""},{"$f":"IF(E51=\"\",\"\",IF(②選手情報入力!S60=\"\",\"\",IF(I51=1,IF(②選手情報入力!$S$6=\"\",0,1),IF(②選手情報入力!$S$7=\"\",0,1))))","v":""},{"$f":"IF(E51=\"\",\"\",IF(②選手情報入力!S60=\"\",\"\",2))","v":""}]
[{"$f":"IF(E52=\"\",\"\",I52*1200000+①団体情報入力!$C$3*1000+②選手情報入力!A61)","v":""},{"$f":"IF(E52=\"\",\"\",①団体情報入力!$C$3)","v":""},null,{"$f":"IF(E52=\"\",\"\",LEFT(②選手情報入力!B61,1))","v":""},{"$f":"IF(②選手情報入力!B61=\"\",\"\",RIGHT(②選手情報入力!B61,LEN(②選手情報入力!B61)-1))","v":""},{"$f":"IF(E52=\"\",\"\",②選手情報入力!C61)","v":""},{"$f":"IF(E52=\"\",\"\",②選手情報入力!D61)","v":""},"",{"$f":"IF(E52=\"\",\"\",IF(②選手情報入力!F61=\"男\",1,2))","v":""},{"$f":"IF(E52=\"\",\"\",IF(②選手情報入力!G61=\"\",\"\",②選手情報入力!G61))","v":""},null,"","",null,{"$f":"IF(E52=\"\",\"\",IF(②選手情報入力!I61=\"\",\"\",IF(I52=1,VLOOKUP(②選手情報入力!I61,種目情報!$A$4:$B$135,2,FALSE),VLOOKUP(②選手情報入力!I61,種目情報!$E$4:$F$135,2,FALSE))))","v":""},{"$f":"IF(E52=\"\",\"\",IF(②選手情報入力!J61=\"\",\"\",②選手情報入力!J61))","v":""},{"$f":"IF(E52=\"\",\"\",IF(②選手情報入力!H61=\"\",0,1))","v":""},{"$f":"IF(E52=\"\",\"\",IF(②選手情報入力!I61=\"\",\"\",IF(I52=1,VLOOKUP(②選手情報入力!I61,種目情報!$A$4:$C$39,3,FALSE),VLOOKUP(②選手情報入力!I61,種目情報!$E$4:$G$40,3,FALSE))))","v":""},{"$f":"IF(E52=\"\",\"\",IF(②選手情報入力!L61=\"\",\"\",IF(I52=1,VLOOKUP(②選手情報入力!L61,種目情報!$A$4:$B$39,2,FALSE),VLOOKUP(②選手情報入力!L61,種目情報!$E$4:$F$40,2,FALSE))))","v":""},{"$f":"IF(E52=\"\",\"\",IF(②選手情報入力!M61=\"\",\"\",②選手情報入力!M61))","v":""},{"$f":"IF(E52=\"\",\"\",IF(②選手情報入力!K61=\"\",0,1))","v":""},{"$f":"IF(E52=\"\",\"\",IF(②選手情報入力!L61=\"\",\"\",IF(I52=1,VLOOKUP(②選手情報入力!L61,種目情報!$A$4:$C$39,3,FALSE),VLOOKUP(②選手情報入力!L61,種目情報!$E$4:$G$40,3,FALSE))))","v":""},{"$f":"IF(E52=\"\",\"\",IF(②選手情報入力!O61=\"\",\"\",IF(I52=1,VLOOKUP(②選手情報入力!O61,種目情報!$A$4:$B$39,2,FALSE),VLOOKUP(②選手情報入力!O61,種目情報!$E$4:$F$40,2,FALSE))))","v":""},{"$f":"IF(E52=\"\",\"\",IF(②選手情報入力!P61=\"\",\"\",②選手情報入力!P61))","v":""},{"$f":"IF(E52=\"\",\"\",IF(②選手情報入力!N61=\"\",0,1))","v":""},{"$f":"IF(E52=\"\",\"\",IF(②選手情報入力!O61=\"\",\"\",IF(I52=1,VLOOKUP(②選手情報入力!O61,種目情報!$A$4:$C$39,3,FALSE),VLOOKUP(②選手情報入力!O61,種目情報!$E$4:$G$40,3,FALSE))))","v":""},{"$f":"IF(E52=\"\",\"\",IF(②選手情報入力!Q61=\"\",\"\",IF(I52=1,種目情報!$J$4,種目情報!$J$6)))","v":""},{"$f":"IF(E52=\"\",\"\",IF(②選手情報入力!Q61=\"\",\"\",IF(I52=1,IF(②選手情報入力!$R$6=\"\",\"\",②選手情報入力!$R$6),IF(②選手情報入力!$R$7=\"\",\"\",②選手情報入力!$R$7))))","v":""},{"$f":"IF(E52=\"\",\"\",IF(②選手情報入力!Q61=\"\",\"\",IF(I52=1,IF(②選手情報入力!$Q$6=\"\",0,1),IF(②選手情報入力!$Q$7=\"\",0,1))))","v":""},{"$f":"IF(E52=\"\",\"\",IF(②選手情報入力!Q61=\"\",\"\",2))","v":""},{"$f":"IF(E52=\"\",\"\",IF(②選手情報入力!S61=\"\",\"\",IF(I52=1,種目情報!$J$5,種目情報!$J$7)))","v":""},{"$f":"IF(E52=\"\",\"\",IF(②選手情報入力!S61=\"\",\"\",IF(I52=1,IF(②選手情報入力!$T$6=\"\",\"\",②選手情報入力!$T$6),IF(②選手情報入力!$T$7=\"\",\"\",②選手情報入力!$T$7))))","v":""},{"$f":"IF(E52=\"\",\"\",IF(②選手情報入力!S61=\"\",\"\",IF(I52=1,IF(②選手情報入力!$S$6=\"\",0,1),IF(②選手情報入力!$S$7=\"\",0,1))))","v":""},{"$f":"IF(E52=\"\",\"\",IF(②選手情報入力!S61=\"\",\"\",2))","v":""}]
[{"$f":"IF(E53=\"\",\"\",I53*1200000+①団体情報入力!$C$3*1000+②選手情報入力!A62)","v":""},{"$f":"IF(E53=\"\",\"\",①団体情報入力!$C$3)","v":""},null,{"$f":"IF(E53=\"\",\"\",LEFT(②選手情報入力!B62,1))","v":""},{"$f":"IF(②選手情報入力!B62=\"\",\"\",RIGHT(②選手情報入力!B62,LEN(②選手情報入力!B62)-1))","v":""},{"$f":"IF(E53=\"\",\"\",②選手情報入力!C62)","v":""},{"$f":"IF(E53=\"\",\"\",②選手情報入力!D62)","v":""},"",{"$f":"IF(E53=\"\",\"\",IF(②選手情報入力!F62=\"男\",1,2))","v":""},{"$f":"IF(E53=\"\",\"\",IF(②選手情報入力!G62=\"\",\"\",②選手情報入力!G62))","v":""},null,"","",null,{"$f":"IF(E53=\"\",\"\",IF(②選手情報入力!I62=\"\",\"\",IF(I53=1,VLOOKUP(②選手情報入力!I62,種目情報!$A$4:$B$135,2,FALSE),VLOOKUP(②選手情報入力!I62,種目情報!$E$4:$F$135,2,FALSE))))","v":""},{"$f":"IF(E53=\"\",\"\",IF(②選手情報入力!J62=\"\",\"\",②選手情報入力!J62))","v":""},{"$f":"IF(E53=\"\",\"\",IF(②選手情報入力!H62=\"\",0,1))","v":""},{"$f":"IF(E53=\"\",\"\",IF(②選手情報入力!I62=\"\",\"\",IF(I53=1,VLOOKUP(②選手情報入力!I62,種目情報!$A$4:$C$39,3,FALSE),VLOOKUP(②選手情報入力!I62,種目情報!$E$4:$G$40,3,FALSE))))","v":""},{"$f":"IF(E53=\"\",\"\",IF(②選手情報入力!L62=\"\",\"\",IF(I53=1,VLOOKUP(②選手情報入力!L62,種目情報!$A$4:$B$39,2,FALSE),VLOOKUP(②選手情報入力!L62,種目情報!$E$4:$F$40,2,FALSE))))","v":""},{"$f":"IF(E53=\"\",\"\",IF(②選手情報入力!M62=\"\",\"\",②選手情報入力!M62))","v":""},{"$f":"IF(E53=\"\",\"\",IF(②選手情報入力!K62=\"\",0,1))","v":""},{"$f":"IF(E53=\"\",\"\",IF(②選手情報入力!L62=\"\",\"\",IF(I53=1,VLOOKUP(②選手情報入力!L62,種目情報!$A$4:$C$39,3,FALSE),VLOOKUP(②選手情報入力!L62,種目情報!$E$4:$G$40,3,FALSE))))","v":""},{"$f":"IF(E53=\"\",\"\",IF(②選手情報入力!O62=\"\",\"\",IF(I53=1,VLOOKUP(②選手情報入力!O62,種目情報!$A$4:$B$39,2,FALSE),VLOOKUP(②選手情報入力!O62,種目情報!$E$4:$F$40,2,FALSE))))","v":""},{"$f":"IF(E53=\"\",\"\",IF(②選手情報入力!P62=\"\",\"\",②選手情報入力!P62))","v":""},{"$f":"IF(E53=\"\",\"\",IF(②選手情報入力!N62=\"\",0,1))","v":""},{"$f":"IF(E53=\"\",\"\",IF(②選手情報入力!O62=\"\",\"\",IF(I53=1,VLOOKUP(②選手情報入力!O62,種目情報!$A$4:$C$39,3,FALSE),VLOOKUP(②選手情報入力!O62,種目情報!$E$4:$G$40,3,FALSE))))","v":""},{"$f":"IF(E53=\"\",\"\",IF(②選手情報入力!Q62=\"\",\"\",IF(I53=1,種目情報!$J$4,種目情報!$J$6)))","v":""},{"$f":"IF(E53=\"\",\"\",IF(②選手情報入力!Q62=\"\",\"\",IF(I53=1,IF(②選手情報入力!$R$6=\"\",\"\",②選手情報入力!$R$6),IF(②選手情報入力!$R$7=\"\",\"\",②選手情報入力!$R$7))))","v":""},{"$f":"IF(E53=\"\",\"\",IF(②選手情報入力!Q62=\"\",\"\",IF(I53=1,IF(②選手情報入力!$Q$6=\"\",0,1),IF(②選手情報入力!$Q$7=\"\",0,1))))","v":""},{"$f":"IF(E53=\"\",\"\",IF(②選手情報入力!Q62=\"\",\"\",2))","v":""},{"$f":"IF(E53=\"\",\"\",IF(②選手情報入力!S62=\"\",\"\",IF(I53=1,種目情報!$J$5,種目情報!$J$7)))","v":""},{"$f":"IF(E53=\"\",\"\",IF(②選手情報入力!S62=\"\",\"\",IF(I53=1,IF(②選手情報入力!$T$6=\"\",\"\",②選手情報入力!$T$6),IF(②選手情報入力!$T$7=\"\",\"\",②選手情報入力!$T$7))))","v":""},{"$f":"IF(E53=\"\",\"\",IF(②選手情報入力!S62=\"\",\"\",IF(I53=1,IF(②選手情報入力!$S$6=\"\",0,1),IF(②選手情報入力!$S$7=\"\",0,1))))","v":""},{"$f":"IF(E53=\"\",\"\",IF(②選手情報入力!S62=\"\",\"\",2))","v":""}]
[{"$f":"IF(E54=\"\",\"\",I54*1200000+①団体情報入力!$C$3*1000+②選手情報入力!A63)","v":""},{"$f":"IF(E54=\"\",\"\",①団体情報入力!$C$3)","v":""},null,{"$f":"IF(E54=\"\",\"\",LEFT(②選手情報入力!B63,1))","v":""},{"$f":"IF(②選手情報入力!B63=\"\",\"\",RIGHT(②選手情報入力!B63,LEN(②選手情報入力!B63)-1))","v":""},{"$f":"IF(E54=\"\",\"\",②選手情報入力!C63)","v":""},{"$f":"IF(E54=\"\",\"\",②選手情報入力!D63)","v":""},"",{"$f":"IF(E54=\"\",\"\",IF(②選手情報入力!F63=\"男\",1,2))","v":""},{"$f":"IF(E54=\"\",\"\",IF(②選手情報入力!G63=\"\",\"\",②選手情報入力!G63))","v":""},null,"","",null,{"$f":"IF(E54=\"\",\"\",IF(②選手情報入力!I63=\"\",\"\",IF(I54=1,VLOOKUP(②選手情報入力!I63,種目情報!$A$4:$B$135,2,FALSE),VLOOKUP(②選手情報入力!I63,種目情報!$E$4:$F$135,2,FALSE))))","v":""},{"$f":"IF(E54=\"\",\"\",IF(②選手情報入力!J63=\"\",\"\",②選手情報入力!J63))","v":""},{"$f":"IF(E54=\"\",\"\",IF(②選手情報入力!H63=\"\",0,1))","v":""},{"$f":"IF(E54=\"\",\"\",IF(②選手情報入力!I63=\"\",\"\",IF(I54=1,VLOOKUP(②選手情報入力!I63,種目情報!$A$4:$C$39,3,FALSE),VLOOKUP(②選手情報入力!I63,種目情報!$E$4:$G$40,3,FALSE))))","v":""},{"$f":"IF(E54=\"\",\"\",IF(②選手情報入力!L63=\"\",\"\",IF(I54=1,VLOOKUP(②選手情報入力!L63,種目情報!$A$4:$B$39,2,FALSE),VLOOKUP(②選手情報入力!L63,種目情報!$E$4:$F$40,2,FALSE))))","v":""},{"$f":"IF(E54=\"\",\"\",IF(②選手情報入力!M63=\"\",\"\",②選手情報入力!M63))","v":""},{"$f":"IF(E54=\"\",\"\",IF(②選手情報入力!K63=\"\",0,1))","v":""},{"$f":"IF(E54=\"\",\"\",IF(②選手情報入力!L63=\"\",\"\",IF(I54=1,VLOOKUP(②選手情報入力!L63,種目情報!$A$4:$C$39,3,FALSE),VLOOKUP(②選手情報入力!L63,種目情報!$E$4:$G$40,3,FALSE))))","v":""},{"$f":"IF(E54=\"\",\"\",IF(②選手情報入力!O63=\"\",\"\",IF(I54=1,VLOOKUP(②選手情報入力!O63,種目情報!$A$4:$B$39,2,FALSE),VLOOKUP(②選手情報入力!O63,種目情報!$E$4:$F$40,2,FALSE))))","v":""},{"$f":"IF(E54=\"\",\"\",IF(②選手情報入力!P63=\"\",\"\",②選手情報入力!P63))","v":""},{"$f":"IF(E54=\"\",\"\",IF(②選手情報入力!N63=\"\",0,1))","v":""},{"$f":"IF(E54=\"\",\"\",IF(②選手情報入力!O63=\"\",\"\",IF(I54=1,VLOOKUP(②選手情報入力!O63,種目情報!$A$4:$C$39,3,FALSE),VLOOKUP(②選手情報入力!O63,種目情報!$E$4:$G$40,3,FALSE))))","v":""},{"$f":"IF(E54=\"\",\"\",IF(②選手情報入力!Q63=\"\",\"\",IF(I54=1,種目情報!$J$4,種目情報!$J$6)))","v":""},{"$f":"IF(E54=\"\",\"\",IF(②選手情報入力!Q63=\"\",\"\",IF(I54=1,IF(②選手情報入力!$R$6=\"\",\"\",②選手情報入力!$R$6),IF(②選手情報入力!$R$7=\"\",\"\",②選手情報入力!$R$7))))","v":""},{"$f":"IF(E54=\"\",\"\",IF(②選手情報入力!Q63=\"\",\"\",IF(I54=1,IF(②選手情報入力!$Q$6=\"\",0,1),IF(②選手情報入力!$Q$7=\"\",0,1))))","v":""},{"$f":"IF(E54=\"\",\"\",IF(②選手情報入力!Q63=\"\",\"\",2))","v":""},{"$f":"IF(E54=\"\",\"\",IF(②選手情報入力!S63=\"\",\"\",IF(I54=1,種目情報!$J$5,種目情報!$J$7)))","v":""},{"$f":"IF(E54=\"\",\"\",IF(②選手情報入力!S63=\"\",\"\",IF(I54=1,IF(②選手情報入力!$T$6=\"\",\"\",②選手情報入力!$T$6),IF(②選手情報入力!$T$7=\"\",\"\",②選手情報入力!$T$7))))","v":""},{"$f":"IF(E54=\"\",\"\",IF(②選手情報入力!S63=\"\",\"\",IF(I54=1,IF(②選手情報入力!$S$6=\"\",0,1),IF(②選手情報入力!$S$7=\"\",0,1))))","v":""},{"$f":"IF(E54=\"\",\"\",IF(②選手情報入力!S63=\"\",\"\",2))","v":""}]
[{"$f":"IF(E55=\"\",\"\",I55*1200000+①団体情報入力!$C$3*1000+②選手情報入力!A64)","v":""},{"$f":"IF(E55=\"\",\"\",①団体情報入力!$C$3)","v":""},null,{"$f":"IF(E55=\"\",\"\",LEFT(②選手情報入力!B64,1))","v":""},{"$f":"IF(②選手情報入力!B64=\"\",\"\",RIGHT(②選手情報入力!B64,LEN(②選手情報入力!B64)-1))","v":""},{"$f":"IF(E55=\"\",\"\",②選手情報入力!C64)","v":""},{"$f":"IF(E55=\"\",\"\",②選手情報入力!D64)","v":""},"",{"$f":"IF(E55=\"\",\"\",IF(②選手情報入力!F64=\"男\",1,2))","v":""},{"$f":"IF(E55=\"\",\"\",IF(②選手情報入力!G64=\"\",\"\",②選手情報入力!G64))","v":""},null,"","",null,{"$f":"IF(E55=\"\",\"\",IF(②選手情報入力!I64=\"\",\"\",IF(I55=1,VLOOKUP(②選手情報入力!I64,種目情報!$A$4:$B$135,2,FALSE),VLOOKUP(②選手情報入力!I64,種目情報!$E$4:$F$135,2,FALSE))))","v":""},{"$f":"IF(E55=\"\",\"\",IF(②選手情報入力!J64=\"\",\"\",②選手情報入力!J64))","v":""},{"$f":"IF(E55=\"\",\"\",IF(②選手情報入力!H64=\"\",0,1))","v":""},{"$f":"IF(E55=\"\",\"\",IF(②選手情報入力!I64=\"\",\"\",IF(I55=1,VLOOKUP(②選手情報入力!I64,種目情報!$A$4:$C$39,3,FALSE),VLOOKUP(②選手情報入力!I64,種目情報!$E$4:$G$40,3,FALSE))))","v":""},{"$f":"IF(E55=\"\",\"\",IF(②選手情報入力!L64=\"\",\"\",IF(I55=1,VLOOKUP(②選手情報入力!L64,種目情報!$A$4:$B$39,2,FALSE),VLOOKUP(②選手情報入力!L64,種目情報!$E$4:$F$40,2,FALSE))))","v":""},{"$f":"IF(E55=\"\",\"\",IF(②選手情報入力!M64=\"\",\"\",②選手情報入力!M64))","v":""},{"$f":"IF(E55=\"\",\"\",IF(②選手情報入力!K64=\"\",0,1))","v":""},{"$f":"IF(E55=\"\",\"\",IF(②選手情報入力!L64=\"\",\"\",IF(I55=1,VLOOKUP(②選手情報入力!L64,種目情報!$A$4:$C$39,3,FALSE),VLOOKUP(②選手情報入力!L64,種目情報!$E$4:$G$40,3,FALSE))))","v":""},{"$f":"IF(E55=\"\",\"\",IF(②選手情報入力!O64=\"\",\"\",IF(I55=1,VLOOKUP(②選手情報入力!O64,種目情報!$A$4:$B$39,2,FALSE),VLOOKUP(②選手情報入力!O64,種目情報!$E$4:$F$40,2,FALSE))))","v":""},{"$f":"IF(E55=\"\",\"\",IF(②選手情報入力!P64=\"\",\"\",②選手情報入力!P64))","v":""},{"$f":"IF(E55=\"\",\"\",IF(②選手情報入力!N64=\"\",0,1))","v":""},{"$f":"IF(E55=\"\",\"\",IF(②選手情報入力!O64=\"\",\"\",IF(I55=1,VLOOKUP(②選手情報入力!O64,種目情報!$A$4:$C$39,3,FALSE),VLOOKUP(②選手情報入力!O64,種目情報!$E$4:$G$40,3,FALSE))))","v":""},{"$f":"IF(E55=\"\",\"\",IF(②選手情報入力!Q64=\"\",\"\",IF(I55=1,種目情報!$J$4,種目情報!$J$6)))","v":""},{"$f":"IF(E55=\"\",\"\",IF(②選手情報入力!Q64=\"\",\"\",IF(I55=1,IF(②選手情報入力!$R$6=\"\",\"\",②選手情報入力!$R$6),IF(②選手情報入力!$R$7=\"\",\"\",②選手情報入力!$R$7))))","v":""},{"$f":"IF(E55=\"\",\"\",IF(②選手情報入力!Q64=\"\",\"\",IF(I55=1,IF(②選手情報入力!$Q$6=\"\",0,1),IF(②選手情報入力!$Q$7=\"\",0,1))))","v":""},{"$f":"IF(E55=\"\",\"\",IF(②選手情報入力!Q64=\"\",\"\",2))","v":""},{"$f":"IF(E55=\"\",\"\",IF(②選手情報入力!S64=\"\",\"\",IF(I55=1,種目情報!$J$5,種目情報!$J$7)))","v":""},{"$f":"IF(E55=\"\",\"\",IF(②選手情報入力!S64=\"\",\"\",IF(I55=1,IF(②選手情報入力!$T$6=\"\",\"\",②選手情報入力!$T$6),IF(②選手情報入力!$T$7=\"\",\"\",②選手情報入力!$T$7))))","v":""},{"$f":"IF(E55=\"\",\"\",IF(②選手情報入力!S64=\"\",\"\",IF(I55=1,IF(②選手情報入力!$S$6=\"\",0,1),IF(②選手情報入力!$S$7=\"\",0,1))))","v":""},{"$f":"IF(E55=\"\",\"\",IF(②選手情報入力!S64=\"\",\"\",2))","v":""}]
[{"$f":"IF(E56=\"\",\"\",I56*1200000+①団体情報入力!$C$3*1000+②選手情報入力!A65)","v":""},{"$f":"IF(E56=\"\",\"\",①団体情報入力!$C$3)","v":""},null,{"$f":"IF(E56=\"\",\"\",LEFT(②選手情報入力!B65,1))","v":""},{"$f":"IF(②選手情報入力!B65=\"\",\"\",RIGHT(②選手情報入力!B65,LEN(②選手情報入力!B65)-1))","v":""},{"$f":"IF(E56=\"\",\"\",②選手情報入力!C65)","v":""},{"$f":"IF(E56=\"\",\"\",②選手情報入力!D65)","v":""},"",{"$f":"IF(E56=\"\",\"\",IF(②選手情報入力!F65=\"男\",1,2))","v":""},{"$f":"IF(E56=\"\",\"\",IF(②選手情報入力!G65=\"\",\"\",②選手情報入力!G65))","v":""},null,"","",null,{"$f":"IF(E56=\"\",\"\",IF(②選手情報入力!I65=\"\",\"\",IF(I56=1,VLOOKUP(②選手情報入力!I65,種目情報!$A$4:$B$135,2,FALSE),VLOOKUP(②選手情報入力!I65,種目情報!$E$4:$F$135,2,FALSE))))","v":""},{"$f":"IF(E56=\"\",\"\",IF(②選手情報入力!J65=\"\",\"\",②選手情報入力!J65))","v":""},{"$f":"IF(E56=\"\",\"\",IF(②選手情報入力!H65=\"\",0,1))","v":""},{"$f":"IF(E56=\"\",\"\",IF(②選手情報入力!I65=\"\",\"\",IF(I56=1,VLOOKUP(②選手情報入力!I65,種目情報!$A$4:$C$39,3,FALSE),VLOOKUP(②選手情報入力!I65,種目情報!$E$4:$G$40,3,FALSE))))","v":""},{"$f":"IF(E56=\"\",\"\",IF(②選手情報入力!L65=\"\",\"\",IF(I56=1,VLOOKUP(②選手情報入力!L65,種目情報!$A$4:$B$39,2,FALSE),VLOOKUP(②選手情報入力!L65,種目情報!$E$4:$F$40,2,FALSE))))","v":""},{"$f":"IF(E56=\"\",\"\",IF(②選手情報入力!M65=\"\",\"\",②選手情報入力!M65))","v":""},{"$f":"IF(E56=\"\",\"\",IF(②選手情報入力!K65=\"\",0,1))","v":""},{"$f":"IF(E56=\"\",\"\",IF(②選手情報入力!L65=\"\",\"\",IF(I56=1,VLOOKUP(②選手情報入力!L65,種目情報!$A$4:$C$39,3,FALSE),VLOOKUP(②選手情報入力!L65,種目情報!$E$4:$G$40,3,FALSE))))","v":""},{"$f":"IF(E56=\"\",\"\",IF(②選手情報入力!O65=\"\",\"\",IF(I56=1,VLOOKUP(②選手情報入力!O65,種目情報!$A$4:$B$39,2,FALSE),VLOOKUP(②選手情報入力!O65,種目情報!$E$4:$F$40,2,FALSE))))","v":""},{"$f":"IF(E56=\"\",\"\",IF(②選手情報入力!P65=\"\",\"\",②選手情報入力!P65))","v":""},{"$f":"IF(E56=\"\",\"\",IF(②選手情報入力!N65=\"\",0,1))","v":""},{"$f":"IF(E56=\"\",\"\",IF(②選手情報入力!O65=\"\",\"\",IF(I56=1,VLOOKUP(②選手情報入力!O65,種目情報!$A$4:$C$39,3,FALSE),VLOOKUP(②選手情報入力!O65,種目情報!$E$4:$G$40,3,FALSE))))","v":""},{"$f":"IF(E56=\"\",\"\",IF(②選手情報入力!Q65=\"\",\"\",IF(I56=1,種目情報!$J$4,種目情報!$J$6)))","v":""},{"$f":"IF(E56=\"\",\"\",IF(②選手情報入力!Q65=\"\",\"\",IF(I56=1,IF(②選手情報入力!$R$6=\"\",\"\",②選手情報入力!$R$6),IF(②選手情報入力!$R$7=\"\",\"\",②選手情報入力!$R$7))))","v":""},{"$f":"IF(E56=\"\",\"\",IF(②選手情報入力!Q65=\"\",\"\",IF(I56=1,IF(②選手情報入力!$Q$6=\"\",0,1),IF(②選手情報入力!$Q$7=\"\",0,1))))","v":""},{"$f":"IF(E56=\"\",\"\",IF(②選手情報入力!Q65=\"\",\"\",2))","v":""},{"$f":"IF(E56=\"\",\"\",IF(②選手情報入力!S65=\"\",\"\",IF(I56=1,種目情報!$J$5,種目情報!$J$7)))","v":""},{"$f":"IF(E56=\"\",\"\",IF(②選手情報入力!S65=\"\",\"\",IF(I56=1,IF(②選手情報入力!$T$6=\"\",\"\",②選手情報入力!$T$6),IF(②選手情報入力!$T$7=\"\",\"\",②選手情報入力!$T$7))))","v":""},{"$f":"IF(E56=\"\",\"\",IF(②選手情報入力!S65=\"\",\"\",IF(I56=1,IF(②選手情報入力!$S$6=\"\",0,1),IF(②選手情報入力!$S$7=\"\",0,1))))","v":""},{"$f":"IF(E56=\"\",\"\",IF(②選手情報入力!S65=\"\",\"\",2))","v":""}]
[{"$f":"IF(E57=\"\",\"\",I57*1200000+①団体情報入力!$C$3*1000+②選手情報入力!A66)","v":""},{"$f":"IF(E57=\"\",\"\",①団体情報入力!$C$3)","v":""},null,{"$f":"IF(E57=\"\",\"\",LEFT(②選手情報入力!B66,1))","v":""},{"$f":"IF(②選手情報入力!B66=\"\",\"\",RIGHT(②選手情報入力!B66,LEN(②選手情報入力!B66)-1))","v":""},{"$f":"IF(E57=\"\",\"\",②選手情報入力!C66)","v":""},{"$f":"IF(E57=\"\",\"\",②選手情報入力!D66)","v":""},"",{"$f":"IF(E57=\"\",\"\",IF(②選手情報入力!F66=\"男\",1,2))","v":""},{"$f":"IF(E57=\"\",\"\",IF(②選手情報入力!G66=\"\",\"\",②選手情報入力!G66))","v":""},null,"","",null,{"$f":"IF(E57=\"\",\"\",IF(②選手情報入力!I66=\"\",\"\",IF(I57=1,VLOOKUP(②選手情報入力!I66,種目情報!$A$4:$B$135,2,FALSE),VLOOKUP(②選手情報入力!I66,種目情報!$E$4:$F$135,2,FALSE))))","v":""},{"$f":"IF(E57=\"\",\"\",IF(②選手情報入力!J66=\"\",\"\",②選手情報入力!J66))","v":""},{"$f":"IF(E57=\"\",\"\",IF(②選手情報入力!H66=\"\",0,1))","v":""},{"$f":"IF(E57=\"\",\"\",IF(②選手情報入力!I66=\"\",\"\",IF(I57=1,VLOOKUP(②選手情報入力!I66,種目情報!$A$4:$C$39,3,FALSE),VLOOKUP(②選手情報入力!I66,種目情報!$E$4:$G$40,3,FALSE))))","v":""},{"$f":"IF(E57=\"\",\"\",IF(②選手情報入力!L66=\"\",\"\",IF(I57=1,VLOOKUP(②選手情報入力!L66,種目情報!$A$4:$B$39,2,FALSE),VLOOKUP(②選手情報入力!L66,種目情報!$E$4:$F$40,2,FALSE))))","v":""},{"$f":"IF(E57=\"\",\"\",IF(②選手情報入力!M66=\"\",\"\",②選手情報入力!M66))","v":""},{"$f":"IF(E57=\"\",\"\",IF(②選手情報入力!K66=\"\",0,1))","v":""},{"$f":"IF(E57=\"\",\"\",IF(②選手情報入力!L66=\"\",\"\",IF(I57=1,VLOOKUP(②選手情報入力!L66,種目情報!$A$4:$C$39,3,FALSE),VLOOKUP(②選手情報入力!L66,種目情報!$E$4:$G$40,3,FALSE))))","v":""},{"$f":"IF(E57=\"\",\"\",IF(②選手情報入力!O66=\"\",\"\",IF(I57=1,VLOOKUP(②選手情報入力!O66,種目情報!$A$4:$B$39,2,FALSE),VLOOKUP(②選手情報入力!O66,種目情報!$E$4:$F$40,2,FALSE))))","v":""},{"$f":"IF(E57=\"\",\"\",IF(②選手情報入力!P66=\"\",\"\",②選手情報入力!P66))","v":""},{"$f":"IF(E57=\"\",\"\",IF(②選手情報入力!N66=\"\",0,1))","v":""},{"$f":"IF(E57=\"\",\"\",IF(②選手情報入力!O66=\"\",\"\",IF(I57=1,VLOOKUP(②選手情報入力!O66,種目情報!$A$4:$C$39,3,FALSE),VLOOKUP(②選手情報入力!O66,種目情報!$E$4:$G$40,3,FALSE))))","v":""},{"$f":"IF(E57=\"\",\"\",IF(②選手情報入力!Q66=\"\",\"\",IF(I57=1,種目情報!$J$4,種目情報!$J$6)))","v":""},{"$f":"IF(E57=\"\",\"\",IF(②選手情報入力!Q66=\"\",\"\",IF(I57=1,IF(②選手情報入力!$R$6=\"\",\"\",②選手情報入力!$R$6),IF(②選手情報入力!$R$7=\"\",\"\",②選手情報入力!$R$7))))","v":""},{"$f":"IF(E57=\"\",\"\",IF(②選手情報入力!Q66=\"\",\"\",IF(I57=1,IF(②選手情報入力!$Q$6=\"\",0,1),IF(②選手情報入力!$Q$7=\"\",0,1))))","v":""},{"$f":"IF(E57=\"\",\"\",IF(②選手情報入力!Q66=\"\",\"\",2))","v":""},{"$f":"IF(E57=\"\",\"\",IF(②選手情報入力!S66=\"\",\"\",IF(I57=1,種目情報!$J$5,種目情報!$J$7)))","v":""},{"$f":"IF(E57=\"\",\"\",IF(②選手情報入力!S66=\"\",\"\",IF(I57=1,IF(②選手情報入力!$T$6=\"\",\"\",②選手情報入力!$T$6),IF(②選手情報入力!$T$7=\"\",\"\",②選手情報入力!$T$7))))","v":""},{"$f":"IF(E57=\"\",\"\",IF(②選手情報入力!S66=\"\",\"\",IF(I57=1,IF(②選手情報入力!$S$6=\"\",0,1),IF(②選手情報入力!$S$7=\"\",0,1))))","v":""},{"$f":"IF(E57=\"\",\"\",IF(②選手情報入力!S66=\"\",\"\",2))","v":""}]
[{"$f":"IF(E58=\"\",\"\",I58*1200000+①団体情報入力!$C$3*1000+②選手情報入力!A67)","v":""},{"$f":"IF(E58=\"\",\"\",①団体情報入力!$C$3)","v":""},null,{"$f":"IF(E58=\"\",\"\",LEFT(②選手情報入力!B67,1))","v":""},{"$f":"IF(②選手情報入力!B67=\"\",\"\",RIGHT(②選手情報入力!B67,LEN(②選手情報入力!B67)-1))","v":""},{"$f":"IF(E58=\"\",\"\",②選手情報入力!C67)","v":""},{"$f":"IF(E58=\"\",\"\",②選手情報入力!D67)","v":""},"",{"$f":"IF(E58=\"\",\"\",IF(②選手情報入力!F67=\"男\",1,2))","v":""},{"$f":"IF(E58=\"\",\"\",IF(②選手情報入力!G67=\"\",\"\",②選手情報入力!G67))","v":""},null,"","",null,{"$f":"IF(E58=\"\",\"\",IF(②選手情報入力!I67=\"\",\"\",IF(I58=1,VLOOKUP(②選手情報入力!I67,種目情報!$A$4:$B$135,2,FALSE),VLOOKUP(②選手情報入力!I67,種目情報!$E$4:$F$135,2,FALSE))))","v":""},{"$f":"IF(E58=\"\",\"\",IF(②選手情報入力!J67=\"\",\"\",②選手情報入力!J67))","v":""},{"$f":"IF(E58=\"\",\"\",IF(②選手情報入力!H67=\"\",0,1))","v":""},{"$f":"IF(E58=\"\",\"\",IF(②選手情報入力!I67=\"\",\"\",IF(I58=1,VLOOKUP(②選手情報入力!I67,種目情報!$A$4:$C$39,3,FALSE),VLOOKUP(②選手情報入力!I67,種目情報!$E$4:$G$40,3,FALSE))))","v":""},{"$f":"IF(E58=\"\",\"\",IF(②選手情報入力!L67=\"\",\"\",IF(I58=1,VLOOKUP(②選手情報入力!L67,種目情報!$A$4:$B$39,2,FALSE),VLOOKUP(②選手情報入力!L67,種目情報!$E$4:$F$40,2,FALSE))))","v":""},{"$f":"IF(E58=\"\",\"\",IF(②選手情報入力!M67=\"\",\"\",②選手情報入力!M67))","v":""},{"$f":"IF(E58=\"\",\"\",IF(②選手情報入力!K67=\"\",0,1))","v":""},{"$f":"IF(E58=\"\",\"\",IF(②選手情報入力!L67=\"\",\"\",IF(I58=1,VLOOKUP(②選手情報入力!L67,種目情報!$A$4:$C$39,3,FALSE),VLOOKUP(②選手情報入力!L67,種目情報!$E$4:$G$40,3,FALSE))))","v":""},{"$f":"IF(E58=\"\",\"\",IF(②選手情報入力!O67=\"\",\"\",IF(I58=1,VLOOKUP(②選手情報入力!O67,種目情報!$A$4:$B$39,2,FALSE),VLOOKUP(②選手情報入力!O67,種目情報!$E$4:$F$40,2,FALSE))))","v":""},{"$f":"IF(E58=\"\",\"\",IF(②選手情報入力!P67=\"\",\"\",②選手情報入力!P67))","v":""},{"$f":"IF(E58=\"\",\"\",IF(②選手情報入力!N67=\"\",0,1))","v":""},{"$f":"IF(E58=\"\",\"\",IF(②選手情報入力!O67=\"\",\"\",IF(I58=1,VLOOKUP(②選手情報入力!O67,種目情報!$A$4:$C$39,3,FALSE),VLOOKUP(②選手情報入力!O67,種目情報!$E$4:$G$40,3,FALSE))))","v":""},{"$f":"IF(E58=\"\",\"\",IF(②選手情報入力!Q67=\"\",\"\",IF(I58=1,種目情報!$J$4,種目情報!$J$6)))","v":""},{"$f":"IF(E58=\"\",\"\",IF(②選手情報入力!Q67=\"\",\"\",IF(I58=1,IF(②選手情報入力!$R$6=\"\",\"\",②選手情報入力!$R$6),IF(②選手情報入力!$R$7=\"\",\"\",②選手情報入力!$R$7))))","v":""},{"$f":"IF(E58=\"\",\"\",IF(②選手情報入力!Q67=\"\",\"\",IF(I58=1,IF(②選手情報入力!$Q$6=\"\",0,1),IF(②選手情報入力!$Q$7=\"\",0,1))))","v":""},{"$f":"IF(E58=\"\",\"\",IF(②選手情報入力!Q67=\"\",\"\",2))","v":""},{"$f":"IF(E58=\"\",\"\",IF(②選手情報入力!S67=\"\",\"\",IF(I58=1,種目情報!$J$5,種目情報!$J$7)))","v":""},{"$f":"IF(E58=\"\",\"\",IF(②選手情報入力!S67=\"\",\"\",IF(I58=1,IF(②選手情報入力!$T$6=\"\",\"\",②選手情報入力!$T$6),IF(②選手情報入力!$T$7=\"\",\"\",②選手情報入力!$T$7))))","v":""},{"$f":"IF(E58=\"\",\"\",IF(②選手情報入力!S67=\"\",\"\",IF(I58=1,IF(②選手情報入力!$S$6=\"\",0,1),IF(②選手情報入力!$S$7=\"\",0,1))))","v":""},{"$f":"IF(E58=\"\",\"\",IF(②選手情報入力!S67=\"\",\"\",2))","v":""}]
[{"$f":"IF(E59=\"\",\"\",I59*1200000+①団体情報入力!$C$3*1000+②選手情報入力!A68)","v":""},{"$f":"IF(E59=\"\",\"\",①団体情報入力!$C$3)","v":""},null,{"$f":"IF(E59=\"\",\"\",LEFT(②選手情報入力!B68,1))","v":""},{"$f":"IF(②選手情報入力!B68=\"\",\"\",RIGHT(②選手情報入力!B68,LEN(②選手情報入力!B68)-1))","v":""},{"$f":"IF(E59=\"\",\"\",②選手情報入力!C68)","v":""},{"$f":"IF(E59=\"\",\"\",②選手情報入力!D68)","v":""},"",{"$f":"IF(E59=\"\",\"\",IF(②選手情報入力!F68=\"男\",1,2))","v":""},{"$f":"IF(E59=\"\",\"\",IF(②選手情報入力!G68=\"\",\"\",②選手情報入力!G68))","v":""},null,"","",null,{"$f":"IF(E59=\"\",\"\",IF(②選手情報入力!I68=\"\",\"\",IF(I59=1,VLOOKUP(②選手情報入力!I68,種目情報!$A$4:$B$135,2,FALSE),VLOOKUP(②選手情報入力!I68,種目情報!$E$4:$F$135,2,FALSE))))","v":""},{"$f":"IF(E59=\"\",\"\",IF(②選手情報入力!J68=\"\",\"\",②選手情報入力!J68))","v":""},{"$f":"IF(E59=\"\",\"\",IF(②選手情報入力!H68=\"\",0,1))","v":""},{"$f":"IF(E59=\"\",\"\",IF(②選手情報入力!I68=\"\",\"\",IF(I59=1,VLOOKUP(②選手情報入力!I68,種目情報!$A$4:$C$39,3,FALSE),VLOOKUP(②選手情報入力!I68,種目情報!$E$4:$G$40,3,FALSE))))","v":""},{"$f":"IF(E59=\"\",\"\",IF(②選手情報入力!L68=\"\",\"\",IF(I59=1,VLOOKUP(②選手情報入力!L68,種目情報!$A$4:$B$39,2,FALSE),VLOOKUP(②選手情報入力!L68,種目情報!$E$4:$F$40,2,FALSE))))","v":""},{"$f":"IF(E59=\"\",\"\",IF(②選手情報入力!M68=\"\",\"\",②選手情報入力!M68))","v":""},{"$f":"IF(E59=\"\",\"\",IF(②選手情報入力!K68=\"\",0,1))","v":""},{"$f":"IF(E59=\"\",\"\",IF(②選手情報入力!L68=\"\",\"\",IF(I59=1,VLOOKUP(②選手情報入力!L68,種目情報!$A$4:$C$39,3,FALSE),VLOOKUP(②選手情報入力!L68,種目情報!$E$4:$G$40,3,FALSE))))","v":""},{"$f":"IF(E59=\"\",\"\",IF(②選手情報入力!O68=\"\",\"\",IF(I59=1,VLOOKUP(②選手情報入力!O68,種目情報!$A$4:$B$39,2,FALSE),VLOOKUP(②選手情報入力!O68,種目情報!$E$4:$F$40,2,FALSE))))","v":""},{"$f":"IF(E59=\"\",\"\",IF(②選手情報入力!P68=\"\",\"\",②選手情報入力!P68))","v":""},{"$f":"IF(E59=\"\",\"\",IF(②選手情報入力!N68=\"\",0,1))","v":""},{"$f":"IF(E59=\"\",\"\",IF(②選手情報入力!O68=\"\",\"\",IF(I59=1,VLOOKUP(②選手情報入力!O68,種目情報!$A$4:$C$39,3,FALSE),VLOOKUP(②選手情報入力!O68,種目情報!$E$4:$G$40,3,FALSE))))","v":""},{"$f":"IF(E59=\"\",\"\",IF(②選手情報入力!Q68=\"\",\"\",IF(I59=1,種目情報!$J$4,種目情報!$J$6)))","v":""},{"$f":"IF(E59=\"\",\"\",IF(②選手情報入力!Q68=\"\",\"\",IF(I59=1,IF(②選手情報入力!$R$6=\"\",\"\",②選手情報入力!$R$6),IF(②選手情報入力!$R$7=\"\",\"\",②選手情報入力!$R$7))))","v":""},{"$f":"IF(E59=\"\",\"\",IF(②選手情報入力!Q68=\"\",\"\",IF(I59=1,IF(②選手情報入力!$Q$6=\"\",0,1),IF(②選手情報入力!$Q$7=\"\",0,1))))","v":""},{"$f":"IF(E59=\"\",\"\",IF(②選手情報入力!Q68=\"\",\"\",2))","v":""},{"$f":"IF(E59=\"\",\"\",IF(②選手情報入力!S68=\"\",\"\",IF(I59=1,種目情報!$J$5,種目情報!$J$7)))","v":""},{"$f":"IF(E59=\"\",\"\",IF(②選手情報入力!S68=\"\",\"\",IF(I59=1,IF(②選手情報入力!$T$6=\"\",\"\",②選手情報入力!$T$6),IF(②選手情報入力!$T$7=\"\",\"\",②選手情報入力!$T$7))))","v":""},{"$f":"IF(E59=\"\",\"\",IF(②選手情報入力!S68=\"\",\"\",IF(I59=1,IF(②選手情報入力!$S$6=\"\",0,1),IF(②選手情報入力!$S$7=\"\",0,1))))","v":""},{"$f":"IF(E59=\"\",\"\",IF(②選手情報入力!S68=\"\",\"\",2))","v":""}]
[{"$f":"IF(E60=\"\",\"\",I60*1200000+①団体情報入力!$C$3*1000+②選手情報入力!A69)","v":""},{"$f":"IF(E60=\"\",\"\",①団体情報入力!$C$3)","v":""},null,{"$f":"IF(E60=\"\",\"\",LEFT(②選手情報入力!B69,1))","v":""},{"$f":"IF(②選手情報入力!B69=\"\",\"\",RIGHT(②選手情報入力!B69,LEN(②選手情報入力!B69)-1))","v":""},{"$f":"IF(E60=\"\",\"\",②選手情報入力!C69)","v":""},{"$f":"IF(E60=\"\",\"\",②選手情報入力!D69)","v":""},"",{"$f":"IF(E60=\"\",\"\",IF(②選手情報入力!F69=\"男\",1,2))","v":""},{"$f":"IF(E60=\"\",\"\",IF(②選手情報入力!G69=\"\",\"\",②選手情報入力!G69))","v":""},null,"","",null,{"$f":"IF(E60=\"\",\"\",IF(②選手情報入力!I69=\"\",\"\",IF(I60=1,VLOOKUP(②選手情報入力!I69,種目情報!$A$4:$B$135,2,FALSE),VLOOKUP(②選手情報入力!I69,種目情報!$E$4:$F$135,2,FALSE))))","v":""},{"$f":"IF(E60=\"\",\"\",IF(②選手情報入力!J69=\"\",\"\",②選手情報入力!J69))","v":""},{"$f":"IF(E60=\"\",\"\",IF(②選手情報入力!H69=\"\",0,1))","v":""},{"$f":"IF(E60=\"\",\"\",IF(②選手情報入力!I69=\"\",\"\",IF(I60=1,VLOOKUP(②選手情報入力!I69,種目情報!$A$4:$C$39,3,FALSE),VLOOKUP(②選手情報入力!I69,種目情報!$E$4:$G$40,3,FALSE))))","v":""},{"$f":"IF(E60=\"\",\"\",IF(②選手情報入力!L69=\"\",\"\",IF(I60=1,VLOOKUP(②選手情報入力!L69,種目情報!$A$4:$B$39,2,FALSE),VLOOKUP(②選手情報入力!L69,種目情報!$E$4:$F$40,2,FALSE))))","v":""},{"$f":"IF(E60=\"\",\"\",IF(②選手情報入力!M69=\"\",\"\",②選手情報入力!M69))","v":""},{"$f":"IF(E60=\"\",\"\",IF(②選手情報入力!K69=\"\",0,1))","v":""},{"$f":"IF(E60=\"\",\"\",IF(②選手情報入力!L69=\"\",\"\",IF(I60=1,VLOOKUP(②選手情報入力!L69,種目情報!$A$4:$C$39,3,FALSE),VLOOKUP(②選手情報入力!L69,種目情報!$E$4:$G$40,3,FALSE))))","v":""},{"$f":"IF(E60=\"\",\"\",IF(②選手情報入力!O69=\"\",\"\",IF(I60=1,VLOOKUP(②選手情報入力!O69,種目情報!$A$4:$B$39,2,FALSE),VLOOKUP(②選手情報入力!O69,種目情報!$E$4:$F$40,2,FALSE))))","v":""},{"$f":"IF(E60=\"\",\"\",IF(②選手情報入力!P69=\"\",\"\",②選手情報入力!P69))","v":""},{"$f":"IF(E60=\"\",\"\",IF(②選手情報入力!N69=\"\",0,1))","v":""},{"$f":"IF(E60=\"\",\"\",IF(②選手情報入力!O69=\"\",\"\",IF(I60=1,VLOOKUP(②選手情報入力!O69,種目情報!$A$4:$C$39,3,FALSE),VLOOKUP(②選手情報入力!O69,種目情報!$E$4:$G$40,3,FALSE))))","v":""},{"$f":"IF(E60=\"\",\"\",IF(②選手情報入力!Q69=\"\",\"\",IF(I60=1,種目情報!$J$4,種目情報!$J$6)))","v":""},{"$f":"IF(E60=\"\",\"\",IF(②選手情報入力!Q69=\"\",\"\",IF(I60=1,IF(②選手情報入力!$R$6=\"\",\"\",②選手情報入力!$R$6),IF(②選手情報入力!$R$7=\"\",\"\",②選手情報入力!$R$7))))","v":""},{"$f":"IF(E60=\"\",\"\",IF(②選手情報入力!Q69=\"\",\"\",IF(I60=1,IF(②選手情報入力!$Q$6=\"\",0,1),IF(②選手情報入力!$Q$7=\"\",0,1))))","v":""},{"$f":"IF(E60=\"\",\"\",IF(②選手情報入力!Q69=\"\",\"\",2))","v":""},{"$f":"IF(E60=\"\",\"\",IF(②選手情報入力!S69=\"\",\"\",IF(I60=1,種目情報!$J$5,種目情報!$J$7)))","v":""},{"$f":"IF(E60=\"\",\"\",IF(②選手情報入力!S69=\"\",\"\",IF(I60=1,IF(②選手情報入力!$T$6=\"\",\"\",②選手情報入力!$T$6),IF(②選手情報入力!$T$7=\"\",\"\",②選手情報入力!$T$7))))","v":""},{"$f":"IF(E60=\"\",\"\",IF(②選手情報入力!S69=\"\",\"\",IF(I60=1,IF(②選手情報入力!$S$6=\"\",0,1),IF(②選手情報入力!$S$7=\"\",0,1))))","v":""},{"$f":"IF(E60=\"\",\"\",IF(②選手情報入力!S69=\"\",\"\",2))","v":""}]
[{"$f":"IF(E61=\"\",\"\",I61*1200000+①団体情報入力!$C$3*1000+②選手情報入力!A70)","v":""},{"$f":"IF(E61=\"\",\"\",①団体情報入力!$C$3)","v":""},null,{"$f":"IF(E61=\"\",\"\",LEFT(②選手情報入力!B70,1))","v":""},{"$f":"IF(②選手情報入力!B70=\"\",\"\",RIGHT(②選手情報入力!B70,LEN(②選手情報入力!B70)-1))","v":""},{"$f":"IF(E61=\"\",\"\",②選手情報入力!C70)","v":""},{"$f":"IF(E61=\"\",\"\",②選手情報入力!D70)","v":""},"",{"$f":"IF(E61=\"\",\"\",IF(②選手情報入力!F70=\"男\",1,2))","v":""},{"$f":"IF(E61=\"\",\"\",IF(②選手情報入力!G70=\"\",\"\",②選手情報入力!G70))","v":""},null,"","",null,{"$f":"IF(E61=\"\",\"\",IF(②選手情報入力!I70=\"\",\"\",IF(I61=1,VLOOKUP(②選手情報入力!I70,種目情報!$A$4:$B$135,2,FALSE),VLOOKUP(②選手情報入力!I70,種目情報!$E$4:$F$135,2,FALSE))))","v":""},{"$f":"IF(E61=\"\",\"\",IF(②選手情報入力!J70=\"\",\"\",②選手情報入力!J70))","v":""},{"$f":"IF(E61=\"\",\"\",IF(②選手情報入力!H70=\"\",0,1))","v":""},{"$f":"IF(E61=\"\",\"\",IF(②選手情報入力!I70=\"\",\"\",IF(I61=1,VLOOKUP(②選手情報入力!I70,種目情報!$A$4:$C$39,3,FALSE),VLOOKUP(②選手情報入力!I70,種目情報!$E$4:$G$40,3,FALSE))))","v":""},{"$f":"IF(E61=\"\",\"\",IF(②選手情報入力!L70=\"\",\"\",IF(I61=1,VLOOKUP(②選手情報入力!L70,種目情報!$A$4:$B$39,2,FALSE),VLOOKUP(②選手情報入力!L70,種目情報!$E$4:$F$40,2,FALSE))))","v":""},{"$f":"IF(E61=\"\",\"\",IF(②選手情報入力!M70=\"\",\"\",②選手情報入力!M70))","v":""},{"$f":"IF(E61=\"\",\"\",IF(②選手情報入力!K70=\"\",0,1))","v":""},{"$f":"IF(E61=\"\",\"\",IF(②選手情報入力!L70=\"\",\"\",IF(I61=1,VLOOKUP(②選手情報入力!L70,種目情報!$A$4:$C$39,3,FALSE),VLOOKUP(②選手情報入力!L70,種目情報!$E$4:$G$40,3,FALSE))))","v":""},{"$f":"IF(E61=\"\",\"\",IF(②選手情報入力!O70=\"\",\"\",IF(I61=1,VLOOKUP(②選手情報入力!O70,種目情報!$A$4:$B$39,2,FALSE),VLOOKUP(②選手情報入力!O70,種目情報!$E$4:$F$40,2,FALSE))))","v":""},{"$f":"IF(E61=\"\",\"\",IF(②選手情報入力!P70=\"\",\"\",②選手情報入力!P70))","v":""},{"$f":"IF(E61=\"\",\"\",IF(②選手情報入力!N70=\"\",0,1))","v":""},{"$f":"IF(E61=\"\",\"\",IF(②選手情報入力!O70=\"\",\"\",IF(I61=1,VLOOKUP(②選手情報入力!O70,種目情報!$A$4:$C$39,3,FALSE),VLOOKUP(②選手情報入力!O70,種目情報!$E$4:$G$40,3,FALSE))))","v":""},{"$f":"IF(E61=\"\",\"\",IF(②選手情報入力!Q70=\"\",\"\",IF(I61=1,種目情報!$J$4,種目情報!$J$6)))","v":""},{"$f":"IF(E61=\"\",\"\",IF(②選手情報入力!Q70=\"\",\"\",IF(I61=1,IF(②選手情報入力!$R$6=\"\",\"\",②選手情報入力!$R$6),IF(②選手情報入力!$R$7=\"\",\"\",②選手情報入力!$R$7))))","v":""},{"$f":"IF(E61=\"\",\"\",IF(②選手情報入力!Q70=\"\",\"\",IF(I61=1,IF(②選手情報入力!$Q$6=\"\",0,1),IF(②選手情報入力!$Q$7=\"\",0,1))))","v":""},{"$f":"IF(E61=\"\",\"\",IF(②選手情報入力!Q70=\"\",\"\",2))","v":""},{"$f":"IF(E61=\"\",\"\",IF(②選手情報入力!S70=\"\",\"\",IF(I61=1,種目情報!$J$5,種目情報!$J$7)))","v":""},{"$f":"IF(E61=\"\",\"\",IF(②選手情報入力!S70=\"\",\"\",IF(I61=1,IF(②選手情報入力!$T$6=\"\",\"\",②選手情報入力!$T$6),IF(②選手情報入力!$T$7=\"\",\"\",②選手情報入力!$T$7))))","v":""},{"$f":"IF(E61=\"\",\"\",IF(②選手情報入力!S70=\"\",\"\",IF(I61=1,IF(②選手情報入力!$S$6=\"\",0,1),IF(②選手情報入力!$S$7=\"\",0,1))))","v":""},{"$f":"IF(E61=\"\",\"\",IF(②選手情報入力!S70=\"\",\"\",2))","v":""}]
[{"$f":"IF(E62=\"\",\"\",I62*1200000+①団体情報入力!$C$3*1000+②選手情報入力!A71)","v":""},{"$f":"IF(E62=\"\",\"\",①団体情報入力!$C$3)","v":""},null,{"$f":"IF(E62=\"\",\"\",LEFT(②選手情報入力!B71,1))","v":""},{"$f":"IF(②選手情報入力!B71=\"\",\"\",RIGHT(②選手情報入力!B71,LEN(②選手情報入力!B71)-1))","v":""},{"$f":"IF(E62=\"\",\"\",②選手情報入力!C71)","v":""},{"$f":"IF(E62=\"\",\"\",②選手情報入力!D71)","v":""},"",{"$f":"IF(E62=\"\",\"\",IF(②選手情報入力!F71=\"男\",1,2))","v":""},{"$f":"IF(E62=\"\",\"\",IF(②選手情報入力!G71=\"\",\"\",②選手情報入力!G71))","v":""},null,"","",null,{"$f":"IF(E62=\"\",\"\",IF(②選手情報入力!I71=\"\",\"\",IF(I62=1,VLOOKUP(②選手情報入力!I71,種目情報!$A$4:$B$135,2,FALSE),VLOOKUP(②選手情報入力!I71,種目情報!$E$4:$F$135,2,FALSE))))","v":""},{"$f":"IF(E62=\"\",\"\",IF(②選手情報入力!J71=\"\",\"\",②選手情報入力!J71))","v":""},{"$f":"IF(E62=\"\",\"\",IF(②選手情報入力!H71=\"\",0,1))","v":""},{"$f":"IF(E62=\"\",\"\",IF(②選手情報入力!I71=\"\",\"\",IF(I62=1,VLOOKUP(②選手情報入力!I71,種目情報!$A$4:$C$39,3,FALSE),VLOOKUP(②選手情報入力!I71,種目情報!$E$4:$G$40,3,FALSE))))","v":""},{"$f":"IF(E62=\"\",\"\",IF(②選手情報入力!L71=\"\",\"\",IF(I62=1,VLOOKUP(②選手情報入力!L71,種目情報!$A$4:$B$39,2,FALSE),VLOOKUP(②選手情報入力!L71,種目情報!$E$4:$F$40,2,FALSE))))","v":""},{"$f":"IF(E62=\"\",\"\",IF(②選手情報入力!M71=\"\",\"\",②選手情報入力!M71))","v":""},{"$f":"IF(E62=\"\",\"\",IF(②選手情報入力!K71=\"\",0,1))","v":""},{"$f":"IF(E62=\"\",\"\",IF(②選手情報入力!L71=\"\",\"\",IF(I62=1,VLOOKUP(②選手情報入力!L71,種目情報!$A$4:$C$39,3,FALSE),VLOOKUP(②選手情報入力!L71,種目情報!$E$4:$G$40,3,FALSE))))","v":""},{"$f":"IF(E62=\"\",\"\",IF(②選手情報入力!O71=\"\",\"\",IF(I62=1,VLOOKUP(②選手情報入力!O71,種目情報!$A$4:$B$39,2,FALSE),VLOOKUP(②選手情報入力!O71,種目情報!$E$4:$F$40,2,FALSE))))","v":""},{"$f":"IF(E62=\"\",\"\",IF(②選手情報入力!P71=\"\",\"\",②選手情報入力!P71))","v":""},{"$f":"IF(E62=\"\",\"\",IF(②選手情報入力!N71=\"\",0,1))","v":""},{"$f":"IF(E62=\"\",\"\",IF(②選手情報入力!O71=\"\",\"\",IF(I62=1,VLOOKUP(②選手情報入力!O71,種目情報!$A$4:$C$39,3,FALSE),VLOOKUP(②選手情報入力!O71,種目情報!$E$4:$G$40,3,FALSE))))","v":""},{"$f":"IF(E62=\"\",\"\",IF(②選手情報入力!Q71=\"\",\"\",IF(I62=1,種目情報!$J$4,種目情報!$J$6)))","v":""},{"$f":"IF(E62=\"\",\"\",IF(②選手情報入力!Q71=\"\",\"\",IF(I62=1,IF(②選手情報入力!$R$6=\"\",\"\",②選手情報入力!$R$6),IF(②選手情報入力!$R$7=\"\",\"\",②選手情報入力!$R$7))))","v":""},{"$f":"IF(E62=\"\",\"\",IF(②選手情報入力!Q71=\"\",\"\",IF(I62=1,IF(②選手情報入力!$Q$6=\"\",0,1),IF(②選手情報入力!$Q$7=\"\",0,1))))","v":""},{"$f":"IF(E62=\"\",\"\",IF(②選手情報入力!Q71=\"\",\"\",2))","v":""},{"$f":"IF(E62=\"\",\"\",IF(②選手情報入力!S71=\"\",\"\",IF(I62=1,種目情報!$J$5,種目情報!$J$7)))","v":""},{"$f":"IF(E62=\"\",\"\",IF(②選手情報入力!S71=\"\",\"\",IF(I62=1,IF(②選手情報入力!$T$6=\"\",\"\",②選手情報入力!$T$6),IF(②選手情報入力!$T$7=\"\",\"\",②選手情報入力!$T$7))))","v":""},{"$f":"IF(E62=\"\",\"\",IF(②選手情報入力!S71=\"\",\"\",IF(I62=1,IF(②選手情報入力!$S$6=\"\",0,1),IF(②選手情報入力!$S$7=\"\",0,1))))","v":""},{"$f":"IF(E62=\"\",\"\",IF(②選手情報入力!S71=\"\",\"\",2))","v":""}]
[{"$f":"IF(E63=\"\",\"\",I63*1200000+①団体情報入力!$C$3*1000+②選手情報入力!A72)","v":""},{"$f":"IF(E63=\"\",\"\",①団体情報入力!$C$3)","v":""},null,{"$f":"IF(E63=\"\",\"\",LEFT(②選手情報入力!B72,1))","v":""},{"$f":"IF(②選手情報入力!B72=\"\",\"\",RIGHT(②選手情報入力!B72,LEN(②選手情報入力!B72)-1))","v":""},{"$f":"IF(E63=\"\",\"\",②選手情報入力!C72)","v":""},{"$f":"IF(E63=\"\",\"\",②選手情報入力!D72)","v":""},"",{"$f":"IF(E63=\"\",\"\",IF(②選手情報入力!F72=\"男\",1,2))","v":""},{"$f":"IF(E63=\"\",\"\",IF(②選手情報入力!G72=\"\",\"\",②選手情報入力!G72))","v":""},null,"","",null,{"$f":"IF(E63=\"\",\"\",IF(②選手情報入力!I72=\"\",\"\",IF(I63=1,VLOOKUP(②選手情報入力!I72,種目情報!$A$4:$B$135,2,FALSE),VLOOKUP(②選手情報入力!I72,種目情報!$E$4:$F$135,2,FALSE))))","v":""},{"$f":"IF(E63=\"\",\"\",IF(②選手情報入力!J72=\"\",\"\",②選手情報入力!J72))","v":""},{"$f":"IF(E63=\"\",\"\",IF(②選手情報入力!H72=\"\",0,1))","v":""},{"$f":"IF(E63=\"\",\"\",IF(②選手情報入力!I72=\"\",\"\",IF(I63=1,VLOOKUP(②選手情報入力!I72,種目情報!$A$4:$C$39,3,FALSE),VLOOKUP(②選手情報入力!I72,種目情報!$E$4:$G$40,3,FALSE))))","v":""},{"$f":"IF(E63=\"\",\"\",IF(②選手情報入力!L72=\"\",\"\",IF(I63=1,VLOOKUP(②選手情報入力!L72,種目情報!$A$4:$B$39,2,FALSE),VLOOKUP(②選手情報入力!L72,種目情報!$E$4:$F$40,2,FALSE))))","v":""},{"$f":"IF(E63=\"\",\"\",IF(②選手情報入力!M72=\"\",\"\",②選手情報入力!M72))","v":""},{"$f":"IF(E63=\"\",\"\",IF(②選手情報入力!K72=\"\",0,1))","v":""},{"$f":"IF(E63=\"\",\"\",IF(②選手情報入力!L72=\"\",\"\",IF(I63=1,VLOOKUP(②選手情報入力!L72,種目情報!$A$4:$C$39,3,FALSE),VLOOKUP(②選手情報入力!L72,種目情報!$E$4:$G$40,3,FALSE))))","v":""},{"$f":"IF(E63=\"\",\"\",IF(②選手情報入力!O72=\"\",\"\",IF(I63=1,VLOOKUP(②選手情報入力!O72,種目情報!$A$4:$B$39,2,FALSE),VLOOKUP(②選手情報入力!O72,種目情報!$E$4:$F$40,2,FALSE))))","v":""},{"$f":"IF(E63=\"\",\"\",IF(②選手情報入力!P72=\"\",\"\",②選手情報入力!P72))","v":""},{"$f":"IF(E63=\"\",\"\",IF(②選手情報入力!N72=\"\",0,1))","v":""},{"$f":"IF(E63=\"\",\"\",IF(②選手情報入力!O72=\"\",\"\",IF(I63=1,VLOOKUP(②選手情報入力!O72,種目情報!$A$4:$C$39,3,FALSE),VLOOKUP(②選手情報入力!O72,種目情報!$E$4:$G$40,3,FALSE))))","v":""},{"$f":"IF(E63=\"\",\"\",IF(②選手情報入力!Q72=\"\",\"\",IF(I63=1,種目情報!$J$4,種目情報!$J$6)))","v":""},{"$f":"IF(E63=\"\",\"\",IF(②選手情報入力!Q72=\"\",\"\",IF(I63=1,IF(②選手情報入力!$R$6=\"\",\"\",②選手情報入力!$R$6),IF(②選手情報入力!$R$7=\"\",\"\",②選手情報入力!$R$7))))","v":""},{"$f":"IF(E63=\"\",\"\",IF(②選手情報入力!Q72=\"\",\"\",IF(I63=1,IF(②選手情報入力!$Q$6=\"\",0,1),IF(②選手情報入力!$Q$7=\"\",0,1))))","v":""},{"$f":"IF(E63=\"\",\"\",IF(②選手情報入力!Q72=\"\",\"\",2))","v":""},{"$f":"IF(E63=\"\",\"\",IF(②選手情報入力!S72=\"\",\"\",IF(I63=1,種目情報!$J$5,種目情報!$J$7)))","v":""},{"$f":"IF(E63=\"\",\"\",IF(②選手情報入力!S72=\"\",\"\",IF(I63=1,IF(②選手情報入力!$T$6=\"\",\"\",②選手情報入力!$T$6),IF(②選手情報入力!$T$7=\"\",\"\",②選手情報入力!$T$7))))","v":""},{"$f":"IF(E63=\"\",\"\",IF(②選手情報入力!S72=\"\",\"\",IF(I63=1,IF(②選手情報入力!$S$6=\"\",0,1),IF(②選手情報入力!$S$7=\"\",0,1))))","v":""},{"$f":"IF(E63=\"\",\"\",IF(②選手情報入力!S72=\"\",\"\",2))","v":""}]
[{"$f":"IF(E64=\"\",\"\",I64*1200000+①団体情報入力!$C$3*1000+②選手情報入力!A73)","v":""},{"$f":"IF(E64=\"\",\"\",①団体情報入力!$C$3)","v":""},null,{"$f":"IF(E64=\"\",\"\",LEFT(②選手情報入力!B73,1))","v":""},{"$f":"IF(②選手情報入力!B73=\"\",\"\",RIGHT(②選手情報入力!B73,LEN(②選手情報入力!B73)-1))","v":""},{"$f":"IF(E64=\"\",\"\",②選手情報入力!C73)","v":""},{"$f":"IF(E64=\"\",\"\",②選手情報入力!D73)","v":""},"",{"$f":"IF(E64=\"\",\"\",IF(②選手情報入力!F73=\"男\",1,2))","v":""},{"$f":"IF(E64=\"\",\"\",IF(②選手情報入力!G73=\"\",\"\",②選手情報入力!G73))","v":""},null,"","",null,{"$f":"IF(E64=\"\",\"\",IF(②選手情報入力!I73=\"\",\"\",IF(I64=1,VLOOKUP(②選手情報入力!I73,種目情報!$A$4:$B$135,2,FALSE),VLOOKUP(②選手情報入力!I73,種目情報!$E$4:$F$135,2,FALSE))))","v":""},{"$f":"IF(E64=\"\",\"\",IF(②選手情報入力!J73=\"\",\"\",②選手情報入力!J73))","v":""},{"$f":"IF(E64=\"\",\"\",IF(②選手情報入力!H73=\"\",0,1))","v":""},{"$f":"IF(E64=\"\",\"\",IF(②選手情報入力!I73=\"\",\"\",IF(I64=1,VLOOKUP(②選手情報入力!I73,種目情報!$A$4:$C$39,3,FALSE),VLOOKUP(②選手情報入力!I73,種目情報!$E$4:$G$40,3,FALSE))))","v":""},{"$f":"IF(E64=\"\",\"\",IF(②選手情報入力!L73=\"\",\"\",IF(I64=1,VLOOKUP(②選手情報入力!L73,種目情報!$A$4:$B$39,2,FALSE),VLOOKUP(②選手情報入力!L73,種目情報!$E$4:$F$40,2,FALSE))))","v":""},{"$f":"IF(E64=\"\",\"\",IF(②選手情報入力!M73=\"\",\"\",②選手情報入力!M73))","v":""},{"$f":"IF(E64=\"\",\"\",IF(②選手情報入力!K73=\"\",0,1))","v":""},{"$f":"IF(E64=\"\",\"\",IF(②選手情報入力!L73=\"\",\"\",IF(I64=1,VLOOKUP(②選手情報入力!L73,種目情報!$A$4:$C$39,3,FALSE),VLOOKUP(②選手情報入力!L73,種目情報!$E$4:$G$40,3,FALSE))))","v":""},{"$f":"IF(E64=\"\",\"\",IF(②選手情報入力!O73=\"\",\"\",IF(I64=1,VLOOKUP(②選手情報入力!O73,種目情報!$A$4:$B$39,2,FALSE),VLOOKUP(②選手情報入力!O73,種目情報!$E$4:$F$40,2,FALSE))))","v":""},{"$f":"IF(E64=\"\",\"\",IF(②選手情報入力!P73=\"\",\"\",②選手情報入力!P73))","v":""},{"$f":"IF(E64=\"\",\"\",IF(②選手情報入力!N73=\"\",0,1))","v":""},{"$f":"IF(E64=\"\",\"\",IF(②選手情報入力!O73=\"\",\"\",IF(I64=1,VLOOKUP(②選手情報入力!O73,種目情報!$A$4:$C$39,3,FALSE),VLOOKUP(②選手情報入力!O73,種目情報!$E$4:$G$40,3,FALSE))))","v":""},{"$f":"IF(E64=\"\",\"\",IF(②選手情報入力!Q73=\"\",\"\",IF(I64=1,種目情報!$J$4,種目情報!$J$6)))","v":""},{"$f":"IF(E64=\"\",\"\",IF(②選手情報入力!Q73=\"\",\"\",IF(I64=1,IF(②選手情報入力!$R$6=\"\",\"\",②選手情報入力!$R$6),IF(②選手情報入力!$R$7=\"\",\"\",②選手情報入力!$R$7))))","v":""},{"$f":"IF(E64=\"\",\"\",IF(②選手情報入力!Q73=\"\",\"\",IF(I64=1,IF(②選手情報入力!$Q$6=\"\",0,1),IF(②選手情報入力!$Q$7=\"\",0,1))))","v":""},{"$f":"IF(E64=\"\",\"\",IF(②選手情報入力!Q73=\"\",\"\",2))","v":""},{"$f":"IF(E64=\"\",\"\",IF(②選手情報入力!S73=\"\",\"\",IF(I64=1,種目情報!$J$5,種目情報!$J$7)))","v":""},{"$f":"IF(E64=\"\",\"\",IF(②選手情報入力!S73=\"\",\"\",IF(I64=1,IF(②選手情報入力!$T$6=\"\",\"\",②選手情報入力!$T$6),IF(②選手情報入力!$T$7=\"\",\"\",②選手情報入力!$T$7))))","v":""},{"$f":"IF(E64=\"\",\"\",IF(②選手情報入力!S73=\"\",\"\",IF(I64=1,IF(②選手情報入力!$S$6=\"\",0,1),IF(②選手情報入力!$S$7=\"\",0,1))))","v":""},{"$f":"IF(E64=\"\",\"\",IF(②選手情報入力!S73=\"\",\"\",2))","v":""}]
[{"$f":"IF(E65=\"\",\"\",I65*1200000+①団体情報入力!$C$3*1000+②選手情報入力!A74)","v":""},{"$f":"IF(E65=\"\",\"\",①団体情報入力!$C$3)","v":""},null,{"$f":"IF(E65=\"\",\"\",LEFT(②選手情報入力!B74,1))","v":""},{"$f":"IF(②選手情報入力!B74=\"\",\"\",RIGHT(②選手情報入力!B74,LEN(②選手情報入力!B74)-1))","v":""},{"$f":"IF(E65=\"\",\"\",②選手情報入力!C74)","v":""},{"$f":"IF(E65=\"\",\"\",②選手情報入力!D74)","v":""},"",{"$f":"IF(E65=\"\",\"\",IF(②選手情報入力!F74=\"男\",1,2))","v":""},{"$f":"IF(E65=\"\",\"\",IF(②選手情報入力!G74=\"\",\"\",②選手情報入力!G74))","v":""},null,"","",null,{"$f":"IF(E65=\"\",\"\",IF(②選手情報入力!I74=\"\",\"\",IF(I65=1,VLOOKUP(②選手情報入力!I74,種目情報!$A$4:$B$135,2,FALSE),VLOOKUP(②選手情報入力!I74,種目情報!$E$4:$F$135,2,FALSE))))","v":""},{"$f":"IF(E65=\"\",\"\",IF(②選手情報入力!J74=\"\",\"\",②選手情報入力!J74))","v":""},{"$f":"IF(E65=\"\",\"\",IF(②選手情報入力!H74=\"\",0,1))","v":""},{"$f":"IF(E65=\"\",\"\",IF(②選手情報入力!I74=\"\",\"\",IF(I65=1,VLOOKUP(②選手情報入力!I74,種目情報!$A$4:$C$39,3,FALSE),VLOOKUP(②選手情報入力!I74,種目情報!$E$4:$G$40,3,FALSE))))","v":""},{"$f":"IF(E65=\"\",\"\",IF(②選手情報入力!L74=\"\",\"\",IF(I65=1,VLOOKUP(②選手情報入力!L74,種目情報!$A$4:$B$39,2,FALSE),VLOOKUP(②選手情報入力!L74,種目情報!$E$4:$F$40,2,FALSE))))","v":""},{"$f":"IF(E65=\"\",\"\",IF(②選手情報入力!M74=\"\",\"\",②選手情報入力!M74))","v":""},{"$f":"IF(E65=\"\",\"\",IF(②選手情報入力!K74=\"\",0,1))","v":""},{"$f":"IF(E65=\"\",\"\",IF(②選手情報入力!L74=\"\",\"\",IF(I65=1,VLOOKUP(②選手情報入力!L74,種目情報!$A$4:$C$39,3,FALSE),VLOOKUP(②選手情報入力!L74,種目情報!$E$4:$G$40,3,FALSE))))","v":""},{"$f":"IF(E65=\"\",\"\",IF(②選手情報入力!O74=\"\",\"\",IF(I65=1,VLOOKUP(②選手情報入力!O74,種目情報!$A$4:$B$39,2,FALSE),VLOOKUP(②選手情報入力!O74,種目情報!$E$4:$F$40,2,FALSE))))","v":""},{"$f":"IF(E65=\"\",\"\",IF(②選手情報入力!P74=\"\",\"\",②選手情報入力!P74))","v":""},{"$f":"IF(E65=\"\",\"\",IF(②選手情報入力!N74=\"\",0,1))","v":""},{"$f":"IF(E65=\"\",\"\",IF(②選手情報入力!O74=\"\",\"\",IF(I65=1,VLOOKUP(②選手情報入力!O74,種目情報!$A$4:$C$39,3,FALSE),VLOOKUP(②選手情報入力!O74,種目情報!$E$4:$G$40,3,FALSE))))","v":""},{"$f":"IF(E65=\"\",\"\",IF(②選手情報入力!Q74=\"\",\"\",IF(I65=1,種目情報!$J$4,種目情報!$J$6)))","v":""},{"$f":"IF(E65=\"\",\"\",IF(②選手情報入力!Q74=\"\",\"\",IF(I65=1,IF(②選手情報入力!$R$6=\"\",\"\",②選手情報入力!$R$6),IF(②選手情報入力!$R$7=\"\",\"\",②選手情報入力!$R$7))))","v":""},{"$f":"IF(E65=\"\",\"\",IF(②選手情報入力!Q74=\"\",\"\",IF(I65=1,IF(②選手情報入力!$Q$6=\"\",0,1),IF(②選手情報入力!$Q$7=\"\",0,1))))","v":""},{"$f":"IF(E65=\"\",\"\",IF(②選手情報入力!Q74=\"\",\"\",2))","v":""},{"$f":"IF(E65=\"\",\"\",IF(②選手情報入力!S74=\"\",\"\",IF(I65=1,種目情報!$J$5,種目情報!$J$7)))","v":""},{"$f":"IF(E65=\"\",\"\",IF(②選手情報入力!S74=\"\",\"\",IF(I65=1,IF(②選手情報入力!$T$6=\"\",\"\",②選手情報入力!$T$6),IF(②選手情報入力!$T$7=\"\",\"\",②選手情報入力!$T$7))))","v":""},{"$f":"IF(E65=\"\",\"\",IF(②選手情報入力!S74=\"\",\"\",IF(I65=1,IF(②選手情報入力!$S$6=\"\",0,1),IF(②選手情報入力!$S$7=\"\",0,1))))","v":""},{"$f":"IF(E65=\"\",\"\",IF(②選手情報入力!S74=\"\",\"\",2))","v":""}]
[{"$f":"IF(E66=\"\",\"\",I66*1200000+①団体情報入力!$C$3*1000+②選手情報入力!A75)","v":""},{"$f":"IF(E66=\"\",\"\",①団体情報入力!$C$3)","v":""},null,{"$f":"IF(E66=\"\",\"\",LEFT(②選手情報入力!B75,1))","v":""},{"$f":"IF(②選手情報入力!B75=\"\",\"\",RIGHT(②選手情報入力!B75,LEN(②選手情報入力!B75)-1))","v":""},{"$f":"IF(E66=\"\",\"\",②選手情報入力!C75)","v":""},{"$f":"IF(E66=\"\",\"\",②選手情報入力!D75)","v":""},"",{"$f":"IF(E66=\"\",\"\",IF(②選手情報入力!F75=\"男\",1,2))","v":""},{"$f":"IF(E66=\"\",\"\",IF(②選手情報入力!G75=\"\",\"\",②選手情報入力!G75))","v":""},null,"","",null,{"$f":"IF(E66=\"\",\"\",IF(②選手情報入力!I75=\"\",\"\",IF(I66=1,VLOOKUP(②選手情報入力!I75,種目情報!$A$4:$B$135,2,FALSE),VLOOKUP(②選手情報入力!I75,種目情報!$E$4:$F$135,2,FALSE))))","v":""},{"$f":"IF(E66=\"\",\"\",IF(②選手情報入力!J75=\"\",\"\",②選手情報入力!J75))","v":""},{"$f":"IF(E66=\"\",\"\",IF(②選手情報入力!H75=\"\",0,1))","v":""},{"$f":"IF(E66=\"\",\"\",IF(②選手情報入力!I75=\"\",\"\",IF(I66=1,VLOOKUP(②選手情報入力!I75,種目情報!$A$4:$C$39,3,FALSE),VLOOKUP(②選手情報入力!I75,種目情報!$E$4:$G$40,3,FALSE))))","v":""},{"$f":"IF(E66=\"\",\"\",IF(②選手情報入力!L75=\"\",\"\",IF(I66=1,VLOOKUP(②選手情報入力!L75,種目情報!$A$4:$B$39,2,FALSE),VLOOKUP(②選手情報入力!L75,種目情報!$E$4:$F$40,2,FALSE))))","v":""},{"$f":"IF(E66=\"\",\"\",IF(②選手情報入力!M75=\"\",\"\",②選手情報入力!M75))","v":""},{"$f":"IF(E66=\"\",\"\",IF(②選手情報入力!K75=\"\",0,1))","v":""},{"$f":"IF(E66=\"\",\"\",IF(②選手情報入力!L75=\"\",\"\",IF(I66=1,VLOOKUP(②選手情報入力!L75,種目情報!$A$4:$C$39,3,FALSE),VLOOKUP(②選手情報入力!L75,種目情報!$E$4:$G$40,3,FALSE))))","v":""},{"$f":"IF(E66=\"\",\"\",IF(②選手情報入力!O75=\"\",\"\",IF(I66=1,VLOOKUP(②選手情報入力!O75,種目情報!$A$4:$B$39,2,FALSE),VLOOKUP(②選手情報入力!O75,種目情報!$E$4:$F$40,2,FALSE))))","v":""},{"$f":"IF(E66=\"\",\"\",IF(②選手情報入力!P75=\"\",\"\",②選手情報入力!P75))","v":""},{"$f":"IF(E66=\"\",\"\",IF(②選手情報入力!N75=\"\",0,1))","v":""},{"$f":"IF(E66=\"\",\"\",IF(②選手情報入力!O75=\"\",\"\",IF(I66=1,VLOOKUP(②選手情報入力!O75,種目情報!$A$4:$C$39,3,FALSE),VLOOKUP(②選手情報入力!O75,種目情報!$E$4:$G$40,3,FALSE))))","v":""},{"$f":"IF(E66=\"\",\"\",IF(②選手情報入力!Q75=\"\",\"\",IF(I66=1,種目情報!$J$4,種目情報!$J$6)))","v":""},{"$f":"IF(E66=\"\",\"\",IF(②選手情報入力!Q75=\"\",\"\",IF(I66=1,IF(②選手情報入力!$R$6=\"\",\"\",②選手情報入力!$R$6),IF(②選手情報入力!$R$7=\"\",\"\",②選手情報入力!$R$7))))","v":""},{"$f":"IF(E66=\"\",\"\",IF(②選手情報入力!Q75=\"\",\"\",IF(I66=1,IF(②選手情報入力!$Q$6=\"\",0,1),IF(②選手情報入力!$Q$7=\"\",0,1))))","v":""},{"$f":"IF(E66=\"\",\"\",IF(②選手情報入力!Q75=\"\",\"\",2))","v":""},{"$f":"IF(E66=\"\",\"\",IF(②選手情報入力!S75=\"\",\"\",IF(I66=1,種目情報!$J$5,種目情報!$J$7)))","v":""},{"$f":"IF(E66=\"\",\"\",IF(②選手情報入力!S75=\"\",\"\",IF(I66=1,IF(②選手情報入力!$T$6=\"\",\"\",②選手情報入力!$T$6),IF(②選手情報入力!$T$7=\"\",\"\",②選手情報入力!$T$7))))","v":""},{"$f":"IF(E66=\"\",\"\",IF(②選手情報入力!S75=\"\",\"\",IF(I66=1,IF(②選手情報入力!$S$6=\"\",0,1),IF(②選手情報入力!$S$7=\"\",0,1))))","v":""},{"$f":"IF(E66=\"\",\"\",IF(②選手情報入力!S75=\"\",\"\",2))","v":""}]
[{"$f":"IF(E67=\"\",\"\",I67*1200000+①団体情報入力!$C$3*1000+②選手情報入力!A76)","v":""},{"$f":"IF(E67=\"\",\"\",①団体情報入力!$C$3)","v":""},null,{"$f":"IF(E67=\"\",\"\",LEFT(②選手情報入力!B76,1))","v":""},{"$f":"IF(②選手情報入力!B76=\"\",\"\",RIGHT(②選手情報入力!B76,LEN(②選手情報入力!B76)-1))","v":""},{"$f":"IF(E67=\"\",\"\",②選手情報入力!C76)","v":""},{"$f":"IF(E67=\"\",\"\",②選手情報入力!D76)","v":""},{"$f":"IF(E67=\"\",\"\",F67)","v":""},{"$f":"IF(E67=\"\",\"\",IF(②選手情報入力!F76=\"男\",1,2))","v":""},{"$f":"IF(E67=\"\",\"\",IF(②選手情報入力!G76=\"\",\"\",②選手情報入力!G76))","v":""},null,{"$f":"IF(E67=\"\",\"\",0)","v":""},{"$f":"IF(E67=\"\",\"\",\"愛知\")","v":""},null,{"$f":"IF(E67=\"\",\"\",IF(②選手情報入力!I76=\"\",\"\",IF(I67=1,VLOOKUP(②選手情報入力!I76,種目情報!$A$4:$B$135,2,FALSE),VLOOKUP(②選手情報入力!I76,種目情報!$E$4:$F$135,2,FALSE))))","v":""},{"$f":"IF(E67=\"\",\"\",IF(②選手情報入力!J76=\"\",\"\",②選手情報入力!J76))","v":""},{"$f":"IF(E67=\"\",\"\",IF(②選手情報入力!H76=\"\",0,1))","v":""},{"$f":"IF(E67=\"\",\"\",IF(②選手情報入力!I76=\"\",\"\",IF(I67=1,VLOOKUP(②選手情報入力!I76,種目情報!$A$4:$C$39,3,FALSE),VLOOKUP(②選手情報入力!I76,種目情報!$E$4:$G$40,3,FALSE))))","v":""},{"$f":"IF(E67=\"\",\"\",IF(②選手情報入力!L76=\"\",\"\",IF(I67=1,VLOOKUP(②選手情報入力!L76,種目情報!$A$4:$B$39,2,FALSE),VLOOKUP(②選手情報入力!L76,種目情報!$E$4:$F$40,2,FALSE))))","v":""},{"$f":"IF(E67=\"\",\"\",IF(②選手情報入力!M76=\"\",\"\",②選手情報入力!M76))","v":""},{"$f":"IF(E67=\"\",\"\",IF(②選手情報入力!K76=\"\",0,1))","v":""},{"$f":"IF(E67=\"\",\"\",IF(②選手情報入力!L76=\"\",\"\",IF(I67=1,VLOOKUP(②選手情報入力!L76,種目情報!$A$4:$C$39,3,FALSE),VLOOKUP(②選手情報入力!L76,種目情報!$E$4:$G$40,3,FALSE))))","v":""},{"$f":"IF(E67=\"\",\"\",IF(②選手情報入力!O76=\"\",\"\",IF(I67=1,VLOOKUP(②選手情報入力!O76,種目情報!$A$4:$B$39,2,FALSE),VLOOKUP(②選手情報入力!O76,種目情報!$E$4:$F$40,2,FALSE))))","v":""},{"$f":"IF(E67=\"\",\"\",IF(②選手情報入力!P76=\"\",\"\",②選手情報入力!P76))","v":""},{"$f":"IF(E67=\"\",\"\",IF(②選手情報入力!N76=\"\",0,1))","v":""},{"$f":"IF(E67=\"\",\"\",IF(②選手情報入力!O76=\"\",\"\",IF(I67=1,VLOOKUP(②選手情報入力!O76,種目情報!$A$4:$C$39,3,FALSE),VLOOKUP(②選手情報入力!O76,種目情報!$E$4:$G$40,3,FALSE))))","v":""},{"$f":"IF(E67=\"\",\"\",IF(②選手情報入力!Q76=\"\",\"\",IF(I67=1,種目情報!$J$4,種目情報!$J$6)))","v":""},{"$f":"IF(E67=\"\",\"\",IF(②選手情報入力!Q76=\"\",\"\",IF(I67=1,IF(②選手情報入力!$R$6=\"\",\"\",②選手情報入力!$R$6),IF(②選手情報入力!$R$7=\"\",\"\",②選手情報入力!$R$7))))","v":""},{"$f":"IF(E67=\"\",\"\",IF(②選手情報入力!Q76=\"\",\"\",IF(I67=1,IF(②選手情報入力!$Q$6=\"\",0,1),IF(②選手情報入力!$Q$7=\"\",0,1))))","v":""},{"$f":"IF(E67=\"\",\"\",IF(②選手情報入力!Q76=\"\",\"\",2))","v":""},{"$f":"IF(E67=\"\",\"\",IF(②選手情報入力!S76=\"\",\"\",IF(I67=1,種目情報!$J$5,種目情報!$J$7)))","v":""},{"$f":"IF(E67=\"\",\"\",IF(②選手情報入力!S76=\"\",\"\",IF(I67=1,IF(②選手情報入力!$T$6=\"\",\"\",②選手情報入力!$T$6),IF(②選手情報入力!$T$7=\"\",\"\",②選手情報入力!$T$7))))","v":""},{"$f":"IF(E67=\"\",\"\",IF(②選手情報入力!S76=\"\",\"\",IF(I67=1,IF(②選手情報入力!$S$6=\"\",0,1),IF(②選手情報入力!$S$7=\"\",0,1))))","v":""},{"$f":"IF(E67=\"\",\"\",IF(②選手情報入力!S76=\"\",\"\",2))","v":""}]
[{"$f":"IF(E68=\"\",\"\",I68*1200000+①団体情報入力!$C$3*1000+②選手情報入力!A77)","v":""},{"$f":"IF(E68=\"\",\"\",①団体情報入力!$C$3)","v":""},null,{"$f":"IF(E68=\"\",\"\",LEFT(②選手情報入力!B77,1))","v":""},{"$f":"IF(②選手情報入力!B77=\"\",\"\",RIGHT(②選手情報入力!B77,LEN(②選手情報入力!B77)-1))","v":""},{"$f":"IF(E68=\"\",\"\",②選手情報入力!C77)","v":""},{"$f":"IF(E68=\"\",\"\",②選手情報入力!D77)","v":""},"",{"$f":"IF(E68=\"\",\"\",IF(②選手情報入力!F77=\"男\",1,2))","v":""},{"$f":"IF(E68=\"\",\"\",IF(②選手情報入力!G77=\"\",\"\",②選手情報入力!G77))","v":""},null,"","",null,{"$f":"IF(E68=\"\",\"\",IF(②選手情報入力!I77=\"\",\"\",IF(I68=1,VLOOKUP(②選手情報入力!I77,種目情報!$A$4:$B$135,2,FALSE),VLOOKUP(②選手情報入力!I77,種目情報!$E$4:$F$135,2,FALSE))))","v":""},{"$f":"IF(E68=\"\",\"\",IF(②選手情報入力!J77=\"\",\"\",②選手情報入力!J77))","v":""},{"$f":"IF(E68=\"\",\"\",IF(②選手情報入力!H77=\"\",0,1))","v":""},{"$f":"IF(E68=\"\",\"\",IF(②選手情報入力!I77=\"\",\"\",IF(I68=1,VLOOKUP(②選手情報入力!I77,種目情報!$A$4:$C$39,3,FALSE),VLOOKUP(②選手情報入力!I77,種目情報!$E$4:$G$40,3,FALSE))))","v":""},{"$f":"IF(E68=\"\",\"\",IF(②選手情報入力!L77=\"\",\"\",IF(I68=1,VLOOKUP(②選手情報入力!L77,種目情報!$A$4:$B$39,2,FALSE),VLOOKUP(②選手情報入力!L77,種目情報!$E$4:$F$40,2,FALSE))))","v":""},{"$f":"IF(E68=\"\",\"\",IF(②選手情報入力!M77=\"\",\"\",②選手情報入力!M77))","v":""},{"$f":"IF(E68=\"\",\"\",IF(②選手情報入力!K77=\"\",0,1))","v":""},{"$f":"IF(E68=\"\",\"\",IF(②選手情報入力!L77=\"\",\"\",IF(I68=1,VLOOKUP(②選手情報入力!L77,種目情報!$A$4:$C$39,3,FALSE),VLOOKUP(②選手情報入力!L77,種目情報!$E$4:$G$40,3,FALSE))))","v":""},{"$f":"IF(E68=\"\",\"\",IF(②選手情報入力!O77=\"\",\"\",IF(I68=1,VLOOKUP(②選手情報入力!O77,種目情報!$A$4:$B$39,2,FALSE),VLOOKUP(②選手情報入力!O77,種目情報!$E$4:$F$40,2,FALSE))))","v":""},{"$f":"IF(E68=\"\",\"\",IF(②選手情報入力!P77=\"\",\"\",②選手情報入力!P77))","v":""},{"$f":"IF(E68=\"\",\"\",IF(②選手情報入力!N77=\"\",0,1))","v":""},{"$f":"IF(E68=\"\",\"\",IF(②選手情報入力!O77=\"\",\"\",IF(I68=1,VLOOKUP(②選手情報入力!O77,種目情報!$A$4:$C$39,3,FALSE),VLOOKUP(②選手情報入力!O77,種目情報!$E$4:$G$40,3,FALSE))))","v":""},{"$f":"IF(E68=\"\",\"\",IF(②選手情報入力!Q77=\"\",\"\",IF(I68=1,種目情報!$J$4,種目情報!$J$6)))","v":""},{"$f":"IF(E68=\"\",\"\",IF(②選手情報入力!Q77=\"\",\"\",IF(I68=1,IF(②選手情報入力!$R$6=\"\",\"\",②選手情報入力!$R$6),IF(②選手情報入力!$R$7=\"\",\"\",②選手情報入力!$R$7))))","v":""},{"$f":"IF(E68=\"\",\"\",IF(②選手情報入力!Q77=\"\",\"\",IF(I68=1,IF(②選手情報入力!$Q$6=\"\",0,1),IF(②選手情報入力!$Q$7=\"\",0,1))))","v":""},{"$f":"IF(E68=\"\",\"\",IF(②選手情報入力!Q77=\"\",\"\",2))","v":""},{"$f":"IF(E68=\"\",\"\",IF(②選手情報入力!S77=\"\",\"\",IF(I68=1,種目情報!$J$5,種目情報!$J$7)))","v":""},{"$f":"IF(E68=\"\",\"\",IF(②選手情報入力!S77=\"\",\"\",IF(I68=1,IF(②選手情報入力!$T$6=\"\",\"\",②選手情報入力!$T$6),IF(②選手情報入力!$T$7=\"\",\"\",②選手情報入力!$T$7))))","v":""},{"$f":"IF(E68=\"\",\"\",IF(②選手情報入力!S77=\"\",\"\",IF(I68=1,IF(②選手情報入力!$S$6=\"\",0,1),IF(②選手情報入力!$S$7=\"\",0,1))))","v":""},{"$f":"IF(E68=\"\",\"\",IF(②選手情報入力!S77=\"\",\"\",2))","v":""}]
[{"$f":"IF(E69=\"\",\"\",I69*1200000+①団体情報入力!$C$3*1000+②選手情報入力!A78)","v":""},{"$f":"IF(E69=\"\",\"\",①団体情報入力!$C$3)","v":""},null,{"$f":"IF(E69=\"\",\"\",LEFT(②選手情報入力!B78,1))","v":""},{"$f":"IF(②選手情報入力!B78=\"\",\"\",RIGHT(②選手情報入力!B78,LEN(②選手情報入力!B78)-1))","v":""},{"$f":"IF(E69=\"\",\"\",②選手情報入力!C78)","v":""},{"$f":"IF(E69=\"\",\"\",②選手情報入力!D78)","v":""},"",{"$f":"IF(E69=\"\",\"\",IF(②選手情報入力!F78=\"男\",1,2))","v":""},{"$f":"IF(E69=\"\",\"\",IF(②選手情報入力!G78=\"\",\"\",②選手情報入力!G78))","v":""},null,"","",null,{"$f":"IF(E69=\"\",\"\",IF(②選手情報入力!I78=\"\",\"\",IF(I69=1,VLOOKUP(②選手情報入力!I78,種目情報!$A$4:$B$135,2,FALSE),VLOOKUP(②選手情報入力!I78,種目情報!$E$4:$F$135,2,FALSE))))","v":""},{"$f":"IF(E69=\"\",\"\",IF(②選手情報入力!J78=\"\",\"\",②選手情報入力!J78))","v":""},{"$f":"IF(E69=\"\",\"\",IF(②選手情報入力!H78=\"\",0,1))","v":""},{"$f":"IF(E69=\"\",\"\",IF(②選手情報入力!I78=\"\",\"\",IF(I69=1,VLOOKUP(②選手情報入力!I78,種目情報!$A$4:$C$39,3,FALSE),VLOOKUP(②選手情報入力!I78,種目情報!$E$4:$G$40,3,FALSE))))","v":""},{"$f":"IF(E69=\"\",\"\",IF(②選手情報入力!L78=\"\",\"\",IF(I69=1,VLOOKUP(②選手情報入力!L78,種目情報!$A$4:$B$39,2,FALSE),VLOOKUP(②選手情報入力!L78,種目情報!$E$4:$F$40,2,FALSE))))","v":""},{"$f":"IF(E69=\"\",\"\",IF(②選手情報入力!M78=\"\",\"\",②選手情報入力!M78))","v":""},{"$f":"IF(E69=\"\",\"\",IF(②選手情報入力!K78=\"\",0,1))","v":""},{"$f":"IF(E69=\"\",\"\",IF(②選手情報入力!L78=\"\",\"\",IF(I69=1,VLOOKUP(②選手情報入力!L78,種目情報!$A$4:$C$39,3,FALSE),VLOOKUP(②選手情報入力!L78,種目情報!$E$4:$G$40,3,FALSE))))","v":""},{"$f":"IF(E69=\"\",\"\",IF(②選手情報入力!O78=\"\",\"\",IF(I69=1,VLOOKUP(②選手情報入力!O78,種目情報!$A$4:$B$39,2,FALSE),VLOOKUP(②選手情報入力!O78,種目情報!$E$4:$F$40,2,FALSE))))","v":""},{"$f":"IF(E69=\"\",\"\",IF(②選手情報入力!P78=\"\",\"\",②選手情報入力!P78))","v":""},{"$f":"IF(E69=\"\",\"\",IF(②選手情報入力!N78=\"\",0,1))","v":""},{"$f":"IF(E69=\"\",\"\",IF(②選手情報入力!O78=\"\",\"\",IF(I69=1,VLOOKUP(②選手情報入力!O78,種目情報!$A$4:$C$39,3,FALSE),VLOOKUP(②選手情報入力!O78,種目情報!$E$4:$G$40,3,FALSE))))","v":""},{"$f":"IF(E69=\"\",\"\",IF(②選手情報入力!Q78=\"\",\"\",IF(I69=1,種目情報!$J$4,種目情報!$J$6)))","v":""},{"$f":"IF(E69=\"\",\"\",IF(②選手情報入力!Q78=\"\",\"\",IF(I69=1,IF(②選手情報入力!$R$6=\"\",\"\",②選手情報入力!$R$6),IF(②選手情報入力!$R$7=\"\",\"\",②選手情報入力!$R$7))))","v":""},{"$f":"IF(E69=\"\",\"\",IF(②選手情報入力!Q78=\"\",\"\",IF(I69=1,IF(②選手情報入力!$Q$6=\"\",0,1),IF(②選手情報入力!$Q$7=\"\",0,1))))","v":""},{"$f":"IF(E69=\"\",\"\",IF(②選手情報入力!Q78=\"\",\"\",2))","v":""},{"$f":"IF(E69=\"\",\"\",IF(②選手情報入力!S78=\"\",\"\",IF(I69=1,種目情報!$J$5,種目情報!$J$7)))","v":""},{"$f":"IF(E69=\"\",\"\",IF(②選手情報入力!S78=\"\",\"\",IF(I69=1,IF(②選手情報入力!$T$6=\"\",\"\",②選手情報入力!$T$6),IF(②選手情報入力!$T$7=\"\",\"\",②選手情報入力!$T$7))))","v":""},{"$f":"IF(E69=\"\",\"\",IF(②選手情報入力!S78=\"\",\"\",IF(I69=1,IF(②選手情報入力!$S$6=\"\",0,1),IF(②選手情報入力!$S$7=\"\",0,1))))","v":""},{"$f":"IF(E69=\"\",\"\",IF(②選手情報入力!S78=\"\",\"\",2))","v":""}]
[{"$f":"IF(E70=\"\",\"\",I70*1200000+①団体情報入力!$C$3*1000+②選手情報入力!A79)","v":""},{"$f":"IF(E70=\"\",\"\",①団体情報入力!$C$3)","v":""},null,{"$f":"IF(E70=\"\",\"\",LEFT(②選手情報入力!B79,1))","v":""},{"$f":"IF(②選手情報入力!B79=\"\",\"\",RIGHT(②選手情報入力!B79,LEN(②選手情報入力!B79)-1))","v":""},{"$f":"IF(E70=\"\",\"\",②選手情報入力!C79)","v":""},{"$f":"IF(E70=\"\",\"\",②選手情報入力!D79)","v":""},"",{"$f":"IF(E70=\"\",\"\",IF(②選手情報入力!F79=\"男\",1,2))","v":""},{"$f":"IF(E70=\"\",\"\",IF(②選手情報入力!G79=\"\",\"\",②選手情報入力!G79))","v":""},null,"","",null,{"$f":"IF(E70=\"\",\"\",IF(②選手情報入力!I79=\"\",\"\",IF(I70=1,VLOOKUP(②選手情報入力!I79,種目情報!$A$4:$B$135,2,FALSE),VLOOKUP(②選手情報入力!I79,種目情報!$E$4:$F$135,2,FALSE))))","v":""},{"$f":"IF(E70=\"\",\"\",IF(②選手情報入力!J79=\"\",\"\",②選手情報入力!J79))","v":""},{"$f":"IF(E70=\"\",\"\",IF(②選手情報入力!H79=\"\",0,1))","v":""},{"$f":"IF(E70=\"\",\"\",IF(②選手情報入力!I79=\"\",\"\",IF(I70=1,VLOOKUP(②選手情報入力!I79,種目情報!$A$4:$C$39,3,FALSE),VLOOKUP(②選手情報入力!I79,種目情報!$E$4:$G$40,3,FALSE))))","v":""},{"$f":"IF(E70=\"\",\"\",IF(②選手情報入力!L79=\"\",\"\",IF(I70=1,VLOOKUP(②選手情報入力!L79,種目情報!$A$4:$B$39,2,FALSE),VLOOKUP(②選手情報入力!L79,種目情報!$E$4:$F$40,2,FALSE))))","v":""},{"$f":"IF(E70=\"\",\"\",IF(②選手情報入力!M79=\"\",\"\",②選手情報入力!M79))","v":""},{"$f":"IF(E70=\"\",\"\",IF(②選手情報入力!K79=\"\",0,1))","v":""},{"$f":"IF(E70=\"\",\"\",IF(②選手情報入力!L79=\"\",\"\",IF(I70=1,VLOOKUP(②選手情報入力!L79,種目情報!$A$4:$C$39,3,FALSE),VLOOKUP(②選手情報入力!L79,種目情報!$E$4:$G$40,3,FALSE))))","v":""},{"$f":"IF(E70=\"\",\"\",IF(②選手情報入力!O79=\"\",\"\",IF(I70=1,VLOOKUP(②選手情報入力!O79,種目情報!$A$4:$B$39,2,FALSE),VLOOKUP(②選手情報入力!O79,種目情報!$E$4:$F$40,2,FALSE))))","v":""},{"$f":"IF(E70=\"\",\"\",IF(②選手情報入力!P79=\"\",\"\",②選手情報入力!P79))","v":""},{"$f":"IF(E70=\"\",\"\",IF(②選手情報入力!N79=\"\",0,1))","v":""},{"$f":"IF(E70=\"\",\"\",IF(②選手情報入力!O79=\"\",\"\",IF(I70=1,VLOOKUP(②選手情報入力!O79,種目情報!$A$4:$C$39,3,FALSE),VLOOKUP(②選手情報入力!O79,種目情報!$E$4:$G$40,3,FALSE))))","v":""},{"$f":"IF(E70=\"\",\"\",IF(②選手情報入力!Q79=\"\",\"\",IF(I70=1,種目情報!$J$4,種目情報!$J$6)))","v":""},{"$f":"IF(E70=\"\",\"\",IF(②選手情報入力!Q79=\"\",\"\",IF(I70=1,IF(②選手情報入力!$R$6=\"\",\"\",②選手情報入力!$R$6),IF(②選手情報入力!$R$7=\"\",\"\",②選手情報入力!$R$7))))","v":""},{"$f":"IF(E70=\"\",\"\",IF(②選手情報入力!Q79=\"\",\"\",IF(I70=1,IF(②選手情報入力!$Q$6=\"\",0,1),IF(②選手情報入力!$Q$7=\"\",0,1))))","v":""},{"$f":"IF(E70=\"\",\"\",IF(②選手情報入力!Q79=\"\",\"\",2))","v":""},{"$f":"IF(E70=\"\",\"\",IF(②選手情報入力!S79=\"\",\"\",IF(I70=1,種目情報!$J$5,種目情報!$J$7)))","v":""},{"$f":"IF(E70=\"\",\"\",IF(②選手情報入力!S79=\"\",\"\",IF(I70=1,IF(②選手情報入力!$T$6=\"\",\"\",②選手情報入力!$T$6),IF(②選手情報入力!$T$7=\"\",\"\",②選手情報入力!$T$7))))","v":""},{"$f":"IF(E70=\"\",\"\",IF(②選手情報入力!S79=\"\",\"\",IF(I70=1,IF(②選手情報入力!$S$6=\"\",0,1),IF(②選手情報入力!$S$7=\"\",0,1))))","v":""},{"$f":"IF(E70=\"\",\"\",IF(②選手情報入力!S79=\"\",\"\",2))","v":""}]
[{"$f":"IF(E71=\"\",\"\",I71*1200000+①団体情報入力!$C$3*1000+②選手情報入力!A80)","v":""},{"$f":"IF(E71=\"\",\"\",①団体情報入力!$C$3)","v":""},null,{"$f":"IF(E71=\"\",\"\",LEFT(②選手情報入力!B80,1))","v":""},{"$f":"IF(②選手情報入力!B80=\"\",\"\",RIGHT(②選手情報入力!B80,LEN(②選手情報入力!B80)-1))","v":""},{"$f":"IF(E71=\"\",\"\",②選手情報入力!C80)","v":""},{"$f":"IF(E71=\"\",\"\",②選手情報入力!D80)","v":""},"",{"$f":"IF(E71=\"\",\"\",IF(②選手情報入力!F80=\"男\",1,2))","v":""},{"$f":"IF(E71=\"\",\"\",IF(②選手情報入力!G80=\"\",\"\",②選手情報入力!G80))","v":""},null,"","",null,{"$f":"IF(E71=\"\",\"\",IF(②選手情報入力!I80=\"\",\"\",IF(I71=1,VLOOKUP(②選手情報入力!I80,種目情報!$A$4:$B$135,2,FALSE),VLOOKUP(②選手情報入力!I80,種目情報!$E$4:$F$135,2,FALSE))))","v":""},{"$f":"IF(E71=\"\",\"\",IF(②選手情報入力!J80=\"\",\"\",②選手情報入力!J80))","v":""},{"$f":"IF(E71=\"\",\"\",IF(②選手情報入力!H80=\"\",0,1))","v":""},{"$f":"IF(E71=\"\",\"\",IF(②選手情報入力!I80=\"\",\"\",IF(I71=1,VLOOKUP(②選手情報入力!I80,種目情報!$A$4:$C$39,3,FALSE),VLOOKUP(②選手情報入力!I80,種目情報!$E$4:$G$40,3,FALSE))))","v":""},{"$f":"IF(E71=\"\",\"\",IF(②選手情報入力!L80=\"\",\"\",IF(I71=1,VLOOKUP(②選手情報入力!L80,種目情報!$A$4:$B$39,2,FALSE),VLOOKUP(②選手情報入力!L80,種目情報!$E$4:$F$40,2,FALSE))))","v":""},{"$f":"IF(E71=\"\",\"\",IF(②選手情報入力!M80=\"\",\"\",②選手情報入力!M80))","v":""},{"$f":"IF(E71=\"\",\"\",IF(②選手情報入力!K80=\"\",0,1))","v":""},{"$f":"IF(E71=\"\",\"\",IF(②選手情報入力!L80=\"\",\"\",IF(I71=1,VLOOKUP(②選手情報入力!L80,種目情報!$A$4:$C$39,3,FALSE),VLOOKUP(②選手情報入力!L80,種目情報!$E$4:$G$40,3,FALSE))))","v":""},{"$f":"IF(E71=\"\",\"\",IF(②選手情報入力!O80=\"\",\"\",IF(I71=1,VLOOKUP(②選手情報入力!O80,種目情報!$A$4:$B$39,2,FALSE),VLOOKUP(②選手情報入力!O80,種目情報!$E$4:$F$40,2,FALSE))))","v":""},{"$f":"IF(E71=\"\",\"\",IF(②選手情報入力!P80=\"\",\"\",②選手情報入力!P80))","v":""},{"$f":"IF(E71=\"\",\"\",IF(②選手情報入力!N80=\"\",0,1))","v":""},{"$f":"IF(E71=\"\",\"\",IF(②選手情報入力!O80=\"\",\"\",IF(I71=1,VLOOKUP(②選手情報入力!O80,種目情報!$A$4:$C$39,3,FALSE),VLOOKUP(②選手情報入力!O80,種目情報!$E$4:$G$40,3,FALSE))))","v":""},{"$f":"IF(E71=\"\",\"\",IF(②選手情報入力!Q80=\"\",\"\",IF(I71=1,種目情報!$J$4,種目情報!$J$6)))","v":""},{"$f":"IF(E71=\"\",\"\",IF(②選手情報入力!Q80=\"\",\"\",IF(I71=1,IF(②選手情報入力!$R$6=\"\",\"\",②選手情報入力!$R$6),IF(②選手情報入力!$R$7=\"\",\"\",②選手情報入力!$R$7))))","v":""},{"$f":"IF(E71=\"\",\"\",IF(②選手情報入力!Q80=\"\",\"\",IF(I71=1,IF(②選手情報入力!$Q$6=\"\",0,1),IF(②選手情報入力!$Q$7=\"\",0,1))))","v":""},{"$f":"IF(E71=\"\",\"\",IF(②選手情報入力!Q80=\"\",\"\",2))","v":""},{"$f":"IF(E71=\"\",\"\",IF(②選手情報入力!S80=\"\",\"\",IF(I71=1,種目情報!$J$5,種目情報!$J$7)))","v":""},{"$f":"IF(E71=\"\",\"\",IF(②選手情報入力!S80=\"\",\"\",IF(I71=1,IF(②選手情報入力!$T$6=\"\",\"\",②選手情報入力!$T$6),IF(②選手情報入力!$T$7=\"\",\"\",②選手情報入力!$T$7))))","v":""},{"$f":"IF(E71=\"\",\"\",IF(②選手情報入力!S80=\"\",\"\",IF(I71=1,IF(②選手情報入力!$S$6=\"\",0,1),IF(②選手情報入力!$S$7=\"\",0,1))))","v":""},{"$f":"IF(E71=\"\",\"\",IF(②選手情報入力!S80=\"\",\"\",2))","v":""}]
[{"$f":"IF(E72=\"\",\"\",I72*1200000+①団体情報入力!$C$3*1000+②選手情報入力!A81)","v":""},{"$f":"IF(E72=\"\",\"\",①団体情報入力!$C$3)","v":""},null,{"$f":"IF(E72=\"\",\"\",LEFT(②選手情報入力!B81,1))","v":""},{"$f":"IF(②選手情報入力!B81=\"\",\"\",RIGHT(②選手情報入力!B81,LEN(②選手情報入力!B81)-1))","v":""},{"$f":"IF(E72=\"\",\"\",②選手情報入力!C81)","v":""},{"$f":"IF(E72=\"\",\"\",②選手情報入力!D81)","v":""},"",{"$f":"IF(E72=\"\",\"\",IF(②選手情報入力!F81=\"男\",1,2))","v":""},{"$f":"IF(E72=\"\",\"\",IF(②選手情報入力!G81=\"\",\"\",②選手情報入力!G81))","v":""},null,"","",null,{"$f":"IF(E72=\"\",\"\",IF(②選手情報入力!I81=\"\",\"\",IF(I72=1,VLOOKUP(②選手情報入力!I81,種目情報!$A$4:$B$135,2,FALSE),VLOOKUP(②選手情報入力!I81,種目情報!$E$4:$F$135,2,FALSE))))","v":""},{"$f":"IF(E72=\"\",\"\",IF(②選手情報入力!J81=\"\",\"\",②選手情報入力!J81))","v":""},{"$f":"IF(E72=\"\",\"\",IF(②選手情報入力!H81=\"\",0,1))","v":""},{"$f":"IF(E72=\"\",\"\",IF(②選手情報入力!I81=\"\",\"\",IF(I72=1,VLOOKUP(②選手情報入力!I81,種目情報!$A$4:$C$39,3,FALSE),VLOOKUP(②選手情報入力!I81,種目情報!$E$4:$G$40,3,FALSE))))","v":""},{"$f":"IF(E72=\"\",\"\",IF(②選手情報入力!L81=\"\",\"\",IF(I72=1,VLOOKUP(②選手情報入力!L81,種目情報!$A$4:$B$39,2,FALSE),VLOOKUP(②選手情報入力!L81,種目情報!$E$4:$F$40,2,FALSE))))","v":""},{"$f":"IF(E72=\"\",\"\",IF(②選手情報入力!M81=\"\",\"\",②選手情報入力!M81))","v":""},{"$f":"IF(E72=\"\",\"\",IF(②選手情報入力!K81=\"\",0,1))","v":""},{"$f":"IF(E72=\"\",\"\",IF(②選手情報入力!L81=\"\",\"\",IF(I72=1,VLOOKUP(②選手情報入力!L81,種目情報!$A$4:$C$39,3,FALSE),VLOOKUP(②選手情報入力!L81,種目情報!$E$4:$G$40,3,FALSE))))","v":""},{"$f":"IF(E72=\"\",\"\",IF(②選手情報入力!O81=\"\",\"\",IF(I72=1,VLOOKUP(②選手情報入力!O81,種目情報!$A$4:$B$39,2,FALSE),VLOOKUP(②選手情報入力!O81,種目情報!$E$4:$F$40,2,FALSE))))","v":""},{"$f":"IF(E72=\"\",\"\",IF(②選手情報入力!P81=\"\",\"\",②選手情報入力!P81))","v":""},{"$f":"IF(E72=\"\",\"\",IF(②選手情報入力!N81=\"\",0,1))","v":""},{"$f":"IF(E72=\"\",\"\",IF(②選手情報入力!O81=\"\",\"\",IF(I72=1,VLOOKUP(②選手情報入力!O81,種目情報!$A$4:$C$39,3,FALSE),VLOOKUP(②選手情報入力!O81,種目情報!$E$4:$G$40,3,FALSE))))","v":""},{"$f":"IF(E72=\"\",\"\",IF(②選手情報入力!Q81=\"\",\"\",IF(I72=1,種目情報!$J$4,種目情報!$J$6)))","v":""},{"$f":"IF(E72=\"\",\"\",IF(②選手情報入力!Q81=\"\",\"\",IF(I72=1,IF(②選手情報入力!$R$6=\"\",\"\",②選手情報入力!$R$6),IF(②選手情報入力!$R$7=\"\",\"\",②選手情報入力!$R$7))))","v":""},{"$f":"IF(E72=\"\",\"\",IF(②選手情報入力!Q81=\"\",\"\",IF(I72=1,IF(②選手情報入力!$Q$6=\"\",0,1),IF(②選手情報入力!$Q$7=\"\",0,1))))","v":""},{"$f":"IF(E72=\"\",\"\",IF(②選手情報入力!Q81=\"\",\"\",2))","v":""},{"$f":"IF(E72=\"\",\"\",IF(②選手情報入力!S81=\"\",\"\",IF(I72=1,種目情報!$J$5,種目情報!$J$7)))","v":""},{"$f":"IF(E72=\"\",\"\",IF(②選手情報入力!S81=\"\",\"\",IF(I72=1,IF(②選手情報入力!$T$6=\"\",\"\",②選手情報入力!$T$6),IF(②選手情報入力!$T$7=\"\",\"\",②選手情報入力!$T$7))))","v":""},{"$f":"IF(E72=\"\",\"\",IF(②選手情報入力!S81=\"\",\"\",IF(I72=1,IF(②選手情報入力!$S$6=\"\",0,1),IF(②選手情報入力!$S$7=\"\",0,1))))","v":""},{"$f":"IF(E72=\"\",\"\",IF(②選手情報入力!S81=\"\",\"\",2))","v":""}]
[{"$f":"IF(E73=\"\",\"\",I73*1200000+①団体情報入力!$C$3*1000+②選手情報入力!A82)","v":""},{"$f":"IF(E73=\"\",\"\",①団体情報入力!$C$3)","v":""},null,{"$f":"IF(E73=\"\",\"\",LEFT(②選手情報入力!B82,1))","v":""},{"$f":"IF(②選手情報入力!B82=\"\",\"\",RIGHT(②選手情報入力!B82,LEN(②選手情報入力!B82)-1))","v":""},{"$f":"IF(E73=\"\",\"\",②選手情報入力!C82)","v":""},{"$f":"IF(E73=\"\",\"\",②選手情報入力!D82)","v":""},"",{"$f":"IF(E73=\"\",\"\",IF(②選手情報入力!F82=\"男\",1,2))","v":""},{"$f":"IF(E73=\"\",\"\",IF(②選手情報入力!G82=\"\",\"\",②選手情報入力!G82))","v":""},null,"","",null,{"$f":"IF(E73=\"\",\"\",IF(②選手情報入力!I82=\"\",\"\",IF(I73=1,VLOOKUP(②選手情報入力!I82,種目情報!$A$4:$B$135,2,FALSE),VLOOKUP(②選手情報入力!I82,種目情報!$E$4:$F$135,2,FALSE))))","v":""},{"$f":"IF(E73=\"\",\"\",IF(②選手情報入力!J82=\"\",\"\",②選手情報入力!J82))","v":""},{"$f":"IF(E73=\"\",\"\",IF(②選手情報入力!H82=\"\",0,1))","v":""},{"$f":"IF(E73=\"\",\"\",IF(②選手情報入力!I82=\"\",\"\",IF(I73=1,VLOOKUP(②選手情報入力!I82,種目情報!$A$4:$C$39,3,FALSE),VLOOKUP(②選手情報入力!I82,種目情報!$E$4:$G$40,3,FALSE))))","v":""},{"$f":"IF(E73=\"\",\"\",IF(②選手情報入力!L82=\"\",\"\",IF(I73=1,VLOOKUP(②選手情報入力!L82,種目情報!$A$4:$B$39,2,FALSE),VLOOKUP(②選手情報入力!L82,種目情報!$E$4:$F$40,2,FALSE))))","v":""},{"$f":"IF(E73=\"\",\"\",IF(②選手情報入力!M82=\"\",\"\",②選手情報入力!M82))","v":""},{"$f":"IF(E73=\"\",\"\",IF(②選手情報入力!K82=\"\",0,1))","v":""},{"$f":"IF(E73=\"\",\"\",IF(②選手情報入力!L82=\"\",\"\",IF(I73=1,VLOOKUP(②選手情報入力!L82,種目情報!$A$4:$C$39,3,FALSE),VLOOKUP(②選手情報入力!L82,種目情報!$E$4:$G$40,3,FALSE))))","v":""},{"$f":"IF(E73=\"\",\"\",IF(②選手情報入力!O82=\"\",\"\",IF(I73=1,VLOOKUP(②選手情報入力!O82,種目情報!$A$4:$B$39,2,FALSE),VLOOKUP(②選手情報入力!O82,種目情報!$E$4:$F$40,2,FALSE))))","v":""},{"$f":"IF(E73=\"\",\"\",IF(②選手情報入力!P82=\"\",\"\",②選手情報入力!P82))","v":""},{"$f":"IF(E73=\"\",\"\",IF(②選手情報入力!N82=\"\",0,1))","v":""},{"$f":"IF(E73=\"\",\"\",IF(②選手情報入力!O82=\"\",\"\",IF(I73=1,VLOOKUP(②選手情報入力!O82,種目情報!$A$4:$C$39,3,FALSE),VLOOKUP(②選手情報入力!O82,種目情報!$E$4:$G$40,3,FALSE))))","v":""},{"$f":"IF(E73=\"\",\"\",IF(②選手情報入力!Q82=\"\",\"\",IF(I73=1,種目情報!$J$4,種目情報!$J$6)))","v":""},{"$f":"IF(E73=\"\",\"\",IF(②選手情報入力!Q82=\"\",\"\",IF(I73=1,IF(②選手情報入力!$R$6=\"\",\"\",②選手情報入力!$R$6),IF(②選手情報入力!$R$7=\"\",\"\",②選手情報入力!$R$7))))","v":""},{"$f":"IF(E73=\"\",\"\",IF(②選手情報入力!Q82=\"\",\"\",IF(I73=1,IF(②選手情報入力!$Q$6=\"\",0,1),IF(②選手情報入力!$Q$7=\"\",0,1))))","v":""},{"$f":"IF(E73=\"\",\"\",IF(②選手情報入力!Q82=\"\",\"\",2))","v":""},{"$f":"IF(E73=\"\",\"\",IF(②選手情報入力!S82=\"\",\"\",IF(I73=1,種目情報!$J$5,種目情報!$J$7)))","v":""},{"$f":"IF(E73=\"\",\"\",IF(②選手情報入力!S82=\"\",\"\",IF(I73=1,IF(②選手情報入力!$T$6=\"\",\"\",②選手情報入力!$T$6),IF(②選手情報入力!$T$7=\"\",\"\",②選手情報入力!$T$7))))","v":""},{"$f":"IF(E73=\"\",\"\",IF(②選手情報入力!S82=\"\",\"\",IF(I73=1,IF(②選手情報入力!$S$6=\"\",0,1),IF(②選手情報入力!$S$7=\"\",0,1))))","v":""},{"$f":"IF(E73=\"\",\"\",IF(②選手情報入力!S82=\"\",\"\",2))","v":""}]
[{"$f":"IF(E74=\"\",\"\",I74*1200000+①団体情報入力!$C$3*1000+②選手情報入力!A83)","v":""},{"$f":"IF(E74=\"\",\"\",①団体情報入力!$C$3)","v":""},null,{"$f":"IF(E74=\"\",\"\",LEFT(②選手情報入力!B83,1))","v":""},{"$f":"IF(②選手情報入力!B83=\"\",\"\",RIGHT(②選手情報入力!B83,LEN(②選手情報入力!B83)-1))","v":""},{"$f":"IF(E74=\"\",\"\",②選手情報入力!C83)","v":""},{"$f":"IF(E74=\"\",\"\",②選手情報入力!D83)","v":""},"",{"$f":"IF(E74=\"\",\"\",IF(②選手情報入力!F83=\"男\",1,2))","v":""},{"$f":"IF(E74=\"\",\"\",IF(②選手情報入力!G83=\"\",\"\",②選手情報入力!G83))","v":""},null,"","",null,{"$f":"IF(E74=\"\",\"\",IF(②選手情報入力!I83=\"\",\"\",IF(I74=1,VLOOKUP(②選手情報入力!I83,種目情報!$A$4:$B$135,2,FALSE),VLOOKUP(②選手情報入力!I83,種目情報!$E$4:$F$135,2,FALSE))))","v":""},{"$f":"IF(E74=\"\",\"\",IF(②選手情報入力!J83=\"\",\"\",②選手情報入力!J83))","v":""},{"$f":"IF(E74=\"\",\"\",IF(②選手情報入力!H83=\"\",0,1))","v":""},{"$f":"IF(E74=\"\",\"\",IF(②選手情報入力!I83=\"\",\"\",IF(I74=1,VLOOKUP(②選手情報入力!I83,種目情報!$A$4:$C$39,3,FALSE),VLOOKUP(②選手情報入力!I83,種目情報!$E$4:$G$40,3,FALSE))))","v":""},{"$f":"IF(E74=\"\",\"\",IF(②選手情報入力!L83=\"\",\"\",IF(I74=1,VLOOKUP(②選手情報入力!L83,種目情報!$A$4:$B$39,2,FALSE),VLOOKUP(②選手情報入力!L83,種目情報!$E$4:$F$40,2,FALSE))))","v":""},{"$f":"IF(E74=\"\",\"\",IF(②選手情報入力!M83=\"\",\"\",②選手情報入力!M83))","v":""},{"$f":"IF(E74=\"\",\"\",IF(②選手情報入力!K83=\"\",0,1))","v":""},{"$f":"IF(E74=\"\",\"\",IF(②選手情報入力!L83=\"\",\"\",IF(I74=1,VLOOKUP(②選手情報入力!L83,種目情報!$A$4:$C$39,3,FALSE),VLOOKUP(②選手情報入力!L83,種目情報!$E$4:$G$40,3,FALSE))))","v":""},{"$f":"IF(E74=\"\",\"\",IF(②選手情報入力!O83=\"\",\"\",IF(I74=1,VLOOKUP(②選手情報入力!O83,種目情報!$A$4:$B$39,2,FALSE),VLOOKUP(②選手情報入力!O83,種目情報!$E$4:$F$40,2,FALSE))))","v":""},{"$f":"IF(E74=\"\",\"\",IF(②選手情報入力!P83=\"\",\"\",②選手情報入力!P83))","v":""},{"$f":"IF(E74=\"\",\"\",IF(②選手情報入力!N83=\"\",0,1))","v":""},{"$f":"IF(E74=\"\",\"\",IF(②選手情報入力!O83=\"\",\"\",IF(I74=1,VLOOKUP(②選手情報入力!O83,種目情報!$A$4:$C$39,3,FALSE),VLOOKUP(②選手情報入力!O83,種目情報!$E$4:$G$40,3,FALSE))))","v":""},{"$f":"IF(E74=\"\",\"\",IF(②選手情報入力!Q83=\"\",\"\",IF(I74=1,種目情報!$J$4,種目情報!$J$6)))","v":""},{"$f":"IF(E74=\"\",\"\",IF(②選手情報入力!Q83=\"\",\"\",IF(I74=1,IF(②選手情報入力!$R$6=\"\",\"\",②選手情報入力!$R$6),IF(②選手情報入力!$R$7=\"\",\"\",②選手情報入力!$R$7))))","v":""},{"$f":"IF(E74=\"\",\"\",IF(②選手情報入力!Q83=\"\",\"\",IF(I74=1,IF(②選手情報入力!$Q$6=\"\",0,1),IF(②選手情報入力!$Q$7=\"\",0,1))))","v":""},{"$f":"IF(E74=\"\",\"\",IF(②選手情報入力!Q83=\"\",\"\",2))","v":""},{"$f":"IF(E74=\"\",\"\",IF(②選手情報入力!S83=\"\",\"\",IF(I74=1,種目情報!$J$5,種目情報!$J$7)))","v":""},{"$f":"IF(E74=\"\",\"\",IF(②選手情報入力!S83=\"\",\"\",IF(I74=1,IF(②選手情報入力!$T$6=\"\",\"\",②選手情報入力!$T$6),IF(②選手情報入力!$T$7=\"\",\"\",②選手情報入力!$T$7))))","v":""},{"$f":"IF(E74=\"\",\"\",IF(②選手情報入力!S83=\"\",\"\",IF(I74=1,IF(②選手情報入力!$S$6=\"\",0,1),IF(②選手情報入力!$S$7=\"\",0,1))))","v":""},{"$f":"IF(E74=\"\",\"\",IF(②選手情報入力!S83=\"\",\"\",2))","v":""}]
[{"$f":"IF(E75=\"\",\"\",I75*1200000+①団体情報入力!$C$3*1000+②選手情報入力!A84)","v":""},{"$f":"IF(E75=\"\",\"\",①団体情報入力!$C$3)","v":""},null,{"$f":"IF(E75=\"\",\"\",LEFT(②選手情報入力!B84,1))","v":""},{"$f":"IF(②選手情報入力!B84=\"\",\"\",RIGHT(②選手情報入力!B84,LEN(②選手情報入力!B84)-1))","v":""},{"$f":"IF(E75=\"\",\"\",②選手情報入力!C84)","v":""},{"$f":"IF(E75=\"\",\"\",②選手情報入力!D84)","v":""},"",{"$f":"IF(E75=\"\",\"\",IF(②選手情報入力!F84=\"男\",1,2))","v":""},{"$f":"IF(E75=\"\",\"\",IF(②選手情報入力!G84=\"\",\"\",②選手情報入力!G84))","v":""},null,"","",null,{"$f":"IF(E75=\"\",\"\",IF(②選手情報入力!I84=\"\",\"\",IF(I75=1,VLOOKUP(②選手情報入力!I84,種目情報!$A$4:$B$135,2,FALSE),VLOOKUP(②選手情報入力!I84,種目情報!$E$4:$F$135,2,FALSE))))","v":""},{"$f":"IF(E75=\"\",\"\",IF(②選手情報入力!J84=\"\",\"\",②選手情報入力!J84))","v":""},{"$f":"IF(E75=\"\",\"\",IF(②選手情報入力!H84=\"\",0,1))","v":""},{"$f":"IF(E75=\"\",\"\",IF(②選手情報入力!I84=\"\",\"\",IF(I75=1,VLOOKUP(②選手情報入力!I84,種目情報!$A$4:$C$39,3,FALSE),VLOOKUP(②選手情報入力!I84,種目情報!$E$4:$G$40,3,FALSE))))","v":""},{"$f":"IF(E75=\"\",\"\",IF(②選手情報入力!L84=\"\",\"\",IF(I75=1,VLOOKUP(②選手情報入力!L84,種目情報!$A$4:$B$39,2,FALSE),VLOOKUP(②選手情報入力!L84,種目情報!$E$4:$F$40,2,FALSE))))","v":""},{"$f":"IF(E75=\"\",\"\",IF(②選手情報入力!M84=\"\",\"\",②選手情報入力!M84))","v":""},{"$f":"IF(E75=\"\",\"\",IF(②選手情報入力!K84=\"\",0,1))","v":""},{"$f":"IF(E75=\"\",\"\",IF(②選手情報入力!L84=\"\",\"\",IF(I75=1,VLOOKUP(②選手情報入力!L84,種目情報!$A$4:$C$39,3,FALSE),VLOOKUP(②選手情報入力!L84,種目情報!$E$4:$G$40,3,FALSE))))","v":""},{"$f":"IF(E75=\"\",\"\",IF(②選手情報入力!O84=\"\",\"\",IF(I75=1,VLOOKUP(②選手情報入力!O84,種目情報!$A$4:$B$39,2,FALSE),VLOOKUP(②選手情報入力!O84,種目情報!$E$4:$F$40,2,FALSE))))","v":""},{"$f":"IF(E75=\"\",\"\",IF(②選手情報入力!P84=\"\",\"\",②選手情報入力!P84))","v":""},{"$f":"IF(E75=\"\",\"\",IF(②選手情報入力!N84=\"\",0,1))","v":""},{"$f":"IF(E75=\"\",\"\",IF(②選手情報入力!O84=\"\",\"\",IF(I75=1,VLOOKUP(②選手情報入力!O84,種目情報!$A$4:$C$39,3,FALSE),VLOOKUP(②選手情報入力!O84,種目情報!$E$4:$G$40,3,FALSE))))","v":""},{"$f":"IF(E75=\"\",\"\",IF(②選手情報入力!Q84=\"\",\"\",IF(I75=1,種目情報!$J$4,種目情報!$J$6)))","v":""},{"$f":"IF(E75=\"\",\"\",IF(②選手情報入力!Q84=\"\",\"\",IF(I75=1,IF(②選手情報入力!$R$6=\"\",\"\",②選手情報入力!$R$6),IF(②選手情報入力!$R$7=\"\",\"\",②選手情報入力!$R$7))))","v":""},{"$f":"IF(E75=\"\",\"\",IF(②選手情報入力!Q84=\"\",\"\",IF(I75=1,IF(②選手情報入力!$Q$6=\"\",0,1),IF(②選手情報入力!$Q$7=\"\",0,1))))","v":""},{"$f":"IF(E75=\"\",\"\",IF(②選手情報入力!Q84=\"\",\"\",2))","v":""},{"$f":"IF(E75=\"\",\"\",IF(②選手情報入力!S84=\"\",\"\",IF(I75=1,種目情報!$J$5,種目情報!$J$7)))","v":""},{"$f":"IF(E75=\"\",\"\",IF(②選手情報入力!S84=\"\",\"\",IF(I75=1,IF(②選手情報入力!$T$6=\"\",\"\",②選手情報入力!$T$6),IF(②選手情報入力!$T$7=\"\",\"\",②選手情報入力!$T$7))))","v":""},{"$f":"IF(E75=\"\",\"\",IF(②選手情報入力!S84=\"\",\"\",IF(I75=1,IF(②選手情報入力!$S$6=\"\",0,1),IF(②選手情報入力!$S$7=\"\",0,1))))","v":""},{"$f":"IF(E75=\"\",\"\",IF(②選手情報入力!S84=\"\",\"\",2))","v":""}]
[{"$f":"IF(E76=\"\",\"\",I76*1200000+①団体情報入力!$C$3*1000+②選手情報入力!A85)","v":""},{"$f":"IF(E76=\"\",\"\",①団体情報入力!$C$3)","v":""},null,{"$f":"IF(E76=\"\",\"\",LEFT(②選手情報入力!B85,1))","v":""},{"$f":"IF(②選手情報入力!B85=\"\",\"\",RIGHT(②選手情報入力!B85,LEN(②選手情報入力!B85)-1))","v":""},{"$f":"IF(E76=\"\",\"\",②選手情報入力!C85)","v":""},{"$f":"IF(E76=\"\",\"\",②選手情報入力!D85)","v":""},"",{"$f":"IF(E76=\"\",\"\",IF(②選手情報入力!F85=\"男\",1,2))","v":""},{"$f":"IF(E76=\"\",\"\",IF(②選手情報入力!G85=\"\",\"\",②選手情報入力!G85))","v":""},null,"","",null,{"$f":"IF(E76=\"\",\"\",IF(②選手情報入力!I85=\"\",\"\",IF(I76=1,VLOOKUP(②選手情報入力!I85,種目情報!$A$4:$B$135,2,FALSE),VLOOKUP(②選手情報入力!I85,種目情報!$E$4:$F$135,2,FALSE))))","v":""},{"$f":"IF(E76=\"\",\"\",IF(②選手情報入力!J85=\"\",\"\",②選手情報入力!J85))","v":""},{"$f":"IF(E76=\"\",\"\",IF(②選手情報入力!H85=\"\",0,1))","v":""},{"$f":"IF(E76=\"\",\"\",IF(②選手情報入力!I85=\"\",\"\",IF(I76=1,VLOOKUP(②選手情報入力!I85,種目情報!$A$4:$C$39,3,FALSE),VLOOKUP(②選手情報入力!I85,種目情報!$E$4:$G$40,3,FALSE))))","v":""},{"$f":"IF(E76=\"\",\"\",IF(②選手情報入力!L85=\"\",\"\",IF(I76=1,VLOOKUP(②選手情報入力!L85,種目情報!$A$4:$B$39,2,FALSE),VLOOKUP(②選手情報入力!L85,種目情報!$E$4:$F$40,2,FALSE))))","v":""},{"$f":"IF(E76=\"\",\"\",IF(②選手情報入力!M85=\"\",\"\",②選手情報入力!M85))","v":""},{"$f":"IF(E76=\"\",\"\",IF(②選手情報入力!K85=\"\",0,1))","v":""},{"$f":"IF(E76=\"\",\"\",IF(②選手情報入力!L85=\"\",\"\",IF(I76=1,VLOOKUP(②選手情報入力!L85,種目情報!$A$4:$C$39,3,FALSE),VLOOKUP(②選手情報入力!L85,種目情報!$E$4:$G$40,3,FALSE))))","v":""},{"$f":"IF(E76=\"\",\"\",IF(②選手情報入力!O85=\"\",\"\",IF(I76=1,VLOOKUP(②選手情報入力!O85,種目情報!$A$4:$B$39,2,FALSE),VLOOKUP(②選手情報入力!O85,種目情報!$E$4:$F$40,2,FALSE))))","v":""},{"$f":"IF(E76=\"\",\"\",IF(②選手情報入力!P85=\"\",\"\",②選手情報入力!P85))","v":""},{"$f":"IF(E76=\"\",\"\",IF(②選手情報入力!N85=\"\",0,1))","v":""},{"$f":"IF(E76=\"\",\"\",IF(②選手情報入力!O85=\"\",\"\",IF(I76=1,VLOOKUP(②選手情報入力!O85,種目情報!$A$4:$C$39,3,FALSE),VLOOKUP(②選手情報入力!O85,種目情報!$E$4:$G$40,3,FALSE))))","v":""},{"$f":"IF(E76=\"\",\"\",IF(②選手情報入力!Q85=\"\",\"\",IF(I76=1,種目情報!$J$4,種目情報!$J$6)))","v":""},{"$f":"IF(E76=\"\",\"\",IF(②選手情報入力!Q85=\"\",\"\",IF(I76=1,IF(②選手情報入力!$R$6=\"\",\"\",②選手情報入力!$R$6),IF(②選手情報入力!$R$7=\"\",\"\",②選手情報入力!$R$7))))","v":""},{"$f":"IF(E76=\"\",\"\",IF(②選手情報入力!Q85=\"\",\"\",IF(I76=1,IF(②選手情報入力!$Q$6=\"\",0,1),IF(②選手情報入力!$Q$7=\"\",0,1))))","v":""},{"$f":"IF(E76=\"\",\"\",IF(②選手情報入力!Q85=\"\",\"\",2))","v":""},{"$f":"IF(E76=\"\",\"\",IF(②選手情報入力!S85=\"\",\"\",IF(I76=1,種目情報!$J$5,種目情報!$J$7)))","v":""},{"$f":"IF(E76=\"\",\"\",IF(②選手情報入力!S85=\"\",\"\",IF(I76=1,IF(②選手情報入力!$T$6=\"\",\"\",②選手情報入力!$T$6),IF(②選手情報入力!$T$7=\"\",\"\",②選手情報入力!$T$7))))","v":""},{"$f":"IF(E76=\"\",\"\",IF(②選手情報入力!S85=\"\",\"\",IF(I76=1,IF(②選手情報入力!$S$6=\"\",0,1),IF(②選手情報入力!$S$7=\"\",0,1))))","v":""},{"$f":"IF(E76=\"\",\"\",IF(②選手情報入力!S85=\"\",\"\",2))","v":""}]
[{"$f":"IF(E77=\"\",\"\",I77*1200000+①団体情報入力!$C$3*1000+②選手情報入力!A86)","v":""},{"$f":"IF(E77=\"\",\"\",①団体情報入力!$C$3)","v":""},null,{"$f":"IF(E77=\"\",\"\",LEFT(②選手情報入力!B86,1))","v":""},{"$f":"IF(②選手情報入力!B86=\"\",\"\",RIGHT(②選手情報入力!B86,LEN(②選手情報入力!B86)-1))","v":""},{"$f":"IF(E77=\"\",\"\",②選手情報入力!C86)","v":""},{"$f":"IF(E77=\"\",\"\",②選手情報入力!D86)","v":""},"",{"$f":"IF(E77=\"\",\"\",IF(②選手情報入力!F86=\"男\",1,2))","v":""},{"$f":"IF(E77=\"\",\"\",IF(②選手情報入力!G86=\"\",\"\",②選手情報入力!G86))","v":""},null,"","",null,{"$f":"IF(E77=\"\",\"\",IF(②選手情報入力!I86=\"\",\"\",IF(I77=1,VLOOKUP(②選手情報入力!I86,種目情報!$A$4:$B$135,2,FALSE),VLOOKUP(②選手情報入力!I86,種目情報!$E$4:$F$135,2,FALSE))))","v":""},{"$f":"IF(E77=\"\",\"\",IF(②選手情報入力!J86=\"\",\"\",②選手情報入力!J86))","v":""},{"$f":"IF(E77=\"\",\"\",IF(②選手情報入力!H86=\"\",0,1))","v":""},{"$f":"IF(E77=\"\",\"\",IF(②選手情報入力!I86=\"\",\"\",IF(I77=1,VLOOKUP(②選手情報入力!I86,種目情報!$A$4:$C$39,3,FALSE),VLOOKUP(②選手情報入力!I86,種目情報!$E$4:$G$40,3,FALSE))))","v":""},{"$f":"IF(E77=\"\",\"\",IF(②選手情報入力!L86=\"\",\"\",IF(I77=1,VLOOKUP(②選手情報入力!L86,種目情報!$A$4:$B$39,2,FALSE),VLOOKUP(②選手情報入力!L86,種目情報!$E$4:$F$40,2,FALSE))))","v":""},{"$f":"IF(E77=\"\",\"\",IF(②選手情報入力!M86=\"\",\"\",②選手情報入力!M86))","v":""},{"$f":"IF(E77=\"\",\"\",IF(②選手情報入力!K86=\"\",0,1))","v":""},{"$f":"IF(E77=\"\",\"\",IF(②選手情報入力!L86=\"\",\"\",IF(I77=1,VLOOKUP(②選手情報入力!L86,種目情報!$A$4:$C$39,3,FALSE),VLOOKUP(②選手情報入力!L86,種目情報!$E$4:$G$40,3,FALSE))))","v":""},{"$f":"IF(E77=\"\",\"\",IF(②選手情報入力!O86=\"\",\"\",IF(I77=1,VLOOKUP(②選手情報入力!O86,種目情報!$A$4:$B$39,2,FALSE),VLOOKUP(②選手情報入力!O86,種目情報!$E$4:$F$40,2,FALSE))))","v":""},{"$f":"IF(E77=\"\",\"\",IF(②選手情報入力!P86=\"\",\"\",②選手情報入力!P86))","v":""},{"$f":"IF(E77=\"\",\"\",IF(②選手情報入力!N86=\"\",0,1))","v":""},{"$f":"IF(E77=\"\",\"\",IF(②選手情報入力!O86=\"\",\"\",IF(I77=1,VLOOKUP(②選手情報入力!O86,種目情報!$A$4:$C$39,3,FALSE),VLOOKUP(②選手情報入力!O86,種目情報!$E$4:$G$40,3,FALSE))))","v":""},{"$f":"IF(E77=\"\",\"\",IF(②選手情報入力!Q86=\"\",\"\",IF(I77=1,種目情報!$J$4,種目情報!$J$6)))","v":""},{"$f":"IF(E77=\"\",\"\",IF(②選手情報入力!Q86=\"\",\"\",IF(I77=1,IF(②選手情報入力!$R$6=\"\",\"\",②選手情報入力!$R$6),IF(②選手情報入力!$R$7=\"\",\"\",②選手情報入力!$R$7))))","v":""},{"$f":"IF(E77=\"\",\"\",IF(②選手情報入力!Q86=\"\",\"\",IF(I77=1,IF(②選手情報入力!$Q$6=\"\",0,1),IF(②選手情報入力!$Q$7=\"\",0,1))))","v":""},{"$f":"IF(E77=\"\",\"\",IF(②選手情報入力!Q86=\"\",\"\",2))","v":""},{"$f":"IF(E77=\"\",\"\",IF(②選手情報入力!S86=\"\",\"\",IF(I77=1,種目情報!$J$5,種目情報!$J$7)))","v":""},{"$f":"IF(E77=\"\",\"\",IF(②選手情報入力!S86=\"\",\"\",IF(I77=1,IF(②選手情報入力!$T$6=\"\",\"\",②選手情報入力!$T$6),IF(②選手情報入力!$T$7=\"\",\"\",②選手情報入力!$T$7))))","v":""},{"$f":"IF(E77=\"\",\"\",IF(②選手情報入力!S86=\"\",\"\",IF(I77=1,IF(②選手情報入力!$S$6=\"\",0,1),IF(②選手情報入力!$S$7=\"\",0,1))))","v":""},{"$f":"IF(E77=\"\",\"\",IF(②選手情報入力!S86=\"\",\"\",2))","v":""}]
[{"$f":"IF(E78=\"\",\"\",I78*1200000+①団体情報入力!$C$3*1000+②選手情報入力!A87)","v":""},{"$f":"IF(E78=\"\",\"\",①団体情報入力!$C$3)","v":""},null,{"$f":"IF(E78=\"\",\"\",LEFT(②選手情報入力!B87,1))","v":""},{"$f":"IF(②選手情報入力!B87=\"\",\"\",RIGHT(②選手情報入力!B87,LEN(②選手情報入力!B87)-1))","v":""},{"$f":"IF(E78=\"\",\"\",②選手情報入力!C87)","v":""},{"$f":"IF(E78=\"\",\"\",②選手情報入力!D87)","v":""},"",{"$f":"IF(E78=\"\",\"\",IF(②選手情報入力!F87=\"男\",1,2))","v":""},{"$f":"IF(E78=\"\",\"\",IF(②選手情報入力!G87=\"\",\"\",②選手情報入力!G87))","v":""},null,"","",null,{"$f":"IF(E78=\"\",\"\",IF(②選手情報入力!I87=\"\",\"\",IF(I78=1,VLOOKUP(②選手情報入力!I87,種目情報!$A$4:$B$135,2,FALSE),VLOOKUP(②選手情報入力!I87,種目情報!$E$4:$F$135,2,FALSE))))","v":""},{"$f":"IF(E78=\"\",\"\",IF(②選手情報入力!J87=\"\",\"\",②選手情報入力!J87))","v":""},{"$f":"IF(E78=\"\",\"\",IF(②選手情報入力!H87=\"\",0,1))","v":""},{"$f":"IF(E78=\"\",\"\",IF(②選手情報入力!I87=\"\",\"\",IF(I78=1,VLOOKUP(②選手情報入力!I87,種目情報!$A$4:$C$39,3,FALSE),VLOOKUP(②選手情報入力!I87,種目情報!$E$4:$G$40,3,FALSE))))","v":""},{"$f":"IF(E78=\"\",\"\",IF(②選手情報入力!L87=\"\",\"\",IF(I78=1,VLOOKUP(②選手情報入力!L87,種目情報!$A$4:$B$39,2,FALSE),VLOOKUP(②選手情報入力!L87,種目情報!$E$4:$F$40,2,FALSE))))","v":""},{"$f":"IF(E78=\"\",\"\",IF(②選手情報入力!M87=\"\",\"\",②選手情報入力!M87))","v":""},{"$f":"IF(E78=\"\",\"\",IF(②選手情報入力!K87=\"\",0,1))","v":""},{"$f":"IF(E78=\"\",\"\",IF(②選手情報入力!L87=\"\",\"\",IF(I78=1,VLOOKUP(②選手情報入力!L87,種目情報!$A$4:$C$39,3,FALSE),VLOOKUP(②選手情報入力!L87,種目情報!$E$4:$G$40,3,FALSE))))","v":""},{"$f":"IF(E78=\"\",\"\",IF(②選手情報入力!O87=\"\",\"\",IF(I78=1,VLOOKUP(②選手情報入力!O87,種目情報!$A$4:$B$39,2,FALSE),VLOOKUP(②選手情報入力!O87,種目情報!$E$4:$F$40,2,FALSE))))","v":""},{"$f":"IF(E78=\"\",\"\",IF(②選手情報入力!P87=\"\",\"\",②選手情報入力!P87))","v":""},{"$f":"IF(E78=\"\",\"\",IF(②選手情報入力!N87=\"\",0,1))","v":""},{"$f":"IF(E78=\"\",\"\",IF(②選手情報入力!O87=\"\",\"\",IF(I78=1,VLOOKUP(②選手情報入力!O87,種目情報!$A$4:$C$39,3,FALSE),VLOOKUP(②選手情報入力!O87,種目情報!$E$4:$G$40,3,FALSE))))","v":""},{"$f":"IF(E78=\"\",\"\",IF(②選手情報入力!Q87=\"\",\"\",IF(I78=1,種目情報!$J$4,種目情報!$J$6)))","v":""},{"$f":"IF(E78=\"\",\"\",IF(②選手情報入力!Q87=\"\",\"\",IF(I78=1,IF(②選手情報入力!$R$6=\"\",\"\",②選手情報入力!$R$6),IF(②選手情報入力!$R$7=\"\",\"\",②選手情報入力!$R$7))))","v":""},{"$f":"IF(E78=\"\",\"\",IF(②選手情報入力!Q87=\"\",\"\",IF(I78=1,IF(②選手情報入力!$Q$6=\"\",0,1),IF(②選手情報入力!$Q$7=\"\",0,1))))","v":""},{"$f":"IF(E78=\"\",\"\",IF(②選手情報入力!Q87=\"\",\"\",2))","v":""},{"$f":"IF(E78=\"\",\"\",IF(②選手情報入力!S87=\"\",\"\",IF(I78=1,種目情報!$J$5,種目情報!$J$7)))","v":""},{"$f":"IF(E78=\"\",\"\",IF(②選手情報入力!S87=\"\",\"\",IF(I78=1,IF(②選手情報入力!$T$6=\"\",\"\",②選手情報入力!$T$6),IF(②選手情報入力!$T$7=\"\",\"\",②選手情報入力!$T$7))))","v":""},{"$f":"IF(E78=\"\",\"\",IF(②選手情報入力!S87=\"\",\"\",IF(I78=1,IF(②選手情報入力!$S$6=\"\",0,1),IF(②選手情報入力!$S$7=\"\",0,1))))","v":""},{"$f":"IF(E78=\"\",\"\",IF(②選手情報入力!S87=\"\",\"\",2))","v":""}]
[{"$f":"IF(E79=\"\",\"\",I79*1200000+①団体情報入力!$C$3*1000+②選手情報入力!A88)","v":""},{"$f":"IF(E79=\"\",\"\",①団体情報入力!$C$3)","v":""},null,{"$f":"IF(E79=\"\",\"\",LEFT(②選手情報入力!B88,1))","v":""},{"$f":"IF(②選手情報入力!B88=\"\",\"\",RIGHT(②選手情報入力!B88,LEN(②選手情報入力!B88)-1))","v":""},{"$f":"IF(E79=\"\",\"\",②選手情報入力!C88)","v":""},{"$f":"IF(E79=\"\",\"\",②選手情報入力!D88)","v":""},"",{"$f":"IF(E79=\"\",\"\",IF(②選手情報入力!F88=\"男\",1,2))","v":""},{"$f":"IF(E79=\"\",\"\",IF(②選手情報入力!G88=\"\",\"\",②選手情報入力!G88))","v":""},null,"","",null,{"$f":"IF(E79=\"\",\"\",IF(②選手情報入力!I88=\"\",\"\",IF(I79=1,VLOOKUP(②選手情報入力!I88,種目情報!$A$4:$B$135,2,FALSE),VLOOKUP(②選手情報入力!I88,種目情報!$E$4:$F$135,2,FALSE))))","v":""},{"$f":"IF(E79=\"\",\"\",IF(②選手情報入力!J88=\"\",\"\",②選手情報入力!J88))","v":""},{"$f":"IF(E79=\"\",\"\",IF(②選手情報入力!H88=\"\",0,1))","v":""},{"$f":"IF(E79=\"\",\"\",IF(②選手情報入力!I88=\"\",\"\",IF(I79=1,VLOOKUP(②選手情報入力!I88,種目情報!$A$4:$C$39,3,FALSE),VLOOKUP(②選手情報入力!I88,種目情報!$E$4:$G$40,3,FALSE))))","v":""},{"$f":"IF(E79=\"\",\"\",IF(②選手情報入力!L88=\"\",\"\",IF(I79=1,VLOOKUP(②選手情報入力!L88,種目情報!$A$4:$B$39,2,FALSE),VLOOKUP(②選手情報入力!L88,種目情報!$E$4:$F$40,2,FALSE))))","v":""},{"$f":"IF(E79=\"\",\"\",IF(②選手情報入力!M88=\"\",\"\",②選手情報入力!M88))","v":""},{"$f":"IF(E79=\"\",\"\",IF(②選手情報入力!K88=\"\",0,1))","v":""},{"$f":"IF(E79=\"\",\"\",IF(②選手情報入力!L88=\"\",\"\",IF(I79=1,VLOOKUP(②選手情報入力!L88,種目情報!$A$4:$C$39,3,FALSE),VLOOKUP(②選手情報入力!L88,種目情報!$E$4:$G$40,3,FALSE))))","v":""},{"$f":"IF(E79=\"\",\"\",IF(②選手情報入力!O88=\"\",\"\",IF(I79=1,VLOOKUP(②選手情報入力!O88,種目情報!$A$4:$B$39,2,FALSE),VLOOKUP(②選手情報入力!O88,種目情報!$E$4:$F$40,2,FALSE))))","v":""},{"$f":"IF(E79=\"\",\"\",IF(②選手情報入力!P88=\"\",\"\",②選手情報入力!P88))","v":""},{"$f":"IF(E79=\"\",\"\",IF(②選手情報入力!N88=\"\",0,1))","v":""},{"$f":"IF(E79=\"\",\"\",IF(②選手情報入力!O88=\"\",\"\",IF(I79=1,VLOOKUP(②選手情報入力!O88,種目情報!$A$4:$C$39,3,FALSE),VLOOKUP(②選手情報入力!O88,種目情報!$E$4:$G$40,3,FALSE))))","v":""},{"$f":"IF(E79=\"\",\"\",IF(②選手情報入力!Q88=\"\",\"\",IF(I79=1,種目情報!$J$4,種目情報!$J$6)))","v":""},{"$f":"IF(E79=\"\",\"\",IF(②選手情報入力!Q88=\"\",\"\",IF(I79=1,IF(②選手情報入力!$R$6=\"\",\"\",②選手情報入力!$R$6),IF(②選手情報入力!$R$7=\"\",\"\",②選手情報入力!$R$7))))","v":""},{"$f":"IF(E79=\"\",\"\",IF(②選手情報入力!Q88=\"\",\"\",IF(I79=1,IF(②選手情報入力!$Q$6=\"\",0,1),IF(②選手情報入力!$Q$7=\"\",0,1))))","v":""},{"$f":"IF(E79=\"\",\"\",IF(②選手情報入力!Q88=\"\",\"\",2))","v":""},{"$f":"IF(E79=\"\",\"\",IF(②選手情報入力!S88=\"\",\"\",IF(I79=1,種目情報!$J$5,種目情報!$J$7)))","v":""},{"$f":"IF(E79=\"\",\"\",IF(②選手情報入力!S88=\"\",\"\",IF(I79=1,IF(②選手情報入力!$T$6=\"\",\"\",②選手情報入力!$T$6),IF(②選手情報入力!$T$7=\"\",\"\",②選手情報入力!$T$7))))","v":""},{"$f":"IF(E79=\"\",\"\",IF(②選手情報入力!S88=\"\",\"\",IF(I79=1,IF(②選手情報入力!$S$6=\"\",0,1),IF(②選手情報入力!$S$7=\"\",0,1))))","v":""},{"$f":"IF(E79=\"\",\"\",IF(②選手情報入力!S88=\"\",\"\",2))","v":""}]
[{"$f":"IF(E80=\"\",\"\",I80*1200000+①団体情報入力!$C$3*1000+②選手情報入力!A89)","v":""},{"$f":"IF(E80=\"\",\"\",①団体情報入力!$C$3)","v":""},null,{"$f":"IF(E80=\"\",\"\",LEFT(②選手情報入力!B89,1))","v":""},{"$f":"IF(②選手情報入力!B89=\"\",\"\",RIGHT(②選手情報入力!B89,LEN(②選手情報入力!B89)-1))","v":""},{"$f":"IF(E80=\"\",\"\",②選手情報入力!C89)","v":""},{"$f":"IF(E80=\"\",\"\",②選手情報入力!D89)","v":""},"",{"$f":"IF(E80=\"\",\"\",IF(②選手情報入力!F89=\"男\",1,2))","v":""},{"$f":"IF(E80=\"\",\"\",IF(②選手情報入力!G89=\"\",\"\",②選手情報入力!G89))","v":""},null,"","",null,{"$f":"IF(E80=\"\",\"\",IF(②選手情報入力!I89=\"\",\"\",IF(I80=1,VLOOKUP(②選手情報入力!I89,種目情報!$A$4:$B$135,2,FALSE),VLOOKUP(②選手情報入力!I89,種目情報!$E$4:$F$135,2,FALSE))))","v":""},{"$f":"IF(E80=\"\",\"\",IF(②選手情報入力!J89=\"\",\"\",②選手情報入力!J89))","v":""},{"$f":"IF(E80=\"\",\"\",IF(②選手情報入力!H89=\"\",0,1))","v":""},{"$f":"IF(E80=\"\",\"\",IF(②選手情報入力!I89=\"\",\"\",IF(I80=1,VLOOKUP(②選手情報入力!I89,種目情報!$A$4:$C$39,3,FALSE),VLOOKUP(②選手情報入力!I89,種目情報!$E$4:$G$40,3,FALSE))))","v":""},{"$f":"IF(E80=\"\",\"\",IF(②選手情報入力!L89=\"\",\"\",IF(I80=1,VLOOKUP(②選手情報入力!L89,種目情報!$A$4:$B$39,2,FALSE),VLOOKUP(②選手情報入力!L89,種目情報!$E$4:$F$40,2,FALSE))))","v":""},{"$f":"IF(E80=\"\",\"\",IF(②選手情報入力!M89=\"\",\"\",②選手情報入力!M89))","v":""},{"$f":"IF(E80=\"\",\"\",IF(②選手情報入力!K89=\"\",0,1))","v":""},{"$f":"IF(E80=\"\",\"\",IF(②選手情報入力!L89=\"\",\"\",IF(I80=1,VLOOKUP(②選手情報入力!L89,種目情報!$A$4:$C$39,3,FALSE),VLOOKUP(②選手情報入力!L89,種目情報!$E$4:$G$40,3,FALSE))))","v":""},{"$f":"IF(E80=\"\",\"\",IF(②選手情報入力!O89=\"\",\"\",IF(I80=1,VLOOKUP(②選手情報入力!O89,種目情報!$A$4:$B$39,2,FALSE),VLOOKUP(②選手情報入力!O89,種目情報!$E$4:$F$40,2,FALSE))))","v":""},{"$f":"IF(E80=\"\",\"\",IF(②選手情報入力!P89=\"\",\"\",②選手情報入力!P89))","v":""},{"$f":"IF(E80=\"\",\"\",IF(②選手情報入力!N89=\"\",0,1))","v":""},{"$f":"IF(E80=\"\",\"\",IF(②選手情報入力!O89=\"\",\"\",IF(I80=1,VLOOKUP(②選手情報入力!O89,種目情報!$A$4:$C$39,3,FALSE),VLOOKUP(②選手情報入力!O89,種目情報!$E$4:$G$40,3,FALSE))))","v":""},{"$f":"IF(E80=\"\",\"\",IF(②選手情報入力!Q89=\"\",\"\",IF(I80=1,種目情報!$J$4,種目情報!$J$6)))","v":""},{"$f":"IF(E80=\"\",\"\",IF(②選手情報入力!Q89=\"\",\"\",IF(I80=1,IF(②選手情報入力!$R$6=\"\",\"\",②選手情報入力!$R$6),IF(②選手情報入力!$R$7=\"\",\"\",②選手情報入力!$R$7))))","v":""},{"$f":"IF(E80=\"\",\"\",IF(②選手情報入力!Q89=\"\",\"\",IF(I80=1,IF(②選手情報入力!$Q$6=\"\",0,1),IF(②選手情報入力!$Q$7=\"\",0,1))))","v":""},{"$f":"IF(E80=\"\",\"\",IF(②選手情報入力!Q89=\"\",\"\",2))","v":""},{"$f":"IF(E80=\"\",\"\",IF(②選手情報入力!S89=\"\",\"\",IF(I80=1,種目情報!$J$5,種目情報!$J$7)))","v":""},{"$f":"IF(E80=\"\",\"\",IF(②選手情報入力!S89=\"\",\"\",IF(I80=1,IF(②選手情報入力!$T$6=\"\",\"\",②選手情報入力!$T$6),IF(②選手情報入力!$T$7=\"\",\"\",②選手情報入力!$T$7))))","v":""},{"$f":"IF(E80=\"\",\"\",IF(②選手情報入力!S89=\"\",\"\",IF(I80=1,IF(②選手情報入力!$S$6=\"\",0,1),IF(②選手情報入力!$S$7=\"\",0,1))))","v":""},{"$f":"IF(E80=\"\",\"\",IF(②選手情報入力!S89=\"\",\"\",2))","v":""}]
[{"$f":"IF(E81=\"\",\"\",I81*1200000+①団体情報入力!$C$3*1000+②選手情報入力!A90)","v":""},{"$f":"IF(E81=\"\",\"\",①団体情報入力!$C$3)","v":""},null,{"$f":"IF(E81=\"\",\"\",LEFT(②選手情報入力!B90,1))","v":""},{"$f":"IF(②選手情報入力!B90=\"\",\"\",RIGHT(②選手情報入力!B90,LEN(②選手情報入力!B90)-1))","v":""},{"$f":"IF(E81=\"\",\"\",②選手情報入力!C90)","v":""},{"$f":"IF(E81=\"\",\"\",②選手情報入力!D90)","v":""},"",{"$f":"IF(E81=\"\",\"\",IF(②選手情報入力!F90=\"男\",1,2))","v":""},{"$f":"IF(E81=\"\",\"\",IF(②選手情報入力!G90=\"\",\"\",②選手情報入力!G90))","v":""},null,"","",null,{"$f":"IF(E81=\"\",\"\",IF(②選手情報入力!I90=\"\",\"\",IF(I81=1,VLOOKUP(②選手情報入力!I90,種目情報!$A$4:$B$135,2,FALSE),VLOOKUP(②選手情報入力!I90,種目情報!$E$4:$F$135,2,FALSE))))","v":""},{"$f":"IF(E81=\"\",\"\",IF(②選手情報入力!J90=\"\",\"\",②選手情報入力!J90))","v":""},{"$f":"IF(E81=\"\",\"\",IF(②選手情報入力!H90=\"\",0,1))","v":""},{"$f":"IF(E81=\"\",\"\",IF(②選手情報入力!I90=\"\",\"\",IF(I81=1,VLOOKUP(②選手情報入力!I90,種目情報!$A$4:$C$39,3,FALSE),VLOOKUP(②選手情報入力!I90,種目情報!$E$4:$G$40,3,FALSE))))","v":""},{"$f":"IF(E81=\"\",\"\",IF(②選手情報入力!L90=\"\",\"\",IF(I81=1,VLOOKUP(②選手情報入力!L90,種目情報!$A$4:$B$39,2,FALSE),VLOOKUP(②選手情報入力!L90,種目情報!$E$4:$F$40,2,FALSE))))","v":""},{"$f":"IF(E81=\"\",\"\",IF(②選手情報入力!M90=\"\",\"\",②選手情報入力!M90))","v":""},{"$f":"IF(E81=\"\",\"\",IF(②選手情報入力!K90=\"\",0,1))","v":""},{"$f":"IF(E81=\"\",\"\",IF(②選手情報入力!L90=\"\",\"\",IF(I81=1,VLOOKUP(②選手情報入力!L90,種目情報!$A$4:$C$39,3,FALSE),VLOOKUP(②選手情報入力!L90,種目情報!$E$4:$G$40,3,FALSE))))","v":""},{"$f":"IF(E81=\"\",\"\",IF(②選手情報入力!O90=\"\",\"\",IF(I81=1,VLOOKUP(②選手情報入力!O90,種目情報!$A$4:$B$39,2,FALSE),VLOOKUP(②選手情報入力!O90,種目情報!$E$4:$F$40,2,FALSE))))","v":""},{"$f":"IF(E81=\"\",\"\",IF(②選手情報入力!P90=\"\",\"\",②選手情報入力!P90))","v":""},{"$f":"IF(E81=\"\",\"\",IF(②選手情報入力!N90=\"\",0,1))","v":""},{"$f":"IF(E81=\"\",\"\",IF(②選手情報入力!O90=\"\",\"\",IF(I81=1,VLOOKUP(②選手情報入力!O90,種目情報!$A$4:$C$39,3,FALSE),VLOOKUP(②選手情報入力!O90,種目情報!$E$4:$G$40,3,FALSE))))","v":""},{"$f":"IF(E81=\"\",\"\",IF(②選手情報入力!Q90=\"\",\"\",IF(I81=1,種目情報!$J$4,種目情報!$J$6)))","v":""},{"$f":"IF(E81=\"\",\"\",IF(②選手情報入力!Q90=\"\",\"\",IF(I81=1,IF(②選手情報入力!$R$6=\"\",\"\",②選手情報入力!$R$6),IF(②選手情報入力!$R$7=\"\",\"\",②選手情報入力!$R$7))))","v":""},{"$f":"IF(E81=\"\",\"\",IF(②選手情報入力!Q90=\"\",\"\",IF(I81=1,IF(②選手情報入力!$Q$6=\"\",0,1),IF(②選手情報入力!$Q$7=\"\",0,1))))","v":""},{"$f":"IF(E81=\"\",\"\",IF(②選手情報入力!Q90=\"\",\"\",2))","v":""},{"$f":"IF(E81=\"\",\"\",IF(②選手情報入力!S90=\"\",\"\",IF(I81=1,種目情報!$J$5,種目情報!$J$7)))","v":""},{"$f":"IF(E81=\"\",\"\",IF(②選手情報入力!S90=\"\",\"\",IF(I81=1,IF(②選手情報入力!$T$6=\"\",\"\",②選手情報入力!$T$6),IF(②選手情報入力!$T$7=\"\",\"\",②選手情報入力!$T$7))))","v":""},{"$f":"IF(E81=\"\",\"\",IF(②選手情報入力!S90=\"\",\"\",IF(I81=1,IF(②選手情報入力!$S$6=\"\",0,1),IF(②選手情報入力!$S$7=\"\",0,1))))","v":""},{"$f":"IF(E81=\"\",\"\",IF(②選手情報入力!S90=\"\",\"\",2))","v":""}]
[{"$f":"IF(E82=\"\",\"\",I82*1200000+①団体情報入力!$C$3*1000+②選手情報入力!A91)","v":""},{"$f":"IF(E82=\"\",\"\",①団体情報入力!$C$3)","v":""},null,{"$f":"IF(E82=\"\",\"\",LEFT(②選手情報入力!B91,1))","v":""},{"$f":"IF(②選手情報入力!B91=\"\",\"\",RIGHT(②選手情報入力!B91,LEN(②選手情報入力!B91)-1))","v":""},{"$f":"IF(E82=\"\",\"\",②選手情報入力!C91)","v":""},{"$f":"IF(E82=\"\",\"\",②選手情報入力!D91)","v":""},"",{"$f":"IF(E82=\"\",\"\",IF(②選手情報入力!F91=\"男\",1,2))","v":""},{"$f":"IF(E82=\"\",\"\",IF(②選手情報入力!G91=\"\",\"\",②選手情報入力!G91))","v":""},null,"","",null,{"$f":"IF(E82=\"\",\"\",IF(②選手情報入力!I91=\"\",\"\",IF(I82=1,VLOOKUP(②選手情報入力!I91,種目情報!$A$4:$B$135,2,FALSE),VLOOKUP(②選手情報入力!I91,種目情報!$E$4:$F$135,2,FALSE))))","v":""},{"$f":"IF(E82=\"\",\"\",IF(②選手情報入力!J91=\"\",\"\",②選手情報入力!J91))","v":""},{"$f":"IF(E82=\"\",\"\",IF(②選手情報入力!H91=\"\",0,1))","v":""},{"$f":"IF(E82=\"\",\"\",IF(②選手情報入力!I91=\"\",\"\",IF(I82=1,VLOOKUP(②選手情報入力!I91,種目情報!$A$4:$C$39,3,FALSE),VLOOKUP(②選手情報入力!I91,種目情報!$E$4:$G$40,3,FALSE))))","v":""},{"$f":"IF(E82=\"\",\"\",IF(②選手情報入力!L91=\"\",\"\",IF(I82=1,VLOOKUP(②選手情報入力!L91,種目情報!$A$4:$B$39,2,FALSE),VLOOKUP(②選手情報入力!L91,種目情報!$E$4:$F$40,2,FALSE))))","v":""},{"$f":"IF(E82=\"\",\"\",IF(②選手情報入力!M91=\"\",\"\",②選手情報入力!M91))","v":""},{"$f":"IF(E82=\"\",\"\",IF(②選手情報入力!K91=\"\",0,1))","v":""},{"$f":"IF(E82=\"\",\"\",IF(②選手情報入力!L91=\"\",\"\",IF(I82=1,VLOOKUP(②選手情報入力!L91,種目情報!$A$4:$C$39,3,FALSE),VLOOKUP(②選手情報入力!L91,種目情報!$E$4:$G$40,3,FALSE))))","v":""},{"$f":"IF(E82=\"\",\"\",IF(②選手情報入力!O91=\"\",\"\",IF(I82=1,VLOOKUP(②選手情報入力!O91,種目情報!$A$4:$B$39,2,FALSE),VLOOKUP(②選手情報入力!O91,種目情報!$E$4:$F$40,2,FALSE))))","v":""},{"$f":"IF(E82=\"\",\"\",IF(②選手情報入力!P91=\"\",\"\",②選手情報入力!P91))","v":""},{"$f":"IF(E82=\"\",\"\",IF(②選手情報入力!N91=\"\",0,1))","v":""},{"$f":"IF(E82=\"\",\"\",IF(②選手情報入力!O91=\"\",\"\",IF(I82=1,VLOOKUP(②選手情報入力!O91,種目情報!$A$4:$C$39,3,FALSE),VLOOKUP(②選手情報入力!O91,種目情報!$E$4:$G$40,3,FALSE))))","v":""},{"$f":"IF(E82=\"\",\"\",IF(②選手情報入力!Q91=\"\",\"\",IF(I82=1,種目情報!$J$4,種目情報!$J$6)))","v":""},{"$f":"IF(E82=\"\",\"\",IF(②選手情報入力!Q91=\"\",\"\",IF(I82=1,IF(②選手情報入力!$R$6=\"\",\"\",②選手情報入力!$R$6),IF(②選手情報入力!$R$7=\"\",\"\",②選手情報入力!$R$7))))","v":""},{"$f":"IF(E82=\"\",\"\",IF(②選手情報入力!Q91=\"\",\"\",IF(I82=1,IF(②選手情報入力!$Q$6=\"\",0,1),IF(②選手情報入力!$Q$7=\"\",0,1))))","v":""},{"$f":"IF(E82=\"\",\"\",IF(②選手情報入力!Q91=\"\",\"\",2))","v":""},{"$f":"IF(E82=\"\",\"\",IF(②選手情報入力!S91=\"\",\"\",IF(I82=1,種目情報!$J$5,種目情報!$J$7)))","v":""},{"$f":"IF(E82=\"\",\"\",IF(②選手情報入力!S91=\"\",\"\",IF(I82=1,IF(②選手情報入力!$T$6=\"\",\"\",②選手情報入力!$T$6),IF(②選手情報入力!$T$7=\"\",\"\",②選手情報入力!$T$7))))","v":""},{"$f":"IF(E82=\"\",\"\",IF(②選手情報入力!S91=\"\",\"\",IF(I82=1,IF(②選手情報入力!$S$6=\"\",0,1),IF(②選手情報入力!$S$7=\"\",0,1))))","v":""},{"$f":"IF(E82=\"\",\"\",IF(②選手情報入力!S91=\"\",\"\",2))","v":""}]
[{"$f":"IF(E83=\"\",\"\",I83*1200000+①団体情報入力!$C$3*1000+②選手情報入力!A92)","v":""},{"$f":"IF(E83=\"\",\"\",①団体情報入力!$C$3)","v":""},null,{"$f":"IF(E83=\"\",\"\",LEFT(②選手情報入力!B92,1))","v":""},{"$f":"IF(②選手情報入力!B92=\"\",\"\",RIGHT(②選手情報入力!B92,LEN(②選手情報入力!B92)-1))","v":""},{"$f":"IF(E83=\"\",\"\",②選手情報入力!C92)","v":""},{"$f":"IF(E83=\"\",\"\",②選手情報入力!D92)","v":""},"",{"$f":"IF(E83=\"\",\"\",IF(②選手情報入力!F92=\"男\",1,2))","v":""},{"$f":"IF(E83=\"\",\"\",IF(②選手情報入力!G92=\"\",\"\",②選手情報入力!G92))","v":""},null,"","",null,{"$f":"IF(E83=\"\",\"\",IF(②選手情報入力!I92=\"\",\"\",IF(I83=1,VLOOKUP(②選手情報入力!I92,種目情報!$A$4:$B$135,2,FALSE),VLOOKUP(②選手情報入力!I92,種目情報!$E$4:$F$135,2,FALSE))))","v":""},{"$f":"IF(E83=\"\",\"\",IF(②選手情報入力!J92=\"\",\"\",②選手情報入力!J92))","v":""},{"$f":"IF(E83=\"\",\"\",IF(②選手情報入力!H92=\"\",0,1))","v":""},{"$f":"IF(E83=\"\",\"\",IF(②選手情報入力!I92=\"\",\"\",IF(I83=1,VLOOKUP(②選手情報入力!I92,種目情報!$A$4:$C$39,3,FALSE),VLOOKUP(②選手情報入力!I92,種目情報!$E$4:$G$40,3,FALSE))))","v":""},{"$f":"IF(E83=\"\",\"\",IF(②選手情報入力!L92=\"\",\"\",IF(I83=1,VLOOKUP(②選手情報入力!L92,種目情報!$A$4:$B$39,2,FALSE),VLOOKUP(②選手情報入力!L92,種目情報!$E$4:$F$40,2,FALSE))))","v":""},{"$f":"IF(E83=\"\",\"\",IF(②選手情報入力!M92=\"\",\"\",②選手情報入力!M92))","v":""},{"$f":"IF(E83=\"\",\"\",IF(②選手情報入力!K92=\"\",0,1))","v":""},{"$f":"IF(E83=\"\",\"\",IF(②選手情報入力!L92=\"\",\"\",IF(I83=1,VLOOKUP(②選手情報入力!L92,種目情報!$A$4:$C$39,3,FALSE),VLOOKUP(②選手情報入力!L92,種目情報!$E$4:$G$40,3,FALSE))))","v":""},{"$f":"IF(E83=\"\",\"\",IF(②選手情報入力!O92=\"\",\"\",IF(I83=1,VLOOKUP(②選手情報入力!O92,種目情報!$A$4:$B$39,2,FALSE),VLOOKUP(②選手情報入力!O92,種目情報!$E$4:$F$40,2,FALSE))))","v":""},{"$f":"IF(E83=\"\",\"\",IF(②選手情報入力!P92=\"\",\"\",②選手情報入力!P92))","v":""},{"$f":"IF(E83=\"\",\"\",IF(②選手情報入力!N92=\"\",0,1))","v":""},{"$f":"IF(E83=\"\",\"\",IF(②選手情報入力!O92=\"\",\"\",IF(I83=1,VLOOKUP(②選手情報入力!O92,種目情報!$A$4:$C$39,3,FALSE),VLOOKUP(②選手情報入力!O92,種目情報!$E$4:$G$40,3,FALSE))))","v":""},{"$f":"IF(E83=\"\",\"\",IF(②選手情報入力!Q92=\"\",\"\",IF(I83=1,種目情報!$J$4,種目情報!$J$6)))","v":""},{"$f":"IF(E83=\"\",\"\",IF(②選手情報入力!Q92=\"\",\"\",IF(I83=1,IF(②選手情報入力!$R$6=\"\",\"\",②選手情報入力!$R$6),IF(②選手情報入力!$R$7=\"\",\"\",②選手情報入力!$R$7))))","v":""},{"$f":"IF(E83=\"\",\"\",IF(②選手情報入力!Q92=\"\",\"\",IF(I83=1,IF(②選手情報入力!$Q$6=\"\",0,1),IF(②選手情報入力!$Q$7=\"\",0,1))))","v":""},{"$f":"IF(E83=\"\",\"\",IF(②選手情報入力!Q92=\"\",\"\",2))","v":""},{"$f":"IF(E83=\"\",\"\",IF(②選手情報入力!S92=\"\",\"\",IF(I83=1,種目情報!$J$5,種目情報!$J$7)))","v":""},{"$f":"IF(E83=\"\",\"\",IF(②選手情報入力!S92=\"\",\"\",IF(I83=1,IF(②選手情報入力!$T$6=\"\",\"\",②選手情報入力!$T$6),IF(②選手情報入力!$T$7=\"\",\"\",②選手情報入力!$T$7))))","v":""},{"$f":"IF(E83=\"\",\"\",IF(②選手情報入力!S92=\"\",\"\",IF(I83=1,IF(②選手情報入力!$S$6=\"\",0,1),IF(②選手情報入力!$S$7=\"\",0,1))))","v":""},{"$f":"IF(E83=\"\",\"\",IF(②選手情報入力!S92=\"\",\"\",2))","v":""}]
[{"$f":"IF(E84=\"\",\"\",I84*1200000+①団体情報入力!$C$3*1000+②選手情報入力!A93)","v":""},{"$f":"IF(E84=\"\",\"\",①団体情報入力!$C$3)","v":""},null,{"$f":"IF(E84=\"\",\"\",LEFT(②選手情報入力!B93,1))","v":""},{"$f":"IF(②選手情報入力!B93=\"\",\"\",RIGHT(②選手情報入力!B93,LEN(②選手情報入力!B93)-1))","v":""},{"$f":"IF(E84=\"\",\"\",②選手情報入力!C93)","v":""},{"$f":"IF(E84=\"\",\"\",②選手情報入力!D93)","v":""},"",{"$f":"IF(E84=\"\",\"\",IF(②選手情報入力!F93=\"男\",1,2))","v":""},{"$f":"IF(E84=\"\",\"\",IF(②選手情報入力!G93=\"\",\"\",②選手情報入力!G93))","v":""},null,"","",null,{"$f":"IF(E84=\"\",\"\",IF(②選手情報入力!I93=\"\",\"\",IF(I84=1,VLOOKUP(②選手情報入力!I93,種目情報!$A$4:$B$135,2,FALSE),VLOOKUP(②選手情報入力!I93,種目情報!$E$4:$F$135,2,FALSE))))","v":""},{"$f":"IF(E84=\"\",\"\",IF(②選手情報入力!J93=\"\",\"\",②選手情報入力!J93))","v":""},{"$f":"IF(E84=\"\",\"\",IF(②選手情報入力!H93=\"\",0,1))","v":""},{"$f":"IF(E84=\"\",\"\",IF(②選手情報入力!I93=\"\",\"\",IF(I84=1,VLOOKUP(②選手情報入力!I93,種目情報!$A$4:$C$39,3,FALSE),VLOOKUP(②選手情報入力!I93,種目情報!$E$4:$G$40,3,FALSE))))","v":""},{"$f":"IF(E84=\"\",\"\",IF(②選手情報入力!L93=\"\",\"\",IF(I84=1,VLOOKUP(②選手情報入力!L93,種目情報!$A$4:$B$39,2,FALSE),VLOOKUP(②選手情報入力!L93,種目情報!$E$4:$F$40,2,FALSE))))","v":""},{"$f":"IF(E84=\"\",\"\",IF(②選手情報入力!M93=\"\",\"\",②選手情報入力!M93))","v":""},{"$f":"IF(E84=\"\",\"\",IF(②選手情報入力!K93=\"\",0,1))","v":""},{"$f":"IF(E84=\"\",\"\",IF(②選手情報入力!L93=\"\",\"\",IF(I84=1,VLOOKUP(②選手情報入力!L93,種目情報!$A$4:$C$39,3,FALSE),VLOOKUP(②選手情報入力!L93,種目情報!$E$4:$G$40,3,FALSE))))","v":""},{"$f":"IF(E84=\"\",\"\",IF(②選手情報入力!O93=\"\",\"\",IF(I84=1,VLOOKUP(②選手情報入力!O93,種目情報!$A$4:$B$39,2,FALSE),VLOOKUP(②選手情報入力!O93,種目情報!$E$4:$F$40,2,FALSE))))","v":""},{"$f":"IF(E84=\"\",\"\",IF(②選手情報入力!P93=\"\",\"\",②選手情報入力!P93))","v":""},{"$f":"IF(E84=\"\",\"\",IF(②選手情報入力!N93=\"\",0,1))","v":""},{"$f":"IF(E84=\"\",\"\",IF(②選手情報入力!O93=\"\",\"\",IF(I84=1,VLOOKUP(②選手情報入力!O93,種目情報!$A$4:$C$39,3,FALSE),VLOOKUP(②選手情報入力!O93,種目情報!$E$4:$G$40,3,FALSE))))","v":""},{"$f":"IF(E84=\"\",\"\",IF(②選手情報入力!Q93=\"\",\"\",IF(I84=1,種目情報!$J$4,種目情報!$J$6)))","v":""},{"$f":"IF(E84=\"\",\"\",IF(②選手情報入力!Q93=\"\",\"\",IF(I84=1,IF(②選手情報入力!$R$6=\"\",\"\",②選手情報入力!$R$6),IF(②選手情報入力!$R$7=\"\",\"\",②選手情報入力!$R$7))))","v":""},{"$f":"IF(E84=\"\",\"\",IF(②選手情報入力!Q93=\"\",\"\",IF(I84=1,IF(②選手情報入力!$Q$6=\"\",0,1),IF(②選手情報入力!$Q$7=\"\",0,1))))","v":""},{"$f":"IF(E84=\"\",\"\",IF(②選手情報入力!Q93=\"\",\"\",2))","v":""},{"$f":"IF(E84=\"\",\"\",IF(②選手情報入力!S93=\"\",\"\",IF(I84=1,種目情報!$J$5,種目情報!$J$7)))","v":""},{"$f":"IF(E84=\"\",\"\",IF(②選手情報入力!S93=\"\",\"\",IF(I84=1,IF(②選手情報入力!$T$6=\"\",\"\",②選手情報入力!$T$6),IF(②選手情報入力!$T$7=\"\",\"\",②選手情報入力!$T$7))))","v":""},{"$f":"IF(E84=\"\",\"\",IF(②選手情報入力!S93=\"\",\"\",IF(I84=1,IF(②選手情報入力!$S$6=\"\",0,1),IF(②選手情報入力!$S$7=\"\",0,1))))","v":""},{"$f":"IF(E84=\"\",\"\",IF(②選手情報入力!S93=\"\",\"\",2))","v":""}]
[{"$f":"IF(E85=\"\",\"\",I85*1200000+①団体情報入力!$C$3*1000+②選手情報入力!A94)","v":""},{"$f":"IF(E85=\"\",\"\",①団体情報入力!$C$3)","v":""},null,{"$f":"IF(E85=\"\",\"\",LEFT(②選手情報入力!B94,1))","v":""},{"$f":"IF(②選手情報入力!B94=\"\",\"\",RIGHT(②選手情報入力!B94,LEN(②選手情報入力!B94)-1))","v":""},{"$f":"IF(E85=\"\",\"\",②選手情報入力!C94)","v":""},{"$f":"IF(E85=\"\",\"\",②選手情報入力!D94)","v":""},"",{"$f":"IF(E85=\"\",\"\",IF(②選手情報入力!F94=\"男\",1,2))","v":""},{"$f":"IF(E85=\"\",\"\",IF(②選手情報入力!G94=\"\",\"\",②選手情報入力!G94))","v":""},null,"","",null,{"$f":"IF(E85=\"\",\"\",IF(②選手情報入力!I94=\"\",\"\",IF(I85=1,VLOOKUP(②選手情報入力!I94,種目情報!$A$4:$B$135,2,FALSE),VLOOKUP(②選手情報入力!I94,種目情報!$E$4:$F$135,2,FALSE))))","v":""},{"$f":"IF(E85=\"\",\"\",IF(②選手情報入力!J94=\"\",\"\",②選手情報入力!J94))","v":""},{"$f":"IF(E85=\"\",\"\",IF(②選手情報入力!H94=\"\",0,1))","v":""},{"$f":"IF(E85=\"\",\"\",IF(②選手情報入力!I94=\"\",\"\",IF(I85=1,VLOOKUP(②選手情報入力!I94,種目情報!$A$4:$C$39,3,FALSE),VLOOKUP(②選手情報入力!I94,種目情報!$E$4:$G$40,3,FALSE))))","v":""},{"$f":"IF(E85=\"\",\"\",IF(②選手情報入力!L94=\"\",\"\",IF(I85=1,VLOOKUP(②選手情報入力!L94,種目情報!$A$4:$B$39,2,FALSE),VLOOKUP(②選手情報入力!L94,種目情報!$E$4:$F$40,2,FALSE))))","v":""},{"$f":"IF(E85=\"\",\"\",IF(②選手情報入力!M94=\"\",\"\",②選手情報入力!M94))","v":""},{"$f":"IF(E85=\"\",\"\",IF(②選手情報入力!K94=\"\",0,1))","v":""},{"$f":"IF(E85=\"\",\"\",IF(②選手情報入力!L94=\"\",\"\",IF(I85=1,VLOOKUP(②選手情報入力!L94,種目情報!$A$4:$C$39,3,FALSE),VLOOKUP(②選手情報入力!L94,種目情報!$E$4:$G$40,3,FALSE))))","v":""},{"$f":"IF(E85=\"\",\"\",IF(②選手情報入力!O94=\"\",\"\",IF(I85=1,VLOOKUP(②選手情報入力!O94,種目情報!$A$4:$B$39,2,FALSE),VLOOKUP(②選手情報入力!O94,種目情報!$E$4:$F$40,2,FALSE))))","v":""},{"$f":"IF(E85=\"\",\"\",IF(②選手情報入力!P94=\"\",\"\",②選手情報入力!P94))","v":""},{"$f":"IF(E85=\"\",\"\",IF(②選手情報入力!N94=\"\",0,1))","v":""},{"$f":"IF(E85=\"\",\"\",IF(②選手情報入力!O94=\"\",\"\",IF(I85=1,VLOOKUP(②選手情報入力!O94,種目情報!$A$4:$C$39,3,FALSE),VLOOKUP(②選手情報入力!O94,種目情報!$E$4:$G$40,3,FALSE))))","v":""},{"$f":"IF(E85=\"\",\"\",IF(②選手情報入力!Q94=\"\",\"\",IF(I85=1,種目情報!$J$4,種目情報!$J$6)))","v":""},{"$f":"IF(E85=\"\",\"\",IF(②選手情報入力!Q94=\"\",\"\",IF(I85=1,IF(②選手情報入力!$R$6=\"\",\"\",②選手情報入力!$R$6),IF(②選手情報入力!$R$7=\"\",\"\",②選手情報入力!$R$7))))","v":""},{"$f":"IF(E85=\"\",\"\",IF(②選手情報入力!Q94=\"\",\"\",IF(I85=1,IF(②選手情報入力!$Q$6=\"\",0,1),IF(②選手情報入力!$Q$7=\"\",0,1))))","v":""},{"$f":"IF(E85=\"\",\"\",IF(②選手情報入力!Q94=\"\",\"\",2))","v":""},{"$f":"IF(E85=\"\",\"\",IF(②選手情報入力!S94=\"\",\"\",IF(I85=1,種目情報!$J$5,種目情報!$J$7)))","v":""},{"$f":"IF(E85=\"\",\"\",IF(②選手情報入力!S94=\"\",\"\",IF(I85=1,IF(②選手情報入力!$T$6=\"\",\"\",②選手情報入力!$T$6),IF(②選手情報入力!$T$7=\"\",\"\",②選手情報入力!$T$7))))","v":""},{"$f":"IF(E85=\"\",\"\",IF(②選手情報入力!S94=\"\",\"\",IF(I85=1,IF(②選手情報入力!$S$6=\"\",0,1),IF(②選手情報入力!$S$7=\"\",0,1))))","v":""},{"$f":"IF(E85=\"\",\"\",IF(②選手情報入力!S94=\"\",\"\",2))","v":""}]
[{"$f":"IF(E86=\"\",\"\",I86*1200000+①団体情報入力!$C$3*1000+②選手情報入力!A95)","v":""},{"$f":"IF(E86=\"\",\"\",①団体情報入力!$C$3)","v":""},null,{"$f":"IF(E86=\"\",\"\",LEFT(②選手情報入力!B95,1))","v":""},{"$f":"IF(②選手情報入力!B95=\"\",\"\",RIGHT(②選手情報入力!B95,LEN(②選手情報入力!B95)-1))","v":""},{"$f":"IF(E86=\"\",\"\",②選手情報入力!C95)","v":""},{"$f":"IF(E86=\"\",\"\",②選手情報入力!D95)","v":""},"",{"$f":"IF(E86=\"\",\"\",IF(②選手情報入力!F95=\"男\",1,2))","v":""},{"$f":"IF(E86=\"\",\"\",IF(②選手情報入力!G95=\"\",\"\",②選手情報入力!G95))","v":""},null,"","",null,{"$f":"IF(E86=\"\",\"\",IF(②選手情報入力!I95=\"\",\"\",IF(I86=1,VLOOKUP(②選手情報入力!I95,種目情報!$A$4:$B$135,2,FALSE),VLOOKUP(②選手情報入力!I95,種目情報!$E$4:$F$135,2,FALSE))))","v":""},{"$f":"IF(E86=\"\",\"\",IF(②選手情報入力!J95=\"\",\"\",②選手情報入力!J95))","v":""},{"$f":"IF(E86=\"\",\"\",IF(②選手情報入力!H95=\"\",0,1))","v":""},{"$f":"IF(E86=\"\",\"\",IF(②選手情報入力!I95=\"\",\"\",IF(I86=1,VLOOKUP(②選手情報入力!I95,種目情報!$A$4:$C$39,3,FALSE),VLOOKUP(②選手情報入力!I95,種目情報!$E$4:$G$40,3,FALSE))))","v":""},{"$f":"IF(E86=\"\",\"\",IF(②選手情報入力!L95=\"\",\"\",IF(I86=1,VLOOKUP(②選手情報入力!L95,種目情報!$A$4:$B$39,2,FALSE),VLOOKUP(②選手情報入力!L95,種目情報!$E$4:$F$40,2,FALSE))))","v":""},{"$f":"IF(E86=\"\",\"\",IF(②選手情報入力!M95=\"\",\"\",②選手情報入力!M95))","v":""},{"$f":"IF(E86=\"\",\"\",IF(②選手情報入力!K95=\"\",0,1))","v":""},{"$f":"IF(E86=\"\",\"\",IF(②選手情報入力!L95=\"\",\"\",IF(I86=1,VLOOKUP(②選手情報入力!L95,種目情報!$A$4:$C$39,3,FALSE),VLOOKUP(②選手情報入力!L95,種目情報!$E$4:$G$40,3,FALSE))))","v":""},{"$f":"IF(E86=\"\",\"\",IF(②選手情報入力!O95=\"\",\"\",IF(I86=1,VLOOKUP(②選手情報入力!O95,種目情報!$A$4:$B$39,2,FALSE),VLOOKUP(②選手情報入力!O95,種目情報!$E$4:$F$40,2,FALSE))))","v":""},{"$f":"IF(E86=\"\",\"\",IF(②選手情報入力!P95=\"\",\"\",②選手情報入力!P95))","v":""},{"$f":"IF(E86=\"\",\"\",IF(②選手情報入力!N95=\"\",0,1))","v":""},{"$f":"IF(E86=\"\",\"\",IF(②選手情報入力!O95=\"\",\"\",IF(I86=1,VLOOKUP(②選手情報入力!O95,種目情報!$A$4:$C$39,3,FALSE),VLOOKUP(②選手情報入力!O95,種目情報!$E$4:$G$40,3,FALSE))))","v":""},{"$f":"IF(E86=\"\",\"\",IF(②選手情報入力!Q95=\"\",\"\",IF(I86=1,種目情報!$J$4,種目情報!$J$6)))","v":""},{"$f":"IF(E86=\"\",\"\",IF(②選手情報入力!Q95=\"\",\"\",IF(I86=1,IF(②選手情報入力!$R$6=\"\",\"\",②選手情報入力!$R$6),IF(②選手情報入力!$R$7=\"\",\"\",②選手情報入力!$R$7))))","v":""},{"$f":"IF(E86=\"\",\"\",IF(②選手情報入力!Q95=\"\",\"\",IF(I86=1,IF(②選手情報入力!$Q$6=\"\",0,1),IF(②選手情報入力!$Q$7=\"\",0,1))))","v":""},{"$f":"IF(E86=\"\",\"\",IF(②選手情報入力!Q95=\"\",\"\",2))","v":""},{"$f":"IF(E86=\"\",\"\",IF(②選手情報入力!S95=\"\",\"\",IF(I86=1,種目情報!$J$5,種目情報!$J$7)))","v":""},{"$f":"IF(E86=\"\",\"\",IF(②選手情報入力!S95=\"\",\"\",IF(I86=1,IF(②選手情報入力!$T$6=\"\",\"\",②選手情報入力!$T$6),IF(②選手情報入力!$T$7=\"\",\"\",②選手情報入力!$T$7))))","v":""},{"$f":"IF(E86=\"\",\"\",IF(②選手情報入力!S95=\"\",\"\",IF(I86=1,IF(②選手情報入力!$S$6=\"\",0,1),IF(②選手情報入力!$S$7=\"\",0,1))))","v":""},{"$f":"IF(E86=\"\",\"\",IF(②選手情報入力!S95=\"\",\"\",2))","v":""}]
[{"$f":"IF(E87=\"\",\"\",I87*1200000+①団体情報入力!$C$3*1000+②選手情報入力!A96)","v":""},{"$f":"IF(E87=\"\",\"\",①団体情報入力!$C$3)","v":""},null,{"$f":"IF(E87=\"\",\"\",LEFT(②選手情報入力!B96,1))","v":""},{"$f":"IF(②選手情報入力!B96=\"\",\"\",RIGHT(②選手情報入力!B96,LEN(②選手情報入力!B96)-1))","v":""},{"$f":"IF(E87=\"\",\"\",②選手情報入力!C96)","v":""},{"$f":"IF(E87=\"\",\"\",②選手情報入力!D96)","v":""},"",{"$f":"IF(E87=\"\",\"\",IF(②選手情報入力!F96=\"男\",1,2))","v":""},{"$f":"IF(E87=\"\",\"\",IF(②選手情報入力!G96=\"\",\"\",②選手情報入力!G96))","v":""},null,"","",null,{"$f":"IF(E87=\"\",\"\",IF(②選手情報入力!I96=\"\",\"\",IF(I87=1,VLOOKUP(②選手情報入力!I96,種目情報!$A$4:$B$135,2,FALSE),VLOOKUP(②選手情報入力!I96,種目情報!$E$4:$F$135,2,FALSE))))","v":""},{"$f":"IF(E87=\"\",\"\",IF(②選手情報入力!J96=\"\",\"\",②選手情報入力!J96))","v":""},{"$f":"IF(E87=\"\",\"\",IF(②選手情報入力!H96=\"\",0,1))","v":""},{"$f":"IF(E87=\"\",\"\",IF(②選手情報入力!I96=\"\",\"\",IF(I87=1,VLOOKUP(②選手情報入力!I96,種目情報!$A$4:$C$39,3,FALSE),VLOOKUP(②選手情報入力!I96,種目情報!$E$4:$G$40,3,FALSE))))","v":""},{"$f":"IF(E87=\"\",\"\",IF(②選手情報入力!L96=\"\",\"\",IF(I87=1,VLOOKUP(②選手情報入力!L96,種目情報!$A$4:$B$39,2,FALSE),VLOOKUP(②選手情報入力!L96,種目情報!$E$4:$F$40,2,FALSE))))","v":""},{"$f":"IF(E87=\"\",\"\",IF(②選手情報入力!M96=\"\",\"\",②選手情報入力!M96))","v":""},{"$f":"IF(E87=\"\",\"\",IF(②選手情報入力!K96=\"\",0,1))","v":""},{"$f":"IF(E87=\"\",\"\",IF(②選手情報入力!L96=\"\",\"\",IF(I87=1,VLOOKUP(②選手情報入力!L96,種目情報!$A$4:$C$39,3,FALSE),VLOOKUP(②選手情報入力!L96,種目情報!$E$4:$G$40,3,FALSE))))","v":""},{"$f":"IF(E87=\"\",\"\",IF(②選手情報入力!O96=\"\",\"\",IF(I87=1,VLOOKUP(②選手情報入力!O96,種目情報!$A$4:$B$39,2,FALSE),VLOOKUP(②選手情報入力!O96,種目情報!$E$4:$F$40,2,FALSE))))","v":""},{"$f":"IF(E87=\"\",\"\",IF(②選手情報入力!P96=\"\",\"\",②選手情報入力!P96))","v":""},{"$f":"IF(E87=\"\",\"\",IF(②選手情報入力!N96=\"\",0,1))","v":""},{"$f":"IF(E87=\"\",\"\",IF(②選手情報入力!O96=\"\",\"\",IF(I87=1,VLOOKUP(②選手情報入力!O96,種目情報!$A$4:$C$39,3,FALSE),VLOOKUP(②選手情報入力!O96,種目情報!$E$4:$G$40,3,FALSE))))","v":""},{"$f":"IF(E87=\"\",\"\",IF(②選手情報入力!Q96=\"\",\"\",IF(I87=1,種目情報!$J$4,種目情報!$J$6)))","v":""},{"$f":"IF(E87=\"\",\"\",IF(②選手情報入力!Q96=\"\",\"\",IF(I87=1,IF(②選手情報入力!$R$6=\"\",\"\",②選手情報入力!$R$6),IF(②選手情報入力!$R$7=\"\",\"\",②選手情報入力!$R$7))))","v":""},{"$f":"IF(E87=\"\",\"\",IF(②選手情報入力!Q96=\"\",\"\",IF(I87=1,IF(②選手情報入力!$Q$6=\"\",0,1),IF(②選手情報入力!$Q$7=\"\",0,1))))","v":""},{"$f":"IF(E87=\"\",\"\",IF(②選手情報入力!Q96=\"\",\"\",2))","v":""},{"$f":"IF(E87=\"\",\"\",IF(②選手情報入力!S96=\"\",\"\",IF(I87=1,種目情報!$J$5,種目情報!$J$7)))","v":""},{"$f":"IF(E87=\"\",\"\",IF(②選手情報入力!S96=\"\",\"\",IF(I87=1,IF(②選手情報入力!$T$6=\"\",\"\",②選手情報入力!$T$6),IF(②選手情報入力!$T$7=\"\",\"\",②選手情報入力!$T$7))))","v":""},{"$f":"IF(E87=\"\",\"\",IF(②選手情報入力!S96=\"\",\"\",IF(I87=1,IF(②選手情報入力!$S$6=\"\",0,1),IF(②選手情報入力!$S$7=\"\",0,1))))","v":""},{"$f":"IF(E87=\"\",\"\",IF(②選手情報入力!S96=\"\",\"\",2))","v":""}]
[{"$f":"IF(E88=\"\",\"\",I88*1200000+①団体情報入力!$C$3*1000+②選手情報入力!A97)","v":""},{"$f":"IF(E88=\"\",\"\",①団体情報入力!$C$3)","v":""},null,{"$f":"IF(E88=\"\",\"\",LEFT(②選手情報入力!B97,1))","v":""},{"$f":"IF(②選手情報入力!B97=\"\",\"\",RIGHT(②選手情報入力!B97,LEN(②選手情報入力!B97)-1))","v":""},{"$f":"IF(E88=\"\",\"\",②選手情報入力!C97)","v":""},{"$f":"IF(E88=\"\",\"\",②選手情報入力!D97)","v":""},"",{"$f":"IF(E88=\"\",\"\",IF(②選手情報入力!F97=\"男\",1,2))","v":""},{"$f":"IF(E88=\"\",\"\",IF(②選手情報入力!G97=\"\",\"\",②選手情報入力!G97))","v":""},null,"","",null,{"$f":"IF(E88=\"\",\"\",IF(②選手情報入力!I97=\"\",\"\",IF(I88=1,VLOOKUP(②選手情報入力!I97,種目情報!$A$4:$B$135,2,FALSE),VLOOKUP(②選手情報入力!I97,種目情報!$E$4:$F$135,2,FALSE))))","v":""},{"$f":"IF(E88=\"\",\"\",IF(②選手情報入力!J97=\"\",\"\",②選手情報入力!J97))","v":""},{"$f":"IF(E88=\"\",\"\",IF(②選手情報入力!H97=\"\",0,1))","v":""},{"$f":"IF(E88=\"\",\"\",IF(②選手情報入力!I97=\"\",\"\",IF(I88=1,VLOOKUP(②選手情報入力!I97,種目情報!$A$4:$C$39,3,FALSE),VLOOKUP(②選手情報入力!I97,種目情報!$E$4:$G$40,3,FALSE))))","v":""},{"$f":"IF(E88=\"\",\"\",IF(②選手情報入力!L97=\"\",\"\",IF(I88=1,VLOOKUP(②選手情報入力!L97,種目情報!$A$4:$B$39,2,FALSE),VLOOKUP(②選手情報入力!L97,種目情報!$E$4:$F$40,2,FALSE))))","v":""},{"$f":"IF(E88=\"\",\"\",IF(②選手情報入力!M97=\"\",\"\",②選手情報入力!M97))","v":""},{"$f":"IF(E88=\"\",\"\",IF(②選手情報入力!K97=\"\",0,1))","v":""},{"$f":"IF(E88=\"\",\"\",IF(②選手情報入力!L97=\"\",\"\",IF(I88=1,VLOOKUP(②選手情報入力!L97,種目情報!$A$4:$C$39,3,FALSE),VLOOKUP(②選手情報入力!L97,種目情報!$E$4:$G$40,3,FALSE))))","v":""},{"$f":"IF(E88=\"\",\"\",IF(②選手情報入力!O97=\"\",\"\",IF(I88=1,VLOOKUP(②選手情報入力!O97,種目情報!$A$4:$B$39,2,FALSE),VLOOKUP(②選手情報入力!O97,種目情報!$E$4:$F$40,2,FALSE))))","v":""},{"$f":"IF(E88=\"\",\"\",IF(②選手情報入力!P97=\"\",\"\",②選手情報入力!P97))","v":""},{"$f":"IF(E88=\"\",\"\",IF(②選手情報入力!N97=\"\",0,1))","v":""},{"$f":"IF(E88=\"\",\"\",IF(②選手情報入力!O97=\"\",\"\",IF(I88=1,VLOOKUP(②選手情報入力!O97,種目情報!$A$4:$C$39,3,FALSE),VLOOKUP(②選手情報入力!O97,種目情報!$E$4:$G$40,3,FALSE))))","v":""},{"$f":"IF(E88=\"\",\"\",IF(②選手情報入力!Q97=\"\",\"\",IF(I88=1,種目情報!$J$4,種目情報!$J$6)))","v":""},{"$f":"IF(E88=\"\",\"\",IF(②選手情報入力!Q97=\"\",\"\",IF(I88=1,IF(②選手情報入力!$R$6=\"\",\"\",②選手情報入力!$R$6),IF(②選手情報入力!$R$7=\"\",\"\",②選手情報入力!$R$7))))","v":""},{"$f":"IF(E88=\"\",\"\",IF(②選手情報入力!Q97=\"\",\"\",IF(I88=1,IF(②選手情報入力!$Q$6=\"\",0,1),IF(②選手情報入力!$Q$7=\"\",0,1))))","v":""},{"$f":"IF(E88=\"\",\"\",IF(②選手情報入力!Q97=\"\",\"\",2))","v":""},{"$f":"IF(E88=\"\",\"\",IF(②選手情報入力!S97=\"\",\"\",IF(I88=1,種目情報!$J$5,種目情報!$J$7)))","v":""},{"$f":"IF(E88=\"\",\"\",IF(②選手情報入力!S97=\"\",\"\",IF(I88=1,IF(②選手情報入力!$T$6=\"\",\"\",②選手情報入力!$T$6),IF(②選手情報入力!$T$7=\"\",\"\",②選手情報入力!$T$7))))","v":""},{"$f":"IF(E88=\"\",\"\",IF(②選手情報入力!S97=\"\",\"\",IF(I88=1,IF(②選手情報入力!$S$6=\"\",0,1),IF(②選手情報入力!$S$7=\"\",0,1))))","v":""},{"$f":"IF(E88=\"\",\"\",IF(②選手情報入力!S97=\"\",\"\",2))","v":""}]
[{"$f":"IF(E89=\"\",\"\",I89*1200000+①団体情報入力!$C$3*1000+②選手情報入力!A98)","v":""},{"$f":"IF(E89=\"\",\"\",①団体情報入力!$C$3)","v":""},null,{"$f":"IF(E89=\"\",\"\",LEFT(②選手情報入力!B98,1))","v":""},{"$f":"IF(②選手情報入力!B98=\"\",\"\",RIGHT(②選手情報入力!B98,LEN(②選手情報入力!B98)-1))","v":""},{"$f":"IF(E89=\"\",\"\",②選手情報入力!C98)","v":""},{"$f":"IF(E89=\"\",\"\",②選手情報入力!D98)","v":""},"",{"$f":"IF(E89=\"\",\"\",IF(②選手情報入力!F98=\"男\",1,2))","v":""},{"$f":"IF(E89=\"\",\"\",IF(②選手情報入力!G98=\"\",\"\",②選手情報入力!G98))","v":""},null,"","",null,{"$f":"IF(E89=\"\",\"\",IF(②選手情報入力!I98=\"\",\"\",IF(I89=1,VLOOKUP(②選手情報入力!I98,種目情報!$A$4:$B$135,2,FALSE),VLOOKUP(②選手情報入力!I98,種目情報!$E$4:$F$135,2,FALSE))))","v":""},{"$f":"IF(E89=\"\",\"\",IF(②選手情報入力!J98=\"\",\"\",②選手情報入力!J98))","v":""},{"$f":"IF(E89=\"\",\"\",IF(②選手情報入力!H98=\"\",0,1))","v":""},{"$f":"IF(E89=\"\",\"\",IF(②選手情報入力!I98=\"\",\"\",IF(I89=1,VLOOKUP(②選手情報入力!I98,種目情報!$A$4:$C$39,3,FALSE),VLOOKUP(②選手情報入力!I98,種目情報!$E$4:$G$40,3,FALSE))))","v":""},{"$f":"IF(E89=\"\",\"\",IF(②選手情報入力!L98=\"\",\"\",IF(I89=1,VLOOKUP(②選手情報入力!L98,種目情報!$A$4:$B$39,2,FALSE),VLOOKUP(②選手情報入力!L98,種目情報!$E$4:$F$40,2,FALSE))))","v":""},{"$f":"IF(E89=\"\",\"\",IF(②選手情報入力!M98=\"\",\"\",②選手情報入力!M98))","v":""},{"$f":"IF(E89=\"\",\"\",IF(②選手情報入力!K98=\"\",0,1))","v":""},{"$f":"IF(E89=\"\",\"\",IF(②選手情報入力!L98=\"\",\"\",IF(I89=1,VLOOKUP(②選手情報入力!L98,種目情報!$A$4:$C$39,3,FALSE),VLOOKUP(②選手情報入力!L98,種目情報!$E$4:$G$40,3,FALSE))))","v":""},{"$f":"IF(E89=\"\",\"\",IF(②選手情報入力!O98=\"\",\"\",IF(I89=1,VLOOKUP(②選手情報入力!O98,種目情報!$A$4:$B$39,2,FALSE),VLOOKUP(②選手情報入力!O98,種目情報!$E$4:$F$40,2,FALSE))))","v":""},{"$f":"IF(E89=\"\",\"\",IF(②選手情報入力!P98=\"\",\"\",②選手情報入力!P98))","v":""},{"$f":"IF(E89=\"\",\"\",IF(②選手情報入力!N98=\"\",0,1))","v":""},{"$f":"IF(E89=\"\",\"\",IF(②選手情報入力!O98=\"\",\"\",IF(I89=1,VLOOKUP(②選手情報入力!O98,種目情報!$A$4:$C$39,3,FALSE),VLOOKUP(②選手情報入力!O98,種目情報!$E$4:$G$40,3,FALSE))))","v":""},{"$f":"IF(E89=\"\",\"\",IF(②選手情報入力!Q98=\"\",\"\",IF(I89=1,種目情報!$J$4,種目情報!$J$6)))","v":""},{"$f":"IF(E89=\"\",\"\",IF(②選手情報入力!Q98=\"\",\"\",IF(I89=1,IF(②選手情報入力!$R$6=\"\",\"\",②選手情報入力!$R$6),IF(②選手情報入力!$R$7=\"\",\"\",②選手情報入力!$R$7))))","v":""},{"$f":"IF(E89=\"\",\"\",IF(②選手情報入力!Q98=\"\",\"\",IF(I89=1,IF(②選手情報入力!$Q$6=\"\",0,1),IF(②選手情報入力!$Q$7=\"\",0,1))))","v":""},{"$f":"IF(E89=\"\",\"\",IF(②選手情報入力!Q98=\"\",\"\",2))","v":""},{"$f":"IF(E89=\"\",\"\",IF(②選手情報入力!S98=\"\",\"\",IF(I89=1,種目情報!$J$5,種目情報!$J$7)))","v":""},{"$f":"IF(E89=\"\",\"\",IF(②選手情報入力!S98=\"\",\"\",IF(I89=1,IF(②選手情報入力!$T$6=\"\",\"\",②選手情報入力!$T$6),IF(②選手情報入力!$T$7=\"\",\"\",②選手情報入力!$T$7))))","v":""},{"$f":"IF(E89=\"\",\"\",IF(②選手情報入力!S98=\"\",\"\",IF(I89=1,IF(②選手情報入力!$S$6=\"\",0,1),IF(②選手情報入力!$S$7=\"\",0,1))))","v":""},{"$f":"IF(E89=\"\",\"\",IF(②選手情報入力!S98=\"\",\"\",2))","v":""}]
[{"$f":"IF(E90=\"\",\"\",I90*1200000+①団体情報入力!$C$3*1000+②選手情報入力!A99)","v":""},{"$f":"IF(E90=\"\",\"\",①団体情報入力!$C$3)","v":""},null,{"$f":"IF(E90=\"\",\"\",LEFT(②選手情報入力!B99,1))","v":""},{"$f":"IF(②選手情報入力!B99=\"\",\"\",RIGHT(②選手情報入力!B99,LEN(②選手情報入力!B99)-1))","v":""},{"$f":"IF(E90=\"\",\"\",②選手情報入力!C99)","v":""},{"$f":"IF(E90=\"\",\"\",②選手情報入力!D99)","v":""},"",{"$f":"IF(E90=\"\",\"\",IF(②選手情報入力!F99=\"男\",1,2))","v":""},{"$f":"IF(E90=\"\",\"\",IF(②選手情報入力!G99=\"\",\"\",②選手情報入力!G99))","v":""},null,"","",null,{"$f":"IF(E90=\"\",\"\",IF(②選手情報入力!I99=\"\",\"\",IF(I90=1,VLOOKUP(②選手情報入力!I99,種目情報!$A$4:$B$135,2,FALSE),VLOOKUP(②選手情報入力!I99,種目情報!$E$4:$F$135,2,FALSE))))","v":""},{"$f":"IF(E90=\"\",\"\",IF(②選手情報入力!J99=\"\",\"\",②選手情報入力!J99))","v":""},{"$f":"IF(E90=\"\",\"\",IF(②選手情報入力!H99=\"\",0,1))","v":""},{"$f":"IF(E90=\"\",\"\",IF(②選手情報入力!I99=\"\",\"\",IF(I90=1,VLOOKUP(②選手情報入力!I99,種目情報!$A$4:$C$39,3,FALSE),VLOOKUP(②選手情報入力!I99,種目情報!$E$4:$G$40,3,FALSE))))","v":""},{"$f":"IF(E90=\"\",\"\",IF(②選手情報入力!L99=\"\",\"\",IF(I90=1,VLOOKUP(②選手情報入力!L99,種目情報!$A$4:$B$39,2,FALSE),VLOOKUP(②選手情報入力!L99,種目情報!$E$4:$F$40,2,FALSE))))","v":""},{"$f":"IF(E90=\"\",\"\",IF(②選手情報入力!M99=\"\",\"\",②選手情報入力!M99))","v":""},{"$f":"IF(E90=\"\",\"\",IF(②選手情報入力!K99=\"\",0,1))","v":""},{"$f":"IF(E90=\"\",\"\",IF(②選手情報入力!L99=\"\",\"\",IF(I90=1,VLOOKUP(②選手情報入力!L99,種目情報!$A$4:$C$39,3,FALSE),VLOOKUP(②選手情報入力!L99,種目情報!$E$4:$G$40,3,FALSE))))","v":""},{"$f":"IF(E90=\"\",\"\",IF(②選手情報入力!O99=\"\",\"\",IF(I90=1,VLOOKUP(②選手情報入力!O99,種目情報!$A$4:$B$39,2,FALSE),VLOOKUP(②選手情報入力!O99,種目情報!$E$4:$F$40,2,FALSE))))","v":""},{"$f":"IF(E90=\"\",\"\",IF(②選手情報入力!P99=\"\",\"\",②選手情報入力!P99))","v":""},{"$f":"IF(E90=\"\",\"\",IF(②選手情報入力!N99=\"\",0,1))","v":""},{"$f":"IF(E90=\"\",\"\",IF(②選手情報入力!O99=\"\",\"\",IF(I90=1,VLOOKUP(②選手情報入力!O99,種目情報!$A$4:$C$39,3,FALSE),VLOOKUP(②選手情報入力!O99,種目情報!$E$4:$G$40,3,FALSE))))","v":""},{"$f":"IF(E90=\"\",\"\",IF(②選手情報入力!Q99=\"\",\"\",IF(I90=1,種目情報!$J$4,種目情報!$J$6)))","v":""},{"$f":"IF(E90=\"\",\"\",IF(②選手情報入力!Q99=\"\",\"\",IF(I90=1,IF(②選手情報入力!$R$6=\"\",\"\",②選手情報入力!$R$6),IF(②選手情報入力!$R$7=\"\",\"\",②選手情報入力!$R$7))))","v":""},{"$f":"IF(E90=\"\",\"\",IF(②選手情報入力!Q99=\"\",\"\",IF(I90=1,IF(②選手情報入力!$Q$6=\"\",0,1),IF(②選手情報入力!$Q$7=\"\",0,1))))","v":""},{"$f":"IF(E90=\"\",\"\",IF(②選手情報入力!Q99=\"\",\"\",2))","v":""},{"$f":"IF(E90=\"\",\"\",IF(②選手情報入力!S99=\"\",\"\",IF(I90=1,種目情報!$J$5,種目情報!$J$7)))","v":""},{"$f":"IF(E90=\"\",\"\",IF(②選手情報入力!S99=\"\",\"\",IF(I90=1,IF(②選手情報入力!$T$6=\"\",\"\",②選手情報入力!$T$6),IF(②選手情報入力!$T$7=\"\",\"\",②選手情報入力!$T$7))))","v":""},{"$f":"IF(E90=\"\",\"\",IF(②選手情報入力!S99=\"\",\"\",IF(I90=1,IF(②選手情報入力!$S$6=\"\",0,1),IF(②選手情報入力!$S$7=\"\",0,1))))","v":""},{"$f":"IF(E90=\"\",\"\",IF(②選手情報入力!S99=\"\",\"\",2))","v":""}]
[{"$f":"IF(E91=\"\",\"\",I91*1200000+①団体情報入力!$C$3*1000+②選手情報入力!A100)","v":""},{"$f":"IF(E91=\"\",\"\",①団体情報入力!$C$3)","v":""},null,{"$f":"IF(E91=\"\",\"\",LEFT(②選手情報入力!B100,1))","v":""},{"$f":"IF(②選手情報入力!B100=\"\",\"\",RIGHT(②選手情報入力!B100,LEN(②選手情報入力!B100)-1))","v":""},{"$f":"IF(E91=\"\",\"\",②選手情報入力!C100)","v":""},{"$f":"IF(E91=\"\",\"\",②選手情報入力!D100)","v":""},"",{"$f":"IF(E91=\"\",\"\",IF(②選手情報入力!F100=\"男\",1,2))","v":""},{"$f":"IF(E91=\"\",\"\",IF(②選手情報入力!G100=\"\",\"\",②選手情報入力!G100))","v":""},null,"","",null,{"$f":"IF(E91=\"\",\"\",IF(②選手情報入力!I100=\"\",\"\",IF(I91=1,VLOOKUP(②選手情報入力!I100,種目情報!$A$4:$B$135,2,FALSE),VLOOKUP(②選手情報入力!I100,種目情報!$E$4:$F$135,2,FALSE))))","v":""},{"$f":"IF(E91=\"\",\"\",IF(②選手情報入力!J100=\"\",\"\",②選手情報入力!J100))","v":""},{"$f":"IF(E91=\"\",\"\",IF(②選手情報入力!H100=\"\",0,1))","v":""},{"$f":"IF(E91=\"\",\"\",IF(②選手情報入力!I100=\"\",\"\",IF(I91=1,VLOOKUP(②選手情報入力!I100,種目情報!$A$4:$C$39,3,FALSE),VLOOKUP(②選手情報入力!I100,種目情報!$E$4:$G$40,3,FALSE))))","v":""},{"$f":"IF(E91=\"\",\"\",IF(②選手情報入力!L100=\"\",\"\",IF(I91=1,VLOOKUP(②選手情報入力!L100,種目情報!$A$4:$B$39,2,FALSE),VLOOKUP(②選手情報入力!L100,種目情報!$E$4:$F$40,2,FALSE))))","v":""},{"$f":"IF(E91=\"\",\"\",IF(②選手情報入力!M100=\"\",\"\",②選手情報入力!M100))","v":""},{"$f":"IF(E91=\"\",\"\",IF(②選手情報入力!K100=\"\",0,1))","v":""},{"$f":"IF(E91=\"\",\"\",IF(②選手情報入力!L100=\"\",\"\",IF(I91=1,VLOOKUP(②選手情報入力!L100,種目情報!$A$4:$C$39,3,FALSE),VLOOKUP(②選手情報入力!L100,種目情報!$E$4:$G$40,3,FALSE))))","v":""},{"$f":"IF(E91=\"\",\"\",IF(②選手情報入力!O100=\"\",\"\",IF(I91=1,VLOOKUP(②選手情報入力!O100,種目情報!$A$4:$B$39,2,FALSE),VLOOKUP(②選手情報入力!O100,種目情報!$E$4:$F$40,2,FALSE))))","v":""},{"$f":"IF(E91=\"\",\"\",IF(②選手情報入力!P100=\"\",\"\",②選手情報入力!P100))","v":""},{"$f":"IF(E91=\"\",\"\",IF(②選手情報入力!N100=\"\",0,1))","v":""},{"$f":"IF(E91=\"\",\"\",IF(②選手情報入力!O100=\"\",\"\",IF(I91=1,VLOOKUP(②選手情報入力!O100,種目情報!$A$4:$C$39,3,FALSE),VLOOKUP(②選手情報入力!O100,種目情報!$E$4:$G$40,3,FALSE))))","v":""},{"$f":"IF(E91=\"\",\"\",IF(②選手情報入力!Q100=\"\",\"\",IF(I91=1,種目情報!$J$4,種目情報!$J$6)))","v":""},{"$f":"IF(E91=\"\",\"\",IF(②選手情報入力!Q100=\"\",\"\",IF(I91=1,IF(②選手情報入力!$R$6=\"\",\"\",②選手情報入力!$R$6),IF(②選手情報入力!$R$7=\"\",\"\",②選手情報入力!$R$7))))","v":""},{"$f":"IF(E91=\"\",\"\",IF(②選手情報入力!Q100=\"\",\"\",IF(I91=1,IF(②選手情報入力!$Q$6=\"\",0,1),IF(②選手情報入力!$Q$7=\"\",0,1))))","v":""},{"$f":"IF(E91=\"\",\"\",IF(②選手情報入力!Q100=\"\",\"\",2))","v":""},{"$f":"IF(E91=\"\",\"\",IF(②選手情報入力!S100=\"\",\"\",IF(I91=1,種目情報!$J$5,種目情報!$J$7)))","v":""},{"$f":"IF(E91=\"\",\"\",IF(②選手情報入力!S100=\"\",\"\",IF(I91=1,IF(②選手情報入力!$T$6=\"\",\"\",②選手情報入力!$T$6),IF(②選手情報入力!$T$7=\"\",\"\",②選手情報入力!$T$7))))","v":""},{"$f":"IF(E91=\"\",\"\",IF(②選手情報入力!S100=\"\",\"\",IF(I91=1,IF(②選手情報入力!$S$6=\"\",0,1),IF(②選手情報入力!$S$7=\"\",0,1))))","v":""},{"$f":"IF(E91=\"\",\"\",IF(②選手情報入力!S100=\"\",\"\",2))","v":""}]

{"sheet":"data_team","index":10,"n_rows":13,"n_cols":13,"rows_kept":13,"cut":false,"hidden":false,"merged":[]}
["チームNO","所属コード","チーム名","チーム名カナ","チーム名略称","チーム正式名称","ID","競技者NO","競技者名","参加競技-競技コード","参加競技-自己記録","参加競技-オープン参加FLG","参加競技-記録FLG"]
[{"$f":"IF(③リレー情報確認!C8=\"\",\"\",710000+①団体情報入力!$C$3*10)","v":""},{"$f":"IF(A2=\"\",\"\",①団体情報入力!$C$3)","v":""},{"$f":"IF(A2=\"\",\"\",③リレー情報確認!$J$1)","v":""},{"$f":"IF(A2=\"\",\"\",③リレー情報確認!$P$1)","v":""},null,null,1,{"$f":"IF(A2=\"\",\"\",③リレー情報確認!E8)","v":""},{"$f":"IF(A2=\"\",\"\",③リレー情報確認!D8)","v":""},{"$f":"IF(A2=\"\",\"\",種目情報!$J$4)","v":""},{"$f":"IF(A2=\"\",\"\",③リレー情報確認!$F$8)","v":""},{"$f":"IF(A2=\"\",\"\",IF(②選手情報入力!$Q$6=\"\",0,1))","v":""},{"$f":"IF(A2=\"\",\"\",種目情報!$K$4)","v":""}]
[{"$f":"IF(③リレー情報確認!C9=\"\",\"\",710000+①団体情報入力!$C$3*10)","v":""},{"$f":"IF(A3=\"\",\"\",①団体情報入力!$C$3)","v":""},{"$f":"IF(A3=\"\",\"\",③リレー情報確認!$J$1)","v":""},{"$f":"IF(A3=\"\",\"\",③リレー情報確認!$P$1)","v":""},null,null,2,{"$f":"IF(A3=\"\",\"\",③リレー情報確認!E9)","v":""},{"$f":"IF(A3=\"\",\"\",③リレー情報確認!D9)","v":""},{"$f":"IF(A3=\"\",\"\",種目情報!$J$4)","v":""},{"$f":"IF(A3=\"\",\"\",③リレー情報確認!$F$8)","v":""},{"$f":"IF(A3=\"\",\"\",IF(②選手情報入力!$Q$6=\"\",0,1))","v":""},{"$f":"IF(A3=\"\",\"\",種目情報!$K$4)","v":""}]
[{"$f":"IF(③リレー情報確認!C10=\"\",\"\",710000+①団体情報入力!$C$3*10)","v":""},{"$f":"IF(A4=\"\",\"\",①団体情報入力!$C$3)","v":""},{"$f":"IF(A4=\"\",\"\",③リレー情報確認!$J$1)","v":""},{"$f":"IF(A4=\"\",\"\",③リレー情報確認!$P$1)","v":""},null,null,3,{"$f":"IF(A4=\"\",\"\",③リレー情報確認!E10)","v":""},{"$f":"IF(A4=\"\",\"\",③リレー情報確認!D10)","v":""},{"$f":"IF(A4=\"\",\"\",種目情報!$J$4)","v":""},{"$f":"IF(A4=\"\",\"\",③リレー情報確認!$F$8)","v":""},{"$f":"IF(A4=\"\",\"\",IF(②選手情報入力!$Q$6=\"\",0,1))","v":""},{"$f":"IF(A4=\"\",\"\",種目情報!$K$4)","v":""}]
[{"$f":"IF(③リレー情報確認!C11=\"\",\"\",710000+①団体情報入力!$C$3*10)","v":""},{"$f":"IF(A5=\"\",\"\",①団体情報入力!$C$3)","v":""},{"$f":"IF(A5=\"\",\"\",③リレー情報確認!$J$1)","v":""},{"$f":"IF(A5=\"\",\"\",③リレー情報確認!$P$1)","v":""},null,null,4,{"$f":"IF(A5=\"\",\"\",③リレー情報確認!E11)","v":""},{"$f":"IF(A5=\"\",\"\",③リレー情報確認!D11)","v":""},{"$f":"IF(A5=\"\",\"\",種目情報!$J$4)","v":""},{"$f":"IF(A5=\"\",\"\",③リレー情報確認!$F$8)","v":""},{"$f":"IF(A5=\"\",\"\",IF(②選手情報入力!$Q$6=\"\",0,1))","v":""},{"$f":"IF(A5=\"\",\"\",種目情報!$K$4)","v":""}]
[{"$f":"IF(③リレー情報確認!C12=\"\",\"\",710000+①団体情報入力!$C$3*10)","v":""},{"$f":"IF(A6=\"\",\"\",①団体情報入力!$C$3)","v":""},{"$f":"IF(A6=\"\",\"\",③リレー情報確認!$J$1)","v":""},{"$f":"IF(A6=\"\",\"\",③リレー情報確認!$P$1)","v":""},null,null,5,{"$f":"IF(A6=\"\",\"\",③リレー情報確認!E12)","v":""},{"$f":"IF(A6=\"\",\"\",③リレー情報確認!D12)","v":""},{"$f":"IF(A6=\"\",\"\",種目情報!$J$4)","v":""},{"$f":"IF(A6=\"\",\"\",③リレー情報確認!$F$8)","v":""},{"$f":"IF(A6=\"\",\"\",IF(②選手情報入力!$Q$6=\"\",0,1))","v":""},{"$f":"IF(A6=\"\",\"\",種目情報!$K$4)","v":""}]
[{"$f":"IF(③リレー情報確認!C13=\"\",\"\",710000+①団体情報入力!$C$3*10)","v":""},{"$f":"IF(A7=\"\",\"\",①団体情報入力!$C$3)","v":""},{"$f":"IF(A7=\"\",\"\",③リレー情報確認!$J$1)","v":""},{"$f":"IF(A7=\"\",\"\",③リレー情報確認!$P$1)","v":""},null,null,6,{"$f":"IF(A7=\"\",\"\",③リレー情報確認!E13)","v":""},{"$f":"IF(A7=\"\",\"\",③リレー情報確認!D13)","v":""},{"$f":"IF(A7=\"\",\"\",種目情報!$J$4)","v":""},{"$f":"IF(A7=\"\",\"\",③リレー情報確認!$F$8)","v":""},{"$f":"IF(A7=\"\",\"\",IF(②選手情報入力!$Q$6=\"\",0,1))","v":""},{"$f":"IF(A7=\"\",\"\",種目情報!$K$4)","v":""}]
[{"$f":"IF(③リレー情報確認!O8=\"\",\"\",720000+①団体情報入力!$C$3*10)","v":""},{"$f":"IF(A8=\"\",\"\",①団体情報入力!$C$3)","v":""},{"$f":"IF(A8=\"\",\"\",③リレー情報確認!$J$1)","v":""},{"$f":"IF(A8=\"\",\"\",③リレー情報確認!$P$1)","v":""},null,null,1,{"$f":"IF(A8=\"\",\"\",③リレー情報確認!Q8)","v":""},{"$f":"IF(A8=\"\",\"\",③リレー情報確認!P8)","v":""},{"$f":"IF(A8=\"\",\"\",種目情報!$J$6)","v":""},{"$f":"IF(A8=\"\",\"\",③リレー情報確認!$R$8)","v":""},{"$f":"IF(A8=\"\",\"\",0)","v":""},{"$f":"IF(A8=\"\",\"\",種目情報!$K$6)","v":""}]
[{"$f":"IF(③リレー情報確認!O9=\"\",\"\",720000+①団体情報入力!$C$3*10)","v":""},{"$f":"IF(A9=\"\",\"\",①団体情報入力!$C$3)","v":""},{"$f":"IF(A9=\"\",\"\",③リレー情報確認!$J$1)","v":""},{"$f":"IF(A9=\"\",\"\",③リレー情報確認!$P$1)","v":""},null,null,2,{"$f":"IF(A9=\"\",\"\",③リレー情報確認!Q9)","v":""},{"$f":"IF(A9=\"\",\"\",③リレー情報確認!P9)","v":""},{"$f":"IF(A9=\"\",\"\",種目情報!$J$6)","v":""},{"$f":"IF(A9=\"\",\"\",③リレー情報確認!$R$8)","v":""},{"$f":"IF(A9=\"\",\"\",0)","v":""},{"$f":"IF(A9=\"\",\"\",種目情報!$K$6)","v":""}]
[{"$f":"IF(③リレー情報確認!O10=\"\",\"\",720000+①団体情報入力!$C$3*10)","v":""},{"$f":"IF(A10=\"\",\"\",①団体情報入力!$C$3)","v":""},{"$f":"IF(A10=\"\",\"\",③リレー情報確認!$J$1)","v":""},{"$f":"IF(A10=\"\",\"\",③リレー情報確認!$P$1)","v":""},null,null,3,{"$f":"IF(A10=\"\",\"\",③リレー情報確認!Q10)","v":""},{"$f":"IF(A10=\"\",\"\",③リレー情報確認!P10)","v":""},{"$f":"IF(A10=\"\",\"\",種目情報!$J$6)","v":""},{"$f":"IF(A10=\"\",\"\",③リレー情報確認!$R$8)","v":""},"",{"$f":"IF(A10=\"\",\"\",種目情報!$K$6)","v":""}]
[{"$f":"IF(③リレー情報確認!O11=\"\",\"\",720000+①団体情報入力!$C$3*10)","v":""},{"$f":"IF(A11=\"\",\"\",①団体情報入力!$C$3)","v":""},{"$f":"IF(A11=\"\",\"\",③リレー情報確認!$J$1)","v":""},{"$f":"IF(A11=\"\",\"\",③リレー情報確認!$P$1)","v":""},null,null,4,{"$f":"IF(A11=\"\",\"\",③リレー情報確認!Q11)","v":""},{"$f":"IF(A11=\"\",\"\",③リレー情報確認!P11)","v":""},{"$f":"IF(A11=\"\",\"\",種目情報!$J$6)","v":""},{"$f":"IF(A11=\"\",\"\",③リレー情報確認!$R$8)","v":""},"",{"$f":"IF(A11=\"\",\"\",種目情報!$K$6)","v":""}]
[{"$f":"IF(③リレー情報確認!O12=\"\",\"\",720000+①団体情報入力!$C$3*10)","v":""},{"$f":"IF(A12=\"\",\"\",①団体情報入力!$C$3)","v":""},{"$f":"IF(A12=\"\",\"\",③リレー情報確認!$J$1)","v":""},{"$f":"IF(A12=\"\",\"\",③リレー情報確認!$P$1)","v":""},null,null,5,{"$f":"IF(A12=\"\",\"\",③リレー情報確認!Q12)","v":""},{"$f":"IF(A12=\"\",\"\",③リレー情報確認!P12)","v":""},{"$f":"IF(A12=\"\",\"\",種目情報!$J$6)","v":""},{"$f":"IF(A12=\"\",\"\",③リレー情報確認!$R$8)","v":""},"",{"$f":"IF(A12=\"\",\"\",種目情報!$K$6)","v":""}]
[{"$f":"IF(③リレー情報確認!O13=\"\",\"\",720000+①団体情報入力!$C$3*10)","v":""},{"$f":"IF(A13=\"\",\"\",①団体情報入力!$C$3)","v":""},{"$f":"IF(A13=\"\",\"\",③リレー情報確認!$J$1)","v":""},{"$f":"IF(A13=\"\",\"\",③リレー情報確認!$P$1)","v":""},null,null,6,{"$f":"IF(A13=\"\",\"\",③リレー情報確認!Q13)","v":""},{"$f":"IF(A13=\"\",\"\",③リレー情報確認!P13)","v":""},{"$f":"IF(A13=\"\",\"\",種目情報!$J$6)","v":""},{"$f":"IF(A13=\"\",\"\",③リレー情報確認!$R$8)","v":""},"",{"$f":"IF(A13=\"\",\"\",種目情報!$K$6)","v":""}]

{"sheet":"団体一覧","index":11,"n_rows":126,"n_cols":6,"rows_kept":126,"cut":false,"hidden":true,"merged":[]}
["No","団体名略称","旧団体コード","団体名略称","団体名カナ","No"]
[1,"今池",239001,"今池","ｲﾏｲｹ",1]
[2,"城山",239002,"城山","ｼﾛﾔﾏ",2]
[3,"千種台",239003,"千種台","ﾁｸｻﾀﾞｲ",3]
[4,"振甫",239004,"振甫","ｼﾝﾎﾟ",4]
[5,"若水",239005,"若水","ﾜｶﾐｽﾞ",5]
[6,"千種",239006,"千種","ﾁｸｻ",6]
[7,"東星",239007,"東星","ﾄｳｾｲ",7]
[8,"あずま",239008,"あずま","ｱｽﾞﾏ",8]
[9,"冨士",239009,"冨士","ﾌｼﾞ",9]
[10,"桜丘",239010,"桜丘","ｻｸﾗｶﾞｵｶ丘",10]
[11,"矢田",239011,"矢田","ﾔﾀﾞ",11]
[12,"若葉",239012,"若葉","ﾜｶﾊﾞ",12]
[13,"志賀",239013,"志賀","ｼｶﾞ",13]
[14,"北陵",239014,"北陵","ﾎｸﾘｮｳ",14]
[15,"大曽根",239015,"大曽根","ｵｵｿﾞﾈ",15]
[16,"八王子",239016,"八王子","ﾊﾁｵｳｼﾞ",16]
[17,"楠",239017,"楠","ｸｽﾉｷ",17]
[18,"北",239018,"北","ｷﾀ",18]
[19,"浄心",239019,"浄心","ｼﾞｮｳｼﾝ",19]
[20,"菊井",239020,"菊井","ｷｸｲ",20]
[21,"名塚",239021,"名塚","ﾅﾂﾞｶ",21]
[22,"天神山",239022,"天神山","ﾃﾝｼﾞﾝﾔﾏ",22]
[23,"山田",239023,"山田","ﾔﾏﾀﾞ",23]
[24,"山田東",239024,"山田東","ﾔﾏﾀﾞﾋｶﾞｼ",24]
[25,"平田",239025,"平田","ﾋﾗﾀ",25]
[26,"豊国",239026,"豊国","ﾄﾖｸﾆ",26]
[27,"笹島",239027,"笹島","ｻｻｼﾏ",27]
[28,"笈瀬",239028,"笈瀬","ｵｲｾ",28]
[29,"御田",239029,"御田","ﾐﾀ",29]
[30,"豊正",239030,"豊正","ﾎｳｾｲ",30]
[31,"黄金",239031,"黄金","ｺｶﾞﾈ",31]
[32,"日比津",239032,"日比津","ﾋﾋﾞﾂ",32]
[33,"前津",239033,"前津","ﾏｴﾂﾞ",33]
[34,"丸の内",239034,"丸の内","ﾏﾙｳﾁ",34]
[35,"伊勢山",239035,"伊勢山","ｲｾﾔﾏ",35]
[36,"白山",239036,"白山","ﾊｸｻﾝ",36]
[37,"桜山",239037,"桜山","ｻｸﾗﾔﾏ",37]
[38,"北山",239038,"北山","ｷﾀﾔﾏ",38]
[39,"川名",239039,"川名","ｶﾜﾅ",39]
[40,"円上",239040,"円上","ｴﾝｼﾞｮｳ",40]
[41,"駒方",239041,"駒方","ｺﾏｶﾞﾀ",41]
[42,"田光",239042,"田光","ﾀｺｳ",42]
[43,"瑞穂ヶ丘",239043,"瑞穂ヶ丘","ﾐｽﾞﾎｶﾞｵｶ",43]
[44,"萩山",239044,"萩山","ﾊｷﾞﾔﾏ",44]
[45,"汐路",239045,"汐路","ｼｵｼﾞ",45]
[46,"津賀田",239046,"津賀田","ﾂｶﾀ",46]
[47,"沢上",239047,"沢上","ｻﾜｶﾐ",47]
[48,"宮",239048,"宮","ﾐﾔ",48]
[49,"日比野",239049,"日比野","ﾋﾋﾞﾉ",49]
[50,"一色",239050,"一色","ｲｯｼｷ",50]
[51,"長良",239051,"長良","ﾅｶﾞﾗ",51]
[52,"山王",239052,"山王","ｻﾝﾉｳ",52]
[53,"一柳",239053,"一柳","ｲﾁﾔﾅｷﾞ",53]
[54,"八幡",239054,"八幡","ﾔﾜﾀ",54]
[55,"昭和橋",239055,"昭和橋","ｼｮｳﾜﾊﾞｼ",55]
[56,"富田",239056,"富田","ﾄﾐﾀﾞ",56]
[57,"はとり",239057,"はとり","ﾊﾄﾘ",57]
[58,"助光",239058,"助光","ｽｹﾐﾂ",58]
[59,"供米田",239059,"供米田","ｸﾏｲﾃﾞﾝ",59]
[60,"高杉",239060,"高杉","ﾀｶｽｷﾞ",60]
[61,"港南",239061,"港南","ｺｳﾅﾝ",61]
[62,"港北",239062,"港北","ｺｳﾎｸ",62]
[63,"東港",239063,"東港","ﾄｳｺｳ",63]
[64,"南陽",239064,"南陽","ﾅﾝﾖｳ",64]
[65,"宝神",239065,"宝神","ﾎｳｼﾞﾝ",65]
[66,"当知",239066,"当知","ﾄｳﾁ",66]
[67,"港明",239067,"港明","ｺｳﾒｲ",67]
[68,"南陽東",239068,"南陽東","ﾅﾝﾖｳﾋｶﾞｼ",68]
[69,"本城",239069,"本城","ﾎﾝｼﾞｮｳ",69]
[70,"新郊",239070,"新郊","ｼﾝｺｳ",70]
[71,"桜田",239071,"桜田","ｻｸﾗﾀﾞ",71]
[72,"大江",239072,"大江","ｵｵｴ",72]
[73,"明豊",239073,"明豊","ﾒｲﾎｳ",73]
[74,"名南",239074,"名南","ﾒｲﾅﾝ",74]
[75,"南光",239075,"南光","ﾅﾝｺｳ",75]
[76,"守山",239076,"守山","ﾓﾘﾔﾏ",76]
[77,"守山東",239077,"守山東","ﾓﾘﾔﾏﾋｶﾞｼ",77]
[78,"守山西",239078,"守山西","ﾓﾘﾔﾏﾆｼ",78]
[79,"志段味",239079,"志段味","ｼﾀﾞﾐ",79]
[80,"大森",239080,"大森","ｵｵﾓﾘ",80]
[81,"守山北",239081,"守山北","ﾓﾘﾔﾏｷﾀ",81]
[82,"森孝",239082,"森孝","ﾓﾘﾀｶ",82]
[83,"吉根",239083,"吉根","ｷｯｺｳ",83]
[84,"鳴海",239084,"鳴海","ﾅﾙﾐ",84]
[85,"鳴子台",239085,"鳴子台","ﾅﾙｺﾀﾞｲ",85]
[86,"大高",239086,"大高","ｵｵﾀｶ",86]
[87,"有松",239087,"有松","ｱﾘﾏﾂ",87]
[88,"東陵",239088,"東陵","ﾄｳﾘｮｳ",88]
[89,"千鳥丘",239089,"千鳥丘","ﾁﾄﾞﾘｶﾞｵｶ",89]
[90,"神沢",239090,"神沢","ｶﾐｻﾜ",90]
[91,"扇台",239091,"扇台","ｵｳｷﾞﾀﾞｲ",91]
[92,"滝ノ水",239092,"滝ノ水","ﾀｷﾉﾐｽﾞ",92]
[93,"左京山",239093,"左京山","ｻｷｮｳﾔﾏ",93]
[94,"鎌倉台",239094,"鎌倉台","ｶﾏｸﾗﾀﾞｲ",94]
[95,"神の倉",239095,"神の倉","ｶﾐｸﾗ",95]
[96,"猪高",239096,"猪高","ｲﾀｶ",96]
[97,"神丘",239097,"神丘","ｶﾐｵｶ",97]
[98,"高針台",239098,"高針台","ﾀｶﾊﾞﾘﾀﾞｲ",98]
[99,"猪子石",239099,"猪子石","ｲﾉｺｲｼ",99]
[100,"藤森",239100,"藤森","ﾌｼﾞﾓﾘ",100]
[101,"牧の池",239101,"牧の池","ﾏｷｲｹ",101]
[102,"上社",239102,"上社","ｶﾐﾔｼﾛ",102]
[103,"香流",239103,"香流","ｶﾅﾚ",103]
[104,"天白",239104,"天白","ﾃﾝﾊﾟｸ",104]
[105,"御幸山",239105,"御幸山","ﾐﾕｷﾔﾏ",105]
[106,"久方",239106,"久方","ﾋｻｶﾀ",106]
[107,"平針",239107,"平針","ﾋﾗﾊﾞﾘ",107]
[108,"南天白",239108,"南天白","ﾐﾅﾐﾃﾝﾊﾟｸ",108]
[109,"植田",239109,"植田","ｳｴﾀﾞ",109]
[110,"原",239110,"原","ﾊﾗ",110]
[111,"名古屋大学教育学部附属",239111,"名古屋大学教育学部附属","ﾅｺﾞﾔﾀﾞｲｶﾞｸｷｮｳｲｸｶﾞｸﾌﾞﾌｿﾞｸ",111]
[112,"愛知教育大学附属名古屋",239112,"愛知教育大学附属名古屋","ｱｲﾁｷｮｳｲｸﾀﾞｲｶﾞｸﾌｿﾞｸﾅｺﾞﾔ",112]
[113,"愛知",239113,"愛知","ｱｲﾁ",113]
[114,"椙山女学園",239114,"椙山女学園","ｽｷﾞﾔﾏｼﾞｮｶﾞｸｴﾝ",114]
[115,"愛知工業大学附属",239115,"愛知工業大学附属","ｱｲﾁｺｳｷﾞｮｳﾀﾞｲｶﾞｸﾌｿﾞｸ",115]
[116,"愛知淑徳",239116,"愛知淑徳","ｱｲﾁｼｭｸﾄｸ",116]
[117,"名古屋経済大学市邨",239117,"名古屋経済大学市邨","ﾅｺﾞﾔｹｲｻﾞｲﾀﾞｲｶﾞｸｲﾁﾑﾗ",117]
[118,"金城学院",239118,"金城学院","ｷﾝｼﾞｮｳｶﾞｸｲﾝ",118]
[119,"東海",239119,"東海","ﾄｳｶｲ",119]
[120,"名古屋",239120,"名古屋","ﾅｺﾞﾔ",120]
[121,"南山",239121,"南山","ﾅﾝｻﾞﾝ",121]
[122,"名古屋国際",239122,"名古屋国際","ﾅｺﾞﾔｺｸｻｲ",122]
[123,"名古屋女子大学",239123,"名古屋女子大学","ﾅｺﾞﾔｼﾞｮｼﾀﾞｲｶﾞｸ",123]
[124,"名古屋経済大学高蔵",239124,"名古屋経済大学高蔵","ﾅｺﾞﾔｹｲｻﾞｲﾀﾞｲｶﾞｸﾀｶｸﾗ",124]
[125,"星槎名古屋",239125,"星槎名古屋","ｾｲｻﾅｺﾞﾔ",125]