{"text_format":"1","workbook":"xlsx","n_sheets":12,"sheets":["プレシーズンゲーム","注意事項","①団体情報入力","②選手情報入力","③リレー情報確認","④種目別人数","　　　　　","種目情報","data_kyogisha","data_team","Sheet6","Sheet1"],"not_rendered":{"charts":0,"images":1,"macros":0,"external_links":4,"defined_names":31,"comments":2,"pivot_tables":0},"unopened":[],"bounds":{"document_bytes":16777216,"sheet_cells":100000,"rows_first":2000,"rows_last":500,"rows_between":2000,"halvings":0,"cell_chars":16384,"cell_head_chars":4096},"cells_cut":0,"cells_raw":0,"read":"whole","date_system":"1900"}

{"sheet":"プレシーズンゲーム","index":0,"n_rows":77,"n_cols":8,"rows_kept":77,"cut":false,"hidden":false,"merged":[[44,1,44,7],[67,1,67,7],[68,1,68,7],[75,1,75,7],[76,1,76,7],[14,1,14,7],[17,1,17,7],[32,1,32,7],[33,1,33,7],[41,1,41,3],[41,5,41,7],[9,2,9,7],[0,2,0,5],[1,0,1,7],[2,1,2,3],[4,2,4,5],[6,1,7,7]]}
[null,null,"２０１８年度名古屋地区プレシーズンゲーム",null,null,null,"大会番号　","００５"]
["選手登録は２０１８年１２月２４日までに済ませてください。年明けには登録できません。"]
["１．期  日        ","2019-03-21"]
["２．場  所","パロマ瑞穂スタジアム"]
["３．種  目","（男子）"]
[null,"６０ｍ，３００ｍ,１マイル,１１０ｍＪＨ(0.991m)，４×１００ｍＲ,走高跳AB,走幅跳,"]
["1000mを１マイルに","　砲丸投(7.260kg),高校砲丸投(6.000kg),中学砲丸投(5.000kg),\n　円盤投(2.000kg),高校円盤投(1.750kg),中学円盤投(1.500kg)"]
["変更しました。"]
[null,"小学生６０ｍ，1000m"]
[null,"(女子）"]
[null,"６０ｍ，３００ｍ，１マイル，１００ｍＹＨ(0.762m/8.5m)，４×１００ｍＲ，"]
[null,"走高跳AB,走幅跳,円盤投(1.000kg),砲丸投(4.000kg),中学砲丸投(2.721kg)"]
[null,"小学生６０ｍ，1000m"]
["４．参加について","(1)１人１種目（リレー種目は除く）、リレーは１団体１チームとします。"]
[null,"(２)中学生は愛知陸協（名古屋地区）の登録番号で申し込んでください。\n　 中体連学校番号では、出場できません。"]
[null,"(3)他地区、他県登録者の参加は認めていません。"]
[null,"(4)中学生の出場は、太字で示した種目に限ります。"]
[null,"(5)投てき種目において、中学・高校の設定がある場合には、\n必ずそのカテゴリーに申し込んでください。"]
[null,"(6)小学生は、友の会会員であることが参加の条件です。"]
[null,"(7)団体情報シートと種目別一覧をプリントアウトして、参加料振込用紙のコピーを添付して"]
[null,"　　〒463-8799 守山郵便局私書箱１４号まで郵送してください。"]
[null,"(８)60mは100mの記録で申し込んでください。"]
[null,"　 300mは400mの記録で申し込んでください。"]
[null,"　1マイルは１５００ｍの記録で申し込んでください。"]
[null,"　 申込記録によって、番組編成を行います。記録は公認である必要はありません。"]
[null,"　 ６０ｍ，３００ｍは予選→決勝を行います。"]
[null,"　 1マイル，４×１００ｍＲはタイムレースとします。"]
[null,"　 小学生の６０ｍ、1マイルはタイムレースとします。"]
[null,"(９)走高跳Aは、男子1m70、女子1m45、Bは男子1m45、女子1m20から"]
[null,"　　開始しますが、順位は全体でつけます。"]
[null,"(10)フールド長さ系の種目は、トップ８を実施します。"]
[null,"(11)各種目8位まで賞状を授与します"]
[null,"(12)男子60m・女子300mは，日本陸連の屋外種目での日本記録公認要件ではありません。\n記録は公認されます。"]
[null,"(13)男女のハードル種目は、U20,U18日本記録の公認対象ですが、\nシニアは日本記録の公認対象ではありません。記録は公認されます。"]
[null,"(14)小学生のリレーは実施しません。"]
["５．参加料","一般・大学・高校７００円　中学生５００円　小学生３００円"]
[null,"リレー　１チーム１０００円"]
[null,"プログラム事前申し込み１部",null,null,"８００円"]
["６．申込ｱﾄﾞﾚｽ","preseasongame@gmail.com　　"]
[null,"＊申し込みはメールを最優先してください。メール未送信の場合は受け付けできません。"]
[null,"＊申し込みのファイルは、各カテゴリーのものを使用してください。"]
["７．申込締切","2019-02-20",null,null,null,"2019-02-22"]
["８．大会参加料の納入先"]
[null,"☆郵便振替の場合"]
[null,"払込取扱票に必要事項を記入し、郵便振替払込請求書兼受領証の写しを「種目別申込人数一覧表」の貼付欄に貼付してください。振替用紙は郵便局に備え付けの青の振込取扱票を使用し、下記の事項を必ず記入してください。"]
[null,"口座番号",null,"00870 = 3 = 90904"]
[null,"加入者名",null,"名古屋地区陸上競技協会"]
[null,"金　　額",null,"参加料（プログラム代も含める）【申込一覧表の合計金額】"]
[null,"通信欄に記入事項（おところ、おなまえの他に）"]
[null,null,"①申込大会名（大会期日）"]
[null,null,"②申込団体名・学校名のいずれか"]
[null,"ゆうちょ銀行以外からの振り込みを行う場合は、以下の番号を使用してください。"]
[null,"店名","〇八九","店",null,"店番","０８９"]
[null,null,"ｾﾞﾛﾊﾁｷｭｳ"]
[null,"預金項目","２","当座預金",null,"口座番号","００９０９０４"]
[null,"☆銀行振込"]
[null,"三菱東京UFJ銀行　尾張新川支店　（店番号８９４）"]
[null,"普通預金　口座番号００７４９４８"]
[null,"口座人名義　名古屋地区陸上競技協会　会長　坂井田酵三"]
[null,"振込の際は、振込名義を大会番号＋団体名で行ってください。"]
[null,"　　例）　００１ｱｻﾋｶﾞｵｶｺｳｺｳ"]
[null,"振込口座の間違いにお気をつけください。"]
[null,"団体名が判らなくなりますので、"]
[null,"振込団体名に、ｱｲﾁｹﾝﾘﾂやﾅｺﾞﾔｼﾘﾂは、絶対に付けないでください"]
["９．その他","(１)この大会は、ウォーミングアップ場として北陸上競技場は使用できません。"]
[null,"　　レクリエーション広場を利用ください。"]
[null,"(２)プログラムは予約有料販売（８００円）です。",null,null,null,"プログラムの当日販売は1000円です"]
[null,"(3)時間プログラム、受付一覧、大会注意事項は、大会７日前ぐらいに\n　  名古屋地区陸協ホームページ（名古屋地区陸協で検索）にアップします。"]
[null,"http://www.aichi-rk.jp/01_01nittei.htm"]
[null,"(4)メールの件名には、必ず団体名を記入してください。"]
[null,"(5)申込ファイル名も団体名に変えてから送信してください。"]
[null,"(6)申し込み人数に応じて、本競技場２F･３Fのスタンド下の"]
[null,"　  割り振りを行いますので、場所取りは行わないでください。"]
[null,"(7)２０１８年度の登録番号で申し込みください。"]
[null,"(8)問合せアドレス",null," toiawase.nagoya@gmail.com"]
[null,"(9) 競技中に発生した負傷・傷病の応急処置は主催者において行いますが、\n　  以後の責任は負いません。"]
[null,"(1０)個人情報の扱いについて\n　名古屋地区陸協は、個人情報保護に関する法令を遵守し、日本陸上競技連盟個人情報保護方針に基づいて取り扱います。尚、取得した個人情報は大会の資格審査、プログラム編成及び作成、記録発表、その他競技運営及び陸上競技に必要な連絡等に使用します。\n\n＊この競技会の記録は、日本陸連の公認対象です。\n＊本競技会の結果は、記録速報のほかリザルトが公表されます。結果には、順位・記録のほか選手の氏名・所属・学年を含みます。\n"]

{"sheet":"注意事項","index":1,"n_rows":76,"n_cols":10,"rows_kept":76,"cut":false,"hidden":false,"merged":[[58,4,58,7],[74,3,74,7],[0,0,0,13],[6,1,6,2],[6,3,6,7],[4,2,4,7],[2,9,4,11],[2,2,2,7],[9,1,9,2],[9,3,9,5],[7,1,7,9],[8,1,8,9],[3,2,3,7]]}
["　★データ入力前にこのページの内容を必ずお読みください。"]
[]
[null,"大会名",{"$f":"プレシーズンゲーム!C1","v":"２０１８年度名古屋地区プレシーズンゲーム"},null,null,null,null,null,null,"高校用"]
[null,"期　日",{"$f":"プレシーズンゲーム!B3","v":"2019-03-21"}]
[null,"会　場","パロマ瑞穂スタジアム"]
[]
[null,"メール送信期限",null,{"$f":"プレシーズンゲーム!B42","v":"2019-02-20"}]
[null,"※このファイルをメールに添付して送信してください！"]
[null,"ファイルの送信がないと受付けしたことになりません。"]
[null,"振り込み郵送期限",null,{"$f":"プレシーズンゲーム!F42","v":"2019-02-22"}]
["　＜注意事項等＞"]
["１","このファイルは申込人数90名まで入力できます。男女合わせて90名を超える場合は、男女別で作成してください。"]
["２","大会要項（出場制限等）をよく読んで入力してください。"]
["３","ナンバー・氏名・種目等、入力間違いのないようにお願いします。"]
["４","コピーしたデータを貼り付ける場合は、「形式を選択して貼り付け」から「値」を選択して貼り付けてください。"]
["５","入力したデータを削除・修正する場合は、必ず「Delete」キーで処理してください。※行削除はしないでください！"]
["６","申込は、メール送信と書類提出の両方が必要になりますので、お忘れのないようにお願いします。"]
["７","このファイルの内容は、プログラム編成及び作成、記録処理、その他競技会運営の目的で使用します。"]
["８","①選手情報、②団体情報の各シートに上書きをすると式が消えますのでご注意ください。"]
["９","４種目以上エントリーする場合は２行使用して、どちらにもﾅﾝﾊﾞｰ･氏名等を入力してください。"]
["１０","③必ず、リレー情報確認で、メンバーが反映されていることを確認してください。"]
[null,"　ナンバーが正しく入力されていて情報が反映されていない場合、ナンバーのセルが文字列になっていますので数値に変換してください。"]
[]
["　★作業の流れは次のとおりです。"]
[]
["　　①選手情報の入力"]
["↓","　　入力を確認して、申込種目、記録を入力してください。"]
["↓","　　※ナンバーは、アルファベットと数字を分けて入力してください。大学生は、地域学連コード番号とハイフンを必ず入力してください。"]
["↓","　　※入力は、男子を先に入力し、続けて女子を入力してください。絶対に行を空けないでください。行を空けると空いた行以下のデータは反映されません。"]
["↓","　　※氏名については、姓と名の間に全角スペースを１つ入れてください。"]
["↓","　　※ﾌﾘｶﾞﾅについては、姓と名の間に半角スペースを１つ入れてください。"]
["↓","　　※記録は、次のとおり入力してください。"]
["↓",null,"◎トラック種目・・・・分秒をドット「．」で区切り、すべての種目で100分の1秒まで入力してください。"]
["↓",null,"例１",null,"54秒23","⇒",54.23]
["↓",null,"例２",null,"4分07秒00","⇒","4.07.00 ○",null,"4.7 X","長距離の記録入力に注意してください。"]
["↓",null,null,"　 ※記録が１分未満で、10分の1以下が「00」"]
["↓",null,null,"　　 のときは整数で表示されます。"]
["↓",null,null,"例","12.00","⇒",12]
["↓",null,"◎フィールド種目・・・メートルを「m」で区切り、cm単位まで入力（「cm」の文字は入れない）"]
["↓",null,"例３",null,"20m","⇒","20m00"]
["↓",null,"★記録がない場合は空欄にしてください。"]
["↓","　　※リレーに出場する選手は、リレー種目の欄へ「○」を入力してください。"]
["　　②団体情報の入力"]
["↓","　・必要事項を入力してください。"]
["　　③リレー情報の確認"]
["↓","　・リレーにエントリーをする選手のナンバーと、チームの記録を確認してください。"]
["↓","　　修正がある場合は、「①選手情報入力」で修正してください。"]
["　　④種目別人数の確認"]
["↓","　・種目ごとの申込人数と申込金額を確認してください。"]
["↓","　・プログラム購入部数、合計金額を確認してください。"]
["　　⑤申込一覧表の確認"]
["↓","　・入力漏れや入力間違い等がないかを確認してください。"]
["　　⑥種目別人数表と申込一覧表の印刷"]
["↓","　・「④種目別人数表」にある、帳票印刷ボタンをクリックして印刷を行ってください。"]
["　　⑦ファイルの保存"]
["↓","　・ファイル名を学校名（例：○○○）に変更し保存してください。メールに添付するときは、ファイル名が団体名に"]
["↓","　　なっていることを確認してください。"]
["↓"]
["　　⑧メール送信",null,null,"E-mail：","nagoya.yosen@gmail.com "]
["↓","　・入力したファイルを送信してください。"]
["↓","　・メールの件名に「大会名」と「団体名」を入力してください。"]
["↓","　・この大会から、申し込みメールへの返信は行いません。"]
["　　⑨参加料の振込"]
["↓","　・参加料を振り込み、明細書のコピーを「種目別人数一覧」の裏面に添付してください。"]
["　　⑩郵送"]
["↓","　・「④種目別一覧表」を郵送してください。"]
["↓","　・「種目別人数一覧」の裏面には振込明細書のコピーを添付してください。"]
["↓"]
["↓",null,"送付先"]
["↓",null,"〒463-8799　守山郵便局　私書箱１４号　名古屋地区陸上競技協会"]
["　　⑪申込完了"]
[]
[null,"　★問い合わせ先"]
[]
[null,null,"mail：","toiawase.nagoya@gmail.com"]
[null,null,"勝見　昌弘　宛",null,"こちらには、データを絶対に送信しないで下さい。"]

{"sheet":"①団体情報入力","index":2,"n_rows":25,"n_cols":15,"rows_kept":25,"cut":false,"hidden":false,"merged":[[3,0,3,1],[3,2,3,4],[3,5,5,9],[4,0,4,1],[9,8,9,11],[4,2,4,4],[5,0,5,1],[5,2,5,4],[6,0,6,1],[6,2,6,4],[0,3,0,11],[1,0,1,1],[1,2,1,4],[1,5,1,11],[2,0,2,1],[2,2,2,4],[2,5,2,11],[12,0,12,3],[12,4,12,7],[12,8,12,9],[7,0,7,1],[7,2,7,4],[8,0,8,1],[8,2,8,4],[9,0,9,1],[10,0,10,7],[10,8,10,9],[11,0,11,3],[11,4,11,7],[11,8,11,9]]}
["①団体情報入力",null,"高校用"]
["団体名検索",null,null,null,null,"←団体名最初の一文字を入力してください。",null,null,null,null,null,null,null,{"$f":"C2","v":0}]
["団体名",null,null,null,null,"←団体名の一部を入力すると、候補がドロップダウンに表示されますので選択してください。",null,null,null,null,null,null,1,{"$f":"VLOOKUP(\"*\"&$N$2&\"*\",Sheet6!D2:F411,1,FALSE)","v":{"$error":"#N/A"}},{"$f":"VLOOKUP(\"*\"&N2&\"*\",Sheet6!B2:F411,5,FALSE)","v":{"$error":"#N/A"}}]
["団体コード",null,{"$f":"IF(C3=\"\",\"\",VLOOKUP(C3,Sheet6!B:C,2,0))","v":""},null,null,"←団体名を選択すると、自動で入力されます。",null,null,null,null,null,null,2,{"$f":"VLOOKUP(\"*\"&$N$2&\"*\",OFFSET(Sheet6!$B$2:$F$411,O3,0),1,FALSE)","v":{"$error":"#N/A"}},{"$f":"VLOOKUP(\"*\"&$N$2&\"*\",OFFSET(Sheet6!$B$2:$F$411,O3,0),5,FALSE)","v":{"$error":"#N/A"}}]
["略称団体名",null,{"$f":"IF(C3=\"\",\"\",C3)","v":""},null,null,null,null,null,null,null,null,null,3,{"$f":"VLOOKUP(\"*\"&$N$2&\"*\",OFFSET(Sheet6!$B$2:$F$411,O4,0),1,FALSE)","v":{"$error":"#N/A"}},{"$f":"VLOOKUP(\"*\"&$N$2&\"*\",OFFSET(Sheet6!$B$2:$F$411,O4,0),5,FALSE)","v":{"$error":"#N/A"}}]
["団体名ﾌﾘｶﾞﾅ",null,{"$f":"IF(C3=\"\",\"\",VLOOKUP(C3,Sheet6!B:E,4,0))","v":""},null,null,null,null,null,null,null,null,null,4,{"$f":"VLOOKUP(\"*\"&$N$2&\"*\",OFFSET(Sheet6!$B$2:$F$411,O5,0),1,FALSE)","v":{"$error":"#N/A"}},{"$f":"VLOOKUP(\"*\"&$N$2&\"*\",OFFSET(Sheet6!$B$2:$F$411,O5,0),5,FALSE)","v":{"$error":"#N/A"}}]
["申込責任者",null,null,null,null,"←入力",null,null,null,null,null,null,5,{"$f":"VLOOKUP(\"*\"&$N$2&\"*\",OFFSET(Sheet6!$B$2:$F$411,O6,0),1,FALSE)","v":{"$error":"#N/A"}},{"$f":"VLOOKUP(\"*\"&$N$2&\"*\",OFFSET(Sheet6!$B$2:$F$411,O6,0),5,FALSE)","v":{"$error":"#N/A"}}]
["連絡先電話番号",null,null,null,null,"←入力(ハイフンを入れる)　※緊急時に連絡がとれる番号",null,null,null,null,null,null,6,{"$f":"VLOOKUP(\"*\"&$N$2&\"*\",OFFSET(Sheet6!$B$2:$F$411,O7,0),1,FALSE)","v":{"$error":"#N/A"}},{"$f":"VLOOKUP(\"*\"&$N$2&\"*\",OFFSET(Sheet6!$B$2:$F$411,O7,0),5,FALSE)","v":{"$error":"#N/A"}}]
["ナンバーのアルファベット",null,null,null,null,"←入力　ナンバーのアルファベットを入力してください。",null,null,null,null,null,null,7,{"$f":"VLOOKUP(\"*\"&$N$2&\"*\",OFFSET(Sheet6!$B$2:$F$411,O8,0),1,FALSE)","v":{"$error":"#N/A"}},{"$f":"VLOOKUP(\"*\"&$N$2&\"*\",OFFSET(Sheet6!$B$2:$F$411,O8,0),5,FALSE)","v":{"$error":"#N/A"}}]
["プログラム購入部数",null,null,"部",null,null,null,null,"新規登録団体(検索できない団体)の場合は以下に団体名とフリガナを入力してください",null,null,null,8,{"$f":"VLOOKUP(\"*\"&$N$2&\"*\",OFFSET(Sheet6!$B$2:$F$411,O9,0),1,FALSE)","v":{"$error":"#N/A"}},{"$f":"VLOOKUP(\"*\"&$N$2&\"*\",OFFSET(Sheet6!$B$2:$F$411,O9,0),5,FALSE)","v":{"$error":"#N/A"}}]
["役員のできる方のお名前を入力してください(A12には、申込責任者名が入ります）",null,null,null,null,null,null,null,"団体名",null,null,null,9,{"$f":"VLOOKUP(\"*\"&$N$2&\"*\",OFFSET(Sheet6!$B$2:$F$411,O10,0),1,FALSE)","v":{"$error":"#N/A"}},{"$f":"VLOOKUP(\"*\"&$N$2&\"*\",OFFSET(Sheet6!$B$2:$F$411,O10,0),5,FALSE)","v":{"$error":"#N/A"}}]
[{"$f":"IF(C7=\"\",\"\",C7)","v":""},null,null,null,null,null,null,null,"略称団体名",null,null,null,10,{"$f":"VLOOKUP(\"*\"&$N$2&\"*\",OFFSET(Sheet6!$B$2:$F$411,O11,0),1,FALSE)","v":{"$error":"#N/A"}},{"$f":"VLOOKUP(\"*\"&$N$2&\"*\",OFFSET(Sheet6!$B$2:$F$411,O11,0),5,FALSE)","v":{"$error":"#N/A"}}]
[null,null,null,null,null,null,null,null,"団体名ﾌﾘｶﾞﾅ",null,null,null,11,{"$f":"VLOOKUP(\"*\"&$N$2&\"*\",OFFSET(Sheet6!$B$2:$F$411,O12,0),1,FALSE)","v":{"$error":"#N/A"}},{"$f":"VLOOKUP(\"*\"&$N$2&\"*\",OFFSET(Sheet6!$B$2:$F$411,O12,0),5,FALSE)","v":{"$error":"#N/A"}}]
[null,null,null,null,null,null,null,null,null,null,null,null,12,{"$f":"VLOOKUP(\"*\"&$N$2&\"*\",OFFSET(Sheet6!$B$2:$F$411,O13,0),1,FALSE)","v":{"$error":"#N/A"}},{"$f":"VLOOKUP(\"*\"&$N$2&\"*\",OFFSET(Sheet6!$B$2:$F$411,O13,0),5,FALSE)","v":{"$error":"#N/A"}}]
[null,null,null,null,null,null,null,null,null,null,null,null,13,{"$f":"VLOOKUP(\"*\"&$N$2&\"*\",OFFSET(Sheet6!$B$2:$F$411,O14,0),1,FALSE)","v":{"$error":"#N/A"}},{"$f":"VLOOKUP(\"*\"&$N$2&\"*\",OFFSET(Sheet6!$B$2:$F$411,O14,0),5,FALSE)","v":{"$error":"#N/A"}}]
[null,null,null,null,null,null,null,null,null,null,null,null,14,{"$f":"VLOOKUP(\"*\"&$N$2&\"*\",OFFSET(Sheet6!$B$2:$F$411,O15,0),1,FALSE)","v":{"$error":"#N/A"}},{"$f":"VLOOKUP(\"*\"&$N$2&\"*\",OFFSET(Sheet6!$B$2:$F$411,O15,0),5,FALSE)","v":{"$error":"#N/A"}}]
[null,null,null,null,null,null,null,null,null,null,null,null,15,{"$f":"VLOOKUP(\"*\"&$N$2&\"*\",OFFSET(Sheet6!$B$2:$F$411,O16,0),1,FALSE)","v":{"$error":"#N/A"}},{"$f":"VLOOKUP(\"*\"&$N$2&\"*\",OFFSET(Sheet6!$B$2:$F$411,O16,0),5,FALSE)","v":{"$error":"#N/A"}}]
[null,null,null,null,null,null,null,null,null,null,null,null,16,{"$f":"VLOOKUP(\"*\"&$N$2&\"*\",OFFSET(Sheet6!$B$2:$F$411,O17,0),1,FALSE)","v":{"$error":"#N/A"}},{"$f":"VLOOKUP(\"*\"&$N$2&\"*\",OFFSET(Sheet6!$B$2:$F$411,O17,0),5,FALSE)","v":{"$error":"#N/A"}}]
[null,null,null,null,null,null,null,null,null,null,null,null,17,{"$f":"VLOOKUP(\"*\"&$N$2&\"*\",OFFSET(Sheet6!$B$2:$F$411,O18,0),1,FALSE)","v":{"$error":"#N/A"}},{"$f":"VLOOKUP(\"*\"&$N$2&\"*\",OFFSET(Sheet6!$B$2:$F$411,O18,0),5,FALSE)","v":{"$error":"#N/A"}}]
[null,null,null,null,null,null,null,null,null,null,null,null,18,{"$f":"VLOOKUP(\"*\"&$N$2&\"*\",OFFSET(Sheet6!$B$2:$F$411,O19,0),1,FALSE)","v":{"$error":"#N/A"}},{"$f":"VLOOKUP(\"*\"&$N$2&\"*\",OFFSET(Sheet6!$B$2:$F$411,O19,0),5,FALSE)","v":{"$error":"#N/A"}}]
[null,null,null,null,null,null,null,null,null,null,null,null,19,{"$f":"VLOOKUP(\"*\"&$N$2&\"*\",OFFSET(Sheet6!$B$2:$F$411,O20,0),1,FALSE)","v":{"$error":"#N/A"}},{"$f":"VLOOKUP(\"*\"&$N$2&\"*\",OFFSET(Sheet6!$B$2:$F$411,O20,0),5,FALSE)","v":{"$error":"#N/A"}}]
[null,null,null,null,null,null,null,null,null,null,null,null,20,{"$f":"VLOOKUP(\"*\"&$N$2&\"*\",OFFSET(Sheet6!$B$2:$F$411,O21,0),1,FALSE)","v":{"$error":"#N/A"}},{"$f":"VLOOKUP(\"*\"&$N$2&\"*\",OFFSET(Sheet6!$B$2:$F$411,O21,0),5,FALSE)","v":{"$error":"#N/A"}}]
[null,null,null,null,null,null,null,null,null,null,null,null,21,{"$f":"VLOOKUP(\"*\"&$N$2&\"*\",OFFSET(Sheet6!$B$2:$F$411,O22,0),1,FALSE)","v":{"$error":"#N/A"}},{"$f":"VLOOKUP(\"*\"&$N$2&\"*\",OFFSET(Sheet6!$B$2:$F$411,O22,0),5,FALSE)","v":{"$error":"#N/A"}}]
[null,null,null,null,null,null,null,null,null,null,null,null,22,{"$f":"VLOOKUP(\"*\"&$N$2&\"*\",OFFSET(Sheet6!$B$2:$F$411,O23,0),1,FALSE)","v":{"$error":"#N/A"}},{"$f":"VLOOKUP(\"*\"&$N$2&\"*\",OFFSET(Sheet6!$B$2:$F$411,O23,0),5,FALSE)","v":{"$error":"#N/A"}}]
[null,null,null,null,null,null,null,null,null,null,null,null,23,{"$f":"VLOOKUP(\"*\"&$N$2&\"*\",OFFSET(Sheet6!$B$2:$F$411,O24,0),1,FALSE)","v":{"$error":"#N/A"}},{"$f":"VLOOKUP(\"*\"&$N$2&\"*\",OFFSET(Sheet6!$B$2:$F$411,O24,0),5,FALSE)","v":{"$error":"#N/A"}}]

{"sheet":"②選手情報入力","index":3,"n_rows":105,"n_cols":47,"rows_kept":105,"cut":false,"hidden":false,"merged":[[95,19,95,20],[96,19,96,20],[97,19,97,20],[98,19,98,20],[99,19,99,20],[90,19,90,20],[91,19,91,20],[92,19,92,20],[93,19,93,20],[94,19,94,20],[85,19,85,20],[86,19,86,20],[87,19,87,20],[88,19,88,20],[89,19,89,20],[80,19,80,20],[81,19,81,20],[82,19,82,20],[83,19,83,20],[84,19,84,20],[75,19,75,20],[76,19,76,20],[77,19,77,20],[78,19,78,20],[79,19,79,20],[70,19,70,20],[71,19,71,20],[72,19,72,20],[73,19,73,20],[74,19,74,20],[65,19,65,20],[66,19,66,20],[67,19,67,20],[68,19,68,20],[69,19,69,20],[60,19,60,20],[61,19,61,20],[62,19,62,20],[63,19,63,20],[64,19,64,20],[55,19,55,20],[56,19,56,20],[57,19,57,20],[58,19,58,20],[59,19,59,20],[50,19,50,20],[51,19,51,20],[52,19,52,20],[53,19,53,20],[54,19,54,20],[45,19,45,20],[46,19,46,20],[47,19,47,20],[48,19,48,20],[49,19,49,20],[40,19,40,20],[41,19,41,20],[42,19,42,20],[43,19,43,20],[44,19,44,20],[35,19,35,20],[36,19,36,20],[37,19,37,20],[38,19,38,20],[39,19,39,20],[30,19,30,20],[31,19,31,20],[32,19,32,20],[33,19,33,20],[34,19,34,20],[25,19,25,20],[26,19,26,20],[27,19,27,20],[28,19,28,20],[29,19,29,20],[20,19,20,20],[21,19,21,20],[22,19,22,20],[23,19,23,20],[24,19,24,20],[97,17,97,18],[98,17,98,18],[99,17,99,18],[3,17,3,18],[8,19,8,20],[9,19,9,20],[10,19,10,20],[11,19,11,20],[12,19,12,20],[13,19,13,20],[14,19,14,20],[15,19,15,20],[16,19,16,20],[17,19,17,20],[18,19,18,20],[19,19,19,20],[92,17,92,18],[93,17,93,18],[94,17,94,18],[95,17,95,18],[96,17,96,18],[87,17,87,18],[88,17,88,18],[89,17,89,18],[90,17,90,18],[91,17,91,18],[82,17,82,18],[83,17,83,18],[84,17,84,18],[85,17,85,18],[86,17,86,18],[77,17,77,18],[78,17,78,18],[79,17,79,18],[80,17,80,18],[81,17,81,18],[72,17,72,18],[73,17,73,18],[74,17,74,18],[75,17,75,18],[76,17,76,18],[67,17,67,18],[68,17,68,18],[69,17,69,18],[70,17,70,18],[71,17,71,18],[62,17,62,18],[63,17,63,18],[64,17,64,18],[65,17,65,18],[66,17,66,18],[57,17,57,18],[58,17,58,18],[59,17,59,18],[60,17,60,18],[61,17,61,18],[52,17,52,18],[53,17,53,18],[54,17,54,18],[55,17,55,18],[56,17,56,18],[47,17,47,18],[48,17,48,18],[49,17,49,18],[50,17,50,18],[51,17,51,18],[42,17,42,18],[43,17,43,18],[44,17,44,18],[45,17,45,18],[46,17,46,18],[37,17,37,18],[38,17,38,18],[39,17,39,18],[40,17,40,18],[41,17,41,18],[32,17,32,18],[33,17,33,18],[34,17,34,18],[35,17,35,18],[36,17,36,18],[27,17,27,18],[28,17,28,18],[29,17,29,18],[30,17,30,18],[31,17,31,18],[22,17,22,18],[23,17,23,18],[24,17,24,18],[25,17,25,18],[26,17,26,18],[17,17,17,18],[18,17,18,18],[19,17,19,18],[20,17,20,18],[21,17,21,18],[8,1,8,2],[12,17,12,18],[13,17,13,18],[14,17,14,18],[15,17,15,18],[16,17,16,18],[2,16,2,20],[8,17,8,18],[9,17,9,18],[10,17,10,18],[11,17,11,18],[3,19,3,20],[3,16,4,16]]}
["③選手情報入力",null,null,null,{"$f":"IF(①団体情報入力!D5=\"\",\"\",①団体情報入力!D5)","v":""}]
[null,null,"絶対に、行を空けて入力しないでください。"]
[null,null,"※必要事項を全て入力してください。",null,null,null,null,null,null,null,null,null,null,null,null,null,"リレー記録"]
[null,null,"※リレー種目にエントリーをする場合は○を選択し、「③リレー情報確認」でメンバーを確認してください。",null,null,null,null,null,null,null,null,null,null,null,null,null,null,"4X100mR",null,"4X400mR"]
[null,null,"※ナンバーを入力してもリレーメンバーが反映されない場合、ナンバーのセルが文字列になっています。",null,null,null,null,null,null,null,null,null,null,null,null,null,null,"OP","記録","OP","記録"]
[null,null,"※コピーしたデータを貼り付ける場合は、「形式を選択して貼り付け」から「値」で貼り付けてください。",null,null,null,null,null,null,null,null,null,null,null,null,null,"男子"]
[null,null,"※データを修正する場合は、必ず「Delete」キーを使用してください。",null,null,null,null,null,null,null,null,null,null,null,null,null,"女子"]
[]
[null,"ﾅﾝﾊﾞｰ",null,"氏　名\n姓と名の間に\n全角ｽﾍﾟｰｽ1つ","ﾌﾘｶﾞﾅ\n姓と名の間に\n半角ｽﾍﾟｰｽ1つ",null,"性別","学年","OP1","種目１","記録１","OP2","種目２","記録２","OP3","種目３",null,"4X100mR",null,"4X400mR"]
["例","A",1234,"西三　太郎","ｾｲｻﾝ ﾀﾛｳ",null,"男",2,null,"男100m",12.53,null,"男砲丸投","12m00",null,"男1500m",null,"○",null,"○",null,null,null,null,null,null,null,"ﾅﾝﾊﾞｰ","氏　名","ﾌﾘｶﾞﾅ","性別","学年","競技者NO","ﾅﾝﾊﾞｰ","氏　名","ﾌﾘｶﾞﾅ","性別","学年","競技者NO","男400R",{"$f":"COUNT(AO11:AO100)","v":0},"男1600R",{"$f":"COUNT(AQ11:AQ100)","v":0},"女400R",{"$f":"COUNT(AS11:AS100)","v":0},"女1600R",{"$f":"COUNT(AU11:AU100)","v":0}]
[1,{"$f":"IF(①団体情報入力!C9=\"\",\"\",IF(C11=\"\",\"\",①団体情報入力!C9))","v":""},null,null,null,null,null,null,null,null,null,null,null,null,null,null,null,null,null,null,null,null,null,null,null,null,null,{"$f":"IF(G11=\"男\",C11,\"\")","v":""},{"$f":"IF(G11=\"男\",D11,\"\")","v":""},{"$f":"IF(G11=\"男\",E11,\"\")","v":""},{"$f":"IF(G11=\"男\",G11,\"\")","v":""},{"$f":"IF(G11=\"男\",IF(H11=\"\",\"\",H11),\"\")","v":""},{"$f":"IF(G11=\"男\",data_kyogisha!A2,\"\")","v":""},{"$f":"IF(G11=\"女\",C11,\"\")","v":""},{"$f":"IF(G11=\"女\",D11,\"\")","v":""},{"$f":"IF(G11=\"女\",E11,\"\")","v":""},{"$f":"IF(G11=\"女\",G11,\"\")","v":""},{"$f":"IF(G11=\"女\",IF(H11=\"\",\"\",H11),\"\")","v":""},{"$f":"IF(G11=\"女\",data_kyogisha!A2,\"\")","v":""},{"$f":"IF(AND(G11=\"男\",R11=\"○\"),1,0)","v":0},{"$f":"IF(AND($G11=\"男\",$R11=\"○\"),$C11,\"\")","v":""},{"$f":"IF(AND(G11=\"男\",T11=\"○\"),1,0)","v":0},{"$f":"IF(AND($G11=\"男\",$T11=\"○\"),$C11,\"\")","v":""},{"$f":"IF(AND(G11=\"女\",R11=\"○\"),1,0)","v":0},{"$f":"IF(AND($G11=\"女\",$R11=\"○\"),$C11,\"\")","v":""},{"$f":"IF(AND(G11=\"女\",T11=\"○\"),1,0)","v":0},{"$f":"IF(AND($G11=\"女\",$T11=\"○\"),$C11,\"\")","v":""}]
[2,{"$f":"IF(①団体情報入力!C10=\"\",\"\",IF(C12=\"\",\"\",①団体情報入力!C10))","v":""},null,null,null,null,null,null,null,null,null,null,null,null,null,null,null,null,null,null,null,null,null,"男",{"$f":"IF(種目情報!A4=\"\",\"\",種目情報!A4)","v":"男60m"},{"$f":"IF(種目情報!E4=\"\",\"\",種目情報!E4)","v":"女60m"},"○","","","","","",{"$f":"IF(G12=\"男\",data_kyogisha!A3,\"\")","v":""},"","","","","",{"$f":"IF(G12=\"女\",data_kyogisha!A3,\"\")","v":""},{"$f":"IF(AND(G12=\"男\",R12=\"○\"),AN11+1,AN11)","v":0},{"$f":"IF(AND(G12=\"男\",R12=\"○\"),C12,\"\")","v":""},{"$f":"IF(AND(G12=\"男\",T12=\"○\"),AP11+1,AP11)","v":0},{"$f":"IF(AND(G12=\"男\",T12=\"○\"),C12,\"\")","v":""},{"$f":"IF(AND(G12=\"女\",R12=\"○\"),AR11+1,AR11)","v":0},"",{"$f":"IF(AND(G12=\"女\",T12=\"○\"),AT11+1,AT11)","v":0},""]
[3,{"$f":"IF(①団体情報入力!C11=\"\",\"\",IF(C13=\"\",\"\",①団体情報入力!C11))","v":""},null,null,null,null,null,null,null,null,null,null,null,null,null,null,null,null,null,null,null,null,null,"女",{"$f":"IF(種目情報!A5=\"\",\"\",種目情報!A5)","v":"男300m"},{"$f":"IF(種目情報!E5=\"\",\"\",種目情報!E5)","v":"女300m"},null,"","","","","",{"$f":"IF(G13=\"男\",data_kyogisha!A4,\"\")","v":""},"","","","","",{"$f":"IF(G13=\"女\",data_kyogisha!A4,\"\")","v":""},0,"",0,"",0,"",0,""]
[4,{"$f":"IF(①団体情報入力!C12=\"\",\"\",IF(C14=\"\",\"\",①団体情報入力!C12))","v":""},null,null,null,null,null,null,null,null,null,null,null,null,null,null,null,null,null,null,null,null,null,null,{"$f":"IF(種目情報!A6=\"\",\"\",種目情報!A6)","v":"男1マイル"},{"$f":"IF(種目情報!E6=\"\",\"\",種目情報!E6)","v":"女1マイル"},null,"","","","","",{"$f":"IF(G14=\"男\",data_kyogisha!A5,\"\")","v":""},"","","","","",{"$f":"IF(G14=\"女\",data_kyogisha!A5,\"\")","v":""},0,"",0,"",0,"",0,""]
[5,{"$f":"IF(①団体情報入力!C13=\"\",\"\",IF(C15=\"\",\"\",①団体情報入力!C13))","v":""},null,null,null,null,null,null,null,null,null,null,null,null,null,null,null,null,null,null,null,null,null,null,{"$f":"IF(種目情報!A7=\"\",\"\",種目情報!A7)","v":"男１１０ｍＪＨ(0.991m)"},{"$f":"IF(種目情報!E7=\"\",\"\",種目情報!E7)","v":"女１００ｍＹＨ(0.762m/8.5m)"},null,"","","","","",{"$f":"IF(G15=\"男\",data_kyogisha!A6,\"\")","v":""},"","","","","",{"$f":"IF(G15=\"女\",data_kyogisha!A6,\"\")","v":""},0,"",0,"",0,"",0,""]
[6,{"$f":"IF(①団体情報入力!C14=\"\",\"\",IF(C16=\"\",\"\",①団体情報入力!C14))","v":""},null,null,null,null,null,null,null,null,null,null,null,null,null,null,null,null,null,null,null,null,null,null,{"$f":"IF(種目情報!A8=\"\",\"\",種目情報!A8)","v":"男走高跳Ａ"},{"$f":"IF(種目情報!E8=\"\",\"\",種目情報!E8)","v":"女走高跳Ａ"},null,"","","","","",{"$f":"IF(G16=\"男\",data_kyogisha!A7,\"\")","v":""},"","","","","",{"$f":"IF(G16=\"女\",data_kyogisha!A7,\"\")","v":""},0,"",0,"",0,"",0,""]
[7,{"$f":"IF(①団体情報入力!C15=\"\",\"\",IF(C17=\"\",\"\",①団体情報入力!C15))","v":""},null,null,null,null,null,null,null,null,null,null,null,null,null,null,null,null,null,null,null,null,null,null,{"$f":"IF(種目情報!A9=\"\",\"\",種目情報!A9)","v":"男走高跳Ｂ"},{"$f":"IF(種目情報!E9=\"\",\"\",種目情報!E9)","v":"女走高跳Ｂ"},null,"","","","","",{"$f":"IF(G17=\"男\",data_kyogisha!A8,\"\")","v":""},"","","","","",{"$f":"IF(G17=\"女\",data_kyogisha!A8,\"\")","v":""},0,"",0,"",0,"",0,""]
[8,{"$f":"IF(①団体情報入力!C16=\"\",\"\",IF(C18=\"\",\"\",①団体情報入力!C16))","v":""},null,null,null,null,null,null,null,null,null,null,null,null,null,null,null,null,null,null,null,null,null,null,{"$f":"IF(種目情報!A10=\"\",\"\",種目情報!A10)","v":"男走幅跳"},{"$f":"IF(種目情報!E10=\"\",\"\",種目情報!E10)","v":"女走幅跳"},null,"","","","","",{"$f":"IF(G18=\"男\",data_kyogisha!A9,\"\")","v":""},"","","","","",{"$f":"IF(G18=\"女\",data_kyogisha!A9,\"\")","v":""},0,"",0,"",0,"",0,""]
[9,{"$f":"IF(①団体情報入力!C17=\"\",\"\",IF(C19=\"\",\"\",①団体情報入力!C17))","v":""},null,null,null,null,null,null,null,null,null,null,null,null,null,null,null,null,null,null,null,null,null,null,{"$f":"IF(種目情報!A11=\"\",\"\",種目情報!A11)","v":"男高校砲丸投(6.000kg)"},{"$f":"IF(種目情報!E11=\"\",\"\",種目情報!E11)","v":"女砲丸投(4.000kg),"},null,"","","","","",{"$f":"IF(G19=\"男\",data_kyogisha!A10,\"\")","v":""},"","","","","",{"$f":"IF(G19=\"女\",data_kyogisha!A10,\"\")","v":""},0,"",0,"",0,"",0,""]
[10,{"$f":"IF(①団体情報入力!C18=\"\",\"\",IF(C20=\"\",\"\",①団体情報入力!C18))","v":""},null,null,null,null,null,null,null,null,null,null,null,null,null,null,null,null,null,null,null,null,null,null,{"$f":"IF(種目情報!A12=\"\",\"\",種目情報!A12)","v":"男高校円盤投(1.750kg)"},{"$f":"IF(種目情報!E12=\"\",\"\",種目情報!E12)","v":"女円盤投(1.000kg)"},null,"","","","","",{"$f":"IF(G20=\"男\",data_kyogisha!A11,\"\")","v":""},"","","","","",{"$f":"IF(G20=\"女\",data_kyogisha!A11,\"\")","v":""},0,"",0,"",0,"",0,""]
[11,{"$f":"IF(①団体情報入力!C19=\"\",\"\",IF(C21=\"\",\"\",①団体情報入力!C19))","v":""},null,null,null,null,null,null,null,null,null,null,null,null,null,null,null,null,null,null,null,null,null,null,{"$f":"IF(種目情報!A13=\"\",\"\",種目情報!A13)","v":""},{"$f":"IF(種目情報!E13=\"\",\"\",種目情報!E13)","v":""},null,"","","","","",{"$f":"IF(G21=\"男\",data_kyogisha!A12,\"\")","v":""},"","","","","",{"$f":"IF(G21=\"女\",data_kyogisha!A12,\"\")","v":""},0,"",0,"",0,"",0,""]
[12,{"$f":"IF(①団体情報入力!C20=\"\",\"\",IF(C22=\"\",\"\",①団体情報入力!C20))","v":""},null,null,null,null,null,null,null,null,null,null,null,null,null,null,null,null,null,null,null,null,null,null,{"$f":"IF(種目情報!A14=\"\",\"\",種目情報!A14)","v":""},{"$f":"IF(種目情報!E13=\"\",\"\",種目情報!E13)","v":""},null,"","","","","",{"$f":"IF(G22=\"男\",data_kyogisha!A13,\"\")","v":""},"","","","","",{"$f":"IF(G22=\"女\",data_kyogisha!A13,\"\")","v":""},0,"",0,"",0,"",0,""]
[13,{"$f":"IF(①団体情報入力!C21=\"\",\"\",IF(C23=\"\",\"\",①団体情報入力!C21))","v":""},null,null,null,null,null,null,null,null,null,null,null,null,null,null,null,null,null,null,null,null,null,null,{"$f":"IF(種目情報!A15=\"\",\"\",種目情報!A15)","v":""},{"$f":"IF(種目情報!E14=\"\",\"\",種目情報!E14)","v":""},null,"","","","","",{"$f":"IF(G23=\"男\",data_kyogisha!A14,\"\")","v":""},"","","","","",{"$f":"IF(G23=\"女\",data_kyogisha!A14,\"\")","v":""},0,"",0,"",0,"",0,""]
[14,{"$f":"IF(①団体情報入力!C22=\"\",\"\",IF(C24=\"\",\"\",①団体情報入力!C22))","v":""},null,null,null,null,null,null,null,null,null,null,null,null,null,null,null,null,null,null,null,null,null,null,{"$f":"IF(種目情報!A13=\"\",\"\",種目情報!A13)","v":""},{"$f":"IF(種目情報!E15=\"\",\"\",種目情報!E15)","v":""},null,"","","","","",{"$f":"IF(G24=\"男\",data_kyogisha!A15,\"\")","v":""},"","","","","",{"$f":"IF(G24=\"女\",data_kyogisha!A15,\"\")","v":""},0,"",0,"",0,"",0,""]
[15,{"$f":"IF(①団体情報入力!C23=\"\",\"\",IF(C25=\"\",\"\",①団体情報入力!C23))","v":""},null,null,null,null,null,null,null,null,null,null,null,null,null,null,null,null,null,null,null,null,null,null,{"$f":"IF(種目情報!A14=\"\",\"\",種目情報!A14)","v":""},{"$f":"IF(種目情報!E16=\"\",\"\",種目情報!E16)","v":""},null,"","","","","",{"$f":"IF(G25=\"男\",data_kyogisha!A16,\"\")","v":""},"","","","","",{"$f":"IF(G25=\"女\",data_kyogisha!A16,\"\")","v":""},0,"",0,"",0,"",0,""]
[16,{"$f":"IF(①団体情報入力!C24=\"\",\"\",IF(C26=\"\",\"\",①団体情報入力!C24))","v":""},null,null,null,null,null,null,null,null,null,null,null,null,null,null,null,null,null,null,null,null,null,null,{"$f":"IF(種目情報!A15=\"\",\"\",種目情報!A15)","v":""},{"$f":"IF(種目情報!E17=\"\",\"\",種目情報!E17)","v":""},null,"","","","","",{"$f":"IF(G26=\"男\",data_kyogisha!A17,\"\")","v":""},"","","","","",{"$f":"IF(G26=\"女\",data_kyogisha!A17,\"\")","v":""},0,"",0,"",0,"",0,""]
[17,{"$f":"IF(①団体情報入力!C25=\"\",\"\",IF(C27=\"\",\"\",①団体情報入力!C25))","v":""},null,null,null,null,null,null,null,null,null,null,null,null,null,null,null,null,null,null,null,null,null,null,{"$f":"IF(種目情報!A16=\"\",\"\",種目情報!A16)","v":""},{"$f":"IF(種目情報!E18=\"\",\"\",種目情報!E18)","v":""},null,"","","","","",{"$f":"IF(G27=\"男\",data_kyogisha!A18,\"\")","v":""},"","","","","",{"$f":"IF(G27=\"女\",data_kyogisha!A18,\"\")","v":""},0,"",0,"",0,"",0,""]
[18,{"$f":"IF(①団体情報入力!C26=\"\",\"\",IF(C28=\"\",\"\",①団体情報入力!C26))","v":""},null,null,null,null,null,null,null,null,null,null,null,null,null,null,null,null,null,null,null,null,null,null,{"$f":"IF(種目情報!A17=\"\",\"\",種目情報!A17)","v":""},{"$f":"IF(種目情報!E19=\"\",\"\",種目情報!E19)","v":""},null,"","","","","",{"$f":"IF(G28=\"男\",data_kyogisha!A19,\"\")","v":""},"","","","","",{"$f":"IF(G28=\"女\",data_kyogisha!A19,\"\")","v":""},0,"",0,"",0,"",0,""]
[19,{"$f":"IF(①団体情報入力!C27=\"\",\"\",IF(C29=\"\",\"\",①団体情報入力!C27))","v":""},null,null,null,null,null,null,null,null,null,null,null,null,null,null,null,null,null,null,null,null,null,null,{"$f":"IF(種目情報!A18=\"\",\"\",種目情報!A18)","v":""},null,null,"","","","","",{"$f":"IF(G29=\"男\",data_kyogisha!A20,\"\")","v":""},"","","","","",{"$f":"IF(G29=\"女\",data_kyogisha!A20,\"\")","v":""},0,"",0,"",0,"",0,""]
[20,{"$f":"IF(①団体情報入力!C28=\"\",\"\",IF(C30=\"\",\"\",①団体情報入力!C28))","v":""},null,null,null,null,null,null,null,null,null,null,null,null,null,null,null,null,null,null,null,null,null,null,{"$f":"IF(種目情報!A19=\"\",\"\",種目情報!A19)","v":""},null,null,"","","","","",{"$f":"IF(G30=\"男\",data_kyogisha!A21,\"\")","v":""},"","","","","",{"$f":"IF(G30=\"女\",data_kyogisha!A21,\"\")","v":""},0,"",0,"",0,"",0,""]
[21,{"$f":"IF(①団体情報入力!C29=\"\",\"\",IF(C31=\"\",\"\",①団体情報入力!C29))","v":""},null,null,null,null,null,null,null,null,null,null,null,null,null,null,null,null,null,null,null,null,null,null,null,null,null,"","","","","",{"$f":"IF(G31=\"男\",data_kyogisha!A22,\"\")","v":""},"","","","","",{"$f":"IF(G31=\"女\",data_kyogisha!A22,\"\")","v":""},0,"",0,"",0,"",0,""]
[22,{"$f":"IF(①団体情報入力!C30=\"\",\"\",IF(C32=\"\",\"\",①団体情報入力!C30))","v":""},null,null,null,null,null,null,null,null,null,null,null,null,null,null,null,null,null,null,null,null,null,null,null,null,null,"","","","","",{"$f":"IF(G32=\"男\",data_kyogisha!A23,\"\")","v":""},"","","","","",{"$f":"IF(G32=\"女\",data_kyogisha!A23,\"\")","v":""},0,"",0,"",0,"",0,""]
[23,{"$f":"IF(①団体情報入力!C31=\"\",\"\",IF(C33=\"\",\"\",①団体情報入力!C31))","v":""},null,null,null,null,null,null,null,null,null,null,null,null,null,null,null,null,null,null,null,null,null,null,null,null,null,"","","","","",{"$f":"IF(G33=\"男\",data_kyogisha!A24,\"\")","v":""},"","","","","",{"$f":"IF(G33=\"女\",data_kyogisha!A24,\"\")","v":""},0,"",0,"",0,"",0,""]
[24,{"$f":"IF(①団体情報入力!C32=\"\",\"\",IF(C34=\"\",\"\",①団体情報入力!C32))","v":""},null,null,null,null,null,null,null,null,null,null,null,null,null,null,null,null,null,null,null,null,null,null,null,null,null,"","","","","",{"$f":"IF(G34=\"男\",data_kyogisha!A25,\"\")","v":""},"","","","","",{"$f":"IF(G34=\"女\",data_kyogisha!A25,\"\")","v":""},0,"",0,"",0,"",0,""]
[25,{"$f":"IF(①団体情報入力!C33=\"\",\"\",IF(C35=\"\",\"\",①団体情報入力!C33))","v":""},null,null,null,null,null,null,null,null,null,null,null,null,null,null,null,null,null,null,null,null,null,null,null,null,null,"","","","","",{"$f":"IF(G35=\"男\",data_kyogisha!A26,\"\")","v":""},"","","","","",{"$f":"IF(G35=\"女\",data_kyogisha!A26,\"\")","v":""},0,"",0,"",0,"",0,""]
[26,{"$f":"IF(①団体情報入力!C34=\"\",\"\",IF(C36=\"\",\"\",①団体情報入力!C34))","v":""},null,null,null,null,null,null,null,null,null,null,null,null,null,null,null,null,null,null,null,null,null,null,null,null,null,"","","","","",{"$f":"IF(G36=\"男\",data_kyogisha!A27,\"\")","v":""},"","","","","",{"$f":"IF(G36=\"女\",data_kyogisha!A27,\"\")","v":""},0,"",0,"",0,"",0,""]
[27,{"$f":"IF(①団体情報入力!C35=\"\",\"\",IF(C37=\"\",\"\",①団体情報入力!C35))","v":""},null,null,null,null,null,null,null,null,null,null,null,null,null,null,null,null,null,null,null,null,null,null,null,null,null,"","","","","",{"$f":"IF(G37=\"男\",data_kyogisha!A28,\"\")","v":""},"","","","","",{"$f":"IF(G37=\"女\",data_kyogisha!A28,\"\")","v":""},0,"",0,"",0,"",0,""]
[28,{"$f":"IF(①団体情報入力!C36=\"\",\"\",IF(C38=\"\",\"\",①団体情報入力!C36))","v":""},null,null,null,null,null,null,null,null,null,null,null,null,null,null,null,null,null,null,null,null,null,null,null,null,null,"","","","","",{"$f":"IF(G38=\"男\",data_kyogisha!A29,\"\")","v":""},"","","","","",{"$f":"IF(G38=\"女\",data_kyogisha!A29,\"\")","v":""},0,"",0,"",0,"",0,""]
[29,{"$f":"IF(①団体情報入力!C37=\"\",\"\",IF(C39=\"\",\"\",①団体情報入力!C37))","v":""},null,null,null,null,null,null,null,null,null,null,null,null,null,null,null,null,null,null,null,null,null,null,null,null,null,"","","","","",{"$f":"IF(G39=\"男\",data_kyogisha!A30,\"\")","v":""},"","","","","",{"$f":"IF(G39=\"女\",data_kyogisha!A30,\"\")","v":""},0,"",0,"",0,"",0,""]
[30,{"$f":"IF(①団体情報入力!C38=\"\",\"\",IF(C40=\"\",\"\",①団体情報入力!C38))","v":""},null,null,null,null,null,null,null,null,null,null,null,null,null,null,null,null,null,null,null,null,null,null,null,null,null,"","","","","",{"$f":"IF(G40=\"男\",data_kyogisha!A31,\"\")","v":""},"","","","","",{"$f":"IF(G40=\"女\",data_kyogisha!A31,\"\")","v":""},0,"",0,"",0,"",0,""]
[31,{"$f":"IF(①団体情報入力!C39=\"\",\"\",IF(C41=\"\",\"\",①団体情報入力!C39))","v":""},null,null,null,null,null,null,null,null,null,null,null,null,null,null,null,null,null,null,null,null,null,null,null,null,null,"","","","","",{"$f":"IF(G41=\"男\",data_kyogisha!A32,\"\")","v":""},"","","","","",{"$f":"IF(G41=\"女\",data_kyogisha!A32,\"\")","v":""},0,"",0,"",0,"",0,""]
[32,{"$f":"IF(①団体情報入力!C40=\"\",\"\",IF(C42=\"\",\"\",①団体情報入力!C40))","v":""},null,null,null,null,null,null,null,null,null,null,null,null,null,null,null,null,null,null,null,null,null,null,null,null,null,"","","","","",{"$f":"IF(G42=\"男\",data_kyogisha!A33,\"\")","v":""},"","","","","",{"$f":"IF(G42=\"女\",data_kyogisha!A33,\"\")","v":""},0,"",0,"",0,"",0,""]
[33,{"$f":"IF(①団体情報入力!C41=\"\",\"\",IF(C43=\"\",\"\",①団体情報入力!C41))","v":""},null,null,null,null,null,null,null,null,null,null,null,null,null,null,null,null,null,null,null,null,null,null,null,null,null,{"$f":"IF(G43=\"男\",C43,\"\")","v":""},{"$f":"IF(G43=\"男\",D43,\"\")","v":""},{"$f":"IF(G43=\"男\",E43,\"\")","v":""},{"$f":"IF(G43=\"男\",G43,\"\")","v":""},{"$f":"IF(G43=\"男\",IF(H43=\"\",\"\",H43),\"\")","v":""},{"$f":"IF(G43=\"男\",data_kyogisha!A34,\"\")","v":""},{"$f":"IF(G43=\"女\",C43,\"\")","v":""},{"$f":"IF(G43=\"女\",D43,\"\")","v":""},{"$f":"IF(G43=\"女\",E43,\"\")","v":""},{"$f":"IF(G43=\"女\",G43,\"\")","v":""},{"$f":"IF(G43=\"女\",IF(H43=\"\",\"\",H43),\"\")","v":""},{"$f":"IF(G43=\"女\",data_kyogisha!A34,\"\")","v":""},0,"",0,"",0,{"$f":"IF(AND($G43=\"女\",$R43=\"○\"),$C43,\"\")","v":""},0,{"$f":"IF(AND($G43=\"女\",$T43=\"○\"),$C43,\"\")","v":""}]
[34,{"$f":"IF(①団体情報入力!C42=\"\",\"\",IF(C44=\"\",\"\",①団体情報入力!C42))","v":""},null,null,null,null,null,null,null,null,null,null,null,null,null,null,null,null,null,null,null,null,null,null,null,null,null,"","","","","",{"$f":"IF(G44=\"男\",data_kyogisha!A35,\"\")","v":""},"","","","","",{"$f":"IF(G44=\"女\",data_kyogisha!A35,\"\")","v":""},{"$f":"IF(AND(G44=\"男\",R44=\"○\"),AN43+1,AN43)","v":0},{"$f":"IF(AND(G44=\"男\",R44=\"○\"),C44,\"\")","v":""},{"$f":"IF(AND(G44=\"男\",T44=\"○\"),AP43+1,AP43)","v":0},{"$f":"IF(AND(G44=\"男\",T44=\"○\"),C44,\"\")","v":""},{"$f":"IF(AND(G44=\"女\",R44=\"○\"),AR43+1,AR43)","v":0},"",{"$f":"IF(AND(G44=\"女\",T44=\"○\"),AT43+1,AT43)","v":0},""]
[35,{"$f":"IF(①団体情報入力!C43=\"\",\"\",IF(C45=\"\",\"\",①団体情報入力!C43))","v":""},null,null,null,null,null,null,null,null,null,null,null,null,null,null,null,null,null,null,null,null,null,null,null,null,null,"","","","","",{"$f":"IF(G45=\"男\",data_kyogisha!A36,\"\")","v":""},"","","","","",{"$f":"IF(G45=\"女\",data_kyogisha!A36,\"\")","v":""},0,"",0,"",0,"",0,""]
[36,{"$f":"IF(①団体情報入力!C44=\"\",\"\",IF(C46=\"\",\"\",①団体情報入力!C44))","v":""},null,null,null,null,null,null,null,null,null,null,null,null,null,null,null,null,null,null,null,null,null,null,null,null,null,"","","","","",{"$f":"IF(G46=\"男\",data_kyogisha!A37,\"\")","v":""},"","","","","",{"$f":"IF(G46=\"女\",data_kyogisha!A37,\"\")","v":""},0,"",0,"",0,"",0,""]
[37,{"$f":"IF(①団体情報入力!C45=\"\",\"\",IF(C47=\"\",\"\",①団体情報入力!C45))","v":""},null,null,null,null,null,null,null,null,null,null,null,null,null,null,null,null,null,null,null,null,null,null,null,null,null,"","","","","",{"$f":"IF(G47=\"男\",data_kyogisha!A38,\"\")","v":""},"","","","","",{"$f":"IF(G47=\"女\",data_kyogisha!A38,\"\")","v":""},0,"",0,"",0,"",0,""]
[38,{"$f":"IF(①団体情報入力!C46=\"\",\"\",IF(C48=\"\",\"\",①団体情報入力!C46))","v":""},null,null,null,null,null,null,null,null,null,null,null,null,null,null,null,null,null,null,null,null,null,null,null,null,null,"","","","","",{"$f":"IF(G48=\"男\",data_kyogisha!A39,\"\")","v":""},"","","","","",{"$f":"IF(G48=\"女\",data_kyogisha!A39,\"\")","v":""},0,"",0,"",0,"",0,""]
[39,{"$f":"IF(①団体情報入力!C47=\"\",\"\",IF(C49=\"\",\"\",①団体情報入力!C47))","v":""},null,null,null,null,null,null,null,null,null,null,null,null,null,null,null,null,null,null,null,null,null,null,null,null,null,"","","","","",{"$f":"IF(G49=\"男\",data_kyogisha!A40,\"\")","v":""},"","","","","",{"$f":"IF(G49=\"女\",data_kyogisha!A40,\"\")","v":""},0,"",0,"",0,"",0,""]
[40,{"$f":"IF(①団体情報入力!C48=\"\",\"\",IF(C50=\"\",\"\",①団体情報入力!C48))","v":""},null,null,null,null,null,null,null,null,null,null,null,null,null,null,null,null,null,null,null,null,null,null,null,null,null,"","","","","",{"$f":"IF(G50=\"男\",data_kyogisha!A41,\"\")","v":""},"","","","","",{"$f":"IF(G50=\"女\",data_kyogisha!A41,\"\")","v":""},0,"",0,"",0,"",0,""]
[41,{"$f":"IF(①団体情報入力!C49=\"\",\"\",IF(C51=\"\",\"\",①団体情報入力!C49))","v":""},null,null,null,null,null,null,null,null,null,null,null,null,null,null,null,null,null,null,null,null,null,null,null,null,null,"","","","","",{"$f":"IF(G51=\"男\",data_kyogisha!A42,\"\")","v":""},"","","","","",{"$f":"IF(G51=\"女\",data_kyogisha!A42,\"\")","v":""},0,"",0,"",0,"",0,""]
[42,{"$f":"IF(①団体情報入力!C50=\"\",\"\",IF(C52=\"\",\"\",①団体情報入力!C50))","v":""},null,null,null,null,null,null,null,null,null,null,null,null,null,null,null,null,null,null,null,null,null,null,null,null,null,"","","","","",{"$f":"IF(G52=\"男\",data_kyogisha!A43,\"\")","v":""},"","","","","",{"$f":"IF(G52=\"女\",data_kyogisha!A43,\"\")","v":""},0,"",0,"",0,"",0,""]
[43,{"$f":"IF(①団体情報入力!C51=\"\",\"\",IF(C53=\"\",\"\",①団体情報入力!C51))","v":""},null,null,null,null,null,null,null,null,null,null,null,null,null,null,null,null,null,null,null,null,null,null,null,null,null,"","","","","",{"$f":"IF(G53=\"男\",data_kyogisha!A44,\"\")","v":""},"","","","","",{"$f":"IF(G53=\"女\",data_kyogisha!A44,\"\")","v":""},0,"",0,"",0,"",0,""]
[44,{"$f":"IF(①団体情報入力!C52=\"\",\"\",IF(C54=\"\",\"\",①団体情報入力!C52))","v":""},null,null,null,null,null,null,null,null,null,null,null,null,null,null,null,null,null,null,null,null,null,null,null,null,null,"","","","","",{"$f":"IF(G54=\"男\",data_kyogisha!A45,\"\")","v":""},"","","","","",{"$f":"IF(G54=\"女\",data_kyogisha!A45,\"\")","v":""},0,"",0,"",0,"",0,""]
[45,{"$f":"IF(①団体情報入力!C53=\"\",\"\",IF(C55=\"\",\"\",①団体情報入力!C53))","v":""},null,null,null,null,null,null,null,null,null,null,null,null,null,null,null,null,null,null,null,null,null,null,null,null,null,"","","","","",{"$f":"IF(G55=\"男\",data_kyogisha!A46,\"\")","v":""},"","","","","",{"$f":"IF(G55=\"女\",data_kyogisha!A46,\"\")","v":""},0,"",0,"",0,"",0,""]
[46,{"$f":"IF(①団体情報入力!C54=\"\",\"\",IF(C56=\"\",\"\",①団体情報入力!C54))","v":""},null,null,null,null,null,null,null,null,null,null,null,null,null,null,null,null,null,null,null,null,null,null,null,null,null,"","","","","",{"$f":"IF(G56=\"男\",data_kyogisha!A47,\"\")","v":""},"","","","","",{"$f":"IF(G56=\"女\",data_kyogisha!A47,\"\")","v":""},0,"",0,"",0,"",0,""]
[47,{"$f":"IF(①団体情報入力!C55=\"\",\"\",IF(C57=\"\",\"\",①団体情報入力!C55))","v":""},null,null,null,null,null,null,null,null,null,null,null,null,null,null,null,null,null,null,null,null,null,null,null,null,null,"","","","","",{"$f":"IF(G57=\"男\",data_kyogisha!A48,\"\")","v":""},"","","","","",{"$f":"IF(G57=\"女\",data_kyogisha!A48,\"\")","v":""},0,"",0,"",0,"",0,""]
[48,{"$f":"IF(①団体情報入力!C56=\"\",\"\",IF(C58=\"\",\"\",①団体情報入力!C56))","v":""},null,null,null,null,null,null,null,null,null,null,null,null,null,null,null,null,null,null,null,null,null,null,null,null,null,"","","","","",{"$f":"IF(G58=\"男\",data_kyogisha!A49,\"\")","v":""},"","","","","",{"$f":"IF(G58=\"女\",data_kyogisha!A49,\"\")","v":""},0,"",0,"",0,"",0,""]
[49,{"$f":"IF(①団体情報入力!C57=\"\",\"\",IF(C59=\"\",\"\",①団体情報入力!C57))","v":""},null,null,null,null,null,null,null,null,null,null,null,null,null,null,null,null,null,null,null,null,null,null,null,null,null,"","","","","",{"$f":"IF(G59=\"男\",data_kyogisha!A50,\"\")","v":""},"","","","","",{"$f":"IF(G59=\"女\",data_kyogisha!A50,\"\")","v":""},0,"",0,"",0,"",0,""]
[50,{"$f":"IF(①団体情報入力!C58=\"\",\"\",IF(C60=\"\",\"\",①団体情報入力!C58))","v":""},null,null,null,null,null,null,null,null,null,null,null,null,null,null,null,null,null,null,null,null,null,null,null,null,null,"","","","","",{"$f":"IF(G60=\"男\",data_kyogisha!A51,\"\")","v":""},"","","","","",{"$f":"IF(G60=\"女\",data_kyogisha!A51,\"\")","v":""},0,"",0,"",0,"",0,""]
[51,{"$f":"IF(①団体情報入力!C59=\"\",\"\",IF(C61=\"\",\"\",①団体情報入力!C59))","v":""},null,null,null,null,null,null,null,null,null,null,null,null,null,null,null,null,null,null,null,null,null,null,null,null,null,"","","","","",{"$f":"IF(G61=\"男\",data_kyogisha!A52,\"\")","v":""},"","","","","",{"$f":"IF(G61=\"女\",data_kyogisha!A52,\"\")","v":""},0,"",0,"",0,"",0,""]
[52,{"$f":"IF(①団体情報入力!C60=\"\",\"\",IF(C62=\"\",\"\",①団体情報入力!C60))","v":""},null,null,null,null,null,null,null,null,null,null,null,null,null,null,null,null,null,null,null,null,null,null,null,null,null,"","","","","",{"$f":"IF(G62=\"男\",data_kyogisha!A53,\"\")","v":""},"","","","","",{"$f":"IF(G62=\"女\",data_kyogisha!A53,\"\")","v":""},0,"",0,"",0,"",0,""]
[53,{"$f":"IF(①団体情報入力!C61=\"\",\"\",IF(C63=\"\",\"\",①団体情報入力!C61))","v":""},null,null,null,null,null,null,null,null,null,null,null,null,null,null,null,null,null,null,null,null,null,null,null,null,null,"","","","","",{"$f":"IF(G63=\"男\",data_kyogisha!A54,\"\")","v":""},"","","","","",{"$f":"IF(G63=\"女\",data_kyogisha!A54,\"\")","v":""},0,"",0,"",0,"",0,""]
[54,{"$f":"IF(①団体情報入力!C62=\"\",\"\",IF(C64=\"\",\"\",①団体情報入力!C62))","v":""},null,null,null,null,null,null,null,null,null,null,null,null,null,null,null,null,null,null,null,null,null,null,null,null,null,"","","","","",{"$f":"IF(G64=\"男\",data_kyogisha!A55,\"\")","v":""},"","","","","",{"$f":"IF(G64=\"女\",data_kyogisha!A55,\"\")","v":""},0,"",0,"",0,"",0,""]
[55,{"$f":"IF(①団体情報入力!C63=\"\",\"\",IF(C65=\"\",\"\",①団体情報入力!C63))","v":""},null,null,null,null,null,null,null,null,null,null,null,null,null,null,null,null,null,null,null,null,null,null,null,null,null,"","","","","",{"$f":"IF(G65=\"男\",data_kyogisha!A56,\"\")","v":""},"","","","","",{"$f":"IF(G65=\"女\",data_kyogisha!A56,\"\")","v":""},0,"",0,"",0,"",0,""]
[56,{"$f":"IF(①団体情報入力!C64=\"\",\"\",IF(C66=\"\",\"\",①団体情報入力!C64))","v":""},null,null,null,null,null,null,null,null,null,null,null,null,null,null,null,null,null,null,null,null,null,null,null,null,null,"","","","","",{"$f":"IF(G66=\"男\",data_kyogisha!A57,\"\")","v":""},"","","","","",{"$f":"IF(G66=\"女\",data_kyogisha!A57,\"\")","v":""},0,"",0,"",0,"",0,""]
[57,{"$f":"IF(①団体情報入力!C65=\"\",\"\",IF(C67=\"\",\"\",①団体情報入力!C65))","v":""},null,null,null,null,null,null,null,null,null,null,null,null,null,null,null,null,null,null,null,null,null,null,null,null,null,"","","","","",{"$f":"IF(G67=\"男\",data_kyogisha!A58,\"\")","v":""},"","","","","",{"$f":"IF(G67=\"女\",data_kyogisha!A58,\"\")","v":""},0,"",0,"",0,"",0,""]
[58,{"$f":"IF(①団体情報入力!C66=\"\",\"\",IF(C68=\"\",\"\",①団体情報入力!C66))","v":""},null,null,null,null,null,null,null,null,null,null,null,null,null,null,null,null,null,null,null,null,null,null,null,null,null,"","","","","",{"$f":"IF(G68=\"男\",data_kyogisha!A59,\"\")","v":""},"","","","","",{"$f":"IF(G68=\"女\",data_kyogisha!A59,\"\")","v":""},0,"",0,"",0,"",0,""]
[59,{"$f":"IF(①団体情報入力!C67=\"\",\"\",IF(C69=\"\",\"\",①団体情報入力!C67))","v":""},null,null,null,null,null,null,null,null,null,null,null,null,null,null,null,null,null,null,null,null,null,null,null,null,null,"","","","","",{"$f":"IF(G69=\"男\",data_kyogisha!A60,\"\")","v":""},"","","","","",{"$f":"IF(G69=\"女\",data_kyogisha!A60,\"\")","v":""},0,"",0,"",0,"",0,""]
[60,{"$f":"IF(①団体情報入力!C68=\"\",\"\",IF(C70=\"\",\"\",①団体情報入力!C68))","v":""},null,null,null,null,null,null,null,null,null,null,null,null,null,null,null,null,null,null,null,null,null,null,null,null,null,"","","","","",{"$f":"IF(G70=\"男\",data_kyogisha!A61,\"\")","v":""},"","","","","",{"$f":"IF(G70=\"女\",data_kyogisha!A61,\"\")","v":""},0,"",0,"",0,"",0,""]
[61,{"$f":"IF(①団体情報入力!C69=\"\",\"\",IF(C71=\"\",\"\",①団体情報入力!C69))","v":""},null,null,null,null,null,null,null,null,null,null,null,null,null,null,null,null,null,null,null,null,null,null,null,null,null,"","","","","",{"$f":"IF(G71=\"男\",data_kyogisha!A62,\"\")","v":""},"","","","","",{"$f":"IF(G71=\"女\",data_kyogisha!A62,\"\")","v":""},0,"",0,"",0,"",0,""]
[62,{"$f":"IF(①団体情報入力!C70=\"\",\"\",IF(C72=\"\",\"\",①団体情報入力!C70))","v":""},null,null,null,null,null,null,null,null,null,null,null,null,null,null,null,null,null,null,null,null,null,null,null,null,null,"","","","","",{"$f":"IF(G72=\"男\",data_kyogisha!A63,\"\")","v":""},"","","","","",{"$f":"IF(G72=\"女\",data_kyogisha!A63,\"\")","v":""},0,"",0,"",0,"",0,""]
[63,{"$f":"IF(①団体情報入力!C71=\"\",\"\",IF(C73=\"\",\"\",①団体情報入力!C71))","v":""},null,null,null,null,null,null,null,null,null,null,null,null,null,null,null,null,null,null,null,null,null,null,null,null,null,"","","","","",{"$f":"IF(G73=\"男\",data_kyogisha!A64,\"\")","v":""},"","","","","",{"$f":"IF(G73=\"女\",data_kyogisha!A64,\"\")","v":""},0,"",0,"",0,"",0,""]
[64,{"$f":"IF(①団体情報入力!C72=\"\",\"\",IF(C74=\"\",\"\",①団体情報入力!C72))","v":""},null,null,null,null,null,null,null,null,null,null,null,null,null,null,null,null,null,null,null,null,null,null,null,null,null,"","","","","",{"$f":"IF(G74=\"男\",data_kyogisha!A65,\"\")","v":""},"","","","","",{"$f":"IF(G74=\"女\",data_kyogisha!A65,\"\")","v":""},0,"",0,"",0,"",0,""]
[65,{"$f":"IF(①団体情報入力!C73=\"\",\"\",IF(C75=\"\",\"\",①団体情報入力!C73))","v":""},null,null,null,null,null,null,null,null,null,null,null,null,null,null,null,null,null,null,null,null,null,null,null,null,null,{"$f":"IF(G75=\"男\",C75,\"\")","v":""},{"$f":"IF(G75=\"男\",D75,\"\")","v":""},{"$f":"IF(G75=\"男\",E75,\"\")","v":""},{"$f":"IF(G75=\"男\",G75,\"\")","v":""},{"$f":"IF(G75=\"男\",IF(H75=\"\",\"\",H75),\"\")","v":""},{"$f":"IF(G75=\"男\",data_kyogisha!A66,\"\")","v":""},{"$f":"IF(G75=\"女\",C75,\"\")","v":""},{"$f":"IF(G75=\"女\",D75,\"\")","v":""},{"$f":"IF(G75=\"女\",E75,\"\")","v":""},{"$f":"IF(G75=\"女\",G75,\"\")","v":""},{"$f":"IF(G75=\"女\",IF(H75=\"\",\"\",H75),\"\")","v":""},{"$f":"IF(G75=\"女\",data_kyogisha!A66,\"\")","v":""},0,"",0,"",0,{"$f":"IF(AND($G75=\"女\",$R75=\"○\"),$C75,\"\")","v":""},0,{"$f":"IF(AND($G75=\"女\",$T75=\"○\"),$C75,\"\")","v":""}]
[66,{"$f":"IF(①団体情報入力!C74=\"\",\"\",IF(C76=\"\",\"\",①団体情報入力!C74))","v":""},null,null,null,null,null,null,null,null,null,null,null,null,null,null,null,null,null,null,null,null,null,null,null,null,null,"","","","","",{"$f":"IF(G76=\"男\",data_kyogisha!A67,\"\")","v":""},"","","","","",{"$f":"IF(G76=\"女\",data_kyogisha!A67,\"\")","v":""},{"$f":"IF(AND(G76=\"男\",R76=\"○\"),AN75+1,AN75)","v":0},{"$f":"IF(AND(G76=\"男\",R76=\"○\"),C76,\"\")","v":""},{"$f":"IF(AND(G76=\"男\",T76=\"○\"),AP75+1,AP75)","v":0},{"$f":"IF(AND(G76=\"男\",T76=\"○\"),C76,\"\")","v":""},{"$f":"IF(AND(G76=\"女\",R76=\"○\"),AR75+1,AR75)","v":0},"",{"$f":"IF(AND(G76=\"女\",T76=\"○\"),AT75+1,AT75)","v":0},""]
[67,{"$f":"IF(①団体情報入力!C75=\"\",\"\",IF(C77=\"\",\"\",①団体情報入力!C75))","v":""},null,null,null,null,null,null,null,null,null,null,null,null,null,null,null,null,null,null,null,null,null,null,null,null,null,"","","","","",{"$f":"IF(G77=\"男\",data_kyogisha!A68,\"\")","v":""},"","","","","",{"$f":"IF(G77=\"女\",data_kyogisha!A68,\"\")","v":""},0,"",0,"",0,"",0,""]
[68,{"$f":"IF(①団体情報入力!C76=\"\",\"\",IF(C78=\"\",\"\",①団体情報入力!C76))","v":""},null,null,null,null,null,null,null,null,null,null,null,null,null,null,null,null,null,null,null,null,null,null,null,null,null,"","","","","",{"$f":"IF(G78=\"男\",data_kyogisha!A69,\"\")","v":""},"","","","","",{"$f":"IF(G78=\"女\",data_kyogisha!A69,\"\")","v":""},0,"",0,"",0,"",0,""]
[69,{"$f":"IF(①団体情報入力!C77=\"\",\"\",IF(C79=\"\",\"\",①団体情報入力!C77))","v":""},null,null,null,null,null,null,null,null,null,null,null,null,null,null,null,null,null,null,null,null,null,null,null,null,null,"","","","","",{"$f":"IF(G79=\"男\",data_kyogisha!A70,\"\")","v":""},"","","","","",{"$f":"IF(G79=\"女\",data_kyogisha!A70,\"\")","v":""},0,"",0,"",0,"",0,""]
[70,{"$f":"IF(①団体情報入力!C78=\"\",\"\",IF(C80=\"\",\"\",①団体情報入力!C78))","v":""},null,null,null,null,null,null,null,null,null,null,null,null,null,null,null,null,null,null,null,null,null,null,null,null,null,"","","","","",{"$f":"IF(G80=\"男\",data_kyogisha!A71,\"\")","v":""},"","","","","",{"$f":"IF(G80=\"女\",data_kyogisha!A71,\"\")","v":""},0,"",0,"",0,"",0,""]
[71,{"$f":"IF(①団体情報入力!C79=\"\",\"\",IF(C81=\"\",\"\",①団体情報入力!C79))","v":""},null,null,null,null,null,null,null,null,null,null,null,null,null,null,null,null,null,null,null,null,null,null,null,null,null,"","","","","",{"$f":"IF(G81=\"男\",data_kyogisha!A72,\"\")","v":""},"","","","","",{"$f":"IF(G81=\"女\",data_kyogisha!A72,\"\")","v":""},0,"",0,"",0,"",0,""]
[72,{"$f":"IF(①団体情報入力!C80=\"\",\"\",IF(C82=\"\",\"\",①団体情報入力!C80))","v":""},null,null,null,null,null,null,null,null,null,null,null,null,null,null,null,null,null,null,null,null,null,null,null,null,null,"","","","","",{"$f":"IF(G82=\"男\",data_kyogisha!A73,\"\")","v":""},"","","","","",{"$f":"IF(G82=\"女\",data_kyogisha!A73,\"\")","v":""},0,"",0,"",0,"",0,""]
[73,{"$f":"IF(①団体情報入力!C81=\"\",\"\",IF(C83=\"\",\"\",①団体情報入力!C81))","v":""},null,null,null,null,null,null,null,null,null,null,null,null,null,null,null,null,null,null,null,null,null,null,null,null,null,"","","","","",{"$f":"IF(G83=\"男\",data_kyogisha!A74,\"\")","v":""},"","","","","",{"$f":"IF(G83=\"女\",data_kyogisha!A74,\"\")","v":""},0,"",0,"",0,"",0,""]
[74,{"$f":"IF(①団体情報入力!C82=\"\",\"\",IF(C84=\"\",\"\",①団体情報入力!C82))","v":""},null,null,null,null,null,null,null,null,null,null,null,null,null,null,null,null,null,null,null,null,null,null,null,null,null,"","","","","",{"$f":"IF(G84=\"男\",data_kyogisha!A75,\"\")","v":""},"","","","","",{"$f":"IF(G84=\"女\",data_kyogisha!A75,\"\")","v":""},0,"",0,"",0,"",0,""]
[75,{"$f":"IF(①団体情報入力!C83=\"\",\"\",IF(C85=\"\",\"\",①団体情報入力!C83))","v":""},null,null,null,null,null,null,null,null,null,null,null,null,null,null,null,null,null,null,null,null,null,null,null,null,null,"","","","","",{"$f":"IF(G85=\"男\",data_kyogisha!A76,\"\")","v":""},"","","","","",{"$f":"IF(G85=\"女\",data_kyogisha!A76,\"\")","v":""},0,"",0,"",0,"",0,""]
[76,{"$f":"IF(①団体情報入力!C84=\"\",\"\",IF(C86=\"\",\"\",①団体情報入力!C84))","v":""},null,null,null,null,null,null,null,null,null,null,null,null,null,null,null,null,null,null,null,null,null,null,null,null,null,"","","","","",{"$f":"IF(G86=\"男\",data_kyogisha!A77,\"\")","v":""},"","","","","",{"$f":"IF(G86=\"女\",data_kyogisha!A77,\"\")","v":""},0,"",0,"",0,"",0,""]
[77,{"$f":"IF(①団体情報入力!C85=\"\",\"\",IF(C87=\"\",\"\",①団体情報入力!C85))","v":""},null,null,null,null,null,null,null,null,null,null,null,null,null,null,null,null,null,null,null,null,null,null,null,null,null,"","","","","",{"$f":"IF(G87=\"男\",data_kyogisha!A78,\"\")","v":""},"","","","","",{"$f":"IF(G87=\"女\",data_kyogisha!A78,\"\")","v":""},0,"",0,"",0,"",0,""]
[78,{"$f":"IF(①団体情報入力!C86=\"\",\"\",IF(C88=\"\",\"\",①団体情報入力!C86))","v":""},null,null,null,null,null,null,null,null,null,null,null,null,null,null,null,null,null,null,null,null,null,null,null,null,null,"","","","","",{"$f":"IF(G88=\"男\",data_kyogisha!A79,\"\")","v":""},"","","","","",{"$f":"IF(G88=\"女\",data_kyogisha!A79,\"\")","v":""},0,"",0,"",0,"",0,""]
[79,{"$f":"IF(①団体情報入力!C87=\"\",\"\",IF(C89=\"\",\"\",①団体情報入力!C87))","v":""},null,null,null,null,null,null,null,null,null,null,null,null,null,null,null,null,null,null,null,null,null,null,null,null,null,"","","","","",{"$f":"IF(G89=\"男\",data_kyogisha!A80,\"\")","v":""},"","","","","",{"$f":"IF(G89=\"女\",data_kyogisha!A80,\"\")","v":""},0,"",0,"",0,"",0,""]
[80,{"$f":"IF(①団体情報入力!C88=\"\",\"\",IF(C90=\"\",\"\",①団体情報入力!C88))","v":""},null,null,null,null,null,null,null,null,null,null,null,null,null,null,null,null,null,null,null,null,null,null,null,null,null,"","","","","",{"$f":"IF(G90=\"男\",data_kyogisha!A81,\"\")","v":""},"","","","","",{"$f":"IF(G90=\"女\",data_kyogisha!A81,\"\")","v":""},0,"",0,"",0,"",0,""]
[81,{"$f":"IF(①団体情報入力!C89=\"\",\"\",IF(C91=\"\",\"\",①団体情報入力!C89))","v":""},null,null,null,null,null,null,null,null,null,null,null,null,null,null,null,null,null,null,null,null,null,null,null,null,null,"","","","","",{"$f":"IF(G91=\"男\",data_kyogisha!A82,\"\")","v":""},"","","","","",{"$f":"IF(G91=\"女\",data_kyogisha!A82,\"\")","v":""},0,"",0,"",0,"",0,""]
[82,{"$f":"IF(①団体情報入力!C90=\"\",\"\",IF(C92=\"\",\"\",①団体情報入力!C90))","v":""},null,null,null,null,null,null,null,null,null,null,null,null,null,null,null,null,null,null,null,null,null,null,null,null,null,"","","","","",{"$f":"IF(G92=\"男\",data_kyogisha!A83,\"\")","v":""},"","","","","",{"$f":"IF(G92=\"女\",data_kyogisha!A83,\"\")","v":""},0,"",0,"",0,"",0,""]
[83,{"$f":"IF(①団体情報入力!C91=\"\",\"\",IF(C93=\"\",\"\",①団体情報入力!C91))","v":""},null,null,null,null,null,null,null,null,null,null,null,null,null,null,null,null,null,null,null,null,null,null,null,null,null,"","","","","",{"$f":"IF(G93=\"男\",data_kyogisha!A84,\"\")","v":""},"","","","","",{"$f":"IF(G93=\"女\",data_kyogisha!A84,\"\")","v":""},0,"",0,"",0,"",0,""]
[84,{"$f":"IF(①団体情報入力!C92=\"\",\"\",IF(C94=\"\",\"\",①団体情報入力!C92))","v":""},null,null,null,null,null,null,null,null,null,null,null,null,null,null,null,null,null,null,null,null,null,null,null,null,null,"","","","","",{"$f":"IF(G94=\"男\",data_kyogisha!A85,\"\")","v":""},"","","","","",{"$f":"IF(G94=\"女\",data_kyogisha!A85,\"\")","v":""},0,"",0,"",0,"",0,""]
[85,{"$f":"IF(①団体情報入力!C93=\"\",\"\",IF(C95=\"\",\"\",①団体情報入力!C93))","v":""},null,null,null,null,null,null,null,null,null,null,null,null,null,null,null,null,null,null,null,null,null,null,null,null,null,"","","","","",{"$f":"IF(G95=\"男\",data_kyogisha!A86,\"\")","v":""},"","","","","",{"$f":"IF(G95=\"女\",data_kyogisha!A86,\"\")","v":""},0,"",0,"",0,"",0,""]
[86,{"$f":"IF(①団体情報入力!C94=\"\",\"\",IF(C96=\"\",\"\",①団体情報入力!C94))","v":""},null,null,null,null,null,null,null,null,null,null,null,null,null,null,null,null,null,null,null,null,null,null,null,null,null,"","","","","",{"$f":"IF(G96=\"男\",data_kyogisha!A87,\"\")","v":""},"","","","","",{"$f":"IF(G96=\"女\",data_kyogisha!A87,\"\")","v":""},0,"",0,"",0,"",0,""]
[87,{"$f":"IF(①団体情報入力!C95=\"\",\"\",IF(C97=\"\",\"\",①団体情報入力!C95))","v":""},null,null,null,null,null,null,null,null,null,null,null,null,null,null,null,null,null,null,null,null,null,null,null,null,null,"","","","","",{"$f":"IF(G97=\"男\",data_kyogisha!A88,\"\")","v":""},"","","","","",{"$f":"IF(G97=\"女\",data_kyogisha!A88,\"\")","v":""},0,"",0,"",0,"",0,""]
[88,{"$f":"IF(①団体情報入力!C96=\"\",\"\",IF(C98=\"\",\"\",①団体情報入力!C96))","v":""},null,null,null,null,null,null,null,null,null,null,null,null,null,null,null,null,null,null,null,null,null,null,null,null,null,"","","","","",{"$f":"IF(G98=\"男\",data_kyogisha!A89,\"\")","v":""},"","","","","",{"$f":"IF(G98=\"女\",data_kyogisha!A89,\"\")","v":""},0,"",0,"",0,"",0,""]
[89,{"$f":"IF(①団体情報入力!C97=\"\",\"\",IF(C99=\"\",\"\",①団体情報入力!C97))","v":""},null,null,null,null,null,null,null,null,null,null,null,null,null,null,null,null,null,null,null,null,null,null,null,null,null,"","","","","",{"$f":"IF(G99=\"男\",data_kyogisha!A90,\"\")","v":""},"","","","","",{"$f":"IF(G99=\"女\",data_kyogisha!A90,\"\")","v":""},0,"",0,"",0,"",0,""]
[90,{"$f":"IF(①団体情報入力!C98=\"\",\"\",IF(C100=\"\",\"\",①団体情報入力!C98))","v":""},null,null,null,null,null,null,null,null,null,null,null,null,null,null,null,null,null,null,null,null,null,null,null,null,null,"","","","","",{"$f":"IF(G100=\"男\",data_kyogisha!A91,\"\")","v":""},"","","","","",{"$f":"IF(G100=\"女\",data_kyogisha!A91,\"\")","v":""},0,"",0,"",0,"",0,""]
[null,null,null,null,null,"種目計",{"$f":"SUM(J101:P101)","v":0},null,null,{"$f":"COUNTA(J11:J100)","v":0},null,null,{"$f":"COUNTA(M11:M100)","v":0},null,null,{"$f":"COUNTA(P11:P100)","v":0}]
[null,null,null,null,null,"リレー計",{"$f":"③リレー情報確認!F14+③リレー情報確認!L14+③リレー情報確認!R14+③リレー情報確認!X14","v":0}]
[null,null,null,null,null,"男",{"$f":"COUNTIF(G11:G100,\"男\")","v":0}]
[null,null,null,null,null,"女",{"$f":"COUNTIF(G11:G100,\"女\")","v":0}]
[null,null,null,null,null,"男女計",{"$f":"SUM(G103:G104)","v":0}]

{"sheet":"③リレー情報確認","index":4,"n_rows":14,"n_cols":24,"rows_kept":14,"cut":false,"hidden":false,"merged":[[0,9,0,11],[7,17,12,17],[7,5,12,5],[5,1,5,5],[7,23,12,23],[5,13,5,17],[5,19,5,23],[5,7,5,11],[7,11,12,11],[0,15,0,17]]}
["④リレー情報確認",null,null,null,null,null,null,null,"チーム名 ",{"$f":"IF(①団体情報入力!D5=\"\",\"\",①団体情報入力!D5)","v":""},null,null,null,null,"ｶﾅ",{"$f":"IF(①団体情報入力!D6=\"\",\"\",①団体情報入力!D6)","v":""}]
[]
[null,null,"※リレーにエントリーをする選手とチームの記録を確認してください。"]
[null,null,"※修正をする場合は「②選手情報入力」で修正してください。"]
[null,null,"※リレーエントリーに○を付けても、データが反映されない場合、「②選手権情報入力」のナンバーのセルが文字列になっていますので数値に変換してください。"]
[null,"男4X100mR",null,null,null,null,null,"男4X400mR",null,null,null,null,null,"女4X100mR",null,null,null,null,null,"女4X400mR"]
[null,"Ord","ﾅﾝﾊﾞｰ","氏　名","競技者NO","記録",null,"Ord","ﾅﾝﾊﾞｰ","氏　名","競技者NO","記録",null,"Ord","ﾅﾝﾊﾞｰ","氏　名","競技者NO","記録",null,"Ord","ﾅﾝﾊﾞｰ","氏　名","競技者NO","記録"]
[null,1,{"$f":"IF(②選手情報入力!$AO$10<1,\"\",VLOOKUP(B8,②選手情報入力!$AN$11:$AO$100,2,FALSE))","v":""},{"$f":"IF(C8=\"\",\"\",VLOOKUP(C8,②選手情報入力!$AB$11:$AC$100,2,FALSE))","v":""},{"$f":"IF(C8=\"\",\"\",VLOOKUP(C8,②選手情報入力!$AB$11:$AH$100,6,FALSE))","v":""},{"$f":"IF(②選手情報入力!S6=\"\",\"\",②選手情報入力!S6)","v":""},null,1,{"$f":"IF(②選手情報入力!$AQ$10<1,\"\",VLOOKUP(H8,②選手情報入力!$AP$11:$AQ$100,2,FALSE))","v":""},{"$f":"IF(I8=\"\",\"\",VLOOKUP(I8,②選手情報入力!$AB$11:$AC$100,2,FALSE))","v":""},{"$f":"IF(I8=\"\",\"\",VLOOKUP(I8,②選手情報入力!$AB$11:$AH$100,6,FALSE))","v":""},{"$f":"IF(②選手情報入力!U6=\"\",\"\",②選手情報入力!U6)","v":""},null,1,{"$f":"IF(②選手情報入力!$AS$10<1,\"\",VLOOKUP(N8,②選手情報入力!$AR$11:$AS$100,2,FALSE))","v":""},{"$f":"IF(O8=\"\",\"\",VLOOKUP(O8,②選手情報入力!$AH$11:$AI$100,2,FALSE))","v":""},{"$f":"IF(O8=\"\",\"\",VLOOKUP(O8,②選手情報入力!$AH$11:$AO$100,6,FALSE))","v":""},{"$f":"IF(②選手情報入力!S7=\"\",\"\",②選手情報入力!S7)","v":""},null,1,{"$f":"IF(②選手情報入力!$AU$10<1,\"\",VLOOKUP(T8,②選手情報入力!$AT$11:$AU$100,2,FALSE))","v":""},{"$f":"IF(U8=\"\",\"\",VLOOKUP(U8,②選手情報入力!$AH$11:$AI$100,2,FALSE))","v":""},{"$f":"IF(U8=\"\",\"\",VLOOKUP(U8,②選手情報入力!$AH$11:$AO$100,6,FALSE))","v":""},{"$f":"IF(②選手情報入力!U7=\"\",\"\",②選手情報入力!U7)","v":""}]
[null,2,{"$f":"IF(②選手情報入力!$AO$10<2,\"\",VLOOKUP(B9,②選手情報入力!$AN$11:$AO$100,2,FALSE))","v":""},{"$f":"IF(C9=\"\",\"\",VLOOKUP(C9,②選手情報入力!$AB$11:$AC$100,2,FALSE))","v":""},{"$f":"IF(C9=\"\",\"\",VLOOKUP(C9,②選手情報入力!$AB$11:$AH$100,6,FALSE))","v":""},null,null,2,{"$f":"IF(②選手情報入力!$AQ$10<2,\"\",VLOOKUP(H9,②選手情報入力!$AP$11:$AQ$100,2,FALSE))","v":""},{"$f":"IF(I9=\"\",\"\",VLOOKUP(I9,②選手情報入力!$AB$11:$AC$100,2,FALSE))","v":""},{"$f":"IF(I9=\"\",\"\",VLOOKUP(I9,②選手情報入力!$AB$11:$AH$100,6,FALSE))","v":""},null,null,2,{"$f":"IF(②選手情報入力!$AS$10<2,\"\",VLOOKUP(N9,②選手情報入力!$AR$11:$AS$100,2,FALSE))","v":""},{"$f":"IF(O9=\"\",\"\",VLOOKUP(O9,②選手情報入力!$AH$11:$AI$100,2,FALSE))","v":""},{"$f":"IF(O9=\"\",\"\",VLOOKUP(O9,②選手情報入力!$AH$11:$AO$100,6,FALSE))","v":""},null,null,2,{"$f":"IF(②選手情報入力!$AU$10<2,\"\",VLOOKUP(T9,②選手情報入力!$AT$11:$AU$100,2,FALSE))","v":""},{"$f":"IF(U9=\"\",\"\",VLOOKUP(U9,②選手情報入力!$AH$11:$AI$100,2,FALSE))","v":""},{"$f":"IF(U9=\"\",\"\",VLOOKUP(U9,②選手情報入力!$AH$11:$AO$100,6,FALSE))","v":""}]
[null,3,{"$f":"IF(②選手情報入力!$AO$10<3,\"\",VLOOKUP(B10,②選手情報入力!$AN$11:$AO$100,2,FALSE))","v":""},{"$f":"IF(C10=\"\",\"\",VLOOKUP(C10,②選手情報入力!$AB$11:$AC$100,2,FALSE))","v":""},{"$f":"IF(C10=\"\",\"\",VLOOKUP(C10,②選手情報入力!$AB$11:$AH$100,6,FALSE))","v":""},null,null,3,{"$f":"IF(②選手情報入力!$AQ$10<3,\"\",VLOOKUP(H10,②選手情報入力!$AP$11:$AQ$100,2,FALSE))","v":""},{"$f":"IF(I10=\"\",\"\",VLOOKUP(I10,②選手情報入力!$AB$11:$AC$100,2,FALSE))","v":""},{"$f":"IF(I10=\"\",\"\",VLOOKUP(I10,②選手情報入力!$AB$11:$AH$100,6,FALSE))","v":""},null,null,3,{"$f":"IF(②選手情報入力!$AS$10<3,\"\",VLOOKUP(N10,②選手情報入力!$AR$11:$AS$100,2,FALSE))","v":""},{"$f":"IF(O10=\"\",\"\",VLOOKUP(O10,②選手情報入力!$AH$11:$AI$100,2,FALSE))","v":""},{"$f":"IF(O10=\"\",\"\",VLOOKUP(O10,②選手情報入力!$AH$11:$AO$100,6,FALSE))","v":""},null,null,3,{"$f":"IF(②選手情報入力!$AU$10<3,\"\",VLOOKUP(T10,②選手情報入力!$AT$11:$AU$100,2,FALSE))","v":""},{"$f":"IF(U10=\"\",\"\",VLOOKUP(U10,②選手情報入力!$AH$11:$AI$100,2,FALSE))","v":""},{"$f":"IF(U10=\"\",\"\",VLOOKUP(U10,②選手情報入力!$AH$11:$AO$100,6,FALSE))","v":""}]
[null,4,{"$f":"IF(②選手情報入力!$AO$10<4,\"\",VLOOKUP(B11,②選手情報入力!$AN$11:$AO$100,2,FALSE))","v":""},{"$f":"IF(C11=\"\",\"\",VLOOKUP(C11,②選手情報入力!$AB$11:$AC$100,2,FALSE))","v":""},{"$f":"IF(C11=\"\",\"\",VLOOKUP(C11,②選手情報入力!$AB$11:$AH$100,6,FALSE))","v":""},null,null,4,{"$f":"IF(②選手情報入力!$AQ$10<4,\"\",VLOOKUP(H11,②選手情報入力!$AP$11:$AQ$100,2,FALSE))","v":""},{"$f":"IF(I11=\"\",\"\",VLOOKUP(I11,②選手情報入力!$AB$11:$AC$100,2,FALSE))","v":""},{"$f":"IF(I11=\"\",\"\",VLOOKUP(I11,②選手情報入力!$AB$11:$AH$100,6,FALSE))","v":""},null,null,4,{"$f":"IF(②選手情報入力!$AS$10<4,\"\",VLOOKUP(N11,②選手情報入力!$AR$11:$AS$100,2,FALSE))","v":""},{"$f":"IF(O11=\"\",\"\",VLOOKUP(O11,②選手情報入力!$AH$11:$AI$100,2,FALSE))","v":""},{"$f":"IF(O11=\"\",\"\",VLOOKUP(O11,②選手情報入力!$AH$11:$AO$100,6,FALSE))","v":""},null,null,4,{"$f":"IF(②選手情報入力!$AU$10<4,\"\",VLOOKUP(T11,②選手情報入力!$AT$11:$AU$100,2,FALSE))","v":""},{"$f":"IF(U11=\"\",\"\",VLOOKUP(U11,②選手情報入力!$AH$11:$AI$100,2,FALSE))","v":""},{"$f":"IF(U11=\"\",\"\",VLOOKUP(U11,②選手情報入力!$AH$11:$AO$100,6,FALSE))","v":""}]
[null,5,{"$f":"IF(②選手情報入力!$AO$10<5,\"\",VLOOKUP(B12,②選手情報入力!$AN$11:$AO$100,2,FALSE))","v":""},{"$f":"IF(C12=\"\",\"\",VLOOKUP(C12,②選手情報入力!$AB$11:$AC$100,2,FALSE))","v":""},{"$f":"IF(C12=\"\",\"\",VLOOKUP(C12,②選手情報入力!$AB$11:$AH$100,6,FALSE))","v":""},null,null,5,{"$f":"IF(②選手情報入力!$AQ$10<5,\"\",VLOOKUP(H12,②選手情報入力!$AP$11:$AQ$100,2,FALSE))","v":""},{"$f":"IF(I12=\"\",\"\",VLOOKUP(I12,②選手情報入力!$AB$11:$AC$100,2,FALSE))","v":""},{"$f":"IF(I12=\"\",\"\",VLOOKUP(I12,②選手情報入力!$AB$11:$AH$100,6,FALSE))","v":""},null,null,5,{"$f":"IF(②選手情報入力!$AS$10<5,\"\",VLOOKUP(N12,②選手情報入力!$AR$11:$AS$100,2,FALSE))","v":""},{"$f":"IF(O12=\"\",\"\",VLOOKUP(O12,②選手情報入力!$AH$11:$AI$100,2,FALSE))","v":""},{"$f":"IF(O12=\"\",\"\",VLOOKUP(O12,②選手情報入力!$AH$11:$AO$100,6,FALSE))","v":""},null,null,5,{"$f":"IF(②選手情報入力!$AU$10<5,\"\",VLOOKUP(T12,②選手情報入力!$AT$11:$AU$100,2,FALSE))","v":""},{"$f":"IF(U12=\"\",\"\",VLOOKUP(U12,②選手情報入力!$AH$11:$AI$100,2,FALSE))","v":""},{"$f":"IF(U12=\"\",\"\",VLOOKUP(U12,②選手情報入力!$AH$11:$AO$100,6,FALSE))","v":""}]
[null,6,{"$f":"IF(②選手情報入力!$AO$10<6,\"\",VLOOKUP(B13,②選手情報入力!$AN$11:$AO$100,2,FALSE))","v":""},{"$f":"IF(C13=\"\",\"\",VLOOKUP(C13,②選手情報入力!$AB$11:$AC$100,2,FALSE))","v":""},{"$f":"IF(C13=\"\",\"\",VLOOKUP(C13,②選手情報入力!$AB$11:$AH$100,6,FALSE))","v":""},null,null,6,{"$f":"IF(②選手情報入力!$AQ$10<6,\"\",VLOOKUP(H13,②選手情報入力!$AP$11:$AQ$100,2,FALSE))","v":""},{"$f":"IF(I13=\"\",\"\",VLOOKUP(I13,②選手情報入力!$AB$11:$AC$100,2,FALSE))","v":""},{"$f":"IF(I13=\"\",\"\",VLOOKUP(I13,②選手情報入力!$AB$11:$AH$100,6,FALSE))","v":""},null,null,6,{"$f":"IF(②選手情報入力!$AS$10<6,\"\",VLOOKUP(N13,②選手情報入力!$AR$11:$AS$100,2,FALSE))","v":""},{"$f":"IF(O13=\"\",\"\",VLOOKUP(O13,②選手情報入力!$AH$11:$AI$100,2,FALSE))","v":""},{"$f":"IF(O13=\"\",\"\",VLOOKUP(O13,②選手情報入力!$AH$11:$AO$100,6,FALSE))","v":""},null,null,6,{"$f":"IF(②選手情報入力!$AU$10<6,\"\",VLOOKUP(T13,②選手情報入力!$AT$11:$AU$100,2,FALSE))","v":""},{"$f":"IF(U13=\"\",\"\",VLOOKUP(U13,②選手情報入力!$AH$11:$AI$100,2,FALSE))","v":""},{"$f":"IF(U13=\"\",\"\",VLOOKUP(U13,②選手情報入力!$AH$11:$AO$100,6,FALSE))","v":""}]
[null,null,null,"申込チーム数",null,{"$f":"IF(②選手情報入力!AO10>=4,1,0)","v":0},null,null,null,"申込チーム数",null,{"$f":"IF(②選手情報入力!AQ10>=4,1,0)","v":0},null,null,null,"申込チーム数",null,{"$f":"IF(②選手情報入力!AS10>=4,1,0)","v":0},null,null,null,"申込チーム数",null,{"$f":"IF(②選手情報入力!AU10>=4,1,0)","v":0}]

{"sheet":"④種目別人数","index":5,"n_rows":16,"n_cols":14,"rows_kept":16,"cut":false,"hidden":false,"merged":[[13,5,13,6],[6,1,6,2],[6,5,6,6],[13,2,13,4],[7,2,7,3],[12,2,12,4],[11,1,11,4],[8,2,8,3],[1,0,1,7],[3,0,3,7],[2,0,2,4],[5,3,5,6],[4,2,4,5]]}
["⑤種目別人数一覧表"]
["※種目数・参加料等を確認してから印刷をしてください。"]
[{"$f":"注意事項!C3","v":"２０１８年度名古屋地区プレシーズンゲーム"},null,null,null,null,null,{"$f":"IF(①団体情報入力!D3=\"\",\"\",①団体情報入力!D3)","v":""}]
["種目別申込人数一覧表"]
[null,"申込責任者",{"$f":"IF(①団体情報入力!C7=\"\",\"\",①団体情報入力!C7)","v":""},null,null,null,"A4サイズ"]
[null,{"$f":"IF(①団体情報入力!C8=\"\",\"\",①団体情報入力!C8)","v":""},"学校名",{"$f":"IF(①団体情報入力!C5=\"\",\"\",①団体情報入力!C5)","v":""}]
[null,"種　目　数",null,null,null,"参　　加　　料",null,null,null,null,{"$f":"種目情報!A26","v":0},{"$f":"COUNTIF(②選手情報入力!$J$11:$Q$100,K7)","v":0},{"$f":"種目情報!E27","v":0},{"$f":"COUNTIF(②選手情報入力!$J$11:$Q$100,M7)","v":0}]
[null,"種目数",{"$f":"②選手情報入力!G101","v":0},null,null,"種目数×700円",{"$f":"C8*700","v":0},null,null,null,{"$f":"種目情報!A27","v":0}]
[null,"リレー",{"$f":"②選手情報入力!G102","v":0},null,null,"リレー参加数✕1000円",{"$f":"C9*1000","v":0},null,null,null,{"$f":"種目情報!A28","v":0}]
[null,"プログラム購入部数",{"$f":"IF(①団体情報入力!C10=\"\",0,①団体情報入力!C10)","v":0},"部",null,"プログラム部数✕800円",{"$f":"C10*800","v":0}]
[null,null,null,null,null,"支払金額",{"$f":"SUM(G8:G10)","v":0}]
[null,"役員のできる方のお名前",null,null,null,"参加人数",{"$f":"IF(②選手情報入力!G105=0,\"\",②選手情報入力!G105)","v":""}]
[null,{"$f":"IF(①団体情報入力!B11=\"\",\"\",①団体情報入力!B11)","v":""},{"$f":"IF(①団体情報入力!F11=\"\",\"\",①団体情報入力!F11)","v":""}]
[null,{"$f":"IF(①団体情報入力!B12=\"\",\"\",①団体情報入力!B12)","v":""},{"$f":"IF(①団体情報入力!F12=\"\",\"\",①団体情報入力!F12)","v":""},null,null,{"$f":"TODAY()","v":"2019-02-08"}]
[]
[null,"振込明細書のコピーを余白に添付してください"]

{"sheet":"　　　　　","index":6,"n_rows":0,"n_cols":0,"rows_kept":0,"cut":false,"hidden":false,"merged":[]}

{"sheet":"種目情報","index":7,"n_rows":48,"n_cols":15,"rows_kept":48,"cut":false,"hidden":false,"merged":[[3,12,28,12],[30,12,50,12],[1,13,1,14],[0,0,0,2],[0,4,0,6],[0,8,0,10],[1,0,2,0],[1,4,2,4],[1,8,2,8]]}
["男子",null,null,null,"女子",null,null,null,"リレー"]
["種目","種目","記録",null,"種目","種目","記録",null,"種目","種目","記録",null,null,"一覧表用　種目名"]
[null,"No","FLAG",null,null,"No","FLAG",null,null,"No","FLAG"]
["男60m",1,2,null,"女60m",14,2,null,"男子4X100mR",24,2,null,"男　　　子","男100m","男100m"]
["男300m",2,2,null,"女300m",15,2,null,null,null,null,null,null,"男200m","男200m"]
["男1マイル",3,2,null,"女1マイル",16,2,null,"女子4X100mR",25,2,null,null,"男400m","男400m"]
["男１１０ｍＪＨ(0.991m)",4,2,null,"女１００ｍＹＨ(0.762m/8.5m)",17,2,null,null,null,null,null,null,"男800m","男800m"]
["男走高跳Ａ",5,0,null,"女走高跳Ａ",18,0,null,null,null,null,null,null,"男1500m","男1500m"]
["男走高跳Ｂ",6,0,null,"女走高跳Ｂ",19,0,null,null,null,null,null,null,"男5000m","男5000m"]
["男走幅跳",7,0,null,"女走幅跳",20,0,null,null,null,null,null,null,"男10000m","男10000m"]
["男高校砲丸投(6.000kg)",9,0,null,"女砲丸投(4.000kg),",21,0,null,null,null,null,null,null,"男110mH","男110mH"]
["男高校円盤投(1.750kg)",12,0,null,"女円盤投(1.000kg)",23,0,null,null,null,null,null,null,"男400mH","男400mH"]
[null,null,null,null,null,null,null,null,null,null,null,null,null,"男3000mSC","男3000mSC"]
[null,null,null,null,null,null,null,null,null,null,null,null,null,"男5000mW","男5000mW"]
[null,null,null,null,null,null,null,null,null,null,null,null,null,"男走高跳","男走高跳"]
[null,null,null,null,null,null,null,null,null,null,null,null,null,"男棒高跳","男棒高跳"]
[null,null,null,null,null,null,null,null,null,null,null,null,null,"男走幅跳","男走幅跳"]
[null,null,null,null,null,null,null,null,null,null,null,null,null,"男三段跳","男三段跳"]
[null,null,null,null,null,null,null,null,null,null,null,null,null,"男砲丸投","男砲丸投"]
[null,null,null,null,null,null,null,null,null,null,null,null,null,"男円盤投","男円盤投"]
[null,null,null,null,null,null,null,null,null,null,null,null,null,"男ﾊﾝﾏｰ投","男ﾊﾝﾏｰ投"]
[null,null,null,null,null,null,null,null,null,null,null,null,null,"男やり投","男やり投"]
[]
[]
[]
[]
[]
[]
[]
[]
[null,null,null,null,null,null,null,null,null,null,null,null,"女　　　子","女100m","女100m"]
[null,null,null,null,null,null,null,null,null,null,null,null,null,"女200m","女200m"]
[null,null,null,null,null,null,null,null,null,null,null,null,null,"女400m","女400m"]
[null,null,null,null,null,null,null,null,null,null,null,null,null,"女800m","女800m"]
[null,null,null,null,null,null,null,null,null,null,null,null,null,"女1500m","女1500m"]
[null,null,null,null,null,null,null,null,null,null,null,null,null,"女5000m","女5000m"]
[null,null,null,null,null,null,null,null,null,null,null,null,null,"女100mH","女100mH"]
[null,null,null,null,null,null,null,null,null,null,null,null,null,"女400mH","女400mH"]
[null,null,null,null,null,null,null,null,null,null,null,null,null,"女5000mW","女5000mW"]
[null,null,null,null,null,null,null,null,null,null,null,null,null,"女走高跳","女走高跳"]
[null,null,null,null,null,null,null,null,null,null,null,null,null,"女棒高跳","女棒高跳"]
[null,null,null,null,null,null,null,null,null,null,null,null,null,"女走幅跳","女走幅跳"]
[null,null,null,null,null,null,null,null,null,null,null,null,null,"女三段跳","女三段跳"]
[null,null,null,null,null,null,null,null,null,null,null,null,null,"女砲丸投","女砲丸投"]
[null,null,null,null,null,null,null,null,null,null,null,null,null,"女中学砲丸投","女中学砲丸投"]
[null,null,null,null,null,null,null,null,null,null,null,null,null,"女円盤投","女円盤投"]
[null,null,null,null,null,null,null,null,null,null,null,null,null,"女ﾊﾝﾏｰ投","女ﾊﾝﾏｰ投"]
[null,null,null,null,null,null,null,null,null,null,null,null,null,"女やり投","女やり投"]

{"sheet":"data_kyogisha","index":8,"n_rows":91,"n_cols":34,"rows_kept":91,"cut":false,"hidden":false,"merged":[]}
["競技者NO","所属コード1","所属コード2","ナンバー","ナンバー2","競技者名","競技者名カナ","競技者名略称","性別","学年","生年","月日","個人所属地名","陸連コード","参加競技-競技コード1","参加競技-自己記録1","参加競技-オープン参加FLG1","参加競技-記録FLG1","参加競技-競技コード2","参加競技-自己記録2","参加競技-オープン参加FLG2","参加競技-記録FLG2","参加競技-競技コード3","参加競技-自己記録3","参加競技-オープン参加FLG3","参加競技-記録FLG3","参加競技-競技コード4","参加競技-自己記録4","参加競技-オープン参加FLG4","参加競技-記録FLG4","参加競技-競技コード5","参加競技-自己記録5","参加競技-オープン参加FLG5","参加競技-記録FLG5"]
[{"$f":"IF(E2=\"\",\"\",Sheet1!A1)","v":""},{"$f":"IF(E2=\"\",\"\",①団体情報入力!$C$4)","v":""},null,{"$f":"IF(②選手情報入力!B11=\"\",\"\",②選手情報入力!B11)","v":""},{"$f":"IF(②選手情報入力!C11=\"\",\"\",②選手情報入力!C11)","v":""},{"$f":"IF(E2=\"\",\"\",②選手情報入力!D11)","v":""},{"$f":"IF(E2=\"\",\"\",ASC(②選手情報入力!E11))","v":""},{"$f":"IF(E2=\"\",\"\",F2)","v":""},{"$f":"IF(E2=\"\",\"\",IF(②選手情報入力!G11=\"男\",1,2))","v":""},{"$f":"IF(E2=\"\",\"\",IF(②選手情報入力!H11=\"\",\"\",②選手情報入力!H11))","v":""},null,null,{"$f":"IF(E2=\"\",\"\",\"愛知\")","v":""},null,{"$f":"IF(E2=\"\",\"\",IF(②選手情報入力!J11=\"\",\"\",IF(I2=1,VLOOKUP(②選手情報入力!J11,種目情報!$A$4:$B$32,2,FALSE),VLOOKUP(②選手情報入力!J11,種目情報!$E$4:$F$34,2,FALSE))))","v":""},{"$f":"IF(E2=\"\",\"\",IF(②選手情報入力!K11=\"\",\"\",②選手情報入力!K11))","v":""},{"$f":"IF(E2=\"\",\"\",IF(②選手情報入力!I11=\"\",\"\",1))","v":""},{"$f":"IF(E2=\"\",\"\",IF(②選手情報入力!J11=\"\",\"\",IF(I2=1,VLOOKUP(②選手情報入力!J11,種目情報!$A$4:$C$36,3,FALSE),VLOOKUP(②選手情報入力!J11,種目情報!$E$4:$G$39,3,FALSE))))","v":""},{"$f":"IF(E2=\"\",\"\",IF(②選手情報入力!M11=\"\",\"\",IF(I2=1,VLOOKUP(②選手情報入力!M11,種目情報!$A$4:$B$36,2,FALSE),VLOOKUP(②選手情報入力!M11,種目情報!$E$4:$F$39,2,FALSE))))","v":""},{"$f":"IF(E2=\"\",\"\",IF(②選手情報入力!N11=\"\",\"\",②選手情報入力!N11))","v":""},{"$f":"IF(E2=\"\",\"\",IF(②選手情報入力!L11=\"\",\"\",1))","v":""},{"$f":"IF(E2=\"\",\"\",IF(②選手情報入力!M11=\"\",\"\",IF(I2=1,VLOOKUP(②選手情報入力!M11,種目情報!$A$4:$C$36,3,FALSE),VLOOKUP(②選手情報入力!M11,種目情報!$E$4:$G$39,3,FALSE))))","v":""},{"$f":"IF(E2=\"\",\"\",IF(②選手情報入力!P11=\"\",\"\",IF(I2=1,VLOOKUP(②選手情報入力!P11,種目情報!$A$4:$B$36,2,FALSE),VLOOKUP(②選手情報入力!P11,種目情報!$E$4:$F$39,2,FALSE))))","v":""},{"$f":"IF(E2=\"\",\"\",IF(②選手情報入力!Q11=\"\",\"\",②選手情報入力!Q11))","v":""},{"$f":"IF(E2=\"\",\"\",IF(②選手情報入力!O11=\"\",\"\",1))","v":""},{"$f":"IF(E2=\"\",\"\",IF(②選手情報入力!P11=\"\",\"\",IF(I2=1,VLOOKUP(②選手情報入力!P11,種目情報!$A$4:$C$36,3,FALSE),VLOOKUP(②選手情報入力!P11,種目情報!$E$4:$G$39,3,FALSE))))","v":""},{"$f":"IF(E2=\"\",\"\",IF(②選手情報入力!R11=\"\",\"\",IF(I2=1,種目情報!$J$4,種目情報!$J$6)))","v":""},{"$f":"IF(E2=\"\",\"\",IF(②選手情報入力!R11=\"\",\"\",IF(I2=1,IF(②選手情報入力!$S$6=\"\",\"\",②選手情報入力!$S$6),IF(②選手情報入力!$S$7=\"\",\"\",②選手情報入力!$S$7))))","v":""},{"$f":"IF(E2=\"\",\"\",IF(②選手情報入力!R11=\"\",\"\",IF(I2=1,IF(②選手情報入力!$R$6=\"\",0,1),IF(②選手情報入力!$R$7=\"\",0,1))))","v":""},{"$f":"IF(E2=\"\",\"\",IF(②選手情報入力!R11=\"\",\"\",2))","v":""},{"$f":"IF(E2=\"\",\"\",IF(②選手情報入力!T11=\"\",\"\",IF(I2=1,種目情報!$J$5,種目情報!$J$7)))","v":""},{"$f":"IF(E2=\"\",\"\",IF(②選手情報入力!T11=\"\",\"\",IF(I2=1,IF(②選手情報入力!$U$6=\"\",\"\",②選手情報入力!$U$6),IF(②選手情報入力!$U$7=\"\",\"\",②選手情報入力!$U$7))))","v":""},{"$f":"IF(E2=\"\",\"\",IF(②選手情報入力!T11=\"\",\"\",IF(I2=1,IF(②選手情報入力!$T$6=\"\",0,1),IF(②選手情報入力!$T$7=\"\",0,1))))","v":""},{"$f":"IF(E2=\"\",\"\",IF(②選手情報入力!T11=\"\",\"\",2))","v":""}]
[{"$f":"IF(E3=\"\",\"\",Sheet1!A2)","v":""},{"$f":"IF(E3=\"\",\"\",①団体情報入力!$C$4)","v":""},null,{"$f":"IF(②選手情報入力!B12=\"\",\"\",②選手情報入力!B12)","v":""},{"$f":"IF(②選手情報入力!C12=\"\",\"\",②選手情報入力!C12)","v":""},{"$f":"IF(E3=\"\",\"\",②選手情報入力!D12)","v":""},{"$f":"IF(E3=\"\",\"\",ASC(②選手情報入力!E12))","v":""},{"$f":"IF(E3=\"\",\"\",F3)","v":""},{"$f":"IF(E3=\"\",\"\",IF(②選手情報入力!G12=\"男\",1,2))","v":""},{"$f":"IF(E3=\"\",\"\",IF(②選手情報入力!H12=\"\",\"\",②選手情報入力!H12))","v":""},null,null,{"$f":"IF(E3=\"\",\"\",\"愛知\")","v":""},null,{"$f":"IF(E3=\"\",\"\",IF(②選手情報入力!J12=\"\",\"\",IF(I3=1,VLOOKUP(②選手情報入力!J12,種目情報!$A$4:$B$32,2,FALSE),VLOOKUP(②選手情報入力!J12,種目情報!$E$4:$F$34,2,FALSE))))","v":""},{"$f":"IF(E3=\"\",\"\",IF(②選手情報入力!K12=\"\",\"\",②選手情報入力!K12))","v":""},{"$f":"IF(E3=\"\",\"\",IF(②選手情報入力!I12=\"\",\"\",1))","v":""},{"$f":"IF(E3=\"\",\"\",IF(②選手情報入力!J12=\"\",\"\",IF(I3=1,VLOOKUP(②選手情報入力!J12,種目情報!$A$4:$C$36,3,FALSE),VLOOKUP(②選手情報入力!J12,種目情報!$E$4:$G$39,3,FALSE))))","v":""},{"$f":"IF(E3=\"\",\"\",IF(②選手情報入力!M12=\"\",\"\",IF(I3=1,VLOOKUP(②選手情報入力!M12,種目情報!$A$4:$B$36,2,FALSE),VLOOKUP(②選手情報入力!M12,種目情報!$E$4:$F$39,2,FALSE))))","v":""},{"$f":"IF(E3=\"\",\"\",IF(②選手情報入力!N12=\"\",\"\",②選手情報入力!N12))","v":""},{"$f":"IF(E3=\"\",\"\",IF(②選手情報入力!L12=\"\",\"\",1))","v":""},{"$f":"IF(E3=\"\",\"\",IF(②選手情報入力!M12=\"\",\"\",IF(I3=1,VLOOKUP(②選手情報入力!M12,種目情報!$A$4:$C$36,3,FALSE),VLOOKUP(②選手情報入力!M12,種目情報!$E$4:$G$39,3,FALSE))))","v":""},{"$f":"IF(E3=\"\",\"\",IF(②選手情報入力!P12=\"\",\"\",IF(I3=1,VLOOKUP(②選手情報入力!P12,種目情報!$A$4:$B$36,2,FALSE),VLOOKUP(②選手情報入力!P12,種目情報!$E$4:$F$39,2,FALSE))))","v":""},{"$f":"IF(E3=\"\",\"\",IF(②選手情報入力!Q12=\"\",\"\",②選手情報入力!Q12))","v":""},{"$f":"IF(E3=\"\",\"\",IF(②選手情報入力!O12=\"\",\"\",1))","v":""},{"$f":"IF(E3=\"\",\"\",IF(②選手情報入力!P12=\"\",\"\",IF(I3=1,VLOOKUP(②選手情報入力!P12,種目情報!$A$4:$C$36,3,FALSE),VLOOKUP(②選手情報入力!P12,種目情報!$E$4:$G$39,3,FALSE))))","v":""},{"$f":"IF(E3=\"\",\"\",IF(②選手情報入力!R12=\"\",\"\",IF(I3=1,種目情報!$J$4,種目情報!$J$6)))","v":""},{"$f":"IF(E3=\"\",\"\",IF(②選手情報入力!R12=\"\",\"\",IF(I3=1,IF(②選手情報入力!$S$6=\"\",\"\",②選手情報入力!$S$6),IF(②選手情報入力!$S$7=\"\",\"\",②選手情報入力!$S$7))))","v":""},{"$f":"IF(E3=\"\",\"\",IF(②選手情報入力!R12=\"\",\"\",IF(I3=1,IF(②選手情報入力!$R$6=\"\",0,1),IF(②選手情報入力!$R$7=\"\",0,1))))","v":""},{"$f":"IF(E3=\"\",\"\",IF(②選手情報入力!R12=\"\",\"\",2))","v":""},{"$f":"IF(E3=\"\",\"\",IF(②選手情報入力!T12=\"\",\"\",IF(I3=1,種目情報!$J$5,種目情報!$J$7)))","v":""},{"$f":"IF(E3=\"\",\"\",IF(②選手情報入力!T12=\"\",\"\",IF(I3=1,IF(②選手情報入力!$U$6=\"\",\"\",②選手情報入力!$U$6),IF(②選手情報入力!$U$7=\"\",\"\",②選手情報入力!$U$7))))","v":""},{"$f":"IF(E3=\"\",\"\",IF(②選手情報入力!T12=\"\",\"\",IF(I3=1,IF(②選手情報入力!$T$6=\"\",0,1),IF(②選手情報入力!$T$7=\"\",0,1))))","v":""},{"$f":"IF(E3=\"\",\"\",IF(②選手情報入力!T12=\"\",\"\",2))","v":""}]
[{"$f":"IF(E4=\"\",\"\",Sheet1!A3)","v":""},{"$f":"IF(E4=\"\",\"\",①団体情報入力!$C$4)","v":""},null,{"$f":"IF(②選手情報入力!B13=\"\",\"\",②選手情報入力!B13)","v":""},{"$f":"IF(②選手情報入力!C13=\"\",\"\",②選手情報入力!C13)","v":""},{"$f":"IF(E4=\"\",\"\",②選手情報入力!D13)","v":""},{"$f":"IF(E4=\"\",\"\",ASC(②選手情報入力!E13))","v":""},"",{"$f":"IF(E4=\"\",\"\",IF(②選手情報入力!G13=\"男\",1,2))","v":""},{"$f":"IF(E4=\"\",\"\",IF(②選手情報入力!H13=\"\",\"\",②選手情報入力!H13))","v":""},null,null,"",null,{"$f":"IF(E4=\"\",\"\",IF(②選手情報入力!J13=\"\",\"\",IF(I4=1,VLOOKUP(②選手情報入力!J13,種目情報!$A$4:$B$32,2,FALSE),VLOOKUP(②選手情報入力!J13,種目情報!$E$4:$F$34,2,FALSE))))","v":""},{"$f":"IF(E4=\"\",\"\",IF(②選手情報入力!K13=\"\",\"\",②選手情報入力!K13))","v":""},{"$f":"IF(E4=\"\",\"\",IF(②選手情報入力!I13=\"\",\"\",1))","v":""},{"$f":"IF(E4=\"\",\"\",IF(②選手情報入力!J13=\"\",\"\",IF(I4=1,VLOOKUP(②選手情報入力!J13,種目情報!$A$4:$C$36,3,FALSE),VLOOKUP(②選手情報入力!J13,種目情報!$E$4:$G$39,3,FALSE))))","v":""},{"$f":"IF(E4=\"\",\"\",IF(②選手情報入力!M13=\"\",\"\",IF(I4=1,VLOOKUP(②選手情報入力!M13,種目情報!$A$4:$B$36,2,FALSE),VLOOKUP(②選手情報入力!M13,種目情報!$E$4:$F$39,2,FALSE))))","v":""},{"$f":"IF(E4=\"\",\"\",IF(②選手情報入力!N13=\"\",\"\",②選手情報入力!N13))","v":""},{"$f":"IF(E4=\"\",\"\",IF(②選手情報入力!L13=\"\",\"\",1))","v":""},{"$f":"IF(E4=\"\",\"\",IF(②選手情報入力!M13=\"\",\"\",IF(I4=1,VLOOKUP(②選手情報入力!M13,種目情報!$A$4:$C$36,3,FALSE),VLOOKUP(②選手情報入力!M13,種目情報!$E$4:$G$39,3,FALSE))))","v":""},{"$f":"IF(E4=\"\",\"\",IF(②選手情報入力!P13=\"\",\"\",IF(I4=1,VLOOKUP(②選手情報入力!P13,種目情報!$A$4:$B$36,2,FALSE),VLOOKUP(②選手情報入力!P13,種目情報!$E$4:$F$39,2,FALSE))))","v":""},{"$f":"IF(E4=\"\",\"\",IF(②選手情報入力!Q13=\"\",\"\",②選手情報入力!Q13))","v":""},{"$f":"IF(E4=\"\",\"\",IF(②選手情報入力!O13=\"\",\"\",1))","v":""},{"$f":"IF(E4=\"\",\"\",IF(②選手情報入力!P13=\"\",\"\",IF(I4=1,VLOOKUP(②選手情報入力!P13,種目情報!$A$4:$C$36,3,FALSE),VLOOKUP(②選手情報入力!P13,種目情報!$E$4:$G$39,3,FALSE))))","v":""},{"$f":"IF(E4=\"\",\"\",IF(②選手情報入力!R13=\"\",\"\",IF(I4=1,種目情報!$J$4,種目情報!$J$6)))","v":""},{"$f":"IF(E4=\"\",\"\",IF(②選手情報入力!R13=\"\",\"\",IF(I4=1,IF(②選手情報入力!$S$6=\"\",\"\",②選手情報入力!$S$6),IF(②選手情報入力!$S$7=\"\",\"\",②選手情報入力!$S$7))))","v":""},{"$f":"IF(E4=\"\",\"\",IF(②選手情報入力!R13=\"\",\"\",IF(I4=1,IF(②選手情報入力!$R$6=\"\",0,1),IF(②選手情報入力!$R$7=\"\",0,1))))","v":""},{"$f":"IF(E4=\"\",\"\",IF(②選手情報入力!R13=\"\",\"\",2))","v":""},{"$f":"IF(E4=\"\",\"\",IF(②選手情報入力!T13=\"\",\"\",IF(I4=1,種目情報!$J$5,種目情報!$J$7)))","v":""},{"$f":"IF(E4=\"\",\"\",IF(②選手情報入力!T13=\"\",\"\",IF(I4=1,IF(②選手情報入力!$U$6=\"\",\"\",②選手情報入力!$U$6),IF(②選手情報入力!$U$7=\"\",\"\",②選手情報入力!$U$7))))","v":""},{"$f":"IF(E4=\"\",\"\",IF(②選手情報入力!T13=\"\",\"\",IF(I4=1,IF(②選手情報入力!$T$6=\"\",0,1),IF(②選手情報入力!$T$7=\"\",0,1))))","v":""},{"$f":"IF(E4=\"\",\"\",IF(②選手情報入力!T13=\"\",\"\",2))","v":""}]
[{"$f":"IF(E5=\"\",\"\",Sheet1!A4)","v":""},{"$f":"IF(E5=\"\",\"\",①団体情報入力!$C$4)","v":""},null,{"$f":"IF(②選手情報入力!B14=\"\",\"\",②選手情報入力!B14)","v":""},{"$f":"IF(②選手情報入力!C14=\"\",\"\",②選手情報入力!C14)","v":""},{"$f":"IF(E5=\"\",\"\",②選手情報入力!D14)","v":""},{"$f":"IF(E5=\"\",\"\",ASC(②選手情報入力!E14))","v":""},"",{"$f":"IF(E5=\"\",\"\",IF(②選手情報入力!G14=\"男\",1,2))","v":""},{"$f":"IF(E5=\"\",\"\",IF(②選手情報入力!H14=\"\",\"\",②選手情報入力!H14))","v":""},null,null,"",null,{"$f":"IF(E5=\"\",\"\",IF(②選手情報入力!J14=\"\",\"\",IF(I5=1,VLOOKUP(②選手情報入力!J14,種目情報!$A$4:$B$32,2,FALSE),VLOOKUP(②選手情報入力!J14,種目情報!$E$4:$F$34,2,FALSE))))","v":""},{"$f":"IF(E5=\"\",\"\",IF(②選手情報入力!K14=\"\",\"\",②選手情報入力!K14))","v":""},{"$f":"IF(E5=\"\",\"\",IF(②選手情報入力!I14=\"\",\"\",1))","v":""},{"$f":"IF(E5=\"\",\"\",IF(②選手情報入力!J14=\"\",\"\",IF(I5=1,VLOOKUP(②選手情報入力!J14,種目情報!$A$4:$C$36,3,FALSE),VLOOKUP(②選手情報入力!J14,種目情報!$E$4:$G$39,3,FALSE))))","v":""},{"$f":"IF(E5=\"\",\"\",IF(②選手情報入力!M14=\"\",\"\",IF(I5=1,VLOOKUP(②選手情報入力!M14,種目情報!$A$4:$B$36,2,FALSE),VLOOKUP(②選手情報入力!M14,種目情報!$E$4:$F$39,2,FALSE))))","v":""},{"$f":"IF(E5=\"\",\"\",IF(②選手情報入力!N14=\"\",\"\",②選手情報入力!N14))","v":""},{"$f":"IF(E5=\"\",\"\",IF(②選手情報入力!L14=\"\",\"\",1))","v":""},{"$f":"IF(E5=\"\",\"\",IF(②選手情報入力!M14=\"\",\"\",IF(I5=1,VLOOKUP(②選手情報入力!M14,種目情報!$A$4:$C$36,3,FALSE),VLOOKUP(②選手情報入力!M14,種目情報!$E$4:$G$39,3,FALSE))))","v":""},{"$f":"IF(E5=\"\",\"\",IF(②選手情報入力!P14=\"\",\"\",IF(I5=1,VLOOKUP(②選手情報入力!P14,種目情報!$A$4:$B$36,2,FALSE),VLOOKUP(②選手情報入力!P14,種目情報!$E$4:$F$39,2,FALSE))))","v":""},{"$f":"IF(E5=\"\",\"\",IF(②選手情報入力!Q14=\"\",\"\",②選手情報入力!Q14))","v":""},{"$f":"IF(E5=\"\",\"\",IF(②選手情報入力!O14=\"\",\"\",1))","v":""},{"$f":"IF(E5=\"\",\"\",IF(②選手情報入力!P14=\"\",\"\",IF(I5=1,VLOOKUP(②選手情報入力!P14,種目情報!$A$4:$C$36,3,FALSE),VLOOKUP(②選手情報入力!P14,種目情報!$E$4:$G$39,3,FALSE))))","v":""},{"$f":"IF(E5=\"\",\"\",IF(②選手情報入力!R14=\"\",\"\",IF(I5=1,種目情報!$J$4,種目情報!$J$6)))","v":""},{"$f":"IF(E5=\"\",\"\",IF(②選手情報入力!R14=\"\",\"\",IF(I5=1,IF(②選手情報入力!$S$6=\"\",\"\",②選手情報入力!$S$6),IF(②選手情報入力!$S$7=\"\",\"\",②選手情報入力!$S$7))))","v":""},{"$f":"IF(E5=\"\",\"\",IF(②選手情報入力!R14=\"\",\"\",IF(I5=1,IF(②選手情報入力!$R$6=\"\",0,1),IF(②選手情報入力!$R$7=\"\",0,1))))","v":""},{"$f":"IF(E5=\"\",\"\",IF(②選手情報入力!R14=\"\",\"\",2))","v":""},{"$f":"IF(E5=\"\",\"\",IF(②選手情報入力!T14=\"\",\"\",IF(I5=1,種目情報!$J$5,種目情報!$J$7)))","v":""},{"$f":"IF(E5=\"\",\"\",IF(②選手情報入力!T14=\"\",\"\",IF(I5=1,IF(②選手情報入力!$U$6=\"\",\"\",②選手情報入力!$U$6),IF(②選手情報入力!$U$7=\"\",\"\",②選手情報入力!$U$7))))","v":""},{"$f":"IF(E5=\"\",\"\",IF(②選手情報入力!T14=\"\",\"\",IF(I5=1,IF(②選手情報入力!$T$6=\"\",0,1),IF(②選手情報入力!$T$7=\"\",0,1))))","v":""},{"$f":"IF(E5=\"\",\"\",IF(②選手情報入力!T14=\"\",\"\",2))","v":""}]
[{"$f":"IF(E6=\"\",\"\",Sheet1!A5)","v":""},{"$f":"IF(E6=\"\",\"\",①団体情報入力!$C$4)","v":""},null,{"$f":"IF(②選手情報入力!B15=\"\",\"\",②選手情報入力!B15)","v":""},{"$f":"IF(②選手情報入力!C15=\"\",\"\",②選手情報入力!C15)","v":""},{"$f":"IF(E6=\"\",\"\",②選手情報入力!D15)","v":""},{"$f":"IF(E6=\"\",\"\",ASC(②選手情報入力!E15))","v":""},"",{"$f":"IF(E6=\"\",\"\",IF(②選手情報入力!G15=\"男\",1,2))","v":""},{"$f":"IF(E6=\"\",\"\",IF(②選手情報入力!H15=\"\",\"\",②選手情報入力!H15))","v":""},null,null,"",null,{"$f":"IF(E6=\"\",\"\",IF(②選手情報入力!J15=\"\",\"\",IF(I6=1,VLOOKUP(②選手情報入力!J15,種目情報!$A$4:$B$32,2,FALSE),VLOOKUP(②選手情報入力!J15,種目情報!$E$4:$F$34,2,FALSE))))","v":""},{"$f":"IF(E6=\"\",\"\",IF(②選手情報入力!K15=\"\",\"\",②選手情報入力!K15))","v":""},{"$f":"IF(E6=\"\",\"\",IF(②選手情報入力!I15=\"\",\"\",1))","v":""},{"$f":"IF(E6=\"\",\"\",IF(②選手情報入力!J15=\"\",\"\",IF(I6=1,VLOOKUP(②選手情報入力!J15,種目情報!$A$4:$C$36,3,FALSE),VLOOKUP(②選手情報入力!J15,種目情報!$E$4:$G$39,3,FALSE))))","v":""},{"$f":"IF(E6=\"\",\"\",IF(②選手情報入力!M15=\"\",\"\",IF(I6=1,VLOOKUP(②選手情報入力!M15,種目情報!$A$4:$B$36,2,FALSE),VLOOKUP(②選手情報入力!M15,種目情報!$E$4:$F$39,2,FALSE))))","v":""},{"$f":"IF(E6=\"\",\"\",IF(②選手情報入力!N15=\"\",\"\",②選手情報入力!N15))","v":""},{"$f":"IF(E6=\"\",\"\",IF(②選手情報入力!L15=\"\",\"\",1))","v":""},{"$f":"IF(E6=\"\",\"\",IF(②選手情報入力!M15=\"\",\"\",IF(I6=1,VLOOKUP(②選手情報入力!M15,種目情報!$A$4:$C$36,3,FALSE),VLOOKUP(②選手情報入力!M15,種目情報!$E$4:$G$39,3,FALSE))))","v":""},{"$f":"IF(E6=\"\",\"\",IF(②選手情報入力!P15=\"\",\"\",IF(I6=1,VLOOKUP(②選手情報入力!P15,種目情報!$A$4:$B$36,2,FALSE),VLOOKUP(②選手情報入力!P15,種目情報!$E$4:$F$39,2,FALSE))))","v":""},{"$f":"IF(E6=\"\",\"\",IF(②選手情報入力!Q15=\"\",\"\",②選手情報入力!Q15))","v":""},{"$f":"IF(E6=\"\",\"\",IF(②選手情報入力!O15=\"\",\"\",1))","v":""},{"$f":"IF(E6=\"\",\"\",IF(②選手情報入力!P15=\"\",\"\",IF(I6=1,VLOOKUP(②選手情報入力!P15,種目情報!$A$4:$C$36,3,FALSE),VLOOKUP(②選手情報入力!P15,種目情報!$E$4:$G$39,3,FALSE))))","v":""},{"$f":"IF(E6=\"\",\"\",IF(②選手情報入力!R15=\"\",\"\",IF(I6=1,種目情報!$J$4,種目情報!$J$6)))","v":""},{"$f":"IF(E6=\"\",\"\",IF(②選手情報入力!R15=\"\",\"\",IF(I6=1,IF(②選手情報入力!$S$6=\"\",\"\",②選手情報入力!$S$6),IF(②選手情報入力!$S$7=\"\",\"\",②選手情報入力!$S$7))))","v":""},{"$f":"IF(E6=\"\",\"\",IF(②選手情報入力!R15=\"\",\"\",IF(I6=1,IF(②選手情報入力!$R$6=\"\",0,1),IF(②選手情報入力!$R$7=\"\",0,1))))","v":""},{"$f":"IF(E6=\"\",\"\",IF(②選手情報入力!R15=\"\",\"\",2))","v":""},{"$f":"IF(E6=\"\",\"\",IF(②選手情報入力!T15=\"\",\"\",IF(I6=1,種目情報!$J$5,種目情報!$J$7)))","v":""},{"$f":"IF(E6=\"\",\"\",IF(②選手情報入力!T15=\"\",\"\",IF(I6=1,IF(②選手情報入力!$U$6=\"\",\"\",②選手情報入力!$U$6),IF(②選手情報入力!$U$7=\"\",\"\",②選手情報入力!$U$7))))","v":""},{"$f":"IF(E6=\"\",\"\",IF(②選手情報入力!T15=\"\",\"\",IF(I6=1,IF(②選手情報入力!$T$6=\"\",0,1),IF(②選手情報入力!$T$7=\"\",0,1))))","v":""},{"$f":"IF(E6=\"\",\"\",IF(②選手情報入力!T15=\"\",\"\",2))","v":""}]
[{"$f":"IF(E7=\"\",\"\",Sheet1!A6)","v":""},{"$f":"IF(E7=\"\",\"\",①団体情報入力!$C$4)","v":""},null,{"$f":"IF(②選手情報入力!B16=\"\",\"\",②選手情報入力!B16)","v":""},{"$f":"IF(②選手情報入力!C16=\"\",\"\",②選手情報入力!C16)","v":""},{"$f":"IF(E7=\"\",\"\",②選手情報入力!D16)","v":""},{"$f":"IF(E7=\"\",\"\",ASC(②選手情報入力!E16))","v":""},"",{"$f":"IF(E7=\"\",\"\",IF(②選手情報入力!G16=\"男\",1,2))","v":""},{"$f":"IF(E7=\"\",\"\",IF(②選手情報入力!H16=\"\",\"\",②選手情報入力!H16))","v":""},null,null,"",null,{"$f":"IF(E7=\"\",\"\",IF(②選手情報入力!J16=\"\",\"\",IF(I7=1,VLOOKUP(②選手情報入力!J16,種目情報!$A$4:$B$32,2,FALSE),VLOOKUP(②選手情報入力!J16,種目情報!$E$4:$F$34,2,FALSE))))","v":""},{"$f":"IF(E7=\"\",\"\",IF(②選手情報入力!K16=\"\",\"\",②選手情報入力!K16))","v":""},{"$f":"IF(E7=\"\",\"\",IF(②選手情報入力!I16=\"\",\"\",1))","v":""},{"$f":"IF(E7=\"\",\"\",IF(②選手情報入力!J16=\"\",\"\",IF(I7=1,VLOOKUP(②選手情報入力!J16,種目情報!$A$4:$C$36,3,FALSE),VLOOKUP(②選手情報入力!J16,種目情報!$E$4:$G$39,3,FALSE))))","v":""},{"$f":"IF(E7=\"\",\"\",IF(②選手情報入力!M16=\"\",\"\",IF(I7=1,VLOOKUP(②選手情報入力!M16,種目情報!$A$4:$B$36,2,FALSE),VLOOKUP(②選手情報入力!M16,種目情報!$E$4:$F$39,2,FALSE))))","v":""},{"$f":"IF(E7=\"\",\"\",IF(②選手情報入力!N16=\"\",\"\",②選手情報入力!N16))","v":""},{"$f":"IF(E7=\"\",\"\",IF(②選手情報入力!L16=\"\",\"\",1))","v":""},{"$f":"IF(E7=\"\",\"\",IF(②選手情報入力!M16=\"\",\"\",IF(I7=1,VLOOKUP(②選手情報入力!M16,種目情報!$A$4:$C$36,3,FALSE),VLOOKUP(②選手情報入力!M16,種目情報!$E$4:$G$39,3,FALSE))))","v":""},{"$f":"IF(E7=\"\",\"\",IF(②選手情報入力!P16=\"\",\"\",IF(I7=1,VLOOKUP(②選手情報入力!P16,種目情報!$A$4:$B$36,2,FALSE),VLOOKUP(②選手情報入力!P16,種目情報!$E$4:$F$39,2,FALSE))))","v":""},{"$f":"IF(E7=\"\",\"\",IF(②選手情報入力!Q16=\"\",\"\",②選手情報入力!Q16))","v":""},{"$f":"IF(E7=\"\",\"\",IF(②選手情報入力!O16=\"\",\"\",1))","v":""},{"$f":"IF(E7=\"\",\"\",IF(②選手情報入力!P16=\"\",\"\",IF(I7=1,VLOOKUP(②選手情報入力!P16,種目情報!$A$4:$C$36,3,FALSE),VLOOKUP(②選手情報入力!P16,種目情報!$E$4:$G$39,3,FALSE))))","v":""},{"$f":"IF(E7=\"\",\"\",IF(②選手情報入力!R16=\"\",\"\",IF(I7=1,種目情報!$J$4,種目情報!$J$6)))","v":""},{"$f":"IF(E7=\"\",\"\",IF(②選手情報入力!R16=\"\",\"\",IF(I7=1,IF(②選手情報入力!$S$6=\"\",\"\",②選手情報入力!$S$6),IF(②選手情報入力!$S$7=\"\",\"\",②選手情報入力!$S$7))))","v":""},{"$f":"IF(E7=\"\",\"\",IF(②選手情報入力!R16=\"\",\"\",IF(I7=1,IF(②選手情報入力!$R$6=\"\",0,1),IF(②選手情報入力!$R$7=\"\",0,1))))","v":""},{"$f":"IF(E7=\"\",\"\",IF(②選手情報入力!R16=\"\",\"\",2))","v":""},{"$f":"IF(E7=\"\",\"\",IF(②選手情報入力!T16=\"\",\"\",IF(I7=1,種目情報!$J$5,種目情報!$J$7)))","v":""},{"$f":"IF(E7=\"\",\"\",IF(②選手情報入力!T16=\"\",\"\",IF(I7=1,IF(②選手情報入力!$U$6=\"\",\"\",②選手情報入力!$U$6),IF(②選手情報入力!$U$7=\"\",\"\",②選手情報入力!$U$7))))","v":""},{"$f":"IF(E7=\"\",\"\",IF(②選手情報入力!T16=\"\",\"\",IF(I7=1,IF(②選手情報入力!$T$6=\"\",0,1),IF(②選手情報入力!$T$7=\"\",0,1))))","v":""},{"$f":"IF(E7=\"\",\"\",IF(②選手情報入力!T16=\"\",\"\",2))","v":""}]
[{"$f":"IF(E8=\"\",\"\",Sheet1!A7)","v":""},{"$f":"IF(E8=\"\",\"\",①団体情報入力!$C$4)","v":""},null,{"$f":"IF(②選手情報入力!B17=\"\",\"\",②選手情報入力!B17)","v":""},{"$f":"IF(②選手情報入力!C17=\"\",\"\",②選手情報入力!C17)","v":""},{"$f":"IF(E8=\"\",\"\",②選手情報入力!D17)","v":""},{"$f":"IF(E8=\"\",\"\",ASC(②選手情報入力!E17))","v":""},"",{"$f":"IF(E8=\"\",\"\",IF(②選手情報入力!G17=\"男\",1,2))","v":""},{"$f":"IF(E8=\"\",\"\",IF(②選手情報入力!H17=\"\",\"\",②選手情報入力!H17))","v":""},null,null,"",null,{"$f":"IF(E8=\"\",\"\",IF(②選手情報入力!J17=\"\",\"\",IF(I8=1,VLOOKUP(②選手情報入力!J17,種目情報!$A$4:$B$32,2,FALSE),VLOOKUP(②選手情報入力!J17,種目情報!$E$4:$F$34,2,FALSE))))","v":""},{"$f":"IF(E8=\"\",\"\",IF(②選手情報入力!K17=\"\",\"\",②選手情報入力!K17))","v":""},{"$f":"IF(E8=\"\",\"\",IF(②選手情報入力!I17=\"\",\"\",1))","v":""},{"$f":"IF(E8=\"\",\"\",IF(②選手情報入力!J17=\"\",\"\",IF(I8=1,VLOOKUP(②選手情報入力!J17,種目情報!$A$4:$C$36,3,FALSE),VLOOKUP(②選手情報入力!J17,種目情報!$E$4:$G$39,3,FALSE))))","v":""},{"$f":"IF(E8=\"\",\"\",IF(②選手情報入力!M17=\"\",\"\",IF(I8=1,VLOOKUP(②選手情報入力!M17,種目情報!$A$4:$B$36,2,FALSE),VLOOKUP(②選手情報入力!M17,種目情報!$E$4:$F$39,2,FALSE))))","v":""},{"$f":"IF(E8=\"\",\"\",IF(②選手情報入力!N17=\"\",\"\",②選手情報入力!N17))","v":""},{"$f":"IF(E8=\"\",\"\",IF(②選手情報入力!L17=\"\",\"\",1))","v":""},{"$f":"IF(E8=\"\",\"\",IF(②選手情報入力!M17=\"\",\"\",IF(I8=1,VLOOKUP(②選手情報入力!M17,種目情報!$A$4:$C$36,3,FALSE),VLOOKUP(②選手情報入力!M17,種目情報!$E$4:$G$39,3,FALSE))))","v":""},{"$f":"IF(E8=\"\",\"\",IF(②選手情報入力!P17=\"\",\"\",IF(I8=1,VLOOKUP(②選手情報入力!P17,種目情報!$A$4:$B$36,2,FALSE),VLOOKUP(②選手情報入力!P17,種目情報!$E$4:$F$39,2,FALSE))))","v":""},{"$f":"IF(E8=\"\",\"\",IF(②選手情報入力!Q17=\"\",\"\",②選手情報入力!Q17))","v":""},{"$f":"IF(E8=\"\",\"\",IF(②選手情報入力!O17=\"\",\"\",1))","v":""},{"$f":"IF(E8=\"\",\"\",IF(②選手情報入力!P17=\"\",\"\",IF(I8=1,VLOOKUP(②選手情報入力!P17,種目情報!$A$4:$C$36,3,FALSE),VLOOKUP(②選手情報入力!P17,種目情報!$E$4:$G$39,3,FALSE))))","v":""},{"$f":"IF(E8=\"\",\"\",IF(②選手情報入力!R17=\"\",\"\",IF(I8=1,種目情報!$J$4,種目情報!$J$6)))","v":""},{"$f":"IF(E8=\"\",\"\",IF(②選手情報入力!R17=\"\",\"\",IF(I8=1,IF(②選手情報入力!$S$6=\"\",\"\",②選手情報入力!$S$6),IF(②選手情報入力!$S$7=\"\",\"\",②選手情報入力!$S$7))))","v":""},{"$f":"IF(E8=\"\",\"\",IF(②選手情報入力!R17=\"\",\"\",IF(I8=1,IF(②選手情報入力!$R$6=\"\",0,1),IF(②選手情報入力!$R$7=\"\",0,1))))","v":""},{"$f":"IF(E8=\"\",\"\",IF(②選手情報入力!R17=\"\",\"\",2))","v":""},{"$f":"IF(E8=\"\",\"\",IF(②選手情報入力!T17=\"\",\"\",IF(I8=1,種目情報!$J$5,種目情報!$J$7)))","v":""},{"$f":"IF(E8=\"\",\"\",IF(②選手情報入力!T17=\"\",\"\",IF(I8=1,IF(②選手情報入力!$U$6=\"\",\"\",②選手情報入力!$U$6),IF(②選手情報入力!$U$7=\"\",\"\",②選手情報入力!$U$7))))","v":""},{"$f":"IF(E8=\"\",\"\",IF(②選手情報入力!T17=\"\",\"\",IF(I8=1,IF(②選手情報入力!$T$6=\"\",0,1),IF(②選手情報入力!$T$7=\"\",0,1))))","v":""},{"$f":"IF(E8=\"\",\"\",IF(②選手情報入力!T17=\"\",\"\",2))","v":""}]
[{"$f":"IF(E9=\"\",\"\",Sheet1!A8)","v":""},{"$f":"IF(E9=\"\",\"\",①団体情報入力!$C$4)","v":""},null,{"$f":"IF(②選手情報入力!B18=\"\",\"\",②選手情報入力!B18)","v":""},{"$f":"IF(②選手情報入力!C18=\"\",\"\",②選手情報入力!C18)","v":""},{"$f":"IF(E9=\"\",\"\",②選手情報入力!D18)","v":""},{"$f":"IF(E9=\"\",\"\",ASC(②選手情報入力!E18))","v":""},"",{"$f":"IF(E9=\"\",\"\",IF(②選手情報入力!G18=\"男\",1,2))","v":""},{"$f":"IF(E9=\"\",\"\",IF(②選手情報入力!H18=\"\",\"\",②選手情報入力!H18))","v":""},null,null,"",null,{"$f":"IF(E9=\"\",\"\",IF(②選手情報入力!J18=\"\",\"\",IF(I9=1,VLOOKUP(②選手情報入力!J18,種目情報!$A$4:$B$32,2,FALSE),VLOOKUP(②選手情報入力!J18,種目情報!$E$4:$F$34,2,FALSE))))","v":""},{"$f":"IF(E9=\"\",\"\",IF(②選手情報入力!K18=\"\",\"\",②選手情報入力!K18))","v":""},{"$f":"IF(E9=\"\",\"\",IF(②選手情報入力!I18=\"\",\"\",1))","v":""},{"$f":"IF(E9=\"\",\"\",IF(②選手情報入力!J18=\"\",\"\",IF(I9=1,VLOOKUP(②選手情報入力!J18,種目情報!$A$4:$C$36,3,FALSE),VLOOKUP(②選手情報入力!J18,種目情報!$E$4:$G$39,3,FALSE))))","v":""},{"$f":"IF(E9=\"\",\"\",IF(②選手情報入力!M18=\"\",\"\",IF(I9=1,VLOOKUP(②選手情報入力!M18,種目情報!$A$4:$B$36,2,FALSE),VLOOKUP(②選手情報入力!M18,種目情報!$E$4:$F$39,2,FALSE))))","v":""},{"$f":"IF(E9=\"\",\"\",IF(②選手情報入力!N18=\"\",\"\",②選手情報入力!N18))","v":""},{"$f":"IF(E9=\"\",\"\",IF(②選手情報入力!L18=\"\",\"\",1))","v":""},{"$f":"IF(E9=\"\",\"\",IF(②選手情報入力!M18=\"\",\"\",IF(I9=1,VLOOKUP(②選手情報入力!M18,種目情報!$A$4:$C$36,3,FALSE),VLOOKUP(②選手情報入力!M18,種目情報!$E$4:$G$39,3,FALSE))))","v":""},{"$f":"IF(E9=\"\",\"\",IF(②選手情報入力!P18=\"\",\"\",IF(I9=1,VLOOKUP(②選手情報入力!P18,種目情報!$A$4:$B$36,2,FALSE),VLOOKUP(②選手情報入力!P18,種目情報!$E$4:$F$39,2,FALSE))))","v":""},{"$f":"IF(E9=\"\",\"\",IF(②選手情報入力!Q18=\"\",\"\",②選手情報入力!Q18))","v":""},{"$f":"IF(E9=\"\",\"\",IF(②選手情報入力!O18=\"\",\"\",1))","v":""},{"$f":"IF(E9=\"\",\"\",IF(②選手情報入力!P18=\"\",\"\",IF(I9=1,VLOOKUP(②選手情報入力!P18,種目情報!$A$4:$C$36,3,FALSE),VLOOKUP(②選手情報入力!P18,種目情報!$E$4:$G$39,3,FALSE))))","v":""},{"$f":"IF(E9=\"\",\"\",IF(②選手情報入力!R18=\"\",\"\",IF(I9=1,種目情報!$J$4,種目情報!$J$6)))","v":""},{"$f":"IF(E9=\"\",\"\",IF(②選手情報入力!R18=\"\",\"\",IF(I9=1,IF(②選手情報入力!$S$6=\"\",\"\",②選手情報入力!$S$6),IF(②選手情報入力!$S$7=\"\",\"\",②選手情報入力!$S$7))))","v":""},{"$f":"IF(E9=\"\",\"\",IF(②選手情報入力!R18=\"\",\"\",IF(I9=1,IF(②選手情報入力!$R$6=\"\",0,1),IF(②選手情報入力!$R$7=\"\",0,1))))","v":""},{"$f":"IF(E9=\"\",\"\",IF(②選手情報入力!R18=\"\",\"\",2))","v":""},{"$f":"IF(E9=\"\",\"\",IF(②選手情報入力!T18=\"\",\"\",IF(I9=1,種目情報!$J$5,種目情報!$J$7)))","v":""},{"$f":"IF(E9=\"\",\"\",IF(②選手情報入力!T18=\"\",\"\",IF(I9=1,IF(②選手情報入力!$U$6=\"\",\"\",②選手情報入力!$U$6),IF(②選手情報入力!$U$7=\"\",\"\",②選手情報入力!$U$7))))","v":""},{"$f":"IF(E9=\"\",\"\",IF(②選手情報入力!T18=\"\",\"\",IF(I9=1,IF(②選手情報入力!$T$6=\"\",0,1),IF(②選手情報入力!$T$7=\"\",0,1))))","v":""},{"$f":"IF(E9=\"\",\"\",IF(②選手情報入力!T18=\"\",\"\",2))","v":""}]
[{"$f":"IF(E10=\"\",\"\",Sheet1!A9)","v":""},{"$f":"IF(E10=\"\",\"\",①団体情報入力!$C$4)","v":""},null,{"$f":"IF(②選手情報入力!B19=\"\",\"\",②選手情報入力!B19)","v":""},{"$f":"IF(②選手情報入力!C19=\"\",\"\",②選手情報入力!C19)","v":""},{"$f":"IF(E10=\"\",\"\",②選手情報入力!D19)","v":""},{"$f":"IF(E10=\"\",\"\",ASC(②選手情報入力!E19))","v":""},"",{"$f":"IF(E10=\"\",\"\",IF(②選手情報入力!G19=\"男\",1,2))","v":""},{"$f":"IF(E10=\"\",\"\",IF(②選手情報入力!H19=\"\",\"\",②選手情報入力!H19))","v":""},null,null,"",null,{"$f":"IF(E10=\"\",\"\",IF(②選手情報入力!J19=\"\",\"\",IF(I10=1,VLOOKUP(②選手情報入力!J19,種目情報!$A$4:$B$32,2,FALSE),VLOOKUP(②選手情報入力!J19,種目情報!$E$4:$F$34,2,FALSE))))","v":""},{"$f":"IF(E10=\"\",\"\",IF(②選手情報入力!K19=\"\",\"\",②選手情報入力!K19))","v":""},{"$f":"IF(E10=\"\",\"\",IF(②選手情報入力!I19=\"\",\"\",1))","v":""},{"$f":"IF(E10=\"\",\"\",IF(②選手情報入力!J19=\"\",\"\",IF(I10=1,VLOOKUP(②選手情報入力!J19,種目情報!$A$4:$C$36,3,FALSE),VLOOKUP(②選手情報入力!J19,種目情報!$E$4:$G$39,3,FALSE))))","v":""},{"$f":"IF(E10=\"\",\"\",IF(②選手情報入力!M19=\"\",\"\",IF(I10=1,VLOOKUP(②選手情報入力!M19,種目情報!$A$4:$B$36,2,FALSE),VLOOKUP(②選手情報入力!M19,種目情報!$E$4:$F$39,2,FALSE))))","v":""},{"$f":"IF(E10=\"\",\"\",IF(②選手情報入力!N19=\"\",\"\",②選手情報入力!N19))","v":""},{"$f":"IF(E10=\"\",\"\",IF(②選手情報入力!L19=\"\",\"\",1))","v":""},{"$f":"IF(E10=\"\",\"\",IF(②選手情報入力!M19=\"\",\"\",IF(I10=1,VLOOKUP(②選手情報入力!M19,種目情報!$A$4:$C$36,3,FALSE),VLOOKUP(②選手情報入力!M19,種目情報!$E$4:$G$39,3,FALSE))))","v":""},{"$f":"IF(E10=\"\",\"\",IF(②選手情報入力!P19=\"\",\"\",IF(I10=1,VLOOKUP(②選手情報入力!P19,種目情報!$A$4:$B$36,2,FALSE),VLOOKUP(②選手情報入力!P19,種目情報!$E$4:$F$39,2,FALSE))))","v":""},{"$f":"IF(E10=\"\",\"\",IF(②選手情報入力!Q19=\"\",\"\",②選手情報入力!Q19))","v":""},{"$f":"IF(E10=\"\",\"\",IF(②選手情報入力!O19=\"\",\"\",1))","v":""},{"$f":"IF(E10=\"\",\"\",IF(②選手情報入力!P19=\"\",\"\",IF(I10=1,VLOOKUP(②選手情報入力!P19,種目情報!$A$4:$C$36,3,FALSE),VLOOKUP(②選手情報入力!P19,種目情報!$E$4:$G$39,3,FALSE))))","v":""},{"$f":"IF(E10=\"\",\"\",IF(②選手情報入力!R19=\"\",\"\",IF(I10=1,種目情報!$J$4,種目情報!$J$6)))","v":""},{"$f":"IF(E10=\"\",\"\",IF(②選手情報入力!R19=\"\",\"\",IF(I10=1,IF(②選手情報入力!$S$6=\"\",\"\",②選手情報入力!$S$6),IF(②選手情報入力!$S$7=\"\",\"\",②選手情報入力!$S$7))))","v":""},{"$f":"IF(E10=\"\",\"\",IF(②選手情報入力!R19=\"\",\"\",IF(I10=1,IF(②選手情報入力!$R$6=\"\",0,1),IF(②選手情報入力!$R$7=\"\",0,1))))","v":""},{"$f":"IF(E10=\"\",\"\",IF(②選手情報入力!R19=\"\",\"\",2))","v":""},{"$f":"IF(E10=\"\",\"\",IF(②選手情報入力!T19=\"\",\"\",IF(I10=1,種目情報!$J$5,種目情報!$J$7)))","v":""},{"$f":"IF(E10=\"\",\"\",IF(②選手情報入力!T19=\"\",\"\",IF(I10=1,IF(②選手情報入力!$U$6=\"\",\"\",②選手情報入力!$U$6),IF(②選手情報入力!$U$7=\"\",\"\",②選手情報入力!$U$7))))","v":""},{"$f":"IF(E10=\"\",\"\",IF(②選手情報入力!T19=\"\",\"\",IF(I10=1,IF(②選手情報入力!$T$6=\"\",0,1),IF(②選手情報入力!$T$7=\"\",0,1))))","v":""},{"$f":"IF(E10=\"\",\"\",IF(②選手情報入力!T19=\"\",\"\",2))","v":""}]
[{"$f":"IF(E11=\"\",\"\",Sheet1!A10)","v":""},{"$f":"IF(E11=\"\",\"\",①団体情報入力!$C$4)","v":""},null,{"$f":"IF(②選手情報入力!B20=\"\",\"\",②選手情報入力!B20)","v":""},{"$f":"IF(②選手情報入力!C20=\"\",\"\",②選手情報入力!C20)","v":""},{"$f":"IF(E11=\"\",\"\",②選手情報入力!D20)","v":""},{"$f":"IF(E11=\"\",\"\",ASC(②選手情報入力!E20))","v":""},"",{"$f":"IF(E11=\"\",\"\",IF(②選手情報入力!G20=\"男\",1,2))","v":""},{"$f":"IF(E11=\"\",\"\",IF(②選手情報入力!H20=\"\",\"\",②選手情報入力!H20))","v":""},null,null,"",null,{"$f":"IF(E11=\"\",\"\",IF(②選手情報入力!J20=\"\",\"\",IF(I11=1,VLOOKUP(②選手情報入力!J20,種目情報!$A$4:$B$32,2,FALSE),VLOOKUP(②選手情報入力!J20,種目情報!$E$4:$F$34,2,FALSE))))","v":""},{"$f":"IF(E11=\"\",\"\",IF(②選手情報入力!K20=\"\",\"\",②選手情報入力!K20))","v":""},{"$f":"IF(E11=\"\",\"\",IF(②選手情報入力!I20=\"\",\"\",1))","v":""},{"$f":"IF(E11=\"\",\"\",IF(②選手情報入力!J20=\"\",\"\",IF(I11=1,VLOOKUP(②選手情報入力!J20,種目情報!$A$4:$C$36,3,FALSE),VLOOKUP(②選手情報入力!J20,種目情報!$E$4:$G$39,3,FALSE))))","v":""},{"$f":"IF(E11=\"\",\"\",IF(②選手情報入力!M20=\"\",\"\",IF(I11=1,VLOOKUP(②選手情報入力!M20,種目情報!$A$4:$B$36,2,FALSE),VLOOKUP(②選手情報入力!M20,種目情報!$E$4:$F$39,2,FALSE))))","v":""},{"$f":"IF(E11=\"\",\"\",IF(②選手情報入力!N20=\"\",\"\",②選手情報入力!N20))","v":""},{"$f":"IF(E11=\"\",\"\",IF(②選手情報入力!L20=\"\",\"\",1))","v":""},{"$f":"IF(E11=\"\",\"\",IF(②選手情報入力!M20=\"\",\"\",IF(I11=1,VLOOKUP(②選手情報入力!M20,種目情報!$A$4:$C$36,3,FALSE),VLOOKUP(②選手情報入力!M20,種目情報!$E$4:$G$39,3,FALSE))))","v":""},{"$f":"IF(E11=\"\",\"\",IF(②選手情報入力!P20=\"\",\"\",IF(I11=1,VLOOKUP(②選手情報入力!P20,種目情報!$A$4:$B$36,2,FALSE),VLOOKUP(②選手情報入力!P20,種目情報!$E$4:$F$39,2,FALSE))))","v":""},{"$f":"IF(E11=\"\",\"\",IF(②選手情報入力!Q20=\"\",\"\",②選手情報入力!Q20))","v":""},{"$f":"IF(E11=\"\",\"\",IF(②選手情報入力!O20=\"\",\"\",1))","v":""},{"$f":"IF(E11=\"\",\"\",IF(②選手情報入力!P20=\"\",\"\",IF(I11=1,VLOOKUP(②選手情報入力!P20,種目情報!$A$4:$C$36,3,FALSE),VLOOKUP(②選手情報入力!P20,種目情報!$E$4:$G$39,3,FALSE))))","v":""},{"$f":"IF(E11=\"\",\"\",IF(②選手情報入力!R20=\"\",\"\",IF(I11=1,種目情報!$J$4,種目情報!$J$6)))","v":""},{"$f":"IF(E11=\"\",\"\",IF(②選手情報入力!R20=\"\",\"\",IF(I11=1,IF(②選手情報入力!$S$6=\"\",\"\",②選手情報入力!$S$6),IF(②選手情報入力!$S$7=\"\",\"\",②選手情報入力!$S$7))))","v":""},{"$f":"IF(E11=\"\",\"\",IF(②選手情報入力!R20=\"\",\"\",IF(I11=1,IF(②選手情報入力!$R$6=\"\",0,1),IF(②選手情報入力!$R$7=\"\",0,1))))","v":""},{"$f":"IF(E11=\"\",\"\",IF(②選手情報入力!R20=\"\",\"\",2))","v":""},{"$f":"IF(E11=\"\",\"\",IF(②選手情報入力!T20=\"\",\"\",IF(I11=1,種目情報!$J$5,種目情報!$J$7)))","v":""},{"$f":"IF(E11=\"\",\"\",IF(②選手情報入力!T20=\"\",\"\",IF(I11=1,IF(②選手情報入力!$U$6=\"\",\"\",②選手情報入力!$U$6),IF(②選手情報入力!$U$7=\"\",\"\",②選手情報入力!$U$7))))","v":""},{"$f":"IF(E11=\"\",\"\",IF(②選手情報入力!T20=\"\",\"\",IF(I11=1,IF(②選手情報入力!$T$6=\"\",0,1),IF(②選手情報入力!$T$7=\"\",0,1))))","v":""},{"$f":"IF(E11=\"\",\"\",IF(②選手情報入力!T20=\"\",\"\",2))","v":""}]
[{"$f":"IF(E12=\"\",\"\",Sheet1!A11)","v":""},{"$f":"IF(E12=\"\",\"\",①団体情報入力!$C$4)","v":""},null,{"$f":"IF(②選手情報入力!B21=\"\",\"\",②選手情報入力!B21)","v":""},{"$f":"IF(②選手情報入力!C21=\"\",\"\",②選手情報入力!C21)","v":""},{"$f":"IF(E12=\"\",\"\",②選手情報入力!D21)","v":""},{"$f":"IF(E12=\"\",\"\",ASC(②選手情報入力!E21))","v":""},"",{"$f":"IF(E12=\"\",\"\",IF(②選手情報入力!G21=\"男\",1,2))","v":""},{"$f":"IF(E12=\"\",\"\",IF(②選手情報入力!H21=\"\",\"\",②選手情報入力!H21))","v":""},null,null,"",null,{"$f":"IF(E12=\"\",\"\",IF(②選手情報入力!J21=\"\",\"\",IF(I12=1,VLOOKUP(②選手情報入力!J21,種目情報!$A$4:$B$32,2,FALSE),VLOOKUP(②選手情報入力!J21,種目情報!$E$4:$F$34,2,FALSE))))","v":""},{"$f":"IF(E12=\"\",\"\",IF(②選手情報入力!K21=\"\",\"\",②選手情報入力!K21))","v":""},{"$f":"IF(E12=\"\",\"\",IF(②選手情報入力!I21=\"\",\"\",1))","v":""},{"$f":"IF(E12=\"\",\"\",IF(②選手情報入力!J21=\"\",\"\",IF(I12=1,VLOOKUP(②選手情報入力!J21,種目情報!$A$4:$C$36,3,FALSE),VLOOKUP(②選手情報入力!J21,種目情報!$E$4:$G$39,3,FALSE))))","v":""},{"$f":"IF(E12=\"\",\"\",IF(②選手情報入力!M21=\"\",\"\",IF(I12=1,VLOOKUP(②選手情報入力!M21,種目情報!$A$4:$B$36,2,FALSE),VLOOKUP(②選手情報入力!M21,種目情報!$E$4:$F$39,2,FALSE))))","v":""},{"$f":"IF(E12=\"\",\"\",IF(②選手情報入力!N21=\"\",\"\",②選手情報入力!N21))","v":""},{"$f":"IF(E12=\"\",\"\",IF(②選手情報入力!L21=\"\",\"\",1))","v":""},{"$f":"IF(E12=\"\",\"\",IF(②選手情報入力!M21=\"\",\"\",IF(I12=1,VLOOKUP(②選手情報入力!M21,種目情報!$A$4:$C$36,3,FALSE),VLOOKUP(②選手情報入力!M21,種目情報!$E$4:$G$39,3,FALSE))))","v":""},{"$f":"IF(E12=\"\",\"\",IF(②選手情報入力!P21=\"\",\"\",IF(I12=1,VLOOKUP(②選手情報入力!P21,種目情報!$A$4:$B$36,2,FALSE),VLOOKUP(②選手情報入力!P21,種目情報!$E$4:$F$39,2,FALSE))))","v":""},{"$f":"IF(E12=\"\",\"\",IF(②選手情報入力!Q21=\"\",\"\",②選手情報入力!Q21))","v":""},{"$f":"IF(E12=\"\",\"\",IF(②選手情報入力!O21=\"\",\"\",1))","v":""},{"$f":"IF(E12=\"\",\"\",IF(②選手情報入力!P21=\"\",\"\",IF(I12=1,VLOOKUP(②選手情報入力!P21,種目情報!$A$4:$C$36,3,FALSE),VLOOKUP(②選手情報入力!P21,種目情報!$E$4:$G$39,3,FALSE))))","v":""},{"$f":"IF(E12=\"\",\"\",IF(②選手情報入力!R21=\"\",\"\",IF(I12=1,種目情報!$J$4,種目情報!$J$6)))","v":""},{"$f":"IF(E12=\"\",\"\",IF(②選手情報入力!R21=\"\",\"\",IF(I12=1,IF(②選手情報入力!$S$6=\"\",\"\",②選手情報入力!$S$6),IF(②選手情報入力!$S$7=\"\",\"\",②選手情報入力!$S$7))))","v":""},{"$f":"IF(E12=\"\",\"\",IF(②選手情報入力!R21=\"\",\"\",IF(I12=1,IF(②選手情報入力!$R$6=\"\",0,1),IF(②選手情報入力!$R$7=\"\",0,1))))","v":""},{"$f":"IF(E12=\"\",\"\",IF(②選手情報入力!R21=\"\",\"\",2))","v":""},{"$f":"IF(E12=\"\",\"\",IF(②選手情報入力!T21=\"\",\"\",IF(I12=1,種目情報!$J$5,種目情報!$J$7)))","v":""},{"$f":"IF(E12=\"\",\"\",IF(②選手情報入力!T21=\"\",\"\",IF(I12=1,IF(②選手情報入力!$U$6=\"\",\"\",②選手情報入力!$U$6),IF(②選手情報入力!$U$7=\"\",\"\",②選手情報入力!$U$7))))","v":""},{"$f":"IF(E12=\"\",\"\",IF(②選手情報入力!T21=\"\",\"\",IF(I12=1,IF(②選手情報入力!$T$6=\"\",0,1),IF(②選手情報入力!$T$7=\"\",0,1))))","v":""},{"$f":"IF(E12=\"\",\"\",IF(②選手情報入力!T21=\"\",\"\",2))","v":""}]
[{"$f":"IF(E13=\"\",\"\",Sheet1!A12)","v":""},{"$f":"IF(E13=\"\",\"\",①団体情報入力!$C$4)","v":""},null,{"$f":"IF(②選手情報入力!B22=\"\",\"\",②選手情報入力!B22)","v":""},{"$f":"IF(②選手情報入力!C22=\"\",\"\",②選手情報入力!C22)","v":""},{"$f":"IF(E13=\"\",\"\",②選手情報入力!D22)","v":""},{"$f":"IF(E13=\"\",\"\",ASC(②選手情報入力!E22))","v":""},"",{"$f":"IF(E13=\"\",\"\",IF(②選手情報入力!G22=\"男\",1,2))","v":""},{"$f":"IF(E13=\"\",\"\",IF(②選手情報入力!H22=\"\",\"\",②選手情報入力!H22))","v":""},null,null,"",null,{"$f":"IF(E13=\"\",\"\",IF(②選手情報入力!J22=\"\",\"\",IF(I13=1,VLOOKUP(②選手情報入力!J22,種目情報!$A$4:$B$32,2,FALSE),VLOOKUP(②選手情報入力!J22,種目情報!$E$4:$F$34,2,FALSE))))","v":""},{"$f":"IF(E13=\"\",\"\",IF(②選手情報入力!K22=\"\",\"\",②選手情報入力!K22))","v":""},{"$f":"IF(E13=\"\",\"\",IF(②選手情報入力!I22=\"\",\"\",1))","v":""},{"$f":"IF(E13=\"\",\"\",IF(②選手情報入力!J22=\"\",\"\",IF(I13=1,VLOOKUP(②選手情報入力!J22,種目情報!$A$4:$C$36,3,FALSE),VLOOKUP(②選手情報入力!J22,種目情報!$E$4:$G$39,3,FALSE))))","v":""},{"$f":"IF(E13=\"\",\"\",IF(②選手情報入力!M22=\"\",\"\",IF(I13=1,VLOOKUP(②選手情報入力!M22,種目情報!$A$4:$B$36,2,FALSE),VLOOKUP(②選手情報入力!M22,種目情報!$E$4:$F$39,2,FALSE))))","v":""},{"$f":"IF(E13=\"\",\"\",IF(②選手情報入力!N22=\"\",\"\",②選手情報入力!N22))","v":""},{"$f":"IF(E13=\"\",\"\",IF(②選手情報入力!L22=\"\",\"\",1))","v":""},{"$f":"IF(E13=\"\",\"\",IF(②選手情報入力!M22=\"\",\"\",IF(I13=1,VLOOKUP(②選手情報入力!M22,種目情報!$A$4:$C$36,3,FALSE),VLOOKUP(②選手情報入力!M22,種目情報!$E$4:$G$39,3,FALSE))))","v":""},{"$f":"IF(E13=\"\",\"\",IF(②選手情報入力!P22=\"\",\"\",IF(I13=1,VLOOKUP(②選手情報入力!P22,種目情報!$A$4:$B$36,2,FALSE),VLOOKUP(②選手情報入力!P22,種目情報!$E$4:$F$39,2,FALSE))))","v":""},{"$f":"IF(E13=\"\",\"\",IF(②選手情報入力!Q22=\"\",\"\",②選手情報入力!Q22))","v":""},{"$f":"IF(E13=\"\",\"\",IF(②選手情報入力!O22=\"\",\"\",1))","v":""},{"$f":"IF(E13=\"\",\"\",IF(②選手情報入力!P22=\"\",\"\",IF(I13=1,VLOOKUP(②選手情報入力!P22,種目情報!$A$4:$C$36,3,FALSE),VLOOKUP(②選手情報入力!P22,種目情報!$E$4:$G$39,3,FALSE))))","v":""},{"$f":"IF(E13=\"\",\"\",IF(②選手情報入力!R22=\"\",\"\",IF(I13=1,種目情報!$J$4,種目情報!$J$6)))","v":""},{"$f":"IF(E13=\"\",\"\",IF(②選手情報入力!R22=\"\",\"\",IF(I13=1,IF(②選手情報入力!$S$6=\"\",\"\",②選手情報入力!$S$6),IF(②選手情報入力!$S$7=\"\",\"\",②選手情報入力!$S$7))))","v":""},{"$f":"IF(E13=\"\",\"\",IF(②選手情報入力!R22=\"\",\"\",IF(I13=1,IF(②選手情報入力!$R$6=\"\",0,1),IF(②選手情報入力!$R$7=\"\",0,1))))","v":""},{"$f":"IF(E13=\"\",\"\",IF(②選手情報入力!R22=\"\",\"\",2))","v":""},{"$f":"IF(E13=\"\",\"\",IF(②選手情報入力!T22=\"\",\"\",IF(I13=1,種目情報!$J$5,種目情報!$J$7)))","v":""},{"$f":"IF(E13=\"\",\"\",IF(②選手情報入力!T22=\"\",\"\",IF(I13=1,IF(②選手情報入力!$U$6=\"\",\"\",②選手情報入力!$U$6),IF(②選手情報入力!$U$7=\"\",\"\",②選手情報入力!$U$7))))","v":""},{"$f":"IF(E13=\"\",\"\",IF(②選手情報入力!T22=\"\",\"\",IF(I13=1,IF(②選手情報入力!$T$6=\"\",0,1),IF(②選手情報入力!$T$7=\"\",0,1))))","v":""},{"$f":"IF(E13=\"\",\"\",IF(②選手情報入力!T22=\"\",\"\",2))","v":""}]
[{"$f":"IF(E14=\"\",\"\",Sheet1!A13)","v":""},{"$f":"IF(E14=\"\",\"\",①団体情報入力!$C$4)","v":""},null,{"$f":"IF(②選手情報入力!B23=\"\",\"\",②選手情報入力!B23)","v":""},{"$f":"IF(②選手情報入力!C23=\"\",\"\",②選手情報入力!C23)","v":""},{"$f":"IF(E14=\"\",\"\",②選手情報入力!D23)","v":""},{"$f":"IF(E14=\"\",\"\",ASC(②選手情報入力!E23))","v":""},"",{"$f":"IF(E14=\"\",\"\",IF(②選手情報入力!G23=\"男\",1,2))","v":""},{"$f":"IF(E14=\"\",\"\",IF(②選手情報入力!H23=\"\",\"\",②選手情報入力!H23))","v":""},null,null,"",null,{"$f":"IF(E14=\"\",\"\",IF(②選手情報入力!J23=\"\",\"\",IF(I14=1,VLOOKUP(②選手情報入力!J23,種目情報!$A$4:$B$32,2,FALSE),VLOOKUP(②選手情報入力!J23,種目情報!$E$4:$F$34,2,FALSE))))","v":""},{"$f":"IF(E14=\"\",\"\",IF(②選手情報入力!K23=\"\",\"\",②選手情報入力!K23))","v":""},{"$f":"IF(E14=\"\",\"\",IF(②選手情報入力!I23=\"\",\"\",1))","v":""},{"$f":"IF(E14=\"\",\"\",IF(②選手情報入力!J23=\"\",\"\",IF(I14=1,VLOOKUP(②選手情報入力!J23,種目情報!$A$4:$C$36,3,FALSE),VLOOKUP(②選手情報入力!J23,種目情報!$E$4:$G$39,3,FALSE))))","v":""},{"$f":"IF(E14=\"\",\"\",IF(②選手情報入力!M23=\"\",\"\",IF(I14=1,VLOOKUP(②選手情報入力!M23,種目情報!$A$4:$B$36,2,FALSE),VLOOKUP(②選手情報入力!M23,種目情報!$E$4:$F$39,2,FALSE))))","v":""},{"$f":"IF(E14=\"\",\"\",IF(②選手情報入力!N23=\"\",\"\",②選手情報入力!N23))","v":""},{"$f":"IF(E14=\"\",\"\",IF(②選手情報入力!L23=\"\",\"\",1))","v":""},{"$f":"IF(E14=\"\",\"\",IF(②選手情報入力!M23=\"\",\"\",IF(I14=1,VLOOKUP(②選手情報入力!M23,種目情報!$A$4:$C$36,3,FALSE),VLOOKUP(②選手情報入力!M23,種目情報!$E$4:$G$39,3,FALSE))))","v":""},{"$f":"IF(E14=\"\",\"\",IF(②選手情報入力!P23=\"\",\"\",IF(I14=1,VLOOKUP(②選手情報入力!P23,種目情報!$A$4:$B$36,2,FALSE),VLOOKUP(②選手情報入力!P23,種目情報!$E$4:$F$39,2,FALSE))))","v":""},{"$f":"IF(E14=\"\",\"\",IF(②選手情報入力!Q23=\"\",\"\",②選手情報入力!Q23))","v":""},{"$f":"IF(E14=\"\",\"\",IF(②選手情報入力!O23=\"\",\"\",1))","v":""},{"$f":"IF(E14=\"\",\"\",IF(②選手情報入力!P23=\"\",\"\",IF(I14=1,VLOOKUP(②選手情報入力!P23,種目情報!$A$4:$C$36,3,FALSE),VLOOKUP(②選手情報入力!P23,種目情報!$E$4:$G$39,3,FALSE))))","v":""},{"$f":"IF(E14=\"\",\"\",IF(②選手情報入力!R23=\"\",\"\",IF(I14=1,種目情報!$J$4,種目情報!$J$6)))","v":""},{"$f":"IF(E14=\"\",\"\",IF(②選手情報入力!R23=\"\",\"\",IF(I14=1,IF(②選手情報入力!$S$6=\"\",\"\",②選手情報入力!$S$6),IF(②選手情報入力!$S$7=\"\",\"\",②選手情報入力!$S$7))))","v":""},{"$f":"IF(E14=\"\",\"\",IF(②選手情報入力!R23=\"\",\"\",IF(I14=1,IF(②選手情報入力!$R$6=\"\",0,1),IF(②選手情報入力!$R$7=\"\",0,1))))","v":""},{"$f":"IF(E14=\"\",\"\",IF(②選手情報入力!R23=\"\",\"\",2))","v":""},{"$f":"IF(E14=\"\",\"\",IF(②選手情報入力!T23=\"\",\"\",IF(I14=1,種目情報!$J$5,種目情報!$J$7)))","v":""},{"$f":"IF(E14=\"\",\"\",IF(②選手情報入力!T23=\"\",\"\",IF(I14=1,IF(②選手情報入力!$U$6=\"\",\"\",②選手情報入力!$U$6),IF(②選手情報入力!$U$7=\"\",\"\",②選手情報入力!$U$7))))","v":""},{"$f":"IF(E14=\"\",\"\",IF(②選手情報入力!T23=\"\",\"\",IF(I14=1,IF(②選手情報入力!$T$6=\"\",0,1),IF(②選手情報入力!$T$7=\"\",0,1))))","v":""},{"$f":"IF(E14=\"\",\"\",IF(②選手情報入力!T23=\"\",\"\",2))","v":""}]
[{"$f":"IF(E15=\"\",\"\",Sheet1!A14)","v":""},{"$f":"IF(E15=\"\",\"\",①団体情報入力!$C$4)","v":""},null,{"$f":"IF(②選手情報入力!B24=\"\",\"\",②選手情報入力!B24)","v":""},{"$f":"IF(②選手情報入力!C24=\"\",\"\",②選手情報入力!C24)","v":""},{"$f":"IF(E15=\"\",\"\",②選手情報入力!D24)","v":""},{"$f":"IF(E15=\"\",\"\",ASC(②選手情報入力!E24))","v":""},"",{"$f":"IF(E15=\"\",\"\",IF(②選手情報入力!G24=\"男\",1,2))","v":""},{"$f":"IF(E15=\"\",\"\",IF(②選手情報入力!H24=\"\",\"\",②選手情報入力!H24))","v":""},null,null,"",null,{"$f":"IF(E15=\"\",\"\",IF(②選手情報入力!J24=\"\",\"\",IF(I15=1,VLOOKUP(②選手情報入力!J24,種目情報!$A$4:$B$32,2,FALSE),VLOOKUP(②選手情報入力!J24,種目情報!$E$4:$F$34,2,FALSE))))","v":""},{"$f":"IF(E15=\"\",\"\",IF(②選手情報入力!K24=\"\",\"\",②選手情報入力!K24))","v":""},{"$f":"IF(E15=\"\",\"\",IF(②選手情報入力!I24=\"\",\"\",1))","v":""},{"$f":"IF(E15=\"\",\"\",IF(②選手情報入力!J24=\"\",\"\",IF(I15=1,VLOOKUP(②選手情報入力!J24,種目情報!$A$4:$C$36,3,FALSE),VLOOKUP(②選手情報入力!J24,種目情報!$E$4:$G$39,3,FALSE))))","v":""},{"$f":"IF(E15=\"\",\"\",IF(②選手情報入力!M24=\"\",\"\",IF(I15=1,VLOOKUP(②選手情報入力!M24,種目情報!$A$4:$B$36,2,FALSE),VLOOKUP(②選手情報入力!M24,種目情報!$E$4:$F$39,2,FALSE))))","v":""},{"$f":"IF(E15=\"\",\"\",IF(②選手情報入力!N24=\"\",\"\",②選手情報入力!N24))","v":""},{"$f":"IF(E15=\"\",\"\",IF(②選手情報入力!L24=\"\",\"\",1))","v":""},{"$f":"IF(E15=\"\",\"\",IF(②選手情報入力!M24=\"\",\"\",IF(I15=1,VLOOKUP(②選手情報入力!M24,種目情報!$A$4:$C$36,3,FALSE),VLOOKUP(②選手情報入力!M24,種目情報!$E$4:$G$39,3,FALSE))))","v":""},{"$f":"IF(E15=\"\",\"\",IF(②選手情報入力!P24=\"\",\"\",IF(I15=1,VLOOKUP(②選手情報入力!P24,種目情報!$A$4:$B$36,2,FALSE),VLOOKUP(②選手情報入力!P24,種目情報!$E$4:$F$39,2,FALSE))))","v":""},{"$f":"IF(E15=\"\",\"\",IF(②選手情報入力!Q24=\"\",\"\",②選手情報入力!Q24))","v":""},{"$f":"IF(E15=\"\",\"\",IF(②選手情報入力!O24=\"\",\"\",1))","v":""},{"$f":"IF(E15=\"\",\"\",IF(②選手情報入力!P24=\"\",\"\",IF(I15=1,VLOOKUP(②選手情報入力!P24,種目情報!$A$4:$C$36,3,FALSE),VLOOKUP(②選手情報入力!P24,種目情報!$E$4:$G$39,3,FALSE))))","v":""},{"$f":"IF(E15=\"\",\"\",IF(②選手情報入力!R24=\"\",\"\",IF(I15=1,種目情報!$J$4,種目情報!$J$6)))","v":""},{"$f":"IF(E15=\"\",\"\",IF(②選手情報入力!R24=\"\",\"\",IF(I15=1,IF(②選手情報入力!$S$6=\"\",\"\",②選手情報入力!$S$6),IF(②選手情報入力!$S$7=\"\",\"\",②選手情報入力!$S$7))))","v":""},{"$f":"IF(E15=\"\",\"\",IF(②選手情報入力!R24=\"\",\"\",IF(I15=1,IF(②選手情報入力!$R$6=\"\",0,1),IF(②選手情報入力!$R$7=\"\",0,1))))","v":""},{"$f":"IF(E15=\"\",\"\",IF(②選手情報入力!R24=\"\",\"\",2))","v":""},{"$f":"IF(E15=\"\",\"\",IF(②選手情報入力!T24=\"\",\"\",IF(I15=1,種目情報!$J$5,種目情報!$J$7)))","v":""},{"$f":"IF(E15=\"\",\"\",IF(②選手情報入力!T24=\"\",\"\",IF(I15=1,IF(②選手情報入力!$U$6=\"\",\"\",②選手情報入力!$U$6),IF(②選手情報入力!$U$7=\"\",\"\",②選手情報入力!$U$7))))","v":""},{"$f":"IF(E15=\"\",\"\",IF(②選手情報入力!T24=\"\",\"\",IF(I15=1,IF(②選手情報入力!$T$6=\"\",0,1),IF(②選手情報入力!$T$7=\"\",0,1))))","v":""},{"$f":"IF(E15=\"\",\"\",IF(②選手情報入力!T24=\"\",\"\",2))","v":""}]
[{"$f":"IF(E16=\"\",\"\",Sheet1!A15)","v":""},{"$f":"IF(E16=\"\",\"\",①団体情報入力!$C$4)","v":""},null,{"$f":"IF(②選手情報入力!B25=\"\",\"\",②選手情報入力!B25)","v":""},{"$f":"IF(②選手情報入力!C25=\"\",\"\",②選手情報入力!C25)","v":""},{"$f":"IF(E16=\"\",\"\",②選手情報入力!D25)","v":""},{"$f":"IF(E16=\"\",\"\",ASC(②選手情報入力!E25))","v":""},"",{"$f":"IF(E16=\"\",\"\",IF(②選手情報入力!G25=\"男\",1,2))","v":""},{"$f":"IF(E16=\"\",\"\",IF(②選手情報入力!H25=\"\",\"\",②選手情報入力!H25))","v":""},null,null,"",null,{"$f":"IF(E16=\"\",\"\",IF(②選手情報入力!J25=\"\",\"\",IF(I16=1,VLOOKUP(②選手情報入力!J25,種目情報!$A$4:$B$32,2,FALSE),VLOOKUP(②選手情報入力!J25,種目情報!$E$4:$F$34,2,FALSE))))","v":""},{"$f":"IF(E16=\"\",\"\",IF(②選手情報入力!K25=\"\",\"\",②選手情報入力!K25))","v":""},{"$f":"IF(E16=\"\",\"\",IF(②選手情報入力!I25=\"\",\"\",1))","v":""},{"$f":"IF(E16=\"\",\"\",IF(②選手情報入力!J25=\"\",\"\",IF(I16=1,VLOOKUP(②選手情報入力!J25,種目情報!$A$4:$C$36,3,FALSE),VLOOKUP(②選手情報入力!J25,種目情報!$E$4:$G$39,3,FALSE))))","v":""},{"$f":"IF(E16=\"\",\"\",IF(②選手情報入力!M25=\"\",\"\",IF(I16=1,VLOOKUP(②選手情報入力!M25,種目情報!$A$4:$B$36,2,FALSE),VLOOKUP(②選手情報入力!M25,種目情報!$E$4:$F$39,2,FALSE))))","v":""},{"$f":"IF(E16=\"\",\"\",IF(②選手情報入力!N25=\"\",\"\",②選手情報入力!N25))","v":""},{"$f":"IF(E16=\"\",\"\",IF(②選手情報入力!L25=\"\",\"\",1))","v":""},{"$f":"IF(E16=\"\",\"\",IF(②選手情報入力!M25=\"\",\"\",IF(I16=1,VLOOKUP(②選手情報入力!M25,種目情報!$A$4:$C$36,3,FALSE),VLOOKUP(②選手情報入力!M25,種目情報!$E$4:$G$39,3,FALSE))))","v":""},{"$f":"IF(E16=\"\",\"\",IF(②選手情報入力!P25=\"\",\"\",IF(I16=1,VLOOKUP(②選手情報入力!P25,種目情報!$A$4:$B$36,2,FALSE),VLOOKUP(②選手情報入力!P25,種目情報!$E$4:$F$39,2,FALSE))))","v":""},{"$f":"IF(E16=\"\",\"\",IF(②選手情報入力!Q25=\"\",\"\",②選手情報入力!Q25))","v":""},{"$f":"IF(E16=\"\",\"\",IF(②選手情報入力!O25=\"\",\"\",1))","v":""},{"$f":"IF(E16=\"\",\"\",IF(②選手情報入力!P25=\"\",\"\",IF(I16=1,VLOOKUP(②選手情報入力!P25,種目情報!$A$4:$C$36,3,FALSE),VLOOKUP(②選手情報入力!P25,種目情報!$E$4:$G$39,3,FALSE))))","v":""},{"$f":"IF(E16=\"\",\"\",IF(②選手情報入力!R25=\"\",\"\",IF(I16=1,種目情報!$J$4,種目情報!$J$6)))","v":""},{"$f":"IF(E16=\"\",\"\",IF(②選手情報入力!R25=\"\",\"\",IF(I16=1,IF(②選手情報入力!$S$6=\"\",\"\",②選手情報入力!$S$6),IF(②選手情報入力!$S$7=\"\",\"\",②選手情報入力!$S$7))))","v":""},{"$f":"IF(E16=\"\",\"\",IF(②選手情報入力!R25=\"\",\"\",IF(I16=1,IF(②選手情報入力!$R$6=\"\",0,1),IF(②選手情報入力!$R$7=\"\",0,1))))","v":""},{"$f":"IF(E16=\"\",\"\",IF(②選手情報入力!R25=\"\",\"\",2))","v":""},{"$f":"IF(E16=\"\",\"\",IF(②選手情報入力!T25=\"\",\"\",IF(I16=1,種目情報!$J$5,種目情報!$J$7)))","v":""},{"$f":"IF(E16=\"\",\"\",IF(②選手情報入力!T25=\"\",\"\",IF(I16=1,IF(②選手情報入力!$U$6=\"\",\"\",②選手情報入力!$U$6),IF(②選手情報入力!$U$7=\"\",\"\",②選手情報入力!$U$7))))","v":""},{"$f":"IF(E16=\"\",\"\",IF(②選手情報入力!T25=\"\",\"\",IF(I16=1,IF(②選手情報入力!$T$6=\"\",0,1),IF(②選手情報入力!$T$7=\"\",0,1))))","v":""},{"$f":"IF(E16=\"\",\"\",IF(②選手情報入力!T25=\"\",\"\",2))","v":""}]
[{"$f":"IF(E17=\"\",\"\",Sheet1!A16)","v":""},{"$f":"IF(E17=\"\",\"\",①団体情報入力!$C$4)","v":""},null,{"$f":"IF(②選手情報入力!B26=\"\",\"\",②選手情報入力!B26)","v":""},{"$f":"IF(②選手情報入力!C26=\"\",\"\",②選手情報入力!C26)","v":""},{"$f":"IF(E17=\"\",\"\",②選手情報入力!D26)","v":""},{"$f":"IF(E17=\"\",\"\",ASC(②選手情報入力!E26))","v":""},"",{"$f":"IF(E17=\"\",\"\",IF(②選手情報入力!G26=\"男\",1,2))","v":""},{"$f":"IF(E17=\"\",\"\",IF(②選手情報入力!H26=\"\",\"\",②選手情報入力!H26))","v":""},null,null,"",null,{"$f":"IF(E17=\"\",\"\",IF(②選手情報入力!J26=\"\",\"\",IF(I17=1,VLOOKUP(②選手情報入力!J26,種目情報!$A$4:$B$32,2,FALSE),VLOOKUP(②選手情報入力!J26,種目情報!$E$4:$F$34,2,FALSE))))","v":""},{"$f":"IF(E17=\"\",\"\",IF(②選手情報入力!K26=\"\",\"\",②選手情報入力!K26))","v":""},{"$f":"IF(E17=\"\",\"\",IF(②選手情報入力!I26=\"\",\"\",1))","v":""},{"$f":"IF(E17=\"\",\"\",IF(②選手情報入力!J26=\"\",\"\",IF(I17=1,VLOOKUP(②選手情報入力!J26,種目情報!$A$4:$C$36,3,FALSE),VLOOKUP(②選手情報入力!J26,種目情報!$E$4:$G$39,3,FALSE))))","v":""},{"$f":"IF(E17=\"\",\"\",IF(②選手情報入力!M26=\"\",\"\",IF(I17=1,VLOOKUP(②選手情報入力!M26,種目情報!$A$4:$B$36,2,FALSE),VLOOKUP(②選手情報入力!M26,種目情報!$E$4:$F$39,2,FALSE))))","v":""},{"$f":"IF(E17=\"\",\"\",IF(②選手情報入力!N26=\"\",\"\",②選手情報入力!N26))","v":""},{"$f":"IF(E17=\"\",\"\",IF(②選手情報入力!L26=\"\",\"\",1))","v":""},{"$f":"IF(E17=\"\",\"\",IF(②選手情報入力!M26=\"\",\"\",IF(I17=1,VLOOKUP(②選手情報入力!M26,種目情報!$A$4:$C$36,3,FALSE),VLOOKUP(②選手情報入力!M26,種目情報!$E$4:$G$39,3,FALSE))))","v":""},{"$f":"IF(E17=\"\",\"\",IF(②選手情報入力!P26=\"\",\"\",IF(I17=1,VLOOKUP(②選手情報入力!P26,種目情報!$A$4:$B$36,2,FALSE),VLOOKUP(②選手情報入力!P26,種目情報!$E$4:$F$39,2,FALSE))))","v":""},{"$f":"IF(E17=\"\",\"\",IF(②選手情報入力!Q26=\"\",\"\",②選手情報入力!Q26))","v":""},{"$f":"IF(E17=\"\",\"\",IF(②選手情報入力!O26=\"\",\"\",1))","v":""},{"$f":"IF(E17=\"\",\"\",IF(②選手情報入力!P26=\"\",\"\",IF(I17=1,VLOOKUP(②選手情報入力!P26,種目情報!$A$4:$C$36,3,FALSE),VLOOKUP(②選手情報入力!P26,種目情報!$E$4:$G$39,3,FALSE))))","v":""},{"$f":"IF(E17=\"\",\"\",IF(②選手情報入力!R26=\"\",\"\",IF(I17=1,種目情報!$J$4,種目情報!$J$6)))","v":""},{"$f":"IF(E17=\"\",\"\",IF(②選手情報入力!R26=\"\",\"\",IF(I17=1,IF(②選手情報入力!$S$6=\"\",\"\",②選手情報入力!$S$6),IF(②選手情報入力!$S$7=\"\",\"\",②選手情報入力!$S$7))))","v":""},{"$f":"IF(E17=\"\",\"\",IF(②選手情報入力!R26=\"\",\"\",IF(I17=1,IF(②選手情報入力!$R$6=\"\",0,1),IF(②選手情報入力!$R$7=\"\",0,1))))","v":""},{"$f":"IF(E17=\"\",\"\",IF(②選手情報入力!R26=\"\",\"\",2))","v":""},{"$f":"IF(E17=\"\",\"\",IF(②選手情報入力!T26=\"\",\"\",IF(I17=1,種目情報!$J$5,種目情報!$J$7)))","v":""},{"$f":"IF(E17=\"\",\"\",IF(②選手情報入力!T26=\"\",\"\",IF(I17=1,IF(②選手情報入力!$U$6=\"\",\"\",②選手情報入力!$U$6),IF(②選手情報入力!$U$7=\"\",\"\",②選手情報入力!$U$7))))","v":""},{"$f":"IF(E17=\"\",\"\",IF(②選手情報入力!T26=\"\",\"\",IF(I17=1,IF(②選手情報入力!$T$6=\"\",0,1),IF(②選手情報入力!$T$7=\"\",0,1))))","v":""},{"$f":"IF(E17=\"\",\"\",IF(②選手情報入力!T26=\"\",\"\",2))","v":""}]
[{"$f":"IF(E18=\"\",\"\",Sheet1!A17)","v":""},{"$f":"IF(E18=\"\",\"\",①団体情報入力!$C$4)","v":""},null,{"$f":"IF(②選手情報入力!B27=\"\",\"\",②選手情報入力!B27)","v":""},{"$f":"IF(②選手情報入力!C27=\"\",\"\",②選手情報入力!C27)","v":""},{"$f":"IF(E18=\"\",\"\",②選手情報入力!D27)","v":""},{"$f":"IF(E18=\"\",\"\",ASC(②選手情報入力!E27))","v":""},"",{"$f":"IF(E18=\"\",\"\",IF(②選手情報入力!G27=\"男\",1,2))","v":""},{"$f":"IF(E18=\"\",\"\",IF(②選手情報入力!H27=\"\",\"\",②選手情報入力!H27))","v":""},null,null,"",null,{"$f":"IF(E18=\"\",\"\",IF(②選手情報入力!J27=\"\",\"\",IF(I18=1,VLOOKUP(②選手情報入力!J27,種目情報!$A$4:$B$32,2,FALSE),VLOOKUP(②選手情報入力!J27,種目情報!$E$4:$F$34,2,FALSE))))","v":""},{"$f":"IF(E18=\"\",\"\",IF(②選手情報入力!K27=\"\",\"\",②選手情報入力!K27))","v":""},{"$f":"IF(E18=\"\",\"\",IF(②選手情報入力!I27=\"\",\"\",1))","v":""},{"$f":"IF(E18=\"\",\"\",IF(②選手情報入力!J27=\"\",\"\",IF(I18=1,VLOOKUP(②選手情報入力!J27,種目情報!$A$4:$C$36,3,FALSE),VLOOKUP(②選手情報入力!J27,種目情報!$E$4:$G$39,3,FALSE))))","v":""},{"$f":"IF(E18=\"\",\"\",IF(②選手情報入力!M27=\"\",\"\",IF(I18=1,VLOOKUP(②選手情報入力!M27,種目情報!$A$4:$B$36,2,FALSE),VLOOKUP(②選手情報入力!M27,種目情報!$E$4:$F$39,2,FALSE))))","v":""},{"$f":"IF(E18=\"\",\"\",IF(②選手情報入力!N27=\"\",\"\",②選手情報入力!N27))","v":""},{"$f":"IF(E18=\"\",\"\",IF(②選手情報入力!L27=\"\",\"\",1))","v":""},{"$f":"IF(E18=\"\",\"\",IF(②選手情報入力!M27=\"\",\"\",IF(I18=1,VLOOKUP(②選手情報入力!M27,種目情報!$A$4:$C$36,3,FALSE),VLOOKUP(②選手情報入力!M27,種目情報!$E$4:$G$39,3,FALSE))))","v":""},{"$f":"IF(E18=\"\",\"\",IF(②選手情報入力!P27=\"\",\"\",IF(I18=1,VLOOKUP(②選手情報入力!P27,種目情報!$A$4:$B$36,2,FALSE),VLOOKUP(②選手情報入力!P27,種目情報!$E$4:$F$39,2,FALSE))))","v":""},{"$f":"IF(E18=\"\",\"\",IF(②選手情報入力!Q27=\"\",\"\",②選手情報入力!Q27))","v":""},{"$f":"IF(E18=\"\",\"\",IF(②選手情報入力!O27=\"\",\"\",1))","v":""},{"$f":"IF(E18=\"\",\"\",IF(②選手情報入力!P27=\"\",\"\",IF(I18=1,VLOOKUP(②選手情報入力!P27,種目情報!$A$4:$C$36,3,FALSE),VLOOKUP(②選手情報入力!P27,種目情報!$E$4:$G$39,3,FALSE))))","v":""},{"$f":"IF(E18=\"\",\"\",IF(②選手情報入力!R27=\"\",\"\",IF(I18=1,種目情報!$J$4,種目情報!$J$6)))","v":""},{"$f":"IF(E18=\"\",\"\",IF(②選手情報入力!R27=\"\",\"\",IF(I18=1,IF(②選手情報入力!$S$6=\"\",\"\",②選手情報入力!$S$6),IF(②選手情報入力!$S$7=\"\",\"\",②選手情報入力!$S$7))))","v":""},{"$f":"IF(E18=\"\",\"\",IF(②選手情報入力!R27=\"\",\"\",IF(I18=1,IF(②選手情報入力!$R$6=\"\",0,1),IF(②選手情報入力!$R$7=\"\",0,1))))","v":""},{"$f":"IF(E18=\"\",\"\",IF(②選手情報入力!R27=\"\",\"\",2))","v":""},{"$f":"IF(E18=\"\",\"\",IF(②選手情報入力!T27=\"\",\"\",IF(I18=1,種目情報!$J$5,種目情報!$J$7)))","v":""},{"$f":"IF(E18=\"\",\"\",IF(②選手情報入力!T27=\"\",\"\",IF(I18=1,IF(②選手情報入力!$U$6=\"\",\"\",②選手情報入力!$U$6),IF(②選手情報入力!$U$7=\"\",\"\",②選手情報入力!$U$7))))","v":""},{"$f":"IF(E18=\"\",\"\",IF(②選手情報入力!T27=\"\",\"\",IF(I18=1,IF(②選手情報入力!$T$6=\"\",0,1),IF(②選手情報入力!$T$7=\"\",0,1))))","v":""},{"$f":"IF(E18=\"\",\"\",IF(②選手情報入力!T27=\"\",\"\",2))","v":""}]
[{"$f":"IF(E19=\"\",\"\",Sheet1!A18)","v":""},{"$f":"IF(E19=\"\",\"\",①団体情報入力!$C$4)","v":""},null,{"$f":"IF(②選手情報入力!B28=\"\",\"\",②選手情報入力!B28)","v":""},{"$f":"IF(②選手情報入力!C28=\"\",\"\",②選手情報入力!C28)","v":""},{"$f":"IF(E19=\"\",\"\",②選手情報入力!D28)","v":""},{"$f":"IF(E19=\"\",\"\",ASC(②選手情報入力!E28))","v":""},"",{"$f":"IF(E19=\"\",\"\",IF(②選手情報入力!G28=\"男\",1,2))","v":""},{"$f":"IF(E19=\"\",\"\",IF(②選手情報入力!H28=\"\",\"\",②選手情報入力!H28))","v":""},null,null,"",null,{"$f":"IF(E19=\"\",\"\",IF(②選手情報入力!J28=\"\",\"\",IF(I19=1,VLOOKUP(②選手情報入力!J28,種目情報!$A$4:$B$32,2,FALSE),VLOOKUP(②選手情報入力!J28,種目情報!$E$4:$F$34,2,FALSE))))","v":""},{"$f":"IF(E19=\"\",\"\",IF(②選手情報入力!K28=\"\",\"\",②選手情報入力!K28))","v":""},{"$f":"IF(E19=\"\",\"\",IF(②選手情報入力!I28=\"\",\"\",1))","v":""},{"$f":"IF(E19=\"\",\"\",IF(②選手情報入力!J28=\"\",\"\",IF(I19=1,VLOOKUP(②選手情報入力!J28,種目情報!$A$4:$C$36,3,FALSE),VLOOKUP(②選手情報入力!J28,種目情報!$E$4:$G$39,3,FALSE))))","v":""},{"$f":"IF(E19=\"\",\"\",IF(②選手情報入力!M28=\"\",\"\",IF(I19=1,VLOOKUP(②選手情報入力!M28,種目情報!$A$4:$B$36,2,FALSE),VLOOKUP(②選手情報入力!M28,種目情報!$E$4:$F$39,2,FALSE))))","v":""},{"$f":"IF(E19=\"\",\"\",IF(②選手情報入力!N28=\"\",\"\",②選手情報入力!N28))","v":""},{"$f":"IF(E19=\"\",\"\",IF(②選手情報入力!L28=\"\",\"\",1))","v":""},{"$f":"IF(E19=\"\",\"\",IF(②選手情報入力!M28=\"\",\"\",IF(I19=1,VLOOKUP(②選手情報入力!M28,種目情報!$A$4:$C$36,3,FALSE),VLOOKUP(②選手情報入力!M28,種目情報!$E$4:$G$39,3,FALSE))))","v":""},{"$f":"IF(E19=\"\",\"\",IF(②選手情報入力!P28=\"\",\"\",IF(I19=1,VLOOKUP(②選手情報入力!P28,種目情報!$A$4:$B$36,2,FALSE),VLOOKUP(②選手情報入力!P28,種目情報!$E$4:$F$39,2,FALSE))))","v":""},{"$f":"IF(E19=\"\",\"\",IF(②選手情報入力!Q28=\"\",\"\",②選手情報入力!Q28))","v":""},{"$f":"IF(E19=\"\",\"\",IF(②選手情報入力!O28=\"\",\"\",1))","v":""},{"$f":"IF(E19=\"\",\"\",IF(②選手情報入力!P28=\"\",\"\",IF(I19=1,VLOOKUP(②選手情報入力!P28,種目情報!$A$4:$C$36,3,FALSE),VLOOKUP(②選手情報入力!P28,種目情報!$E$4:$G$39,3,FALSE))))","v":""},{"$f":"IF(E19=\"\",\"\",IF(②選手情報入力!R28=\"\",\"\",IF(I19=1,種目情報!$J$4,種目情報!$J$6)))","v":""},{"$f":"IF(E19=\"\",\"\",IF(②選手情報入力!R28=\"\",\"\",IF(I19=1,IF(②選手情報入力!$S$6=\"\",\"\",②選手情報入力!$S$6),IF(②選手情報入力!$S$7=\"\",\"\",②選手情報入力!$S$7))))","v":""},{"$f":"IF(E19=\"\",\"\",IF(②選手情報入力!R28=\"\",\"\",IF(I19=1,IF(②選手情報入力!$R$6=\"\",0,1),IF(②選手情報入力!$R$7=\"\",0,1))))","v":""},{"$f":"IF(E19=\"\",\"\",IF(②選手情報入力!R28=\"\",\"\",2))","v":""},{"$f":"IF(E19=\"\",\"\",IF(②選手情報入力!T28=\"\",\"\",IF(I19=1,種目情報!$J$5,種目情報!$J$7)))","v":""},{"$f":"IF(E19=\"\",\"\",IF(②選手情報入力!T28=\"\",\"\",IF(I19=1,IF(②選手情報入力!$U$6=\"\",\"\",②選手情報入力!$U$6),IF(②選手情報入力!$U$7=\"\",\"\",②選手情報入力!$U$7))))","v":""},{"$f":"IF(E19=\"\",\"\",IF(②選手情報入力!T28=\"\",\"\",IF(I19=1,IF(②選手情報入力!$T$6=\"\",0,1),IF(②選手情報入力!$T$7=\"\",0,1))))","v":""},{"$f":"IF(E19=\"\",\"\",IF(②選手情報入力!T28=\"\",\"\",2))","v":""}]
[{"$f":"IF(E20=\"\",\"\",Sheet1!A19)","v":""},{"$f":"IF(E20=\"\",\"\",①団体情報入力!$C$4)","v":""},null,{"$f":"IF(②選手情報入力!B29=\"\",\"\",②選手情報入力!B29)","v":""},{"$f":"IF(②選手情報入力!C29=\"\",\"\",②選手情報入力!C29)","v":""},{"$f":"IF(E20=\"\",\"\",②選手情報入力!D29)","v":""},{"$f":"IF(E20=\"\",\"\",ASC(②選手情報入力!E29))","v":""},"",{"$f":"IF(E20=\"\",\"\",IF(②選手情報入力!G29=\"男\",1,2))","v":""},{"$f":"IF(E20=\"\",\"\",IF(②選手情報入力!H29=\"\",\"\",②選手情報入力!H29))","v":""},null,null,"",null,{"$f":"IF(E20=\"\",\"\",IF(②選手情報入力!J29=\"\",\"\",IF(I20=1,VLOOKUP(②選手情報入力!J29,種目情報!$A$4:$B$32,2,FALSE),VLOOKUP(②選手情報入力!J29,種目情報!$E$4:$F$34,2,FALSE))))","v":""},{"$f":"IF(E20=\"\",\"\",IF(②選手情報入力!K29=\"\",\"\",②選手情報入力!K29))","v":""},{"$f":"IF(E20=\"\",\"\",IF(②選手情報入力!I29=\"\",\"\",1))","v":""},{"$f":"IF(E20=\"\",\"\",IF(②選手情報入力!J29=\"\",\"\",IF(I20=1,VLOOKUP(②選手情報入力!J29,種目情報!$A$4:$C$36,3,FALSE),VLOOKUP(②選手情報入力!J29,種目情報!$E$4:$G$39,3,FALSE))))","v":""},{"$f":"IF(E20=\"\",\"\",IF(②選手情報入力!M29=\"\",\"\",IF(I20=1,VLOOKUP(②選手情報入力!M29,種目情報!$A$4:$B$36,2,FALSE),VLOOKUP(②選手情報入力!M29,種目情報!$E$4:$F$39,2,FALSE))))","v":""},{"$f":"IF(E20=\"\",\"\",IF(②選手情報入力!N29=\"\",\"\",②選手情報入力!N29))","v":""},{"$f":"IF(E20=\"\",\"\",IF(②選手情報入力!L29=\"\",\"\",1))","v":""},{"$f":"IF(E20=\"\",\"\",IF(②選手情報入力!M29=\"\",\"\",IF(I20=1,VLOOKUP(②選手情報入力!M29,種目情報!$A$4:$C$36,3,FALSE),VLOOKUP(②選手情報入力!M29,種目情報!$E$4:$G$39,3,FALSE))))","v":""},{"$f":"IF(E20=\"\",\"\",IF(②選手情報入力!P29=\"\",\"\",IF(I20=1,VLOOKUP(②選手情報入力!P29,種目情報!$A$4:$B$36,2,FALSE),VLOOKUP(②選手情報入力!P29,種目情報!$E$4:$F$39,2,FALSE))))","v":""},{"$f":"IF(E20=\"\",\"\",IF(②選手情報入力!Q29=\"\",\"\",②選手情報入力!Q29))","v":""},{"$f":"IF(E20=\"\",\"\",IF(②選手情報入力!O29=\"\",\"\",1))","v":""},{"$f":"IF(E20=\"\",\"\",IF(②選手情報入力!P29=\"\",\"\",IF(I20=1,VLOOKUP(②選手情報入力!P29,種目情報!$A$4:$C$36,3,FALSE),VLOOKUP(②選手情報入力!P29,種目情報!$E$4:$G$39,3,FALSE))))","v":""},{"$f":"IF(E20=\"\",\"\",IF(②選手情報入力!R29=\"\",\"\",IF(I20=1,種目情報!$J$4,種目情報!$J$6)))","v":""},{"$f":"IF(E20=\"\",\"\",IF(②選手情報入力!R29=\"\",\"\",IF(I20=1,IF(②選手情報入力!$S$6=\"\",\"\",②選手情報入力!$S$6),IF(②選手情報入力!$S$7=\"\",\"\",②選手情報入力!$S$7))))","v":""},{"$f":"IF(E20=\"\",\"\",IF(②選手情報入力!R29=\"\",\"\",IF(I20=1,IF(②選手情報入力!$R$6=\"\",0,1),IF(②選手情報入力!$R$7=\"\",0,1))))","v":""},{"$f":"IF(E20=\"\",\"\",IF(②選手情報入力!R29=\"\",\"\",2))","v":""},{"$f":"IF(E20=\"\",\"\",IF(②選手情報入力!T29=\"\",\"\",IF(I20=1,種目情報!$J$5,種目情報!$J$7)))","v":""},{"$f":"IF(E20=\"\",\"\",IF(②選手情報入力!T29=\"\",\"\",IF(I20=1,IF(②選手情報入力!$U$6=\"\",\"\",②選手情報入力!$U$6),IF(②選手情報入力!$U$7=\"\",\"\",②選手情報入力!$U$7))))","v":""},{"$f":"IF(E20=\"\",\"\",IF(②選手情報入力!T29=\"\",\"\",IF(I20=1,IF(②選手情報入力!$T$6=\"\",0,1),IF(②選手情報入力!$T$7=\"\",0,1))))","v":""},{"$f":"IF(E20=\"\",\"\",IF(②選手情報入力!T29=\"\",\"\",2))","v":""}]
[{"$f":"IF(E21=\"\",\"\",Sheet1!A20)","v":""},{"$f":"IF(E21=\"\",\"\",①団体情報入力!$C$4)","v":""},null,{"$f":"IF(②選手情報入力!B30=\"\",\"\",②選手情報入力!B30)","v":""},{"$f":"IF(②選手情報入力!C30=\"\",\"\",②選手情報入力!C30)","v":""},{"$f":"IF(E21=\"\",\"\",②選手情報入力!D30)","v":""},{"$f":"IF(E21=\"\",\"\",ASC(②選手情報入力!E30))","v":""},"",{"$f":"IF(E21=\"\",\"\",IF(②選手情報入力!G30=\"男\",1,2))","v":""},{"$f":"IF(E21=\"\",\"\",IF(②選手情報入力!H30=\"\",\"\",②選手情報入力!H30))","v":""},null,null,"",null,{"$f":"IF(E21=\"\",\"\",IF(②選手情報入力!J30=\"\",\"\",IF(I21=1,VLOOKUP(②選手情報入力!J30,種目情報!$A$4:$B$32,2,FALSE),VLOOKUP(②選手情報入力!J30,種目情報!$E$4:$F$34,2,FALSE))))","v":""},{"$f":"IF(E21=\"\",\"\",IF(②選手情報入力!K30=\"\",\"\",②選手情報入力!K30))","v":""},{"$f":"IF(E21=\"\",\"\",IF(②選手情報入力!I30=\"\",\"\",1))","v":""},{"$f":"IF(E21=\"\",\"\",IF(②選手情報入力!J30=\"\",\"\",IF(I21=1,VLOOKUP(②選手情報入力!J30,種目情報!$A$4:$C$36,3,FALSE),VLOOKUP(②選手情報入力!J30,種目情報!$E$4:$G$39,3,FALSE))))","v":""},{"$f":"IF(E21=\"\",\"\",IF(②選手情報入力!M30=\"\",\"\",IF(I21=1,VLOOKUP(②選手情報入力!M30,種目情報!$A$4:$B$36,2,FALSE),VLOOKUP(②選手情報入力!M30,種目情報!$E$4:$F$39,2,FALSE))))","v":""},{"$f":"IF(E21=\"\",\"\",IF(②選手情報入力!N30=\"\",\"\",②選手情報入力!N30))","v":""},{"$f":"IF(E21=\"\",\"\",IF(②選手情報入力!L30=\"\",\"\",1))","v":""},{"$f":"IF(E21=\"\",\"\",IF(②選手情報入力!M30=\"\",\"\",IF(I21=1,VLOOKUP(②選手情報入力!M30,種目情報!$A$4:$C$36,3,FALSE),VLOOKUP(②選手情報入力!M30,種目情報!$E$4:$G$39,3,FALSE))))","v":""},{"$f":"IF(E21=\"\",\"\",IF(②選手情報入力!P30=\"\",\"\",IF(I21=1,VLOOKUP(②選手情報入力!P30,種目情報!$A$4:$B$36,2,FALSE),VLOOKUP(②選手情報入力!P30,種目情報!$E$4:$F$39,2,FALSE))))","v":""},{"$f":"IF(E21=\"\",\"\",IF(②選手情報入力!Q30=\"\",\"\",②選手情報入力!Q30))","v":""},{"$f":"IF(E21=\"\",\"\",IF(②選手情報入力!O30=\"\",\"\",1))","v":""},{"$f":"IF(E21=\"\",\"\",IF(②選手情報入力!P30=\"\",\"\",IF(I21=1,VLOOKUP(②選手情報入力!P30,種目情報!$A$4:$C$36,3,FALSE),VLOOKUP(②選手情報入力!P30,種目情報!$E$4:$G$39,3,FALSE))))","v":""},{"$f":"IF(E21=\"\",\"\",IF(②選手情報入力!R30=\"\",\"\",IF(I21=1,種目情報!$J$4,種目情報!$J$6)))","v":""},{"$f":"IF(E21=\"\",\"\",IF(②選手情報入力!R30=\"\",\"\",IF(I21=1,IF(②選手情報入力!$S$6=\"\",\"\",②選手情報入力!$S$6),IF(②選手情報入力!$S$7=\"\",\"\",②選手情報入力!$S$7))))","v":""},{"$f":"IF(E21=\"\",\"\",IF(②選手情報入力!R30=\"\",\"\",IF(I21=1,IF(②選手情報入力!$R$6=\"\",0,1),IF(②選手情報入力!$R$7=\"\",0,1))))","v":""},{"$f":"IF(E21=\"\",\"\",IF(②選手情報入力!R30=\"\",\"\",2))","v":""},{"$f":"IF(E21=\"\",\"\",IF(②選手情報入力!T30=\"\",\"\",IF(I21=1,種目情報!$J$5,種目情報!$J$7)))","v":""},{"$f":"IF(E21=\"\",\"\",IF(②選手情報入力!T30=\"\",\"\",IF(I21=1,IF(②選手情報入力!$U$6=\"\",\"\",②選手情報入力!$U$6),IF(②選手情報入力!$U$7=\"\",\"\",②選手情報入力!$U$7))))","v":""},{"$f":"IF(E21=\"\",\"\",IF(②選手情報入力!T30=\"\",\"\",IF(I21=1,IF(②選手情報入力!$T$6=\"\",0,1),IF(②選手情報入力!$T$7=\"\",0,1))))","v":""},{"$f":"IF(E21=\"\",\"\",IF(②選手情報入力!T30=\"\",\"\",2))","v":""}]
[{"$f":"IF(E22=\"\",\"\",Sheet1!A21)","v":""},{"$f":"IF(E22=\"\",\"\",①団体情報入力!$C$4)","v":""},null,{"$f":"IF(②選手情報入力!B31=\"\",\"\",②選手情報入力!B31)","v":""},{"$f":"IF(②選手情報入力!C31=\"\",\"\",②選手情報入力!C31)","v":""},{"$f":"IF(E22=\"\",\"\",②選手情報入力!D31)","v":""},{"$f":"IF(E22=\"\",\"\",ASC(②選手情報入力!E31))","v":""},"",{"$f":"IF(E22=\"\",\"\",IF(②選手情報入力!G31=\"男\",1,2))","v":""},{"$f":"IF(E22=\"\",\"\",IF(②選手情報入力!H31=\"\",\"\",②選手情報入力!H31))","v":""},null,null,"",null,{"$f":"IF(E22=\"\",\"\",IF(②選手情報入力!J31=\"\",\"\",IF(I22=1,VLOOKUP(②選手情報入力!J31,種目情報!$A$4:$B$32,2,FALSE),VLOOKUP(②選手情報入力!J31,種目情報!$E$4:$F$34,2,FALSE))))","v":""},{"$f":"IF(E22=\"\",\"\",IF(②選手情報入力!K31=\"\",\"\",②選手情報入力!K31))","v":""},{"$f":"IF(E22=\"\",\"\",IF(②選手情報入力!I31=\"\",\"\",1))","v":""},{"$f":"IF(E22=\"\",\"\",IF(②選手情報入力!J31=\"\",\"\",IF(I22=1,VLOOKUP(②選手情報入力!J31,種目情報!$A$4:$C$36,3,FALSE),VLOOKUP(②選手情報入力!J31,種目情報!$E$4:$G$39,3,FALSE))))","v":""},{"$f":"IF(E22=\"\",\"\",IF(②選手情報入力!M31=\"\",\"\",IF(I22=1,VLOOKUP(②選手情報入力!M31,種目情報!$A$4:$B$36,2,FALSE),VLOOKUP(②選手情報入力!M31,種目情報!$E$4:$F$39,2,FALSE))))","v":""},{"$f":"IF(E22=\"\",\"\",IF(②選手情報入力!N31=\"\",\"\",②選手情報入力!N31))","v":""},{"$f":"IF(E22=\"\",\"\",IF(②選手情報入力!L31=\"\",\"\",1))","v":""},{"$f":"IF(E22=\"\",\"\",IF(②選手情報入力!M31=\"\",\"\",IF(I22=1,VLOOKUP(②選手情報入力!M31,種目情報!$A$4:$C$36,3,FALSE),VLOOKUP(②選手情報入力!M31,種目情報!$E$4:$G$39,3,FALSE))))","v":""},{"$f":"IF(E22=\"\",\"\",IF(②選手情報入力!P31=\"\",\"\",IF(I22=1,VLOOKUP(②選手情報入力!P31,種目情報!$A$4:$B$36,2,FALSE),VLOOKUP(②選手情報入力!P31,種目情報!$E$4:$F$39,2,FALSE))))","v":""},{"$f":"IF(E22=\"\",\"\",IF(②選手情報入力!Q31=\"\",\"\",②選手情報入力!Q31))","v":""},{"$f":"IF(E22=\"\",\"\",IF(②選手情報入力!O31=\"\",\"\",1))","v":""},{"$f":"IF(E22=\"\",\"\",IF(②選手情報入力!P31=\"\",\"\",IF(I22=1,VLOOKUP(②選手情報入力!P31,種目情報!$A$4:$C$36,3,FALSE),VLOOKUP(②選手情報入力!P31,種目情報!$E$4:$G$39,3,FALSE))))","v":""},{"$f":"IF(E22=\"\",\"\",IF(②選手情報入力!R31=\"\",\"\",IF(I22=1,種目情報!$J$4,種目情報!$J$6)))","v":""},{"$f":"IF(E22=\"\",\"\",IF(②選手情報入力!R31=\"\",\"\",IF(I22=1,IF(②選手情報入力!$S$6=\"\",\"\",②選手情報入力!$S$6),IF(②選手情報入力!$S$7=\"\",\"\",②選手情報入力!$S$7))))","v":""},{"$f":"IF(E22=\"\",\"\",IF(②選手情報入力!R31=\"\",\"\",IF(I22=1,IF(②選手情報入力!$R$6=\"\",0,1),IF(②選手情報入力!$R$7=\"\",0,1))))","v":""},{"$f":"IF(E22=\"\",\"\",IF(②選手情報入力!R31=\"\",\"\",2))","v":""},{"$f":"IF(E22=\"\",\"\",IF(②選手情報入力!T31=\"\",\"\",IF(I22=1,種目情報!$J$5,種目情報!$J$7)))","v":""},{"$f":"IF(E22=\"\",\"\",IF(②選手情報入力!T31=\"\",\"\",IF(I22=1,IF(②選手情報入力!$U$6=\"\",\"\",②選手情報入力!$U$6),IF(②選手情報入力!$U$7=\"\",\"\",②選手情報入力!$U$7))))","v":""},{"$f":"IF(E22=\"\",\"\",IF(②選手情報入力!T31=\"\",\"\",IF(I22=1,IF(②選手情報入力!$T$6=\"\",0,1),IF(②選手情報入力!$T$7=\"\",0,1))))","v":""},{"$f":"IF(E22=\"\",\"\",IF(②選手情報入力!T31=\"\",\"\",2))","v":""}]
[{"$f":"IF(E23=\"\",\"\",Sheet1!A22)","v":""},{"$f":"IF(E23=\"\",\"\",①団体情報入力!$C$4)","v":""},null,{"$f":"IF(②選手情報入力!B32=\"\",\"\",②選手情報入力!B32)","v":""},{"$f":"IF(②選手情報入力!C32=\"\",\"\",②選手情報入力!C32)","v":""},{"$f":"IF(E23=\"\",\"\",②選手情報入力!D32)","v":""},{"$f":"IF(E23=\"\",\"\",ASC(②選手情報入力!E32))","v":""},"",{"$f":"IF(E23=\"\",\"\",IF(②選手情報入力!G32=\"男\",1,2))","v":""},{"$f":"IF(E23=\"\",\"\",IF(②選手情報入力!H32=\"\",\"\",②選手情報入力!H32))","v":""},null,null,"",null,{"$f":"IF(E23=\"\",\"\",IF(②選手情報入力!J32=\"\",\"\",IF(I23=1,VLOOKUP(②選手情報入力!J32,種目情報!$A$4:$B$32,2,FALSE),VLOOKUP(②選手情報入力!J32,種目情報!$E$4:$F$34,2,FALSE))))","v":""},{"$f":"IF(E23=\"\",\"\",IF(②選手情報入力!K32=\"\",\"\",②選手情報入力!K32))","v":""},{"$f":"IF(E23=\"\",\"\",IF(②選手情報入力!I32=\"\",\"\",1))","v":""},{"$f":"IF(E23=\"\",\"\",IF(②選手情報入力!J32=\"\",\"\",IF(I23=1,VLOOKUP(②選手情報入力!J32,種目情報!$A$4:$C$36,3,FALSE),VLOOKUP(②選手情報入力!J32,種目情報!$E$4:$G$39,3,FALSE))))","v":""},{"$f":"IF(E23=\"\",\"\",IF(②選手情報入力!M32=\"\",\"\",IF(I23=1,VLOOKUP(②選手情報入力!M32,種目情報!$A$4:$B$36,2,FALSE),VLOOKUP(②選手情報入力!M32,種目情報!$E$4:$F$39,2,FALSE))))","v":""},{"$f":"IF(E23=\"\",\"\",IF(②選手情報入力!N32=\"\",\"\",②選手情報入力!N32))","v":""},{"$f":"IF(E23=\"\",\"\",IF(②選手情報入力!L32=\"\",\"\",1))","v":""},{"$f":"IF(E23=\"\",\"\",IF(②選手情報入力!M32=\"\",\"\",IF(I23=1,VLOOKUP(②選手情報入力!M32,種目情報!$A$4:$C$36,3,FALSE),VLOOKUP(②選手情報入力!M32,種目情報!$E$4:$G$39,3,FALSE))))","v":""},{"$f":"IF(E23=\"\",\"\",IF(②選手情報入力!P32=\"\",\"\",IF(I23=1,VLOOKUP(②選手情報入力!P32,種目情報!$A$4:$B$36,2,FALSE),VLOOKUP(②選手情報入力!P32,種目情報!$E$4:$F$39,2,FALSE))))","v":""},{"$f":"IF(E23=\"\",\"\",IF(②選手情報入力!Q32=\"\",\"\",②選手情報入力!Q32))","v":""},{"$f":"IF(E23=\"\",\"\",IF(②選手情報入力!O32=\"\",\"\",1))","v":""},{"$f":"IF(E23=\"\",\"\",IF(②選手情報入力!P32=\"\",\"\",IF(I23=1,VLOOKUP(②選手情報入力!P32,種目情報!$A$4:$C$36,3,FALSE),VLOOKUP(②選手情報入力!P32,種目情報!$E$4:$G$39,3,FALSE))))","v":""},{"$f":"IF(E23=\"\",\"\",IF(②選手情報入力!R32=\"\",\"\",IF(I23=1,種目情報!$J$4,種目情報!$J$6)))","v":""},{"$f":"IF(E23=\"\",\"\",IF(②選手情報入力!R32=\"\",\"\",IF(I23=1,IF(②選手情報入力!$S$6=\"\",\"\",②選手情報入力!$S$6),IF(②選手情報入力!$S$7=\"\",\"\",②選手情報入力!$S$7))))","v":""},{"$f":"IF(E23=\"\",\"\",IF(②選手情報入力!R32=\"\",\"\",IF(I23=1,IF(②選手情報入力!$R$6=\"\",0,1),IF(②選手情報入力!$R$7=\"\",0,1))))","v":""},{"$f":"IF(E23=\"\",\"\",IF(②選手情報入力!R32=\"\",\"\",2))","v":""},{"$f":"IF(E23=\"\",\"\",IF(②選手情報入力!T32=\"\",\"\",IF(I23=1,種目情報!$J$5,種目情報!$J$7)))","v":""},{"$f":"IF(E23=\"\",\"\",IF(②選手情報入力!T32=\"\",\"\",IF(I23=1,IF(②選手情報入力!$U$6=\"\",\"\",②選手情報入力!$U$6),IF(②選手情報入力!$U$7=\"\",\"\",②選手情報入力!$U$7))))","v":""},{"$f":"IF(E23=\"\",\"\",IF(②選手情報入力!T32=\"\",\"\",IF(I23=1,IF(②選手情報入力!$T$6=\"\",0,1),IF(②選手情報入力!$T$7=\"\",0,1))))","v":""},{"$f":"IF(E23=\"\",\"\",IF(②選手情報入力!T32=\"\",\"\",2))","v":""}]
[{"$f":"IF(E24=\"\",\"\",Sheet1!A23)","v":""},{"$f":"IF(E24=\"\",\"\",①団体情報入力!$C$4)","v":""},null,{"$f":"IF(②選手情報入力!B33=\"\",\"\",②選手情報入力!B33)","v":""},{"$f":"IF(②選手情報入力!C33=\"\",\"\",②選手情報入力!C33)","v":""},{"$f":"IF(E24=\"\",\"\",②選手情報入力!D33)","v":""},{"$f":"IF(E24=\"\",\"\",ASC(②選手情報入力!E33))","v":""},"",{"$f":"IF(E24=\"\",\"\",IF(②選手情報入力!G33=\"男\",1,2))","v":""},{"$f":"IF(E24=\"\",\"\",IF(②選手情報入力!H33=\"\",\"\",②選手情報入力!H33))","v":""},null,null,"",null,{"$f":"IF(E24=\"\",\"\",IF(②選手情報入力!J33=\"\",\"\",IF(I24=1,VLOOKUP(②選手情報入力!J33,種目情報!$A$4:$B$32,2,FALSE),VLOOKUP(②選手情報入力!J33,種目情報!$E$4:$F$34,2,FALSE))))","v":""},{"$f":"IF(E24=\"\",\"\",IF(②選手情報入力!K33=\"\",\"\",②選手情報入力!K33))","v":""},{"$f":"IF(E24=\"\",\"\",IF(②選手情報入力!I33=\"\",\"\",1))","v":""},{"$f":"IF(E24=\"\",\"\",IF(②選手情報入力!J33=\"\",\"\",IF(I24=1,VLOOKUP(②選手情報入力!J33,種目情報!$A$4:$C$36,3,FALSE),VLOOKUP(②選手情報入力!J33,種目情報!$E$4:$G$39,3,FALSE))))","v":""},{"$f":"IF(E24=\"\",\"\",IF(②選手情報入力!M33=\"\",\"\",IF(I24=1,VLOOKUP(②選手情報入力!M33,種目情報!$A$4:$B$36,2,FALSE),VLOOKUP(②選手情報入力!M33,種目情報!$E$4:$F$39,2,FALSE))))","v":""},{"$f":"IF(E24=\"\",\"\",IF(②選手情報入力!N33=\"\",\"\",②選手情報入力!N33))","v":""},{"$f":"IF(E24=\"\",\"\",IF(②選手情報入力!L33=\"\",\"\",1))","v":""},{"$f":"IF(E24=\"\",\"\",IF(②選手情報入力!M33=\"\",\"\",IF(I24=1,VLOOKUP(②選手情報入力!M33,種目情報!$A$4:$C$36,3,FALSE),VLOOKUP(②選手情報入力!M33,種目情報!$E$4:$G$39,3,FALSE))))","v":""},{"$f":"IF(E24=\"\",\"\",IF(②選手情報入力!P33=\"\",\"\",IF(I24=1,VLOOKUP(②選手情報入力!P33,種目情報!$A$4:$B$36,2,FALSE),VLOOKUP(②選手情報入力!P33,種目情報!$E$4:$F$39,2,FALSE))))","v":""},{"$f":"IF(E24=\"\",\"\",IF(②選手情報入力!Q33=\"\",\"\",②選手情報入力!Q33))","v":""},{"$f":"IF(E24=\"\",\"\",IF(②選手情報入力!O33=\"\",\"\",1))","v":""},{"$f":"IF(E24=\"\",\"\",IF(②選手情報入力!P33=\"\",\"\",IF(I24=1,VLOOKUP(②選手情報入力!P33,種目情報!$A$4:$C$36,3,FALSE),VLOOKUP(②選手情報入力!P33,種目情報!$E$4:$G$39,3,FALSE))))","v":""},{"$f":"IF(E24=\"\",\"\",IF(②選手情報入力!R33=\"\",\"\",IF(I24=1,種目情報!$J$4,種目情報!$J$6)))","v":""},{"$f":"IF(E24=\"\",\"\",IF(②選手情報入力!R33=\"\",\"\",IF(I24=1,IF(②選手情報入力!$S$6=\"\",\"\",②選手情報入力!$S$6),IF(②選手情報入力!$S$7=\"\",\"\",②選手情報入力!$S$7))))","v":""},{"$f":"IF(E24=\"\",\"\",IF(②選手情報入力!R33=\"\",\"\",IF(I24=1,IF(②選手情報入力!$R$6=\"\",0,1),IF(②選手情報入力!$R$7=\"\",0,1))))","v":""},{"$f":"IF(E24=\"\",\"\",IF(②選手情報入力!R33=\"\",\"\",2))","v":""},{"$f":"IF(E24=\"\",\"\",IF(②選手情報入力!T33=\"\",\"\",IF(I24=1,種目情報!$J$5,種目情報!$J$7)))","v":""},{"$f":"IF(E24=\"\",\"\",IF(②選手情報入力!T33=\"\",\"\",IF(I24=1,IF(②選手情報入力!$U$6=\"\",\"\",②選手情報入力!$U$6),IF(②選手情報入力!$U$7=\"\",\"\",②選手情報入力!$U$7))))","v":""},{"$f":"IF(E24=\"\",\"\",IF(②選手情報入力!T33=\"\",\"\",IF(I24=1,IF(②選手情報入力!$T$6=\"\",0,1),IF(②選手情報入力!$T$7=\"\",0,1))))","v":""},{"$f":"IF(E24=\"\",\"\",IF(②選手情報入力!T33=\"\",\"\",2))","v":""}]
[{"$f":"IF(E25=\"\",\"\",Sheet1!A24)","v":""},{"$f":"IF(E25=\"\",\"\",①団体情報入力!$C$4)","v":""},null,{"$f":"IF(②選手情報入力!B34=\"\",\"\",②選手情報入力!B34)","v":""},{"$f":"IF(②選手情報入力!C34=\"\",\"\",②選手情報入力!C34)","v":""},{"$f":"IF(E25=\"\",\"\",②選手情報入力!D34)","v":""},{"$f":"IF(E25=\"\",\"\",ASC(②選手情報入力!E34))","v":""},"",{"$f":"IF(E25=\"\",\"\",IF(②選手情報入力!G34=\"男\",1,2))","v":""},{"$f":"IF(E25=\"\",\"\",IF(②選手情報入力!H34=\"\",\"\",②選手情報入力!H34))","v":""},null,null,"",null,{"$f":"IF(E25=\"\",\"\",IF(②選手情報入力!J34=\"\",\"\",IF(I25=1,VLOOKUP(②選手情報入力!J34,種目情報!$A$4:$B$32,2,FALSE),VLOOKUP(②選手情報入力!J34,種目情報!$E$4:$F$34,2,FALSE))))","v":""},{"$f":"IF(E25=\"\",\"\",IF(②選手情報入力!K34=\"\",\"\",②選手情報入力!K34))","v":""},{"$f":"IF(E25=\"\",\"\",IF(②選手情報入力!I34=\"\",\"\",1))","v":""},{"$f":"IF(E25=\"\",\"\",IF(②選手情報入力!J34=\"\",\"\",IF(I25=1,VLOOKUP(②選手情報入力!J34,種目情報!$A$4:$C$36,3,FALSE),VLOOKUP(②選手情報入力!J34,種目情報!$E$4:$G$39,3,FALSE))))","v":""},{"$f":"IF(E25=\"\",\"\",IF(②選手情報入力!M34=\"\",\"\",IF(I25=1,VLOOKUP(②選手情報入力!M34,種目情報!$A$4:$B$36,2,FALSE),VLOOKUP(②選手情報入力!M34,種目情報!$E$4:$F$39,2,FALSE))))","v":""},{"$f":"IF(E25=\"\",\"\",IF(②選手情報入力!N34=\"\",\"\",②選手情報入力!N34))","v":""},{"$f":"IF(E25=\"\",\"\",IF(②選手情報入力!L34=\"\",\"\",1))","v":""},{"$f":"IF(E25=\"\",\"\",IF(②選手情報入力!M34=\"\",\"\",IF(I25=1,VLOOKUP(②選手情報入力!M34,種目情報!$A$4:$C$36,3,FALSE),VLOOKUP(②選手情報入力!M34,種目情報!$E$4:$G$39,3,FALSE))))","v":""},{"$f":"IF(E25=\"\",\"\",IF(②選手情報入力!P34=\"\",\"\",IF(I25=1,VLOOKUP(②選手情報入力!P34,種目情報!$A$4:$B$36,2,FALSE),VLOOKUP(②選手情報入力!P34,種目情報!$E$4:$F$39,2,FALSE))))","v":""},{"$f":"IF(E25=\"\",\"\",IF(②選手情報入力!Q34=\"\",\"\",②選手情報入力!Q34))","v":""},{"$f":"IF(E25=\"\",\"\",IF(②選手情報入力!O34=\"\",\"\",1))","v":""},{"$f":"IF(E25=\"\",\"\",IF(②選手情報入力!P34=\"\",\"\",IF(I25=1,VLOOKUP(②選手情報入力!P34,種目情報!$A$4:$C$36,3,FALSE),VLOOKUP(②選手情報入力!P34,種目情報!$E$4:$G$39,3,FALSE))))","v":""},{"$f":"IF(E25=\"\",\"\",IF(②選手情報入力!R34=\"\",\"\",IF(I25=1,種目情報!$J$4,種目情報!$J$6)))","v":""},{"$f":"IF(E25=\"\",\"\",IF(②選手情報入力!R34=\"\",\"\",IF(I25=1,IF(②選手情報入力!$S$6=\"\",\"\",②選手情報入力!$S$6),IF(②選手情報入力!$S$7=\"\",\"\",②選手情報入力!$S$7))))","v":""},{"$f":"IF(E25=\"\",\"\",IF(②選手情報入力!R34=\"\",\"\",IF(I25=1,IF(②選手情報入力!$R$6=\"\",0,1),IF(②選手情報入力!$R$7=\"\",0,1))))","v":""},{"$f":"IF(E25=\"\",\"\",IF(②選手情報入力!R34=\"\",\"\",2))","v":""},{"$f":"IF(E25=\"\",\"\",IF(②選手情報入力!T34=\"\",\"\",IF(I25=1,種目情報!$J$5,種目情報!$J$7)))","v":""},{"$f":"IF(E25=\"\",\"\",IF(②選手情報入力!T34=\"\",\"\",IF(I25=1,IF(②選手情報入力!$U$6=\"\",\"\",②選手情報入力!$U$6),IF(②選手情報入力!$U$7=\"\",\"\",②選手情報入力!$U$7))))","v":""},{"$f":"IF(E25=\"\",\"\",IF(②選手情報入力!T34=\"\",\"\",IF(I25=1,IF(②選手情報入力!$T$6=\"\",0,1),IF(②選手情報入力!$T$7=\"\",0,1))))","v":""},{"$f":"IF(E25=\"\",\"\",IF(②選手情報入力!T34=\"\",\"\",2))","v":""}]
[{"$f":"IF(E26=\"\",\"\",Sheet1!A25)","v":""},{"$f":"IF(E26=\"\",\"\",①団体情報入力!$C$4)","v":""},null,{"$f":"IF(②選手情報入力!B35=\"\",\"\",②選手情報入力!B35)","v":""},{"$f":"IF(②選手情報入力!C35=\"\",\"\",②選手情報入力!C35)","v":""},{"$f":"IF(E26=\"\",\"\",②選手情報入力!D35)","v":""},{"$f":"IF(E26=\"\",\"\",ASC(②選手情報入力!E35))","v":""},"",{"$f":"IF(E26=\"\",\"\",IF(②選手情報入力!G35=\"男\",1,2))","v":""},{"$f":"IF(E26=\"\",\"\",IF(②選手情報入力!H35=\"\",\"\",②選手情報入力!H35))","v":""},null,null,"",null,{"$f":"IF(E26=\"\",\"\",IF(②選手情報入力!J35=\"\",\"\",IF(I26=1,VLOOKUP(②選手情報入力!J35,種目情報!$A$4:$B$32,2,FALSE),VLOOKUP(②選手情報入力!J35,種目情報!$E$4:$F$34,2,FALSE))))","v":""},{"$f":"IF(E26=\"\",\"\",IF(②選手情報入力!K35=\"\",\"\",②選手情報入力!K35))","v":""},{"$f":"IF(E26=\"\",\"\",IF(②選手情報入力!I35=\"\",\"\",1))","v":""},{"$f":"IF(E26=\"\",\"\",IF(②選手情報入力!J35=\"\",\"\",IF(I26=1,VLOOKUP(②選手情報入力!J35,種目情報!$A$4:$C$36,3,FALSE),VLOOKUP(②選手情報入力!J35,種目情報!$E$4:$G$39,3,FALSE))))","v":""},{"$f":"IF(E26=\"\",\"\",IF(②選手情報入力!M35=\"\",\"\",IF(I26=1,VLOOKUP(②選手情報入力!M35,種目情報!$A$4:$B$36,2,FALSE),VLOOKUP(②選手情報入力!M35,種目情報!$E$4:$F$39,2,FALSE))))","v":""},{"$f":"IF(E26=\"\",\"\",IF(②選手情報入力!N35=\"\",\"\",②選手情報入力!N35))","v":""},{"$f":"IF(E26=\"\",\"\",IF(②選手情報入力!L35=\"\",\"\",1))","v":""},{"$f":"IF(E26=\"\",\"\",IF(②選手情報入力!M35=\"\",\"\",IF(I26=1,VLOOKUP(②選手情報入力!M35,種目情報!$A$4:$C$36,3,FALSE),VLOOKUP(②選手情報入力!M35,種目情報!$E$4:$G$39,3,FALSE))))","v":""},{"$f":"IF(E26=\"\",\"\",IF(②選手情報入力!P35=\"\",\"\",IF(I26=1,VLOOKUP(②選手情報入力!P35,種目情報!$A$4:$B$36,2,FALSE),VLOOKUP(②選手情報入力!P35,種目情報!$E$4:$F$39,2,FALSE))))","v":""},{"$f":"IF(E26=\"\",\"\",IF(②選手情報入力!Q35=\"\",\"\",②選手情報入力!Q35))","v":""},{"$f":"IF(E26=\"\",\"\",IF(②選手情報入力!O35=\"\",\"\",1))","v":""},{"$f":"IF(E26=\"\",\"\",IF(②選手情報入力!P35=\"\",\"\",IF(I26=1,VLOOKUP(②選手情報入力!P35,種目情報!$A$4:$C$36,3,FALSE),VLOOKUP(②選手情報入力!P35,種目情報!$E$4:$G$39,3,FALSE))))","v":""},{"$f":"IF(E26=\"\",\"\",IF(②選手情報入力!R35=\"\",\"\",IF(I26=1,種目情報!$J$4,種目情報!$J$6)))","v":""},{"$f":"IF(E26=\"\",\"\",IF(②選手情報入力!R35=\"\",\"\",IF(I26=1,IF(②選手情報入力!$S$6=\"\",\"\",②選手情報入力!$S$6),IF(②選手情報入力!$S$7=\"\",\"\",②選手情報入力!$S$7))))","v":""},{"$f":"IF(E26=\"\",\"\",IF(②選手情報入力!R35=\"\",\"\",IF(I26=1,IF(②選手情報入力!$R$6=\"\",0,1),IF(②選手情報入力!$R$7=\"\",0,1))))","v":""},{"$f":"IF(E26=\"\",\"\",IF(②選手情報入力!R35=\"\",\"\",2))","v":""},{"$f":"IF(E26=\"\",\"\",IF(②選手情報入力!T35=\"\",\"\",IF(I26=1,種目情報!$J$5,種目情報!$J$7)))","v":""},{"$f":"IF(E26=\"\",\"\",IF(②選手情報入力!T35=\"\",\"\",IF(I26=1,IF(②選手情報入力!$U$6=\"\",\"\",②選手情報入力!$U$6),IF(②選手情報入力!$U$7=\"\",\"\",②選手情報入力!$U$7))))","v":""},{"$f":"IF(E26=\"\",\"\",IF(②選手情報入力!T35=\"\",\"\",IF(I26=1,IF(②選手情報入力!$T$6=\"\",0,1),IF(②選手情報入力!$T$7=\"\",0,1))))","v":""},{"$f":"IF(E26=\"\",\"\",IF(②選手情報入力!T35=\"\",\"\",2))","v":""}]
[{"$f":"IF(E27=\"\",\"\",Sheet1!A26)","v":""},{"$f":"IF(E27=\"\",\"\",①団体情報入力!$C$4)","v":""},null,{"$f":"IF(②選手情報入力!B36=\"\",\"\",②選手情報入力!B36)","v":""},{"$f":"IF(②選手情報入力!C36=\"\",\"\",②選手情報入力!C36)","v":""},{"$f":"IF(E27=\"\",\"\",②選手情報入力!D36)","v":""},{"$f":"IF(E27=\"\",\"\",ASC(②選手情報入力!E36))","v":""},"",{"$f":"IF(E27=\"\",\"\",IF(②選手情報入力!G36=\"男\",1,2))","v":""},{"$f":"IF(E27=\"\",\"\",IF(②選手情報入力!H36=\"\",\"\",②選手情報入力!H36))","v":""},null,null,"",null,{"$f":"IF(E27=\"\",\"\",IF(②選手情報入力!J36=\"\",\"\",IF(I27=1,VLOOKUP(②選手情報入力!J36,種目情報!$A$4:$B$32,2,FALSE),VLOOKUP(②選手情報入力!J36,種目情報!$E$4:$F$34,2,FALSE))))","v":""},{"$f":"IF(E27=\"\",\"\",IF(②選手情報入力!K36=\"\",\"\",②選手情報入力!K36))","v":""},{"$f":"IF(E27=\"\",\"\",IF(②選手情報入力!I36=\"\",\"\",1))","v":""},{"$f":"IF(E27=\"\",\"\",IF(②選手情報入力!J36=\"\",\"\",IF(I27=1,VLOOKUP(②選手情報入力!J36,種目情報!$A$4:$C$36,3,FALSE),VLOOKUP(②選手情報入力!J36,種目情報!$E$4:$G$39,3,FALSE))))","v":""},{"$f":"IF(E27=\"\",\"\",IF(②選手情報入力!M36=\"\",\"\",IF(I27=1,VLOOKUP(②選手情報入力!M36,種目情報!$A$4:$B$36,2,FALSE),VLOOKUP(②選手情報入力!M36,種目情報!$E$4:$F$39,2,FALSE))))","v":""},{"$f":"IF(E27=\"\",\"\",IF(②選手情報入力!N36=\"\",\"\",②選手情報入力!N36))","v":""},{"$f":"IF(E27=\"\",\"\",IF(②選手情報入力!L36=\"\",\"\",1))","v":""},{"$f":"IF(E27=\"\",\"\",IF(②選手情報入力!M36=\"\",\"\",IF(I27=1,VLOOKUP(②選手情報入力!M36,種目情報!$A$4:$C$36,3,FALSE),VLOOKUP(②選手情報入力!M36,種目情報!$E$4:$G$39,3,FALSE))))","v":""},{"$f":"IF(E27=\"\",\"\",IF(②選手情報入力!P36=\"\",\"\",IF(I27=1,VLOOKUP(②選手情報入力!P36,種目情報!$A$4:$B$36,2,FALSE),VLOOKUP(②選手情報入力!P36,種目情報!$E$4:$F$39,2,FALSE))))","v":""},{"$f":"IF(E27=\"\",\"\",IF(②選手情報入力!Q36=\"\",\"\",②選手情報入力!Q36))","v":""},{"$f":"IF(E27=\"\",\"\",IF(②選手情報入力!O36=\"\",\"\",1))","v":""},{"$f":"IF(E27=\"\",\"\",IF(②選手情報入力!P36=\"\",\"\",IF(I27=1,VLOOKUP(②選手情報入力!P36,種目情報!$A$4:$C$36,3,FALSE),VLOOKUP(②選手情報入力!P36,種目情報!$E$4:$G$39,3,FALSE))))","v":""},{"$f":"IF(E27=\"\",\"\",IF(②選手情報入力!R36=\"\",\"\",IF(I27=1,種目情報!$J$4,種目情報!$J$6)))","v":""},{"$f":"IF(E27=\"\",\"\",IF(②選手情報入力!R36=\"\",\"\",IF(I27=1,IF(②選手情報入力!$S$6=\"\",\"\",②選手情報入力!$S$6),IF(②選手情報入力!$S$7=\"\",\"\",②選手情報入力!$S$7))))","v":""},{"$f":"IF(E27=\"\",\"\",IF(②選手情報入力!R36=\"\",\"\",IF(I27=1,IF(②選手情報入力!$R$6=\"\",0,1),IF(②選手情報入力!$R$7=\"\",0,1))))","v":""},{"$f":"IF(E27=\"\",\"\",IF(②選手情報入力!R36=\"\",\"\",2))","v":""},{"$f":"IF(E27=\"\",\"\",IF(②選手情報入力!T36=\"\",\"\",IF(I27=1,種目情報!$J$5,種目情報!$J$7)))","v":""},{"$f":"IF(E27=\"\",\"\",IF(②選手情報入力!T36=\"\",\"\",IF(I27=1,IF(②選手情報入力!$U$6=\"\",\"\",②選手情報入力!$U$6),IF(②選手情報入力!$U$7=\"\",\"\",②選手情報入力!$U$7))))","v":""},{"$f":"IF(E27=\"\",\"\",IF(②選手情報入力!T36=\"\",\"\",IF(I27=1,IF(②選手情報入力!$T$6=\"\",0,1),IF(②選手情報入力!$T$7=\"\",0,1))))","v":""},{"$f":"IF(E27=\"\",\"\",IF(②選手情報入力!T36=\"\",\"\",2))","v":""}]
[{"$f":"IF(E28=\"\",\"\",Sheet1!A27)","v":""},{"$f":"IF(E28=\"\",\"\",①団体情報入力!$C$4)","v":""},null,{"$f":"IF(②選手情報入力!B37=\"\",\"\",②選手情報入力!B37)","v":""},{"$f":"IF(②選手情報入力!C37=\"\",\"\",②選手情報入力!C37)","v":""},{"$f":"IF(E28=\"\",\"\",②選手情報入力!D37)","v":""},{"$f":"IF(E28=\"\",\"\",ASC(②選手情報入力!E37))","v":""},"",{"$f":"IF(E28=\"\",\"\",IF(②選手情報入力!G37=\"男\",1,2))","v":""},{"$f":"IF(E28=\"\",\"\",IF(②選手情報入力!H37=\"\",\"\",②選手情報入力!H37))","v":""},null,null,"",null,{"$f":"IF(E28=\"\",\"\",IF(②選手情報入力!J37=\"\",\"\",IF(I28=1,VLOOKUP(②選手情報入力!J37,種目情報!$A$4:$B$32,2,FALSE),VLOOKUP(②選手情報入力!J37,種目情報!$E$4:$F$34,2,FALSE))))","v":""},{"$f":"IF(E28=\"\",\"\",IF(②選手情報入力!K37=\"\",\"\",②選手情報入力!K37))","v":""},{"$f":"IF(E28=\"\",\"\",IF(②選手情報入力!I37=\"\",\"\",1))","v":""},{"$f":"IF(E28=\"\",\"\",IF(②選手情報入力!J37=\"\",\"\",IF(I28=1,VLOOKUP(②選手情報入力!J37,種目情報!$A$4:$C$36,3,FALSE),VLOOKUP(②選手情報入力!J37,種目情報!$E$4:$G$39,3,FALSE))))","v":""},{"$f":"IF(E28=\"\",\"\",IF(②選手情報入力!M37=\"\",\"\",IF(I28=1,VLOOKUP(②選手情報入力!M37,種目情報!$A$4:$B$36,2,FALSE),VLOOKUP(②選手情報入力!M37,種目情報!$E$4:$F$39,2,FALSE))))","v":""},{"$f":"IF(E28=\"\",\"\",IF(②選手情報入力!N37=\"\",\"\",②選手情報入力!N37))","v":""},{"$f":"IF(E28=\"\",\"\",IF(②選手情報入力!L37=\"\",\"\",1))","v":""},{"$f":"IF(E28=\"\",\"\",IF(②選手情報入力!M37=\"\",\"\",IF(I28=1,VLOOKUP(②選手情報入力!M37,種目情報!$A$4:$C$36,3,FALSE),VLOOKUP(②選手情報入力!M37,種目情報!$E$4:$G$39,3,FALSE))))","v":""},{"$f":"IF(E28=\"\",\"\",IF(②選手情報入力!P37=\"\",\"\",IF(I28=1,VLOOKUP(②選手情報入力!P37,種目情報!$A$4:$B$36,2,FALSE),VLOOKUP(②選手情報入力!P37,種目情報!$E$4:$F$39,2,FALSE))))","v":""},{"$f":"IF(E28=\"\",\"\",IF(②選手情報入力!Q37=\"\",\"\",②選手情報入力!Q37))","v":""},{"$f":"IF(E28=\"\",\"\",IF(②選手情報入力!O37=\"\",\"\",1))","v":""},{"$f":"IF(E28=\"\",\"\",IF(②選手情報入力!P37=\"\",\"\",IF(I28=1,VLOOKUP(②選手情報入力!P37,種目情報!$A$4:$C$36,3,FALSE),VLOOKUP(②選手情報入力!P37,種目情報!$E$4:$G$39,3,FALSE))))","v":""},{"$f":"IF(E28=\"\",\"\",IF(②選手情報入力!R37=\"\",\"\",IF(I28=1,種目情報!$J$4,種目情報!$J$6)))","v":""},{"$f":"IF(E28=\"\",\"\",IF(②選手情報入力!R37=\"\",\"\",IF(I28=1,IF(②選手情報入力!$S$6=\"\",\"\",②選手情報入力!$S$6),IF(②選手情報入力!$S$7=\"\",\"\",②選手情報入力!$S$7))))","v":""},{"$f":"IF(E28=\"\",\"\",IF(②選手情報入力!R37=\"\",\"\",IF(I28=1,IF(②選手情報入力!$R$6=\"\",0,1),IF(②選手情報入力!$R$7=\"\",0,1))))","v":""},{"$f":"IF(E28=\"\",\"\",IF(②選手情報入力!R37=\"\",\"\",2))","v":""},{"$f":"IF(E28=\"\",\"\",IF(②選手情報入力!T37=\"\",\"\",IF(I28=1,種目情報!$J$5,種目情報!$J$7)))","v":""},{"$f":"IF(E28=\"\",\"\",IF(②選手情報入力!T37=\"\",\"\",IF(I28=1,IF(②選手情報入力!$U$6=\"\",\"\",②選手情報入力!$U$6),IF(②選手情報入力!$U$7=\"\",\"\",②選手情報入力!$U$7))))","v":""},{"$f":"IF(E28=\"\",\"\",IF(②選手情報入力!T37=\"\",\"\",IF(I28=1,IF(②選手情報入力!$T$6=\"\",0,1),IF(②選手情報入力!$T$7=\"\",0,1))))","v":""},{"$f":"IF(E28=\"\",\"\",IF(②選手情報入力!T37=\"\",\"\",2))","v":""}]
[{"$f":"IF(E29=\"\",\"\",Sheet1!A28)","v":""},{"$f":"IF(E29=\"\",\"\",①団体情報入力!$C$4)","v":""},null,{"$f":"IF(②選手情報入力!B38=\"\",\"\",②選手情報入力!B38)","v":""},{"$f":"IF(②選手情報入力!C38=\"\",\"\",②選手情報入力!C38)","v":""},{"$f":"IF(E29=\"\",\"\",②選手情報入力!D38)","v":""},{"$f":"IF(E29=\"\",\"\",ASC(②選手情報入力!E38))","v":""},"",{"$f":"IF(E29=\"\",\"\",IF(②選手情報入力!G38=\"男\",1,2))","v":""},{"$f":"IF(E29=\"\",\"\",IF(②選手情報入力!H38=\"\",\"\",②選手情報入力!H38))","v":""},null,null,"",null,{"$f":"IF(E29=\"\",\"\",IF(②選手情報入力!J38=\"\",\"\",IF(I29=1,VLOOKUP(②選手情報入力!J38,種目情報!$A$4:$B$32,2,FALSE),VLOOKUP(②選手情報入力!J38,種目情報!$E$4:$F$34,2,FALSE))))","v":""},{"$f":"IF(E29=\"\",\"\",IF(②選手情報入力!K38=\"\",\"\",②選手情報入力!K38))","v":""},{"$f":"IF(E29=\"\",\"\",IF(②選手情報入力!I38=\"\",\"\",1))","v":""},{"$f":"IF(E29=\"\",\"\",IF(②選手情報入力!J38=\"\",\"\",IF(I29=1,VLOOKUP(②選手情報入力!J38,種目情報!$A$4:$C$36,3,FALSE),VLOOKUP(②選手情報入力!J38,種目情報!$E$4:$G$39,3,FALSE))))","v":""},{"$f":"IF(E29=\"\",\"\",IF(②選手情報入力!M38=\"\",\"\",IF(I29=1,VLOOKUP(②選手情報入力!M38,種目情報!$A$4:$B$36,2,FALSE),VLOOKUP(②選手情報入力!M38,種目情報!$E$4:$F$39,2,FALSE))))","v":""},{"$f":"IF(E29=\"\",\"\",IF(②選手情報入力!N38=\"\",\"\",②選手情報入力!N38))","v":""},{"$f":"IF(E29=\"\",\"\",IF(②選手情報入力!L38=\"\",\"\",1))","v":""},{"$f":"IF(E29=\"\",\"\",IF(②選手情報入力!M38=\"\",\"\",IF(I29=1,VLOOKUP(②選手情報入力!M38,種目情報!$A$4:$C$36,3,FALSE),VLOOKUP(②選手情報入力!M38,種目情報!$E$4:$G$39,3,FALSE))))","v":""},{"$f":"IF(E29=\"\",\"\",IF(②選手情報入力!P38=\"\",\"\",IF(I29=1,VLOOKUP(②選手情報入力!P38,種目情報!$A$4:$B$36,2,FALSE),VLOOKUP(②選手情報入力!P38,種目情報!$E$4:$F$39,2,FALSE))))","v":""},{"$f":"IF(E29=\"\",\"\",IF(②選手情報入力!Q38=\"\",\"\",②選手情報入力!Q38))","v":""},{"$f":"IF(E29=\"\",\"\",IF(②選手情報入力!O38=\"\",\"\",1))","v":""},{"$f":"IF(E29=\"\",\"\",IF(②選手情報入力!P38=\"\",\"\",IF(I29=1,VLOOKUP(②選手情報入力!P38,種目情報!$A$4:$C$36,3,FALSE),VLOOKUP(②選手情報入力!P38,種目情報!$E$4:$G$39,3,FALSE))))","v":""},{"$f":"IF(E29=\"\",\"\",IF(②選手情報入力!R38=\"\",\"\",IF(I29=1,種目情報!$J$4,種目情報!$J$6)))","v":""},{"$f":"IF(E29=\"\",\"\",IF(②選手情報入力!R38=\"\",\"\",IF(I29=1,IF(②選手情報入力!$S$6=\"\",\"\",②選手情報入力!$S$6),IF(②選手情報入力!$S$7=\"\",\"\",②選手情報入力!$S$7))))","v":""},{"$f":"IF(E29=\"\",\"\",IF(②選手情報入力!R38=\"\",\"\",IF(I29=1,IF(②選手情報入力!$R$6=\"\",0,1),IF(②選手情報入力!$R$7=\"\",0,1))))","v":""},{"$f":"IF(E29=\"\",\"\",IF(②選手情報入力!R38=\"\",\"\",2))","v":""},{"$f":"IF(E29=\"\",\"\",IF(②選手情報入力!T38=\"\",\"\",IF(I29=1,種目情報!$J$5,種目情報!$J$7)))","v":""},{"$f":"IF(E29=\"\",\"\",IF(②選手情報入力!T38=\"\",\"\",IF(I29=1,IF(②選手情報入力!$U$6=\"\",\"\",②選手情報入力!$U$6),IF(②選手情報入力!$U$7=\"\",\"\",②選手情報入力!$U$7))))","v":""},{"$f":"IF(E29=\"\",\"\",IF(②選手情報入力!T38=\"\",\"\",IF(I29=1,IF(②選手情報入力!$T$6=\"\",0,1),IF(②選手情報入力!$T$7=\"\",0,1))))","v":""},{"$f":"IF(E29=\"\",\"\",IF(②選手情報入力!T38=\"\",\"\",2))","v":""}]
[{"$f":"IF(E30=\"\",\"\",Sheet1!A29)","v":""},{"$f":"IF(E30=\"\",\"\",①団体情報入力!$C$4)","v":""},null,{"$f":"IF(②選手情報入力!B39=\"\",\"\",②選手情報入力!B39)","v":""},{"$f":"IF(②選手情報入力!C39=\"\",\"\",②選手情報入力!C39)","v":""},{"$f":"IF(E30=\"\",\"\",②選手情報入力!D39)","v":""},{"$f":"IF(E30=\"\",\"\",ASC(②選手情報入力!E39))","v":""},"",{"$f":"IF(E30=\"\",\"\",IF(②選手情報入力!G39=\"男\",1,2))","v":""},{"$f":"IF(E30=\"\",\"\",IF(②選手情報入力!H39=\"\",\"\",②選手情報入力!H39))","v":""},null,null,"",null,{"$f":"IF(E30=\"\",\"\",IF(②選手情報入力!J39=\"\",\"\",IF(I30=1,VLOOKUP(②選手情報入力!J39,種目情報!$A$4:$B$32,2,FALSE),VLOOKUP(②選手情報入力!J39,種目情報!$E$4:$F$34,2,FALSE))))","v":""},{"$f":"IF(E30=\"\",\"\",IF(②選手情報入力!K39=\"\",\"\",②選手情報入力!K39))","v":""},{"$f":"IF(E30=\"\",\"\",IF(②選手情報入力!I39=\"\",\"\",1))","v":""},{"$f":"IF(E30=\"\",\"\",IF(②選手情報入力!J39=\"\",\"\",IF(I30=1,VLOOKUP(②選手情報入力!J39,種目情報!$A$4:$C$36,3,FALSE),VLOOKUP(②選手情報入力!J39,種目情報!$E$4:$G$39,3,FALSE))))","v":""},{"$f":"IF(E30=\"\",\"\",IF(②選手情報入力!M39=\"\",\"\",IF(I30=1,VLOOKUP(②選手情報入力!M39,種目情報!$A$4:$B$36,2,FALSE),VLOOKUP(②選手情報入力!M39,種目情報!$E$4:$F$39,2,FALSE))))","v":""},{"$f":"IF(E30=\"\",\"\",IF(②選手情報入力!N39=\"\",\"\",②選手情報入力!N39))","v":""},{"$f":"IF(E30=\"\",\"\",IF(②選手情報入力!L39=\"\",\"\",1))","v":""},{"$f":"IF(E30=\"\",\"\",IF(②選手情報入力!M39=\"\",\"\",IF(I30=1,VLOOKUP(②選手情報入力!M39,種目情報!$A$4:$C$36,3,FALSE),VLOOKUP(②選手情報入力!M39,種目情報!$E$4:$G$39,3,FALSE))))","v":""},{"$f":"IF(E30=\"\",\"\",IF(②選手情報入力!P39=\"\",\"\",IF(I30=1,VLOOKUP(②選手情報入力!P39,種目情報!$A$4:$B$36,2,FALSE),VLOOKUP(②選手情報入力!P39,種目情報!$E$4:$F$39,2,FALSE))))","v":""},{"$f":"IF(E30=\"\",\"\",IF(②選手情報入力!Q39=\"\",\"\",②選手情報入力!Q39))","v":""},{"$f":"IF(E30=\"\",\"\",IF(②選手情報入力!O39=\"\",\"\",1))","v":""},{"$f":"IF(E30=\"\",\"\",IF(②選手情報入力!P39=\"\",\"\",IF(I30=1,VLOOKUP(②選手情報入力!P39,種目情報!$A$4:$C$36,3,FALSE),VLOOKUP(②選手情報入力!P39,種目情報!$E$4:$G$39,3,FALSE))))","v":""},{"$f":"IF(E30=\"\",\"\",IF(②選手情報入力!R39=\"\",\"\",IF(I30=1,種目情報!$J$4,種目情報!$J$6)))","v":""},{"$f":"IF(E30=\"\",\"\",IF(②選手情報入力!R39=\"\",\"\",IF(I30=1,IF(②選手情報入力!$S$6=\"\",\"\",②選手情報入力!$S$6),IF(②選手情報入力!$S$7=\"\",\"\",②選手情報入力!$S$7))))","v":""},{"$f":"IF(E30=\"\",\"\",IF(②選手情報入力!R39=\"\",\"\",IF(I30=1,IF(②選手情報入力!$R$6=\"\",0,1),IF(②選手情報入力!$R$7=\"\",0,1))))","v":""},{"$f":"IF(E30=\"\",\"\",IF(②選手情報入力!R39=\"\",\"\",2))","v":""},{"$f":"IF(E30=\"\",\"\",IF(②選手情報入力!T39=\"\",\"\",IF(I30=1,種目情報!$J$5,種目情報!$J$7)))","v":""},{"$f":"IF(E30=\"\",\"\",IF(②選手情報入力!T39=\"\",\"\",IF(I30=1,IF(②選手情報入力!$U$6=\"\",\"\",②選手情報入力!$U$6),IF(②選手情報入力!$U$7=\"\",\"\",②選手情報入力!$U$7))))","v":""},{"$f":"IF(E30=\"\",\"\",IF(②選手情報入力!T39=\"\",\"\",IF(I30=1,IF(②選手情報入力!$T$6=\"\",0,1),IF(②選手情報入力!$T$7=\"\",0,1))))","v":""},{"$f":"IF(E30=\"\",\"\",IF(②選手情報入力!T39=\"\",\"\",2))","v":""}]
[{"$f":"IF(E31=\"\",\"\",Sheet1!A30)","v":""},{"$f":"IF(E31=\"\",\"\",①団体情報入力!$C$4)","v":""},null,{"$f":"IF(②選手情報入力!B40=\"\",\"\",②選手情報入力!B40)","v":""},{"$f":"IF(②選手情報入力!C40=\"\",\"\",②選手情報入力!C40)","v":""},{"$f":"IF(E31=\"\",\"\",②選手情報入力!D40)","v":""},{"$f":"IF(E31=\"\",\"\",ASC(②選手情報入力!E40))","v":""},"",{"$f":"IF(E31=\"\",\"\",IF(②選手情報入力!G40=\"男\",1,2))","v":""},{"$f":"IF(E31=\"\",\"\",IF(②選手情報入力!H40=\"\",\"\",②選手情報入力!H40))","v":""},null,null,"",null,{"$f":"IF(E31=\"\",\"\",IF(②選手情報入力!J40=\"\",\"\",IF(I31=1,VLOOKUP(②選手情報入力!J40,種目情報!$A$4:$B$32,2,FALSE),VLOOKUP(②選手情報入力!J40,種目情報!$E$4:$F$34,2,FALSE))))","v":""},{"$f":"IF(E31=\"\",\"\",IF(②選手情報入力!K40=\"\",\"\",②選手情報入力!K40))","v":""},{"$f":"IF(E31=\"\",\"\",IF(②選手情報入力!I40=\"\",\"\",1))","v":""},{"$f":"IF(E31=\"\",\"\",IF(②選手情報入力!J40=\"\",\"\",IF(I31=1,VLOOKUP(②選手情報入力!J40,種目情報!$A$4:$C$36,3,FALSE),VLOOKUP(②選手情報入力!J40,種目情報!$E$4:$G$39,3,FALSE))))","v":""},{"$f":"IF(E31=\"\",\"\",IF(②選手情報入力!M40=\"\",\"\",IF(I31=1,VLOOKUP(②選手情報入力!M40,種目情報!$A$4:$B$36,2,FALSE),VLOOKUP(②選手情報入力!M40,種目情報!$E$4:$F$39,2,FALSE))))","v":""},{"$f":"IF(E31=\"\",\"\",IF(②選手情報入力!N40=\"\",\"\",②選手情報入力!N40))","v":""},{"$f":"IF(E31=\"\",\"\",IF(②選手情報入力!L40=\"\",\"\",1))","v":""},{"$f":"IF(E31=\"\",\"\",IF(②選手情報入力!M40=\"\",\"\",IF(I31=1,VLOOKUP(②選手情報入力!M40,種目情報!$A$4:$C$36,3,FALSE),VLOOKUP(②選手情報入力!M40,種目情報!$E$4:$G$39,3,FALSE))))","v":""},{"$f":"IF(E31=\"\",\"\",IF(②選手情報入力!P40=\"\",\"\",IF(I31=1,VLOOKUP(②選手情報入力!P40,種目情報!$A$4:$B$36,2,FALSE),VLOOKUP(②選手情報入力!P40,種目情報!$E$4:$F$39,2,FALSE))))","v":""},{"$f":"IF(E31=\"\",\"\",IF(②選手情報入力!Q40=\"\",\"\",②選手情報入力!Q40))","v":""},{"$f":"IF(E31=\"\",\"\",IF(②選手情報入力!O40=\"\",\"\",1))","v":""},{"$f":"IF(E31=\"\",\"\",IF(②選手情報入力!P40=\"\",\"\",IF(I31=1,VLOOKUP(②選手情報入力!P40,種目情報!$A$4:$C$36,3,FALSE),VLOOKUP(②選手情報入力!P40,種目情報!$E$4:$G$39,3,FALSE))))","v":""},{"$f":"IF(E31=\"\",\"\",IF(②選手情報入力!R40=\"\",\"\",IF(I31=1,種目情報!$J$4,種目情報!$J$6)))","v":""},{"$f":"IF(E31=\"\",\"\",IF(②選手情報入力!R40=\"\",\"\",IF(I31=1,IF(②選手情報入力!$S$6=\"\",\"\",②選手情報入力!$S$6),IF(②選手情報入力!$S$7=\"\",\"\",②選手情報入力!$S$7))))","v":""},{"$f":"IF(E31=\"\",\"\",IF(②選手情報入力!R40=\"\",\"\",IF(I31=1,IF(②選手情報入力!$R$6=\"\",0,1),IF(②選手情報入力!$R$7=\"\",0,1))))","v":""},{"$f":"IF(E31=\"\",\"\",IF(②選手情報入力!R40=\"\",\"\",2))","v":""},{"$f":"IF(E31=\"\",\"\",IF(②選手情報入力!T40=\"\",\"\",IF(I31=1,種目情報!$J$5,種目情報!$J$7)))","v":""},{"$f":"IF(E31=\"\",\"\",IF(②選手情報入力!T40=\"\",\"\",IF(I31=1,IF(②選手情報入力!$U$6=\"\",\"\",②選手情報入力!$U$6),IF(②選手情報入力!$U$7=\"\",\"\",②選手情報入力!$U$7))))","v":""},{"$f":"IF(E31=\"\",\"\",IF(②選手情報入力!T40=\"\",\"\",IF(I31=1,IF(②選手情報入力!$T$6=\"\",0,1),IF(②選手情報入力!$T$7=\"\",0,1))))","v":""},{"$f":"IF(E31=\"\",\"\",IF(②選手情報入力!T40=\"\",\"\",2))","v":""}]
[{"$f":"IF(E32=\"\",\"\",Sheet1!A31)","v":""},{"$f":"IF(E32=\"\",\"\",①団体情報入力!$C$4)","v":""},null,{"$f":"IF(②選手情報入力!B41=\"\",\"\",②選手情報入力!B41)","v":""},{"$f":"IF(②選手情報入力!C41=\"\",\"\",②選手情報入力!C41)","v":""},{"$f":"IF(E32=\"\",\"\",②選手情報入力!D41)","v":""},{"$f":"IF(E32=\"\",\"\",ASC(②選手情報入力!E41))","v":""},"",{"$f":"IF(E32=\"\",\"\",IF(②選手情報入力!G41=\"男\",1,2))","v":""},{"$f":"IF(E32=\"\",\"\",IF(②選手情報入力!H41=\"\",\"\",②選手情報入力!H41))","v":""},null,null,"",null,{"$f":"IF(E32=\"\",\"\",IF(②選手情報入力!J41=\"\",\"\",IF(I32=1,VLOOKUP(②選手情報入力!J41,種目情報!$A$4:$B$32,2,FALSE),VLOOKUP(②選手情報入力!J41,種目情報!$E$4:$F$34,2,FALSE))))","v":""},{"$f":"IF(E32=\"\",\"\",IF(②選手情報入力!K41=\"\",\"\",②選手情報入力!K41))","v":""},{"$f":"IF(E32=\"\",\"\",IF(②選手情報入力!I41=\"\",\"\",1))","v":""},{"$f":"IF(E32=\"\",\"\",IF(②選手情報入力!J41=\"\",\"\",IF(I32=1,VLOOKUP(②選手情報入力!J41,種目情報!$A$4:$C$36,3,FALSE),VLOOKUP(②選手情報入力!J41,種目情報!$E$4:$G$39,3,FALSE))))","v":""},{"$f":"IF(E32=\"\",\"\",IF(②選手情報入力!M41=\"\",\"\",IF(I32=1,VLOOKUP(②選手情報入力!M41,種目情報!$A$4:$B$36,2,FALSE),VLOOKUP(②選手情報入力!M41,種目情報!$E$4:$F$39,2,FALSE))))","v":""},{"$f":"IF(E32=\"\",\"\",IF(②選手情報入力!N41=\"\",\"\",②選手情報入力!N41))","v":""},{"$f":"IF(E32=\"\",\"\",IF(②選手情報入力!L41=\"\",\"\",1))","v":""},{"$f":"IF(E32=\"\",\"\",IF(②選手情報入力!M41=\"\",\"\",IF(I32=1,VLOOKUP(②選手情報入力!M41,種目情報!$A$4:$C$36,3,FALSE),VLOOKUP(②選手情報入力!M41,種目情報!$E$4:$G$39,3,FALSE))))","v":""},{"$f":"IF(E32=\"\",\"\",IF(②選手情報入力!P41=\"\",\"\",IF(I32=1,VLOOKUP(②選手情報入力!P41,種目情報!$A$4:$B$36,2,FALSE),VLOOKUP(②選手情報入力!P41,種目情報!$E$4:$F$39,2,FALSE))))","v":""},{"$f":"IF(E32=\"\",\"\",IF(②選手情報入力!Q41=\"\",\"\",②選手情報入力!Q41))","v":""},{"$f":"IF(E32=\"\",\"\",IF(②選手情報入力!O41=\"\",\"\",1))","v":""},{"$f":"IF(E32=\"\",\"\",IF(②選手情報入力!P41=\"\",\"\",IF(I32=1,VLOOKUP(②選手情報入力!P41,種目情報!$A$4:$C$36,3,FALSE),VLOOKUP(②選手情報入力!P41,種目情報!$E$4:$G$39,3,FALSE))))","v":""},{"$f":"IF(E32=\"\",\"\",IF(②選手情報入力!R41=\"\",\"\",IF(I32=1,種目情報!$J$4,種目情報!$J$6)))","v":""},{"$f":"IF(E32=\"\",\"\",IF(②選手情報入力!R41=\"\",\"\",IF(I32=1,IF(②選手情報入力!$S$6=\"\",\"\",②選手情報入力!$S$6),IF(②選手情報入力!$S$7=\"\",\"\",②選手情報入力!$S$7))))","v":""},{"$f":"IF(E32=\"\",\"\",IF(②選手情報入力!R41=\"\",\"\",IF(I32=1,IF(②選手情報入力!$R$6=\"\",0,1),IF(②選手情報入力!$R$7=\"\",0,1))))","v":""},{"$f":"IF(E32=\"\",\"\",IF(②選手情報入力!R41=\"\",\"\",2))","v":""},{"$f":"IF(E32=\"\",\"\",IF(②選手情報入力!T41=\"\",\"\",IF(I32=1,種目情報!$J$5,種目情報!$J$7)))","v":""},{"$f":"IF(E32=\"\",\"\",IF(②選手情報入力!T41=\"\",\"\",IF(I32=1,IF(②選手情報入力!$U$6=\"\",\"\",②選手情報入力!$U$6),IF(②選手情報入力!$U$7=\"\",\"\",②選手情報入力!$U$7))))","v":""},{"$f":"IF(E32=\"\",\"\",IF(②選手情報入力!T41=\"\",\"\",IF(I32=1,IF(②選手情報入力!$T$6=\"\",0,1),IF(②選手情報入力!$T$7=\"\",0,1))))","v":""},{"$f":"IF(E32=\"\",\"\",IF(②選手情報入力!T41=\"\",\"\",2))","v":""}]
[{"$f":"IF(E33=\"\",\"\",Sheet1!A32)","v":""},{"$f":"IF(E33=\"\",\"\",①団体情報入力!$C$4)","v":""},null,{"$f":"IF(②選手情報入力!B42=\"\",\"\",②選手情報入力!B42)","v":""},{"$f":"IF(②選手情報入力!C42=\"\",\"\",②選手情報入力!C42)","v":""},{"$f":"IF(E33=\"\",\"\",②選手情報入力!D42)","v":""},{"$f":"IF(E33=\"\",\"\",ASC(②選手情報入力!E42))","v":""},"",{"$f":"IF(E33=\"\",\"\",IF(②選手情報入力!G42=\"男\",1,2))","v":""},{"$f":"IF(E33=\"\",\"\",IF(②選手情報入力!H42=\"\",\"\",②選手情報入力!H42))","v":""},null,null,"",null,{"$f":"IF(E33=\"\",\"\",IF(②選手情報入力!J42=\"\",\"\",IF(I33=1,VLOOKUP(②選手情報入力!J42,種目情報!$A$4:$B$32,2,FALSE),VLOOKUP(②選手情報入力!J42,種目情報!$E$4:$F$34,2,FALSE))))","v":""},{"$f":"IF(E33=\"\",\"\",IF(②選手情報入力!K42=\"\",\"\",②選手情報入力!K42))","v":""},{"$f":"IF(E33=\"\",\"\",IF(②選手情報入力!I42=\"\",\"\",1))","v":""},{"$f":"IF(E33=\"\",\"\",IF(②選手情報入力!J42=\"\",\"\",IF(I33=1,VLOOKUP(②選手情報入力!J42,種目情報!$A$4:$C$36,3,FALSE),VLOOKUP(②選手情報入力!J42,種目情報!$E$4:$G$39,3,FALSE))))","v":""},{"$f":"IF(E33=\"\",\"\",IF(②選手情報入力!M42=\"\",\"\",IF(I33=1,VLOOKUP(②選手情報入力!M42,種目情報!$A$4:$B$36,2,FALSE),VLOOKUP(②選手情報入力!M42,種目情報!$E$4:$F$39,2,FALSE))))","v":""},{"$f":"IF(E33=\"\",\"\",IF(②選手情報入力!N42=\"\",\"\",②選手情報入力!N42))","v":""},{"$f":"IF(E33=\"\",\"\",IF(②選手情報入力!L42=\"\",\"\",1))","v":""},{"$f":"IF(E33=\"\",\"\",IF(②選手情報入力!M42=\"\",\"\",IF(I33=1,VLOOKUP(②選手情報入力!M42,種目情報!$A$4:$C$36,3,FALSE),VLOOKUP(②選手情報入力!M42,種目情報!$E$4:$G$39,3,FALSE))))","v":""},{"$f":"IF(E33=\"\",\"\",IF(②選手情報入力!P42=\"\",\"\",IF(I33=1,VLOOKUP(②選手情報入力!P42,種目情報!$A$4:$B$36,2,FALSE),VLOOKUP(②選手情報入力!P42,種目情報!$E$4:$F$39,2,FALSE))))","v":""},{"$f":"IF(E33=\"\",\"\",IF(②選手情報入力!Q42=\"\",\"\",②選手情報入力!Q42))","v":""},{"$f":"IF(E33=\"\",\"\",IF(②選手情報入力!O42=\"\",\"\",1))","v":""},{"$f":"IF(E33=\"\",\"\",IF(②選手情報入力!P42=\"\",\"\",IF(I33=1,VLOOKUP(②選手情報入力!P42,種目情報!$A$4:$C$36,3,FALSE),VLOOKUP(②選手情報入力!P42,種目情報!$E$4:$G$39,3,FALSE))))","v":""},{"$f":"IF(E33=\"\",\"\",IF(②選手情報入力!R42=\"\",\"\",IF(I33=1,種目情報!$J$4,種目情報!$J$6)))","v":""},{"$f":"IF(E33=\"\",\"\",IF(②選手情報入力!R42=\"\",\"\",IF(I33=1,IF(②選手情報入力!$S$6=\"\",\"\",②選手情報入力!$S$6),IF(②選手情報入力!$S$7=\"\",\"\",②選手情報入力!$S$7))))","v":""},{"$f":"IF(E33=\"\",\"\",IF(②選手情報入力!R42=\"\",\"\",IF(I33=1,IF(②選手情報入力!$R$6=\"\",0,1),IF(②選手情報入力!$R$7=\"\",0,1))))","v":""},{"$f":"IF(E33=\"\",\"\",IF(②選手情報入力!R42=\"\",\"\",2))","v":""},{"$f":"IF(E33=\"\",\"\",IF(②選手情報入力!T42=\"\",\"\",IF(I33=1,種目情報!$J$5,種目情報!$J$7)))","v":""},{"$f":"IF(E33=\"\",\"\",IF(②選手情報入力!T42=\"\",\"\",IF(I33=1,IF(②選手情報入力!$U$6=\"\",\"\",②選手情報入力!$U$6),IF(②選手情報入力!$U$7=\"\",\"\",②選手情報入力!$U$7))))","v":""},{"$f":"IF(E33=\"\",\"\",IF(②選手情報入力!T42=\"\",\"\",IF(I33=1,IF(②選手情報入力!$T$6=\"\",0,1),IF(②選手情報入力!$T$7=\"\",0,1))))","v":""},{"$f":"IF(E33=\"\",\"\",IF(②選手情報入力!T42=\"\",\"\",2))","v":""}]
[{"$f":"IF(E34=\"\",\"\",Sheet1!A33)","v":""},{"$f":"IF(E34=\"\",\"\",①団体情報入力!$C$4)","v":""},null,{"$f":"IF(②選手情報入力!B43=\"\",\"\",②選手情報入力!B43)","v":""},{"$f":"IF(②選手情報入力!C43=\"\",\"\",②選手情報入力!C43)","v":""},{"$f":"IF(E34=\"\",\"\",②選手情報入力!D43)","v":""},{"$f":"IF(E34=\"\",\"\",ASC(②選手情報入力!E43))","v":""},"",{"$f":"IF(E34=\"\",\"\",IF(②選手情報入力!G43=\"男\",1,2))","v":""},{"$f":"IF(E34=\"\",\"\",IF(②選手情報入力!H43=\"\",\"\",②選手情報入力!H43))","v":""},null,null,"",null,{"$f":"IF(E34=\"\",\"\",IF(②選手情報入力!J43=\"\",\"\",IF(I34=1,VLOOKUP(②選手情報入力!J43,種目情報!$A$4:$B$32,2,FALSE),VLOOKUP(②選手情報入力!J43,種目情報!$E$4:$F$34,2,FALSE))))","v":""},{"$f":"IF(E34=\"\",\"\",IF(②選手情報入力!K43=\"\",\"\",②選手情報入力!K43))","v":""},{"$f":"IF(E34=\"\",\"\",IF(②選手情報入力!I43=\"\",\"\",1))","v":""},{"$f":"IF(E34=\"\",\"\",IF(②選手情報入力!J43=\"\",\"\",IF(I34=1,VLOOKUP(②選手情報入力!J43,種目情報!$A$4:$C$36,3,FALSE),VLOOKUP(②選手情報入力!J43,種目情報!$E$4:$G$39,3,FALSE))))","v":""},{"$f":"IF(E34=\"\",\"\",IF(②選手情報入力!M43=\"\",\"\",IF(I34=1,VLOOKUP(②選手情報入力!M43,種目情報!$A$4:$B$36,2,FALSE),VLOOKUP(②選手情報入力!M43,種目情報!$E$4:$F$39,2,FALSE))))","v":""},{"$f":"IF(E34=\"\",\"\",IF(②選手情報入力!N43=\"\",\"\",②選手情報入力!N43))","v":""},{"$f":"IF(E34=\"\",\"\",IF(②選手情報入力!L43=\"\",\"\",1))","v":""},{"$f":"IF(E34=\"\",\"\",IF(②選手情報入力!M43=\"\",\"\",IF(I34=1,VLOOKUP(②選手情報入力!M43,種目情報!$A$4:$C$36,3,FALSE),VLOOKUP(②選手情報入力!M43,種目情報!$E$4:$G$39,3,FALSE))))","v":""},{"$f":"IF(E34=\"\",\"\",IF(②選手情報入力!P43=\"\",\"\",IF(I34=1,VLOOKUP(②選手情報入力!P43,種目情報!$A$4:$B$36,2,FALSE),VLOOKUP(②選手情報入力!P43,種目情報!$E$4:$F$39,2,FALSE))))","v":""},{"$f":"IF(E34=\"\",\"\",IF(②選手情報入力!Q43=\"\",\"\",②選手情報入力!Q43))","v":""},{"$f":"IF(E34=\"\",\"\",IF(②選手情報入力!O43=\"\",\"\",1))","v":""},{"$f":"IF(E34=\"\",\"\",IF(②選手情報入力!P43=\"\",\"\",IF(I34=1,VLOOKUP(②選手情報入力!P43,種目情報!$A$4:$C$36,3,FALSE),VLOOKUP(②選手情報入力!P43,種目情報!$E$4:$G$39,3,FALSE))))","v":""},{"$f":"IF(E34=\"\",\"\",IF(②選手情報入力!R43=\"\",\"\",IF(I34=1,種目情報!$J$4,種目情報!$J$6)))","v":""},{"$f":"IF(E34=\"\",\"\",IF(②選手情報入力!R43=\"\",\"\",IF(I34=1,IF(②選手情報入力!$S$6=\"\",\"\",②選手情報入力!$S$6),IF(②選手情報入力!$S$7=\"\",\"\",②選手情報入力!$S$7))))","v":""},{"$f":"IF(E34=\"\",\"\",IF(②選手情報入力!R43=\"\",\"\",IF(I34=1,IF(②選手情報入力!$R$6=\"\",0,1),IF(②選手情報入力!$R$7=\"\",0,1))))","v":""},{"$f":"IF(E34=\"\",\"\",IF(②選手情報入力!R43=\"\",\"\",2))","v":""},{"$f":"IF(E34=\"\",\"\",IF(②選手情報入力!T43=\"\",\"\",IF(I34=1,種目情報!$J$5,種目情報!$J$7)))","v":""},{"$f":"IF(E34=\"\",\"\",IF(②選手情報入力!T43=\"\",\"\",IF(I34=1,IF(②選手情報入力!$U$6=\"\",\"\",②選手情報入力!$U$6),IF(②選手情報入力!$U$7=\"\",\"\",②選手情報入力!$U$7))))","v":""},{"$f":"IF(E34=\"\",\"\",IF(②選手情報入力!T43=\"\",\"\",IF(I34=1,IF(②選手情報入力!$T$6=\"\",0,1),IF(②選手情報入力!$T$7=\"\",0,1))))","v":""},{"$f":"IF(E34=\"\",\"\",IF(②選手情報入力!T43=\"\",\"\",2))","v":""}]
[{"$f":"IF(E35=\"\",\"\",Sheet1!A34)","v":""},{"$f":"IF(E35=\"\",\"\",①団体情報入力!$C$4)","v":""},null,{"$f":"IF(②選手情報入力!B44=\"\",\"\",②選手情報入力!B44)","v":""},{"$f":"IF(②選手情報入力!C44=\"\",\"\",②選手情報入力!C44)","v":""},{"$f":"IF(E35=\"\",\"\",②選手情報入力!D44)","v":""},{"$f":"IF(E35=\"\",\"\",ASC(②選手情報入力!E44))","v":""},"",{"$f":"IF(E35=\"\",\"\",IF(②選手情報入力!G44=\"男\",1,2))","v":""},{"$f":"IF(E35=\"\",\"\",IF(②選手情報入力!H44=\"\",\"\",②選手情報入力!H44))","v":""},null,null,"",null,{"$f":"IF(E35=\"\",\"\",IF(②選手情報入力!J44=\"\",\"\",IF(I35=1,VLOOKUP(②選手情報入力!J44,種目情報!$A$4:$B$32,2,FALSE),VLOOKUP(②選手情報入力!J44,種目情報!$E$4:$F$34,2,FALSE))))","v":""},{"$f":"IF(E35=\"\",\"\",IF(②選手情報入力!K44=\"\",\"\",②選手情報入力!K44))","v":""},{"$f":"IF(E35=\"\",\"\",IF(②選手情報入力!I44=\"\",\"\",1))","v":""},{"$f":"IF(E35=\"\",\"\",IF(②選手情報入力!J44=\"\",\"\",IF(I35=1,VLOOKUP(②選手情報入力!J44,種目情報!$A$4:$C$36,3,FALSE),VLOOKUP(②選手情報入力!J44,種目情報!$E$4:$G$39,3,FALSE))))","v":""},{"$f":"IF(E35=\"\",\"\",IF(②選手情報入力!M44=\"\",\"\",IF(I35=1,VLOOKUP(②選手情報入力!M44,種目情報!$A$4:$B$36,2,FALSE),VLOOKUP(②選手情報入力!M44,種目情報!$E$4:$F$39,2,FALSE))))","v":""},{"$f":"IF(E35=\"\",\"\",IF(②選手情報入力!N44=\"\",\"\",②選手情報入力!N44))","v":""},{"$f":"IF(E35=\"\",\"\",IF(②選手情報入力!L44=\"\",\"\",1))","v":""},{"$f":"IF(E35=\"\",\"\",IF(②選手情報入力!M44=\"\",\"\",IF(I35=1,VLOOKUP(②選手情報入力!M44,種目情報!$A$4:$C$36,3,FALSE),VLOOKUP(②選手情報入力!M44,種目情報!$E$4:$G$39,3,FALSE))))","v":""},{"$f":"IF(E35=\"\",\"\",IF(②選手情報入力!P44=\"\",\"\",IF(I35=1,VLOOKUP(②選手情報入力!P44,種目情報!$A$4:$B$36,2,FALSE),VLOOKUP(②選手情報入力!P44,種目情報!$E$4:$F$39,2,FALSE))))","v":""},{"$f":"IF(E35=\"\",\"\",IF(②選手情報入力!Q44=\"\",\"\",②選手情報入力!Q44))","v":""},{"$f":"IF(E35=\"\",\"\",IF(②選手情報入力!O44=\"\",\"\",1))","v":""},{"$f":"IF(E35=\"\",\"\",IF(②選手情報入力!P44=\"\",\"\",IF(I35=1,VLOOKUP(②選手情報入力!P44,種目情報!$A$4:$C$36,3,FALSE),VLOOKUP(②選手情報入力!P44,種目情報!$E$4:$G$39,3,FALSE))))","v":""},{"$f":"IF(E35=\"\",\"\",IF(②選手情報入力!R44=\"\",\"\",IF(I35=1,種目情報!$J$4,種目情報!$J$6)))","v":""},{"$f":"IF(E35=\"\",\"\",IF(②選手情報入力!R44=\"\",\"\",IF(I35=1,IF(②選手情報入力!$S$6=\"\",\"\",②選手情報入力!$S$6),IF(②選手情報入力!$S$7=\"\",\"\",②選手情報入力!$S$7))))","v":""},{"$f":"IF(E35=\"\",\"\",IF(②選手情報入力!R44=\"\",\"\",IF(I35=1,IF(②選手情報入力!$R$6=\"\",0,1),IF(②選手情報入力!$R$7=\"\",0,1))))","v":""},{"$f":"IF(E35=\"\",\"\",IF(②選手情報入力!R44=\"\",\"\",2))","v":""},{"$f":"IF(E35=\"\",\"\",IF(②選手情報入力!T44=\"\",\"\",IF(I35=1,種目情報!$J$5,種目情報!$J$7)))","v":""},{"$f":"IF(E35=\"\",\"\",IF(②選手情報入力!T44=\"\",\"\",IF(I35=1,IF(②選手情報入力!$U$6=\"\",\"\",②選手情報入力!$U$6),IF(②選手情報入力!$U$7=\"\",\"\",②選手情報入力!$U$7))))","v":""},{"$f":"IF(E35=\"\",\"\",IF(②選手情報入力!T44=\"\",\"\",IF(I35=1,IF(②選手情報入力!$T$6=\"\",0,1),IF(②選手情報入力!$T$7=\"\",0,1))))","v":""},{"$f":"IF(E35=\"\",\"\",IF(②選手情報入力!T44=\"\",\"\",2))","v":""}]
[{"$f":"IF(E36=\"\",\"\",Sheet1!A35)","v":""},{"$f":"IF(E36=\"\",\"\",①団体情報入力!$C$4)","v":""},null,{"$f":"IF(②選手情報入力!B45=\"\",\"\",②選手情報入力!B45)","v":""},{"$f":"IF(②選手情報入力!C45=\"\",\"\",②選手情報入力!C45)","v":""},{"$f":"IF(E36=\"\",\"\",②選手情報入力!D45)","v":""},{"$f":"IF(E36=\"\",\"\",ASC(②選手情報入力!E45))","v":""},"",{"$f":"IF(E36=\"\",\"\",IF(②選手情報入力!G45=\"男\",1,2))","v":""},{"$f":"IF(E36=\"\",\"\",IF(②選手情報入力!H45=\"\",\"\",②選手情報入力!H45))","v":""},null,null,"",null,{"$f":"IF(E36=\"\",\"\",IF(②選手情報入力!J45=\"\",\"\",IF(I36=1,VLOOKUP(②選手情報入力!J45,種目情報!$A$4:$B$32,2,FALSE),VLOOKUP(②選手情報入力!J45,種目情報!$E$4:$F$34,2,FALSE))))","v":""},{"$f":"IF(E36=\"\",\"\",IF(②選手情報入力!K45=\"\",\"\",②選手情報入力!K45))","v":""},{"$f":"IF(E36=\"\",\"\",IF(②選手情報入力!I45=\"\",\"\",1))","v":""},{"$f":"IF(E36=\"\",\"\",IF(②選手情報入力!J45=\"\",\"\",IF(I36=1,VLOOKUP(②選手情報入力!J45,種目情報!$A$4:$C$36,3,FALSE),VLOOKUP(②選手情報入力!J45,種目情報!$E$4:$G$39,3,FALSE))))","v":""},{"$f":"IF(E36=\"\",\"\",IF(②選手情報入力!M45=\"\",\"\",IF(I36=1,VLOOKUP(②選手情報入力!M45,種目情報!$A$4:$B$36,2,FALSE),VLOOKUP(②選手情報入力!M45,種目情報!$E$4:$F$39,2,FALSE))))","v":""},{"$f":"IF(E36=\"\",\"\",IF(②選手情報入力!N45=\"\",\"\",②選手情報入力!N45))","v":""},{"$f":"IF(E36=\"\",\"\",IF(②選手情報入力!L45=\"\",\"\",1))","v":""},{"$f":"IF(E36=\"\",\"\",IF(②選手情報入力!M45=\"\",\"\",IF(I36=1,VLOOKUP(②選手情報入力!M45,種目情報!$A$4:$C$36,3,FALSE),VLOOKUP(②選手情報入力!M45,種目情報!$E$4:$G$39,3,FALSE))))","v":""},{"$f":"IF(E36=\"\",\"\",IF(②選手情報入力!P45=\"\",\"\",IF(I36=1,VLOOKUP(②選手情報入力!P45,種目情報!$A$4:$B$36,2,FALSE),VLOOKUP(②選手情報入力!P45,種目情報!$E$4:$F$39,2,FALSE))))","v":""},{"$f":"IF(E36=\"\",\"\",IF(②選手情報入力!Q45=\"\",\"\",②選手情報入力!Q45))","v":""},{"$f":"IF(E36=\"\",\"\",IF(②選手情報入力!O45=\"\",\"\",1))","v":""},{"$f":"IF(E36=\"\",\"\",IF(②選手情報入力!P45=\"\",\"\",IF(I36=1,VLOOKUP(②選手情報入力!P45,種目情報!$A$4:$C$36,3,FALSE),VLOOKUP(②選手情報入力!P45,種目情報!$E$4:$G$39,3,FALSE))))","v":""},{"$f":"IF(E36=\"\",\"\",IF(②選手情報入力!R45=\"\",\"\",IF(I36=1,種目情報!$J$4,種目情報!$J$6)))","v":""},{"$f":"IF(E36=\"\",\"\",IF(②選手情報入力!R45=\"\",\"\",IF(I36=1,IF(②選手情報入力!$S$6=\"\",\"\",②選手情報入力!$S$6),IF(②選手情報入力!$S$7=\"\",\"\",②選手情報入力!$S$7))))","v":""},{"$f":"IF(E36=\"\",\"\",IF(②選手情報入力!R45=\"\",\"\",IF(I36=1,IF(②選手情報入力!$R$6=\"\",0,1),IF(②選手情報入力!$R$7=\"\",0,1))))","v":""},{"$f":"IF(E36=\"\",\"\",IF(②選手情報入力!R45=\"\",\"\",2))","v":""},{"$f":"IF(E36=\"\",\"\",IF(②選手情報入力!T45=\"\",\"\",IF(I36=1,種目情報!$J$5,種目情報!$J$7)))","v":""},{"$f":"IF(E36=\"\",\"\",IF(②選手情報入力!T45=\"\",\"\",IF(I36=1,IF(②選手情報入力!$U$6=\"\",\"\",②選手情報入力!$U$6),IF(②選手情報入力!$U$7=\"\",\"\",②選手情報入力!$U$7))))","v":""},{"$f":"IF(E36=\"\",\"\",IF(②選手情報入力!T45=\"\",\"\",IF(I36=1,IF(②選手情報入力!$T$6=\"\",0,1),IF(②選手情報入力!$T$7=\"\",0,1))))","v":""},{"$f":"IF(E36=\"\",\"\",IF(②選手情報入力!T45=\"\",\"\",2))","v":""}]
[{"$f":"IF(E37=\"\",\"\",Sheet1!A36)","v":""},{"$f":"IF(E37=\"\",\"\",①団体情報入力!$C$4)","v":""},null,{"$f":"IF(②選手情報入力!B46=\"\",\"\",②選手情報入力!B46)","v":""},{"$f":"IF(②選手情報入力!C46=\"\",\"\",②選手情報入力!C46)","v":""},{"$f":"IF(E37=\"\",\"\",②選手情報入力!D46)","v":""},{"$f":"IF(E37=\"\",\"\",ASC(②選手情報入力!E46))","v":""},"",{"$f":"IF(E37=\"\",\"\",IF(②選手情報入力!G46=\"男\",1,2))","v":""},{"$f":"IF(E37=\"\",\"\",IF(②選手情報入力!H46=\"\",\"\",②選手情報入力!H46))","v":""},null,null,"",null,{"$f":"IF(E37=\"\",\"\",IF(②選手情報入力!J46=\"\",\"\",IF(I37=1,VLOOKUP(②選手情報入力!J46,種目情報!$A$4:$B$32,2,FALSE),VLOOKUP(②選手情報入力!J46,種目情報!$E$4:$F$34,2,FALSE))))","v":""},{"$f":"IF(E37=\"\",\"\",IF(②選手情報入力!K46=\"\",\"\",②選手情報入力!K46))","v":""},{"$f":"IF(E37=\"\",\"\",IF(②選手情報入力!I46=\"\",\"\",1))","v":""},{"$f":"IF(E37=\"\",\"\",IF(②選手情報入力!J46=\"\",\"\",IF(I37=1,VLOOKUP(②選手情報入力!J46,種目情報!$A$4:$C$36,3,FALSE),VLOOKUP(②選手情報入力!J46,種目情報!$E$4:$G$39,3,FALSE))))","v":""},{"$f":"IF(E37=\"\",\"\",IF(②選手情報入力!M46=\"\",\"\",IF(I37=1,VLOOKUP(②選手情報入力!M46,種目情報!$A$4:$B$36,2,FALSE),VLOOKUP(②選手情報入力!M46,種目情報!$E$4:$F$39,2,FALSE))))","v":""},{"$f":"IF(E37=\"\",\"\",IF(②選手情報入力!N46=\"\",\"\",②選手情報入力!N46))","v":""},{"$f":"IF(E37=\"\",\"\",IF(②選手情報入力!L46=\"\",\"\",1))","v":""},{"$f":"IF(E37=\"\",\"\",IF(②選手情報入力!M46=\"\",\"\",IF(I37=1,VLOOKUP(②選手情報入力!M46,種目情報!$A$4:$C$36,3,FALSE),VLOOKUP(②選手情報入力!M46,種目情報!$E$4:$G$39,3,FALSE))))","v":""},{"$f":"IF(E37=\"\",\"\",IF(②選手情報入力!P46=\"\",\"\",IF(I37=1,VLOOKUP(②選手情報入力!P46,種目情報!$A$4:$B$36,2,FALSE),VLOOKUP(②選手情報入力!P46,種目情報!$E$4:$F$39,2,FALSE))))","v":""},{"$f":"IF(E37=\"\",\"\",IF(②選手情報入力!Q46=\"\",\"\",②選手情報入力!Q46))","v":""},{"$f":"IF(E37=\"\",\"\",IF(②選手情報入力!O46=\"\",\"\",1))","v":""},{"$f":"IF(E37=\"\",\"\",IF(②選手情報入力!P46=\"\",\"\",IF(I37=1,VLOOKUP(②選手情報入力!P46,種目情報!$A$4:$C$36,3,FALSE),VLOOKUP(②選手情報入力!P46,種目情報!$E$4:$G$39,3,FALSE))))","v":""},{"$f":"IF(E37=\"\",\"\",IF(②選手情報入力!R46=\"\",\"\",IF(I37=1,種目情報!$J$4,種目情報!$J$6)))","v":""},{"$f":"IF(E37=\"\",\"\",IF(②選手情報入力!R46=\"\",\"\",IF(I37=1,IF(②選手情報入力!$S$6=\"\",\"\",②選手情報入力!$S$6),IF(②選手情報入力!$S$7=\"\",\"\",②選手情報入力!$S$7))))","v":""},{"$f":"IF(E37=\"\",\"\",IF(②選手情報入力!R46=\"\",\"\",IF(I37=1,IF(②選手情報入力!$R$6=\"\",0,1),IF(②選手情報入力!$R$7=\"\",0,1))))","v":""},{"$f":"IF(E37=\"\",\"\",IF(②選手情報入力!R46=\"\",\"\",2))","v":""},{"$f":"IF(E37=\"\",\"\",IF(②選手情報入力!T46=\"\",\"\",IF(I37=1,種目情報!$J$5,種目情報!$J$7)))","v":""},{"$f":"IF(E37=\"\",\"\",IF(②選手情報入力!T46=\"\",\"\",IF(I37=1,IF(②選手情報入力!$U$6=\"\",\"\",②選手情報入力!$U$6),IF(②選手情報入力!$U$7=\"\",\"\",②選手情報入力!$U$7))))","v":""},{"$f":"IF(E37=\"\",\"\",IF(②選手情報入力!T46=\"\",\"\",IF(I37=1,IF(②選手情報入力!$T$6=\"\",0,1),IF(②選手情報入力!$T$7=\"\",0,1))))","v":""},{"$f":"IF(E37=\"\",\"\",IF(②選手情報入力!T46=\"\",\"\",2))","v":""}]
[{"$f":"IF(E38=\"\",\"\",Sheet1!A37)","v":""},{"$f":"IF(E38=\"\",\"\",①団体情報入力!$C$4)","v":""},null,{"$f":"IF(②選手情報入力!B47=\"\",\"\",②選手情報入力!B47)","v":""},{"$f":"IF(②選手情報入力!C47=\"\",\"\",②選手情報入力!C47)","v":""},{"$f":"IF(E38=\"\",\"\",②選手情報入力!D47)","v":""},{"$f":"IF(E38=\"\",\"\",ASC(②選手情報入力!E47))","v":""},"",{"$f":"IF(E38=\"\",\"\",IF(②選手情報入力!G47=\"男\",1,2))","v":""},{"$f":"IF(E38=\"\",\"\",IF(②選手情報入力!H47=\"\",\"\",②選手情報入力!H47))","v":""},null,null,"",null,{"$f":"IF(E38=\"\",\"\",IF(②選手情報入力!J47=\"\",\"\",IF(I38=1,VLOOKUP(②選手情報入力!J47,種目情報!$A$4:$B$32,2,FALSE),VLOOKUP(②選手情報入力!J47,種目情報!$E$4:$F$34,2,FALSE))))","v":""},{"$f":"IF(E38=\"\",\"\",IF(②選手情報入力!K47=\"\",\"\",②選手情報入力!K47))","v":""},{"$f":"IF(E38=\"\",\"\",IF(②選手情報入力!I47=\"\",\"\",1))","v":""},{"$f":"IF(E38=\"\",\"\",IF(②選手情報入力!J47=\"\",\"\",IF(I38=1,VLOOKUP(②選手情報入力!J47,種目情報!$A$4:$C$36,3,FALSE),VLOOKUP(②選手情報入力!J47,種目情報!$E$4:$G$39,3,FALSE))))","v":""},{"$f":"IF(E38=\"\",\"\",IF(②選手情報入力!M47=\"\",\"\",IF(I38=1,VLOOKUP(②選手情報入力!M47,種目情報!$A$4:$B$36,2,FALSE),VLOOKUP(②選手情報入力!M47,種目情報!$E$4:$F$39,2,FALSE))))","v":""},{"$f":"IF(E38=\"\",\"\",IF(②選手情報入力!N47=\"\",\"\",②選手情報入力!N47))","v":""},{"$f":"IF(E38=\"\",\"\",IF(②選手情報入力!L47=\"\",\"\",1))","v":""},{"$f":"IF(E38=\"\",\"\",IF(②選手情報入力!M47=\"\",\"\",IF(I38=1,VLOOKUP(②選手情報入力!M47,種目情報!$A$4:$C$36,3,FALSE),VLOOKUP(②選手情報入力!M47,種目情報!$E$4:$G$39,3,FALSE))))","v":""},{"$f":"IF(E38=\"\",\"\",IF(②選手情報入力!P47=\"\",\"\",IF(I38=1,VLOOKUP(②選手情報入力!P47,種目情報!$A$4:$B$36,2,FALSE),VLOOKUP(②選手情報入力!P47,種目情報!$E$4:$F$39,2,FALSE))))","v":""},{"$f":"IF(E38=\"\",\"\",IF(②選手情報入力!Q47=\"\",\"\",②選手情報入力!Q47))","v":""},{"$f":"IF(E38=\"\",\"\",IF(②選手情報入力!O47=\"\",\"\",1))","v":""},{"$f":"IF(E38=\"\",\"\",IF(②選手情報入力!P47=\"\",\"\",IF(I38=1,VLOOKUP(②選手情報入力!P47,種目情報!$A$4:$C$36,3,FALSE),VLOOKUP(②選手情報入力!P47,種目情報!$E$4:$G$39,3,FALSE))))","v":""},{"$f":"IF(E38=\"\",\"\",IF(②選手情報入力!R47=\"\",\"\",IF(I38=1,種目情報!$J$4,種目情報!$J$6)))","v":""},{"$f":"IF(E38=\"\",\"\",IF(②選手情報入力!R47=\"\",\"\",IF(I38=1,IF(②選手情報入力!$S$6=\"\",\"\",②選手情報入力!$S$6),IF(②選手情報入力!$S$7=\"\",\"\",②選手情報入力!$S$7))))","v":""},{"$f":"IF(E38=\"\",\"\",IF(②選手情報入力!R47=\"\",\"\",IF(I38=1,IF(②選手情報入力!$R$6=\"\",0,1),IF(②選手情報入力!$R$7=\"\",0,1))))","v":""},{"$f":"IF(E38=\"\",\"\",IF(②選手情報入力!R47=\"\",\"\",2))","v":""},{"$f":"IF(E38=\"\",\"\",IF(②選手情報入力!T47=\"\",\"\",IF(I38=1,種目情報!$J$5,種目情報!$J$7)))","v":""},{"$f":"IF(E38=\"\",\"\",IF(②選手情報入力!T47=\"\",\"\",IF(I38=1,IF(②選手情報入力!$U$6=\"\",\"\",②選手情報入力!$U$6),IF(②選手情報入力!$U$7=\"\",\"\",②選手情報入力!$U$7))))","v":""},{"$f":"IF(E38=\"\",\"\",IF(②選手情報入力!T47=\"\",\"\",IF(I38=1,IF(②選手情報入力!$T$6=\"\",0,1),IF(②選手情報入力!$T$7=\"\",0,1))))","v":""},{"$f":"IF(E38=\"\",\"\",IF(②選手情報入力!T47=\"\",\"\",2))","v":""}]
[{"$f":"IF(E39=\"\",\"\",Sheet1!A38)","v":""},{"$f":"IF(E39=\"\",\"\",①団体情報入力!$C$4)","v":""},null,{"$f":"IF(②選手情報入力!B48=\"\",\"\",②選手情報入力!B48)","v":""},{"$f":"IF(②選手情報入力!C48=\"\",\"\",②選手情報入力!C48)","v":""},{"$f":"IF(E39=\"\",\"\",②選手情報入力!D48)","v":""},{"$f":"IF(E39=\"\",\"\",ASC(②選手情報入力!E48))","v":""},"",{"$f":"IF(E39=\"\",\"\",IF(②選手情報入力!G48=\"男\",1,2))","v":""},{"$f":"IF(E39=\"\",\"\",IF(②選手情報入力!H48=\"\",\"\",②選手情報入力!H48))","v":""},null,null,"",null,{"$f":"IF(E39=\"\",\"\",IF(②選手情報入力!J48=\"\",\"\",IF(I39=1,VLOOKUP(②選手情報入力!J48,種目情報!$A$4:$B$32,2,FALSE),VLOOKUP(②選手情報入力!J48,種目情報!$E$4:$F$34,2,FALSE))))","v":""},{"$f":"IF(E39=\"\",\"\",IF(②選手情報入力!K48=\"\",\"\",②選手情報入力!K48))","v":""},{"$f":"IF(E39=\"\",\"\",IF(②選手情報入力!I48=\"\",\"\",1))","v":""},{"$f":"IF(E39=\"\",\"\",IF(②選手情報入力!J48=\"\",\"\",IF(I39=1,VLOOKUP(②選手情報入力!J48,種目情報!$A$4:$C$36,3,FALSE),VLOOKUP(②選手情報入力!J48,種目情報!$E$4:$G$39,3,FALSE))))","v":""},{"$f":"IF(E39=\"\",\"\",IF(②選手情報入力!M48=\"\",\"\",IF(I39=1,VLOOKUP(②選手情報入力!M48,種目情報!$A$4:$B$36,2,FALSE),VLOOKUP(②選手情報入力!M48,種目情報!$E$4:$F$39,2,FALSE))))","v":""},{"$f":"IF(E39=\"\",\"\",IF(②選手情報入力!N48=\"\",\"\",②選手情報入力!N48))","v":""},{"$f":"IF(E39=\"\",\"\",IF(②選手情報入力!L48=\"\",\"\",1))","v":""},{"$f":"IF(E39=\"\",\"\",IF(②選手情報入力!M48=\"\",\"\",IF(I39=1,VLOOKUP(②選手情報入力!M48,種目情報!$A$4:$C$36,3,FALSE),VLOOKUP(②選手情報入力!M48,種目情報!$E$4:$G$39,3,FALSE))))","v":""},{"$f":"IF(E39=\"\",\"\",IF(②選手情報入力!P48=\"\",\"\",IF(I39=1,VLOOKUP(②選手情報入力!P48,種目情報!$A$4:$B$36,2,FALSE),VLOOKUP(②選手情報入力!P48,種目情報!$E$4:$F$39,2,FALSE))))","v":""},{"$f":"IF(E39=\"\",\"\",IF(②選手情報入力!Q48=\"\",\"\",②選手情報入力!Q48))","v":""},{"$f":"IF(E39=\"\",\"\",IF(②選手情報入力!O48=\"\",\"\",1))","v":""},{"$f":"IF(E39=\"\",\"\",IF(②選手情報入力!P48=\"\",\"\",IF(I39=1,VLOOKUP(②選手情報入力!P48,種目情報!$A$4:$C$36,3,FALSE),VLOOKUP(②選手情報入力!P48,種目情報!$E$4:$G$39,3,FALSE))))","v":""},{"$f":"IF(E39=\"\",\"\",IF(②選手情報入力!R48=\"\",\"\",IF(I39=1,種目情報!$J$4,種目情報!$J$6)))","v":""},{"$f":"IF(E39=\"\",\"\",IF(②選手情報入力!R48=\"\",\"\",IF(I39=1,IF(②選手情報入力!$S$6=\"\",\"\",②選手情報入力!$S$6),IF(②選手情報入力!$S$7=\"\",\"\",②選手情報入力!$S$7))))","v":""},{"$f":"IF(E39=\"\",\"\",IF(②選手情報入力!R48=\"\",\"\",IF(I39=1,IF(②選手情報入力!$R$6=\"\",0,1),IF(②選手情報入力!$R$7=\"\",0,1))))","v":""},{"$f":"IF(E39=\"\",\"\",IF(②選手情報入力!R48=\"\",\"\",2))","v":""},{"$f":"IF(E39=\"\",\"\",IF(②選手情報入力!T48=\"\",\"\",IF(I39=1,種目情報!$J$5,種目情報!$J$7)))","v":""},{"$f":"IF(E39=\"\",\"\",IF(②選手情報入力!T48=\"\",\"\",IF(I39=1,IF(②選手情報入力!$U$6=\"\",\"\",②選手情報入力!$U$6),IF(②選手情報入力!$U$7=\"\",\"\",②選手情報入力!$U$7))))","v":""},{"$f":"IF(E39=\"\",\"\",IF(②選手情報入力!T48=\"\",\"\",IF(I39=1,IF(②選手情報入力!$T$6=\"\",0,1),IF(②選手情報入力!$T$7=\"\",0,1))))","v":""},{"$f":"IF(E39=\"\",\"\",IF(②選手情報入力!T48=\"\",\"\",2))","v":""}]
[{"$f":"IF(E40=\"\",\"\",Sheet1!A39)","v":""},{"$f":"IF(E40=\"\",\"\",①団体情報入力!$C$4)","v":""},null,{"$f":"IF(②選手情報入力!B49=\"\",\"\",②選手情報入力!B49)","v":""},{"$f":"IF(②選手情報入力!C49=\"\",\"\",②選手情報入力!C49)","v":""},{"$f":"IF(E40=\"\",\"\",②選手情報入力!D49)","v":""},{"$f":"IF(E40=\"\",\"\",ASC(②選手情報入力!E49))","v":""},"",{"$f":"IF(E40=\"\",\"\",IF(②選手情報入力!G49=\"男\",1,2))","v":""},{"$f":"IF(E40=\"\",\"\",IF(②選手情報入力!H49=\"\",\"\",②選手情報入力!H49))","v":""},null,null,"",null,{"$f":"IF(E40=\"\",\"\",IF(②選手情報入力!J49=\"\",\"\",IF(I40=1,VLOOKUP(②選手情報入力!J49,種目情報!$A$4:$B$32,2,FALSE),VLOOKUP(②選手情報入力!J49,種目情報!$E$4:$F$34,2,FALSE))))","v":""},{"$f":"IF(E40=\"\",\"\",IF(②選手情報入力!K49=\"\",\"\",②選手情報入力!K49))","v":""},{"$f":"IF(E40=\"\",\"\",IF(②選手情報入力!I49=\"\",\"\",1))","v":""},{"$f":"IF(E40=\"\",\"\",IF(②選手情報入力!J49=\"\",\"\",IF(I40=1,VLOOKUP(②選手情報入力!J49,種目情報!$A$4:$C$36,3,FALSE),VLOOKUP(②選手情報入力!J49,種目情報!$E$4:$G$39,3,FALSE))))","v":""},{"$f":"IF(E40=\"\",\"\",IF(②選手情報入力!M49=\"\",\"\",IF(I40=1,VLOOKUP(②選手情報入力!M49,種目情報!$A$4:$B$36,2,FALSE),VLOOKUP(②選手情報入力!M49,種目情報!$E$4:$F$39,2,FALSE))))","v":""},{"$f":"IF(E40=\"\",\"\",IF(②選手情報入力!N49=\"\",\"\",②選手情報入力!N49))","v":""},{"$f":"IF(E40=\"\",\"\",IF(②選手情報入力!L49=\"\",\"\",1))","v":""},{"$f":"IF(E40=\"\",\"\",IF(②選手情報入力!M49=\"\",\"\",IF(I40=1,VLOOKUP(②選手情報入力!M49,種目情報!$A$4:$C$36,3,FALSE),VLOOKUP(②選手情報入力!M49,種目情報!$E$4:$G$39,3,FALSE))))","v":""},{"$f":"IF(E40=\"\",\"\",IF(②選手情報入力!P49=\"\",\"\",IF(I40=1,VLOOKUP(②選手情報入力!P49,種目情報!$A$4:$B$36,2,FALSE),VLOOKUP(②選手情報入力!P49,種目情報!$E$4:$F$39,2,FALSE))))","v":""},{"$f":"IF(E40=\"\",\"\",IF(②選手情報入力!Q49=\"\",\"\",②選手情報入力!Q49))","v":""},{"$f":"IF(E40=\"\",\"\",IF(②選手情報入力!O49=\"\",\"\",1))","v":""},{"$f":"IF(E40=\"\",\"\",IF(②選手情報入力!P49=\"\",\"\",IF(I40=1,VLOOKUP(②選手情報入力!P49,種目情報!$A$4:$C$36,3,FALSE),VLOOKUP(②選手情報入力!P49,種目情報!$E$4:$G$39,3,FALSE))))","v":""},{"$f":"IF(E40=\"\",\"\",IF(②選手情報入力!R49=\"\",\"\",IF(I40=1,種目情報!$J$4,種目情報!$J$6)))","v":""},{"$f":"IF(E40=\"\",\"\",IF(②選手情報入力!R49=\"\",\"\",IF(I40=1,IF(②選手情報入力!$S$6=\"\",\"\",②選手情報入力!$S$6),IF(②選手情報入力!$S$7=\"\",\"\",②選手情報入力!$S$7))))","v":""},{"$f":"IF(E40=\"\",\"\",IF(②選手情報入力!R49=\"\",\"\",IF(I40=1,IF(②選手情報入力!$R$6=\"\",0,1),IF(②選手情報入力!$R$7=\"\",0,1))))","v":""},{"$f":"IF(E40=\"\",\"\",IF(②選手情報入力!R49=\"\",\"\",2))","v":""},{"$f":"IF(E40=\"\",\"\",IF(②選手情報入力!T49=\"\",\"\",IF(I40=1,種目情報!$J$5,種目情報!$J$7)))","v":""},{"$f":"IF(E40=\"\",\"\",IF(②選手情報入力!T49=\"\",\"\",IF(I40=1,IF(②選手情報入力!$U$6=\"\",\"\",②選手情報入力!$U$6),IF(②選手情報入力!$U$7=\"\",\"\",②選手情報入力!$U$7))))","v":""},{"$f":"IF(E40=\"\",\"\",IF(②選手情報入力!T49=\"\",\"\",IF(I40=1,IF(②選手情報入力!$T$6=\"\",0,1),IF(②選手情報入力!$T$7=\"\",0,1))))","v":""},{"$f":"IF(E40=\"\",\"\",IF(②選手情報入力!T49=\"\",\"\",2))","v":""}]
[{"$f":"IF(E41=\"\",\"\",Sheet1!A40)","v":""},{"$f":"IF(E41=\"\",\"\",①団体情報入力!$C$4)","v":""},null,{"$f":"IF(②選手情報入力!B50=\"\",\"\",②選手情報入力!B50)","v":""},{"$f":"IF(②選手情報入力!C50=\"\",\"\",②選手情報入力!C50)","v":""},{"$f":"IF(E41=\"\",\"\",②選手情報入力!D50)","v":""},{"$f":"IF(E41=\"\",\"\",ASC(②選手情報入力!E50))","v":""},"",{"$f":"IF(E41=\"\",\"\",IF(②選手情報入力!G50=\"男\",1,2))","v":""},{"$f":"IF(E41=\"\",\"\",IF(②選手情報入力!H50=\"\",\"\",②選手情報入力!H50))","v":""},null,null,"",null,{"$f":"IF(E41=\"\",\"\",IF(②選手情報入力!J50=\"\",\"\",IF(I41=1,VLOOKUP(②選手情報入力!J50,種目情報!$A$4:$B$32,2,FALSE),VLOOKUP(②選手情報入力!J50,種目情報!$E$4:$F$34,2,FALSE))))","v":""},{"$f":"IF(E41=\"\",\"\",IF(②選手情報入力!K50=\"\",\"\",②選手情報入力!K50))","v":""},{"$f":"IF(E41=\"\",\"\",IF(②選手情報入力!I50=\"\",\"\",1))","v":""},{"$f":"IF(E41=\"\",\"\",IF(②選手情報入力!J50=\"\",\"\",IF(I41=1,VLOOKUP(②選手情報入力!J50,種目情報!$A$4:$C$36,3,FALSE),VLOOKUP(②選手情報入力!J50,種目情報!$E$4:$G$39,3,FALSE))))","v":""},{"$f":"IF(E41=\"\",\"\",IF(②選手情報入力!M50=\"\",\"\",IF(I41=1,VLOOKUP(②選手情報入力!M50,種目情報!$A$4:$B$36,2,FALSE),VLOOKUP(②選手情報入力!M50,種目情報!$E$4:$F$39,2,FALSE))))","v":""},{"$f":"IF(E41=\"\",\"\",IF(②選手情報入力!N50=\"\",\"\",②選手情報入力!N50))","v":""},{"$f":"IF(E41=\"\",\"\",IF(②選手情報入力!L50=\"\",\"\",1))","v":""},{"$f":"IF(E41=\"\",\"\",IF(②選手情報入力!M50=\"\",\"\",IF(I41=1,VLOOKUP(②選手情報入力!M50,種目情報!$A$4:$C$36,3,FALSE),VLOOKUP(②選手情報入力!M50,種目情報!$E$4:$G$39,3,FALSE))))","v":""},{"$f":"IF(E41=\"\",\"\",IF(②選手情報入力!P50=\"\",\"\",IF(I41=1,VLOOKUP(②選手情報入力!P50,種目情報!$A$4:$B$36,2,FALSE),VLOOKUP(②選手情報入力!P50,種目情報!$E$4:$F$39,2,FALSE))))","v":""},{"$f":"IF(E41=\"\",\"\",IF(②選手情報入力!Q50=\"\",\"\",②選手情報入力!Q50))","v":""},{"$f":"IF(E41=\"\",\"\",IF(②選手情報入力!O50=\"\",\"\",1))","v":""},{"$f":"IF(E41=\"\",\"\",IF(②選手情報入力!P50=\"\",\"\",IF(I41=1,VLOOKUP(②選手情報入力!P50,種目情報!$A$4:$C$36,3,FALSE),VLOOKUP(②選手情報入力!P50,種目情報!$E$4:$G$39,3,FALSE))))","v":""},{"$f":"IF(E41=\"\",\"\",IF(②選手情報入力!R50=\"\",\"\",IF(I41=1,種目情報!$J$4,種目情報!$J$6)))","v":""},{"$f":"IF(E41=\"\",\"\",IF(②選手情報入力!R50=\"\",\"\",IF(I41=1,IF(②選手情報入力!$S$6=\"\",\"\",②選手情報入力!$S$6),IF(②選手情報入力!$S$7=\"\",\"\",②選手情報入力!$S$7))))","v":""},{"$f":"IF(E41=\"\",\"\",IF(②選手情報入力!R50=\"\",\"\",IF(I41=1,IF(②選手情報入力!$R$6=\"\",0,1),IF(②選手情報入力!$R$7=\"\",0,1))))","v":""},{"$f":"IF(E41=\"\",\"\",IF(②選手情報入力!R50=\"\",\"\",2))","v":""},{"$f":"IF(E41=\"\",\"\",IF(②選手情報入力!T50=\"\",\"\",IF(I41=1,種目情報!$J$5,種目情報!$J$7)))","v":""},{"$f":"IF(E41=\"\",\"\",IF(②選手情報入力!T50=\"\",\"\",IF(I41=1,IF(②選手情報入力!$U$6=\"\",\"\",②選手情報入力!$U$6),IF(②選手情報入力!$U$7=\"\",\"\",②選手情報入力!$U$7))))","v":""},{"$f":"IF(E41=\"\",\"\",IF(②選手情報入力!T50=\"\",\"\",IF(I41=1,IF(②選手情報入力!$T$6=\"\",0,1),IF(②選手情報入力!$T$7=\"\",0,1))))","v":""},{"$f":"IF(E41=\"\",\"\",IF(②選手情報入力!T50=\"\",\"\",2))","v":""}]
[{"$f":"IF(E42=\"\",\"\",Sheet1!A41)","v":""},{"$f":"IF(E42=\"\",\"\",①団体情報入力!$C$4)","v":""},null,{"$f":"IF(②選手情報入力!B51=\"\",\"\",②選手情報入力!B51)","v":""},{"$f":"IF(②選手情報入力!C51=\"\",\"\",②選手情報入力!C51)","v":""},{"$f":"IF(E42=\"\",\"\",②選手情報入力!D51)","v":""},{"$f":"IF(E42=\"\",\"\",ASC(②選手情報入力!E51))","v":""},"",{"$f":"IF(E42=\"\",\"\",IF(②選手情報入力!G51=\"男\",1,2))","v":""},{"$f":"IF(E42=\"\",\"\",IF(②選手情報入力!H51=\"\",\"\",②選手情報入力!H51))","v":""},null,null,"",null,{"$f":"IF(E42=\"\",\"\",IF(②選手情報入力!J51=\"\",\"\",IF(I42=1,VLOOKUP(②選手情報入力!J51,種目情報!$A$4:$B$32,2,FALSE),VLOOKUP(②選手情報入力!J51,種目情報!$E$4:$F$34,2,FALSE))))","v":""},{"$f":"IF(E42=\"\",\"\",IF(②選手情報入力!K51=\"\",\"\",②選手情報入力!K51))","v":""},{"$f":"IF(E42=\"\",\"\",IF(②選手情報入力!I51=\"\",\"\",1))","v":""},{"$f":"IF(E42=\"\",\"\",IF(②選手情報入力!J51=\"\",\"\",IF(I42=1,VLOOKUP(②選手情報入力!J51,種目情報!$A$4:$C$36,3,FALSE),VLOOKUP(②選手情報入力!J51,種目情報!$E$4:$G$39,3,FALSE))))","v":""},{"$f":"IF(E42=\"\",\"\",IF(②選手情報入力!M51=\"\",\"\",IF(I42=1,VLOOKUP(②選手情報入力!M51,種目情報!$A$4:$B$36,2,FALSE),VLOOKUP(②選手情報入力!M51,種目情報!$E$4:$F$39,2,FALSE))))","v":""},{"$f":"IF(E42=\"\",\"\",IF(②選手情報入力!N51=\"\",\"\",②選手情報入力!N51))","v":""},{"$f":"IF(E42=\"\",\"\",IF(②選手情報入力!L51=\"\",\"\",1))","v":""},{"$f":"IF(E42=\"\",\"\",IF(②選手情報入力!M51=\"\",\"\",IF(I42=1,VLOOKUP(②選手情報入力!M51,種目情報!$A$4:$C$36,3,FALSE),VLOOKUP(②選手情報入力!M51,種目情報!$E$4:$G$39,3,FALSE))))","v":""},{"$f":"IF(E42=\"\",\"\",IF(②選手情報入力!P51=\"\",\"\",IF(I42=1,VLOOKUP(②選手情報入力!P51,種目情報!$A$4:$B$36,2,FALSE),VLOOKUP(②選手情報入力!P51,種目情報!$E$4:$F$39,2,FALSE))))","v":""},{"$f":"IF(E42=\"\",\"\",IF(②選手情報入力!Q51=\"\",\"\",②選手情報入力!Q51))","v":""},{"$f":"IF(E42=\"\",\"\",IF(②選手情報入力!O51=\"\",\"\",1))","v":""},{"$f":"IF(E42=\"\",\"\",IF(②選手情報入力!P51=\"\",\"\",IF(I42=1,VLOOKUP(②選手情報入力!P51,種目情報!$A$4:$C$36,3,FALSE),VLOOKUP(②選手情報入力!P51,種目情報!$E$4:$G$39,3,FALSE))))","v":""},{"$f":"IF(E42=\"\",\"\",IF(②選手情報入力!R51=\"\",\"\",IF(I42=1,種目情報!$J$4,種目情報!$J$6)))","v":""},{"$f":"IF(E42=\"\",\"\",IF(②選手情報入力!R51=\"\",\"\",IF(I42=1,IF(②選手情報入力!$S$6=\"\",\"\",②選手情報入力!$S$6),IF(②選手情報入力!$S$7=\"\",\"\",②選手情報入力!$S$7))))","v":""},{"$f":"IF(E42=\"\",\"\",IF(②選手情報入力!R51=\"\",\"\",IF(I42=1,IF(②選手情報入力!$R$6=\"\",0,1),IF(②選手情報入力!$R$7=\"\",0,1))))","v":""},{"$f":"IF(E42=\"\",\"\",IF(②選手情報入力!R51=\"\",\"\",2))","v":""},{"$f":"IF(E42=\"\",\"\",IF(②選手情報入力!T51=\"\",\"\",IF(I42=1,種目情報!$J$5,種目情報!$J$7)))","v":""},{"$f":"IF(E42=\"\",\"\",IF(②選手情報入力!T51=\"\",\"\",IF(I42=1,IF(②選手情報入力!$U$6=\"\",\"\",②選手情報入力!$U$6),IF(②選手情報入力!$U$7=\"\",\"\",②選手情報入力!$U$7))))","v":""},{"$f":"IF(E42=\"\",\"\",IF(②選手情報入力!T51=\"\",\"\",IF(I42=1,IF(②選手情報入力!$T$6=\"\",0,1),IF(②選手情報入力!$T$7=\"\",0,1))))","v":""},{"$f":"IF(E42=\"\",\"\",IF(②選手情報入力!T51=\"\",\"\",2))","v":""}]
[{"$f":"IF(E43=\"\",\"\",Sheet1!A42)","v":""},{"$f":"IF(E43=\"\",\"\",①団体情報入力!$C$4)","v":""},null,{"$f":"IF(②選手情報入力!B52=\"\",\"\",②選手情報入力!B52)","v":""},{"$f":"IF(②選手情報入力!C52=\"\",\"\",②選手情報入力!C52)","v":""},{"$f":"IF(E43=\"\",\"\",②選手情報入力!D52)","v":""},{"$f":"IF(E43=\"\",\"\",ASC(②選手情報入力!E52))","v":""},"",{"$f":"IF(E43=\"\",\"\",IF(②選手情報入力!G52=\"男\",1,2))","v":""},{"$f":"IF(E43=\"\",\"\",IF(②選手情報入力!H52=\"\",\"\",②選手情報入力!H52))","v":""},null,null,"",null,{"$f":"IF(E43=\"\",\"\",IF(②選手情報入力!J52=\"\",\"\",IF(I43=1,VLOOKUP(②選手情報入力!J52,種目情報!$A$4:$B$32,2,FALSE),VLOOKUP(②選手情報入力!J52,種目情報!$E$4:$F$34,2,FALSE))))","v":""},{"$f":"IF(E43=\"\",\"\",IF(②選手情報入力!K52=\"\",\"\",②選手情報入力!K52))","v":""},{"$f":"IF(E43=\"\",\"\",IF(②選手情報入力!I52=\"\",\"\",1))","v":""},{"$f":"IF(E43=\"\",\"\",IF(②選手情報入力!J52=\"\",\"\",IF(I43=1,VLOOKUP(②選手情報入力!J52,種目情報!$A$4:$C$36,3,FALSE),VLOOKUP(②選手情報入力!J52,種目情報!$E$4:$G$39,3,FALSE))))","v":""},{"$f":"IF(E43=\"\",\"\",IF(②選手情報入力!M52=\"\",\"\",IF(I43=1,VLOOKUP(②選手情報入力!M52,種目情報!$A$4:$B$36,2,FALSE),VLOOKUP(②選手情報入力!M52,種目情報!$E$4:$F$39,2,FALSE))))","v":""},{"$f":"IF(E43=\"\",\"\",IF(②選手情報入力!N52=\"\",\"\",②選手情報入力!N52))","v":""},{"$f":"IF(E43=\"\",\"\",IF(②選手情報入力!L52=\"\",\"\",1))","v":""},{"$f":"IF(E43=\"\",\"\",IF(②選手情報入力!M52=\"\",\"\",IF(I43=1,VLOOKUP(②選手情報入力!M52,種目情報!$A$4:$C$36,3,FALSE),VLOOKUP(②選手情報入力!M52,種目情報!$E$4:$G$39,3,FALSE))))","v":""},{"$f":"IF(E43=\"\",\"\",IF(②選手情報入力!P52=\"\",\"\",IF(I43=1,VLOOKUP(②選手情報入力!P52,種目情報!$A$4:$B$36,2,FALSE),VLOOKUP(②選手情報入力!P52,種目情報!$E$4:$F$39,2,FALSE))))","v":""},{"$f":"IF(E43=\"\",\"\",IF(②選手情報入力!Q52=\"\",\"\",②選手情報入力!Q52))","v":""},{"$f":"IF(E43=\"\",\"\",IF(②選手情報入力!O52=\"\",\"\",1))","v":""},{"$f":"IF(E43=\"\",\"\",IF(②選手情報入力!P52=\"\",\"\",IF(I43=1,VLOOKUP(②選手情報入力!P52,種目情報!$A$4:$C$36,3,FALSE),VLOOKUP(②選手情報入力!P52,種目情報!$E$4:$G$39,3,FALSE))))","v":""},{"$f":"IF(E43=\"\",\"\",IF(②選手情報入力!R52=\"\",\"\",IF(I43=1,種目情報!$J$4,種目情報!$J$6)))","v":""},{"$f":"IF(E43=\"\",\"\",IF(②選手情報入力!R52=\"\",\"\",IF(I43=1,IF(②選手情報入力!$S$6=\"\",\"\",②選手情報入力!$S$6),IF(②選手情報入力!$S$7=\"\",\"\",②選手情報入力!$S$7))))","v":""},{"$f":"IF(E43=\"\",\"\",IF(②選手情報入力!R52=\"\",\"\",IF(I43=1,IF(②選手情報入力!$R$6=\"\",0,1),IF(②選手情報入力!$R$7=\"\",0,1))))","v":""},{"$f":"IF(E43=\"\",\"\",IF(②選手情報入力!R52=\"\",\"\",2))","v":""},{"$f":"IF(E43=\"\",\"\",IF(②選手情報入力!T52=\"\",\"\",IF(I43=1,種目情報!$J$5,種目情報!$J$7)))","v":""},{"$f":"IF(E43=\"\",\"\",IF(②選手情報入力!T52=\"\",\"\",IF(I43=1,IF(②選手情報入力!$U$6=\"\",\"\",②選手情報入力!$U$6),IF(②選手情報入力!$U$7=\"\",\"\",②選手情報入力!$U$7))))","v":""},{"$f":"IF(E43=\"\",\"\",IF(②選手情報入力!T52=\"\",\"\",IF(I43=1,IF(②選手情報入力!$T$6=\"\",0,1),IF(②選手情報入力!$T$7=\"\",0,1))))","v":""},{"$f":"IF(E43=\"\",\"\",IF(②選手情報入力!T52=\"\",\"\",2))","v":""}]
[{"$f":"IF(E44=\"\",\"\",Sheet1!A43)","v":""},{"$f":"IF(E44=\"\",\"\",①団体情報入力!$C$4)","v":""},null,{"$f":"IF(②選手情報入力!B53=\"\",\"\",②選手情報入力!B53)","v":""},{"$f":"IF(②選手情報入力!C53=\"\",\"\",②選手情報入力!C53)","v":""},{"$f":"IF(E44=\"\",\"\",②選手情報入力!D53)","v":""},{"$f":"IF(E44=\"\",\"\",ASC(②選手情報入力!E53))","v":""},"",{"$f":"IF(E44=\"\",\"\",IF(②選手情報入力!G53=\"男\",1,2))","v":""},{"$f":"IF(E44=\"\",\"\",IF(②選手情報入力!H53=\"\",\"\",②選手情報入力!H53))","v":""},null,null,"",null,{"$f":"IF(E44=\"\",\"\",IF(②選手情報入力!J53=\"\",\"\",IF(I44=1,VLOOKUP(②選手情報入力!J53,種目情報!$A$4:$B$32,2,FALSE),VLOOKUP(②選手情報入力!J53,種目情報!$E$4:$F$34,2,FALSE))))","v":""},{"$f":"IF(E44=\"\",\"\",IF(②選手情報入力!K53=\"\",\"\",②選手情報入力!K53))","v":""},{"$f":"IF(E44=\"\",\"\",IF(②選手情報入力!I53=\"\",\"\",1))","v":""},{"$f":"IF(E44=\"\",\"\",IF(②選手情報入力!J53=\"\",\"\",IF(I44=1,VLOOKUP(②選手情報入力!J53,種目情報!$A$4:$C$36,3,FALSE),VLOOKUP(②選手情報入力!J53,種目情報!$E$4:$G$39,3,FALSE))))","v":""},{"$f":"IF(E44=\"\",\"\",IF(②選手情報入力!M53=\"\",\"\",IF(I44=1,VLOOKUP(②選手情報入力!M53,種目情報!$A$4:$B$36,2,FALSE),VLOOKUP(②選手情報入力!M53,種目情報!$E$4:$F$39,2,FALSE))))","v":""},{"$f":"IF(E44=\"\",\"\",IF(②選手情報入力!N53=\"\",\"\",②選手情報入力!N53))","v":""},{"$f":"IF(E44=\"\",\"\",IF(②選手情報入力!L53=\"\",\"\",1))","v":""},{"$f":"IF(E44=\"\",\"\",IF(②選手情報入力!M53=\"\",\"\",IF(I44=1,VLOOKUP(②選手情報入力!M53,種目情報!$A$4:$C$36,3,FALSE),VLOOKUP(②選手情報入力!M53,種目情報!$E$4:$G$39,3,FALSE))))","v":""},{"$f":"IF(E44=\"\",\"\",IF(②選手情報入力!P53=\"\",\"\",IF(I44=1,VLOOKUP(②選手情報入力!P53,種目情報!$A$4:$B$36,2,FALSE),VLOOKUP(②選手情報入力!P53,種目情報!$E$4:$F$39,2,FALSE))))","v":""},{"$f":"IF(E44=\"\",\"\",IF(②選手情報入力!Q53=\"\",\"\",②選手情報入力!Q53))","v":""},{"$f":"IF(E44=\"\",\"\",IF(②選手情報入力!O53=\"\",\"\",1))","v":""},{"$f":"IF(E44=\"\",\"\",IF(②選手情報入力!P53=\"\",\"\",IF(I44=1,VLOOKUP(②選手情報入力!P53,種目情報!$A$4:$C$36,3,FALSE),VLOOKUP(②選手情報入力!P53,種目情報!$E$4:$G$39,3,FALSE))))","v":""},{"$f":"IF(E44=\"\",\"\",IF(②選手情報入力!R53=\"\",\"\",IF(I44=1,種目情報!$J$4,種目情報!$J$6)))","v":""},{"$f":"IF(E44=\"\",\"\",IF(②選手情報入力!R53=\"\",\"\",IF(I44=1,IF(②選手情報入力!$S$6=\"\",\"\",②選手情報入力!$S$6),IF(②選手情報入力!$S$7=\"\",\"\",②選手情報入力!$S$7))))","v":""},{"$f":"IF(E44=\"\",\"\",IF(②選手情報入力!R53=\"\",\"\",IF(I44=1,IF(②選手情報入力!$R$6=\"\",0,1),IF(②選手情報入力!$R$7=\"\",0,1))))","v":""},{"$f":"IF(E44=\"\",\"\",IF(②選手情報入力!R53=\"\",\"\",2))","v":""},{"$f":"IF(E44=\"\",\"\",IF(②選手情報入力!T53=\"\",\"\",IF(I44=1,種目情報!$J$5,種目情報!$J$7)))","v":""},{"$f":"IF(E44=\"\",\"\",IF(②選手情報入力!T53=\"\",\"\",IF(I44=1,IF(②選手情報入力!$U$6=\"\",\"\",②選手情報入力!$U$6),IF(②選手情報入力!$U$7=\"\",\"\",②選手情報入力!$U$7))))","v":""},{"$f":"IF(E44=\"\",\"\",IF(②選手情報入力!T53=\"\",\"\",IF(I44=1,IF(②選手情報入力!$T$6=\"\",0,1),IF(②選手情報入力!$T$7=\"\",0,1))))","v":""},{"$f":"IF(E44=\"\",\"\",IF(②選手情報入力!T53=\"\",\"\",2))","v":""}]
[{"$f":"IF(E45=\"\",\"\",Sheet1!A44)","v":""},{"$f":"IF(E45=\"\",\"\",①団体情報入力!$C$4)","v":""},null,{"$f":"IF(②選手情報入力!B54=\"\",\"\",②選手情報入力!B54)","v":""},{"$f":"IF(②選手情報入力!C54=\"\",\"\",②選手情報入力!C54)","v":""},{"$f":"IF(E45=\"\",\"\",②選手情報入力!D54)","v":""},{"$f":"IF(E45=\"\",\"\",ASC(②選手情報入力!E54))","v":""},"",{"$f":"IF(E45=\"\",\"\",IF(②選手情報入力!G54=\"男\",1,2))","v":""},{"$f":"IF(E45=\"\",\"\",IF(②選手情報入力!H54=\"\",\"\",②選手情報入力!H54))","v":""},null,null,"",null,{"$f":"IF(E45=\"\",\"\",IF(②選手情報入力!J54=\"\",\"\",IF(I45=1,VLOOKUP(②選手情報入力!J54,種目情報!$A$4:$B$32,2,FALSE),VLOOKUP(②選手情報入力!J54,種目情報!$E$4:$F$34,2,FALSE))))","v":""},{"$f":"IF(E45=\"\",\"\",IF(②選手情報入力!K54=\"\",\"\",②選手情報入力!K54))","v":""},{"$f":"IF(E45=\"\",\"\",IF(②選手情報入力!I54=\"\",\"\",1))","v":""},{"$f":"IF(E45=\"\",\"\",IF(②選手情報入力!J54=\"\",\"\",IF(I45=1,VLOOKUP(②選手情報入力!J54,種目情報!$A$4:$C$36,3,FALSE),VLOOKUP(②選手情報入力!J54,種目情報!$E$4:$G$39,3,FALSE))))","v":""},{"$f":"IF(E45=\"\",\"\",IF(②選手情報入力!M54=\"\",\"\",IF(I45=1,VLOOKUP(②選手情報入力!M54,種目情報!$A$4:$B$36,2,FALSE),VLOOKUP(②選手情報入力!M54,種目情報!$E$4:$F$39,2,FALSE))))","v":""},{"$f":"IF(E45=\"\",\"\",IF(②選手情報入力!N54=\"\",\"\",②選手情報入力!N54))","v":""},{"$f":"IF(E45=\"\",\"\",IF(②選手情報入力!L54=\"\",\"\",1))","v":""},{"$f":"IF(E45=\"\",\"\",IF(②選手情報入力!M54=\"\",\"\",IF(I45=1,VLOOKUP(②選手情報入力!M54,種目情報!$A$4:$C$36,3,FALSE),VLOOKUP(②選手情報入力!M54,種目情報!$E$4:$G$39,3,FALSE))))","v":""},{"$f":"IF(E45=\"\",\"\",IF(②選手情報入力!P54=\"\",\"\",IF(I45=1,VLOOKUP(②選手情報入力!P54,種目情報!$A$4:$B$36,2,FALSE),VLOOKUP(②選手情報入力!P54,種目情報!$E$4:$F$39,2,FALSE))))","v":""},{"$f":"IF(E45=\"\",\"\",IF(②選手情報入力!Q54=\"\",\"\",②選手情報入力!Q54))","v":""},{"$f":"IF(E45=\"\",\"\",IF(②選手情報入力!O54=\"\",\"\",1))","v":""},{"$f":"IF(E45=\"\",\"\",IF(②選手情報入力!P54=\"\",\"\",IF(I45=1,VLOOKUP(②選手情報入力!P54,種目情報!$A$4:$C$36,3,FALSE),VLOOKUP(②選手情報入力!P54,種目情報!$E$4:$G$39,3,FALSE))))","v":""},{"$f":"IF(E45=\"\",\"\",IF(②選手情報入力!R54=\"\",\"\",IF(I45=1,種目情報!$J$4,種目情報!$J$6)))","v":""},{"$f":"IF(E45=\"\",\"\",IF(②選手情報入力!R54=\"\",\"\",IF(I45=1,IF(②選手情報入力!$S$6=\"\",\"\",②選手情報入力!$S$6),IF(②選手情報入力!$S$7=\"\",\"\",②選手情報入力!$S$7))))","v":""},{"$f":"IF(E45=\"\",\"\",IF(②選手情報入力!R54=\"\",\"\",IF(I45=1,IF(②選手情報入力!$R$6=\"\",0,1),IF(②選手情報入力!$R$7=\"\",0,1))))","v":""},{"$f":"IF(E45=\"\",\"\",IF(②選手情報入力!R54=\"\",\"\",2))","v":""},{"$f":"IF(E45=\"\",\"\",IF(②選手情報入力!T54=\"\",\"\",IF(I45=1,種目情報!$J$5,種目情報!$J$7)))","v":""},{"$f":"IF(E45=\"\",\"\",IF(②選手情報入力!T54=\"\",\"\",IF(I45=1,IF(②選手情報入力!$U$6=\"\",\"\",②選手情報入力!$U$6),IF(②選手情報入力!$U$7=\"\",\"\",②選手情報入力!$U$7))))","v":""},{"$f":"IF(E45=\"\",\"\",IF(②選手情報入力!T54=\"\",\"\",IF(I45=1,IF(②選手情報入力!$T$6=\"\",0,1),IF(②選手情報入力!$T$7=\"\",0,1))))","v":""},{"$f":"IF(E45=\"\",\"\",IF(②選手情報入力!T54=\"\",\"\",2))","v":""}]
[{"$f":"IF(E46=\"\",\"\",Sheet1!A45)","v":""},{"$f":"IF(E46=\"\",\"\",①団体情報入力!$C$4)","v":""},null,{"$f":"IF(②選手情報入力!B55=\"\",\"\",②選手情報入力!B55)","v":""},{"$f":"IF(②選手情報入力!C55=\"\",\"\",②選手情報入力!C55)","v":""},{"$f":"IF(E46=\"\",\"\",②選手情報入力!D55)","v":""},{"$f":"IF(E46=\"\",\"\",ASC(②選手情報入力!E55))","v":""},"",{"$f":"IF(E46=\"\",\"\",IF(②選手情報入力!G55=\"男\",1,2))","v":""},{"$f":"IF(E46=\"\",\"\",IF(②選手情報入力!H55=\"\",\"\",②選手情報入力!H55))","v":""},null,null,"",null,{"$f":"IF(E46=\"\",\"\",IF(②選手情報入力!J55=\"\",\"\",IF(I46=1,VLOOKUP(②選手情報入力!J55,種目情報!$A$4:$B$32,2,FALSE),VLOOKUP(②選手情報入力!J55,種目情報!$E$4:$F$34,2,FALSE))))","v":""},{"$f":"IF(E46=\"\",\"\",IF(②選手情報入力!K55=\"\",\"\",②選手情報入力!K55))","v":""},{"$f":"IF(E46=\"\",\"\",IF(②選手情報入力!I55=\"\",\"\",1))","v":""},{"$f":"IF(E46=\"\",\"\",IF(②選手情報入力!J55=\"\",\"\",IF(I46=1,VLOOKUP(②選手情報入力!J55,種目情報!$A$4:$C$36,3,FALSE),VLOOKUP(②選手情報入力!J55,種目情報!$E$4:$G$39,3,FALSE))))","v":""},{"$f":"IF(E46=\"\",\"\",IF(②選手情報入力!M55=\"\",\"\",IF(I46=1,VLOOKUP(②選手情報入力!M55,種目情報!$A$4:$B$36,2,FALSE),VLOOKUP(②選手情報入力!M55,種目情報!$E$4:$F$39,2,FALSE))))","v":""},{"$f":"IF(E46=\"\",\"\",IF(②選手情報入力!N55=\"\",\"\",②選手情報入力!N55))","v":""},{"$f":"IF(E46=\"\",\"\",IF(②選手情報入力!L55=\"\",\"\",1))","v":""},{"$f":"IF(E46=\"\",\"\",IF(②選手情報入力!M55=\"\",\"\",IF(I46=1,VLOOKUP(②選手情報入力!M55,種目情報!$A$4:$C$36,3,FALSE),VLOOKUP(②選手情報入力!M55,種目情報!$E$4:$G$39,3,FALSE))))","v":""},{"$f":"IF(E46=\"\",\"\",IF(②選手情報入力!P55=\"\",\"\",IF(I46=1,VLOOKUP(②選手情報入力!P55,種目情報!$A$4:$B$36,2,FALSE),VLOOKUP(②選手情報入力!P55,種目情報!$E$4:$F$39,2,FALSE))))","v":""},{"$f":"IF(E46=\"\",\"\",IF(②選手情報入力!Q55=\"\",\"\",②選手情報入力!Q55))","v":""},{"$f":"IF(E46=\"\",\"\",IF(②選手情報入力!O55=\"\",\"\",1))","v":""},{"$f":"IF(E46=\"\",\"\",IF(②選手情報入力!P55=\"\",\"\",IF(I46=1,VLOOKUP(②選手情報入力!P55,種目情報!$A$4:$C$36,3,FALSE),VLOOKUP(②選手情報入力!P55,種目情報!$E$4:$G$39,3,FALSE))))","v":""},{"$f":"IF(E46=\"\",\"\",IF(②選手情報入力!R55=\"\",\"\",IF(I46=1,種目情報!$J$4,種目情報!$J$6)))","v":""},{"$f":"IF(E46=\"\",\"\",IF(②選手情報入力!R55=\"\",\"\",IF(I46=1,IF(②選手情報入力!$S$6=\"\",\"\",②選手情報入力!$S$6),IF(②選手情報入力!$S$7=\"\",\"\",②選手情報入力!$S$7))))","v":""},{"$f":"IF(E46=\"\",\"\",IF(②選手情報入力!R55=\"\",\"\",IF(I46=1,IF(②選手情報入力!$R$6=\"\",0,1),IF(②選手情報入力!$R$7=\"\",0,1))))","v":""},{"$f":"IF(E46=\"\",\"\",IF(②選手情報入力!R55=\"\",\"\",2))","v":""},{"$f":"IF(E46=\"\",\"\",IF(②選手情報入力!T55=\"\",\"\",IF(I46=1,種目情報!$J$5,種目情報!$J$7)))","v":""},{"$f":"IF(E46=\"\",\"\",IF(②選手情報入力!T55=\"\",\"\",IF(I46=1,IF(②選手情報入力!$U$6=\"\",\"\",②選手情報入力!$U$6),IF(②選手情報入力!$U$7=\"\",\"\",②選手情報入力!$U$7))))","v":""},{"$f":"IF(E46=\"\",\"\",IF(②選手情報入力!T55=\"\",\"\",IF(I46=1,IF(②選手情報入力!$T$6=\"\",0,1),IF(②選手情報入力!$T$7=\"\",0,1))))","v":""},{"$f":"IF(E46=\"\",\"\",IF(②選手情報入力!T55=\"\",\"\",2))","v":""}]
[{"$f":"IF(E47=\"\",\"\",Sheet1!A46)","v":""},{"$f":"IF(E47=\"\",\"\",①団体情報入力!$C$4)","v":""},null,{"$f":"IF(②選手情報入力!B56=\"\",\"\",②選手情報入力!B56)","v":""},{"$f":"IF(②選手情報入力!C56=\"\",\"\",②選手情報入力!C56)","v":""},{"$f":"IF(E47=\"\",\"\",②選手情報入力!D56)","v":""},{"$f":"IF(E47=\"\",\"\",ASC(②選手情報入力!E56))","v":""},"",{"$f":"IF(E47=\"\",\"\",IF(②選手情報入力!G56=\"男\",1,2))","v":""},{"$f":"IF(E47=\"\",\"\",IF(②選手情報入力!H56=\"\",\"\",②選手情報入力!H56))","v":""},null,null,"",null,{"$f":"IF(E47=\"\",\"\",IF(②選手情報入力!J56=\"\",\"\",IF(I47=1,VLOOKUP(②選手情報入力!J56,種目情報!$A$4:$B$32,2,FALSE),VLOOKUP(②選手情報入力!J56,種目情報!$E$4:$F$34,2,FALSE))))","v":""},{"$f":"IF(E47=\"\",\"\",IF(②選手情報入力!K56=\"\",\"\",②選手情報入力!K56))","v":""},{"$f":"IF(E47=\"\",\"\",IF(②選手情報入力!I56=\"\",\"\",1))","v":""},{"$f":"IF(E47=\"\",\"\",IF(②選手情報入力!J56=\"\",\"\",IF(I47=1,VLOOKUP(②選手情報入力!J56,種目情報!$A$4:$C$36,3,FALSE),VLOOKUP(②選手情報入力!J56,種目情報!$E$4:$G$39,3,FALSE))))","v":""},{"$f":"IF(E47=\"\",\"\",IF(②選手情報入力!M56=\"\",\"\",IF(I47=1,VLOOKUP(②選手情報入力!M56,種目情報!$A$4:$B$36,2,FALSE),VLOOKUP(②選手情報入力!M56,種目情報!$E$4:$F$39,2,FALSE))))","v":""},{"$f":"IF(E47=\"\",\"\",IF(②選手情報入力!N56=\"\",\"\",②選手情報入力!N56))","v":""},{"$f":"IF(E47=\"\",\"\",IF(②選手情報入力!L56=\"\",\"\",1))","v":""},{"$f":"IF(E47=\"\",\"\",IF(②選手情報入力!M56=\"\",\"\",IF(I47=1,VLOOKUP(②選手情報入力!M56,種目情報!$A$4:$C$36,3,FALSE),VLOOKUP(②選手情報入力!M56,種目情報!$E$4:$G$39,3,FALSE))))","v":""},{"$f":"IF(E47=\"\",\"\",IF(②選手情報入力!P56=\"\",\"\",IF(I47=1,VLOOKUP(②選手情報入力!P56,種目情報!$A$4:$B$36,2,FALSE),VLOOKUP(②選手情報入力!P56,種目情報!$E$4:$F$39,2,FALSE))))","v":""},{"$f":"IF(E47=\"\",\"\",IF(②選手情報入力!Q56=\"\",\"\",②選手情報入力!Q56))","v":""},{"$f":"IF(E47=\"\",\"\",IF(②選手情報入力!O56=\"\",\"\",1))","v":""},{"$f":"IF(E47=\"\",\"\",IF(②選手情報入力!P56=\"\",\"\",IF(I47=1,VLOOKUP(②選手情報入力!P56,種目情報!$A$4:$C$36,3,FALSE),VLOOKUP(②選手情報入力!P56,種目情報!$E$4:$G$39,3,FALSE))))","v":""},{"$f":"IF(E47=\"\",\"\",IF(②選手情報入力!R56=\"\",\"\",IF(I47=1,種目情報!$J$4,種目情報!$J$6)))","v":""},{"$f":"IF(E47=\"\",\"\",IF(②選手情報入力!R56=\"\",\"\",IF(I47=1,IF(②選手情報入力!$S$6=\"\",\"\",②選手情報入力!$S$6),IF(②選手情報入力!$S$7=\"\",\"\",②選手情報入力!$S$7))))","v":""},{"$f":"IF(E47=\"\",\"\",IF(②選手情報入力!R56=\"\",\"\",IF(I47=1,IF(②選手情報入力!$R$6=\"\",0,1),IF(②選手情報入力!$R$7=\"\",0,1))))","v":""},{"$f":"IF(E47=\"\",\"\",IF(②選手情報入力!R56=\"\",\"\",2))","v":""},{"$f":"IF(E47=\"\",\"\",IF(②選手情報入力!T56=\"\",\"\",IF(I47=1,種目情報!$J$5,種目情報!$J$7)))","v":""},{"$f":"IF(E47=\"\",\"\",IF(②選手情報入力!T56=\"\",\"\",IF(I47=1,IF(②選手情報入力!$U$6=\"\",\"\",②選手情報入力!$U$6),IF(②選手情報入力!$U$7=\"\",\"\",②選手情報入力!$U$7))))","v":""},{"$f":"IF(E47=\"\",\"\",IF(②選手情報入力!T56=\"\",\"\",IF(I47=1,IF(②選手情報入力!$T$6=\"\",0,1),IF(②選手情報入力!$T$7=\"\",0,1))))","v":""},{"$f":"IF(E47=\"\",\"\",IF(②選手情報入力!T56=\"\",\"\",2))","v":""}]
[{"$f":"IF(E48=\"\",\"\",Sheet1!A47)","v":""},{"$f":"IF(E48=\"\",\"\",①団体情報入力!$C$4)","v":""},null,{"$f":"IF(②選手情報入力!B57=\"\",\"\",②選手情報入力!B57)","v":""},{"$f":"IF(②選手情報入力!C57=\"\",\"\",②選手情報入力!C57)","v":""},{"$f":"IF(E48=\"\",\"\",②選手情報入力!D57)","v":""},{"$f":"IF(E48=\"\",\"\",ASC(②選手情報入力!E57))","v":""},"",{"$f":"IF(E48=\"\",\"\",IF(②選手情報入力!G57=\"男\",1,2))","v":""},{"$f":"IF(E48=\"\",\"\",IF(②選手情報入力!H57=\"\",\"\",②選手情報入力!H57))","v":""},null,null,"",null,{"$f":"IF(E48=\"\",\"\",IF(②選手情報入力!J57=\"\",\"\",IF(I48=1,VLOOKUP(②選手情報入力!J57,種目情報!$A$4:$B$32,2,FALSE),VLOOKUP(②選手情報入力!J57,種目情報!$E$4:$F$34,2,FALSE))))","v":""},{"$f":"IF(E48=\"\",\"\",IF(②選手情報入力!K57=\"\",\"\",②選手情報入力!K57))","v":""},{"$f":"IF(E48=\"\",\"\",IF(②選手情報入力!I57=\"\",\"\",1))","v":""},{"$f":"IF(E48=\"\",\"\",IF(②選手情報入力!J57=\"\",\"\",IF(I48=1,VLOOKUP(②選手情報入力!J57,種目情報!$A$4:$C$36,3,FALSE),VLOOKUP(②選手情報入力!J57,種目情報!$E$4:$G$39,3,FALSE))))","v":""},{"$f":"IF(E48=\"\",\"\",IF(②選手情報入力!M57=\"\",\"\",IF(I48=1,VLOOKUP(②選手情報入力!M57,種目情報!$A$4:$B$36,2,FALSE),VLOOKUP(②選手情報入力!M57,種目情報!$E$4:$F$39,2,FALSE))))","v":""},{"$f":"IF(E48=\"\",\"\",IF(②選手情報入力!N57=\"\",\"\",②選手情報入力!N57))","v":""},{"$f":"IF(E48=\"\",\"\",IF(②選手情報入力!L57=\"\",\"\",1))","v":""},{"$f":"IF(E48=\"\",\"\",IF(②選手情報入力!M57=\"\",\"\",IF(I48=1,VLOOKUP(②選手情報入力!M57,種目情報!$A$4:$C$36,3,FALSE),VLOOKUP(②選手情報入力!M57,種目情報!$E$4:$G$39,3,FALSE))))","v":""},{"$f":"IF(E48=\"\",\"\",IF(②選手情報入力!P57=\"\",\"\",IF(I48=1,VLOOKUP(②選手情報入力!P57,種目情報!$A$4:$B$36,2,FALSE),VLOOKUP(②選手情報入力!P57,種目情報!$E$4:$F$39,2,FALSE))))","v":""},{"$f":"IF(E48=\"\",\"\",IF(②選手情報入力!Q57=\"\",\"\",②選手情報入力!Q57))","v":""},{"$f":"IF(E48=\"\",\"\",IF(②選手情報入力!O57=\"\",\"\",1))","v":""},{"$f":"IF(E48=\"\",\"\",IF(②選手情報入力!P57=\"\",\"\",IF(I48=1,VLOOKUP(②選手情報入力!P57,種目情報!$A$4:$C$36,3,FALSE),VLOOKUP(②選手情報入力!P57,種目情報!$E$4:$G$39,3,FALSE))))","v":""},{"$f":"IF(E48=\"\",\"\",IF(②選手情報入力!R57=\"\",\"\",IF(I48=1,種目情報!$J$4,種目情報!$J$6)))","v":""},{"$f":"IF(E48=\"\",\"\",IF(②選手情報入力!R57=\"\",\"\",IF(I48=1,IF(②選手情報入力!$S$6=\"\",\"\",②選手情報入力!$S$6),IF(②選手情報入力!$S$7=\"\",\"\",②選手情報入力!$S$7))))","v":""},{"$f":"IF(E48=\"\",\"\",IF(②選手情報入力!R57=\"\",\"\",IF(I48=1,IF(②選手情報入力!$R$6=\"\",0,1),IF(②選手情報入力!$R$7=\"\",0,1))))","v":""},{"$f":"IF(E48=\"\",\"\",IF(②選手情報入力!R57=\"\",\"\",2))","v":""},{"$f":"IF(E48=\"\",\"\",IF(②選手情報入力!T57=\"\",\"\",IF(I48=1,種目情報!$J$5,種目情報!$J$7)))","v":""},{"$f":"IF(E48=\"\",\"\",IF(②選手情報入力!T57=\"\",\"\",IF(I48=1,IF(②選手情報入力!$U$6=\"\",\"\",②選手情報入力!$U$6),IF(②選手情報入力!$U$7=\"\",\"\",②選手情報入力!$U$7))))","v":""},{"$f":"IF(E48=\"\",\"\",IF(②選手情報入力!T57=\"\",\"\",IF(I48=1,IF(②選手情報入力!$T$6=\"\",0,1),IF(②選手情報入力!$T$7=\"\",0,1))))","v":""},{"$f":"IF(E48=\"\",\"\",IF(②選手情報入力!T57=\"\",\"\",2))","v":""}]
[{"$f":"IF(E49=\"\",\"\",Sheet1!A48)","v":""},{"$f":"IF(E49=\"\",\"\",①団体情報入力!$C$4)","v":""},null,{"$f":"IF(②選手情報入力!B58=\"\",\"\",②選手情報入力!B58)","v":""},{"$f":"IF(②選手情報入力!C58=\"\",\"\",②選手情報入力!C58)","v":""},{"$f":"IF(E49=\"\",\"\",②選手情報入力!D58)","v":""},{"$f":"IF(E49=\"\",\"\",ASC(②選手情報入力!E58))","v":""},"",{"$f":"IF(E49=\"\",\"\",IF(②選手情報入力!G58=\"男\",1,2))","v":""},{"$f":"IF(E49=\"\",\"\",IF(②選手情報入力!H58=\"\",\"\",②選手情報入力!H58))","v":""},null,null,"",null,{"$f":"IF(E49=\"\",\"\",IF(②選手情報入力!J58=\"\",\"\",IF(I49=1,VLOOKUP(②選手情報入力!J58,種目情報!$A$4:$B$32,2,FALSE),VLOOKUP(②選手情報入力!J58,種目情報!$E$4:$F$34,2,FALSE))))","v":""},{"$f":"IF(E49=\"\",\"\",IF(②選手情報入力!K58=\"\",\"\",②選手情報入力!K58))","v":""},{"$f":"IF(E49=\"\",\"\",IF(②選手情報入力!I58=\"\",\"\",1))","v":""},{"$f":"IF(E49=\"\",\"\",IF(②選手情報入力!J58=\"\",\"\",IF(I49=1,VLOOKUP(②選手情報入力!J58,種目情報!$A$4:$C$36,3,FALSE),VLOOKUP(②選手情報入力!J58,種目情報!$E$4:$G$39,3,FALSE))))","v":""},{"$f":"IF(E49=\"\",\"\",IF(②選手情報入力!M58=\"\",\"\",IF(I49=1,VLOOKUP(②選手情報入力!M58,種目情報!$A$4:$B$36,2,FALSE),VLOOKUP(②選手情報入力!M58,種目情報!$E$4:$F$39,2,FALSE))))","v":""},{"$f":"IF(E49=\"\",\"\",IF(②選手情報入力!N58=\"\",\"\",②選手情報入力!N58))","v":""},{"$f":"IF(E49=\"\",\"\",IF(②選手情報入力!L58=\"\",\"\",1))","v":""},{"$f":"IF(E49=\"\",\"\",IF(②選手情報入力!M58=\"\",\"\",IF(I49=1,VLOOKUP(②選手情報入力!M58,種目情報!$A$4:$C$36,3,FALSE),VLOOKUP(②選手情報入力!M58,種目情報!$E$4:$G$39,3,FALSE))))","v":""},{"$f":"IF(E49=\"\",\"\",IF(②選手情報入力!P58=\"\",\"\",IF(I49=1,VLOOKUP(②選手情報入力!P58,種目情報!$A$4:$B$36,2,FALSE),VLOOKUP(②選手情報入力!P58,種目情報!$E$4:$F$39,2,FALSE))))","v":""},{"$f":"IF(E49=\"\",\"\",IF(②選手情報入力!Q58=\"\",\"\",②選手情報入力!Q58))","v":""},{"$f":"IF(E49=\"\",\"\",IF(②選手情報入力!O58=\"\",\"\",1))","v":""},{"$f":"IF(E49=\"\",\"\",IF(②選手情報入力!P58=\"\",\"\",IF(I49=1,VLOOKUP(②選手情報入力!P58,種目情報!$A$4:$C$36,3,FALSE),VLOOKUP(②選手情報入力!P58,種目情報!$E$4:$G$39,3,FALSE))))","v":""},{"$f":"IF(E49=\"\",\"\",IF(②選手情報入力!R58=\"\",\"\",IF(I49=1,種目情報!$J$4,種目情報!$J$6)))","v":""},{"$f":"IF(E49=\"\",\"\",IF(②選手情報入力!R58=\"\",\"\",IF(I49=1,IF(②選手情報入力!$S$6=\"\",\"\",②選手情報入力!$S$6),IF(②選手情報入力!$S$7=\"\",\"\",②選手情報入力!$S$7))))","v":""},{"$f":"IF(E49=\"\",\"\",IF(②選手情報入力!R58=\"\",\"\",IF(I49=1,IF(②選手情報入力!$R$6=\"\",0,1),IF(②選手情報入力!$R$7=\"\",0,1))))","v":""},{"$f":"IF(E49=\"\",\"\",IF(②選手情報入力!R58=\"\",\"\",2))","v":""},{"$f":"IF(E49=\"\",\"\",IF(②選手情報入力!T58=\"\",\"\",IF(I49=1,種目情報!$J$5,種目情報!$J$7)))","v":""},{"$f":"IF(E49=\"\",\"\",IF(②選手情報入力!T58=\"\",\"\",IF(I49=1,IF(②選手情報入力!$U$6=\"\",\"\",②選手情報入力!$U$6),IF(②選手情報入力!$U$7=\"\",\"\",②選手情報入力!$U$7))))","v":""},{"$f":"IF(E49=\"\",\"\",IF(②選手情報入力!T58=\"\",\"\",IF(I49=1,IF(②選手情報入力!$T$6=\"\",0,1),IF(②選手情報入力!$T$7=\"\",0,1))))","v":""},{"$f":"IF(E49=\"\",\"\",IF(②選手情報入力!T58=\"\",\"\",2))","v":""}]
[{"$f":"IF(E50=\"\",\"\",Sheet1!A49)","v":""},{"$f":"IF(E50=\"\",\"\",①団体情報入力!$C$4)","v":""},null,{"$f":"IF(②選手情報入力!B59=\"\",\"\",②選手情報入力!B59)","v":""},{"$f":"IF(②選手情報入力!C59=\"\",\"\",②選手情報入力!C59)","v":""},{"$f":"IF(E50=\"\",\"\",②選手情報入力!D59)","v":""},{"$f":"IF(E50=\"\",\"\",ASC(②選手情報入力!E59))","v":""},"",{"$f":"IF(E50=\"\",\"\",IF(②選手情報入力!G59=\"男\",1,2))","v":""},{"$f":"IF(E50=\"\",\"\",IF(②選手情報入力!H59=\"\",\"\",②選手情報入力!H59))","v":""},null,null,"",null,{"$f":"IF(E50=\"\",\"\",IF(②選手情報入力!J59=\"\",\"\",IF(I50=1,VLOOKUP(②選手情報入力!J59,種目情報!$A$4:$B$32,2,FALSE),VLOOKUP(②選手情報入力!J59,種目情報!$E$4:$F$34,2,FALSE))))","v":""},{"$f":"IF(E50=\"\",\"\",IF(②選手情報入力!K59=\"\",\"\",②選手情報入力!K59))","v":""},{"$f":"IF(E50=\"\",\"\",IF(②選手情報入力!I59=\"\",\"\",1))","v":""},{"$f":"IF(E50=\"\",\"\",IF(②選手情報入力!J59=\"\",\"\",IF(I50=1,VLOOKUP(②選手情報入力!J59,種目情報!$A$4:$C$36,3,FALSE),VLOOKUP(②選手情報入力!J59,種目情報!$E$4:$G$39,3,FALSE))))","v":""},{"$f":"IF(E50=\"\",\"\",IF(②選手情報入力!M59=\"\",\"\",IF(I50=1,VLOOKUP(②選手情報入力!M59,種目情報!$A$4:$B$36,2,FALSE),VLOOKUP(②選手情報入力!M59,種目情報!$E$4:$F$39,2,FALSE))))","v":""},{"$f":"IF(E50=\"\",\"\",IF(②選手情報入力!N59=\"\",\"\",②選手情報入力!N59))","v":""},{"$f":"IF(E50=\"\",\"\",IF(②選手情報入力!L59=\"\",\"\",1))","v":""},{"$f":"IF(E50=\"\",\"\",IF(②選手情報入力!M59=\"\",\"\",IF(I50=1,VLOOKUP(②選手情報入力!M59,種目情報!$A$4:$C$36,3,FALSE),VLOOKUP(②選手情報入力!M59,種目情報!$E$4:$G$39,3,FALSE))))","v":""},{"$f":"IF(E50=\"\",\"\",IF(②選手情報入力!P59=\"\",\"\",IF(I50=1,VLOOKUP(②選手情報入力!P59,種目情報!$A$4:$B$36,2,FALSE),VLOOKUP(②選手情報入力!P59,種目情報!$E$4:$F$39,2,FALSE))))","v":""},{"$f":"IF(E50=\"\",\"\",IF(②選手情報入力!Q59=\"\",\"\",②選手情報入力!Q59))","v":""},{"$f":"IF(E50=\"\",\"\",IF(②選手情報入力!O59=\"\",\"\",1))","v":""},{"$f":"IF(E50=\"\",\"\",IF(②選手情報入力!P59=\"\",\"\",IF(I50=1,VLOOKUP(②選手情報入力!P59,種目情報!$A$4:$C$36,3,FALSE),VLOOKUP(②選手情報入力!P59,種目情報!$E$4:$G$39,3,FALSE))))","v":""},{"$f":"IF(E50=\"\",\"\",IF(②選手情報入力!R59=\"\",\"\",IF(I50=1,種目情報!$J$4,種目情報!$J$6)))","v":""},{"$f":"IF(E50=\"\",\"\",IF(②選手情報入力!R59=\"\",\"\",IF(I50=1,IF(②選手情報入力!$S$6=\"\",\"\",②選手情報入力!$S$6),IF(②選手情報入力!$S$7=\"\",\"\",②選手情報入力!$S$7))))","v":""},{"$f":"IF(E50=\"\",\"\",IF(②選手情報入力!R59=\"\",\"\",IF(I50=1,IF(②選手情報入力!$R$6=\"\",0,1),IF(②選手情報入力!$R$7=\"\",0,1))))","v":""},{"$f":"IF(E50=\"\",\"\",IF(②選手情報入力!R59=\"\",\"\",2))","v":""},{"$f":"IF(E50=\"\",\"\",IF(②選手情報入力!T59=\"\",\"\",IF(I50=1,種目情報!$J$5,種目情報!$J$7)))","v":""},{"$f":"IF(E50=\"\",\"\",IF(②選手情報入力!T59=\"\",\"\",IF(I50=1,IF(②選手情報入力!$U$6=\"\",\"\",②選手情報入力!$U$6),IF(②選手情報入力!$U$7=\"\",\"\",②選手情報入力!$U$7))))","v":""},{"$f":"IF(E50=\"\",\"\",IF(②選手情報入力!T59=\"\",\"\",IF(I50=1,IF(②選手情報入力!$T$6=\"\",0,1),IF(②選手情報入力!$T$7=\"\",0,1))))","v":""},{"$f":"IF(E50=\"\",\"\",IF(②選手情報入力!T59=\"\",\"\",2))","v":""}]
[{"$f":"IF(E51=\"\",\"\",Sheet1!A50)","v":""},{"$f":"IF(E51=\"\",\"\",①団体情報入力!$C$4)","v":""},null,{"$f":"IF(②選手情報入力!B60=\"\",\"\",②選手情報入力!B60)","v":""},{"$f":"IF(②選手情報入力!C60=\"\",\"\",②選手情報入力!C60)","v":""},{"$f":"IF(E51=\"\",\"\",②選手情報入力!D60)","v":""},{"$f":"IF(E51=\"\",\"\",ASC(②選手情報入力!E60))","v":""},"",{"$f":"IF(E51=\"\",\"\",IF(②選手情報入力!G60=\"男\",1,2))","v":""},{"$f":"IF(E51=\"\",\"\",IF(②選手情報入力!H60=\"\",\"\",②選手情報入力!H60))","v":""},null,null,"",null,{"$f":"IF(E51=\"\",\"\",IF(②選手情報入力!J60=\"\",\"\",IF(I51=1,VLOOKUP(②選手情報入力!J60,種目情報!$A$4:$B$32,2,FALSE),VLOOKUP(②選手情報入力!J60,種目情報!$E$4:$F$34,2,FALSE))))","v":""},{"$f":"IF(E51=\"\",\"\",IF(②選手情報入力!K60=\"\",\"\",②選手情報入力!K60))","v":""},{"$f":"IF(E51=\"\",\"\",IF(②選手情報入力!I60=\"\",\"\",1))","v":""},{"$f":"IF(E51=\"\",\"\",IF(②選手情報入力!J60=\"\",\"\",IF(I51=1,VLOOKUP(②選手情報入力!J60,種目情報!$A$4:$C$36,3,FALSE),VLOOKUP(②選手情報入力!J60,種目情報!$E$4:$G$39,3,FALSE))))","v":""},{"$f":"IF(E51=\"\",\"\",IF(②選手情報入力!M60=\"\",\"\",IF(I51=1,VLOOKUP(②選手情報入力!M60,種目情報!$A$4:$B$36,2,FALSE),VLOOKUP(②選手情報入力!M60,種目情報!$E$4:$F$39,2,FALSE))))","v":""},{"$f":"IF(E51=\"\",\"\",IF(②選手情報入力!N60=\"\",\"\",②選手情報入力!N60))","v":""},{"$f":"IF(E51=\"\",\"\",IF(②選手情報入力!L60=\"\",\"\",1))","v":""},{"$f":"IF(E51=\"\",\"\",IF(②選手情報入力!M60=\"\",\"\",IF(I51=1,VLOOKUP(②選手情報入力!M60,種目情報!$A$4:$C$36,3,FALSE),VLOOKUP(②選手情報入力!M60,種目情報!$E$4:$G$39,3,FALSE))))","v":""},{"$f":"IF(E51=\"\",\"\",IF(②選手情報入力!P60=\"\",\"\",IF(I51=1,VLOOKUP(②選手情報入力!P60,種目情報!$A$4:$B$36,2,FALSE),VLOOKUP(②選手情報入力!P60,種目情報!$E$4:$F$39,2,FALSE))))","v":""},{"$f":"IF(E51=\"\",\"\",IF(②選手情報入力!Q60=\"\",\"\",②選手情報入力!Q60))","v":""},{"$f":"IF(E51=\"\",\"\",IF(②選手情報入力!O60=\"\",\"\",1))","v":""},{"$f":"IF(E51=\"\",\"\",IF(②選手情報入力!P60=\"\",\"\",IF(I51=1,VLOOKUP(②選手情報入力!P60,種目情報!$A$4:$C$36,3,FALSE),VLOOKUP(②選手情報入力!P60,種目情報!$E$4:$G$39,3,FALSE))))","v":""},{"$f":"IF(E51=\"\",\"\",IF(②選手情報入力!R60=\"\",\"\",IF(I51=1,種目情報!$J$4,種目情報!$J$6)))","v":""},{"$f":"IF(E51=\"\",\"\",IF(②選手情報入力!R60=\"\",\"\",IF(I51=1,IF(②選手情報入力!$S$6=\"\",\"\",②選手情報入力!$S$6),IF(②選手情報入力!$S$7=\"\",\"\",②選手情報入力!$S$7))))","v":""},{"$f":"IF(E51=\"\",\"\",IF(②選手情報入力!R60=\"\",\"\",IF(I51=1,IF(②選手情報入力!$R$6=\"\",0,1),IF(②選手情報入力!$R$7=\"\",0,1))))","v":""},{"$f":"IF(E51=\"\",\"\",IF(②選手情報入力!R60=\"\",\"\",2))","v":""},{"$f":"IF(E51=\"\",\"\",IF(②選手情報入力!T60=\"\",\"\",IF(I51=1,種目情報!$J$5,種目情報!$J$7)))","v":""},{"$f":"IF(E51=\"\",\"\",IF(②選手情報入力!T60=\"\",\"\",IF(I51=1,IF(②選手情報入力!$U$6=\"\",\"\",②選手情報入力!$U$6),IF(②選手情報入力!$U$7=\"\",\"\",②選手情報入力!$U$7))))","v":""},{"$f":"IF(E51=\"\",\"\",IF(②選手情報入力!T60=\"\",\"\",IF(I51=1,IF(②選手情報入力!$T$6=\"\",0,1),IF(②選手情報入力!$T$7=\"\",0,1))))","v":""},{"$f":"IF(E51=\"\",\"\",IF(②選手情報入力!T60=\"\",\"\",2))","v":""}]
[{"$f":"IF(E52=\"\",\"\",Sheet1!A51)","v":""},{"$f":"IF(E52=\"\",\"\",①団体情報入力!$C$4)","v":""},null,{"$f":"IF(②選手情報入力!B61=\"\",\"\",②選手情報入力!B61)","v":""},{"$f":"IF(②選手情報入力!C61=\"\",\"\",②選手情報入力!C61)","v":""},{"$f":"IF(E52=\"\",\"\",②選手情報入力!D61)","v":""},{"$f":"IF(E52=\"\",\"\",ASC(②選手情報入力!E61))","v":""},"",{"$f":"IF(E52=\"\",\"\",IF(②選手情報入力!G61=\"男\",1,2))","v":""},{"$f":"IF(E52=\"\",\"\",IF(②選手情報入力!H61=\"\",\"\",②選手情報入力!H61))","v":""},null,null,"",null,{"$f":"IF(E52=\"\",\"\",IF(②選手情報入力!J61=\"\",\"\",IF(I52=1,VLOOKUP(②選手情報入力!J61,種目情報!$A$4:$B$32,2,FALSE),VLOOKUP(②選手情報入力!J61,種目情報!$E$4:$F$34,2,FALSE))))","v":""},{"$f":"IF(E52=\"\",\"\",IF(②選手情報入力!K61=\"\",\"\",②選手情報入力!K61))","v":""},{"$f":"IF(E52=\"\",\"\",IF(②選手情報入力!I61=\"\",\"\",1))","v":""},{"$f":"IF(E52=\"\",\"\",IF(②選手情報入力!J61=\"\",\"\",IF(I52=1,VLOOKUP(②選手情報入力!J61,種目情報!$A$4:$C$36,3,FALSE),VLOOKUP(②選手情報入力!J61,種目情報!$E$4:$G$39,3,FALSE))))","v":""},{"$f":"IF(E52=\"\",\"\",IF(②選手情報入力!M61=\"\",\"\",IF(I52=1,VLOOKUP(②選手情報入力!M61,種目情報!$A$4:$B$36,2,FALSE),VLOOKUP(②選手情報入力!M61,種目情報!$E$4:$F$39,2,FALSE))))","v":""},{"$f":"IF(E52=\"\",\"\",IF(②選手情報入力!N61=\"\",\"\",②選手情報入力!N61))","v":""},{"$f":"IF(E52=\"\",\"\",IF(②選手情報入力!L61=\"\",\"\",1))","v":""},{"$f":"IF(E52=\"\",\"\",IF(②選手情報入力!M61=\"\",\"\",IF(I52=1,VLOOKUP(②選手情報入力!M61,種目情報!$A$4:$C$36,3,FALSE),VLOOKUP(②選手情報入力!M61,種目情報!$E$4:$G$39,3,FALSE))))","v":""},{"$f":"IF(E52=\"\",\"\",IF(②選手情報入力!P61=\"\",\"\",IF(I52=1,VLOOKUP(②選手情報入力!P61,種目情報!$A$4:$B$36,2,FALSE),VLOOKUP(②選手情報入力!P61,種目情報!$E$4:$F$39,2,FALSE))))","v":""},{"$f":"IF(E52=\"\",\"\",IF(②選手情報入力!Q61=\"\",\"\",②選手情報入力!Q61))","v":""},{"$f":"IF(E52=\"\",\"\",IF(②選手情報入力!O61=\"\",\"\",1))","v":""},{"$f":"IF(E52=\"\",\"\",IF(②選手情報入力!P61=\"\",\"\",IF(I52=1,VLOOKUP(②選手情報入力!P61,種目情報!$A$4:$C$36,3,FALSE),VLOOKUP(②選手情報入力!P61,種目情報!$E$4:$G$39,3,FALSE))))","v":""},{"$f":"IF(E52=\"\",\"\",IF(②選手情報入力!R61=\"\",\"\",IF(I52=1,種目情報!$J$4,種目情報!$J$6)))","v":""},{"$f":"IF(E52=\"\",\"\",IF(②選手情報入力!R61=\"\",\"\",IF(I52=1,IF(②選手情報入力!$S$6=\"\",\"\",②選手情報入力!$S$6),IF(②選手情報入力!$S$7=\"\",\"\",②選手情報入力!$S$7))))","v":""},{"$f":"IF(E52=\"\",\"\",IF(②選手情報入力!R61=\"\",\"\",IF(I52=1,IF(②選手情報入力!$R$6=\"\",0,1),IF(②選手情報入力!$R$7=\"\",0,1))))","v":""},{"$f":"IF(E52=\"\",\"\",IF(②選手情報入力!R61=\"\",\"\",2))","v":""},{"$f":"IF(E52=\"\",\"\",IF(②選手情報入力!T61=\"\",\"\",IF(I52=1,種目情報!$J$5,種目情報!$J$7)))","v":""},{"$f":"IF(E52=\"\",\"\",IF(②選手情報入力!T61=\"\",\"\",IF(I52=1,IF(②選手情報入力!$U$6=\"\",\"\",②選手情報入力!$U$6),IF(②選手情報入力!$U$7=\"\",\"\",②選手情報入力!$U$7))))","v":""},{"$f":"IF(E52=\"\",\"\",IF(②選手情報入力!T61=\"\",\"\",IF(I52=1,IF(②選手情報入力!$T$6=\"\",0,1),IF(②選手情報入力!$T$7=\"\",0,1))))","v":""},{"$f":"IF(E52=\"\",\"\",IF(②選手情報入力!T61=\"\",\"\",2))","v":""}]
[{"$f":"IF(E53=\"\",\"\",Sheet1!A52)","v":""},{"$f":"IF(E53=\"\",\"\",①団体情報入力!$C$4)","v":""},null,{"$f":"IF(②選手情報入力!B62=\"\",\"\",②選手情報入力!B62)","v":""},{"$f":"IF(②選手情報入力!C62=\"\",\"\",②選手情報入力!C62)","v":""},{"$f":"IF(E53=\"\",\"\",②選手情報入力!D62)","v":""},{"$f":"IF(E53=\"\",\"\",ASC(②選手情報入力!E62))","v":""},"",{"$f":"IF(E53=\"\",\"\",IF(②選手情報入力!G62=\"男\",1,2))","v":""},{"$f":"IF(E53=\"\",\"\",IF(②選手情報入力!H62=\"\",\"\",②選手情報入力!H62))","v":""},null,null,"",null,{"$f":"IF(E53=\"\",\"\",IF(②選手情報入力!J62=\"\",\"\",IF(I53=1,VLOOKUP(②選手情報入力!J62,種目情報!$A$4:$B$32,2,FALSE),VLOOKUP(②選手情報入力!J62,種目情報!$E$4:$F$34,2,FALSE))))","v":""},{"$f":"IF(E53=\"\",\"\",IF(②選手情報入力!K62=\"\",\"\",②選手情報入力!K62))","v":""},{"$f":"IF(E53=\"\",\"\",IF(②選手情報入力!I62=\"\",\"\",1))","v":""},{"$f":"IF(E53=\"\",\"\",IF(②選手情報入力!J62=\"\",\"\",IF(I53=1,VLOOKUP(②選手情報入力!J62,種目情報!$A$4:$C$36,3,FALSE),VLOOKUP(②選手情報入力!J62,種目情報!$E$4:$G$39,3,FALSE))))","v":""},{"$f":"IF(E53=\"\",\"\",IF(②選手情報入力!M62=\"\",\"\",IF(I53=1,VLOOKUP(②選手情報入力!M62,種目情報!$A$4:$B$36,2,FALSE),VLOOKUP(②選手情報入力!M62,種目情報!$E$4:$F$39,2,FALSE))))","v":""},{"$f":"IF(E53=\"\",\"\",IF(②選手情報入力!N62=\"\",\"\",②選手情報入力!N62))","v":""},{"$f":"IF(E53=\"\",\"\",IF(②選手情報入力!L62=\"\",\"\",1))","v":""},{"$f":"IF(E53=\"\",\"\",IF(②選手情報入力!M62=\"\",\"\",IF(I53=1,VLOOKUP(②選手情報入力!M62,種目情報!$A$4:$C$36,3,FALSE),VLOOKUP(②選手情報入力!M62,種目情報!$E$4:$G$39,3,FALSE))))","v":""},{"$f":"IF(E53=\"\",\"\",IF(②選手情報入力!P62=\"\",\"\",IF(I53=1,VLOOKUP(②選手情報入力!P62,種目情報!$A$4:$B$36,2,FALSE),VLOOKUP(②選手情報入力!P62,種目情報!$E$4:$F$39,2,FALSE))))","v":""},{"$f":"IF(E53=\"\",\"\",IF(②選手情報入力!Q62=\"\",\"\",②選手情報入力!Q62))","v":""},{"$f":"IF(E53=\"\",\"\",IF(②選手情報入力!O62=\"\",\"\",1))","v":""},{"$f":"IF(E53=\"\",\"\",IF(②選手情報入力!P62=\"\",\"\",IF(I53=1,VLOOKUP(②選手情報入力!P62,種目情報!$A$4:$C$36,3,FALSE),VLOOKUP(②選手情報入力!P62,種目情報!$E$4:$G$39,3,FALSE))))","v":""},{"$f":"IF(E53=\"\",\"\",IF(②選手情報入力!R62=\"\",\"\",IF(I53=1,種目情報!$J$4,種目情報!$J$6)))","v":""},{"$f":"IF(E53=\"\",\"\",IF(②選手情報入力!R62=\"\",\"\",IF(I53=1,IF(②選手情報入力!$S$6=\"\",\"\",②選手情報入力!$S$6),IF(②選手情報入力!$S$7=\"\",\"\",②選手情報入力!$S$7))))","v":""},{"$f":"IF(E53=\"\",\"\",IF(②選手情報入力!R62=\"\",\"\",IF(I53=1,IF(②選手情報入力!$R$6=\"\",0,1),IF(②選手情報入力!$R$7=\"\",0,1))))","v":""},{"$f":"IF(E53=\"\",\"\",IF(②選手情報入力!R62=\"\",\"\",2))","v":""},{"$f":"IF(E53=\"\",\"\",IF(②選手情報入力!T62=\"\",\"\",IF(I53=1,種目情報!$J$5,種目情報!$J$7)))","v":""},{"$f":"IF(E53=\"\",\"\",IF(②選手情報入力!T62=\"\",\"\",IF(I53=1,IF(②選手情報入力!$U$6=\"\",\"\",②選手情報入力!$U$6),IF(②選手情報入力!$U$7=\"\",\"\",②選手情報入力!$U$7))))","v":""},{"$f":"IF(E53=\"\",\"\",IF(②選手情報入力!T62=\"\",\"\",IF(I53=1,IF(②選手情報入力!$T$6=\"\",0,1),IF(②選手情報入力!$T$7=\"\",0,1))))","v":""},{"$f":"IF(E53=\"\",\"\",IF(②選手情報入力!T62=\"\",\"\",2))","v":""}]
[{"$f":"IF(E54=\"\",\"\",Sheet1!A53)","v":""},{"$f":"IF(E54=\"\",\"\",①団体情報入力!$C$4)","v":""},null,{"$f":"IF(②選手情報入力!B63=\"\",\"\",②選手情報入力!B63)","v":""},{"$f":"IF(②選手情報入力!C63=\"\",\"\",②選手情報入力!C63)","v":""},{"$f":"IF(E54=\"\",\"\",②選手情報入力!D63)","v":""},{"$f":"IF(E54=\"\",\"\",ASC(②選手情報入力!E63))","v":""},"",{"$f":"IF(E54=\"\",\"\",IF(②選手情報入力!G63=\"男\",1,2))","v":""},{"$f":"IF(E54=\"\",\"\",IF(②選手情報入力!H63=\"\",\"\",②選手情報入力!H63))","v":""},null,null,"",null,{"$f":"IF(E54=\"\",\"\",IF(②選手情報入力!J63=\"\",\"\",IF(I54=1,VLOOKUP(②選手情報入力!J63,種目情報!$A$4:$B$32,2,FALSE),VLOOKUP(②選手情報入力!J63,種目情報!$E$4:$F$34,2,FALSE))))","v":""},{"$f":"IF(E54=\"\",\"\",IF(②選手情報入力!K63=\"\",\"\",②選手情報入力!K63))","v":""},{"$f":"IF(E54=\"\",\"\",IF(②選手情報入力!I63=\"\",\"\",1))","v":""},{"$f":"IF(E54=\"\",\"\",IF(②選手情報入力!J63=\"\",\"\",IF(I54=1,VLOOKUP(②選手情報入力!J63,種目情報!$A$4:$C$36,3,FALSE),VLOOKUP(②選手情報入力!J63,種目情報!$E$4:$G$39,3,FALSE))))","v":""},{"$f":"IF(E54=\"\",\"\",IF(②選手情報入力!M63=\"\",\"\",IF(I54=1,VLOOKUP(②選手情報入力!M63,種目情報!$A$4:$B$36,2,FALSE),VLOOKUP(②選手情報入力!M63,種目情報!$E$4:$F$39,2,FALSE))))","v":""},{"$f":"IF(E54=\"\",\"\",IF(②選手情報入力!N63=\"\",\"\",②選手情報入力!N63))","v":""},{"$f":"IF(E54=\"\",\"\",IF(②選手情報入力!L63=\"\",\"\",1))","v":""},{"$f":"IF(E54=\"\",\"\",IF(②選手情報入力!M63=\"\",\"\",IF(I54=1,VLOOKUP(②選手情報入力!M63,種目情報!$A$4:$C$36,3,FALSE),VLOOKUP(②選手情報入力!M63,種目情報!$E$4:$G$39,3,FALSE))))","v":""},{"$f":"IF(E54=\"\",\"\",IF(②選手情報入力!P63=\"\",\"\",IF(I54=1,VLOOKUP(②選手情報入力!P63,種目情報!$A$4:$B$36,2,FALSE),VLOOKUP(②選手情報入力!P63,種目情報!$E$4:$F$39,2,FALSE))))","v":""},{"$f":"IF(E54=\"\",\"\",IF(②選手情報入力!Q63=\"\",\"\",②選手情報入力!Q63))","v":""},{"$f":"IF(E54=\"\",\"\",IF(②選手情報入力!O63=\"\",\"\",1))","v":""},{"$f":"IF(E54=\"\",\"\",IF(②選手情報入力!P63=\"\",\"\",IF(I54=1,VLOOKUP(②選手情報入力!P63,種目情報!$A$4:$C$36,3,FALSE),VLOOKUP(②選手情報入力!P63,種目情報!$E$4:$G$39,3,FALSE))))","v":""},{"$f":"IF(E54=\"\",\"\",IF(②選手情報入力!R63=\"\",\"\",IF(I54=1,種目情報!$J$4,種目情報!$J$6)))","v":""},{"$f":"IF(E54=\"\",\"\",IF(②選手情報入力!R63=\"\",\"\",IF(I54=1,IF(②選手情報入力!$S$6=\"\",\"\",②選手情報入力!$S$6),IF(②選手情報入力!$S$7=\"\",\"\",②選手情報入力!$S$7))))","v":""},{"$f":"IF(E54=\"\",\"\",IF(②選手情報入力!R63=\"\",\"\",IF(I54=1,IF(②選手情報入力!$R$6=\"\",0,1),IF(②選手情報入力!$R$7=\"\",0,1))))","v":""},{"$f":"IF(E54=\"\",\"\",IF(②選手情報入力!R63=\"\",\"\",2))","v":""},{"$f":"IF(E54=\"\",\"\",IF(②選手情報入力!T63=\"\",\"\",IF(I54=1,種目情報!$J$5,種目情報!$J$7)))","v":""},{"$f":"IF(E54=\"\",\"\",IF(②選手情報入力!T63=\"\",\"\",IF(I54=1,IF(②選手情報入力!$U$6=\"\",\"\",②選手情報入力!$U$6),IF(②選手情報入力!$U$7=\"\",\"\",②選手情報入力!$U$7))))","v":""},{"$f":"IF(E54=\"\",\"\",IF(②選手情報入力!T63=\"\",\"\",IF(I54=1,IF(②選手情報入力!$T$6=\"\",0,1),IF(②選手情報入力!$T$7=\"\",0,1))))","v":""},{"$f":"IF(E54=\"\",\"\",IF(②選手情報入力!T63=\"\",\"\",2))","v":""}]
[{"$f":"IF(E55=\"\",\"\",Sheet1!A54)","v":""},{"$f":"IF(E55=\"\",\"\",①団体情報入力!$C$4)","v":""},null,{"$f":"IF(②選手情報入力!B64=\"\",\"\",②選手情報入力!B64)","v":""},{"$f":"IF(②選手情報入力!C64=\"\",\"\",②選手情報入力!C64)","v":""},{"$f":"IF(E55=\"\",\"\",②選手情報入力!D64)","v":""},{"$f":"IF(E55=\"\",\"\",ASC(②選手情報入力!E64))","v":""},"",{"$f":"IF(E55=\"\",\"\",IF(②選手情報入力!G64=\"男\",1,2))","v":""},{"$f":"IF(E55=\"\",\"\",IF(②選手情報入力!H64=\"\",\"\",②選手情報入力!H64))","v":""},null,null,"",null,{"$f":"IF(E55=\"\",\"\",IF(②選手情報入力!J64=\"\",\"\",IF(I55=1,VLOOKUP(②選手情報入力!J64,種目情報!$A$4:$B$32,2,FALSE),VLOOKUP(②選手情報入力!J64,種目情報!$E$4:$F$34,2,FALSE))))","v":""},{"$f":"IF(E55=\"\",\"\",IF(②選手情報入力!K64=\"\",\"\",②選手情報入力!K64))","v":""},{"$f":"IF(E55=\"\",\"\",IF(②選手情報入力!I64=\"\",\"\",1))","v":""},{"$f":"IF(E55=\"\",\"\",IF(②選手情報入力!J64=\"\",\"\",IF(I55=1,VLOOKUP(②選手情報入力!J64,種目情報!$A$4:$C$36,3,FALSE),VLOOKUP(②選手情報入力!J64,種目情報!$E$4:$G$39,3,FALSE))))","v":""},{"$f":"IF(E55=\"\",\"\",IF(②選手情報入力!M64=\"\",\"\",IF(I55=1,VLOOKUP(②選手情報入力!M64,種目情報!$A$4:$B$36,2,FALSE),VLOOKUP(②選手情報入力!M64,種目情報!$E$4:$F$39,2,FALSE))))","v":""},{"$f":"IF(E55=\"\",\"\",IF(②選手情報入力!N64=\"\",\"\",②選手情報入力!N64))","v":""},{"$f":"IF(E55=\"\",\"\",IF(②選手情報入力!L64=\"\",\"\",1))","v":""},{"$f":"IF(E55=\"\",\"\",IF(②選手情報入力!M64=\"\",\"\",IF(I55=1,VLOOKUP(②選手情報入力!M64,種目情報!$A$4:$C$36,3,FALSE),VLOOKUP(②選手情報入力!M64,種目情報!$E$4:$G$39,3,FALSE))))","v":""},{"$f":"IF(E55=\"\",\"\",IF(②選手情報入力!P64=\"\",\"\",IF(I55=1,VLOOKUP(②選手情報入力!P64,種目情報!$A$4:$B$36,2,FALSE),VLOOKUP(②選手情報入力!P64,種目情報!$E$4:$F$39,2,FALSE))))","v":""},{"$f":"IF(E55=\"\",\"\",IF(②選手情報入力!Q64=\"\",\"\",②選手情報入力!Q64))","v":""},{"$f":"IF(E55=\"\",\"\",IF(②選手情報入力!O64=\"\",\"\",1))","v":""},{"$f":"IF(E55=\"\",\"\",IF(②選手情報入力!P64=\"\",\"\",IF(I55=1,VLOOKUP(②選手情報入力!P64,種目情報!$A$4:$C$36,3,FALSE),VLOOKUP(②選手情報入力!P64,種目情報!$E$4:$G$39,3,FALSE))))","v":""},{"$f":"IF(E55=\"\",\"\",IF(②選手情報入力!R64=\"\",\"\",IF(I55=1,種目情報!$J$4,種目情報!$J$6)))","v":""},{"$f":"IF(E55=\"\",\"\",IF(②選手情報入力!R64=\"\",\"\",IF(I55=1,IF(②選手情報入力!$S$6=\"\",\"\",②選手情報入力!$S$6),IF(②選手情報入力!$S$7=\"\",\"\",②選手情報入力!$S$7))))","v":""},{"$f":"IF(E55=\"\",\"\",IF(②選手情報入力!R64=\"\",\"\",IF(I55=1,IF(②選手情報入力!$R$6=\"\",0,1),IF(②選手情報入力!$R$7=\"\",0,1))))","v":""},{"$f":"IF(E55=\"\",\"\",IF(②選手情報入力!R64=\"\",\"\",2))","v":""},{"$f":"IF(E55=\"\",\"\",IF(②選手情報入力!T64=\"\",\"\",IF(I55=1,種目情報!$J$5,種目情報!$J$7)))","v":""},{"$f":"IF(E55=\"\",\"\",IF(②選手情報入力!T64=\"\",\"\",IF(I55=1,IF(②選手情報入力!$U$6=\"\",\"\",②選手情報入力!$U$6),IF(②選手情報入力!$U$7=\"\",\"\",②選手情報入力!$U$7))))","v":""},{"$f":"IF(E55=\"\",\"\",IF(②選手情報入力!T64=\"\",\"\",IF(I55=1,IF(②選手情報入力!$T$6=\"\",0,1),IF(②選手情報入力!$T$7=\"\",0,1))))","v":""},{"$f":"IF(E55=\"\",\"\",IF(②選手情報入力!T64=\"\",\"\",2))","v":""}]
[{"$f":"IF(E56=\"\",\"\",Sheet1!A55)","v":""},{"$f":"IF(E56=\"\",\"\",①団体情報入力!$C$4)","v":""},null,{"$f":"IF(②選手情報入力!B65=\"\",\"\",②選手情報入力!B65)","v":""},{"$f":"IF(②選手情報入力!C65=\"\",\"\",②選手情報入力!C65)","v":""},{"$f":"IF(E56=\"\",\"\",②選手情報入力!D65)","v":""},{"$f":"IF(E56=\"\",\"\",ASC(②選手情報入力!E65))","v":""},"",{"$f":"IF(E56=\"\",\"\",IF(②選手情報入力!G65=\"男\",1,2))","v":""},{"$f":"IF(E56=\"\",\"\",IF(②選手情報入力!H65=\"\",\"\",②選手情報入力!H65))","v":""},null,null,"",null,{"$f":"IF(E56=\"\",\"\",IF(②選手情報入力!J65=\"\",\"\",IF(I56=1,VLOOKUP(②選手情報入力!J65,種目情報!$A$4:$B$32,2,FALSE),VLOOKUP(②選手情報入力!J65,種目情報!$E$4:$F$34,2,FALSE))))","v":""},{"$f":"IF(E56=\"\",\"\",IF(②選手情報入力!K65=\"\",\"\",②選手情報入力!K65))","v":""},{"$f":"IF(E56=\"\",\"\",IF(②選手情報入力!I65=\"\",\"\",1))","v":""},{"$f":"IF(E56=\"\",\"\",IF(②選手情報入力!J65=\"\",\"\",IF(I56=1,VLOOKUP(②選手情報入力!J65,種目情報!$A$4:$C$36,3,FALSE),VLOOKUP(②選手情報入力!J65,種目情報!$E$4:$G$39,3,FALSE))))","v":""},{"$f":"IF(E56=\"\",\"\",IF(②選手情報入力!M65=\"\",\"\",IF(I56=1,VLOOKUP(②選手情報入力!M65,種目情報!$A$4:$B$36,2,FALSE),VLOOKUP(②選手情報入力!M65,種目情報!$E$4:$F$39,2,FALSE))))","v":""},{"$f":"IF(E56=\"\",\"\",IF(②選手情報入力!N65=\"\",\"\",②選手情報入力!N65))","v":""},{"$f":"IF(E56=\"\",\"\",IF(②選手情報入力!L65=\"\",\"\",1))","v":""},{"$f":"IF(E56=\"\",\"\",IF(②選手情報入力!M65=\"\",\"\",IF(I56=1,VLOOKUP(②選手情報入力!M65,種目情報!$A$4:$C$36,3,FALSE),VLOOKUP(②選手情報入力!M65,種目情報!$E$4:$G$39,3,FALSE))))","v":""},{"$f":"IF(E56=\"\",\"\",IF(②選手情報入力!P65=\"\",\"\",IF(I56=1,VLOOKUP(②選手情報入力!P65,種目情報!$A$4:$B$36,2,FALSE),VLOOKUP(②選手情報入力!P65,種目情報!$E$4:$F$39,2,FALSE))))","v":""},{"$f":"IF(E56=\"\",\"\",IF(②選手情報入力!Q65=\"\",\"\",②選手情報入力!Q65))","v":""},{"$f":"IF(E56=\"\",\"\",IF(②選手情報入力!O65=\"\",\"\",1))","v":""},{"$f":"IF(E56=\"\",\"\",IF(②選手情報入力!P65=\"\",\"\",IF(I56=1,VLOOKUP(②選手情報入力!P65,種目情報!$A$4:$C$36,3,FALSE),VLOOKUP(②選手情報入力!P65,種目情報!$E$4:$G$39,3,FALSE))))","v":""},{"$f":"IF(E56=\"\",\"\",IF(②選手情報入力!R65=\"\",\"\",IF(I56=1,種目情報!$J$4,種目情報!$J$6)))","v":""},{"$f":"IF(E56=\"\",\"\",IF(②選手情報入力!R65=\"\",\"\",IF(I56=1,IF(②選手情報入力!$S$6=\"\",\"\",②選手情報入力!$S$6),IF(②選手情報入力!$S$7=\"\",\"\",②選手情報入力!$S$7))))","v":""},{"$f":"IF(E56=\"\",\"\",IF(②選手情報入力!R65=\"\",\"\",IF(I56=1,IF(②選手情報入力!$R$6=\"\",0,1),IF(②選手情報入力!$R$7=\"\",0,1))))","v":""},{"$f":"IF(E56=\"\",\"\",IF(②選手情報入力!R65=\"\",\"\",2))","v":""},{"$f":"IF(E56=\"\",\"\",IF(②選手情報入力!T65=\"\",\"\",IF(I56=1,種目情報!$J$5,種目情報!$J$7)))","v":""},{"$f":"IF(E56=\"\",\"\",IF(②選手情報入力!T65=\"\",\"\",IF(I56=1,IF(②選手情報入力!$U$6=\"\",\"\",②選手情報入力!$U$6),IF(②選手情報入力!$U$7=\"\",\"\",②選手情報入力!$U$7))))","v":""},{"$f":"IF(E56=\"\",\"\",IF(②選手情報入力!T65=\"\",\"\",IF(I56=1,IF(②選手情報入力!$T$6=\"\",0,1),IF(②選手情報入力!$T$7=\"\",0,1))))","v":""},{"$f":"IF(E56=\"\",\"\",IF(②選手情報入力!T65=\"\",\"\",2))","v":""}]
[{"$f":"IF(E57=\"\",\"\",Sheet1!A56)","v":""},{"$f":"IF(E57=\"\",\"\",①団体情報入力!$C$4)","v":""},null,{"$f":"IF(②選手情報入力!B66=\"\",\"\",②選手情報入力!B66)","v":""},{"$f":"IF(②選手情報入力!C66=\"\",\"\",②選手情報入力!C66)","v":""},{"$f":"IF(E57=\"\",\"\",②選手情報入力!D66)","v":""},{"$f":"IF(E57=\"\",\"\",ASC(②選手情報入力!E66))","v":""},"",{"$f":"IF(E57=\"\",\"\",IF(②選手情報入力!G66=\"男\",1,2))","v":""},{"$f":"IF(E57=\"\",\"\",IF(②選手情報入力!H66=\"\",\"\",②選手情報入力!H66))","v":""},null,null,"",null,{"$f":"IF(E57=\"\",\"\",IF(②選手情報入力!J66=\"\",\"\",IF(I57=1,VLOOKUP(②選手情報入力!J66,種目情報!$A$4:$B$32,2,FALSE),VLOOKUP(②選手情報入力!J66,種目情報!$E$4:$F$34,2,FALSE))))","v":""},{"$f":"IF(E57=\"\",\"\",IF(②選手情報入力!K66=\"\",\"\",②選手情報入力!K66))","v":""},{"$f":"IF(E57=\"\",\"\",IF(②選手情報入力!I66=\"\",\"\",1))","v":""},{"$f":"IF(E57=\"\",\"\",IF(②選手情報入力!J66=\"\",\"\",IF(I57=1,VLOOKUP(②選手情報入力!J66,種目情報!$A$4:$C$36,3,FALSE),VLOOKUP(②選手情報入力!J66,種目情報!$E$4:$G$39,3,FALSE))))","v":""},{"$f":"IF(E57=\"\",\"\",IF(②選手情報入力!M66=\"\",\"\",IF(I57=1,VLOOKUP(②選手情報入力!M66,種目情報!$A$4:$B$36,2,FALSE),VLOOKUP(②選手情報入力!M66,種目情報!$E$4:$F$39,2,FALSE))))","v":""},{"$f":"IF(E57=\"\",\"\",IF(②選手情報入力!N66=\"\",\"\",②選手情報入力!N66))","v":""},{"$f":"IF(E57=\"\",\"\",IF(②選手情報入力!L66=\"\",\"\",1))","v":""},{"$f":"IF(E57=\"\",\"\",IF(②選手情報入力!M66=\"\",\"\",IF(I57=1,VLOOKUP(②選手情報入力!M66,種目情報!$A$4:$C$36,3,FALSE),VLOOKUP(②選手情報入力!M66,種目情報!$E$4:$G$39,3,FALSE))))","v":""},{"$f":"IF(E57=\"\",\"\",IF(②選手情報入力!P66=\"\",\"\",IF(I57=1,VLOOKUP(②選手情報入力!P66,種目情報!$A$4:$B$36,2,FALSE),VLOOKUP(②選手情報入力!P66,種目情報!$E$4:$F$39,2,FALSE))))","v":""},{"$f":"IF(E57=\"\",\"\",IF(②選手情報入力!Q66=\"\",\"\",②選手情報入力!Q66))","v":""},{"$f":"IF(E57=\"\",\"\",IF(②選手情報入力!O66=\"\",\"\",1))","v":""},{"$f":"IF(E57=\"\",\"\",IF(②選手情報入力!P66=\"\",\"\",IF(I57=1,VLOOKUP(②選手情報入力!P66,種目情報!$A$4:$C$36,3,FALSE),VLOOKUP(②選手情報入力!P66,種目情報!$E$4:$G$39,3,FALSE))))","v":""},{"$f":"IF(E57=\"\",\"\",IF(②選手情報入力!R66=\"\",\"\",IF(I57=1,種目情報!$J$4,種目情報!$J$6)))","v":""},{"$f":"IF(E57=\"\",\"\",IF(②選手情報入力!R66=\"\",\"\",IF(I57=1,IF(②選手情報入力!$S$6=\"\",\"\",②選手情報入力!$S$6),IF(②選手情報入力!$S$7=\"\",\"\",②選手情報入力!$S$7))))","v":""},{"$f":"IF(E57=\"\",\"\",IF(②選手情報入力!R66=\"\",\"\",IF(I57=1,IF(②選手情報入力!$R$6=\"\",0,1),IF(②選手情報入力!$R$7=\"\",0,1))))","v":""},{"$f":"IF(E57=\"\",\"\",IF(②選手情報入力!R66=\"\",\"\",2))","v":""},{"$f":"IF(E57=\"\",\"\",IF(②選手情報入力!T66=\"\",\"\",IF(I57=1,種目情報!$J$5,種目情報!$J$7)))","v":""},{"$f":"IF(E57=\"\",\"\",IF(②選手情報入力!T66=\"\",\"\",IF(I57=1,IF(②選手情報入力!$U$6=\"\",\"\",②選手情報入力!$U$6),IF(②選手情報入力!$U$7=\"\",\"\",②選手情報入力!$U$7))))","v":""},{"$f":"IF(E57=\"\",\"\",IF(②選手情報入力!T66=\"\",\"\",IF(I57=1,IF(②選手情報入力!$T$6=\"\",0,1),IF(②選手情報入力!$T$7=\"\",0,1))))","v":""},{"$f":"IF(E57=\"\",\"\",IF(②選手情報入力!T66=\"\",\"\",2))","v":""}]
[{"$f":"IF(E58=\"\",\"\",Sheet1!A57)","v":""},{"$f":"IF(E58=\"\",\"\",①団体情報入力!$C$4)","v":""},null,{"$f":"IF(②選手情報入力!B67=\"\",\"\",②選手情報入力!B67)","v":""},{"$f":"IF(②選手情報入力!C67=\"\",\"\",②選手情報入力!C67)","v":""},{"$f":"IF(E58=\"\",\"\",②選手情報入力!D67)","v":""},{"$f":"IF(E58=\"\",\"\",ASC(②選手情報入力!E67))","v":""},"",{"$f":"IF(E58=\"\",\"\",IF(②選手情報入力!G67=\"男\",1,2))","v":""},{"$f":"IF(E58=\"\",\"\",IF(②選手情報入力!H67=\"\",\"\",②選手情報入力!H67))","v":""},null,null,"",null,{"$f":"IF(E58=\"\",\"\",IF(②選手情報入力!J67=\"\",\"\",IF(I58=1,VLOOKUP(②選手情報入力!J67,種目情報!$A$4:$B$32,2,FALSE),VLOOKUP(②選手情報入力!J67,種目情報!$E$4:$F$34,2,FALSE))))","v":""},{"$f":"IF(E58=\"\",\"\",IF(②選手情報入力!K67=\"\",\"\",②選手情報入力!K67))","v":""},{"$f":"IF(E58=\"\",\"\",IF(②選手情報入力!I67=\"\",\"\",1))","v":""},{"$f":"IF(E58=\"\",\"\",IF(②選手情報入力!J67=\"\",\"\",IF(I58=1,VLOOKUP(②選手情報入力!J67,種目情報!$A$4:$C$36,3,FALSE),VLOOKUP(②選手情報入力!J67,種目情報!$E$4:$G$39,3,FALSE))))","v":""},{"$f":"IF(E58=\"\",\"\",IF(②選手情報入力!M67=\"\",\"\",IF(I58=1,VLOOKUP(②選手情報入力!M67,種目情報!$A$4:$B$36,2,FALSE),VLOOKUP(②選手情報入力!M67,種目情報!$E$4:$F$39,2,FALSE))))","v":""},{"$f":"IF(E58=\"\",\"\",IF(②選手情報入力!N67=\"\",\"\",②選手情報入力!N67))","v":""},{"$f":"IF(E58=\"\",\"\",IF(②選手情報入力!L67=\"\",\"\",1))","v":""},{"$f":"IF(E58=\"\",\"\",IF(②選手情報入力!M67=\"\",\"\",IF(I58=1,VLOOKUP(②選手情報入力!M67,種目情報!$A$4:$C$36,3,FALSE),VLOOKUP(②選手情報入力!M67,種目情報!$E$4:$G$39,3,FALSE))))","v":""},{"$f":"IF(E58=\"\",\"\",IF(②選手情報入力!P67=\"\",\"\",IF(I58=1,VLOOKUP(②選手情報入力!P67,種目情報!$A$4:$B$36,2,FALSE),VLOOKUP(②選手情報入力!P67,種目情報!$E$4:$F$39,2,FALSE))))","v":""},{"$f":"IF(E58=\"\",\"\",IF(②選手情報入力!Q67=\"\",\"\",②選手情報入力!Q67))","v":""},{"$f":"IF(E58=\"\",\"\",IF(②選手情報入力!O67=\"\",\"\",1))","v":""},{"$f":"IF(E58=\"\",\"\",IF(②選手情報入力!P67=\"\",\"\",IF(I58=1,VLOOKUP(②選手情報入力!P67,種目情報!$A$4:$C$36,3,FALSE),VLOOKUP(②選手情報入力!P67,種目情報!$E$4:$G$39,3,FALSE))))","v":""},{"$f":"IF(E58=\"\",\"\",IF(②選手情報入力!R67=\"\",\"\",IF(I58=1,種目情報!$J$4,種目情報!$J$6)))","v":""},{"$f":"IF(E58=\"\",\"\",IF(②選手情報入力!R67=\"\",\"\",IF(I58=1,IF(②選手情報入力!$S$6=\"\",\"\",②選手情報入力!$S$6),IF(②選手情報入力!$S$7=\"\",\"\",②選手情報入力!$S$7))))","v":""},{"$f":"IF(E58=\"\",\"\",IF(②選手情報入力!R67=\"\",\"\",IF(I58=1,IF(②選手情報入力!$R$6=\"\",0,1),IF(②選手情報入力!$R$7=\"\",0,1))))","v":""},{"$f":"IF(E58=\"\",\"\",IF(②選手情報入力!R67=\"\",\"\",2))","v":""},{"$f":"IF(E58=\"\",\"\",IF(②選手情報入力!T67=\"\",\"\",IF(I58=1,種目情報!$J$5,種目情報!$J$7)))","v":""},{"$f":"IF(E58=\"\",\"\",IF(②選手情報入力!T67=\"\",\"\",IF(I58=1,IF(②選手情報入力!$U$6=\"\",\"\",②選手情報入力!$U$6),IF(②選手情報入力!$U$7=\"\",\"\",②選手情報入力!$U$7))))","v":""},{"$f":"IF(E58=\"\",\"\",IF(②選手情報入力!T67=\"\",\"\",IF(I58=1,IF(②選手情報入力!$T$6=\"\",0,1),IF(②選手情報入力!$T$7=\"\",0,1))))","v":""},{"$f":"IF(E58=\"\",\"\",IF(②選手情報入力!T67=\"\",\"\",2))","v":""}]
[{"$f":"IF(E59=\"\",\"\",Sheet1!A58)","v":""},{"$f":"IF(E59=\"\",\"\",①団体情報入力!$C$4)","v":""},null,{"$f":"IF(②選手情報入力!B68=\"\",\"\",②選手情報入力!B68)","v":""},{"$f":"IF(②選手情報入力!C68=\"\",\"\",②選手情報入力!C68)","v":""},{"$f":"IF(E59=\"\",\"\",②選手情報入力!D68)","v":""},{"$f":"IF(E59=\"\",\"\",ASC(②選手情報入力!E68))","v":""},"",{"$f":"IF(E59=\"\",\"\",IF(②選手情報入力!G68=\"男\",1,2))","v":""},{"$f":"IF(E59=\"\",\"\",IF(②選手情報入力!H68=\"\",\"\",②選手情報入力!H68))","v":""},null,null,"",null,{"$f":"IF(E59=\"\",\"\",IF(②選手情報入力!J68=\"\",\"\",IF(I59=1,VLOOKUP(②選手情報入力!J68,種目情報!$A$4:$B$32,2,FALSE),VLOOKUP(②選手情報入力!J68,種目情報!$E$4:$F$34,2,FALSE))))","v":""},{"$f":"IF(E59=\"\",\"\",IF(②選手情報入力!K68=\"\",\"\",②選手情報入力!K68))","v":""},{"$f":"IF(E59=\"\",\"\",IF(②選手情報入力!I68=\"\",\"\",1))","v":""},{"$f":"IF(E59=\"\",\"\",IF(②選手情報入力!J68=\"\",\"\",IF(I59=1,VLOOKUP(②選手情報入力!J68,種目情報!$A$4:$C$36,3,FALSE),VLOOKUP(②選手情報入力!J68,種目情報!$E$4:$G$39,3,FALSE))))","v":""},{"$f":"IF(E59=\"\",\"\",IF(②選手情報入力!M68=\"\",\"\",IF(I59=1,VLOOKUP(②選手情報入力!M68,種目情報!$A$4:$B$36,2,FALSE),VLOOKUP(②選手情報入力!M68,種目情報!$E$4:$F$39,2,FALSE))))","v":""},{"$f":"IF(E59=\"\",\"\",IF(②選手情報入力!N68=\"\",\"\",②選手情報入力!N68))","v":""},{"$f":"IF(E59=\"\",\"\",IF(②選手情報入力!L68=\"\",\"\",1))","v":""},{"$f":"IF(E59=\"\",\"\",IF(②選手情報入力!M68=\"\",\"\",IF(I59=1,VLOOKUP(②選手情報入力!M68,種目情報!$A$4:$C$36,3,FALSE),VLOOKUP(②選手情報入力!M68,種目情報!$E$4:$G$39,3,FALSE))))","v":""},{"$f":"IF(E59=\"\",\"\",IF(②選手情報入力!P68=\"\",\"\",IF(I59=1,VLOOKUP(②選手情報入力!P68,種目情報!$A$4:$B$36,2,FALSE),VLOOKUP(②選手情報入力!P68,種目情報!$E$4:$F$39,2,FALSE))))","v":""},{"$f":"IF(E59=\"\",\"\",IF(②選手情報入力!Q68=\"\",\"\",②選手情報入力!Q68))","v":""},{"$f":"IF(E59=\"\",\"\",IF(②選手情報入力!O68=\"\",\"\",1))","v":""},{"$f":"IF(E59=\"\",\"\",IF(②選手情報入力!P68=\"\",\"\",IF(I59=1,VLOOKUP(②選手情報入力!P68,種目情報!$A$4:$C$36,3,FALSE),VLOOKUP(②選手情報入力!P68,種目情報!$E$4:$G$39,3,FALSE))))","v":""},{"$f":"IF(E59=\"\",\"\",IF(②選手情報入力!R68=\"\",\"\",IF(I59=1,種目情報!$J$4,種目情報!$J$6)))","v":""},{"$f":"IF(E59=\"\",\"\",IF(②選手情報入力!R68=\"\",\"\",IF(I59=1,IF(②選手情報入力!$S$6=\"\",\"\",②選手情報入力!$S$6),IF(②選手情報入力!$S$7=\"\",\"\",②選手情報入力!$S$7))))","v":""},{"$f":"IF(E59=\"\",\"\",IF(②選手情報入力!R68=\"\",\"\",IF(I59=1,IF(②選手情報入力!$R$6=\"\",0,1),IF(②選手情報入力!$R$7=\"\",0,1))))","v":""},{"$f":"IF(E59=\"\",\"\",IF(②選手情報入力!R68=\"\",\"\",2))","v":""},{"$f":"IF(E59=\"\",\"\",IF(②選手情報入力!T68=\"\",\"\",IF(I59=1,種目情報!$J$5,種目情報!$J$7)))","v":""},{"$f":"IF(E59=\"\",\"\",IF(②選手情報入力!T68=\"\",\"\",IF(I59=1,IF(②選手情報入力!$U$6=\"\",\"\",②選手情報入力!$U$6),IF(②選手情報入力!$U$7=\"\",\"\",②選手情報入力!$U$7))))","v":""},{"$f":"IF(E59=\"\",\"\",IF(②選手情報入力!T68=\"\",\"\",IF(I59=1,IF(②選手情報入力!$T$6=\"\",0,1),IF(②選手情報入力!$T$7=\"\",0,1))))","v":""},{"$f":"IF(E59=\"\",\"\",IF(②選手情報入力!T68=\"\",\"\",2))","v":""}]
[{"$f":"IF(E60=\"\",\"\",Sheet1!A59)","v":""},{"$f":"IF(E60=\"\",\"\",①団体情報入力!$C$4)","v":""},null,{"$f":"IF(②選手情報入力!B69=\"\",\"\",②選手情報入力!B69)","v":""},{"$f":"IF(②選手情報入力!C69=\"\",\"\",②選手情報入力!C69)","v":""},{"$f":"IF(E60=\"\",\"\",②選手情報入力!D69)","v":""},{"$f":"IF(E60=\"\",\"\",ASC(②選手情報入力!E69))","v":""},"",{"$f":"IF(E60=\"\",\"\",IF(②選手情報入力!G69=\"男\",1,2))","v":""},{"$f":"IF(E60=\"\",\"\",IF(②選手情報入力!H69=\"\",\"\",②選手情報入力!H69))","v":""},null,null,"",null,{"$f":"IF(E60=\"\",\"\",IF(②選手情報入力!J69=\"\",\"\",IF(I60=1,VLOOKUP(②選手情報入力!J69,種目情報!$A$4:$B$32,2,FALSE),VLOOKUP(②選手情報入力!J69,種目情報!$E$4:$F$34,2,FALSE))))","v":""},{"$f":"IF(E60=\"\",\"\",IF(②選手情報入力!K69=\"\",\"\",②選手情報入力!K69))","v":""},{"$f":"IF(E60=\"\",\"\",IF(②選手情報入力!I69=\"\",\"\",1))","v":""},{"$f":"IF(E60=\"\",\"\",IF(②選手情報入力!J69=\"\",\"\",IF(I60=1,VLOOKUP(②選手情報入力!J69,種目情報!$A$4:$C$36,3,FALSE),VLOOKUP(②選手情報入力!J69,種目情報!$E$4:$G$39,3,FALSE))))","v":""},{"$f":"IF(E60=\"\",\"\",IF(②選手情報入力!M69=\"\",\"\",IF(I60=1,VLOOKUP(②選手情報入力!M69,種目情報!$A$4:$B$36,2,FALSE),VLOOKUP(②選手情報入力!M69,種目情報!$E$4:$F$39,2,FALSE))))","v":""},{"$f":"IF(E60=\"\",\"\",IF(②選手情報入力!N69=\"\",\"\",②選手情報入力!N69))","v":""},{"$f":"IF(E60=\"\",\"\",IF(②選手情報入力!L69=\"\",\"\",1))","v":""},{"$f":"IF(E60=\"\",\"\",IF(②選手情報入力!M69=\"\",\"\",IF(I60=1,VLOOKUP(②選手情報入力!M69,種目情報!$A$4:$C$36,3,FALSE),VLOOKUP(②選手情報入力!M69,種目情報!$E$4:$G$39,3,FALSE))))","v":""},{"$f":"IF(E60=\"\",\"\",IF(②選手情報入力!P69=\"\",\"\",IF(I60=1,VLOOKUP(②選手情報入力!P69,種目情報!$A$4:$B$36,2,FALSE),VLOOKUP(②選手情報入力!P69,種目情報!$E$4:$F$39,2,FALSE))))","v":""},{"$f":"IF(E60=\"\",\"\",IF(②選手情報入力!Q69=\"\",\"\",②選手情報入力!Q69))","v":""},{"$f":"IF(E60=\"\",\"\",IF(②選手情報入力!O69=\"\",\"\",1))","v":""},{"$f":"IF(E60=\"\",\"\",IF(②選手情報入力!P69=\"\",\"\",IF(I60=1,VLOOKUP(②選手情報入力!P69,種目情報!$A$4:$C$36,3,FALSE),VLOOKUP(②選手情報入力!P69,種目情報!$E$4:$G$39,3,FALSE))))","v":""},{"$f":"IF(E60=\"\",\"\",IF(②選手情報入力!R69=\"\",\"\",IF(I60=1,種目情報!$J$4,種目情報!$J$6)))","v":""},{"$f":"IF(E60=\"\",\"\",IF(②選手情報入力!R69=\"\",\"\",IF(I60=1,IF(②選手情報入力!$S$6=\"\",\"\",②選手情報入力!$S$6),IF(②選手情報入力!$S$7=\"\",\"\",②選手情報入力!$S$7))))","v":""},{"$f":"IF(E60=\"\",\"\",IF(②選手情報入力!R69=\"\",\"\",IF(I60=1,IF(②選手情報入力!$R$6=\"\",0,1),IF(②選手情報入力!$R$7=\"\",0,1))))","v":""},{"$f":"IF(E60=\"\",\"\",IF(②選手情報入力!R69=\"\",\"\",2))","v":""},{"$f":"IF(E60=\"\",\"\",IF(②選手情報入力!T69=\"\",\"\",IF(I60=1,種目情報!$J$5,種目情報!$J$7)))","v":""},{"$f":"IF(E60=\"\",\"\",IF(②選手情報入力!T69=\"\",\"\",IF(I60=1,IF(②選手情報入力!$U$6=\"\",\"\",②選手情報入力!$U$6),IF(②選手情報入力!$U$7=\"\",\"\",②選手情報入力!$U$7))))","v":""},{"$f":"IF(E60=\"\",\"\",IF(②選手情報入力!T69=\"\",\"\",IF(I60=1,IF(②選手情報入力!$T$6=\"\",0,1),IF(②選手情報入力!$T$7=\"\",0,1))))","v":""},{"$f":"IF(E60=\"\",\"\",IF(②選手情報入力!T69=\"\",\"\",2))","v":""}]
[{"$f":"IF(E61=\"\",\"\",Sheet1!A60)","v":""},{"$f":"IF(E61=\"\",\"\",①団体情報入力!$C$4)","v":""},null,{"$f":"IF(②選手情報入力!B70=\"\",\"\",②選手情報入力!B70)","v":""},{"$f":"IF(②選手情報入力!C70=\"\",\"\",②選手情報入力!C70)","v":""},{"$f":"IF(E61=\"\",\"\",②選手情報入力!D70)","v":""},{"$f":"IF(E61=\"\",\"\",ASC(②選手情報入力!E70))","v":""},"",{"$f":"IF(E61=\"\",\"\",IF(②選手情報入力!G70=\"男\",1,2))","v":""},{"$f":"IF(E61=\"\",\"\",IF(②選手情報入力!H70=\"\",\"\",②選手情報入力!H70))","v":""},null,null,"",null,{"$f":"IF(E61=\"\",\"\",IF(②選手情報入力!J70=\"\",\"\",IF(I61=1,VLOOKUP(②選手情報入力!J70,種目情報!$A$4:$B$32,2,FALSE),VLOOKUP(②選手情報入力!J70,種目情報!$E$4:$F$34,2,FALSE))))","v":""},{"$f":"IF(E61=\"\",\"\",IF(②選手情報入力!K70=\"\",\"\",②選手情報入力!K70))","v":""},{"$f":"IF(E61=\"\",\"\",IF(②選手情報入力!I70=\"\",\"\",1))","v":""},{"$f":"IF(E61=\"\",\"\",IF(②選手情報入力!J70=\"\",\"\",IF(I61=1,VLOOKUP(②選手情報入力!J70,種目情報!$A$4:$C$36,3,FALSE),VLOOKUP(②選手情報入力!J70,種目情報!$E$4:$G$39,3,FALSE))))","v":""},{"$f":"IF(E61=\"\",\"\",IF(②選手情報入力!M70=\"\",\"\",IF(I61=1,VLOOKUP(②選手情報入力!M70,種目情報!$A$4:$B$36,2,FALSE),VLOOKUP(②選手情報入力!M70,種目情報!$E$4:$F$39,2,FALSE))))","v":""},{"$f":"IF(E61=\"\",\"\",IF(②選手情報入力!N70=\"\",\"\",②選手情報入力!N70))","v":""},{"$f":"IF(E61=\"\",\"\",IF(②選手情報入力!L70=\"\",\"\",1))","v":""},{"$f":"IF(E61=\"\",\"\",IF(②選手情報入力!M70=\"\",\"\",IF(I61=1,VLOOKUP(②選手情報入力!M70,種目情報!$A$4:$C$36,3,FALSE),VLOOKUP(②選手情報入力!M70,種目情報!$E$4:$G$39,3,FALSE))))","v":""},{"$f":"IF(E61=\"\",\"\",IF(②選手情報入力!P70=\"\",\"\",IF(I61=1,VLOOKUP(②選手情報入力!P70,種目情報!$A$4:$B$36,2,FALSE),VLOOKUP(②選手情報入力!P70,種目情報!$E$4:$F$39,2,FALSE))))","v":""},{"$f":"IF(E61=\"\",\"\",IF(②選手情報入力!Q70=\"\",\"\",②選手情報入力!Q70))","v":""},{"$f":"IF(E61=\"\",\"\",IF(②選手情報入力!O70=\"\",\"\",1))","v":""},{"$f":"IF(E61=\"\",\"\",IF(②選手情報入力!P70=\"\",\"\",IF(I61=1,VLOOKUP(②選手情報入力!P70,種目情報!$A$4:$C$36,3,FALSE),VLOOKUP(②選手情報入力!P70,種目情報!$E$4:$G$39,3,FALSE))))","v":""},{"$f":"IF(E61=\"\",\"\",IF(②選手情報入力!R70=\"\",\"\",IF(I61=1,種目情報!$J$4,種目情報!$J$6)))","v":""},{"$f":"IF(E61=\"\",\"\",IF(②選手情報入力!R70=\"\",\"\",IF(I61=1,IF(②選手情報入力!$S$6=\"\",\"\",②選手情報入力!$S$6),IF(②選手情報入力!$S$7=\"\",\"\",②選手情報入力!$S$7))))","v":""},{"$f":"IF(E61=\"\",\"\",IF(②選手情報入力!R70=\"\",\"\",IF(I61=1,IF(②選手情報入力!$R$6=\"\",0,1),IF(②選手情報入力!$R$7=\"\",0,1))))","v":""},{"$f":"IF(E61=\"\",\"\",IF(②選手情報入力!R70=\"\",\"\",2))","v":""},{"$f":"IF(E61=\"\",\"\",IF(②選手情報入力!T70=\"\",\"\",IF(I61=1,種目情報!$J$5,種目情報!$J$7)))","v":""},{"$f":"IF(E61=\"\",\"\",IF(②選手情報入力!T70=\"\",\"\",IF(I61=1,IF(②選手情報入力!$U$6=\"\",\"\",②選手情報入力!$U$6),IF(②選手情報入力!$U$7=\"\",\"\",②選手情報入力!$U$7))))","v":""},{"$f":"IF(E61=\"\",\"\",IF(②選手情報入力!T70=\"\",\"\",IF(I61=1,IF(②選手情報入力!$T$6=\"\",0,1),IF(②選手情報入力!$T$7=\"\",0,1))))","v":""},{"$f":"IF(E61=\"\",\"\",IF(②選手情報入力!T70=\"\",\"\",2))","v":""}]
[{"$f":"IF(E62=\"\",\"\",Sheet1!A61)","v":""},{"$f":"IF(E62=\"\",\"\",①団体情報入力!$C$4)","v":""},null,{"$f":"IF(②選手情報入力!B71=\"\",\"\",②選手情報入力!B71)","v":""},{"$f":"IF(②選手情報入力!C71=\"\",\"\",②選手情報入力!C71)","v":""},{"$f":"IF(E62=\"\",\"\",②選手情報入力!D71)","v":""},{"$f":"IF(E62=\"\",\"\",ASC(②選手情報入力!E71))","v":""},"",{"$f":"IF(E62=\"\",\"\",IF(②選手情報入力!G71=\"男\",1,2))","v":""},{"$f":"IF(E62=\"\",\"\",IF(②選手情報入力!H71=\"\",\"\",②選手情報入力!H71))","v":""},null,null,"",null,{"$f":"IF(E62=\"\",\"\",IF(②選手情報入力!J71=\"\",\"\",IF(I62=1,VLOOKUP(②選手情報入力!J71,種目情報!$A$4:$B$32,2,FALSE),VLOOKUP(②選手情報入力!J71,種目情報!$E$4:$F$34,2,FALSE))))","v":""},{"$f":"IF(E62=\"\",\"\",IF(②選手情報入力!K71=\"\",\"\",②選手情報入力!K71))","v":""},{"$f":"IF(E62=\"\",\"\",IF(②選手情報入力!I71=\"\",\"\",1))","v":""},{"$f":"IF(E62=\"\",\"\",IF(②選手情報入力!J71=\"\",\"\",IF(I62=1,VLOOKUP(②選手情報入力!J71,種目情報!$A$4:$C$36,3,FALSE),VLOOKUP(②選手情報入力!J71,種目情報!$E$4:$G$39,3,FALSE))))","v":""},{"$f":"IF(E62=\"\",\"\",IF(②選手情報入力!M71=\"\",\"\",IF(I62=1,VLOOKUP(②選手情報入力!M71,種目情報!$A$4:$B$36,2,FALSE),VLOOKUP(②選手情報入力!M71,種目情報!$E$4:$F$39,2,FALSE))))","v":""},{"$f":"IF(E62=\"\",\"\",IF(②選手情報入力!N71=\"\",\"\",②選手情報入力!N71))","v":""},{"$f":"IF(E62=\"\",\"\",IF(②選手情報入力!L71=\"\",\"\",1))","v":""},{"$f":"IF(E62=\"\",\"\",IF(②選手情報入力!M71=\"\",\"\",IF(I62=1,VLOOKUP(②選手情報入力!M71,種目情報!$A$4:$C$36,3,FALSE),VLOOKUP(②選手情報入力!M71,種目情報!$E$4:$G$39,3,FALSE))))","v":""},{"$f":"IF(E62=\"\",\"\",IF(②選手情報入力!P71=\"\",\"\",IF(I62=1,VLOOKUP(②選手情報入力!P71,種目情報!$A$4:$B$36,2,FALSE),VLOOKUP(②選手情報入力!P71,種目情報!$E$4:$F$39,2,FALSE))))","v":""},{"$f":"IF(E62=\"\",\"\",IF(②選手情報入力!Q71=\"\",\"\",②選手情報入力!Q71))","v":""},{"$f":"IF(E62=\"\",\"\",IF(②選手情報入力!O71=\"\",\"\",1))","v":""},{"$f":"IF(E62=\"\",\"\",IF(②選手情報入力!P71=\"\",\"\",IF(I62=1,VLOOKUP(②選手情報入力!P71,種目情報!$A$4:$C$36,3,FALSE),VLOOKUP(②選手情報入力!P71,種目情報!$E$4:$G$39,3,FALSE))))","v":""},{"$f":"IF(E62=\"\",\"\",IF(②選手情報入力!R71=\"\",\"\",IF(I62=1,種目情報!$J$4,種目情報!$J$6)))","v":""},{"$f":"IF(E62=\"\",\"\",IF(②選手情報入力!R71=\"\",\"\",IF(I62=1,IF(②選手情報入力!$S$6=\"\",\"\",②選手情報入力!$S$6),IF(②選手情報入力!$S$7=\"\",\"\",②選手情報入力!$S$7))))","v":""},{"$f":"IF(E62=\"\",\"\",IF(②選手情報入力!R71=\"\",\"\",IF(I62=1,IF(②選手情報入力!$R$6=\"\",0,1),IF(②選手情報入力!$R$7=\"\",0,1))))","v":""},{"$f":"IF(E62=\"\",\"\",IF(②選手情報入力!R71=\"\",\"\",2))","v":""},{"$f":"IF(E62=\"\",\"\",IF(②選手情報入力!T71=\"\",\"\",IF(I62=1,種目情報!$J$5,種目情報!$J$7)))","v":""},{"$f":"IF(E62=\"\",\"\",IF(②選手情報入力!T71=\"\",\"\",IF(I62=1,IF(②選手情報入力!$U$6=\"\",\"\",②選手情報入力!$U$6),IF(②選手情報入力!$U$7=\"\",\"\",②選手情報入力!$U$7))))","v":""},{"$f":"IF(E62=\"\",\"\",IF(②選手情報入力!T71=\"\",\"\",IF(I62=1,IF(②選手情報入力!$T$6=\"\",0,1),IF(②選手情報入力!$T$7=\"\",0,1))))","v":""},{"$f":"IF(E62=\"\",\"\",IF(②選手情報入力!T71=\"\",\"\",2))","v":""}]
[{"$f":"IF(E63=\"\",\"\",Sheet1!A62)","v":""},{"$f":"IF(E63=\"\",\"\",①団体情報入力!$C$4)","v":""},null,{"$f":"IF(②選手情報入力!B72=\"\",\"\",②選手情報入力!B72)","v":""},{"$f":"IF(②選手情報入力!C72=\"\",\"\",②選手情報入力!C72)","v":""},{"$f":"IF(E63=\"\",\"\",②選手情報入力!D72)","v":""},{"$f":"IF(E63=\"\",\"\",ASC(②選手情報入力!E72))","v":""},"",{"$f":"IF(E63=\"\",\"\",IF(②選手情報入力!G72=\"男\",1,2))","v":""},{"$f":"IF(E63=\"\",\"\",IF(②選手情報入力!H72=\"\",\"\",②選手情報入力!H72))","v":""},null,null,"",null,{"$f":"IF(E63=\"\",\"\",IF(②選手情報入力!J72=\"\",\"\",IF(I63=1,VLOOKUP(②選手情報入力!J72,種目情報!$A$4:$B$32,2,FALSE),VLOOKUP(②選手情報入力!J72,種目情報!$E$4:$F$34,2,FALSE))))","v":""},{"$f":"IF(E63=\"\",\"\",IF(②選手情報入力!K72=\"\",\"\",②選手情報入力!K72))","v":""},{"$f":"IF(E63=\"\",\"\",IF(②選手情報入力!I72=\"\",\"\",1))","v":""},{"$f":"IF(E63=\"\",\"\",IF(②選手情報入力!J72=\"\",\"\",IF(I63=1,VLOOKUP(②選手情報入力!J72,種目情報!$A$4:$C$36,3,FALSE),VLOOKUP(②選手情報入力!J72,種目情報!$E$4:$G$39,3,FALSE))))","v":""},{"$f":"IF(E63=\"\",\"\",IF(②選手情報入力!M72=\"\",\"\",IF(I63=1,VLOOKUP(②選手情報入力!M72,種目情報!$A$4:$B$36,2,FALSE),VLOOKUP(②選手情報入力!M72,種目情報!$E$4:$F$39,2,FALSE))))","v":""},{"$f":"IF(E63=\"\",\"\",IF(②選手情報入力!N72=\"\",\"\",②選手情報入力!N72))","v":""},{"$f":"IF(E63=\"\",\"\",IF(②選手情報入力!L72=\"\",\"\",1))","v":""},{"$f":"IF(E63=\"\",\"\",IF(②選手情報入力!M72=\"\",\"\",IF(I63=1,VLOOKUP(②選手情報入力!M72,種目情報!$A$4:$C$36,3,FALSE),VLOOKUP(②選手情報入力!M72,種目情報!$E$4:$G$39,3,FALSE))))","v":""},{"$f":"IF(E63=\"\",\"\",IF(②選手情報入力!P72=\"\",\"\",IF(I63=1,VLOOKUP(②選手情報入力!P72,種目情報!$A$4:$B$36,2,FALSE),VLOOKUP(②選手情報入力!P72,種目情報!$E$4:$F$39,2,FALSE))))","v":""},{"$f":"IF(E63=\"\",\"\",IF(②選手情報入力!Q72=\"\",\"\",②選手情報入力!Q72))","v":""},{"$f":"IF(E63=\"\",\"\",IF(②選手情報入力!O72=\"\",\"\",1))","v":""},{"$f":"IF(E63=\"\",\"\",IF(②選手情報入力!P72=\"\",\"\",IF(I63=1,VLOOKUP(②選手情報入力!P72,種目情報!$A$4:$C$36,3,FALSE),VLOOKUP(②選手情報入力!P72,種目情報!$E$4:$G$39,3,FALSE))))","v":""},{"$f":"IF(E63=\"\",\"\",IF(②選手情報入力!R72=\"\",\"\",IF(I63=1,種目情報!$J$4,種目情報!$J$6)))","v":""},{"$f":"IF(E63=\"\",\"\",IF(②選手情報入力!R72=\"\",\"\",IF(I63=1,IF(②選手情報入力!$S$6=\"\",\"\",②選手情報入力!$S$6),IF(②選手情報入力!$S$7=\"\",\"\",②選手情報入力!$S$7))))","v":""},{"$f":"IF(E63=\"\",\"\",IF(②選手情報入力!R72=\"\",\"\",IF(I63=1,IF(②選手情報入力!$R$6=\"\",0,1),IF(②選手情報入力!$R$7=\"\",0,1))))","v":""},{"$f":"IF(E63=\"\",\"\",IF(②選手情報入力!R72=\"\",\"\",2))","v":""},{"$f":"IF(E63=\"\",\"\",IF(②選手情報入力!T72=\"\",\"\",IF(I63=1,種目情報!$J$5,種目情報!$J$7)))","v":""},{"$f":"IF(E63=\"\",\"\",IF(②選手情報入力!T72=\"\",\"\",IF(I63=1,IF(②選手情報入力!$U$6=\"\",\"\",②選手情報入力!$U$6),IF(②選手情報入力!$U$7=\"\",\"\",②選手情報入力!$U$7))))","v":""},{"$f":"IF(E63=\"\",\"\",IF(②選手情報入力!T72=\"\",\"\",IF(I63=1,IF(②選手情報入力!$T$6=\"\",0,1),IF(②選手情報入力!$T$7=\"\",0,1))))","v":""},{"$f":"IF(E63=\"\",\"\",IF(②選手情報入力!T72=\"\",\"\",2))","v":""}]
[{"$f":"IF(E64=\"\",\"\",Sheet1!A63)","v":""},{"$f":"IF(E64=\"\",\"\",①団体情報入力!$C$4)","v":""},null,{"$f":"IF(②選手情報入力!B73=\"\",\"\",②選手情報入力!B73)","v":""},{"$f":"IF(②選手情報入力!C73=\"\",\"\",②選手情報入力!C73)","v":""},{"$f":"IF(E64=\"\",\"\",②選手情報入力!D73)","v":""},{"$f":"IF(E64=\"\",\"\",ASC(②選手情報入力!E73))","v":""},"",{"$f":"IF(E64=\"\",\"\",IF(②選手情報入力!G73=\"男\",1,2))","v":""},{"$f":"IF(E64=\"\",\"\",IF(②選手情報入力!H73=\"\",\"\",②選手情報入力!H73))","v":""},null,null,"",null,{"$f":"IF(E64=\"\",\"\",IF(②選手情報入力!J73=\"\",\"\",IF(I64=1,VLOOKUP(②選手情報入力!J73,種目情報!$A$4:$B$32,2,FALSE),VLOOKUP(②選手情報入力!J73,種目情報!$E$4:$F$34,2,FALSE))))","v":""},{"$f":"IF(E64=\"\",\"\",IF(②選手情報入力!K73=\"\",\"\",②選手情報入力!K73))","v":""},{"$f":"IF(E64=\"\",\"\",IF(②選手情報入力!I73=\"\",\"\",1))","v":""},{"$f":"IF(E64=\"\",\"\",IF(②選手情報入力!J73=\"\",\"\",IF(I64=1,VLOOKUP(②選手情報入力!J73,種目情報!$A$4:$C$36,3,FALSE),VLOOKUP(②選手情報入力!J73,種目情報!$E$4:$G$39,3,FALSE))))","v":""},{"$f":"IF(E64=\"\",\"\",IF(②選手情報入力!M73=\"\",\"\",IF(I64=1,VLOOKUP(②選手情報入力!M73,種目情報!$A$4:$B$36,2,FALSE),VLOOKUP(②選手情報入力!M73,種目情報!$E$4:$F$39,2,FALSE))))","v":""},{"$f":"IF(E64=\"\",\"\",IF(②選手情報入力!N73=\"\",\"\",②選手情報入力!N73))","v":""},{"$f":"IF(E64=\"\",\"\",IF(②選手情報入力!L73=\"\",\"\",1))","v":""},{"$f":"IF(E64=\"\",\"\",IF(②選手情報入力!M73=\"\",\"\",IF(I64=1,VLOOKUP(②選手情報入力!M73,種目情報!$A$4:$C$36,3,FALSE),VLOOKUP(②選手情報入力!M73,種目情報!$E$4:$G$39,3,FALSE))))","v":""},{"$f":"IF(E64=\"\",\"\",IF(②選手情報入力!P73=\"\",\"\",IF(I64=1,VLOOKUP(②選手情報入力!P73,種目情報!$A$4:$B$36,2,FALSE),VLOOKUP(②選手情報入力!P73,種目情報!$E$4:$F$39,2,FALSE))))","v":""},{"$f":"IF(E64=\"\",\"\",IF(②選手情報入力!Q73=\"\",\"\",②選手情報入力!Q73))","v":""},{"$f":"IF(E64=\"\",\"\",IF(②選手情報入力!O73=\"\",\"\",1))","v":""},{"$f":"IF(E64=\"\",\"\",IF(②選手情報入力!P73=\"\",\"\",IF(I64=1,VLOOKUP(②選手情報入力!P73,種目情報!$A$4:$C$36,3,FALSE),VLOOKUP(②選手情報入力!P73,種目情報!$E$4:$G$39,3,FALSE))))","v":""},{"$f":"IF(E64=\"\",\"\",IF(②選手情報入力!R73=\"\",\"\",IF(I64=1,種目情報!$J$4,種目情報!$J$6)))","v":""},{"$f":"IF(E64=\"\",\"\",IF(②選手情報入力!R73=\"\",\"\",IF(I64=1,IF(②選手情報入力!$S$6=\"\",\"\",②選手情報入力!$S$6),IF(②選手情報入力!$S$7=\"\",\"\",②選手情報入力!$S$7))))","v":""},{"$f":"IF(E64=\"\",\"\",IF(②選手情報入力!R73=\"\",\"\",IF(I64=1,IF(②選手情報入力!$R$6=\"\",0,1),IF(②選手情報入力!$R$7=\"\",0,1))))","v":""},{"$f":"IF(E64=\"\",\"\",IF(②選手情報入力!R73=\"\",\"\",2))","v":""},{"$f":"IF(E64=\"\",\"\",IF(②選手情報入力!T73=\"\",\"\",IF(I64=1,種目情報!$J$5,種目情報!$J$7)))","v":""},{"$f":"IF(E64=\"\",\"\",IF(②選手情報入力!T73=\"\",\"\",IF(I64=1,IF(②選手情報入力!$U$6=\"\",\"\",②選手情報入力!$U$6),IF(②選手情報入力!$U$7=\"\",\"\",②選手情報入力!$U$7))))","v":""},{"$f":"IF(E64=\"\",\"\",IF(②選手情報入力!T73=\"\",\"\",IF(I64=1,IF(②選手情報入力!$T$6=\"\",0,1),IF(②選手情報入力!$T$7=\"\",0,1))))","v":""},{"$f":"IF(E64=\"\",\"\",IF(②選手情報入力!T73=\"\",\"\",2))","v":""}]
[{"$f":"IF(E65=\"\",\"\",Sheet1!A64)","v":""},{"$f":"IF(E65=\"\",\"\",①団体情報入力!$C$4)","v":""},null,{"$f":"IF(②選手情報入力!B74=\"\",\"\",②選手情報入力!B74)","v":""},{"$f":"IF(②選手情報入力!C74=\"\",\"\",②選手情報入力!C74)","v":""},{"$f":"IF(E65=\"\",\"\",②選手情報入力!D74)","v":""},{"$f":"IF(E65=\"\",\"\",ASC(②選手情報入力!E74))","v":""},"",{"$f":"IF(E65=\"\",\"\",IF(②選手情報入力!G74=\"男\",1,2))","v":""},{"$f":"IF(E65=\"\",\"\",IF(②選手情報入力!H74=\"\",\"\",②選手情報入力!H74))","v":""},null,null,"",null,{"$f":"IF(E65=\"\",\"\",IF(②選手情報入力!J74=\"\",\"\",IF(I65=1,VLOOKUP(②選手情報入力!J74,種目情報!$A$4:$B$32,2,FALSE),VLOOKUP(②選手情報入力!J74,種目情報!$E$4:$F$34,2,FALSE))))","v":""},{"$f":"IF(E65=\"\",\"\",IF(②選手情報入力!K74=\"\",\"\",②選手情報入力!K74))","v":""},{"$f":"IF(E65=\"\",\"\",IF(②選手情報入力!I74=\"\",\"\",1))","v":""},{"$f":"IF(E65=\"\",\"\",IF(②選手情報入力!J74=\"\",\"\",IF(I65=1,VLOOKUP(②選手情報入力!J74,種目情報!$A$4:$C$36,3,FALSE),VLOOKUP(②選手情報入力!J74,種目情報!$E$4:$G$39,3,FALSE))))","v":""},{"$f":"IF(E65=\"\",\"\",IF(②選手情報入力!M74=\"\",\"\",IF(I65=1,VLOOKUP(②選手情報入力!M74,種目情報!$A$4:$B$36,2,FALSE),VLOOKUP(②選手情報入力!M74,種目情報!$E$4:$F$39,2,FALSE))))","v":""},{"$f":"IF(E65=\"\",\"\",IF(②選手情報入力!N74=\"\",\"\",②選手情報入力!N74))","v":""},{"$f":"IF(E65=\"\",\"\",IF(②選手情報入力!L74=\"\",\"\",1))","v":""},{"$f":"IF(E65=\"\",\"\",IF(②選手情報入力!M74=\"\",\"\",IF(I65=1,VLOOKUP(②選手情報入力!M74,種目情報!$A$4:$C$36,3,FALSE),VLOOKUP(②選手情報入力!M74,種目情報!$E$4:$G$39,3,FALSE))))","v":""},{"$f":"IF(E65=\"\",\"\",IF(②選手情報入力!P74=\"\",\"\",IF(I65=1,VLOOKUP(②選手情報入力!P74,種目情報!$A$4:$B$36,2,FALSE),VLOOKUP(②選手情報入力!P74,種目情報!$E$4:$F$39,2,FALSE))))","v":""},{"$f":"IF(E65=\"\",\"\",IF(②選手情報入力!Q74=\"\",\"\",②選手情報入力!Q74))","v":""},{"$f":"IF(E65=\"\",\"\",IF(②選手情報入力!O74=\"\",\"\",1))","v":""},{"$f":"IF(E65=\"\",\"\",IF(②選手情報入力!P74=\"\",\"\",IF(I65=1,VLOOKUP(②選手情報入力!P74,種目情報!$A$4:$C$36,3,FALSE),VLOOKUP(②選手情報入力!P74,種目情報!$E$4:$G$39,3,FALSE))))","v":""},{"$f":"IF(E65=\"\",\"\",IF(②選手情報入力!R74=\"\",\"\",IF(I65=1,種目情報!$J$4,種目情報!$J$6)))","v":""},{"$f":"IF(E65=\"\",\"\",IF(②選手情報入力!R74=\"\",\"\",IF(I65=1,IF(②選手情報入力!$S$6=\"\",\"\",②選手情報入力!$S$6),IF(②選手情報入力!$S$7=\"\",\"\",②選手情報入力!$S$7))))","v":""},{"$f":"IF(E65=\"\",\"\",IF(②選手情報入力!R74=\"\",\"\",IF(I65=1,IF(②選手情報入力!$R$6=\"\",0,1),IF(②選手情報入力!$R$7=\"\",0,1))))","v":""},{"$f":"IF(E65=\"\",\"\",IF(②選手情報入力!R74=\"\",\"\",2))","v":""},{"$f":"IF(E65=\"\",\"\",IF(②選手情報入力!T74=\"\",\"\",IF(I65=1,種目情報!$J$5,種目情報!$J$7)))","v":""},{"$f":"IF(E65=\"\",\"\",IF(②選手情報入力!T74=\"\",\"\",IF(I65=1,IF(②選手情報入力!$U$6=\"\",\"\",②選手情報入力!$U$6),IF(②選手情報入力!$U$7=\"\",\"\",②選手情報入力!$U$7))))","v":""},{"$f":"IF(E65=\"\",\"\",IF(②選手情報入力!T74=\"\",\"\",IF(I65=1,IF(②選手情報入力!$T$6=\"\",0,1),IF(②選手情報入力!$T$7=\"\",0,1))))","v":""},{"$f":"IF(E65=\"\",\"\",IF(②選手情報入力!T74=\"\",\"\",2))","v":""}]
[{"$f":"IF(E66=\"\",\"\",Sheet1!A65)","v":""},{"$f":"IF(E66=\"\",\"\",①団体情報入力!$C$4)","v":""},null,{"$f":"IF(②選手情報入力!B75=\"\",\"\",②選手情報入力!B75)","v":""},{"$f":"IF(②選手情報入力!C75=\"\",\"\",②選手情報入力!C75)","v":""},{"$f":"IF(E66=\"\",\"\",②選手情報入力!D75)","v":""},{"$f":"IF(E66=\"\",\"\",ASC(②選手情報入力!E75))","v":""},"",{"$f":"IF(E66=\"\",\"\",IF(②選手情報入力!G75=\"男\",1,2))","v":""},{"$f":"IF(E66=\"\",\"\",IF(②選手情報入力!H75=\"\",\"\",②選手情報入力!H75))","v":""},null,null,"",null,{"$f":"IF(E66=\"\",\"\",IF(②選手情報入力!J75=\"\",\"\",IF(I66=1,VLOOKUP(②選手情報入力!J75,種目情報!$A$4:$B$32,2,FALSE),VLOOKUP(②選手情報入力!J75,種目情報!$E$4:$F$34,2,FALSE))))","v":""},{"$f":"IF(E66=\"\",\"\",IF(②選手情報入力!K75=\"\",\"\",②選手情報入力!K75))","v":""},{"$f":"IF(E66=\"\",\"\",IF(②選手情報入力!I75=\"\",\"\",1))","v":""},{"$f":"IF(E66=\"\",\"\",IF(②選手情報入力!J75=\"\",\"\",IF(I66=1,VLOOKUP(②選手情報入力!J75,種目情報!$A$4:$C$36,3,FALSE),VLOOKUP(②選手情報入力!J75,種目情報!$E$4:$G$39,3,FALSE))))","v":""},{"$f":"IF(E66=\"\",\"\",IF(②選手情報入力!M75=\"\",\"\",IF(I66=1,VLOOKUP(②選手情報入力!M75,種目情報!$A$4:$B$36,2,FALSE),VLOOKUP(②選手情報入力!M75,種目情報!$E$4:$F$39,2,FALSE))))","v":""},{"$f":"IF(E66=\"\",\"\",IF(②選手情報入力!N75=\"\",\"\",②選手情報入力!N75))","v":""},{"$f":"IF(E66=\"\",\"\",IF(②選手情報入力!L75=\"\",\"\",1))","v":""},{"$f":"IF(E66=\"\",\"\",IF(②選手情報入力!M75=\"\",\"\",IF(I66=1,VLOOKUP(②選手情報入力!M75,種目情報!$A$4:$C$36,3,FALSE),VLOOKUP(②選手情報入力!M75,種目情報!$E$4:$G$39,3,FALSE))))","v":""},{"$f":"IF(E66=\"\",\"\",IF(②選手情報入力!P75=\"\",\"\",IF(I66=1,VLOOKUP(②選手情報入力!P75,種目情報!$A$4:$B$36,2,FALSE),VLOOKUP(②選手情報入力!P75,種目情報!$E$4:$F$39,2,FALSE))))","v":""},{"$f":"IF(E66=\"\",\"\",IF(②選手情報入力!Q75=\"\",\"\",②選手情報入力!Q75))","v":""},{"$f":"IF(E66=\"\",\"\",IF(②選手情報入力!O75=\"\",\"\",1))","v":""},{"$f":"IF(E66=\"\",\"\",IF(②選手情報入力!P75=\"\",\"\",IF(I66=1,VLOOKUP(②選手情報入力!P75,種目情報!$A$4:$C$36,3,FALSE),VLOOKUP(②選手情報入力!P75,種目情報!$E$4:$G$39,3,FALSE))))","v":""},{"$f":"IF(E66=\"\",\"\",IF(②選手情報入力!R75=\"\",\"\",IF(I66=1,種目情報!$J$4,種目情報!$J$6)))","v":""},{"$f":"IF(E66=\"\",\"\",IF(②選手情報入力!R75=\"\",\"\",IF(I66=1,IF(②選手情報入力!$S$6=\"\",\"\",②選手情報入力!$S$6),IF(②選手情報入力!$S$7=\"\",\"\",②選手情報入力!$S$7))))","v":""},{"$f":"IF(E66=\"\",\"\",IF(②選手情報入力!R75=\"\",\"\",IF(I66=1,IF(②選手情報入力!$R$6=\"\",0,1),IF(②選手情報入力!$R$7=\"\",0,1))))","v":""},{"$f":"IF(E66=\"\",\"\",IF(②選手情報入力!R75=\"\",\"\",2))","v":""},{"$f":"IF(E66=\"\",\"\",IF(②選手情報入力!T75=\"\",\"\",IF(I66=1,種目情報!$J$5,種目情報!$J$7)))","v":""},{"$f":"IF(E66=\"\",\"\",IF(②選手情報入力!T75=\"\",\"\",IF(I66=1,IF(②選手情報入力!$U$6=\"\",\"\",②選手情報入力!$U$6),IF(②選手情報入力!$U$7=\"\",\"\",②選手情報入力!$U$7))))","v":""},{"$f":"IF(E66=\"\",\"\",IF(②選手情報入力!T75=\"\",\"\",IF(I66=1,IF(②選手情報入力!$T$6=\"\",0,1),IF(②選手情報入力!$T$7=\"\",0,1))))","v":""},{"$f":"IF(E66=\"\",\"\",IF(②選手情報入力!T75=\"\",\"\",2))","v":""}]
[{"$f":"IF(E67=\"\",\"\",Sheet1!A66)","v":""},{"$f":"IF(E67=\"\",\"\",①団体情報入力!$C$4)","v":""},null,{"$f":"IF(②選手情報入力!B76=\"\",\"\",②選手情報入力!B76)","v":""},{"$f":"IF(②選手情報入力!C76=\"\",\"\",②選手情報入力!C76)","v":""},{"$f":"IF(E67=\"\",\"\",②選手情報入力!D76)","v":""},{"$f":"IF(E67=\"\",\"\",ASC(②選手情報入力!E76))","v":""},{"$f":"IF(E67=\"\",\"\",F67)","v":""},{"$f":"IF(E67=\"\",\"\",IF(②選手情報入力!G76=\"男\",1,2))","v":""},{"$f":"IF(E67=\"\",\"\",IF(②選手情報入力!H76=\"\",\"\",②選手情報入力!H76))","v":""},null,null,{"$f":"IF(E67=\"\",\"\",\"愛知\")","v":""},null,{"$f":"IF(E67=\"\",\"\",IF(②選手情報入力!J76=\"\",\"\",IF(I67=1,VLOOKUP(②選手情報入力!J76,種目情報!$A$4:$B$32,2,FALSE),VLOOKUP(②選手情報入力!J76,種目情報!$E$4:$F$34,2,FALSE))))","v":""},{"$f":"IF(E67=\"\",\"\",IF(②選手情報入力!K76=\"\",\"\",②選手情報入力!K76))","v":""},{"$f":"IF(E67=\"\",\"\",IF(②選手情報入力!I76=\"\",\"\",1))","v":""},{"$f":"IF(E67=\"\",\"\",IF(②選手情報入力!J76=\"\",\"\",IF(I67=1,VLOOKUP(②選手情報入力!J76,種目情報!$A$4:$C$36,3,FALSE),VLOOKUP(②選手情報入力!J76,種目情報!$E$4:$G$39,3,FALSE))))","v":""},{"$f":"IF(E67=\"\",\"\",IF(②選手情報入力!M76=\"\",\"\",IF(I67=1,VLOOKUP(②選手情報入力!M76,種目情報!$A$4:$B$36,2,FALSE),VLOOKUP(②選手情報入力!M76,種目情報!$E$4:$F$39,2,FALSE))))","v":""},{"$f":"IF(E67=\"\",\"\",IF(②選手情報入力!N76=\"\",\"\",②選手情報入力!N76))","v":""},{"$f":"IF(E67=\"\",\"\",IF(②選手情報入力!L76=\"\",\"\",1))","v":""},{"$f":"IF(E67=\"\",\"\",IF(②選手情報入力!M76=\"\",\"\",IF(I67=1,VLOOKUP(②選手情報入力!M76,種目情報!$A$4:$C$36,3,FALSE),VLOOKUP(②選手情報入力!M76,種目情報!$E$4:$G$39,3,FALSE))))","v":""},{"$f":"IF(E67=\"\",\"\",IF(②選手情報入力!P76=\"\",\"\",IF(I67=1,VLOOKUP(②選手情報入力!P76,種目情報!$A$4:$B$36,2,FALSE),VLOOKUP(②選手情報入力!P76,種目情報!$E$4:$F$39,2,FALSE))))","v":""},{"$f":"IF(E67=\"\",\"\",IF(②選手情報入力!Q76=\"\",\"\",②選手情報入力!Q76))","v":""},{"$f":"IF(E67=\"\",\"\",IF(②選手情報入力!O76=\"\",\"\",1))","v":""},{"$f":"IF(E67=\"\",\"\",IF(②選手情報入力!P76=\"\",\"\",IF(I67=1,VLOOKUP(②選手情報入力!P76,種目情報!$A$4:$C$36,3,FALSE),VLOOKUP(②選手情報入力!P76,種目情報!$E$4:$G$39,3,FALSE))))","v":""},{"$f":"IF(E67=\"\",\"\",IF(②選手情報入力!R76=\"\",\"\",IF(I67=1,種目情報!$J$4,種目情報!$J$6)))","v":""},{"$f":"IF(E67=\"\",\"\",IF(②選手情報入力!R76=\"\",\"\",IF(I67=1,IF(②選手情報入力!$S$6=\"\",\"\",②選手情報入力!$S$6),IF(②選手情報入力!$S$7=\"\",\"\",②選手情報入力!$S$7))))","v":""},{"$f":"IF(E67=\"\",\"\",IF(②選手情報入力!R76=\"\",\"\",IF(I67=1,IF(②選手情報入力!$R$6=\"\",0,1),IF(②選手情報入力!$R$7=\"\",0,1))))","v":""},{"$f":"IF(E67=\"\",\"\",IF(②選手情報入力!R76=\"\",\"\",2))","v":""},{"$f":"IF(E67=\"\",\"\",IF(②選手情報入力!T76=\"\",\"\",IF(I67=1,種目情報!$J$5,種目情報!$J$7)))","v":""},{"$f":"IF(E67=\"\",\"\",IF(②選手情報入力!T76=\"\",\"\",IF(I67=1,IF(②選手情報入力!$U$6=\"\",\"\",②選手情報入力!$U$6),IF(②選手情報入力!$U$7=\"\",\"\",②選手情報入力!$U$7))))","v":""},{"$f":"IF(E67=\"\",\"\",IF(②選手情報入力!T76=\"\",\"\",IF(I67=1,IF(②選手情報入力!$T$6=\"\",0,1),IF(②選手情報入力!$T$7=\"\",0,1))))","v":""},{"$f":"IF(E67=\"\",\"\",IF(②選手情報入力!T76=\"\",\"\",2))","v":""}]
[{"$f":"IF(E68=\"\",\"\",Sheet1!A67)","v":""},{"$f":"IF(E68=\"\",\"\",①団体情報入力!$C$4)","v":""},null,{"$f":"IF(②選手情報入力!B77=\"\",\"\",②選手情報入力!B77)","v":""},{"$f":"IF(②選手情報入力!C77=\"\",\"\",②選手情報入力!C77)","v":""},{"$f":"IF(E68=\"\",\"\",②選手情報入力!D77)","v":""},{"$f":"IF(E68=\"\",\"\",ASC(②選手情報入力!E77))","v":""},"",{"$f":"IF(E68=\"\",\"\",IF(②選手情報入力!G77=\"男\",1,2))","v":""},{"$f":"IF(E68=\"\",\"\",IF(②選手情報入力!H77=\"\",\"\",②選手情報入力!H77))","v":""},null,null,"",null,{"$f":"IF(E68=\"\",\"\",IF(②選手情報入力!J77=\"\",\"\",IF(I68=1,VLOOKUP(②選手情報入力!J77,種目情報!$A$4:$B$32,2,FALSE),VLOOKUP(②選手情報入力!J77,種目情報!$E$4:$F$34,2,FALSE))))","v":""},{"$f":"IF(E68=\"\",\"\",IF(②選手情報入力!K77=\"\",\"\",②選手情報入力!K77))","v":""},{"$f":"IF(E68=\"\",\"\",IF(②選手情報入力!I77=\"\",\"\",1))","v":""},{"$f":"IF(E68=\"\",\"\",IF(②選手情報入力!J77=\"\",\"\",IF(I68=1,VLOOKUP(②選手情報入力!J77,種目情報!$A$4:$C$36,3,FALSE),VLOOKUP(②選手情報入力!J77,種目情報!$E$4:$G$39,3,FALSE))))","v":""},{"$f":"IF(E68=\"\",\"\",IF(②選手情報入力!M77=\"\",\"\",IF(I68=1,VLOOKUP(②選手情報入力!M77,種目情報!$A$4:$B$36,2,FALSE),VLOOKUP(②選手情報入力!M77,種目情報!$E$4:$F$39,2,FALSE))))","v":""},{"$f":"IF(E68=\"\",\"\",IF(②選手情報入力!N77=\"\",\"\",②選手情報入力!N77))","v":""},{"$f":"IF(E68=\"\",\"\",IF(②選手情報入力!L77=\"\",\"\",1))","v":""},{"$f":"IF(E68=\"\",\"\",IF(②選手情報入力!M77=\"\",\"\",IF(I68=1,VLOOKUP(②選手情報入力!M77,種目情報!$A$4:$C$36,3,FALSE),VLOOKUP(②選手情報入力!M77,種目情報!$E$4:$G$39,3,FALSE))))","v":""},{"$f":"IF(E68=\"\",\"\",IF(②選手情報入力!P77=\"\",\"\",IF(I68=1,VLOOKUP(②選手情報入力!P77,種目情報!$A$4:$B$36,2,FALSE),VLOOKUP(②選手情報入力!P77,種目情報!$E$4:$F$39,2,FALSE))))","v":""},{"$f":"IF(E68=\"\",\"\",IF(②選手情報入力!Q77=\"\",\"\",②選手情報入力!Q77))","v":""},{"$f":"IF(E68=\"\",\"\",IF(②選手情報入力!O77=\"\",\"\",1))","v":""},{"$f":"IF(E68=\"\",\"\",IF(②選手情報入力!P77=\"\",\"\",IF(I68=1,VLOOKUP(②選手情報入力!P77,種目情報!$A$4:$C$36,3,FALSE),VLOOKUP(②選手情報入力!P77,種目情報!$E$4:$G$39,3,FALSE))))","v":""},{"$f":"IF(E68=\"\",\"\",IF(②選手情報入力!R77=\"\",\"\",IF(I68=1,種目情報!$J$4,種目情報!$J$6)))","v":""},{"$f":"IF(E68=\"\",\"\",IF(②選手情報入力!R77=\"\",\"\",IF(I68=1,IF(②選手情報入力!$S$6=\"\",\"\",②選手情報入力!$S$6),IF(②選手情報入力!$S$7=\"\",\"\",②選手情報入力!$S$7))))","v":""},{"$f":"IF(E68=\"\",\"\",IF(②選手情報入力!R77=\"\",\"\",IF(I68=1,IF(②選手情報入力!$R$6=\"\",0,1),IF(②選手情報入力!$R$7=\"\",0,1))))","v":""},{"$f":"IF(E68=\"\",\"\",IF(②選手情報入力!R77=\"\",\"\",2))","v":""},{"$f":"IF(E68=\"\",\"\",IF(②選手情報入力!T77=\"\",\"\",IF(I68=1,種目情報!$J$5,種目情報!$J$7)))","v":""},{"$f":"IF(E68=\"\",\"\",IF(②選手情報入力!T77=\"\",\"\",IF(I68=1,IF(②選手情報入力!$U$6=\"\",\"\",②選手情報入力!$U$6),IF(②選手情報入力!$U$7=\"\",\"\",②選手情報入力!$U$7))))","v":""},{"$f":"IF(E68=\"\",\"\",IF(②選手情報入力!T77=\"\",\"\",IF(I68=1,IF(②選手情報入力!$T$6=\"\",0,1),IF(②選手情報入力!$T$7=\"\",0,1))))","v":""},{"$f":"IF(E68=\"\",\"\",IF(②選手情報入力!T77=\"\",\"\",2))","v":""}]
[{"$f":"IF(E69=\"\",\"\",Sheet1!A68)","v":""},{"$f":"IF(E69=\"\",\"\",①団体情報入力!$C$4)","v":""},null,{"$f":"IF(②選手情報入力!B78=\"\",\"\",②選手情報入力!B78)","v":""},{"$f":"IF(②選手情報入力!C78=\"\",\"\",②選手情報入力!C78)","v":""},{"$f":"IF(E69=\"\",\"\",②選手情報入力!D78)","v":""},{"$f":"IF(E69=\"\",\"\",ASC(②選手情報入力!E78))","v":""},"",{"$f":"IF(E69=\"\",\"\",IF(②選手情報入力!G78=\"男\",1,2))","v":""},{"$f":"IF(E69=\"\",\"\",IF(②選手情報入力!H78=\"\",\"\",②選手情報入力!H78))","v":""},null,null,"",null,{"$f":"IF(E69=\"\",\"\",IF(②選手情報入力!J78=\"\",\"\",IF(I69=1,VLOOKUP(②選手情報入力!J78,種目情報!$A$4:$B$32,2,FALSE),VLOOKUP(②選手情報入力!J78,種目情報!$E$4:$F$34,2,FALSE))))","v":""},{"$f":"IF(E69=\"\",\"\",IF(②選手情報入力!K78=\"\",\"\",②選手情報入力!K78))","v":""},{"$f":"IF(E69=\"\",\"\",IF(②選手情報入力!I78=\"\",\"\",1))","v":""},{"$f":"IF(E69=\"\",\"\",IF(②選手情報入力!J78=\"\",\"\",IF(I69=1,VLOOKUP(②選手情報入力!J78,種目情報!$A$4:$C$36,3,FALSE),VLOOKUP(②選手情報入力!J78,種目情報!$E$4:$G$39,3,FALSE))))","v":""},{"$f":"IF(E69=\"\",\"\",IF(②選手情報入力!M78=\"\",\"\",IF(I69=1,VLOOKUP(②選手情報入力!M78,種目情報!$A$4:$B$36,2,FALSE),VLOOKUP(②選手情報入力!M78,種目情報!$E$4:$F$39,2,FALSE))))","v":""},{"$f":"IF(E69=\"\",\"\",IF(②選手情報入力!N78=\"\",\"\",②選手情報入力!N78))","v":""},{"$f":"IF(E69=\"\",\"\",IF(②選手情報入力!L78=\"\",\"\",1))","v":""},{"$f":"IF(E69=\"\",\"\",IF(②選手情報入力!M78=\"\",\"\",IF(I69=1,VLOOKUP(②選手情報入力!M78,種目情報!$A$4:$C$36,3,FALSE),VLOOKUP(②選手情報入力!M78,種目情報!$E$4:$G$39,3,FALSE))))","v":""},{"$f":"IF(E69=\"\",\"\",IF(②選手情報入力!P78=\"\",\"\",IF(I69=1,VLOOKUP(②選手情報入力!P78,種目情報!$A$4:$B$36,2,FALSE),VLOOKUP(②選手情報入力!P78,種目情報!$E$4:$F$39,2,FALSE))))","v":""},{"$f":"IF(E69=\"\",\"\",IF(②選手情報入力!Q78=\"\",\"\",②選手情報入力!Q78))","v":""},{"$f":"IF(E69=\"\",\"\",IF(②選手情報入力!O78=\"\",\"\",1))","v":""},{"$f":"IF(E69=\"\",\"\",IF(②選手情報入力!P78=\"\",\"\",IF(I69=1,VLOOKUP(②選手情報入力!P78,種目情報!$A$4:$C$36,3,FALSE),VLOOKUP(②選手情報入力!P78,種目情報!$E$4:$G$39,3,FALSE))))","v":""},{"$f":"IF(E69=\"\",\"\",IF(②選手情報入力!R78=\"\",\"\",IF(I69=1,種目情報!$J$4,種目情報!$J$6)))","v":""},{"$f":"IF(E69=\"\",\"\",IF(②選手情報入力!R78=\"\",\"\",IF(I69=1,IF(②選手情報入力!$S$6=\"\",\"\",②選手情報入力!$S$6),IF(②選手情報入力!$S$7=\"\",\"\",②選手情報入力!$S$7))))","v":""},{"$f":"IF(E69=\"\",\"\",IF(②選手情報入力!R78=\"\",\"\",IF(I69=1,IF(②選手情報入力!$R$6=\"\",0,1),IF(②選手情報入力!$R$7=\"\",0,1))))","v":""},{"$f":"IF(E69=\"\",\"\",IF(②選手情報入力!R78=\"\",\"\",2))","v":""},{"$f":"IF(E69=\"\",\"\",IF(②選手情報入力!T78=\"\",\"\",IF(I69=1,種目情報!$J$5,種目情報!$J$7)))","v":""},{"$f":"IF(E69=\"\",\"\",IF(②選手情報入力!T78=\"\",\"\",IF(I69=1,IF(②選手情報入力!$U$6=\"\",\"\",②選手情報入力!$U$6),IF(②選手情報入力!$U$7=\"\",\"\",②選手情報入力!$U$7))))","v":""},{"$f":"IF(E69=\"\",\"\",IF(②選手情報入力!T78=\"\",\"\",IF(I69=1,IF(②選手情報入力!$T$6=\"\",0,1),IF(②選手情報入力!$T$7=\"\",0,1))))","v":""},{"$f":"IF(E69=\"\",\"\",IF(②選手情報入力!T78=\"\",\"\",2))","v":""}]
[{"$f":"IF(E70=\"\",\"\",Sheet1!A69)","v":""},{"$f":"IF(E70=\"\",\"\",①団体情報入力!$C$4)","v":""},null,{"$f":"IF(②選手情報入力!B79=\"\",\"\",②選手情報入力!B79)","v":""},{"$f":"IF(②選手情報入力!C79=\"\",\"\",②選手情報入力!C79)","v":""},{"$f":"IF(E70=\"\",\"\",②選手情報入力!D79)","v":""},{"$f":"IF(E70=\"\",\"\",ASC(②選手情報入力!E79))","v":""},"",{"$f":"IF(E70=\"\",\"\",IF(②選手情報入力!G79=\"男\",1,2))","v":""},{"$f":"IF(E70=\"\",\"\",IF(②選手情報入力!H79=\"\",\"\",②選手情報入力!H79))","v":""},null,null,"",null,{"$f":"IF(E70=\"\",\"\",IF(②選手情報入力!J79=\"\",\"\",IF(I70=1,VLOOKUP(②選手情報入力!J79,種目情報!$A$4:$B$32,2,FALSE),VLOOKUP(②選手情報入力!J79,種目情報!$E$4:$F$34,2,FALSE))))","v":""},{"$f":"IF(E70=\"\",\"\",IF(②選手情報入力!K79=\"\",\"\",②選手情報入力!K79))","v":""},{"$f":"IF(E70=\"\",\"\",IF(②選手情報入力!I79=\"\",\"\",1))","v":""},{"$f":"IF(E70=\"\",\"\",IF(②選手情報入力!J79=\"\",\"\",IF(I70=1,VLOOKUP(②選手情報入力!J79,種目情報!$A$4:$C$36,3,FALSE),VLOOKUP(②選手情報入力!J79,種目情報!$E$4:$G$39,3,FALSE))))","v":""},{"$f":"IF(E70=\"\",\"\",IF(②選手情報入力!M79=\"\",\"\",IF(I70=1,VLOOKUP(②選手情報入力!M79,種目情報!$A$4:$B$36,2,FALSE),VLOOKUP(②選手情報入力!M79,種目情報!$E$4:$F$39,2,FALSE))))","v":""},{"$f":"IF(E70=\"\",\"\",IF(②選手情報入力!N79=\"\",\"\",②選手情報入力!N79))","v":""},{"$f":"IF(E70=\"\",\"\",IF(②選手情報入力!L79=\"\",\"\",1))","v":""},{"$f":"IF(E70=\"\",\"\",IF(②選手情報入力!M79=\"\",\"\",IF(I70=1,VLOOKUP(②選手情報入力!M79,種目情報!$A$4:$C$36,3,FALSE),VLOOKUP(②選手情報入力!M79,種目情報!$E$4:$G$39,3,FALSE))))","v":""},{"$f":"IF(E70=\"\",\"\",IF(②選手情報入力!P79=\"\",\"\",IF(I70=1,VLOOKUP(②選手情報入力!P79,種目情報!$A$4:$B$36,2,FALSE),VLOOKUP(②選手情報入力!P79,種目情報!$E$4:$F$39,2,FALSE))))","v":""},{"$f":"IF(E70=\"\",\"\",IF(②選手情報入力!Q79=\"\",\"\",②選手情報入力!Q79))","v":""},{"$f":"IF(E70=\"\",\"\",IF(②選手情報入力!O79=\"\",\"\",1))","v":""},{"$f":"IF(E70=\"\",\"\",IF(②選手情報入力!P79=\"\",\"\",IF(I70=1,VLOOKUP(②選手情報入力!P79,種目情報!$A$4:$C$36,3,FALSE),VLOOKUP(②選手情報入力!P79,種目情報!$E$4:$G$39,3,FALSE))))","v":""},{"$f":"IF(E70=\"\",\"\",IF(②選手情報入力!R79=\"\",\"\",IF(I70=1,種目情報!$J$4,種目情報!$J$6)))","v":""},{"$f":"IF(E70=\"\",\"\",IF(②選手情報入力!R79=\"\",\"\",IF(I70=1,IF(②選手情報入力!$S$6=\"\",\"\",②選手情報入力!$S$6),IF(②選手情報入力!$S$7=\"\",\"\",②選手情報入力!$S$7))))","v":""},{"$f":"IF(E70=\"\",\"\",IF(②選手情報入力!R79=\"\",\"\",IF(I70=1,IF(②選手情報入力!$R$6=\"\",0,1),IF(②選手情報入力!$R$7=\"\",0,1))))","v":""},{"$f":"IF(E70=\"\",\"\",IF(②選手情報入力!R79=\"\",\"\",2))","v":""},{"$f":"IF(E70=\"\",\"\",IF(②選手情報入力!T79=\"\",\"\",IF(I70=1,種目情報!$J$5,種目情報!$J$7)))","v":""},{"$f":"IF(E70=\"\",\"\",IF(②選手情報入力!T79=\"\",\"\",IF(I70=1,IF(②選手情報入力!$U$6=\"\",\"\",②選手情報入力!$U$6),IF(②選手情報入力!$U$7=\"\",\"\",②選手情報入力!$U$7))))","v":""},{"$f":"IF(E70=\"\",\"\",IF(②選手情報入力!T79=\"\",\"\",IF(I70=1,IF(②選手情報入力!$T$6=\"\",0,1),IF(②選手情報入力!$T$7=\"\",0,1))))","v":""},{"$f":"IF(E70=\"\",\"\",IF(②選手情報入力!T79=\"\",\"\",2))","v":""}]
[{"$f":"IF(E71=\"\",\"\",Sheet1!A70)","v":""},{"$f":"IF(E71=\"\",\"\",①団体情報入力!$C$4)","v":""},null,{"$f":"IF(②選手情報入力!B80=\"\",\"\",②選手情報入力!B80)","v":""},{"$f":"IF(②選手情報入力!C80=\"\",\"\",②選手情報入力!C80)","v":""},{"$f":"IF(E71=\"\",\"\",②選手情報入力!D80)","v":""},{"$f":"IF(E71=\"\",\"\",ASC(②選手情報入力!E80))","v":""},"",{"$f":"IF(E71=\"\",\"\",IF(②選手情報入力!G80=\"男\",1,2))","v":""},{"$f":"IF(E71=\"\",\"\",IF(②選手情報入力!H80=\"\",\"\",②選手情報入力!H80))","v":""},null,null,"",null,{"$f":"IF(E71=\"\",\"\",IF(②選手情報入力!J80=\"\",\"\",IF(I71=1,VLOOKUP(②選手情報入力!J80,種目情報!$A$4:$B$32,2,FALSE),VLOOKUP(②選手情報入力!J80,種目情報!$E$4:$F$34,2,FALSE))))","v":""},{"$f":"IF(E71=\"\",\"\",IF(②選手情報入力!K80=\"\",\"\",②選手情報入力!K80))","v":""},{"$f":"IF(E71=\"\",\"\",IF(②選手情報入力!I80=\"\",\"\",1))","v":""},{"$f":"IF(E71=\"\",\"\",IF(②選手情報入力!J80=\"\",\"\",IF(I71=1,VLOOKUP(②選手情報入力!J80,種目情報!$A$4:$C$36,3,FALSE),VLOOKUP(②選手情報入力!J80,種目情報!$E$4:$G$39,3,FALSE))))","v":""},{"$f":"IF(E71=\"\",\"\",IF(②選手情報入力!M80=\"\",\"\",IF(I71=1,VLOOKUP(②選手情報入力!M80,種目情報!$A$4:$B$36,2,FALSE),VLOOKUP(②選手情報入力!M80,種目情報!$E$4:$F$39,2,FALSE))))","v":""},{"$f":"IF(E71=\"\",\"\",IF(②選手情報入力!N80=\"\",\"\",②選手情報入力!N80))","v":""},{"$f":"IF(E71=\"\",\"\",IF(②選手情報入力!L80=\"\",\"\",1))","v":""},{"$f":"IF(E71=\"\",\"\",IF(②選手情報入力!M80=\"\",\"\",IF(I71=1,VLOOKUP(②選手情報入力!M80,種目情報!$A$4:$C$36,3,FALSE),VLOOKUP(②選手情報入力!M80,種目情報!$E$4:$G$39,3,FALSE))))","v":""},{"$f":"IF(E71=\"\",\"\",IF(②選手情報入力!P80=\"\",\"\",IF(I71=1,VLOOKUP(②選手情報入力!P80,種目情報!$A$4:$B$36,2,FALSE),VLOOKUP(②選手情報入力!P80,種目情報!$E$4:$F$39,2,FALSE))))","v":""},{"$f":"IF(E71=\"\",\"\",IF(②選手情報入力!Q80=\"\",\"\",②選手情報入力!Q80))","v":""},{"$f":"IF(E71=\"\",\"\",IF(②選手情報入力!O80=\"\",\"\",1))","v":""},{"$f":"IF(E71=\"\",\"\",IF(②選手情報入力!P80=\"\",\"\",IF(I71=1,VLOOKUP(②選手情報入力!P80,種目情報!$A$4:$C$36,3,FALSE),VLOOKUP(②選手情報入力!P80,種目情報!$E$4:$G$39,3,FALSE))))","v":""},{"$f":"IF(E71=\"\",\"\",IF(②選手情報入力!R80=\"\",\"\",IF(I71=1,種目情報!$J$4,種目情報!$J$6)))","v":""},{"$f":"IF(E71=\"\",\"\",IF(②選手情報入力!R80=\"\",\"\",IF(I71=1,IF(②選手情報入力!$S$6=\"\",\"\",②選手情報入力!$S$6),IF(②選手情報入力!$S$7=\"\",\"\",②選手情報入力!$S$7))))","v":""},{"$f":"IF(E71=\"\",\"\",IF(②選手情報入力!R80=\"\",\"\",IF(I71=1,IF(②選手情報入力!$R$6=\"\",0,1),IF(②選手情報入力!$R$7=\"\",0,1))))","v":""},{"$f":"IF(E71=\"\",\"\",IF(②選手情報入力!R80=\"\",\"\",2))","v":""},{"$f":"IF(E71=\"\",\"\",IF(②選手情報入力!T80=\"\",\"\",IF(I71=1,種目情報!$J$5,種目情報!$J$7)))","v":""},{"$f":"IF(E71=\"\",\"\",IF(②選手情報入力!T80=\"\",\"\",IF(I71=1,IF(②選手情報入力!$U$6=\"\",\"\",②選手情報入力!$U$6),IF(②選手情報入力!$U$7=\"\",\"\",②選手情報入力!$U$7))))","v":""},{"$f":"IF(E71=\"\",\"\",IF(②選手情報入力!T80=\"\",\"\",IF(I71=1,IF(②選手情報入力!$T$6=\"\",0,1),IF(②選手情報入力!$T$7=\"\",0,1))))","v":""},{"$f":"IF(E71=\"\",\"\",IF(②選手情報入力!T80=\"\",\"\",2))","v":""}]
[{"$f":"IF(E72=\"\",\"\",Sheet1!A71)","v":""},{"$f":"IF(E72=\"\",\"\",①団体情報入力!$C$4)","v":""},null,{"$f":"IF(②選手情報入力!B81=\"\",\"\",②選手情報入力!B81)","v":""},{"$f":"IF(②選手情報入力!C81=\"\",\"\",②選手情報入力!C81)","v":""},{"$f":"IF(E72=\"\",\"\",②選手情報入力!D81)","v":""},{"$f":"IF(E72=\"\",\"\",ASC(②選手情報入力!E81))","v":""},"",{"$f":"IF(E72=\"\",\"\",IF(②選手情報入力!G81=\"男\",1,2))","v":""},{"$f":"IF(E72=\"\",\"\",IF(②選手情報入力!H81=\"\",\"\",②選手情報入力!H81))","v":""},null,null,"",null,{"$f":"IF(E72=\"\",\"\",IF(②選手情報入力!J81=\"\",\"\",IF(I72=1,VLOOKUP(②選手情報入力!J81,種目情報!$A$4:$B$32,2,FALSE),VLOOKUP(②選手情報入力!J81,種目情報!$E$4:$F$34,2,FALSE))))","v":""},{"$f":"IF(E72=\"\",\"\",IF(②選手情報入力!K81=\"\",\"\",②選手情報入力!K81))","v":""},{"$f":"IF(E72=\"\",\"\",IF(②選手情報入力!I81=\"\",\"\",1))","v":""},{"$f":"IF(E72=\"\",\"\",IF(②選手情報入力!J81=\"\",\"\",IF(I72=1,VLOOKUP(②選手情報入力!J81,種目情報!$A$4:$C$36,3,FALSE),VLOOKUP(②選手情報入力!J81,種目情報!$E$4:$G$39,3,FALSE))))","v":""},{"$f":"IF(E72=\"\",\"\",IF(②選手情報入力!M81=\"\",\"\",IF(I72=1,VLOOKUP(②選手情報入力!M81,種目情報!$A$4:$B$36,2,FALSE),VLOOKUP(②選手情報入力!M81,種目情報!$E$4:$F$39,2,FALSE))))","v":""},{"$f":"IF(E72=\"\",\"\",IF(②選手情報入力!N81=\"\",\"\",②選手情報入力!N81))","v":""},{"$f":"IF(E72=\"\",\"\",IF(②選手情報入力!L81=\"\",\"\",1))","v":""},{"$f":"IF(E72=\"\",\"\",IF(②選手情報入力!M81=\"\",\"\",IF(I72=1,VLOOKUP(②選手情報入力!M81,種目情報!$A$4:$C$36,3,FALSE),VLOOKUP(②選手情報入力!M81,種目情報!$E$4:$G$39,3,FALSE))))","v":""},{"$f":"IF(E72=\"\",\"\",IF(②選手情報入力!P81=\"\",\"\",IF(I72=1,VLOOKUP(②選手情報入力!P81,種目情報!$A$4:$B$36,2,FALSE),VLOOKUP(②選手情報入力!P81,種目情報!$E$4:$F$39,2,FALSE))))","v":""},{"$f":"IF(E72=\"\",\"\",IF(②選手情報入力!Q81=\"\",\"\",②選手情報入力!Q81))","v":""},{"$f":"IF(E72=\"\",\"\",IF(②選手情報入力!O81=\"\",\"\",1))","v":""},{"$f":"IF(E72=\"\",\"\",IF(②選手情報入力!P81=\"\",\"\",IF(I72=1,VLOOKUP(②選手情報入力!P81,種目情報!$A$4:$C$36,3,FALSE),VLOOKUP(②選手情報入力!P81,種目情報!$E$4:$G$39,3,FALSE))))","v":""},{"$f":"IF(E72=\"\",\"\",IF(②選手情報入力!R81=\"\",\"\",IF(I72=1,種目情報!$J$4,種目情報!$J$6)))","v":""},{"$f":"IF(E72=\"\",\"\",IF(②選手情報入力!R81=\"\",\"\",IF(I72=1,IF(②選手情報入力!$S$6=\"\",\"\",②選手情報入力!$S$6),IF(②選手情報入力!$S$7=\"\",\"\",②選手情報入力!$S$7))))","v":""},{"$f":"IF(E72=\"\",\"\",IF(②選手情報入力!R81=\"\",\"\",IF(I72=1,IF(②選手情報入力!$R$6=\"\",0,1),IF(②選手情報入力!$R$7=\"\",0,1))))","v":""},{"$f":"IF(E72=\"\",\"\",IF(②選手情報入力!R81=\"\",\"\",2))","v":""},{"$f":"IF(E72=\"\",\"\",IF(②選手情報入力!T81=\"\",\"\",IF(I72=1,種目情報!$J$5,種目情報!$J$7)))","v":""},{"$f":"IF(E72=\"\",\"\",IF(②選手情報入力!T81=\"\",\"\",IF(I72=1,IF(②選手情報入力!$U$6=\"\",\"\",②選手情報入力!$U$6),IF(②選手情報入力!$U$7=\"\",\"\",②選手情報入力!$U$7))))","v":""},{"$f":"IF(E72=\"\",\"\",IF(②選手情報入力!T81=\"\",\"\",IF(I72=1,IF(②選手情報入力!$T$6=\"\",0,1),IF(②選手情報入力!$T$7=\"\",0,1))))","v":""},{"$f":"IF(E72=\"\",\"\",IF(②選手情報入力!T81=\"\",\"\",2))","v":""}]
[{"$f":"IF(E73=\"\",\"\",Sheet1!A72)","v":""},{"$f":"IF(E73=\"\",\"\",①団体情報入力!$C$4)","v":""},null,{"$f":"IF(②選手情報入力!B82=\"\",\"\",②選手情報入力!B82)","v":""},{"$f":"IF(②選手情報入力!C82=\"\",\"\",②選手情報入力!C82)","v":""},{"$f":"IF(E73=\"\",\"\",②選手情報入力!D82)","v":""},{"$f":"IF(E73=\"\",\"\",ASC(②選手情報入力!E82))","v":""},"",{"$f":"IF(E73=\"\",\"\",IF(②選手情報入力!G82=\"男\",1,2))","v":""},{"$f":"IF(E73=\"\",\"\",IF(②選手情報入力!H82=\"\",\"\",②選手情報入力!H82))","v":""},null,null,"",null,{"$f":"IF(E73=\"\",\"\",IF(②選手情報入力!J82=\"\",\"\",IF(I73=1,VLOOKUP(②選手情報入力!J82,種目情報!$A$4:$B$32,2,FALSE),VLOOKUP(②選手情報入力!J82,種目情報!$E$4:$F$34,2,FALSE))))","v":""},{"$f":"IF(E73=\"\",\"\",IF(②選手情報入力!K82=\"\",\"\",②選手情報入力!K82))","v":""},{"$f":"IF(E73=\"\",\"\",IF(②選手情報入力!I82=\"\",\"\",1))","v":""},{"$f":"IF(E73=\"\",\"\",IF(②選手情報入力!J82=\"\",\"\",IF(I73=1,VLOOKUP(②選手情報入力!J82,種目情報!$A$4:$C$36,3,FALSE),VLOOKUP(②選手情報入力!J82,種目情報!$E$4:$G$39,3,FALSE))))","v":""},{"$f":"IF(E73=\"\",\"\",IF(②選手情報入力!M82=\"\",\"\",IF(I73=1,VLOOKUP(②選手情報入力!M82,種目情報!$A$4:$B$36,2,FALSE),VLOOKUP(②選手情報入力!M82,種目情報!$E$4:$F$39,2,FALSE))))","v":""},{"$f":"IF(E73=\"\",\"\",IF(②選手情報入力!N82=\"\",\"\",②選手情報入力!N82))","v":""},{"$f":"IF(E73=\"\",\"\",IF(②選手情報入力!L82=\"\",\"\",1))","v":""},{"$f":"IF(E73=\"\",\"\",IF(②選手情報入力!M82=\"\",\"\",IF(I73=1,VLOOKUP(②選手情報入力!M82,種目情報!$A$4:$C$36,3,FALSE),VLOOKUP(②選手情報入力!M82,種目情報!$E$4:$G$39,3,FALSE))))","v":""},{"$f":"IF(E73=\"\",\"\",IF(②選手情報入力!P82=\"\",\"\",IF(I73=1,VLOOKUP(②選手情報入力!P82,種目情報!$A$4:$B$36,2,FALSE),VLOOKUP(②選手情報入力!P82,種目情報!$E$4:$F$39,2,FALSE))))","v":""},{"$f":"IF(E73=\"\",\"\",IF(②選手情報入力!Q82=\"\",\"\",②選手情報入力!Q82))","v":""},{"$f":"IF(E73=\"\",\"\",IF(②選手情報入力!O82=\"\",\"\",1))","v":""},{"$f":"IF(E73=\"\",\"\",IF(②選手情報入力!P82=\"\",\"\",IF(I73=1,VLOOKUP(②選手情報入力!P82,種目情報!$A$4:$C$36,3,FALSE),VLOOKUP(②選手情報入力!P82,種目情報!$E$4:$G$39,3,FALSE))))","v":""},{"$f":"IF(E73=\"\",\"\",IF(②選手情報入力!R82=\"\",\"\",IF(I73=1,種目情報!$J$4,種目情報!$J$6)))","v":""},{"$f":"IF(E73=\"\",\"\",IF(②選手情報入力!R82=\"\",\"\",IF(I73=1,IF(②選手情報入力!$S$6=\"\",\"\",②選手情報入力!$S$6),IF(②選手情報入力!$S$7=\"\",\"\",②選手情報入力!$S$7))))","v":""},{"$f":"IF(E73=\"\",\"\",IF(②選手情報入力!R82=\"\",\"\",IF(I73=1,IF(②選手情報入力!$R$6=\"\",0,1),IF(②選手情報入力!$R$7=\"\",0,1))))","v":""},{"$f":"IF(E73=\"\",\"\",IF(②選手情報入力!R82=\"\",\"\",2))","v":""},{"$f":"IF(E73=\"\",\"\",IF(②選手情報入力!T82=\"\",\"\",IF(I73=1,種目情報!$J$5,種目情報!$J$7)))","v":""},{"$f":"IF(E73=\"\",\"\",IF(②選手情報入力!T82=\"\",\"\",IF(I73=1,IF(②選手情報入力!$U$6=\"\",\"\",②選手情報入力!$U$6),IF(②選手情報入力!$U$7=\"\",\"\",②選手情報入力!$U$7))))","v":""},{"$f":"IF(E73=\"\",\"\",IF(②選手情報入力!T82=\"\",\"\",IF(I73=1,IF(②選手情報入力!$T$6=\"\",0,1),IF(②選手情報入力!$T$7=\"\",0,1))))","v":""},{"$f":"IF(E73=\"\",\"\",IF(②選手情報入力!T82=\"\",\"\",2))","v":""}]
[{"$f":"IF(E74=\"\",\"\",Sheet1!A73)","v":""},{"$f":"IF(E74=\"\",\"\",①団体情報入力!$C$4)","v":""},null,{"$f":"IF(②選手情報入力!B83=\"\",\"\",②選手情報入力!B83)","v":""},{"$f":"IF(②選手情報入力!C83=\"\",\"\",②選手情報入力!C83)","v":""},{"$f":"IF(E74=\"\",\"\",②選手情報入力!D83)","v":""},{"$f":"IF(E74=\"\",\"\",ASC(②選手情報入力!E83))","v":""},"",{"$f":"IF(E74=\"\",\"\",IF(②選手情報入力!G83=\"男\",1,2))","v":""},{"$f":"IF(E74=\"\",\"\",IF(②選手情報入力!H83=\"\",\"\",②選手情報入力!H83))","v":""},null,null,"",null,{"$f":"IF(E74=\"\",\"\",IF(②選手情報入力!J83=\"\",\"\",IF(I74=1,VLOOKUP(②選手情報入力!J83,種目情報!$A$4:$B$32,2,FALSE),VLOOKUP(②選手情報入力!J83,種目情報!$E$4:$F$34,2,FALSE))))","v":""},{"$f":"IF(E74=\"\",\"\",IF(②選手情報入力!K83=\"\",\"\",②選手情報入力!K83))","v":""},{"$f":"IF(E74=\"\",\"\",IF(②選手情報入力!I83=\"\",\"\",1))","v":""},{"$f":"IF(E74=\"\",\"\",IF(②選手情報入力!J83=\"\",\"\",IF(I74=1,VLOOKUP(②選手情報入力!J83,種目情報!$A$4:$C$36,3,FALSE),VLOOKUP(②選手情報入力!J83,種目情報!$E$4:$G$39,3,FALSE))))","v":""},{"$f":"IF(E74=\"\",\"\",IF(②選手情報入力!M83=\"\",\"\",IF(I74=1,VLOOKUP(②選手情報入力!M83,種目情報!$A$4:$B$36,2,FALSE),VLOOKUP(②選手情報入力!M83,種目情報!$E$4:$F$39,2,FALSE))))","v":""},{"$f":"IF(E74=\"\",\"\",IF(②選手情報入力!N83=\"\",\"\",②選手情報入力!N83))","v":""},{"$f":"IF(E74=\"\",\"\",IF(②選手情報入力!L83=\"\",\"\",1))","v":""},{"$f":"IF(E74=\"\",\"\",IF(②選手情報入力!M83=\"\",\"\",IF(I74=1,VLOOKUP(②選手情報入力!M83,種目情報!$A$4:$C$36,3,FALSE),VLOOKUP(②選手情報入力!M83,種目情報!$E$4:$G$39,3,FALSE))))","v":""},{"$f":"IF(E74=\"\",\"\",IF(②選手情報入力!P83=\"\",\"\",IF(I74=1,VLOOKUP(②選手情報入力!P83,種目情報!$A$4:$B$36,2,FALSE),VLOOKUP(②選手情報入力!P83,種目情報!$E$4:$F$39,2,FALSE))))","v":""},{"$f":"IF(E74=\"\",\"\",IF(②選手情報入力!Q83=\"\",\"\",②選手情報入力!Q83))","v":""},{"$f":"IF(E74=\"\",\"\",IF(②選手情報入力!O83=\"\",\"\",1))","v":""},{"$f":"IF(E74=\"\",\"\",IF(②選手情報入力!P83=\"\",\"\",IF(I74=1,VLOOKUP(②選手情報入力!P83,種目情報!$A$4:$C$36,3,FALSE),VLOOKUP(②選手情報入力!P83,種目情報!$E$4:$G$39,3,FALSE))))","v":""},{"$f":"IF(E74=\"\",\"\",IF(②選手情報入力!R83=\"\",\"\",IF(I74=1,種目情報!$J$4,種目情報!$J$6)))","v":""},{"$f":"IF(E74=\"\",\"\",IF(②選手情報入力!R83=\"\",\"\",IF(I74=1,IF(②選手情報入力!$S$6=\"\",\"\",②選手情報入力!$S$6),IF(②選手情報入力!$S$7=\"\",\"\",②選手情報入力!$S$7))))","v":""},{"$f":"IF(E74=\"\",\"\",IF(②選手情報入力!R83=\"\",\"\",IF(I74=1,IF(②選手情報入力!$R$6=\"\",0,1),IF(②選手情報入力!$R$7=\"\",0,1))))","v":""},{"$f":"IF(E74=\"\",\"\",IF(②選手情報入力!R83=\"\",\"\",2))","v":""},{"$f":"IF(E74=\"\",\"\",IF(②選手情報入力!T83=\"\",\"\",IF(I74=1,種目情報!$J$5,種目情報!$J$7)))","v":""},{"$f":"IF(E74=\"\",\"\",IF(②選手情報入力!T83=\"\",\"\",IF(I74=1,IF(②選手情報入力!$U$6=\"\",\"\",②選手情報入力!$U$6),IF(②選手情報入力!$U$7=\"\",\"\",②選手情報入力!$U$7))))","v":""},{"$f":"IF(E74=\"\",\"\",IF(②選手情報入力!T83=\"\",\"\",IF(I74=1,IF(②選手情報入力!$T$6=\"\",0,1),IF(②選手情報入力!$T$7=\"\",0,1))))","v":""},{"$f":"IF(E74=\"\",\"\",IF(②選手情報入力!T83=\"\",\"\",2))","v":""}]
[{"$f":"IF(E75=\"\",\"\",Sheet1!A74)","v":""},{"$f":"IF(E75=\"\",\"\",①団体情報入力!$C$4)","v":""},null,{"$f":"IF(②選手情報入力!B84=\"\",\"\",②選手情報入力!B84)","v":""},{"$f":"IF(②選手情報入力!C84=\"\",\"\",②選手情報入力!C84)","v":""},{"$f":"IF(E75=\"\",\"\",②選手情報入力!D84)","v":""},{"$f":"IF(E75=\"\",\"\",ASC(②選手情報入力!E84))","v":""},"",{"$f":"IF(E75=\"\",\"\",IF(②選手情報入力!G84=\"男\",1,2))","v":""},{"$f":"IF(E75=\"\",\"\",IF(②選手情報入力!H84=\"\",\"\",②選手情報入力!H84))","v":""},null,null,"",null,{"$f":"IF(E75=\"\",\"\",IF(②選手情報入力!J84=\"\",\"\",IF(I75=1,VLOOKUP(②選手情報入力!J84,種目情報!$A$4:$B$32,2,FALSE),VLOOKUP(②選手情報入力!J84,種目情報!$E$4:$F$34,2,FALSE))))","v":""},{"$f":"IF(E75=\"\",\"\",IF(②選手情報入力!K84=\"\",\"\",②選手情報入力!K84))","v":""},{"$f":"IF(E75=\"\",\"\",IF(②選手情報入力!I84=\"\",\"\",1))","v":""},{"$f":"IF(E75=\"\",\"\",IF(②選手情報入力!J84=\"\",\"\",IF(I75=1,VLOOKUP(②選手情報入力!J84,種目情報!$A$4:$C$36,3,FALSE),VLOOKUP(②選手情報入力!J84,種目情報!$E$4:$G$39,3,FALSE))))","v":""},{"$f":"IF(E75=\"\",\"\",IF(②選手情報入力!M84=\"\",\"\",IF(I75=1,VLOOKUP(②選手情報入力!M84,種目情報!$A$4:$B$36,2,FALSE),VLOOKUP(②選手情報入力!M84,種目情報!$E$4:$F$39,2,FALSE))))","v":""},{"$f":"IF(E75=\"\",\"\",IF(②選手情報入力!N84=\"\",\"\",②選手情報入力!N84))","v":""},{"$f":"IF(E75=\"\",\"\",IF(②選手情報入力!L84=\"\",\"\",1))","v":""},{"$f":"IF(E75=\"\",\"\",IF(②選手情報入力!M84=\"\",\"\",IF(I75=1,VLOOKUP(②選手情報入力!M84,種目情報!$A$4:$C$36,3,FALSE),VLOOKUP(②選手情報入力!M84,種目情報!$E$4:$G$39,3,FALSE))))","v":""},{"$f":"IF(E75=\"\",\"\",IF(②選手情報入力!P84=\"\",\"\",IF(I75=1,VLOOKUP(②選手情報入力!P84,種目情報!$A$4:$B$36,2,FALSE),VLOOKUP(②選手情報入力!P84,種目情報!$E$4:$F$39,2,FALSE))))","v":""},{"$f":"IF(E75=\"\",\"\",IF(②選手情報入力!Q84=\"\",\"\",②選手情報入力!Q84))","v":""},{"$f":"IF(E75=\"\",\"\",IF(②選手情報入力!O84=\"\",\"\",1))","v":""},{"$f":"IF(E75=\"\",\"\",IF(②選手情報入力!P84=\"\",\"\",IF(I75=1,VLOOKUP(②選手情報入力!P84,種目情報!$A$4:$C$36,3,FALSE),VLOOKUP(②選手情報入力!P84,種目情報!$E$4:$G$39,3,FALSE))))","v":""},{"$f":"IF(E75=\"\",\"\",IF(②選手情報入力!R84=\"\",\"\",IF(I75=1,種目情報!$J$4,種目情報!$J$6)))","v":""},{"$f":"IF(E75=\"\",\"\",IF(②選手情報入力!R84=\"\",\"\",IF(I75=1,IF(②選手情報入力!$S$6=\"\",\"\",②選手情報入力!$S$6),IF(②選手情報入力!$S$7=\"\",\"\",②選手情報入力!$S$7))))","v":""},{"$f":"IF(E75=\"\",\"\",IF(②選手情報入力!R84=\"\",\"\",IF(I75=1,IF(②選手情報入力!$R$6=\"\",0,1),IF(②選手情報入力!$R$7=\"\",0,1))))","v":""},{"$f":"IF(E75=\"\",\"\",IF(②選手情報入力!R84=\"\",\"\",2))","v":""},{"$f":"IF(E75=\"\",\"\",IF(②選手情報入力!T84=\"\",\"\",IF(I75=1,種目情報!$J$5,種目情報!$J$7)))","v":""},{"$f":"IF(E75=\"\",\"\",IF(②選手情報入力!T84=\"\",\"\",IF(I75=1,IF(②選手情報入力!$U$6=\"\",\"\",②選手情報入力!$U$6),IF(②選手情報入力!$U$7=\"\",\"\",②選手情報入力!$U$7))))","v":""},{"$f":"IF(E75=\"\",\"\",IF(②選手情報入力!T84=\"\",\"\",IF(I75=1,IF(②選手情報入力!$T$6=\"\",0,1),IF(②選手情報入力!$T$7=\"\",0,1))))","v":""},{"$f":"IF(E75=\"\",\"\",IF(②選手情報入力!T84=\"\",\"\",2))","v":""}]
[{"$f":"IF(E76=\"\",\"\",Sheet1!A75)","v":""},{"$f":"IF(E76=\"\",\"\",①団体情報入力!$C$4)","v":""},null,{"$f":"IF(②選手情報入力!B85=\"\",\"\",②選手情報入力!B85)","v":""},{"$f":"IF(②選手情報入力!C85=\"\",\"\",②選手情報入力!C85)","v":""},{"$f":"IF(E76=\"\",\"\",②選手情報入力!D85)","v":""},{"$f":"IF(E76=\"\",\"\",ASC(②選手情報入力!E85))","v":""},"",{"$f":"IF(E76=\"\",\"\",IF(②選手情報入力!G85=\"男\",1,2))","v":""},{"$f":"IF(E76=\"\",\"\",IF(②選手情報入力!H85=\"\",\"\",②選手情報入力!H85))","v":""},null,null,"",null,{"$f":"IF(E76=\"\",\"\",IF(②選手情報入力!J85=\"\",\"\",IF(I76=1,VLOOKUP(②選手情報入力!J85,種目情報!$A$4:$B$32,2,FALSE),VLOOKUP(②選手情報入力!J85,種目情報!$E$4:$F$34,2,FALSE))))","v":""},{"$f":"IF(E76=\"\",\"\",IF(②選手情報入力!K85=\"\",\"\",②選手情報入力!K85))","v":""},{"$f":"IF(E76=\"\",\"\",IF(②選手情報入力!I85=\"\",\"\",1))","v":""},{"$f":"IF(E76=\"\",\"\",IF(②選手情報入力!J85=\"\",\"\",IF(I76=1,VLOOKUP(②選手情報入力!J85,種目情報!$A$4:$C$36,3,FALSE),VLOOKUP(②選手情報入力!J85,種目情報!$E$4:$G$39,3,FALSE))))","v":""},{"$f":"IF(E76=\"\",\"\",IF(②選手情報入力!M85=\"\",\"\",IF(I76=1,VLOOKUP(②選手情報入力!M85,種目情報!$A$4:$B$36,2,FALSE),VLOOKUP(②選手情報入力!M85,種目情報!$E$4:$F$39,2,FALSE))))","v":""},{"$f":"IF(E76=\"\",\"\",IF(②選手情報入力!N85=\"\",\"\",②選手情報入力!N85))","v":""},{"$f":"IF(E76=\"\",\"\",IF(②選手情報入力!L85=\"\",\"\",1))","v":""},{"$f":"IF(E76=\"\",\"\",IF(②選手情報入力!M85=\"\",\"\",IF(I76=1,VLOOKUP(②選手情報入力!M85,種目情報!$A$4:$C$36,3,FALSE),VLOOKUP(②選手情報入力!M85,種目情報!$E$4:$G$39,3,FALSE))))","v":""},{"$f":"IF(E76=\"\",\"\",IF(②選手情報入力!P85=\"\",\"\",IF(I76=1,VLOOKUP(②選手情報入力!P85,種目情報!$A$4:$B$36,2,FALSE),VLOOKUP(②選手情報入力!P85,種目情報!$E$4:$F$39,2,FALSE))))","v":""},{"$f":"IF(E76=\"\",\"\",IF(②選手情報入力!Q85=\"\",\"\",②選手情報入力!Q85))","v":""},{"$f":"IF(E76=\"\",\"\",IF(②選手情報入力!O85=\"\",\"\",1))","v":""},{"$f":"IF(E76=\"\",\"\",IF(②選手情報入力!P85=\"\",\"\",IF(I76=1,VLOOKUP(②選手情報入力!P85,種目情報!$A$4:$C$36,3,FALSE),VLOOKUP(②選手情報入力!P85,種目情報!$E$4:$G$39,3,FALSE))))","v":""},{"$f":"IF(E76=\"\",\"\",IF(②選手情報入力!R85=\"\",\"\",IF(I76=1,種目情報!$J$4,種目情報!$J$6)))","v":""},{"$f":"IF(E76=\"\",\"\",IF(②選手情報入力!R85=\"\",\"\",IF(I76=1,IF(②選手情報入力!$S$6=\"\",\"\",②選手情報入力!$S$6),IF(②選手情報入力!$S$7=\"\",\"\",②選手情報入力!$S$7))))","v":""},{"$f":"IF(E76=\"\",\"\",IF(②選手情報入力!R85=\"\",\"\",IF(I76=1,IF(②選手情報入力!$R$6=\"\",0,1),IF(②選手情報入力!$R$7=\"\",0,1))))","v":""},{"$f":"IF(E76=\"\",\"\",IF(②選手情報入力!R85=\"\",\"\",2))","v":""},{"$f":"IF(E76=\"\",\"\",IF(②選手情報入力!T85=\"\",\"\",IF(I76=1,種目情報!$J$5,種目情報!$J$7)))","v":""},{"$f":"IF(E76=\"\",\"\",IF(②選手情報入力!T85=\"\",\"\",IF(I76=1,IF(②選手情報入力!$U$6=\"\",\"\",②選手情報入力!$U$6),IF(②選手情報入力!$U$7=\"\",\"\",②選手情報入力!$U$7))))","v":""},{"$f":"IF(E76=\"\",\"\",IF(②選手情報入力!T85=\"\",\"\",IF(I76=1,IF(②選手情報入力!$T$6=\"\",0,1),IF(②選手情報入力!$T$7=\"\",0,1))))","v":""},{"$f":"IF(E76=\"\",\"\",IF(②選手情報入力!T85=\"\",\"\",2))","v":""}]
[{"$f":"IF(E77=\"\",\"\",Sheet1!A76)","v":""},{"$f":"IF(E77=\"\",\"\",①団体情報入力!$C$4)","v":""},null,{"$f":"IF(②選手情報入力!B86=\"\",\"\",②選手情報入力!B86)","v":""},{"$f":"IF(②選手情報入力!C86=\"\",\"\",②選手情報入力!C86)","v":""},{"$f":"IF(E77=\"\",\"\",②選手情報入力!D86)","v":""},{"$f":"IF(E77=\"\",\"\",ASC(②選手情報入力!E86))","v":""},"",{"$f":"IF(E77=\"\",\"\",IF(②選手情報入力!G86=\"男\",1,2))","v":""},{"$f":"IF(E77=\"\",\"\",IF(②選手情報入力!H86=\"\",\"\",②選手情報入力!H86))","v":""},null,null,"",null,{"$f":"IF(E77=\"\",\"\",IF(②選手情報入力!J86=\"\",\"\",IF(I77=1,VLOOKUP(②選手情報入力!J86,種目情報!$A$4:$B$32,2,FALSE),VLOOKUP(②選手情報入力!J86,種目情報!$E$4:$F$34,2,FALSE))))","v":""},{"$f":"IF(E77=\"\",\"\",IF(②選手情報入力!K86=\"\",\"\",②選手情報入力!K86))","v":""},{"$f":"IF(E77=\"\",\"\",IF(②選手情報入力!I86=\"\",\"\",1))","v":""},{"$f":"IF(E77=\"\",\"\",IF(②選手情報入力!J86=\"\",\"\",IF(I77=1,VLOOKUP(②選手情報入力!J86,種目情報!$A$4:$C$36,3,FALSE),VLOOKUP(②選手情報入力!J86,種目情報!$E$4:$G$39,3,FALSE))))","v":""},{"$f":"IF(E77=\"\",\"\",IF(②選手情報入力!M86=\"\",\"\",IF(I77=1,VLOOKUP(②選手情報入力!M86,種目情報!$A$4:$B$36,2,FALSE),VLOOKUP(②選手情報入力!M86,種目情報!$E$4:$F$39,2,FALSE))))","v":""},{"$f":"IF(E77=\"\",\"\",IF(②選手情報入力!N86=\"\",\"\",②選手情報入力!N86))","v":""},{"$f":"IF(E77=\"\",\"\",IF(②選手情報入力!L86=\"\",\"\",1))","v":""},{"$f":"IF(E77=\"\",\"\",IF(②選手情報入力!M86=\"\",\"\",IF(I77=1,VLOOKUP(②選手情報入力!M86,種目情報!$A$4:$C$36,3,FALSE),VLOOKUP(②選手情報入力!M86,種目情報!$E$4:$G$39,3,FALSE))))","v":""},{"$f":"IF(E77=\"\",\"\",IF(②選手情報入力!P86=\"\",\"\",IF(I77=1,VLOOKUP(②選手情報入力!P86,種目情報!$A$4:$B$36,2,FALSE),VLOOKUP(②選手情報入力!P86,種目情報!$E$4:$F$39,2,FALSE))))","v":""},{"$f":"IF(E77=\"\",\"\",IF(②選手情報入力!Q86=\"\",\"\",②選手情報入力!Q86))","v":""},{"$f":"IF(E77=\"\",\"\",IF(②選手情報入力!O86=\"\",\"\",1))","v":""},{"$f":"IF(E77=\"\",\"\",IF(②選手情報入力!P86=\"\",\"\",IF(I77=1,VLOOKUP(②選手情報入力!P86,種目情報!$A$4:$C$36,3,FALSE),VLOOKUP(②選手情報入力!P86,種目情報!$E$4:$G$39,3,FALSE))))","v":""},{"$f":"IF(E77=\"\",\"\",IF(②選手情報入力!R86=\"\",\"\",IF(I77=1,種目情報!$J$4,種目情報!$J$6)))","v":""},{"$f":"IF(E77=\"\",\"\",IF(②選手情報入力!R86=\"\",\"\",IF(I77=1,IF(②選手情報入力!$S$6=\"\",\"\",②選手情報入力!$S$6),IF(②選手情報入力!$S$7=\"\",\"\",②選手情報入力!$S$7))))","v":""},{"$f":"IF(E77=\"\",\"\",IF(②選手情報入力!R86=\"\",\"\",IF(I77=1,IF(②選手情報入力!$R$6=\"\",0,1),IF(②選手情報入力!$R$7=\"\",0,1))))","v":""},{"$f":"IF(E77=\"\",\"\",IF(②選手情報入力!R86=\"\",\"\",2))","v":""},{"$f":"IF(E77=\"\",\"\",IF(②選手情報入力!T86=\"\",\"\",IF(I77=1,種目情報!$J$5,種目情報!$J$7)))","v":""},{"$f":"IF(E77=\"\",\"\",IF(②選手情報入力!T86=\"\",\"\",IF(I77=1,IF(②選手情報入力!$U$6=\"\",\"\",②選手情報入力!$U$6),IF(②選手情報入力!$U$7=\"\",\"\",②選手情報入力!$U$7))))","v":""},{"$f":"IF(E77=\"\",\"\",IF(②選手情報入力!T86=\"\",\"\",IF(I77=1,IF(②選手情報入力!$T$6=\"\",0,1),IF(②選手情報入力!$T$7=\"\",0,1))))","v":""},{"$f":"IF(E77=\"\",\"\",IF(②選手情報入力!T86=\"\",\"\",2))","v":""}]
[{"$f":"IF(E78=\"\",\"\",Sheet1!A77)","v":""},{"$f":"IF(E78=\"\",\"\",①団体情報入力!$C$4)","v":""},null,{"$f":"IF(②選手情報入力!B87=\"\",\"\",②選手情報入力!B87)","v":""},{"$f":"IF(②選手情報入力!C87=\"\",\"\",②選手情報入力!C87)","v":""},{"$f":"IF(E78=\"\",\"\",②選手情報入力!D87)","v":""},{"$f":"IF(E78=\"\",\"\",ASC(②選手情報入力!E87))","v":""},"",{"$f":"IF(E78=\"\",\"\",IF(②選手情報入力!G87=\"男\",1,2))","v":""},{"$f":"IF(E78=\"\",\"\",IF(②選手情報入力!H87=\"\",\"\",②選手情報入力!H87))","v":""},null,null,"",null,{"$f":"IF(E78=\"\",\"\",IF(②選手情報入力!J87=\"\",\"\",IF(I78=1,VLOOKUP(②選手情報入力!J87,種目情報!$A$4:$B$32,2,FALSE),VLOOKUP(②選手情報入力!J87,種目情報!$E$4:$F$34,2,FALSE))))","v":""},{"$f":"IF(E78=\"\",\"\",IF(②選手情報入力!K87=\"\",\"\",②選手情報入力!K87))","v":""},{"$f":"IF(E78=\"\",\"\",IF(②選手情報入力!I87=\"\",\"\",1))","v":""},{"$f":"IF(E78=\"\",\"\",IF(②選手情報入力!J87=\"\",\"\",IF(I78=1,VLOOKUP(②選手情報入力!J87,種目情報!$A$4:$C$36,3,FALSE),VLOOKUP(②選手情報入力!J87,種目情報!$E$4:$G$39,3,FALSE))))","v":""},{"$f":"IF(E78=\"\",\"\",IF(②選手情報入力!M87=\"\",\"\",IF(I78=1,VLOOKUP(②選手情報入力!M87,種目情報!$A$4:$B$36,2,FALSE),VLOOKUP(②選手情報入力!M87,種目情報!$E$4:$F$39,2,FALSE))))","v":""},{"$f":"IF(E78=\"\",\"\",IF(②選手情報入力!N87=\"\",\"\",②選手情報入力!N87))","v":""},{"$f":"IF(E78=\"\",\"\",IF(②選手情報入力!L87=\"\",\"\",1))","v":""},{"$f":"IF(E78=\"\",\"\",IF(②選手情報入力!M87=\"\",\"\",IF(I78=1,VLOOKUP(②選手情報入力!M87,種目情報!$A$4:$C$36,3,FALSE),VLOOKUP(②選手情報入力!M87,種目情報!$E$4:$G$39,3,FALSE))))","v":""},{"$f":"IF(E78=\"\",\"\",IF(②選手情報入力!P87=\"\",\"\",IF(I78=1,VLOOKUP(②選手情報入力!P87,種目情報!$A$4:$B$36,2,FALSE),VLOOKUP(②選手情報入力!P87,種目情報!$E$4:$F$39,2,FALSE))))","v":""},{"$f":"IF(E78=\"\",\"\",IF(②選手情報入力!Q87=\"\",\"\",②選手情報入力!Q87))","v":""},{"$f":"IF(E78=\"\",\"\",IF(②選手情報入力!O87=\"\",\"\",1))","v":""},{"$f":"IF(E78=\"\",\"\",IF(②選手情報入力!P87=\"\",\"\",IF(I78=1,VLOOKUP(②選手情報入力!P87,種目情報!$A$4:$C$36,3,FALSE),VLOOKUP(②選手情報入力!P87,種目情報!$E$4:$G$39,3,FALSE))))","v":""},{"$f":"IF(E78=\"\",\"\",IF(②選手情報入力!R87=\"\",\"\",IF(I78=1,種目情報!$J$4,種目情報!$J$6)))","v":""},{"$f":"IF(E78=\"\",\"\",IF(②選手情報入力!R87=\"\",\"\",IF(I78=1,IF(②選手情報入力!$S$6=\"\",\"\",②選手情報入力!$S$6),IF(②選手情報入力!$S$7=\"\",\"\",②選手情報入力!$S$7))))","v":""},{"$f":"IF(E78=\"\",\"\",IF(②選手情報入力!R87=\"\",\"\",IF(I78=1,IF(②選手情報入力!$R$6=\"\",0,1),IF(②選手情報入力!$R$7=\"\",0,1))))","v":""},{"$f":"IF(E78=\"\",\"\",IF(②選手情報入力!R87=\"\",\"\",2))","v":""},{"$f":"IF(E78=\"\",\"\",IF(②選手情報入力!T87=\"\",\"\",IF(I78=1,種目情報!$J$5,種目情報!$J$7)))","v":""},{"$f":"IF(E78=\"\",\"\",IF(②選手情報入力!T87=\"\",\"\",IF(I78=1,IF(②選手情報入力!$U$6=\"\",\"\",②選手情報入力!$U$6),IF(②選手情報入力!$U$7=\"\",\"\",②選手情報入力!$U$7))))","v":""},{"$f":"IF(E78=\"\",\"\",IF(②選手情報入力!T87=\"\",\"\",IF(I78=1,IF(②選手情報入力!$T$6=\"\",0,1),IF(②選手情報入力!$T$7=\"\",0,1))))","v":""},{"$f":"IF(E78=\"\",\"\",IF(②選手情報入力!T87=\"\",\"\",2))","v":""}]
[{"$f":"IF(E79=\"\",\"\",Sheet1!A78)","v":""},{"$f":"IF(E79=\"\",\"\",①団体情報入力!$C$4)","v":""},null,{"$f":"IF(②選手情報入力!B88=\"\",\"\",②選手情報入力!B88)","v":""},{"$f":"IF(②選手情報入力!C88=\"\",\"\",②選手情報入力!C88)","v":""},{"$f":"IF(E79=\"\",\"\",②選手情報入力!D88)","v":""},{"$f":"IF(E79=\"\",\"\",ASC(②選手情報入力!E88))","v":""},"",{"$f":"IF(E79=\"\",\"\",IF(②選手情報入力!G88=\"男\",1,2))","v":""},{"$f":"IF(E79=\"\",\"\",IF(②選手情報入力!H88=\"\",\"\",②選手情報入力!H88))","v":""},null,null,"",null,{"$f":"IF(E79=\"\",\"\",IF(②選手情報入力!J88=\"\",\"\",IF(I79=1,VLOOKUP(②選手情報入力!J88,種目情報!$A$4:$B$32,2,FALSE),VLOOKUP(②選手情報入力!J88,種目情報!$E$4:$F$34,2,FALSE))))","v":""},{"$f":"IF(E79=\"\",\"\",IF(②選手情報入力!K88=\"\",\"\",②選手情報入力!K88))","v":""},{"$f":"IF(E79=\"\",\"\",IF(②選手情報入力!I88=\"\",\"\",1))","v":""},{"$f":"IF(E79=\"\",\"\",IF(②選手情報入力!J88=\"\",\"\",IF(I79=1,VLOOKUP(②選手情報入力!J88,種目情報!$A$4:$C$36,3,FALSE),VLOOKUP(②選手情報入力!J88,種目情報!$E$4:$G$39,3,FALSE))))","v":""},{"$f":"IF(E79=\"\",\"\",IF(②選手情報入力!M88=\"\",\"\",IF(I79=1,VLOOKUP(②選手情報入力!M88,種目情報!$A$4:$B$36,2,FALSE),VLOOKUP(②選手情報入力!M88,種目情報!$E$4:$F$39,2,FALSE))))","v":""},{"$f":"IF(E79=\"\",\"\",IF(②選手情報入力!N88=\"\",\"\",②選手情報入力!N88))","v":""},{"$f":"IF(E79=\"\",\"\",IF(②選手情報入力!L88=\"\",\"\",1))","v":""},{"$f":"IF(E79=\"\",\"\",IF(②選手情報入力!M88=\"\",\"\",IF(I79=1,VLOOKUP(②選手情報入力!M88,種目情報!$A$4:$C$36,3,FALSE),VLOOKUP(②選手情報入力!M88,種目情報!$E$4:$G$39,3,FALSE))))","v":""},{"$f":"IF(E79=\"\",\"\",IF(②選手情報入力!P88=\"\",\"\",IF(I79=1,VLOOKUP(②選手情報入力!P88,種目情報!$A$4:$B$36,2,FALSE),VLOOKUP(②選手情報入力!P88,種目情報!$E$4:$F$39,2,FALSE))))","v":""},{"$f":"IF(E79=\"\",\"\",IF(②選手情報入力!Q88=\"\",\"\",②選手情報入力!Q88))","v":""},{"$f":"IF(E79=\"\",\"\",IF(②選手情報入力!O88=\"\",\"\",1))","v":""},{"$f":"IF(E79=\"\",\"\",IF(②選手情報入力!P88=\"\",\"\",IF(I79=1,VLOOKUP(②選手情報入力!P88,種目情報!$A$4:$C$36,3,FALSE),VLOOKUP(②選手情報入力!P88,種目情報!$E$4:$G$39,3,FALSE))))","v":""},{"$f":"IF(E79=\"\",\"\",IF(②選手情報入力!R88=\"\",\"\",IF(I79=1,種目情報!$J$4,種目情報!$J$6)))","v":""},{"$f":"IF(E79=\"\",\"\",IF(②選手情報入力!R88=\"\",\"\",IF(I79=1,IF(②選手情報入力!$S$6=\"\",\"\",②選手情報入力!$S$6),IF(②選手情報入力!$S$7=\"\",\"\",②選手情報入力!$S$7))))","v":""},{"$f":"IF(E79=\"\",\"\",IF(②選手情報入力!R88=\"\",\"\",IF(I79=1,IF(②選手情報入力!$R$6=\"\",0,1),IF(②選手情報入力!$R$7=\"\",0,1))))","v":""},{"$f":"IF(E79=\"\",\"\",IF(②選手情報入力!R88=\"\",\"\",2))","v":""},{"$f":"IF(E79=\"\",\"\",IF(②選手情報入力!T88=\"\",\"\",IF(I79=1,種目情報!$J$5,種目情報!$J$7)))","v":""},{"$f":"IF(E79=\"\",\"\",IF(②選手情報入力!T88=\"\",\"\",IF(I79=1,IF(②選手情報入力!$U$6=\"\",\"\",②選手情報入力!$U$6),IF(②選手情報入力!$U$7=\"\",\"\",②選手情報入力!$U$7))))","v":""},{"$f":"IF(E79=\"\",\"\",IF(②選手情報入力!T88=\"\",\"\",IF(I79=1,IF(②選手情報入力!$T$6=\"\",0,1),IF(②選手情報入力!$T$7=\"\",0,1))))","v":""},{"$f":"IF(E79=\"\",\"\",IF(②選手情報入力!T88=\"\",\"\",2))","v":""}]
[{"$f":"IF(E80=\"\",\"\",Sheet1!A79)","v":""},{"$f":"IF(E80=\"\",\"\",①団体情報入力!$C$4)","v":""},null,{"$f":"IF(②選手情報入力!B89=\"\",\"\",②選手情報入力!B89)","v":""},{"$f":"IF(②選手情報入力!C89=\"\",\"\",②選手情報入力!C89)","v":""},{"$f":"IF(E80=\"\",\"\",②選手情報入力!D89)","v":""},{"$f":"IF(E80=\"\",\"\",ASC(②選手情報入力!E89))","v":""},"",{"$f":"IF(E80=\"\",\"\",IF(②選手情報入力!G89=\"男\",1,2))","v":""},{"$f":"IF(E80=\"\",\"\",IF(②選手情報入力!H89=\"\",\"\",②選手情報入力!H89))","v":""},null,null,"",null,{"$f":"IF(E80=\"\",\"\",IF(②選手情報入力!J89=\"\",\"\",IF(I80=1,VLOOKUP(②選手情報入力!J89,種目情報!$A$4:$B$32,2,FALSE),VLOOKUP(②選手情報入力!J89,種目情報!$E$4:$F$34,2,FALSE))))","v":""},{"$f":"IF(E80=\"\",\"\",IF(②選手情報入力!K89=\"\",\"\",②選手情報入力!K89))","v":""},{"$f":"IF(E80=\"\",\"\",IF(②選手情報入力!I89=\"\",\"\",1))","v":""},{"$f":"IF(E80=\"\",\"\",IF(②選手情報入力!J89=\"\",\"\",IF(I80=1,VLOOKUP(②選手情報入力!J89,種目情報!$A$4:$C$36,3,FALSE),VLOOKUP(②選手情報入力!J89,種目情報!$E$4:$G$39,3,FALSE))))","v":""},{"$f":"IF(E80=\"\",\"\",IF(②選手情報入力!M89=\"\",\"\",IF(I80=1,VLOOKUP(②選手情報入力!M89,種目情報!$A$4:$B$36,2,FALSE),VLOOKUP(②選手情報入力!M89,種目情報!$E$4:$F$39,2,FALSE))))","v":""},{"$f":"IF(E80=\"\",\"\",IF(②選手情報入力!N89=\"\",\"\",②選手情報入力!N89))","v":""},{"$f":"IF(E80=\"\",\"\",IF(②選手情報入力!L89=\"\",\"\",1))","v":""},{"$f":"IF(E80=\"\",\"\",IF(②選手情報入力!M89=\"\",\"\",IF(I80=1,VLOOKUP(②選手情報入力!M89,種目情報!$A$4:$C$36,3,FALSE),VLOOKUP(②選手情報入力!M89,種目情報!$E$4:$G$39,3,FALSE))))","v":""},{"$f":"IF(E80=\"\",\"\",IF(②選手情報入力!P89=\"\",\"\",IF(I80=1,VLOOKUP(②選手情報入力!P89,種目情報!$A$4:$B$36,2,FALSE),VLOOKUP(②選手情報入力!P89,種目情報!$E$4:$F$39,2,FALSE))))","v":""},{"$f":"IF(E80=\"\",\"\",IF(②選手情報入力!Q89=\"\",\"\",②選手情報入力!Q89))","v":""},{"$f":"IF(E80=\"\",\"\",IF(②選手情報入力!O89=\"\",\"\",1))","v":""},{"$f":"IF(E80=\"\",\"\",IF(②選手情報入力!P89=\"\",\"\",IF(I80=1,VLOOKUP(②選手情報入力!P89,種目情報!$A$4:$C$36,3,FALSE),VLOOKUP(②選手情報入力!P89,種目情報!$E$4:$G$39,3,FALSE))))","v":""},{"$f":"IF(E80=\"\",\"\",IF(②選手情報入力!R89=\"\",\"\",IF(I80=1,種目情報!$J$4,種目情報!$J$6)))","v":""},{"$f":"IF(E80=\"\",\"\",IF(②選手情報入力!R89=\"\",\"\",IF(I80=1,IF(②選手情報入力!$S$6=\"\",\"\",②選手情報入力!$S$6),IF(②選手情報入力!$S$7=\"\",\"\",②選手情報入力!$S$7))))","v":""},{"$f":"IF(E80=\"\",\"\",IF(②選手情報入力!R89=\"\",\"\",IF(I80=1,IF(②選手情報入力!$R$6=\"\",0,1),IF(②選手情報入力!$R$7=\"\",0,1))))","v":""},{"$f":"IF(E80=\"\",\"\",IF(②選手情報入力!R89=\"\",\"\",2))","v":""},{"$f":"IF(E80=\"\",\"\",IF(②選手情報入力!T89=\"\",\"\",IF(I80=1,種目情報!$J$5,種目情報!$J$7)))","v":""},{"$f":"IF(E80=\"\",\"\",IF(②選手情報入力!T89=\"\",\"\",IF(I80=1,IF(②選手情報入力!$U$6=\"\",\"\",②選手情報入力!$U$6),IF(②選手情報入力!$U$7=\"\",\"\",②選手情報入力!$U$7))))","v":""},{"$f":"IF(E80=\"\",\"\",IF(②選手情報入力!T89=\"\",\"\",IF(I80=1,IF(②選手情報入力!$T$6=\"\",0,1),IF(②選手情報入力!$T$7=\"\",0,1))))","v":""},{"$f":"IF(E80=\"\",\"\",IF(②選手情報入力!T89=\"\",\"\",2))","v":""}]
[{"$f":"IF(E81=\"\",\"\",Sheet1!A80)","v":""},{"$f":"IF(E81=\"\",\"\",①団体情報入力!$C$4)","v":""},null,{"$f":"IF(②選手情報入力!B90=\"\",\"\",②選手情報入力!B90)","v":""},{"$f":"IF(②選手情報入力!C90=\"\",\"\",②選手情報入力!C90)","v":""},{"$f":"IF(E81=\"\",\"\",②選手情報入力!D90)","v":""},{"$f":"IF(E81=\"\",\"\",ASC(②選手情報入力!E90))","v":""},"",{"$f":"IF(E81=\"\",\"\",IF(②選手情報入力!G90=\"男\",1,2))","v":""},{"$f":"IF(E81=\"\",\"\",IF(②選手情報入力!H90=\"\",\"\",②選手情報入力!H90))","v":""},null,null,"",null,{"$f":"IF(E81=\"\",\"\",IF(②選手情報入力!J90=\"\",\"\",IF(I81=1,VLOOKUP(②選手情報入力!J90,種目情報!$A$4:$B$32,2,FALSE),VLOOKUP(②選手情報入力!J90,種目情報!$E$4:$F$34,2,FALSE))))","v":""},{"$f":"IF(E81=\"\",\"\",IF(②選手情報入力!K90=\"\",\"\",②選手情報入力!K90))","v":""},{"$f":"IF(E81=\"\",\"\",IF(②選手情報入力!I90=\"\",\"\",1))","v":""},{"$f":"IF(E81=\"\",\"\",IF(②選手情報入力!J90=\"\",\"\",IF(I81=1,VLOOKUP(②選手情報入力!J90,種目情報!$A$4:$C$36,3,FALSE),VLOOKUP(②選手情報入力!J90,種目情報!$E$4:$G$39,3,FALSE))))","v":""},{"$f":"IF(E81=\"\",\"\",IF(②選手情報入力!M90=\"\",\"\",IF(I81=1,VLOOKUP(②選手情報入力!M90,種目情報!$A$4:$B$36,2,FALSE),VLOOKUP(②選手情報入力!M90,種目情報!$E$4:$F$39,2,FALSE))))","v":""},{"$f":"IF(E81=\"\",\"\",IF(②選手情報入力!N90=\"\",\"\",②選手情報入力!N90))","v":""},{"$f":"IF(E81=\"\",\"\",IF(②選手情報入力!L90=\"\",\"\",1))","v":""},{"$f":"IF(E81=\"\",\"\",IF(②選手情報入力!M90=\"\",\"\",IF(I81=1,VLOOKUP(②選手情報入力!M90,種目情報!$A$4:$C$36,3,FALSE),VLOOKUP(②選手情報入力!M90,種目情報!$E$4:$G$39,3,FALSE))))","v":""},{"$f":"IF(E81=\"\",\"\",IF(②選手情報入力!P90=\"\",\"\",IF(I81=1,VLOOKUP(②選手情報入力!P90,種目情報!$A$4:$B$36,2,FALSE),VLOOKUP(②選手情報入力!P90,種目情報!$E$4:$F$39,2,FALSE))))","v":""},{"$f":"IF(E81=\"\",\"\",IF(②選手情報入力!Q90=\"\",\"\",②選手情報入力!Q90))","v":""},{"$f":"IF(E81=\"\",\"\",IF(②選手情報入力!O90=\"\",\"\",1))","v":""},{"$f":"IF(E81=\"\",\"\",IF(②選手情報入力!P90=\"\",\"\",IF(I81=1,VLOOKUP(②選手情報入力!P90,種目情報!$A$4:$C$36,3,FALSE),VLOOKUP(②選手情報入力!P90,種目情報!$E$4:$G$39,3,FALSE))))","v":""},{"$f":"IF(E81=\"\",\"\",IF(②選手情報入力!R90=\"\",\"\",IF(I81=1,種目情報!$J$4,種目情報!$J$6)))","v":""},{"$f":"IF(E81=\"\",\"\",IF(②選手情報入力!R90=\"\",\"\",IF(I81=1,IF(②選手情報入力!$S$6=\"\",\"\",②選手情報入力!$S$6),IF(②選手情報入力!$S$7=\"\",\"\",②選手情報入力!$S$7))))","v":""},{"$f":"IF(E81=\"\",\"\",IF(②選手情報入力!R90=\"\",\"\",IF(I81=1,IF(②選手情報入力!$R$6=\"\",0,1),IF(②選手情報入力!$R$7=\"\",0,1))))","v":""},{"$f":"IF(E81=\"\",\"\",IF(②選手情報入力!R90=\"\",\"\",2))","v":""},{"$f":"IF(E81=\"\",\"\",IF(②選手情報入力!T90=\"\",\"\",IF(I81=1,種目情報!$J$5,種目情報!$J$7)))","v":""},{"$f":"IF(E81=\"\",\"\",IF(②選手情報入力!T90=\"\",\"\",IF(I81=1,IF(②選手情報入力!$U$6=\"\",\"\",②選手情報入力!$U$6),IF(②選手情報入力!$U$7=\"\",\"\",②選手情報入力!$U$7))))","v":""},{"$f":"IF(E81=\"\",\"\",IF(②選手情報入力!T90=\"\",\"\",IF(I81=1,IF(②選手情報入力!$T$6=\"\",0,1),IF(②選手情報入力!$T$7=\"\",0,1))))","v":""},{"$f":"IF(E81=\"\",\"\",IF(②選手情報入力!T90=\"\",\"\",2))","v":""}]
[{"$f":"IF(E82=\"\",\"\",Sheet1!A81)","v":""},{"$f":"IF(E82=\"\",\"\",①団体情報入力!$C$4)","v":""},null,{"$f":"IF(②選手情報入力!B91=\"\",\"\",②選手情報入力!B91)","v":""},{"$f":"IF(②選手情報入力!C91=\"\",\"\",②選手情報入力!C91)","v":""},{"$f":"IF(E82=\"\",\"\",②選手情報入力!D91)","v":""},{"$f":"IF(E82=\"\",\"\",ASC(②選手情報入力!E91))","v":""},"",{"$f":"IF(E82=\"\",\"\",IF(②選手情報入力!G91=\"男\",1,2))","v":""},{"$f":"IF(E82=\"\",\"\",IF(②選手情報入力!H91=\"\",\"\",②選手情報入力!H91))","v":""},null,null,"",null,{"$f":"IF(E82=\"\",\"\",IF(②選手情報入力!J91=\"\",\"\",IF(I82=1,VLOOKUP(②選手情報入力!J91,種目情報!$A$4:$B$32,2,FALSE),VLOOKUP(②選手情報入力!J91,種目情報!$E$4:$F$34,2,FALSE))))","v":""},{"$f":"IF(E82=\"\",\"\",IF(②選手情報入力!K91=\"\",\"\",②選手情報入力!K91))","v":""},{"$f":"IF(E82=\"\",\"\",IF(②選手情報入力!I91=\"\",\"\",1))","v":""},{"$f":"IF(E82=\"\",\"\",IF(②選手情報入力!J91=\"\",\"\",IF(I82=1,VLOOKUP(②選手情報入力!J91,種目情報!$A$4:$C$36,3,FALSE),VLOOKUP(②選手情報入力!J91,種目情報!$E$4:$G$39,3,FALSE))))","v":""},{"$f":"IF(E82=\"\",\"\",IF(②選手情報入力!M91=\"\",\"\",IF(I82=1,VLOOKUP(②選手情報入力!M91,種目情報!$A$4:$B$36,2,FALSE),VLOOKUP(②選手情報入力!M91,種目情報!$E$4:$F$39,2,FALSE))))","v":""},{"$f":"IF(E82=\"\",\"\",IF(②選手情報入力!N91=\"\",\"\",②選手情報入力!N91))","v":""},{"$f":"IF(E82=\"\",\"\",IF(②選手情報入力!L91=\"\",\"\",1))","v":""},{"$f":"IF(E82=\"\",\"\",IF(②選手情報入力!M91=\"\",\"\",IF(I82=1,VLOOKUP(②選手情報入力!M91,種目情報!$A$4:$C$36,3,FALSE),VLOOKUP(②選手情報入力!M91,種目情報!$E$4:$G$39,3,FALSE))))","v":""},{"$f":"IF(E82=\"\",\"\",IF(②選手情報入力!P91=\"\",\"\",IF(I82=1,VLOOKUP(②選手情報入力!P91,種目情報!$A$4:$B$36,2,FALSE),VLOOKUP(②選手情報入力!P91,種目情報!$E$4:$F$39,2,FALSE))))","v":""},{"$f":"IF(E82=\"\",\"\",IF(②選手情報入力!Q91=\"\",\"\",②選手情報入力!Q91))","v":""},{"$f":"IF(E82=\"\",\"\",IF(②選手情報入力!O91=\"\",\"\",1))","v":""},{"$f":"IF(E82=\"\",\"\",IF(②選手情報入力!P91=\"\",\"\",IF(I82=1,VLOOKUP(②選手情報入力!P91,種目情報!$A$4:$C$36,3,FALSE),VLOOKUP(②選手情報入力!P91,種目情報!$E$4:$G$39,3,FALSE))))","v":""},{"$f":"IF(E82=\"\",\"\",IF(②選手情報入力!R91=\"\",\"\",IF(I82=1,種目情報!$J$4,種目情報!$J$6)))","v":""},{"$f":"IF(E82=\"\",\"\",IF(②選手情報入力!R91=\"\",\"\",IF(I82=1,IF(②選手情報入力!$S$6=\"\",\"\",②選手情報入力!$S$6),IF(②選手情報入力!$S$7=\"\",\"\",②選手情報入力!$S$7))))","v":""},{"$f":"IF(E82=\"\",\"\",IF(②選手情報入力!R91=\"\",\"\",IF(I82=1,IF(②選手情報入力!$R$6=\"\",0,1),IF(②選手情報入力!$R$7=\"\",0,1))))","v":""},{"$f":"IF(E82=\"\",\"\",IF(②選手情報入力!R91=\"\",\"\",2))","v":""},{"$f":"IF(E82=\"\",\"\",IF(②選手情報入力!T91=\"\",\"\",IF(I82=1,種目情報!$J$5,種目情報!$J$7)))","v":""},{"$f":"IF(E82=\"\",\"\",IF(②選手情報入力!T91=\"\",\"\",IF(I82=1,IF(②選手情報入力!$U$6=\"\",\"\",②選手情報入力!$U$6),IF(②選手情報入力!$U$7=\"\",\"\",②選手情報入力!$U$7))))","v":""},{"$f":"IF(E82=\"\",\"\",IF(②選手情報入力!T91=\"\",\"\",IF(I82=1,IF(②選手情報入力!$T$6=\"\",0,1),IF(②選手情報入力!$T$7=\"\",0,1))))","v":""},{"$f":"IF(E82=\"\",\"\",IF(②選手情報入力!T91=\"\",\"\",2))","v":""}]
[{"$f":"IF(E83=\"\",\"\",Sheet1!A82)","v":""},{"$f":"IF(E83=\"\",\"\",①団体情報入力!$C$4)","v":""},null,{"$f":"IF(②選手情報入力!B92=\"\",\"\",②選手情報入力!B92)","v":""},{"$f":"IF(②選手情報入力!C92=\"\",\"\",②選手情報入力!C92)","v":""},{"$f":"IF(E83=\"\",\"\",②選手情報入力!D92)","v":""},{"$f":"IF(E83=\"\",\"\",ASC(②選手情報入力!E92))","v":""},"",{"$f":"IF(E83=\"\",\"\",IF(②選手情報入力!G92=\"男\",1,2))","v":""},{"$f":"IF(E83=\"\",\"\",IF(②選手情報入力!H92=\"\",\"\",②選手情報入力!H92))","v":""},null,null,"",null,{"$f":"IF(E83=\"\",\"\",IF(②選手情報入力!J92=\"\",\"\",IF(I83=1,VLOOKUP(②選手情報入力!J92,種目情報!$A$4:$B$32,2,FALSE),VLOOKUP(②選手情報入力!J92,種目情報!$E$4:$F$34,2,FALSE))))","v":""},{"$f":"IF(E83=\"\",\"\",IF(②選手情報入力!K92=\"\",\"\",②選手情報入力!K92))","v":""},{"$f":"IF(E83=\"\",\"\",IF(②選手情報入力!I92=\"\",\"\",1))","v":""},{"$f":"IF(E83=\"\",\"\",IF(②選手情報入力!J92=\"\",\"\",IF(I83=1,VLOOKUP(②選手情報入力!J92,種目情報!$A$4:$C$36,3,FALSE),VLOOKUP(②選手情報入力!J92,種目情報!$E$4:$G$39,3,FALSE))))","v":""},{"$f":"IF(E83=\"\",\"\",IF(②選手情報入力!M92=\"\",\"\",IF(I83=1,VLOOKUP(②選手情報入力!M92,種目情報!$A$4:$B$36,2,FALSE),VLOOKUP(②選手情報入力!M92,種目情報!$E$4:$F$39,2,FALSE))))","v":""},{"$f":"IF(E83=\"\",\"\",IF(②選手情報入力!N92=\"\",\"\",②選手情報入力!N92))","v":""},{"$f":"IF(E83=\"\",\"\",IF(②選手情報入力!L92=\"\",\"\",1))","v":""},{"$f":"IF(E83=\"\",\"\",IF(②選手情報入力!M92=\"\",\"\",IF(I83=1,VLOOKUP(②選手情報入力!M92,種目情報!$A$4:$C$36,3,FALSE),VLOOKUP(②選手情報入力!M92,種目情報!$E$4:$G$39,3,FALSE))))","v":""},{"$f":"IF(E83=\"\",\"\",IF(②選手情報入力!P92=\"\",\"\",IF(I83=1,VLOOKUP(②選手情報入力!P92,種目情報!$A$4:$B$36,2,FALSE),VLOOKUP(②選手情報入力!P92,種目情報!$E$4:$F$39,2,FALSE))))","v":""},{"$f":"IF(E83=\"\",\"\",IF(②選手情報入力!Q92=\"\",\"\",②選手情報入力!Q92))","v":""},{"$f":"IF(E83=\"\",\"\",IF(②選手情報入力!O92=\"\",\"\",1))","v":""},{"$f":"IF(E83=\"\",\"\",IF(②選手情報入力!P92=\"\",\"\",IF(I83=1,VLOOKUP(②選手情報入力!P92,種目情報!$A$4:$C$36,3,FALSE),VLOOKUP(②選手情報入力!P92,種目情報!$E$4:$G$39,3,FALSE))))","v":""},{"$f":"IF(E83=\"\",\"\",IF(②選手情報入力!R92=\"\",\"\",IF(I83=1,種目情報!$J$4,種目情報!$J$6)))","v":""},{"$f":"IF(E83=\"\",\"\",IF(②選手情報入力!R92=\"\",\"\",IF(I83=1,IF(②選手情報入力!$S$6=\"\",\"\",②選手情報入力!$S$6),IF(②選手情報入力!$S$7=\"\",\"\",②選手情報入力!$S$7))))","v":""},{"$f":"IF(E83=\"\",\"\",IF(②選手情報入力!R92=\"\",\"\",IF(I83=1,IF(②選手情報入力!$R$6=\"\",0,1),IF(②選手情報入力!$R$7=\"\",0,1))))","v":""},{"$f":"IF(E83=\"\",\"\",IF(②選手情報入力!R92=\"\",\"\",2))","v":""},{"$f":"IF(E83=\"\",\"\",IF(②選手情報入力!T92=\"\",\"\",IF(I83=1,種目情報!$J$5,種目情報!$J$7)))","v":""},{"$f":"IF(E83=\"\",\"\",IF(②選手情報入力!T92=\"\",\"\",IF(I83=1,IF(②選手情報入力!$U$6=\"\",\"\",②選手情報入力!$U$6),IF(②選手情報入力!$U$7=\"\",\"\",②選手情報入力!$U$7))))","v":""},{"$f":"IF(E83=\"\",\"\",IF(②選手情報入力!T92=\"\",\"\",IF(I83=1,IF(②選手情報入力!$T$6=\"\",0,1),IF(②選手情報入力!$T$7=\"\",0,1))))","v":""},{"$f":"IF(E83=\"\",\"\",IF(②選手情報入力!T92=\"\",\"\",2))","v":""}]
[{"$f":"IF(E84=\"\",\"\",Sheet1!A83)","v":""},{"$f":"IF(E84=\"\",\"\",①団体情報入力!$C$4)","v":""},null,{"$f":"IF(②選手情報入力!B93=\"\",\"\",②選手情報入力!B93)","v":""},{"$f":"IF(②選手情報入力!C93=\"\",\"\",②選手情報入力!C93)","v":""},{"$f":"IF(E84=\"\",\"\",②選手情報入力!D93)","v":""},{"$f":"IF(E84=\"\",\"\",ASC(②選手情報入力!E93))","v":""},"",{"$f":"IF(E84=\"\",\"\",IF(②選手情報入力!G93=\"男\",1,2))","v":""},{"$f":"IF(E84=\"\",\"\",IF(②選手情報入力!H93=\"\",\"\",②選手情報入力!H93))","v":""},null,null,"",null,{"$f":"IF(E84=\"\",\"\",IF(②選手情報入力!J93=\"\",\"\",IF(I84=1,VLOOKUP(②選手情報入力!J93,種目情報!$A$4:$B$32,2,FALSE),VLOOKUP(②選手情報入力!J93,種目情報!$E$4:$F$34,2,FALSE))))","v":""},{"$f":"IF(E84=\"\",\"\",IF(②選手情報入力!K93=\"\",\"\",②選手情報入力!K93))","v":""},{"$f":"IF(E84=\"\",\"\",IF(②選手情報入力!I93=\"\",\"\",1))","v":""},{"$f":"IF(E84=\"\",\"\",IF(②選手情報入力!J93=\"\",\"\",IF(I84=1,VLOOKUP(②選手情報入力!J93,種目情報!$A$4:$C$36,3,FALSE),VLOOKUP(②選手情報入力!J93,種目情報!$E$4:$G$39,3,FALSE))))","v":""},{"$f":"IF(E84=\"\",\"\",IF(②選手情報入力!M93=\"\",\"\",IF(I84=1,VLOOKUP(②選手情報入力!M93,種目情報!$A$4:$B$36,2,FALSE),VLOOKUP(②選手情報入力!M93,種目情報!$E$4:$F$39,2,FALSE))))","v":""},{"$f":"IF(E84=\"\",\"\",IF(②選手情報入力!N93=\"\",\"\",②選手情報入力!N93))","v":""},{"$f":"IF(E84=\"\",\"\",IF(②選手情報入力!L93=\"\",\"\",1))","v":""},{"$f":"IF(E84=\"\",\"\",IF(②選手情報入力!M93=\"\",\"\",IF(I84=1,VLOOKUP(②選手情報入力!M93,種目情報!$A$4:$C$36,3,FALSE),VLOOKUP(②選手情報入力!M93,種目情報!$E$4:$G$39,3,FALSE))))","v":""},{"$f":"IF(E84=\"\",\"\",IF(②選手情報入力!P93=\"\",\"\",IF(I84=1,VLOOKUP(②選手情報入力!P93,種目情報!$A$4:$B$36,2,FALSE),VLOOKUP(②選手情報入力!P93,種目情報!$E$4:$F$39,2,FALSE))))","v":""},{"$f":"IF(E84=\"\",\"\",IF(②選手情報入力!Q93=\"\",\"\",②選手情報入力!Q93))","v":""},{"$f":"IF(E84=\"\",\"\",IF(②選手情報入力!O93=\"\",\"\",1))","v":""},{"$f":"IF(E84=\"\",\"\",IF(②選手情報入力!P93=\"\",\"\",IF(I84=1,VLOOKUP(②選手情報入力!P93,種目情報!$A$4:$C$36,3,FALSE),VLOOKUP(②選手情報入力!P93,種目情報!$E$4:$G$39,3,FALSE))))","v":""},{"$f":"IF(E84=\"\",\"\",IF(②選手情報入力!R93=\"\",\"\",IF(I84=1,種目情報!$J$4,種目情報!$J$6)))","v":""},{"$f":"IF(E84=\"\",\"\",IF(②選手情報入力!R93=\"\",\"\",IF(I84=1,IF(②選手情報入力!$S$6=\"\",\"\",②選手情報入力!$S$6),IF(②選手情報入力!$S$7=\"\",\"\",②選手情報入力!$S$7))))","v":""},{"$f":"IF(E84=\"\",\"\",IF(②選手情報入力!R93=\"\",\"\",IF(I84=1,IF(②選手情報入力!$R$6=\"\",0,1),IF(②選手情報入力!$R$7=\"\",0,1))))","v":""},{"$f":"IF(E84=\"\",\"\",IF(②選手情報入力!R93=\"\",\"\",2))","v":""},{"$f":"IF(E84=\"\",\"\",IF(②選手情報入力!T93=\"\",\"\",IF(I84=1,種目情報!$J$5,種目情報!$J$7)))","v":""},{"$f":"IF(E84=\"\",\"\",IF(②選手情報入力!T93=\"\",\"\",IF(I84=1,IF(②選手情報入力!$U$6=\"\",\"\",②選手情報入力!$U$6),IF(②選手情報入力!$U$7=\"\",\"\",②選手情報入力!$U$7))))","v":""},{"$f":"IF(E84=\"\",\"\",IF(②選手情報入力!T93=\"\",\"\",IF(I84=1,IF(②選手情報入力!$T$6=\"\",0,1),IF(②選手情報入力!$T$7=\"\",0,1))))","v":""},{"$f":"IF(E84=\"\",\"\",IF(②選手情報入力!T93=\"\",\"\",2))","v":""}]
[{"$f":"IF(E85=\"\",\"\",Sheet1!A84)","v":""},{"$f":"IF(E85=\"\",\"\",①団体情報入力!$C$4)","v":""},null,{"$f":"IF(②選手情報入力!B94=\"\",\"\",②選手情報入力!B94)","v":""},{"$f":"IF(②選手情報入力!C94=\"\",\"\",②選手情報入力!C94)","v":""},{"$f":"IF(E85=\"\",\"\",②選手情報入力!D94)","v":""},{"$f":"IF(E85=\"\",\"\",ASC(②選手情報入力!E94))","v":""},"",{"$f":"IF(E85=\"\",\"\",IF(②選手情報入力!G94=\"男\",1,2))","v":""},{"$f":"IF(E85=\"\",\"\",IF(②選手情報入力!H94=\"\",\"\",②選手情報入力!H94))","v":""},null,null,"",null,{"$f":"IF(E85=\"\",\"\",IF(②選手情報入力!J94=\"\",\"\",IF(I85=1,VLOOKUP(②選手情報入力!J94,種目情報!$A$4:$B$32,2,FALSE),VLOOKUP(②選手情報入力!J94,種目情報!$E$4:$F$34,2,FALSE))))","v":""},{"$f":"IF(E85=\"\",\"\",IF(②選手情報入力!K94=\"\",\"\",②選手情報入力!K94))","v":""},{"$f":"IF(E85=\"\",\"\",IF(②選手情報入力!I94=\"\",\"\",1))","v":""},{"$f":"IF(E85=\"\",\"\",IF(②選手情報入力!J94=\"\",\"\",IF(I85=1,VLOOKUP(②選手情報入力!J94,種目情報!$A$4:$C$36,3,FALSE),VLOOKUP(②選手情報入力!J94,種目情報!$E$4:$G$39,3,FALSE))))","v":""},{"$f":"IF(E85=\"\",\"\",IF(②選手情報入力!M94=\"\",\"\",IF(I85=1,VLOOKUP(②選手情報入力!M94,種目情報!$A$4:$B$36,2,FALSE),VLOOKUP(②選手情報入力!M94,種目情報!$E$4:$F$39,2,FALSE))))","v":""},{"$f":"IF(E85=\"\",\"\",IF(②選手情報入力!N94=\"\",\"\",②選手情報入力!N94))","v":""},{"$f":"IF(E85=\"\",\"\",IF(②選手情報入力!L94=\"\",\"\",1))","v":""},{"$f":"IF(E85=\"\",\"\",IF(②選手情報入力!M94=\"\",\"\",IF(I85=1,VLOOKUP(②選手情報入力!M94,種目情報!$A$4:$C$36,3,FALSE),VLOOKUP(②選手情報入力!M94,種目情報!$E$4:$G$39,3,FALSE))))","v":""},{"$f":"IF(E85=\"\",\"\",IF(②選手情報入力!P94=\"\",\"\",IF(I85=1,VLOOKUP(②選手情報入力!P94,種目情報!$A$4:$B$36,2,FALSE),VLOOKUP(②選手情報入力!P94,種目情報!$E$4:$F$39,2,FALSE))))","v":""},{"$f":"IF(E85=\"\",\"\",IF(②選手情報入力!Q94=\"\",\"\",②選手情報入力!Q94))","v":""},{"$f":"IF(E85=\"\",\"\",IF(②選手情報入力!O94=\"\",\"\",1))","v":""},{"$f":"IF(E85=\"\",\"\",IF(②選手情報入力!P94=\"\",\"\",IF(I85=1,VLOOKUP(②選手情報入力!P94,種目情報!$A$4:$C$36,3,FALSE),VLOOKUP(②選手情報入力!P94,種目情報!$E$4:$G$39,3,FALSE))))","v":""},{"$f":"IF(E85=\"\",\"\",IF(②選手情報入力!R94=\"\",\"\",IF(I85=1,種目情報!$J$4,種目情報!$J$6)))","v":""},{"$f":"IF(E85=\"\",\"\",IF(②選手情報入力!R94=\"\",\"\",IF(I85=1,IF(②選手情報入力!$S$6=\"\",\"\",②選手情報入力!$S$6),IF(②選手情報入力!$S$7=\"\",\"\",②選手情報入力!$S$7))))","v":""},{"$f":"IF(E85=\"\",\"\",IF(②選手情報入力!R94=\"\",\"\",IF(I85=1,IF(②選手情報入力!$R$6=\"\",0,1),IF(②選手情報入力!$R$7=\"\",0,1))))","v":""},{"$f":"IF(E85=\"\",\"\",IF(②選手情報入力!R94=\"\",\"\",2))","v":""},{"$f":"IF(E85=\"\",\"\",IF(②選手情報入力!T94=\"\",\"\",IF(I85=1,種目情報!$J$5,種目情報!$J$7)))","v":""},{"$f":"IF(E85=\"\",\"\",IF(②選手情報入力!T94=\"\",\"\",IF(I85=1,IF(②選手情報入力!$U$6=\"\",\"\",②選手情報入力!$U$6),IF(②選手情報入力!$U$7=\"\",\"\",②選手情報入力!$U$7))))","v":""},{"$f":"IF(E85=\"\",\"\",IF(②選手情報入力!T94=\"\",\"\",IF(I85=1,IF(②選手情報入力!$T$6=\"\",0,1),IF(②選手情報入力!$T$7=\"\",0,1))))","v":""},{"$f":"IF(E85=\"\",\"\",IF(②選手情報入力!T94=\"\",\"\",2))","v":""}]
[{"$f":"IF(E86=\"\",\"\",Sheet1!A85)","v":""},{"$f":"IF(E86=\"\",\"\",①団体情報入力!$C$4)","v":""},null,{"$f":"IF(②選手情報入力!B95=\"\",\"\",②選手情報入力!B95)","v":""},{"$f":"IF(②選手情報入力!C95=\"\",\"\",②選手情報入力!C95)","v":""},{"$f":"IF(E86=\"\",\"\",②選手情報入力!D95)","v":""},{"$f":"IF(E86=\"\",\"\",ASC(②選手情報入力!E95))","v":""},"",{"$f":"IF(E86=\"\",\"\",IF(②選手情報入力!G95=\"男\",1,2))","v":""},{"$f":"IF(E86=\"\",\"\",IF(②選手情報入力!H95=\"\",\"\",②選手情報入力!H95))","v":""},null,null,"",null,{"$f":"IF(E86=\"\",\"\",IF(②選手情報入力!J95=\"\",\"\",IF(I86=1,VLOOKUP(②選手情報入力!J95,種目情報!$A$4:$B$32,2,FALSE),VLOOKUP(②選手情報入力!J95,種目情報!$E$4:$F$34,2,FALSE))))","v":""},{"$f":"IF(E86=\"\",\"\",IF(②選手情報入力!K95=\"\",\"\",②選手情報入力!K95))","v":""},{"$f":"IF(E86=\"\",\"\",IF(②選手情報入力!I95=\"\",\"\",1))","v":""},{"$f":"IF(E86=\"\",\"\",IF(②選手情報入力!J95=\"\",\"\",IF(I86=1,VLOOKUP(②選手情報入力!J95,種目情報!$A$4:$C$36,3,FALSE),VLOOKUP(②選手情報入力!J95,種目情報!$E$4:$G$39,3,FALSE))))","v":""},{"$f":"IF(E86=\"\",\"\",IF(②選手情報入力!M95=\"\",\"\",IF(I86=1,VLOOKUP(②選手情報入力!M95,種目情報!$A$4:$B$36,2,FALSE),VLOOKUP(②選手情報入力!M95,種目情報!$E$4:$F$39,2,FALSE))))","v":""},{"$f":"IF(E86=\"\",\"\",IF(②選手情報入力!N95=\"\",\"\",②選手情報入力!N95))","v":""},{"$f":"IF(E86=\"\",\"\",IF(②選手情報入力!L95=\"\",\"\",1))","v":""},{"$f":"IF(E86=\"\",\"\",IF(②選手情報入力!M95=\"\",\"\",IF(I86=1,VLOOKUP(②選手情報入力!M95,種目情報!$A$4:$C$36,3,FALSE),VLOOKUP(②選手情報入力!M95,種目情報!$E$4:$G$39,3,FALSE))))","v":""},{"$f":"IF(E86=\"\",\"\",IF(②選手情報入力!P95=\"\",\"\",IF(I86=1,VLOOKUP(②選手情報入力!P95,種目情報!$A$4:$B$36,2,FALSE),VLOOKUP(②選手情報入力!P95,種目情報!$E$4:$F$39,2,FALSE))))","v":""},{"$f":"IF(E86=\"\",\"\",IF(②選手情報入力!Q95=\"\",\"\",②選手情報入力!Q95))","v":""},{"$f":"IF(E86=\"\",\"\",IF(②選手情報入力!O95=\"\",\"\",1))","v":""},{"$f":"IF(E86=\"\",\"\",IF(②選手情報入力!P95=\"\",\"\",IF(I86=1,VLOOKUP(②選手情報入力!P95,種目情報!$A$4:$C$36,3,FALSE),VLOOKUP(②選手情報入力!P95,種目情報!$E$4:$G$39,3,FALSE))))","v":""},{"$f":"IF(E86=\"\",\"\",IF(②選手情報入力!R95=\"\",\"\",IF(I86=1,種目情報!$J$4,種目情報!$J$6)))","v":""},{"$f":"IF(E86=\"\",\"\",IF(②選手情報入力!R95=\"\",\"\",IF(I86=1,IF(②選手情報入力!$S$6=\"\",\"\",②選手情報入力!$S$6),IF(②選手情報入力!$S$7=\"\",\"\",②選手情報入力!$S$7))))","v":""},{"$f":"IF(E86=\"\",\"\",IF(②選手情報入力!R95=\"\",\"\",IF(I86=1,IF(②選手情報入力!$R$6=\"\",0,1),IF(②選手情報入力!$R$7=\"\",0,1))))","v":""},{"$f":"IF(E86=\"\",\"\",IF(②選手情報入力!R95=\"\",\"\",2))","v":""},{"$f":"IF(E86=\"\",\"\",IF(②選手情報入力!T95=\"\",\"\",IF(I86=1,種目情報!$J$5,種目情報!$J$7)))","v":""},{"$f":"IF(E86=\"\",\"\",IF(②選手情報入力!T95=\"\",\"\",IF(I86=1,IF(②選手情報入力!$U$6=\"\",\"\",②選手情報入力!$U$6),IF(②選手情報入力!$U$7=\"\",\"\",②選手情報入力!$U$7))))","v":""},{"$f":"IF(E86=\"\",\"\",IF(②選手情報入力!T95=\"\",\"\",IF(I86=1,IF(②選手情報入力!$T$6=\"\",0,1),IF(②選手情報入力!$T$7=\"\",0,1))))","v":""},{"$f":"IF(E86=\"\",\"\",IF(②選手情報入力!T95=\"\",\"\",2))","v":""}]
[{"$f":"IF(E87=\"\",\"\",Sheet1!A86)","v":""},{"$f":"IF(E87=\"\",\"\",①団体情報入力!$C$4)","v":""},null,{"$f":"IF(②選手情報入力!B96=\"\",\"\",②選手情報入力!B96)","v":""},{"$f":"IF(②選手情報入力!C96=\"\",\"\",②選手情報入力!C96)","v":""},{"$f":"IF(E87=\"\",\"\",②選手情報入力!D96)","v":""},{"$f":"IF(E87=\"\",\"\",ASC(②選手情報入力!E96))","v":""},"",{"$f":"IF(E87=\"\",\"\",IF(②選手情報入力!G96=\"男\",1,2))","v":""},{"$f":"IF(E87=\"\",\"\",IF(②選手情報入力!H96=\"\",\"\",②選手情報入力!H96))","v":""},null,null,"",null,{"$f":"IF(E87=\"\",\"\",IF(②選手情報入力!J96=\"\",\"\",IF(I87=1,VLOOKUP(②選手情報入力!J96,種目情報!$A$4:$B$32,2,FALSE),VLOOKUP(②選手情報入力!J96,種目情報!$E$4:$F$34,2,FALSE))))","v":""},{"$f":"IF(E87=\"\",\"\",IF(②選手情報入力!K96=\"\",\"\",②選手情報入力!K96))","v":""},{"$f":"IF(E87=\"\",\"\",IF(②選手情報入力!I96=\"\",\"\",1))","v":""},{"$f":"IF(E87=\"\",\"\",IF(②選手情報入力!J96=\"\",\"\",IF(I87=1,VLOOKUP(②選手情報入力!J96,種目情報!$A$4:$C$36,3,FALSE),VLOOKUP(②選手情報入力!J96,種目情報!$E$4:$G$39,3,FALSE))))","v":""},{"$f":"IF(E87=\"\",\"\",IF(②選手情報入力!M96=\"\",\"\",IF(I87=1,VLOOKUP(②選手情報入力!M96,種目情報!$A$4:$B$36,2,FALSE),VLOOKUP(②選手情報入力!M96,種目情報!$E$4:$F$39,2,FALSE))))","v":""},{"$f":"IF(E87=\"\",\"\",IF(②選手情報入力!N96=\"\",\"\",②選手情報入力!N96))","v":""},{"$f":"IF(E87=\"\",\"\",IF(②選手情報入力!L96=\"\",\"\",1))","v":""},{"$f":"IF(E87=\"\",\"\",IF(②選手情報入力!M96=\"\",\"\",IF(I87=1,VLOOKUP(②選手情報入力!M96,種目情報!$A$4:$C$36,3,FALSE),VLOOKUP(②選手情報入力!M96,種目情報!$E$4:$G$39,3,FALSE))))","v":""},{"$f":"IF(E87=\"\",\"\",IF(②選手情報入力!P96=\"\",\"\",IF(I87=1,VLOOKUP(②選手情報入力!P96,種目情報!$A$4:$B$36,2,FALSE),VLOOKUP(②選手情報入力!P96,種目情報!$E$4:$F$39,2,FALSE))))","v":""},{"$f":"IF(E87=\"\",\"\",IF(②選手情報入力!Q96=\"\",\"\",②選手情報入力!Q96))","v":""},{"$f":"IF(E87=\"\",\"\",IF(②選手情報入力!O96=\"\",\"\",1))","v":""},{"$f":"IF(E87=\"\",\"\",IF(②選手情報入力!P96=\"\",\"\",IF(I87=1,VLOOKUP(②選手情報入力!P96,種目情報!$A$4:$C$36,3,FALSE),VLOOKUP(②選手情報入力!P96,種目情報!$E$4:$G$39,3,FALSE))))","v":""},{"$f":"IF(E87=\"\",\"\",IF(②選手情報入力!R96=\"\",\"\",IF(I87=1,種目情報!$J$4,種目情報!$J$6)))","v":""},{"$f":"IF(E87=\"\",\"\",IF(②選手情報入力!R96=\"\",\"\",IF(I87=1,IF(②選手情報入力!$S$6=\"\",\"\",②選手情報入力!$S$6),IF(②選手情報入力!$S$7=\"\",\"\",②選手情報入力!$S$7))))","v":""},{"$f":"IF(E87=\"\",\"\",IF(②選手情報入力!R96=\"\",\"\",IF(I87=1,IF(②選手情報入力!$R$6=\"\",0,1),IF(②選手情報入力!$R$7=\"\",0,1))))","v":""},{"$f":"IF(E87=\"\",\"\",IF(②選手情報入力!R96=\"\",\"\",2))","v":""},{"$f":"IF(E87=\"\",\"\",IF(②選手情報入力!T96=\"\",\"\",IF(I87=1,種目情報!$J$5,種目情報!$J$7)))","v":""},{"$f":"IF(E87=\"\",\"\",IF(②選手情報入力!T96=\"\",\"\",IF(I87=1,IF(②選手情報入力!$U$6=\"\",\"\",②選手情報入力!$U$6),IF(②選手情報入力!$U$7=\"\",\"\",②選手情報入力!$U$7))))","v":""},{"$f":"IF(E87=\"\",\"\",IF(②選手情報入力!T96=\"\",\"\",IF(I87=1,IF(②選手情報入力!$T$6=\"\",0,1),IF(②選手情報入力!$T$7=\"\",0,1))))","v":""},{"$f":"IF(E87=\"\",\"\",IF(②選手情報入力!T96=\"\",\"\",2))","v":""}]
[{"$f":"IF(E88=\"\",\"\",Sheet1!A87)","v":""},{"$f":"IF(E88=\"\",\"\",①団体情報入力!$C$4)","v":""},null,{"$f":"IF(②選手情報入力!B97=\"\",\"\",②選手情報入力!B97)","v":""},{"$f":"IF(②選手情報入力!C97=\"\",\"\",②選手情報入力!C97)","v":""},{"$f":"IF(E88=\"\",\"\",②選手情報入力!D97)","v":""},{"$f":"IF(E88=\"\",\"\",ASC(②選手情報入力!E97))","v":""},"",{"$f":"IF(E88=\"\",\"\",IF(②選手情報入力!G97=\"男\",1,2))","v":""},{"$f":"IF(E88=\"\",\"\",IF(②選手情報入力!H97=\"\",\"\",②選手情報入力!H97))","v":""},null,null,"",null,{"$f":"IF(E88=\"\",\"\",IF(②選手情報入力!J97=\"\",\"\",IF(I88=1,VLOOKUP(②選手情報入力!J97,種目情報!$A$4:$B$32,2,FALSE),VLOOKUP(②選手情報入力!J97,種目情報!$E$4:$F$34,2,FALSE))))","v":""},{"$f":"IF(E88=\"\",\"\",IF(②選手情報入力!K97=\"\",\"\",②選手情報入力!K97))","v":""},{"$f":"IF(E88=\"\",\"\",IF(②選手情報入力!I97=\"\",\"\",1))","v":""},{"$f":"IF(E88=\"\",\"\",IF(②選手情報入力!J97=\"\",\"\",IF(I88=1,VLOOKUP(②選手情報入力!J97,種目情報!$A$4:$C$36,3,FALSE),VLOOKUP(②選手情報入力!J97,種目情報!$E$4:$G$39,3,FALSE))))","v":""},{"$f":"IF(E88=\"\",\"\",IF(②選手情報入力!M97=\"\",\"\",IF(I88=1,VLOOKUP(②選手情報入力!M97,種目情報!$A$4:$B$36,2,FALSE),VLOOKUP(②選手情報入力!M97,種目情報!$E$4:$F$39,2,FALSE))))","v":""},{"$f":"IF(E88=\"\",\"\",IF(②選手情報入力!N97=\"\",\"\",②選手情報入力!N97))","v":""},{"$f":"IF(E88=\"\",\"\",IF(②選手情報入力!L97=\"\",\"\",1))","v":""},{"$f":"IF(E88=\"\",\"\",IF(②選手情報入力!M97=\"\",\"\",IF(I88=1,VLOOKUP(②選手情報入力!M97,種目情報!$A$4:$C$36,3,FALSE),VLOOKUP(②選手情報入力!M97,種目情報!$E$4:$G$39,3,FALSE))))","v":""},{"$f":"IF(E88=\"\",\"\",IF(②選手情報入力!P97=\"\",\"\",IF(I88=1,VLOOKUP(②選手情報入力!P97,種目情報!$A$4:$B$36,2,FALSE),VLOOKUP(②選手情報入力!P97,種目情報!$E$4:$F$39,2,FALSE))))","v":""},{"$f":"IF(E88=\"\",\"\",IF(②選手情報入力!Q97=\"\",\"\",②選手情報入力!Q97))","v":""},{"$f":"IF(E88=\"\",\"\",IF(②選手情報入力!O97=\"\",\"\",1))","v":""},{"$f":"IF(E88=\"\",\"\",IF(②選手情報入力!P97=\"\",\"\",IF(I88=1,VLOOKUP(②選手情報入力!P97,種目情報!$A$4:$C$36,3,FALSE),VLOOKUP(②選手情報入力!P97,種目情報!$E$4:$G$39,3,FALSE))))","v":""},{"$f":"IF(E88=\"\",\"\",IF(②選手情報入力!R97=\"\",\"\",IF(I88=1,種目情報!$J$4,種目情報!$J$6)))","v":""},{"$f":"IF(E88=\"\",\"\",IF(②選手情報入力!R97=\"\",\"\",IF(I88=1,IF(②選手情報入力!$S$6=\"\",\"\",②選手情報入力!$S$6),IF(②選手情報入力!$S$7=\"\",\"\",②選手情報入力!$S$7))))","v":""},{"$f":"IF(E88=\"\",\"\",IF(②選手情報入力!R97=\"\",\"\",IF(I88=1,IF(②選手情報入力!$R$6=\"\",0,1),IF(②選手情報入力!$R$7=\"\",0,1))))","v":""},{"$f":"IF(E88=\"\",\"\",IF(②選手情報入力!R97=\"\",\"\",2))","v":""},{"$f":"IF(E88=\"\",\"\",IF(②選手情報入力!T97=\"\",\"\",IF(I88=1,種目情報!$J$5,種目情報!$J$7)))","v":""},{"$f":"IF(E88=\"\",\"\",IF(②選手情報入力!T97=\"\",\"\",IF(I88=1,IF(②選手情報入力!$U$6=\"\",\"\",②選手情報入力!$U$6),IF(②選手情報入力!$U$7=\"\",\"\",②選手情報入力!$U$7))))","v":""},{"$f":"IF(E88=\"\",\"\",IF(②選手情報入力!T97=\"\",\"\",IF(I88=1,IF(②選手情報入力!$T$6=\"\",0,1),IF(②選手情報入力!$T$7=\"\",0,1))))","v":""},{"$f":"IF(E88=\"\",\"\",IF(②選手情報入力!T97=\"\",\"\",2))","v":""}]
[{"$f":"IF(E89=\"\",\"\",Sheet1!A88)","v":""},{"$f":"IF(E89=\"\",\"\",①団体情報入力!$C$4)","v":""},null,{"$f":"IF(②選手情報入力!B98=\"\",\"\",②選手情報入力!B98)","v":""},{"$f":"IF(②選手情報入力!C98=\"\",\"\",②選手情報入力!C98)","v":""},{"$f":"IF(E89=\"\",\"\",②選手情報入力!D98)","v":""},{"$f":"IF(E89=\"\",\"\",ASC(②選手情報入力!E98))","v":""},"",{"$f":"IF(E89=\"\",\"\",IF(②選手情報入力!G98=\"男\",1,2))","v":""},{"$f":"IF(E89=\"\",\"\",IF(②選手情報入力!H98=\"\",\"\",②選手情報入力!H98))","v":""},null,null,"",null,{"$f":"IF(E89=\"\",\"\",IF(②選手情報入力!J98=\"\",\"\",IF(I89=1,VLOOKUP(②選手情報入力!J98,種目情報!$A$4:$B$32,2,FALSE),VLOOKUP(②選手情報入力!J98,種目情報!$E$4:$F$34,2,FALSE))))","v":""},{"$f":"IF(E89=\"\",\"\",IF(②選手情報入力!K98=\"\",\"\",②選手情報入力!K98))","v":""},{"$f":"IF(E89=\"\",\"\",IF(②選手情報入力!I98=\"\",\"\",1))","v":""},{"$f":"IF(E89=\"\",\"\",IF(②選手情報入力!J98=\"\",\"\",IF(I89=1,VLOOKUP(②選手情報入力!J98,種目情報!$A$4:$C$36,3,FALSE),VLOOKUP(②選手情報入力!J98,種目情報!$E$4:$G$39,3,FALSE))))","v":""},{"$f":"IF(E89=\"\",\"\",IF(②選手情報入力!M98=\"\",\"\",IF(I89=1,VLOOKUP(②選手情報入力!M98,種目情報!$A$4:$B$36,2,FALSE),VLOOKUP(②選手情報入力!M98,種目情報!$E$4:$F$39,2,FALSE))))","v":""},{"$f":"IF(E89=\"\",\"\",IF(②選手情報入力!N98=\"\",\"\",②選手情報入力!N98))","v":""},{"$f":"IF(E89=\"\",\"\",IF(②選手情報入力!L98=\"\",\"\",1))","v":""},{"$f":"IF(E89=\"\",\"\",IF(②選手情報入力!M98=\"\",\"\",IF(I89=1,VLOOKUP(②選手情報入力!M98,種目情報!$A$4:$C$36,3,FALSE),VLOOKUP(②選手情報入力!M98,種目情報!$E$4:$G$39,3,FALSE))))","v":""},{"$f":"IF(E89=\"\",\"\",IF(②選手情報入力!P98=\"\",\"\",IF(I89=1,VLOOKUP(②選手情報入力!P98,種目情報!$A$4:$B$36,2,FALSE),VLOOKUP(②選手情報入力!P98,種目情報!$E$4:$F$39,2,FALSE))))","v":""},{"$f":"IF(E89=\"\",\"\",IF(②選手情報入力!Q98=\"\",\"\",②選手情報入力!Q98))","v":""},{"$f":"IF(E89=\"\",\"\",IF(②選手情報入力!O98=\"\",\"\",1))","v":""},{"$f":"IF(E89=\"\",\"\",IF(②選手情報入力!P98=\"\",\"\",IF(I89=1,VLOOKUP(②選手情報入力!P98,種目情報!$A$4:$C$36,3,FALSE),VLOOKUP(②選手情報入力!P98,種目情報!$E$4:$G$39,3,FALSE))))","v":""},{"$f":"IF(E89=\"\",\"\",IF(②選手情報入力!R98=\"\",\"\",IF(I89=1,種目情報!$J$4,種目情報!$J$6)))","v":""},{"$f":"IF(E89=\"\",\"\",IF(②選手情報入力!R98=\"\",\"\",IF(I89=1,IF(②選手情報入力!$S$6=\"\",\"\",②選手情報入力!$S$6),IF(②選手情報入力!$S$7=\"\",\"\",②選手情報入力!$S$7))))","v":""},{"$f":"IF(E89=\"\",\"\",IF(②選手情報入力!R98=\"\",\"\",IF(I89=1,IF(②選手情報入力!$R$6=\"\",0,1),IF(②選手情報入力!$R$7=\"\",0,1))))","v":""},{"$f":"IF(E89=\"\",\"\",IF(②選手情報入力!R98=\"\",\"\",2))","v":""},{"$f":"IF(E89=\"\",\"\",IF(②選手情報入力!T98=\"\",\"\",IF(I89=1,種目情報!$J$5,種目情報!$J$7)))","v":""},{"$f":"IF(E89=\"\",\"\",IF(②選手情報入力!T98=\"\",\"\",IF(I89=1,IF(②選手情報入力!$U$6=\"\",\"\",②選手情報入力!$U$6),IF(②選手情報入力!$U$7=\"\",\"\",②選手情報入力!$U$7))))","v":""},{"$f":"IF(E89=\"\",\"\",IF(②選手情報入力!T98=\"\",\"\",IF(I89=1,IF(②選手情報入力!$T$6=\"\",0,1),IF(②選手情報入力!$T$7=\"\",0,1))))","v":""},{"$f":"IF(E89=\"\",\"\",IF(②選手情報入力!T98=\"\",\"\",2))","v":""}]
[{"$f":"IF(E90=\"\",\"\",Sheet1!A89)","v":""},{"$f":"IF(E90=\"\",\"\",①団体情報入力!$C$4)","v":""},null,{"$f":"IF(②選手情報入力!B99=\"\",\"\",②選手情報入力!B99)","v":""},{"$f":"IF(②選手情報入力!C99=\"\",\"\",②選手情報入力!C99)","v":""},{"$f":"IF(E90=\"\",\"\",②選手情報入力!D99)","v":""},{"$f":"IF(E90=\"\",\"\",ASC(②選手情報入力!E99))","v":""},"",{"$f":"IF(E90=\"\",\"\",IF(②選手情報入力!G99=\"男\",1,2))","v":""},{"$f":"IF(E90=\"\",\"\",IF(②選手情報入力!H99=\"\",\"\",②選手情報入力!H99))","v":""},null,null,"",null,{"$f":"IF(E90=\"\",\"\",IF(②選手情報入力!J99=\"\",\"\",IF(I90=1,VLOOKUP(②選手情報入力!J99,種目情報!$A$4:$B$32,2,FALSE),VLOOKUP(②選手情報入力!J99,種目情報!$E$4:$F$34,2,FALSE))))","v":""},{"$f":"IF(E90=\"\",\"\",IF(②選手情報入力!K99=\"\",\"\",②選手情報入力!K99))","v":""},{"$f":"IF(E90=\"\",\"\",IF(②選手情報入力!I99=\"\",\"\",1))","v":""},{"$f":"IF(E90=\"\",\"\",IF(②選手情報入力!J99=\"\",\"\",IF(I90=1,VLOOKUP(②選手情報入力!J99,種目情報!$A$4:$C$36,3,FALSE),VLOOKUP(②選手情報入力!J99,種目情報!$E$4:$G$39,3,FALSE))))","v":""},{"$f":"IF(E90=\"\",\"\",IF(②選手情報入力!M99=\"\",\"\",IF(I90=1,VLOOKUP(②選手情報入力!M99,種目情報!$A$4:$B$36,2,FALSE),VLOOKUP(②選手情報入力!M99,種目情報!$E$4:$F$39,2,FALSE))))","v":""},{"$f":"IF(E90=\"\",\"\",IF(②選手情報入力!N99=\"\",\"\",②選手情報入力!N99))","v":""},{"$f":"IF(E90=\"\",\"\",IF(②選手情報入力!L99=\"\",\"\",1))","v":""},{"$f":"IF(E90=\"\",\"\",IF(②選手情報入力!M99=\"\",\"\",IF(I90=1,VLOOKUP(②選手情報入力!M99,種目情報!$A$4:$C$36,3,FALSE),VLOOKUP(②選手情報入力!M99,種目情報!$E$4:$G$39,3,FALSE))))","v":""},{"$f":"IF(E90=\"\",\"\",IF(②選手情報入力!P99=\"\",\"\",IF(I90=1,VLOOKUP(②選手情報入力!P99,種目情報!$A$4:$B$36,2,FALSE),VLOOKUP(②選手情報入力!P99,種目情報!$E$4:$F$39,2,FALSE))))","v":""},{"$f":"IF(E90=\"\",\"\",IF(②選手情報入力!Q99=\"\",\"\",②選手情報入力!Q99))","v":""},{"$f":"IF(E90=\"\",\"\",IF(②選手情報入力!O99=\"\",\"\",1))","v":""},{"$f":"IF(E90=\"\",\"\",IF(②選手情報入力!P99=\"\",\"\",IF(I90=1,VLOOKUP(②選手情報入力!P99,種目情報!$A$4:$C$36,3,FALSE),VLOOKUP(②選手情報入力!P99,種目情報!$E$4:$G$39,3,FALSE))))","v":""},{"$f":"IF(E90=\"\",\"\",IF(②選手情報入力!R99=\"\",\"\",IF(I90=1,種目情報!$J$4,種目情報!$J$6)))","v":""},{"$f":"IF(E90=\"\",\"\",IF(②選手情報入力!R99=\"\",\"\",IF(I90=1,IF(②選手情報入力!$S$6=\"\",\"\",②選手情報入力!$S$6),IF(②選手情報入力!$S$7=\"\",\"\",②選手情報入力!$S$7))))","v":""},{"$f":"IF(E90=\"\",\"\",IF(②選手情報入力!R99=\"\",\"\",IF(I90=1,IF(②選手情報入力!$R$6=\"\",0,1),IF(②選手情報入力!$R$7=\"\",0,1))))","v":""},{"$f":"IF(E90=\"\",\"\",IF(②選手情報入力!R99=\"\",\"\",2))","v":""},{"$f":"IF(E90=\"\",\"\",IF(②選手情報入力!T99=\"\",\"\",IF(I90=1,種目情報!$J$5,種目情報!$J$7)))","v":""},{"$f":"IF(E90=\"\",\"\",IF(②選手情報入力!T99=\"\",\"\",IF(I90=1,IF(②選手情報入力!$U$6=\"\",\"\",②選手情報入力!$U$6),IF(②選手情報入力!$U$7=\"\",\"\",②選手情報入力!$U$7))))","v":""},{"$f":"IF(E90=\"\",\"\",IF(②選手情報入力!T99=\"\",\"\",IF(I90=1,IF(②選手情報入力!$T$6=\"\",0,1),IF(②選手情報入力!$T$7=\"\",0,1))))","v":""},{"$f":"IF(E90=\"\",\"\",IF(②選手情報入力!T99=\"\",\"\",2))","v":""}]
[{"$f":"IF(E91=\"\",\"\",Sheet1!A90)","v":""},{"$f":"IF(E91=\"\",\"\",①団体情報入力!$C$4)","v":""},null,{"$f":"IF(②選手情報入力!B100=\"\",\"\",②選手情報入力!B100)","v":""},{"$f":"IF(②選手情報入力!C100=\"\",\"\",②選手情報入力!C100)","v":""},{"$f":"IF(E91=\"\",\"\",②選手情報入力!D100)","v":""},{"$f":"IF(E91=\"\",\"\",ASC(②選手情報入力!E100))","v":""},"",{"$f":"IF(E91=\"\",\"\",IF(②選手情報入力!G100=\"男\",1,2))","v":""},{"$f":"IF(E91=\"\",\"\",IF(②選手情報入力!H100=\"\",\"\",②選手情報入力!H100))","v":""},null,null,"",null,{"$f":"IF(E91=\"\",\"\",IF(②選手情報入力!J100=\"\",\"\",IF(I91=1,VLOOKUP(②選手情報入力!J100,種目情報!$A$4:$B$32,2,FALSE),VLOOKUP(②選手情報入力!J100,種目情報!$E$4:$F$34,2,FALSE))))","v":""},{"$f":"IF(E91=\"\",\"\",IF(②選手情報入力!K100=\"\",\"\",②選手情報入力!K100))","v":""},{"$f":"IF(E91=\"\",\"\",IF(②選手情報入力!I100=\"\",\"\",1))","v":""},{"$f":"IF(E91=\"\",\"\",IF(②選手情報入力!J100=\"\",\"\",IF(I91=1,VLOOKUP(②選手情報入力!J100,種目情報!$A$4:$C$36,3,FALSE),VLOOKUP(②選手情報入力!J100,種目情報!$E$4:$G$39,3,FALSE))))","v":""},{"$f":"IF(E91=\"\",\"\",IF(②選手情報入力!M100=\"\",\"\",IF(I91=1,VLOOKUP(②選手情報入力!M100,種目情報!$A$4:$B$36,2,FALSE),VLOOKUP(②選手情報入力!M100,種目情報!$E$4:$F$39,2,FALSE))))","v":""},{"$f":"IF(E91=\"\",\"\",IF(②選手情報入力!N100=\"\",\"\",②選手情報入力!N100))","v":""},{"$f":"IF(E91=\"\",\"\",IF(②選手情報入力!L100=\"\",\"\",1))","v":""},{"$f":"IF(E91=\"\",\"\",IF(②選手情報入力!M100=\"\",\"\",IF(I91=1,VLOOKUP(②選手情報入力!M100,種目情報!$A$4:$C$36,3,FALSE),VLOOKUP(②選手情報入力!M100,種目情報!$E$4:$G$39,3,FALSE))))","v":""},{"$f":"IF(E91=\"\",\"\",IF(②選手情報入力!P100=\"\",\"\",IF(I91=1,VLOOKUP(②選手情報入力!P100,種目情報!$A$4:$B$36,2,FALSE),VLOOKUP(②選手情報入力!P100,種目情報!$E$4:$F$39,2,FALSE))))","v":""},{"$f":"IF(E91=\"\",\"\",IF(②選手情報入力!Q100=\"\",\"\",②選手情報入力!Q100))","v":""},{"$f":"IF(E91=\"\",\"\",IF(②選手情報入力!O100=\"\",\"\",1))","v":""},{"$f":"IF(E91=\"\",\"\",IF(②選手情報入力!P100=\"\",\"\",IF(I91=1,VLOOKUP(②選手情報入力!P100,種目情報!$A$4:$C$36,3,FALSE),VLOOKUP(②選手情報入力!P100,種目情報!$E$4:$G$39,3,FALSE))))","v":""},{"$f":"IF(E91=\"\",\"\",IF(②選手情報入力!R100=\"\",\"\",IF(I91=1,種目情報!$J$4,種目情報!$J$6)))","v":""},{"$f":"IF(E91=\"\",\"\",IF(②選手情報入力!R100=\"\",\"\",IF(I91=1,IF(②選手情報入力!$S$6=\"\",\"\",②選手情報入力!$S$6),IF(②選手情報入力!$S$7=\"\",\"\",②選手情報入力!$S$7))))","v":""},{"$f":"IF(E91=\"\",\"\",IF(②選手情報入力!R100=\"\",\"\",IF(I91=1,IF(②選手情報入力!$R$6=\"\",0,1),IF(②選手情報入力!$R$7=\"\",0,1))))","v":""},{"$f":"IF(E91=\"\",\"\",IF(②選手情報入力!R100=\"\",\"\",2))","v":""},{"$f":"IF(E91=\"\",\"\",IF(②選手情報入力!T100=\"\",\"\",IF(I91=1,種目情報!$J$5,種目情報!$J$7)))","v":""},{"$f":"IF(E91=\"\",\"\",IF(②選手情報入力!T100=\"\",\"\",IF(I91=1,IF(②選手情報入力!$U$6=\"\",\"\",②選手情報入力!$U$6),IF(②選手情報入力!$U$7=\"\",\"\",②選手情報入力!$U$7))))","v":""},{"$f":"IF(E91=\"\",\"\",IF(②選手情報入力!T100=\"\",\"\",IF(I91=1,IF(②選手情報入力!$T$6=\"\",0,1),IF(②選手情報入力!$T$7=\"\",0,1))))","v":""},{"$f":"IF(E91=\"\",\"\",IF(②選手情報入力!T100=\"\",\"\",2))","v":""}]

{"sheet":"data_team","index":9,"n_rows":25,"n_cols":13,"rows_kept":25,"cut":false,"hidden":false,"merged":[]}
["チームNO","所属コード","チーム名","チーム名カナ","チーム名略称","チーム正式名称","ID","競技者NO","競技者名","参加競技-競技コード","参加競技-自己記録","参加競技-オープン参加FLG","参加競技-記録FLG"]
[{"$f":"IF(③リレー情報確認!C8=\"\",\"\",410000+①団体情報入力!$D$4*10)","v":""},{"$f":"IF(A2=\"\",\"\",①団体情報入力!$D$4)","v":""},{"$f":"IF(A2=\"\",\"\",③リレー情報確認!$J$1)","v":""},{"$f":"IF(A2=\"\",\"\",③リレー情報確認!$P$1)","v":""},null,null,1,{"$f":"IF(A2=\"\",\"\",③リレー情報確認!E8)","v":""},{"$f":"IF(A2=\"\",\"\",③リレー情報確認!D8)","v":""},{"$f":"IF(A2=\"\",\"\",種目情報!$J$4)","v":""},{"$f":"IF(A2=\"\",\"\",③リレー情報確認!$F$8)","v":""},{"$f":"IF(A2=\"\",\"\",IF(②選手情報入力!$R$6=\"\",0,1))","v":""},{"$f":"IF(A2=\"\",\"\",種目情報!$K$4)","v":""}]
[{"$f":"IF(③リレー情報確認!C9=\"\",\"\",410000+①団体情報入力!$D$4*10)","v":""},{"$f":"IF(A3=\"\",\"\",①団体情報入力!$D$4)","v":""},{"$f":"IF(A3=\"\",\"\",③リレー情報確認!$J$1)","v":""},{"$f":"IF(A3=\"\",\"\",③リレー情報確認!$P$1)","v":""},null,null,2,{"$f":"IF(A3=\"\",\"\",③リレー情報確認!E9)","v":""},{"$f":"IF(A3=\"\",\"\",③リレー情報確認!D9)","v":""},{"$f":"IF(A3=\"\",\"\",種目情報!$J$4)","v":""},{"$f":"IF(A3=\"\",\"\",③リレー情報確認!$F$8)","v":""},{"$f":"IF(A3=\"\",\"\",IF(②選手情報入力!$R$6=\"\",0,1))","v":""},{"$f":"IF(A3=\"\",\"\",種目情報!$K$4)","v":""}]
[{"$f":"IF(③リレー情報確認!C10=\"\",\"\",410000+①団体情報入力!$D$4*10)","v":""},{"$f":"IF(A4=\"\",\"\",①団体情報入力!$D$4)","v":""},{"$f":"IF(A4=\"\",\"\",③リレー情報確認!$J$1)","v":""},{"$f":"IF(A4=\"\",\"\",③リレー情報確認!$P$1)","v":""},null,null,3,{"$f":"IF(A4=\"\",\"\",③リレー情報確認!E10)","v":""},{"$f":"IF(A4=\"\",\"\",③リレー情報確認!D10)","v":""},{"$f":"IF(A4=\"\",\"\",種目情報!$J$4)","v":""},{"$f":"IF(A4=\"\",\"\",③リレー情報確認!$F$8)","v":""},{"$f":"IF(A4=\"\",\"\",IF(②選手情報入力!$R$6=\"\",0,1))","v":""},{"$f":"IF(A4=\"\",\"\",種目情報!$K$4)","v":""}]
[{"$f":"IF(③リレー情報確認!C11=\"\",\"\",410000+①団体情報入力!$D$4*10)","v":""},{"$f":"IF(A5=\"\",\"\",①団体情報入力!$D$4)","v":""},{"$f":"IF(A5=\"\",\"\",③リレー情報確認!$J$1)","v":""},{"$f":"IF(A5=\"\",\"\",③リレー情報確認!$P$1)","v":""},null,null,4,{"$f":"IF(A5=\"\",\"\",③リレー情報確認!E11)","v":""},{"$f":"IF(A5=\"\",\"\",③リレー情報確認!D11)","v":""},{"$f":"IF(A5=\"\",\"\",種目情報!$J$4)","v":""},{"$f":"IF(A5=\"\",\"\",③リレー情報確認!$F$8)","v":""},{"$f":"IF(A5=\"\",\"\",IF(②選手情報入力!$R$6=\"\",0,1))","v":""},{"$f":"IF(A5=\"\",\"\",種目情報!$K$4)","v":""}]
[{"$f":"IF(③リレー情報確認!C12=\"\",\"\",410000+①団体情報入力!$D$4*10)","v":""},{"$f":"IF(A6=\"\",\"\",①団体情報入力!$D$4)","v":""},{"$f":"IF(A6=\"\",\"\",③リレー情報確認!$J$1)","v":""},{"$f":"IF(A6=\"\",\"\",③リレー情報確認!$P$1)","v":""},null,null,5,{"$f":"IF(A6=\"\",\"\",③リレー情報確認!E12)","v":""},{"$f":"IF(A6=\"\",\"\",③リレー情報確認!D12)","v":""},{"$f":"IF(A6=\"\",\"\",種目情報!$J$4)","v":""},{"$f":"IF(A6=\"\",\"\",③リレー情報確認!$F$8)","v":""},{"$f":"IF(A6=\"\",\"\",IF(②選手情報入力!$R$6=\"\",0,1))","v":""},{"$f":"IF(A6=\"\",\"\",種目情報!$K$4)","v":""}]
[{"$f":"IF(③リレー情報確認!C13=\"\",\"\",410000+①団体情報入力!$D$4*10)","v":""},{"$f":"IF(A7=\"\",\"\",①団体情報入力!$D$4)","v":""},{"$f":"IF(A7=\"\",\"\",③リレー情報確認!$J$1)","v":""},{"$f":"IF(A7=\"\",\"\",③リレー情報確認!$P$1)","v":""},null,null,6,{"$f":"IF(A7=\"\",\"\",③リレー情報確認!E13)","v":""},{"$f":"IF(A7=\"\",\"\",③リレー情報確認!D13)","v":""},{"$f":"IF(A7=\"\",\"\",種目情報!$J$4)","v":""},{"$f":"IF(A7=\"\",\"\",③リレー情報確認!$F$8)","v":""},{"$f":"IF(A7=\"\",\"\",IF(②選手情報入力!$R$6=\"\",0,1))","v":""},{"$f":"IF(A7=\"\",\"\",種目情報!$K$4)","v":""}]
[{"$f":"IF(③リレー情報確認!I8=\"\",\"\",1610000+①団体情報入力!$D$4*10)","v":""},{"$f":"IF(A8=\"\",\"\",①団体情報入力!$D$4)","v":""},{"$f":"IF(A8=\"\",\"\",③リレー情報確認!$J$1)","v":""},{"$f":"IF(A8=\"\",\"\",③リレー情報確認!$P$1)","v":""},null,null,1,{"$f":"IF(A8=\"\",\"\",③リレー情報確認!K8)","v":""},{"$f":"IF(A8=\"\",\"\",③リレー情報確認!J8)","v":""},{"$f":"IF(A8=\"\",\"\",種目情報!$J$5)","v":""},{"$f":"IF(A8=\"\",\"\",③リレー情報確認!$L$8)","v":""},{"$f":"IF(A8=\"\",\"\",IF(②選手情報入力!$R$7=\"\",0,1))","v":""},{"$f":"IF(A8=\"\",\"\",種目情報!$K$5)","v":""}]
[{"$f":"IF(③リレー情報確認!I9=\"\",\"\",1610000+①団体情報入力!$D$4*10)","v":""},{"$f":"IF(A9=\"\",\"\",①団体情報入力!$D$4)","v":""},{"$f":"IF(A9=\"\",\"\",③リレー情報確認!$J$1)","v":""},{"$f":"IF(A9=\"\",\"\",③リレー情報確認!$P$1)","v":""},null,null,2,{"$f":"IF(A9=\"\",\"\",③リレー情報確認!K9)","v":""},{"$f":"IF(A9=\"\",\"\",③リレー情報確認!J9)","v":""},{"$f":"IF(A9=\"\",\"\",種目情報!$J$5)","v":""},{"$f":"IF(A9=\"\",\"\",③リレー情報確認!$L$8)","v":""},{"$f":"IF(A9=\"\",\"\",IF(②選手情報入力!$R$7=\"\",0,1))","v":""},{"$f":"IF(A9=\"\",\"\",種目情報!$K$5)","v":""}]
[{"$f":"IF(③リレー情報確認!I10=\"\",\"\",1610000+①団体情報入力!$D$4*10)","v":""},{"$f":"IF(A10=\"\",\"\",①団体情報入力!$D$4)","v":""},{"$f":"IF(A10=\"\",\"\",③リレー情報確認!$J$1)","v":""},{"$f":"IF(A10=\"\",\"\",③リレー情報確認!$P$1)","v":""},null,null,3,{"$f":"IF(A10=\"\",\"\",③リレー情報確認!K10)","v":""},{"$f":"IF(A10=\"\",\"\",③リレー情報確認!J10)","v":""},{"$f":"IF(A10=\"\",\"\",種目情報!$J$5)","v":""},{"$f":"IF(A10=\"\",\"\",③リレー情報確認!$L$8)","v":""},{"$f":"IF(A10=\"\",\"\",IF(②選手情報入力!$R$7=\"\",0,1))","v":""},{"$f":"IF(A10=\"\",\"\",種目情報!$K$5)","v":""}]
[{"$f":"IF(③リレー情報確認!I11=\"\",\"\",1610000+①団体情報入力!$D$4*10)","v":""},{"$f":"IF(A11=\"\",\"\",①団体情報入力!$D$4)","v":""},{"$f":"IF(A11=\"\",\"\",③リレー情報確認!$J$1)","v":""},{"$f":"IF(A11=\"\",\"\",③リレー情報確認!$P$1)","v":""},null,null,4,{"$f":"IF(A11=\"\",\"\",③リレー情報確認!K11)","v":""},{"$f":"IF(A11=\"\",\"\",③リレー情報確認!J11)","v":""},{"$f":"IF(A11=\"\",\"\",種目情報!$J$5)","v":""},{"$f":"IF(A11=\"\",\"\",③リレー情報確認!$L$8)","v":""},{"$f":"IF(A11=\"\",\"\",IF(②選手情報入力!$R$7=\"\",0,1))","v":""},{"$f":"IF(A11=\"\",\"\",種目情報!$K$5)","v":""}]
[{"$f":"IF(③リレー情報確認!I12=\"\",\"\",1610000+①団体情報入力!$D$4*10)","v":""},{"$f":"IF(A12=\"\",\"\",①団体情報入力!$D$4)","v":""},{"$f":"IF(A12=\"\",\"\",③リレー情報確認!$J$1)","v":""},{"$f":"IF(A12=\"\",\"\",③リレー情報確認!$P$1)","v":""},null,null,5,{"$f":"IF(A12=\"\",\"\",③リレー情報確認!K12)","v":""},{"$f":"IF(A12=\"\",\"\",③リレー情報確認!J12)","v":""},{"$f":"IF(A12=\"\",\"\",種目情報!$J$5)","v":""},{"$f":"IF(A12=\"\",\"\",③リレー情報確認!$L$8)","v":""},{"$f":"IF(A12=\"\",\"\",IF(②選手情報入力!$R$7=\"\",0,1))","v":""},{"$f":"IF(A12=\"\",\"\",種目情報!$K$5)","v":""}]
[{"$f":"IF(③リレー情報確認!I13=\"\",\"\",1610000+①団体情報入力!$D$4*10)","v":""},{"$f":"IF(A13=\"\",\"\",①団体情報入力!$D$4)","v":""},{"$f":"IF(A13=\"\",\"\",③リレー情報確認!$J$1)","v":""},{"$f":"IF(A13=\"\",\"\",③リレー情報確認!$P$1)","v":""},null,null,6,{"$f":"IF(A13=\"\",\"\",③リレー情報確認!K13)","v":""},{"$f":"IF(A13=\"\",\"\",③リレー情報確認!J13)","v":""},{"$f":"IF(A13=\"\",\"\",種目情報!$J$5)","v":""},{"$f":"IF(A13=\"\",\"\",③リレー情報確認!$L$8)","v":""},{"$f":"IF(A13=\"\",\"\",IF(②選手情報入力!$R$7=\"\",0,1))","v":""},{"$f":"IF(A13=\"\",\"\",種目情報!$K$5)","v":""}]
[{"$f":"IF(③リレー情報確認!O8=\"\",\"\",420000+①団体情報入力!$D$4*10)","v":""},{"$f":"IF(A14=\"\",\"\",①団体情報入力!$D$4)","v":""},{"$f":"IF(A14=\"\",\"\",③リレー情報確認!$J$1)","v":""},{"$f":"IF(A14=\"\",\"\",③リレー情報確認!$P$1)","v":""},null,null,1,{"$f":"IF(A14=\"\",\"\",③リレー情報確認!Q8)","v":""},{"$f":"IF(A14=\"\",\"\",③リレー情報確認!P8)","v":""},{"$f":"IF(A14=\"\",\"\",種目情報!$J$6)","v":""},{"$f":"IF(A14=\"\",\"\",③リレー情報確認!$R$8)","v":""},{"$f":"IF(A14=\"\",\"\",IF(②選手情報入力!$T$6=\"\",0,1))","v":""},{"$f":"IF(A14=\"\",\"\",種目情報!$K$6)","v":""}]
[{"$f":"IF(③リレー情報確認!O9=\"\",\"\",420000+①団体情報入力!$D$4*10)","v":""},{"$f":"IF(A15=\"\",\"\",①団体情報入力!$D$4)","v":""},{"$f":"IF(A15=\"\",\"\",③リレー情報確認!$J$1)","v":""},{"$f":"IF(A15=\"\",\"\",③リレー情報確認!$P$1)","v":""},null,null,2,{"$f":"IF(A15=\"\",\"\",③リレー情報確認!Q9)","v":""},{"$f":"IF(A15=\"\",\"\",③リレー情報確認!P9)","v":""},{"$f":"IF(A15=\"\",\"\",種目情報!$J$6)","v":""},{"$f":"IF(A15=\"\",\"\",③リレー情報確認!$R$8)","v":""},{"$f":"IF(A15=\"\",\"\",IF(②選手情報入力!$T$6=\"\",0,1))","v":""},{"$f":"IF(A15=\"\",\"\",種目情報!$K$6)","v":""}]
[{"$f":"IF(③リレー情報確認!O10=\"\",\"\",420000+①団体情報入力!$D$4*10)","v":""},{"$f":"IF(A16=\"\",\"\",①団体情報入力!$D$4)","v":""},{"$f":"IF(A16=\"\",\"\",③リレー情報確認!$J$1)","v":""},{"$f":"IF(A16=\"\",\"\",③リレー情報確認!$P$1)","v":""},null,null,3,{"$f":"IF(A16=\"\",\"\",③リレー情報確認!Q10)","v":""},{"$f":"IF(A16=\"\",\"\",③リレー情報確認!P10)","v":""},{"$f":"IF(A16=\"\",\"\",種目情報!$J$6)","v":""},{"$f":"IF(A16=\"\",\"\",③リレー情報確認!$R$8)","v":""},{"$f":"IF(A16=\"\",\"\",IF(②選手情報入力!$T$6=\"\",0,1))","v":""},{"$f":"IF(A16=\"\",\"\",種目情報!$K$6)","v":""}]
[{"$f":"IF(③リレー情報確認!O11=\"\",\"\",420000+①団体情報入力!$D$4*10)","v":""},{"$f":"IF(A17=\"\",\"\",①団体情報入力!$D$4)","v":""},{"$f":"IF(A17=\"\",\"\",③リレー情報確認!$J$1)","v":""},{"$f":"IF(A17=\"\",\"\",③リレー情報確認!$P$1)","v":""},null,null,4,{"$f":"IF(A17=\"\",\"\",③リレー情報確認!Q11)","v":""},{"$f":"IF(A17=\"\",\"\",③リレー情報確認!P11)","v":""},{"$f":"IF(A17=\"\",\"\",種目情報!$J$6)","v":""},{"$f":"IF(A17=\"\",\"\",③リレー情報確認!$R$8)","v":""},{"$f":"IF(A17=\"\",\"\",IF(②選手情報入力!$T$6=\"\",0,1))","v":""},{"$f":"IF(A17=\"\",\"\",種目情報!$K$6)","v":""}]
[{"$f":"IF(③リレー情報確認!O12=\"\",\"\",420000+①団体情報入力!$D$4*10)","v":""},{"$f":"IF(A18=\"\",\"\",①団体情報入力!$D$4)","v":""},{"$f":"IF(A18=\"\",\"\",③リレー情報確認!$J$1)","v":""},{"$f":"IF(A18=\"\",\"\",③リレー情報確認!$P$1)","v":""},null,null,5,{"$f":"IF(A18=\"\",\"\",③リレー情報確認!Q12)","v":""},{"$f":"IF(A18=\"\",\"\",③リレー情報確認!P12)","v":""},{"$f":"IF(A18=\"\",\"\",種目情報!$J$6)","v":""},{"$f":"IF(A18=\"\",\"\",③リレー情報確認!$R$8)","v":""},{"$f":"IF(A18=\"\",\"\",IF(②選手情報入力!$T$6=\"\",0,1))","v":""},{"$f":"IF(A18=\"\",\"\",種目情報!$K$6)","v":""}]
[{"$f":"IF(③リレー情報確認!O13=\"\",\"\",420000+①団体情報入力!$D$4*10)","v":""},{"$f":"IF(A19=\"\",\"\",①団体情報入力!$D$4)","v":""},{"$f":"IF(A19=\"\",\"\",③リレー情報確認!$J$1)","v":""},{"$f":"IF(A19=\"\",\"\",③リレー情報確認!$P$1)","v":""},null,null,6,{"$f":"IF(A19=\"\",\"\",③リレー情報確認!Q13)","v":""},{"$f":"IF(A19=\"\",\"\",③リレー情報確認!P13)","v":""},{"$f":"IF(A19=\"\",\"\",種目情報!$J$6)","v":""},{"$f":"IF(A19=\"\",\"\",③リレー情報確認!$R$8)","v":""},{"$f":"IF(A19=\"\",\"\",IF(②選手情報入力!$T$6=\"\",0,1))","v":""},{"$f":"IF(A19=\"\",\"\",種目情報!$K$6)","v":""}]
[{"$f":"IF(③リレー情報確認!U8=\"\",\"\",1620000+①団体情報入力!$D$4*10)","v":""},{"$f":"IF(A20=\"\",\"\",①団体情報入力!$D$4)","v":""},{"$f":"IF(A20=\"\",\"\",③リレー情報確認!$J$1)","v":""},{"$f":"IF(A20=\"\",\"\",③リレー情報確認!$P$1)","v":""},null,null,1,{"$f":"IF(A20=\"\",\"\",③リレー情報確認!W8)","v":""},{"$f":"IF(A20=\"\",\"\",③リレー情報確認!V8)","v":""},{"$f":"IF(A20=\"\",\"\",種目情報!$J$7)","v":""},{"$f":"IF(A20=\"\",\"\",③リレー情報確認!$X$8)","v":""},{"$f":"IF(A20=\"\",\"\",IF(②選手情報入力!$T$7=\"\",0,1))","v":""},{"$f":"IF(A20=\"\",\"\",種目情報!$K$7)","v":""}]
[{"$f":"IF(③リレー情報確認!U9=\"\",\"\",1620000+①団体情報入力!$D$4*10)","v":""},{"$f":"IF(A21=\"\",\"\",①団体情報入力!$D$4)","v":""},{"$f":"IF(A21=\"\",\"\",③リレー情報確認!$J$1)","v":""},{"$f":"IF(A21=\"\",\"\",③リレー情報確認!$P$1)","v":""},null,null,2,{"$f":"IF(A21=\"\",\"\",③リレー情報確認!W9)","v":""},{"$f":"IF(A21=\"\",\"\",③リレー情報確認!V9)","v":""},{"$f":"IF(A21=\"\",\"\",種目情報!$J$7)","v":""},{"$f":"IF(A21=\"\",\"\",③リレー情報確認!$X$8)","v":""},{"$f":"IF(A21=\"\",\"\",IF(②選手情報入力!$T$7=\"\",0,1))","v":""},{"$f":"IF(A21=\"\",\"\",種目情報!$K$7)","v":""}]
[{"$f":"IF(③リレー情報確認!U10=\"\",\"\",1620000+①団体情報入力!$D$4*10)","v":""},{"$f":"IF(A22=\"\",\"\",①団体情報入力!$D$4)","v":""},{"$f":"IF(A22=\"\",\"\",③リレー情報確認!$J$1)","v":""},{"$f":"IF(A22=\"\",\"\",③リレー情報確認!$P$1)","v":""},null,null,3,{"$f":"IF(A22=\"\",\"\",③リレー情報確認!W10)","v":""},{"$f":"IF(A22=\"\",\"\",③リレー情報確認!V10)","v":""},{"$f":"IF(A22=\"\",\"\",種目情報!$J$7)","v":""},{"$f":"IF(A22=\"\",\"\",③リレー情報確認!$X$8)","v":""},{"$f":"IF(A22=\"\",\"\",IF(②選手情報入力!$T$7=\"\",0,1))","v":""},{"$f":"IF(A22=\"\",\"\",種目情報!$K$7)","v":""}]
[{"$f":"IF(③リレー情報確認!U11=\"\",\"\",1620000+①団体情報入力!$D$4*10)","v":""},{"$f":"IF(A23=\"\",\"\",①団体情報入力!$D$4)","v":""},{"$f":"IF(A23=\"\",\"\",③リレー情報確認!$J$1)","v":""},{"$f":"IF(A23=\"\",\"\",③リレー情報確認!$P$1)","v":""},null,null,4,{"$f":"IF(A23=\"\",\"\",③リレー情報確認!W11)","v":""},{"$f":"IF(A23=\"\",\"\",③リレー情報確認!V11)","v":""},{"$f":"IF(A23=\"\",\"\",種目情報!$J$7)","v":""},{"$f":"IF(A23=\"\",\"\",③リレー情報確認!$X$8)","v":""},{"$f":"IF(A23=\"\",\"\",IF(②選手情報入力!$T$7=\"\",0,1))","v":""},{"$f":"IF(A23=\"\",\"\",種目情報!$K$7)","v":""}]
[{"$f":"IF(③リレー情報確認!U12=\"\",\"\",1620000+①団体情報入力!$D$4*10)","v":""},{"$f":"IF(A24=\"\",\"\",①団体情報入力!$D$4)","v":""},{"$f":"IF(A24=\"\",\"\",③リレー情報確認!$J$1)","v":""},{"$f":"IF(A24=\"\",\"\",③リレー情報確認!$P$1)","v":""},null,null,5,{"$f":"IF(A24=\"\",\"\",③リレー情報確認!W12)","v":""},{"$f":"IF(A24=\"\",\"\",③リレー情報確認!V12)","v":""},{"$f":"IF(A24=\"\",\"\",種目情報!$J$7)","v":""},{"$f":"IF(A24=\"\",\"\",③リレー情報確認!$X$8)","v":""},{"$f":"IF(A24=\"\",\"\",IF(②選手情報入力!$T$7=\"\",0,1))","v":""},{"$f":"IF(A24=\"\",\"\",種目情報!$K$7)","v":""}]
[{"$f":"IF(③リレー情報確認!U13=\"\",\"\",1620000+①団体情報入力!$D$4*10)","v":""},{"$f":"IF(A25=\"\",\"\",①団体情報入力!$D$4)","v":""},{"$f":"IF(A25=\"\",\"\",③リレー情報確認!$J$1)","v":""},{"$f":"IF(A25=\"\",\"\",③リレー情報確認!$P$1)","v":""},null,null,6,{"$f":"IF(A25=\"\",\"\",③リレー情報確認!W13)","v":""},{"$f":"IF(A25=\"\",\"\",③リレー情報確認!V13)","v":""},{"$f":"IF(A25=\"\",\"\",種目情報!$J$7)","v":""},{"$f":"IF(A25=\"\",\"\",③リレー情報確認!$X$8)","v":""},{"$f":"IF(A25=\"\",\"\",IF(②選手情報入力!$T$7=\"\",0,1))","v":""},{"$f":"IF(A25=\"\",\"\",種目情報!$K$7)","v":""}]

{"sheet":"Sheet6","index":10,"n_rows":409,"n_cols":6,"rows_kept":409,"cut":false,"hidden":false,"merged":[]}
["No","団体名略称","団体コード","団体名略称","団体名カナ","No"]
[1,"加藤建設",230431,"加藤建設","カブシキガイシャカトウケンセツ",1]
[2,"ﾄｰｴﾈｯｸ",230165,"ﾄｰｴﾈｯｸ","（カ）トーエネック",2]
[3,"愛教大ｸ名古屋",230090,"愛教大ｸ名古屋","アイキョウダイクラブナゴヤ",3]
[4,"愛三工業",230091,"愛三工業","アイサンコウギョウ",4]
[5,"AGUD",230366,"AGUD","アイチガクインダイガクシガクブ",5]
[6,"あいち健康の森",230124,"あいち健康の森","アイチケンコンノモリソウユウカイ",6]
[7,"愛知県庁ｸﾗﾌﾞ",230026,"愛知県庁ｸﾗﾌﾞ","アイチケンチョウクラブ",7]
[8,"愛知製鋼",230036,"愛知製鋼","アイチセイコウ",8]
[9,"つばさﾄﾗｯｸｸﾗﾌﾞ",230403,"つばさﾄﾗｯｸｸﾗﾌﾞ","アイチツバサトラッククラブアカデミー",9]
[10,"愛知電機",230095,"愛知電機","アイチデンキ",10]
[11,"ANC",230268,"ANC","アイチナゴヤクラブ",11]
[12,"愛知ﾏｽﾀｰｽﾞ名",230238,"愛知ﾏｽﾀｰｽﾞ名","アイチマスターズナゴヤシブ",12]
[13,"愛知茗友ｸﾗﾌﾞ",230019,"愛知茗友ｸﾗﾌﾞ","アイチメイユウクラブ",13]
[14,"愛知陸協医事部",230029,"愛知陸協医事部","アイチリクキョウイジブ",14]
[15,"愛知陸協",230000,"愛知陸協","アイチリクキョウナゴヤコジン",15]
[16,"アクアAC",230442,"アクアAC","アクアエシー",16]
[17,"ｱｽｶﾑRC",230226,"ｱｽｶﾑRC","アスカムアールシー",17]
[18,"ｳｨﾝﾄﾞﾗﾝ",230355,"ｳｨﾝﾄﾞﾗﾝ","ウィンドラン",18]
[19,"AGX",230372,"AGX","エージーエックス",19]
[20,"栄徳EAGLES",230424,"栄徳EAGLES","エイトクイーグルス",20]
[21,"OWLS",230075,"OWLS","オウルズ",21]
[22,"大須AC",230394,"大須AC","オオスエーシー",22]
[23,"ｵｵﾀﾆｸﾗﾌﾞ",230060,"ｵｵﾀﾆｸﾗﾌﾞ","オオタニクラブ",23]
[24,"OBUエニスポ",230440,"OBUエニスポ","オオブエニスポアスリートクラブ",24]
[25,"尾張旭RC",230384,"尾張旭RC","オワリアサヒランニングクラブ",25]
[26,"菊里クラブ",230093,"菊里クラブ","キクザトクラブ",26]
[27,"兄弟駅伝部",230338,"兄弟駅伝部","キョウダイエキデンブ",27]
[28,"R2中日本",230414,"R2中日本","クラブアールツーナカニホン",28]
[29,"グランシエル",230435,"グランシエル","グランシエル",29]
[30,"KTMC",230198,"KTMC","ケーティーエムクラブ",30]
[31,"KSAC",230139,"KSAC","ケイエスエーシー",31]
[32,"高蔵寺自衛隊",230437,"高蔵寺自衛隊","コウゾウジジエイタイ",32]
[33,"JR東海",230340,"JR東海","ジェイアールトウカイリクジョウキョウギクラブ",33]
[34,"至学館クラブ",230169,"至学館クラブ","シガクカンクラブ",34]
[35,"庄内ＲＴ",230154,"庄内ＲＴ","ショウナイアールティ",35]
[36,"神野会",230416,"神野会","ジンノカイ",36]
[37,"スズラン",230449,"スズラン","スズキランニングクラブ",37]
[38,"ｾｶﾝﾄﾞｳｲﾝﾄﾞ",230099,"ｾｶﾝﾄﾞｳｲﾝﾄﾞ","セカンドウインド",38]
[39,"大同特殊鋼",230123,"大同特殊鋼","ダイドウトクシュコウ",39]
[40,"大日本図書",230438,"大日本図書","ダイニッポントショ",40]
[41,"百花繚･RUN",230368,"百花繚･RUN","チーム　ヒャッカリョウラン",41]
[42,"T･K",230083,"T･K","チームケー",42]
[43,"ﾁｰﾑKoi",230326,"ﾁｰﾑKoi","チームコイ",43]
[44,"知多AC",230035,"知多AC","チタエーシー",44]
[45,"知多教員ｸﾗﾌﾞ",230086,"知多教員ｸﾗﾌﾞ","チタキョウインクラブ",45]
[46,"知多走友会",230354,"知多走友会","チタソウユウカイ",46]
[47,"知多体協クラブ",230024,"知多体協クラブ","チタタイキョウクラブ",47]
[48,"知多TC",230329,"知多TC","チタトラッククラブ",48]
[49,"知多ﾗﾝﾅｰｽﾞ",230030,"知多ﾗﾝﾅｰｽﾞ","チタランナーズ",49]
[50,"知多RC",230455,"知多RC","チタランニングクラブ",50]
[51,"中央発條(株)",230041,"中央発條(株)","チュウオウハツジョウ(カ)",51]
[52,"CHUKYO ",230067,"CHUKYO ","チュウキョウスピリッツ",52]
[53,"中京大ｸﾗﾌﾞ",230017,"中京大ｸﾗﾌﾞ","チュウキョウダイ",53]
[54,"中部電力名古屋",230272,"中部電力名古屋","チュウブデンリョクナゴヤ",54]
[55,"中部桃丘TFC",230467,"中部桃丘TFC","チュウブトウキュウトラックアンドフィールドクラブ",55]
[56,"TSM",230346,"TSM","ティーエスエム",56]
[57,"TTC",230251,"TTC","ティーティーシー",57]
[58,"天白川走友会",230180,"天白川走友会","テンパクガワソウユウカイ",58]
[59,"東海ﾃﾞｶｽﾛﾝ",230252,"東海ﾃﾞｶｽﾛﾝ","トウカイデカスロン",59]
[60,"東海理化",230077,"東海理化","トウカイリカ",60]
[61,"東郷AC",230374,"東郷AC","トウゴウエイシー",61]
[62,"JRC",230406,"JRC","トヨヤマジェイアールシー",62]
[63,"名古屋AOI RC",230388,"名古屋AOI RC","ナゴヤアオイランニングクラブ",63]
[64,"名古屋AC",230044,"名古屋AC","ナゴヤエーシー",64]
[65,"名学院ｸﾗﾌﾞ",230108,"名学院ｸﾗﾌﾞ","ナゴヤガクインクラブ",65]
[66,"名古屋市消防局",230142,"名古屋市消防局","ナゴヤシショウボウキョク",66]
[67,"名古屋指導者",230385,"名古屋指導者","ナゴヤシドウシャキョウギカイクラブ",67]
[68,"名古屋市役所",230045,"名古屋市役所","ナゴヤシヤクショソウユウカイ",68]
[69,"名古屋テレビ",230413,"名古屋テレビ","ナゴヤテレビランニングクラブ",69]
[70,"なごや陸上ｸ",230054,"なごや陸上ｸ","ナゴヤリクジョウクラブ",70]
[71,"日進ＲＣ",230411,"日進ＲＣ","ニッシンランニングクラブ",71]
[72,"にっとTFC",230278,"にっとTFC","ニットティーエフシー",72]
[73,"日本保育ｻｰﾋﾞ",230289,"日本保育ｻｰﾋﾞ","ニホンホイクサービス",73]
[74,"No-Mark",230466,"No-Mark","ノーマーク",74]
[75,"POWERMAX",230407,"POWERMAX","パワーマックス",75]
[76,"ﾋﾃﾞｿﾝｽﾞ",230010,"ﾋﾃﾞｿﾝｽﾞ","ヒデソンズ",76]
[77,"ﾌｧｲﾝﾄﾞｱｳﾄ",230393,"ﾌｧｲﾝﾄﾞｱｳﾄ","ファインドアウト",77]
[78,"FROG",230398,"FROG","フロッグ",78]
[79,"みかん山",230315,"みかん山","ミカンヤマ",79]
[80,"ﾐｽﾞﾉ",230200,"ﾐｽﾞﾉ","ミズノ",80]
[81,"三菱重工走友会",230353,"三菱重工走友会","ミツビシジュウコウソウユウカイ",81]
[82,"三菱重工名古屋",230033,"三菱重工名古屋","ミツビシジュウコウナゴヤ",82]
[83,"三菱重工冷熱",230097,"三菱重工冷熱","ミツビシジュウコウレイネツ",83]
[84,"南知多RC",230397,"南知多RC","ミナミチタ　アール　シー",84]
[85,"名城ARC",230094,"名城ARC","メイジョウオールランナーズクラブ",85]
[86,"明正アスリーツ",230453,"明正アスリーツ","メイセイアスリーツ",86]
[87,"名大倶楽部",230039,"名大倶楽部","メイダイクラブ",87]
[88,"名聾AC",230365,"名聾AC","メイロウエーシー",88]
[89,"守山35普連",230175,"守山35普連","モリヤマサンジュウゴフレン",89]
[90,"YAMATE AC",230356,"YAMATE AC","ヤマテエイシー",90]
[91,"ＹＯＵＫＩ陸上",230450,"ＹＯＵＫＩ陸上","ユウキリクジョウクラブ",91]
[92,"ﾗｲｽﾞｳｨﾝﾄﾞ",230399,"ﾗｲｽﾞｳｨﾝﾄﾞ","ライズウィンドランニングクラブ",92]
[93,"ﾗﾝｱｯﾌﾟ",230390,"ﾗﾝｱｯﾌﾟ","ランアップ",93]
[94,"ハムちゃんず",230448,"ハムちゃんず","ランニングチームハムチャンズ",94]
[95,"良友クラブ",230426,"良友クラブ","リョウユウクラブ",95]
[96,"レッドオルカ",230463,"レッドオルカ","レッドオルカ",96]
[97,"よかにせＰＲＣ",230436,"よかにせＰＲＣ","ヨカニセピーアールシー",97]
[98,"リップル",230464,"リップル","リップル",98]
[99,"北見工業大",490007,"北見工業大","キタミコウギョウダイガク",99]
[100,"札幌医科大",491001,"札幌医科大","サッポロイカダイガク",100]
[101,"北海道大",490001,"北海道大","ホッカイドウダイガク",101]
[102,"東北大",490010,"東北大","トウホクダイガク",102]
[103,"福島大",490014,"福島大","フクシマダイガク",103]
[104,"筑波大",490016,"筑波大","ツクバダイガク",104]
[105,"高崎経済大",491003,"高崎経済大","タカサキケイザイダイガク",105]
[106,"城西大",492037,"城西大","ジョウサイダイガク",106]
[107,"駿河台大",492337,"駿河台大","スルガダイダイガク",107]
[108,"大東文化大",492087,"大東文化大","ダイトウブンカダイガク",108]
[109,"東京国際大",492035,"東京国際大","トウキョウコクサイダイガク",109]
[110,"東洋大",492114,"東洋大","トウヨウダイガク",110]
[111,"平成国際大",492420,"平成国際大","ヘイセイコクサイダイガク",111]
[112,"早稲田大",492140,"早稲田大","ワセダダイガク",112]
[113,"国際武道大",492330,"国際武道大","コクサイブドウダイガク",113]
[114,"順天堂大",492070,"順天堂大","ジュンテンドウダイガク",114]
[115,"千葉大",490020,"千葉大","チバダイガク",115]
[116,"中央学院大",492047,"中央学院大","チュウオウガクインダイガク",116]
[117,"麗澤大",492049,"麗澤大","レイタクダイガク",117]
[118,"青山学院大",492051,"青山学院大","アオヤマガクインダイガク",118]
[119,"亜細亜大",492052,"亜細亜大","アジアダイガク",119]
[120,"桜美林大",492055,"桜美林大","オウビリンダイガク",120]
[121,"お茶の水女子大",490031,"お茶の水女子大","オチャノミズジョシダイガク",121]
[122,"國學院大",492064,"國學院大","コクガクインダイガク",122]
[123,"国士舘大",492066,"国士舘大","コクシカンダイガク",123]
[124,"駒澤大",492067,"駒澤大","コマザワダイガク",124]
[125,"首都大東京",491085,"首都大東京","シュトダイガクトウキョウ",125]
[126,"上智大",492071,"上智大","ジョウチダイガク",126]
[127,"成蹊大",492079,"成蹊大","セイケイダイガク",127]
[128,"創価大",492085,"創価大","ソウカダイガク",128]
[129,"玉川大",492090,"玉川大","タマガワダイガク",129]
[130,"中央大",492092,"中央大","チュウオウダイガク",130]
[131,"津田塾大",492093,"津田塾大","ツダジュクダイガク",131]
[132,"帝京大",492094,"帝京大","テイキョウダイガク",132]
[133,"電気通信大",490032,"電気通信大","デンキツウシンダイガク",133]
[134,"東京外国語大",490023,"東京外国語大","トウキョウガイコクゴダイガク",134]
[135,"東京学芸大",490024,"東京学芸大","トウキョウガクゲイダイガク",135]
[136,"東京経済大",492100,"東京経済大","トウキョウケイザイダイガク",136]
[137,"東京工業大",490028,"東京工業大","トウキョウコウギョウダイガク",137]
[138,"東京女子体育大",492105,"東京女子体育大","トウキョウジョシタイイクダイガク",138]
[139,"東京大",490021,"東京大","トウキョウダイガク",139]
[140,"東京都市大",492129,"東京都市大","トウキョウトシダイガク",140]
[141,"東京農業大",492109,"東京農業大","トウキョウノウギョウダイガク",141]
[142,"東京理科大",492111,"東京理科大","トウキョウリカダイガク",142]
[143,"日本女子体育大",492122,"日本女子体育大","ニホンジョシタイイクダイガク",143]
[144,"日本大",492116,"日本大","ニホンダイガク",144]
[145,"一橋大",490033,"一橋大","ヒトツバシダイガク",145]
[146,"法政大",492126,"法政大","ホウセイダイガク",146]
[147,"明治大",492133,"明治大","メイジダイガク",147]
[148,"神奈川大",492142,"神奈川大","カナガワダイガク",148]
[149,"関東学院大",492144,"関東学院大","カントウガクインダイガク",149]
[150,"慶應義塾大",492062,"慶應義塾大","ケイオウギジュクダイガク",150]
[151,"東海大",492095,"東海大","トウカイダイガク",151]
[152,"日本体育大",492123,"日本体育大","ニッポンタイイクダイガク",152]
[153,"横浜市立大",491005,"横浜市立大","ヨコハマイチリツダイガク",153]
[154,"横浜国立大",490034,"横浜国立大","ヨコハマコクリツダイガク",154]
[155,"富山大",490036,"富山大","トヤマダイガク",155]
[156,"福井大",490038,"福井大","フクイダイガク",156]
[157,"都留文科大",491007,"都留文科大","ツルブンカダイガク",157]
[158,"山梨学院大",492158,"山梨学院大","ヤマナシガクインダイガク",158]
[159,"岐阜経済大",492161,"岐阜経済大","ギフケイザイダイガク",159]
[160,"岐阜聖徳",492164,"岐阜聖徳","ギフショウトクガクエンダイガク",160]
[161,"愛知医科大",492166,"愛知医科大","アイチイカダイガク",161]
[162,"愛知学院大",492167,"愛知学院大","アイチガクインダイガク",162]
[163,"愛知教育大",490044,"愛知教育大","アイチキョウイクダイガク",163]
[164,"愛知県立大",491011,"愛知県立大","アイチケンリツダイガク",164]
[165,"愛知工業大",492168,"愛知工業大","アイチコウギョウダイガク",165]
[166,"愛知淑徳大",492301,"愛知淑徳大","アイチショウトクダイガク",166]
[167,"愛知大",492165,"愛知大","アイチダイガク",167]
[168,"愛知東邦大",492491,"愛知東邦大","アイチトウホウダイガク",168]
[169,"金城学院大",492170,"金城学院大","キンジョウガクインダイガク",169]
[170,"至学館大",492174,"至学館大","シガッカンダイガク",170]
[171,"椙山女学園大",492171,"椙山女学園大","スギヤマジョガクエンダイガク",171]
[172,"大同大",492172,"大同大","ダイドウダイガク",172]
[173,"中京大",492173,"中京大","チュウキョウダイガク",173]
[174,"中部大",492175,"中部大","チュウブダイガク",174]
[175,"東海学園大",492412,"東海学園大","トウカイガクエンダイガク",175]
[176,"豊橋技術科学大",490085,"豊橋技術科学大","トヨハシギジュツカガクダイガク",176]
[177,"名古屋学院大",492177,"名古屋学院大","ナゴヤガクインダイガク",177]
[178,"名古屋工業大",490045,"名古屋工業大","ナゴヤコウギョウダイガク",178]
[179,"名古屋市立大",491013,"名古屋市立大","ナゴヤシリツダイガク",179]
[180,"名古屋大",490043,"名古屋大","ナゴヤダイガク",180]
[181,"南山大",492182,"南山大","ナンザンダイガク",181]
[182,"日本福祉大",492183,"日本福祉大","ニホンフクシダイガク",182]
[183,"藤田保健衛生大",492181,"藤田保健衛生大","フジタホケンエイセイダイガク",183]
[184,"名城大",492184,"名城大","メイジョウダイガク",184]
[185,"皇學館大",492185,"皇學館大","コウガッカンダイガク",185]
[186,"三重大",490046,"三重大","ミエダイガク",186]
[187,"びわこｽﾎﾟｰﾂ大",492522,"びわこｽﾎﾟｰﾂ大","ビワコセイケイスポーツダイガク",187]
[188,"京都教育大",490049,"京都教育大","キョウトキョウイクダイガク",188]
[189,"京都光華女子大",492192,"京都光華女子大","キョウトコウカジョシダイガク",189]
[190,"京都大",490048,"京都大","キョウトダイガク",190]
[191,"同志社大",492195,"同志社大","ドウシシャダイガク",191]
[192,"立命館大",492200,"立命館大","リツメイカンダイガク",192]
[193,"大阪学院大",492204,"大阪学院大","オオサカガクインダイガク",193]
[194,"大阪教育大",490053,"大阪教育大","オオサカキョウイクダイガク",194]
[195,"大阪芸術大",492207,"大阪芸術大","オオサカゲイジュツダイガク",195]
[196,"大阪産業大",492209,"大阪産業大","オオサカサンギョウダイガク",196]
[197,"大阪成蹊大",492523,"大阪成蹊大","オオサカセイケイダイガク",197]
[198,"大阪体育大",492213,"大阪体育大","オオサカタイイクダイガク",198]
[199,"大阪大",490051,"大阪大","オオサカダイガク",199]
[200,"関西外国語大",492220,"関西外国語大","カンサイガイコクゴダイガク",200]
[201,"近畿大",492221,"近畿大","キンキダイガク",201]
[202,"関西学院大",492232,"関西学院大","カンセイガクインダイガク",202]
[203,"甲南大",492234,"甲南大","コウナンダイガク",203]
[204,"神戸大",490054,"神戸大","コウベダイガク",204]
[205,"兵庫教育大",490092,"兵庫教育大","ヒョウゴキョウイクダイガク",205]
[206,"岡山大",490061,"岡山大","オカヤマダイガク",206]
[207,"広島大",490062,"広島大","ヒロシマダイガク",207]
[208,"九州大",490069,"九州大","キュウシュウダイガク",208]
[209,"産業医科大",492314,"産業医科大","サンギョウイカダイガク",209]
[210,"鹿屋体育大",490096,"鹿屋体育大","カノヤタイイクダイガク",210]
[211,"旭丘高",233101,"旭丘高","アサヒガオカ",{"$f":"A212","v":211}]
[212,"明和高",233102,"明和高","メイワ",{"$f":"A213","v":212}]
[213,null,233103,"千種高","チグサ",213]
[214,"瑞陵高",233104,"瑞陵高","ズイリョウ",214]
[215,"惟信高",233105,"惟信高","イシン",215]
[216,"松蔭高",233106,"松蔭高","ショウイン",216]
[217,"昭和高",233107,"昭和高","ショウワ",217]
[218,"名古屋西高",233108,"名古屋西高","ナゴヤニシ",218]
[219,"熱田高",233109,"熱田高","アツタ",219]
[220,"中村高",233110,"中村高","ナカムラ",220]
[221,"南陽高",233111,"南陽高","ナンヨウ",221]
[222,"鳴海高",233112,"鳴海高","ナルミ",222]
[223,"守山高",233113,"守山高","モリヤマ",223]
[224,"愛知工高",233114,"愛知工高","アイチコウギョウ",224]
[225,"愛知総合工科高",233115,"愛知総合工科高","ソウゴウコウカ",225]
[226,"名南工高",233116,"名南工高","メイナンコウギョウ",226]
[227,"愛知商高",233117,"愛知商高","アイチショウギョウ",227]
[228,"中川商高",233118,"中川商高","ナカガワショウギョウ",228]
[229,"緑丘高",233119,"緑丘高","ミドリガオカ",229]
[230,"春日井高",233124,"春日井高","カスガイ",230]
[231,"春日井西高",233125,"春日井西高","カスガイニシ",231]
[232,"春日井商高",233126,"春日井商高","カスガイショウギョウ",232]
[233,"旭野高",233127,"旭野高","アサヒノ",233]
[234,"長久手高",233128,"長久手高","ナガクテ",234]
[235,"東郷高",233129,"東郷高","トウゴウ",235]
[236,"瀬戸高",233130,"瀬戸高","セト",236]
[237,"豊明高",233133,"豊明高","トヨアケ",237]
[238,"大府高",233159,"大府高","オオブ",238]
[239,"桃陵高",233160,"桃陵高","トウリョウ",239]
[240,"横須賀高",233161,"横須賀高","ヨコスカ",240]
[241,"東海商高",233162,"東海商高","トウカイショウギョウ",241]
[242,"常滑高",233163,"常滑高","トコナメ",242]
[243,"内海高",233165,"内海高","ウツミ",243]
[244,"半田高",233166,"半田高","ハンダ",244]
[245,"半田農高",233167,"半田農高","ハンダノウギョウ",245]
[246,"半田工高",233168,"半田工高","ハンダコウギョウ",246]
[247,"半田商高",233169,"半田商高","ハンダショウギョウ",247]
[248,"武豊高",233172,"武豊高","タケトヨ",248]
[249,"天白高",233226,"天白高","テンパク",249]
[250,"東海南高",233228,"東海南高","トウカイミナミ",250]
[251,"菊里高",233230,"菊里高","キクザト",251]
[252,"向陽高",233231,"向陽高","コウヨウ",252]
[253,"桜台高",233232,"桜台高","サクラダイ",253]
[254,"市立北高",233233,"市立北高","キタ",254]
[255,"市工業高",233234,"市工業高","コウギョウ",255]
[256,"市工芸高",233235,"市工芸高","コウゲイ",256]
[257,"西陵高",233236,"西陵高","セイリョウ",257]
[258,"名古屋商高",233237,"名古屋商高","ナゴヤショウギョウ",258]
[259,"若宮商高",233238,"若宮商高","ナゴヤイチリツワカミヤショウギョウ",259]
[260,"緑高",233239,"緑高","ミドリ",260]
[261,"富田高",233243,"富田高","トミダ",261]
[262,"山田高",233244,"山田高","ヤマダ",262]
[263,"瀬戸西高",233245,"瀬戸西高","セトニシ",263]
[264,"春日井東高",233246,"春日井東高","ヒガシ",264]
[265,"日進高",233247,"日進高","ニッシン",265]
[266,"阿久比高",233255,"阿久比高","アグイ",266]
[267,"高蔵寺高",233257,"高蔵寺高","コウゾウジ",267]
[268,"半田東高",233261,"半田東高","ハンダヒガシ",268]
[269,"春日井工高",233262,"春日井工高","カスガイコウギョウ",269]
[270,"日進西高",233263,"日進西高","ニッシンニシ",270]
[271,"大府東高",233266,"大府東高","オオブヒガシ",271]
[272,"知多翔洋高",233267,"知多翔洋高","チタショウヨウ",272]
[273,"名古屋南高",233271,"名古屋南高","ナゴヤミナミ",273]
[274,"瀬戸北総合高",233272,"瀬戸北総合高","セトキタソウゴウ",274]
[275,"名東高",233274,"名東高","メイトウ",275]
[276,"春日井南高",233275,"春日井南高","カスガイミナミ",{"$f":"A277","v":276}]
[277,"名古屋聾高",233454,"名古屋聾高","ナゴヤロウ",277]
[278,"愛知高",233501,"愛知高","アイチガクインアイチ",278]
[279,"愛知淑徳高",233502,"愛知淑徳高","アイチシュクトクガクエンアイチシュクトク",279]
[280,"啓明学館高",233503,"啓明学館高","アイビガクエンケイメイガッカン",280]
[281,"名経大市邨高",233504,"名経大市邨高","イチムラガクエンナゴヤケイザイタ",281]
[282,"名経大高蔵高",233505,"名経大高蔵高","イチムラガクエンナゴヤケイザイダ",282]
[283,"名古屋大谷高",233506,"名古屋大谷高","オワリガクエンナゴヤオオタニ",283]
[284,"享栄高",233507,"享栄高","アイチキョウエイガクエンキョウエイ",284]
[285,"椙山高",233509,"椙山高","スギヤマジョガクエンスギヤマシ",285]
[286,"大同大大同高",233510,"大同大大同高","ダイドウガクエンダイドウダイガクダイドウ",286]
[287,"福祉大付高",233511,"福祉大付高","ニホンフクシダイガクフゾク",287]
[288,"中京大中京高",233512,"中京大中京高","ウメムラガクエンチュウキョウダイガ",288]
[289,"至学館高",233513,"至学館高","シガッカンシガクカン",289]
[290,"東海高",233514,"東海高","トウカイガクエントウカイ",290]
[291,"東海学園高",233515,"東海学園高","トウカイガクエン",291]
[292,"愛産大工高",233516,"愛産大工高","アイチサンギョウダイガクアイチサン",292]
[293,"東邦高",233517,"東邦高","トウホウガクエントウホウ",293]
[294,"同朋高",233518,"同朋高","ドウホウガクエンドウホウ",294]
[295,"名古屋高",233519,"名古屋高","ナゴヤガクインナゴヤ",295]
[296,"名古屋工高",233520,"名古屋工高","メイコウガクエンナゴヤコウギョウ",296]
[297,"名女大高",233522,"名女大高","コシハラガクエンナゴヤジョシダイ",297]
[298,"中部大一高",233523,"中部大一高","チュウブダイガクチュウブダイカ",298]
[299,"桜花学園高",233524,"桜花学園高","オウカガクエンオウカガクエン",299]
[300,"愛工大名電高",233525,"愛工大名電高","ナゴヤデンキガクエンアイチコウギ",300]
[301,"南山男子高",233526,"南山男子高","ナンザンガクエンダンシ",301]
[302,"南山女高",233527,"南山女高","ナンザンガクエンナンザン(ジョシ",302]
[303,"名城大附高",233528,"名城大附高","メイジョウダイガクフゾク",303]
[304,"菊華高",233529,"菊華高","キクタケガクエンキクカ",304]
[305,"星城高",233533,"星城高","ナゴヤイシダガクエンセイジョウ",305]
[306,"聖霊高",233534,"聖霊高","ナンザンガクエンセイレイ",306]
[307,"中部大春日丘高",233536,"中部大春日丘高","チュウブダイガクチュウブダイガクハルヒガオカ",307]
[308,"栄徳高",233552,"栄徳高","アイチキョウエイガクエンエイトク",308]
[309,"名古屋情報",233801,"名古屋情報","ナゴヤジョウホウ",309]
[310,"名古屋工学院",233802,"名古屋工学院","ナゴヤコウガクイ",310]
[311,"東海工専",233991,"東海工専","トウカイコウギョウセンモンガッコウアツタコウ",311]
[312,"日進中",235999,"日進中","ニッシンチュウ",312]
[313,"田光中",235998,"田光中","タコウチュウ",313]
[314,"城山中",235002,"城山中","シロヤマチュウ",314]
[315,"千種台中",235003,"千種台中","チクサダイ",315]
[316,"振甫中",235004,"振甫中","シンポ",316]
[317,"若水中",235005,"若水中","ワカミズチュウ",317]
[318,"千種中",235006,"千種中","チクサチュウ",318]
[319,"冨士中",235009,"冨士中","フジチュウ",319]
[320,"北陵中",235014,"北陵中","ホクリョウチュウ",320]
[321,"大曽根中",235015,"大曽根中","オオゾネチュウ",321]
[322,"名古屋北中",235018,"名古屋北中","ナゴヤキタ",322]
[323,"名塚中",235021,"名塚中","ナヅカ",323]
[324,"天神山中",235022,"天神山中","テンジンヤマチュウ",324]
[325,"豊国中",235026,"豊国中","トヨクニチュウ",325]
[326,"豊正中",235030,"豊正中","ホウセイ",326]
[327,"伊勢山中",235035,"伊勢山中","イセヤマチュウ",327]
[328,"瑞穂ヶ丘中",235043,"瑞穂ヶ丘中","ミズホガオカチュウ",328]
[329,"萩山中",235044,"萩山中","ハギヤマチュウ",329]
[330,"汐路中",235045,"汐路中","シオジチュウ",330]
[331,"沢上中",235047,"沢上中","サワカミチュウ",331]
[332,"日比野中",235049,"日比野中","ヒビノチュウ",332]
[333,"長良中",235051,"長良中","ナガラチュウ",333]
[334,"一柳中",235053,"一柳中","イチヤナギチュウ",334]
[335,"富田中",235056,"富田中","トミダチュウ",335]
[336,"はとり中",235057,"はとり中","ハトリ",336]
[337,"港南中",235061,"港南中","コウナンチュウ",337]
[338,"東港中",235063,"東港中","トウコウ",338]
[339,"南陽中",235064,"南陽中","ナンヨウチュウ",339]
[340,"宝神中",235065,"宝神中","ホウジン",{"$f":"A341","v":340}]
[341,"当知中",235066,"当知中","トウチチュウ",341]
[342,"桜田中",235071,"桜田中","サクラダチュウ",342]
[343,"南光中",235075,"南光中","ナンコウチュウ",343]
[344,"守山中",235076,"守山中","モリヤマ",344]
[345,"守山東中",235077,"守山東中","モリヤマヒガシ",345]
[346,"守山西中",235078,"守山西中","モリヤマニシチュウ",346]
[347,"鳴海中",235083,"鳴海中","ナルミチュウ",347]
[348,"鳴子台中",235084,"鳴子台中","ナルコダイチュウ",348]
[349,"大高中",235085,"大高中","オオダカチュウ",349]
[350,"有松中",235086,"有松中","アリマツ",350]
[351,"千鳥丘中",235088,"千鳥丘中","チドリガオカチュウ",351]
[352,"扇台中",235090,"扇台中","オウギダイチュウ",352]
[353,"鎌倉台中",235093,"鎌倉台中","カマクラダイチュウ",353]
[354,"神の倉中",235094,"神の倉中","カミノクラ",354]
[355,"猪高中",235095,"猪高中","イタカチュウ",355]
[356,"神丘中",235096,"神丘中","カミオカチュウ",356]
[357,"高針台中",235097,"高針台中","タカバリダイ",357]
[358,"藤森中",235099,"藤森中","フジモリチュウ",358]
[359,"牧の池中",235100,"牧の池中","マキノイケチュウ",359]
[360,"御幸山中",235104,"御幸山中","ミユキヤマ",360]
[361,"平針中",235106,"平針中","ヒラバリ",361]
[362,"水無瀬中",235129,"水無瀬中","セトシリツミナセチュウ",362]
[363,"瀬戸南山中",235131,"瀬戸南山中","セトミナミヤマ",363]
[364,"春日井東部中",235137,"春日井東部中","トウブチュウ",364]
[365,"春日井中部中",235138,"春日井中部中","チュウブチュウ",365]
[366,"高蔵寺中",235141,"高蔵寺中","コウゾウジチュウ",366]
[367,"高森台中",235146,"高森台中","タカモリダイチュウ",367]
[368,"味美中",235148,"味美中","アジヨシチュウ",368]
[369,"味岡中",235162,"味岡中","アジオカチュウ",369]
[370,"尾張旭東中",235180,"尾張旭東中","オワリアサヒシリツヒガシチュウ",370]
[371,"尾張旭西中",235181,"尾張旭西中","オワリアサヒシリツニシチュウ",371]
[372,"豊明中",235184,"豊明中","トヨアケ",372]
[373,"栄中",235185,"栄中","サカエチュウ",373]
[374,"沓掛中",235186,"沓掛中","クツカケチュウ",374]
[375,"日進西中",235188,"日進西中","ニッシンニシチュウ",375]
[376,"日進東中",235189,"日進東中","ニッシンヒガシチュウ",376]
[377,"春木中",235201,"春木中","ハルキチュウ",377]
[378,"長久手中",235203,"長久手中","ナガクテ",378]
[379,"亀崎中",235233,"亀崎中","カメザキチュウ",379]
[380,"横須賀中",235242,"横須賀中","ヨコスカチュウ",380]
[381,"大府中",235246,"大府中","オオブチュウ",381]
[382,"大府西中",235247,"大府西中","オオブニシ",382]
[383,"大府北中",235248,"大府北中","オオブキタチュウ",383]
[384,"知多中",235251,"知多中","チタシツリチタチュウ",384]
[385,"知多東部中",235253,"知多東部中","チタトウブチュウ",385]
[386,"知多中部中",235254,"知多中部中","チタチュウブ",386]
[387,"東浦北部中",235257,"東浦北部中","ヒガシウラホクブチュウ",387]
[388,"東浦西部中",235258,"東浦西部中","ヒガシウラセイブチュウ",388]
[389,"野間中",235264,"野間中","ノマチュウ",389]
[390,"河和中",235265,"河和中","コウワチュウ",390]
[391,"武豊中",235266,"武豊中","タケトヨ",391]
[392,"富貴中",235267,"富貴中","フキ",392]
[393,"愛知中",235414,"愛知中","アイチ",393]
[394,"椙山女学園中",235415,"椙山女学園中","スギヤマジョガクエンチュウ",394]
[395,"愛知淑徳中",235417,"愛知淑徳中","アイチシュクトクチュウ",395]
[396,"東海中",235420,"東海中","トウカイ",396]
[397,"名古屋中",235421,"名古屋中","ナゴヤチュウ",397]
[398,"南山中男子部",235422,"南山中男子部","ナンザンチュウ　ダンシブ",398]
[399,"名古屋女子大学中",235424,"名古屋女子大学中","ナゴヤジョシダイガクチュウ",399]
[400,"名経大高蔵中",235425,"名経大高蔵中","メイケイダイタカクラ",400]
[401,"聖霊中",235428,"聖霊中","セイレイチュウ",401]
[402,"長久手北中",235437,"長久手北中","ナガクテシリツキタチュウ",402]
[403,"吉根中",235440,"吉根中","キッコチュウ",403]
[404,"阿久比中",235991,"阿久比中","ｱｸﾞｲﾁｭｳ",{"$f":"A405","v":404}]
[405,"乙川中",235992,"乙川中","ｵｯｶﾜﾁｭｳ",405]
[406,"東浦中",235993,"東浦中","ﾋｶﾞｼｳﾗﾁｭｳ",406]
[407,"北山中",235994,"北山中","ｷﾀﾔﾏﾁｭｳ",407]
[408,"前津中",235995,"前津中","ﾏｴﾂﾞﾁｭｳ",408]

{"sheet":"Sheet1","index":11,"n_rows":90,"n_cols":1,"rows_kept":90,"cut":false,"hidden":false,"merged":[]}
[{"$f":"RANDBETWEEN(700000000,888888889)","v":870404304}]
[{"$f":"RANDBETWEEN(700000000,888888889)","v":873369110}]
[762777123]
[867014286]
[871840435]
[883482877]
[867977291]
[865984600]
[887505243]
[722308144]
[802317264]
[872216022]
[877221611]
[832487017]
[816337817]
[712247665]
[709939890]
[787801190]
[840494768]
[751400444]
[740965153]
[813624187]
[812232219]
[751843211]
[710726400]
[887118032]
[744421607]
[720389562]
[852219804]
[704020375]
[794796688]
[729985548]
[766823700]
[715169646]
[813056460]
[807431948]
[887723282]
[765776931]
[793842995]
[817194135]
[787626026]
[827846981]
[739629659]
[781708686]
[700366158]
[817219827]
[819380495]
[754939895]
[843511760]
[831637897]
[822430834]
[888769239]
[803577545]
[728167546]
[763476221]
[839021689]
[838151546]
[779464025]
[725864649]
[773783002]
[758431659]
[885937037]
[774458523]
[762343877]
[777040878]
[{"$f":"RANDBETWEEN(700000000,888888889)","v":814508293}]
[877522386]
[732775145]
[847905631]
[794353294]
[803751331]
[798967612]
[721938278]
[724029364]
[803813981]
[771138825]
[748073417]
[832235489]
[750259780]
[760409813]
[811638324]
[870966062]
[832541155]
[847026609]
[777194714]
[713515194]
[704805023]
[779499638]
[731487725]
[704183817]