{"text_format":"1","workbook":"xlsx","n_sheets":10,"sheets":["注意事項","①学校情報入力","②選手情報入力","③リレー情報確認","④種目別人数","⑤申込一覧表","　　　　　","種目情報","data_kyogisha","data_team"],"not_rendered":{"charts":0,"images":1,"macros":1,"external_links":2,"defined_names":8,"comments":2,"pivot_tables":0},"unopened":[],"bounds":{"document_bytes":16777216,"sheet_cells":100000,"rows_first":2000,"rows_last":500,"rows_between":2000,"halvings":0,"cell_chars":16384,"cell_head_chars":4096},"cells_cut":0,"cells_raw":0,"read":"whole","date_system":"1900"}

{"sheet":"注意事項","index":0,"n_rows":89,"n_cols":13,"rows_kept":89,"cut":false,"hidden":false,"merged":[[87,3,87,7],[0,0,0,13],[6,1,6,2],[6,3,6,7],[7,1,7,7],[4,2,4,7],[2,9,4,11],[8,1,8,2],[8,3,8,5],[2,2,2,7],[66,7,66,10],[3,2,3,4],[3,6,3,7]]}
["　★データ入力前にこのページの内容を必ずお読みください。"]
[]
[null,"大会名","第1回名古屋地区競技会",null,null,null,null,null,null,"高校用",null,null,"Ver.2"]
[null,"期　日","2017-04-01",null,null,"～","2017-04-02"]
[null,"会　場","パロマ瑞穂スタジアム・パロマ瑞穂北陸上競技場"]
[]
[null,"申込完了期限",null,"2017-03-13"]
[null,"※メール送信を完了してください！"]
[null,"振り込み郵送期限",null,"2017-03-15"]
["　＜注意事項等＞"]
[null,"このファイルは申込人数90名まで入力できます。男女合わせて90名を超える場合は、男女別で作成してください。"]
["２ ","大会要項（出場制限等）をよく読んで入力してください。"]
["３ ","ナンバー・氏名・種目等、入力間違いのないようにお願いします。"]
["４ ","コピーしたデータを貼り付ける場合は、「形式を選択して貼り付け」から「値」を選択して貼り付けてください。"]
["５ ","入力したデータを削除・修正する場合は、必ず「Delete」キーで処理してください。※行削除はしないでください！"]
["６ ","申込は、メール送信と書類提出の両方が必要になりますので、お忘れのないようにお願いします。"]
["７ ","このファイルの内容は、プログラム編成及び作成、記録処理、その他競技会運営の目的で使用します。"]
["８ ","このファイルには、印刷ボタンにマクロを使用しています。エクセルの設定をマクロ有効にしてください。"]
[]
["　★作業の流れは次のとおりです。"]
["　　①団体情報の入力"]
["↓"]
["↓","　・必要事項を入力してください。"]
["↓"]
["　　②選手情報の入力"]
["↓"]
["↓","　・参加選手のナンバー、氏名、性別、学年、申込種目、記録を入力してください。"]
["↓","　　※ナンバーは、アルファベットと数字を分けて入力してください。"]
["↓","　　※入力は、男子を先に入力し、続けて女子を入力してください。"]
["↓","　　※氏名については、姓と名の間に全角スペースを１つ入れてください。"]
["↓","　　※ﾌﾘｶﾞﾅについては、姓と名の間に半角スペースを１つ入れてください。"]
["↓","　　※記録は、次のとおり入力してください。"]
["↓",null,"◎トラック種目・・・・分秒をドット「．」で区切り、100分の1秒まで入力"]
["↓",null,"例１",null,"54秒23","⇒",54.23]
["↓",null,"例２",null,"4分07秒00","⇒","4.07.00"]
["↓",null,null,"　 ※記録が１分未満で、10分の1以下が「00」"]
["↓",null,null,"　　 のときは整数で表示されます。"]
["↓",null,null,"例","12秒00","⇒",12]
["↓",null,"◎フィールド種目・・・メートルを「m」で区切り、cm単位まで入力（「cm」の文字は入れない）"]
["↓",null,"例３",null,"20m","⇒","20m00"]
["↓",null,"★記録がない場合は空欄にしてください。"]
["↓","　　※リレーに出場する選手は、リレー種目の欄へ「○」を入力してください。"]
["↓"]
["　　③リレー情報の確認"]
["↓"]
["↓","　・リレーにエントリーをする選手のナンバーと、チームの記録を確認してください。"]
["↓","　　修正がある場合は、「②選手情報入力」で修正してください。"]
["↓"]
["　　④種目別人数の確認"]
["↓"]
["↓","　・種目ごとの申込人数と申込金額を確認してください。"]
["↓","　・プログラム購入部数を入力後、合計金額を確認してください。"]
["↓"]
["　　⑤申込一覧表の確認"]
["↓"]
["↓","　・入力漏れや入力間違い等がないかを確認してください。"]
["↓","　・30名ごとにＡ４用紙１枚で出力されます。"]
["　　⑥種目別人数表と申込一覧表の印刷"]
["↓","　・「④種目別人数表」にある、帳票印刷ボタンをクリックして印刷を行ってください。"]
["↓"]
["　　⑦ファイルの保存"]
["↓"]
["↓","　・ファイル名を学校名（例：○○○）に変更し保存してください。メールに添付するときは、ファイル名が団体名に"]
["↓","　　なっていることを確認してください。"]
["↓"]
["　　⑧メール送信"]
["↓",null,null,null,null,null,"E-mail：","no1nagoya@gmail.com"]
["↓","　・入力したファイルを送信してください。"]
["↓","　・メールの件名に「大会名」と「団体名」を入力してください。"]
["↓","　・正しく送信されれば、受信した旨の返信が届きます。"]
["　　⑨参加料の振込"]
["↓"]
["↓","　・参加料を振り込み、明細書のコピーを「種目別人数一覧」の裏面に添付してください。"]
["↓"]
["　　⑨郵送"]
["↓","　・「④種目別一覧表」「⑤申込一覧表」を郵送してください。"]
["↓","　・「種目別人数一覧」の裏面には振込明細書のコピーを添付してください。"]
["↓"]
["↓",null,"送付先"]
["↓",null,"〒463-8799　守山郵便局　私書箱１４号　名古屋地区陸上競技協会"]
["↓"]
["↓"]
["↓"]
["　　⑩申込完了"]
[]
[null,"　★問い合わせ先"]
[]
[null,null,"mail：","toiawase.nagoya@gmail.com"]
[null,null,"勝見　昌弘　宛"]

{"sheet":"①学校情報入力","index":1,"n_rows":10,"n_cols":7,"rows_kept":10,"cut":false,"hidden":false,"merged":[[8,1,8,2],[9,1,9,8],[10,1,10,4],[10,5,10,8],[11,1,11,4],[11,5,11,8],[8,5,8,11],[7,3,7,5],[2,3,2,5],[4,1,4,2],[3,3,3,5],[5,3,5,5],[6,3,6,5],[5,1,5,2],[6,1,6,2],[7,1,7,2],[2,1,2,2],[3,1,3,2],[4,3,4,5]]}
["①団体情報入力"]
[]
[null,"団体コード",null,null,null,null,"←入力不要です"]
[null,"団体名",null,null,null,null,"←入力"]
[null,"略称団体名",null,null,null,null,"←入力(全角６文字以内です。大学は\"学\"を入れて６文字以内です。)"]
[null,"略称ヨミガナ",null,null,null,null,"←入力 半角カタカナで入力してください。"]
[null,"申込責任者",null,null,null,null,"←入力"]
[null,"連絡先電話番号",null,null,null,null,"←入力(ハイフンを入れる)　※緊急時に連絡がとれる番号"]
[null,"プログラム購入部数",null,null,"部","←参加者増による印刷製本コスト増加で、予約は１部８００円とさせていただきます。"]
[null,"役員のできる方のお名前を入力してください"]

{"sheet":"②選手情報入力","index":2,"n_rows":104,"n_cols":42,"rows_kept":104,"cut":false,"hidden":false,"merged":[[2,13,2,15]]}
["②選手情報入力"]
[]
[null,null,"※必要事項を全て入力してください。",null,null,null,null,null,null,null,null,null,null,"リレー記録"]
[null,null,"※リレー種目にエントリーをする場合は○を選択し、「③リレー情報確認」でメンバーを確認してください。",null,null,null,null,null,null,null,null,null,null,null,"4X100mR","4X400mR"]
[null,null,"※コピーしたデータを貼り付ける場合は、「形式を選択して貼り付け」から「値」で貼り付けてください。",null,null,null,null,null,null,null,null,null,null,"男子"]
[null,null,"※データを修正する場合は、必ず「Delete」キーを使用してください。",null,null,null,null,null,null,null,null,null,null,"女子"]
[]
[null,"ﾅﾝﾊﾞｰ1","ﾅﾝﾊﾞｰ2","氏　名\n姓と名の間に\n全角ｽﾍﾟｰｽ1つ","ﾌﾘｶﾞﾅ\n姓と名の間に\n半角ｽﾍﾟｰｽ1つ",null,"性別","学年","種目１","記録１","種目２","記録２","種目３","記録３","4X100mR","4X400mR"]
["例","A",1001,"西三　太郎","ｾｲｻﾝ ﾀﾛｳ",null,"男",2,"男100m",12.53,"男砲丸投","12m00","男1500m","4.07.00","○","○",null,null,null,null,null,null,"ﾅﾝﾊﾞｰ","氏　名","ﾌﾘｶﾞﾅ","性別","学年","競技者NO","ﾅﾝﾊﾞｰ","氏　名","ﾌﾘｶﾞﾅ","性別","学年","競技者NO","男400R",{"$f":"COUNT(AJ10:AJ99)","v":0},"男1600R",{"$f":"COUNT(AL10:AL99)","v":0},"女400R",{"$f":"COUNT(AN10:AN99)","v":0},"女1600R",{"$f":"COUNT(AP10:AP99)","v":0}]
[1,null,null,null,null,null,null,null,null,null,null,null,null,null,null,null,null,null,null,null,null,null,{"$f":"IF(G10=\"男\",C10,\"\")","v":""},{"$f":"IF(G10=\"男\",D10,\"\")","v":""},{"$f":"IF(G10=\"男\",E10,\"\")","v":""},{"$f":"IF(G10=\"男\",G10,\"\")","v":""},{"$f":"IF(G10=\"男\",IF(H10=\"\",\"\",H10),\"\")","v":""},{"$f":"IF(G10=\"男\",data_kyogisha!A2,\"\")","v":""},{"$f":"IF(G10=\"女\",C10,\"\")","v":""},{"$f":"IF(G10=\"女\",D10,\"\")","v":""},{"$f":"IF(G10=\"女\",E10,\"\")","v":""},{"$f":"IF(G10=\"女\",G10,\"\")","v":""},{"$f":"IF(G10=\"女\",IF(H10=\"\",\"\",H10),\"\")","v":""},{"$f":"IF(G10=\"女\",data_kyogisha!A2,\"\")","v":""},{"$f":"IF(AND(G10=\"男\",O10=\"○\"),1,0)","v":0},{"$f":"IF(AND(G10=\"男\",O10=\"○\"),C10,\"\")","v":""},{"$f":"IF(AND(G10=\"男\",P10=\"○\"),1,0)","v":0},{"$f":"IF(AND(G10=\"男\",P10=\"○\"),C10,\"\")","v":""},{"$f":"IF(AND(G10=\"女\",O10=\"○\"),1,0)","v":0},{"$f":"IF(AND(G10=\"女\",O10=\"○\"),C10,\"\")","v":""},{"$f":"IF(AND(G10=\"女\",P10=\"○\"),1,0)","v":0},{"$f":"IF(AND(G10=\"女\",P10=\"○\"),C10,\"\")","v":""}]
[2,null,null,null,null,null,null,null,null,null,null,null,null,null,null,null,null,null,"男",{"$f":"IF(種目情報!A4=\"\",\"\",種目情報!A4)","v":"男100m"},{"$f":"IF(種目情報!E4=\"\",\"\",種目情報!E4)","v":"女100m"},"○","","","","","",{"$f":"IF(G11=\"男\",data_kyogisha!A3,\"\")","v":""},"","","","","",{"$f":"IF(G11=\"女\",data_kyogisha!A3,\"\")","v":""},{"$f":"IF(AND(G11=\"男\",O11=\"○\"),AI10+1,AI10)","v":0},{"$f":"IF(AND(G11=\"男\",O11=\"○\"),C11,\"\")","v":""},{"$f":"IF(AND(G11=\"男\",P11=\"○\"),AK10+1,AK10)","v":0},{"$f":"IF(AND(G11=\"男\",P11=\"○\"),C11,\"\")","v":""},{"$f":"IF(AND(G11=\"女\",O11=\"○\"),AM10+1,AM10)","v":0},{"$f":"IF(AND(G11=\"女\",O11=\"○\"),C11,\"\")","v":""},{"$f":"IF(AND(G11=\"女\",P11=\"○\"),AO10+1,AO10)","v":0},{"$f":"IF(AND(G11=\"女\",P11=\"○\"),C11,\"\")","v":""}]
[3,null,null,null,null,null,null,null,null,null,null,null,null,null,null,null,null,null,"女",{"$f":"IF(種目情報!A5=\"\",\"\",種目情報!A5)","v":"男200m"},{"$f":"IF(種目情報!E5=\"\",\"\",種目情報!E5)","v":"女200m"},null,"","","","","",{"$f":"IF(G12=\"男\",data_kyogisha!A4,\"\")","v":""},"","","","","",{"$f":"IF(G12=\"女\",data_kyogisha!A4,\"\")","v":""},{"$f":"IF(AND(G12=\"男\",O12=\"○\"),AI11+1,AI11)","v":0},"",{"$f":"IF(AND(G12=\"男\",P12=\"○\"),AK11+1,AK11)","v":0},{"$f":"IF(AND(G12=\"男\",P12=\"○\"),C12,\"\")","v":""},{"$f":"IF(AND(G12=\"女\",O12=\"○\"),AM11+1,AM11)","v":0},{"$f":"IF(AND(G12=\"女\",O12=\"○\"),C12,\"\")","v":""},{"$f":"IF(AND(G12=\"女\",P12=\"○\"),AO11+1,AO11)","v":0},{"$f":"IF(AND(G12=\"女\",P12=\"○\"),C12,\"\")","v":""}]
[4,null,null,null,null,null,null,null,null,null,null,null,null,null,null,null,null,null,null,{"$f":"IF(種目情報!A6=\"\",\"\",種目情報!A6)","v":"男400m"},{"$f":"IF(種目情報!E6=\"\",\"\",種目情報!E6)","v":"女400m"},null,"","","","","",{"$f":"IF(G13=\"男\",data_kyogisha!A5,\"\")","v":""},"","","","","",{"$f":"IF(G13=\"女\",data_kyogisha!A5,\"\")","v":""},0,"",0,"",0,"",0,""]
[5,null,null,null,null,null,null,null,null,null,null,null,null,null,null,null,null,null,null,{"$f":"IF(種目情報!A7=\"\",\"\",種目情報!A7)","v":"男800m"},{"$f":"IF(種目情報!E7=\"\",\"\",種目情報!E7)","v":"女800m"},null,"","","","","",{"$f":"IF(G14=\"男\",data_kyogisha!A6,\"\")","v":""},"","","","","",{"$f":"IF(G14=\"女\",data_kyogisha!A6,\"\")","v":""},0,"",0,"",0,"",0,""]
[6,null,null,null,null,null,null,null,null,null,null,null,null,null,null,null,null,null,null,{"$f":"IF(種目情報!A8=\"\",\"\",種目情報!A8)","v":"男1500m"},{"$f":"IF(種目情報!E8=\"\",\"\",種目情報!E8)","v":"女1500m"},null,"","","","","",{"$f":"IF(G15=\"男\",data_kyogisha!A7,\"\")","v":""},"","","","","",{"$f":"IF(G15=\"女\",data_kyogisha!A7,\"\")","v":""},0,"",0,"",0,"",0,""]
[7,null,null,null,null,null,null,null,null,null,null,null,null,null,null,null,null,null,null,{"$f":"IF(種目情報!A9=\"\",\"\",種目情報!A9)","v":"男5000m"},{"$f":"IF(種目情報!E9=\"\",\"\",種目情報!E9)","v":"女3000m"},null,"","","","","",{"$f":"IF(G16=\"男\",data_kyogisha!A8,\"\")","v":""},"","","","","",{"$f":"IF(G16=\"女\",data_kyogisha!A8,\"\")","v":""},0,"",0,"",0,"",0,""]
[8,null,null,null,null,null,null,null,null,null,null,null,null,null,null,null,null,null,null,{"$f":"IF(種目情報!A10=\"\",\"\",種目情報!A10)","v":"男110mH"},{"$f":"IF(種目情報!E10=\"\",\"\",種目情報!E10)","v":"女100mH"},null,"","","","","",{"$f":"IF(G17=\"男\",data_kyogisha!A9,\"\")","v":""},"","","","","",{"$f":"IF(G17=\"女\",data_kyogisha!A9,\"\")","v":""},0,"",0,"",0,"",0,""]
[9,null,null,null,null,null,null,null,null,null,null,null,null,null,null,null,null,null,null,{"$f":"IF(種目情報!A11=\"\",\"\",種目情報!A11)","v":"男110mJH"},{"$f":"IF(種目情報!E11=\"\",\"\",種目情報!E11)","v":"女100mYH"},null,"","","","","",{"$f":"IF(G18=\"男\",data_kyogisha!A10,\"\")","v":""},"","","","","",{"$f":"IF(G18=\"女\",data_kyogisha!A10,\"\")","v":""},0,"",0,"",0,"",0,""]
[10,null,null,null,null,null,null,null,null,null,null,null,null,null,null,null,null,null,null,{"$f":"IF(種目情報!A12=\"\",\"\",種目情報!A12)","v":"男400mH"},{"$f":"IF(種目情報!E12=\"\",\"\",種目情報!E12)","v":"女400mH"},null,"","","","","",{"$f":"IF(G19=\"男\",data_kyogisha!A11,\"\")","v":""},"","","","","",{"$f":"IF(G19=\"女\",data_kyogisha!A11,\"\")","v":""},0,"",0,"",0,"",0,""]
[11,null,null,null,null,null,null,null,null,null,null,null,null,null,null,null,null,null,null,{"$f":"IF(種目情報!A13=\"\",\"\",種目情報!A13)","v":"男3000mSC"},{"$f":"IF(種目情報!E13=\"\",\"\",種目情報!E13)","v":"女50000mW"},null,"","","","","",{"$f":"IF(G20=\"男\",data_kyogisha!A12,\"\")","v":""},"","","","","",{"$f":"IF(G20=\"女\",data_kyogisha!A12,\"\")","v":""},0,"",0,"",{"$f":"IF(AND(G20=\"女\",O20=\"○\"),AM19+1,AM19)","v":0},{"$f":"IF(AND(G20=\"女\",O20=\"○\"),C20,\"\")","v":""},0,""]
[12,null,null,null,null,null,null,null,null,null,null,null,null,null,null,null,null,null,null,{"$f":"IF(種目情報!A14=\"\",\"\",種目情報!A14)","v":"男5000mW"},{"$f":"IF(種目情報!E14=\"\",\"\",種目情報!E14)","v":"女走高跳"},null,"","","","","",{"$f":"IF(G21=\"男\",data_kyogisha!A13,\"\")","v":""},"","","","","",{"$f":"IF(G21=\"女\",data_kyogisha!A13,\"\")","v":""},0,"",0,"",0,"",0,""]
[13,null,null,null,null,null,null,null,null,null,null,null,null,null,null,null,null,null,null,{"$f":"IF(種目情報!A15=\"\",\"\",種目情報!A15)","v":"男走高跳"},{"$f":"IF(種目情報!E15=\"\",\"\",種目情報!E15)","v":"女棒高跳"},null,"","","","","",{"$f":"IF(G22=\"男\",data_kyogisha!A14,\"\")","v":""},"","","","","",{"$f":"IF(G22=\"女\",data_kyogisha!A14,\"\")","v":""},0,"",0,"",0,"",0,""]
[14,null,null,null,null,null,null,null,null,null,null,null,null,null,null,null,null,null,null,{"$f":"IF(種目情報!A16=\"\",\"\",種目情報!A16)","v":"男棒高跳"},{"$f":"IF(種目情報!E16=\"\",\"\",種目情報!E16)","v":"女走幅跳"},null,"","","","","",{"$f":"IF(G23=\"男\",data_kyogisha!A15,\"\")","v":""},"","","","","",{"$f":"IF(G23=\"女\",data_kyogisha!A15,\"\")","v":""},0,"",0,"",0,"",0,""]
[15,null,null,null,null,null,null,null,null,null,null,null,null,null,null,null,null,null,null,{"$f":"IF(種目情報!A17=\"\",\"\",種目情報!A17)","v":"男走幅跳"},{"$f":"IF(種目情報!E17=\"\",\"\",種目情報!E17)","v":"女三段跳"},null,"","","","","",{"$f":"IF(G24=\"男\",data_kyogisha!A16,\"\")","v":""},"","","","","",{"$f":"IF(G24=\"女\",data_kyogisha!A16,\"\")","v":""},0,"",0,"",0,"",0,""]
[16,null,null,null,null,null,null,null,null,null,null,null,null,null,null,null,null,null,null,{"$f":"IF(種目情報!A18=\"\",\"\",種目情報!A18)","v":"男三段跳"},{"$f":"IF(種目情報!E18=\"\",\"\",種目情報!E18)","v":"女砲丸投"},null,"","","","","",{"$f":"IF(G25=\"男\",data_kyogisha!A17,\"\")","v":""},"","","","","",{"$f":"IF(G25=\"女\",data_kyogisha!A17,\"\")","v":""},0,"",0,"",0,"",0,""]
[17,null,null,null,null,null,null,null,null,null,null,null,null,null,null,null,null,null,null,{"$f":"IF(種目情報!A19=\"\",\"\",種目情報!A19)","v":"男高校砲丸投"},{"$f":"IF(種目情報!E19=\"\",\"\",種目情報!E19)","v":"女円盤投"},null,"","","","","",{"$f":"IF(G26=\"男\",data_kyogisha!A18,\"\")","v":""},"","","","","",{"$f":"IF(G26=\"女\",data_kyogisha!A18,\"\")","v":""},0,"",0,"",0,"",0,""]
[18,null,null,null,null,null,null,null,null,null,null,null,null,null,null,null,null,null,null,{"$f":"IF(種目情報!A20=\"\",\"\",種目情報!A20)","v":"男高校円盤投"},{"$f":"IF(種目情報!E20=\"\",\"\",種目情報!E20)","v":"女ﾊﾝﾏｰ投"},null,"","","","","",{"$f":"IF(G27=\"男\",data_kyogisha!A19,\"\")","v":""},"","","","","",{"$f":"IF(G27=\"女\",data_kyogisha!A19,\"\")","v":""},0,"",0,"",0,"",0,""]
[19,null,null,null,null,null,null,null,null,null,null,null,null,null,null,null,null,null,null,{"$f":"IF(種目情報!A21=\"\",\"\",種目情報!A21)","v":"男高校ﾊﾝﾏｰ投"},{"$f":"IF(種目情報!E21=\"\",\"\",種目情報!E21)","v":"女やり投"},null,"","","","","",{"$f":"IF(G28=\"男\",data_kyogisha!A20,\"\")","v":""},"","","","","",{"$f":"IF(G28=\"女\",data_kyogisha!A20,\"\")","v":""},0,"",0,"",0,"",0,""]
[20,null,null,null,null,null,null,null,null,null,null,null,null,null,null,null,null,null,null,{"$f":"IF(種目情報!A22=\"\",\"\",種目情報!A22)","v":"男やり投"},null,null,"","","","","",{"$f":"IF(G29=\"男\",data_kyogisha!A21,\"\")","v":""},"","","","","",{"$f":"IF(G29=\"女\",data_kyogisha!A21,\"\")","v":""},0,"",0,"",0,"",0,""]
[21,null,null,null,null,null,null,null,null,null,null,null,null,null,null,null,null,null,null,{"$f":"IF(種目情報!A23=\"\",\"\",種目情報!A23)","v":""},null,null,"","","","","",{"$f":"IF(G30=\"男\",data_kyogisha!A22,\"\")","v":""},"","","","","",{"$f":"IF(G30=\"女\",data_kyogisha!A22,\"\")","v":""},0,"",0,"",0,"",0,""]
[22,null,null,null,null,null,null,null,null,null,null,null,null,null,null,null,null,null,null,{"$f":"IF(種目情報!A24=\"\",\"\",種目情報!A24)","v":""},null,null,"","","","","",{"$f":"IF(G31=\"男\",data_kyogisha!A23,\"\")","v":""},"","","","","",{"$f":"IF(G31=\"女\",data_kyogisha!A23,\"\")","v":""},0,"",0,"",0,"",0,""]
[23,null,null,null,null,null,null,null,null,null,null,null,null,null,null,null,null,null,null,{"$f":"IF(種目情報!A25=\"\",\"\",種目情報!A25)","v":""},null,null,"","","","","",{"$f":"IF(G32=\"男\",data_kyogisha!A24,\"\")","v":""},"","","","","",{"$f":"IF(G32=\"女\",data_kyogisha!A24,\"\")","v":""},0,"",0,"",0,"",0,""]
[24,null,null,null,null,null,null,null,null,null,null,null,null,null,null,null,null,null,null,{"$f":"IF(種目情報!A26=\"\",\"\",種目情報!A26)","v":""},null,null,"","","","","",{"$f":"IF(G33=\"男\",data_kyogisha!A25,\"\")","v":""},"","","","","",{"$f":"IF(G33=\"女\",data_kyogisha!A25,\"\")","v":""},0,"",0,"",0,"",0,""]
[25,null,null,null,null,null,null,null,null,null,null,null,null,null,null,null,null,null,null,{"$f":"IF(種目情報!A27=\"\",\"\",種目情報!A27)","v":""},null,null,"","","","","",{"$f":"IF(G34=\"男\",data_kyogisha!A26,\"\")","v":""},"","","","","",{"$f":"IF(G34=\"女\",data_kyogisha!A26,\"\")","v":""},0,"",0,"",0,"",0,""]
[26,null,null,null,null,null,null,null,null,null,null,null,null,null,null,null,null,null,null,{"$f":"IF(種目情報!A28=\"\",\"\",種目情報!A28)","v":""},{"$f":"IF(種目情報!E26=\"\",\"\",種目情報!E26)","v":""},null,"","","","","",{"$f":"IF(G35=\"男\",data_kyogisha!A27,\"\")","v":""},"","","","","",{"$f":"IF(G35=\"女\",data_kyogisha!A27,\"\")","v":""},0,"",0,"",0,"",0,""]
[27,null,null,null,null,null,null,null,null,null,null,null,null,null,null,null,null,null,null,{"$f":"IF(種目情報!A29=\"\",\"\",種目情報!A29)","v":""},{"$f":"IF(種目情報!E27=\"\",\"\",種目情報!E27)","v":""},null,"","","","","",{"$f":"IF(G36=\"男\",data_kyogisha!A28,\"\")","v":""},"","","","","",{"$f":"IF(G36=\"女\",data_kyogisha!A28,\"\")","v":""},0,"",0,"",0,"",0,""]
[28,null,null,null,null,null,null,null,null,null,null,null,null,null,null,null,null,null,null,null,null,null,"","","","","",{"$f":"IF(G37=\"男\",data_kyogisha!A29,\"\")","v":""},"","","","","",{"$f":"IF(G37=\"女\",data_kyogisha!A29,\"\")","v":""},0,"",0,"",0,"",0,""]
[29,null,null,null,null,null,null,null,null,null,null,null,null,null,null,null,null,null,null,null,null,null,"","","","","",{"$f":"IF(G38=\"男\",data_kyogisha!A30,\"\")","v":""},"","","","","",{"$f":"IF(G38=\"女\",data_kyogisha!A30,\"\")","v":""},0,"",0,"",0,"",0,""]
[30,null,null,null,null,null,null,null,null,null,null,null,null,null,null,null,null,null,null,null,null,null,"","","","","",{"$f":"IF(G39=\"男\",data_kyogisha!A31,\"\")","v":""},"","","","","",{"$f":"IF(G39=\"女\",data_kyogisha!A31,\"\")","v":""},0,"",0,"",0,"",0,""]
[31,null,null,null,null,null,null,null,null,null,null,null,null,null,null,null,null,null,null,null,null,null,"","","","","",{"$f":"IF(G40=\"男\",data_kyogisha!A32,\"\")","v":""},"","","","","",{"$f":"IF(G40=\"女\",data_kyogisha!A32,\"\")","v":""},0,"",0,"",0,"",0,""]
[32,null,null,null,null,null,null,null,null,null,null,null,null,null,null,null,null,null,null,null,null,null,"","","","","",{"$f":"IF(G41=\"男\",data_kyogisha!A33,\"\")","v":""},"","","","","",{"$f":"IF(G41=\"女\",data_kyogisha!A33,\"\")","v":""},0,"",0,"",0,"",0,""]
[33,null,null,null,null,null,null,null,null,null,null,null,null,null,null,null,null,null,null,null,null,null,{"$f":"IF(G42=\"男\",C42,\"\")","v":""},{"$f":"IF(G42=\"男\",D42,\"\")","v":""},{"$f":"IF(G42=\"男\",E42,\"\")","v":""},{"$f":"IF(G42=\"男\",G42,\"\")","v":""},{"$f":"IF(G42=\"男\",IF(H42=\"\",\"\",H42),\"\")","v":""},{"$f":"IF(G42=\"男\",data_kyogisha!A34,\"\")","v":""},{"$f":"IF(G42=\"女\",C42,\"\")","v":""},{"$f":"IF(G42=\"女\",D42,\"\")","v":""},{"$f":"IF(G42=\"女\",E42,\"\")","v":""},{"$f":"IF(G42=\"女\",G42,\"\")","v":""},{"$f":"IF(G42=\"女\",IF(H42=\"\",\"\",H42),\"\")","v":""},{"$f":"IF(G42=\"女\",data_kyogisha!A34,\"\")","v":""},0,"",0,"",0,"",0,""]
[34,null,null,null,null,null,null,null,null,null,null,null,null,null,null,null,null,null,null,null,null,null,"","","","","",{"$f":"IF(G43=\"男\",data_kyogisha!A35,\"\")","v":""},"","","","","",{"$f":"IF(G43=\"女\",data_kyogisha!A35,\"\")","v":""},0,"",0,"",0,"",0,""]
[35,null,null,null,null,null,null,null,null,null,null,null,null,null,null,null,null,null,null,null,null,null,"","","","","",{"$f":"IF(G44=\"男\",data_kyogisha!A36,\"\")","v":""},"","","","","",{"$f":"IF(G44=\"女\",data_kyogisha!A36,\"\")","v":""},0,"",0,"",0,"",0,""]
[36,null,null,null,null,null,null,null,null,null,null,null,null,null,null,null,null,null,null,null,null,null,"","","","","",{"$f":"IF(G45=\"男\",data_kyogisha!A37,\"\")","v":""},"","","","","",{"$f":"IF(G45=\"女\",data_kyogisha!A37,\"\")","v":""},0,"",0,"",0,"",0,""]
[37,null,null,null,null,null,null,null,null,null,null,null,null,null,null,null,null,null,null,null,null,null,"","","","","",{"$f":"IF(G46=\"男\",data_kyogisha!A38,\"\")","v":""},"","","","","",{"$f":"IF(G46=\"女\",data_kyogisha!A38,\"\")","v":""},0,"",0,"",0,"",0,""]
[38,null,null,null,null,null,null,null,null,null,null,null,null,null,null,null,null,null,null,null,null,null,"","","","","",{"$f":"IF(G47=\"男\",data_kyogisha!A39,\"\")","v":""},"","","","","",{"$f":"IF(G47=\"女\",data_kyogisha!A39,\"\")","v":""},0,"",0,"",0,"",0,""]
[39,null,null,null,null,null,null,null,null,null,null,null,null,null,null,null,null,null,null,null,null,null,"","","","","",{"$f":"IF(G48=\"男\",data_kyogisha!A40,\"\")","v":""},"","","","","",{"$f":"IF(G48=\"女\",data_kyogisha!A40,\"\")","v":""},0,"",0,"",0,"",0,""]
[40,null,null,null,null,null,null,null,null,null,null,null,null,null,null,null,null,null,null,null,null,null,"","","","","",{"$f":"IF(G49=\"男\",data_kyogisha!A41,\"\")","v":""},"","","","","",{"$f":"IF(G49=\"女\",data_kyogisha!A41,\"\")","v":""},0,"",0,"",0,"",0,""]
[41,null,null,null,null,null,null,null,null,null,null,null,null,null,null,null,null,null,null,null,null,null,"","","","","",{"$f":"IF(G50=\"男\",data_kyogisha!A42,\"\")","v":""},"","","","","",{"$f":"IF(G50=\"女\",data_kyogisha!A42,\"\")","v":""},0,"",0,"",0,"",0,""]
[42,null,null,null,null,null,null,null,null,null,null,null,null,null,null,null,null,null,null,null,null,null,"","","","","",{"$f":"IF(G51=\"男\",data_kyogisha!A43,\"\")","v":""},"","","","","",{"$f":"IF(G51=\"女\",data_kyogisha!A43,\"\")","v":""},0,"",0,"",0,"",0,""]
[43,null,null,null,null,null,null,null,null,null,null,null,null,null,null,null,null,null,null,null,null,null,"","","","","",{"$f":"IF(G52=\"男\",data_kyogisha!A44,\"\")","v":""},"","","","","",{"$f":"IF(G52=\"女\",data_kyogisha!A44,\"\")","v":""},0,"",0,"",0,"",0,""]
[44,null,null,null,null,null,null,null,null,null,null,null,null,null,null,null,null,null,null,null,null,null,"","","","","",{"$f":"IF(G53=\"男\",data_kyogisha!A45,\"\")","v":""},"","","","","",{"$f":"IF(G53=\"女\",data_kyogisha!A45,\"\")","v":""},0,"",0,"",0,"",0,""]
[45,null,null,null,null,null,null,null,null,null,null,null,null,null,null,null,null,null,null,null,null,null,"","","","","",{"$f":"IF(G54=\"男\",data_kyogisha!A46,\"\")","v":""},"","","","","",{"$f":"IF(G54=\"女\",data_kyogisha!A46,\"\")","v":""},0,"",0,"",0,"",0,""]
[46,null,null,null,null,null,null,null,null,null,null,null,null,null,null,null,null,null,null,null,null,null,"","","","","",{"$f":"IF(G55=\"男\",data_kyogisha!A47,\"\")","v":""},"","","","","",{"$f":"IF(G55=\"女\",data_kyogisha!A47,\"\")","v":""},0,"",0,"",0,"",0,""]
[47,null,null,null,null,null,null,null,null,null,null,null,null,null,null,null,null,null,null,null,null,null,"","","","","",{"$f":"IF(G56=\"男\",data_kyogisha!A48,\"\")","v":""},"","","","","",{"$f":"IF(G56=\"女\",data_kyogisha!A48,\"\")","v":""},0,"",0,"",0,"",0,""]
[48,null,null,null,null,null,null,null,null,null,null,null,null,null,null,null,null,null,null,null,null,null,"","","","","",{"$f":"IF(G57=\"男\",data_kyogisha!A49,\"\")","v":""},"","","","","",{"$f":"IF(G57=\"女\",data_kyogisha!A49,\"\")","v":""},0,"",0,"",0,"",0,""]
[49,null,null,null,null,null,null,null,null,null,null,null,null,null,null,null,null,null,null,null,null,null,"","","","","",{"$f":"IF(G58=\"男\",data_kyogisha!A50,\"\")","v":""},"","","","","",{"$f":"IF(G58=\"女\",data_kyogisha!A50,\"\")","v":""},0,"",0,"",0,"",0,""]
[50,null,null,null,null,null,null,null,null,null,null,null,null,null,null,null,null,null,null,null,null,null,"","","","","",{"$f":"IF(G59=\"男\",data_kyogisha!A51,\"\")","v":""},"","","","","",{"$f":"IF(G59=\"女\",data_kyogisha!A51,\"\")","v":""},0,"",0,"",0,"",0,""]
[51,null,null,null,null,null,null,null,null,null,null,null,null,null,null,null,null,null,null,null,null,null,"","","","","",{"$f":"IF(G60=\"男\",data_kyogisha!A52,\"\")","v":""},"","","","","",{"$f":"IF(G60=\"女\",data_kyogisha!A52,\"\")","v":""},0,"",0,"",0,"",0,""]
[52,null,null,null,null,null,null,null,null,null,null,null,null,null,null,null,null,null,null,null,null,null,"","","","","",{"$f":"IF(G61=\"男\",data_kyogisha!A53,\"\")","v":""},"","","","","",{"$f":"IF(G61=\"女\",data_kyogisha!A53,\"\")","v":""},0,"",0,"",0,"",0,""]
[53,null,null,null,null,null,null,null,null,null,null,null,null,null,null,null,null,null,null,null,null,null,"","","","","",{"$f":"IF(G62=\"男\",data_kyogisha!A54,\"\")","v":""},"","","","","",{"$f":"IF(G62=\"女\",data_kyogisha!A54,\"\")","v":""},0,"",0,"",0,"",0,""]
[54,null,null,null,null,null,null,null,null,null,null,null,null,null,null,null,null,null,null,null,null,null,"","","","","",{"$f":"IF(G63=\"男\",data_kyogisha!A55,\"\")","v":""},"","","","","",{"$f":"IF(G63=\"女\",data_kyogisha!A55,\"\")","v":""},0,"",0,"",0,"",0,""]
[55,null,null,null,null,null,null,null,null,null,null,null,null,null,null,null,null,null,null,null,null,null,"","","","","",{"$f":"IF(G64=\"男\",data_kyogisha!A56,\"\")","v":""},"","","","","",{"$f":"IF(G64=\"女\",data_kyogisha!A56,\"\")","v":""},0,"",0,"",0,"",0,""]
[56,null,null,null,null,null,null,null,null,null,null,null,null,null,null,null,null,null,null,null,null,null,"","","","","",{"$f":"IF(G65=\"男\",data_kyogisha!A57,\"\")","v":""},"","","","","",{"$f":"IF(G65=\"女\",data_kyogisha!A57,\"\")","v":""},0,"",0,"",0,"",0,""]
[57,null,null,null,null,null,null,null,null,null,null,null,null,null,null,null,null,null,null,null,null,null,"","","","","",{"$f":"IF(G66=\"男\",data_kyogisha!A58,\"\")","v":""},"","","","","",{"$f":"IF(G66=\"女\",data_kyogisha!A58,\"\")","v":""},0,"",0,"",0,"",0,""]
[58,null,null,null,null,null,null,null,null,null,null,null,null,null,null,null,null,null,null,null,null,null,"","","","","",{"$f":"IF(G67=\"男\",data_kyogisha!A59,\"\")","v":""},"","","","","",{"$f":"IF(G67=\"女\",data_kyogisha!A59,\"\")","v":""},0,"",0,"",0,"",0,""]
[59,null,null,null,null,null,null,null,null,null,null,null,null,null,null,null,null,null,null,null,null,null,"","","","","",{"$f":"IF(G68=\"男\",data_kyogisha!A60,\"\")","v":""},"","","","","",{"$f":"IF(G68=\"女\",data_kyogisha!A60,\"\")","v":""},0,"",0,"",0,"",0,""]
[60,null,null,null,null,null,null,null,null,null,null,null,null,null,null,null,null,null,null,null,null,null,"","","","","",{"$f":"IF(G69=\"男\",data_kyogisha!A61,\"\")","v":""},"","","","","",{"$f":"IF(G69=\"女\",data_kyogisha!A61,\"\")","v":""},0,"",0,"",0,"",0,""]
[61,null,null,null,null,null,null,null,null,null,null,null,null,null,null,null,null,null,null,null,null,null,"","","","","",{"$f":"IF(G70=\"男\",data_kyogisha!A62,\"\")","v":""},"","","","","",{"$f":"IF(G70=\"女\",data_kyogisha!A62,\"\")","v":""},0,"",0,"",0,"",0,""]
[62,null,null,null,null,null,null,null,null,null,null,null,null,null,null,null,null,null,null,null,null,null,"","","","","",{"$f":"IF(G71=\"男\",data_kyogisha!A63,\"\")","v":""},"","","","","",{"$f":"IF(G71=\"女\",data_kyogisha!A63,\"\")","v":""},0,"",0,"",0,"",0,""]
[63,null,null,null,null,null,null,null,null,null,null,null,null,null,null,null,null,null,null,null,null,null,"","","","","",{"$f":"IF(G72=\"男\",data_kyogisha!A64,\"\")","v":""},"","","","","",{"$f":"IF(G72=\"女\",data_kyogisha!A64,\"\")","v":""},0,"",0,"",0,"",0,""]
[64,null,null,null,null,null,null,null,null,null,null,null,null,null,null,null,null,null,null,null,null,null,"","","","","",{"$f":"IF(G73=\"男\",data_kyogisha!A65,\"\")","v":""},"","","","","",{"$f":"IF(G73=\"女\",data_kyogisha!A65,\"\")","v":""},0,"",0,"",0,"",0,""]
[65,null,null,null,null,null,null,null,null,null,null,null,null,null,null,null,null,null,null,null,null,null,"","","","","",{"$f":"IF(G74=\"男\",data_kyogisha!A66,\"\")","v":""},{"$f":"IF(G74=\"女\",C74,\"\")","v":""},{"$f":"IF(G74=\"女\",D74,\"\")","v":""},"",{"$f":"IF(G74=\"女\",G74,\"\")","v":""},"",{"$f":"IF(G74=\"女\",data_kyogisha!A66,\"\")","v":""},0,{"$f":"IF(AND(G74=\"男\",O74=\"○\"),C74,\"\")","v":""},0,"",0,"",0,""]
[66,null,null,null,null,null,null,null,null,null,null,null,null,null,null,null,null,null,null,null,null,null,{"$f":"IF(G75=\"男\",C75,\"\")","v":""},{"$f":"IF(G75=\"男\",D75,\"\")","v":""},{"$f":"IF(G75=\"男\",E75,\"\")","v":""},{"$f":"IF(G75=\"男\",G75,\"\")","v":""},{"$f":"IF(G75=\"男\",IF(H75=\"\",\"\",H75),\"\")","v":""},{"$f":"IF(G75=\"男\",data_kyogisha!A67,\"\")","v":""},"","",{"$f":"IF(G75=\"女\",E75,\"\")","v":""},"",{"$f":"IF(G75=\"女\",IF(H75=\"\",\"\",H75),\"\")","v":""},{"$f":"IF(G75=\"女\",data_kyogisha!A67,\"\")","v":""},{"$f":"IF(AND(G75=\"男\",O75=\"○\"),AI74+1,AI74)","v":0},"",0,{"$f":"IF(AND(G75=\"男\",P75=\"○\"),C75,\"\")","v":""},0,"",0,""]
[67,null,null,null,null,null,null,null,null,null,null,null,null,null,null,null,null,null,null,null,null,null,"","","","","",{"$f":"IF(G76=\"男\",data_kyogisha!A68,\"\")","v":""},"","","","","",{"$f":"IF(G76=\"女\",data_kyogisha!A68,\"\")","v":""},0,"",{"$f":"IF(AND(G76=\"男\",P76=\"○\"),AK75+1,AK75)","v":0},"",0,"",{"$f":"IF(AND(G76=\"女\",P76=\"○\"),AO75+1,AO75)","v":0},{"$f":"IF(AND(G76=\"女\",P76=\"○\"),C76,\"\")","v":""}]
[68,null,null,null,null,null,null,null,null,null,null,null,null,null,null,null,null,null,null,null,null,null,"","","","","",{"$f":"IF(G77=\"男\",data_kyogisha!A69,\"\")","v":""},"","","","","",{"$f":"IF(G77=\"女\",data_kyogisha!A69,\"\")","v":""},0,"",0,"",0,"",0,""]
[69,null,null,null,null,null,null,null,null,null,null,null,null,null,null,null,null,null,null,null,null,null,"","","","","",{"$f":"IF(G78=\"男\",data_kyogisha!A70,\"\")","v":""},"","","","","",{"$f":"IF(G78=\"女\",data_kyogisha!A70,\"\")","v":""},0,"",0,"",0,"",0,""]
[70,null,null,null,null,null,null,null,null,null,null,null,null,null,null,null,null,null,null,null,null,null,"","","","","",{"$f":"IF(G79=\"男\",data_kyogisha!A71,\"\")","v":""},"","","","","",{"$f":"IF(G79=\"女\",data_kyogisha!A71,\"\")","v":""},0,"",0,"",0,"",0,""]
[71,null,null,null,null,null,null,null,null,null,null,null,null,null,null,null,null,null,null,null,null,null,"","","","","",{"$f":"IF(G80=\"男\",data_kyogisha!A72,\"\")","v":""},"","","","","",{"$f":"IF(G80=\"女\",data_kyogisha!A72,\"\")","v":""},0,"",0,"",0,"",0,""]
[72,null,null,null,null,null,null,null,null,null,null,null,null,null,null,null,null,null,null,null,null,null,"","","","","",{"$f":"IF(G81=\"男\",data_kyogisha!A73,\"\")","v":""},"","","","","",{"$f":"IF(G81=\"女\",data_kyogisha!A73,\"\")","v":""},0,"",0,"",0,"",0,""]
[73,null,null,null,null,null,null,null,null,null,null,null,null,null,null,null,null,null,null,null,null,null,"","","","","",{"$f":"IF(G82=\"男\",data_kyogisha!A74,\"\")","v":""},"","","","","",{"$f":"IF(G82=\"女\",data_kyogisha!A74,\"\")","v":""},0,"",0,"",0,"",0,""]
[74,null,null,null,null,null,null,null,null,null,null,null,null,null,null,null,null,null,null,null,null,null,"","","","","",{"$f":"IF(G83=\"男\",data_kyogisha!A75,\"\")","v":""},"","","","","",{"$f":"IF(G83=\"女\",data_kyogisha!A75,\"\")","v":""},0,"",0,"",0,"",0,""]
[75,null,null,null,null,null,null,null,null,null,null,null,null,null,null,null,null,null,null,null,null,null,"","","","","",{"$f":"IF(G84=\"男\",data_kyogisha!A76,\"\")","v":""},"","","","","",{"$f":"IF(G84=\"女\",data_kyogisha!A76,\"\")","v":""},0,"",0,"",{"$f":"IF(AND(G84=\"女\",O84=\"○\"),AM83+1,AM83)","v":0},{"$f":"IF(AND(G84=\"女\",O84=\"○\"),C84,\"\")","v":""},0,""]
[76,null,null,null,null,null,null,null,null,null,null,null,null,null,null,null,null,null,null,null,null,null,"","","","","",{"$f":"IF(G85=\"男\",data_kyogisha!A77,\"\")","v":""},"","","","","",{"$f":"IF(G85=\"女\",data_kyogisha!A77,\"\")","v":""},0,"",0,"",0,"",0,""]
[77,null,null,null,null,null,null,null,null,null,null,null,null,null,null,null,null,null,null,null,null,null,"","","","","",{"$f":"IF(G86=\"男\",data_kyogisha!A78,\"\")","v":""},"","","","","",{"$f":"IF(G86=\"女\",data_kyogisha!A78,\"\")","v":""},0,"",0,"",0,"",0,""]
[78,null,null,null,null,null,null,null,null,null,null,null,null,null,null,null,null,null,null,null,null,null,"","","","","",{"$f":"IF(G87=\"男\",data_kyogisha!A79,\"\")","v":""},"","","","","",{"$f":"IF(G87=\"女\",data_kyogisha!A79,\"\")","v":""},0,"",0,"",0,"",0,""]
[79,null,null,null,null,null,null,null,null,null,null,null,null,null,null,null,null,null,null,null,null,null,"","","","","",{"$f":"IF(G88=\"男\",data_kyogisha!A80,\"\")","v":""},"","","","","",{"$f":"IF(G88=\"女\",data_kyogisha!A80,\"\")","v":""},0,"",0,"",0,"",0,""]
[80,null,null,null,null,null,null,null,null,null,null,null,null,null,null,null,null,null,null,null,null,null,"","","","","",{"$f":"IF(G89=\"男\",data_kyogisha!A81,\"\")","v":""},"","","","","",{"$f":"IF(G89=\"女\",data_kyogisha!A81,\"\")","v":""},0,"",0,"",0,"",0,""]
[81,null,null,null,null,null,null,null,null,null,null,null,null,null,null,null,null,null,null,null,null,null,"","","","","",{"$f":"IF(G90=\"男\",data_kyogisha!A82,\"\")","v":""},"","","","","",{"$f":"IF(G90=\"女\",data_kyogisha!A82,\"\")","v":""},0,"",0,"",0,"",0,""]
[82,null,null,null,null,null,null,null,null,null,null,null,null,null,null,null,null,null,null,null,null,null,"","","","","",{"$f":"IF(G91=\"男\",data_kyogisha!A83,\"\")","v":""},"","","","","",{"$f":"IF(G91=\"女\",data_kyogisha!A83,\"\")","v":""},0,"",0,"",0,"",0,""]
[83,null,null,null,null,null,null,null,null,null,null,null,null,null,null,null,null,null,null,null,null,null,"","","","","",{"$f":"IF(G92=\"男\",data_kyogisha!A84,\"\")","v":""},"","","","","",{"$f":"IF(G92=\"女\",data_kyogisha!A84,\"\")","v":""},0,"",0,"",0,"",0,""]
[84,null,null,null,null,null,null,null,null,null,null,null,null,null,null,null,null,null,null,null,null,null,"","","","","",{"$f":"IF(G93=\"男\",data_kyogisha!A85,\"\")","v":""},"","","","","",{"$f":"IF(G93=\"女\",data_kyogisha!A85,\"\")","v":""},0,"",0,"",0,"",0,""]
[85,null,null,null,null,null,null,null,null,null,null,null,null,null,null,null,null,null,null,null,null,null,"","","","","",{"$f":"IF(G94=\"男\",data_kyogisha!A86,\"\")","v":""},"","","","","",{"$f":"IF(G94=\"女\",data_kyogisha!A86,\"\")","v":""},0,"",0,"",0,"",0,""]
[86,null,null,null,null,null,null,null,null,null,null,null,null,null,null,null,null,null,null,null,null,null,"","","","","",{"$f":"IF(G95=\"男\",data_kyogisha!A87,\"\")","v":""},"","","","","",{"$f":"IF(G95=\"女\",data_kyogisha!A87,\"\")","v":""},0,"",0,"",0,"",0,""]
[87,null,null,null,null,null,null,null,null,null,null,null,null,null,null,null,null,null,null,null,null,null,"","","","","",{"$f":"IF(G96=\"男\",data_kyogisha!A88,\"\")","v":""},"","","","","",{"$f":"IF(G96=\"女\",data_kyogisha!A88,\"\")","v":""},0,"",0,"",0,"",0,""]
[88,null,null,null,null,null,null,null,null,null,null,null,null,null,null,null,null,null,null,null,null,null,"","","","","",{"$f":"IF(G97=\"男\",data_kyogisha!A89,\"\")","v":""},"","","","","",{"$f":"IF(G97=\"女\",data_kyogisha!A89,\"\")","v":""},0,"",0,"",0,"",0,""]
[89,null,null,null,null,null,null,null,null,null,null,null,null,null,null,null,null,null,null,null,null,null,"","","","","",{"$f":"IF(G98=\"男\",data_kyogisha!A90,\"\")","v":""},"","","","","",{"$f":"IF(G98=\"女\",data_kyogisha!A90,\"\")","v":""},0,"",0,"",0,"",0,""]
[90,null,null,null,null,null,null,null,null,null,null,null,null,null,null,null,null,null,null,null,null,null,"","","","","",{"$f":"IF(G99=\"男\",data_kyogisha!A91,\"\")","v":""},"","","","","",{"$f":"IF(G99=\"女\",data_kyogisha!A91,\"\")","v":""},0,"",0,"",0,"",0,""]
[null,null,null,null,null,"種目計",{"$f":"SUM(I100:M100)","v":0},null,{"$f":"COUNTA(I10:I99)","v":0},null,{"$f":"COUNTA(K10:K99)","v":0},null,{"$f":"COUNTA(M10:M99)","v":0}]
[null,null,null,null,null,"リレー計",{"$f":"③リレー情報確認!F14+③リレー情報確認!L14+③リレー情報確認!R14+③リレー情報確認!X14","v":0}]
[null,null,null,null,null,"男",{"$f":"COUNTIF(G10:G99,\"男\")","v":0}]
[null,null,null,null,null,"女",{"$f":"COUNTIF(G10:G99,\"女\")","v":0}]
[null,null,null,null,null,null,{"$f":"SUM(G102:G103)","v":0}]

{"sheet":"③リレー情報確認","index":3,"n_rows":14,"n_cols":24,"rows_kept":14,"cut":false,"hidden":false,"merged":[[0,9,0,11],[7,17,12,17],[7,5,12,5],[5,1,5,5],[7,23,12,23],[5,13,5,17],[5,19,5,23],[5,7,5,11],[7,11,12,11],[0,15,0,17]]}
["③リレー情報確認",null,null,null,null,null,null,null,"チーム名 ",{"$f":"IF(①学校情報入力!D5=\"\",\"\",①学校情報入力!D5)","v":""},null,null,null,null,"ｶﾅ",{"$f":"IF(①学校情報入力!F5=\"\",\"\",①学校情報入力!F5)","v":""}]
[]
[null,null,"※リレーにエントリーをする選手とチームの記録を確認してください。"]
[null,null,"※修正をする場合は「②選手情報入力」で修正してください。"]
[]
[null,"男4X100mR",null,null,null,null,null,"男4X400mR",null,null,null,null,null,"女4X100mR",null,null,null,null,null,"女4X400mR"]
[null,"Ord","ﾅﾝﾊﾞｰ","氏　名","競技者NO","記録",null,"Ord","ﾅﾝﾊﾞｰ","氏　名","競技者NO","記録",null,"Ord","ﾅﾝﾊﾞｰ","氏　名","競技者NO","記録",null,"Ord","ﾅﾝﾊﾞｰ","氏　名","競技者NO","記録"]
[null,1,{"$f":"IF(②選手情報入力!$AJ$9<1,\"\",VLOOKUP(B8,②選手情報入力!$AI$10:$AJ$99,2,FALSE))","v":""},{"$f":"IF(C8=\"\",\"\",VLOOKUP(C8,②選手情報入力!$W$10:$X$99,2,FALSE))","v":""},{"$f":"IF(C8=\"\",\"\",VLOOKUP(C8,②選手情報入力!$W$10:$AC$99,6,FALSE))","v":""},{"$f":"IF(②選手情報入力!O5=\"\",\"\",②選手情報入力!O5)","v":""},null,1,{"$f":"IF(②選手情報入力!$AL$9<1,\"\",VLOOKUP(H8,②選手情報入力!$AK$10:$AL$99,2,FALSE))","v":""},{"$f":"IF(I8=\"\",\"\",VLOOKUP(I8,②選手情報入力!$W$10:$X$99,2,FALSE))","v":""},{"$f":"IF(I8=\"\",\"\",VLOOKUP(I8,②選手情報入力!$W$10:$AC$99,6,FALSE))","v":""},{"$f":"IF(②選手情報入力!P5=\"\",\"\",②選手情報入力!P5)","v":""},null,1,{"$f":"IF(②選手情報入力!$AN$9<1,\"\",VLOOKUP(N8,②選手情報入力!$AM$10:$AN$99,2,FALSE))","v":""},{"$f":"IF(O8=\"\",\"\",VLOOKUP(O8,②選手情報入力!$AC$10:$AD$99,2,FALSE))","v":""},{"$f":"IF(O8=\"\",\"\",VLOOKUP(O8,②選手情報入力!$AC$10:$AJ$99,6,FALSE))","v":""},{"$f":"IF(②選手情報入力!O6=\"\",\"\",②選手情報入力!O6)","v":""},null,1,{"$f":"IF(②選手情報入力!$AP$9<1,\"\",VLOOKUP(T8,②選手情報入力!$AO$10:$AP$99,2,FALSE))","v":""},{"$f":"IF(U8=\"\",\"\",VLOOKUP(U8,②選手情報入力!$AC$10:$AD$99,2,FALSE))","v":""},{"$f":"IF(U8=\"\",\"\",VLOOKUP(U8,②選手情報入力!$AC$10:$AJ$99,6,FALSE))","v":""},{"$f":"IF(②選手情報入力!P6=\"\",\"\",②選手情報入力!P6)","v":""}]
[null,2,{"$f":"IF(②選手情報入力!$AJ$9<2,\"\",VLOOKUP(B9,②選手情報入力!$AI$10:$AJ$99,2,FALSE))","v":""},{"$f":"IF(C9=\"\",\"\",VLOOKUP(C9,②選手情報入力!$W$10:$X$99,2,FALSE))","v":""},{"$f":"IF(C9=\"\",\"\",VLOOKUP(C9,②選手情報入力!$W$10:$AC$99,6,FALSE))","v":""},null,null,2,{"$f":"IF(②選手情報入力!$AL$9<2,\"\",VLOOKUP(H9,②選手情報入力!$AK$10:$AL$99,2,FALSE))","v":""},{"$f":"IF(I9=\"\",\"\",VLOOKUP(I9,②選手情報入力!$W$10:$X$99,2,FALSE))","v":""},{"$f":"IF(I9=\"\",\"\",VLOOKUP(I9,②選手情報入力!$W$10:$AC$99,6,FALSE))","v":""},null,null,2,{"$f":"IF(②選手情報入力!$AN$9<2,\"\",VLOOKUP(N9,②選手情報入力!$AM$10:$AN$99,2,FALSE))","v":""},{"$f":"IF(O9=\"\",\"\",VLOOKUP(O9,②選手情報入力!$AC$10:$AD$99,2,FALSE))","v":""},{"$f":"IF(O9=\"\",\"\",VLOOKUP(O9,②選手情報入力!$AC$10:$AJ$99,6,FALSE))","v":""},null,null,2,{"$f":"IF(②選手情報入力!$AP$9<2,\"\",VLOOKUP(T9,②選手情報入力!$AO$10:$AP$99,2,FALSE))","v":""},{"$f":"IF(U9=\"\",\"\",VLOOKUP(U9,②選手情報入力!$AC$10:$AD$99,2,FALSE))","v":""},{"$f":"IF(U9=\"\",\"\",VLOOKUP(U9,②選手情報入力!$AC$10:$AJ$99,6,FALSE))","v":""}]
[null,3,{"$f":"IF(②選手情報入力!$AJ$9<3,\"\",VLOOKUP(B10,②選手情報入力!$AI$10:$AJ$99,2,FALSE))","v":""},{"$f":"IF(C10=\"\",\"\",VLOOKUP(C10,②選手情報入力!$W$10:$X$99,2,FALSE))","v":""},{"$f":"IF(C10=\"\",\"\",VLOOKUP(C10,②選手情報入力!$W$10:$AC$99,6,FALSE))","v":""},null,null,3,{"$f":"IF(②選手情報入力!$AL$9<3,\"\",VLOOKUP(H10,②選手情報入力!$AK$10:$AL$99,2,FALSE))","v":""},{"$f":"IF(I10=\"\",\"\",VLOOKUP(I10,②選手情報入力!$W$10:$X$99,2,FALSE))","v":""},{"$f":"IF(I10=\"\",\"\",VLOOKUP(I10,②選手情報入力!$W$10:$AC$99,6,FALSE))","v":""},null,null,3,{"$f":"IF(②選手情報入力!$AN$9<3,\"\",VLOOKUP(N10,②選手情報入力!$AM$10:$AN$99,2,FALSE))","v":""},{"$f":"IF(O10=\"\",\"\",VLOOKUP(O10,②選手情報入力!$AC$10:$AD$99,2,FALSE))","v":""},{"$f":"IF(O10=\"\",\"\",VLOOKUP(O10,②選手情報入力!$AC$10:$AJ$99,6,FALSE))","v":""},null,null,3,{"$f":"IF(②選手情報入力!$AP$9<3,\"\",VLOOKUP(T10,②選手情報入力!$AO$10:$AP$99,2,FALSE))","v":""},{"$f":"IF(U10=\"\",\"\",VLOOKUP(U10,②選手情報入力!$AC$10:$AD$99,2,FALSE))","v":""},{"$f":"IF(U10=\"\",\"\",VLOOKUP(U10,②選手情報入力!$AC$10:$AJ$99,6,FALSE))","v":""}]
[null,4,{"$f":"IF(②選手情報入力!$AJ$9<4,\"\",VLOOKUP(B11,②選手情報入力!$AI$10:$AJ$99,2,FALSE))","v":""},{"$f":"IF(C11=\"\",\"\",VLOOKUP(C11,②選手情報入力!$W$10:$X$99,2,FALSE))","v":""},{"$f":"IF(C11=\"\",\"\",VLOOKUP(C11,②選手情報入力!$W$10:$AC$99,6,FALSE))","v":""},null,null,4,{"$f":"IF(②選手情報入力!$AL$9<4,\"\",VLOOKUP(H11,②選手情報入力!$AK$10:$AL$99,2,FALSE))","v":""},{"$f":"IF(I11=\"\",\"\",VLOOKUP(I11,②選手情報入力!$W$10:$X$99,2,FALSE))","v":""},{"$f":"IF(I11=\"\",\"\",VLOOKUP(I11,②選手情報入力!$W$10:$AC$99,6,FALSE))","v":""},null,null,4,{"$f":"IF(②選手情報入力!$AN$9<4,\"\",VLOOKUP(N11,②選手情報入力!$AM$10:$AN$99,2,FALSE))","v":""},{"$f":"IF(O11=\"\",\"\",VLOOKUP(O11,②選手情報入力!$AC$10:$AD$99,2,FALSE))","v":""},{"$f":"IF(O11=\"\",\"\",VLOOKUP(O11,②選手情報入力!$AC$10:$AJ$99,6,FALSE))","v":""},null,null,4,{"$f":"IF(②選手情報入力!$AP$9<4,\"\",VLOOKUP(T11,②選手情報入力!$AO$10:$AP$99,2,FALSE))","v":""},{"$f":"IF(U11=\"\",\"\",VLOOKUP(U11,②選手情報入力!$AC$10:$AD$99,2,FALSE))","v":""},{"$f":"IF(U11=\"\",\"\",VLOOKUP(U11,②選手情報入力!$AC$10:$AJ$99,6,FALSE))","v":""}]
[null,5,{"$f":"IF(②選手情報入力!$AJ$9<5,\"\",VLOOKUP(B12,②選手情報入力!$AI$10:$AJ$99,2,FALSE))","v":""},{"$f":"IF(C12=\"\",\"\",VLOOKUP(C12,②選手情報入力!$W$10:$X$99,2,FALSE))","v":""},{"$f":"IF(C12=\"\",\"\",VLOOKUP(C12,②選手情報入力!$W$10:$AC$99,6,FALSE))","v":""},null,null,5,{"$f":"IF(②選手情報入力!$AL$9<5,\"\",VLOOKUP(H12,②選手情報入力!$AK$10:$AL$99,2,FALSE))","v":""},{"$f":"IF(I12=\"\",\"\",VLOOKUP(I12,②選手情報入力!$W$10:$X$99,2,FALSE))","v":""},{"$f":"IF(I12=\"\",\"\",VLOOKUP(I12,②選手情報入力!$W$10:$AC$99,6,FALSE))","v":""},null,null,5,{"$f":"IF(②選手情報入力!$AN$9<5,\"\",VLOOKUP(N12,②選手情報入力!$AM$10:$AN$99,2,FALSE))","v":""},{"$f":"IF(O12=\"\",\"\",VLOOKUP(O12,②選手情報入力!$AC$10:$AD$99,2,FALSE))","v":""},{"$f":"IF(O12=\"\",\"\",VLOOKUP(O12,②選手情報入力!$AC$10:$AJ$99,6,FALSE))","v":""},null,null,5,{"$f":"IF(②選手情報入力!$AP$9<5,\"\",VLOOKUP(T12,②選手情報入力!$AO$10:$AP$99,2,FALSE))","v":""},{"$f":"IF(U12=\"\",\"\",VLOOKUP(U12,②選手情報入力!$AC$10:$AD$99,2,FALSE))","v":""},{"$f":"IF(U12=\"\",\"\",VLOOKUP(U12,②選手情報入力!$AC$10:$AJ$99,6,FALSE))","v":""}]
[null,6,{"$f":"IF(②選手情報入力!$AJ$9<6,\"\",VLOOKUP(B13,②選手情報入力!$AI$10:$AJ$99,2,FALSE))","v":""},{"$f":"IF(C13=\"\",\"\",VLOOKUP(C13,②選手情報入力!$W$10:$X$99,2,FALSE))","v":""},{"$f":"IF(C13=\"\",\"\",VLOOKUP(C13,②選手情報入力!$W$10:$AC$99,6,FALSE))","v":""},null,null,6,{"$f":"IF(②選手情報入力!$AL$9<6,\"\",VLOOKUP(H13,②選手情報入力!$AK$10:$AL$99,2,FALSE))","v":""},{"$f":"IF(I13=\"\",\"\",VLOOKUP(I13,②選手情報入力!$W$10:$X$99,2,FALSE))","v":""},{"$f":"IF(I13=\"\",\"\",VLOOKUP(I13,②選手情報入力!$W$10:$AC$99,6,FALSE))","v":""},null,null,6,{"$f":"IF(②選手情報入力!$AN$9<6,\"\",VLOOKUP(N13,②選手情報入力!$AM$10:$AN$99,2,FALSE))","v":""},{"$f":"IF(O13=\"\",\"\",VLOOKUP(O13,②選手情報入力!$AC$10:$AD$99,2,FALSE))","v":""},{"$f":"IF(O13=\"\",\"\",VLOOKUP(O13,②選手情報入力!$AC$10:$AJ$99,6,FALSE))","v":""},null,null,6,{"$f":"IF(②選手情報入力!$AP$9<6,\"\",VLOOKUP(T13,②選手情報入力!$AO$10:$AP$99,2,FALSE))","v":""},{"$f":"IF(U13=\"\",\"\",VLOOKUP(U13,②選手情報入力!$AC$10:$AD$99,2,FALSE))","v":""},{"$f":"IF(U13=\"\",\"\",VLOOKUP(U13,②選手情報入力!$AC$10:$AJ$99,6,FALSE))","v":""}]
[null,null,null,"申込チーム数",null,{"$f":"IF(②選手情報入力!AJ9>=4,1,0)","v":0},null,null,null,"申込チーム数",null,{"$f":"IF(②選手情報入力!AL9>=4,1,0)","v":0},null,null,null,"申込チーム数",null,{"$f":"IF(②選手情報入力!AN9>=4,1,0)","v":0},null,null,null,"申込チーム数",null,{"$f":"IF(②選手情報入力!AP9>=4,1,0)","v":0}]

{"sheet":"④種目別人数","index":4,"n_rows":46,"n_cols":14,"rows_kept":46,"cut":false,"hidden":false,"merged":[[27,2,27,3],[45,2,45,4],[43,1,43,4],[44,2,44,4],[34,2,34,3],[32,2,32,3],[30,2,30,3],[31,2,31,3],[38,1,38,2],[39,2,39,3],[40,2,40,3],[36,2,36,3],[35,2,35,3],[33,2,33,3],[9,2,9,3],[10,2,10,3],[11,2,11,3],[45,5,45,6],[38,5,38,6],[12,2,12,3],[13,2,13,3],[14,2,14,3],[15,2,15,3],[16,2,16,3],[21,2,21,3],[22,2,22,3],[23,2,23,3],[24,2,24,3],[25,2,25,3],[26,2,26,3],[19,2,19,3],[20,2,20,3],[28,2,28,3],[29,2,29,3],[0,3,0,7],[1,0,1,7],[3,0,3,7],[6,1,6,2],[6,5,6,6],[2,0,2,4],[4,2,4,5],[5,3,5,6],[17,2,17,3],[18,2,18,3],[7,2,7,3],[8,2,8,3]]}
["④種目別人数一覧表",null,"Ver.2","このシートを印刷し裏面に振込明細のコピーを添付してください"]
["　　　帳票印刷ボタンをクリックして印刷を行ってください。↓　　"]
["第１回名古屋地区競技会",null,null,null,null,null,{"$f":"IF(①学校情報入力!D3=\"\",\"\",①学校情報入力!D3)","v":""}]
["種目別申込人数一覧表"]
[null,"申込責任者",{"$f":"IF(①学校情報入力!D8=\"\",\"\",①学校情報入力!D8)","v":""},null,null,null,"A4サイズ"]
[null,{"$f":"IF(①学校情報入力!D7=\"\",\"\",①学校情報入力!D7)","v":""},"学校名",{"$f":"IF(①学校情報入力!D5=\"\",\"\",①学校情報入力!D5)","v":""}]
[null,"男　　　子",null,null,null,"女　　　子"]
[null,"種　　目","申込数",null,null,"種　　　目","申込数",null,null,null,null,"男種目",null,"女種目"]
[null,{"$f":"K9","v":"男100m"},{"$f":"IF(L9=0,\"\",L9)","v":""},null,null,{"$f":"M9","v":"女100m"},{"$f":"IF(N9=0,\"\",N9)","v":""},null,null,null,{"$f":"種目情報!N4","v":"男100m"},{"$f":"COUNTIF(②選手情報入力!$I$10:$N$99,K9)","v":0},{"$f":"種目情報!N32","v":"女100m"},{"$f":"COUNTIF(②選手情報入力!$I$10:$N$99,M9)","v":0}]
[null,{"$f":"K10","v":"男200m"},{"$f":"IF(L10=0,\"\",L10)","v":""},null,null,{"$f":"M10","v":"女200m"},{"$f":"IF(N10=0,\"\",N10)","v":""},null,null,null,{"$f":"種目情報!N5","v":"男200m"},{"$f":"COUNTIF(②選手情報入力!$I$10:$N$99,K10)","v":0},{"$f":"種目情報!N33","v":"女200m"},{"$f":"COUNTIF(②選手情報入力!$I$10:$N$99,M10)","v":0}]
[null,"男400m","",null,null,"女400m","",null,null,null,{"$f":"種目情報!N6","v":"男400m"},{"$f":"COUNTIF(②選手情報入力!$I$10:$N$99,K11)","v":0},{"$f":"種目情報!N34","v":"女400m"},{"$f":"COUNTIF(②選手情報入力!$I$10:$N$99,M11)","v":0}]
[null,"男800m","",null,null,"女800m","",null,null,null,{"$f":"種目情報!N7","v":"男800m"},{"$f":"COUNTIF(②選手情報入力!$I$10:$N$99,K12)","v":0},{"$f":"種目情報!N35","v":"女800m"},{"$f":"COUNTIF(②選手情報入力!$I$10:$N$99,M12)","v":0}]
[null,"男1500m","",null,null,"女1500m","",null,null,null,{"$f":"種目情報!N8","v":"男1500m"},{"$f":"COUNTIF(②選手情報入力!$I$10:$N$99,K13)","v":0},{"$f":"種目情報!N36","v":"女1500m"},{"$f":"COUNTIF(②選手情報入力!$I$10:$N$99,M13)","v":0}]
[null,"男中学3000m","",null,null,"女3000m","",null,null,null,{"$f":"種目情報!N9","v":"男中学3000m"},{"$f":"COUNTIF(②選手情報入力!$I$10:$N$99,K14)","v":0},{"$f":"種目情報!N37","v":"女3000m"},{"$f":"COUNTIF(②選手情報入力!$I$10:$N$99,M14)","v":0}]
[null,"男5000m","",null,null,"女100mH","",null,null,null,{"$f":"種目情報!N10","v":"男5000m"},{"$f":"COUNTIF(②選手情報入力!$I$10:$N$99,K15)","v":0},{"$f":"種目情報!N38","v":"女100mH"},{"$f":"COUNTIF(②選手情報入力!$I$10:$N$99,M15)","v":0}]
[null,"男110mH","",null,null,"女100mYH","",null,null,null,{"$f":"種目情報!N11","v":"男110mH"},{"$f":"COUNTIF(②選手情報入力!$I$10:$N$99,K16)","v":0},{"$f":"種目情報!N39","v":"女100mYH"},{"$f":"COUNTIF(②選手情報入力!$I$10:$N$99,M16)","v":0}]
[null,"男110mJH","",null,null,"女中学100mH","",null,null,null,{"$f":"種目情報!N12","v":"男110mJH"},{"$f":"COUNTIF(②選手情報入力!$I$10:$N$99,K17)","v":0},{"$f":"種目情報!N40","v":"女中学100mH"},{"$f":"COUNTIF(②選手情報入力!$I$10:$N$99,M17)","v":0}]
[null,"男中学110mH","",null,null,"女400mH","",null,null,null,{"$f":"種目情報!N13","v":"男中学110mH"},{"$f":"COUNTIF(②選手情報入力!$I$10:$N$99,K18)","v":0},{"$f":"種目情報!N41","v":"女400mH"},{"$f":"COUNTIF(②選手情報入力!$I$10:$N$99,M18)","v":0}]
[null,"男400mH","",null,null,"女50000mW","",null,null,null,{"$f":"種目情報!N14","v":"男400mH"},{"$f":"COUNTIF(②選手情報入力!$I$10:$N$99,K19)","v":0},{"$f":"種目情報!N42","v":"女50000mW"},{"$f":"COUNTIF(②選手情報入力!$I$10:$N$99,M19)","v":0}]
[null,"男3000mSC","",null,null,"女走高跳","",null,null,null,{"$f":"種目情報!N15","v":"男3000mSC"},{"$f":"COUNTIF(②選手情報入力!$I$10:$N$99,K20)","v":0},{"$f":"種目情報!N43","v":"女走高跳"},{"$f":"COUNTIF(②選手情報入力!$I$10:$N$99,M20)","v":0}]
[null,"男5000mW","",null,null,"女棒高跳","",null,null,null,{"$f":"種目情報!N16","v":"男5000mW"},{"$f":"COUNTIF(②選手情報入力!$I$10:$N$99,K21)","v":0},{"$f":"種目情報!N44","v":"女棒高跳"},{"$f":"COUNTIF(②選手情報入力!$I$10:$N$99,M21)","v":0}]
[null,"男走高跳","",null,null,"女走幅跳","",null,null,null,{"$f":"種目情報!N17","v":"男走高跳"},{"$f":"COUNTIF(②選手情報入力!$I$10:$N$99,K22)","v":0},{"$f":"種目情報!N45","v":"女走幅跳"},{"$f":"COUNTIF(②選手情報入力!$I$10:$N$99,M22)","v":0}]
[null,"男棒高跳","",null,null,"女中学走幅跳","",null,null,null,{"$f":"種目情報!N18","v":"男棒高跳"},{"$f":"COUNTIF(②選手情報入力!$I$10:$N$99,K23)","v":0},{"$f":"種目情報!N46","v":"女中学走幅跳"},{"$f":"COUNTIF(②選手情報入力!$I$10:$N$99,M23)","v":0}]
[null,"男走幅跳","",null,null,"女三段跳","",null,null,null,{"$f":"種目情報!N19","v":"男走幅跳"},{"$f":"COUNTIF(②選手情報入力!$I$10:$N$99,K24)","v":0},{"$f":"種目情報!N47","v":"女三段跳"},{"$f":"COUNTIF(②選手情報入力!$I$10:$N$99,M24)","v":0}]
[null,"男中学走幅跳","",null,null,"女砲丸投","",null,null,null,{"$f":"種目情報!N20","v":"男中学走幅跳"},{"$f":"COUNTIF(②選手情報入力!$I$10:$N$99,K25)","v":0},{"$f":"種目情報!N48","v":"女砲丸投"},{"$f":"COUNTIF(②選手情報入力!$I$10:$N$99,M25)","v":0}]
[null,"男三段跳","",null,null,"女中学砲丸投","",null,null,null,{"$f":"種目情報!N21","v":"男三段跳"},{"$f":"COUNTIF(②選手情報入力!$I$10:$N$99,K26)","v":0},{"$f":"種目情報!N49","v":"女中学砲丸投"},{"$f":"COUNTIF(②選手情報入力!$I$10:$N$99,M26)","v":0}]
[null,"男砲丸投","",null,null,"女円盤投","",null,null,null,{"$f":"種目情報!N22","v":"男砲丸投"},{"$f":"COUNTIF(②選手情報入力!$I$10:$N$99,K27)","v":0},{"$f":"種目情報!N50","v":"女円盤投"},{"$f":"COUNTIF(②選手情報入力!$I$10:$N$99,M27)","v":0}]
[null,"男高校砲丸投","",null,null,"女ﾊﾝﾏｰ投","",null,null,null,{"$f":"種目情報!N23","v":"男高校砲丸投"},{"$f":"COUNTIF(②選手情報入力!$I$10:$N$99,K28)","v":0},{"$f":"種目情報!N51","v":"女ﾊﾝﾏｰ投"},{"$f":"COUNTIF(②選手情報入力!$I$10:$N$99,M28)","v":0}]
[null,"男中学砲丸投","",null,null,"女やり投","",null,null,null,{"$f":"種目情報!N24","v":"男中学砲丸投"},{"$f":"COUNTIF(②選手情報入力!$I$10:$N$99,K29)","v":0},{"$f":"種目情報!N52","v":"女やり投"},{"$f":"COUNTIF(②選手情報入力!$I$10:$N$99,M29)","v":0}]
[null,"男円盤投","",null,null,null,null,null,null,null,{"$f":"種目情報!N25","v":"男円盤投"},{"$f":"COUNTIF(②選手情報入力!$I$10:$N$99,K30)","v":0}]
[null,"男高校円盤投","",null,null,null,null,null,null,null,{"$f":"種目情報!N26","v":"男高校円盤投"},{"$f":"COUNTIF(②選手情報入力!$I$10:$N$99,K31)","v":0}]
[null,"男中学円盤投","",null,null,null,null,null,null,null,{"$f":"種目情報!N27","v":"男中学円盤投"},{"$f":"COUNTIF(②選手情報入力!$I$10:$N$99,K32)","v":0}]
[null,"男ﾊﾝﾏｰ投","",null,null,null,null,null,null,null,{"$f":"種目情報!N28","v":"男ﾊﾝﾏｰ投"},{"$f":"COUNTIF(②選手情報入力!$I$10:$N$99,K33)","v":0}]
[null,"男高校ﾊﾝﾏｰ投","",null,null,null,null,null,null,null,{"$f":"種目情報!N29","v":"男高校ﾊﾝﾏｰ投"},{"$f":"COUNTIF(②選手情報入力!$I$10:$N$99,K34)","v":0}]
[null,"男やり投","",null,null,null,null,null,null,null,{"$f":"種目情報!N30","v":"男やり投"},{"$f":"COUNTIF(②選手情報入力!$I$10:$N$99,K35)","v":0}]
[null,"４×１００ｍＲ",{"$f":"IF(③リレー情報確認!F14=0,\"\",③リレー情報確認!F14)","v":""},null,null,"４×１００ｍＲ",{"$f":"IF(③リレー情報確認!R14=0,\"\",③リレー情報確認!R14)","v":""}]
[null,"４×４００ｍＲ",{"$f":"IF(③リレー情報確認!L14=0,\"\",③リレー情報確認!L14)","v":""},null,null,"４×４００ｍＲ",{"$f":"IF(③リレー情報確認!X14=0,\"\",③リレー情報確認!X14)","v":""}]
[]
[null,"種　目　数",null,null,null,"参　　加　　料"]
[null,"種目数",{"$f":"②選手情報入力!G100","v":0},null,null,"種目数×700円",{"$f":"C40*700","v":0}]
[null,"リレー",{"$f":"②選手情報入力!G101","v":0},null,null,"リレー参加数✕1000円",{"$f":"C41*1000","v":0}]
[null,"プログラム購入部数",{"$f":"①学校情報入力!D9","v":0},"部",null,"プログラム部数✕800円",{"$f":"C42*800","v":0}]
[null,null,null,null,null,"支払金額",{"$f":"SUM(G40:G42)","v":0}]
[null,"役員ができる方のお名前",null,null,null,"参加者数",{"$f":"IF(②選手情報入力!G104=0,\"\",②選手情報入力!G104)","v":""}]
[null,{"$f":"IF(①学校情報入力!B11=\"\",\"\",①学校情報入力!B11)","v":""},{"$f":"IF(①学校情報入力!F11=\"\",\"\",①学校情報入力!F11)","v":""}]
[null,{"$f":"IF(①学校情報入力!B12=\"\",\"\",①学校情報入力!B12)","v":""},{"$f":"IF(①学校情報入力!F12=\"\",\"\",①学校情報入力!F12)","v":""},null,null,{"$f":"TODAY()","v":"2017-03-02"}]

{"sheet":"⑤申込一覧表","index":5,"n_rows":97,"n_cols":13,"rows_kept":97,"cut":false,"hidden":false,"merged":[[3,1,4,1],[3,6,4,6],[3,3,3,4],[4,3,4,4],[1,4,1,7]]}
["⑤申込者一覧表"]
[null,null,null,"大会名",{"$f":"注意事項!C3&注意事項!F3","v":"第1回名古屋地区競技会"},null,null,null,"学校名",{"$f":"IF(①学校情報入力!D5=\"\",\"\",①学校情報入力!D5)","v":""},{"$f":"IF(①学校情報入力!D3=\"\",\"\",①学校情報入力!D3)","v":""}]
[]
[null,"人数","男　　子",{"$f":"②選手情報入力!G102","v":0},null,null,"リレー","男4X100mR",{"$f":"IF(③リレー情報確認!F8=\"\",\"\",③リレー情報確認!F8)","v":""},"男4X400mR",{"$f":"IF(③リレー情報確認!L8=\"\",\"\",③リレー情報確認!L8)","v":""}]
[null,null,"女　　子",{"$f":"②選手情報入力!G103","v":0},null,null,null,"女4X100mR",{"$f":"IF(③リレー情報確認!R8=\"\",\"\",③リレー情報確認!R8)","v":""},"女4X400mR",{"$f":"IF(③リレー情報確認!X8=\"\",\"\",③リレー情報確認!X8)","v":""}]
[]
[null,"ﾅﾝﾊﾞｰ","氏　名","性","年","種目１","記録１","種目２","記録２","種目３","記録３","4R","16R"]
[1,{"$f":"IF(②選手情報入力!C10=\"\",\"\",\"②選手情報入力!B10％②選手情報入力!C10\")","v":""},{"$f":"IF(②選手情報入力!D10=\"\",\"\",②選手情報入力!D10)","v":""},{"$f":"IF(②選手情報入力!G10=\"\",\"\",②選手情報入力!G10)","v":""},{"$f":"IF(②選手情報入力!H10=\"\",\"\",②選手情報入力!H10)","v":""},{"$f":"IF(②選手情報入力!I10=\"\",\"\",②選手情報入力!I10)","v":""},{"$f":"IF(②選手情報入力!J10=\"\",\"\",②選手情報入力!J10)","v":""},{"$f":"IF(②選手情報入力!K10=\"\",\"\",②選手情報入力!K10)","v":""},{"$f":"IF(②選手情報入力!L10=\"\",\"\",②選手情報入力!L10)","v":""},{"$f":"IF(②選手情報入力!M10=\"\",\"\",②選手情報入力!M10)","v":""},{"$f":"IF(②選手情報入力!N10=\"\",\"\",②選手情報入力!N10)","v":""},{"$f":"IF(②選手情報入力!O10=\"\",\"\",②選手情報入力!O10)","v":""},{"$f":"IF(②選手情報入力!P10=\"\",\"\",②選手情報入力!P10)","v":""}]
[2,{"$f":"IF(②選手情報入力!C11=\"\",\"\",②選手情報入力!C11)","v":""},{"$f":"IF(②選手情報入力!D11=\"\",\"\",②選手情報入力!D11)","v":""},{"$f":"IF(②選手情報入力!G11=\"\",\"\",②選手情報入力!G11)","v":""},{"$f":"IF(②選手情報入力!H11=\"\",\"\",②選手情報入力!H11)","v":""},{"$f":"IF(②選手情報入力!I11=\"\",\"\",②選手情報入力!I11)","v":""},{"$f":"IF(②選手情報入力!J11=\"\",\"\",②選手情報入力!J11)","v":""},{"$f":"IF(②選手情報入力!K11=\"\",\"\",②選手情報入力!K11)","v":""},{"$f":"IF(②選手情報入力!L11=\"\",\"\",②選手情報入力!L11)","v":""},{"$f":"IF(②選手情報入力!M11=\"\",\"\",②選手情報入力!M11)","v":""},{"$f":"IF(②選手情報入力!N11=\"\",\"\",②選手情報入力!N11)","v":""},{"$f":"IF(②選手情報入力!O11=\"\",\"\",②選手情報入力!O11)","v":""},{"$f":"IF(②選手情報入力!P11=\"\",\"\",②選手情報入力!P11)","v":""}]
[3,{"$f":"IF(②選手情報入力!C12=\"\",\"\",②選手情報入力!C12)","v":""},{"$f":"IF(②選手情報入力!D12=\"\",\"\",②選手情報入力!D12)","v":""},{"$f":"IF(②選手情報入力!G12=\"\",\"\",②選手情報入力!G12)","v":""},{"$f":"IF(②選手情報入力!H12=\"\",\"\",②選手情報入力!H12)","v":""},{"$f":"IF(②選手情報入力!I12=\"\",\"\",②選手情報入力!I12)","v":""},{"$f":"IF(②選手情報入力!J12=\"\",\"\",②選手情報入力!J12)","v":""},{"$f":"IF(②選手情報入力!K12=\"\",\"\",②選手情報入力!K12)","v":""},{"$f":"IF(②選手情報入力!L12=\"\",\"\",②選手情報入力!L12)","v":""},{"$f":"IF(②選手情報入力!M12=\"\",\"\",②選手情報入力!M12)","v":""},{"$f":"IF(②選手情報入力!N12=\"\",\"\",②選手情報入力!N12)","v":""},{"$f":"IF(②選手情報入力!O12=\"\",\"\",②選手情報入力!O12)","v":""},{"$f":"IF(②選手情報入力!P12=\"\",\"\",②選手情報入力!P12)","v":""}]
[4,{"$f":"IF(②選手情報入力!C13=\"\",\"\",②選手情報入力!C13)","v":""},{"$f":"IF(②選手情報入力!D13=\"\",\"\",②選手情報入力!D13)","v":""},{"$f":"IF(②選手情報入力!G13=\"\",\"\",②選手情報入力!G13)","v":""},{"$f":"IF(②選手情報入力!H13=\"\",\"\",②選手情報入力!H13)","v":""},{"$f":"IF(②選手情報入力!I13=\"\",\"\",②選手情報入力!I13)","v":""},{"$f":"IF(②選手情報入力!J13=\"\",\"\",②選手情報入力!J13)","v":""},{"$f":"IF(②選手情報入力!K13=\"\",\"\",②選手情報入力!K13)","v":""},{"$f":"IF(②選手情報入力!L13=\"\",\"\",②選手情報入力!L13)","v":""},{"$f":"IF(②選手情報入力!M13=\"\",\"\",②選手情報入力!M13)","v":""},{"$f":"IF(②選手情報入力!N13=\"\",\"\",②選手情報入力!N13)","v":""},{"$f":"IF(②選手情報入力!O13=\"\",\"\",②選手情報入力!O13)","v":""},{"$f":"IF(②選手情報入力!P13=\"\",\"\",②選手情報入力!P13)","v":""}]
[5,{"$f":"IF(②選手情報入力!C14=\"\",\"\",②選手情報入力!C14)","v":""},{"$f":"IF(②選手情報入力!D14=\"\",\"\",②選手情報入力!D14)","v":""},{"$f":"IF(②選手情報入力!G14=\"\",\"\",②選手情報入力!G14)","v":""},{"$f":"IF(②選手情報入力!H14=\"\",\"\",②選手情報入力!H14)","v":""},{"$f":"IF(②選手情報入力!I14=\"\",\"\",②選手情報入力!I14)","v":""},{"$f":"IF(②選手情報入力!J14=\"\",\"\",②選手情報入力!J14)","v":""},{"$f":"IF(②選手情報入力!K14=\"\",\"\",②選手情報入力!K14)","v":""},{"$f":"IF(②選手情報入力!L14=\"\",\"\",②選手情報入力!L14)","v":""},{"$f":"IF(②選手情報入力!M14=\"\",\"\",②選手情報入力!M14)","v":""},{"$f":"IF(②選手情報入力!N14=\"\",\"\",②選手情報入力!N14)","v":""},{"$f":"IF(②選手情報入力!O14=\"\",\"\",②選手情報入力!O14)","v":""},{"$f":"IF(②選手情報入力!P14=\"\",\"\",②選手情報入力!P14)","v":""}]
[6,{"$f":"IF(②選手情報入力!C15=\"\",\"\",②選手情報入力!C15)","v":""},{"$f":"IF(②選手情報入力!D15=\"\",\"\",②選手情報入力!D15)","v":""},{"$f":"IF(②選手情報入力!G15=\"\",\"\",②選手情報入力!G15)","v":""},{"$f":"IF(②選手情報入力!H15=\"\",\"\",②選手情報入力!H15)","v":""},{"$f":"IF(②選手情報入力!I15=\"\",\"\",②選手情報入力!I15)","v":""},{"$f":"IF(②選手情報入力!J15=\"\",\"\",②選手情報入力!J15)","v":""},{"$f":"IF(②選手情報入力!K15=\"\",\"\",②選手情報入力!K15)","v":""},{"$f":"IF(②選手情報入力!L15=\"\",\"\",②選手情報入力!L15)","v":""},{"$f":"IF(②選手情報入力!M15=\"\",\"\",②選手情報入力!M15)","v":""},{"$f":"IF(②選手情報入力!N15=\"\",\"\",②選手情報入力!N15)","v":""},{"$f":"IF(②選手情報入力!O15=\"\",\"\",②選手情報入力!O15)","v":""},{"$f":"IF(②選手情報入力!P15=\"\",\"\",②選手情報入力!P15)","v":""}]
[7,{"$f":"IF(②選手情報入力!C16=\"\",\"\",②選手情報入力!C16)","v":""},{"$f":"IF(②選手情報入力!D16=\"\",\"\",②選手情報入力!D16)","v":""},{"$f":"IF(②選手情報入力!G16=\"\",\"\",②選手情報入力!G16)","v":""},{"$f":"IF(②選手情報入力!H16=\"\",\"\",②選手情報入力!H16)","v":""},{"$f":"IF(②選手情報入力!I16=\"\",\"\",②選手情報入力!I16)","v":""},{"$f":"IF(②選手情報入力!J16=\"\",\"\",②選手情報入力!J16)","v":""},{"$f":"IF(②選手情報入力!K16=\"\",\"\",②選手情報入力!K16)","v":""},{"$f":"IF(②選手情報入力!L16=\"\",\"\",②選手情報入力!L16)","v":""},{"$f":"IF(②選手情報入力!M16=\"\",\"\",②選手情報入力!M16)","v":""},{"$f":"IF(②選手情報入力!N16=\"\",\"\",②選手情報入力!N16)","v":""},{"$f":"IF(②選手情報入力!O16=\"\",\"\",②選手情報入力!O16)","v":""},{"$f":"IF(②選手情報入力!P16=\"\",\"\",②選手情報入力!P16)","v":""}]
[8,{"$f":"IF(②選手情報入力!C17=\"\",\"\",②選手情報入力!C17)","v":""},{"$f":"IF(②選手情報入力!D17=\"\",\"\",②選手情報入力!D17)","v":""},{"$f":"IF(②選手情報入力!G17=\"\",\"\",②選手情報入力!G17)","v":""},{"$f":"IF(②選手情報入力!H17=\"\",\"\",②選手情報入力!H17)","v":""},{"$f":"IF(②選手情報入力!I17=\"\",\"\",②選手情報入力!I17)","v":""},{"$f":"IF(②選手情報入力!J17=\"\",\"\",②選手情報入力!J17)","v":""},{"$f":"IF(②選手情報入力!K17=\"\",\"\",②選手情報入力!K17)","v":""},{"$f":"IF(②選手情報入力!L17=\"\",\"\",②選手情報入力!L17)","v":""},{"$f":"IF(②選手情報入力!M17=\"\",\"\",②選手情報入力!M17)","v":""},{"$f":"IF(②選手情報入力!N17=\"\",\"\",②選手情報入力!N17)","v":""},{"$f":"IF(②選手情報入力!O17=\"\",\"\",②選手情報入力!O17)","v":""},{"$f":"IF(②選手情報入力!P17=\"\",\"\",②選手情報入力!P17)","v":""}]
[9,{"$f":"IF(②選手情報入力!C18=\"\",\"\",②選手情報入力!C18)","v":""},{"$f":"IF(②選手情報入力!D18=\"\",\"\",②選手情報入力!D18)","v":""},{"$f":"IF(②選手情報入力!G18=\"\",\"\",②選手情報入力!G18)","v":""},{"$f":"IF(②選手情報入力!H18=\"\",\"\",②選手情報入力!H18)","v":""},{"$f":"IF(②選手情報入力!I18=\"\",\"\",②選手情報入力!I18)","v":""},{"$f":"IF(②選手情報入力!J18=\"\",\"\",②選手情報入力!J18)","v":""},{"$f":"IF(②選手情報入力!K18=\"\",\"\",②選手情報入力!K18)","v":""},{"$f":"IF(②選手情報入力!L18=\"\",\"\",②選手情報入力!L18)","v":""},{"$f":"IF(②選手情報入力!M18=\"\",\"\",②選手情報入力!M18)","v":""},{"$f":"IF(②選手情報入力!N18=\"\",\"\",②選手情報入力!N18)","v":""},{"$f":"IF(②選手情報入力!O18=\"\",\"\",②選手情報入力!O18)","v":""},{"$f":"IF(②選手情報入力!P18=\"\",\"\",②選手情報入力!P18)","v":""}]
[10,{"$f":"IF(②選手情報入力!C19=\"\",\"\",②選手情報入力!C19)","v":""},{"$f":"IF(②選手情報入力!D19=\"\",\"\",②選手情報入力!D19)","v":""},{"$f":"IF(②選手情報入力!G19=\"\",\"\",②選手情報入力!G19)","v":""},{"$f":"IF(②選手情報入力!H19=\"\",\"\",②選手情報入力!H19)","v":""},{"$f":"IF(②選手情報入力!I19=\"\",\"\",②選手情報入力!I19)","v":""},{"$f":"IF(②選手情報入力!J19=\"\",\"\",②選手情報入力!J19)","v":""},{"$f":"IF(②選手情報入力!K19=\"\",\"\",②選手情報入力!K19)","v":""},{"$f":"IF(②選手情報入力!L19=\"\",\"\",②選手情報入力!L19)","v":""},{"$f":"IF(②選手情報入力!M19=\"\",\"\",②選手情報入力!M19)","v":""},{"$f":"IF(②選手情報入力!N19=\"\",\"\",②選手情報入力!N19)","v":""},{"$f":"IF(②選手情報入力!O19=\"\",\"\",②選手情報入力!O19)","v":""},{"$f":"IF(②選手情報入力!P19=\"\",\"\",②選手情報入力!P19)","v":""}]
[11,{"$f":"IF(②選手情報入力!C20=\"\",\"\",②選手情報入力!C20)","v":""},{"$f":"IF(②選手情報入力!D20=\"\",\"\",②選手情報入力!D20)","v":""},{"$f":"IF(②選手情報入力!G20=\"\",\"\",②選手情報入力!G20)","v":""},{"$f":"IF(②選手情報入力!H20=\"\",\"\",②選手情報入力!H20)","v":""},{"$f":"IF(②選手情報入力!I20=\"\",\"\",②選手情報入力!I20)","v":""},{"$f":"IF(②選手情報入力!J20=\"\",\"\",②選手情報入力!J20)","v":""},{"$f":"IF(②選手情報入力!K20=\"\",\"\",②選手情報入力!K20)","v":""},{"$f":"IF(②選手情報入力!L20=\"\",\"\",②選手情報入力!L20)","v":""},{"$f":"IF(②選手情報入力!M20=\"\",\"\",②選手情報入力!M20)","v":""},{"$f":"IF(②選手情報入力!N20=\"\",\"\",②選手情報入力!N20)","v":""},{"$f":"IF(②選手情報入力!O20=\"\",\"\",②選手情報入力!O20)","v":""},{"$f":"IF(②選手情報入力!P20=\"\",\"\",②選手情報入力!P20)","v":""}]
[12,{"$f":"IF(②選手情報入力!C21=\"\",\"\",②選手情報入力!C21)","v":""},{"$f":"IF(②選手情報入力!D21=\"\",\"\",②選手情報入力!D21)","v":""},{"$f":"IF(②選手情報入力!G21=\"\",\"\",②選手情報入力!G21)","v":""},{"$f":"IF(②選手情報入力!H21=\"\",\"\",②選手情報入力!H21)","v":""},{"$f":"IF(②選手情報入力!I21=\"\",\"\",②選手情報入力!I21)","v":""},{"$f":"IF(②選手情報入力!J21=\"\",\"\",②選手情報入力!J21)","v":""},{"$f":"IF(②選手情報入力!K21=\"\",\"\",②選手情報入力!K21)","v":""},{"$f":"IF(②選手情報入力!L21=\"\",\"\",②選手情報入力!L21)","v":""},{"$f":"IF(②選手情報入力!M21=\"\",\"\",②選手情報入力!M21)","v":""},{"$f":"IF(②選手情報入力!N21=\"\",\"\",②選手情報入力!N21)","v":""},{"$f":"IF(②選手情報入力!O21=\"\",\"\",②選手情報入力!O21)","v":""},{"$f":"IF(②選手情報入力!P21=\"\",\"\",②選手情報入力!P21)","v":""}]
[13,{"$f":"IF(②選手情報入力!C22=\"\",\"\",②選手情報入力!C22)","v":""},{"$f":"IF(②選手情報入力!D22=\"\",\"\",②選手情報入力!D22)","v":""},{"$f":"IF(②選手情報入力!G22=\"\",\"\",②選手情報入力!G22)","v":""},{"$f":"IF(②選手情報入力!H22=\"\",\"\",②選手情報入力!H22)","v":""},{"$f":"IF(②選手情報入力!I22=\"\",\"\",②選手情報入力!I22)","v":""},{"$f":"IF(②選手情報入力!J22=\"\",\"\",②選手情報入力!J22)","v":""},{"$f":"IF(②選手情報入力!K22=\"\",\"\",②選手情報入力!K22)","v":""},{"$f":"IF(②選手情報入力!L22=\"\",\"\",②選手情報入力!L22)","v":""},{"$f":"IF(②選手情報入力!M22=\"\",\"\",②選手情報入力!M22)","v":""},{"$f":"IF(②選手情報入力!N22=\"\",\"\",②選手情報入力!N22)","v":""},{"$f":"IF(②選手情報入力!O22=\"\",\"\",②選手情報入力!O22)","v":""},{"$f":"IF(②選手情報入力!P22=\"\",\"\",②選手情報入力!P22)","v":""}]
[14,{"$f":"IF(②選手情報入力!C23=\"\",\"\",②選手情報入力!C23)","v":""},{"$f":"IF(②選手情報入力!D23=\"\",\"\",②選手情報入力!D23)","v":""},{"$f":"IF(②選手情報入力!G23=\"\",\"\",②選手情報入力!G23)","v":""},{"$f":"IF(②選手情報入力!H23=\"\",\"\",②選手情報入力!H23)","v":""},{"$f":"IF(②選手情報入力!I23=\"\",\"\",②選手情報入力!I23)","v":""},{"$f":"IF(②選手情報入力!J23=\"\",\"\",②選手情報入力!J23)","v":""},{"$f":"IF(②選手情報入力!K23=\"\",\"\",②選手情報入力!K23)","v":""},{"$f":"IF(②選手情報入力!L23=\"\",\"\",②選手情報入力!L23)","v":""},{"$f":"IF(②選手情報入力!M23=\"\",\"\",②選手情報入力!M23)","v":""},{"$f":"IF(②選手情報入力!N23=\"\",\"\",②選手情報入力!N23)","v":""},{"$f":"IF(②選手情報入力!O23=\"\",\"\",②選手情報入力!O23)","v":""},{"$f":"IF(②選手情報入力!P23=\"\",\"\",②選手情報入力!P23)","v":""}]
[15,{"$f":"IF(②選手情報入力!C24=\"\",\"\",②選手情報入力!C24)","v":""},{"$f":"IF(②選手情報入力!D24=\"\",\"\",②選手情報入力!D24)","v":""},{"$f":"IF(②選手情報入力!G24=\"\",\"\",②選手情報入力!G24)","v":""},{"$f":"IF(②選手情報入力!H24=\"\",\"\",②選手情報入力!H24)","v":""},{"$f":"IF(②選手情報入力!I24=\"\",\"\",②選手情報入力!I24)","v":""},{"$f":"IF(②選手情報入力!J24=\"\",\"\",②選手情報入力!J24)","v":""},{"$f":"IF(②選手情報入力!K24=\"\",\"\",②選手情報入力!K24)","v":""},{"$f":"IF(②選手情報入力!L24=\"\",\"\",②選手情報入力!L24)","v":""},{"$f":"IF(②選手情報入力!M24=\"\",\"\",②選手情報入力!M24)","v":""},{"$f":"IF(②選手情報入力!N24=\"\",\"\",②選手情報入力!N24)","v":""},{"$f":"IF(②選手情報入力!O24=\"\",\"\",②選手情報入力!O24)","v":""},{"$f":"IF(②選手情報入力!P24=\"\",\"\",②選手情報入力!P24)","v":""}]
[16,{"$f":"IF(②選手情報入力!C25=\"\",\"\",②選手情報入力!C25)","v":""},{"$f":"IF(②選手情報入力!D25=\"\",\"\",②選手情報入力!D25)","v":""},{"$f":"IF(②選手情報入力!G25=\"\",\"\",②選手情報入力!G25)","v":""},{"$f":"IF(②選手情報入力!H25=\"\",\"\",②選手情報入力!H25)","v":""},{"$f":"IF(②選手情報入力!I25=\"\",\"\",②選手情報入力!I25)","v":""},{"$f":"IF(②選手情報入力!J25=\"\",\"\",②選手情報入力!J25)","v":""},{"$f":"IF(②選手情報入力!K25=\"\",\"\",②選手情報入力!K25)","v":""},{"$f":"IF(②選手情報入力!L25=\"\",\"\",②選手情報入力!L25)","v":""},{"$f":"IF(②選手情報入力!M25=\"\",\"\",②選手情報入力!M25)","v":""},{"$f":"IF(②選手情報入力!N25=\"\",\"\",②選手情報入力!N25)","v":""},{"$f":"IF(②選手情報入力!O25=\"\",\"\",②選手情報入力!O25)","v":""},{"$f":"IF(②選手情報入力!P25=\"\",\"\",②選手情報入力!P25)","v":""}]
[17,{"$f":"IF(②選手情報入力!C26=\"\",\"\",②選手情報入力!C26)","v":""},{"$f":"IF(②選手情報入力!D26=\"\",\"\",②選手情報入力!D26)","v":""},{"$f":"IF(②選手情報入力!G26=\"\",\"\",②選手情報入力!G26)","v":""},{"$f":"IF(②選手情報入力!H26=\"\",\"\",②選手情報入力!H26)","v":""},{"$f":"IF(②選手情報入力!I26=\"\",\"\",②選手情報入力!I26)","v":""},{"$f":"IF(②選手情報入力!J26=\"\",\"\",②選手情報入力!J26)","v":""},{"$f":"IF(②選手情報入力!K26=\"\",\"\",②選手情報入力!K26)","v":""},{"$f":"IF(②選手情報入力!L26=\"\",\"\",②選手情報入力!L26)","v":""},{"$f":"IF(②選手情報入力!M26=\"\",\"\",②選手情報入力!M26)","v":""},{"$f":"IF(②選手情報入力!N26=\"\",\"\",②選手情報入力!N26)","v":""},{"$f":"IF(②選手情報入力!O26=\"\",\"\",②選手情報入力!O26)","v":""},{"$f":"IF(②選手情報入力!P26=\"\",\"\",②選手情報入力!P26)","v":""}]
[18,{"$f":"IF(②選手情報入力!C27=\"\",\"\",②選手情報入力!C27)","v":""},{"$f":"IF(②選手情報入力!D27=\"\",\"\",②選手情報入力!D27)","v":""},{"$f":"IF(②選手情報入力!G27=\"\",\"\",②選手情報入力!G27)","v":""},{"$f":"IF(②選手情報入力!H27=\"\",\"\",②選手情報入力!H27)","v":""},{"$f":"IF(②選手情報入力!I27=\"\",\"\",②選手情報入力!I27)","v":""},{"$f":"IF(②選手情報入力!J27=\"\",\"\",②選手情報入力!J27)","v":""},{"$f":"IF(②選手情報入力!K27=\"\",\"\",②選手情報入力!K27)","v":""},{"$f":"IF(②選手情報入力!L27=\"\",\"\",②選手情報入力!L27)","v":""},{"$f":"IF(②選手情報入力!M27=\"\",\"\",②選手情報入力!M27)","v":""},{"$f":"IF(②選手情報入力!N27=\"\",\"\",②選手情報入力!N27)","v":""},{"$f":"IF(②選手情報入力!O27=\"\",\"\",②選手情報入力!O27)","v":""},{"$f":"IF(②選手情報入力!P27=\"\",\"\",②選手情報入力!P27)","v":""}]
[19,{"$f":"IF(②選手情報入力!C28=\"\",\"\",②選手情報入力!C28)","v":""},{"$f":"IF(②選手情報入力!D28=\"\",\"\",②選手情報入力!D28)","v":""},{"$f":"IF(②選手情報入力!G28=\"\",\"\",②選手情報入力!G28)","v":""},{"$f":"IF(②選手情報入力!H28=\"\",\"\",②選手情報入力!H28)","v":""},{"$f":"IF(②選手情報入力!I28=\"\",\"\",②選手情報入力!I28)","v":""},{"$f":"IF(②選手情報入力!J28=\"\",\"\",②選手情報入力!J28)","v":""},{"$f":"IF(②選手情報入力!K28=\"\",\"\",②選手情報入力!K28)","v":""},{"$f":"IF(②選手情報入力!L28=\"\",\"\",②選手情報入力!L28)","v":""},{"$f":"IF(②選手情報入力!M28=\"\",\"\",②選手情報入力!M28)","v":""},{"$f":"IF(②選手情報入力!N28=\"\",\"\",②選手情報入力!N28)","v":""},{"$f":"IF(②選手情報入力!O28=\"\",\"\",②選手情報入力!O28)","v":""},{"$f":"IF(②選手情報入力!P28=\"\",\"\",②選手情報入力!P28)","v":""}]
[20,{"$f":"IF(②選手情報入力!C29=\"\",\"\",②選手情報入力!C29)","v":""},{"$f":"IF(②選手情報入力!D29=\"\",\"\",②選手情報入力!D29)","v":""},{"$f":"IF(②選手情報入力!G29=\"\",\"\",②選手情報入力!G29)","v":""},{"$f":"IF(②選手情報入力!H29=\"\",\"\",②選手情報入力!H29)","v":""},{"$f":"IF(②選手情報入力!I29=\"\",\"\",②選手情報入力!I29)","v":""},{"$f":"IF(②選手情報入力!J29=\"\",\"\",②選手情報入力!J29)","v":""},{"$f":"IF(②選手情報入力!K29=\"\",\"\",②選手情報入力!K29)","v":""},{"$f":"IF(②選手情報入力!L29=\"\",\"\",②選手情報入力!L29)","v":""},{"$f":"IF(②選手情報入力!M29=\"\",\"\",②選手情報入力!M29)","v":""},{"$f":"IF(②選手情報入力!N29=\"\",\"\",②選手情報入力!N29)","v":""},{"$f":"IF(②選手情報入力!O29=\"\",\"\",②選手情報入力!O29)","v":""},{"$f":"IF(②選手情報入力!P29=\"\",\"\",②選手情報入力!P29)","v":""}]
[21,{"$f":"IF(②選手情報入力!C30=\"\",\"\",②選手情報入力!C30)","v":""},{"$f":"IF(②選手情報入力!D30=\"\",\"\",②選手情報入力!D30)","v":""},{"$f":"IF(②選手情報入力!G30=\"\",\"\",②選手情報入力!G30)","v":""},{"$f":"IF(②選手情報入力!H30=\"\",\"\",②選手情報入力!H30)","v":""},{"$f":"IF(②選手情報入力!I30=\"\",\"\",②選手情報入力!I30)","v":""},{"$f":"IF(②選手情報入力!J30=\"\",\"\",②選手情報入力!J30)","v":""},{"$f":"IF(②選手情報入力!K30=\"\",\"\",②選手情報入力!K30)","v":""},{"$f":"IF(②選手情報入力!L30=\"\",\"\",②選手情報入力!L30)","v":""},{"$f":"IF(②選手情報入力!M30=\"\",\"\",②選手情報入力!M30)","v":""},{"$f":"IF(②選手情報入力!N30=\"\",\"\",②選手情報入力!N30)","v":""},{"$f":"IF(②選手情報入力!O30=\"\",\"\",②選手情報入力!O30)","v":""},{"$f":"IF(②選手情報入力!P30=\"\",\"\",②選手情報入力!P30)","v":""}]
[22,{"$f":"IF(②選手情報入力!C31=\"\",\"\",②選手情報入力!C31)","v":""},{"$f":"IF(②選手情報入力!D31=\"\",\"\",②選手情報入力!D31)","v":""},{"$f":"IF(②選手情報入力!G31=\"\",\"\",②選手情報入力!G31)","v":""},{"$f":"IF(②選手情報入力!H31=\"\",\"\",②選手情報入力!H31)","v":""},{"$f":"IF(②選手情報入力!I31=\"\",\"\",②選手情報入力!I31)","v":""},{"$f":"IF(②選手情報入力!J31=\"\",\"\",②選手情報入力!J31)","v":""},{"$f":"IF(②選手情報入力!K31=\"\",\"\",②選手情報入力!K31)","v":""},{"$f":"IF(②選手情報入力!L31=\"\",\"\",②選手情報入力!L31)","v":""},{"$f":"IF(②選手情報入力!M31=\"\",\"\",②選手情報入力!M31)","v":""},{"$f":"IF(②選手情報入力!N31=\"\",\"\",②選手情報入力!N31)","v":""},{"$f":"IF(②選手情報入力!O31=\"\",\"\",②選手情報入力!O31)","v":""},{"$f":"IF(②選手情報入力!P31=\"\",\"\",②選手情報入力!P31)","v":""}]
[23,{"$f":"IF(②選手情報入力!C32=\"\",\"\",②選手情報入力!C32)","v":""},{"$f":"IF(②選手情報入力!D32=\"\",\"\",②選手情報入力!D32)","v":""},{"$f":"IF(②選手情報入力!G32=\"\",\"\",②選手情報入力!G32)","v":""},{"$f":"IF(②選手情報入力!H32=\"\",\"\",②選手情報入力!H32)","v":""},{"$f":"IF(②選手情報入力!I32=\"\",\"\",②選手情報入力!I32)","v":""},{"$f":"IF(②選手情報入力!J32=\"\",\"\",②選手情報入力!J32)","v":""},{"$f":"IF(②選手情報入力!K32=\"\",\"\",②選手情報入力!K32)","v":""},{"$f":"IF(②選手情報入力!L32=\"\",\"\",②選手情報入力!L32)","v":""},{"$f":"IF(②選手情報入力!M32=\"\",\"\",②選手情報入力!M32)","v":""},{"$f":"IF(②選手情報入力!N32=\"\",\"\",②選手情報入力!N32)","v":""},{"$f":"IF(②選手情報入力!O32=\"\",\"\",②選手情報入力!O32)","v":""},{"$f":"IF(②選手情報入力!P32=\"\",\"\",②選手情報入力!P32)","v":""}]
[24,{"$f":"IF(②選手情報入力!C33=\"\",\"\",②選手情報入力!C33)","v":""},{"$f":"IF(②選手情報入力!D33=\"\",\"\",②選手情報入力!D33)","v":""},{"$f":"IF(②選手情報入力!G33=\"\",\"\",②選手情報入力!G33)","v":""},{"$f":"IF(②選手情報入力!H33=\"\",\"\",②選手情報入力!H33)","v":""},{"$f":"IF(②選手情報入力!I33=\"\",\"\",②選手情報入力!I33)","v":""},{"$f":"IF(②選手情報入力!J33=\"\",\"\",②選手情報入力!J33)","v":""},{"$f":"IF(②選手情報入力!K33=\"\",\"\",②選手情報入力!K33)","v":""},{"$f":"IF(②選手情報入力!L33=\"\",\"\",②選手情報入力!L33)","v":""},{"$f":"IF(②選手情報入力!M33=\"\",\"\",②選手情報入力!M33)","v":""},{"$f":"IF(②選手情報入力!N33=\"\",\"\",②選手情報入力!N33)","v":""},{"$f":"IF(②選手情報入力!O33=\"\",\"\",②選手情報入力!O33)","v":""},{"$f":"IF(②選手情報入力!P33=\"\",\"\",②選手情報入力!P33)","v":""}]
[25,{"$f":"IF(②選手情報入力!C34=\"\",\"\",②選手情報入力!C34)","v":""},{"$f":"IF(②選手情報入力!D34=\"\",\"\",②選手情報入力!D34)","v":""},{"$f":"IF(②選手情報入力!G34=\"\",\"\",②選手情報入力!G34)","v":""},{"$f":"IF(②選手情報入力!H34=\"\",\"\",②選手情報入力!H34)","v":""},{"$f":"IF(②選手情報入力!I34=\"\",\"\",②選手情報入力!I34)","v":""},{"$f":"IF(②選手情報入力!J34=\"\",\"\",②選手情報入力!J34)","v":""},{"$f":"IF(②選手情報入力!K34=\"\",\"\",②選手情報入力!K34)","v":""},{"$f":"IF(②選手情報入力!L34=\"\",\"\",②選手情報入力!L34)","v":""},{"$f":"IF(②選手情報入力!M34=\"\",\"\",②選手情報入力!M34)","v":""},{"$f":"IF(②選手情報入力!N34=\"\",\"\",②選手情報入力!N34)","v":""},{"$f":"IF(②選手情報入力!O34=\"\",\"\",②選手情報入力!O34)","v":""},{"$f":"IF(②選手情報入力!P34=\"\",\"\",②選手情報入力!P34)","v":""}]
[26,{"$f":"IF(②選手情報入力!C35=\"\",\"\",②選手情報入力!C35)","v":""},{"$f":"IF(②選手情報入力!D35=\"\",\"\",②選手情報入力!D35)","v":""},{"$f":"IF(②選手情報入力!G35=\"\",\"\",②選手情報入力!G35)","v":""},{"$f":"IF(②選手情報入力!H35=\"\",\"\",②選手情報入力!H35)","v":""},{"$f":"IF(②選手情報入力!I35=\"\",\"\",②選手情報入力!I35)","v":""},{"$f":"IF(②選手情報入力!J35=\"\",\"\",②選手情報入力!J35)","v":""},{"$f":"IF(②選手情報入力!K35=\"\",\"\",②選手情報入力!K35)","v":""},{"$f":"IF(②選手情報入力!L35=\"\",\"\",②選手情報入力!L35)","v":""},{"$f":"IF(②選手情報入力!M35=\"\",\"\",②選手情報入力!M35)","v":""},{"$f":"IF(②選手情報入力!N35=\"\",\"\",②選手情報入力!N35)","v":""},{"$f":"IF(②選手情報入力!O35=\"\",\"\",②選手情報入力!O35)","v":""},{"$f":"IF(②選手情報入力!P35=\"\",\"\",②選手情報入力!P35)","v":""}]
[27,{"$f":"IF(②選手情報入力!C36=\"\",\"\",②選手情報入力!C36)","v":""},{"$f":"IF(②選手情報入力!D36=\"\",\"\",②選手情報入力!D36)","v":""},{"$f":"IF(②選手情報入力!G36=\"\",\"\",②選手情報入力!G36)","v":""},{"$f":"IF(②選手情報入力!H36=\"\",\"\",②選手情報入力!H36)","v":""},{"$f":"IF(②選手情報入力!I36=\"\",\"\",②選手情報入力!I36)","v":""},{"$f":"IF(②選手情報入力!J36=\"\",\"\",②選手情報入力!J36)","v":""},{"$f":"IF(②選手情報入力!K36=\"\",\"\",②選手情報入力!K36)","v":""},{"$f":"IF(②選手情報入力!L36=\"\",\"\",②選手情報入力!L36)","v":""},{"$f":"IF(②選手情報入力!M36=\"\",\"\",②選手情報入力!M36)","v":""},{"$f":"IF(②選手情報入力!N36=\"\",\"\",②選手情報入力!N36)","v":""},{"$f":"IF(②選手情報入力!O36=\"\",\"\",②選手情報入力!O36)","v":""},{"$f":"IF(②選手情報入力!P36=\"\",\"\",②選手情報入力!P36)","v":""}]
[28,{"$f":"IF(②選手情報入力!C37=\"\",\"\",②選手情報入力!C37)","v":""},{"$f":"IF(②選手情報入力!D37=\"\",\"\",②選手情報入力!D37)","v":""},{"$f":"IF(②選手情報入力!G37=\"\",\"\",②選手情報入力!G37)","v":""},{"$f":"IF(②選手情報入力!H37=\"\",\"\",②選手情報入力!H37)","v":""},{"$f":"IF(②選手情報入力!I37=\"\",\"\",②選手情報入力!I37)","v":""},{"$f":"IF(②選手情報入力!J37=\"\",\"\",②選手情報入力!J37)","v":""},{"$f":"IF(②選手情報入力!K37=\"\",\"\",②選手情報入力!K37)","v":""},{"$f":"IF(②選手情報入力!L37=\"\",\"\",②選手情報入力!L37)","v":""},{"$f":"IF(②選手情報入力!M37=\"\",\"\",②選手情報入力!M37)","v":""},{"$f":"IF(②選手情報入力!N37=\"\",\"\",②選手情報入力!N37)","v":""},{"$f":"IF(②選手情報入力!O37=\"\",\"\",②選手情報入力!O37)","v":""},{"$f":"IF(②選手情報入力!P37=\"\",\"\",②選手情報入力!P37)","v":""}]
[29,{"$f":"IF(②選手情報入力!C38=\"\",\"\",②選手情報入力!C38)","v":""},{"$f":"IF(②選手情報入力!D38=\"\",\"\",②選手情報入力!D38)","v":""},{"$f":"IF(②選手情報入力!G38=\"\",\"\",②選手情報入力!G38)","v":""},{"$f":"IF(②選手情報入力!H38=\"\",\"\",②選手情報入力!H38)","v":""},{"$f":"IF(②選手情報入力!I38=\"\",\"\",②選手情報入力!I38)","v":""},{"$f":"IF(②選手情報入力!J38=\"\",\"\",②選手情報入力!J38)","v":""},{"$f":"IF(②選手情報入力!K38=\"\",\"\",②選手情報入力!K38)","v":""},{"$f":"IF(②選手情報入力!L38=\"\",\"\",②選手情報入力!L38)","v":""},{"$f":"IF(②選手情報入力!M38=\"\",\"\",②選手情報入力!M38)","v":""},{"$f":"IF(②選手情報入力!N38=\"\",\"\",②選手情報入力!N38)","v":""},{"$f":"IF(②選手情報入力!O38=\"\",\"\",②選手情報入力!O38)","v":""},{"$f":"IF(②選手情報入力!P38=\"\",\"\",②選手情報入力!P38)","v":""}]
[30,{"$f":"IF(②選手情報入力!C39=\"\",\"\",②選手情報入力!C39)","v":""},{"$f":"IF(②選手情報入力!D39=\"\",\"\",②選手情報入力!D39)","v":""},{"$f":"IF(②選手情報入力!G39=\"\",\"\",②選手情報入力!G39)","v":""},{"$f":"IF(②選手情報入力!H39=\"\",\"\",②選手情報入力!H39)","v":""},{"$f":"IF(②選手情報入力!I39=\"\",\"\",②選手情報入力!I39)","v":""},{"$f":"IF(②選手情報入力!J39=\"\",\"\",②選手情報入力!J39)","v":""},{"$f":"IF(②選手情報入力!K39=\"\",\"\",②選手情報入力!K39)","v":""},{"$f":"IF(②選手情報入力!L39=\"\",\"\",②選手情報入力!L39)","v":""},{"$f":"IF(②選手情報入力!M39=\"\",\"\",②選手情報入力!M39)","v":""},{"$f":"IF(②選手情報入力!N39=\"\",\"\",②選手情報入力!N39)","v":""},{"$f":"IF(②選手情報入力!O39=\"\",\"\",②選手情報入力!O39)","v":""},{"$f":"IF(②選手情報入力!P39=\"\",\"\",②選手情報入力!P39)","v":""}]
[31,{"$f":"IF(②選手情報入力!C40=\"\",\"\",②選手情報入力!C40)","v":""},{"$f":"IF(②選手情報入力!D40=\"\",\"\",②選手情報入力!D40)","v":""},{"$f":"IF(②選手情報入力!G40=\"\",\"\",②選手情報入力!G40)","v":""},{"$f":"IF(②選手情報入力!H40=\"\",\"\",②選手情報入力!H40)","v":""},{"$f":"IF(②選手情報入力!I40=\"\",\"\",②選手情報入力!I40)","v":""},{"$f":"IF(②選手情報入力!J40=\"\",\"\",②選手情報入力!J40)","v":""},{"$f":"IF(②選手情報入力!K40=\"\",\"\",②選手情報入力!K40)","v":""},{"$f":"IF(②選手情報入力!L40=\"\",\"\",②選手情報入力!L40)","v":""},{"$f":"IF(②選手情報入力!M40=\"\",\"\",②選手情報入力!M40)","v":""},{"$f":"IF(②選手情報入力!N40=\"\",\"\",②選手情報入力!N40)","v":""},{"$f":"IF(②選手情報入力!O40=\"\",\"\",②選手情報入力!O40)","v":""},{"$f":"IF(②選手情報入力!P40=\"\",\"\",②選手情報入力!P40)","v":""}]
[32,{"$f":"IF(②選手情報入力!C41=\"\",\"\",②選手情報入力!C41)","v":""},{"$f":"IF(②選手情報入力!D41=\"\",\"\",②選手情報入力!D41)","v":""},{"$f":"IF(②選手情報入力!G41=\"\",\"\",②選手情報入力!G41)","v":""},{"$f":"IF(②選手情報入力!H41=\"\",\"\",②選手情報入力!H41)","v":""},{"$f":"IF(②選手情報入力!I41=\"\",\"\",②選手情報入力!I41)","v":""},{"$f":"IF(②選手情報入力!J41=\"\",\"\",②選手情報入力!J41)","v":""},{"$f":"IF(②選手情報入力!K41=\"\",\"\",②選手情報入力!K41)","v":""},{"$f":"IF(②選手情報入力!L41=\"\",\"\",②選手情報入力!L41)","v":""},{"$f":"IF(②選手情報入力!M41=\"\",\"\",②選手情報入力!M41)","v":""},{"$f":"IF(②選手情報入力!N41=\"\",\"\",②選手情報入力!N41)","v":""},{"$f":"IF(②選手情報入力!O41=\"\",\"\",②選手情報入力!O41)","v":""},{"$f":"IF(②選手情報入力!P41=\"\",\"\",②選手情報入力!P41)","v":""}]
[33,{"$f":"IF(②選手情報入力!C42=\"\",\"\",②選手情報入力!C42)","v":""},{"$f":"IF(②選手情報入力!D42=\"\",\"\",②選手情報入力!D42)","v":""},{"$f":"IF(②選手情報入力!G42=\"\",\"\",②選手情報入力!G42)","v":""},{"$f":"IF(②選手情報入力!H42=\"\",\"\",②選手情報入力!H42)","v":""},{"$f":"IF(②選手情報入力!I42=\"\",\"\",②選手情報入力!I42)","v":""},{"$f":"IF(②選手情報入力!J42=\"\",\"\",②選手情報入力!J42)","v":""},{"$f":"IF(②選手情報入力!K42=\"\",\"\",②選手情報入力!K42)","v":""},{"$f":"IF(②選手情報入力!L42=\"\",\"\",②選手情報入力!L42)","v":""},{"$f":"IF(②選手情報入力!M42=\"\",\"\",②選手情報入力!M42)","v":""},{"$f":"IF(②選手情報入力!N42=\"\",\"\",②選手情報入力!N42)","v":""},{"$f":"IF(②選手情報入力!O42=\"\",\"\",②選手情報入力!O42)","v":""},{"$f":"IF(②選手情報入力!P42=\"\",\"\",②選手情報入力!P42)","v":""}]
[34,{"$f":"IF(②選手情報入力!C43=\"\",\"\",②選手情報入力!C43)","v":""},{"$f":"IF(②選手情報入力!D43=\"\",\"\",②選手情報入力!D43)","v":""},{"$f":"IF(②選手情報入力!G43=\"\",\"\",②選手情報入力!G43)","v":""},{"$f":"IF(②選手情報入力!H43=\"\",\"\",②選手情報入力!H43)","v":""},{"$f":"IF(②選手情報入力!I43=\"\",\"\",②選手情報入力!I43)","v":""},{"$f":"IF(②選手情報入力!J43=\"\",\"\",②選手情報入力!J43)","v":""},{"$f":"IF(②選手情報入力!K43=\"\",\"\",②選手情報入力!K43)","v":""},{"$f":"IF(②選手情報入力!L43=\"\",\"\",②選手情報入力!L43)","v":""},{"$f":"IF(②選手情報入力!M43=\"\",\"\",②選手情報入力!M43)","v":""},{"$f":"IF(②選手情報入力!N43=\"\",\"\",②選手情報入力!N43)","v":""},{"$f":"IF(②選手情報入力!O43=\"\",\"\",②選手情報入力!O43)","v":""},{"$f":"IF(②選手情報入力!P43=\"\",\"\",②選手情報入力!P43)","v":""}]
[35,{"$f":"IF(②選手情報入力!C44=\"\",\"\",②選手情報入力!C44)","v":""},{"$f":"IF(②選手情報入力!D44=\"\",\"\",②選手情報入力!D44)","v":""},{"$f":"IF(②選手情報入力!G44=\"\",\"\",②選手情報入力!G44)","v":""},{"$f":"IF(②選手情報入力!H44=\"\",\"\",②選手情報入力!H44)","v":""},{"$f":"IF(②選手情報入力!I44=\"\",\"\",②選手情報入力!I44)","v":""},{"$f":"IF(②選手情報入力!J44=\"\",\"\",②選手情報入力!J44)","v":""},{"$f":"IF(②選手情報入力!K44=\"\",\"\",②選手情報入力!K44)","v":""},{"$f":"IF(②選手情報入力!L44=\"\",\"\",②選手情報入力!L44)","v":""},{"$f":"IF(②選手情報入力!M44=\"\",\"\",②選手情報入力!M44)","v":""},{"$f":"IF(②選手情報入力!N44=\"\",\"\",②選手情報入力!N44)","v":""},{"$f":"IF(②選手情報入力!O44=\"\",\"\",②選手情報入力!O44)","v":""},{"$f":"IF(②選手情報入力!P44=\"\",\"\",②選手情報入力!P44)","v":""}]
[36,{"$f":"IF(②選手情報入力!C45=\"\",\"\",②選手情報入力!C45)","v":""},{"$f":"IF(②選手情報入力!D45=\"\",\"\",②選手情報入力!D45)","v":""},{"$f":"IF(②選手情報入力!G45=\"\",\"\",②選手情報入力!G45)","v":""},{"$f":"IF(②選手情報入力!H45=\"\",\"\",②選手情報入力!H45)","v":""},{"$f":"IF(②選手情報入力!I45=\"\",\"\",②選手情報入力!I45)","v":""},{"$f":"IF(②選手情報入力!J45=\"\",\"\",②選手情報入力!J45)","v":""},{"$f":"IF(②選手情報入力!K45=\"\",\"\",②選手情報入力!K45)","v":""},{"$f":"IF(②選手情報入力!L45=\"\",\"\",②選手情報入力!L45)","v":""},{"$f":"IF(②選手情報入力!M45=\"\",\"\",②選手情報入力!M45)","v":""},{"$f":"IF(②選手情報入力!N45=\"\",\"\",②選手情報入力!N45)","v":""},{"$f":"IF(②選手情報入力!O45=\"\",\"\",②選手情報入力!O45)","v":""},{"$f":"IF(②選手情報入力!P45=\"\",\"\",②選手情報入力!P45)","v":""}]
[37,{"$f":"IF(②選手情報入力!C46=\"\",\"\",②選手情報入力!C46)","v":""},{"$f":"IF(②選手情報入力!D46=\"\",\"\",②選手情報入力!D46)","v":""},{"$f":"IF(②選手情報入力!G46=\"\",\"\",②選手情報入力!G46)","v":""},{"$f":"IF(②選手情報入力!H46=\"\",\"\",②選手情報入力!H46)","v":""},{"$f":"IF(②選手情報入力!I46=\"\",\"\",②選手情報入力!I46)","v":""},{"$f":"IF(②選手情報入力!J46=\"\",\"\",②選手情報入力!J46)","v":""},{"$f":"IF(②選手情報入力!K46=\"\",\"\",②選手情報入力!K46)","v":""},{"$f":"IF(②選手情報入力!L46=\"\",\"\",②選手情報入力!L46)","v":""},{"$f":"IF(②選手情報入力!M46=\"\",\"\",②選手情報入力!M46)","v":""},{"$f":"IF(②選手情報入力!N46=\"\",\"\",②選手情報入力!N46)","v":""},{"$f":"IF(②選手情報入力!O46=\"\",\"\",②選手情報入力!O46)","v":""},{"$f":"IF(②選手情報入力!P46=\"\",\"\",②選手情報入力!P46)","v":""}]
[38,{"$f":"IF(②選手情報入力!C47=\"\",\"\",②選手情報入力!C47)","v":""},{"$f":"IF(②選手情報入力!D47=\"\",\"\",②選手情報入力!D47)","v":""},{"$f":"IF(②選手情報入力!G47=\"\",\"\",②選手情報入力!G47)","v":""},{"$f":"IF(②選手情報入力!H47=\"\",\"\",②選手情報入力!H47)","v":""},{"$f":"IF(②選手情報入力!I47=\"\",\"\",②選手情報入力!I47)","v":""},{"$f":"IF(②選手情報入力!J47=\"\",\"\",②選手情報入力!J47)","v":""},{"$f":"IF(②選手情報入力!K47=\"\",\"\",②選手情報入力!K47)","v":""},{"$f":"IF(②選手情報入力!L47=\"\",\"\",②選手情報入力!L47)","v":""},{"$f":"IF(②選手情報入力!M47=\"\",\"\",②選手情報入力!M47)","v":""},{"$f":"IF(②選手情報入力!N47=\"\",\"\",②選手情報入力!N47)","v":""},{"$f":"IF(②選手情報入力!O47=\"\",\"\",②選手情報入力!O47)","v":""},{"$f":"IF(②選手情報入力!P47=\"\",\"\",②選手情報入力!P47)","v":""}]
[39,{"$f":"IF(②選手情報入力!C48=\"\",\"\",②選手情報入力!C48)","v":""},{"$f":"IF(②選手情報入力!D48=\"\",\"\",②選手情報入力!D48)","v":""},{"$f":"IF(②選手情報入力!G48=\"\",\"\",②選手情報入力!G48)","v":""},{"$f":"IF(②選手情報入力!H48=\"\",\"\",②選手情報入力!H48)","v":""},{"$f":"IF(②選手情報入力!I48=\"\",\"\",②選手情報入力!I48)","v":""},{"$f":"IF(②選手情報入力!J48=\"\",\"\",②選手情報入力!J48)","v":""},{"$f":"IF(②選手情報入力!K48=\"\",\"\",②選手情報入力!K48)","v":""},{"$f":"IF(②選手情報入力!L48=\"\",\"\",②選手情報入力!L48)","v":""},{"$f":"IF(②選手情報入力!M48=\"\",\"\",②選手情報入力!M48)","v":""},{"$f":"IF(②選手情報入力!N48=\"\",\"\",②選手情報入力!N48)","v":""},{"$f":"IF(②選手情報入力!O48=\"\",\"\",②選手情報入力!O48)","v":""},{"$f":"IF(②選手情報入力!P48=\"\",\"\",②選手情報入力!P48)","v":""}]
[40,{"$f":"IF(②選手情報入力!C49=\"\",\"\",②選手情報入力!C49)","v":""},{"$f":"IF(②選手情報入力!D49=\"\",\"\",②選手情報入力!D49)","v":""},{"$f":"IF(②選手情報入力!G49=\"\",\"\",②選手情報入力!G49)","v":""},{"$f":"IF(②選手情報入力!H49=\"\",\"\",②選手情報入力!H49)","v":""},{"$f":"IF(②選手情報入力!I49=\"\",\"\",②選手情報入力!I49)","v":""},{"$f":"IF(②選手情報入力!J49=\"\",\"\",②選手情報入力!J49)","v":""},{"$f":"IF(②選手情報入力!K49=\"\",\"\",②選手情報入力!K49)","v":""},{"$f":"IF(②選手情報入力!L49=\"\",\"\",②選手情報入力!L49)","v":""},{"$f":"IF(②選手情報入力!M49=\"\",\"\",②選手情報入力!M49)","v":""},{"$f":"IF(②選手情報入力!N49=\"\",\"\",②選手情報入力!N49)","v":""},{"$f":"IF(②選手情報入力!O49=\"\",\"\",②選手情報入力!O49)","v":""},{"$f":"IF(②選手情報入力!P49=\"\",\"\",②選手情報入力!P49)","v":""}]
[41,{"$f":"IF(②選手情報入力!C50=\"\",\"\",②選手情報入力!C50)","v":""},{"$f":"IF(②選手情報入力!D50=\"\",\"\",②選手情報入力!D50)","v":""},{"$f":"IF(②選手情報入力!G50=\"\",\"\",②選手情報入力!G50)","v":""},{"$f":"IF(②選手情報入力!H50=\"\",\"\",②選手情報入力!H50)","v":""},{"$f":"IF(②選手情報入力!I50=\"\",\"\",②選手情報入力!I50)","v":""},{"$f":"IF(②選手情報入力!J50=\"\",\"\",②選手情報入力!J50)","v":""},{"$f":"IF(②選手情報入力!K50=\"\",\"\",②選手情報入力!K50)","v":""},{"$f":"IF(②選手情報入力!L50=\"\",\"\",②選手情報入力!L50)","v":""},{"$f":"IF(②選手情報入力!M50=\"\",\"\",②選手情報入力!M50)","v":""},{"$f":"IF(②選手情報入力!N50=\"\",\"\",②選手情報入力!N50)","v":""},{"$f":"IF(②選手情報入力!O50=\"\",\"\",②選手情報入力!O50)","v":""},{"$f":"IF(②選手情報入力!P50=\"\",\"\",②選手情報入力!P50)","v":""}]
[42,{"$f":"IF(②選手情報入力!C51=\"\",\"\",②選手情報入力!C51)","v":""},{"$f":"IF(②選手情報入力!D51=\"\",\"\",②選手情報入力!D51)","v":""},{"$f":"IF(②選手情報入力!G51=\"\",\"\",②選手情報入力!G51)","v":""},{"$f":"IF(②選手情報入力!H51=\"\",\"\",②選手情報入力!H51)","v":""},{"$f":"IF(②選手情報入力!I51=\"\",\"\",②選手情報入力!I51)","v":""},{"$f":"IF(②選手情報入力!J51=\"\",\"\",②選手情報入力!J51)","v":""},{"$f":"IF(②選手情報入力!K51=\"\",\"\",②選手情報入力!K51)","v":""},{"$f":"IF(②選手情報入力!L51=\"\",\"\",②選手情報入力!L51)","v":""},{"$f":"IF(②選手情報入力!M51=\"\",\"\",②選手情報入力!M51)","v":""},{"$f":"IF(②選手情報入力!N51=\"\",\"\",②選手情報入力!N51)","v":""},{"$f":"IF(②選手情報入力!O51=\"\",\"\",②選手情報入力!O51)","v":""},{"$f":"IF(②選手情報入力!P51=\"\",\"\",②選手情報入力!P51)","v":""}]
[43,{"$f":"IF(②選手情報入力!C52=\"\",\"\",②選手情報入力!C52)","v":""},{"$f":"IF(②選手情報入力!D52=\"\",\"\",②選手情報入力!D52)","v":""},{"$f":"IF(②選手情報入力!G52=\"\",\"\",②選手情報入力!G52)","v":""},{"$f":"IF(②選手情報入力!H52=\"\",\"\",②選手情報入力!H52)","v":""},{"$f":"IF(②選手情報入力!I52=\"\",\"\",②選手情報入力!I52)","v":""},{"$f":"IF(②選手情報入力!J52=\"\",\"\",②選手情報入力!J52)","v":""},{"$f":"IF(②選手情報入力!K52=\"\",\"\",②選手情報入力!K52)","v":""},{"$f":"IF(②選手情報入力!L52=\"\",\"\",②選手情報入力!L52)","v":""},{"$f":"IF(②選手情報入力!M52=\"\",\"\",②選手情報入力!M52)","v":""},{"$f":"IF(②選手情報入力!N52=\"\",\"\",②選手情報入力!N52)","v":""},{"$f":"IF(②選手情報入力!O52=\"\",\"\",②選手情報入力!O52)","v":""},{"$f":"IF(②選手情報入力!P52=\"\",\"\",②選手情報入力!P52)","v":""}]
[44,{"$f":"IF(②選手情報入力!C53=\"\",\"\",②選手情報入力!C53)","v":""},{"$f":"IF(②選手情報入力!D53=\"\",\"\",②選手情報入力!D53)","v":""},{"$f":"IF(②選手情報入力!G53=\"\",\"\",②選手情報入力!G53)","v":""},{"$f":"IF(②選手情報入力!H53=\"\",\"\",②選手情報入力!H53)","v":""},{"$f":"IF(②選手情報入力!I53=\"\",\"\",②選手情報入力!I53)","v":""},{"$f":"IF(②選手情報入力!J53=\"\",\"\",②選手情報入力!J53)","v":""},{"$f":"IF(②選手情報入力!K53=\"\",\"\",②選手情報入力!K53)","v":""},{"$f":"IF(②選手情報入力!L53=\"\",\"\",②選手情報入力!L53)","v":""},{"$f":"IF(②選手情報入力!M53=\"\",\"\",②選手情報入力!M53)","v":""},{"$f":"IF(②選手情報入力!N53=\"\",\"\",②選手情報入力!N53)","v":""},{"$f":"IF(②選手情報入力!O53=\"\",\"\",②選手情報入力!O53)","v":""},{"$f":"IF(②選手情報入力!P53=\"\",\"\",②選手情報入力!P53)","v":""}]
[45,{"$f":"IF(②選手情報入力!C54=\"\",\"\",②選手情報入力!C54)","v":""},{"$f":"IF(②選手情報入力!D54=\"\",\"\",②選手情報入力!D54)","v":""},{"$f":"IF(②選手情報入力!G54=\"\",\"\",②選手情報入力!G54)","v":""},{"$f":"IF(②選手情報入力!H54=\"\",\"\",②選手情報入力!H54)","v":""},{"$f":"IF(②選手情報入力!I54=\"\",\"\",②選手情報入力!I54)","v":""},{"$f":"IF(②選手情報入力!J54=\"\",\"\",②選手情報入力!J54)","v":""},{"$f":"IF(②選手情報入力!K54=\"\",\"\",②選手情報入力!K54)","v":""},{"$f":"IF(②選手情報入力!L54=\"\",\"\",②選手情報入力!L54)","v":""},{"$f":"IF(②選手情報入力!M54=\"\",\"\",②選手情報入力!M54)","v":""},{"$f":"IF(②選手情報入力!N54=\"\",\"\",②選手情報入力!N54)","v":""},{"$f":"IF(②選手情報入力!O54=\"\",\"\",②選手情報入力!O54)","v":""},{"$f":"IF(②選手情報入力!P54=\"\",\"\",②選手情報入力!P54)","v":""}]
[46,{"$f":"IF(②選手情報入力!C55=\"\",\"\",②選手情報入力!C55)","v":""},{"$f":"IF(②選手情報入力!D55=\"\",\"\",②選手情報入力!D55)","v":""},{"$f":"IF(②選手情報入力!G55=\"\",\"\",②選手情報入力!G55)","v":""},{"$f":"IF(②選手情報入力!H55=\"\",\"\",②選手情報入力!H55)","v":""},{"$f":"IF(②選手情報入力!I55=\"\",\"\",②選手情報入力!I55)","v":""},{"$f":"IF(②選手情報入力!J55=\"\",\"\",②選手情報入力!J55)","v":""},{"$f":"IF(②選手情報入力!K55=\"\",\"\",②選手情報入力!K55)","v":""},{"$f":"IF(②選手情報入力!L55=\"\",\"\",②選手情報入力!L55)","v":""},{"$f":"IF(②選手情報入力!M55=\"\",\"\",②選手情報入力!M55)","v":""},{"$f":"IF(②選手情報入力!N55=\"\",\"\",②選手情報入力!N55)","v":""},{"$f":"IF(②選手情報入力!O55=\"\",\"\",②選手情報入力!O55)","v":""},{"$f":"IF(②選手情報入力!P55=\"\",\"\",②選手情報入力!P55)","v":""}]
[47,{"$f":"IF(②選手情報入力!C56=\"\",\"\",②選手情報入力!C56)","v":""},{"$f":"IF(②選手情報入力!D56=\"\",\"\",②選手情報入力!D56)","v":""},{"$f":"IF(②選手情報入力!G56=\"\",\"\",②選手情報入力!G56)","v":""},{"$f":"IF(②選手情報入力!H56=\"\",\"\",②選手情報入力!H56)","v":""},{"$f":"IF(②選手情報入力!I56=\"\",\"\",②選手情報入力!I56)","v":""},{"$f":"IF(②選手情報入力!J56=\"\",\"\",②選手情報入力!J56)","v":""},{"$f":"IF(②選手情報入力!K56=\"\",\"\",②選手情報入力!K56)","v":""},{"$f":"IF(②選手情報入力!L56=\"\",\"\",②選手情報入力!L56)","v":""},{"$f":"IF(②選手情報入力!M56=\"\",\"\",②選手情報入力!M56)","v":""},{"$f":"IF(②選手情報入力!N56=\"\",\"\",②選手情報入力!N56)","v":""},{"$f":"IF(②選手情報入力!O56=\"\",\"\",②選手情報入力!O56)","v":""},{"$f":"IF(②選手情報入力!P56=\"\",\"\",②選手情報入力!P56)","v":""}]
[48,{"$f":"IF(②選手情報入力!C57=\"\",\"\",②選手情報入力!C57)","v":""},{"$f":"IF(②選手情報入力!D57=\"\",\"\",②選手情報入力!D57)","v":""},{"$f":"IF(②選手情報入力!G57=\"\",\"\",②選手情報入力!G57)","v":""},{"$f":"IF(②選手情報入力!H57=\"\",\"\",②選手情報入力!H57)","v":""},{"$f":"IF(②選手情報入力!I57=\"\",\"\",②選手情報入力!I57)","v":""},{"$f":"IF(②選手情報入力!J57=\"\",\"\",②選手情報入力!J57)","v":""},{"$f":"IF(②選手情報入力!K57=\"\",\"\",②選手情報入力!K57)","v":""},{"$f":"IF(②選手情報入力!L57=\"\",\"\",②選手情報入力!L57)","v":""},{"$f":"IF(②選手情報入力!M57=\"\",\"\",②選手情報入力!M57)","v":""},{"$f":"IF(②選手情報入力!N57=\"\",\"\",②選手情報入力!N57)","v":""},{"$f":"IF(②選手情報入力!O57=\"\",\"\",②選手情報入力!O57)","v":""},{"$f":"IF(②選手情報入力!P57=\"\",\"\",②選手情報入力!P57)","v":""}]
[49,{"$f":"IF(②選手情報入力!C58=\"\",\"\",②選手情報入力!C58)","v":""},{"$f":"IF(②選手情報入力!D58=\"\",\"\",②選手情報入力!D58)","v":""},{"$f":"IF(②選手情報入力!G58=\"\",\"\",②選手情報入力!G58)","v":""},{"$f":"IF(②選手情報入力!H58=\"\",\"\",②選手情報入力!H58)","v":""},{"$f":"IF(②選手情報入力!I58=\"\",\"\",②選手情報入力!I58)","v":""},{"$f":"IF(②選手情報入力!J58=\"\",\"\",②選手情報入力!J58)","v":""},{"$f":"IF(②選手情報入力!K58=\"\",\"\",②選手情報入力!K58)","v":""},{"$f":"IF(②選手情報入力!L58=\"\",\"\",②選手情報入力!L58)","v":""},{"$f":"IF(②選手情報入力!M58=\"\",\"\",②選手情報入力!M58)","v":""},{"$f":"IF(②選手情報入力!N58=\"\",\"\",②選手情報入力!N58)","v":""},{"$f":"IF(②選手情報入力!O58=\"\",\"\",②選手情報入力!O58)","v":""},{"$f":"IF(②選手情報入力!P58=\"\",\"\",②選手情報入力!P58)","v":""}]
[50,{"$f":"IF(②選手情報入力!C59=\"\",\"\",②選手情報入力!C59)","v":""},{"$f":"IF(②選手情報入力!D59=\"\",\"\",②選手情報入力!D59)","v":""},{"$f":"IF(②選手情報入力!G59=\"\",\"\",②選手情報入力!G59)","v":""},{"$f":"IF(②選手情報入力!H59=\"\",\"\",②選手情報入力!H59)","v":""},{"$f":"IF(②選手情報入力!I59=\"\",\"\",②選手情報入力!I59)","v":""},{"$f":"IF(②選手情報入力!J59=\"\",\"\",②選手情報入力!J59)","v":""},{"$f":"IF(②選手情報入力!K59=\"\",\"\",②選手情報入力!K59)","v":""},{"$f":"IF(②選手情報入力!L59=\"\",\"\",②選手情報入力!L59)","v":""},{"$f":"IF(②選手情報入力!M59=\"\",\"\",②選手情報入力!M59)","v":""},{"$f":"IF(②選手情報入力!N59=\"\",\"\",②選手情報入力!N59)","v":""},{"$f":"IF(②選手情報入力!O59=\"\",\"\",②選手情報入力!O59)","v":""},{"$f":"IF(②選手情報入力!P59=\"\",\"\",②選手情報入力!P59)","v":""}]
[51,{"$f":"IF(②選手情報入力!C60=\"\",\"\",②選手情報入力!C60)","v":""},{"$f":"IF(②選手情報入力!D60=\"\",\"\",②選手情報入力!D60)","v":""},{"$f":"IF(②選手情報入力!G60=\"\",\"\",②選手情報入力!G60)","v":""},{"$f":"IF(②選手情報入力!H60=\"\",\"\",②選手情報入力!H60)","v":""},{"$f":"IF(②選手情報入力!I60=\"\",\"\",②選手情報入力!I60)","v":""},{"$f":"IF(②選手情報入力!J60=\"\",\"\",②選手情報入力!J60)","v":""},{"$f":"IF(②選手情報入力!K60=\"\",\"\",②選手情報入力!K60)","v":""},{"$f":"IF(②選手情報入力!L60=\"\",\"\",②選手情報入力!L60)","v":""},{"$f":"IF(②選手情報入力!M60=\"\",\"\",②選手情報入力!M60)","v":""},{"$f":"IF(②選手情報入力!N60=\"\",\"\",②選手情報入力!N60)","v":""},{"$f":"IF(②選手情報入力!O60=\"\",\"\",②選手情報入力!O60)","v":""},{"$f":"IF(②選手情報入力!P60=\"\",\"\",②選手情報入力!P60)","v":""}]
[52,{"$f":"IF(②選手情報入力!C61=\"\",\"\",②選手情報入力!C61)","v":""},{"$f":"IF(②選手情報入力!D61=\"\",\"\",②選手情報入力!D61)","v":""},{"$f":"IF(②選手情報入力!G61=\"\",\"\",②選手情報入力!G61)","v":""},{"$f":"IF(②選手情報入力!H61=\"\",\"\",②選手情報入力!H61)","v":""},{"$f":"IF(②選手情報入力!I61=\"\",\"\",②選手情報入力!I61)","v":""},{"$f":"IF(②選手情報入力!J61=\"\",\"\",②選手情報入力!J61)","v":""},{"$f":"IF(②選手情報入力!K61=\"\",\"\",②選手情報入力!K61)","v":""},{"$f":"IF(②選手情報入力!L61=\"\",\"\",②選手情報入力!L61)","v":""},{"$f":"IF(②選手情報入力!M61=\"\",\"\",②選手情報入力!M61)","v":""},{"$f":"IF(②選手情報入力!N61=\"\",\"\",②選手情報入力!N61)","v":""},{"$f":"IF(②選手情報入力!O61=\"\",\"\",②選手情報入力!O61)","v":""},{"$f":"IF(②選手情報入力!P61=\"\",\"\",②選手情報入力!P61)","v":""}]
[53,{"$f":"IF(②選手情報入力!C62=\"\",\"\",②選手情報入力!C62)","v":""},{"$f":"IF(②選手情報入力!D62=\"\",\"\",②選手情報入力!D62)","v":""},{"$f":"IF(②選手情報入力!G62=\"\",\"\",②選手情報入力!G62)","v":""},{"$f":"IF(②選手情報入力!H62=\"\",\"\",②選手情報入力!H62)","v":""},{"$f":"IF(②選手情報入力!I62=\"\",\"\",②選手情報入力!I62)","v":""},{"$f":"IF(②選手情報入力!J62=\"\",\"\",②選手情報入力!J62)","v":""},{"$f":"IF(②選手情報入力!K62=\"\",\"\",②選手情報入力!K62)","v":""},{"$f":"IF(②選手情報入力!L62=\"\",\"\",②選手情報入力!L62)","v":""},{"$f":"IF(②選手情報入力!M62=\"\",\"\",②選手情報入力!M62)","v":""},{"$f":"IF(②選手情報入力!N62=\"\",\"\",②選手情報入力!N62)","v":""},{"$f":"IF(②選手情報入力!O62=\"\",\"\",②選手情報入力!O62)","v":""},{"$f":"IF(②選手情報入力!P62=\"\",\"\",②選手情報入力!P62)","v":""}]
[54,{"$f":"IF(②選手情報入力!C63=\"\",\"\",②選手情報入力!C63)","v":""},{"$f":"IF(②選手情報入力!D63=\"\",\"\",②選手情報入力!D63)","v":""},{"$f":"IF(②選手情報入力!G63=\"\",\"\",②選手情報入力!G63)","v":""},{"$f":"IF(②選手情報入力!H63=\"\",\"\",②選手情報入力!H63)","v":""},{"$f":"IF(②選手情報入力!I63=\"\",\"\",②選手情報入力!I63)","v":""},{"$f":"IF(②選手情報入力!J63=\"\",\"\",②選手情報入力!J63)","v":""},{"$f":"IF(②選手情報入力!K63=\"\",\"\",②選手情報入力!K63)","v":""},{"$f":"IF(②選手情報入力!L63=\"\",\"\",②選手情報入力!L63)","v":""},{"$f":"IF(②選手情報入力!M63=\"\",\"\",②選手情報入力!M63)","v":""},{"$f":"IF(②選手情報入力!N63=\"\",\"\",②選手情報入力!N63)","v":""},{"$f":"IF(②選手情報入力!O63=\"\",\"\",②選手情報入力!O63)","v":""},{"$f":"IF(②選手情報入力!P63=\"\",\"\",②選手情報入力!P63)","v":""}]
[55,{"$f":"IF(②選手情報入力!C64=\"\",\"\",②選手情報入力!C64)","v":""},{"$f":"IF(②選手情報入力!D64=\"\",\"\",②選手情報入力!D64)","v":""},{"$f":"IF(②選手情報入力!G64=\"\",\"\",②選手情報入力!G64)","v":""},{"$f":"IF(②選手情報入力!H64=\"\",\"\",②選手情報入力!H64)","v":""},{"$f":"IF(②選手情報入力!I64=\"\",\"\",②選手情報入力!I64)","v":""},{"$f":"IF(②選手情報入力!J64=\"\",\"\",②選手情報入力!J64)","v":""},{"$f":"IF(②選手情報入力!K64=\"\",\"\",②選手情報入力!K64)","v":""},{"$f":"IF(②選手情報入力!L64=\"\",\"\",②選手情報入力!L64)","v":""},{"$f":"IF(②選手情報入力!M64=\"\",\"\",②選手情報入力!M64)","v":""},{"$f":"IF(②選手情報入力!N64=\"\",\"\",②選手情報入力!N64)","v":""},{"$f":"IF(②選手情報入力!O64=\"\",\"\",②選手情報入力!O64)","v":""},{"$f":"IF(②選手情報入力!P64=\"\",\"\",②選手情報入力!P64)","v":""}]
[56,{"$f":"IF(②選手情報入力!C65=\"\",\"\",②選手情報入力!C65)","v":""},{"$f":"IF(②選手情報入力!D65=\"\",\"\",②選手情報入力!D65)","v":""},{"$f":"IF(②選手情報入力!G65=\"\",\"\",②選手情報入力!G65)","v":""},{"$f":"IF(②選手情報入力!H65=\"\",\"\",②選手情報入力!H65)","v":""},{"$f":"IF(②選手情報入力!I65=\"\",\"\",②選手情報入力!I65)","v":""},{"$f":"IF(②選手情報入力!J65=\"\",\"\",②選手情報入力!J65)","v":""},{"$f":"IF(②選手情報入力!K65=\"\",\"\",②選手情報入力!K65)","v":""},{"$f":"IF(②選手情報入力!L65=\"\",\"\",②選手情報入力!L65)","v":""},{"$f":"IF(②選手情報入力!M65=\"\",\"\",②選手情報入力!M65)","v":""},{"$f":"IF(②選手情報入力!N65=\"\",\"\",②選手情報入力!N65)","v":""},{"$f":"IF(②選手情報入力!O65=\"\",\"\",②選手情報入力!O65)","v":""},{"$f":"IF(②選手情報入力!P65=\"\",\"\",②選手情報入力!P65)","v":""}]
[57,{"$f":"IF(②選手情報入力!C66=\"\",\"\",②選手情報入力!C66)","v":""},{"$f":"IF(②選手情報入力!D66=\"\",\"\",②選手情報入力!D66)","v":""},{"$f":"IF(②選手情報入力!G66=\"\",\"\",②選手情報入力!G66)","v":""},{"$f":"IF(②選手情報入力!H66=\"\",\"\",②選手情報入力!H66)","v":""},{"$f":"IF(②選手情報入力!I66=\"\",\"\",②選手情報入力!I66)","v":""},{"$f":"IF(②選手情報入力!J66=\"\",\"\",②選手情報入力!J66)","v":""},{"$f":"IF(②選手情報入力!K66=\"\",\"\",②選手情報入力!K66)","v":""},{"$f":"IF(②選手情報入力!L66=\"\",\"\",②選手情報入力!L66)","v":""},{"$f":"IF(②選手情報入力!M66=\"\",\"\",②選手情報入力!M66)","v":""},{"$f":"IF(②選手情報入力!N66=\"\",\"\",②選手情報入力!N66)","v":""},{"$f":"IF(②選手情報入力!O66=\"\",\"\",②選手情報入力!O66)","v":""},{"$f":"IF(②選手情報入力!P66=\"\",\"\",②選手情報入力!P66)","v":""}]
[58,{"$f":"IF(②選手情報入力!C67=\"\",\"\",②選手情報入力!C67)","v":""},{"$f":"IF(②選手情報入力!D67=\"\",\"\",②選手情報入力!D67)","v":""},{"$f":"IF(②選手情報入力!G67=\"\",\"\",②選手情報入力!G67)","v":""},{"$f":"IF(②選手情報入力!H67=\"\",\"\",②選手情報入力!H67)","v":""},{"$f":"IF(②選手情報入力!I67=\"\",\"\",②選手情報入力!I67)","v":""},{"$f":"IF(②選手情報入力!J67=\"\",\"\",②選手情報入力!J67)","v":""},{"$f":"IF(②選手情報入力!K67=\"\",\"\",②選手情報入力!K67)","v":""},{"$f":"IF(②選手情報入力!L67=\"\",\"\",②選手情報入力!L67)","v":""},{"$f":"IF(②選手情報入力!M67=\"\",\"\",②選手情報入力!M67)","v":""},{"$f":"IF(②選手情報入力!N67=\"\",\"\",②選手情報入力!N67)","v":""},{"$f":"IF(②選手情報入力!O67=\"\",\"\",②選手情報入力!O67)","v":""},{"$f":"IF(②選手情報入力!P67=\"\",\"\",②選手情報入力!P67)","v":""}]
[59,{"$f":"IF(②選手情報入力!C68=\"\",\"\",②選手情報入力!C68)","v":""},{"$f":"IF(②選手情報入力!D68=\"\",\"\",②選手情報入力!D68)","v":""},{"$f":"IF(②選手情報入力!G68=\"\",\"\",②選手情報入力!G68)","v":""},{"$f":"IF(②選手情報入力!H68=\"\",\"\",②選手情報入力!H68)","v":""},{"$f":"IF(②選手情報入力!I68=\"\",\"\",②選手情報入力!I68)","v":""},{"$f":"IF(②選手情報入力!J68=\"\",\"\",②選手情報入力!J68)","v":""},{"$f":"IF(②選手情報入力!K68=\"\",\"\",②選手情報入力!K68)","v":""},{"$f":"IF(②選手情報入力!L68=\"\",\"\",②選手情報入力!L68)","v":""},{"$f":"IF(②選手情報入力!M68=\"\",\"\",②選手情報入力!M68)","v":""},{"$f":"IF(②選手情報入力!N68=\"\",\"\",②選手情報入力!N68)","v":""},{"$f":"IF(②選手情報入力!O68=\"\",\"\",②選手情報入力!O68)","v":""},{"$f":"IF(②選手情報入力!P68=\"\",\"\",②選手情報入力!P68)","v":""}]
[60,{"$f":"IF(②選手情報入力!C69=\"\",\"\",②選手情報入力!C69)","v":""},{"$f":"IF(②選手情報入力!D69=\"\",\"\",②選手情報入力!D69)","v":""},{"$f":"IF(②選手情報入力!G69=\"\",\"\",②選手情報入力!G69)","v":""},{"$f":"IF(②選手情報入力!H69=\"\",\"\",②選手情報入力!H69)","v":""},{"$f":"IF(②選手情報入力!I69=\"\",\"\",②選手情報入力!I69)","v":""},{"$f":"IF(②選手情報入力!J69=\"\",\"\",②選手情報入力!J69)","v":""},{"$f":"IF(②選手情報入力!K69=\"\",\"\",②選手情報入力!K69)","v":""},{"$f":"IF(②選手情報入力!L69=\"\",\"\",②選手情報入力!L69)","v":""},{"$f":"IF(②選手情報入力!M69=\"\",\"\",②選手情報入力!M69)","v":""},{"$f":"IF(②選手情報入力!N69=\"\",\"\",②選手情報入力!N69)","v":""},{"$f":"IF(②選手情報入力!O69=\"\",\"\",②選手情報入力!O69)","v":""},{"$f":"IF(②選手情報入力!P69=\"\",\"\",②選手情報入力!P69)","v":""}]
[61,{"$f":"IF(②選手情報入力!C70=\"\",\"\",②選手情報入力!C70)","v":""},{"$f":"IF(②選手情報入力!D70=\"\",\"\",②選手情報入力!D70)","v":""},{"$f":"IF(②選手情報入力!G70=\"\",\"\",②選手情報入力!G70)","v":""},{"$f":"IF(②選手情報入力!H70=\"\",\"\",②選手情報入力!H70)","v":""},{"$f":"IF(②選手情報入力!I70=\"\",\"\",②選手情報入力!I70)","v":""},{"$f":"IF(②選手情報入力!J70=\"\",\"\",②選手情報入力!J70)","v":""},{"$f":"IF(②選手情報入力!K70=\"\",\"\",②選手情報入力!K70)","v":""},{"$f":"IF(②選手情報入力!L70=\"\",\"\",②選手情報入力!L70)","v":""},{"$f":"IF(②選手情報入力!M70=\"\",\"\",②選手情報入力!M70)","v":""},{"$f":"IF(②選手情報入力!N70=\"\",\"\",②選手情報入力!N70)","v":""},{"$f":"IF(②選手情報入力!O70=\"\",\"\",②選手情報入力!O70)","v":""},{"$f":"IF(②選手情報入力!P70=\"\",\"\",②選手情報入力!P70)","v":""}]
[62,{"$f":"IF(②選手情報入力!C71=\"\",\"\",②選手情報入力!C71)","v":""},{"$f":"IF(②選手情報入力!D71=\"\",\"\",②選手情報入力!D71)","v":""},{"$f":"IF(②選手情報入力!G71=\"\",\"\",②選手情報入力!G71)","v":""},{"$f":"IF(②選手情報入力!H71=\"\",\"\",②選手情報入力!H71)","v":""},{"$f":"IF(②選手情報入力!I71=\"\",\"\",②選手情報入力!I71)","v":""},{"$f":"IF(②選手情報入力!J71=\"\",\"\",②選手情報入力!J71)","v":""},{"$f":"IF(②選手情報入力!K71=\"\",\"\",②選手情報入力!K71)","v":""},{"$f":"IF(②選手情報入力!L71=\"\",\"\",②選手情報入力!L71)","v":""},{"$f":"IF(②選手情報入力!M71=\"\",\"\",②選手情報入力!M71)","v":""},{"$f":"IF(②選手情報入力!N71=\"\",\"\",②選手情報入力!N71)","v":""},{"$f":"IF(②選手情報入力!O71=\"\",\"\",②選手情報入力!O71)","v":""},{"$f":"IF(②選手情報入力!P71=\"\",\"\",②選手情報入力!P71)","v":""}]
[63,{"$f":"IF(②選手情報入力!C72=\"\",\"\",②選手情報入力!C72)","v":""},{"$f":"IF(②選手情報入力!D72=\"\",\"\",②選手情報入力!D72)","v":""},{"$f":"IF(②選手情報入力!G72=\"\",\"\",②選手情報入力!G72)","v":""},{"$f":"IF(②選手情報入力!H72=\"\",\"\",②選手情報入力!H72)","v":""},{"$f":"IF(②選手情報入力!I72=\"\",\"\",②選手情報入力!I72)","v":""},{"$f":"IF(②選手情報入力!J72=\"\",\"\",②選手情報入力!J72)","v":""},{"$f":"IF(②選手情報入力!K72=\"\",\"\",②選手情報入力!K72)","v":""},{"$f":"IF(②選手情報入力!L72=\"\",\"\",②選手情報入力!L72)","v":""},{"$f":"IF(②選手情報入力!M72=\"\",\"\",②選手情報入力!M72)","v":""},{"$f":"IF(②選手情報入力!N72=\"\",\"\",②選手情報入力!N72)","v":""},{"$f":"IF(②選手情報入力!O72=\"\",\"\",②選手情報入力!O72)","v":""},{"$f":"IF(②選手情報入力!P72=\"\",\"\",②選手情報入力!P72)","v":""}]
[64,{"$f":"IF(②選手情報入力!C73=\"\",\"\",②選手情報入力!C73)","v":""},{"$f":"IF(②選手情報入力!D73=\"\",\"\",②選手情報入力!D73)","v":""},{"$f":"IF(②選手情報入力!G73=\"\",\"\",②選手情報入力!G73)","v":""},{"$f":"IF(②選手情報入力!H73=\"\",\"\",②選手情報入力!H73)","v":""},{"$f":"IF(②選手情報入力!I73=\"\",\"\",②選手情報入力!I73)","v":""},{"$f":"IF(②選手情報入力!J73=\"\",\"\",②選手情報入力!J73)","v":""},{"$f":"IF(②選手情報入力!K73=\"\",\"\",②選手情報入力!K73)","v":""},{"$f":"IF(②選手情報入力!L73=\"\",\"\",②選手情報入力!L73)","v":""},{"$f":"IF(②選手情報入力!M73=\"\",\"\",②選手情報入力!M73)","v":""},{"$f":"IF(②選手情報入力!N73=\"\",\"\",②選手情報入力!N73)","v":""},{"$f":"IF(②選手情報入力!O73=\"\",\"\",②選手情報入力!O73)","v":""},{"$f":"IF(②選手情報入力!P73=\"\",\"\",②選手情報入力!P73)","v":""}]
[65,{"$f":"IF(②選手情報入力!C74=\"\",\"\",②選手情報入力!C74)","v":""},{"$f":"IF(②選手情報入力!D74=\"\",\"\",②選手情報入力!D74)","v":""},{"$f":"IF(②選手情報入力!G74=\"\",\"\",②選手情報入力!G74)","v":""},{"$f":"IF(②選手情報入力!H74=\"\",\"\",②選手情報入力!H74)","v":""},{"$f":"IF(②選手情報入力!I74=\"\",\"\",②選手情報入力!I74)","v":""},{"$f":"IF(②選手情報入力!J74=\"\",\"\",②選手情報入力!J74)","v":""},{"$f":"IF(②選手情報入力!K74=\"\",\"\",②選手情報入力!K74)","v":""},{"$f":"IF(②選手情報入力!L74=\"\",\"\",②選手情報入力!L74)","v":""},{"$f":"IF(②選手情報入力!M74=\"\",\"\",②選手情報入力!M74)","v":""},{"$f":"IF(②選手情報入力!N74=\"\",\"\",②選手情報入力!N74)","v":""},{"$f":"IF(②選手情報入力!O74=\"\",\"\",②選手情報入力!O74)","v":""},{"$f":"IF(②選手情報入力!P74=\"\",\"\",②選手情報入力!P74)","v":""}]
[66,{"$f":"IF(②選手情報入力!C75=\"\",\"\",②選手情報入力!C75)","v":""},{"$f":"IF(②選手情報入力!D75=\"\",\"\",②選手情報入力!D75)","v":""},{"$f":"IF(②選手情報入力!G75=\"\",\"\",②選手情報入力!G75)","v":""},{"$f":"IF(②選手情報入力!H75=\"\",\"\",②選手情報入力!H75)","v":""},{"$f":"IF(②選手情報入力!I75=\"\",\"\",②選手情報入力!I75)","v":""},{"$f":"IF(②選手情報入力!J75=\"\",\"\",②選手情報入力!J75)","v":""},{"$f":"IF(②選手情報入力!K75=\"\",\"\",②選手情報入力!K75)","v":""},{"$f":"IF(②選手情報入力!L75=\"\",\"\",②選手情報入力!L75)","v":""},{"$f":"IF(②選手情報入力!M75=\"\",\"\",②選手情報入力!M75)","v":""},{"$f":"IF(②選手情報入力!N75=\"\",\"\",②選手情報入力!N75)","v":""},{"$f":"IF(②選手情報入力!O75=\"\",\"\",②選手情報入力!O75)","v":""},{"$f":"IF(②選手情報入力!P75=\"\",\"\",②選手情報入力!P75)","v":""}]
[67,{"$f":"IF(②選手情報入力!C76=\"\",\"\",②選手情報入力!C76)","v":""},{"$f":"IF(②選手情報入力!D76=\"\",\"\",②選手情報入力!D76)","v":""},{"$f":"IF(②選手情報入力!G76=\"\",\"\",②選手情報入力!G76)","v":""},{"$f":"IF(②選手情報入力!H76=\"\",\"\",②選手情報入力!H76)","v":""},{"$f":"IF(②選手情報入力!I76=\"\",\"\",②選手情報入力!I76)","v":""},{"$f":"IF(②選手情報入力!J76=\"\",\"\",②選手情報入力!J76)","v":""},{"$f":"IF(②選手情報入力!K76=\"\",\"\",②選手情報入力!K76)","v":""},{"$f":"IF(②選手情報入力!L76=\"\",\"\",②選手情報入力!L76)","v":""},{"$f":"IF(②選手情報入力!M76=\"\",\"\",②選手情報入力!M76)","v":""},{"$f":"IF(②選手情報入力!N76=\"\",\"\",②選手情報入力!N76)","v":""},{"$f":"IF(②選手情報入力!O76=\"\",\"\",②選手情報入力!O76)","v":""},{"$f":"IF(②選手情報入力!P76=\"\",\"\",②選手情報入力!P76)","v":""}]
[68,{"$f":"IF(②選手情報入力!C77=\"\",\"\",②選手情報入力!C77)","v":""},{"$f":"IF(②選手情報入力!D77=\"\",\"\",②選手情報入力!D77)","v":""},{"$f":"IF(②選手情報入力!G77=\"\",\"\",②選手情報入力!G77)","v":""},{"$f":"IF(②選手情報入力!H77=\"\",\"\",②選手情報入力!H77)","v":""},{"$f":"IF(②選手情報入力!I77=\"\",\"\",②選手情報入力!I77)","v":""},{"$f":"IF(②選手情報入力!J77=\"\",\"\",②選手情報入力!J77)","v":""},{"$f":"IF(②選手情報入力!K77=\"\",\"\",②選手情報入力!K77)","v":""},{"$f":"IF(②選手情報入力!L77=\"\",\"\",②選手情報入力!L77)","v":""},{"$f":"IF(②選手情報入力!M77=\"\",\"\",②選手情報入力!M77)","v":""},{"$f":"IF(②選手情報入力!N77=\"\",\"\",②選手情報入力!N77)","v":""},{"$f":"IF(②選手情報入力!O77=\"\",\"\",②選手情報入力!O77)","v":""},{"$f":"IF(②選手情報入力!P77=\"\",\"\",②選手情報入力!P77)","v":""}]
[69,{"$f":"IF(②選手情報入力!C78=\"\",\"\",②選手情報入力!C78)","v":""},{"$f":"IF(②選手情報入力!D78=\"\",\"\",②選手情報入力!D78)","v":""},{"$f":"IF(②選手情報入力!G78=\"\",\"\",②選手情報入力!G78)","v":""},{"$f":"IF(②選手情報入力!H78=\"\",\"\",②選手情報入力!H78)","v":""},{"$f":"IF(②選手情報入力!I78=\"\",\"\",②選手情報入力!I78)","v":""},{"$f":"IF(②選手情報入力!J78=\"\",\"\",②選手情報入力!J78)","v":""},{"$f":"IF(②選手情報入力!K78=\"\",\"\",②選手情報入力!K78)","v":""},{"$f":"IF(②選手情報入力!L78=\"\",\"\",②選手情報入力!L78)","v":""},{"$f":"IF(②選手情報入力!M78=\"\",\"\",②選手情報入力!M78)","v":""},{"$f":"IF(②選手情報入力!N78=\"\",\"\",②選手情報入力!N78)","v":""},{"$f":"IF(②選手情報入力!O78=\"\",\"\",②選手情報入力!O78)","v":""},{"$f":"IF(②選手情報入力!P78=\"\",\"\",②選手情報入力!P78)","v":""}]
[70,{"$f":"IF(②選手情報入力!C79=\"\",\"\",②選手情報入力!C79)","v":""},{"$f":"IF(②選手情報入力!D79=\"\",\"\",②選手情報入力!D79)","v":""},{"$f":"IF(②選手情報入力!G79=\"\",\"\",②選手情報入力!G79)","v":""},{"$f":"IF(②選手情報入力!H79=\"\",\"\",②選手情報入力!H79)","v":""},{"$f":"IF(②選手情報入力!I79=\"\",\"\",②選手情報入力!I79)","v":""},{"$f":"IF(②選手情報入力!J79=\"\",\"\",②選手情報入力!J79)","v":""},{"$f":"IF(②選手情報入力!K79=\"\",\"\",②選手情報入力!K79)","v":""},{"$f":"IF(②選手情報入力!L79=\"\",\"\",②選手情報入力!L79)","v":""},{"$f":"IF(②選手情報入力!M79=\"\",\"\",②選手情報入力!M79)","v":""},{"$f":"IF(②選手情報入力!N79=\"\",\"\",②選手情報入力!N79)","v":""},{"$f":"IF(②選手情報入力!O79=\"\",\"\",②選手情報入力!O79)","v":""},{"$f":"IF(②選手情報入力!P79=\"\",\"\",②選手情報入力!P79)","v":""}]
[71,{"$f":"IF(②選手情報入力!C80=\"\",\"\",②選手情報入力!C80)","v":""},{"$f":"IF(②選手情報入力!D80=\"\",\"\",②選手情報入力!D80)","v":""},{"$f":"IF(②選手情報入力!G80=\"\",\"\",②選手情報入力!G80)","v":""},{"$f":"IF(②選手情報入力!H80=\"\",\"\",②選手情報入力!H80)","v":""},{"$f":"IF(②選手情報入力!I80=\"\",\"\",②選手情報入力!I80)","v":""},{"$f":"IF(②選手情報入力!J80=\"\",\"\",②選手情報入力!J80)","v":""},{"$f":"IF(②選手情報入力!K80=\"\",\"\",②選手情報入力!K80)","v":""},{"$f":"IF(②選手情報入力!L80=\"\",\"\",②選手情報入力!L80)","v":""},{"$f":"IF(②選手情報入力!M80=\"\",\"\",②選手情報入力!M80)","v":""},{"$f":"IF(②選手情報入力!N80=\"\",\"\",②選手情報入力!N80)","v":""},{"$f":"IF(②選手情報入力!O80=\"\",\"\",②選手情報入力!O80)","v":""},{"$f":"IF(②選手情報入力!P80=\"\",\"\",②選手情報入力!P80)","v":""}]
[72,{"$f":"IF(②選手情報入力!C81=\"\",\"\",②選手情報入力!C81)","v":""},{"$f":"IF(②選手情報入力!D81=\"\",\"\",②選手情報入力!D81)","v":""},{"$f":"IF(②選手情報入力!G81=\"\",\"\",②選手情報入力!G81)","v":""},{"$f":"IF(②選手情報入力!H81=\"\",\"\",②選手情報入力!H81)","v":""},{"$f":"IF(②選手情報入力!I81=\"\",\"\",②選手情報入力!I81)","v":""},{"$f":"IF(②選手情報入力!J81=\"\",\"\",②選手情報入力!J81)","v":""},{"$f":"IF(②選手情報入力!K81=\"\",\"\",②選手情報入力!K81)","v":""},{"$f":"IF(②選手情報入力!L81=\"\",\"\",②選手情報入力!L81)","v":""},{"$f":"IF(②選手情報入力!M81=\"\",\"\",②選手情報入力!M81)","v":""},{"$f":"IF(②選手情報入力!N81=\"\",\"\",②選手情報入力!N81)","v":""},{"$f":"IF(②選手情報入力!O81=\"\",\"\",②選手情報入力!O81)","v":""},{"$f":"IF(②選手情報入力!P81=\"\",\"\",②選手情報入力!P81)","v":""}]
[73,{"$f":"IF(②選手情報入力!C82=\"\",\"\",②選手情報入力!C82)","v":""},{"$f":"IF(②選手情報入力!D82=\"\",\"\",②選手情報入力!D82)","v":""},{"$f":"IF(②選手情報入力!G82=\"\",\"\",②選手情報入力!G82)","v":""},{"$f":"IF(②選手情報入力!H82=\"\",\"\",②選手情報入力!H82)","v":""},{"$f":"IF(②選手情報入力!I82=\"\",\"\",②選手情報入力!I82)","v":""},{"$f":"IF(②選手情報入力!J82=\"\",\"\",②選手情報入力!J82)","v":""},{"$f":"IF(②選手情報入力!K82=\"\",\"\",②選手情報入力!K82)","v":""},{"$f":"IF(②選手情報入力!L82=\"\",\"\",②選手情報入力!L82)","v":""},{"$f":"IF(②選手情報入力!M82=\"\",\"\",②選手情報入力!M82)","v":""},{"$f":"IF(②選手情報入力!N82=\"\",\"\",②選手情報入力!N82)","v":""},{"$f":"IF(②選手情報入力!O82=\"\",\"\",②選手情報入力!O82)","v":""},{"$f":"IF(②選手情報入力!P82=\"\",\"\",②選手情報入力!P82)","v":""}]
[74,{"$f":"IF(②選手情報入力!C83=\"\",\"\",②選手情報入力!C83)","v":""},{"$f":"IF(②選手情報入力!D83=\"\",\"\",②選手情報入力!D83)","v":""},{"$f":"IF(②選手情報入力!G83=\"\",\"\",②選手情報入力!G83)","v":""},{"$f":"IF(②選手情報入力!H83=\"\",\"\",②選手情報入力!H83)","v":""},{"$f":"IF(②選手情報入力!I83=\"\",\"\",②選手情報入力!I83)","v":""},{"$f":"IF(②選手情報入力!J83=\"\",\"\",②選手情報入力!J83)","v":""},{"$f":"IF(②選手情報入力!K83=\"\",\"\",②選手情報入力!K83)","v":""},{"$f":"IF(②選手情報入力!L83=\"\",\"\",②選手情報入力!L83)","v":""},{"$f":"IF(②選手情報入力!M83=\"\",\"\",②選手情報入力!M83)","v":""},{"$f":"IF(②選手情報入力!N83=\"\",\"\",②選手情報入力!N83)","v":""},{"$f":"IF(②選手情報入力!O83=\"\",\"\",②選手情報入力!O83)","v":""},{"$f":"IF(②選手情報入力!P83=\"\",\"\",②選手情報入力!P83)","v":""}]
[75,{"$f":"IF(②選手情報入力!C84=\"\",\"\",②選手情報入力!C84)","v":""},{"$f":"IF(②選手情報入力!D84=\"\",\"\",②選手情報入力!D84)","v":""},{"$f":"IF(②選手情報入力!G84=\"\",\"\",②選手情報入力!G84)","v":""},{"$f":"IF(②選手情報入力!H84=\"\",\"\",②選手情報入力!H84)","v":""},{"$f":"IF(②選手情報入力!I84=\"\",\"\",②選手情報入力!I84)","v":""},{"$f":"IF(②選手情報入力!J84=\"\",\"\",②選手情報入力!J84)","v":""},{"$f":"IF(②選手情報入力!K84=\"\",\"\",②選手情報入力!K84)","v":""},{"$f":"IF(②選手情報入力!L84=\"\",\"\",②選手情報入力!L84)","v":""},{"$f":"IF(②選手情報入力!M84=\"\",\"\",②選手情報入力!M84)","v":""},{"$f":"IF(②選手情報入力!N84=\"\",\"\",②選手情報入力!N84)","v":""},{"$f":"IF(②選手情報入力!O84=\"\",\"\",②選手情報入力!O84)","v":""},{"$f":"IF(②選手情報入力!P84=\"\",\"\",②選手情報入力!P84)","v":""}]
[76,{"$f":"IF(②選手情報入力!C85=\"\",\"\",②選手情報入力!C85)","v":""},{"$f":"IF(②選手情報入力!D85=\"\",\"\",②選手情報入力!D85)","v":""},{"$f":"IF(②選手情報入力!G85=\"\",\"\",②選手情報入力!G85)","v":""},{"$f":"IF(②選手情報入力!H85=\"\",\"\",②選手情報入力!H85)","v":""},{"$f":"IF(②選手情報入力!I85=\"\",\"\",②選手情報入力!I85)","v":""},{"$f":"IF(②選手情報入力!J85=\"\",\"\",②選手情報入力!J85)","v":""},{"$f":"IF(②選手情報入力!K85=\"\",\"\",②選手情報入力!K85)","v":""},{"$f":"IF(②選手情報入力!L85=\"\",\"\",②選手情報入力!L85)","v":""},{"$f":"IF(②選手情報入力!M85=\"\",\"\",②選手情報入力!M85)","v":""},{"$f":"IF(②選手情報入力!N85=\"\",\"\",②選手情報入力!N85)","v":""},{"$f":"IF(②選手情報入力!O85=\"\",\"\",②選手情報入力!O85)","v":""},{"$f":"IF(②選手情報入力!P85=\"\",\"\",②選手情報入力!P85)","v":""}]
[77,{"$f":"IF(②選手情報入力!C86=\"\",\"\",②選手情報入力!C86)","v":""},{"$f":"IF(②選手情報入力!D86=\"\",\"\",②選手情報入力!D86)","v":""},{"$f":"IF(②選手情報入力!G86=\"\",\"\",②選手情報入力!G86)","v":""},{"$f":"IF(②選手情報入力!H86=\"\",\"\",②選手情報入力!H86)","v":""},{"$f":"IF(②選手情報入力!I86=\"\",\"\",②選手情報入力!I86)","v":""},{"$f":"IF(②選手情報入力!J86=\"\",\"\",②選手情報入力!J86)","v":""},{"$f":"IF(②選手情報入力!K86=\"\",\"\",②選手情報入力!K86)","v":""},{"$f":"IF(②選手情報入力!L86=\"\",\"\",②選手情報入力!L86)","v":""},{"$f":"IF(②選手情報入力!M86=\"\",\"\",②選手情報入力!M86)","v":""},{"$f":"IF(②選手情報入力!N86=\"\",\"\",②選手情報入力!N86)","v":""},{"$f":"IF(②選手情報入力!O86=\"\",\"\",②選手情報入力!O86)","v":""},{"$f":"IF(②選手情報入力!P86=\"\",\"\",②選手情報入力!P86)","v":""}]
[78,{"$f":"IF(②選手情報入力!C87=\"\",\"\",②選手情報入力!C87)","v":""},{"$f":"IF(②選手情報入力!D87=\"\",\"\",②選手情報入力!D87)","v":""},{"$f":"IF(②選手情報入力!G87=\"\",\"\",②選手情報入力!G87)","v":""},{"$f":"IF(②選手情報入力!H87=\"\",\"\",②選手情報入力!H87)","v":""},{"$f":"IF(②選手情報入力!I87=\"\",\"\",②選手情報入力!I87)","v":""},{"$f":"IF(②選手情報入力!J87=\"\",\"\",②選手情報入力!J87)","v":""},{"$f":"IF(②選手情報入力!K87=\"\",\"\",②選手情報入力!K87)","v":""},{"$f":"IF(②選手情報入力!L87=\"\",\"\",②選手情報入力!L87)","v":""},{"$f":"IF(②選手情報入力!M87=\"\",\"\",②選手情報入力!M87)","v":""},{"$f":"IF(②選手情報入力!N87=\"\",\"\",②選手情報入力!N87)","v":""},{"$f":"IF(②選手情報入力!O87=\"\",\"\",②選手情報入力!O87)","v":""},{"$f":"IF(②選手情報入力!P87=\"\",\"\",②選手情報入力!P87)","v":""}]
[79,{"$f":"IF(②選手情報入力!C88=\"\",\"\",②選手情報入力!C88)","v":""},{"$f":"IF(②選手情報入力!D88=\"\",\"\",②選手情報入力!D88)","v":""},{"$f":"IF(②選手情報入力!G88=\"\",\"\",②選手情報入力!G88)","v":""},{"$f":"IF(②選手情報入力!H88=\"\",\"\",②選手情報入力!H88)","v":""},{"$f":"IF(②選手情報入力!I88=\"\",\"\",②選手情報入力!I88)","v":""},{"$f":"IF(②選手情報入力!J88=\"\",\"\",②選手情報入力!J88)","v":""},{"$f":"IF(②選手情報入力!K88=\"\",\"\",②選手情報入力!K88)","v":""},{"$f":"IF(②選手情報入力!L88=\"\",\"\",②選手情報入力!L88)","v":""},{"$f":"IF(②選手情報入力!M88=\"\",\"\",②選手情報入力!M88)","v":""},{"$f":"IF(②選手情報入力!N88=\"\",\"\",②選手情報入力!N88)","v":""},{"$f":"IF(②選手情報入力!O88=\"\",\"\",②選手情報入力!O88)","v":""},{"$f":"IF(②選手情報入力!P88=\"\",\"\",②選手情報入力!P88)","v":""}]
[80,{"$f":"IF(②選手情報入力!C89=\"\",\"\",②選手情報入力!C89)","v":""},{"$f":"IF(②選手情報入力!D89=\"\",\"\",②選手情報入力!D89)","v":""},{"$f":"IF(②選手情報入力!G89=\"\",\"\",②選手情報入力!G89)","v":""},{"$f":"IF(②選手情報入力!H89=\"\",\"\",②選手情報入力!H89)","v":""},{"$f":"IF(②選手情報入力!I89=\"\",\"\",②選手情報入力!I89)","v":""},{"$f":"IF(②選手情報入力!J89=\"\",\"\",②選手情報入力!J89)","v":""},{"$f":"IF(②選手情報入力!K89=\"\",\"\",②選手情報入力!K89)","v":""},{"$f":"IF(②選手情報入力!L89=\"\",\"\",②選手情報入力!L89)","v":""},{"$f":"IF(②選手情報入力!M89=\"\",\"\",②選手情報入力!M89)","v":""},{"$f":"IF(②選手情報入力!N89=\"\",\"\",②選手情報入力!N89)","v":""},{"$f":"IF(②選手情報入力!O89=\"\",\"\",②選手情報入力!O89)","v":""},{"$f":"IF(②選手情報入力!P89=\"\",\"\",②選手情報入力!P89)","v":""}]
[81,{"$f":"IF(②選手情報入力!C90=\"\",\"\",②選手情報入力!C90)","v":""},{"$f":"IF(②選手情報入力!D90=\"\",\"\",②選手情報入力!D90)","v":""},{"$f":"IF(②選手情報入力!G90=\"\",\"\",②選手情報入力!G90)","v":""},{"$f":"IF(②選手情報入力!H90=\"\",\"\",②選手情報入力!H90)","v":""},{"$f":"IF(②選手情報入力!I90=\"\",\"\",②選手情報入力!I90)","v":""},{"$f":"IF(②選手情報入力!J90=\"\",\"\",②選手情報入力!J90)","v":""},{"$f":"IF(②選手情報入力!K90=\"\",\"\",②選手情報入力!K90)","v":""},{"$f":"IF(②選手情報入力!L90=\"\",\"\",②選手情報入力!L90)","v":""},{"$f":"IF(②選手情報入力!M90=\"\",\"\",②選手情報入力!M90)","v":""},{"$f":"IF(②選手情報入力!N90=\"\",\"\",②選手情報入力!N90)","v":""},{"$f":"IF(②選手情報入力!O90=\"\",\"\",②選手情報入力!O90)","v":""},{"$f":"IF(②選手情報入力!P90=\"\",\"\",②選手情報入力!P90)","v":""}]
[82,{"$f":"IF(②選手情報入力!C91=\"\",\"\",②選手情報入力!C91)","v":""},{"$f":"IF(②選手情報入力!D91=\"\",\"\",②選手情報入力!D91)","v":""},{"$f":"IF(②選手情報入力!G91=\"\",\"\",②選手情報入力!G91)","v":""},{"$f":"IF(②選手情報入力!H91=\"\",\"\",②選手情報入力!H91)","v":""},{"$f":"IF(②選手情報入力!I91=\"\",\"\",②選手情報入力!I91)","v":""},{"$f":"IF(②選手情報入力!J91=\"\",\"\",②選手情報入力!J91)","v":""},{"$f":"IF(②選手情報入力!K91=\"\",\"\",②選手情報入力!K91)","v":""},{"$f":"IF(②選手情報入力!L91=\"\",\"\",②選手情報入力!L91)","v":""},{"$f":"IF(②選手情報入力!M91=\"\",\"\",②選手情報入力!M91)","v":""},{"$f":"IF(②選手情報入力!N91=\"\",\"\",②選手情報入力!N91)","v":""},{"$f":"IF(②選手情報入力!O91=\"\",\"\",②選手情報入力!O91)","v":""},{"$f":"IF(②選手情報入力!P91=\"\",\"\",②選手情報入力!P91)","v":""}]
[83,{"$f":"IF(②選手情報入力!C92=\"\",\"\",②選手情報入力!C92)","v":""},{"$f":"IF(②選手情報入力!D92=\"\",\"\",②選手情報入力!D92)","v":""},{"$f":"IF(②選手情報入力!G92=\"\",\"\",②選手情報入力!G92)","v":""},{"$f":"IF(②選手情報入力!H92=\"\",\"\",②選手情報入力!H92)","v":""},{"$f":"IF(②選手情報入力!I92=\"\",\"\",②選手情報入力!I92)","v":""},{"$f":"IF(②選手情報入力!J92=\"\",\"\",②選手情報入力!J92)","v":""},{"$f":"IF(②選手情報入力!K92=\"\",\"\",②選手情報入力!K92)","v":""},{"$f":"IF(②選手情報入力!L92=\"\",\"\",②選手情報入力!L92)","v":""},{"$f":"IF(②選手情報入力!M92=\"\",\"\",②選手情報入力!M92)","v":""},{"$f":"IF(②選手情報入力!N92=\"\",\"\",②選手情報入力!N92)","v":""},{"$f":"IF(②選手情報入力!O92=\"\",\"\",②選手情報入力!O92)","v":""},{"$f":"IF(②選手情報入力!P92=\"\",\"\",②選手情報入力!P92)","v":""}]
[84,{"$f":"IF(②選手情報入力!C93=\"\",\"\",②選手情報入力!C93)","v":""},{"$f":"IF(②選手情報入力!D93=\"\",\"\",②選手情報入力!D93)","v":""},{"$f":"IF(②選手情報入力!G93=\"\",\"\",②選手情報入力!G93)","v":""},{"$f":"IF(②選手情報入力!H93=\"\",\"\",②選手情報入力!H93)","v":""},{"$f":"IF(②選手情報入力!I93=\"\",\"\",②選手情報入力!I93)","v":""},{"$f":"IF(②選手情報入力!J93=\"\",\"\",②選手情報入力!J93)","v":""},{"$f":"IF(②選手情報入力!K93=\"\",\"\",②選手情報入力!K93)","v":""},{"$f":"IF(②選手情報入力!L93=\"\",\"\",②選手情報入力!L93)","v":""},{"$f":"IF(②選手情報入力!M93=\"\",\"\",②選手情報入力!M93)","v":""},{"$f":"IF(②選手情報入力!N93=\"\",\"\",②選手情報入力!N93)","v":""},{"$f":"IF(②選手情報入力!O93=\"\",\"\",②選手情報入力!O93)","v":""},{"$f":"IF(②選手情報入力!P93=\"\",\"\",②選手情報入力!P93)","v":""}]
[85,{"$f":"IF(②選手情報入力!C94=\"\",\"\",②選手情報入力!C94)","v":""},{"$f":"IF(②選手情報入力!D94=\"\",\"\",②選手情報入力!D94)","v":""},{"$f":"IF(②選手情報入力!G94=\"\",\"\",②選手情報入力!G94)","v":""},{"$f":"IF(②選手情報入力!H94=\"\",\"\",②選手情報入力!H94)","v":""},{"$f":"IF(②選手情報入力!I94=\"\",\"\",②選手情報入力!I94)","v":""},{"$f":"IF(②選手情報入力!J94=\"\",\"\",②選手情報入力!J94)","v":""},{"$f":"IF(②選手情報入力!K94=\"\",\"\",②選手情報入力!K94)","v":""},{"$f":"IF(②選手情報入力!L94=\"\",\"\",②選手情報入力!L94)","v":""},{"$f":"IF(②選手情報入力!M94=\"\",\"\",②選手情報入力!M94)","v":""},{"$f":"IF(②選手情報入力!N94=\"\",\"\",②選手情報入力!N94)","v":""},{"$f":"IF(②選手情報入力!O94=\"\",\"\",②選手情報入力!O94)","v":""},{"$f":"IF(②選手情報入力!P94=\"\",\"\",②選手情報入力!P94)","v":""}]
[86,{"$f":"IF(②選手情報入力!C95=\"\",\"\",②選手情報入力!C95)","v":""},{"$f":"IF(②選手情報入力!D95=\"\",\"\",②選手情報入力!D95)","v":""},{"$f":"IF(②選手情報入力!G95=\"\",\"\",②選手情報入力!G95)","v":""},{"$f":"IF(②選手情報入力!H95=\"\",\"\",②選手情報入力!H95)","v":""},{"$f":"IF(②選手情報入力!I95=\"\",\"\",②選手情報入力!I95)","v":""},{"$f":"IF(②選手情報入力!J95=\"\",\"\",②選手情報入力!J95)","v":""},{"$f":"IF(②選手情報入力!K95=\"\",\"\",②選手情報入力!K95)","v":""},{"$f":"IF(②選手情報入力!L95=\"\",\"\",②選手情報入力!L95)","v":""},{"$f":"IF(②選手情報入力!M95=\"\",\"\",②選手情報入力!M95)","v":""},{"$f":"IF(②選手情報入力!N95=\"\",\"\",②選手情報入力!N95)","v":""},{"$f":"IF(②選手情報入力!O95=\"\",\"\",②選手情報入力!O95)","v":""},{"$f":"IF(②選手情報入力!P95=\"\",\"\",②選手情報入力!P95)","v":""}]
[87,{"$f":"IF(②選手情報入力!C96=\"\",\"\",②選手情報入力!C96)","v":""},{"$f":"IF(②選手情報入力!D96=\"\",\"\",②選手情報入力!D96)","v":""},{"$f":"IF(②選手情報入力!G96=\"\",\"\",②選手情報入力!G96)","v":""},{"$f":"IF(②選手情報入力!H96=\"\",\"\",②選手情報入力!H96)","v":""},{"$f":"IF(②選手情報入力!I96=\"\",\"\",②選手情報入力!I96)","v":""},{"$f":"IF(②選手情報入力!J96=\"\",\"\",②選手情報入力!J96)","v":""},{"$f":"IF(②選手情報入力!K96=\"\",\"\",②選手情報入力!K96)","v":""},{"$f":"IF(②選手情報入力!L96=\"\",\"\",②選手情報入力!L96)","v":""},{"$f":"IF(②選手情報入力!M96=\"\",\"\",②選手情報入力!M96)","v":""},{"$f":"IF(②選手情報入力!N96=\"\",\"\",②選手情報入力!N96)","v":""},{"$f":"IF(②選手情報入力!O96=\"\",\"\",②選手情報入力!O96)","v":""},{"$f":"IF(②選手情報入力!P96=\"\",\"\",②選手情報入力!P96)","v":""}]
[88,{"$f":"IF(②選手情報入力!C97=\"\",\"\",②選手情報入力!C97)","v":""},{"$f":"IF(②選手情報入力!D97=\"\",\"\",②選手情報入力!D97)","v":""},{"$f":"IF(②選手情報入力!G97=\"\",\"\",②選手情報入力!G97)","v":""},{"$f":"IF(②選手情報入力!H97=\"\",\"\",②選手情報入力!H97)","v":""},{"$f":"IF(②選手情報入力!I97=\"\",\"\",②選手情報入力!I97)","v":""},{"$f":"IF(②選手情報入力!J97=\"\",\"\",②選手情報入力!J97)","v":""},{"$f":"IF(②選手情報入力!K97=\"\",\"\",②選手情報入力!K97)","v":""},{"$f":"IF(②選手情報入力!L97=\"\",\"\",②選手情報入力!L97)","v":""},{"$f":"IF(②選手情報入力!M97=\"\",\"\",②選手情報入力!M97)","v":""},{"$f":"IF(②選手情報入力!N97=\"\",\"\",②選手情報入力!N97)","v":""},{"$f":"IF(②選手情報入力!O97=\"\",\"\",②選手情報入力!O97)","v":""},{"$f":"IF(②選手情報入力!P97=\"\",\"\",②選手情報入力!P97)","v":""}]
[89,{"$f":"IF(②選手情報入力!C98=\"\",\"\",②選手情報入力!C98)","v":""},{"$f":"IF(②選手情報入力!D98=\"\",\"\",②選手情報入力!D98)","v":""},{"$f":"IF(②選手情報入力!G98=\"\",\"\",②選手情報入力!G98)","v":""},{"$f":"IF(②選手情報入力!H98=\"\",\"\",②選手情報入力!H98)","v":""},{"$f":"IF(②選手情報入力!I98=\"\",\"\",②選手情報入力!I98)","v":""},{"$f":"IF(②選手情報入力!J98=\"\",\"\",②選手情報入力!J98)","v":""},{"$f":"IF(②選手情報入力!K98=\"\",\"\",②選手情報入力!K98)","v":""},{"$f":"IF(②選手情報入力!L98=\"\",\"\",②選手情報入力!L98)","v":""},{"$f":"IF(②選手情報入力!M98=\"\",\"\",②選手情報入力!M98)","v":""},{"$f":"IF(②選手情報入力!N98=\"\",\"\",②選手情報入力!N98)","v":""},{"$f":"IF(②選手情報入力!O98=\"\",\"\",②選手情報入力!O98)","v":""},{"$f":"IF(②選手情報入力!P98=\"\",\"\",②選手情報入力!P98)","v":""}]
[90,{"$f":"IF(②選手情報入力!C99=\"\",\"\",②選手情報入力!C99)","v":""},{"$f":"IF(②選手情報入力!D99=\"\",\"\",②選手情報入力!D99)","v":""},{"$f":"IF(②選手情報入力!G99=\"\",\"\",②選手情報入力!G99)","v":""},{"$f":"IF(②選手情報入力!H99=\"\",\"\",②選手情報入力!H99)","v":""},{"$f":"IF(②選手情報入力!I99=\"\",\"\",②選手情報入力!I99)","v":""},{"$f":"IF(②選手情報入力!J99=\"\",\"\",②選手情報入力!J99)","v":""},{"$f":"IF(②選手情報入力!K99=\"\",\"\",②選手情報入力!K99)","v":""},{"$f":"IF(②選手情報入力!L99=\"\",\"\",②選手情報入力!L99)","v":""},{"$f":"IF(②選手情報入力!M99=\"\",\"\",②選手情報入力!M99)","v":""},{"$f":"IF(②選手情報入力!N99=\"\",\"\",②選手情報入力!N99)","v":""},{"$f":"IF(②選手情報入力!O99=\"\",\"\",②選手情報入力!O99)","v":""},{"$f":"IF(②選手情報入力!P99=\"\",\"\",②選手情報入力!P99)","v":""}]

{"sheet":"　　　　　","index":6,"n_rows":0,"n_cols":0,"rows_kept":0,"cut":false,"hidden":false,"merged":[]}

{"sheet":"種目情報","index":7,"n_rows":52,"n_cols":15,"rows_kept":52,"cut":false,"hidden":false,"merged":[[31,12,51,12],[3,12,28,12],[1,13,1,14],[0,0,0,2],[0,4,0,6],[0,8,0,10],[1,0,2,0],[1,4,2,4],[1,8,2,8]]}
["男子",null,null,null,"女子",null,null,null,"リレー"]
["種目","種目","記録",null,"種目","種目","記録",null,"種目","種目","記録",null,null,"一覧表用　種目名"]
[null,"No","FLAG",null,null,"No","FLAG",null,null,"No","FLAG"]
["男100m",1,2,null,"女100m",28,2,null,"男子4X100mR",49,2,null,"男　　　子","男100m","男100m"]
["男200m",2,2,null,"女200m",29,2,null,"男子4X400mR",50,2,null,null,"男200m","男200m"]
["男400m",3,2,null,"女400m",30,2,null,"女子4X100mR",51,2,null,null,"男400m","男400m"]
["男800m",4,2,null,"女800m",31,2,null,"女子4X400mR",52,2,null,null,"男800m","男800m"]
["男1500m",5,2,null,"女1500m",32,2,null,null,null,null,null,null,"男1500m","男1500m"]
["男5000m",7,2,null,"女3000m",33,2,null,null,null,null,null,null,"男中学3000m","男中学3000m"]
["男110mH",8,2,null,"女100mH",34,2,null,null,null,null,null,null,"男5000m","男5000m"]
["男110mJH",9,2,null,"女100mYH",35,2,null,null,null,null,null,null,"男110mH","男110mH"]
["男400mH",11,2,null,"女400mH",37,2,null,null,null,null,null,null,"男110mJH","男110mJH"]
["男3000mSC",12,2,null,"女50000mW",38,2,null,null,null,null,null,null,"男中学110mH","男中学110mH"]
["男5000mW",13,2,null,"女走高跳",39,0,null,null,null,null,null,null,"男400mH","男400mH"]
["男走高跳",14,0,null,"女棒高跳",40,0,null,null,null,null,null,null,"男3000mSC","男3000mSC"]
["男棒高跳",15,0,null,"女走幅跳",41,0,null,null,null,null,null,null,"男5000mW","男5000mW"]
["男走幅跳",16,0,null,"女三段跳",43,0,null,null,null,null,null,null,"男走高跳","男走高跳"]
["男三段跳",18,0,null,"女砲丸投",44,0,null,null,null,null,null,null,"男棒高跳","男棒高跳"]
["男高校砲丸投",20,0,null,"女円盤投",46,0,null,null,null,null,null,null,"男走幅跳","男走幅跳"]
["男高校円盤投",23,0,null,"女ﾊﾝﾏｰ投",47,0,null,null,null,null,null,null,"男中学走幅跳","男中学走幅跳"]
["男高校ﾊﾝﾏｰ投",26,0,null,"女やり投",48,0,null,null,null,null,null,null,"男三段跳","男三段跳"]
["男やり投",27,0,null,null,null,null,null,null,null,null,null,null,"男砲丸投","男砲丸投"]
[null,null,null,null,null,null,null,null,null,null,null,null,null,"男高校砲丸投","男高校砲丸投"]
[null,null,null,null,null,null,null,null,null,null,null,null,null,"男中学砲丸投","男中学砲丸投"]
[null,null,null,null,null,null,null,null,null,null,null,null,null,"男円盤投","男円盤投"]
[null,null,null,null,null,null,null,null,null,null,null,null,null,"男高校円盤投","男高校円盤投"]
[null,null,null,null,null,null,null,null,null,null,null,null,null,"男中学円盤投","男中学円盤投"]
[null,null,null,null,null,null,null,null,null,null,null,null,null,"男ﾊﾝﾏｰ投","男ﾊﾝﾏｰ投"]
[null,null,null,null,null,null,null,null,null,null,null,null,null,"男高校ﾊﾝﾏｰ投","男高校ﾊﾝﾏｰ投"]
[null,null,null,null,null,null,null,null,null,null,null,null,null,"男やり投","男やり投"]
[]
[null,null,null,null,null,null,null,null,null,null,null,null,"女　　　子","女100m","女100m"]
[null,null,null,null,null,null,null,null,null,null,null,null,null,"女200m","女200m"]
[null,null,null,null,null,null,null,null,null,null,null,null,null,"女400m","女400m"]
[null,null,null,null,null,null,null,null,null,null,null,null,null,"女800m","女800m"]
[null,null,null,null,null,null,null,null,null,null,null,null,null,"女1500m","女1500m"]
[null,null,null,null,null,null,null,null,null,null,null,null,null,"女3000m","女3000m"]
[null,null,null,null,null,null,null,null,null,null,null,null,null,"女100mH","女100mH"]
[null,null,null,null,null,null,null,null,null,null,null,null,null,"女100mYH","女100mYH"]
[null,null,null,null,null,null,null,null,null,null,null,null,null,"女中学100mH","女中学100mH"]
[null,null,null,null,null,null,null,null,null,null,null,null,null,"女400mH","女400mH"]
[null,null,null,null,null,null,null,null,null,null,null,null,null,"女50000mW","女50000mW"]
[null,null,null,null,null,null,null,null,null,null,null,null,null,"女走高跳","女走高跳"]
[null,null,null,null,null,null,null,null,null,null,null,null,null,"女棒高跳","女棒高跳"]
[null,null,null,null,null,null,null,null,null,null,null,null,null,"女走幅跳","女走幅跳"]
[null,null,null,null,null,null,null,null,null,null,null,null,null,"女中学走幅跳","女中学走幅跳"]
[null,null,null,null,null,null,null,null,null,null,null,null,null,"女三段跳","女三段跳"]
[null,null,null,null,null,null,null,null,null,null,null,null,null,"女砲丸投","女砲丸投"]
[null,null,null,null,null,null,null,null,null,null,null,null,null,"女中学砲丸投","女中学砲丸投"]
[null,null,null,null,null,null,null,null,null,null,null,null,null,"女円盤投","女円盤投"]
[null,null,null,null,null,null,null,null,null,null,null,null,null,"女ﾊﾝﾏｰ投","女ﾊﾝﾏｰ投"]
[null,null,null,null,null,null,null,null,null,null,null,null,null,"女やり投","女やり投"]

{"sheet":"data_kyogisha","index":8,"n_rows":91,"n_cols":34,"rows_kept":91,"cut":false,"hidden":false,"merged":[]}
["競技者NO","所属コード1","所属コード2","ナンバー","ナンバー2","競技者名","競技者名カナ","競技者名略称","性別","学年","生年","月日","個人所属地名","陸連コード","参加競技-競技コード1","参加競技-自己記録1","参加競技-オープン参加FLG1","参加競技-記録FLG1","参加競技-競技コード2","参加競技-自己記録2","参加競技-オープン参加FLG2","参加競技-記録FLG2","参加競技-競技コード3","参加競技-自己記録3","参加競技-オープン参加FLG3","参加競技-記録FLG3","参加競技-競技コード4","参加競技-自己記録4","参加競技-オープン参加FLG4","参加競技-記録FLG4","参加競技-競技コード5","参加競技-自己記録5","参加競技-オープン参加FLG5","参加競技-記録FLG5"]
[{"$f":"IF(E2=\"\",\"\",I2*1000000+①学校情報入力!$D$3*1000+②選手情報入力!A10)","v":""},{"$f":"IF(E2=\"\",\"\",①学校情報入力!$D$3)","v":""},null,{"$f":"IF(②選手情報入力!B10=\"\",\"\",②選手情報入力!B10)","v":""},{"$f":"IF(②選手情報入力!C10=\"\",\"\",②選手情報入力!C10)","v":""},{"$f":"IF(E2=\"\",\"\",②選手情報入力!D10)","v":""},{"$f":"IF(E2=\"\",\"\",②選手情報入力!E10)","v":""},{"$f":"IF(E2=\"\",\"\",F2)","v":""},{"$f":"IF(E2=\"\",\"\",IF(②選手情報入力!G10=\"男\",1,2))","v":""},{"$f":"IF(E2=\"\",\"\",IF(②選手情報入力!H10=\"\",\"\",②選手情報入力!H10))","v":""},null,{"$f":"IF(E2=\"\",\"\",0)","v":""},{"$f":"IF(E2=\"\",\"\",\"愛知\")","v":""},null,{"$f":"IF(E2=\"\",\"\",IF(②選手情報入力!I10=\"\",\"\",IF(I2=1,VLOOKUP(②選手情報入力!I10,種目情報!$A$4:$B$22,2,FALSE),VLOOKUP(②選手情報入力!I10,種目情報!$E$4:$F$22,2,FALSE))))","v":""},{"$f":"IF(E2=\"\",\"\",IF(②選手情報入力!J10=\"\",\"\",②選手情報入力!J10))","v":""},{"$f":"IF(E2=\"\",\"\",IF(②選手情報入力!I10=\"\",\"\",0))","v":""},{"$f":"IF(E2=\"\",\"\",IF(②選手情報入力!I10=\"\",\"\",IF(I2=1,VLOOKUP(②選手情報入力!I10,種目情報!$A$4:$C$22,3,FALSE),VLOOKUP(②選手情報入力!I10,種目情報!$E$4:$G$22,3,FALSE))))","v":""},{"$f":"IF(E2=\"\",\"\",IF(②選手情報入力!K10=\"\",\"\",IF(I2=1,VLOOKUP(②選手情報入力!K10,種目情報!$A$4:$B$22,2,FALSE),VLOOKUP(②選手情報入力!K10,種目情報!$E$4:$F$22,2,FALSE))))","v":""},{"$f":"IF(E2=\"\",\"\",IF(②選手情報入力!L10=\"\",\"\",②選手情報入力!L10))","v":""},{"$f":"IF(E2=\"\",\"\",IF(②選手情報入力!K10=\"\",\"\",0))","v":""},{"$f":"IF(E2=\"\",\"\",IF(②選手情報入力!K10=\"\",\"\",IF(I2=1,VLOOKUP(②選手情報入力!K10,種目情報!$A$4:$C$22,3,FALSE),VLOOKUP(②選手情報入力!K10,種目情報!$E$4:$G$22,3,FALSE))))","v":""},{"$f":"IF(E2=\"\",\"\",IF(②選手情報入力!M10=\"\",\"\",IF(I2=1,VLOOKUP(②選手情報入力!M10,種目情報!$A$4:$B$22,2,FALSE),VLOOKUP(②選手情報入力!M10,種目情報!$E$4:$F$22,2,FALSE))))","v":""},{"$f":"IF(E2=\"\",\"\",IF(②選手情報入力!N10=\"\",\"\",②選手情報入力!N10))","v":""},{"$f":"IF(E2=\"\",\"\",IF(②選手情報入力!M10=\"\",\"\",0))","v":""},{"$f":"IF(E2=\"\",\"\",IF(②選手情報入力!M10=\"\",\"\",IF(I2=1,VLOOKUP(②選手情報入力!M10,種目情報!$A$4:$C$22,3,FALSE),VLOOKUP(②選手情報入力!M10,種目情報!$E$4:$G$22,3,FALSE))))","v":""},{"$f":"IF(E2=\"\",\"\",IF(②選手情報入力!O10=\"\",\"\",IF(I2=1,種目情報!$J$4,種目情報!$J$6)))","v":""},{"$f":"IF(E2=\"\",\"\",IF(②選手情報入力!O10=\"\",\"\",IF(I2=1,IF(②選手情報入力!$O$5=\"\",\"\",②選手情報入力!$O$5),IF(②選手情報入力!$O$6=\"\",\"\",②選手情報入力!$O$6))))","v":""},{"$f":"IF(E2=\"\",\"\",IF(②選手情報入力!O10=\"\",\"\",0))","v":""},{"$f":"IF(E2=\"\",\"\",IF(②選手情報入力!O10=\"\",\"\",2))","v":""},{"$f":"IF(E2=\"\",\"\",IF(②選手情報入力!P10=\"\",\"\",IF(I2=1,種目情報!$J$5,種目情報!$J$7)))","v":""},{"$f":"IF(E2=\"\",\"\",IF(②選手情報入力!P10=\"\",\"\",IF(I2=1,IF(②選手情報入力!$P$5=\"\",\"\",②選手情報入力!$P$5),IF(②選手情報入力!$P$6=\"\",\"\",②選手情報入力!$P$6))))","v":""},{"$f":"IF(E2=\"\",\"\",IF(②選手情報入力!P10=\"\",\"\",0))","v":""},{"$f":"IF(E2=\"\",\"\",IF(②選手情報入力!P10=\"\",\"\",2))","v":""}]
[{"$f":"IF(E3=\"\",\"\",I3*1000000+①学校情報入力!$D$3*1000+②選手情報入力!A11)","v":""},{"$f":"IF(E3=\"\",\"\",①学校情報入力!$D$3)","v":""},null,{"$f":"IF(②選手情報入力!B11=\"\",\"\",②選手情報入力!B11)","v":""},{"$f":"IF(②選手情報入力!C11=\"\",\"\",②選手情報入力!C11)","v":""},{"$f":"IF(E3=\"\",\"\",②選手情報入力!D11)","v":""},{"$f":"IF(E3=\"\",\"\",②選手情報入力!E11)","v":""},{"$f":"IF(E3=\"\",\"\",F3)","v":""},{"$f":"IF(E3=\"\",\"\",IF(②選手情報入力!G11=\"男\",1,2))","v":""},{"$f":"IF(E3=\"\",\"\",IF(②選手情報入力!H11=\"\",\"\",②選手情報入力!H11))","v":""},null,{"$f":"IF(E3=\"\",\"\",0)","v":""},{"$f":"IF(E3=\"\",\"\",\"愛知\")","v":""},null,{"$f":"IF(E3=\"\",\"\",IF(②選手情報入力!I11=\"\",\"\",IF(I3=1,VLOOKUP(②選手情報入力!I11,種目情報!$A$4:$B$22,2,FALSE),VLOOKUP(②選手情報入力!I11,種目情報!$E$4:$F$22,2,FALSE))))","v":""},{"$f":"IF(E3=\"\",\"\",IF(②選手情報入力!J11=\"\",\"\",②選手情報入力!J11))","v":""},{"$f":"IF(E3=\"\",\"\",IF(②選手情報入力!I11=\"\",\"\",0))","v":""},{"$f":"IF(E3=\"\",\"\",IF(②選手情報入力!I11=\"\",\"\",IF(I3=1,VLOOKUP(②選手情報入力!I11,種目情報!$A$4:$C$22,3,FALSE),VLOOKUP(②選手情報入力!I11,種目情報!$E$4:$G$22,3,FALSE))))","v":""},{"$f":"IF(E3=\"\",\"\",IF(②選手情報入力!K11=\"\",\"\",IF(I3=1,VLOOKUP(②選手情報入力!K11,種目情報!$A$4:$B$22,2,FALSE),VLOOKUP(②選手情報入力!K11,種目情報!$E$4:$F$22,2,FALSE))))","v":""},{"$f":"IF(E3=\"\",\"\",IF(②選手情報入力!L11=\"\",\"\",②選手情報入力!L11))","v":""},{"$f":"IF(E3=\"\",\"\",IF(②選手情報入力!K11=\"\",\"\",0))","v":""},{"$f":"IF(E3=\"\",\"\",IF(②選手情報入力!K11=\"\",\"\",IF(I3=1,VLOOKUP(②選手情報入力!K11,種目情報!$A$4:$C$22,3,FALSE),VLOOKUP(②選手情報入力!K11,種目情報!$E$4:$G$22,3,FALSE))))","v":""},{"$f":"IF(E3=\"\",\"\",IF(②選手情報入力!M11=\"\",\"\",IF(I3=1,VLOOKUP(②選手情報入力!M11,種目情報!$A$4:$B$22,2,FALSE),VLOOKUP(②選手情報入力!M11,種目情報!$E$4:$F$22,2,FALSE))))","v":""},{"$f":"IF(E3=\"\",\"\",IF(②選手情報入力!N11=\"\",\"\",②選手情報入力!N11))","v":""},{"$f":"IF(E3=\"\",\"\",IF(②選手情報入力!M11=\"\",\"\",0))","v":""},{"$f":"IF(E3=\"\",\"\",IF(②選手情報入力!M11=\"\",\"\",IF(I3=1,VLOOKUP(②選手情報入力!M11,種目情報!$A$4:$C$22,3,FALSE),VLOOKUP(②選手情報入力!M11,種目情報!$E$4:$G$22,3,FALSE))))","v":""},{"$f":"IF(E3=\"\",\"\",IF(②選手情報入力!O11=\"\",\"\",IF(I3=1,種目情報!$J$4,種目情報!$J$6)))","v":""},{"$f":"IF(E3=\"\",\"\",IF(②選手情報入力!O11=\"\",\"\",IF(I3=1,IF(②選手情報入力!$O$5=\"\",\"\",②選手情報入力!$O$5),IF(②選手情報入力!$O$6=\"\",\"\",②選手情報入力!$O$6))))","v":""},{"$f":"IF(E3=\"\",\"\",IF(②選手情報入力!O11=\"\",\"\",0))","v":""},{"$f":"IF(E3=\"\",\"\",IF(②選手情報入力!O11=\"\",\"\",2))","v":""},{"$f":"IF(E3=\"\",\"\",IF(②選手情報入力!P11=\"\",\"\",IF(I3=1,種目情報!$J$5,種目情報!$J$7)))","v":""},{"$f":"IF(E3=\"\",\"\",IF(②選手情報入力!P11=\"\",\"\",IF(I3=1,IF(②選手情報入力!$P$5=\"\",\"\",②選手情報入力!$P$5),IF(②選手情報入力!$P$6=\"\",\"\",②選手情報入力!$P$6))))","v":""},{"$f":"IF(E3=\"\",\"\",IF(②選手情報入力!P11=\"\",\"\",0))","v":""},{"$f":"IF(E3=\"\",\"\",IF(②選手情報入力!P11=\"\",\"\",2))","v":""}]
[{"$f":"IF(E4=\"\",\"\",I4*1000000+①学校情報入力!$D$3*1000+②選手情報入力!A12)","v":""},{"$f":"IF(E4=\"\",\"\",①学校情報入力!$D$3)","v":""},null,{"$f":"IF(②選手情報入力!B12=\"\",\"\",②選手情報入力!B12)","v":""},{"$f":"IF(②選手情報入力!C12=\"\",\"\",②選手情報入力!C12)","v":""},{"$f":"IF(E4=\"\",\"\",②選手情報入力!D12)","v":""},{"$f":"IF(E4=\"\",\"\",②選手情報入力!E12)","v":""},"",{"$f":"IF(E4=\"\",\"\",IF(②選手情報入力!G12=\"男\",1,2))","v":""},{"$f":"IF(E4=\"\",\"\",IF(②選手情報入力!H12=\"\",\"\",②選手情報入力!H12))","v":""},null,"","",null,{"$f":"IF(E4=\"\",\"\",IF(②選手情報入力!I12=\"\",\"\",IF(I4=1,VLOOKUP(②選手情報入力!I12,種目情報!$A$4:$B$22,2,FALSE),VLOOKUP(②選手情報入力!I12,種目情報!$E$4:$F$22,2,FALSE))))","v":""},{"$f":"IF(E4=\"\",\"\",IF(②選手情報入力!J12=\"\",\"\",②選手情報入力!J12))","v":""},{"$f":"IF(E4=\"\",\"\",IF(②選手情報入力!I12=\"\",\"\",0))","v":""},{"$f":"IF(E4=\"\",\"\",IF(②選手情報入力!I12=\"\",\"\",IF(I4=1,VLOOKUP(②選手情報入力!I12,種目情報!$A$4:$C$22,3,FALSE),VLOOKUP(②選手情報入力!I12,種目情報!$E$4:$G$22,3,FALSE))))","v":""},{"$f":"IF(E4=\"\",\"\",IF(②選手情報入力!K12=\"\",\"\",IF(I4=1,VLOOKUP(②選手情報入力!K12,種目情報!$A$4:$B$22,2,FALSE),VLOOKUP(②選手情報入力!K12,種目情報!$E$4:$F$22,2,FALSE))))","v":""},{"$f":"IF(E4=\"\",\"\",IF(②選手情報入力!L12=\"\",\"\",②選手情報入力!L12))","v":""},{"$f":"IF(E4=\"\",\"\",IF(②選手情報入力!K12=\"\",\"\",0))","v":""},{"$f":"IF(E4=\"\",\"\",IF(②選手情報入力!K12=\"\",\"\",IF(I4=1,VLOOKUP(②選手情報入力!K12,種目情報!$A$4:$C$22,3,FALSE),VLOOKUP(②選手情報入力!K12,種目情報!$E$4:$G$22,3,FALSE))))","v":""},{"$f":"IF(E4=\"\",\"\",IF(②選手情報入力!M12=\"\",\"\",IF(I4=1,VLOOKUP(②選手情報入力!M12,種目情報!$A$4:$B$22,2,FALSE),VLOOKUP(②選手情報入力!M12,種目情報!$E$4:$F$22,2,FALSE))))","v":""},{"$f":"IF(E4=\"\",\"\",IF(②選手情報入力!N12=\"\",\"\",②選手情報入力!N12))","v":""},{"$f":"IF(E4=\"\",\"\",IF(②選手情報入力!M12=\"\",\"\",0))","v":""},{"$f":"IF(E4=\"\",\"\",IF(②選手情報入力!M12=\"\",\"\",IF(I4=1,VLOOKUP(②選手情報入力!M12,種目情報!$A$4:$C$22,3,FALSE),VLOOKUP(②選手情報入力!M12,種目情報!$E$4:$G$22,3,FALSE))))","v":""},{"$f":"IF(E4=\"\",\"\",IF(②選手情報入力!O12=\"\",\"\",IF(I4=1,種目情報!$J$4,種目情報!$J$6)))","v":""},{"$f":"IF(E4=\"\",\"\",IF(②選手情報入力!O12=\"\",\"\",IF(I4=1,IF(②選手情報入力!$O$5=\"\",\"\",②選手情報入力!$O$5),IF(②選手情報入力!$O$6=\"\",\"\",②選手情報入力!$O$6))))","v":""},{"$f":"IF(E4=\"\",\"\",IF(②選手情報入力!O12=\"\",\"\",0))","v":""},{"$f":"IF(E4=\"\",\"\",IF(②選手情報入力!O12=\"\",\"\",2))","v":""},{"$f":"IF(E4=\"\",\"\",IF(②選手情報入力!P12=\"\",\"\",IF(I4=1,種目情報!$J$5,種目情報!$J$7)))","v":""},{"$f":"IF(E4=\"\",\"\",IF(②選手情報入力!P12=\"\",\"\",IF(I4=1,IF(②選手情報入力!$P$5=\"\",\"\",②選手情報入力!$P$5),IF(②選手情報入力!$P$6=\"\",\"\",②選手情報入力!$P$6))))","v":""},{"$f":"IF(E4=\"\",\"\",IF(②選手情報入力!P12=\"\",\"\",0))","v":""},{"$f":"IF(E4=\"\",\"\",IF(②選手情報入力!P12=\"\",\"\",2))","v":""}]
[{"$f":"IF(E5=\"\",\"\",I5*1000000+①学校情報入力!$D$3*1000+②選手情報入力!A13)","v":""},{"$f":"IF(E5=\"\",\"\",①学校情報入力!$D$3)","v":""},null,{"$f":"IF(②選手情報入力!B13=\"\",\"\",②選手情報入力!B13)","v":""},{"$f":"IF(②選手情報入力!C13=\"\",\"\",②選手情報入力!C13)","v":""},{"$f":"IF(E5=\"\",\"\",②選手情報入力!D13)","v":""},{"$f":"IF(E5=\"\",\"\",②選手情報入力!E13)","v":""},"",{"$f":"IF(E5=\"\",\"\",IF(②選手情報入力!G13=\"男\",1,2))","v":""},{"$f":"IF(E5=\"\",\"\",IF(②選手情報入力!H13=\"\",\"\",②選手情報入力!H13))","v":""},null,"","",null,{"$f":"IF(E5=\"\",\"\",IF(②選手情報入力!I13=\"\",\"\",IF(I5=1,VLOOKUP(②選手情報入力!I13,種目情報!$A$4:$B$22,2,FALSE),VLOOKUP(②選手情報入力!I13,種目情報!$E$4:$F$22,2,FALSE))))","v":""},{"$f":"IF(E5=\"\",\"\",IF(②選手情報入力!J13=\"\",\"\",②選手情報入力!J13))","v":""},{"$f":"IF(E5=\"\",\"\",IF(②選手情報入力!I13=\"\",\"\",0))","v":""},{"$f":"IF(E5=\"\",\"\",IF(②選手情報入力!I13=\"\",\"\",IF(I5=1,VLOOKUP(②選手情報入力!I13,種目情報!$A$4:$C$22,3,FALSE),VLOOKUP(②選手情報入力!I13,種目情報!$E$4:$G$22,3,FALSE))))","v":""},{"$f":"IF(E5=\"\",\"\",IF(②選手情報入力!K13=\"\",\"\",IF(I5=1,VLOOKUP(②選手情報入力!K13,種目情報!$A$4:$B$22,2,FALSE),VLOOKUP(②選手情報入力!K13,種目情報!$E$4:$F$22,2,FALSE))))","v":""},{"$f":"IF(E5=\"\",\"\",IF(②選手情報入力!L13=\"\",\"\",②選手情報入力!L13))","v":""},{"$f":"IF(E5=\"\",\"\",IF(②選手情報入力!K13=\"\",\"\",0))","v":""},{"$f":"IF(E5=\"\",\"\",IF(②選手情報入力!K13=\"\",\"\",IF(I5=1,VLOOKUP(②選手情報入力!K13,種目情報!$A$4:$C$22,3,FALSE),VLOOKUP(②選手情報入力!K13,種目情報!$E$4:$G$22,3,FALSE))))","v":""},{"$f":"IF(E5=\"\",\"\",IF(②選手情報入力!M13=\"\",\"\",IF(I5=1,VLOOKUP(②選手情報入力!M13,種目情報!$A$4:$B$22,2,FALSE),VLOOKUP(②選手情報入力!M13,種目情報!$E$4:$F$22,2,FALSE))))","v":""},{"$f":"IF(E5=\"\",\"\",IF(②選手情報入力!N13=\"\",\"\",②選手情報入力!N13))","v":""},{"$f":"IF(E5=\"\",\"\",IF(②選手情報入力!M13=\"\",\"\",0))","v":""},{"$f":"IF(E5=\"\",\"\",IF(②選手情報入力!M13=\"\",\"\",IF(I5=1,VLOOKUP(②選手情報入力!M13,種目情報!$A$4:$C$22,3,FALSE),VLOOKUP(②選手情報入力!M13,種目情報!$E$4:$G$22,3,FALSE))))","v":""},{"$f":"IF(E5=\"\",\"\",IF(②選手情報入力!O13=\"\",\"\",IF(I5=1,種目情報!$J$4,種目情報!$J$6)))","v":""},{"$f":"IF(E5=\"\",\"\",IF(②選手情報入力!O13=\"\",\"\",IF(I5=1,IF(②選手情報入力!$O$5=\"\",\"\",②選手情報入力!$O$5),IF(②選手情報入力!$O$6=\"\",\"\",②選手情報入力!$O$6))))","v":""},{"$f":"IF(E5=\"\",\"\",IF(②選手情報入力!O13=\"\",\"\",0))","v":""},{"$f":"IF(E5=\"\",\"\",IF(②選手情報入力!O13=\"\",\"\",2))","v":""},{"$f":"IF(E5=\"\",\"\",IF(②選手情報入力!P13=\"\",\"\",IF(I5=1,種目情報!$J$5,種目情報!$J$7)))","v":""},{"$f":"IF(E5=\"\",\"\",IF(②選手情報入力!P13=\"\",\"\",IF(I5=1,IF(②選手情報入力!$P$5=\"\",\"\",②選手情報入力!$P$5),IF(②選手情報入力!$P$6=\"\",\"\",②選手情報入力!$P$6))))","v":""},{"$f":"IF(E5=\"\",\"\",IF(②選手情報入力!P13=\"\",\"\",0))","v":""},{"$f":"IF(E5=\"\",\"\",IF(②選手情報入力!P13=\"\",\"\",2))","v":""}]
[{"$f":"IF(E6=\"\",\"\",I6*1000000+①学校情報入力!$D$3*1000+②選手情報入力!A14)","v":""},{"$f":"IF(E6=\"\",\"\",①学校情報入力!$D$3)","v":""},null,{"$f":"IF(②選手情報入力!B14=\"\",\"\",②選手情報入力!B14)","v":""},{"$f":"IF(②選手情報入力!C14=\"\",\"\",②選手情報入力!C14)","v":""},{"$f":"IF(E6=\"\",\"\",②選手情報入力!D14)","v":""},{"$f":"IF(E6=\"\",\"\",②選手情報入力!E14)","v":""},"",{"$f":"IF(E6=\"\",\"\",IF(②選手情報入力!G14=\"男\",1,2))","v":""},{"$f":"IF(E6=\"\",\"\",IF(②選手情報入力!H14=\"\",\"\",②選手情報入力!H14))","v":""},null,"","",null,{"$f":"IF(E6=\"\",\"\",IF(②選手情報入力!I14=\"\",\"\",IF(I6=1,VLOOKUP(②選手情報入力!I14,種目情報!$A$4:$B$22,2,FALSE),VLOOKUP(②選手情報入力!I14,種目情報!$E$4:$F$22,2,FALSE))))","v":""},{"$f":"IF(E6=\"\",\"\",IF(②選手情報入力!J14=\"\",\"\",②選手情報入力!J14))","v":""},{"$f":"IF(E6=\"\",\"\",IF(②選手情報入力!I14=\"\",\"\",0))","v":""},{"$f":"IF(E6=\"\",\"\",IF(②選手情報入力!I14=\"\",\"\",IF(I6=1,VLOOKUP(②選手情報入力!I14,種目情報!$A$4:$C$22,3,FALSE),VLOOKUP(②選手情報入力!I14,種目情報!$E$4:$G$22,3,FALSE))))","v":""},{"$f":"IF(E6=\"\",\"\",IF(②選手情報入力!K14=\"\",\"\",IF(I6=1,VLOOKUP(②選手情報入力!K14,種目情報!$A$4:$B$22,2,FALSE),VLOOKUP(②選手情報入力!K14,種目情報!$E$4:$F$22,2,FALSE))))","v":""},{"$f":"IF(E6=\"\",\"\",IF(②選手情報入力!L14=\"\",\"\",②選手情報入力!L14))","v":""},{"$f":"IF(E6=\"\",\"\",IF(②選手情報入力!K14=\"\",\"\",0))","v":""},{"$f":"IF(E6=\"\",\"\",IF(②選手情報入力!K14=\"\",\"\",IF(I6=1,VLOOKUP(②選手情報入力!K14,種目情報!$A$4:$C$22,3,FALSE),VLOOKUP(②選手情報入力!K14,種目情報!$E$4:$G$22,3,FALSE))))","v":""},{"$f":"IF(E6=\"\",\"\",IF(②選手情報入力!M14=\"\",\"\",IF(I6=1,VLOOKUP(②選手情報入力!M14,種目情報!$A$4:$B$22,2,FALSE),VLOOKUP(②選手情報入力!M14,種目情報!$E$4:$F$22,2,FALSE))))","v":""},{"$f":"IF(E6=\"\",\"\",IF(②選手情報入力!N14=\"\",\"\",②選手情報入力!N14))","v":""},{"$f":"IF(E6=\"\",\"\",IF(②選手情報入力!M14=\"\",\"\",0))","v":""},{"$f":"IF(E6=\"\",\"\",IF(②選手情報入力!M14=\"\",\"\",IF(I6=1,VLOOKUP(②選手情報入力!M14,種目情報!$A$4:$C$22,3,FALSE),VLOOKUP(②選手情報入力!M14,種目情報!$E$4:$G$22,3,FALSE))))","v":""},{"$f":"IF(E6=\"\",\"\",IF(②選手情報入力!O14=\"\",\"\",IF(I6=1,種目情報!$J$4,種目情報!$J$6)))","v":""},{"$f":"IF(E6=\"\",\"\",IF(②選手情報入力!O14=\"\",\"\",IF(I6=1,IF(②選手情報入力!$O$5=\"\",\"\",②選手情報入力!$O$5),IF(②選手情報入力!$O$6=\"\",\"\",②選手情報入力!$O$6))))","v":""},{"$f":"IF(E6=\"\",\"\",IF(②選手情報入力!O14=\"\",\"\",0))","v":""},{"$f":"IF(E6=\"\",\"\",IF(②選手情報入力!O14=\"\",\"\",2))","v":""},{"$f":"IF(E6=\"\",\"\",IF(②選手情報入力!P14=\"\",\"\",IF(I6=1,種目情報!$J$5,種目情報!$J$7)))","v":""},{"$f":"IF(E6=\"\",\"\",IF(②選手情報入力!P14=\"\",\"\",IF(I6=1,IF(②選手情報入力!$P$5=\"\",\"\",②選手情報入力!$P$5),IF(②選手情報入力!$P$6=\"\",\"\",②選手情報入力!$P$6))))","v":""},{"$f":"IF(E6=\"\",\"\",IF(②選手情報入力!P14=\"\",\"\",0))","v":""},{"$f":"IF(E6=\"\",\"\",IF(②選手情報入力!P14=\"\",\"\",2))","v":""}]
[{"$f":"IF(E7=\"\",\"\",I7*1000000+①学校情報入力!$D$3*1000+②選手情報入力!A15)","v":""},{"$f":"IF(E7=\"\",\"\",①学校情報入力!$D$3)","v":""},null,{"$f":"IF(②選手情報入力!B15=\"\",\"\",②選手情報入力!B15)","v":""},{"$f":"IF(②選手情報入力!C15=\"\",\"\",②選手情報入力!C15)","v":""},{"$f":"IF(E7=\"\",\"\",②選手情報入力!D15)","v":""},{"$f":"IF(E7=\"\",\"\",②選手情報入力!E15)","v":""},"",{"$f":"IF(E7=\"\",\"\",IF(②選手情報入力!G15=\"男\",1,2))","v":""},{"$f":"IF(E7=\"\",\"\",IF(②選手情報入力!H15=\"\",\"\",②選手情報入力!H15))","v":""},null,"","",null,{"$f":"IF(E7=\"\",\"\",IF(②選手情報入力!I15=\"\",\"\",IF(I7=1,VLOOKUP(②選手情報入力!I15,種目情報!$A$4:$B$22,2,FALSE),VLOOKUP(②選手情報入力!I15,種目情報!$E$4:$F$22,2,FALSE))))","v":""},{"$f":"IF(E7=\"\",\"\",IF(②選手情報入力!J15=\"\",\"\",②選手情報入力!J15))","v":""},{"$f":"IF(E7=\"\",\"\",IF(②選手情報入力!I15=\"\",\"\",0))","v":""},{"$f":"IF(E7=\"\",\"\",IF(②選手情報入力!I15=\"\",\"\",IF(I7=1,VLOOKUP(②選手情報入力!I15,種目情報!$A$4:$C$22,3,FALSE),VLOOKUP(②選手情報入力!I15,種目情報!$E$4:$G$22,3,FALSE))))","v":""},{"$f":"IF(E7=\"\",\"\",IF(②選手情報入力!K15=\"\",\"\",IF(I7=1,VLOOKUP(②選手情報入力!K15,種目情報!$A$4:$B$22,2,FALSE),VLOOKUP(②選手情報入力!K15,種目情報!$E$4:$F$22,2,FALSE))))","v":""},{"$f":"IF(E7=\"\",\"\",IF(②選手情報入力!L15=\"\",\"\",②選手情報入力!L15))","v":""},{"$f":"IF(E7=\"\",\"\",IF(②選手情報入力!K15=\"\",\"\",0))","v":""},{"$f":"IF(E7=\"\",\"\",IF(②選手情報入力!K15=\"\",\"\",IF(I7=1,VLOOKUP(②選手情報入力!K15,種目情報!$A$4:$C$22,3,FALSE),VLOOKUP(②選手情報入力!K15,種目情報!$E$4:$G$22,3,FALSE))))","v":""},{"$f":"IF(E7=\"\",\"\",IF(②選手情報入力!M15=\"\",\"\",IF(I7=1,VLOOKUP(②選手情報入力!M15,種目情報!$A$4:$B$22,2,FALSE),VLOOKUP(②選手情報入力!M15,種目情報!$E$4:$F$22,2,FALSE))))","v":""},{"$f":"IF(E7=\"\",\"\",IF(②選手情報入力!N15=\"\",\"\",②選手情報入力!N15))","v":""},{"$f":"IF(E7=\"\",\"\",IF(②選手情報入力!M15=\"\",\"\",0))","v":""},{"$f":"IF(E7=\"\",\"\",IF(②選手情報入力!M15=\"\",\"\",IF(I7=1,VLOOKUP(②選手情報入力!M15,種目情報!$A$4:$C$22,3,FALSE),VLOOKUP(②選手情報入力!M15,種目情報!$E$4:$G$22,3,FALSE))))","v":""},{"$f":"IF(E7=\"\",\"\",IF(②選手情報入力!O15=\"\",\"\",IF(I7=1,種目情報!$J$4,種目情報!$J$6)))","v":""},{"$f":"IF(E7=\"\",\"\",IF(②選手情報入力!O15=\"\",\"\",IF(I7=1,IF(②選手情報入力!$O$5=\"\",\"\",②選手情報入力!$O$5),IF(②選手情報入力!$O$6=\"\",\"\",②選手情報入力!$O$6))))","v":""},{"$f":"IF(E7=\"\",\"\",IF(②選手情報入力!O15=\"\",\"\",0))","v":""},{"$f":"IF(E7=\"\",\"\",IF(②選手情報入力!O15=\"\",\"\",2))","v":""},{"$f":"IF(E7=\"\",\"\",IF(②選手情報入力!P15=\"\",\"\",IF(I7=1,種目情報!$J$5,種目情報!$J$7)))","v":""},{"$f":"IF(E7=\"\",\"\",IF(②選手情報入力!P15=\"\",\"\",IF(I7=1,IF(②選手情報入力!$P$5=\"\",\"\",②選手情報入力!$P$5),IF(②選手情報入力!$P$6=\"\",\"\",②選手情報入力!$P$6))))","v":""},{"$f":"IF(E7=\"\",\"\",IF(②選手情報入力!P15=\"\",\"\",0))","v":""},{"$f":"IF(E7=\"\",\"\",IF(②選手情報入力!P15=\"\",\"\",2))","v":""}]
[{"$f":"IF(E8=\"\",\"\",I8*1000000+①学校情報入力!$D$3*1000+②選手情報入力!A16)","v":""},{"$f":"IF(E8=\"\",\"\",①学校情報入力!$D$3)","v":""},null,{"$f":"IF(②選手情報入力!B16=\"\",\"\",②選手情報入力!B16)","v":""},{"$f":"IF(②選手情報入力!C16=\"\",\"\",②選手情報入力!C16)","v":""},{"$f":"IF(E8=\"\",\"\",②選手情報入力!D16)","v":""},{"$f":"IF(E8=\"\",\"\",②選手情報入力!E16)","v":""},"",{"$f":"IF(E8=\"\",\"\",IF(②選手情報入力!G16=\"男\",1,2))","v":""},{"$f":"IF(E8=\"\",\"\",IF(②選手情報入力!H16=\"\",\"\",②選手情報入力!H16))","v":""},null,"","",null,{"$f":"IF(E8=\"\",\"\",IF(②選手情報入力!I16=\"\",\"\",IF(I8=1,VLOOKUP(②選手情報入力!I16,種目情報!$A$4:$B$22,2,FALSE),VLOOKUP(②選手情報入力!I16,種目情報!$E$4:$F$22,2,FALSE))))","v":""},{"$f":"IF(E8=\"\",\"\",IF(②選手情報入力!J16=\"\",\"\",②選手情報入力!J16))","v":""},{"$f":"IF(E8=\"\",\"\",IF(②選手情報入力!I16=\"\",\"\",0))","v":""},{"$f":"IF(E8=\"\",\"\",IF(②選手情報入力!I16=\"\",\"\",IF(I8=1,VLOOKUP(②選手情報入力!I16,種目情報!$A$4:$C$22,3,FALSE),VLOOKUP(②選手情報入力!I16,種目情報!$E$4:$G$22,3,FALSE))))","v":""},{"$f":"IF(E8=\"\",\"\",IF(②選手情報入力!K16=\"\",\"\",IF(I8=1,VLOOKUP(②選手情報入力!K16,種目情報!$A$4:$B$22,2,FALSE),VLOOKUP(②選手情報入力!K16,種目情報!$E$4:$F$22,2,FALSE))))","v":""},{"$f":"IF(E8=\"\",\"\",IF(②選手情報入力!L16=\"\",\"\",②選手情報入力!L16))","v":""},{"$f":"IF(E8=\"\",\"\",IF(②選手情報入力!K16=\"\",\"\",0))","v":""},{"$f":"IF(E8=\"\",\"\",IF(②選手情報入力!K16=\"\",\"\",IF(I8=1,VLOOKUP(②選手情報入力!K16,種目情報!$A$4:$C$22,3,FALSE),VLOOKUP(②選手情報入力!K16,種目情報!$E$4:$G$22,3,FALSE))))","v":""},{"$f":"IF(E8=\"\",\"\",IF(②選手情報入力!M16=\"\",\"\",IF(I8=1,VLOOKUP(②選手情報入力!M16,種目情報!$A$4:$B$22,2,FALSE),VLOOKUP(②選手情報入力!M16,種目情報!$E$4:$F$22,2,FALSE))))","v":""},{"$f":"IF(E8=\"\",\"\",IF(②選手情報入力!N16=\"\",\"\",②選手情報入力!N16))","v":""},{"$f":"IF(E8=\"\",\"\",IF(②選手情報入力!M16=\"\",\"\",0))","v":""},{"$f":"IF(E8=\"\",\"\",IF(②選手情報入力!M16=\"\",\"\",IF(I8=1,VLOOKUP(②選手情報入力!M16,種目情報!$A$4:$C$22,3,FALSE),VLOOKUP(②選手情報入力!M16,種目情報!$E$4:$G$22,3,FALSE))))","v":""},{"$f":"IF(E8=\"\",\"\",IF(②選手情報入力!O16=\"\",\"\",IF(I8=1,種目情報!$J$4,種目情報!$J$6)))","v":""},{"$f":"IF(E8=\"\",\"\",IF(②選手情報入力!O16=\"\",\"\",IF(I8=1,IF(②選手情報入力!$O$5=\"\",\"\",②選手情報入力!$O$5),IF(②選手情報入力!$O$6=\"\",\"\",②選手情報入力!$O$6))))","v":""},{"$f":"IF(E8=\"\",\"\",IF(②選手情報入力!O16=\"\",\"\",0))","v":""},{"$f":"IF(E8=\"\",\"\",IF(②選手情報入力!O16=\"\",\"\",2))","v":""},{"$f":"IF(E8=\"\",\"\",IF(②選手情報入力!P16=\"\",\"\",IF(I8=1,種目情報!$J$5,種目情報!$J$7)))","v":""},{"$f":"IF(E8=\"\",\"\",IF(②選手情報入力!P16=\"\",\"\",IF(I8=1,IF(②選手情報入力!$P$5=\"\",\"\",②選手情報入力!$P$5),IF(②選手情報入力!$P$6=\"\",\"\",②選手情報入力!$P$6))))","v":""},{"$f":"IF(E8=\"\",\"\",IF(②選手情報入力!P16=\"\",\"\",0))","v":""},{"$f":"IF(E8=\"\",\"\",IF(②選手情報入力!P16=\"\",\"\",2))","v":""}]
[{"$f":"IF(E9=\"\",\"\",I9*1000000+①学校情報入力!$D$3*1000+②選手情報入力!A17)","v":""},{"$f":"IF(E9=\"\",\"\",①学校情報入力!$D$3)","v":""},null,{"$f":"IF(②選手情報入力!B17=\"\",\"\",②選手情報入力!B17)","v":""},{"$f":"IF(②選手情報入力!C17=\"\",\"\",②選手情報入力!C17)","v":""},{"$f":"IF(E9=\"\",\"\",②選手情報入力!D17)","v":""},{"$f":"IF(E9=\"\",\"\",②選手情報入力!E17)","v":""},"",{"$f":"IF(E9=\"\",\"\",IF(②選手情報入力!G17=\"男\",1,2))","v":""},{"$f":"IF(E9=\"\",\"\",IF(②選手情報入力!H17=\"\",\"\",②選手情報入力!H17))","v":""},null,"","",null,{"$f":"IF(E9=\"\",\"\",IF(②選手情報入力!I17=\"\",\"\",IF(I9=1,VLOOKUP(②選手情報入力!I17,種目情報!$A$4:$B$22,2,FALSE),VLOOKUP(②選手情報入力!I17,種目情報!$E$4:$F$22,2,FALSE))))","v":""},{"$f":"IF(E9=\"\",\"\",IF(②選手情報入力!J17=\"\",\"\",②選手情報入力!J17))","v":""},{"$f":"IF(E9=\"\",\"\",IF(②選手情報入力!I17=\"\",\"\",0))","v":""},{"$f":"IF(E9=\"\",\"\",IF(②選手情報入力!I17=\"\",\"\",IF(I9=1,VLOOKUP(②選手情報入力!I17,種目情報!$A$4:$C$22,3,FALSE),VLOOKUP(②選手情報入力!I17,種目情報!$E$4:$G$22,3,FALSE))))","v":""},{"$f":"IF(E9=\"\",\"\",IF(②選手情報入力!K17=\"\",\"\",IF(I9=1,VLOOKUP(②選手情報入力!K17,種目情報!$A$4:$B$22,2,FALSE),VLOOKUP(②選手情報入力!K17,種目情報!$E$4:$F$22,2,FALSE))))","v":""},{"$f":"IF(E9=\"\",\"\",IF(②選手情報入力!L17=\"\",\"\",②選手情報入力!L17))","v":""},{"$f":"IF(E9=\"\",\"\",IF(②選手情報入力!K17=\"\",\"\",0))","v":""},{"$f":"IF(E9=\"\",\"\",IF(②選手情報入力!K17=\"\",\"\",IF(I9=1,VLOOKUP(②選手情報入力!K17,種目情報!$A$4:$C$22,3,FALSE),VLOOKUP(②選手情報入力!K17,種目情報!$E$4:$G$22,3,FALSE))))","v":""},{"$f":"IF(E9=\"\",\"\",IF(②選手情報入力!M17=\"\",\"\",IF(I9=1,VLOOKUP(②選手情報入力!M17,種目情報!$A$4:$B$22,2,FALSE),VLOOKUP(②選手情報入力!M17,種目情報!$E$4:$F$22,2,FALSE))))","v":""},{"$f":"IF(E9=\"\",\"\",IF(②選手情報入力!N17=\"\",\"\",②選手情報入力!N17))","v":""},{"$f":"IF(E9=\"\",\"\",IF(②選手情報入力!M17=\"\",\"\",0))","v":""},{"$f":"IF(E9=\"\",\"\",IF(②選手情報入力!M17=\"\",\"\",IF(I9=1,VLOOKUP(②選手情報入力!M17,種目情報!$A$4:$C$22,3,FALSE),VLOOKUP(②選手情報入力!M17,種目情報!$E$4:$G$22,3,FALSE))))","v":""},{"$f":"IF(E9=\"\",\"\",IF(②選手情報入力!O17=\"\",\"\",IF(I9=1,種目情報!$J$4,種目情報!$J$6)))","v":""},{"$f":"IF(E9=\"\",\"\",IF(②選手情報入力!O17=\"\",\"\",IF(I9=1,IF(②選手情報入力!$O$5=\"\",\"\",②選手情報入力!$O$5),IF(②選手情報入力!$O$6=\"\",\"\",②選手情報入力!$O$6))))","v":""},{"$f":"IF(E9=\"\",\"\",IF(②選手情報入力!O17=\"\",\"\",0))","v":""},{"$f":"IF(E9=\"\",\"\",IF(②選手情報入力!O17=\"\",\"\",2))","v":""},{"$f":"IF(E9=\"\",\"\",IF(②選手情報入力!P17=\"\",\"\",IF(I9=1,種目情報!$J$5,種目情報!$J$7)))","v":""},{"$f":"IF(E9=\"\",\"\",IF(②選手情報入力!P17=\"\",\"\",IF(I9=1,IF(②選手情報入力!$P$5=\"\",\"\",②選手情報入力!$P$5),IF(②選手情報入力!$P$6=\"\",\"\",②選手情報入力!$P$6))))","v":""},{"$f":"IF(E9=\"\",\"\",IF(②選手情報入力!P17=\"\",\"\",0))","v":""},{"$f":"IF(E9=\"\",\"\",IF(②選手情報入力!P17=\"\",\"\",2))","v":""}]
[{"$f":"IF(E10=\"\",\"\",I10*1000000+①学校情報入力!$D$3*1000+②選手情報入力!A18)","v":""},{"$f":"IF(E10=\"\",\"\",①学校情報入力!$D$3)","v":""},null,{"$f":"IF(②選手情報入力!B18=\"\",\"\",②選手情報入力!B18)","v":""},{"$f":"IF(②選手情報入力!C18=\"\",\"\",②選手情報入力!C18)","v":""},{"$f":"IF(E10=\"\",\"\",②選手情報入力!D18)","v":""},{"$f":"IF(E10=\"\",\"\",②選手情報入力!E18)","v":""},"",{"$f":"IF(E10=\"\",\"\",IF(②選手情報入力!G18=\"男\",1,2))","v":""},{"$f":"IF(E10=\"\",\"\",IF(②選手情報入力!H18=\"\",\"\",②選手情報入力!H18))","v":""},null,"","",null,{"$f":"IF(E10=\"\",\"\",IF(②選手情報入力!I18=\"\",\"\",IF(I10=1,VLOOKUP(②選手情報入力!I18,種目情報!$A$4:$B$22,2,FALSE),VLOOKUP(②選手情報入力!I18,種目情報!$E$4:$F$22,2,FALSE))))","v":""},{"$f":"IF(E10=\"\",\"\",IF(②選手情報入力!J18=\"\",\"\",②選手情報入力!J18))","v":""},{"$f":"IF(E10=\"\",\"\",IF(②選手情報入力!I18=\"\",\"\",0))","v":""},{"$f":"IF(E10=\"\",\"\",IF(②選手情報入力!I18=\"\",\"\",IF(I10=1,VLOOKUP(②選手情報入力!I18,種目情報!$A$4:$C$22,3,FALSE),VLOOKUP(②選手情報入力!I18,種目情報!$E$4:$G$22,3,FALSE))))","v":""},{"$f":"IF(E10=\"\",\"\",IF(②選手情報入力!K18=\"\",\"\",IF(I10=1,VLOOKUP(②選手情報入力!K18,種目情報!$A$4:$B$22,2,FALSE),VLOOKUP(②選手情報入力!K18,種目情報!$E$4:$F$22,2,FALSE))))","v":""},{"$f":"IF(E10=\"\",\"\",IF(②選手情報入力!L18=\"\",\"\",②選手情報入力!L18))","v":""},{"$f":"IF(E10=\"\",\"\",IF(②選手情報入力!K18=\"\",\"\",0))","v":""},{"$f":"IF(E10=\"\",\"\",IF(②選手情報入力!K18=\"\",\"\",IF(I10=1,VLOOKUP(②選手情報入力!K18,種目情報!$A$4:$C$22,3,FALSE),VLOOKUP(②選手情報入力!K18,種目情報!$E$4:$G$22,3,FALSE))))","v":""},{"$f":"IF(E10=\"\",\"\",IF(②選手情報入力!M18=\"\",\"\",IF(I10=1,VLOOKUP(②選手情報入力!M18,種目情報!$A$4:$B$22,2,FALSE),VLOOKUP(②選手情報入力!M18,種目情報!$E$4:$F$22,2,FALSE))))","v":""},{"$f":"IF(E10=\"\",\"\",IF(②選手情報入力!N18=\"\",\"\",②選手情報入力!N18))","v":""},{"$f":"IF(E10=\"\",\"\",IF(②選手情報入力!M18=\"\",\"\",0))","v":""},{"$f":"IF(E10=\"\",\"\",IF(②選手情報入力!M18=\"\",\"\",IF(I10=1,VLOOKUP(②選手情報入力!M18,種目情報!$A$4:$C$22,3,FALSE),VLOOKUP(②選手情報入力!M18,種目情報!$E$4:$G$22,3,FALSE))))","v":""},{"$f":"IF(E10=\"\",\"\",IF(②選手情報入力!O18=\"\",\"\",IF(I10=1,種目情報!$J$4,種目情報!$J$6)))","v":""},{"$f":"IF(E10=\"\",\"\",IF(②選手情報入力!O18=\"\",\"\",IF(I10=1,IF(②選手情報入力!$O$5=\"\",\"\",②選手情報入力!$O$5),IF(②選手情報入力!$O$6=\"\",\"\",②選手情報入力!$O$6))))","v":""},{"$f":"IF(E10=\"\",\"\",IF(②選手情報入力!O18=\"\",\"\",0))","v":""},{"$f":"IF(E10=\"\",\"\",IF(②選手情報入力!O18=\"\",\"\",2))","v":""},{"$f":"IF(E10=\"\",\"\",IF(②選手情報入力!P18=\"\",\"\",IF(I10=1,種目情報!$J$5,種目情報!$J$7)))","v":""},{"$f":"IF(E10=\"\",\"\",IF(②選手情報入力!P18=\"\",\"\",IF(I10=1,IF(②選手情報入力!$P$5=\"\",\"\",②選手情報入力!$P$5),IF(②選手情報入力!$P$6=\"\",\"\",②選手情報入力!$P$6))))","v":""},{"$f":"IF(E10=\"\",\"\",IF(②選手情報入力!P18=\"\",\"\",0))","v":""},{"$f":"IF(E10=\"\",\"\",IF(②選手情報入力!P18=\"\",\"\",2))","v":""}]
[{"$f":"IF(E11=\"\",\"\",I11*1000000+①学校情報入力!$D$3*1000+②選手情報入力!A19)","v":""},{"$f":"IF(E11=\"\",\"\",①学校情報入力!$D$3)","v":""},null,{"$f":"IF(②選手情報入力!B19=\"\",\"\",②選手情報入力!B19)","v":""},{"$f":"IF(②選手情報入力!C19=\"\",\"\",②選手情報入力!C19)","v":""},{"$f":"IF(E11=\"\",\"\",②選手情報入力!D19)","v":""},{"$f":"IF(E11=\"\",\"\",②選手情報入力!E19)","v":""},"",{"$f":"IF(E11=\"\",\"\",IF(②選手情報入力!G19=\"男\",1,2))","v":""},{"$f":"IF(E11=\"\",\"\",IF(②選手情報入力!H19=\"\",\"\",②選手情報入力!H19))","v":""},null,"","",null,{"$f":"IF(E11=\"\",\"\",IF(②選手情報入力!I19=\"\",\"\",IF(I11=1,VLOOKUP(②選手情報入力!I19,種目情報!$A$4:$B$22,2,FALSE),VLOOKUP(②選手情報入力!I19,種目情報!$E$4:$F$22,2,FALSE))))","v":""},{"$f":"IF(E11=\"\",\"\",IF(②選手情報入力!J19=\"\",\"\",②選手情報入力!J19))","v":""},{"$f":"IF(E11=\"\",\"\",IF(②選手情報入力!I19=\"\",\"\",0))","v":""},{"$f":"IF(E11=\"\",\"\",IF(②選手情報入力!I19=\"\",\"\",IF(I11=1,VLOOKUP(②選手情報入力!I19,種目情報!$A$4:$C$22,3,FALSE),VLOOKUP(②選手情報入力!I19,種目情報!$E$4:$G$22,3,FALSE))))","v":""},{"$f":"IF(E11=\"\",\"\",IF(②選手情報入力!K19=\"\",\"\",IF(I11=1,VLOOKUP(②選手情報入力!K19,種目情報!$A$4:$B$22,2,FALSE),VLOOKUP(②選手情報入力!K19,種目情報!$E$4:$F$22,2,FALSE))))","v":""},{"$f":"IF(E11=\"\",\"\",IF(②選手情報入力!L19=\"\",\"\",②選手情報入力!L19))","v":""},{"$f":"IF(E11=\"\",\"\",IF(②選手情報入力!K19=\"\",\"\",0))","v":""},{"$f":"IF(E11=\"\",\"\",IF(②選手情報入力!K19=\"\",\"\",IF(I11=1,VLOOKUP(②選手情報入力!K19,種目情報!$A$4:$C$22,3,FALSE),VLOOKUP(②選手情報入力!K19,種目情報!$E$4:$G$22,3,FALSE))))","v":""},{"$f":"IF(E11=\"\",\"\",IF(②選手情報入力!M19=\"\",\"\",IF(I11=1,VLOOKUP(②選手情報入力!M19,種目情報!$A$4:$B$22,2,FALSE),VLOOKUP(②選手情報入力!M19,種目情報!$E$4:$F$22,2,FALSE))))","v":""},{"$f":"IF(E11=\"\",\"\",IF(②選手情報入力!N19=\"\",\"\",②選手情報入力!N19))","v":""},{"$f":"IF(E11=\"\",\"\",IF(②選手情報入力!M19=\"\",\"\",0))","v":""},{"$f":"IF(E11=\"\",\"\",IF(②選手情報入力!M19=\"\",\"\",IF(I11=1,VLOOKUP(②選手情報入力!M19,種目情報!$A$4:$C$22,3,FALSE),VLOOKUP(②選手情報入力!M19,種目情報!$E$4:$G$22,3,FALSE))))","v":""},{"$f":"IF(E11=\"\",\"\",IF(②選手情報入力!O19=\"\",\"\",IF(I11=1,種目情報!$J$4,種目情報!$J$6)))","v":""},{"$f":"IF(E11=\"\",\"\",IF(②選手情報入力!O19=\"\",\"\",IF(I11=1,IF(②選手情報入力!$O$5=\"\",\"\",②選手情報入力!$O$5),IF(②選手情報入力!$O$6=\"\",\"\",②選手情報入力!$O$6))))","v":""},{"$f":"IF(E11=\"\",\"\",IF(②選手情報入力!O19=\"\",\"\",0))","v":""},{"$f":"IF(E11=\"\",\"\",IF(②選手情報入力!O19=\"\",\"\",2))","v":""},{"$f":"IF(E11=\"\",\"\",IF(②選手情報入力!P19=\"\",\"\",IF(I11=1,種目情報!$J$5,種目情報!$J$7)))","v":""},{"$f":"IF(E11=\"\",\"\",IF(②選手情報入力!P19=\"\",\"\",IF(I11=1,IF(②選手情報入力!$P$5=\"\",\"\",②選手情報入力!$P$5),IF(②選手情報入力!$P$6=\"\",\"\",②選手情報入力!$P$6))))","v":""},{"$f":"IF(E11=\"\",\"\",IF(②選手情報入力!P19=\"\",\"\",0))","v":""},{"$f":"IF(E11=\"\",\"\",IF(②選手情報入力!P19=\"\",\"\",2))","v":""}]
[{"$f":"IF(E12=\"\",\"\",I12*1000000+①学校情報入力!$D$3*1000+②選手情報入力!A20)","v":""},{"$f":"IF(E12=\"\",\"\",①学校情報入力!$D$3)","v":""},null,{"$f":"IF(②選手情報入力!B20=\"\",\"\",②選手情報入力!B20)","v":""},{"$f":"IF(②選手情報入力!C20=\"\",\"\",②選手情報入力!C20)","v":""},{"$f":"IF(E12=\"\",\"\",②選手情報入力!D20)","v":""},{"$f":"IF(E12=\"\",\"\",②選手情報入力!E20)","v":""},"",{"$f":"IF(E12=\"\",\"\",IF(②選手情報入力!G20=\"男\",1,2))","v":""},{"$f":"IF(E12=\"\",\"\",IF(②選手情報入力!H20=\"\",\"\",②選手情報入力!H20))","v":""},null,"","",null,{"$f":"IF(E12=\"\",\"\",IF(②選手情報入力!I20=\"\",\"\",IF(I12=1,VLOOKUP(②選手情報入力!I20,種目情報!$A$4:$B$22,2,FALSE),VLOOKUP(②選手情報入力!I20,種目情報!$E$4:$F$22,2,FALSE))))","v":""},{"$f":"IF(E12=\"\",\"\",IF(②選手情報入力!J20=\"\",\"\",②選手情報入力!J20))","v":""},{"$f":"IF(E12=\"\",\"\",IF(②選手情報入力!I20=\"\",\"\",0))","v":""},{"$f":"IF(E12=\"\",\"\",IF(②選手情報入力!I20=\"\",\"\",IF(I12=1,VLOOKUP(②選手情報入力!I20,種目情報!$A$4:$C$22,3,FALSE),VLOOKUP(②選手情報入力!I20,種目情報!$E$4:$G$22,3,FALSE))))","v":""},{"$f":"IF(E12=\"\",\"\",IF(②選手情報入力!K20=\"\",\"\",IF(I12=1,VLOOKUP(②選手情報入力!K20,種目情報!$A$4:$B$22,2,FALSE),VLOOKUP(②選手情報入力!K20,種目情報!$E$4:$F$22,2,FALSE))))","v":""},{"$f":"IF(E12=\"\",\"\",IF(②選手情報入力!L20=\"\",\"\",②選手情報入力!L20))","v":""},{"$f":"IF(E12=\"\",\"\",IF(②選手情報入力!K20=\"\",\"\",0))","v":""},{"$f":"IF(E12=\"\",\"\",IF(②選手情報入力!K20=\"\",\"\",IF(I12=1,VLOOKUP(②選手情報入力!K20,種目情報!$A$4:$C$22,3,FALSE),VLOOKUP(②選手情報入力!K20,種目情報!$E$4:$G$22,3,FALSE))))","v":""},{"$f":"IF(E12=\"\",\"\",IF(②選手情報入力!M20=\"\",\"\",IF(I12=1,VLOOKUP(②選手情報入力!M20,種目情報!$A$4:$B$22,2,FALSE),VLOOKUP(②選手情報入力!M20,種目情報!$E$4:$F$22,2,FALSE))))","v":""},{"$f":"IF(E12=\"\",\"\",IF(②選手情報入力!N20=\"\",\"\",②選手情報入力!N20))","v":""},{"$f":"IF(E12=\"\",\"\",IF(②選手情報入力!M20=\"\",\"\",0))","v":""},{"$f":"IF(E12=\"\",\"\",IF(②選手情報入力!M20=\"\",\"\",IF(I12=1,VLOOKUP(②選手情報入力!M20,種目情報!$A$4:$C$22,3,FALSE),VLOOKUP(②選手情報入力!M20,種目情報!$E$4:$G$22,3,FALSE))))","v":""},{"$f":"IF(E12=\"\",\"\",IF(②選手情報入力!O20=\"\",\"\",IF(I12=1,種目情報!$J$4,種目情報!$J$6)))","v":""},{"$f":"IF(E12=\"\",\"\",IF(②選手情報入力!O20=\"\",\"\",IF(I12=1,IF(②選手情報入力!$O$5=\"\",\"\",②選手情報入力!$O$5),IF(②選手情報入力!$O$6=\"\",\"\",②選手情報入力!$O$6))))","v":""},{"$f":"IF(E12=\"\",\"\",IF(②選手情報入力!O20=\"\",\"\",0))","v":""},{"$f":"IF(E12=\"\",\"\",IF(②選手情報入力!O20=\"\",\"\",2))","v":""},{"$f":"IF(E12=\"\",\"\",IF(②選手情報入力!P20=\"\",\"\",IF(I12=1,種目情報!$J$5,種目情報!$J$7)))","v":""},{"$f":"IF(E12=\"\",\"\",IF(②選手情報入力!P20=\"\",\"\",IF(I12=1,IF(②選手情報入力!$P$5=\"\",\"\",②選手情報入力!$P$5),IF(②選手情報入力!$P$6=\"\",\"\",②選手情報入力!$P$6))))","v":""},{"$f":"IF(E12=\"\",\"\",IF(②選手情報入力!P20=\"\",\"\",0))","v":""},{"$f":"IF(E12=\"\",\"\",IF(②選手情報入力!P20=\"\",\"\",2))","v":""}]
[{"$f":"IF(E13=\"\",\"\",I13*1000000+①学校情報入力!$D$3*1000+②選手情報入力!A21)","v":""},{"$f":"IF(E13=\"\",\"\",①学校情報入力!$D$3)","v":""},null,{"$f":"IF(②選手情報入力!B21=\"\",\"\",②選手情報入力!B21)","v":""},{"$f":"IF(②選手情報入力!C21=\"\",\"\",②選手情報入力!C21)","v":""},{"$f":"IF(E13=\"\",\"\",②選手情報入力!D21)","v":""},{"$f":"IF(E13=\"\",\"\",②選手情報入力!E21)","v":""},"",{"$f":"IF(E13=\"\",\"\",IF(②選手情報入力!G21=\"男\",1,2))","v":""},{"$f":"IF(E13=\"\",\"\",IF(②選手情報入力!H21=\"\",\"\",②選手情報入力!H21))","v":""},null,"","",null,{"$f":"IF(E13=\"\",\"\",IF(②選手情報入力!I21=\"\",\"\",IF(I13=1,VLOOKUP(②選手情報入力!I21,種目情報!$A$4:$B$22,2,FALSE),VLOOKUP(②選手情報入力!I21,種目情報!$E$4:$F$22,2,FALSE))))","v":""},{"$f":"IF(E13=\"\",\"\",IF(②選手情報入力!J21=\"\",\"\",②選手情報入力!J21))","v":""},{"$f":"IF(E13=\"\",\"\",IF(②選手情報入力!I21=\"\",\"\",0))","v":""},{"$f":"IF(E13=\"\",\"\",IF(②選手情報入力!I21=\"\",\"\",IF(I13=1,VLOOKUP(②選手情報入力!I21,種目情報!$A$4:$C$22,3,FALSE),VLOOKUP(②選手情報入力!I21,種目情報!$E$4:$G$22,3,FALSE))))","v":""},{"$f":"IF(E13=\"\",\"\",IF(②選手情報入力!K21=\"\",\"\",IF(I13=1,VLOOKUP(②選手情報入力!K21,種目情報!$A$4:$B$22,2,FALSE),VLOOKUP(②選手情報入力!K21,種目情報!$E$4:$F$22,2,FALSE))))","v":""},{"$f":"IF(E13=\"\",\"\",IF(②選手情報入力!L21=\"\",\"\",②選手情報入力!L21))","v":""},{"$f":"IF(E13=\"\",\"\",IF(②選手情報入力!K21=\"\",\"\",0))","v":""},{"$f":"IF(E13=\"\",\"\",IF(②選手情報入力!K21=\"\",\"\",IF(I13=1,VLOOKUP(②選手情報入力!K21,種目情報!$A$4:$C$22,3,FALSE),VLOOKUP(②選手情報入力!K21,種目情報!$E$4:$G$22,3,FALSE))))","v":""},{"$f":"IF(E13=\"\",\"\",IF(②選手情報入力!M21=\"\",\"\",IF(I13=1,VLOOKUP(②選手情報入力!M21,種目情報!$A$4:$B$22,2,FALSE),VLOOKUP(②選手情報入力!M21,種目情報!$E$4:$F$22,2,FALSE))))","v":""},{"$f":"IF(E13=\"\",\"\",IF(②選手情報入力!N21=\"\",\"\",②選手情報入力!N21))","v":""},{"$f":"IF(E13=\"\",\"\",IF(②選手情報入力!M21=\"\",\"\",0))","v":""},{"$f":"IF(E13=\"\",\"\",IF(②選手情報入力!M21=\"\",\"\",IF(I13=1,VLOOKUP(②選手情報入力!M21,種目情報!$A$4:$C$22,3,FALSE),VLOOKUP(②選手情報入力!M21,種目情報!$E$4:$G$22,3,FALSE))))","v":""},{"$f":"IF(E13=\"\",\"\",IF(②選手情報入力!O21=\"\",\"\",IF(I13=1,種目情報!$J$4,種目情報!$J$6)))","v":""},{"$f":"IF(E13=\"\",\"\",IF(②選手情報入力!O21=\"\",\"\",IF(I13=1,IF(②選手情報入力!$O$5=\"\",\"\",②選手情報入力!$O$5),IF(②選手情報入力!$O$6=\"\",\"\",②選手情報入力!$O$6))))","v":""},{"$f":"IF(E13=\"\",\"\",IF(②選手情報入力!O21=\"\",\"\",0))","v":""},{"$f":"IF(E13=\"\",\"\",IF(②選手情報入力!O21=\"\",\"\",2))","v":""},{"$f":"IF(E13=\"\",\"\",IF(②選手情報入力!P21=\"\",\"\",IF(I13=1,種目情報!$J$5,種目情報!$J$7)))","v":""},{"$f":"IF(E13=\"\",\"\",IF(②選手情報入力!P21=\"\",\"\",IF(I13=1,IF(②選手情報入力!$P$5=\"\",\"\",②選手情報入力!$P$5),IF(②選手情報入力!$P$6=\"\",\"\",②選手情報入力!$P$6))))","v":""},{"$f":"IF(E13=\"\",\"\",IF(②選手情報入力!P21=\"\",\"\",0))","v":""},{"$f":"IF(E13=\"\",\"\",IF(②選手情報入力!P21=\"\",\"\",2))","v":""}]
[{"$f":"IF(E14=\"\",\"\",I14*1000000+①学校情報入力!$D$3*1000+②選手情報入力!A22)","v":""},{"$f":"IF(E14=\"\",\"\",①学校情報入力!$D$3)","v":""},null,{"$f":"IF(②選手情報入力!B22=\"\",\"\",②選手情報入力!B22)","v":""},{"$f":"IF(②選手情報入力!C22=\"\",\"\",②選手情報入力!C22)","v":""},{"$f":"IF(E14=\"\",\"\",②選手情報入力!D22)","v":""},{"$f":"IF(E14=\"\",\"\",②選手情報入力!E22)","v":""},"",{"$f":"IF(E14=\"\",\"\",IF(②選手情報入力!G22=\"男\",1,2))","v":""},{"$f":"IF(E14=\"\",\"\",IF(②選手情報入力!H22=\"\",\"\",②選手情報入力!H22))","v":""},null,"","",null,{"$f":"IF(E14=\"\",\"\",IF(②選手情報入力!I22=\"\",\"\",IF(I14=1,VLOOKUP(②選手情報入力!I22,種目情報!$A$4:$B$22,2,FALSE),VLOOKUP(②選手情報入力!I22,種目情報!$E$4:$F$22,2,FALSE))))","v":""},{"$f":"IF(E14=\"\",\"\",IF(②選手情報入力!J22=\"\",\"\",②選手情報入力!J22))","v":""},{"$f":"IF(E14=\"\",\"\",IF(②選手情報入力!I22=\"\",\"\",0))","v":""},{"$f":"IF(E14=\"\",\"\",IF(②選手情報入力!I22=\"\",\"\",IF(I14=1,VLOOKUP(②選手情報入力!I22,種目情報!$A$4:$C$22,3,FALSE),VLOOKUP(②選手情報入力!I22,種目情報!$E$4:$G$22,3,FALSE))))","v":""},{"$f":"IF(E14=\"\",\"\",IF(②選手情報入力!K22=\"\",\"\",IF(I14=1,VLOOKUP(②選手情報入力!K22,種目情報!$A$4:$B$22,2,FALSE),VLOOKUP(②選手情報入力!K22,種目情報!$E$4:$F$22,2,FALSE))))","v":""},{"$f":"IF(E14=\"\",\"\",IF(②選手情報入力!L22=\"\",\"\",②選手情報入力!L22))","v":""},{"$f":"IF(E14=\"\",\"\",IF(②選手情報入力!K22=\"\",\"\",0))","v":""},{"$f":"IF(E14=\"\",\"\",IF(②選手情報入力!K22=\"\",\"\",IF(I14=1,VLOOKUP(②選手情報入力!K22,種目情報!$A$4:$C$22,3,FALSE),VLOOKUP(②選手情報入力!K22,種目情報!$E$4:$G$22,3,FALSE))))","v":""},{"$f":"IF(E14=\"\",\"\",IF(②選手情報入力!M22=\"\",\"\",IF(I14=1,VLOOKUP(②選手情報入力!M22,種目情報!$A$4:$B$22,2,FALSE),VLOOKUP(②選手情報入力!M22,種目情報!$E$4:$F$22,2,FALSE))))","v":""},{"$f":"IF(E14=\"\",\"\",IF(②選手情報入力!N22=\"\",\"\",②選手情報入力!N22))","v":""},{"$f":"IF(E14=\"\",\"\",IF(②選手情報入力!M22=\"\",\"\",0))","v":""},{"$f":"IF(E14=\"\",\"\",IF(②選手情報入力!M22=\"\",\"\",IF(I14=1,VLOOKUP(②選手情報入力!M22,種目情報!$A$4:$C$22,3,FALSE),VLOOKUP(②選手情報入力!M22,種目情報!$E$4:$G$22,3,FALSE))))","v":""},{"$f":"IF(E14=\"\",\"\",IF(②選手情報入力!O22=\"\",\"\",IF(I14=1,種目情報!$J$4,種目情報!$J$6)))","v":""},{"$f":"IF(E14=\"\",\"\",IF(②選手情報入力!O22=\"\",\"\",IF(I14=1,IF(②選手情報入力!$O$5=\"\",\"\",②選手情報入力!$O$5),IF(②選手情報入力!$O$6=\"\",\"\",②選手情報入力!$O$6))))","v":""},{"$f":"IF(E14=\"\",\"\",IF(②選手情報入力!O22=\"\",\"\",0))","v":""},{"$f":"IF(E14=\"\",\"\",IF(②選手情報入力!O22=\"\",\"\",2))","v":""},{"$f":"IF(E14=\"\",\"\",IF(②選手情報入力!P22=\"\",\"\",IF(I14=1,種目情報!$J$5,種目情報!$J$7)))","v":""},{"$f":"IF(E14=\"\",\"\",IF(②選手情報入力!P22=\"\",\"\",IF(I14=1,IF(②選手情報入力!$P$5=\"\",\"\",②選手情報入力!$P$5),IF(②選手情報入力!$P$6=\"\",\"\",②選手情報入力!$P$6))))","v":""},{"$f":"IF(E14=\"\",\"\",IF(②選手情報入力!P22=\"\",\"\",0))","v":""},{"$f":"IF(E14=\"\",\"\",IF(②選手情報入力!P22=\"\",\"\",2))","v":""}]
[{"$f":"IF(E15=\"\",\"\",I15*1000000+①学校情報入力!$D$3*1000+②選手情報入力!A23)","v":""},{"$f":"IF(E15=\"\",\"\",①学校情報入力!$D$3)","v":""},null,{"$f":"IF(②選手情報入力!B23=\"\",\"\",②選手情報入力!B23)","v":""},{"$f":"IF(②選手情報入力!C23=\"\",\"\",②選手情報入力!C23)","v":""},{"$f":"IF(E15=\"\",\"\",②選手情報入力!D23)","v":""},{"$f":"IF(E15=\"\",\"\",②選手情報入力!E23)","v":""},"",{"$f":"IF(E15=\"\",\"\",IF(②選手情報入力!G23=\"男\",1,2))","v":""},{"$f":"IF(E15=\"\",\"\",IF(②選手情報入力!H23=\"\",\"\",②選手情報入力!H23))","v":""},null,"","",null,{"$f":"IF(E15=\"\",\"\",IF(②選手情報入力!I23=\"\",\"\",IF(I15=1,VLOOKUP(②選手情報入力!I23,種目情報!$A$4:$B$22,2,FALSE),VLOOKUP(②選手情報入力!I23,種目情報!$E$4:$F$22,2,FALSE))))","v":""},{"$f":"IF(E15=\"\",\"\",IF(②選手情報入力!J23=\"\",\"\",②選手情報入力!J23))","v":""},{"$f":"IF(E15=\"\",\"\",IF(②選手情報入力!I23=\"\",\"\",0))","v":""},{"$f":"IF(E15=\"\",\"\",IF(②選手情報入力!I23=\"\",\"\",IF(I15=1,VLOOKUP(②選手情報入力!I23,種目情報!$A$4:$C$22,3,FALSE),VLOOKUP(②選手情報入力!I23,種目情報!$E$4:$G$22,3,FALSE))))","v":""},{"$f":"IF(E15=\"\",\"\",IF(②選手情報入力!K23=\"\",\"\",IF(I15=1,VLOOKUP(②選手情報入力!K23,種目情報!$A$4:$B$22,2,FALSE),VLOOKUP(②選手情報入力!K23,種目情報!$E$4:$F$22,2,FALSE))))","v":""},{"$f":"IF(E15=\"\",\"\",IF(②選手情報入力!L23=\"\",\"\",②選手情報入力!L23))","v":""},{"$f":"IF(E15=\"\",\"\",IF(②選手情報入力!K23=\"\",\"\",0))","v":""},{"$f":"IF(E15=\"\",\"\",IF(②選手情報入力!K23=\"\",\"\",IF(I15=1,VLOOKUP(②選手情報入力!K23,種目情報!$A$4:$C$22,3,FALSE),VLOOKUP(②選手情報入力!K23,種目情報!$E$4:$G$22,3,FALSE))))","v":""},{"$f":"IF(E15=\"\",\"\",IF(②選手情報入力!M23=\"\",\"\",IF(I15=1,VLOOKUP(②選手情報入力!M23,種目情報!$A$4:$B$22,2,FALSE),VLOOKUP(②選手情報入力!M23,種目情報!$E$4:$F$22,2,FALSE))))","v":""},{"$f":"IF(E15=\"\",\"\",IF(②選手情報入力!N23=\"\",\"\",②選手情報入力!N23))","v":""},{"$f":"IF(E15=\"\",\"\",IF(②選手情報入力!M23=\"\",\"\",0))","v":""},{"$f":"IF(E15=\"\",\"\",IF(②選手情報入力!M23=\"\",\"\",IF(I15=1,VLOOKUP(②選手情報入力!M23,種目情報!$A$4:$C$22,3,FALSE),VLOOKUP(②選手情報入力!M23,種目情報!$E$4:$G$22,3,FALSE))))","v":""},{"$f":"IF(E15=\"\",\"\",IF(②選手情報入力!O23=\"\",\"\",IF(I15=1,種目情報!$J$4,種目情報!$J$6)))","v":""},{"$f":"IF(E15=\"\",\"\",IF(②選手情報入力!O23=\"\",\"\",IF(I15=1,IF(②選手情報入力!$O$5=\"\",\"\",②選手情報入力!$O$5),IF(②選手情報入力!$O$6=\"\",\"\",②選手情報入力!$O$6))))","v":""},{"$f":"IF(E15=\"\",\"\",IF(②選手情報入力!O23=\"\",\"\",0))","v":""},{"$f":"IF(E15=\"\",\"\",IF(②選手情報入力!O23=\"\",\"\",2))","v":""},{"$f":"IF(E15=\"\",\"\",IF(②選手情報入力!P23=\"\",\"\",IF(I15=1,種目情報!$J$5,種目情報!$J$7)))","v":""},{"$f":"IF(E15=\"\",\"\",IF(②選手情報入力!P23=\"\",\"\",IF(I15=1,IF(②選手情報入力!$P$5=\"\",\"\",②選手情報入力!$P$5),IF(②選手情報入力!$P$6=\"\",\"\",②選手情報入力!$P$6))))","v":""},{"$f":"IF(E15=\"\",\"\",IF(②選手情報入力!P23=\"\",\"\",0))","v":""},{"$f":"IF(E15=\"\",\"\",IF(②選手情報入力!P23=\"\",\"\",2))","v":""}]
[{"$f":"IF(E16=\"\",\"\",I16*1000000+①学校情報入力!$D$3*1000+②選手情報入力!A24)","v":""},{"$f":"IF(E16=\"\",\"\",①学校情報入力!$D$3)","v":""},null,{"$f":"IF(②選手情報入力!B24=\"\",\"\",②選手情報入力!B24)","v":""},{"$f":"IF(②選手情報入力!C24=\"\",\"\",②選手情報入力!C24)","v":""},{"$f":"IF(E16=\"\",\"\",②選手情報入力!D24)","v":""},{"$f":"IF(E16=\"\",\"\",②選手情報入力!E24)","v":""},"",{"$f":"IF(E16=\"\",\"\",IF(②選手情報入力!G24=\"男\",1,2))","v":""},{"$f":"IF(E16=\"\",\"\",IF(②選手情報入力!H24=\"\",\"\",②選手情報入力!H24))","v":""},null,"","",null,{"$f":"IF(E16=\"\",\"\",IF(②選手情報入力!I24=\"\",\"\",IF(I16=1,VLOOKUP(②選手情報入力!I24,種目情報!$A$4:$B$22,2,FALSE),VLOOKUP(②選手情報入力!I24,種目情報!$E$4:$F$22,2,FALSE))))","v":""},{"$f":"IF(E16=\"\",\"\",IF(②選手情報入力!J24=\"\",\"\",②選手情報入力!J24))","v":""},{"$f":"IF(E16=\"\",\"\",IF(②選手情報入力!I24=\"\",\"\",0))","v":""},{"$f":"IF(E16=\"\",\"\",IF(②選手情報入力!I24=\"\",\"\",IF(I16=1,VLOOKUP(②選手情報入力!I24,種目情報!$A$4:$C$22,3,FALSE),VLOOKUP(②選手情報入力!I24,種目情報!$E$4:$G$22,3,FALSE))))","v":""},{"$f":"IF(E16=\"\",\"\",IF(②選手情報入力!K24=\"\",\"\",IF(I16=1,VLOOKUP(②選手情報入力!K24,種目情報!$A$4:$B$22,2,FALSE),VLOOKUP(②選手情報入力!K24,種目情報!$E$4:$F$22,2,FALSE))))","v":""},{"$f":"IF(E16=\"\",\"\",IF(②選手情報入力!L24=\"\",\"\",②選手情報入力!L24))","v":""},{"$f":"IF(E16=\"\",\"\",IF(②選手情報入力!K24=\"\",\"\",0))","v":""},{"$f":"IF(E16=\"\",\"\",IF(②選手情報入力!K24=\"\",\"\",IF(I16=1,VLOOKUP(②選手情報入力!K24,種目情報!$A$4:$C$22,3,FALSE),VLOOKUP(②選手情報入力!K24,種目情報!$E$4:$G$22,3,FALSE))))","v":""},{"$f":"IF(E16=\"\",\"\",IF(②選手情報入力!M24=\"\",\"\",IF(I16=1,VLOOKUP(②選手情報入力!M24,種目情報!$A$4:$B$22,2,FALSE),VLOOKUP(②選手情報入力!M24,種目情報!$E$4:$F$22,2,FALSE))))","v":""},{"$f":"IF(E16=\"\",\"\",IF(②選手情報入力!N24=\"\",\"\",②選手情報入力!N24))","v":""},{"$f":"IF(E16=\"\",\"\",IF(②選手情報入力!M24=\"\",\"\",0))","v":""},{"$f":"IF(E16=\"\",\"\",IF(②選手情報入力!M24=\"\",\"\",IF(I16=1,VLOOKUP(②選手情報入力!M24,種目情報!$A$4:$C$22,3,FALSE),VLOOKUP(②選手情報入力!M24,種目情報!$E$4:$G$22,3,FALSE))))","v":""},{"$f":"IF(E16=\"\",\"\",IF(②選手情報入力!O24=\"\",\"\",IF(I16=1,種目情報!$J$4,種目情報!$J$6)))","v":""},{"$f":"IF(E16=\"\",\"\",IF(②選手情報入力!O24=\"\",\"\",IF(I16=1,IF(②選手情報入力!$O$5=\"\",\"\",②選手情報入力!$O$5),IF(②選手情報入力!$O$6=\"\",\"\",②選手情報入力!$O$6))))","v":""},{"$f":"IF(E16=\"\",\"\",IF(②選手情報入力!O24=\"\",\"\",0))","v":""},{"$f":"IF(E16=\"\",\"\",IF(②選手情報入力!O24=\"\",\"\",2))","v":""},{"$f":"IF(E16=\"\",\"\",IF(②選手情報入力!P24=\"\",\"\",IF(I16=1,種目情報!$J$5,種目情報!$J$7)))","v":""},{"$f":"IF(E16=\"\",\"\",IF(②選手情報入力!P24=\"\",\"\",IF(I16=1,IF(②選手情報入力!$P$5=\"\",\"\",②選手情報入力!$P$5),IF(②選手情報入力!$P$6=\"\",\"\",②選手情報入力!$P$6))))","v":""},{"$f":"IF(E16=\"\",\"\",IF(②選手情報入力!P24=\"\",\"\",0))","v":""},{"$f":"IF(E16=\"\",\"\",IF(②選手情報入力!P24=\"\",\"\",2))","v":""}]
[{"$f":"IF(E17=\"\",\"\",I17*1000000+①学校情報入力!$D$3*1000+②選手情報入力!A25)","v":""},{"$f":"IF(E17=\"\",\"\",①学校情報入力!$D$3)","v":""},null,{"$f":"IF(②選手情報入力!B25=\"\",\"\",②選手情報入力!B25)","v":""},{"$f":"IF(②選手情報入力!C25=\"\",\"\",②選手情報入力!C25)","v":""},{"$f":"IF(E17=\"\",\"\",②選手情報入力!D25)","v":""},{"$f":"IF(E17=\"\",\"\",②選手情報入力!E25)","v":""},"",{"$f":"IF(E17=\"\",\"\",IF(②選手情報入力!G25=\"男\",1,2))","v":""},{"$f":"IF(E17=\"\",\"\",IF(②選手情報入力!H25=\"\",\"\",②選手情報入力!H25))","v":""},null,"","",null,{"$f":"IF(E17=\"\",\"\",IF(②選手情報入力!I25=\"\",\"\",IF(I17=1,VLOOKUP(②選手情報入力!I25,種目情報!$A$4:$B$22,2,FALSE),VLOOKUP(②選手情報入力!I25,種目情報!$E$4:$F$22,2,FALSE))))","v":""},{"$f":"IF(E17=\"\",\"\",IF(②選手情報入力!J25=\"\",\"\",②選手情報入力!J25))","v":""},{"$f":"IF(E17=\"\",\"\",IF(②選手情報入力!I25=\"\",\"\",0))","v":""},{"$f":"IF(E17=\"\",\"\",IF(②選手情報入力!I25=\"\",\"\",IF(I17=1,VLOOKUP(②選手情報入力!I25,種目情報!$A$4:$C$22,3,FALSE),VLOOKUP(②選手情報入力!I25,種目情報!$E$4:$G$22,3,FALSE))))","v":""},{"$f":"IF(E17=\"\",\"\",IF(②選手情報入力!K25=\"\",\"\",IF(I17=1,VLOOKUP(②選手情報入力!K25,種目情報!$A$4:$B$22,2,FALSE),VLOOKUP(②選手情報入力!K25,種目情報!$E$4:$F$22,2,FALSE))))","v":""},{"$f":"IF(E17=\"\",\"\",IF(②選手情報入力!L25=\"\",\"\",②選手情報入力!L25))","v":""},{"$f":"IF(E17=\"\",\"\",IF(②選手情報入力!K25=\"\",\"\",0))","v":""},{"$f":"IF(E17=\"\",\"\",IF(②選手情報入力!K25=\"\",\"\",IF(I17=1,VLOOKUP(②選手情報入力!K25,種目情報!$A$4:$C$22,3,FALSE),VLOOKUP(②選手情報入力!K25,種目情報!$E$4:$G$22,3,FALSE))))","v":""},{"$f":"IF(E17=\"\",\"\",IF(②選手情報入力!M25=\"\",\"\",IF(I17=1,VLOOKUP(②選手情報入力!M25,種目情報!$A$4:$B$22,2,FALSE),VLOOKUP(②選手情報入力!M25,種目情報!$E$4:$F$22,2,FALSE))))","v":""},{"$f":"IF(E17=\"\",\"\",IF(②選手情報入力!N25=\"\",\"\",②選手情報入力!N25))","v":""},{"$f":"IF(E17=\"\",\"\",IF(②選手情報入力!M25=\"\",\"\",0))","v":""},{"$f":"IF(E17=\"\",\"\",IF(②選手情報入力!M25=\"\",\"\",IF(I17=1,VLOOKUP(②選手情報入力!M25,種目情報!$A$4:$C$22,3,FALSE),VLOOKUP(②選手情報入力!M25,種目情報!$E$4:$G$22,3,FALSE))))","v":""},{"$f":"IF(E17=\"\",\"\",IF(②選手情報入力!O25=\"\",\"\",IF(I17=1,種目情報!$J$4,種目情報!$J$6)))","v":""},{"$f":"IF(E17=\"\",\"\",IF(②選手情報入力!O25=\"\",\"\",IF(I17=1,IF(②選手情報入力!$O$5=\"\",\"\",②選手情報入力!$O$5),IF(②選手情報入力!$O$6=\"\",\"\",②選手情報入力!$O$6))))","v":""},{"$f":"IF(E17=\"\",\"\",IF(②選手情報入力!O25=\"\",\"\",0))","v":""},{"$f":"IF(E17=\"\",\"\",IF(②選手情報入力!O25=\"\",\"\",2))","v":""},{"$f":"IF(E17=\"\",\"\",IF(②選手情報入力!P25=\"\",\"\",IF(I17=1,種目情報!$J$5,種目情報!$J$7)))","v":""},{"$f":"IF(E17=\"\",\"\",IF(②選手情報入力!P25=\"\",\"\",IF(I17=1,IF(②選手情報入力!$P$5=\"\",\"\",②選手情報入力!$P$5),IF(②選手情報入力!$P$6=\"\",\"\",②選手情報入力!$P$6))))","v":""},{"$f":"IF(E17=\"\",\"\",IF(②選手情報入力!P25=\"\",\"\",0))","v":""},{"$f":"IF(E17=\"\",\"\",IF(②選手情報入力!P25=\"\",\"\",2))","v":""}]
[{"$f":"IF(E18=\"\",\"\",I18*1000000+①学校情報入力!$D$3*1000+②選手情報入力!A26)","v":""},{"$f":"IF(E18=\"\",\"\",①学校情報入力!$D$3)","v":""},null,{"$f":"IF(②選手情報入力!B26=\"\",\"\",②選手情報入力!B26)","v":""},{"$f":"IF(②選手情報入力!C26=\"\",\"\",②選手情報入力!C26)","v":""},{"$f":"IF(E18=\"\",\"\",②選手情報入力!D26)","v":""},{"$f":"IF(E18=\"\",\"\",②選手情報入力!E26)","v":""},"",{"$f":"IF(E18=\"\",\"\",IF(②選手情報入力!G26=\"男\",1,2))","v":""},{"$f":"IF(E18=\"\",\"\",IF(②選手情報入力!H26=\"\",\"\",②選手情報入力!H26))","v":""},null,"","",null,{"$f":"IF(E18=\"\",\"\",IF(②選手情報入力!I26=\"\",\"\",IF(I18=1,VLOOKUP(②選手情報入力!I26,種目情報!$A$4:$B$22,2,FALSE),VLOOKUP(②選手情報入力!I26,種目情報!$E$4:$F$22,2,FALSE))))","v":""},{"$f":"IF(E18=\"\",\"\",IF(②選手情報入力!J26=\"\",\"\",②選手情報入力!J26))","v":""},{"$f":"IF(E18=\"\",\"\",IF(②選手情報入力!I26=\"\",\"\",0))","v":""},{"$f":"IF(E18=\"\",\"\",IF(②選手情報入力!I26=\"\",\"\",IF(I18=1,VLOOKUP(②選手情報入力!I26,種目情報!$A$4:$C$22,3,FALSE),VLOOKUP(②選手情報入力!I26,種目情報!$E$4:$G$22,3,FALSE))))","v":""},{"$f":"IF(E18=\"\",\"\",IF(②選手情報入力!K26=\"\",\"\",IF(I18=1,VLOOKUP(②選手情報入力!K26,種目情報!$A$4:$B$22,2,FALSE),VLOOKUP(②選手情報入力!K26,種目情報!$E$4:$F$22,2,FALSE))))","v":""},{"$f":"IF(E18=\"\",\"\",IF(②選手情報入力!L26=\"\",\"\",②選手情報入力!L26))","v":""},{"$f":"IF(E18=\"\",\"\",IF(②選手情報入力!K26=\"\",\"\",0))","v":""},{"$f":"IF(E18=\"\",\"\",IF(②選手情報入力!K26=\"\",\"\",IF(I18=1,VLOOKUP(②選手情報入力!K26,種目情報!$A$4:$C$22,3,FALSE),VLOOKUP(②選手情報入力!K26,種目情報!$E$4:$G$22,3,FALSE))))","v":""},{"$f":"IF(E18=\"\",\"\",IF(②選手情報入力!M26=\"\",\"\",IF(I18=1,VLOOKUP(②選手情報入力!M26,種目情報!$A$4:$B$22,2,FALSE),VLOOKUP(②選手情報入力!M26,種目情報!$E$4:$F$22,2,FALSE))))","v":""},{"$f":"IF(E18=\"\",\"\",IF(②選手情報入力!N26=\"\",\"\",②選手情報入力!N26))","v":""},{"$f":"IF(E18=\"\",\"\",IF(②選手情報入力!M26=\"\",\"\",0))","v":""},{"$f":"IF(E18=\"\",\"\",IF(②選手情報入力!M26=\"\",\"\",IF(I18=1,VLOOKUP(②選手情報入力!M26,種目情報!$A$4:$C$22,3,FALSE),VLOOKUP(②選手情報入力!M26,種目情報!$E$4:$G$22,3,FALSE))))","v":""},{"$f":"IF(E18=\"\",\"\",IF(②選手情報入力!O26=\"\",\"\",IF(I18=1,種目情報!$J$4,種目情報!$J$6)))","v":""},{"$f":"IF(E18=\"\",\"\",IF(②選手情報入力!O26=\"\",\"\",IF(I18=1,IF(②選手情報入力!$O$5=\"\",\"\",②選手情報入力!$O$5),IF(②選手情報入力!$O$6=\"\",\"\",②選手情報入力!$O$6))))","v":""},{"$f":"IF(E18=\"\",\"\",IF(②選手情報入力!O26=\"\",\"\",0))","v":""},{"$f":"IF(E18=\"\",\"\",IF(②選手情報入力!O26=\"\",\"\",2))","v":""},{"$f":"IF(E18=\"\",\"\",IF(②選手情報入力!P26=\"\",\"\",IF(I18=1,種目情報!$J$5,種目情報!$J$7)))","v":""},{"$f":"IF(E18=\"\",\"\",IF(②選手情報入力!P26=\"\",\"\",IF(I18=1,IF(②選手情報入力!$P$5=\"\",\"\",②選手情報入力!$P$5),IF(②選手情報入力!$P$6=\"\",\"\",②選手情報入力!$P$6))))","v":""},{"$f":"IF(E18=\"\",\"\",IF(②選手情報入力!P26=\"\",\"\",0))","v":""},{"$f":"IF(E18=\"\",\"\",IF(②選手情報入力!P26=\"\",\"\",2))","v":""}]
[{"$f":"IF(E19=\"\",\"\",I19*1000000+①学校情報入力!$D$3*1000+②選手情報入力!A27)","v":""},{"$f":"IF(E19=\"\",\"\",①学校情報入力!$D$3)","v":""},null,{"$f":"IF(②選手情報入力!B27=\"\",\"\",②選手情報入力!B27)","v":""},{"$f":"IF(②選手情報入力!C27=\"\",\"\",②選手情報入力!C27)","v":""},{"$f":"IF(E19=\"\",\"\",②選手情報入力!D27)","v":""},{"$f":"IF(E19=\"\",\"\",②選手情報入力!E27)","v":""},"",{"$f":"IF(E19=\"\",\"\",IF(②選手情報入力!G27=\"男\",1,2))","v":""},{"$f":"IF(E19=\"\",\"\",IF(②選手情報入力!H27=\"\",\"\",②選手情報入力!H27))","v":""},null,"","",null,{"$f":"IF(E19=\"\",\"\",IF(②選手情報入力!I27=\"\",\"\",IF(I19=1,VLOOKUP(②選手情報入力!I27,種目情報!$A$4:$B$22,2,FALSE),VLOOKUP(②選手情報入力!I27,種目情報!$E$4:$F$22,2,FALSE))))","v":""},{"$f":"IF(E19=\"\",\"\",IF(②選手情報入力!J27=\"\",\"\",②選手情報入力!J27))","v":""},{"$f":"IF(E19=\"\",\"\",IF(②選手情報入力!I27=\"\",\"\",0))","v":""},{"$f":"IF(E19=\"\",\"\",IF(②選手情報入力!I27=\"\",\"\",IF(I19=1,VLOOKUP(②選手情報入力!I27,種目情報!$A$4:$C$22,3,FALSE),VLOOKUP(②選手情報入力!I27,種目情報!$E$4:$G$22,3,FALSE))))","v":""},{"$f":"IF(E19=\"\",\"\",IF(②選手情報入力!K27=\"\",\"\",IF(I19=1,VLOOKUP(②選手情報入力!K27,種目情報!$A$4:$B$22,2,FALSE),VLOOKUP(②選手情報入力!K27,種目情報!$E$4:$F$22,2,FALSE))))","v":""},{"$f":"IF(E19=\"\",\"\",IF(②選手情報入力!L27=\"\",\"\",②選手情報入力!L27))","v":""},{"$f":"IF(E19=\"\",\"\",IF(②選手情報入力!K27=\"\",\"\",0))","v":""},{"$f":"IF(E19=\"\",\"\",IF(②選手情報入力!K27=\"\",\"\",IF(I19=1,VLOOKUP(②選手情報入力!K27,種目情報!$A$4:$C$22,3,FALSE),VLOOKUP(②選手情報入力!K27,種目情報!$E$4:$G$22,3,FALSE))))","v":""},{"$f":"IF(E19=\"\",\"\",IF(②選手情報入力!M27=\"\",\"\",IF(I19=1,VLOOKUP(②選手情報入力!M27,種目情報!$A$4:$B$22,2,FALSE),VLOOKUP(②選手情報入力!M27,種目情報!$E$4:$F$22,2,FALSE))))","v":""},{"$f":"IF(E19=\"\",\"\",IF(②選手情報入力!N27=\"\",\"\",②選手情報入力!N27))","v":""},{"$f":"IF(E19=\"\",\"\",IF(②選手情報入力!M27=\"\",\"\",0))","v":""},{"$f":"IF(E19=\"\",\"\",IF(②選手情報入力!M27=\"\",\"\",IF(I19=1,VLOOKUP(②選手情報入力!M27,種目情報!$A$4:$C$22,3,FALSE),VLOOKUP(②選手情報入力!M27,種目情報!$E$4:$G$22,3,FALSE))))","v":""},{"$f":"IF(E19=\"\",\"\",IF(②選手情報入力!O27=\"\",\"\",IF(I19=1,種目情報!$J$4,種目情報!$J$6)))","v":""},{"$f":"IF(E19=\"\",\"\",IF(②選手情報入力!O27=\"\",\"\",IF(I19=1,IF(②選手情報入力!$O$5=\"\",\"\",②選手情報入力!$O$5),IF(②選手情報入力!$O$6=\"\",\"\",②選手情報入力!$O$6))))","v":""},{"$f":"IF(E19=\"\",\"\",IF(②選手情報入力!O27=\"\",\"\",0))","v":""},{"$f":"IF(E19=\"\",\"\",IF(②選手情報入力!O27=\"\",\"\",2))","v":""},{"$f":"IF(E19=\"\",\"\",IF(②選手情報入力!P27=\"\",\"\",IF(I19=1,種目情報!$J$5,種目情報!$J$7)))","v":""},{"$f":"IF(E19=\"\",\"\",IF(②選手情報入力!P27=\"\",\"\",IF(I19=1,IF(②選手情報入力!$P$5=\"\",\"\",②選手情報入力!$P$5),IF(②選手情報入力!$P$6=\"\",\"\",②選手情報入力!$P$6))))","v":""},{"$f":"IF(E19=\"\",\"\",IF(②選手情報入力!P27=\"\",\"\",0))","v":""},{"$f":"IF(E19=\"\",\"\",IF(②選手情報入力!P27=\"\",\"\",2))","v":""}]
[{"$f":"IF(E20=\"\",\"\",I20*1000000+①学校情報入力!$D$3*1000+②選手情報入力!A28)","v":""},{"$f":"IF(E20=\"\",\"\",①学校情報入力!$D$3)","v":""},null,{"$f":"IF(②選手情報入力!B28=\"\",\"\",②選手情報入力!B28)","v":""},{"$f":"IF(②選手情報入力!C28=\"\",\"\",②選手情報入力!C28)","v":""},{"$f":"IF(E20=\"\",\"\",②選手情報入力!D28)","v":""},{"$f":"IF(E20=\"\",\"\",②選手情報入力!E28)","v":""},"",{"$f":"IF(E20=\"\",\"\",IF(②選手情報入力!G28=\"男\",1,2))","v":""},{"$f":"IF(E20=\"\",\"\",IF(②選手情報入力!H28=\"\",\"\",②選手情報入力!H28))","v":""},null,"","",null,{"$f":"IF(E20=\"\",\"\",IF(②選手情報入力!I28=\"\",\"\",IF(I20=1,VLOOKUP(②選手情報入力!I28,種目情報!$A$4:$B$22,2,FALSE),VLOOKUP(②選手情報入力!I28,種目情報!$E$4:$F$22,2,FALSE))))","v":""},{"$f":"IF(E20=\"\",\"\",IF(②選手情報入力!J28=\"\",\"\",②選手情報入力!J28))","v":""},{"$f":"IF(E20=\"\",\"\",IF(②選手情報入力!I28=\"\",\"\",0))","v":""},{"$f":"IF(E20=\"\",\"\",IF(②選手情報入力!I28=\"\",\"\",IF(I20=1,VLOOKUP(②選手情報入力!I28,種目情報!$A$4:$C$22,3,FALSE),VLOOKUP(②選手情報入力!I28,種目情報!$E$4:$G$22,3,FALSE))))","v":""},{"$f":"IF(E20=\"\",\"\",IF(②選手情報入力!K28=\"\",\"\",IF(I20=1,VLOOKUP(②選手情報入力!K28,種目情報!$A$4:$B$22,2,FALSE),VLOOKUP(②選手情報入力!K28,種目情報!$E$4:$F$22,2,FALSE))))","v":""},{"$f":"IF(E20=\"\",\"\",IF(②選手情報入力!L28=\"\",\"\",②選手情報入力!L28))","v":""},{"$f":"IF(E20=\"\",\"\",IF(②選手情報入力!K28=\"\",\"\",0))","v":""},{"$f":"IF(E20=\"\",\"\",IF(②選手情報入力!K28=\"\",\"\",IF(I20=1,VLOOKUP(②選手情報入力!K28,種目情報!$A$4:$C$22,3,FALSE),VLOOKUP(②選手情報入力!K28,種目情報!$E$4:$G$22,3,FALSE))))","v":""},{"$f":"IF(E20=\"\",\"\",IF(②選手情報入力!M28=\"\",\"\",IF(I20=1,VLOOKUP(②選手情報入力!M28,種目情報!$A$4:$B$22,2,FALSE),VLOOKUP(②選手情報入力!M28,種目情報!$E$4:$F$22,2,FALSE))))","v":""},{"$f":"IF(E20=\"\",\"\",IF(②選手情報入力!N28=\"\",\"\",②選手情報入力!N28))","v":""},{"$f":"IF(E20=\"\",\"\",IF(②選手情報入力!M28=\"\",\"\",0))","v":""},{"$f":"IF(E20=\"\",\"\",IF(②選手情報入力!M28=\"\",\"\",IF(I20=1,VLOOKUP(②選手情報入力!M28,種目情報!$A$4:$C$22,3,FALSE),VLOOKUP(②選手情報入力!M28,種目情報!$E$4:$G$22,3,FALSE))))","v":""},{"$f":"IF(E20=\"\",\"\",IF(②選手情報入力!O28=\"\",\"\",IF(I20=1,種目情報!$J$4,種目情報!$J$6)))","v":""},{"$f":"IF(E20=\"\",\"\",IF(②選手情報入力!O28=\"\",\"\",IF(I20=1,IF(②選手情報入力!$O$5=\"\",\"\",②選手情報入力!$O$5),IF(②選手情報入力!$O$6=\"\",\"\",②選手情報入力!$O$6))))","v":""},{"$f":"IF(E20=\"\",\"\",IF(②選手情報入力!O28=\"\",\"\",0))","v":""},{"$f":"IF(E20=\"\",\"\",IF(②選手情報入力!O28=\"\",\"\",2))","v":""},{"$f":"IF(E20=\"\",\"\",IF(②選手情報入力!P28=\"\",\"\",IF(I20=1,種目情報!$J$5,種目情報!$J$7)))","v":""},{"$f":"IF(E20=\"\",\"\",IF(②選手情報入力!P28=\"\",\"\",IF(I20=1,IF(②選手情報入力!$P$5=\"\",\"\",②選手情報入力!$P$5),IF(②選手情報入力!$P$6=\"\",\"\",②選手情報入力!$P$6))))","v":""},{"$f":"IF(E20=\"\",\"\",IF(②選手情報入力!P28=\"\",\"\",0))","v":""},{"$f":"IF(E20=\"\",\"\",IF(②選手情報入力!P28=\"\",\"\",2))","v":""}]
[{"$f":"IF(E21=\"\",\"\",I21*1000000+①学校情報入力!$D$3*1000+②選手情報入力!A29)","v":""},{"$f":"IF(E21=\"\",\"\",①学校情報入力!$D$3)","v":""},null,{"$f":"IF(②選手情報入力!B29=\"\",\"\",②選手情報入力!B29)","v":""},{"$f":"IF(②選手情報入力!C29=\"\",\"\",②選手情報入力!C29)","v":""},{"$f":"IF(E21=\"\",\"\",②選手情報入力!D29)","v":""},{"$f":"IF(E21=\"\",\"\",②選手情報入力!E29)","v":""},"",{"$f":"IF(E21=\"\",\"\",IF(②選手情報入力!G29=\"男\",1,2))","v":""},{"$f":"IF(E21=\"\",\"\",IF(②選手情報入力!H29=\"\",\"\",②選手情報入力!H29))","v":""},null,"","",null,{"$f":"IF(E21=\"\",\"\",IF(②選手情報入力!I29=\"\",\"\",IF(I21=1,VLOOKUP(②選手情報入力!I29,種目情報!$A$4:$B$22,2,FALSE),VLOOKUP(②選手情報入力!I29,種目情報!$E$4:$F$22,2,FALSE))))","v":""},{"$f":"IF(E21=\"\",\"\",IF(②選手情報入力!J29=\"\",\"\",②選手情報入力!J29))","v":""},{"$f":"IF(E21=\"\",\"\",IF(②選手情報入力!I29=\"\",\"\",0))","v":""},{"$f":"IF(E21=\"\",\"\",IF(②選手情報入力!I29=\"\",\"\",IF(I21=1,VLOOKUP(②選手情報入力!I29,種目情報!$A$4:$C$22,3,FALSE),VLOOKUP(②選手情報入力!I29,種目情報!$E$4:$G$22,3,FALSE))))","v":""},{"$f":"IF(E21=\"\",\"\",IF(②選手情報入力!K29=\"\",\"\",IF(I21=1,VLOOKUP(②選手情報入力!K29,種目情報!$A$4:$B$22,2,FALSE),VLOOKUP(②選手情報入力!K29,種目情報!$E$4:$F$22,2,FALSE))))","v":""},{"$f":"IF(E21=\"\",\"\",IF(②選手情報入力!L29=\"\",\"\",②選手情報入力!L29))","v":""},{"$f":"IF(E21=\"\",\"\",IF(②選手情報入力!K29=\"\",\"\",0))","v":""},{"$f":"IF(E21=\"\",\"\",IF(②選手情報入力!K29=\"\",\"\",IF(I21=1,VLOOKUP(②選手情報入力!K29,種目情報!$A$4:$C$22,3,FALSE),VLOOKUP(②選手情報入力!K29,種目情報!$E$4:$G$22,3,FALSE))))","v":""},{"$f":"IF(E21=\"\",\"\",IF(②選手情報入力!M29=\"\",\"\",IF(I21=1,VLOOKUP(②選手情報入力!M29,種目情報!$A$4:$B$22,2,FALSE),VLOOKUP(②選手情報入力!M29,種目情報!$E$4:$F$22,2,FALSE))))","v":""},{"$f":"IF(E21=\"\",\"\",IF(②選手情報入力!N29=\"\",\"\",②選手情報入力!N29))","v":""},{"$f":"IF(E21=\"\",\"\",IF(②選手情報入力!M29=\"\",\"\",0))","v":""},{"$f":"IF(E21=\"\",\"\",IF(②選手情報入力!M29=\"\",\"\",IF(I21=1,VLOOKUP(②選手情報入力!M29,種目情報!$A$4:$C$22,3,FALSE),VLOOKUP(②選手情報入力!M29,種目情報!$E$4:$G$22,3,FALSE))))","v":""},{"$f":"IF(E21=\"\",\"\",IF(②選手情報入力!O29=\"\",\"\",IF(I21=1,種目情報!$J$4,種目情報!$J$6)))","v":""},{"$f":"IF(E21=\"\",\"\",IF(②選手情報入力!O29=\"\",\"\",IF(I21=1,IF(②選手情報入力!$O$5=\"\",\"\",②選手情報入力!$O$5),IF(②選手情報入力!$O$6=\"\",\"\",②選手情報入力!$O$6))))","v":""},{"$f":"IF(E21=\"\",\"\",IF(②選手情報入力!O29=\"\",\"\",0))","v":""},{"$f":"IF(E21=\"\",\"\",IF(②選手情報入力!O29=\"\",\"\",2))","v":""},{"$f":"IF(E21=\"\",\"\",IF(②選手情報入力!P29=\"\",\"\",IF(I21=1,種目情報!$J$5,種目情報!$J$7)))","v":""},{"$f":"IF(E21=\"\",\"\",IF(②選手情報入力!P29=\"\",\"\",IF(I21=1,IF(②選手情報入力!$P$5=\"\",\"\",②選手情報入力!$P$5),IF(②選手情報入力!$P$6=\"\",\"\",②選手情報入力!$P$6))))","v":""},{"$f":"IF(E21=\"\",\"\",IF(②選手情報入力!P29=\"\",\"\",0))","v":""},{"$f":"IF(E21=\"\",\"\",IF(②選手情報入力!P29=\"\",\"\",2))","v":""}]
[{"$f":"IF(E22=\"\",\"\",I22*1000000+①学校情報入力!$D$3*1000+②選手情報入力!A30)","v":""},{"$f":"IF(E22=\"\",\"\",①学校情報入力!$D$3)","v":""},null,{"$f":"IF(②選手情報入力!B30=\"\",\"\",②選手情報入力!B30)","v":""},{"$f":"IF(②選手情報入力!C30=\"\",\"\",②選手情報入力!C30)","v":""},{"$f":"IF(E22=\"\",\"\",②選手情報入力!D30)","v":""},{"$f":"IF(E22=\"\",\"\",②選手情報入力!E30)","v":""},"",{"$f":"IF(E22=\"\",\"\",IF(②選手情報入力!G30=\"男\",1,2))","v":""},{"$f":"IF(E22=\"\",\"\",IF(②選手情報入力!H30=\"\",\"\",②選手情報入力!H30))","v":""},null,"","",null,{"$f":"IF(E22=\"\",\"\",IF(②選手情報入力!I30=\"\",\"\",IF(I22=1,VLOOKUP(②選手情報入力!I30,種目情報!$A$4:$B$22,2,FALSE),VLOOKUP(②選手情報入力!I30,種目情報!$E$4:$F$22,2,FALSE))))","v":""},{"$f":"IF(E22=\"\",\"\",IF(②選手情報入力!J30=\"\",\"\",②選手情報入力!J30))","v":""},{"$f":"IF(E22=\"\",\"\",IF(②選手情報入力!I30=\"\",\"\",0))","v":""},{"$f":"IF(E22=\"\",\"\",IF(②選手情報入力!I30=\"\",\"\",IF(I22=1,VLOOKUP(②選手情報入力!I30,種目情報!$A$4:$C$22,3,FALSE),VLOOKUP(②選手情報入力!I30,種目情報!$E$4:$G$22,3,FALSE))))","v":""},{"$f":"IF(E22=\"\",\"\",IF(②選手情報入力!K30=\"\",\"\",IF(I22=1,VLOOKUP(②選手情報入力!K30,種目情報!$A$4:$B$22,2,FALSE),VLOOKUP(②選手情報入力!K30,種目情報!$E$4:$F$22,2,FALSE))))","v":""},{"$f":"IF(E22=\"\",\"\",IF(②選手情報入力!L30=\"\",\"\",②選手情報入力!L30))","v":""},{"$f":"IF(E22=\"\",\"\",IF(②選手情報入力!K30=\"\",\"\",0))","v":""},{"$f":"IF(E22=\"\",\"\",IF(②選手情報入力!K30=\"\",\"\",IF(I22=1,VLOOKUP(②選手情報入力!K30,種目情報!$A$4:$C$22,3,FALSE),VLOOKUP(②選手情報入力!K30,種目情報!$E$4:$G$22,3,FALSE))))","v":""},{"$f":"IF(E22=\"\",\"\",IF(②選手情報入力!M30=\"\",\"\",IF(I22=1,VLOOKUP(②選手情報入力!M30,種目情報!$A$4:$B$22,2,FALSE),VLOOKUP(②選手情報入力!M30,種目情報!$E$4:$F$22,2,FALSE))))","v":""},{"$f":"IF(E22=\"\",\"\",IF(②選手情報入力!N30=\"\",\"\",②選手情報入力!N30))","v":""},{"$f":"IF(E22=\"\",\"\",IF(②選手情報入力!M30=\"\",\"\",0))","v":""},{"$f":"IF(E22=\"\",\"\",IF(②選手情報入力!M30=\"\",\"\",IF(I22=1,VLOOKUP(②選手情報入力!M30,種目情報!$A$4:$C$22,3,FALSE),VLOOKUP(②選手情報入力!M30,種目情報!$E$4:$G$22,3,FALSE))))","v":""},{"$f":"IF(E22=\"\",\"\",IF(②選手情報入力!O30=\"\",\"\",IF(I22=1,種目情報!$J$4,種目情報!$J$6)))","v":""},{"$f":"IF(E22=\"\",\"\",IF(②選手情報入力!O30=\"\",\"\",IF(I22=1,IF(②選手情報入力!$O$5=\"\",\"\",②選手情報入力!$O$5),IF(②選手情報入力!$O$6=\"\",\"\",②選手情報入力!$O$6))))","v":""},{"$f":"IF(E22=\"\",\"\",IF(②選手情報入力!O30=\"\",\"\",0))","v":""},{"$f":"IF(E22=\"\",\"\",IF(②選手情報入力!O30=\"\",\"\",2))","v":""},{"$f":"IF(E22=\"\",\"\",IF(②選手情報入力!P30=\"\",\"\",IF(I22=1,種目情報!$J$5,種目情報!$J$7)))","v":""},{"$f":"IF(E22=\"\",\"\",IF(②選手情報入力!P30=\"\",\"\",IF(I22=1,IF(②選手情報入力!$P$5=\"\",\"\",②選手情報入力!$P$5),IF(②選手情報入力!$P$6=\"\",\"\",②選手情報入力!$P$6))))","v":""},{"$f":"IF(E22=\"\",\"\",IF(②選手情報入力!P30=\"\",\"\",0))","v":""},{"$f":"IF(E22=\"\",\"\",IF(②選手情報入力!P30=\"\",\"\",2))","v":""}]
[{"$f":"IF(E23=\"\",\"\",I23*1000000+①学校情報入力!$D$3*1000+②選手情報入力!A31)","v":""},{"$f":"IF(E23=\"\",\"\",①学校情報入力!$D$3)","v":""},null,{"$f":"IF(②選手情報入力!B31=\"\",\"\",②選手情報入力!B31)","v":""},{"$f":"IF(②選手情報入力!C31=\"\",\"\",②選手情報入力!C31)","v":""},{"$f":"IF(E23=\"\",\"\",②選手情報入力!D31)","v":""},{"$f":"IF(E23=\"\",\"\",②選手情報入力!E31)","v":""},"",{"$f":"IF(E23=\"\",\"\",IF(②選手情報入力!G31=\"男\",1,2))","v":""},{"$f":"IF(E23=\"\",\"\",IF(②選手情報入力!H31=\"\",\"\",②選手情報入力!H31))","v":""},null,"","",null,{"$f":"IF(E23=\"\",\"\",IF(②選手情報入力!I31=\"\",\"\",IF(I23=1,VLOOKUP(②選手情報入力!I31,種目情報!$A$4:$B$22,2,FALSE),VLOOKUP(②選手情報入力!I31,種目情報!$E$4:$F$22,2,FALSE))))","v":""},{"$f":"IF(E23=\"\",\"\",IF(②選手情報入力!J31=\"\",\"\",②選手情報入力!J31))","v":""},{"$f":"IF(E23=\"\",\"\",IF(②選手情報入力!I31=\"\",\"\",0))","v":""},{"$f":"IF(E23=\"\",\"\",IF(②選手情報入力!I31=\"\",\"\",IF(I23=1,VLOOKUP(②選手情報入力!I31,種目情報!$A$4:$C$22,3,FALSE),VLOOKUP(②選手情報入力!I31,種目情報!$E$4:$G$22,3,FALSE))))","v":""},{"$f":"IF(E23=\"\",\"\",IF(②選手情報入力!K31=\"\",\"\",IF(I23=1,VLOOKUP(②選手情報入力!K31,種目情報!$A$4:$B$22,2,FALSE),VLOOKUP(②選手情報入力!K31,種目情報!$E$4:$F$22,2,FALSE))))","v":""},{"$f":"IF(E23=\"\",\"\",IF(②選手情報入力!L31=\"\",\"\",②選手情報入力!L31))","v":""},{"$f":"IF(E23=\"\",\"\",IF(②選手情報入力!K31=\"\",\"\",0))","v":""},{"$f":"IF(E23=\"\",\"\",IF(②選手情報入力!K31=\"\",\"\",IF(I23=1,VLOOKUP(②選手情報入力!K31,種目情報!$A$4:$C$22,3,FALSE),VLOOKUP(②選手情報入力!K31,種目情報!$E$4:$G$22,3,FALSE))))","v":""},{"$f":"IF(E23=\"\",\"\",IF(②選手情報入力!M31=\"\",\"\",IF(I23=1,VLOOKUP(②選手情報入力!M31,種目情報!$A$4:$B$22,2,FALSE),VLOOKUP(②選手情報入力!M31,種目情報!$E$4:$F$22,2,FALSE))))","v":""},{"$f":"IF(E23=\"\",\"\",IF(②選手情報入力!N31=\"\",\"\",②選手情報入力!N31))","v":""},{"$f":"IF(E23=\"\",\"\",IF(②選手情報入力!M31=\"\",\"\",0))","v":""},{"$f":"IF(E23=\"\",\"\",IF(②選手情報入力!M31=\"\",\"\",IF(I23=1,VLOOKUP(②選手情報入力!M31,種目情報!$A$4:$C$22,3,FALSE),VLOOKUP(②選手情報入力!M31,種目情報!$E$4:$G$22,3,FALSE))))","v":""},{"$f":"IF(E23=\"\",\"\",IF(②選手情報入力!O31=\"\",\"\",IF(I23=1,種目情報!$J$4,種目情報!$J$6)))","v":""},{"$f":"IF(E23=\"\",\"\",IF(②選手情報入力!O31=\"\",\"\",IF(I23=1,IF(②選手情報入力!$O$5=\"\",\"\",②選手情報入力!$O$5),IF(②選手情報入力!$O$6=\"\",\"\",②選手情報入力!$O$6))))","v":""},{"$f":"IF(E23=\"\",\"\",IF(②選手情報入力!O31=\"\",\"\",0))","v":""},{"$f":"IF(E23=\"\",\"\",IF(②選手情報入力!O31=\"\",\"\",2))","v":""},{"$f":"IF(E23=\"\",\"\",IF(②選手情報入力!P31=\"\",\"\",IF(I23=1,種目情報!$J$5,種目情報!$J$7)))","v":""},{"$f":"IF(E23=\"\",\"\",IF(②選手情報入力!P31=\"\",\"\",IF(I23=1,IF(②選手情報入力!$P$5=\"\",\"\",②選手情報入力!$P$5),IF(②選手情報入力!$P$6=\"\",\"\",②選手情報入力!$P$6))))","v":""},{"$f":"IF(E23=\"\",\"\",IF(②選手情報入力!P31=\"\",\"\",0))","v":""},{"$f":"IF(E23=\"\",\"\",IF(②選手情報入力!P31=\"\",\"\",2))","v":""}]
[{"$f":"IF(E24=\"\",\"\",I24*1000000+①学校情報入力!$D$3*1000+②選手情報入力!A32)","v":""},{"$f":"IF(E24=\"\",\"\",①学校情報入力!$D$3)","v":""},null,{"$f":"IF(②選手情報入力!B32=\"\",\"\",②選手情報入力!B32)","v":""},{"$f":"IF(②選手情報入力!C32=\"\",\"\",②選手情報入力!C32)","v":""},{"$f":"IF(E24=\"\",\"\",②選手情報入力!D32)","v":""},{"$f":"IF(E24=\"\",\"\",②選手情報入力!E32)","v":""},"",{"$f":"IF(E24=\"\",\"\",IF(②選手情報入力!G32=\"男\",1,2))","v":""},{"$f":"IF(E24=\"\",\"\",IF(②選手情報入力!H32=\"\",\"\",②選手情報入力!H32))","v":""},null,"","",null,{"$f":"IF(E24=\"\",\"\",IF(②選手情報入力!I32=\"\",\"\",IF(I24=1,VLOOKUP(②選手情報入力!I32,種目情報!$A$4:$B$22,2,FALSE),VLOOKUP(②選手情報入力!I32,種目情報!$E$4:$F$22,2,FALSE))))","v":""},{"$f":"IF(E24=\"\",\"\",IF(②選手情報入力!J32=\"\",\"\",②選手情報入力!J32))","v":""},{"$f":"IF(E24=\"\",\"\",IF(②選手情報入力!I32=\"\",\"\",0))","v":""},{"$f":"IF(E24=\"\",\"\",IF(②選手情報入力!I32=\"\",\"\",IF(I24=1,VLOOKUP(②選手情報入力!I32,種目情報!$A$4:$C$22,3,FALSE),VLOOKUP(②選手情報入力!I32,種目情報!$E$4:$G$22,3,FALSE))))","v":""},{"$f":"IF(E24=\"\",\"\",IF(②選手情報入力!K32=\"\",\"\",IF(I24=1,VLOOKUP(②選手情報入力!K32,種目情報!$A$4:$B$22,2,FALSE),VLOOKUP(②選手情報入力!K32,種目情報!$E$4:$F$22,2,FALSE))))","v":""},{"$f":"IF(E24=\"\",\"\",IF(②選手情報入力!L32=\"\",\"\",②選手情報入力!L32))","v":""},{"$f":"IF(E24=\"\",\"\",IF(②選手情報入力!K32=\"\",\"\",0))","v":""},{"$f":"IF(E24=\"\",\"\",IF(②選手情報入力!K32=\"\",\"\",IF(I24=1,VLOOKUP(②選手情報入力!K32,種目情報!$A$4:$C$22,3,FALSE),VLOOKUP(②選手情報入力!K32,種目情報!$E$4:$G$22,3,FALSE))))","v":""},{"$f":"IF(E24=\"\",\"\",IF(②選手情報入力!M32=\"\",\"\",IF(I24=1,VLOOKUP(②選手情報入力!M32,種目情報!$A$4:$B$22,2,FALSE),VLOOKUP(②選手情報入力!M32,種目情報!$E$4:$F$22,2,FALSE))))","v":""},{"$f":"IF(E24=\"\",\"\",IF(②選手情報入力!N32=\"\",\"\",②選手情報入力!N32))","v":""},{"$f":"IF(E24=\"\",\"\",IF(②選手情報入力!M32=\"\",\"\",0))","v":""},{"$f":"IF(E24=\"\",\"\",IF(②選手情報入力!M32=\"\",\"\",IF(I24=1,VLOOKUP(②選手情報入力!M32,種目情報!$A$4:$C$22,3,FALSE),VLOOKUP(②選手情報入力!M32,種目情報!$E$4:$G$22,3,FALSE))))","v":""},{"$f":"IF(E24=\"\",\"\",IF(②選手情報入力!O32=\"\",\"\",IF(I24=1,種目情報!$J$4,種目情報!$J$6)))","v":""},{"$f":"IF(E24=\"\",\"\",IF(②選手情報入力!O32=\"\",\"\",IF(I24=1,IF(②選手情報入力!$O$5=\"\",\"\",②選手情報入力!$O$5),IF(②選手情報入力!$O$6=\"\",\"\",②選手情報入力!$O$6))))","v":""},{"$f":"IF(E24=\"\",\"\",IF(②選手情報入力!O32=\"\",\"\",0))","v":""},{"$f":"IF(E24=\"\",\"\",IF(②選手情報入力!O32=\"\",\"\",2))","v":""},{"$f":"IF(E24=\"\",\"\",IF(②選手情報入力!P32=\"\",\"\",IF(I24=1,種目情報!$J$5,種目情報!$J$7)))","v":""},{"$f":"IF(E24=\"\",\"\",IF(②選手情報入力!P32=\"\",\"\",IF(I24=1,IF(②選手情報入力!$P$5=\"\",\"\",②選手情報入力!$P$5),IF(②選手情報入力!$P$6=\"\",\"\",②選手情報入力!$P$6))))","v":""},{"$f":"IF(E24=\"\",\"\",IF(②選手情報入力!P32=\"\",\"\",0))","v":""},{"$f":"IF(E24=\"\",\"\",IF(②選手情報入力!P32=\"\",\"\",2))","v":""}]
[{"$f":"IF(E25=\"\",\"\",I25*1000000+①学校情報入力!$D$3*1000+②選手情報入力!A33)","v":""},{"$f":"IF(E25=\"\",\"\",①学校情報入力!$D$3)","v":""},null,{"$f":"IF(②選手情報入力!B33=\"\",\"\",②選手情報入力!B33)","v":""},{"$f":"IF(②選手情報入力!C33=\"\",\"\",②選手情報入力!C33)","v":""},{"$f":"IF(E25=\"\",\"\",②選手情報入力!D33)","v":""},{"$f":"IF(E25=\"\",\"\",②選手情報入力!E33)","v":""},"",{"$f":"IF(E25=\"\",\"\",IF(②選手情報入力!G33=\"男\",1,2))","v":""},{"$f":"IF(E25=\"\",\"\",IF(②選手情報入力!H33=\"\",\"\",②選手情報入力!H33))","v":""},null,"","",null,{"$f":"IF(E25=\"\",\"\",IF(②選手情報入力!I33=\"\",\"\",IF(I25=1,VLOOKUP(②選手情報入力!I33,種目情報!$A$4:$B$22,2,FALSE),VLOOKUP(②選手情報入力!I33,種目情報!$E$4:$F$22,2,FALSE))))","v":""},{"$f":"IF(E25=\"\",\"\",IF(②選手情報入力!J33=\"\",\"\",②選手情報入力!J33))","v":""},{"$f":"IF(E25=\"\",\"\",IF(②選手情報入力!I33=\"\",\"\",0))","v":""},{"$f":"IF(E25=\"\",\"\",IF(②選手情報入力!I33=\"\",\"\",IF(I25=1,VLOOKUP(②選手情報入力!I33,種目情報!$A$4:$C$22,3,FALSE),VLOOKUP(②選手情報入力!I33,種目情報!$E$4:$G$22,3,FALSE))))","v":""},{"$f":"IF(E25=\"\",\"\",IF(②選手情報入力!K33=\"\",\"\",IF(I25=1,VLOOKUP(②選手情報入力!K33,種目情報!$A$4:$B$22,2,FALSE),VLOOKUP(②選手情報入力!K33,種目情報!$E$4:$F$22,2,FALSE))))","v":""},{"$f":"IF(E25=\"\",\"\",IF(②選手情報入力!L33=\"\",\"\",②選手情報入力!L33))","v":""},{"$f":"IF(E25=\"\",\"\",IF(②選手情報入力!K33=\"\",\"\",0))","v":""},{"$f":"IF(E25=\"\",\"\",IF(②選手情報入力!K33=\"\",\"\",IF(I25=1,VLOOKUP(②選手情報入力!K33,種目情報!$A$4:$C$22,3,FALSE),VLOOKUP(②選手情報入力!K33,種目情報!$E$4:$G$22,3,FALSE))))","v":""},{"$f":"IF(E25=\"\",\"\",IF(②選手情報入力!M33=\"\",\"\",IF(I25=1,VLOOKUP(②選手情報入力!M33,種目情報!$A$4:$B$22,2,FALSE),VLOOKUP(②選手情報入力!M33,種目情報!$E$4:$F$22,2,FALSE))))","v":""},{"$f":"IF(E25=\"\",\"\",IF(②選手情報入力!N33=\"\",\"\",②選手情報入力!N33))","v":""},{"$f":"IF(E25=\"\",\"\",IF(②選手情報入力!M33=\"\",\"\",0))","v":""},{"$f":"IF(E25=\"\",\"\",IF(②選手情報入力!M33=\"\",\"\",IF(I25=1,VLOOKUP(②選手情報入力!M33,種目情報!$A$4:$C$22,3,FALSE),VLOOKUP(②選手情報入力!M33,種目情報!$E$4:$G$22,3,FALSE))))","v":""},{"$f":"IF(E25=\"\",\"\",IF(②選手情報入力!O33=\"\",\"\",IF(I25=1,種目情報!$J$4,種目情報!$J$6)))","v":""},{"$f":"IF(E25=\"\",\"\",IF(②選手情報入力!O33=\"\",\"\",IF(I25=1,IF(②選手情報入力!$O$5=\"\",\"\",②選手情報入力!$O$5),IF(②選手情報入力!$O$6=\"\",\"\",②選手情報入力!$O$6))))","v":""},{"$f":"IF(E25=\"\",\"\",IF(②選手情報入力!O33=\"\",\"\",0))","v":""},{"$f":"IF(E25=\"\",\"\",IF(②選手情報入力!O33=\"\",\"\",2))","v":""},{"$f":"IF(E25=\"\",\"\",IF(②選手情報入力!P33=\"\",\"\",IF(I25=1,種目情報!$J$5,種目情報!$J$7)))","v":""},{"$f":"IF(E25=\"\",\"\",IF(②選手情報入力!P33=\"\",\"\",IF(I25=1,IF(②選手情報入力!$P$5=\"\",\"\",②選手情報入力!$P$5),IF(②選手情報入力!$P$6=\"\",\"\",②選手情報入力!$P$6))))","v":""},{"$f":"IF(E25=\"\",\"\",IF(②選手情報入力!P33=\"\",\"\",0))","v":""},{"$f":"IF(E25=\"\",\"\",IF(②選手情報入力!P33=\"\",\"\",2))","v":""}]
[{"$f":"IF(E26=\"\",\"\",I26*1000000+①学校情報入力!$D$3*1000+②選手情報入力!A34)","v":""},{"$f":"IF(E26=\"\",\"\",①学校情報入力!$D$3)","v":""},null,{"$f":"IF(②選手情報入力!B34=\"\",\"\",②選手情報入力!B34)","v":""},{"$f":"IF(②選手情報入力!C34=\"\",\"\",②選手情報入力!C34)","v":""},{"$f":"IF(E26=\"\",\"\",②選手情報入力!D34)","v":""},{"$f":"IF(E26=\"\",\"\",②選手情報入力!E34)","v":""},"",{"$f":"IF(E26=\"\",\"\",IF(②選手情報入力!G34=\"男\",1,2))","v":""},{"$f":"IF(E26=\"\",\"\",IF(②選手情報入力!H34=\"\",\"\",②選手情報入力!H34))","v":""},null,"","",null,{"$f":"IF(E26=\"\",\"\",IF(②選手情報入力!I34=\"\",\"\",IF(I26=1,VLOOKUP(②選手情報入力!I34,種目情報!$A$4:$B$22,2,FALSE),VLOOKUP(②選手情報入力!I34,種目情報!$E$4:$F$22,2,FALSE))))","v":""},{"$f":"IF(E26=\"\",\"\",IF(②選手情報入力!J34=\"\",\"\",②選手情報入力!J34))","v":""},{"$f":"IF(E26=\"\",\"\",IF(②選手情報入力!I34=\"\",\"\",0))","v":""},{"$f":"IF(E26=\"\",\"\",IF(②選手情報入力!I34=\"\",\"\",IF(I26=1,VLOOKUP(②選手情報入力!I34,種目情報!$A$4:$C$22,3,FALSE),VLOOKUP(②選手情報入力!I34,種目情報!$E$4:$G$22,3,FALSE))))","v":""},{"$f":"IF(E26=\"\",\"\",IF(②選手情報入力!K34=\"\",\"\",IF(I26=1,VLOOKUP(②選手情報入力!K34,種目情報!$A$4:$B$22,2,FALSE),VLOOKUP(②選手情報入力!K34,種目情報!$E$4:$F$22,2,FALSE))))","v":""},{"$f":"IF(E26=\"\",\"\",IF(②選手情報入力!L34=\"\",\"\",②選手情報入力!L34))","v":""},{"$f":"IF(E26=\"\",\"\",IF(②選手情報入力!K34=\"\",\"\",0))","v":""},{"$f":"IF(E26=\"\",\"\",IF(②選手情報入力!K34=\"\",\"\",IF(I26=1,VLOOKUP(②選手情報入力!K34,種目情報!$A$4:$C$22,3,FALSE),VLOOKUP(②選手情報入力!K34,種目情報!$E$4:$G$22,3,FALSE))))","v":""},{"$f":"IF(E26=\"\",\"\",IF(②選手情報入力!M34=\"\",\"\",IF(I26=1,VLOOKUP(②選手情報入力!M34,種目情報!$A$4:$B$22,2,FALSE),VLOOKUP(②選手情報入力!M34,種目情報!$E$4:$F$22,2,FALSE))))","v":""},{"$f":"IF(E26=\"\",\"\",IF(②選手情報入力!N34=\"\",\"\",②選手情報入力!N34))","v":""},{"$f":"IF(E26=\"\",\"\",IF(②選手情報入力!M34=\"\",\"\",0))","v":""},{"$f":"IF(E26=\"\",\"\",IF(②選手情報入力!M34=\"\",\"\",IF(I26=1,VLOOKUP(②選手情報入力!M34,種目情報!$A$4:$C$22,3,FALSE),VLOOKUP(②選手情報入力!M34,種目情報!$E$4:$G$22,3,FALSE))))","v":""},{"$f":"IF(E26=\"\",\"\",IF(②選手情報入力!O34=\"\",\"\",IF(I26=1,種目情報!$J$4,種目情報!$J$6)))","v":""},{"$f":"IF(E26=\"\",\"\",IF(②選手情報入力!O34=\"\",\"\",IF(I26=1,IF(②選手情報入力!$O$5=\"\",\"\",②選手情報入力!$O$5),IF(②選手情報入力!$O$6=\"\",\"\",②選手情報入力!$O$6))))","v":""},{"$f":"IF(E26=\"\",\"\",IF(②選手情報入力!O34=\"\",\"\",0))","v":""},{"$f":"IF(E26=\"\",\"\",IF(②選手情報入力!O34=\"\",\"\",2))","v":""},{"$f":"IF(E26=\"\",\"\",IF(②選手情報入力!P34=\"\",\"\",IF(I26=1,種目情報!$J$5,種目情報!$J$7)))","v":""},{"$f":"IF(E26=\"\",\"\",IF(②選手情報入力!P34=\"\",\"\",IF(I26=1,IF(②選手情報入力!$P$5=\"\",\"\",②選手情報入力!$P$5),IF(②選手情報入力!$P$6=\"\",\"\",②選手情報入力!$P$6))))","v":""},{"$f":"IF(E26=\"\",\"\",IF(②選手情報入力!P34=\"\",\"\",0))","v":""},{"$f":"IF(E26=\"\",\"\",IF(②選手情報入力!P34=\"\",\"\",2))","v":""}]
[{"$f":"IF(E27=\"\",\"\",I27*1000000+①学校情報入力!$D$3*1000+②選手情報入力!A35)","v":""},{"$f":"IF(E27=\"\",\"\",①学校情報入力!$D$3)","v":""},null,{"$f":"IF(②選手情報入力!B35=\"\",\"\",②選手情報入力!B35)","v":""},{"$f":"IF(②選手情報入力!C35=\"\",\"\",②選手情報入力!C35)","v":""},{"$f":"IF(E27=\"\",\"\",②選手情報入力!D35)","v":""},{"$f":"IF(E27=\"\",\"\",②選手情報入力!E35)","v":""},"",{"$f":"IF(E27=\"\",\"\",IF(②選手情報入力!G35=\"男\",1,2))","v":""},{"$f":"IF(E27=\"\",\"\",IF(②選手情報入力!H35=\"\",\"\",②選手情報入力!H35))","v":""},null,"","",null,{"$f":"IF(E27=\"\",\"\",IF(②選手情報入力!I35=\"\",\"\",IF(I27=1,VLOOKUP(②選手情報入力!I35,種目情報!$A$4:$B$22,2,FALSE),VLOOKUP(②選手情報入力!I35,種目情報!$E$4:$F$22,2,FALSE))))","v":""},{"$f":"IF(E27=\"\",\"\",IF(②選手情報入力!J35=\"\",\"\",②選手情報入力!J35))","v":""},{"$f":"IF(E27=\"\",\"\",IF(②選手情報入力!I35=\"\",\"\",0))","v":""},{"$f":"IF(E27=\"\",\"\",IF(②選手情報入力!I35=\"\",\"\",IF(I27=1,VLOOKUP(②選手情報入力!I35,種目情報!$A$4:$C$22,3,FALSE),VLOOKUP(②選手情報入力!I35,種目情報!$E$4:$G$22,3,FALSE))))","v":""},{"$f":"IF(E27=\"\",\"\",IF(②選手情報入力!K35=\"\",\"\",IF(I27=1,VLOOKUP(②選手情報入力!K35,種目情報!$A$4:$B$22,2,FALSE),VLOOKUP(②選手情報入力!K35,種目情報!$E$4:$F$22,2,FALSE))))","v":""},{"$f":"IF(E27=\"\",\"\",IF(②選手情報入力!L35=\"\",\"\",②選手情報入力!L35))","v":""},{"$f":"IF(E27=\"\",\"\",IF(②選手情報入力!K35=\"\",\"\",0))","v":""},{"$f":"IF(E27=\"\",\"\",IF(②選手情報入力!K35=\"\",\"\",IF(I27=1,VLOOKUP(②選手情報入力!K35,種目情報!$A$4:$C$22,3,FALSE),VLOOKUP(②選手情報入力!K35,種目情報!$E$4:$G$22,3,FALSE))))","v":""},{"$f":"IF(E27=\"\",\"\",IF(②選手情報入力!M35=\"\",\"\",IF(I27=1,VLOOKUP(②選手情報入力!M35,種目情報!$A$4:$B$22,2,FALSE),VLOOKUP(②選手情報入力!M35,種目情報!$E$4:$F$22,2,FALSE))))","v":""},{"$f":"IF(E27=\"\",\"\",IF(②選手情報入力!N35=\"\",\"\",②選手情報入力!N35))","v":""},{"$f":"IF(E27=\"\",\"\",IF(②選手情報入力!M35=\"\",\"\",0))","v":""},{"$f":"IF(E27=\"\",\"\",IF(②選手情報入力!M35=\"\",\"\",IF(I27=1,VLOOKUP(②選手情報入力!M35,種目情報!$A$4:$C$22,3,FALSE),VLOOKUP(②選手情報入力!M35,種目情報!$E$4:$G$22,3,FALSE))))","v":""},{"$f":"IF(E27=\"\",\"\",IF(②選手情報入力!O35=\"\",\"\",IF(I27=1,種目情報!$J$4,種目情報!$J$6)))","v":""},{"$f":"IF(E27=\"\",\"\",IF(②選手情報入力!O35=\"\",\"\",IF(I27=1,IF(②選手情報入力!$O$5=\"\",\"\",②選手情報入力!$O$5),IF(②選手情報入力!$O$6=\"\",\"\",②選手情報入力!$O$6))))","v":""},{"$f":"IF(E27=\"\",\"\",IF(②選手情報入力!O35=\"\",\"\",0))","v":""},{"$f":"IF(E27=\"\",\"\",IF(②選手情報入力!O35=\"\",\"\",2))","v":""},{"$f":"IF(E27=\"\",\"\",IF(②選手情報入力!P35=\"\",\"\",IF(I27=1,種目情報!$J$5,種目情報!$J$7)))","v":""},{"$f":"IF(E27=\"\",\"\",IF(②選手情報入力!P35=\"\",\"\",IF(I27=1,IF(②選手情報入力!$P$5=\"\",\"\",②選手情報入力!$P$5),IF(②選手情報入力!$P$6=\"\",\"\",②選手情報入力!$P$6))))","v":""},{"$f":"IF(E27=\"\",\"\",IF(②選手情報入力!P35=\"\",\"\",0))","v":""},{"$f":"IF(E27=\"\",\"\",IF(②選手情報入力!P35=\"\",\"\",2))","v":""}]
[{"$f":"IF(E28=\"\",\"\",I28*1000000+①学校情報入力!$D$3*1000+②選手情報入力!A36)","v":""},{"$f":"IF(E28=\"\",\"\",①学校情報入力!$D$3)","v":""},null,{"$f":"IF(②選手情報入力!B36=\"\",\"\",②選手情報入力!B36)","v":""},{"$f":"IF(②選手情報入力!C36=\"\",\"\",②選手情報入力!C36)","v":""},{"$f":"IF(E28=\"\",\"\",②選手情報入力!D36)","v":""},{"$f":"IF(E28=\"\",\"\",②選手情報入力!E36)","v":""},"",{"$f":"IF(E28=\"\",\"\",IF(②選手情報入力!G36=\"男\",1,2))","v":""},{"$f":"IF(E28=\"\",\"\",IF(②選手情報入力!H36=\"\",\"\",②選手情報入力!H36))","v":""},null,"","",null,{"$f":"IF(E28=\"\",\"\",IF(②選手情報入力!I36=\"\",\"\",IF(I28=1,VLOOKUP(②選手情報入力!I36,種目情報!$A$4:$B$22,2,FALSE),VLOOKUP(②選手情報入力!I36,種目情報!$E$4:$F$22,2,FALSE))))","v":""},{"$f":"IF(E28=\"\",\"\",IF(②選手情報入力!J36=\"\",\"\",②選手情報入力!J36))","v":""},{"$f":"IF(E28=\"\",\"\",IF(②選手情報入力!I36=\"\",\"\",0))","v":""},{"$f":"IF(E28=\"\",\"\",IF(②選手情報入力!I36=\"\",\"\",IF(I28=1,VLOOKUP(②選手情報入力!I36,種目情報!$A$4:$C$22,3,FALSE),VLOOKUP(②選手情報入力!I36,種目情報!$E$4:$G$22,3,FALSE))))","v":""},{"$f":"IF(E28=\"\",\"\",IF(②選手情報入力!K36=\"\",\"\",IF(I28=1,VLOOKUP(②選手情報入力!K36,種目情報!$A$4:$B$22,2,FALSE),VLOOKUP(②選手情報入力!K36,種目情報!$E$4:$F$22,2,FALSE))))","v":""},{"$f":"IF(E28=\"\",\"\",IF(②選手情報入力!L36=\"\",\"\",②選手情報入力!L36))","v":""},{"$f":"IF(E28=\"\",\"\",IF(②選手情報入力!K36=\"\",\"\",0))","v":""},{"$f":"IF(E28=\"\",\"\",IF(②選手情報入力!K36=\"\",\"\",IF(I28=1,VLOOKUP(②選手情報入力!K36,種目情報!$A$4:$C$22,3,FALSE),VLOOKUP(②選手情報入力!K36,種目情報!$E$4:$G$22,3,FALSE))))","v":""},{"$f":"IF(E28=\"\",\"\",IF(②選手情報入力!M36=\"\",\"\",IF(I28=1,VLOOKUP(②選手情報入力!M36,種目情報!$A$4:$B$22,2,FALSE),VLOOKUP(②選手情報入力!M36,種目情報!$E$4:$F$22,2,FALSE))))","v":""},{"$f":"IF(E28=\"\",\"\",IF(②選手情報入力!N36=\"\",\"\",②選手情報入力!N36))","v":""},{"$f":"IF(E28=\"\",\"\",IF(②選手情報入力!M36=\"\",\"\",0))","v":""},{"$f":"IF(E28=\"\",\"\",IF(②選手情報入力!M36=\"\",\"\",IF(I28=1,VLOOKUP(②選手情報入力!M36,種目情報!$A$4:$C$22,3,FALSE),VLOOKUP(②選手情報入力!M36,種目情報!$E$4:$G$22,3,FALSE))))","v":""},{"$f":"IF(E28=\"\",\"\",IF(②選手情報入力!O36=\"\",\"\",IF(I28=1,種目情報!$J$4,種目情報!$J$6)))","v":""},{"$f":"IF(E28=\"\",\"\",IF(②選手情報入力!O36=\"\",\"\",IF(I28=1,IF(②選手情報入力!$O$5=\"\",\"\",②選手情報入力!$O$5),IF(②選手情報入力!$O$6=\"\",\"\",②選手情報入力!$O$6))))","v":""},{"$f":"IF(E28=\"\",\"\",IF(②選手情報入力!O36=\"\",\"\",0))","v":""},{"$f":"IF(E28=\"\",\"\",IF(②選手情報入力!O36=\"\",\"\",2))","v":""},{"$f":"IF(E28=\"\",\"\",IF(②選手情報入力!P36=\"\",\"\",IF(I28=1,種目情報!$J$5,種目情報!$J$7)))","v":""},{"$f":"IF(E28=\"\",\"\",IF(②選手情報入力!P36=\"\",\"\",IF(I28=1,IF(②選手情報入力!$P$5=\"\",\"\",②選手情報入力!$P$5),IF(②選手情報入力!$P$6=\"\",\"\",②選手情報入力!$P$6))))","v":""},{"$f":"IF(E28=\"\",\"\",IF(②選手情報入力!P36=\"\",\"\",0))","v":""},{"$f":"IF(E28=\"\",\"\",IF(②選手情報入力!P36=\"\",\"\",2))","v":""}]
[{"$f":"IF(E29=\"\",\"\",I29*1000000+①学校情報入力!$D$3*1000+②選手情報入力!A37)","v":""},{"$f":"IF(E29=\"\",\"\",①学校情報入力!$D$3)","v":""},null,{"$f":"IF(②選手情報入力!B37=\"\",\"\",②選手情報入力!B37)","v":""},{"$f":"IF(②選手情報入力!C37=\"\",\"\",②選手情報入力!C37)","v":""},{"$f":"IF(E29=\"\",\"\",②選手情報入力!D37)","v":""},{"$f":"IF(E29=\"\",\"\",②選手情報入力!E37)","v":""},"",{"$f":"IF(E29=\"\",\"\",IF(②選手情報入力!G37=\"男\",1,2))","v":""},{"$f":"IF(E29=\"\",\"\",IF(②選手情報入力!H37=\"\",\"\",②選手情報入力!H37))","v":""},null,"","",null,{"$f":"IF(E29=\"\",\"\",IF(②選手情報入力!I37=\"\",\"\",IF(I29=1,VLOOKUP(②選手情報入力!I37,種目情報!$A$4:$B$22,2,FALSE),VLOOKUP(②選手情報入力!I37,種目情報!$E$4:$F$22,2,FALSE))))","v":""},{"$f":"IF(E29=\"\",\"\",IF(②選手情報入力!J37=\"\",\"\",②選手情報入力!J37))","v":""},{"$f":"IF(E29=\"\",\"\",IF(②選手情報入力!I37=\"\",\"\",0))","v":""},{"$f":"IF(E29=\"\",\"\",IF(②選手情報入力!I37=\"\",\"\",IF(I29=1,VLOOKUP(②選手情報入力!I37,種目情報!$A$4:$C$22,3,FALSE),VLOOKUP(②選手情報入力!I37,種目情報!$E$4:$G$22,3,FALSE))))","v":""},{"$f":"IF(E29=\"\",\"\",IF(②選手情報入力!K37=\"\",\"\",IF(I29=1,VLOOKUP(②選手情報入力!K37,種目情報!$A$4:$B$22,2,FALSE),VLOOKUP(②選手情報入力!K37,種目情報!$E$4:$F$22,2,FALSE))))","v":""},{"$f":"IF(E29=\"\",\"\",IF(②選手情報入力!L37=\"\",\"\",②選手情報入力!L37))","v":""},{"$f":"IF(E29=\"\",\"\",IF(②選手情報入力!K37=\"\",\"\",0))","v":""},{"$f":"IF(E29=\"\",\"\",IF(②選手情報入力!K37=\"\",\"\",IF(I29=1,VLOOKUP(②選手情報入力!K37,種目情報!$A$4:$C$22,3,FALSE),VLOOKUP(②選手情報入力!K37,種目情報!$E$4:$G$22,3,FALSE))))","v":""},{"$f":"IF(E29=\"\",\"\",IF(②選手情報入力!M37=\"\",\"\",IF(I29=1,VLOOKUP(②選手情報入力!M37,種目情報!$A$4:$B$22,2,FALSE),VLOOKUP(②選手情報入力!M37,種目情報!$E$4:$F$22,2,FALSE))))","v":""},{"$f":"IF(E29=\"\",\"\",IF(②選手情報入力!N37=\"\",\"\",②選手情報入力!N37))","v":""},{"$f":"IF(E29=\"\",\"\",IF(②選手情報入力!M37=\"\",\"\",0))","v":""},{"$f":"IF(E29=\"\",\"\",IF(②選手情報入力!M37=\"\",\"\",IF(I29=1,VLOOKUP(②選手情報入力!M37,種目情報!$A$4:$C$22,3,FALSE),VLOOKUP(②選手情報入力!M37,種目情報!$E$4:$G$22,3,FALSE))))","v":""},{"$f":"IF(E29=\"\",\"\",IF(②選手情報入力!O37=\"\",\"\",IF(I29=1,種目情報!$J$4,種目情報!$J$6)))","v":""},{"$f":"IF(E29=\"\",\"\",IF(②選手情報入力!O37=\"\",\"\",IF(I29=1,IF(②選手情報入力!$O$5=\"\",\"\",②選手情報入力!$O$5),IF(②選手情報入力!$O$6=\"\",\"\",②選手情報入力!$O$6))))","v":""},{"$f":"IF(E29=\"\",\"\",IF(②選手情報入力!O37=\"\",\"\",0))","v":""},{"$f":"IF(E29=\"\",\"\",IF(②選手情報入力!O37=\"\",\"\",2))","v":""},{"$f":"IF(E29=\"\",\"\",IF(②選手情報入力!P37=\"\",\"\",IF(I29=1,種目情報!$J$5,種目情報!$J$7)))","v":""},{"$f":"IF(E29=\"\",\"\",IF(②選手情報入力!P37=\"\",\"\",IF(I29=1,IF(②選手情報入力!$P$5=\"\",\"\",②選手情報入力!$P$5),IF(②選手情報入力!$P$6=\"\",\"\",②選手情報入力!$P$6))))","v":""},{"$f":"IF(E29=\"\",\"\",IF(②選手情報入力!P37=\"\",\"\",0))","v":""},{"$f":"IF(E29=\"\",\"\",IF(②選手情報入力!P37=\"\",\"\",2))","v":""}]
[{"$f":"IF(E30=\"\",\"\",I30*1000000+①学校情報入力!$D$3*1000+②選手情報入力!A38)","v":""},{"$f":"IF(E30=\"\",\"\",①学校情報入力!$D$3)","v":""},null,{"$f":"IF(②選手情報入力!B38=\"\",\"\",②選手情報入力!B38)","v":""},{"$f":"IF(②選手情報入力!C38=\"\",\"\",②選手情報入力!C38)","v":""},{"$f":"IF(E30=\"\",\"\",②選手情報入力!D38)","v":""},{"$f":"IF(E30=\"\",\"\",②選手情報入力!E38)","v":""},"",{"$f":"IF(E30=\"\",\"\",IF(②選手情報入力!G38=\"男\",1,2))","v":""},{"$f":"IF(E30=\"\",\"\",IF(②選手情報入力!H38=\"\",\"\",②選手情報入力!H38))","v":""},null,"","",null,{"$f":"IF(E30=\"\",\"\",IF(②選手情報入力!I38=\"\",\"\",IF(I30=1,VLOOKUP(②選手情報入力!I38,種目情報!$A$4:$B$22,2,FALSE),VLOOKUP(②選手情報入力!I38,種目情報!$E$4:$F$22,2,FALSE))))","v":""},{"$f":"IF(E30=\"\",\"\",IF(②選手情報入力!J38=\"\",\"\",②選手情報入力!J38))","v":""},{"$f":"IF(E30=\"\",\"\",IF(②選手情報入力!I38=\"\",\"\",0))","v":""},{"$f":"IF(E30=\"\",\"\",IF(②選手情報入力!I38=\"\",\"\",IF(I30=1,VLOOKUP(②選手情報入力!I38,種目情報!$A$4:$C$22,3,FALSE),VLOOKUP(②選手情報入力!I38,種目情報!$E$4:$G$22,3,FALSE))))","v":""},{"$f":"IF(E30=\"\",\"\",IF(②選手情報入力!K38=\"\",\"\",IF(I30=1,VLOOKUP(②選手情報入力!K38,種目情報!$A$4:$B$22,2,FALSE),VLOOKUP(②選手情報入力!K38,種目情報!$E$4:$F$22,2,FALSE))))","v":""},{"$f":"IF(E30=\"\",\"\",IF(②選手情報入力!L38=\"\",\"\",②選手情報入力!L38))","v":""},{"$f":"IF(E30=\"\",\"\",IF(②選手情報入力!K38=\"\",\"\",0))","v":""},{"$f":"IF(E30=\"\",\"\",IF(②選手情報入力!K38=\"\",\"\",IF(I30=1,VLOOKUP(②選手情報入力!K38,種目情報!$A$4:$C$22,3,FALSE),VLOOKUP(②選手情報入力!K38,種目情報!$E$4:$G$22,3,FALSE))))","v":""},{"$f":"IF(E30=\"\",\"\",IF(②選手情報入力!M38=\"\",\"\",IF(I30=1,VLOOKUP(②選手情報入力!M38,種目情報!$A$4:$B$22,2,FALSE),VLOOKUP(②選手情報入力!M38,種目情報!$E$4:$F$22,2,FALSE))))","v":""},{"$f":"IF(E30=\"\",\"\",IF(②選手情報入力!N38=\"\",\"\",②選手情報入力!N38))","v":""},{"$f":"IF(E30=\"\",\"\",IF(②選手情報入力!M38=\"\",\"\",0))","v":""},{"$f":"IF(E30=\"\",\"\",IF(②選手情報入力!M38=\"\",\"\",IF(I30=1,VLOOKUP(②選手情報入力!M38,種目情報!$A$4:$C$22,3,FALSE),VLOOKUP(②選手情報入力!M38,種目情報!$E$4:$G$22,3,FALSE))))","v":""},{"$f":"IF(E30=\"\",\"\",IF(②選手情報入力!O38=\"\",\"\",IF(I30=1,種目情報!$J$4,種目情報!$J$6)))","v":""},{"$f":"IF(E30=\"\",\"\",IF(②選手情報入力!O38=\"\",\"\",IF(I30=1,IF(②選手情報入力!$O$5=\"\",\"\",②選手情報入力!$O$5),IF(②選手情報入力!$O$6=\"\",\"\",②選手情報入力!$O$6))))","v":""},{"$f":"IF(E30=\"\",\"\",IF(②選手情報入力!O38=\"\",\"\",0))","v":""},{"$f":"IF(E30=\"\",\"\",IF(②選手情報入力!O38=\"\",\"\",2))","v":""},{"$f":"IF(E30=\"\",\"\",IF(②選手情報入力!P38=\"\",\"\",IF(I30=1,種目情報!$J$5,種目情報!$J$7)))","v":""},{"$f":"IF(E30=\"\",\"\",IF(②選手情報入力!P38=\"\",\"\",IF(I30=1,IF(②選手情報入力!$P$5=\"\",\"\",②選手情報入力!$P$5),IF(②選手情報入力!$P$6=\"\",\"\",②選手情報入力!$P$6))))","v":""},{"$f":"IF(E30=\"\",\"\",IF(②選手情報入力!P38=\"\",\"\",0))","v":""},{"$f":"IF(E30=\"\",\"\",IF(②選手情報入力!P38=\"\",\"\",2))","v":""}]
[{"$f":"IF(E31=\"\",\"\",I31*1000000+①学校情報入力!$D$3*1000+②選手情報入力!A39)","v":""},{"$f":"IF(E31=\"\",\"\",①学校情報入力!$D$3)","v":""},null,{"$f":"IF(②選手情報入力!B39=\"\",\"\",②選手情報入力!B39)","v":""},{"$f":"IF(②選手情報入力!C39=\"\",\"\",②選手情報入力!C39)","v":""},{"$f":"IF(E31=\"\",\"\",②選手情報入力!D39)","v":""},{"$f":"IF(E31=\"\",\"\",②選手情報入力!E39)","v":""},"",{"$f":"IF(E31=\"\",\"\",IF(②選手情報入力!G39=\"男\",1,2))","v":""},{"$f":"IF(E31=\"\",\"\",IF(②選手情報入力!H39=\"\",\"\",②選手情報入力!H39))","v":""},null,"","",null,{"$f":"IF(E31=\"\",\"\",IF(②選手情報入力!I39=\"\",\"\",IF(I31=1,VLOOKUP(②選手情報入力!I39,種目情報!$A$4:$B$22,2,FALSE),VLOOKUP(②選手情報入力!I39,種目情報!$E$4:$F$22,2,FALSE))))","v":""},{"$f":"IF(E31=\"\",\"\",IF(②選手情報入力!J39=\"\",\"\",②選手情報入力!J39))","v":""},{"$f":"IF(E31=\"\",\"\",IF(②選手情報入力!I39=\"\",\"\",0))","v":""},{"$f":"IF(E31=\"\",\"\",IF(②選手情報入力!I39=\"\",\"\",IF(I31=1,VLOOKUP(②選手情報入力!I39,種目情報!$A$4:$C$22,3,FALSE),VLOOKUP(②選手情報入力!I39,種目情報!$E$4:$G$22,3,FALSE))))","v":""},{"$f":"IF(E31=\"\",\"\",IF(②選手情報入力!K39=\"\",\"\",IF(I31=1,VLOOKUP(②選手情報入力!K39,種目情報!$A$4:$B$22,2,FALSE),VLOOKUP(②選手情報入力!K39,種目情報!$E$4:$F$22,2,FALSE))))","v":""},{"$f":"IF(E31=\"\",\"\",IF(②選手情報入力!L39=\"\",\"\",②選手情報入力!L39))","v":""},{"$f":"IF(E31=\"\",\"\",IF(②選手情報入力!K39=\"\",\"\",0))","v":""},{"$f":"IF(E31=\"\",\"\",IF(②選手情報入力!K39=\"\",\"\",IF(I31=1,VLOOKUP(②選手情報入力!K39,種目情報!$A$4:$C$22,3,FALSE),VLOOKUP(②選手情報入力!K39,種目情報!$E$4:$G$22,3,FALSE))))","v":""},{"$f":"IF(E31=\"\",\"\",IF(②選手情報入力!M39=\"\",\"\",IF(I31=1,VLOOKUP(②選手情報入力!M39,種目情報!$A$4:$B$22,2,FALSE),VLOOKUP(②選手情報入力!M39,種目情報!$E$4:$F$22,2,FALSE))))","v":""},{"$f":"IF(E31=\"\",\"\",IF(②選手情報入力!N39=\"\",\"\",②選手情報入力!N39))","v":""},{"$f":"IF(E31=\"\",\"\",IF(②選手情報入力!M39=\"\",\"\",0))","v":""},{"$f":"IF(E31=\"\",\"\",IF(②選手情報入力!M39=\"\",\"\",IF(I31=1,VLOOKUP(②選手情報入力!M39,種目情報!$A$4:$C$22,3,FALSE),VLOOKUP(②選手情報入力!M39,種目情報!$E$4:$G$22,3,FALSE))))","v":""},{"$f":"IF(E31=\"\",\"\",IF(②選手情報入力!O39=\"\",\"\",IF(I31=1,種目情報!$J$4,種目情報!$J$6)))","v":""},{"$f":"IF(E31=\"\",\"\",IF(②選手情報入力!O39=\"\",\"\",IF(I31=1,IF(②選手情報入力!$O$5=\"\",\"\",②選手情報入力!$O$5),IF(②選手情報入力!$O$6=\"\",\"\",②選手情報入力!$O$6))))","v":""},{"$f":"IF(E31=\"\",\"\",IF(②選手情報入力!O39=\"\",\"\",0))","v":""},{"$f":"IF(E31=\"\",\"\",IF(②選手情報入力!O39=\"\",\"\",2))","v":""},{"$f":"IF(E31=\"\",\"\",IF(②選手情報入力!P39=\"\",\"\",IF(I31=1,種目情報!$J$5,種目情報!$J$7)))","v":""},{"$f":"IF(E31=\"\",\"\",IF(②選手情報入力!P39=\"\",\"\",IF(I31=1,IF(②選手情報入力!$P$5=\"\",\"\",②選手情報入力!$P$5),IF(②選手情報入力!$P$6=\"\",\"\",②選手情報入力!$P$6))))","v":""},{"$f":"IF(E31=\"\",\"\",IF(②選手情報入力!P39=\"\",\"\",0))","v":""},{"$f":"IF(E31=\"\",\"\",IF(②選手情報入力!P39=\"\",\"\",2))","v":""}]
[{"$f":"IF(E32=\"\",\"\",I32*1000000+①学校情報入力!$D$3*1000+②選手情報入力!A40)","v":""},{"$f":"IF(E32=\"\",\"\",①学校情報入力!$D$3)","v":""},null,{"$f":"IF(②選手情報入力!B40=\"\",\"\",②選手情報入力!B40)","v":""},{"$f":"IF(②選手情報入力!C40=\"\",\"\",②選手情報入力!C40)","v":""},{"$f":"IF(E32=\"\",\"\",②選手情報入力!D40)","v":""},{"$f":"IF(E32=\"\",\"\",②選手情報入力!E40)","v":""},"",{"$f":"IF(E32=\"\",\"\",IF(②選手情報入力!G40=\"男\",1,2))","v":""},{"$f":"IF(E32=\"\",\"\",IF(②選手情報入力!H40=\"\",\"\",②選手情報入力!H40))","v":""},null,"","",null,{"$f":"IF(E32=\"\",\"\",IF(②選手情報入力!I40=\"\",\"\",IF(I32=1,VLOOKUP(②選手情報入力!I40,種目情報!$A$4:$B$22,2,FALSE),VLOOKUP(②選手情報入力!I40,種目情報!$E$4:$F$22,2,FALSE))))","v":""},{"$f":"IF(E32=\"\",\"\",IF(②選手情報入力!J40=\"\",\"\",②選手情報入力!J40))","v":""},{"$f":"IF(E32=\"\",\"\",IF(②選手情報入力!I40=\"\",\"\",0))","v":""},{"$f":"IF(E32=\"\",\"\",IF(②選手情報入力!I40=\"\",\"\",IF(I32=1,VLOOKUP(②選手情報入力!I40,種目情報!$A$4:$C$22,3,FALSE),VLOOKUP(②選手情報入力!I40,種目情報!$E$4:$G$22,3,FALSE))))","v":""},{"$f":"IF(E32=\"\",\"\",IF(②選手情報入力!K40=\"\",\"\",IF(I32=1,VLOOKUP(②選手情報入力!K40,種目情報!$A$4:$B$22,2,FALSE),VLOOKUP(②選手情報入力!K40,種目情報!$E$4:$F$22,2,FALSE))))","v":""},{"$f":"IF(E32=\"\",\"\",IF(②選手情報入力!L40=\"\",\"\",②選手情報入力!L40))","v":""},{"$f":"IF(E32=\"\",\"\",IF(②選手情報入力!K40=\"\",\"\",0))","v":""},{"$f":"IF(E32=\"\",\"\",IF(②選手情報入力!K40=\"\",\"\",IF(I32=1,VLOOKUP(②選手情報入力!K40,種目情報!$A$4:$C$22,3,FALSE),VLOOKUP(②選手情報入力!K40,種目情報!$E$4:$G$22,3,FALSE))))","v":""},{"$f":"IF(E32=\"\",\"\",IF(②選手情報入力!M40=\"\",\"\",IF(I32=1,VLOOKUP(②選手情報入力!M40,種目情報!$A$4:$B$22,2,FALSE),VLOOKUP(②選手情報入力!M40,種目情報!$E$4:$F$22,2,FALSE))))","v":""},{"$f":"IF(E32=\"\",\"\",IF(②選手情報入力!N40=\"\",\"\",②選手情報入力!N40))","v":""},{"$f":"IF(E32=\"\",\"\",IF(②選手情報入力!M40=\"\",\"\",0))","v":""},{"$f":"IF(E32=\"\",\"\",IF(②選手情報入力!M40=\"\",\"\",IF(I32=1,VLOOKUP(②選手情報入力!M40,種目情報!$A$4:$C$22,3,FALSE),VLOOKUP(②選手情報入力!M40,種目情報!$E$4:$G$22,3,FALSE))))","v":""},{"$f":"IF(E32=\"\",\"\",IF(②選手情報入力!O40=\"\",\"\",IF(I32=1,種目情報!$J$4,種目情報!$J$6)))","v":""},{"$f":"IF(E32=\"\",\"\",IF(②選手情報入力!O40=\"\",\"\",IF(I32=1,IF(②選手情報入力!$O$5=\"\",\"\",②選手情報入力!$O$5),IF(②選手情報入力!$O$6=\"\",\"\",②選手情報入力!$O$6))))","v":""},{"$f":"IF(E32=\"\",\"\",IF(②選手情報入力!O40=\"\",\"\",0))","v":""},{"$f":"IF(E32=\"\",\"\",IF(②選手情報入力!O40=\"\",\"\",2))","v":""},{"$f":"IF(E32=\"\",\"\",IF(②選手情報入力!P40=\"\",\"\",IF(I32=1,種目情報!$J$5,種目情報!$J$7)))","v":""},{"$f":"IF(E32=\"\",\"\",IF(②選手情報入力!P40=\"\",\"\",IF(I32=1,IF(②選手情報入力!$P$5=\"\",\"\",②選手情報入力!$P$5),IF(②選手情報入力!$P$6=\"\",\"\",②選手情報入力!$P$6))))","v":""},{"$f":"IF(E32=\"\",\"\",IF(②選手情報入力!P40=\"\",\"\",0))","v":""},{"$f":"IF(E32=\"\",\"\",IF(②選手情報入力!P40=\"\",\"\",2))","v":""}]
[{"$f":"IF(E33=\"\",\"\",I33*1000000+①学校情報入力!$D$3*1000+②選手情報入力!A41)","v":""},{"$f":"IF(E33=\"\",\"\",①学校情報入力!$D$3)","v":""},null,{"$f":"IF(②選手情報入力!B41=\"\",\"\",②選手情報入力!B41)","v":""},{"$f":"IF(②選手情報入力!C41=\"\",\"\",②選手情報入力!C41)","v":""},{"$f":"IF(E33=\"\",\"\",②選手情報入力!D41)","v":""},{"$f":"IF(E33=\"\",\"\",②選手情報入力!E41)","v":""},"",{"$f":"IF(E33=\"\",\"\",IF(②選手情報入力!G41=\"男\",1,2))","v":""},{"$f":"IF(E33=\"\",\"\",IF(②選手情報入力!H41=\"\",\"\",②選手情報入力!H41))","v":""},null,"","",null,{"$f":"IF(E33=\"\",\"\",IF(②選手情報入力!I41=\"\",\"\",IF(I33=1,VLOOKUP(②選手情報入力!I41,種目情報!$A$4:$B$22,2,FALSE),VLOOKUP(②選手情報入力!I41,種目情報!$E$4:$F$22,2,FALSE))))","v":""},{"$f":"IF(E33=\"\",\"\",IF(②選手情報入力!J41=\"\",\"\",②選手情報入力!J41))","v":""},{"$f":"IF(E33=\"\",\"\",IF(②選手情報入力!I41=\"\",\"\",0))","v":""},{"$f":"IF(E33=\"\",\"\",IF(②選手情報入力!I41=\"\",\"\",IF(I33=1,VLOOKUP(②選手情報入力!I41,種目情報!$A$4:$C$22,3,FALSE),VLOOKUP(②選手情報入力!I41,種目情報!$E$4:$G$22,3,FALSE))))","v":""},{"$f":"IF(E33=\"\",\"\",IF(②選手情報入力!K41=\"\",\"\",IF(I33=1,VLOOKUP(②選手情報入力!K41,種目情報!$A$4:$B$22,2,FALSE),VLOOKUP(②選手情報入力!K41,種目情報!$E$4:$F$22,2,FALSE))))","v":""},{"$f":"IF(E33=\"\",\"\",IF(②選手情報入力!L41=\"\",\"\",②選手情報入力!L41))","v":""},{"$f":"IF(E33=\"\",\"\",IF(②選手情報入力!K41=\"\",\"\",0))","v":""},{"$f":"IF(E33=\"\",\"\",IF(②選手情報入力!K41=\"\",\"\",IF(I33=1,VLOOKUP(②選手情報入力!K41,種目情報!$A$4:$C$22,3,FALSE),VLOOKUP(②選手情報入力!K41,種目情報!$E$4:$G$22,3,FALSE))))","v":""},{"$f":"IF(E33=\"\",\"\",IF(②選手情報入力!M41=\"\",\"\",IF(I33=1,VLOOKUP(②選手情報入力!M41,種目情報!$A$4:$B$22,2,FALSE),VLOOKUP(②選手情報入力!M41,種目情報!$E$4:$F$22,2,FALSE))))","v":""},{"$f":"IF(E33=\"\",\"\",IF(②選手情報入力!N41=\"\",\"\",②選手情報入力!N41))","v":""},{"$f":"IF(E33=\"\",\"\",IF(②選手情報入力!M41=\"\",\"\",0))","v":""},{"$f":"IF(E33=\"\",\"\",IF(②選手情報入力!M41=\"\",\"\",IF(I33=1,VLOOKUP(②選手情報入力!M41,種目情報!$A$4:$C$22,3,FALSE),VLOOKUP(②選手情報入力!M41,種目情報!$E$4:$G$22,3,FALSE))))","v":""},{"$f":"IF(E33=\"\",\"\",IF(②選手情報入力!O41=\"\",\"\",IF(I33=1,種目情報!$J$4,種目情報!$J$6)))","v":""},{"$f":"IF(E33=\"\",\"\",IF(②選手情報入力!O41=\"\",\"\",IF(I33=1,IF(②選手情報入力!$O$5=\"\",\"\",②選手情報入力!$O$5),IF(②選手情報入力!$O$6=\"\",\"\",②選手情報入力!$O$6))))","v":""},{"$f":"IF(E33=\"\",\"\",IF(②選手情報入力!O41=\"\",\"\",0))","v":""},{"$f":"IF(E33=\"\",\"\",IF(②選手情報入力!O41=\"\",\"\",2))","v":""},{"$f":"IF(E33=\"\",\"\",IF(②選手情報入力!P41=\"\",\"\",IF(I33=1,種目情報!$J$5,種目情報!$J$7)))","v":""},{"$f":"IF(E33=\"\",\"\",IF(②選手情報入力!P41=\"\",\"\",IF(I33=1,IF(②選手情報入力!$P$5=\"\",\"\",②選手情報入力!$P$5),IF(②選手情報入力!$P$6=\"\",\"\",②選手情報入力!$P$6))))","v":""},{"$f":"IF(E33=\"\",\"\",IF(②選手情報入力!P41=\"\",\"\",0))","v":""},{"$f":"IF(E33=\"\",\"\",IF(②選手情報入力!P41=\"\",\"\",2))","v":""}]
[{"$f":"IF(E34=\"\",\"\",I34*1000000+①学校情報入力!$D$3*1000+②選手情報入力!A42)","v":""},{"$f":"IF(E34=\"\",\"\",①学校情報入力!$D$3)","v":""},null,{"$f":"IF(②選手情報入力!B42=\"\",\"\",②選手情報入力!B42)","v":""},{"$f":"IF(②選手情報入力!C42=\"\",\"\",②選手情報入力!C42)","v":""},{"$f":"IF(E34=\"\",\"\",②選手情報入力!D42)","v":""},{"$f":"IF(E34=\"\",\"\",②選手情報入力!E42)","v":""},"",{"$f":"IF(E34=\"\",\"\",IF(②選手情報入力!G42=\"男\",1,2))","v":""},{"$f":"IF(E34=\"\",\"\",IF(②選手情報入力!H42=\"\",\"\",②選手情報入力!H42))","v":""},null,"","",null,{"$f":"IF(E34=\"\",\"\",IF(②選手情報入力!I42=\"\",\"\",IF(I34=1,VLOOKUP(②選手情報入力!I42,種目情報!$A$4:$B$22,2,FALSE),VLOOKUP(②選手情報入力!I42,種目情報!$E$4:$F$22,2,FALSE))))","v":""},{"$f":"IF(E34=\"\",\"\",IF(②選手情報入力!J42=\"\",\"\",②選手情報入力!J42))","v":""},{"$f":"IF(E34=\"\",\"\",IF(②選手情報入力!I42=\"\",\"\",0))","v":""},{"$f":"IF(E34=\"\",\"\",IF(②選手情報入力!I42=\"\",\"\",IF(I34=1,VLOOKUP(②選手情報入力!I42,種目情報!$A$4:$C$22,3,FALSE),VLOOKUP(②選手情報入力!I42,種目情報!$E$4:$G$22,3,FALSE))))","v":""},{"$f":"IF(E34=\"\",\"\",IF(②選手情報入力!K42=\"\",\"\",IF(I34=1,VLOOKUP(②選手情報入力!K42,種目情報!$A$4:$B$22,2,FALSE),VLOOKUP(②選手情報入力!K42,種目情報!$E$4:$F$22,2,FALSE))))","v":""},{"$f":"IF(E34=\"\",\"\",IF(②選手情報入力!L42=\"\",\"\",②選手情報入力!L42))","v":""},{"$f":"IF(E34=\"\",\"\",IF(②選手情報入力!K42=\"\",\"\",0))","v":""},{"$f":"IF(E34=\"\",\"\",IF(②選手情報入力!K42=\"\",\"\",IF(I34=1,VLOOKUP(②選手情報入力!K42,種目情報!$A$4:$C$22,3,FALSE),VLOOKUP(②選手情報入力!K42,種目情報!$E$4:$G$22,3,FALSE))))","v":""},{"$f":"IF(E34=\"\",\"\",IF(②選手情報入力!M42=\"\",\"\",IF(I34=1,VLOOKUP(②選手情報入力!M42,種目情報!$A$4:$B$22,2,FALSE),VLOOKUP(②選手情報入力!M42,種目情報!$E$4:$F$22,2,FALSE))))","v":""},{"$f":"IF(E34=\"\",\"\",IF(②選手情報入力!N42=\"\",\"\",②選手情報入力!N42))","v":""},{"$f":"IF(E34=\"\",\"\",IF(②選手情報入力!M42=\"\",\"\",0))","v":""},{"$f":"IF(E34=\"\",\"\",IF(②選手情報入力!M42=\"\",\"\",IF(I34=1,VLOOKUP(②選手情報入力!M42,種目情報!$A$4:$C$22,3,FALSE),VLOOKUP(②選手情報入力!M42,種目情報!$E$4:$G$22,3,FALSE))))","v":""},{"$f":"IF(E34=\"\",\"\",IF(②選手情報入力!O42=\"\",\"\",IF(I34=1,種目情報!$J$4,種目情報!$J$6)))","v":""},{"$f":"IF(E34=\"\",\"\",IF(②選手情報入力!O42=\"\",\"\",IF(I34=1,IF(②選手情報入力!$O$5=\"\",\"\",②選手情報入力!$O$5),IF(②選手情報入力!$O$6=\"\",\"\",②選手情報入力!$O$6))))","v":""},{"$f":"IF(E34=\"\",\"\",IF(②選手情報入力!O42=\"\",\"\",0))","v":""},{"$f":"IF(E34=\"\",\"\",IF(②選手情報入力!O42=\"\",\"\",2))","v":""},{"$f":"IF(E34=\"\",\"\",IF(②選手情報入力!P42=\"\",\"\",IF(I34=1,種目情報!$J$5,種目情報!$J$7)))","v":""},{"$f":"IF(E34=\"\",\"\",IF(②選手情報入力!P42=\"\",\"\",IF(I34=1,IF(②選手情報入力!$P$5=\"\",\"\",②選手情報入力!$P$5),IF(②選手情報入力!$P$6=\"\",\"\",②選手情報入力!$P$6))))","v":""},{"$f":"IF(E34=\"\",\"\",IF(②選手情報入力!P42=\"\",\"\",0))","v":""},{"$f":"IF(E34=\"\",\"\",IF(②選手情報入力!P42=\"\",\"\",2))","v":""}]
[{"$f":"IF(E35=\"\",\"\",I35*1000000+①学校情報入力!$D$3*1000+②選手情報入力!A43)","v":""},{"$f":"IF(E35=\"\",\"\",①学校情報入力!$D$3)","v":""},null,{"$f":"IF(②選手情報入力!B43=\"\",\"\",②選手情報入力!B43)","v":""},{"$f":"IF(②選手情報入力!C43=\"\",\"\",②選手情報入力!C43)","v":""},{"$f":"IF(E35=\"\",\"\",②選手情報入力!D43)","v":""},{"$f":"IF(E35=\"\",\"\",②選手情報入力!E43)","v":""},"",{"$f":"IF(E35=\"\",\"\",IF(②選手情報入力!G43=\"男\",1,2))","v":""},{"$f":"IF(E35=\"\",\"\",IF(②選手情報入力!H43=\"\",\"\",②選手情報入力!H43))","v":""},null,"","",null,{"$f":"IF(E35=\"\",\"\",IF(②選手情報入力!I43=\"\",\"\",IF(I35=1,VLOOKUP(②選手情報入力!I43,種目情報!$A$4:$B$22,2,FALSE),VLOOKUP(②選手情報入力!I43,種目情報!$E$4:$F$22,2,FALSE))))","v":""},{"$f":"IF(E35=\"\",\"\",IF(②選手情報入力!J43=\"\",\"\",②選手情報入力!J43))","v":""},{"$f":"IF(E35=\"\",\"\",IF(②選手情報入力!I43=\"\",\"\",0))","v":""},{"$f":"IF(E35=\"\",\"\",IF(②選手情報入力!I43=\"\",\"\",IF(I35=1,VLOOKUP(②選手情報入力!I43,種目情報!$A$4:$C$22,3,FALSE),VLOOKUP(②選手情報入力!I43,種目情報!$E$4:$G$22,3,FALSE))))","v":""},{"$f":"IF(E35=\"\",\"\",IF(②選手情報入力!K43=\"\",\"\",IF(I35=1,VLOOKUP(②選手情報入力!K43,種目情報!$A$4:$B$22,2,FALSE),VLOOKUP(②選手情報入力!K43,種目情報!$E$4:$F$22,2,FALSE))))","v":""},{"$f":"IF(E35=\"\",\"\",IF(②選手情報入力!L43=\"\",\"\",②選手情報入力!L43))","v":""},{"$f":"IF(E35=\"\",\"\",IF(②選手情報入力!K43=\"\",\"\",0))","v":""},{"$f":"IF(E35=\"\",\"\",IF(②選手情報入力!K43=\"\",\"\",IF(I35=1,VLOOKUP(②選手情報入力!K43,種目情報!$A$4:$C$22,3,FALSE),VLOOKUP(②選手情報入力!K43,種目情報!$E$4:$G$22,3,FALSE))))","v":""},{"$f":"IF(E35=\"\",\"\",IF(②選手情報入力!M43=\"\",\"\",IF(I35=1,VLOOKUP(②選手情報入力!M43,種目情報!$A$4:$B$22,2,FALSE),VLOOKUP(②選手情報入力!M43,種目情報!$E$4:$F$22,2,FALSE))))","v":""},{"$f":"IF(E35=\"\",\"\",IF(②選手情報入力!N43=\"\",\"\",②選手情報入力!N43))","v":""},{"$f":"IF(E35=\"\",\"\",IF(②選手情報入力!M43=\"\",\"\",0))","v":""},{"$f":"IF(E35=\"\",\"\",IF(②選手情報入力!M43=\"\",\"\",IF(I35=1,VLOOKUP(②選手情報入力!M43,種目情報!$A$4:$C$22,3,FALSE),VLOOKUP(②選手情報入力!M43,種目情報!$E$4:$G$22,3,FALSE))))","v":""},{"$f":"IF(E35=\"\",\"\",IF(②選手情報入力!O43=\"\",\"\",IF(I35=1,種目情報!$J$4,種目情報!$J$6)))","v":""},{"$f":"IF(E35=\"\",\"\",IF(②選手情報入力!O43=\"\",\"\",IF(I35=1,IF(②選手情報入力!$O$5=\"\",\"\",②選手情報入力!$O$5),IF(②選手情報入力!$O$6=\"\",\"\",②選手情報入力!$O$6))))","v":""},{"$f":"IF(E35=\"\",\"\",IF(②選手情報入力!O43=\"\",\"\",0))","v":""},{"$f":"IF(E35=\"\",\"\",IF(②選手情報入力!O43=\"\",\"\",2))","v":""},{"$f":"IF(E35=\"\",\"\",IF(②選手情報入力!P43=\"\",\"\",IF(I35=1,種目情報!$J$5,種目情報!$J$7)))","v":""},{"$f":"IF(E35=\"\",\"\",IF(②選手情報入力!P43=\"\",\"\",IF(I35=1,IF(②選手情報入力!$P$5=\"\",\"\",②選手情報入力!$P$5),IF(②選手情報入力!$P$6=\"\",\"\",②選手情報入力!$P$6))))","v":""},{"$f":"IF(E35=\"\",\"\",IF(②選手情報入力!P43=\"\",\"\",0))","v":""},{"$f":"IF(E35=\"\",\"\",IF(②選手情報入力!P43=\"\",\"\",2))","v":""}]
[{"$f":"IF(E36=\"\",\"\",I36*1000000+①学校情報入力!$D$3*1000+②選手情報入力!A44)","v":""},{"$f":"IF(E36=\"\",\"\",①学校情報入力!$D$3)","v":""},null,{"$f":"IF(②選手情報入力!B44=\"\",\"\",②選手情報入力!B44)","v":""},{"$f":"IF(②選手情報入力!C44=\"\",\"\",②選手情報入力!C44)","v":""},{"$f":"IF(E36=\"\",\"\",②選手情報入力!D44)","v":""},{"$f":"IF(E36=\"\",\"\",②選手情報入力!E44)","v":""},"",{"$f":"IF(E36=\"\",\"\",IF(②選手情報入力!G44=\"男\",1,2))","v":""},{"$f":"IF(E36=\"\",\"\",IF(②選手情報入力!H44=\"\",\"\",②選手情報入力!H44))","v":""},null,"","",null,{"$f":"IF(E36=\"\",\"\",IF(②選手情報入力!I44=\"\",\"\",IF(I36=1,VLOOKUP(②選手情報入力!I44,種目情報!$A$4:$B$22,2,FALSE),VLOOKUP(②選手情報入力!I44,種目情報!$E$4:$F$22,2,FALSE))))","v":""},{"$f":"IF(E36=\"\",\"\",IF(②選手情報入力!J44=\"\",\"\",②選手情報入力!J44))","v":""},{"$f":"IF(E36=\"\",\"\",IF(②選手情報入力!I44=\"\",\"\",0))","v":""},{"$f":"IF(E36=\"\",\"\",IF(②選手情報入力!I44=\"\",\"\",IF(I36=1,VLOOKUP(②選手情報入力!I44,種目情報!$A$4:$C$22,3,FALSE),VLOOKUP(②選手情報入力!I44,種目情報!$E$4:$G$22,3,FALSE))))","v":""},{"$f":"IF(E36=\"\",\"\",IF(②選手情報入力!K44=\"\",\"\",IF(I36=1,VLOOKUP(②選手情報入力!K44,種目情報!$A$4:$B$22,2,FALSE),VLOOKUP(②選手情報入力!K44,種目情報!$E$4:$F$22,2,FALSE))))","v":""},{"$f":"IF(E36=\"\",\"\",IF(②選手情報入力!L44=\"\",\"\",②選手情報入力!L44))","v":""},{"$f":"IF(E36=\"\",\"\",IF(②選手情報入力!K44=\"\",\"\",0))","v":""},{"$f":"IF(E36=\"\",\"\",IF(②選手情報入力!K44=\"\",\"\",IF(I36=1,VLOOKUP(②選手情報入力!K44,種目情報!$A$4:$C$22,3,FALSE),VLOOKUP(②選手情報入力!K44,種目情報!$E$4:$G$22,3,FALSE))))","v":""},{"$f":"IF(E36=\"\",\"\",IF(②選手情報入力!M44=\"\",\"\",IF(I36=1,VLOOKUP(②選手情報入力!M44,種目情報!$A$4:$B$22,2,FALSE),VLOOKUP(②選手情報入力!M44,種目情報!$E$4:$F$22,2,FALSE))))","v":""},{"$f":"IF(E36=\"\",\"\",IF(②選手情報入力!N44=\"\",\"\",②選手情報入力!N44))","v":""},{"$f":"IF(E36=\"\",\"\",IF(②選手情報入力!M44=\"\",\"\",0))","v":""},{"$f":"IF(E36=\"\",\"\",IF(②選手情報入力!M44=\"\",\"\",IF(I36=1,VLOOKUP(②選手情報入力!M44,種目情報!$A$4:$C$22,3,FALSE),VLOOKUP(②選手情報入力!M44,種目情報!$E$4:$G$22,3,FALSE))))","v":""},{"$f":"IF(E36=\"\",\"\",IF(②選手情報入力!O44=\"\",\"\",IF(I36=1,種目情報!$J$4,種目情報!$J$6)))","v":""},{"$f":"IF(E36=\"\",\"\",IF(②選手情報入力!O44=\"\",\"\",IF(I36=1,IF(②選手情報入力!$O$5=\"\",\"\",②選手情報入力!$O$5),IF(②選手情報入力!$O$6=\"\",\"\",②選手情報入力!$O$6))))","v":""},{"$f":"IF(E36=\"\",\"\",IF(②選手情報入力!O44=\"\",\"\",0))","v":""},{"$f":"IF(E36=\"\",\"\",IF(②選手情報入力!O44=\"\",\"\",2))","v":""},{"$f":"IF(E36=\"\",\"\",IF(②選手情報入力!P44=\"\",\"\",IF(I36=1,種目情報!$J$5,種目情報!$J$7)))","v":""},{"$f":"IF(E36=\"\",\"\",IF(②選手情報入力!P44=\"\",\"\",IF(I36=1,IF(②選手情報入力!$P$5=\"\",\"\",②選手情報入力!$P$5),IF(②選手情報入力!$P$6=\"\",\"\",②選手情報入力!$P$6))))","v":""},{"$f":"IF(E36=\"\",\"\",IF(②選手情報入力!P44=\"\",\"\",0))","v":""},{"$f":"IF(E36=\"\",\"\",IF(②選手情報入力!P44=\"\",\"\",2))","v":""}]
[{"$f":"IF(E37=\"\",\"\",I37*1000000+①学校情報入力!$D$3*1000+②選手情報入力!A45)","v":""},{"$f":"IF(E37=\"\",\"\",①学校情報入力!$D$3)","v":""},null,{"$f":"IF(②選手情報入力!B45=\"\",\"\",②選手情報入力!B45)","v":""},{"$f":"IF(②選手情報入力!C45=\"\",\"\",②選手情報入力!C45)","v":""},{"$f":"IF(E37=\"\",\"\",②選手情報入力!D45)","v":""},{"$f":"IF(E37=\"\",\"\",②選手情報入力!E45)","v":""},"",{"$f":"IF(E37=\"\",\"\",IF(②選手情報入力!G45=\"男\",1,2))","v":""},{"$f":"IF(E37=\"\",\"\",IF(②選手情報入力!H45=\"\",\"\",②選手情報入力!H45))","v":""},null,"","",null,{"$f":"IF(E37=\"\",\"\",IF(②選手情報入力!I45=\"\",\"\",IF(I37=1,VLOOKUP(②選手情報入力!I45,種目情報!$A$4:$B$22,2,FALSE),VLOOKUP(②選手情報入力!I45,種目情報!$E$4:$F$22,2,FALSE))))","v":""},{"$f":"IF(E37=\"\",\"\",IF(②選手情報入力!J45=\"\",\"\",②選手情報入力!J45))","v":""},{"$f":"IF(E37=\"\",\"\",IF(②選手情報入力!I45=\"\",\"\",0))","v":""},{"$f":"IF(E37=\"\",\"\",IF(②選手情報入力!I45=\"\",\"\",IF(I37=1,VLOOKUP(②選手情報入力!I45,種目情報!$A$4:$C$22,3,FALSE),VLOOKUP(②選手情報入力!I45,種目情報!$E$4:$G$22,3,FALSE))))","v":""},{"$f":"IF(E37=\"\",\"\",IF(②選手情報入力!K45=\"\",\"\",IF(I37=1,VLOOKUP(②選手情報入力!K45,種目情報!$A$4:$B$22,2,FALSE),VLOOKUP(②選手情報入力!K45,種目情報!$E$4:$F$22,2,FALSE))))","v":""},{"$f":"IF(E37=\"\",\"\",IF(②選手情報入力!L45=\"\",\"\",②選手情報入力!L45))","v":""},{"$f":"IF(E37=\"\",\"\",IF(②選手情報入力!K45=\"\",\"\",0))","v":""},{"$f":"IF(E37=\"\",\"\",IF(②選手情報入力!K45=\"\",\"\",IF(I37=1,VLOOKUP(②選手情報入力!K45,種目情報!$A$4:$C$22,3,FALSE),VLOOKUP(②選手情報入力!K45,種目情報!$E$4:$G$22,3,FALSE))))","v":""},{"$f":"IF(E37=\"\",\"\",IF(②選手情報入力!M45=\"\",\"\",IF(I37=1,VLOOKUP(②選手情報入力!M45,種目情報!$A$4:$B$22,2,FALSE),VLOOKUP(②選手情報入力!M45,種目情報!$E$4:$F$22,2,FALSE))))","v":""},{"$f":"IF(E37=\"\",\"\",IF(②選手情報入力!N45=\"\",\"\",②選手情報入力!N45))","v":""},{"$f":"IF(E37=\"\",\"\",IF(②選手情報入力!M45=\"\",\"\",0))","v":""},{"$f":"IF(E37=\"\",\"\",IF(②選手情報入力!M45=\"\",\"\",IF(I37=1,VLOOKUP(②選手情報入力!M45,種目情報!$A$4:$C$22,3,FALSE),VLOOKUP(②選手情報入力!M45,種目情報!$E$4:$G$22,3,FALSE))))","v":""},{"$f":"IF(E37=\"\",\"\",IF(②選手情報入力!O45=\"\",\"\",IF(I37=1,種目情報!$J$4,種目情報!$J$6)))","v":""},{"$f":"IF(E37=\"\",\"\",IF(②選手情報入力!O45=\"\",\"\",IF(I37=1,IF(②選手情報入力!$O$5=\"\",\"\",②選手情報入力!$O$5),IF(②選手情報入力!$O$6=\"\",\"\",②選手情報入力!$O$6))))","v":""},{"$f":"IF(E37=\"\",\"\",IF(②選手情報入力!O45=\"\",\"\",0))","v":""},{"$f":"IF(E37=\"\",\"\",IF(②選手情報入力!O45=\"\",\"\",2))","v":""},{"$f":"IF(E37=\"\",\"\",IF(②選手情報入力!P45=\"\",\"\",IF(I37=1,種目情報!$J$5,種目情報!$J$7)))","v":""},{"$f":"IF(E37=\"\",\"\",IF(②選手情報入力!P45=\"\",\"\",IF(I37=1,IF(②選手情報入力!$P$5=\"\",\"\",②選手情報入力!$P$5),IF(②選手情報入力!$P$6=\"\",\"\",②選手情報入力!$P$6))))","v":""},{"$f":"IF(E37=\"\",\"\",IF(②選手情報入力!P45=\"\",\"\",0))","v":""},{"$f":"IF(E37=\"\",\"\",IF(②選手情報入力!P45=\"\",\"\",2))","v":""}]
[{"$f":"IF(E38=\"\",\"\",I38*1000000+①学校情報入力!$D$3*1000+②選手情報入力!A46)","v":""},{"$f":"IF(E38=\"\",\"\",①学校情報入力!$D$3)","v":""},null,{"$f":"IF(②選手情報入力!B46=\"\",\"\",②選手情報入力!B46)","v":""},{"$f":"IF(②選手情報入力!C46=\"\",\"\",②選手情報入力!C46)","v":""},{"$f":"IF(E38=\"\",\"\",②選手情報入力!D46)","v":""},{"$f":"IF(E38=\"\",\"\",②選手情報入力!E46)","v":""},"",{"$f":"IF(E38=\"\",\"\",IF(②選手情報入力!G46=\"男\",1,2))","v":""},{"$f":"IF(E38=\"\",\"\",IF(②選手情報入力!H46=\"\",\"\",②選手情報入力!H46))","v":""},null,"","",null,{"$f":"IF(E38=\"\",\"\",IF(②選手情報入力!I46=\"\",\"\",IF(I38=1,VLOOKUP(②選手情報入力!I46,種目情報!$A$4:$B$22,2,FALSE),VLOOKUP(②選手情報入力!I46,種目情報!$E$4:$F$22,2,FALSE))))","v":""},{"$f":"IF(E38=\"\",\"\",IF(②選手情報入力!J46=\"\",\"\",②選手情報入力!J46))","v":""},{"$f":"IF(E38=\"\",\"\",IF(②選手情報入力!I46=\"\",\"\",0))","v":""},{"$f":"IF(E38=\"\",\"\",IF(②選手情報入力!I46=\"\",\"\",IF(I38=1,VLOOKUP(②選手情報入力!I46,種目情報!$A$4:$C$22,3,FALSE),VLOOKUP(②選手情報入力!I46,種目情報!$E$4:$G$22,3,FALSE))))","v":""},{"$f":"IF(E38=\"\",\"\",IF(②選手情報入力!K46=\"\",\"\",IF(I38=1,VLOOKUP(②選手情報入力!K46,種目情報!$A$4:$B$22,2,FALSE),VLOOKUP(②選手情報入力!K46,種目情報!$E$4:$F$22,2,FALSE))))","v":""},{"$f":"IF(E38=\"\",\"\",IF(②選手情報入力!L46=\"\",\"\",②選手情報入力!L46))","v":""},{"$f":"IF(E38=\"\",\"\",IF(②選手情報入力!K46=\"\",\"\",0))","v":""},{"$f":"IF(E38=\"\",\"\",IF(②選手情報入力!K46=\"\",\"\",IF(I38=1,VLOOKUP(②選手情報入力!K46,種目情報!$A$4:$C$22,3,FALSE),VLOOKUP(②選手情報入力!K46,種目情報!$E$4:$G$22,3,FALSE))))","v":""},{"$f":"IF(E38=\"\",\"\",IF(②選手情報入力!M46=\"\",\"\",IF(I38=1,VLOOKUP(②選手情報入力!M46,種目情報!$A$4:$B$22,2,FALSE),VLOOKUP(②選手情報入力!M46,種目情報!$E$4:$F$22,2,FALSE))))","v":""},{"$f":"IF(E38=\"\",\"\",IF(②選手情報入力!N46=\"\",\"\",②選手情報入力!N46))","v":""},{"$f":"IF(E38=\"\",\"\",IF(②選手情報入力!M46=\"\",\"\",0))","v":""},{"$f":"IF(E38=\"\",\"\",IF(②選手情報入力!M46=\"\",\"\",IF(I38=1,VLOOKUP(②選手情報入力!M46,種目情報!$A$4:$C$22,3,FALSE),VLOOKUP(②選手情報入力!M46,種目情報!$E$4:$G$22,3,FALSE))))","v":""},{"$f":"IF(E38=\"\",\"\",IF(②選手情報入力!O46=\"\",\"\",IF(I38=1,種目情報!$J$4,種目情報!$J$6)))","v":""},{"$f":"IF(E38=\"\",\"\",IF(②選手情報入力!O46=\"\",\"\",IF(I38=1,IF(②選手情報入力!$O$5=\"\",\"\",②選手情報入力!$O$5),IF(②選手情報入力!$O$6=\"\",\"\",②選手情報入力!$O$6))))","v":""},{"$f":"IF(E38=\"\",\"\",IF(②選手情報入力!O46=\"\",\"\",0))","v":""},{"$f":"IF(E38=\"\",\"\",IF(②選手情報入力!O46=\"\",\"\",2))","v":""},{"$f":"IF(E38=\"\",\"\",IF(②選手情報入力!P46=\"\",\"\",IF(I38=1,種目情報!$J$5,種目情報!$J$7)))","v":""},{"$f":"IF(E38=\"\",\"\",IF(②選手情報入力!P46=\"\",\"\",IF(I38=1,IF(②選手情報入力!$P$5=\"\",\"\",②選手情報入力!$P$5),IF(②選手情報入力!$P$6=\"\",\"\",②選手情報入力!$P$6))))","v":""},{"$f":"IF(E38=\"\",\"\",IF(②選手情報入力!P46=\"\",\"\",0))","v":""},{"$f":"IF(E38=\"\",\"\",IF(②選手情報入力!P46=\"\",\"\",2))","v":""}]
[{"$f":"IF(E39=\"\",\"\",I39*1000000+①学校情報入力!$D$3*1000+②選手情報入力!A47)","v":""},{"$f":"IF(E39=\"\",\"\",①学校情報入力!$D$3)","v":""},null,{"$f":"IF(②選手情報入力!B47=\"\",\"\",②選手情報入力!B47)","v":""},{"$f":"IF(②選手情報入力!C47=\"\",\"\",②選手情報入力!C47)","v":""},{"$f":"IF(E39=\"\",\"\",②選手情報入力!D47)","v":""},{"$f":"IF(E39=\"\",\"\",②選手情報入力!E47)","v":""},"",{"$f":"IF(E39=\"\",\"\",IF(②選手情報入力!G47=\"男\",1,2))","v":""},{"$f":"IF(E39=\"\",\"\",IF(②選手情報入力!H47=\"\",\"\",②選手情報入力!H47))","v":""},null,"","",null,{"$f":"IF(E39=\"\",\"\",IF(②選手情報入力!I47=\"\",\"\",IF(I39=1,VLOOKUP(②選手情報入力!I47,種目情報!$A$4:$B$22,2,FALSE),VLOOKUP(②選手情報入力!I47,種目情報!$E$4:$F$22,2,FALSE))))","v":""},{"$f":"IF(E39=\"\",\"\",IF(②選手情報入力!J47=\"\",\"\",②選手情報入力!J47))","v":""},{"$f":"IF(E39=\"\",\"\",IF(②選手情報入力!I47=\"\",\"\",0))","v":""},{"$f":"IF(E39=\"\",\"\",IF(②選手情報入力!I47=\"\",\"\",IF(I39=1,VLOOKUP(②選手情報入力!I47,種目情報!$A$4:$C$22,3,FALSE),VLOOKUP(②選手情報入力!I47,種目情報!$E$4:$G$22,3,FALSE))))","v":""},{"$f":"IF(E39=\"\",\"\",IF(②選手情報入力!K47=\"\",\"\",IF(I39=1,VLOOKUP(②選手情報入力!K47,種目情報!$A$4:$B$22,2,FALSE),VLOOKUP(②選手情報入力!K47,種目情報!$E$4:$F$22,2,FALSE))))","v":""},{"$f":"IF(E39=\"\",\"\",IF(②選手情報入力!L47=\"\",\"\",②選手情報入力!L47))","v":""},{"$f":"IF(E39=\"\",\"\",IF(②選手情報入力!K47=\"\",\"\",0))","v":""},{"$f":"IF(E39=\"\",\"\",IF(②選手情報入力!K47=\"\",\"\",IF(I39=1,VLOOKUP(②選手情報入力!K47,種目情報!$A$4:$C$22,3,FALSE),VLOOKUP(②選手情報入力!K47,種目情報!$E$4:$G$22,3,FALSE))))","v":""},{"$f":"IF(E39=\"\",\"\",IF(②選手情報入力!M47=\"\",\"\",IF(I39=1,VLOOKUP(②選手情報入力!M47,種目情報!$A$4:$B$22,2,FALSE),VLOOKUP(②選手情報入力!M47,種目情報!$E$4:$F$22,2,FALSE))))","v":""},{"$f":"IF(E39=\"\",\"\",IF(②選手情報入力!N47=\"\",\"\",②選手情報入力!N47))","v":""},{"$f":"IF(E39=\"\",\"\",IF(②選手情報入力!M47=\"\",\"\",0))","v":""},{"$f":"IF(E39=\"\",\"\",IF(②選手情報入力!M47=\"\",\"\",IF(I39=1,VLOOKUP(②選手情報入力!M47,種目情報!$A$4:$C$22,3,FALSE),VLOOKUP(②選手情報入力!M47,種目情報!$E$4:$G$22,3,FALSE))))","v":""},{"$f":"IF(E39=\"\",\"\",IF(②選手情報入力!O47=\"\",\"\",IF(I39=1,種目情報!$J$4,種目情報!$J$6)))","v":""},{"$f":"IF(E39=\"\",\"\",IF(②選手情報入力!O47=\"\",\"\",IF(I39=1,IF(②選手情報入力!$O$5=\"\",\"\",②選手情報入力!$O$5),IF(②選手情報入力!$O$6=\"\",\"\",②選手情報入力!$O$6))))","v":""},{"$f":"IF(E39=\"\",\"\",IF(②選手情報入力!O47=\"\",\"\",0))","v":""},{"$f":"IF(E39=\"\",\"\",IF(②選手情報入力!O47=\"\",\"\",2))","v":""},{"$f":"IF(E39=\"\",\"\",IF(②選手情報入力!P47=\"\",\"\",IF(I39=1,種目情報!$J$5,種目情報!$J$7)))","v":""},{"$f":"IF(E39=\"\",\"\",IF(②選手情報入力!P47=\"\",\"\",IF(I39=1,IF(②選手情報入力!$P$5=\"\",\"\",②選手情報入力!$P$5),IF(②選手情報入力!$P$6=\"\",\"\",②選手情報入力!$P$6))))","v":""},{"$f":"IF(E39=\"\",\"\",IF(②選手情報入力!P47=\"\",\"\",0))","v":""},{"$f":"IF(E39=\"\",\"\",IF(②選手情報入力!P47=\"\",\"\",2))","v":""}]
[{"$f":"IF(E40=\"\",\"\",I40*1000000+①学校情報入力!$D$3*1000+②選手情報入力!A48)","v":""},{"$f":"IF(E40=\"\",\"\",①学校情報入力!$D$3)","v":""},null,{"$f":"IF(②選手情報入力!B48=\"\",\"\",②選手情報入力!B48)","v":""},{"$f":"IF(②選手情報入力!C48=\"\",\"\",②選手情報入力!C48)","v":""},{"$f":"IF(E40=\"\",\"\",②選手情報入力!D48)","v":""},{"$f":"IF(E40=\"\",\"\",②選手情報入力!E48)","v":""},"",{"$f":"IF(E40=\"\",\"\",IF(②選手情報入力!G48=\"男\",1,2))","v":""},{"$f":"IF(E40=\"\",\"\",IF(②選手情報入力!H48=\"\",\"\",②選手情報入力!H48))","v":""},null,"","",null,{"$f":"IF(E40=\"\",\"\",IF(②選手情報入力!I48=\"\",\"\",IF(I40=1,VLOOKUP(②選手情報入力!I48,種目情報!$A$4:$B$22,2,FALSE),VLOOKUP(②選手情報入力!I48,種目情報!$E$4:$F$22,2,FALSE))))","v":""},{"$f":"IF(E40=\"\",\"\",IF(②選手情報入力!J48=\"\",\"\",②選手情報入力!J48))","v":""},{"$f":"IF(E40=\"\",\"\",IF(②選手情報入力!I48=\"\",\"\",0))","v":""},{"$f":"IF(E40=\"\",\"\",IF(②選手情報入力!I48=\"\",\"\",IF(I40=1,VLOOKUP(②選手情報入力!I48,種目情報!$A$4:$C$22,3,FALSE),VLOOKUP(②選手情報入力!I48,種目情報!$E$4:$G$22,3,FALSE))))","v":""},{"$f":"IF(E40=\"\",\"\",IF(②選手情報入力!K48=\"\",\"\",IF(I40=1,VLOOKUP(②選手情報入力!K48,種目情報!$A$4:$B$22,2,FALSE),VLOOKUP(②選手情報入力!K48,種目情報!$E$4:$F$22,2,FALSE))))","v":""},{"$f":"IF(E40=\"\",\"\",IF(②選手情報入力!L48=\"\",\"\",②選手情報入力!L48))","v":""},{"$f":"IF(E40=\"\",\"\",IF(②選手情報入力!K48=\"\",\"\",0))","v":""},{"$f":"IF(E40=\"\",\"\",IF(②選手情報入力!K48=\"\",\"\",IF(I40=1,VLOOKUP(②選手情報入力!K48,種目情報!$A$4:$C$22,3,FALSE),VLOOKUP(②選手情報入力!K48,種目情報!$E$4:$G$22,3,FALSE))))","v":""},{"$f":"IF(E40=\"\",\"\",IF(②選手情報入力!M48=\"\",\"\",IF(I40=1,VLOOKUP(②選手情報入力!M48,種目情報!$A$4:$B$22,2,FALSE),VLOOKUP(②選手情報入力!M48,種目情報!$E$4:$F$22,2,FALSE))))","v":""},{"$f":"IF(E40=\"\",\"\",IF(②選手情報入力!N48=\"\",\"\",②選手情報入力!N48))","v":""},{"$f":"IF(E40=\"\",\"\",IF(②選手情報入力!M48=\"\",\"\",0))","v":""},{"$f":"IF(E40=\"\",\"\",IF(②選手情報入力!M48=\"\",\"\",IF(I40=1,VLOOKUP(②選手情報入力!M48,種目情報!$A$4:$C$22,3,FALSE),VLOOKUP(②選手情報入力!M48,種目情報!$E$4:$G$22,3,FALSE))))","v":""},{"$f":"IF(E40=\"\",\"\",IF(②選手情報入力!O48=\"\",\"\",IF(I40=1,種目情報!$J$4,種目情報!$J$6)))","v":""},{"$f":"IF(E40=\"\",\"\",IF(②選手情報入力!O48=\"\",\"\",IF(I40=1,IF(②選手情報入力!$O$5=\"\",\"\",②選手情報入力!$O$5),IF(②選手情報入力!$O$6=\"\",\"\",②選手情報入力!$O$6))))","v":""},{"$f":"IF(E40=\"\",\"\",IF(②選手情報入力!O48=\"\",\"\",0))","v":""},{"$f":"IF(E40=\"\",\"\",IF(②選手情報入力!O48=\"\",\"\",2))","v":""},{"$f":"IF(E40=\"\",\"\",IF(②選手情報入力!P48=\"\",\"\",IF(I40=1,種目情報!$J$5,種目情報!$J$7)))","v":""},{"$f":"IF(E40=\"\",\"\",IF(②選手情報入力!P48=\"\",\"\",IF(I40=1,IF(②選手情報入力!$P$5=\"\",\"\",②選手情報入力!$P$5),IF(②選手情報入力!$P$6=\"\",\"\",②選手情報入力!$P$6))))","v":""},{"$f":"IF(E40=\"\",\"\",IF(②選手情報入力!P48=\"\",\"\",0))","v":""},{"$f":"IF(E40=\"\",\"\",IF(②選手情報入力!P48=\"\",\"\",2))","v":""}]
[{"$f":"IF(E41=\"\",\"\",I41*1000000+①学校情報入力!$D$3*1000+②選手情報入力!A49)","v":""},{"$f":"IF(E41=\"\",\"\",①学校情報入力!$D$3)","v":""},null,{"$f":"IF(②選手情報入力!B49=\"\",\"\",②選手情報入力!B49)","v":""},{"$f":"IF(②選手情報入力!C49=\"\",\"\",②選手情報入力!C49)","v":""},{"$f":"IF(E41=\"\",\"\",②選手情報入力!D49)","v":""},{"$f":"IF(E41=\"\",\"\",②選手情報入力!E49)","v":""},"",{"$f":"IF(E41=\"\",\"\",IF(②選手情報入力!G49=\"男\",1,2))","v":""},{"$f":"IF(E41=\"\",\"\",IF(②選手情報入力!H49=\"\",\"\",②選手情報入力!H49))","v":""},null,"","",null,{"$f":"IF(E41=\"\",\"\",IF(②選手情報入力!I49=\"\",\"\",IF(I41=1,VLOOKUP(②選手情報入力!I49,種目情報!$A$4:$B$22,2,FALSE),VLOOKUP(②選手情報入力!I49,種目情報!$E$4:$F$22,2,FALSE))))","v":""},{"$f":"IF(E41=\"\",\"\",IF(②選手情報入力!J49=\"\",\"\",②選手情報入力!J49))","v":""},{"$f":"IF(E41=\"\",\"\",IF(②選手情報入力!I49=\"\",\"\",0))","v":""},{"$f":"IF(E41=\"\",\"\",IF(②選手情報入力!I49=\"\",\"\",IF(I41=1,VLOOKUP(②選手情報入力!I49,種目情報!$A$4:$C$22,3,FALSE),VLOOKUP(②選手情報入力!I49,種目情報!$E$4:$G$22,3,FALSE))))","v":""},{"$f":"IF(E41=\"\",\"\",IF(②選手情報入力!K49=\"\",\"\",IF(I41=1,VLOOKUP(②選手情報入力!K49,種目情報!$A$4:$B$22,2,FALSE),VLOOKUP(②選手情報入力!K49,種目情報!$E$4:$F$22,2,FALSE))))","v":""},{"$f":"IF(E41=\"\",\"\",IF(②選手情報入力!L49=\"\",\"\",②選手情報入力!L49))","v":""},{"$f":"IF(E41=\"\",\"\",IF(②選手情報入力!K49=\"\",\"\",0))","v":""},{"$f":"IF(E41=\"\",\"\",IF(②選手情報入力!K49=\"\",\"\",IF(I41=1,VLOOKUP(②選手情報入力!K49,種目情報!$A$4:$C$22,3,FALSE),VLOOKUP(②選手情報入力!K49,種目情報!$E$4:$G$22,3,FALSE))))","v":""},{"$f":"IF(E41=\"\",\"\",IF(②選手情報入力!M49=\"\",\"\",IF(I41=1,VLOOKUP(②選手情報入力!M49,種目情報!$A$4:$B$22,2,FALSE),VLOOKUP(②選手情報入力!M49,種目情報!$E$4:$F$22,2,FALSE))))","v":""},{"$f":"IF(E41=\"\",\"\",IF(②選手情報入力!N49=\"\",\"\",②選手情報入力!N49))","v":""},{"$f":"IF(E41=\"\",\"\",IF(②選手情報入力!M49=\"\",\"\",0))","v":""},{"$f":"IF(E41=\"\",\"\",IF(②選手情報入力!M49=\"\",\"\",IF(I41=1,VLOOKUP(②選手情報入力!M49,種目情報!$A$4:$C$22,3,FALSE),VLOOKUP(②選手情報入力!M49,種目情報!$E$4:$G$22,3,FALSE))))","v":""},{"$f":"IF(E41=\"\",\"\",IF(②選手情報入力!O49=\"\",\"\",IF(I41=1,種目情報!$J$4,種目情報!$J$6)))","v":""},{"$f":"IF(E41=\"\",\"\",IF(②選手情報入力!O49=\"\",\"\",IF(I41=1,IF(②選手情報入力!$O$5=\"\",\"\",②選手情報入力!$O$5),IF(②選手情報入力!$O$6=\"\",\"\",②選手情報入力!$O$6))))","v":""},{"$f":"IF(E41=\"\",\"\",IF(②選手情報入力!O49=\"\",\"\",0))","v":""},{"$f":"IF(E41=\"\",\"\",IF(②選手情報入力!O49=\"\",\"\",2))","v":""},{"$f":"IF(E41=\"\",\"\",IF(②選手情報入力!P49=\"\",\"\",IF(I41=1,種目情報!$J$5,種目情報!$J$7)))","v":""},{"$f":"IF(E41=\"\",\"\",IF(②選手情報入力!P49=\"\",\"\",IF(I41=1,IF(②選手情報入力!$P$5=\"\",\"\",②選手情報入力!$P$5),IF(②選手情報入力!$P$6=\"\",\"\",②選手情報入力!$P$6))))","v":""},{"$f":"IF(E41=\"\",\"\",IF(②選手情報入力!P49=\"\",\"\",0))","v":""},{"$f":"IF(E41=\"\",\"\",IF(②選手情報入力!P49=\"\",\"\",2))","v":""}]
[{"$f":"IF(E42=\"\",\"\",I42*1000000+①学校情報入力!$D$3*1000+②選手情報入力!A50)","v":""},{"$f":"IF(E42=\"\",\"\",①学校情報入力!$D$3)","v":""},null,{"$f":"IF(②選手情報入力!B50=\"\",\"\",②選手情報入力!B50)","v":""},{"$f":"IF(②選手情報入力!C50=\"\",\"\",②選手情報入力!C50)","v":""},{"$f":"IF(E42=\"\",\"\",②選手情報入力!D50)","v":""},{"$f":"IF(E42=\"\",\"\",②選手情報入力!E50)","v":""},"",{"$f":"IF(E42=\"\",\"\",IF(②選手情報入力!G50=\"男\",1,2))","v":""},{"$f":"IF(E42=\"\",\"\",IF(②選手情報入力!H50=\"\",\"\",②選手情報入力!H50))","v":""},null,"","",null,{"$f":"IF(E42=\"\",\"\",IF(②選手情報入力!I50=\"\",\"\",IF(I42=1,VLOOKUP(②選手情報入力!I50,種目情報!$A$4:$B$22,2,FALSE),VLOOKUP(②選手情報入力!I50,種目情報!$E$4:$F$22,2,FALSE))))","v":""},{"$f":"IF(E42=\"\",\"\",IF(②選手情報入力!J50=\"\",\"\",②選手情報入力!J50))","v":""},{"$f":"IF(E42=\"\",\"\",IF(②選手情報入力!I50=\"\",\"\",0))","v":""},{"$f":"IF(E42=\"\",\"\",IF(②選手情報入力!I50=\"\",\"\",IF(I42=1,VLOOKUP(②選手情報入力!I50,種目情報!$A$4:$C$22,3,FALSE),VLOOKUP(②選手情報入力!I50,種目情報!$E$4:$G$22,3,FALSE))))","v":""},{"$f":"IF(E42=\"\",\"\",IF(②選手情報入力!K50=\"\",\"\",IF(I42=1,VLOOKUP(②選手情報入力!K50,種目情報!$A$4:$B$22,2,FALSE),VLOOKUP(②選手情報入力!K50,種目情報!$E$4:$F$22,2,FALSE))))","v":""},{"$f":"IF(E42=\"\",\"\",IF(②選手情報入力!L50=\"\",\"\",②選手情報入力!L50))","v":""},{"$f":"IF(E42=\"\",\"\",IF(②選手情報入力!K50=\"\",\"\",0))","v":""},{"$f":"IF(E42=\"\",\"\",IF(②選手情報入力!K50=\"\",\"\",IF(I42=1,VLOOKUP(②選手情報入力!K50,種目情報!$A$4:$C$22,3,FALSE),VLOOKUP(②選手情報入力!K50,種目情報!$E$4:$G$22,3,FALSE))))","v":""},{"$f":"IF(E42=\"\",\"\",IF(②選手情報入力!M50=\"\",\"\",IF(I42=1,VLOOKUP(②選手情報入力!M50,種目情報!$A$4:$B$22,2,FALSE),VLOOKUP(②選手情報入力!M50,種目情報!$E$4:$F$22,2,FALSE))))","v":""},{"$f":"IF(E42=\"\",\"\",IF(②選手情報入力!N50=\"\",\"\",②選手情報入力!N50))","v":""},{"$f":"IF(E42=\"\",\"\",IF(②選手情報入力!M50=\"\",\"\",0))","v":""},{"$f":"IF(E42=\"\",\"\",IF(②選手情報入力!M50=\"\",\"\",IF(I42=1,VLOOKUP(②選手情報入力!M50,種目情報!$A$4:$C$22,3,FALSE),VLOOKUP(②選手情報入力!M50,種目情報!$E$4:$G$22,3,FALSE))))","v":""},{"$f":"IF(E42=\"\",\"\",IF(②選手情報入力!O50=\"\",\"\",IF(I42=1,種目情報!$J$4,種目情報!$J$6)))","v":""},{"$f":"IF(E42=\"\",\"\",IF(②選手情報入力!O50=\"\",\"\",IF(I42=1,IF(②選手情報入力!$O$5=\"\",\"\",②選手情報入力!$O$5),IF(②選手情報入力!$O$6=\"\",\"\",②選手情報入力!$O$6))))","v":""},{"$f":"IF(E42=\"\",\"\",IF(②選手情報入力!O50=\"\",\"\",0))","v":""},{"$f":"IF(E42=\"\",\"\",IF(②選手情報入力!O50=\"\",\"\",2))","v":""},{"$f":"IF(E42=\"\",\"\",IF(②選手情報入力!P50=\"\",\"\",IF(I42=1,種目情報!$J$5,種目情報!$J$7)))","v":""},{"$f":"IF(E42=\"\",\"\",IF(②選手情報入力!P50=\"\",\"\",IF(I42=1,IF(②選手情報入力!$P$5=\"\",\"\",②選手情報入力!$P$5),IF(②選手情報入力!$P$6=\"\",\"\",②選手情報入力!$P$6))))","v":""},{"$f":"IF(E42=\"\",\"\",IF(②選手情報入力!P50=\"\",\"\",0))","v":""},{"$f":"IF(E42=\"\",\"\",IF(②選手情報入力!P50=\"\",\"\",2))","v":""}]
[{"$f":"IF(E43=\"\",\"\",I43*1000000+①学校情報入力!$D$3*1000+②選手情報入力!A51)","v":""},{"$f":"IF(E43=\"\",\"\",①学校情報入力!$D$3)","v":""},null,{"$f":"IF(②選手情報入力!B51=\"\",\"\",②選手情報入力!B51)","v":""},{"$f":"IF(②選手情報入力!C51=\"\",\"\",②選手情報入力!C51)","v":""},{"$f":"IF(E43=\"\",\"\",②選手情報入力!D51)","v":""},{"$f":"IF(E43=\"\",\"\",②選手情報入力!E51)","v":""},"",{"$f":"IF(E43=\"\",\"\",IF(②選手情報入力!G51=\"男\",1,2))","v":""},{"$f":"IF(E43=\"\",\"\",IF(②選手情報入力!H51=\"\",\"\",②選手情報入力!H51))","v":""},null,"","",null,{"$f":"IF(E43=\"\",\"\",IF(②選手情報入力!I51=\"\",\"\",IF(I43=1,VLOOKUP(②選手情報入力!I51,種目情報!$A$4:$B$22,2,FALSE),VLOOKUP(②選手情報入力!I51,種目情報!$E$4:$F$22,2,FALSE))))","v":""},{"$f":"IF(E43=\"\",\"\",IF(②選手情報入力!J51=\"\",\"\",②選手情報入力!J51))","v":""},{"$f":"IF(E43=\"\",\"\",IF(②選手情報入力!I51=\"\",\"\",0))","v":""},{"$f":"IF(E43=\"\",\"\",IF(②選手情報入力!I51=\"\",\"\",IF(I43=1,VLOOKUP(②選手情報入力!I51,種目情報!$A$4:$C$22,3,FALSE),VLOOKUP(②選手情報入力!I51,種目情報!$E$4:$G$22,3,FALSE))))","v":""},{"$f":"IF(E43=\"\",\"\",IF(②選手情報入力!K51=\"\",\"\",IF(I43=1,VLOOKUP(②選手情報入力!K51,種目情報!$A$4:$B$22,2,FALSE),VLOOKUP(②選手情報入力!K51,種目情報!$E$4:$F$22,2,FALSE))))","v":""},{"$f":"IF(E43=\"\",\"\",IF(②選手情報入力!L51=\"\",\"\",②選手情報入力!L51))","v":""},{"$f":"IF(E43=\"\",\"\",IF(②選手情報入力!K51=\"\",\"\",0))","v":""},{"$f":"IF(E43=\"\",\"\",IF(②選手情報入力!K51=\"\",\"\",IF(I43=1,VLOOKUP(②選手情報入力!K51,種目情報!$A$4:$C$22,3,FALSE),VLOOKUP(②選手情報入力!K51,種目情報!$E$4:$G$22,3,FALSE))))","v":""},{"$f":"IF(E43=\"\",\"\",IF(②選手情報入力!M51=\"\",\"\",IF(I43=1,VLOOKUP(②選手情報入力!M51,種目情報!$A$4:$B$22,2,FALSE),VLOOKUP(②選手情報入力!M51,種目情報!$E$4:$F$22,2,FALSE))))","v":""},{"$f":"IF(E43=\"\",\"\",IF(②選手情報入力!N51=\"\",\"\",②選手情報入力!N51))","v":""},{"$f":"IF(E43=\"\",\"\",IF(②選手情報入力!M51=\"\",\"\",0))","v":""},{"$f":"IF(E43=\"\",\"\",IF(②選手情報入力!M51=\"\",\"\",IF(I43=1,VLOOKUP(②選手情報入力!M51,種目情報!$A$4:$C$22,3,FALSE),VLOOKUP(②選手情報入力!M51,種目情報!$E$4:$G$22,3,FALSE))))","v":""},{"$f":"IF(E43=\"\",\"\",IF(②選手情報入力!O51=\"\",\"\",IF(I43=1,種目情報!$J$4,種目情報!$J$6)))","v":""},{"$f":"IF(E43=\"\",\"\",IF(②選手情報入力!O51=\"\",\"\",IF(I43=1,IF(②選手情報入力!$O$5=\"\",\"\",②選手情報入力!$O$5),IF(②選手情報入力!$O$6=\"\",\"\",②選手情報入力!$O$6))))","v":""},{"$f":"IF(E43=\"\",\"\",IF(②選手情報入力!O51=\"\",\"\",0))","v":""},{"$f":"IF(E43=\"\",\"\",IF(②選手情報入力!O51=\"\",\"\",2))","v":""},{"$f":"IF(E43=\"\",\"\",IF(②選手情報入力!P51=\"\",\"\",IF(I43=1,種目情報!$J$5,種目情報!$J$7)))","v":""},{"$f":"IF(E43=\"\",\"\",IF(②選手情報入力!P51=\"\",\"\",IF(I43=1,IF(②選手情報入力!$P$5=\"\",\"\",②選手情報入力!$P$5),IF(②選手情報入力!$P$6=\"\",\"\",②選手情報入力!$P$6))))","v":""},{"$f":"IF(E43=\"\",\"\",IF(②選手情報入力!P51=\"\",\"\",0))","v":""},{"$f":"IF(E43=\"\",\"\",IF(②選手情報入力!P51=\"\",\"\",2))","v":""}]
[{"$f":"IF(E44=\"\",\"\",I44*1000000+①学校情報入力!$D$3*1000+②選手情報入力!A52)","v":""},{"$f":"IF(E44=\"\",\"\",①学校情報入力!$D$3)","v":""},null,{"$f":"IF(②選手情報入力!B52=\"\",\"\",②選手情報入力!B52)","v":""},{"$f":"IF(②選手情報入力!C52=\"\",\"\",②選手情報入力!C52)","v":""},{"$f":"IF(E44=\"\",\"\",②選手情報入力!D52)","v":""},{"$f":"IF(E44=\"\",\"\",②選手情報入力!E52)","v":""},"",{"$f":"IF(E44=\"\",\"\",IF(②選手情報入力!G52=\"男\",1,2))","v":""},{"$f":"IF(E44=\"\",\"\",IF(②選手情報入力!H52=\"\",\"\",②選手情報入力!H52))","v":""},null,"","",null,{"$f":"IF(E44=\"\",\"\",IF(②選手情報入力!I52=\"\",\"\",IF(I44=1,VLOOKUP(②選手情報入力!I52,種目情報!$A$4:$B$22,2,FALSE),VLOOKUP(②選手情報入力!I52,種目情報!$E$4:$F$22,2,FALSE))))","v":""},{"$f":"IF(E44=\"\",\"\",IF(②選手情報入力!J52=\"\",\"\",②選手情報入力!J52))","v":""},{"$f":"IF(E44=\"\",\"\",IF(②選手情報入力!I52=\"\",\"\",0))","v":""},{"$f":"IF(E44=\"\",\"\",IF(②選手情報入力!I52=\"\",\"\",IF(I44=1,VLOOKUP(②選手情報入力!I52,種目情報!$A$4:$C$22,3,FALSE),VLOOKUP(②選手情報入力!I52,種目情報!$E$4:$G$22,3,FALSE))))","v":""},{"$f":"IF(E44=\"\",\"\",IF(②選手情報入力!K52=\"\",\"\",IF(I44=1,VLOOKUP(②選手情報入力!K52,種目情報!$A$4:$B$22,2,FALSE),VLOOKUP(②選手情報入力!K52,種目情報!$E$4:$F$22,2,FALSE))))","v":""},{"$f":"IF(E44=\"\",\"\",IF(②選手情報入力!L52=\"\",\"\",②選手情報入力!L52))","v":""},{"$f":"IF(E44=\"\",\"\",IF(②選手情報入力!K52=\"\",\"\",0))","v":""},{"$f":"IF(E44=\"\",\"\",IF(②選手情報入力!K52=\"\",\"\",IF(I44=1,VLOOKUP(②選手情報入力!K52,種目情報!$A$4:$C$22,3,FALSE),VLOOKUP(②選手情報入力!K52,種目情報!$E$4:$G$22,3,FALSE))))","v":""},{"$f":"IF(E44=\"\",\"\",IF(②選手情報入力!M52=\"\",\"\",IF(I44=1,VLOOKUP(②選手情報入力!M52,種目情報!$A$4:$B$22,2,FALSE),VLOOKUP(②選手情報入力!M52,種目情報!$E$4:$F$22,2,FALSE))))","v":""},{"$f":"IF(E44=\"\",\"\",IF(②選手情報入力!N52=\"\",\"\",②選手情報入力!N52))","v":""},{"$f":"IF(E44=\"\",\"\",IF(②選手情報入力!M52=\"\",\"\",0))","v":""},{"$f":"IF(E44=\"\",\"\",IF(②選手情報入力!M52=\"\",\"\",IF(I44=1,VLOOKUP(②選手情報入力!M52,種目情報!$A$4:$C$22,3,FALSE),VLOOKUP(②選手情報入力!M52,種目情報!$E$4:$G$22,3,FALSE))))","v":""},{"$f":"IF(E44=\"\",\"\",IF(②選手情報入力!O52=\"\",\"\",IF(I44=1,種目情報!$J$4,種目情報!$J$6)))","v":""},{"$f":"IF(E44=\"\",\"\",IF(②選手情報入力!O52=\"\",\"\",IF(I44=1,IF(②選手情報入力!$O$5=\"\",\"\",②選手情報入力!$O$5),IF(②選手情報入力!$O$6=\"\",\"\",②選手情報入力!$O$6))))","v":""},{"$f":"IF(E44=\"\",\"\",IF(②選手情報入力!O52=\"\",\"\",0))","v":""},{"$f":"IF(E44=\"\",\"\",IF(②選手情報入力!O52=\"\",\"\",2))","v":""},{"$f":"IF(E44=\"\",\"\",IF(②選手情報入力!P52=\"\",\"\",IF(I44=1,種目情報!$J$5,種目情報!$J$7)))","v":""},{"$f":"IF(E44=\"\",\"\",IF(②選手情報入力!P52=\"\",\"\",IF(I44=1,IF(②選手情報入力!$P$5=\"\",\"\",②選手情報入力!$P$5),IF(②選手情報入力!$P$6=\"\",\"\",②選手情報入力!$P$6))))","v":""},{"$f":"IF(E44=\"\",\"\",IF(②選手情報入力!P52=\"\",\"\",0))","v":""},{"$f":"IF(E44=\"\",\"\",IF(②選手情報入力!P52=\"\",\"\",2))","v":""}]
[{"$f":"IF(E45=\"\",\"\",I45*1000000+①学校情報入力!$D$3*1000+②選手情報入力!A53)","v":""},{"$f":"IF(E45=\"\",\"\",①学校情報入力!$D$3)","v":""},null,{"$f":"IF(②選手情報入力!B53=\"\",\"\",②選手情報入力!B53)","v":""},{"$f":"IF(②選手情報入力!C53=\"\",\"\",②選手情報入力!C53)","v":""},{"$f":"IF(E45=\"\",\"\",②選手情報入力!D53)","v":""},{"$f":"IF(E45=\"\",\"\",②選手情報入力!E53)","v":""},"",{"$f":"IF(E45=\"\",\"\",IF(②選手情報入力!G53=\"男\",1,2))","v":""},{"$f":"IF(E45=\"\",\"\",IF(②選手情報入力!H53=\"\",\"\",②選手情報入力!H53))","v":""},null,"","",null,{"$f":"IF(E45=\"\",\"\",IF(②選手情報入力!I53=\"\",\"\",IF(I45=1,VLOOKUP(②選手情報入力!I53,種目情報!$A$4:$B$22,2,FALSE),VLOOKUP(②選手情報入力!I53,種目情報!$E$4:$F$22,2,FALSE))))","v":""},{"$f":"IF(E45=\"\",\"\",IF(②選手情報入力!J53=\"\",\"\",②選手情報入力!J53))","v":""},{"$f":"IF(E45=\"\",\"\",IF(②選手情報入力!I53=\"\",\"\",0))","v":""},{"$f":"IF(E45=\"\",\"\",IF(②選手情報入力!I53=\"\",\"\",IF(I45=1,VLOOKUP(②選手情報入力!I53,種目情報!$A$4:$C$22,3,FALSE),VLOOKUP(②選手情報入力!I53,種目情報!$E$4:$G$22,3,FALSE))))","v":""},{"$f":"IF(E45=\"\",\"\",IF(②選手情報入力!K53=\"\",\"\",IF(I45=1,VLOOKUP(②選手情報入力!K53,種目情報!$A$4:$B$22,2,FALSE),VLOOKUP(②選手情報入力!K53,種目情報!$E$4:$F$22,2,FALSE))))","v":""},{"$f":"IF(E45=\"\",\"\",IF(②選手情報入力!L53=\"\",\"\",②選手情報入力!L53))","v":""},{"$f":"IF(E45=\"\",\"\",IF(②選手情報入力!K53=\"\",\"\",0))","v":""},{"$f":"IF(E45=\"\",\"\",IF(②選手情報入力!K53=\"\",\"\",IF(I45=1,VLOOKUP(②選手情報入力!K53,種目情報!$A$4:$C$22,3,FALSE),VLOOKUP(②選手情報入力!K53,種目情報!$E$4:$G$22,3,FALSE))))","v":""},{"$f":"IF(E45=\"\",\"\",IF(②選手情報入力!M53=\"\",\"\",IF(I45=1,VLOOKUP(②選手情報入力!M53,種目情報!$A$4:$B$22,2,FALSE),VLOOKUP(②選手情報入力!M53,種目情報!$E$4:$F$22,2,FALSE))))","v":""},{"$f":"IF(E45=\"\",\"\",IF(②選手情報入力!N53=\"\",\"\",②選手情報入力!N53))","v":""},{"$f":"IF(E45=\"\",\"\",IF(②選手情報入力!M53=\"\",\"\",0))","v":""},{"$f":"IF(E45=\"\",\"\",IF(②選手情報入力!M53=\"\",\"\",IF(I45=1,VLOOKUP(②選手情報入力!M53,種目情報!$A$4:$C$22,3,FALSE),VLOOKUP(②選手情報入力!M53,種目情報!$E$4:$G$22,3,FALSE))))","v":""},{"$f":"IF(E45=\"\",\"\",IF(②選手情報入力!O53=\"\",\"\",IF(I45=1,種目情報!$J$4,種目情報!$J$6)))","v":""},{"$f":"IF(E45=\"\",\"\",IF(②選手情報入力!O53=\"\",\"\",IF(I45=1,IF(②選手情報入力!$O$5=\"\",\"\",②選手情報入力!$O$5),IF(②選手情報入力!$O$6=\"\",\"\",②選手情報入力!$O$6))))","v":""},{"$f":"IF(E45=\"\",\"\",IF(②選手情報入力!O53=\"\",\"\",0))","v":""},{"$f":"IF(E45=\"\",\"\",IF(②選手情報入力!O53=\"\",\"\",2))","v":""},{"$f":"IF(E45=\"\",\"\",IF(②選手情報入力!P53=\"\",\"\",IF(I45=1,種目情報!$J$5,種目情報!$J$7)))","v":""},{"$f":"IF(E45=\"\",\"\",IF(②選手情報入力!P53=\"\",\"\",IF(I45=1,IF(②選手情報入力!$P$5=\"\",\"\",②選手情報入力!$P$5),IF(②選手情報入力!$P$6=\"\",\"\",②選手情報入力!$P$6))))","v":""},{"$f":"IF(E45=\"\",\"\",IF(②選手情報入力!P53=\"\",\"\",0))","v":""},{"$f":"IF(E45=\"\",\"\",IF(②選手情報入力!P53=\"\",\"\",2))","v":""}]
[{"$f":"IF(E46=\"\",\"\",I46*1000000+①学校情報入力!$D$3*1000+②選手情報入力!A54)","v":""},{"$f":"IF(E46=\"\",\"\",①学校情報入力!$D$3)","v":""},null,{"$f":"IF(②選手情報入力!B54=\"\",\"\",②選手情報入力!B54)","v":""},{"$f":"IF(②選手情報入力!C54=\"\",\"\",②選手情報入力!C54)","v":""},{"$f":"IF(E46=\"\",\"\",②選手情報入力!D54)","v":""},{"$f":"IF(E46=\"\",\"\",②選手情報入力!E54)","v":""},"",{"$f":"IF(E46=\"\",\"\",IF(②選手情報入力!G54=\"男\",1,2))","v":""},{"$f":"IF(E46=\"\",\"\",IF(②選手情報入力!H54=\"\",\"\",②選手情報入力!H54))","v":""},null,"","",null,{"$f":"IF(E46=\"\",\"\",IF(②選手情報入力!I54=\"\",\"\",IF(I46=1,VLOOKUP(②選手情報入力!I54,種目情報!$A$4:$B$22,2,FALSE),VLOOKUP(②選手情報入力!I54,種目情報!$E$4:$F$22,2,FALSE))))","v":""},{"$f":"IF(E46=\"\",\"\",IF(②選手情報入力!J54=\"\",\"\",②選手情報入力!J54))","v":""},{"$f":"IF(E46=\"\",\"\",IF(②選手情報入力!I54=\"\",\"\",0))","v":""},{"$f":"IF(E46=\"\",\"\",IF(②選手情報入力!I54=\"\",\"\",IF(I46=1,VLOOKUP(②選手情報入力!I54,種目情報!$A$4:$C$22,3,FALSE),VLOOKUP(②選手情報入力!I54,種目情報!$E$4:$G$22,3,FALSE))))","v":""},{"$f":"IF(E46=\"\",\"\",IF(②選手情報入力!K54=\"\",\"\",IF(I46=1,VLOOKUP(②選手情報入力!K54,種目情報!$A$4:$B$22,2,FALSE),VLOOKUP(②選手情報入力!K54,種目情報!$E$4:$F$22,2,FALSE))))","v":""},{"$f":"IF(E46=\"\",\"\",IF(②選手情報入力!L54=\"\",\"\",②選手情報入力!L54))","v":""},{"$f":"IF(E46=\"\",\"\",IF(②選手情報入力!K54=\"\",\"\",0))","v":""},{"$f":"IF(E46=\"\",\"\",IF(②選手情報入力!K54=\"\",\"\",IF(I46=1,VLOOKUP(②選手情報入力!K54,種目情報!$A$4:$C$22,3,FALSE),VLOOKUP(②選手情報入力!K54,種目情報!$E$4:$G$22,3,FALSE))))","v":""},{"$f":"IF(E46=\"\",\"\",IF(②選手情報入力!M54=\"\",\"\",IF(I46=1,VLOOKUP(②選手情報入力!M54,種目情報!$A$4:$B$22,2,FALSE),VLOOKUP(②選手情報入力!M54,種目情報!$E$4:$F$22,2,FALSE))))","v":""},{"$f":"IF(E46=\"\",\"\",IF(②選手情報入力!N54=\"\",\"\",②選手情報入力!N54))","v":""},{"$f":"IF(E46=\"\",\"\",IF(②選手情報入力!M54=\"\",\"\",0))","v":""},{"$f":"IF(E46=\"\",\"\",IF(②選手情報入力!M54=\"\",\"\",IF(I46=1,VLOOKUP(②選手情報入力!M54,種目情報!$A$4:$C$22,3,FALSE),VLOOKUP(②選手情報入力!M54,種目情報!$E$4:$G$22,3,FALSE))))","v":""},{"$f":"IF(E46=\"\",\"\",IF(②選手情報入力!O54=\"\",\"\",IF(I46=1,種目情報!$J$4,種目情報!$J$6)))","v":""},{"$f":"IF(E46=\"\",\"\",IF(②選手情報入力!O54=\"\",\"\",IF(I46=1,IF(②選手情報入力!$O$5=\"\",\"\",②選手情報入力!$O$5),IF(②選手情報入力!$O$6=\"\",\"\",②選手情報入力!$O$6))))","v":""},{"$f":"IF(E46=\"\",\"\",IF(②選手情報入力!O54=\"\",\"\",0))","v":""},{"$f":"IF(E46=\"\",\"\",IF(②選手情報入力!O54=\"\",\"\",2))","v":""},{"$f":"IF(E46=\"\",\"\",IF(②選手情報入力!P54=\"\",\"\",IF(I46=1,種目情報!$J$5,種目情報!$J$7)))","v":""},{"$f":"IF(E46=\"\",\"\",IF(②選手情報入力!P54=\"\",\"\",IF(I46=1,IF(②選手情報入力!$P$5=\"\",\"\",②選手情報入力!$P$5),IF(②選手情報入力!$P$6=\"\",\"\",②選手情報入力!$P$6))))","v":""},{"$f":"IF(E46=\"\",\"\",IF(②選手情報入力!P54=\"\",\"\",0))","v":""},{"$f":"IF(E46=\"\",\"\",IF(②選手情報入力!P54=\"\",\"\",2))","v":""}]
[{"$f":"IF(E47=\"\",\"\",I47*1000000+①学校情報入力!$D$3*1000+②選手情報入力!A55)","v":""},{"$f":"IF(E47=\"\",\"\",①学校情報入力!$D$3)","v":""},null,{"$f":"IF(②選手情報入力!B55=\"\",\"\",②選手情報入力!B55)","v":""},{"$f":"IF(②選手情報入力!C55=\"\",\"\",②選手情報入力!C55)","v":""},{"$f":"IF(E47=\"\",\"\",②選手情報入力!D55)","v":""},{"$f":"IF(E47=\"\",\"\",②選手情報入力!E55)","v":""},"",{"$f":"IF(E47=\"\",\"\",IF(②選手情報入力!G55=\"男\",1,2))","v":""},{"$f":"IF(E47=\"\",\"\",IF(②選手情報入力!H55=\"\",\"\",②選手情報入力!H55))","v":""},null,"","",null,{"$f":"IF(E47=\"\",\"\",IF(②選手情報入力!I55=\"\",\"\",IF(I47=1,VLOOKUP(②選手情報入力!I55,種目情報!$A$4:$B$22,2,FALSE),VLOOKUP(②選手情報入力!I55,種目情報!$E$4:$F$22,2,FALSE))))","v":""},{"$f":"IF(E47=\"\",\"\",IF(②選手情報入力!J55=\"\",\"\",②選手情報入力!J55))","v":""},{"$f":"IF(E47=\"\",\"\",IF(②選手情報入力!I55=\"\",\"\",0))","v":""},{"$f":"IF(E47=\"\",\"\",IF(②選手情報入力!I55=\"\",\"\",IF(I47=1,VLOOKUP(②選手情報入力!I55,種目情報!$A$4:$C$22,3,FALSE),VLOOKUP(②選手情報入力!I55,種目情報!$E$4:$G$22,3,FALSE))))","v":""},{"$f":"IF(E47=\"\",\"\",IF(②選手情報入力!K55=\"\",\"\",IF(I47=1,VLOOKUP(②選手情報入力!K55,種目情報!$A$4:$B$22,2,FALSE),VLOOKUP(②選手情報入力!K55,種目情報!$E$4:$F$22,2,FALSE))))","v":""},{"$f":"IF(E47=\"\",\"\",IF(②選手情報入力!L55=\"\",\"\",②選手情報入力!L55))","v":""},{"$f":"IF(E47=\"\",\"\",IF(②選手情報入力!K55=\"\",\"\",0))","v":""},{"$f":"IF(E47=\"\",\"\",IF(②選手情報入力!K55=\"\",\"\",IF(I47=1,VLOOKUP(②選手情報入力!K55,種目情報!$A$4:$C$22,3,FALSE),VLOOKUP(②選手情報入力!K55,種目情報!$E$4:$G$22,3,FALSE))))","v":""},{"$f":"IF(E47=\"\",\"\",IF(②選手情報入力!M55=\"\",\"\",IF(I47=1,VLOOKUP(②選手情報入力!M55,種目情報!$A$4:$B$22,2,FALSE),VLOOKUP(②選手情報入力!M55,種目情報!$E$4:$F$22,2,FALSE))))","v":""},{"$f":"IF(E47=\"\",\"\",IF(②選手情報入力!N55=\"\",\"\",②選手情報入力!N55))","v":""},{"$f":"IF(E47=\"\",\"\",IF(②選手情報入力!M55=\"\",\"\",0))","v":""},{"$f":"IF(E47=\"\",\"\",IF(②選手情報入力!M55=\"\",\"\",IF(I47=1,VLOOKUP(②選手情報入力!M55,種目情報!$A$4:$C$22,3,FALSE),VLOOKUP(②選手情報入力!M55,種目情報!$E$4:$G$22,3,FALSE))))","v":""},{"$f":"IF(E47=\"\",\"\",IF(②選手情報入力!O55=\"\",\"\",IF(I47=1,種目情報!$J$4,種目情報!$J$6)))","v":""},{"$f":"IF(E47=\"\",\"\",IF(②選手情報入力!O55=\"\",\"\",IF(I47=1,IF(②選手情報入力!$O$5=\"\",\"\",②選手情報入力!$O$5),IF(②選手情報入力!$O$6=\"\",\"\",②選手情報入力!$O$6))))","v":""},{"$f":"IF(E47=\"\",\"\",IF(②選手情報入力!O55=\"\",\"\",0))","v":""},{"$f":"IF(E47=\"\",\"\",IF(②選手情報入力!O55=\"\",\"\",2))","v":""},{"$f":"IF(E47=\"\",\"\",IF(②選手情報入力!P55=\"\",\"\",IF(I47=1,種目情報!$J$5,種目情報!$J$7)))","v":""},{"$f":"IF(E47=\"\",\"\",IF(②選手情報入力!P55=\"\",\"\",IF(I47=1,IF(②選手情報入力!$P$5=\"\",\"\",②選手情報入力!$P$5),IF(②選手情報入力!$P$6=\"\",\"\",②選手情報入力!$P$6))))","v":""},{"$f":"IF(E47=\"\",\"\",IF(②選手情報入力!P55=\"\",\"\",0))","v":""},{"$f":"IF(E47=\"\",\"\",IF(②選手情報入力!P55=\"\",\"\",2))","v":""}]
[{"$f":"IF(E48=\"\",\"\",I48*1000000+①学校情報入力!$D$3*1000+②選手情報入力!A56)","v":""},{"$f":"IF(E48=\"\",\"\",①学校情報入力!$D$3)","v":""},null,{"$f":"IF(②選手情報入力!B56=\"\",\"\",②選手情報入力!B56)","v":""},{"$f":"IF(②選手情報入力!C56=\"\",\"\",②選手情報入力!C56)","v":""},{"$f":"IF(E48=\"\",\"\",②選手情報入力!D56)","v":""},{"$f":"IF(E48=\"\",\"\",②選手情報入力!E56)","v":""},"",{"$f":"IF(E48=\"\",\"\",IF(②選手情報入力!G56=\"男\",1,2))","v":""},{"$f":"IF(E48=\"\",\"\",IF(②選手情報入力!H56=\"\",\"\",②選手情報入力!H56))","v":""},null,"","",null,{"$f":"IF(E48=\"\",\"\",IF(②選手情報入力!I56=\"\",\"\",IF(I48=1,VLOOKUP(②選手情報入力!I56,種目情報!$A$4:$B$22,2,FALSE),VLOOKUP(②選手情報入力!I56,種目情報!$E$4:$F$22,2,FALSE))))","v":""},{"$f":"IF(E48=\"\",\"\",IF(②選手情報入力!J56=\"\",\"\",②選手情報入力!J56))","v":""},{"$f":"IF(E48=\"\",\"\",IF(②選手情報入力!I56=\"\",\"\",0))","v":""},{"$f":"IF(E48=\"\",\"\",IF(②選手情報入力!I56=\"\",\"\",IF(I48=1,VLOOKUP(②選手情報入力!I56,種目情報!$A$4:$C$22,3,FALSE),VLOOKUP(②選手情報入力!I56,種目情報!$E$4:$G$22,3,FALSE))))","v":""},{"$f":"IF(E48=\"\",\"\",IF(②選手情報入力!K56=\"\",\"\",IF(I48=1,VLOOKUP(②選手情報入力!K56,種目情報!$A$4:$B$22,2,FALSE),VLOOKUP(②選手情報入力!K56,種目情報!$E$4:$F$22,2,FALSE))))","v":""},{"$f":"IF(E48=\"\",\"\",IF(②選手情報入力!L56=\"\",\"\",②選手情報入力!L56))","v":""},{"$f":"IF(E48=\"\",\"\",IF(②選手情報入力!K56=\"\",\"\",0))","v":""},{"$f":"IF(E48=\"\",\"\",IF(②選手情報入力!K56=\"\",\"\",IF(I48=1,VLOOKUP(②選手情報入力!K56,種目情報!$A$4:$C$22,3,FALSE),VLOOKUP(②選手情報入力!K56,種目情報!$E$4:$G$22,3,FALSE))))","v":""},{"$f":"IF(E48=\"\",\"\",IF(②選手情報入力!M56=\"\",\"\",IF(I48=1,VLOOKUP(②選手情報入力!M56,種目情報!$A$4:$B$22,2,FALSE),VLOOKUP(②選手情報入力!M56,種目情報!$E$4:$F$22,2,FALSE))))","v":""},{"$f":"IF(E48=\"\",\"\",IF(②選手情報入力!N56=\"\",\"\",②選手情報入力!N56))","v":""},{"$f":"IF(E48=\"\",\"\",IF(②選手情報入力!M56=\"\",\"\",0))","v":""},{"$f":"IF(E48=\"\",\"\",IF(②選手情報入力!M56=\"\",\"\",IF(I48=1,VLOOKUP(②選手情報入力!M56,種目情報!$A$4:$C$22,3,FALSE),VLOOKUP(②選手情報入力!M56,種目情報!$E$4:$G$22,3,FALSE))))","v":""},{"$f":"IF(E48=\"\",\"\",IF(②選手情報入力!O56=\"\",\"\",IF(I48=1,種目情報!$J$4,種目情報!$J$6)))","v":""},{"$f":"IF(E48=\"\",\"\",IF(②選手情報入力!O56=\"\",\"\",IF(I48=1,IF(②選手情報入力!$O$5=\"\",\"\",②選手情報入力!$O$5),IF(②選手情報入力!$O$6=\"\",\"\",②選手情報入力!$O$6))))","v":""},{"$f":"IF(E48=\"\",\"\",IF(②選手情報入力!O56=\"\",\"\",0))","v":""},{"$f":"IF(E48=\"\",\"\",IF(②選手情報入力!O56=\"\",\"\",2))","v":""},{"$f":"IF(E48=\"\",\"\",IF(②選手情報入力!P56=\"\",\"\",IF(I48=1,種目情報!$J$5,種目情報!$J$7)))","v":""},{"$f":"IF(E48=\"\",\"\",IF(②選手情報入力!P56=\"\",\"\",IF(I48=1,IF(②選手情報入力!$P$5=\"\",\"\",②選手情報入力!$P$5),IF(②選手情報入力!$P$6=\"\",\"\",②選手情報入力!$P$6))))","v":""},{"$f":"IF(E48=\"\",\"\",IF(②選手情報入力!P56=\"\",\"\",0))","v":""},{"$f":"IF(E48=\"\",\"\",IF(②選手情報入力!P56=\"\",\"\",2))","v":""}]
[{"$f":"IF(E49=\"\",\"\",I49*1000000+①学校情報入力!$D$3*1000+②選手情報入力!A57)","v":""},{"$f":"IF(E49=\"\",\"\",①学校情報入力!$D$3)","v":""},null,{"$f":"IF(②選手情報入力!B57=\"\",\"\",②選手情報入力!B57)","v":""},{"$f":"IF(②選手情報入力!C57=\"\",\"\",②選手情報入力!C57)","v":""},{"$f":"IF(E49=\"\",\"\",②選手情報入力!D57)","v":""},{"$f":"IF(E49=\"\",\"\",②選手情報入力!E57)","v":""},"",{"$f":"IF(E49=\"\",\"\",IF(②選手情報入力!G57=\"男\",1,2))","v":""},{"$f":"IF(E49=\"\",\"\",IF(②選手情報入力!H57=\"\",\"\",②選手情報入力!H57))","v":""},null,"","",null,{"$f":"IF(E49=\"\",\"\",IF(②選手情報入力!I57=\"\",\"\",IF(I49=1,VLOOKUP(②選手情報入力!I57,種目情報!$A$4:$B$22,2,FALSE),VLOOKUP(②選手情報入力!I57,種目情報!$E$4:$F$22,2,FALSE))))","v":""},{"$f":"IF(E49=\"\",\"\",IF(②選手情報入力!J57=\"\",\"\",②選手情報入力!J57))","v":""},{"$f":"IF(E49=\"\",\"\",IF(②選手情報入力!I57=\"\",\"\",0))","v":""},{"$f":"IF(E49=\"\",\"\",IF(②選手情報入力!I57=\"\",\"\",IF(I49=1,VLOOKUP(②選手情報入力!I57,種目情報!$A$4:$C$22,3,FALSE),VLOOKUP(②選手情報入力!I57,種目情報!$E$4:$G$22,3,FALSE))))","v":""},{"$f":"IF(E49=\"\",\"\",IF(②選手情報入力!K57=\"\",\"\",IF(I49=1,VLOOKUP(②選手情報入力!K57,種目情報!$A$4:$B$22,2,FALSE),VLOOKUP(②選手情報入力!K57,種目情報!$E$4:$F$22,2,FALSE))))","v":""},{"$f":"IF(E49=\"\",\"\",IF(②選手情報入力!L57=\"\",\"\",②選手情報入力!L57))","v":""},{"$f":"IF(E49=\"\",\"\",IF(②選手情報入力!K57=\"\",\"\",0))","v":""},{"$f":"IF(E49=\"\",\"\",IF(②選手情報入力!K57=\"\",\"\",IF(I49=1,VLOOKUP(②選手情報入力!K57,種目情報!$A$4:$C$22,3,FALSE),VLOOKUP(②選手情報入力!K57,種目情報!$E$4:$G$22,3,FALSE))))","v":""},{"$f":"IF(E49=\"\",\"\",IF(②選手情報入力!M57=\"\",\"\",IF(I49=1,VLOOKUP(②選手情報入力!M57,種目情報!$A$4:$B$22,2,FALSE),VLOOKUP(②選手情報入力!M57,種目情報!$E$4:$F$22,2,FALSE))))","v":""},{"$f":"IF(E49=\"\",\"\",IF(②選手情報入力!N57=\"\",\"\",②選手情報入力!N57))","v":""},{"$f":"IF(E49=\"\",\"\",IF(②選手情報入力!M57=\"\",\"\",0))","v":""},{"$f":"IF(E49=\"\",\"\",IF(②選手情報入力!M57=\"\",\"\",IF(I49=1,VLOOKUP(②選手情報入力!M57,種目情報!$A$4:$C$22,3,FALSE),VLOOKUP(②選手情報入力!M57,種目情報!$E$4:$G$22,3,FALSE))))","v":""},{"$f":"IF(E49=\"\",\"\",IF(②選手情報入力!O57=\"\",\"\",IF(I49=1,種目情報!$J$4,種目情報!$J$6)))","v":""},{"$f":"IF(E49=\"\",\"\",IF(②選手情報入力!O57=\"\",\"\",IF(I49=1,IF(②選手情報入力!$O$5=\"\",\"\",②選手情報入力!$O$5),IF(②選手情報入力!$O$6=\"\",\"\",②選手情報入力!$O$6))))","v":""},{"$f":"IF(E49=\"\",\"\",IF(②選手情報入力!O57=\"\",\"\",0))","v":""},{"$f":"IF(E49=\"\",\"\",IF(②選手情報入力!O57=\"\",\"\",2))","v":""},{"$f":"IF(E49=\"\",\"\",IF(②選手情報入力!P57=\"\",\"\",IF(I49=1,種目情報!$J$5,種目情報!$J$7)))","v":""},{"$f":"IF(E49=\"\",\"\",IF(②選手情報入力!P57=\"\",\"\",IF(I49=1,IF(②選手情報入力!$P$5=\"\",\"\",②選手情報入力!$P$5),IF(②選手情報入力!$P$6=\"\",\"\",②選手情報入力!$P$6))))","v":""},{"$f":"IF(E49=\"\",\"\",IF(②選手情報入力!P57=\"\",\"\",0))","v":""},{"$f":"IF(E49=\"\",\"\",IF(②選手情報入力!P57=\"\",\"\",2))","v":""}]
[{"$f":"IF(E50=\"\",\"\",I50*1000000+①学校情報入力!$D$3*1000+②選手情報入力!A58)","v":""},{"$f":"IF(E50=\"\",\"\",①学校情報入力!$D$3)","v":""},null,{"$f":"IF(②選手情報入力!B58=\"\",\"\",②選手情報入力!B58)","v":""},{"$f":"IF(②選手情報入力!C58=\"\",\"\",②選手情報入力!C58)","v":""},{"$f":"IF(E50=\"\",\"\",②選手情報入力!D58)","v":""},{"$f":"IF(E50=\"\",\"\",②選手情報入力!E58)","v":""},"",{"$f":"IF(E50=\"\",\"\",IF(②選手情報入力!G58=\"男\",1,2))","v":""},{"$f":"IF(E50=\"\",\"\",IF(②選手情報入力!H58=\"\",\"\",②選手情報入力!H58))","v":""},null,"","",null,{"$f":"IF(E50=\"\",\"\",IF(②選手情報入力!I58=\"\",\"\",IF(I50=1,VLOOKUP(②選手情報入力!I58,種目情報!$A$4:$B$22,2,FALSE),VLOOKUP(②選手情報入力!I58,種目情報!$E$4:$F$22,2,FALSE))))","v":""},{"$f":"IF(E50=\"\",\"\",IF(②選手情報入力!J58=\"\",\"\",②選手情報入力!J58))","v":""},{"$f":"IF(E50=\"\",\"\",IF(②選手情報入力!I58=\"\",\"\",0))","v":""},{"$f":"IF(E50=\"\",\"\",IF(②選手情報入力!I58=\"\",\"\",IF(I50=1,VLOOKUP(②選手情報入力!I58,種目情報!$A$4:$C$22,3,FALSE),VLOOKUP(②選手情報入力!I58,種目情報!$E$4:$G$22,3,FALSE))))","v":""},{"$f":"IF(E50=\"\",\"\",IF(②選手情報入力!K58=\"\",\"\",IF(I50=1,VLOOKUP(②選手情報入力!K58,種目情報!$A$4:$B$22,2,FALSE),VLOOKUP(②選手情報入力!K58,種目情報!$E$4:$F$22,2,FALSE))))","v":""},{"$f":"IF(E50=\"\",\"\",IF(②選手情報入力!L58=\"\",\"\",②選手情報入力!L58))","v":""},{"$f":"IF(E50=\"\",\"\",IF(②選手情報入力!K58=\"\",\"\",0))","v":""},{"$f":"IF(E50=\"\",\"\",IF(②選手情報入力!K58=\"\",\"\",IF(I50=1,VLOOKUP(②選手情報入力!K58,種目情報!$A$4:$C$22,3,FALSE),VLOOKUP(②選手情報入力!K58,種目情報!$E$4:$G$22,3,FALSE))))","v":""},{"$f":"IF(E50=\"\",\"\",IF(②選手情報入力!M58=\"\",\"\",IF(I50=1,VLOOKUP(②選手情報入力!M58,種目情報!$A$4:$B$22,2,FALSE),VLOOKUP(②選手情報入力!M58,種目情報!$E$4:$F$22,2,FALSE))))","v":""},{"$f":"IF(E50=\"\",\"\",IF(②選手情報入力!N58=\"\",\"\",②選手情報入力!N58))","v":""},{"$f":"IF(E50=\"\",\"\",IF(②選手情報入力!M58=\"\",\"\",0))","v":""},{"$f":"IF(E50=\"\",\"\",IF(②選手情報入力!M58=\"\",\"\",IF(I50=1,VLOOKUP(②選手情報入力!M58,種目情報!$A$4:$C$22,3,FALSE),VLOOKUP(②選手情報入力!M58,種目情報!$E$4:$G$22,3,FALSE))))","v":""},{"$f":"IF(E50=\"\",\"\",IF(②選手情報入力!O58=\"\",\"\",IF(I50=1,種目情報!$J$4,種目情報!$J$6)))","v":""},{"$f":"IF(E50=\"\",\"\",IF(②選手情報入力!O58=\"\",\"\",IF(I50=1,IF(②選手情報入力!$O$5=\"\",\"\",②選手情報入力!$O$5),IF(②選手情報入力!$O$6=\"\",\"\",②選手情報入力!$O$6))))","v":""},{"$f":"IF(E50=\"\",\"\",IF(②選手情報入力!O58=\"\",\"\",0))","v":""},{"$f":"IF(E50=\"\",\"\",IF(②選手情報入力!O58=\"\",\"\",2))","v":""},{"$f":"IF(E50=\"\",\"\",IF(②選手情報入力!P58=\"\",\"\",IF(I50=1,種目情報!$J$5,種目情報!$J$7)))","v":""},{"$f":"IF(E50=\"\",\"\",IF(②選手情報入力!P58=\"\",\"\",IF(I50=1,IF(②選手情報入力!$P$5=\"\",\"\",②選手情報入力!$P$5),IF(②選手情報入力!$P$6=\"\",\"\",②選手情報入力!$P$6))))","v":""},{"$f":"IF(E50=\"\",\"\",IF(②選手情報入力!P58=\"\",\"\",0))","v":""},{"$f":"IF(E50=\"\",\"\",IF(②選手情報入力!P58=\"\",\"\",2))","v":""}]
[{"$f":"IF(E51=\"\",\"\",I51*1000000+①学校情報入力!$D$3*1000+②選手情報入力!A59)","v":""},{"$f":"IF(E51=\"\",\"\",①学校情報入力!$D$3)","v":""},null,{"$f":"IF(②選手情報入力!B59=\"\",\"\",②選手情報入力!B59)","v":""},{"$f":"IF(②選手情報入力!C59=\"\",\"\",②選手情報入力!C59)","v":""},{"$f":"IF(E51=\"\",\"\",②選手情報入力!D59)","v":""},{"$f":"IF(E51=\"\",\"\",②選手情報入力!E59)","v":""},"",{"$f":"IF(E51=\"\",\"\",IF(②選手情報入力!G59=\"男\",1,2))","v":""},{"$f":"IF(E51=\"\",\"\",IF(②選手情報入力!H59=\"\",\"\",②選手情報入力!H59))","v":""},null,"","",null,{"$f":"IF(E51=\"\",\"\",IF(②選手情報入力!I59=\"\",\"\",IF(I51=1,VLOOKUP(②選手情報入力!I59,種目情報!$A$4:$B$22,2,FALSE),VLOOKUP(②選手情報入力!I59,種目情報!$E$4:$F$22,2,FALSE))))","v":""},{"$f":"IF(E51=\"\",\"\",IF(②選手情報入力!J59=\"\",\"\",②選手情報入力!J59))","v":""},{"$f":"IF(E51=\"\",\"\",IF(②選手情報入力!I59=\"\",\"\",0))","v":""},{"$f":"IF(E51=\"\",\"\",IF(②選手情報入力!I59=\"\",\"\",IF(I51=1,VLOOKUP(②選手情報入力!I59,種目情報!$A$4:$C$22,3,FALSE),VLOOKUP(②選手情報入力!I59,種目情報!$E$4:$G$22,3,FALSE))))","v":""},{"$f":"IF(E51=\"\",\"\",IF(②選手情報入力!K59=\"\",\"\",IF(I51=1,VLOOKUP(②選手情報入力!K59,種目情報!$A$4:$B$22,2,FALSE),VLOOKUP(②選手情報入力!K59,種目情報!$E$4:$F$22,2,FALSE))))","v":""},{"$f":"IF(E51=\"\",\"\",IF(②選手情報入力!L59=\"\",\"\",②選手情報入力!L59))","v":""},{"$f":"IF(E51=\"\",\"\",IF(②選手情報入力!K59=\"\",\"\",0))","v":""},{"$f":"IF(E51=\"\",\"\",IF(②選手情報入力!K59=\"\",\"\",IF(I51=1,VLOOKUP(②選手情報入力!K59,種目情報!$A$4:$C$22,3,FALSE),VLOOKUP(②選手情報入力!K59,種目情報!$E$4:$G$22,3,FALSE))))","v":""},{"$f":"IF(E51=\"\",\"\",IF(②選手情報入力!M59=\"\",\"\",IF(I51=1,VLOOKUP(②選手情報入力!M59,種目情報!$A$4:$B$22,2,FALSE),VLOOKUP(②選手情報入力!M59,種目情報!$E$4:$F$22,2,FALSE))))","v":""},{"$f":"IF(E51=\"\",\"\",IF(②選手情報入力!N59=\"\",\"\",②選手情報入力!N59))","v":""},{"$f":"IF(E51=\"\",\"\",IF(②選手情報入力!M59=\"\",\"\",0))","v":""},{"$f":"IF(E51=\"\",\"\",IF(②選手情報入力!M59=\"\",\"\",IF(I51=1,VLOOKUP(②選手情報入力!M59,種目情報!$A$4:$C$22,3,FALSE),VLOOKUP(②選手情報入力!M59,種目情報!$E$4:$G$22,3,FALSE))))","v":""},{"$f":"IF(E51=\"\",\"\",IF(②選手情報入力!O59=\"\",\"\",IF(I51=1,種目情報!$J$4,種目情報!$J$6)))","v":""},{"$f":"IF(E51=\"\",\"\",IF(②選手情報入力!O59=\"\",\"\",IF(I51=1,IF(②選手情報入力!$O$5=\"\",\"\",②選手情報入力!$O$5),IF(②選手情報入力!$O$6=\"\",\"\",②選手情報入力!$O$6))))","v":""},{"$f":"IF(E51=\"\",\"\",IF(②選手情報入力!O59=\"\",\"\",0))","v":""},{"$f":"IF(E51=\"\",\"\",IF(②選手情報入力!O59=\"\",\"\",2))","v":""},{"$f":"IF(E51=\"\",\"\",IF(②選手情報入力!P59=\"\",\"\",IF(I51=1,種目情報!$J$5,種目情報!$J$7)))","v":""},{"$f":"IF(E51=\"\",\"\",IF(②選手情報入力!P59=\"\",\"\",IF(I51=1,IF(②選手情報入力!$P$5=\"\",\"\",②選手情報入力!$P$5),IF(②選手情報入力!$P$6=\"\",\"\",②選手情報入力!$P$6))))","v":""},{"$f":"IF(E51=\"\",\"\",IF(②選手情報入力!P59=\"\",\"\",0))","v":""},{"$f":"IF(E51=\"\",\"\",IF(②選手情報入力!P59=\"\",\"\",2))","v":""}]
[{"$f":"IF(E52=\"\",\"\",I52*1000000+①学校情報入力!$D$3*1000+②選手情報入力!A60)","v":""},{"$f":"IF(E52=\"\",\"\",①学校情報入力!$D$3)","v":""},null,{"$f":"IF(②選手情報入力!B60=\"\",\"\",②選手情報入力!B60)","v":""},{"$f":"IF(②選手情報入力!C60=\"\",\"\",②選手情報入力!C60)","v":""},{"$f":"IF(E52=\"\",\"\",②選手情報入力!D60)","v":""},{"$f":"IF(E52=\"\",\"\",②選手情報入力!E60)","v":""},"",{"$f":"IF(E52=\"\",\"\",IF(②選手情報入力!G60=\"男\",1,2))","v":""},{"$f":"IF(E52=\"\",\"\",IF(②選手情報入力!H60=\"\",\"\",②選手情報入力!H60))","v":""},null,"","",null,{"$f":"IF(E52=\"\",\"\",IF(②選手情報入力!I60=\"\",\"\",IF(I52=1,VLOOKUP(②選手情報入力!I60,種目情報!$A$4:$B$22,2,FALSE),VLOOKUP(②選手情報入力!I60,種目情報!$E$4:$F$22,2,FALSE))))","v":""},{"$f":"IF(E52=\"\",\"\",IF(②選手情報入力!J60=\"\",\"\",②選手情報入力!J60))","v":""},{"$f":"IF(E52=\"\",\"\",IF(②選手情報入力!I60=\"\",\"\",0))","v":""},{"$f":"IF(E52=\"\",\"\",IF(②選手情報入力!I60=\"\",\"\",IF(I52=1,VLOOKUP(②選手情報入力!I60,種目情報!$A$4:$C$22,3,FALSE),VLOOKUP(②選手情報入力!I60,種目情報!$E$4:$G$22,3,FALSE))))","v":""},{"$f":"IF(E52=\"\",\"\",IF(②選手情報入力!K60=\"\",\"\",IF(I52=1,VLOOKUP(②選手情報入力!K60,種目情報!$A$4:$B$22,2,FALSE),VLOOKUP(②選手情報入力!K60,種目情報!$E$4:$F$22,2,FALSE))))","v":""},{"$f":"IF(E52=\"\",\"\",IF(②選手情報入力!L60=\"\",\"\",②選手情報入力!L60))","v":""},{"$f":"IF(E52=\"\",\"\",IF(②選手情報入力!K60=\"\",\"\",0))","v":""},{"$f":"IF(E52=\"\",\"\",IF(②選手情報入力!K60=\"\",\"\",IF(I52=1,VLOOKUP(②選手情報入力!K60,種目情報!$A$4:$C$22,3,FALSE),VLOOKUP(②選手情報入力!K60,種目情報!$E$4:$G$22,3,FALSE))))","v":""},{"$f":"IF(E52=\"\",\"\",IF(②選手情報入力!M60=\"\",\"\",IF(I52=1,VLOOKUP(②選手情報入力!M60,種目情報!$A$4:$B$22,2,FALSE),VLOOKUP(②選手情報入力!M60,種目情報!$E$4:$F$22,2,FALSE))))","v":""},{"$f":"IF(E52=\"\",\"\",IF(②選手情報入力!N60=\"\",\"\",②選手情報入力!N60))","v":""},{"$f":"IF(E52=\"\",\"\",IF(②選手情報入力!M60=\"\",\"\",0))","v":""},{"$f":"IF(E52=\"\",\"\",IF(②選手情報入力!M60=\"\",\"\",IF(I52=1,VLOOKUP(②選手情報入力!M60,種目情報!$A$4:$C$22,3,FALSE),VLOOKUP(②選手情報入力!M60,種目情報!$E$4:$G$22,3,FALSE))))","v":""},{"$f":"IF(E52=\"\",\"\",IF(②選手情報入力!O60=\"\",\"\",IF(I52=1,種目情報!$J$4,種目情報!$J$6)))","v":""},{"$f":"IF(E52=\"\",\"\",IF(②選手情報入力!O60=\"\",\"\",IF(I52=1,IF(②選手情報入力!$O$5=\"\",\"\",②選手情報入力!$O$5),IF(②選手情報入力!$O$6=\"\",\"\",②選手情報入力!$O$6))))","v":""},{"$f":"IF(E52=\"\",\"\",IF(②選手情報入力!O60=\"\",\"\",0))","v":""},{"$f":"IF(E52=\"\",\"\",IF(②選手情報入力!O60=\"\",\"\",2))","v":""},{"$f":"IF(E52=\"\",\"\",IF(②選手情報入力!P60=\"\",\"\",IF(I52=1,種目情報!$J$5,種目情報!$J$7)))","v":""},{"$f":"IF(E52=\"\",\"\",IF(②選手情報入力!P60=\"\",\"\",IF(I52=1,IF(②選手情報入力!$P$5=\"\",\"\",②選手情報入力!$P$5),IF(②選手情報入力!$P$6=\"\",\"\",②選手情報入力!$P$6))))","v":""},{"$f":"IF(E52=\"\",\"\",IF(②選手情報入力!P60=\"\",\"\",0))","v":""},{"$f":"IF(E52=\"\",\"\",IF(②選手情報入力!P60=\"\",\"\",2))","v":""}]
[{"$f":"IF(E53=\"\",\"\",I53*1000000+①学校情報入力!$D$3*1000+②選手情報入力!A61)","v":""},{"$f":"IF(E53=\"\",\"\",①学校情報入力!$D$3)","v":""},null,{"$f":"IF(②選手情報入力!B61=\"\",\"\",②選手情報入力!B61)","v":""},{"$f":"IF(②選手情報入力!C61=\"\",\"\",②選手情報入力!C61)","v":""},{"$f":"IF(E53=\"\",\"\",②選手情報入力!D61)","v":""},{"$f":"IF(E53=\"\",\"\",②選手情報入力!E61)","v":""},"",{"$f":"IF(E53=\"\",\"\",IF(②選手情報入力!G61=\"男\",1,2))","v":""},{"$f":"IF(E53=\"\",\"\",IF(②選手情報入力!H61=\"\",\"\",②選手情報入力!H61))","v":""},null,"","",null,{"$f":"IF(E53=\"\",\"\",IF(②選手情報入力!I61=\"\",\"\",IF(I53=1,VLOOKUP(②選手情報入力!I61,種目情報!$A$4:$B$22,2,FALSE),VLOOKUP(②選手情報入力!I61,種目情報!$E$4:$F$22,2,FALSE))))","v":""},{"$f":"IF(E53=\"\",\"\",IF(②選手情報入力!J61=\"\",\"\",②選手情報入力!J61))","v":""},{"$f":"IF(E53=\"\",\"\",IF(②選手情報入力!I61=\"\",\"\",0))","v":""},{"$f":"IF(E53=\"\",\"\",IF(②選手情報入力!I61=\"\",\"\",IF(I53=1,VLOOKUP(②選手情報入力!I61,種目情報!$A$4:$C$22,3,FALSE),VLOOKUP(②選手情報入力!I61,種目情報!$E$4:$G$22,3,FALSE))))","v":""},{"$f":"IF(E53=\"\",\"\",IF(②選手情報入力!K61=\"\",\"\",IF(I53=1,VLOOKUP(②選手情報入力!K61,種目情報!$A$4:$B$22,2,FALSE),VLOOKUP(②選手情報入力!K61,種目情報!$E$4:$F$22,2,FALSE))))","v":""},{"$f":"IF(E53=\"\",\"\",IF(②選手情報入力!L61=\"\",\"\",②選手情報入力!L61))","v":""},{"$f":"IF(E53=\"\",\"\",IF(②選手情報入力!K61=\"\",\"\",0))","v":""},{"$f":"IF(E53=\"\",\"\",IF(②選手情報入力!K61=\"\",\"\",IF(I53=1,VLOOKUP(②選手情報入力!K61,種目情報!$A$4:$C$22,3,FALSE),VLOOKUP(②選手情報入力!K61,種目情報!$E$4:$G$22,3,FALSE))))","v":""},{"$f":"IF(E53=\"\",\"\",IF(②選手情報入力!M61=\"\",\"\",IF(I53=1,VLOOKUP(②選手情報入力!M61,種目情報!$A$4:$B$22,2,FALSE),VLOOKUP(②選手情報入力!M61,種目情報!$E$4:$F$22,2,FALSE))))","v":""},{"$f":"IF(E53=\"\",\"\",IF(②選手情報入力!N61=\"\",\"\",②選手情報入力!N61))","v":""},{"$f":"IF(E53=\"\",\"\",IF(②選手情報入力!M61=\"\",\"\",0))","v":""},{"$f":"IF(E53=\"\",\"\",IF(②選手情報入力!M61=\"\",\"\",IF(I53=1,VLOOKUP(②選手情報入力!M61,種目情報!$A$4:$C$22,3,FALSE),VLOOKUP(②選手情報入力!M61,種目情報!$E$4:$G$22,3,FALSE))))","v":""},{"$f":"IF(E53=\"\",\"\",IF(②選手情報入力!O61=\"\",\"\",IF(I53=1,種目情報!$J$4,種目情報!$J$6)))","v":""},{"$f":"IF(E53=\"\",\"\",IF(②選手情報入力!O61=\"\",\"\",IF(I53=1,IF(②選手情報入力!$O$5=\"\",\"\",②選手情報入力!$O$5),IF(②選手情報入力!$O$6=\"\",\"\",②選手情報入力!$O$6))))","v":""},{"$f":"IF(E53=\"\",\"\",IF(②選手情報入力!O61=\"\",\"\",0))","v":""},{"$f":"IF(E53=\"\",\"\",IF(②選手情報入力!O61=\"\",\"\",2))","v":""},{"$f":"IF(E53=\"\",\"\",IF(②選手情報入力!P61=\"\",\"\",IF(I53=1,種目情報!$J$5,種目情報!$J$7)))","v":""},{"$f":"IF(E53=\"\",\"\",IF(②選手情報入力!P61=\"\",\"\",IF(I53=1,IF(②選手情報入力!$P$5=\"\",\"\",②選手情報入力!$P$5),IF(②選手情報入力!$P$6=\"\",\"\",②選手情報入力!$P$6))))","v":""},{"$f":"IF(E53=\"\",\"\",IF(②選手情報入力!P61=\"\",\"\",0))","v":""},{"$f":"IF(E53=\"\",\"\",IF(②選手情報入力!P61=\"\",\"\",2))","v":""}]
[{"$f":"IF(E54=\"\",\"\",I54*1000000+①学校情報入力!$D$3*1000+②選手情報入力!A62)","v":""},{"$f":"IF(E54=\"\",\"\",①学校情報入力!$D$3)","v":""},null,{"$f":"IF(②選手情報入力!B62=\"\",\"\",②選手情報入力!B62)","v":""},{"$f":"IF(②選手情報入力!C62=\"\",\"\",②選手情報入力!C62)","v":""},{"$f":"IF(E54=\"\",\"\",②選手情報入力!D62)","v":""},{"$f":"IF(E54=\"\",\"\",②選手情報入力!E62)","v":""},"",{"$f":"IF(E54=\"\",\"\",IF(②選手情報入力!G62=\"男\",1,2))","v":""},{"$f":"IF(E54=\"\",\"\",IF(②選手情報入力!H62=\"\",\"\",②選手情報入力!H62))","v":""},null,"","",null,{"$f":"IF(E54=\"\",\"\",IF(②選手情報入力!I62=\"\",\"\",IF(I54=1,VLOOKUP(②選手情報入力!I62,種目情報!$A$4:$B$22,2,FALSE),VLOOKUP(②選手情報入力!I62,種目情報!$E$4:$F$22,2,FALSE))))","v":""},{"$f":"IF(E54=\"\",\"\",IF(②選手情報入力!J62=\"\",\"\",②選手情報入力!J62))","v":""},{"$f":"IF(E54=\"\",\"\",IF(②選手情報入力!I62=\"\",\"\",0))","v":""},{"$f":"IF(E54=\"\",\"\",IF(②選手情報入力!I62=\"\",\"\",IF(I54=1,VLOOKUP(②選手情報入力!I62,種目情報!$A$4:$C$22,3,FALSE),VLOOKUP(②選手情報入力!I62,種目情報!$E$4:$G$22,3,FALSE))))","v":""},{"$f":"IF(E54=\"\",\"\",IF(②選手情報入力!K62=\"\",\"\",IF(I54=1,VLOOKUP(②選手情報入力!K62,種目情報!$A$4:$B$22,2,FALSE),VLOOKUP(②選手情報入力!K62,種目情報!$E$4:$F$22,2,FALSE))))","v":""},{"$f":"IF(E54=\"\",\"\",IF(②選手情報入力!L62=\"\",\"\",②選手情報入力!L62))","v":""},{"$f":"IF(E54=\"\",\"\",IF(②選手情報入力!K62=\"\",\"\",0))","v":""},{"$f":"IF(E54=\"\",\"\",IF(②選手情報入力!K62=\"\",\"\",IF(I54=1,VLOOKUP(②選手情報入力!K62,種目情報!$A$4:$C$22,3,FALSE),VLOOKUP(②選手情報入力!K62,種目情報!$E$4:$G$22,3,FALSE))))","v":""},{"$f":"IF(E54=\"\",\"\",IF(②選手情報入力!M62=\"\",\"\",IF(I54=1,VLOOKUP(②選手情報入力!M62,種目情報!$A$4:$B$22,2,FALSE),VLOOKUP(②選手情報入力!M62,種目情報!$E$4:$F$22,2,FALSE))))","v":""},{"$f":"IF(E54=\"\",\"\",IF(②選手情報入力!N62=\"\",\"\",②選手情報入力!N62))","v":""},{"$f":"IF(E54=\"\",\"\",IF(②選手情報入力!M62=\"\",\"\",0))","v":""},{"$f":"IF(E54=\"\",\"\",IF(②選手情報入力!M62=\"\",\"\",IF(I54=1,VLOOKUP(②選手情報入力!M62,種目情報!$A$4:$C$22,3,FALSE),VLOOKUP(②選手情報入力!M62,種目情報!$E$4:$G$22,3,FALSE))))","v":""},{"$f":"IF(E54=\"\",\"\",IF(②選手情報入力!O62=\"\",\"\",IF(I54=1,種目情報!$J$4,種目情報!$J$6)))","v":""},{"$f":"IF(E54=\"\",\"\",IF(②選手情報入力!O62=\"\",\"\",IF(I54=1,IF(②選手情報入力!$O$5=\"\",\"\",②選手情報入力!$O$5),IF(②選手情報入力!$O$6=\"\",\"\",②選手情報入力!$O$6))))","v":""},{"$f":"IF(E54=\"\",\"\",IF(②選手情報入力!O62=\"\",\"\",0))","v":""},{"$f":"IF(E54=\"\",\"\",IF(②選手情報入力!O62=\"\",\"\",2))","v":""},{"$f":"IF(E54=\"\",\"\",IF(②選手情報入力!P62=\"\",\"\",IF(I54=1,種目情報!$J$5,種目情報!$J$7)))","v":""},{"$f":"IF(E54=\"\",\"\",IF(②選手情報入力!P62=\"\",\"\",IF(I54=1,IF(②選手情報入力!$P$5=\"\",\"\",②選手情報入力!$P$5),IF(②選手情報入力!$P$6=\"\",\"\",②選手情報入力!$P$6))))","v":""},{"$f":"IF(E54=\"\",\"\",IF(②選手情報入力!P62=\"\",\"\",0))","v":""},{"$f":"IF(E54=\"\",\"\",IF(②選手情報入力!P62=\"\",\"\",2))","v":""}]
[{"$f":"IF(E55=\"\",\"\",I55*1000000+①学校情報入力!$D$3*1000+②選手情報入力!A63)","v":""},{"$f":"IF(E55=\"\",\"\",①学校情報入力!$D$3)","v":""},null,{"$f":"IF(②選手情報入力!B63=\"\",\"\",②選手情報入力!B63)","v":""},{"$f":"IF(②選手情報入力!C63=\"\",\"\",②選手情報入力!C63)","v":""},{"$f":"IF(E55=\"\",\"\",②選手情報入力!D63)","v":""},{"$f":"IF(E55=\"\",\"\",②選手情報入力!E63)","v":""},"",{"$f":"IF(E55=\"\",\"\",IF(②選手情報入力!G63=\"男\",1,2))","v":""},{"$f":"IF(E55=\"\",\"\",IF(②選手情報入力!H63=\"\",\"\",②選手情報入力!H63))","v":""},null,"","",null,{"$f":"IF(E55=\"\",\"\",IF(②選手情報入力!I63=\"\",\"\",IF(I55=1,VLOOKUP(②選手情報入力!I63,種目情報!$A$4:$B$22,2,FALSE),VLOOKUP(②選手情報入力!I63,種目情報!$E$4:$F$22,2,FALSE))))","v":""},{"$f":"IF(E55=\"\",\"\",IF(②選手情報入力!J63=\"\",\"\",②選手情報入力!J63))","v":""},{"$f":"IF(E55=\"\",\"\",IF(②選手情報入力!I63=\"\",\"\",0))","v":""},{"$f":"IF(E55=\"\",\"\",IF(②選手情報入力!I63=\"\",\"\",IF(I55=1,VLOOKUP(②選手情報入力!I63,種目情報!$A$4:$C$22,3,FALSE),VLOOKUP(②選手情報入力!I63,種目情報!$E$4:$G$22,3,FALSE))))","v":""},{"$f":"IF(E55=\"\",\"\",IF(②選手情報入力!K63=\"\",\"\",IF(I55=1,VLOOKUP(②選手情報入力!K63,種目情報!$A$4:$B$22,2,FALSE),VLOOKUP(②選手情報入力!K63,種目情報!$E$4:$F$22,2,FALSE))))","v":""},{"$f":"IF(E55=\"\",\"\",IF(②選手情報入力!L63=\"\",\"\",②選手情報入力!L63))","v":""},{"$f":"IF(E55=\"\",\"\",IF(②選手情報入力!K63=\"\",\"\",0))","v":""},{"$f":"IF(E55=\"\",\"\",IF(②選手情報入力!K63=\"\",\"\",IF(I55=1,VLOOKUP(②選手情報入力!K63,種目情報!$A$4:$C$22,3,FALSE),VLOOKUP(②選手情報入力!K63,種目情報!$E$4:$G$22,3,FALSE))))","v":""},{"$f":"IF(E55=\"\",\"\",IF(②選手情報入力!M63=\"\",\"\",IF(I55=1,VLOOKUP(②選手情報入力!M63,種目情報!$A$4:$B$22,2,FALSE),VLOOKUP(②選手情報入力!M63,種目情報!$E$4:$F$22,2,FALSE))))","v":""},{"$f":"IF(E55=\"\",\"\",IF(②選手情報入力!N63=\"\",\"\",②選手情報入力!N63))","v":""},{"$f":"IF(E55=\"\",\"\",IF(②選手情報入力!M63=\"\",\"\",0))","v":""},{"$f":"IF(E55=\"\",\"\",IF(②選手情報入力!M63=\"\",\"\",IF(I55=1,VLOOKUP(②選手情報入力!M63,種目情報!$A$4:$C$22,3,FALSE),VLOOKUP(②選手情報入力!M63,種目情報!$E$4:$G$22,3,FALSE))))","v":""},{"$f":"IF(E55=\"\",\"\",IF(②選手情報入力!O63=\"\",\"\",IF(I55=1,種目情報!$J$4,種目情報!$J$6)))","v":""},{"$f":"IF(E55=\"\",\"\",IF(②選手情報入力!O63=\"\",\"\",IF(I55=1,IF(②選手情報入力!$O$5=\"\",\"\",②選手情報入力!$O$5),IF(②選手情報入力!$O$6=\"\",\"\",②選手情報入力!$O$6))))","v":""},{"$f":"IF(E55=\"\",\"\",IF(②選手情報入力!O63=\"\",\"\",0))","v":""},{"$f":"IF(E55=\"\",\"\",IF(②選手情報入力!O63=\"\",\"\",2))","v":""},{"$f":"IF(E55=\"\",\"\",IF(②選手情報入力!P63=\"\",\"\",IF(I55=1,種目情報!$J$5,種目情報!$J$7)))","v":""},{"$f":"IF(E55=\"\",\"\",IF(②選手情報入力!P63=\"\",\"\",IF(I55=1,IF(②選手情報入力!$P$5=\"\",\"\",②選手情報入力!$P$5),IF(②選手情報入力!$P$6=\"\",\"\",②選手情報入力!$P$6))))","v":""},{"$f":"IF(E55=\"\",\"\",IF(②選手情報入力!P63=\"\",\"\",0))","v":""},{"$f":"IF(E55=\"\",\"\",IF(②選手情報入力!P63=\"\",\"\",2))","v":""}]
[{"$f":"IF(E56=\"\",\"\",I56*1000000+①学校情報入力!$D$3*1000+②選手情報入力!A64)","v":""},{"$f":"IF(E56=\"\",\"\",①学校情報入力!$D$3)","v":""},null,{"$f":"IF(②選手情報入力!B64=\"\",\"\",②選手情報入力!B64)","v":""},{"$f":"IF(②選手情報入力!C64=\"\",\"\",②選手情報入力!C64)","v":""},{"$f":"IF(E56=\"\",\"\",②選手情報入力!D64)","v":""},{"$f":"IF(E56=\"\",\"\",②選手情報入力!E64)","v":""},"",{"$f":"IF(E56=\"\",\"\",IF(②選手情報入力!G64=\"男\",1,2))","v":""},{"$f":"IF(E56=\"\",\"\",IF(②選手情報入力!H64=\"\",\"\",②選手情報入力!H64))","v":""},null,"","",null,{"$f":"IF(E56=\"\",\"\",IF(②選手情報入力!I64=\"\",\"\",IF(I56=1,VLOOKUP(②選手情報入力!I64,種目情報!$A$4:$B$22,2,FALSE),VLOOKUP(②選手情報入力!I64,種目情報!$E$4:$F$22,2,FALSE))))","v":""},{"$f":"IF(E56=\"\",\"\",IF(②選手情報入力!J64=\"\",\"\",②選手情報入力!J64))","v":""},{"$f":"IF(E56=\"\",\"\",IF(②選手情報入力!I64=\"\",\"\",0))","v":""},{"$f":"IF(E56=\"\",\"\",IF(②選手情報入力!I64=\"\",\"\",IF(I56=1,VLOOKUP(②選手情報入力!I64,種目情報!$A$4:$C$22,3,FALSE),VLOOKUP(②選手情報入力!I64,種目情報!$E$4:$G$22,3,FALSE))))","v":""},{"$f":"IF(E56=\"\",\"\",IF(②選手情報入力!K64=\"\",\"\",IF(I56=1,VLOOKUP(②選手情報入力!K64,種目情報!$A$4:$B$22,2,FALSE),VLOOKUP(②選手情報入力!K64,種目情報!$E$4:$F$22,2,FALSE))))","v":""},{"$f":"IF(E56=\"\",\"\",IF(②選手情報入力!L64=\"\",\"\",②選手情報入力!L64))","v":""},{"$f":"IF(E56=\"\",\"\",IF(②選手情報入力!K64=\"\",\"\",0))","v":""},{"$f":"IF(E56=\"\",\"\",IF(②選手情報入力!K64=\"\",\"\",IF(I56=1,VLOOKUP(②選手情報入力!K64,種目情報!$A$4:$C$22,3,FALSE),VLOOKUP(②選手情報入力!K64,種目情報!$E$4:$G$22,3,FALSE))))","v":""},{"$f":"IF(E56=\"\",\"\",IF(②選手情報入力!M64=\"\",\"\",IF(I56=1,VLOOKUP(②選手情報入力!M64,種目情報!$A$4:$B$22,2,FALSE),VLOOKUP(②選手情報入力!M64,種目情報!$E$4:$F$22,2,FALSE))))","v":""},{"$f":"IF(E56=\"\",\"\",IF(②選手情報入力!N64=\"\",\"\",②選手情報入力!N64))","v":""},{"$f":"IF(E56=\"\",\"\",IF(②選手情報入力!M64=\"\",\"\",0))","v":""},{"$f":"IF(E56=\"\",\"\",IF(②選手情報入力!M64=\"\",\"\",IF(I56=1,VLOOKUP(②選手情報入力!M64,種目情報!$A$4:$C$22,3,FALSE),VLOOKUP(②選手情報入力!M64,種目情報!$E$4:$G$22,3,FALSE))))","v":""},{"$f":"IF(E56=\"\",\"\",IF(②選手情報入力!O64=\"\",\"\",IF(I56=1,種目情報!$J$4,種目情報!$J$6)))","v":""},{"$f":"IF(E56=\"\",\"\",IF(②選手情報入力!O64=\"\",\"\",IF(I56=1,IF(②選手情報入力!$O$5=\"\",\"\",②選手情報入力!$O$5),IF(②選手情報入力!$O$6=\"\",\"\",②選手情報入力!$O$6))))","v":""},{"$f":"IF(E56=\"\",\"\",IF(②選手情報入力!O64=\"\",\"\",0))","v":""},{"$f":"IF(E56=\"\",\"\",IF(②選手情報入力!O64=\"\",\"\",2))","v":""},{"$f":"IF(E56=\"\",\"\",IF(②選手情報入力!P64=\"\",\"\",IF(I56=1,種目情報!$J$5,種目情報!$J$7)))","v":""},{"$f":"IF(E56=\"\",\"\",IF(②選手情報入力!P64=\"\",\"\",IF(I56=1,IF(②選手情報入力!$P$5=\"\",\"\",②選手情報入力!$P$5),IF(②選手情報入力!$P$6=\"\",\"\",②選手情報入力!$P$6))))","v":""},{"$f":"IF(E56=\"\",\"\",IF(②選手情報入力!P64=\"\",\"\",0))","v":""},{"$f":"IF(E56=\"\",\"\",IF(②選手情報入力!P64=\"\",\"\",2))","v":""}]
[{"$f":"IF(E57=\"\",\"\",I57*1000000+①学校情報入力!$D$3*1000+②選手情報入力!A65)","v":""},{"$f":"IF(E57=\"\",\"\",①学校情報入力!$D$3)","v":""},null,{"$f":"IF(②選手情報入力!B65=\"\",\"\",②選手情報入力!B65)","v":""},{"$f":"IF(②選手情報入力!C65=\"\",\"\",②選手情報入力!C65)","v":""},{"$f":"IF(E57=\"\",\"\",②選手情報入力!D65)","v":""},{"$f":"IF(E57=\"\",\"\",②選手情報入力!E65)","v":""},"",{"$f":"IF(E57=\"\",\"\",IF(②選手情報入力!G65=\"男\",1,2))","v":""},{"$f":"IF(E57=\"\",\"\",IF(②選手情報入力!H65=\"\",\"\",②選手情報入力!H65))","v":""},null,"","",null,{"$f":"IF(E57=\"\",\"\",IF(②選手情報入力!I65=\"\",\"\",IF(I57=1,VLOOKUP(②選手情報入力!I65,種目情報!$A$4:$B$22,2,FALSE),VLOOKUP(②選手情報入力!I65,種目情報!$E$4:$F$22,2,FALSE))))","v":""},{"$f":"IF(E57=\"\",\"\",IF(②選手情報入力!J65=\"\",\"\",②選手情報入力!J65))","v":""},{"$f":"IF(E57=\"\",\"\",IF(②選手情報入力!I65=\"\",\"\",0))","v":""},{"$f":"IF(E57=\"\",\"\",IF(②選手情報入力!I65=\"\",\"\",IF(I57=1,VLOOKUP(②選手情報入力!I65,種目情報!$A$4:$C$22,3,FALSE),VLOOKUP(②選手情報入力!I65,種目情報!$E$4:$G$22,3,FALSE))))","v":""},{"$f":"IF(E57=\"\",\"\",IF(②選手情報入力!K65=\"\",\"\",IF(I57=1,VLOOKUP(②選手情報入力!K65,種目情報!$A$4:$B$22,2,FALSE),VLOOKUP(②選手情報入力!K65,種目情報!$E$4:$F$22,2,FALSE))))","v":""},{"$f":"IF(E57=\"\",\"\",IF(②選手情報入力!L65=\"\",\"\",②選手情報入力!L65))","v":""},{"$f":"IF(E57=\"\",\"\",IF(②選手情報入力!K65=\"\",\"\",0))","v":""},{"$f":"IF(E57=\"\",\"\",IF(②選手情報入力!K65=\"\",\"\",IF(I57=1,VLOOKUP(②選手情報入力!K65,種目情報!$A$4:$C$22,3,FALSE),VLOOKUP(②選手情報入力!K65,種目情報!$E$4:$G$22,3,FALSE))))","v":""},{"$f":"IF(E57=\"\",\"\",IF(②選手情報入力!M65=\"\",\"\",IF(I57=1,VLOOKUP(②選手情報入力!M65,種目情報!$A$4:$B$22,2,FALSE),VLOOKUP(②選手情報入力!M65,種目情報!$E$4:$F$22,2,FALSE))))","v":""},{"$f":"IF(E57=\"\",\"\",IF(②選手情報入力!N65=\"\",\"\",②選手情報入力!N65))","v":""},{"$f":"IF(E57=\"\",\"\",IF(②選手情報入力!M65=\"\",\"\",0))","v":""},{"$f":"IF(E57=\"\",\"\",IF(②選手情報入力!M65=\"\",\"\",IF(I57=1,VLOOKUP(②選手情報入力!M65,種目情報!$A$4:$C$22,3,FALSE),VLOOKUP(②選手情報入力!M65,種目情報!$E$4:$G$22,3,FALSE))))","v":""},{"$f":"IF(E57=\"\",\"\",IF(②選手情報入力!O65=\"\",\"\",IF(I57=1,種目情報!$J$4,種目情報!$J$6)))","v":""},{"$f":"IF(E57=\"\",\"\",IF(②選手情報入力!O65=\"\",\"\",IF(I57=1,IF(②選手情報入力!$O$5=\"\",\"\",②選手情報入力!$O$5),IF(②選手情報入力!$O$6=\"\",\"\",②選手情報入力!$O$6))))","v":""},{"$f":"IF(E57=\"\",\"\",IF(②選手情報入力!O65=\"\",\"\",0))","v":""},{"$f":"IF(E57=\"\",\"\",IF(②選手情報入力!O65=\"\",\"\",2))","v":""},{"$f":"IF(E57=\"\",\"\",IF(②選手情報入力!P65=\"\",\"\",IF(I57=1,種目情報!$J$5,種目情報!$J$7)))","v":""},{"$f":"IF(E57=\"\",\"\",IF(②選手情報入力!P65=\"\",\"\",IF(I57=1,IF(②選手情報入力!$P$5=\"\",\"\",②選手情報入力!$P$5),IF(②選手情報入力!$P$6=\"\",\"\",②選手情報入力!$P$6))))","v":""},{"$f":"IF(E57=\"\",\"\",IF(②選手情報入力!P65=\"\",\"\",0))","v":""},{"$f":"IF(E57=\"\",\"\",IF(②選手情報入力!P65=\"\",\"\",2))","v":""}]
[{"$f":"IF(E58=\"\",\"\",I58*1000000+①学校情報入力!$D$3*1000+②選手情報入力!A66)","v":""},{"$f":"IF(E58=\"\",\"\",①学校情報入力!$D$3)","v":""},null,{"$f":"IF(②選手情報入力!B66=\"\",\"\",②選手情報入力!B66)","v":""},{"$f":"IF(②選手情報入力!C66=\"\",\"\",②選手情報入力!C66)","v":""},{"$f":"IF(E58=\"\",\"\",②選手情報入力!D66)","v":""},{"$f":"IF(E58=\"\",\"\",②選手情報入力!E66)","v":""},"",{"$f":"IF(E58=\"\",\"\",IF(②選手情報入力!G66=\"男\",1,2))","v":""},{"$f":"IF(E58=\"\",\"\",IF(②選手情報入力!H66=\"\",\"\",②選手情報入力!H66))","v":""},null,"","",null,{"$f":"IF(E58=\"\",\"\",IF(②選手情報入力!I66=\"\",\"\",IF(I58=1,VLOOKUP(②選手情報入力!I66,種目情報!$A$4:$B$22,2,FALSE),VLOOKUP(②選手情報入力!I66,種目情報!$E$4:$F$22,2,FALSE))))","v":""},{"$f":"IF(E58=\"\",\"\",IF(②選手情報入力!J66=\"\",\"\",②選手情報入力!J66))","v":""},{"$f":"IF(E58=\"\",\"\",IF(②選手情報入力!I66=\"\",\"\",0))","v":""},{"$f":"IF(E58=\"\",\"\",IF(②選手情報入力!I66=\"\",\"\",IF(I58=1,VLOOKUP(②選手情報入力!I66,種目情報!$A$4:$C$22,3,FALSE),VLOOKUP(②選手情報入力!I66,種目情報!$E$4:$G$22,3,FALSE))))","v":""},{"$f":"IF(E58=\"\",\"\",IF(②選手情報入力!K66=\"\",\"\",IF(I58=1,VLOOKUP(②選手情報入力!K66,種目情報!$A$4:$B$22,2,FALSE),VLOOKUP(②選手情報入力!K66,種目情報!$E$4:$F$22,2,FALSE))))","v":""},{"$f":"IF(E58=\"\",\"\",IF(②選手情報入力!L66=\"\",\"\",②選手情報入力!L66))","v":""},{"$f":"IF(E58=\"\",\"\",IF(②選手情報入力!K66=\"\",\"\",0))","v":""},{"$f":"IF(E58=\"\",\"\",IF(②選手情報入力!K66=\"\",\"\",IF(I58=1,VLOOKUP(②選手情報入力!K66,種目情報!$A$4:$C$22,3,FALSE),VLOOKUP(②選手情報入力!K66,種目情報!$E$4:$G$22,3,FALSE))))","v":""},{"$f":"IF(E58=\"\",\"\",IF(②選手情報入力!M66=\"\",\"\",IF(I58=1,VLOOKUP(②選手情報入力!M66,種目情報!$A$4:$B$22,2,FALSE),VLOOKUP(②選手情報入力!M66,種目情報!$E$4:$F$22,2,FALSE))))","v":""},{"$f":"IF(E58=\"\",\"\",IF(②選手情報入力!N66=\"\",\"\",②選手情報入力!N66))","v":""},{"$f":"IF(E58=\"\",\"\",IF(②選手情報入力!M66=\"\",\"\",0))","v":""},{"$f":"IF(E58=\"\",\"\",IF(②選手情報入力!M66=\"\",\"\",IF(I58=1,VLOOKUP(②選手情報入力!M66,種目情報!$A$4:$C$22,3,FALSE),VLOOKUP(②選手情報入力!M66,種目情報!$E$4:$G$22,3,FALSE))))","v":""},{"$f":"IF(E58=\"\",\"\",IF(②選手情報入力!O66=\"\",\"\",IF(I58=1,種目情報!$J$4,種目情報!$J$6)))","v":""},{"$f":"IF(E58=\"\",\"\",IF(②選手情報入力!O66=\"\",\"\",IF(I58=1,IF(②選手情報入力!$O$5=\"\",\"\",②選手情報入力!$O$5),IF(②選手情報入力!$O$6=\"\",\"\",②選手情報入力!$O$6))))","v":""},{"$f":"IF(E58=\"\",\"\",IF(②選手情報入力!O66=\"\",\"\",0))","v":""},{"$f":"IF(E58=\"\",\"\",IF(②選手情報入力!O66=\"\",\"\",2))","v":""},{"$f":"IF(E58=\"\",\"\",IF(②選手情報入力!P66=\"\",\"\",IF(I58=1,種目情報!$J$5,種目情報!$J$7)))","v":""},{"$f":"IF(E58=\"\",\"\",IF(②選手情報入力!P66=\"\",\"\",IF(I58=1,IF(②選手情報入力!$P$5=\"\",\"\",②選手情報入力!$P$5),IF(②選手情報入力!$P$6=\"\",\"\",②選手情報入力!$P$6))))","v":""},{"$f":"IF(E58=\"\",\"\",IF(②選手情報入力!P66=\"\",\"\",0))","v":""},{"$f":"IF(E58=\"\",\"\",IF(②選手情報入力!P66=\"\",\"\",2))","v":""}]
[{"$f":"IF(E59=\"\",\"\",I59*1000000+①学校情報入力!$D$3*1000+②選手情報入力!A67)","v":""},{"$f":"IF(E59=\"\",\"\",①学校情報入力!$D$3)","v":""},null,{"$f":"IF(②選手情報入力!B67=\"\",\"\",②選手情報入力!B67)","v":""},{"$f":"IF(②選手情報入力!C67=\"\",\"\",②選手情報入力!C67)","v":""},{"$f":"IF(E59=\"\",\"\",②選手情報入力!D67)","v":""},{"$f":"IF(E59=\"\",\"\",②選手情報入力!E67)","v":""},"",{"$f":"IF(E59=\"\",\"\",IF(②選手情報入力!G67=\"男\",1,2))","v":""},{"$f":"IF(E59=\"\",\"\",IF(②選手情報入力!H67=\"\",\"\",②選手情報入力!H67))","v":""},null,"","",null,{"$f":"IF(E59=\"\",\"\",IF(②選手情報入力!I67=\"\",\"\",IF(I59=1,VLOOKUP(②選手情報入力!I67,種目情報!$A$4:$B$22,2,FALSE),VLOOKUP(②選手情報入力!I67,種目情報!$E$4:$F$22,2,FALSE))))","v":""},{"$f":"IF(E59=\"\",\"\",IF(②選手情報入力!J67=\"\",\"\",②選手情報入力!J67))","v":""},{"$f":"IF(E59=\"\",\"\",IF(②選手情報入力!I67=\"\",\"\",0))","v":""},{"$f":"IF(E59=\"\",\"\",IF(②選手情報入力!I67=\"\",\"\",IF(I59=1,VLOOKUP(②選手情報入力!I67,種目情報!$A$4:$C$22,3,FALSE),VLOOKUP(②選手情報入力!I67,種目情報!$E$4:$G$22,3,FALSE))))","v":""},{"$f":"IF(E59=\"\",\"\",IF(②選手情報入力!K67=\"\",\"\",IF(I59=1,VLOOKUP(②選手情報入力!K67,種目情報!$A$4:$B$22,2,FALSE),VLOOKUP(②選手情報入力!K67,種目情報!$E$4:$F$22,2,FALSE))))","v":""},{"$f":"IF(E59=\"\",\"\",IF(②選手情報入力!L67=\"\",\"\",②選手情報入力!L67))","v":""},{"$f":"IF(E59=\"\",\"\",IF(②選手情報入力!K67=\"\",\"\",0))","v":""},{"$f":"IF(E59=\"\",\"\",IF(②選手情報入力!K67=\"\",\"\",IF(I59=1,VLOOKUP(②選手情報入力!K67,種目情報!$A$4:$C$22,3,FALSE),VLOOKUP(②選手情報入力!K67,種目情報!$E$4:$G$22,3,FALSE))))","v":""},{"$f":"IF(E59=\"\",\"\",IF(②選手情報入力!M67=\"\",\"\",IF(I59=1,VLOOKUP(②選手情報入力!M67,種目情報!$A$4:$B$22,2,FALSE),VLOOKUP(②選手情報入力!M67,種目情報!$E$4:$F$22,2,FALSE))))","v":""},{"$f":"IF(E59=\"\",\"\",IF(②選手情報入力!N67=\"\",\"\",②選手情報入力!N67))","v":""},{"$f":"IF(E59=\"\",\"\",IF(②選手情報入力!M67=\"\",\"\",0))","v":""},{"$f":"IF(E59=\"\",\"\",IF(②選手情報入力!M67=\"\",\"\",IF(I59=1,VLOOKUP(②選手情報入力!M67,種目情報!$A$4:$C$22,3,FALSE),VLOOKUP(②選手情報入力!M67,種目情報!$E$4:$G$22,3,FALSE))))","v":""},{"$f":"IF(E59=\"\",\"\",IF(②選手情報入力!O67=\"\",\"\",IF(I59=1,種目情報!$J$4,種目情報!$J$6)))","v":""},{"$f":"IF(E59=\"\",\"\",IF(②選手情報入力!O67=\"\",\"\",IF(I59=1,IF(②選手情報入力!$O$5=\"\",\"\",②選手情報入力!$O$5),IF(②選手情報入力!$O$6=\"\",\"\",②選手情報入力!$O$6))))","v":""},{"$f":"IF(E59=\"\",\"\",IF(②選手情報入力!O67=\"\",\"\",0))","v":""},{"$f":"IF(E59=\"\",\"\",IF(②選手情報入力!O67=\"\",\"\",2))","v":""},{"$f":"IF(E59=\"\",\"\",IF(②選手情報入力!P67=\"\",\"\",IF(I59=1,種目情報!$J$5,種目情報!$J$7)))","v":""},{"$f":"IF(E59=\"\",\"\",IF(②選手情報入力!P67=\"\",\"\",IF(I59=1,IF(②選手情報入力!$P$5=\"\",\"\",②選手情報入力!$P$5),IF(②選手情報入力!$P$6=\"\",\"\",②選手情報入力!$P$6))))","v":""},{"$f":"IF(E59=\"\",\"\",IF(②選手情報入力!P67=\"\",\"\",0))","v":""},{"$f":"IF(E59=\"\",\"\",IF(②選手情報入力!P67=\"\",\"\",2))","v":""}]
[{"$f":"IF(E60=\"\",\"\",I60*1000000+①学校情報入力!$D$3*1000+②選手情報入力!A68)","v":""},{"$f":"IF(E60=\"\",\"\",①学校情報入力!$D$3)","v":""},null,{"$f":"IF(②選手情報入力!B68=\"\",\"\",②選手情報入力!B68)","v":""},{"$f":"IF(②選手情報入力!C68=\"\",\"\",②選手情報入力!C68)","v":""},{"$f":"IF(E60=\"\",\"\",②選手情報入力!D68)","v":""},{"$f":"IF(E60=\"\",\"\",②選手情報入力!E68)","v":""},"",{"$f":"IF(E60=\"\",\"\",IF(②選手情報入力!G68=\"男\",1,2))","v":""},{"$f":"IF(E60=\"\",\"\",IF(②選手情報入力!H68=\"\",\"\",②選手情報入力!H68))","v":""},null,"","",null,{"$f":"IF(E60=\"\",\"\",IF(②選手情報入力!I68=\"\",\"\",IF(I60=1,VLOOKUP(②選手情報入力!I68,種目情報!$A$4:$B$22,2,FALSE),VLOOKUP(②選手情報入力!I68,種目情報!$E$4:$F$22,2,FALSE))))","v":""},{"$f":"IF(E60=\"\",\"\",IF(②選手情報入力!J68=\"\",\"\",②選手情報入力!J68))","v":""},{"$f":"IF(E60=\"\",\"\",IF(②選手情報入力!I68=\"\",\"\",0))","v":""},{"$f":"IF(E60=\"\",\"\",IF(②選手情報入力!I68=\"\",\"\",IF(I60=1,VLOOKUP(②選手情報入力!I68,種目情報!$A$4:$C$22,3,FALSE),VLOOKUP(②選手情報入力!I68,種目情報!$E$4:$G$22,3,FALSE))))","v":""},{"$f":"IF(E60=\"\",\"\",IF(②選手情報入力!K68=\"\",\"\",IF(I60=1,VLOOKUP(②選手情報入力!K68,種目情報!$A$4:$B$22,2,FALSE),VLOOKUP(②選手情報入力!K68,種目情報!$E$4:$F$22,2,FALSE))))","v":""},{"$f":"IF(E60=\"\",\"\",IF(②選手情報入力!L68=\"\",\"\",②選手情報入力!L68))","v":""},{"$f":"IF(E60=\"\",\"\",IF(②選手情報入力!K68=\"\",\"\",0))","v":""},{"$f":"IF(E60=\"\",\"\",IF(②選手情報入力!K68=\"\",\"\",IF(I60=1,VLOOKUP(②選手情報入力!K68,種目情報!$A$4:$C$22,3,FALSE),VLOOKUP(②選手情報入力!K68,種目情報!$E$4:$G$22,3,FALSE))))","v":""},{"$f":"IF(E60=\"\",\"\",IF(②選手情報入力!M68=\"\",\"\",IF(I60=1,VLOOKUP(②選手情報入力!M68,種目情報!$A$4:$B$22,2,FALSE),VLOOKUP(②選手情報入力!M68,種目情報!$E$4:$F$22,2,FALSE))))","v":""},{"$f":"IF(E60=\"\",\"\",IF(②選手情報入力!N68=\"\",\"\",②選手情報入力!N68))","v":""},{"$f":"IF(E60=\"\",\"\",IF(②選手情報入力!M68=\"\",\"\",0))","v":""},{"$f":"IF(E60=\"\",\"\",IF(②選手情報入力!M68=\"\",\"\",IF(I60=1,VLOOKUP(②選手情報入力!M68,種目情報!$A$4:$C$22,3,FALSE),VLOOKUP(②選手情報入力!M68,種目情報!$E$4:$G$22,3,FALSE))))","v":""},{"$f":"IF(E60=\"\",\"\",IF(②選手情報入力!O68=\"\",\"\",IF(I60=1,種目情報!$J$4,種目情報!$J$6)))","v":""},{"$f":"IF(E60=\"\",\"\",IF(②選手情報入力!O68=\"\",\"\",IF(I60=1,IF(②選手情報入力!$O$5=\"\",\"\",②選手情報入力!$O$5),IF(②選手情報入力!$O$6=\"\",\"\",②選手情報入力!$O$6))))","v":""},{"$f":"IF(E60=\"\",\"\",IF(②選手情報入力!O68=\"\",\"\",0))","v":""},{"$f":"IF(E60=\"\",\"\",IF(②選手情報入力!O68=\"\",\"\",2))","v":""},{"$f":"IF(E60=\"\",\"\",IF(②選手情報入力!P68=\"\",\"\",IF(I60=1,種目情報!$J$5,種目情報!$J$7)))","v":""},{"$f":"IF(E60=\"\",\"\",IF(②選手情報入力!P68=\"\",\"\",IF(I60=1,IF(②選手情報入力!$P$5=\"\",\"\",②選手情報入力!$P$5),IF(②選手情報入力!$P$6=\"\",\"\",②選手情報入力!$P$6))))","v":""},{"$f":"IF(E60=\"\",\"\",IF(②選手情報入力!P68=\"\",\"\",0))","v":""},{"$f":"IF(E60=\"\",\"\",IF(②選手情報入力!P68=\"\",\"\",2))","v":""}]
[{"$f":"IF(E61=\"\",\"\",I61*1000000+①学校情報入力!$D$3*1000+②選手情報入力!A69)","v":""},{"$f":"IF(E61=\"\",\"\",①学校情報入力!$D$3)","v":""},null,{"$f":"IF(②選手情報入力!B69=\"\",\"\",②選手情報入力!B69)","v":""},{"$f":"IF(②選手情報入力!C69=\"\",\"\",②選手情報入力!C69)","v":""},{"$f":"IF(E61=\"\",\"\",②選手情報入力!D69)","v":""},{"$f":"IF(E61=\"\",\"\",②選手情報入力!E69)","v":""},"",{"$f":"IF(E61=\"\",\"\",IF(②選手情報入力!G69=\"男\",1,2))","v":""},{"$f":"IF(E61=\"\",\"\",IF(②選手情報入力!H69=\"\",\"\",②選手情報入力!H69))","v":""},null,"","",null,{"$f":"IF(E61=\"\",\"\",IF(②選手情報入力!I69=\"\",\"\",IF(I61=1,VLOOKUP(②選手情報入力!I69,種目情報!$A$4:$B$22,2,FALSE),VLOOKUP(②選手情報入力!I69,種目情報!$E$4:$F$22,2,FALSE))))","v":""},{"$f":"IF(E61=\"\",\"\",IF(②選手情報入力!J69=\"\",\"\",②選手情報入力!J69))","v":""},{"$f":"IF(E61=\"\",\"\",IF(②選手情報入力!I69=\"\",\"\",0))","v":""},{"$f":"IF(E61=\"\",\"\",IF(②選手情報入力!I69=\"\",\"\",IF(I61=1,VLOOKUP(②選手情報入力!I69,種目情報!$A$4:$C$22,3,FALSE),VLOOKUP(②選手情報入力!I69,種目情報!$E$4:$G$22,3,FALSE))))","v":""},{"$f":"IF(E61=\"\",\"\",IF(②選手情報入力!K69=\"\",\"\",IF(I61=1,VLOOKUP(②選手情報入力!K69,種目情報!$A$4:$B$22,2,FALSE),VLOOKUP(②選手情報入力!K69,種目情報!$E$4:$F$22,2,FALSE))))","v":""},{"$f":"IF(E61=\"\",\"\",IF(②選手情報入力!L69=\"\",\"\",②選手情報入力!L69))","v":""},{"$f":"IF(E61=\"\",\"\",IF(②選手情報入力!K69=\"\",\"\",0))","v":""},{"$f":"IF(E61=\"\",\"\",IF(②選手情報入力!K69=\"\",\"\",IF(I61=1,VLOOKUP(②選手情報入力!K69,種目情報!$A$4:$C$22,3,FALSE),VLOOKUP(②選手情報入力!K69,種目情報!$E$4:$G$22,3,FALSE))))","v":""},{"$f":"IF(E61=\"\",\"\",IF(②選手情報入力!M69=\"\",\"\",IF(I61=1,VLOOKUP(②選手情報入力!M69,種目情報!$A$4:$B$22,2,FALSE),VLOOKUP(②選手情報入力!M69,種目情報!$E$4:$F$22,2,FALSE))))","v":""},{"$f":"IF(E61=\"\",\"\",IF(②選手情報入力!N69=\"\",\"\",②選手情報入力!N69))","v":""},{"$f":"IF(E61=\"\",\"\",IF(②選手情報入力!M69=\"\",\"\",0))","v":""},{"$f":"IF(E61=\"\",\"\",IF(②選手情報入力!M69=\"\",\"\",IF(I61=1,VLOOKUP(②選手情報入力!M69,種目情報!$A$4:$C$22,3,FALSE),VLOOKUP(②選手情報入力!M69,種目情報!$E$4:$G$22,3,FALSE))))","v":""},{"$f":"IF(E61=\"\",\"\",IF(②選手情報入力!O69=\"\",\"\",IF(I61=1,種目情報!$J$4,種目情報!$J$6)))","v":""},{"$f":"IF(E61=\"\",\"\",IF(②選手情報入力!O69=\"\",\"\",IF(I61=1,IF(②選手情報入力!$O$5=\"\",\"\",②選手情報入力!$O$5),IF(②選手情報入力!$O$6=\"\",\"\",②選手情報入力!$O$6))))","v":""},{"$f":"IF(E61=\"\",\"\",IF(②選手情報入力!O69=\"\",\"\",0))","v":""},{"$f":"IF(E61=\"\",\"\",IF(②選手情報入力!O69=\"\",\"\",2))","v":""},{"$f":"IF(E61=\"\",\"\",IF(②選手情報入力!P69=\"\",\"\",IF(I61=1,種目情報!$J$5,種目情報!$J$7)))","v":""},{"$f":"IF(E61=\"\",\"\",IF(②選手情報入力!P69=\"\",\"\",IF(I61=1,IF(②選手情報入力!$P$5=\"\",\"\",②選手情報入力!$P$5),IF(②選手情報入力!$P$6=\"\",\"\",②選手情報入力!$P$6))))","v":""},{"$f":"IF(E61=\"\",\"\",IF(②選手情報入力!P69=\"\",\"\",0))","v":""},{"$f":"IF(E61=\"\",\"\",IF(②選手情報入力!P69=\"\",\"\",2))","v":""}]
[{"$f":"IF(E62=\"\",\"\",I62*1000000+①学校情報入力!$D$3*1000+②選手情報入力!A70)","v":""},{"$f":"IF(E62=\"\",\"\",①学校情報入力!$D$3)","v":""},null,{"$f":"IF(②選手情報入力!B70=\"\",\"\",②選手情報入力!B70)","v":""},{"$f":"IF(②選手情報入力!C70=\"\",\"\",②選手情報入力!C70)","v":""},{"$f":"IF(E62=\"\",\"\",②選手情報入力!D70)","v":""},{"$f":"IF(E62=\"\",\"\",②選手情報入力!E70)","v":""},"",{"$f":"IF(E62=\"\",\"\",IF(②選手情報入力!G70=\"男\",1,2))","v":""},{"$f":"IF(E62=\"\",\"\",IF(②選手情報入力!H70=\"\",\"\",②選手情報入力!H70))","v":""},null,"","",null,{"$f":"IF(E62=\"\",\"\",IF(②選手情報入力!I70=\"\",\"\",IF(I62=1,VLOOKUP(②選手情報入力!I70,種目情報!$A$4:$B$22,2,FALSE),VLOOKUP(②選手情報入力!I70,種目情報!$E$4:$F$22,2,FALSE))))","v":""},{"$f":"IF(E62=\"\",\"\",IF(②選手情報入力!J70=\"\",\"\",②選手情報入力!J70))","v":""},{"$f":"IF(E62=\"\",\"\",IF(②選手情報入力!I70=\"\",\"\",0))","v":""},{"$f":"IF(E62=\"\",\"\",IF(②選手情報入力!I70=\"\",\"\",IF(I62=1,VLOOKUP(②選手情報入力!I70,種目情報!$A$4:$C$22,3,FALSE),VLOOKUP(②選手情報入力!I70,種目情報!$E$4:$G$22,3,FALSE))))","v":""},{"$f":"IF(E62=\"\",\"\",IF(②選手情報入力!K70=\"\",\"\",IF(I62=1,VLOOKUP(②選手情報入力!K70,種目情報!$A$4:$B$22,2,FALSE),VLOOKUP(②選手情報入力!K70,種目情報!$E$4:$F$22,2,FALSE))))","v":""},{"$f":"IF(E62=\"\",\"\",IF(②選手情報入力!L70=\"\",\"\",②選手情報入力!L70))","v":""},{"$f":"IF(E62=\"\",\"\",IF(②選手情報入力!K70=\"\",\"\",0))","v":""},{"$f":"IF(E62=\"\",\"\",IF(②選手情報入力!K70=\"\",\"\",IF(I62=1,VLOOKUP(②選手情報入力!K70,種目情報!$A$4:$C$22,3,FALSE),VLOOKUP(②選手情報入力!K70,種目情報!$E$4:$G$22,3,FALSE))))","v":""},{"$f":"IF(E62=\"\",\"\",IF(②選手情報入力!M70=\"\",\"\",IF(I62=1,VLOOKUP(②選手情報入力!M70,種目情報!$A$4:$B$22,2,FALSE),VLOOKUP(②選手情報入力!M70,種目情報!$E$4:$F$22,2,FALSE))))","v":""},{"$f":"IF(E62=\"\",\"\",IF(②選手情報入力!N70=\"\",\"\",②選手情報入力!N70))","v":""},{"$f":"IF(E62=\"\",\"\",IF(②選手情報入力!M70=\"\",\"\",0))","v":""},{"$f":"IF(E62=\"\",\"\",IF(②選手情報入力!M70=\"\",\"\",IF(I62=1,VLOOKUP(②選手情報入力!M70,種目情報!$A$4:$C$22,3,FALSE),VLOOKUP(②選手情報入力!M70,種目情報!$E$4:$G$22,3,FALSE))))","v":""},{"$f":"IF(E62=\"\",\"\",IF(②選手情報入力!O70=\"\",\"\",IF(I62=1,種目情報!$J$4,種目情報!$J$6)))","v":""},{"$f":"IF(E62=\"\",\"\",IF(②選手情報入力!O70=\"\",\"\",IF(I62=1,IF(②選手情報入力!$O$5=\"\",\"\",②選手情報入力!$O$5),IF(②選手情報入力!$O$6=\"\",\"\",②選手情報入力!$O$6))))","v":""},{"$f":"IF(E62=\"\",\"\",IF(②選手情報入力!O70=\"\",\"\",0))","v":""},{"$f":"IF(E62=\"\",\"\",IF(②選手情報入力!O70=\"\",\"\",2))","v":""},{"$f":"IF(E62=\"\",\"\",IF(②選手情報入力!P70=\"\",\"\",IF(I62=1,種目情報!$J$5,種目情報!$J$7)))","v":""},{"$f":"IF(E62=\"\",\"\",IF(②選手情報入力!P70=\"\",\"\",IF(I62=1,IF(②選手情報入力!$P$5=\"\",\"\",②選手情報入力!$P$5),IF(②選手情報入力!$P$6=\"\",\"\",②選手情報入力!$P$6))))","v":""},{"$f":"IF(E62=\"\",\"\",IF(②選手情報入力!P70=\"\",\"\",0))","v":""},{"$f":"IF(E62=\"\",\"\",IF(②選手情報入力!P70=\"\",\"\",2))","v":""}]
[{"$f":"IF(E63=\"\",\"\",I63*1000000+①学校情報入力!$D$3*1000+②選手情報入力!A71)","v":""},{"$f":"IF(E63=\"\",\"\",①学校情報入力!$D$3)","v":""},null,{"$f":"IF(②選手情報入力!B71=\"\",\"\",②選手情報入力!B71)","v":""},{"$f":"IF(②選手情報入力!C71=\"\",\"\",②選手情報入力!C71)","v":""},{"$f":"IF(E63=\"\",\"\",②選手情報入力!D71)","v":""},{"$f":"IF(E63=\"\",\"\",②選手情報入力!E71)","v":""},"",{"$f":"IF(E63=\"\",\"\",IF(②選手情報入力!G71=\"男\",1,2))","v":""},{"$f":"IF(E63=\"\",\"\",IF(②選手情報入力!H71=\"\",\"\",②選手情報入力!H71))","v":""},null,"","",null,{"$f":"IF(E63=\"\",\"\",IF(②選手情報入力!I71=\"\",\"\",IF(I63=1,VLOOKUP(②選手情報入力!I71,種目情報!$A$4:$B$22,2,FALSE),VLOOKUP(②選手情報入力!I71,種目情報!$E$4:$F$22,2,FALSE))))","v":""},{"$f":"IF(E63=\"\",\"\",IF(②選手情報入力!J71=\"\",\"\",②選手情報入力!J71))","v":""},{"$f":"IF(E63=\"\",\"\",IF(②選手情報入力!I71=\"\",\"\",0))","v":""},{"$f":"IF(E63=\"\",\"\",IF(②選手情報入力!I71=\"\",\"\",IF(I63=1,VLOOKUP(②選手情報入力!I71,種目情報!$A$4:$C$22,3,FALSE),VLOOKUP(②選手情報入力!I71,種目情報!$E$4:$G$22,3,FALSE))))","v":""},{"$f":"IF(E63=\"\",\"\",IF(②選手情報入力!K71=\"\",\"\",IF(I63=1,VLOOKUP(②選手情報入力!K71,種目情報!$A$4:$B$22,2,FALSE),VLOOKUP(②選手情報入力!K71,種目情報!$E$4:$F$22,2,FALSE))))","v":""},{"$f":"IF(E63=\"\",\"\",IF(②選手情報入力!L71=\"\",\"\",②選手情報入力!L71))","v":""},{"$f":"IF(E63=\"\",\"\",IF(②選手情報入力!K71=\"\",\"\",0))","v":""},{"$f":"IF(E63=\"\",\"\",IF(②選手情報入力!K71=\"\",\"\",IF(I63=1,VLOOKUP(②選手情報入力!K71,種目情報!$A$4:$C$22,3,FALSE),VLOOKUP(②選手情報入力!K71,種目情報!$E$4:$G$22,3,FALSE))))","v":""},{"$f":"IF(E63=\"\",\"\",IF(②選手情報入力!M71=\"\",\"\",IF(I63=1,VLOOKUP(②選手情報入力!M71,種目情報!$A$4:$B$22,2,FALSE),VLOOKUP(②選手情報入力!M71,種目情報!$E$4:$F$22,2,FALSE))))","v":""},{"$f":"IF(E63=\"\",\"\",IF(②選手情報入力!N71=\"\",\"\",②選手情報入力!N71))","v":""},{"$f":"IF(E63=\"\",\"\",IF(②選手情報入力!M71=\"\",\"\",0))","v":""},{"$f":"IF(E63=\"\",\"\",IF(②選手情報入力!M71=\"\",\"\",IF(I63=1,VLOOKUP(②選手情報入力!M71,種目情報!$A$4:$C$22,3,FALSE),VLOOKUP(②選手情報入力!M71,種目情報!$E$4:$G$22,3,FALSE))))","v":""},{"$f":"IF(E63=\"\",\"\",IF(②選手情報入力!O71=\"\",\"\",IF(I63=1,種目情報!$J$4,種目情報!$J$6)))","v":""},{"$f":"IF(E63=\"\",\"\",IF(②選手情報入力!O71=\"\",\"\",IF(I63=1,IF(②選手情報入力!$O$5=\"\",\"\",②選手情報入力!$O$5),IF(②選手情報入力!$O$6=\"\",\"\",②選手情報入力!$O$6))))","v":""},{"$f":"IF(E63=\"\",\"\",IF(②選手情報入力!O71=\"\",\"\",0))","v":""},{"$f":"IF(E63=\"\",\"\",IF(②選手情報入力!O71=\"\",\"\",2))","v":""},{"$f":"IF(E63=\"\",\"\",IF(②選手情報入力!P71=\"\",\"\",IF(I63=1,種目情報!$J$5,種目情報!$J$7)))","v":""},{"$f":"IF(E63=\"\",\"\",IF(②選手情報入力!P71=\"\",\"\",IF(I63=1,IF(②選手情報入力!$P$5=\"\",\"\",②選手情報入力!$P$5),IF(②選手情報入力!$P$6=\"\",\"\",②選手情報入力!$P$6))))","v":""},{"$f":"IF(E63=\"\",\"\",IF(②選手情報入力!P71=\"\",\"\",0))","v":""},{"$f":"IF(E63=\"\",\"\",IF(②選手情報入力!P71=\"\",\"\",2))","v":""}]
[{"$f":"IF(E64=\"\",\"\",I64*1000000+①学校情報入力!$D$3*1000+②選手情報入力!A72)","v":""},{"$f":"IF(E64=\"\",\"\",①学校情報入力!$D$3)","v":""},null,{"$f":"IF(②選手情報入力!B72=\"\",\"\",②選手情報入力!B72)","v":""},{"$f":"IF(②選手情報入力!C72=\"\",\"\",②選手情報入力!C72)","v":""},{"$f":"IF(E64=\"\",\"\",②選手情報入力!D72)","v":""},{"$f":"IF(E64=\"\",\"\",②選手情報入力!E72)","v":""},"",{"$f":"IF(E64=\"\",\"\",IF(②選手情報入力!G72=\"男\",1,2))","v":""},{"$f":"IF(E64=\"\",\"\",IF(②選手情報入力!H72=\"\",\"\",②選手情報入力!H72))","v":""},null,"","",null,{"$f":"IF(E64=\"\",\"\",IF(②選手情報入力!I72=\"\",\"\",IF(I64=1,VLOOKUP(②選手情報入力!I72,種目情報!$A$4:$B$22,2,FALSE),VLOOKUP(②選手情報入力!I72,種目情報!$E$4:$F$22,2,FALSE))))","v":""},{"$f":"IF(E64=\"\",\"\",IF(②選手情報入力!J72=\"\",\"\",②選手情報入力!J72))","v":""},{"$f":"IF(E64=\"\",\"\",IF(②選手情報入力!I72=\"\",\"\",0))","v":""},{"$f":"IF(E64=\"\",\"\",IF(②選手情報入力!I72=\"\",\"\",IF(I64=1,VLOOKUP(②選手情報入力!I72,種目情報!$A$4:$C$22,3,FALSE),VLOOKUP(②選手情報入力!I72,種目情報!$E$4:$G$22,3,FALSE))))","v":""},{"$f":"IF(E64=\"\",\"\",IF(②選手情報入力!K72=\"\",\"\",IF(I64=1,VLOOKUP(②選手情報入力!K72,種目情報!$A$4:$B$22,2,FALSE),VLOOKUP(②選手情報入力!K72,種目情報!$E$4:$F$22,2,FALSE))))","v":""},{"$f":"IF(E64=\"\",\"\",IF(②選手情報入力!L72=\"\",\"\",②選手情報入力!L72))","v":""},{"$f":"IF(E64=\"\",\"\",IF(②選手情報入力!K72=\"\",\"\",0))","v":""},{"$f":"IF(E64=\"\",\"\",IF(②選手情報入力!K72=\"\",\"\",IF(I64=1,VLOOKUP(②選手情報入力!K72,種目情報!$A$4:$C$22,3,FALSE),VLOOKUP(②選手情報入力!K72,種目情報!$E$4:$G$22,3,FALSE))))","v":""},{"$f":"IF(E64=\"\",\"\",IF(②選手情報入力!M72=\"\",\"\",IF(I64=1,VLOOKUP(②選手情報入力!M72,種目情報!$A$4:$B$22,2,FALSE),VLOOKUP(②選手情報入力!M72,種目情報!$E$4:$F$22,2,FALSE))))","v":""},{"$f":"IF(E64=\"\",\"\",IF(②選手情報入力!N72=\"\",\"\",②選手情報入力!N72))","v":""},{"$f":"IF(E64=\"\",\"\",IF(②選手情報入力!M72=\"\",\"\",0))","v":""},{"$f":"IF(E64=\"\",\"\",IF(②選手情報入力!M72=\"\",\"\",IF(I64=1,VLOOKUP(②選手情報入力!M72,種目情報!$A$4:$C$22,3,FALSE),VLOOKUP(②選手情報入力!M72,種目情報!$E$4:$G$22,3,FALSE))))","v":""},{"$f":"IF(E64=\"\",\"\",IF(②選手情報入力!O72=\"\",\"\",IF(I64=1,種目情報!$J$4,種目情報!$J$6)))","v":""},{"$f":"IF(E64=\"\",\"\",IF(②選手情報入力!O72=\"\",\"\",IF(I64=1,IF(②選手情報入力!$O$5=\"\",\"\",②選手情報入力!$O$5),IF(②選手情報入力!$O$6=\"\",\"\",②選手情報入力!$O$6))))","v":""},{"$f":"IF(E64=\"\",\"\",IF(②選手情報入力!O72=\"\",\"\",0))","v":""},{"$f":"IF(E64=\"\",\"\",IF(②選手情報入力!O72=\"\",\"\",2))","v":""},{"$f":"IF(E64=\"\",\"\",IF(②選手情報入力!P72=\"\",\"\",IF(I64=1,種目情報!$J$5,種目情報!$J$7)))","v":""},{"$f":"IF(E64=\"\",\"\",IF(②選手情報入力!P72=\"\",\"\",IF(I64=1,IF(②選手情報入力!$P$5=\"\",\"\",②選手情報入力!$P$5),IF(②選手情報入力!$P$6=\"\",\"\",②選手情報入力!$P$6))))","v":""},{"$f":"IF(E64=\"\",\"\",IF(②選手情報入力!P72=\"\",\"\",0))","v":""},{"$f":"IF(E64=\"\",\"\",IF(②選手情報入力!P72=\"\",\"\",2))","v":""}]
[{"$f":"IF(E65=\"\",\"\",I65*1000000+①学校情報入力!$D$3*1000+②選手情報入力!A73)","v":""},{"$f":"IF(E65=\"\",\"\",①学校情報入力!$D$3)","v":""},null,{"$f":"IF(②選手情報入力!B73=\"\",\"\",②選手情報入力!B73)","v":""},{"$f":"IF(②選手情報入力!C73=\"\",\"\",②選手情報入力!C73)","v":""},{"$f":"IF(E65=\"\",\"\",②選手情報入力!D73)","v":""},{"$f":"IF(E65=\"\",\"\",②選手情報入力!E73)","v":""},"",{"$f":"IF(E65=\"\",\"\",IF(②選手情報入力!G73=\"男\",1,2))","v":""},{"$f":"IF(E65=\"\",\"\",IF(②選手情報入力!H73=\"\",\"\",②選手情報入力!H73))","v":""},null,"","",null,{"$f":"IF(E65=\"\",\"\",IF(②選手情報入力!I73=\"\",\"\",IF(I65=1,VLOOKUP(②選手情報入力!I73,種目情報!$A$4:$B$22,2,FALSE),VLOOKUP(②選手情報入力!I73,種目情報!$E$4:$F$22,2,FALSE))))","v":""},{"$f":"IF(E65=\"\",\"\",IF(②選手情報入力!J73=\"\",\"\",②選手情報入力!J73))","v":""},{"$f":"IF(E65=\"\",\"\",IF(②選手情報入力!I73=\"\",\"\",0))","v":""},{"$f":"IF(E65=\"\",\"\",IF(②選手情報入力!I73=\"\",\"\",IF(I65=1,VLOOKUP(②選手情報入力!I73,種目情報!$A$4:$C$22,3,FALSE),VLOOKUP(②選手情報入力!I73,種目情報!$E$4:$G$22,3,FALSE))))","v":""},{"$f":"IF(E65=\"\",\"\",IF(②選手情報入力!K73=\"\",\"\",IF(I65=1,VLOOKUP(②選手情報入力!K73,種目情報!$A$4:$B$22,2,FALSE),VLOOKUP(②選手情報入力!K73,種目情報!$E$4:$F$22,2,FALSE))))","v":""},{"$f":"IF(E65=\"\",\"\",IF(②選手情報入力!L73=\"\",\"\",②選手情報入力!L73))","v":""},{"$f":"IF(E65=\"\",\"\",IF(②選手情報入力!K73=\"\",\"\",0))","v":""},{"$f":"IF(E65=\"\",\"\",IF(②選手情報入力!K73=\"\",\"\",IF(I65=1,VLOOKUP(②選手情報入力!K73,種目情報!$A$4:$C$22,3,FALSE),VLOOKUP(②選手情報入力!K73,種目情報!$E$4:$G$22,3,FALSE))))","v":""},{"$f":"IF(E65=\"\",\"\",IF(②選手情報入力!M73=\"\",\"\",IF(I65=1,VLOOKUP(②選手情報入力!M73,種目情報!$A$4:$B$22,2,FALSE),VLOOKUP(②選手情報入力!M73,種目情報!$E$4:$F$22,2,FALSE))))","v":""},{"$f":"IF(E65=\"\",\"\",IF(②選手情報入力!N73=\"\",\"\",②選手情報入力!N73))","v":""},{"$f":"IF(E65=\"\",\"\",IF(②選手情報入力!M73=\"\",\"\",0))","v":""},{"$f":"IF(E65=\"\",\"\",IF(②選手情報入力!M73=\"\",\"\",IF(I65=1,VLOOKUP(②選手情報入力!M73,種目情報!$A$4:$C$22,3,FALSE),VLOOKUP(②選手情報入力!M73,種目情報!$E$4:$G$22,3,FALSE))))","v":""},{"$f":"IF(E65=\"\",\"\",IF(②選手情報入力!O73=\"\",\"\",IF(I65=1,種目情報!$J$4,種目情報!$J$6)))","v":""},{"$f":"IF(E65=\"\",\"\",IF(②選手情報入力!O73=\"\",\"\",IF(I65=1,IF(②選手情報入力!$O$5=\"\",\"\",②選手情報入力!$O$5),IF(②選手情報入力!$O$6=\"\",\"\",②選手情報入力!$O$6))))","v":""},{"$f":"IF(E65=\"\",\"\",IF(②選手情報入力!O73=\"\",\"\",0))","v":""},{"$f":"IF(E65=\"\",\"\",IF(②選手情報入力!O73=\"\",\"\",2))","v":""},{"$f":"IF(E65=\"\",\"\",IF(②選手情報入力!P73=\"\",\"\",IF(I65=1,種目情報!$J$5,種目情報!$J$7)))","v":""},{"$f":"IF(E65=\"\",\"\",IF(②選手情報入力!P73=\"\",\"\",IF(I65=1,IF(②選手情報入力!$P$5=\"\",\"\",②選手情報入力!$P$5),IF(②選手情報入力!$P$6=\"\",\"\",②選手情報入力!$P$6))))","v":""},{"$f":"IF(E65=\"\",\"\",IF(②選手情報入力!P73=\"\",\"\",0))","v":""},{"$f":"IF(E65=\"\",\"\",IF(②選手情報入力!P73=\"\",\"\",2))","v":""}]
[{"$f":"IF(E66=\"\",\"\",I66*1000000+①学校情報入力!$D$3*1000+②選手情報入力!A74)","v":""},{"$f":"IF(E66=\"\",\"\",①学校情報入力!$D$3)","v":""},null,{"$f":"IF(②選手情報入力!B74=\"\",\"\",②選手情報入力!B74)","v":""},{"$f":"IF(②選手情報入力!C74=\"\",\"\",②選手情報入力!C74)","v":""},{"$f":"IF(E66=\"\",\"\",②選手情報入力!D74)","v":""},{"$f":"IF(E66=\"\",\"\",②選手情報入力!E74)","v":""},"",{"$f":"IF(E66=\"\",\"\",IF(②選手情報入力!G74=\"男\",1,2))","v":""},{"$f":"IF(E66=\"\",\"\",IF(②選手情報入力!H74=\"\",\"\",②選手情報入力!H74))","v":""},null,"","",null,{"$f":"IF(E66=\"\",\"\",IF(②選手情報入力!I74=\"\",\"\",IF(I66=1,VLOOKUP(②選手情報入力!I74,種目情報!$A$4:$B$22,2,FALSE),VLOOKUP(②選手情報入力!I74,種目情報!$E$4:$F$22,2,FALSE))))","v":""},{"$f":"IF(E66=\"\",\"\",IF(②選手情報入力!J74=\"\",\"\",②選手情報入力!J74))","v":""},{"$f":"IF(E66=\"\",\"\",IF(②選手情報入力!I74=\"\",\"\",0))","v":""},{"$f":"IF(E66=\"\",\"\",IF(②選手情報入力!I74=\"\",\"\",IF(I66=1,VLOOKUP(②選手情報入力!I74,種目情報!$A$4:$C$22,3,FALSE),VLOOKUP(②選手情報入力!I74,種目情報!$E$4:$G$22,3,FALSE))))","v":""},{"$f":"IF(E66=\"\",\"\",IF(②選手情報入力!K74=\"\",\"\",IF(I66=1,VLOOKUP(②選手情報入力!K74,種目情報!$A$4:$B$22,2,FALSE),VLOOKUP(②選手情報入力!K74,種目情報!$E$4:$F$22,2,FALSE))))","v":""},{"$f":"IF(E66=\"\",\"\",IF(②選手情報入力!L74=\"\",\"\",②選手情報入力!L74))","v":""},{"$f":"IF(E66=\"\",\"\",IF(②選手情報入力!K74=\"\",\"\",0))","v":""},{"$f":"IF(E66=\"\",\"\",IF(②選手情報入力!K74=\"\",\"\",IF(I66=1,VLOOKUP(②選手情報入力!K74,種目情報!$A$4:$C$22,3,FALSE),VLOOKUP(②選手情報入力!K74,種目情報!$E$4:$G$22,3,FALSE))))","v":""},{"$f":"IF(E66=\"\",\"\",IF(②選手情報入力!M74=\"\",\"\",IF(I66=1,VLOOKUP(②選手情報入力!M74,種目情報!$A$4:$B$22,2,FALSE),VLOOKUP(②選手情報入力!M74,種目情報!$E$4:$F$22,2,FALSE))))","v":""},{"$f":"IF(E66=\"\",\"\",IF(②選手情報入力!N74=\"\",\"\",②選手情報入力!N74))","v":""},{"$f":"IF(E66=\"\",\"\",IF(②選手情報入力!M74=\"\",\"\",0))","v":""},{"$f":"IF(E66=\"\",\"\",IF(②選手情報入力!M74=\"\",\"\",IF(I66=1,VLOOKUP(②選手情報入力!M74,種目情報!$A$4:$C$22,3,FALSE),VLOOKUP(②選手情報入力!M74,種目情報!$E$4:$G$22,3,FALSE))))","v":""},{"$f":"IF(E66=\"\",\"\",IF(②選手情報入力!O74=\"\",\"\",IF(I66=1,種目情報!$J$4,種目情報!$J$6)))","v":""},{"$f":"IF(E66=\"\",\"\",IF(②選手情報入力!O74=\"\",\"\",IF(I66=1,IF(②選手情報入力!$O$5=\"\",\"\",②選手情報入力!$O$5),IF(②選手情報入力!$O$6=\"\",\"\",②選手情報入力!$O$6))))","v":""},{"$f":"IF(E66=\"\",\"\",IF(②選手情報入力!O74=\"\",\"\",0))","v":""},{"$f":"IF(E66=\"\",\"\",IF(②選手情報入力!O74=\"\",\"\",2))","v":""},{"$f":"IF(E66=\"\",\"\",IF(②選手情報入力!P74=\"\",\"\",IF(I66=1,種目情報!$J$5,種目情報!$J$7)))","v":""},{"$f":"IF(E66=\"\",\"\",IF(②選手情報入力!P74=\"\",\"\",IF(I66=1,IF(②選手情報入力!$P$5=\"\",\"\",②選手情報入力!$P$5),IF(②選手情報入力!$P$6=\"\",\"\",②選手情報入力!$P$6))))","v":""},{"$f":"IF(E66=\"\",\"\",IF(②選手情報入力!P74=\"\",\"\",0))","v":""},{"$f":"IF(E66=\"\",\"\",IF(②選手情報入力!P74=\"\",\"\",2))","v":""}]
[{"$f":"IF(E67=\"\",\"\",I67*1000000+①学校情報入力!$D$3*1000+②選手情報入力!A75)","v":""},{"$f":"IF(E67=\"\",\"\",①学校情報入力!$D$3)","v":""},null,{"$f":"IF(②選手情報入力!B75=\"\",\"\",②選手情報入力!B75)","v":""},{"$f":"IF(②選手情報入力!C75=\"\",\"\",②選手情報入力!C75)","v":""},{"$f":"IF(E67=\"\",\"\",②選手情報入力!D75)","v":""},{"$f":"IF(E67=\"\",\"\",②選手情報入力!E75)","v":""},{"$f":"IF(E67=\"\",\"\",F67)","v":""},{"$f":"IF(E67=\"\",\"\",IF(②選手情報入力!G75=\"男\",1,2))","v":""},{"$f":"IF(E67=\"\",\"\",IF(②選手情報入力!H75=\"\",\"\",②選手情報入力!H75))","v":""},null,{"$f":"IF(E67=\"\",\"\",0)","v":""},{"$f":"IF(E67=\"\",\"\",\"愛知\")","v":""},null,{"$f":"IF(E67=\"\",\"\",IF(②選手情報入力!I75=\"\",\"\",IF(I67=1,VLOOKUP(②選手情報入力!I75,種目情報!$A$4:$B$22,2,FALSE),VLOOKUP(②選手情報入力!I75,種目情報!$E$4:$F$22,2,FALSE))))","v":""},{"$f":"IF(E67=\"\",\"\",IF(②選手情報入力!J75=\"\",\"\",②選手情報入力!J75))","v":""},{"$f":"IF(E67=\"\",\"\",IF(②選手情報入力!I75=\"\",\"\",0))","v":""},{"$f":"IF(E67=\"\",\"\",IF(②選手情報入力!I75=\"\",\"\",IF(I67=1,VLOOKUP(②選手情報入力!I75,種目情報!$A$4:$C$22,3,FALSE),VLOOKUP(②選手情報入力!I75,種目情報!$E$4:$G$22,3,FALSE))))","v":""},{"$f":"IF(E67=\"\",\"\",IF(②選手情報入力!K75=\"\",\"\",IF(I67=1,VLOOKUP(②選手情報入力!K75,種目情報!$A$4:$B$22,2,FALSE),VLOOKUP(②選手情報入力!K75,種目情報!$E$4:$F$22,2,FALSE))))","v":""},{"$f":"IF(E67=\"\",\"\",IF(②選手情報入力!L75=\"\",\"\",②選手情報入力!L75))","v":""},{"$f":"IF(E67=\"\",\"\",IF(②選手情報入力!K75=\"\",\"\",0))","v":""},{"$f":"IF(E67=\"\",\"\",IF(②選手情報入力!K75=\"\",\"\",IF(I67=1,VLOOKUP(②選手情報入力!K75,種目情報!$A$4:$C$22,3,FALSE),VLOOKUP(②選手情報入力!K75,種目情報!$E$4:$G$22,3,FALSE))))","v":""},{"$f":"IF(E67=\"\",\"\",IF(②選手情報入力!M75=\"\",\"\",IF(I67=1,VLOOKUP(②選手情報入力!M75,種目情報!$A$4:$B$22,2,FALSE),VLOOKUP(②選手情報入力!M75,種目情報!$E$4:$F$22,2,FALSE))))","v":""},{"$f":"IF(E67=\"\",\"\",IF(②選手情報入力!N75=\"\",\"\",②選手情報入力!N75))","v":""},{"$f":"IF(E67=\"\",\"\",IF(②選手情報入力!M75=\"\",\"\",0))","v":""},{"$f":"IF(E67=\"\",\"\",IF(②選手情報入力!M75=\"\",\"\",IF(I67=1,VLOOKUP(②選手情報入力!M75,種目情報!$A$4:$C$22,3,FALSE),VLOOKUP(②選手情報入力!M75,種目情報!$E$4:$G$22,3,FALSE))))","v":""},{"$f":"IF(E67=\"\",\"\",IF(②選手情報入力!O75=\"\",\"\",IF(I67=1,種目情報!$J$4,種目情報!$J$6)))","v":""},{"$f":"IF(E67=\"\",\"\",IF(②選手情報入力!O75=\"\",\"\",IF(I67=1,IF(②選手情報入力!$O$5=\"\",\"\",②選手情報入力!$O$5),IF(②選手情報入力!$O$6=\"\",\"\",②選手情報入力!$O$6))))","v":""},{"$f":"IF(E67=\"\",\"\",IF(②選手情報入力!O75=\"\",\"\",0))","v":""},{"$f":"IF(E67=\"\",\"\",IF(②選手情報入力!O75=\"\",\"\",2))","v":""},{"$f":"IF(E67=\"\",\"\",IF(②選手情報入力!P75=\"\",\"\",IF(I67=1,種目情報!$J$5,種目情報!$J$7)))","v":""},{"$f":"IF(E67=\"\",\"\",IF(②選手情報入力!P75=\"\",\"\",IF(I67=1,IF(②選手情報入力!$P$5=\"\",\"\",②選手情報入力!$P$5),IF(②選手情報入力!$P$6=\"\",\"\",②選手情報入力!$P$6))))","v":""},{"$f":"IF(E67=\"\",\"\",IF(②選手情報入力!P75=\"\",\"\",0))","v":""},{"$f":"IF(E67=\"\",\"\",IF(②選手情報入力!P75=\"\",\"\",2))","v":""}]
[{"$f":"IF(E68=\"\",\"\",I68*1000000+①学校情報入力!$D$3*1000+②選手情報入力!A76)","v":""},{"$f":"IF(E68=\"\",\"\",①学校情報入力!$D$3)","v":""},null,{"$f":"IF(②選手情報入力!B76=\"\",\"\",②選手情報入力!B76)","v":""},{"$f":"IF(②選手情報入力!C76=\"\",\"\",②選手情報入力!C76)","v":""},{"$f":"IF(E68=\"\",\"\",②選手情報入力!D76)","v":""},{"$f":"IF(E68=\"\",\"\",②選手情報入力!E76)","v":""},"",{"$f":"IF(E68=\"\",\"\",IF(②選手情報入力!G76=\"男\",1,2))","v":""},{"$f":"IF(E68=\"\",\"\",IF(②選手情報入力!H76=\"\",\"\",②選手情報入力!H76))","v":""},null,"","",null,{"$f":"IF(E68=\"\",\"\",IF(②選手情報入力!I76=\"\",\"\",IF(I68=1,VLOOKUP(②選手情報入力!I76,種目情報!$A$4:$B$22,2,FALSE),VLOOKUP(②選手情報入力!I76,種目情報!$E$4:$F$22,2,FALSE))))","v":""},{"$f":"IF(E68=\"\",\"\",IF(②選手情報入力!J76=\"\",\"\",②選手情報入力!J76))","v":""},{"$f":"IF(E68=\"\",\"\",IF(②選手情報入力!I76=\"\",\"\",0))","v":""},{"$f":"IF(E68=\"\",\"\",IF(②選手情報入力!I76=\"\",\"\",IF(I68=1,VLOOKUP(②選手情報入力!I76,種目情報!$A$4:$C$22,3,FALSE),VLOOKUP(②選手情報入力!I76,種目情報!$E$4:$G$22,3,FALSE))))","v":""},{"$f":"IF(E68=\"\",\"\",IF(②選手情報入力!K76=\"\",\"\",IF(I68=1,VLOOKUP(②選手情報入力!K76,種目情報!$A$4:$B$22,2,FALSE),VLOOKUP(②選手情報入力!K76,種目情報!$E$4:$F$22,2,FALSE))))","v":""},{"$f":"IF(E68=\"\",\"\",IF(②選手情報入力!L76=\"\",\"\",②選手情報入力!L76))","v":""},{"$f":"IF(E68=\"\",\"\",IF(②選手情報入力!K76=\"\",\"\",0))","v":""},{"$f":"IF(E68=\"\",\"\",IF(②選手情報入力!K76=\"\",\"\",IF(I68=1,VLOOKUP(②選手情報入力!K76,種目情報!$A$4:$C$22,3,FALSE),VLOOKUP(②選手情報入力!K76,種目情報!$E$4:$G$22,3,FALSE))))","v":""},{"$f":"IF(E68=\"\",\"\",IF(②選手情報入力!M76=\"\",\"\",IF(I68=1,VLOOKUP(②選手情報入力!M76,種目情報!$A$4:$B$22,2,FALSE),VLOOKUP(②選手情報入力!M76,種目情報!$E$4:$F$22,2,FALSE))))","v":""},{"$f":"IF(E68=\"\",\"\",IF(②選手情報入力!N76=\"\",\"\",②選手情報入力!N76))","v":""},{"$f":"IF(E68=\"\",\"\",IF(②選手情報入力!M76=\"\",\"\",0))","v":""},{"$f":"IF(E68=\"\",\"\",IF(②選手情報入力!M76=\"\",\"\",IF(I68=1,VLOOKUP(②選手情報入力!M76,種目情報!$A$4:$C$22,3,FALSE),VLOOKUP(②選手情報入力!M76,種目情報!$E$4:$G$22,3,FALSE))))","v":""},{"$f":"IF(E68=\"\",\"\",IF(②選手情報入力!O76=\"\",\"\",IF(I68=1,種目情報!$J$4,種目情報!$J$6)))","v":""},{"$f":"IF(E68=\"\",\"\",IF(②選手情報入力!O76=\"\",\"\",IF(I68=1,IF(②選手情報入力!$O$5=\"\",\"\",②選手情報入力!$O$5),IF(②選手情報入力!$O$6=\"\",\"\",②選手情報入力!$O$6))))","v":""},{"$f":"IF(E68=\"\",\"\",IF(②選手情報入力!O76=\"\",\"\",0))","v":""},{"$f":"IF(E68=\"\",\"\",IF(②選手情報入力!O76=\"\",\"\",2))","v":""},{"$f":"IF(E68=\"\",\"\",IF(②選手情報入力!P76=\"\",\"\",IF(I68=1,種目情報!$J$5,種目情報!$J$7)))","v":""},{"$f":"IF(E68=\"\",\"\",IF(②選手情報入力!P76=\"\",\"\",IF(I68=1,IF(②選手情報入力!$P$5=\"\",\"\",②選手情報入力!$P$5),IF(②選手情報入力!$P$6=\"\",\"\",②選手情報入力!$P$6))))","v":""},{"$f":"IF(E68=\"\",\"\",IF(②選手情報入力!P76=\"\",\"\",0))","v":""},{"$f":"IF(E68=\"\",\"\",IF(②選手情報入力!P76=\"\",\"\",2))","v":""}]
[{"$f":"IF(E69=\"\",\"\",I69*1000000+①学校情報入力!$D$3*1000+②選手情報入力!A77)","v":""},{"$f":"IF(E69=\"\",\"\",①学校情報入力!$D$3)","v":""},null,{"$f":"IF(②選手情報入力!B77=\"\",\"\",②選手情報入力!B77)","v":""},{"$f":"IF(②選手情報入力!C77=\"\",\"\",②選手情報入力!C77)","v":""},{"$f":"IF(E69=\"\",\"\",②選手情報入力!D77)","v":""},{"$f":"IF(E69=\"\",\"\",②選手情報入力!E77)","v":""},"",{"$f":"IF(E69=\"\",\"\",IF(②選手情報入力!G77=\"男\",1,2))","v":""},{"$f":"IF(E69=\"\",\"\",IF(②選手情報入力!H77=\"\",\"\",②選手情報入力!H77))","v":""},null,"","",null,{"$f":"IF(E69=\"\",\"\",IF(②選手情報入力!I77=\"\",\"\",IF(I69=1,VLOOKUP(②選手情報入力!I77,種目情報!$A$4:$B$22,2,FALSE),VLOOKUP(②選手情報入力!I77,種目情報!$E$4:$F$22,2,FALSE))))","v":""},{"$f":"IF(E69=\"\",\"\",IF(②選手情報入力!J77=\"\",\"\",②選手情報入力!J77))","v":""},{"$f":"IF(E69=\"\",\"\",IF(②選手情報入力!I77=\"\",\"\",0))","v":""},{"$f":"IF(E69=\"\",\"\",IF(②選手情報入力!I77=\"\",\"\",IF(I69=1,VLOOKUP(②選手情報入力!I77,種目情報!$A$4:$C$22,3,FALSE),VLOOKUP(②選手情報入力!I77,種目情報!$E$4:$G$22,3,FALSE))))","v":""},{"$f":"IF(E69=\"\",\"\",IF(②選手情報入力!K77=\"\",\"\",IF(I69=1,VLOOKUP(②選手情報入力!K77,種目情報!$A$4:$B$22,2,FALSE),VLOOKUP(②選手情報入力!K77,種目情報!$E$4:$F$22,2,FALSE))))","v":""},{"$f":"IF(E69=\"\",\"\",IF(②選手情報入力!L77=\"\",\"\",②選手情報入力!L77))","v":""},{"$f":"IF(E69=\"\",\"\",IF(②選手情報入力!K77=\"\",\"\",0))","v":""},{"$f":"IF(E69=\"\",\"\",IF(②選手情報入力!K77=\"\",\"\",IF(I69=1,VLOOKUP(②選手情報入力!K77,種目情報!$A$4:$C$22,3,FALSE),VLOOKUP(②選手情報入力!K77,種目情報!$E$4:$G$22,3,FALSE))))","v":""},{"$f":"IF(E69=\"\",\"\",IF(②選手情報入力!M77=\"\",\"\",IF(I69=1,VLOOKUP(②選手情報入力!M77,種目情報!$A$4:$B$22,2,FALSE),VLOOKUP(②選手情報入力!M77,種目情報!$E$4:$F$22,2,FALSE))))","v":""},{"$f":"IF(E69=\"\",\"\",IF(②選手情報入力!N77=\"\",\"\",②選手情報入力!N77))","v":""},{"$f":"IF(E69=\"\",\"\",IF(②選手情報入力!M77=\"\",\"\",0))","v":""},{"$f":"IF(E69=\"\",\"\",IF(②選手情報入力!M77=\"\",\"\",IF(I69=1,VLOOKUP(②選手情報入力!M77,種目情報!$A$4:$C$22,3,FALSE),VLOOKUP(②選手情報入力!M77,種目情報!$E$4:$G$22,3,FALSE))))","v":""},{"$f":"IF(E69=\"\",\"\",IF(②選手情報入力!O77=\"\",\"\",IF(I69=1,種目情報!$J$4,種目情報!$J$6)))","v":""},{"$f":"IF(E69=\"\",\"\",IF(②選手情報入力!O77=\"\",\"\",IF(I69=1,IF(②選手情報入力!$O$5=\"\",\"\",②選手情報入力!$O$5),IF(②選手情報入力!$O$6=\"\",\"\",②選手情報入力!$O$6))))","v":""},{"$f":"IF(E69=\"\",\"\",IF(②選手情報入力!O77=\"\",\"\",0))","v":""},{"$f":"IF(E69=\"\",\"\",IF(②選手情報入力!O77=\"\",\"\",2))","v":""},{"$f":"IF(E69=\"\",\"\",IF(②選手情報入力!P77=\"\",\"\",IF(I69=1,種目情報!$J$5,種目情報!$J$7)))","v":""},{"$f":"IF(E69=\"\",\"\",IF(②選手情報入力!P77=\"\",\"\",IF(I69=1,IF(②選手情報入力!$P$5=\"\",\"\",②選手情報入力!$P$5),IF(②選手情報入力!$P$6=\"\",\"\",②選手情報入力!$P$6))))","v":""},{"$f":"IF(E69=\"\",\"\",IF(②選手情報入力!P77=\"\",\"\",0))","v":""},{"$f":"IF(E69=\"\",\"\",IF(②選手情報入力!P77=\"\",\"\",2))","v":""}]
[{"$f":"IF(E70=\"\",\"\",I70*1000000+①学校情報入力!$D$3*1000+②選手情報入力!A78)","v":""},{"$f":"IF(E70=\"\",\"\",①学校情報入力!$D$3)","v":""},null,{"$f":"IF(②選手情報入力!B78=\"\",\"\",②選手情報入力!B78)","v":""},{"$f":"IF(②選手情報入力!C78=\"\",\"\",②選手情報入力!C78)","v":""},{"$f":"IF(E70=\"\",\"\",②選手情報入力!D78)","v":""},{"$f":"IF(E70=\"\",\"\",②選手情報入力!E78)","v":""},"",{"$f":"IF(E70=\"\",\"\",IF(②選手情報入力!G78=\"男\",1,2))","v":""},{"$f":"IF(E70=\"\",\"\",IF(②選手情報入力!H78=\"\",\"\",②選手情報入力!H78))","v":""},null,"","",null,{"$f":"IF(E70=\"\",\"\",IF(②選手情報入力!I78=\"\",\"\",IF(I70=1,VLOOKUP(②選手情報入力!I78,種目情報!$A$4:$B$22,2,FALSE),VLOOKUP(②選手情報入力!I78,種目情報!$E$4:$F$22,2,FALSE))))","v":""},{"$f":"IF(E70=\"\",\"\",IF(②選手情報入力!J78=\"\",\"\",②選手情報入力!J78))","v":""},{"$f":"IF(E70=\"\",\"\",IF(②選手情報入力!I78=\"\",\"\",0))","v":""},{"$f":"IF(E70=\"\",\"\",IF(②選手情報入力!I78=\"\",\"\",IF(I70=1,VLOOKUP(②選手情報入力!I78,種目情報!$A$4:$C$22,3,FALSE),VLOOKUP(②選手情報入力!I78,種目情報!$E$4:$G$22,3,FALSE))))","v":""},{"$f":"IF(E70=\"\",\"\",IF(②選手情報入力!K78=\"\",\"\",IF(I70=1,VLOOKUP(②選手情報入力!K78,種目情報!$A$4:$B$22,2,FALSE),VLOOKUP(②選手情報入力!K78,種目情報!$E$4:$F$22,2,FALSE))))","v":""},{"$f":"IF(E70=\"\",\"\",IF(②選手情報入力!L78=\"\",\"\",②選手情報入力!L78))","v":""},{"$f":"IF(E70=\"\",\"\",IF(②選手情報入力!K78=\"\",\"\",0))","v":""},{"$f":"IF(E70=\"\",\"\",IF(②選手情報入力!K78=\"\",\"\",IF(I70=1,VLOOKUP(②選手情報入力!K78,種目情報!$A$4:$C$22,3,FALSE),VLOOKUP(②選手情報入力!K78,種目情報!$E$4:$G$22,3,FALSE))))","v":""},{"$f":"IF(E70=\"\",\"\",IF(②選手情報入力!M78=\"\",\"\",IF(I70=1,VLOOKUP(②選手情報入力!M78,種目情報!$A$4:$B$22,2,FALSE),VLOOKUP(②選手情報入力!M78,種目情報!$E$4:$F$22,2,FALSE))))","v":""},{"$f":"IF(E70=\"\",\"\",IF(②選手情報入力!N78=\"\",\"\",②選手情報入力!N78))","v":""},{"$f":"IF(E70=\"\",\"\",IF(②選手情報入力!M78=\"\",\"\",0))","v":""},{"$f":"IF(E70=\"\",\"\",IF(②選手情報入力!M78=\"\",\"\",IF(I70=1,VLOOKUP(②選手情報入力!M78,種目情報!$A$4:$C$22,3,FALSE),VLOOKUP(②選手情報入力!M78,種目情報!$E$4:$G$22,3,FALSE))))","v":""},{"$f":"IF(E70=\"\",\"\",IF(②選手情報入力!O78=\"\",\"\",IF(I70=1,種目情報!$J$4,種目情報!$J$6)))","v":""},{"$f":"IF(E70=\"\",\"\",IF(②選手情報入力!O78=\"\",\"\",IF(I70=1,IF(②選手情報入力!$O$5=\"\",\"\",②選手情報入力!$O$5),IF(②選手情報入力!$O$6=\"\",\"\",②選手情報入力!$O$6))))","v":""},{"$f":"IF(E70=\"\",\"\",IF(②選手情報入力!O78=\"\",\"\",0))","v":""},{"$f":"IF(E70=\"\",\"\",IF(②選手情報入力!O78=\"\",\"\",2))","v":""},{"$f":"IF(E70=\"\",\"\",IF(②選手情報入力!P78=\"\",\"\",IF(I70=1,種目情報!$J$5,種目情報!$J$7)))","v":""},{"$f":"IF(E70=\"\",\"\",IF(②選手情報入力!P78=\"\",\"\",IF(I70=1,IF(②選手情報入力!$P$5=\"\",\"\",②選手情報入力!$P$5),IF(②選手情報入力!$P$6=\"\",\"\",②選手情報入力!$P$6))))","v":""},{"$f":"IF(E70=\"\",\"\",IF(②選手情報入力!P78=\"\",\"\",0))","v":""},{"$f":"IF(E70=\"\",\"\",IF(②選手情報入力!P78=\"\",\"\",2))","v":""}]
[{"$f":"IF(E71=\"\",\"\",I71*1000000+①学校情報入力!$D$3*1000+②選手情報入力!A79)","v":""},{"$f":"IF(E71=\"\",\"\",①学校情報入力!$D$3)","v":""},null,{"$f":"IF(②選手情報入力!B79=\"\",\"\",②選手情報入力!B79)","v":""},{"$f":"IF(②選手情報入力!C79=\"\",\"\",②選手情報入力!C79)","v":""},{"$f":"IF(E71=\"\",\"\",②選手情報入力!D79)","v":""},{"$f":"IF(E71=\"\",\"\",②選手情報入力!E79)","v":""},"",{"$f":"IF(E71=\"\",\"\",IF(②選手情報入力!G79=\"男\",1,2))","v":""},{"$f":"IF(E71=\"\",\"\",IF(②選手情報入力!H79=\"\",\"\",②選手情報入力!H79))","v":""},null,"","",null,{"$f":"IF(E71=\"\",\"\",IF(②選手情報入力!I79=\"\",\"\",IF(I71=1,VLOOKUP(②選手情報入力!I79,種目情報!$A$4:$B$22,2,FALSE),VLOOKUP(②選手情報入力!I79,種目情報!$E$4:$F$22,2,FALSE))))","v":""},{"$f":"IF(E71=\"\",\"\",IF(②選手情報入力!J79=\"\",\"\",②選手情報入力!J79))","v":""},{"$f":"IF(E71=\"\",\"\",IF(②選手情報入力!I79=\"\",\"\",0))","v":""},{"$f":"IF(E71=\"\",\"\",IF(②選手情報入力!I79=\"\",\"\",IF(I71=1,VLOOKUP(②選手情報入力!I79,種目情報!$A$4:$C$22,3,FALSE),VLOOKUP(②選手情報入力!I79,種目情報!$E$4:$G$22,3,FALSE))))","v":""},{"$f":"IF(E71=\"\",\"\",IF(②選手情報入力!K79=\"\",\"\",IF(I71=1,VLOOKUP(②選手情報入力!K79,種目情報!$A$4:$B$22,2,FALSE),VLOOKUP(②選手情報入力!K79,種目情報!$E$4:$F$22,2,FALSE))))","v":""},{"$f":"IF(E71=\"\",\"\",IF(②選手情報入力!L79=\"\",\"\",②選手情報入力!L79))","v":""},{"$f":"IF(E71=\"\",\"\",IF(②選手情報入力!K79=\"\",\"\",0))","v":""},{"$f":"IF(E71=\"\",\"\",IF(②選手情報入力!K79=\"\",\"\",IF(I71=1,VLOOKUP(②選手情報入力!K79,種目情報!$A$4:$C$22,3,FALSE),VLOOKUP(②選手情報入力!K79,種目情報!$E$4:$G$22,3,FALSE))))","v":""},{"$f":"IF(E71=\"\",\"\",IF(②選手情報入力!M79=\"\",\"\",IF(I71=1,VLOOKUP(②選手情報入力!M79,種目情報!$A$4:$B$22,2,FALSE),VLOOKUP(②選手情報入力!M79,種目情報!$E$4:$F$22,2,FALSE))))","v":""},{"$f":"IF(E71=\"\",\"\",IF(②選手情報入力!N79=\"\",\"\",②選手情報入力!N79))","v":""},{"$f":"IF(E71=\"\",\"\",IF(②選手情報入力!M79=\"\",\"\",0))","v":""},{"$f":"IF(E71=\"\",\"\",IF(②選手情報入力!M79=\"\",\"\",IF(I71=1,VLOOKUP(②選手情報入力!M79,種目情報!$A$4:$C$22,3,FALSE),VLOOKUP(②選手情報入力!M79,種目情報!$E$4:$G$22,3,FALSE))))","v":""},{"$f":"IF(E71=\"\",\"\",IF(②選手情報入力!O79=\"\",\"\",IF(I71=1,種目情報!$J$4,種目情報!$J$6)))","v":""},{"$f":"IF(E71=\"\",\"\",IF(②選手情報入力!O79=\"\",\"\",IF(I71=1,IF(②選手情報入力!$O$5=\"\",\"\",②選手情報入力!$O$5),IF(②選手情報入力!$O$6=\"\",\"\",②選手情報入力!$O$6))))","v":""},{"$f":"IF(E71=\"\",\"\",IF(②選手情報入力!O79=\"\",\"\",0))","v":""},{"$f":"IF(E71=\"\",\"\",IF(②選手情報入力!O79=\"\",\"\",2))","v":""},{"$f":"IF(E71=\"\",\"\",IF(②選手情報入力!P79=\"\",\"\",IF(I71=1,種目情報!$J$5,種目情報!$J$7)))","v":""},{"$f":"IF(E71=\"\",\"\",IF(②選手情報入力!P79=\"\",\"\",IF(I71=1,IF(②選手情報入力!$P$5=\"\",\"\",②選手情報入力!$P$5),IF(②選手情報入力!$P$6=\"\",\"\",②選手情報入力!$P$6))))","v":""},{"$f":"IF(E71=\"\",\"\",IF(②選手情報入力!P79=\"\",\"\",0))","v":""},{"$f":"IF(E71=\"\",\"\",IF(②選手情報入力!P79=\"\",\"\",2))","v":""}]
[{"$f":"IF(E72=\"\",\"\",I72*1000000+①学校情報入力!$D$3*1000+②選手情報入力!A80)","v":""},{"$f":"IF(E72=\"\",\"\",①学校情報入力!$D$3)","v":""},null,{"$f":"IF(②選手情報入力!B80=\"\",\"\",②選手情報入力!B80)","v":""},{"$f":"IF(②選手情報入力!C80=\"\",\"\",②選手情報入力!C80)","v":""},{"$f":"IF(E72=\"\",\"\",②選手情報入力!D80)","v":""},{"$f":"IF(E72=\"\",\"\",②選手情報入力!E80)","v":""},"",{"$f":"IF(E72=\"\",\"\",IF(②選手情報入力!G80=\"男\",1,2))","v":""},{"$f":"IF(E72=\"\",\"\",IF(②選手情報入力!H80=\"\",\"\",②選手情報入力!H80))","v":""},null,"","",null,{"$f":"IF(E72=\"\",\"\",IF(②選手情報入力!I80=\"\",\"\",IF(I72=1,VLOOKUP(②選手情報入力!I80,種目情報!$A$4:$B$22,2,FALSE),VLOOKUP(②選手情報入力!I80,種目情報!$E$4:$F$22,2,FALSE))))","v":""},{"$f":"IF(E72=\"\",\"\",IF(②選手情報入力!J80=\"\",\"\",②選手情報入力!J80))","v":""},{"$f":"IF(E72=\"\",\"\",IF(②選手情報入力!I80=\"\",\"\",0))","v":""},{"$f":"IF(E72=\"\",\"\",IF(②選手情報入力!I80=\"\",\"\",IF(I72=1,VLOOKUP(②選手情報入力!I80,種目情報!$A$4:$C$22,3,FALSE),VLOOKUP(②選手情報入力!I80,種目情報!$E$4:$G$22,3,FALSE))))","v":""},{"$f":"IF(E72=\"\",\"\",IF(②選手情報入力!K80=\"\",\"\",IF(I72=1,VLOOKUP(②選手情報入力!K80,種目情報!$A$4:$B$22,2,FALSE),VLOOKUP(②選手情報入力!K80,種目情報!$E$4:$F$22,2,FALSE))))","v":""},{"$f":"IF(E72=\"\",\"\",IF(②選手情報入力!L80=\"\",\"\",②選手情報入力!L80))","v":""},{"$f":"IF(E72=\"\",\"\",IF(②選手情報入力!K80=\"\",\"\",0))","v":""},{"$f":"IF(E72=\"\",\"\",IF(②選手情報入力!K80=\"\",\"\",IF(I72=1,VLOOKUP(②選手情報入力!K80,種目情報!$A$4:$C$22,3,FALSE),VLOOKUP(②選手情報入力!K80,種目情報!$E$4:$G$22,3,FALSE))))","v":""},{"$f":"IF(E72=\"\",\"\",IF(②選手情報入力!M80=\"\",\"\",IF(I72=1,VLOOKUP(②選手情報入力!M80,種目情報!$A$4:$B$22,2,FALSE),VLOOKUP(②選手情報入力!M80,種目情報!$E$4:$F$22,2,FALSE))))","v":""},{"$f":"IF(E72=\"\",\"\",IF(②選手情報入力!N80=\"\",\"\",②選手情報入力!N80))","v":""},{"$f":"IF(E72=\"\",\"\",IF(②選手情報入力!M80=\"\",\"\",0))","v":""},{"$f":"IF(E72=\"\",\"\",IF(②選手情報入力!M80=\"\",\"\",IF(I72=1,VLOOKUP(②選手情報入力!M80,種目情報!$A$4:$C$22,3,FALSE),VLOOKUP(②選手情報入力!M80,種目情報!$E$4:$G$22,3,FALSE))))","v":""},{"$f":"IF(E72=\"\",\"\",IF(②選手情報入力!O80=\"\",\"\",IF(I72=1,種目情報!$J$4,種目情報!$J$6)))","v":""},{"$f":"IF(E72=\"\",\"\",IF(②選手情報入力!O80=\"\",\"\",IF(I72=1,IF(②選手情報入力!$O$5=\"\",\"\",②選手情報入力!$O$5),IF(②選手情報入力!$O$6=\"\",\"\",②選手情報入力!$O$6))))","v":""},{"$f":"IF(E72=\"\",\"\",IF(②選手情報入力!O80=\"\",\"\",0))","v":""},{"$f":"IF(E72=\"\",\"\",IF(②選手情報入力!O80=\"\",\"\",2))","v":""},{"$f":"IF(E72=\"\",\"\",IF(②選手情報入力!P80=\"\",\"\",IF(I72=1,種目情報!$J$5,種目情報!$J$7)))","v":""},{"$f":"IF(E72=\"\",\"\",IF(②選手情報入力!P80=\"\",\"\",IF(I72=1,IF(②選手情報入力!$P$5=\"\",\"\",②選手情報入力!$P$5),IF(②選手情報入力!$P$6=\"\",\"\",②選手情報入力!$P$6))))","v":""},{"$f":"IF(E72=\"\",\"\",IF(②選手情報入力!P80=\"\",\"\",0))","v":""},{"$f":"IF(E72=\"\",\"\",IF(②選手情報入力!P80=\"\",\"\",2))","v":""}]
[{"$f":"IF(E73=\"\",\"\",I73*1000000+①学校情報入力!$D$3*1000+②選手情報入力!A81)","v":""},{"$f":"IF(E73=\"\",\"\",①学校情報入力!$D$3)","v":""},null,{"$f":"IF(②選手情報入力!B81=\"\",\"\",②選手情報入力!B81)","v":""},{"$f":"IF(②選手情報入力!C81=\"\",\"\",②選手情報入力!C81)","v":""},{"$f":"IF(E73=\"\",\"\",②選手情報入力!D81)","v":""},{"$f":"IF(E73=\"\",\"\",②選手情報入力!E81)","v":""},"",{"$f":"IF(E73=\"\",\"\",IF(②選手情報入力!G81=\"男\",1,2))","v":""},{"$f":"IF(E73=\"\",\"\",IF(②選手情報入力!H81=\"\",\"\",②選手情報入力!H81))","v":""},null,"","",null,{"$f":"IF(E73=\"\",\"\",IF(②選手情報入力!I81=\"\",\"\",IF(I73=1,VLOOKUP(②選手情報入力!I81,種目情報!$A$4:$B$22,2,FALSE),VLOOKUP(②選手情報入力!I81,種目情報!$E$4:$F$22,2,FALSE))))","v":""},{"$f":"IF(E73=\"\",\"\",IF(②選手情報入力!J81=\"\",\"\",②選手情報入力!J81))","v":""},{"$f":"IF(E73=\"\",\"\",IF(②選手情報入力!I81=\"\",\"\",0))","v":""},{"$f":"IF(E73=\"\",\"\",IF(②選手情報入力!I81=\"\",\"\",IF(I73=1,VLOOKUP(②選手情報入力!I81,種目情報!$A$4:$C$22,3,FALSE),VLOOKUP(②選手情報入力!I81,種目情報!$E$4:$G$22,3,FALSE))))","v":""},{"$f":"IF(E73=\"\",\"\",IF(②選手情報入力!K81=\"\",\"\",IF(I73=1,VLOOKUP(②選手情報入力!K81,種目情報!$A$4:$B$22,2,FALSE),VLOOKUP(②選手情報入力!K81,種目情報!$E$4:$F$22,2,FALSE))))","v":""},{"$f":"IF(E73=\"\",\"\",IF(②選手情報入力!L81=\"\",\"\",②選手情報入力!L81))","v":""},{"$f":"IF(E73=\"\",\"\",IF(②選手情報入力!K81=\"\",\"\",0))","v":""},{"$f":"IF(E73=\"\",\"\",IF(②選手情報入力!K81=\"\",\"\",IF(I73=1,VLOOKUP(②選手情報入力!K81,種目情報!$A$4:$C$22,3,FALSE),VLOOKUP(②選手情報入力!K81,種目情報!$E$4:$G$22,3,FALSE))))","v":""},{"$f":"IF(E73=\"\",\"\",IF(②選手情報入力!M81=\"\",\"\",IF(I73=1,VLOOKUP(②選手情報入力!M81,種目情報!$A$4:$B$22,2,FALSE),VLOOKUP(②選手情報入力!M81,種目情報!$E$4:$F$22,2,FALSE))))","v":""},{"$f":"IF(E73=\"\",\"\",IF(②選手情報入力!N81=\"\",\"\",②選手情報入力!N81))","v":""},{"$f":"IF(E73=\"\",\"\",IF(②選手情報入力!M81=\"\",\"\",0))","v":""},{"$f":"IF(E73=\"\",\"\",IF(②選手情報入力!M81=\"\",\"\",IF(I73=1,VLOOKUP(②選手情報入力!M81,種目情報!$A$4:$C$22,3,FALSE),VLOOKUP(②選手情報入力!M81,種目情報!$E$4:$G$22,3,FALSE))))","v":""},{"$f":"IF(E73=\"\",\"\",IF(②選手情報入力!O81=\"\",\"\",IF(I73=1,種目情報!$J$4,種目情報!$J$6)))","v":""},{"$f":"IF(E73=\"\",\"\",IF(②選手情報入力!O81=\"\",\"\",IF(I73=1,IF(②選手情報入力!$O$5=\"\",\"\",②選手情報入力!$O$5),IF(②選手情報入力!$O$6=\"\",\"\",②選手情報入力!$O$6))))","v":""},{"$f":"IF(E73=\"\",\"\",IF(②選手情報入力!O81=\"\",\"\",0))","v":""},{"$f":"IF(E73=\"\",\"\",IF(②選手情報入力!O81=\"\",\"\",2))","v":""},{"$f":"IF(E73=\"\",\"\",IF(②選手情報入力!P81=\"\",\"\",IF(I73=1,種目情報!$J$5,種目情報!$J$7)))","v":""},{"$f":"IF(E73=\"\",\"\",IF(②選手情報入力!P81=\"\",\"\",IF(I73=1,IF(②選手情報入力!$P$5=\"\",\"\",②選手情報入力!$P$5),IF(②選手情報入力!$P$6=\"\",\"\",②選手情報入力!$P$6))))","v":""},{"$f":"IF(E73=\"\",\"\",IF(②選手情報入力!P81=\"\",\"\",0))","v":""},{"$f":"IF(E73=\"\",\"\",IF(②選手情報入力!P81=\"\",\"\",2))","v":""}]
[{"$f":"IF(E74=\"\",\"\",I74*1000000+①学校情報入力!$D$3*1000+②選手情報入力!A82)","v":""},{"$f":"IF(E74=\"\",\"\",①学校情報入力!$D$3)","v":""},null,{"$f":"IF(②選手情報入力!B82=\"\",\"\",②選手情報入力!B82)","v":""},{"$f":"IF(②選手情報入力!C82=\"\",\"\",②選手情報入力!C82)","v":""},{"$f":"IF(E74=\"\",\"\",②選手情報入力!D82)","v":""},{"$f":"IF(E74=\"\",\"\",②選手情報入力!E82)","v":""},"",{"$f":"IF(E74=\"\",\"\",IF(②選手情報入力!G82=\"男\",1,2))","v":""},{"$f":"IF(E74=\"\",\"\",IF(②選手情報入力!H82=\"\",\"\",②選手情報入力!H82))","v":""},null,"","",null,{"$f":"IF(E74=\"\",\"\",IF(②選手情報入力!I82=\"\",\"\",IF(I74=1,VLOOKUP(②選手情報入力!I82,種目情報!$A$4:$B$22,2,FALSE),VLOOKUP(②選手情報入力!I82,種目情報!$E$4:$F$22,2,FALSE))))","v":""},{"$f":"IF(E74=\"\",\"\",IF(②選手情報入力!J82=\"\",\"\",②選手情報入力!J82))","v":""},{"$f":"IF(E74=\"\",\"\",IF(②選手情報入力!I82=\"\",\"\",0))","v":""},{"$f":"IF(E74=\"\",\"\",IF(②選手情報入力!I82=\"\",\"\",IF(I74=1,VLOOKUP(②選手情報入力!I82,種目情報!$A$4:$C$22,3,FALSE),VLOOKUP(②選手情報入力!I82,種目情報!$E$4:$G$22,3,FALSE))))","v":""},{"$f":"IF(E74=\"\",\"\",IF(②選手情報入力!K82=\"\",\"\",IF(I74=1,VLOOKUP(②選手情報入力!K82,種目情報!$A$4:$B$22,2,FALSE),VLOOKUP(②選手情報入力!K82,種目情報!$E$4:$F$22,2,FALSE))))","v":""},{"$f":"IF(E74=\"\",\"\",IF(②選手情報入力!L82=\"\",\"\",②選手情報入力!L82))","v":""},{"$f":"IF(E74=\"\",\"\",IF(②選手情報入力!K82=\"\",\"\",0))","v":""},{"$f":"IF(E74=\"\",\"\",IF(②選手情報入力!K82=\"\",\"\",IF(I74=1,VLOOKUP(②選手情報入力!K82,種目情報!$A$4:$C$22,3,FALSE),VLOOKUP(②選手情報入力!K82,種目情報!$E$4:$G$22,3,FALSE))))","v":""},{"$f":"IF(E74=\"\",\"\",IF(②選手情報入力!M82=\"\",\"\",IF(I74=1,VLOOKUP(②選手情報入力!M82,種目情報!$A$4:$B$22,2,FALSE),VLOOKUP(②選手情報入力!M82,種目情報!$E$4:$F$22,2,FALSE))))","v":""},{"$f":"IF(E74=\"\",\"\",IF(②選手情報入力!N82=\"\",\"\",②選手情報入力!N82))","v":""},{"$f":"IF(E74=\"\",\"\",IF(②選手情報入力!M82=\"\",\"\",0))","v":""},{"$f":"IF(E74=\"\",\"\",IF(②選手情報入力!M82=\"\",\"\",IF(I74=1,VLOOKUP(②選手情報入力!M82,種目情報!$A$4:$C$22,3,FALSE),VLOOKUP(②選手情報入力!M82,種目情報!$E$4:$G$22,3,FALSE))))","v":""},{"$f":"IF(E74=\"\",\"\",IF(②選手情報入力!O82=\"\",\"\",IF(I74=1,種目情報!$J$4,種目情報!$J$6)))","v":""},{"$f":"IF(E74=\"\",\"\",IF(②選手情報入力!O82=\"\",\"\",IF(I74=1,IF(②選手情報入力!$O$5=\"\",\"\",②選手情報入力!$O$5),IF(②選手情報入力!$O$6=\"\",\"\",②選手情報入力!$O$6))))","v":""},{"$f":"IF(E74=\"\",\"\",IF(②選手情報入力!O82=\"\",\"\",0))","v":""},{"$f":"IF(E74=\"\",\"\",IF(②選手情報入力!O82=\"\",\"\",2))","v":""},{"$f":"IF(E74=\"\",\"\",IF(②選手情報入力!P82=\"\",\"\",IF(I74=1,種目情報!$J$5,種目情報!$J$7)))","v":""},{"$f":"IF(E74=\"\",\"\",IF(②選手情報入力!P82=\"\",\"\",IF(I74=1,IF(②選手情報入力!$P$5=\"\",\"\",②選手情報入力!$P$5),IF(②選手情報入力!$P$6=\"\",\"\",②選手情報入力!$P$6))))","v":""},{"$f":"IF(E74=\"\",\"\",IF(②選手情報入力!P82=\"\",\"\",0))","v":""},{"$f":"IF(E74=\"\",\"\",IF(②選手情報入力!P82=\"\",\"\",2))","v":""}]
[{"$f":"IF(E75=\"\",\"\",I75*1000000+①学校情報入力!$D$3*1000+②選手情報入力!A83)","v":""},{"$f":"IF(E75=\"\",\"\",①学校情報入力!$D$3)","v":""},null,{"$f":"IF(②選手情報入力!B83=\"\",\"\",②選手情報入力!B83)","v":""},{"$f":"IF(②選手情報入力!C83=\"\",\"\",②選手情報入力!C83)","v":""},{"$f":"IF(E75=\"\",\"\",②選手情報入力!D83)","v":""},{"$f":"IF(E75=\"\",\"\",②選手情報入力!E83)","v":""},"",{"$f":"IF(E75=\"\",\"\",IF(②選手情報入力!G83=\"男\",1,2))","v":""},{"$f":"IF(E75=\"\",\"\",IF(②選手情報入力!H83=\"\",\"\",②選手情報入力!H83))","v":""},null,"","",null,{"$f":"IF(E75=\"\",\"\",IF(②選手情報入力!I83=\"\",\"\",IF(I75=1,VLOOKUP(②選手情報入力!I83,種目情報!$A$4:$B$22,2,FALSE),VLOOKUP(②選手情報入力!I83,種目情報!$E$4:$F$22,2,FALSE))))","v":""},{"$f":"IF(E75=\"\",\"\",IF(②選手情報入力!J83=\"\",\"\",②選手情報入力!J83))","v":""},{"$f":"IF(E75=\"\",\"\",IF(②選手情報入力!I83=\"\",\"\",0))","v":""},{"$f":"IF(E75=\"\",\"\",IF(②選手情報入力!I83=\"\",\"\",IF(I75=1,VLOOKUP(②選手情報入力!I83,種目情報!$A$4:$C$22,3,FALSE),VLOOKUP(②選手情報入力!I83,種目情報!$E$4:$G$22,3,FALSE))))","v":""},{"$f":"IF(E75=\"\",\"\",IF(②選手情報入力!K83=\"\",\"\",IF(I75=1,VLOOKUP(②選手情報入力!K83,種目情報!$A$4:$B$22,2,FALSE),VLOOKUP(②選手情報入力!K83,種目情報!$E$4:$F$22,2,FALSE))))","v":""},{"$f":"IF(E75=\"\",\"\",IF(②選手情報入力!L83=\"\",\"\",②選手情報入力!L83))","v":""},{"$f":"IF(E75=\"\",\"\",IF(②選手情報入力!K83=\"\",\"\",0))","v":""},{"$f":"IF(E75=\"\",\"\",IF(②選手情報入力!K83=\"\",\"\",IF(I75=1,VLOOKUP(②選手情報入力!K83,種目情報!$A$4:$C$22,3,FALSE),VLOOKUP(②選手情報入力!K83,種目情報!$E$4:$G$22,3,FALSE))))","v":""},{"$f":"IF(E75=\"\",\"\",IF(②選手情報入力!M83=\"\",\"\",IF(I75=1,VLOOKUP(②選手情報入力!M83,種目情報!$A$4:$B$22,2,FALSE),VLOOKUP(②選手情報入力!M83,種目情報!$E$4:$F$22,2,FALSE))))","v":""},{"$f":"IF(E75=\"\",\"\",IF(②選手情報入力!N83=\"\",\"\",②選手情報入力!N83))","v":""},{"$f":"IF(E75=\"\",\"\",IF(②選手情報入力!M83=\"\",\"\",0))","v":""},{"$f":"IF(E75=\"\",\"\",IF(②選手情報入力!M83=\"\",\"\",IF(I75=1,VLOOKUP(②選手情報入力!M83,種目情報!$A$4:$C$22,3,FALSE),VLOOKUP(②選手情報入力!M83,種目情報!$E$4:$G$22,3,FALSE))))","v":""},{"$f":"IF(E75=\"\",\"\",IF(②選手情報入力!O83=\"\",\"\",IF(I75=1,種目情報!$J$4,種目情報!$J$6)))","v":""},{"$f":"IF(E75=\"\",\"\",IF(②選手情報入力!O83=\"\",\"\",IF(I75=1,IF(②選手情報入力!$O$5=\"\",\"\",②選手情報入力!$O$5),IF(②選手情報入力!$O$6=\"\",\"\",②選手情報入力!$O$6))))","v":""},{"$f":"IF(E75=\"\",\"\",IF(②選手情報入力!O83=\"\",\"\",0))","v":""},{"$f":"IF(E75=\"\",\"\",IF(②選手情報入力!O83=\"\",\"\",2))","v":""},{"$f":"IF(E75=\"\",\"\",IF(②選手情報入力!P83=\"\",\"\",IF(I75=1,種目情報!$J$5,種目情報!$J$7)))","v":""},{"$f":"IF(E75=\"\",\"\",IF(②選手情報入力!P83=\"\",\"\",IF(I75=1,IF(②選手情報入力!$P$5=\"\",\"\",②選手情報入力!$P$5),IF(②選手情報入力!$P$6=\"\",\"\",②選手情報入力!$P$6))))","v":""},{"$f":"IF(E75=\"\",\"\",IF(②選手情報入力!P83=\"\",\"\",0))","v":""},{"$f":"IF(E75=\"\",\"\",IF(②選手情報入力!P83=\"\",\"\",2))","v":""}]
[{"$f":"IF(E76=\"\",\"\",I76*1000000+①学校情報入力!$D$3*1000+②選手情報入力!A84)","v":""},{"$f":"IF(E76=\"\",\"\",①学校情報入力!$D$3)","v":""},null,{"$f":"IF(②選手情報入力!B84=\"\",\"\",②選手情報入力!B84)","v":""},{"$f":"IF(②選手情報入力!C84=\"\",\"\",②選手情報入力!C84)","v":""},{"$f":"IF(E76=\"\",\"\",②選手情報入力!D84)","v":""},{"$f":"IF(E76=\"\",\"\",②選手情報入力!E84)","v":""},"",{"$f":"IF(E76=\"\",\"\",IF(②選手情報入力!G84=\"男\",1,2))","v":""},{"$f":"IF(E76=\"\",\"\",IF(②選手情報入力!H84=\"\",\"\",②選手情報入力!H84))","v":""},null,"","",null,{"$f":"IF(E76=\"\",\"\",IF(②選手情報入力!I84=\"\",\"\",IF(I76=1,VLOOKUP(②選手情報入力!I84,種目情報!$A$4:$B$22,2,FALSE),VLOOKUP(②選手情報入力!I84,種目情報!$E$4:$F$22,2,FALSE))))","v":""},{"$f":"IF(E76=\"\",\"\",IF(②選手情報入力!J84=\"\",\"\",②選手情報入力!J84))","v":""},{"$f":"IF(E76=\"\",\"\",IF(②選手情報入力!I84=\"\",\"\",0))","v":""},{"$f":"IF(E76=\"\",\"\",IF(②選手情報入力!I84=\"\",\"\",IF(I76=1,VLOOKUP(②選手情報入力!I84,種目情報!$A$4:$C$22,3,FALSE),VLOOKUP(②選手情報入力!I84,種目情報!$E$4:$G$22,3,FALSE))))","v":""},{"$f":"IF(E76=\"\",\"\",IF(②選手情報入力!K84=\"\",\"\",IF(I76=1,VLOOKUP(②選手情報入力!K84,種目情報!$A$4:$B$22,2,FALSE),VLOOKUP(②選手情報入力!K84,種目情報!$E$4:$F$22,2,FALSE))))","v":""},{"$f":"IF(E76=\"\",\"\",IF(②選手情報入力!L84=\"\",\"\",②選手情報入力!L84))","v":""},{"$f":"IF(E76=\"\",\"\",IF(②選手情報入力!K84=\"\",\"\",0))","v":""},{"$f":"IF(E76=\"\",\"\",IF(②選手情報入力!K84=\"\",\"\",IF(I76=1,VLOOKUP(②選手情報入力!K84,種目情報!$A$4:$C$22,3,FALSE),VLOOKUP(②選手情報入力!K84,種目情報!$E$4:$G$22,3,FALSE))))","v":""},{"$f":"IF(E76=\"\",\"\",IF(②選手情報入力!M84=\"\",\"\",IF(I76=1,VLOOKUP(②選手情報入力!M84,種目情報!$A$4:$B$22,2,FALSE),VLOOKUP(②選手情報入力!M84,種目情報!$E$4:$F$22,2,FALSE))))","v":""},{"$f":"IF(E76=\"\",\"\",IF(②選手情報入力!N84=\"\",\"\",②選手情報入力!N84))","v":""},{"$f":"IF(E76=\"\",\"\",IF(②選手情報入力!M84=\"\",\"\",0))","v":""},{"$f":"IF(E76=\"\",\"\",IF(②選手情報入力!M84=\"\",\"\",IF(I76=1,VLOOKUP(②選手情報入力!M84,種目情報!$A$4:$C$22,3,FALSE),VLOOKUP(②選手情報入力!M84,種目情報!$E$4:$G$22,3,FALSE))))","v":""},{"$f":"IF(E76=\"\",\"\",IF(②選手情報入力!O84=\"\",\"\",IF(I76=1,種目情報!$J$4,種目情報!$J$6)))","v":""},{"$f":"IF(E76=\"\",\"\",IF(②選手情報入力!O84=\"\",\"\",IF(I76=1,IF(②選手情報入力!$O$5=\"\",\"\",②選手情報入力!$O$5),IF(②選手情報入力!$O$6=\"\",\"\",②選手情報入力!$O$6))))","v":""},{"$f":"IF(E76=\"\",\"\",IF(②選手情報入力!O84=\"\",\"\",0))","v":""},{"$f":"IF(E76=\"\",\"\",IF(②選手情報入力!O84=\"\",\"\",2))","v":""},{"$f":"IF(E76=\"\",\"\",IF(②選手情報入力!P84=\"\",\"\",IF(I76=1,種目情報!$J$5,種目情報!$J$7)))","v":""},{"$f":"IF(E76=\"\",\"\",IF(②選手情報入力!P84=\"\",\"\",IF(I76=1,IF(②選手情報入力!$P$5=\"\",\"\",②選手情報入力!$P$5),IF(②選手情報入力!$P$6=\"\",\"\",②選手情報入力!$P$6))))","v":""},{"$f":"IF(E76=\"\",\"\",IF(②選手情報入力!P84=\"\",\"\",0))","v":""},{"$f":"IF(E76=\"\",\"\",IF(②選手情報入力!P84=\"\",\"\",2))","v":""}]
[{"$f":"IF(E77=\"\",\"\",I77*1000000+①学校情報入力!$D$3*1000+②選手情報入力!A85)","v":""},{"$f":"IF(E77=\"\",\"\",①学校情報入力!$D$3)","v":""},null,{"$f":"IF(②選手情報入力!B85=\"\",\"\",②選手情報入力!B85)","v":""},{"$f":"IF(②選手情報入力!C85=\"\",\"\",②選手情報入力!C85)","v":""},{"$f":"IF(E77=\"\",\"\",②選手情報入力!D85)","v":""},{"$f":"IF(E77=\"\",\"\",②選手情報入力!E85)","v":""},"",{"$f":"IF(E77=\"\",\"\",IF(②選手情報入力!G85=\"男\",1,2))","v":""},{"$f":"IF(E77=\"\",\"\",IF(②選手情報入力!H85=\"\",\"\",②選手情報入力!H85))","v":""},null,"","",null,{"$f":"IF(E77=\"\",\"\",IF(②選手情報入力!I85=\"\",\"\",IF(I77=1,VLOOKUP(②選手情報入力!I85,種目情報!$A$4:$B$22,2,FALSE),VLOOKUP(②選手情報入力!I85,種目情報!$E$4:$F$22,2,FALSE))))","v":""},{"$f":"IF(E77=\"\",\"\",IF(②選手情報入力!J85=\"\",\"\",②選手情報入力!J85))","v":""},{"$f":"IF(E77=\"\",\"\",IF(②選手情報入力!I85=\"\",\"\",0))","v":""},{"$f":"IF(E77=\"\",\"\",IF(②選手情報入力!I85=\"\",\"\",IF(I77=1,VLOOKUP(②選手情報入力!I85,種目情報!$A$4:$C$22,3,FALSE),VLOOKUP(②選手情報入力!I85,種目情報!$E$4:$G$22,3,FALSE))))","v":""},{"$f":"IF(E77=\"\",\"\",IF(②選手情報入力!K85=\"\",\"\",IF(I77=1,VLOOKUP(②選手情報入力!K85,種目情報!$A$4:$B$22,2,FALSE),VLOOKUP(②選手情報入力!K85,種目情報!$E$4:$F$22,2,FALSE))))","v":""},{"$f":"IF(E77=\"\",\"\",IF(②選手情報入力!L85=\"\",\"\",②選手情報入力!L85))","v":""},{"$f":"IF(E77=\"\",\"\",IF(②選手情報入力!K85=\"\",\"\",0))","v":""},{"$f":"IF(E77=\"\",\"\",IF(②選手情報入力!K85=\"\",\"\",IF(I77=1,VLOOKUP(②選手情報入力!K85,種目情報!$A$4:$C$22,3,FALSE),VLOOKUP(②選手情報入力!K85,種目情報!$E$4:$G$22,3,FALSE))))","v":""},{"$f":"IF(E77=\"\",\"\",IF(②選手情報入力!M85=\"\",\"\",IF(I77=1,VLOOKUP(②選手情報入力!M85,種目情報!$A$4:$B$22,2,FALSE),VLOOKUP(②選手情報入力!M85,種目情報!$E$4:$F$22,2,FALSE))))","v":""},{"$f":"IF(E77=\"\",\"\",IF(②選手情報入力!N85=\"\",\"\",②選手情報入力!N85))","v":""},{"$f":"IF(E77=\"\",\"\",IF(②選手情報入力!M85=\"\",\"\",0))","v":""},{"$f":"IF(E77=\"\",\"\",IF(②選手情報入力!M85=\"\",\"\",IF(I77=1,VLOOKUP(②選手情報入力!M85,種目情報!$A$4:$C$22,3,FALSE),VLOOKUP(②選手情報入力!M85,種目情報!$E$4:$G$22,3,FALSE))))","v":""},{"$f":"IF(E77=\"\",\"\",IF(②選手情報入力!O85=\"\",\"\",IF(I77=1,種目情報!$J$4,種目情報!$J$6)))","v":""},{"$f":"IF(E77=\"\",\"\",IF(②選手情報入力!O85=\"\",\"\",IF(I77=1,IF(②選手情報入力!$O$5=\"\",\"\",②選手情報入力!$O$5),IF(②選手情報入力!$O$6=\"\",\"\",②選手情報入力!$O$6))))","v":""},{"$f":"IF(E77=\"\",\"\",IF(②選手情報入力!O85=\"\",\"\",0))","v":""},{"$f":"IF(E77=\"\",\"\",IF(②選手情報入力!O85=\"\",\"\",2))","v":""},{"$f":"IF(E77=\"\",\"\",IF(②選手情報入力!P85=\"\",\"\",IF(I77=1,種目情報!$J$5,種目情報!$J$7)))","v":""},{"$f":"IF(E77=\"\",\"\",IF(②選手情報入力!P85=\"\",\"\",IF(I77=1,IF(②選手情報入力!$P$5=\"\",\"\",②選手情報入力!$P$5),IF(②選手情報入力!$P$6=\"\",\"\",②選手情報入力!$P$6))))","v":""},{"$f":"IF(E77=\"\",\"\",IF(②選手情報入力!P85=\"\",\"\",0))","v":""},{"$f":"IF(E77=\"\",\"\",IF(②選手情報入力!P85=\"\",\"\",2))","v":""}]
[{"$f":"IF(E78=\"\",\"\",I78*1000000+①学校情報入力!$D$3*1000+②選手情報入力!A86)","v":""},{"$f":"IF(E78=\"\",\"\",①学校情報入力!$D$3)","v":""},null,{"$f":"IF(②選手情報入力!B86=\"\",\"\",②選手情報入力!B86)","v":""},{"$f":"IF(②選手情報入力!C86=\"\",\"\",②選手情報入力!C86)","v":""},{"$f":"IF(E78=\"\",\"\",②選手情報入力!D86)","v":""},{"$f":"IF(E78=\"\",\"\",②選手情報入力!E86)","v":""},"",{"$f":"IF(E78=\"\",\"\",IF(②選手情報入力!G86=\"男\",1,2))","v":""},{"$f":"IF(E78=\"\",\"\",IF(②選手情報入力!H86=\"\",\"\",②選手情報入力!H86))","v":""},null,"","",null,{"$f":"IF(E78=\"\",\"\",IF(②選手情報入力!I86=\"\",\"\",IF(I78=1,VLOOKUP(②選手情報入力!I86,種目情報!$A$4:$B$22,2,FALSE),VLOOKUP(②選手情報入力!I86,種目情報!$E$4:$F$22,2,FALSE))))","v":""},{"$f":"IF(E78=\"\",\"\",IF(②選手情報入力!J86=\"\",\"\",②選手情報入力!J86))","v":""},{"$f":"IF(E78=\"\",\"\",IF(②選手情報入力!I86=\"\",\"\",0))","v":""},{"$f":"IF(E78=\"\",\"\",IF(②選手情報入力!I86=\"\",\"\",IF(I78=1,VLOOKUP(②選手情報入力!I86,種目情報!$A$4:$C$22,3,FALSE),VLOOKUP(②選手情報入力!I86,種目情報!$E$4:$G$22,3,FALSE))))","v":""},{"$f":"IF(E78=\"\",\"\",IF(②選手情報入力!K86=\"\",\"\",IF(I78=1,VLOOKUP(②選手情報入力!K86,種目情報!$A$4:$B$22,2,FALSE),VLOOKUP(②選手情報入力!K86,種目情報!$E$4:$F$22,2,FALSE))))","v":""},{"$f":"IF(E78=\"\",\"\",IF(②選手情報入力!L86=\"\",\"\",②選手情報入力!L86))","v":""},{"$f":"IF(E78=\"\",\"\",IF(②選手情報入力!K86=\"\",\"\",0))","v":""},{"$f":"IF(E78=\"\",\"\",IF(②選手情報入力!K86=\"\",\"\",IF(I78=1,VLOOKUP(②選手情報入力!K86,種目情報!$A$4:$C$22,3,FALSE),VLOOKUP(②選手情報入力!K86,種目情報!$E$4:$G$22,3,FALSE))))","v":""},{"$f":"IF(E78=\"\",\"\",IF(②選手情報入力!M86=\"\",\"\",IF(I78=1,VLOOKUP(②選手情報入力!M86,種目情報!$A$4:$B$22,2,FALSE),VLOOKUP(②選手情報入力!M86,種目情報!$E$4:$F$22,2,FALSE))))","v":""},{"$f":"IF(E78=\"\",\"\",IF(②選手情報入力!N86=\"\",\"\",②選手情報入力!N86))","v":""},{"$f":"IF(E78=\"\",\"\",IF(②選手情報入力!M86=\"\",\"\",0))","v":""},{"$f":"IF(E78=\"\",\"\",IF(②選手情報入力!M86=\"\",\"\",IF(I78=1,VLOOKUP(②選手情報入力!M86,種目情報!$A$4:$C$22,3,FALSE),VLOOKUP(②選手情報入力!M86,種目情報!$E$4:$G$22,3,FALSE))))","v":""},{"$f":"IF(E78=\"\",\"\",IF(②選手情報入力!O86=\"\",\"\",IF(I78=1,種目情報!$J$4,種目情報!$J$6)))","v":""},{"$f":"IF(E78=\"\",\"\",IF(②選手情報入力!O86=\"\",\"\",IF(I78=1,IF(②選手情報入力!$O$5=\"\",\"\",②選手情報入力!$O$5),IF(②選手情報入力!$O$6=\"\",\"\",②選手情報入力!$O$6))))","v":""},{"$f":"IF(E78=\"\",\"\",IF(②選手情報入力!O86=\"\",\"\",0))","v":""},{"$f":"IF(E78=\"\",\"\",IF(②選手情報入力!O86=\"\",\"\",2))","v":""},{"$f":"IF(E78=\"\",\"\",IF(②選手情報入力!P86=\"\",\"\",IF(I78=1,種目情報!$J$5,種目情報!$J$7)))","v":""},{"$f":"IF(E78=\"\",\"\",IF(②選手情報入力!P86=\"\",\"\",IF(I78=1,IF(②選手情報入力!$P$5=\"\",\"\",②選手情報入力!$P$5),IF(②選手情報入力!$P$6=\"\",\"\",②選手情報入力!$P$6))))","v":""},{"$f":"IF(E78=\"\",\"\",IF(②選手情報入力!P86=\"\",\"\",0))","v":""},{"$f":"IF(E78=\"\",\"\",IF(②選手情報入力!P86=\"\",\"\",2))","v":""}]
[{"$f":"IF(E79=\"\",\"\",I79*1000000+①学校情報入力!$D$3*1000+②選手情報入力!A87)","v":""},{"$f":"IF(E79=\"\",\"\",①学校情報入力!$D$3)","v":""},null,{"$f":"IF(②選手情報入力!B87=\"\",\"\",②選手情報入力!B87)","v":""},{"$f":"IF(②選手情報入力!C87=\"\",\"\",②選手情報入力!C87)","v":""},{"$f":"IF(E79=\"\",\"\",②選手情報入力!D87)","v":""},{"$f":"IF(E79=\"\",\"\",②選手情報入力!E87)","v":""},"",{"$f":"IF(E79=\"\",\"\",IF(②選手情報入力!G87=\"男\",1,2))","v":""},{"$f":"IF(E79=\"\",\"\",IF(②選手情報入力!H87=\"\",\"\",②選手情報入力!H87))","v":""},null,"","",null,{"$f":"IF(E79=\"\",\"\",IF(②選手情報入力!I87=\"\",\"\",IF(I79=1,VLOOKUP(②選手情報入力!I87,種目情報!$A$4:$B$22,2,FALSE),VLOOKUP(②選手情報入力!I87,種目情報!$E$4:$F$22,2,FALSE))))","v":""},{"$f":"IF(E79=\"\",\"\",IF(②選手情報入力!J87=\"\",\"\",②選手情報入力!J87))","v":""},{"$f":"IF(E79=\"\",\"\",IF(②選手情報入力!I87=\"\",\"\",0))","v":""},{"$f":"IF(E79=\"\",\"\",IF(②選手情報入力!I87=\"\",\"\",IF(I79=1,VLOOKUP(②選手情報入力!I87,種目情報!$A$4:$C$22,3,FALSE),VLOOKUP(②選手情報入力!I87,種目情報!$E$4:$G$22,3,FALSE))))","v":""},{"$f":"IF(E79=\"\",\"\",IF(②選手情報入力!K87=\"\",\"\",IF(I79=1,VLOOKUP(②選手情報入力!K87,種目情報!$A$4:$B$22,2,FALSE),VLOOKUP(②選手情報入力!K87,種目情報!$E$4:$F$22,2,FALSE))))","v":""},{"$f":"IF(E79=\"\",\"\",IF(②選手情報入力!L87=\"\",\"\",②選手情報入力!L87))","v":""},{"$f":"IF(E79=\"\",\"\",IF(②選手情報入力!K87=\"\",\"\",0))","v":""},{"$f":"IF(E79=\"\",\"\",IF(②選手情報入力!K87=\"\",\"\",IF(I79=1,VLOOKUP(②選手情報入力!K87,種目情報!$A$4:$C$22,3,FALSE),VLOOKUP(②選手情報入力!K87,種目情報!$E$4:$G$22,3,FALSE))))","v":""},{"$f":"IF(E79=\"\",\"\",IF(②選手情報入力!M87=\"\",\"\",IF(I79=1,VLOOKUP(②選手情報入力!M87,種目情報!$A$4:$B$22,2,FALSE),VLOOKUP(②選手情報入力!M87,種目情報!$E$4:$F$22,2,FALSE))))","v":""},{"$f":"IF(E79=\"\",\"\",IF(②選手情報入力!N87=\"\",\"\",②選手情報入力!N87))","v":""},{"$f":"IF(E79=\"\",\"\",IF(②選手情報入力!M87=\"\",\"\",0))","v":""},{"$f":"IF(E79=\"\",\"\",IF(②選手情報入力!M87=\"\",\"\",IF(I79=1,VLOOKUP(②選手情報入力!M87,種目情報!$A$4:$C$22,3,FALSE),VLOOKUP(②選手情報入力!M87,種目情報!$E$4:$G$22,3,FALSE))))","v":""},{"$f":"IF(E79=\"\",\"\",IF(②選手情報入力!O87=\"\",\"\",IF(I79=1,種目情報!$J$4,種目情報!$J$6)))","v":""},{"$f":"IF(E79=\"\",\"\",IF(②選手情報入力!O87=\"\",\"\",IF(I79=1,IF(②選手情報入力!$O$5=\"\",\"\",②選手情報入力!$O$5),IF(②選手情報入力!$O$6=\"\",\"\",②選手情報入力!$O$6))))","v":""},{"$f":"IF(E79=\"\",\"\",IF(②選手情報入力!O87=\"\",\"\",0))","v":""},{"$f":"IF(E79=\"\",\"\",IF(②選手情報入力!O87=\"\",\"\",2))","v":""},{"$f":"IF(E79=\"\",\"\",IF(②選手情報入力!P87=\"\",\"\",IF(I79=1,種目情報!$J$5,種目情報!$J$7)))","v":""},{"$f":"IF(E79=\"\",\"\",IF(②選手情報入力!P87=\"\",\"\",IF(I79=1,IF(②選手情報入力!$P$5=\"\",\"\",②選手情報入力!$P$5),IF(②選手情報入力!$P$6=\"\",\"\",②選手情報入力!$P$6))))","v":""},{"$f":"IF(E79=\"\",\"\",IF(②選手情報入力!P87=\"\",\"\",0))","v":""},{"$f":"IF(E79=\"\",\"\",IF(②選手情報入力!P87=\"\",\"\",2))","v":""}]
[{"$f":"IF(E80=\"\",\"\",I80*1000000+①学校情報入力!$D$3*1000+②選手情報入力!A88)","v":""},{"$f":"IF(E80=\"\",\"\",①学校情報入力!$D$3)","v":""},null,{"$f":"IF(②選手情報入力!B88=\"\",\"\",②選手情報入力!B88)","v":""},{"$f":"IF(②選手情報入力!C88=\"\",\"\",②選手情報入力!C88)","v":""},{"$f":"IF(E80=\"\",\"\",②選手情報入力!D88)","v":""},{"$f":"IF(E80=\"\",\"\",②選手情報入力!E88)","v":""},"",{"$f":"IF(E80=\"\",\"\",IF(②選手情報入力!G88=\"男\",1,2))","v":""},{"$f":"IF(E80=\"\",\"\",IF(②選手情報入力!H88=\"\",\"\",②選手情報入力!H88))","v":""},null,"","",null,{"$f":"IF(E80=\"\",\"\",IF(②選手情報入力!I88=\"\",\"\",IF(I80=1,VLOOKUP(②選手情報入力!I88,種目情報!$A$4:$B$22,2,FALSE),VLOOKUP(②選手情報入力!I88,種目情報!$E$4:$F$22,2,FALSE))))","v":""},{"$f":"IF(E80=\"\",\"\",IF(②選手情報入力!J88=\"\",\"\",②選手情報入力!J88))","v":""},{"$f":"IF(E80=\"\",\"\",IF(②選手情報入力!I88=\"\",\"\",0))","v":""},{"$f":"IF(E80=\"\",\"\",IF(②選手情報入力!I88=\"\",\"\",IF(I80=1,VLOOKUP(②選手情報入力!I88,種目情報!$A$4:$C$22,3,FALSE),VLOOKUP(②選手情報入力!I88,種目情報!$E$4:$G$22,3,FALSE))))","v":""},{"$f":"IF(E80=\"\",\"\",IF(②選手情報入力!K88=\"\",\"\",IF(I80=1,VLOOKUP(②選手情報入力!K88,種目情報!$A$4:$B$22,2,FALSE),VLOOKUP(②選手情報入力!K88,種目情報!$E$4:$F$22,2,FALSE))))","v":""},{"$f":"IF(E80=\"\",\"\",IF(②選手情報入力!L88=\"\",\"\",②選手情報入力!L88))","v":""},{"$f":"IF(E80=\"\",\"\",IF(②選手情報入力!K88=\"\",\"\",0))","v":""},{"$f":"IF(E80=\"\",\"\",IF(②選手情報入力!K88=\"\",\"\",IF(I80=1,VLOOKUP(②選手情報入力!K88,種目情報!$A$4:$C$22,3,FALSE),VLOOKUP(②選手情報入力!K88,種目情報!$E$4:$G$22,3,FALSE))))","v":""},{"$f":"IF(E80=\"\",\"\",IF(②選手情報入力!M88=\"\",\"\",IF(I80=1,VLOOKUP(②選手情報入力!M88,種目情報!$A$4:$B$22,2,FALSE),VLOOKUP(②選手情報入力!M88,種目情報!$E$4:$F$22,2,FALSE))))","v":""},{"$f":"IF(E80=\"\",\"\",IF(②選手情報入力!N88=\"\",\"\",②選手情報入力!N88))","v":""},{"$f":"IF(E80=\"\",\"\",IF(②選手情報入力!M88=\"\",\"\",0))","v":""},{"$f":"IF(E80=\"\",\"\",IF(②選手情報入力!M88=\"\",\"\",IF(I80=1,VLOOKUP(②選手情報入力!M88,種目情報!$A$4:$C$22,3,FALSE),VLOOKUP(②選手情報入力!M88,種目情報!$E$4:$G$22,3,FALSE))))","v":""},{"$f":"IF(E80=\"\",\"\",IF(②選手情報入力!O88=\"\",\"\",IF(I80=1,種目情報!$J$4,種目情報!$J$6)))","v":""},{"$f":"IF(E80=\"\",\"\",IF(②選手情報入力!O88=\"\",\"\",IF(I80=1,IF(②選手情報入力!$O$5=\"\",\"\",②選手情報入力!$O$5),IF(②選手情報入力!$O$6=\"\",\"\",②選手情報入力!$O$6))))","v":""},{"$f":"IF(E80=\"\",\"\",IF(②選手情報入力!O88=\"\",\"\",0))","v":""},{"$f":"IF(E80=\"\",\"\",IF(②選手情報入力!O88=\"\",\"\",2))","v":""},{"$f":"IF(E80=\"\",\"\",IF(②選手情報入力!P88=\"\",\"\",IF(I80=1,種目情報!$J$5,種目情報!$J$7)))","v":""},{"$f":"IF(E80=\"\",\"\",IF(②選手情報入力!P88=\"\",\"\",IF(I80=1,IF(②選手情報入力!$P$5=\"\",\"\",②選手情報入力!$P$5),IF(②選手情報入力!$P$6=\"\",\"\",②選手情報入力!$P$6))))","v":""},{"$f":"IF(E80=\"\",\"\",IF(②選手情報入力!P88=\"\",\"\",0))","v":""},{"$f":"IF(E80=\"\",\"\",IF(②選手情報入力!P88=\"\",\"\",2))","v":""}]
[{"$f":"IF(E81=\"\",\"\",I81*1000000+①学校情報入力!$D$3*1000+②選手情報入力!A89)","v":""},{"$f":"IF(E81=\"\",\"\",①学校情報入力!$D$3)","v":""},null,{"$f":"IF(②選手情報入力!B89=\"\",\"\",②選手情報入力!B89)","v":""},{"$f":"IF(②選手情報入力!C89=\"\",\"\",②選手情報入力!C89)","v":""},{"$f":"IF(E81=\"\",\"\",②選手情報入力!D89)","v":""},{"$f":"IF(E81=\"\",\"\",②選手情報入力!E89)","v":""},"",{"$f":"IF(E81=\"\",\"\",IF(②選手情報入力!G89=\"男\",1,2))","v":""},{"$f":"IF(E81=\"\",\"\",IF(②選手情報入力!H89=\"\",\"\",②選手情報入力!H89))","v":""},null,"","",null,{"$f":"IF(E81=\"\",\"\",IF(②選手情報入力!I89=\"\",\"\",IF(I81=1,VLOOKUP(②選手情報入力!I89,種目情報!$A$4:$B$22,2,FALSE),VLOOKUP(②選手情報入力!I89,種目情報!$E$4:$F$22,2,FALSE))))","v":""},{"$f":"IF(E81=\"\",\"\",IF(②選手情報入力!J89=\"\",\"\",②選手情報入力!J89))","v":""},{"$f":"IF(E81=\"\",\"\",IF(②選手情報入力!I89=\"\",\"\",0))","v":""},{"$f":"IF(E81=\"\",\"\",IF(②選手情報入力!I89=\"\",\"\",IF(I81=1,VLOOKUP(②選手情報入力!I89,種目情報!$A$4:$C$22,3,FALSE),VLOOKUP(②選手情報入力!I89,種目情報!$E$4:$G$22,3,FALSE))))","v":""},{"$f":"IF(E81=\"\",\"\",IF(②選手情報入力!K89=\"\",\"\",IF(I81=1,VLOOKUP(②選手情報入力!K89,種目情報!$A$4:$B$22,2,FALSE),VLOOKUP(②選手情報入力!K89,種目情報!$E$4:$F$22,2,FALSE))))","v":""},{"$f":"IF(E81=\"\",\"\",IF(②選手情報入力!L89=\"\",\"\",②選手情報入力!L89))","v":""},{"$f":"IF(E81=\"\",\"\",IF(②選手情報入力!K89=\"\",\"\",0))","v":""},{"$f":"IF(E81=\"\",\"\",IF(②選手情報入力!K89=\"\",\"\",IF(I81=1,VLOOKUP(②選手情報入力!K89,種目情報!$A$4:$C$22,3,FALSE),VLOOKUP(②選手情報入力!K89,種目情報!$E$4:$G$22,3,FALSE))))","v":""},{"$f":"IF(E81=\"\",\"\",IF(②選手情報入力!M89=\"\",\"\",IF(I81=1,VLOOKUP(②選手情報入力!M89,種目情報!$A$4:$B$22,2,FALSE),VLOOKUP(②選手情報入力!M89,種目情報!$E$4:$F$22,2,FALSE))))","v":""},{"$f":"IF(E81=\"\",\"\",IF(②選手情報入力!N89=\"\",\"\",②選手情報入力!N89))","v":""},{"$f":"IF(E81=\"\",\"\",IF(②選手情報入力!M89=\"\",\"\",0))","v":""},{"$f":"IF(E81=\"\",\"\",IF(②選手情報入力!M89=\"\",\"\",IF(I81=1,VLOOKUP(②選手情報入力!M89,種目情報!$A$4:$C$22,3,FALSE),VLOOKUP(②選手情報入力!M89,種目情報!$E$4:$G$22,3,FALSE))))","v":""},{"$f":"IF(E81=\"\",\"\",IF(②選手情報入力!O89=\"\",\"\",IF(I81=1,種目情報!$J$4,種目情報!$J$6)))","v":""},{"$f":"IF(E81=\"\",\"\",IF(②選手情報入力!O89=\"\",\"\",IF(I81=1,IF(②選手情報入力!$O$5=\"\",\"\",②選手情報入力!$O$5),IF(②選手情報入力!$O$6=\"\",\"\",②選手情報入力!$O$6))))","v":""},{"$f":"IF(E81=\"\",\"\",IF(②選手情報入力!O89=\"\",\"\",0))","v":""},{"$f":"IF(E81=\"\",\"\",IF(②選手情報入力!O89=\"\",\"\",2))","v":""},{"$f":"IF(E81=\"\",\"\",IF(②選手情報入力!P89=\"\",\"\",IF(I81=1,種目情報!$J$5,種目情報!$J$7)))","v":""},{"$f":"IF(E81=\"\",\"\",IF(②選手情報入力!P89=\"\",\"\",IF(I81=1,IF(②選手情報入力!$P$5=\"\",\"\",②選手情報入力!$P$5),IF(②選手情報入力!$P$6=\"\",\"\",②選手情報入力!$P$6))))","v":""},{"$f":"IF(E81=\"\",\"\",IF(②選手情報入力!P89=\"\",\"\",0))","v":""},{"$f":"IF(E81=\"\",\"\",IF(②選手情報入力!P89=\"\",\"\",2))","v":""}]
[{"$f":"IF(E82=\"\",\"\",I82*1000000+①学校情報入力!$D$3*1000+②選手情報入力!A90)","v":""},{"$f":"IF(E82=\"\",\"\",①学校情報入力!$D$3)","v":""},null,{"$f":"IF(②選手情報入力!B90=\"\",\"\",②選手情報入力!B90)","v":""},{"$f":"IF(②選手情報入力!C90=\"\",\"\",②選手情報入力!C90)","v":""},{"$f":"IF(E82=\"\",\"\",②選手情報入力!D90)","v":""},{"$f":"IF(E82=\"\",\"\",②選手情報入力!E90)","v":""},"",{"$f":"IF(E82=\"\",\"\",IF(②選手情報入力!G90=\"男\",1,2))","v":""},{"$f":"IF(E82=\"\",\"\",IF(②選手情報入力!H90=\"\",\"\",②選手情報入力!H90))","v":""},null,"","",null,{"$f":"IF(E82=\"\",\"\",IF(②選手情報入力!I90=\"\",\"\",IF(I82=1,VLOOKUP(②選手情報入力!I90,種目情報!$A$4:$B$22,2,FALSE),VLOOKUP(②選手情報入力!I90,種目情報!$E$4:$F$22,2,FALSE))))","v":""},{"$f":"IF(E82=\"\",\"\",IF(②選手情報入力!J90=\"\",\"\",②選手情報入力!J90))","v":""},{"$f":"IF(E82=\"\",\"\",IF(②選手情報入力!I90=\"\",\"\",0))","v":""},{"$f":"IF(E82=\"\",\"\",IF(②選手情報入力!I90=\"\",\"\",IF(I82=1,VLOOKUP(②選手情報入力!I90,種目情報!$A$4:$C$22,3,FALSE),VLOOKUP(②選手情報入力!I90,種目情報!$E$4:$G$22,3,FALSE))))","v":""},{"$f":"IF(E82=\"\",\"\",IF(②選手情報入力!K90=\"\",\"\",IF(I82=1,VLOOKUP(②選手情報入力!K90,種目情報!$A$4:$B$22,2,FALSE),VLOOKUP(②選手情報入力!K90,種目情報!$E$4:$F$22,2,FALSE))))","v":""},{"$f":"IF(E82=\"\",\"\",IF(②選手情報入力!L90=\"\",\"\",②選手情報入力!L90))","v":""},{"$f":"IF(E82=\"\",\"\",IF(②選手情報入力!K90=\"\",\"\",0))","v":""},{"$f":"IF(E82=\"\",\"\",IF(②選手情報入力!K90=\"\",\"\",IF(I82=1,VLOOKUP(②選手情報入力!K90,種目情報!$A$4:$C$22,3,FALSE),VLOOKUP(②選手情報入力!K90,種目情報!$E$4:$G$22,3,FALSE))))","v":""},{"$f":"IF(E82=\"\",\"\",IF(②選手情報入力!M90=\"\",\"\",IF(I82=1,VLOOKUP(②選手情報入力!M90,種目情報!$A$4:$B$22,2,FALSE),VLOOKUP(②選手情報入力!M90,種目情報!$E$4:$F$22,2,FALSE))))","v":""},{"$f":"IF(E82=\"\",\"\",IF(②選手情報入力!N90=\"\",\"\",②選手情報入力!N90))","v":""},{"$f":"IF(E82=\"\",\"\",IF(②選手情報入力!M90=\"\",\"\",0))","v":""},{"$f":"IF(E82=\"\",\"\",IF(②選手情報入力!M90=\"\",\"\",IF(I82=1,VLOOKUP(②選手情報入力!M90,種目情報!$A$4:$C$22,3,FALSE),VLOOKUP(②選手情報入力!M90,種目情報!$E$4:$G$22,3,FALSE))))","v":""},{"$f":"IF(E82=\"\",\"\",IF(②選手情報入力!O90=\"\",\"\",IF(I82=1,種目情報!$J$4,種目情報!$J$6)))","v":""},{"$f":"IF(E82=\"\",\"\",IF(②選手情報入力!O90=\"\",\"\",IF(I82=1,IF(②選手情報入力!$O$5=\"\",\"\",②選手情報入力!$O$5),IF(②選手情報入力!$O$6=\"\",\"\",②選手情報入力!$O$6))))","v":""},{"$f":"IF(E82=\"\",\"\",IF(②選手情報入力!O90=\"\",\"\",0))","v":""},{"$f":"IF(E82=\"\",\"\",IF(②選手情報入力!O90=\"\",\"\",2))","v":""},{"$f":"IF(E82=\"\",\"\",IF(②選手情報入力!P90=\"\",\"\",IF(I82=1,種目情報!$J$5,種目情報!$J$7)))","v":""},{"$f":"IF(E82=\"\",\"\",IF(②選手情報入力!P90=\"\",\"\",IF(I82=1,IF(②選手情報入力!$P$5=\"\",\"\",②選手情報入力!$P$5),IF(②選手情報入力!$P$6=\"\",\"\",②選手情報入力!$P$6))))","v":""},{"$f":"IF(E82=\"\",\"\",IF(②選手情報入力!P90=\"\",\"\",0))","v":""},{"$f":"IF(E82=\"\",\"\",IF(②選手情報入力!P90=\"\",\"\",2))","v":""}]
[{"$f":"IF(E83=\"\",\"\",I83*1000000+①学校情報入力!$D$3*1000+②選手情報入力!A91)","v":""},{"$f":"IF(E83=\"\",\"\",①学校情報入力!$D$3)","v":""},null,{"$f":"IF(②選手情報入力!B91=\"\",\"\",②選手情報入力!B91)","v":""},{"$f":"IF(②選手情報入力!C91=\"\",\"\",②選手情報入力!C91)","v":""},{"$f":"IF(E83=\"\",\"\",②選手情報入力!D91)","v":""},{"$f":"IF(E83=\"\",\"\",②選手情報入力!E91)","v":""},"",{"$f":"IF(E83=\"\",\"\",IF(②選手情報入力!G91=\"男\",1,2))","v":""},{"$f":"IF(E83=\"\",\"\",IF(②選手情報入力!H91=\"\",\"\",②選手情報入力!H91))","v":""},null,"","",null,{"$f":"IF(E83=\"\",\"\",IF(②選手情報入力!I91=\"\",\"\",IF(I83=1,VLOOKUP(②選手情報入力!I91,種目情報!$A$4:$B$22,2,FALSE),VLOOKUP(②選手情報入力!I91,種目情報!$E$4:$F$22,2,FALSE))))","v":""},{"$f":"IF(E83=\"\",\"\",IF(②選手情報入力!J91=\"\",\"\",②選手情報入力!J91))","v":""},{"$f":"IF(E83=\"\",\"\",IF(②選手情報入力!I91=\"\",\"\",0))","v":""},{"$f":"IF(E83=\"\",\"\",IF(②選手情報入力!I91=\"\",\"\",IF(I83=1,VLOOKUP(②選手情報入力!I91,種目情報!$A$4:$C$22,3,FALSE),VLOOKUP(②選手情報入力!I91,種目情報!$E$4:$G$22,3,FALSE))))","v":""},{"$f":"IF(E83=\"\",\"\",IF(②選手情報入力!K91=\"\",\"\",IF(I83=1,VLOOKUP(②選手情報入力!K91,種目情報!$A$4:$B$22,2,FALSE),VLOOKUP(②選手情報入力!K91,種目情報!$E$4:$F$22,2,FALSE))))","v":""},{"$f":"IF(E83=\"\",\"\",IF(②選手情報入力!L91=\"\",\"\",②選手情報入力!L91))","v":""},{"$f":"IF(E83=\"\",\"\",IF(②選手情報入力!K91=\"\",\"\",0))","v":""},{"$f":"IF(E83=\"\",\"\",IF(②選手情報入力!K91=\"\",\"\",IF(I83=1,VLOOKUP(②選手情報入力!K91,種目情報!$A$4:$C$22,3,FALSE),VLOOKUP(②選手情報入力!K91,種目情報!$E$4:$G$22,3,FALSE))))","v":""},{"$f":"IF(E83=\"\",\"\",IF(②選手情報入力!M91=\"\",\"\",IF(I83=1,VLOOKUP(②選手情報入力!M91,種目情報!$A$4:$B$22,2,FALSE),VLOOKUP(②選手情報入力!M91,種目情報!$E$4:$F$22,2,FALSE))))","v":""},{"$f":"IF(E83=\"\",\"\",IF(②選手情報入力!N91=\"\",\"\",②選手情報入力!N91))","v":""},{"$f":"IF(E83=\"\",\"\",IF(②選手情報入力!M91=\"\",\"\",0))","v":""},{"$f":"IF(E83=\"\",\"\",IF(②選手情報入力!M91=\"\",\"\",IF(I83=1,VLOOKUP(②選手情報入力!M91,種目情報!$A$4:$C$22,3,FALSE),VLOOKUP(②選手情報入力!M91,種目情報!$E$4:$G$22,3,FALSE))))","v":""},{"$f":"IF(E83=\"\",\"\",IF(②選手情報入力!O91=\"\",\"\",IF(I83=1,種目情報!$J$4,種目情報!$J$6)))","v":""},{"$f":"IF(E83=\"\",\"\",IF(②選手情報入力!O91=\"\",\"\",IF(I83=1,IF(②選手情報入力!$O$5=\"\",\"\",②選手情報入力!$O$5),IF(②選手情報入力!$O$6=\"\",\"\",②選手情報入力!$O$6))))","v":""},{"$f":"IF(E83=\"\",\"\",IF(②選手情報入力!O91=\"\",\"\",0))","v":""},{"$f":"IF(E83=\"\",\"\",IF(②選手情報入力!O91=\"\",\"\",2))","v":""},{"$f":"IF(E83=\"\",\"\",IF(②選手情報入力!P91=\"\",\"\",IF(I83=1,種目情報!$J$5,種目情報!$J$7)))","v":""},{"$f":"IF(E83=\"\",\"\",IF(②選手情報入力!P91=\"\",\"\",IF(I83=1,IF(②選手情報入力!$P$5=\"\",\"\",②選手情報入力!$P$5),IF(②選手情報入力!$P$6=\"\",\"\",②選手情報入力!$P$6))))","v":""},{"$f":"IF(E83=\"\",\"\",IF(②選手情報入力!P91=\"\",\"\",0))","v":""},{"$f":"IF(E83=\"\",\"\",IF(②選手情報入力!P91=\"\",\"\",2))","v":""}]
[{"$f":"IF(E84=\"\",\"\",I84*1000000+①学校情報入力!$D$3*1000+②選手情報入力!A92)","v":""},{"$f":"IF(E84=\"\",\"\",①学校情報入力!$D$3)","v":""},null,{"$f":"IF(②選手情報入力!B92=\"\",\"\",②選手情報入力!B92)","v":""},{"$f":"IF(②選手情報入力!C92=\"\",\"\",②選手情報入力!C92)","v":""},{"$f":"IF(E84=\"\",\"\",②選手情報入力!D92)","v":""},{"$f":"IF(E84=\"\",\"\",②選手情報入力!E92)","v":""},"",{"$f":"IF(E84=\"\",\"\",IF(②選手情報入力!G92=\"男\",1,2))","v":""},{"$f":"IF(E84=\"\",\"\",IF(②選手情報入力!H92=\"\",\"\",②選手情報入力!H92))","v":""},null,"","",null,{"$f":"IF(E84=\"\",\"\",IF(②選手情報入力!I92=\"\",\"\",IF(I84=1,VLOOKUP(②選手情報入力!I92,種目情報!$A$4:$B$22,2,FALSE),VLOOKUP(②選手情報入力!I92,種目情報!$E$4:$F$22,2,FALSE))))","v":""},{"$f":"IF(E84=\"\",\"\",IF(②選手情報入力!J92=\"\",\"\",②選手情報入力!J92))","v":""},{"$f":"IF(E84=\"\",\"\",IF(②選手情報入力!I92=\"\",\"\",0))","v":""},{"$f":"IF(E84=\"\",\"\",IF(②選手情報入力!I92=\"\",\"\",IF(I84=1,VLOOKUP(②選手情報入力!I92,種目情報!$A$4:$C$22,3,FALSE),VLOOKUP(②選手情報入力!I92,種目情報!$E$4:$G$22,3,FALSE))))","v":""},{"$f":"IF(E84=\"\",\"\",IF(②選手情報入力!K92=\"\",\"\",IF(I84=1,VLOOKUP(②選手情報入力!K92,種目情報!$A$4:$B$22,2,FALSE),VLOOKUP(②選手情報入力!K92,種目情報!$E$4:$F$22,2,FALSE))))","v":""},{"$f":"IF(E84=\"\",\"\",IF(②選手情報入力!L92=\"\",\"\",②選手情報入力!L92))","v":""},{"$f":"IF(E84=\"\",\"\",IF(②選手情報入力!K92=\"\",\"\",0))","v":""},{"$f":"IF(E84=\"\",\"\",IF(②選手情報入力!K92=\"\",\"\",IF(I84=1,VLOOKUP(②選手情報入力!K92,種目情報!$A$4:$C$22,3,FALSE),VLOOKUP(②選手情報入力!K92,種目情報!$E$4:$G$22,3,FALSE))))","v":""},{"$f":"IF(E84=\"\",\"\",IF(②選手情報入力!M92=\"\",\"\",IF(I84=1,VLOOKUP(②選手情報入力!M92,種目情報!$A$4:$B$22,2,FALSE),VLOOKUP(②選手情報入力!M92,種目情報!$E$4:$F$22,2,FALSE))))","v":""},{"$f":"IF(E84=\"\",\"\",IF(②選手情報入力!N92=\"\",\"\",②選手情報入力!N92))","v":""},{"$f":"IF(E84=\"\",\"\",IF(②選手情報入力!M92=\"\",\"\",0))","v":""},{"$f":"IF(E84=\"\",\"\",IF(②選手情報入力!M92=\"\",\"\",IF(I84=1,VLOOKUP(②選手情報入力!M92,種目情報!$A$4:$C$22,3,FALSE),VLOOKUP(②選手情報入力!M92,種目情報!$E$4:$G$22,3,FALSE))))","v":""},{"$f":"IF(E84=\"\",\"\",IF(②選手情報入力!O92=\"\",\"\",IF(I84=1,種目情報!$J$4,種目情報!$J$6)))","v":""},{"$f":"IF(E84=\"\",\"\",IF(②選手情報入力!O92=\"\",\"\",IF(I84=1,IF(②選手情報入力!$O$5=\"\",\"\",②選手情報入力!$O$5),IF(②選手情報入力!$O$6=\"\",\"\",②選手情報入力!$O$6))))","v":""},{"$f":"IF(E84=\"\",\"\",IF(②選手情報入力!O92=\"\",\"\",0))","v":""},{"$f":"IF(E84=\"\",\"\",IF(②選手情報入力!O92=\"\",\"\",2))","v":""},{"$f":"IF(E84=\"\",\"\",IF(②選手情報入力!P92=\"\",\"\",IF(I84=1,種目情報!$J$5,種目情報!$J$7)))","v":""},{"$f":"IF(E84=\"\",\"\",IF(②選手情報入力!P92=\"\",\"\",IF(I84=1,IF(②選手情報入力!$P$5=\"\",\"\",②選手情報入力!$P$5),IF(②選手情報入力!$P$6=\"\",\"\",②選手情報入力!$P$6))))","v":""},{"$f":"IF(E84=\"\",\"\",IF(②選手情報入力!P92=\"\",\"\",0))","v":""},{"$f":"IF(E84=\"\",\"\",IF(②選手情報入力!P92=\"\",\"\",2))","v":""}]
[{"$f":"IF(E85=\"\",\"\",I85*1000000+①学校情報入力!$D$3*1000+②選手情報入力!A93)","v":""},{"$f":"IF(E85=\"\",\"\",①学校情報入力!$D$3)","v":""},null,{"$f":"IF(②選手情報入力!B93=\"\",\"\",②選手情報入力!B93)","v":""},{"$f":"IF(②選手情報入力!C93=\"\",\"\",②選手情報入力!C93)","v":""},{"$f":"IF(E85=\"\",\"\",②選手情報入力!D93)","v":""},{"$f":"IF(E85=\"\",\"\",②選手情報入力!E93)","v":""},"",{"$f":"IF(E85=\"\",\"\",IF(②選手情報入力!G93=\"男\",1,2))","v":""},{"$f":"IF(E85=\"\",\"\",IF(②選手情報入力!H93=\"\",\"\",②選手情報入力!H93))","v":""},null,"","",null,{"$f":"IF(E85=\"\",\"\",IF(②選手情報入力!I93=\"\",\"\",IF(I85=1,VLOOKUP(②選手情報入力!I93,種目情報!$A$4:$B$22,2,FALSE),VLOOKUP(②選手情報入力!I93,種目情報!$E$4:$F$22,2,FALSE))))","v":""},{"$f":"IF(E85=\"\",\"\",IF(②選手情報入力!J93=\"\",\"\",②選手情報入力!J93))","v":""},{"$f":"IF(E85=\"\",\"\",IF(②選手情報入力!I93=\"\",\"\",0))","v":""},{"$f":"IF(E85=\"\",\"\",IF(②選手情報入力!I93=\"\",\"\",IF(I85=1,VLOOKUP(②選手情報入力!I93,種目情報!$A$4:$C$22,3,FALSE),VLOOKUP(②選手情報入力!I93,種目情報!$E$4:$G$22,3,FALSE))))","v":""},{"$f":"IF(E85=\"\",\"\",IF(②選手情報入力!K93=\"\",\"\",IF(I85=1,VLOOKUP(②選手情報入力!K93,種目情報!$A$4:$B$22,2,FALSE),VLOOKUP(②選手情報入力!K93,種目情報!$E$4:$F$22,2,FALSE))))","v":""},{"$f":"IF(E85=\"\",\"\",IF(②選手情報入力!L93=\"\",\"\",②選手情報入力!L93))","v":""},{"$f":"IF(E85=\"\",\"\",IF(②選手情報入力!K93=\"\",\"\",0))","v":""},{"$f":"IF(E85=\"\",\"\",IF(②選手情報入力!K93=\"\",\"\",IF(I85=1,VLOOKUP(②選手情報入力!K93,種目情報!$A$4:$C$22,3,FALSE),VLOOKUP(②選手情報入力!K93,種目情報!$E$4:$G$22,3,FALSE))))","v":""},{"$f":"IF(E85=\"\",\"\",IF(②選手情報入力!M93=\"\",\"\",IF(I85=1,VLOOKUP(②選手情報入力!M93,種目情報!$A$4:$B$22,2,FALSE),VLOOKUP(②選手情報入力!M93,種目情報!$E$4:$F$22,2,FALSE))))","v":""},{"$f":"IF(E85=\"\",\"\",IF(②選手情報入力!N93=\"\",\"\",②選手情報入力!N93))","v":""},{"$f":"IF(E85=\"\",\"\",IF(②選手情報入力!M93=\"\",\"\",0))","v":""},{"$f":"IF(E85=\"\",\"\",IF(②選手情報入力!M93=\"\",\"\",IF(I85=1,VLOOKUP(②選手情報入力!M93,種目情報!$A$4:$C$22,3,FALSE),VLOOKUP(②選手情報入力!M93,種目情報!$E$4:$G$22,3,FALSE))))","v":""},{"$f":"IF(E85=\"\",\"\",IF(②選手情報入力!O93=\"\",\"\",IF(I85=1,種目情報!$J$4,種目情報!$J$6)))","v":""},{"$f":"IF(E85=\"\",\"\",IF(②選手情報入力!O93=\"\",\"\",IF(I85=1,IF(②選手情報入力!$O$5=\"\",\"\",②選手情報入力!$O$5),IF(②選手情報入力!$O$6=\"\",\"\",②選手情報入力!$O$6))))","v":""},{"$f":"IF(E85=\"\",\"\",IF(②選手情報入力!O93=\"\",\"\",0))","v":""},{"$f":"IF(E85=\"\",\"\",IF(②選手情報入力!O93=\"\",\"\",2))","v":""},{"$f":"IF(E85=\"\",\"\",IF(②選手情報入力!P93=\"\",\"\",IF(I85=1,種目情報!$J$5,種目情報!$J$7)))","v":""},{"$f":"IF(E85=\"\",\"\",IF(②選手情報入力!P93=\"\",\"\",IF(I85=1,IF(②選手情報入力!$P$5=\"\",\"\",②選手情報入力!$P$5),IF(②選手情報入力!$P$6=\"\",\"\",②選手情報入力!$P$6))))","v":""},{"$f":"IF(E85=\"\",\"\",IF(②選手情報入力!P93=\"\",\"\",0))","v":""},{"$f":"IF(E85=\"\",\"\",IF(②選手情報入力!P93=\"\",\"\",2))","v":""}]
[{"$f":"IF(E86=\"\",\"\",I86*1000000+①学校情報入力!$D$3*1000+②選手情報入力!A94)","v":""},{"$f":"IF(E86=\"\",\"\",①学校情報入力!$D$3)","v":""},null,{"$f":"IF(②選手情報入力!B94=\"\",\"\",②選手情報入力!B94)","v":""},{"$f":"IF(②選手情報入力!C94=\"\",\"\",②選手情報入力!C94)","v":""},{"$f":"IF(E86=\"\",\"\",②選手情報入力!D94)","v":""},{"$f":"IF(E86=\"\",\"\",②選手情報入力!E94)","v":""},"",{"$f":"IF(E86=\"\",\"\",IF(②選手情報入力!G94=\"男\",1,2))","v":""},{"$f":"IF(E86=\"\",\"\",IF(②選手情報入力!H94=\"\",\"\",②選手情報入力!H94))","v":""},null,"","",null,{"$f":"IF(E86=\"\",\"\",IF(②選手情報入力!I94=\"\",\"\",IF(I86=1,VLOOKUP(②選手情報入力!I94,種目情報!$A$4:$B$22,2,FALSE),VLOOKUP(②選手情報入力!I94,種目情報!$E$4:$F$22,2,FALSE))))","v":""},{"$f":"IF(E86=\"\",\"\",IF(②選手情報入力!J94=\"\",\"\",②選手情報入力!J94))","v":""},{"$f":"IF(E86=\"\",\"\",IF(②選手情報入力!I94=\"\",\"\",0))","v":""},{"$f":"IF(E86=\"\",\"\",IF(②選手情報入力!I94=\"\",\"\",IF(I86=1,VLOOKUP(②選手情報入力!I94,種目情報!$A$4:$C$22,3,FALSE),VLOOKUP(②選手情報入力!I94,種目情報!$E$4:$G$22,3,FALSE))))","v":""},{"$f":"IF(E86=\"\",\"\",IF(②選手情報入力!K94=\"\",\"\",IF(I86=1,VLOOKUP(②選手情報入力!K94,種目情報!$A$4:$B$22,2,FALSE),VLOOKUP(②選手情報入力!K94,種目情報!$E$4:$F$22,2,FALSE))))","v":""},{"$f":"IF(E86=\"\",\"\",IF(②選手情報入力!L94=\"\",\"\",②選手情報入力!L94))","v":""},{"$f":"IF(E86=\"\",\"\",IF(②選手情報入力!K94=\"\",\"\",0))","v":""},{"$f":"IF(E86=\"\",\"\",IF(②選手情報入力!K94=\"\",\"\",IF(I86=1,VLOOKUP(②選手情報入力!K94,種目情報!$A$4:$C$22,3,FALSE),VLOOKUP(②選手情報入力!K94,種目情報!$E$4:$G$22,3,FALSE))))","v":""},{"$f":"IF(E86=\"\",\"\",IF(②選手情報入力!M94=\"\",\"\",IF(I86=1,VLOOKUP(②選手情報入力!M94,種目情報!$A$4:$B$22,2,FALSE),VLOOKUP(②選手情報入力!M94,種目情報!$E$4:$F$22,2,FALSE))))","v":""},{"$f":"IF(E86=\"\",\"\",IF(②選手情報入力!N94=\"\",\"\",②選手情報入力!N94))","v":""},{"$f":"IF(E86=\"\",\"\",IF(②選手情報入力!M94=\"\",\"\",0))","v":""},{"$f":"IF(E86=\"\",\"\",IF(②選手情報入力!M94=\"\",\"\",IF(I86=1,VLOOKUP(②選手情報入力!M94,種目情報!$A$4:$C$22,3,FALSE),VLOOKUP(②選手情報入力!M94,種目情報!$E$4:$G$22,3,FALSE))))","v":""},{"$f":"IF(E86=\"\",\"\",IF(②選手情報入力!O94=\"\",\"\",IF(I86=1,種目情報!$J$4,種目情報!$J$6)))","v":""},{"$f":"IF(E86=\"\",\"\",IF(②選手情報入力!O94=\"\",\"\",IF(I86=1,IF(②選手情報入力!$O$5=\"\",\"\",②選手情報入力!$O$5),IF(②選手情報入力!$O$6=\"\",\"\",②選手情報入力!$O$6))))","v":""},{"$f":"IF(E86=\"\",\"\",IF(②選手情報入力!O94=\"\",\"\",0))","v":""},{"$f":"IF(E86=\"\",\"\",IF(②選手情報入力!O94=\"\",\"\",2))","v":""},{"$f":"IF(E86=\"\",\"\",IF(②選手情報入力!P94=\"\",\"\",IF(I86=1,種目情報!$J$5,種目情報!$J$7)))","v":""},{"$f":"IF(E86=\"\",\"\",IF(②選手情報入力!P94=\"\",\"\",IF(I86=1,IF(②選手情報入力!$P$5=\"\",\"\",②選手情報入力!$P$5),IF(②選手情報入力!$P$6=\"\",\"\",②選手情報入力!$P$6))))","v":""},{"$f":"IF(E86=\"\",\"\",IF(②選手情報入力!P94=\"\",\"\",0))","v":""},{"$f":"IF(E86=\"\",\"\",IF(②選手情報入力!P94=\"\",\"\",2))","v":""}]
[{"$f":"IF(E87=\"\",\"\",I87*1000000+①学校情報入力!$D$3*1000+②選手情報入力!A95)","v":""},{"$f":"IF(E87=\"\",\"\",①学校情報入力!$D$3)","v":""},null,{"$f":"IF(②選手情報入力!B95=\"\",\"\",②選手情報入力!B95)","v":""},{"$f":"IF(②選手情報入力!C95=\"\",\"\",②選手情報入力!C95)","v":""},{"$f":"IF(E87=\"\",\"\",②選手情報入力!D95)","v":""},{"$f":"IF(E87=\"\",\"\",②選手情報入力!E95)","v":""},"",{"$f":"IF(E87=\"\",\"\",IF(②選手情報入力!G95=\"男\",1,2))","v":""},{"$f":"IF(E87=\"\",\"\",IF(②選手情報入力!H95=\"\",\"\",②選手情報入力!H95))","v":""},null,"","",null,{"$f":"IF(E87=\"\",\"\",IF(②選手情報入力!I95=\"\",\"\",IF(I87=1,VLOOKUP(②選手情報入力!I95,種目情報!$A$4:$B$22,2,FALSE),VLOOKUP(②選手情報入力!I95,種目情報!$E$4:$F$22,2,FALSE))))","v":""},{"$f":"IF(E87=\"\",\"\",IF(②選手情報入力!J95=\"\",\"\",②選手情報入力!J95))","v":""},{"$f":"IF(E87=\"\",\"\",IF(②選手情報入力!I95=\"\",\"\",0))","v":""},{"$f":"IF(E87=\"\",\"\",IF(②選手情報入力!I95=\"\",\"\",IF(I87=1,VLOOKUP(②選手情報入力!I95,種目情報!$A$4:$C$22,3,FALSE),VLOOKUP(②選手情報入力!I95,種目情報!$E$4:$G$22,3,FALSE))))","v":""},{"$f":"IF(E87=\"\",\"\",IF(②選手情報入力!K95=\"\",\"\",IF(I87=1,VLOOKUP(②選手情報入力!K95,種目情報!$A$4:$B$22,2,FALSE),VLOOKUP(②選手情報入力!K95,種目情報!$E$4:$F$22,2,FALSE))))","v":""},{"$f":"IF(E87=\"\",\"\",IF(②選手情報入力!L95=\"\",\"\",②選手情報入力!L95))","v":""},{"$f":"IF(E87=\"\",\"\",IF(②選手情報入力!K95=\"\",\"\",0))","v":""},{"$f":"IF(E87=\"\",\"\",IF(②選手情報入力!K95=\"\",\"\",IF(I87=1,VLOOKUP(②選手情報入力!K95,種目情報!$A$4:$C$22,3,FALSE),VLOOKUP(②選手情報入力!K95,種目情報!$E$4:$G$22,3,FALSE))))","v":""},{"$f":"IF(E87=\"\",\"\",IF(②選手情報入力!M95=\"\",\"\",IF(I87=1,VLOOKUP(②選手情報入力!M95,種目情報!$A$4:$B$22,2,FALSE),VLOOKUP(②選手情報入力!M95,種目情報!$E$4:$F$22,2,FALSE))))","v":""},{"$f":"IF(E87=\"\",\"\",IF(②選手情報入力!N95=\"\",\"\",②選手情報入力!N95))","v":""},{"$f":"IF(E87=\"\",\"\",IF(②選手情報入力!M95=\"\",\"\",0))","v":""},{"$f":"IF(E87=\"\",\"\",IF(②選手情報入力!M95=\"\",\"\",IF(I87=1,VLOOKUP(②選手情報入力!M95,種目情報!$A$4:$C$22,3,FALSE),VLOOKUP(②選手情報入力!M95,種目情報!$E$4:$G$22,3,FALSE))))","v":""},{"$f":"IF(E87=\"\",\"\",IF(②選手情報入力!O95=\"\",\"\",IF(I87=1,種目情報!$J$4,種目情報!$J$6)))","v":""},{"$f":"IF(E87=\"\",\"\",IF(②選手情報入力!O95=\"\",\"\",IF(I87=1,IF(②選手情報入力!$O$5=\"\",\"\",②選手情報入力!$O$5),IF(②選手情報入力!$O$6=\"\",\"\",②選手情報入力!$O$6))))","v":""},{"$f":"IF(E87=\"\",\"\",IF(②選手情報入力!O95=\"\",\"\",0))","v":""},{"$f":"IF(E87=\"\",\"\",IF(②選手情報入力!O95=\"\",\"\",2))","v":""},{"$f":"IF(E87=\"\",\"\",IF(②選手情報入力!P95=\"\",\"\",IF(I87=1,種目情報!$J$5,種目情報!$J$7)))","v":""},{"$f":"IF(E87=\"\",\"\",IF(②選手情報入力!P95=\"\",\"\",IF(I87=1,IF(②選手情報入力!$P$5=\"\",\"\",②選手情報入力!$P$5),IF(②選手情報入力!$P$6=\"\",\"\",②選手情報入力!$P$6))))","v":""},{"$f":"IF(E87=\"\",\"\",IF(②選手情報入力!P95=\"\",\"\",0))","v":""},{"$f":"IF(E87=\"\",\"\",IF(②選手情報入力!P95=\"\",\"\",2))","v":""}]
[{"$f":"IF(E88=\"\",\"\",I88*1000000+①学校情報入力!$D$3*1000+②選手情報入力!A96)","v":""},{"$f":"IF(E88=\"\",\"\",①学校情報入力!$D$3)","v":""},null,{"$f":"IF(②選手情報入力!B96=\"\",\"\",②選手情報入力!B96)","v":""},{"$f":"IF(②選手情報入力!C96=\"\",\"\",②選手情報入力!C96)","v":""},{"$f":"IF(E88=\"\",\"\",②選手情報入力!D96)","v":""},{"$f":"IF(E88=\"\",\"\",②選手情報入力!E96)","v":""},"",{"$f":"IF(E88=\"\",\"\",IF(②選手情報入力!G96=\"男\",1,2))","v":""},{"$f":"IF(E88=\"\",\"\",IF(②選手情報入力!H96=\"\",\"\",②選手情報入力!H96))","v":""},null,"","",null,{"$f":"IF(E88=\"\",\"\",IF(②選手情報入力!I96=\"\",\"\",IF(I88=1,VLOOKUP(②選手情報入力!I96,種目情報!$A$4:$B$22,2,FALSE),VLOOKUP(②選手情報入力!I96,種目情報!$E$4:$F$22,2,FALSE))))","v":""},{"$f":"IF(E88=\"\",\"\",IF(②選手情報入力!J96=\"\",\"\",②選手情報入力!J96))","v":""},{"$f":"IF(E88=\"\",\"\",IF(②選手情報入力!I96=\"\",\"\",0))","v":""},{"$f":"IF(E88=\"\",\"\",IF(②選手情報入力!I96=\"\",\"\",IF(I88=1,VLOOKUP(②選手情報入力!I96,種目情報!$A$4:$C$22,3,FALSE),VLOOKUP(②選手情報入力!I96,種目情報!$E$4:$G$22,3,FALSE))))","v":""},{"$f":"IF(E88=\"\",\"\",IF(②選手情報入力!K96=\"\",\"\",IF(I88=1,VLOOKUP(②選手情報入力!K96,種目情報!$A$4:$B$22,2,FALSE),VLOOKUP(②選手情報入力!K96,種目情報!$E$4:$F$22,2,FALSE))))","v":""},{"$f":"IF(E88=\"\",\"\",IF(②選手情報入力!L96=\"\",\"\",②選手情報入力!L96))","v":""},{"$f":"IF(E88=\"\",\"\",IF(②選手情報入力!K96=\"\",\"\",0))","v":""},{"$f":"IF(E88=\"\",\"\",IF(②選手情報入力!K96=\"\",\"\",IF(I88=1,VLOOKUP(②選手情報入力!K96,種目情報!$A$4:$C$22,3,FALSE),VLOOKUP(②選手情報入力!K96,種目情報!$E$4:$G$22,3,FALSE))))","v":""},{"$f":"IF(E88=\"\",\"\",IF(②選手情報入力!M96=\"\",\"\",IF(I88=1,VLOOKUP(②選手情報入力!M96,種目情報!$A$4:$B$22,2,FALSE),VLOOKUP(②選手情報入力!M96,種目情報!$E$4:$F$22,2,FALSE))))","v":""},{"$f":"IF(E88=\"\",\"\",IF(②選手情報入力!N96=\"\",\"\",②選手情報入力!N96))","v":""},{"$f":"IF(E88=\"\",\"\",IF(②選手情報入力!M96=\"\",\"\",0))","v":""},{"$f":"IF(E88=\"\",\"\",IF(②選手情報入力!M96=\"\",\"\",IF(I88=1,VLOOKUP(②選手情報入力!M96,種目情報!$A$4:$C$22,3,FALSE),VLOOKUP(②選手情報入力!M96,種目情報!$E$4:$G$22,3,FALSE))))","v":""},{"$f":"IF(E88=\"\",\"\",IF(②選手情報入力!O96=\"\",\"\",IF(I88=1,種目情報!$J$4,種目情報!$J$6)))","v":""},{"$f":"IF(E88=\"\",\"\",IF(②選手情報入力!O96=\"\",\"\",IF(I88=1,IF(②選手情報入力!$O$5=\"\",\"\",②選手情報入力!$O$5),IF(②選手情報入力!$O$6=\"\",\"\",②選手情報入力!$O$6))))","v":""},{"$f":"IF(E88=\"\",\"\",IF(②選手情報入力!O96=\"\",\"\",0))","v":""},{"$f":"IF(E88=\"\",\"\",IF(②選手情報入力!O96=\"\",\"\",2))","v":""},{"$f":"IF(E88=\"\",\"\",IF(②選手情報入力!P96=\"\",\"\",IF(I88=1,種目情報!$J$5,種目情報!$J$7)))","v":""},{"$f":"IF(E88=\"\",\"\",IF(②選手情報入力!P96=\"\",\"\",IF(I88=1,IF(②選手情報入力!$P$5=\"\",\"\",②選手情報入力!$P$5),IF(②選手情報入力!$P$6=\"\",\"\",②選手情報入力!$P$6))))","v":""},{"$f":"IF(E88=\"\",\"\",IF(②選手情報入力!P96=\"\",\"\",0))","v":""},{"$f":"IF(E88=\"\",\"\",IF(②選手情報入力!P96=\"\",\"\",2))","v":""}]
[{"$f":"IF(E89=\"\",\"\",I89*1000000+①学校情報入力!$D$3*1000+②選手情報入力!A97)","v":""},{"$f":"IF(E89=\"\",\"\",①学校情報入力!$D$3)","v":""},null,{"$f":"IF(②選手情報入力!B97=\"\",\"\",②選手情報入力!B97)","v":""},{"$f":"IF(②選手情報入力!C97=\"\",\"\",②選手情報入力!C97)","v":""},{"$f":"IF(E89=\"\",\"\",②選手情報入力!D97)","v":""},{"$f":"IF(E89=\"\",\"\",②選手情報入力!E97)","v":""},"",{"$f":"IF(E89=\"\",\"\",IF(②選手情報入力!G97=\"男\",1,2))","v":""},{"$f":"IF(E89=\"\",\"\",IF(②選手情報入力!H97=\"\",\"\",②選手情報入力!H97))","v":""},null,"","",null,{"$f":"IF(E89=\"\",\"\",IF(②選手情報入力!I97=\"\",\"\",IF(I89=1,VLOOKUP(②選手情報入力!I97,種目情報!$A$4:$B$22,2,FALSE),VLOOKUP(②選手情報入力!I97,種目情報!$E$4:$F$22,2,FALSE))))","v":""},{"$f":"IF(E89=\"\",\"\",IF(②選手情報入力!J97=\"\",\"\",②選手情報入力!J97))","v":""},{"$f":"IF(E89=\"\",\"\",IF(②選手情報入力!I97=\"\",\"\",0))","v":""},{"$f":"IF(E89=\"\",\"\",IF(②選手情報入力!I97=\"\",\"\",IF(I89=1,VLOOKUP(②選手情報入力!I97,種目情報!$A$4:$C$22,3,FALSE),VLOOKUP(②選手情報入力!I97,種目情報!$E$4:$G$22,3,FALSE))))","v":""},{"$f":"IF(E89=\"\",\"\",IF(②選手情報入力!K97=\"\",\"\",IF(I89=1,VLOOKUP(②選手情報入力!K97,種目情報!$A$4:$B$22,2,FALSE),VLOOKUP(②選手情報入力!K97,種目情報!$E$4:$F$22,2,FALSE))))","v":""},{"$f":"IF(E89=\"\",\"\",IF(②選手情報入力!L97=\"\",\"\",②選手情報入力!L97))","v":""},{"$f":"IF(E89=\"\",\"\",IF(②選手情報入力!K97=\"\",\"\",0))","v":""},{"$f":"IF(E89=\"\",\"\",IF(②選手情報入力!K97=\"\",\"\",IF(I89=1,VLOOKUP(②選手情報入力!K97,種目情報!$A$4:$C$22,3,FALSE),VLOOKUP(②選手情報入力!K97,種目情報!$E$4:$G$22,3,FALSE))))","v":""},{"$f":"IF(E89=\"\",\"\",IF(②選手情報入力!M97=\"\",\"\",IF(I89=1,VLOOKUP(②選手情報入力!M97,種目情報!$A$4:$B$22,2,FALSE),VLOOKUP(②選手情報入力!M97,種目情報!$E$4:$F$22,2,FALSE))))","v":""},{"$f":"IF(E89=\"\",\"\",IF(②選手情報入力!N97=\"\",\"\",②選手情報入力!N97))","v":""},{"$f":"IF(E89=\"\",\"\",IF(②選手情報入力!M97=\"\",\"\",0))","v":""},{"$f":"IF(E89=\"\",\"\",IF(②選手情報入力!M97=\"\",\"\",IF(I89=1,VLOOKUP(②選手情報入力!M97,種目情報!$A$4:$C$22,3,FALSE),VLOOKUP(②選手情報入力!M97,種目情報!$E$4:$G$22,3,FALSE))))","v":""},{"$f":"IF(E89=\"\",\"\",IF(②選手情報入力!O97=\"\",\"\",IF(I89=1,種目情報!$J$4,種目情報!$J$6)))","v":""},{"$f":"IF(E89=\"\",\"\",IF(②選手情報入力!O97=\"\",\"\",IF(I89=1,IF(②選手情報入力!$O$5=\"\",\"\",②選手情報入力!$O$5),IF(②選手情報入力!$O$6=\"\",\"\",②選手情報入力!$O$6))))","v":""},{"$f":"IF(E89=\"\",\"\",IF(②選手情報入力!O97=\"\",\"\",0))","v":""},{"$f":"IF(E89=\"\",\"\",IF(②選手情報入力!O97=\"\",\"\",2))","v":""},{"$f":"IF(E89=\"\",\"\",IF(②選手情報入力!P97=\"\",\"\",IF(I89=1,種目情報!$J$5,種目情報!$J$7)))","v":""},{"$f":"IF(E89=\"\",\"\",IF(②選手情報入力!P97=\"\",\"\",IF(I89=1,IF(②選手情報入力!$P$5=\"\",\"\",②選手情報入力!$P$5),IF(②選手情報入力!$P$6=\"\",\"\",②選手情報入力!$P$6))))","v":""},{"$f":"IF(E89=\"\",\"\",IF(②選手情報入力!P97=\"\",\"\",0))","v":""},{"$f":"IF(E89=\"\",\"\",IF(②選手情報入力!P97=\"\",\"\",2))","v":""}]
[{"$f":"IF(E90=\"\",\"\",I90*1000000+①学校情報入力!$D$3*1000+②選手情報入力!A98)","v":""},{"$f":"IF(E90=\"\",\"\",①学校情報入力!$D$3)","v":""},null,{"$f":"IF(②選手情報入力!B98=\"\",\"\",②選手情報入力!B98)","v":""},{"$f":"IF(②選手情報入力!C98=\"\",\"\",②選手情報入力!C98)","v":""},{"$f":"IF(E90=\"\",\"\",②選手情報入力!D98)","v":""},{"$f":"IF(E90=\"\",\"\",②選手情報入力!E98)","v":""},"",{"$f":"IF(E90=\"\",\"\",IF(②選手情報入力!G98=\"男\",1,2))","v":""},{"$f":"IF(E90=\"\",\"\",IF(②選手情報入力!H98=\"\",\"\",②選手情報入力!H98))","v":""},null,"","",null,{"$f":"IF(E90=\"\",\"\",IF(②選手情報入力!I98=\"\",\"\",IF(I90=1,VLOOKUP(②選手情報入力!I98,種目情報!$A$4:$B$22,2,FALSE),VLOOKUP(②選手情報入力!I98,種目情報!$E$4:$F$22,2,FALSE))))","v":""},{"$f":"IF(E90=\"\",\"\",IF(②選手情報入力!J98=\"\",\"\",②選手情報入力!J98))","v":""},{"$f":"IF(E90=\"\",\"\",IF(②選手情報入力!I98=\"\",\"\",0))","v":""},{"$f":"IF(E90=\"\",\"\",IF(②選手情報入力!I98=\"\",\"\",IF(I90=1,VLOOKUP(②選手情報入力!I98,種目情報!$A$4:$C$22,3,FALSE),VLOOKUP(②選手情報入力!I98,種目情報!$E$4:$G$22,3,FALSE))))","v":""},{"$f":"IF(E90=\"\",\"\",IF(②選手情報入力!K98=\"\",\"\",IF(I90=1,VLOOKUP(②選手情報入力!K98,種目情報!$A$4:$B$22,2,FALSE),VLOOKUP(②選手情報入力!K98,種目情報!$E$4:$F$22,2,FALSE))))","v":""},{"$f":"IF(E90=\"\",\"\",IF(②選手情報入力!L98=\"\",\"\",②選手情報入力!L98))","v":""},{"$f":"IF(E90=\"\",\"\",IF(②選手情報入力!K98=\"\",\"\",0))","v":""},{"$f":"IF(E90=\"\",\"\",IF(②選手情報入力!K98=\"\",\"\",IF(I90=1,VLOOKUP(②選手情報入力!K98,種目情報!$A$4:$C$22,3,FALSE),VLOOKUP(②選手情報入力!K98,種目情報!$E$4:$G$22,3,FALSE))))","v":""},{"$f":"IF(E90=\"\",\"\",IF(②選手情報入力!M98=\"\",\"\",IF(I90=1,VLOOKUP(②選手情報入力!M98,種目情報!$A$4:$B$22,2,FALSE),VLOOKUP(②選手情報入力!M98,種目情報!$E$4:$F$22,2,FALSE))))","v":""},{"$f":"IF(E90=\"\",\"\",IF(②選手情報入力!N98=\"\",\"\",②選手情報入力!N98))","v":""},{"$f":"IF(E90=\"\",\"\",IF(②選手情報入力!M98=\"\",\"\",0))","v":""},{"$f":"IF(E90=\"\",\"\",IF(②選手情報入力!M98=\"\",\"\",IF(I90=1,VLOOKUP(②選手情報入力!M98,種目情報!$A$4:$C$22,3,FALSE),VLOOKUP(②選手情報入力!M98,種目情報!$E$4:$G$22,3,FALSE))))","v":""},{"$f":"IF(E90=\"\",\"\",IF(②選手情報入力!O98=\"\",\"\",IF(I90=1,種目情報!$J$4,種目情報!$J$6)))","v":""},{"$f":"IF(E90=\"\",\"\",IF(②選手情報入力!O98=\"\",\"\",IF(I90=1,IF(②選手情報入力!$O$5=\"\",\"\",②選手情報入力!$O$5),IF(②選手情報入力!$O$6=\"\",\"\",②選手情報入力!$O$6))))","v":""},{"$f":"IF(E90=\"\",\"\",IF(②選手情報入力!O98=\"\",\"\",0))","v":""},{"$f":"IF(E90=\"\",\"\",IF(②選手情報入力!O98=\"\",\"\",2))","v":""},{"$f":"IF(E90=\"\",\"\",IF(②選手情報入力!P98=\"\",\"\",IF(I90=1,種目情報!$J$5,種目情報!$J$7)))","v":""},{"$f":"IF(E90=\"\",\"\",IF(②選手情報入力!P98=\"\",\"\",IF(I90=1,IF(②選手情報入力!$P$5=\"\",\"\",②選手情報入力!$P$5),IF(②選手情報入力!$P$6=\"\",\"\",②選手情報入力!$P$6))))","v":""},{"$f":"IF(E90=\"\",\"\",IF(②選手情報入力!P98=\"\",\"\",0))","v":""},{"$f":"IF(E90=\"\",\"\",IF(②選手情報入力!P98=\"\",\"\",2))","v":""}]
[{"$f":"IF(E91=\"\",\"\",I91*1000000+①学校情報入力!$D$3*1000+②選手情報入力!A99)","v":""},{"$f":"IF(E91=\"\",\"\",①学校情報入力!$D$3)","v":""},null,{"$f":"IF(②選手情報入力!B99=\"\",\"\",②選手情報入力!B99)","v":""},{"$f":"IF(②選手情報入力!C99=\"\",\"\",②選手情報入力!C99)","v":""},{"$f":"IF(E91=\"\",\"\",②選手情報入力!D99)","v":""},{"$f":"IF(E91=\"\",\"\",②選手情報入力!E99)","v":""},"",{"$f":"IF(E91=\"\",\"\",IF(②選手情報入力!G99=\"男\",1,2))","v":""},{"$f":"IF(E91=\"\",\"\",IF(②選手情報入力!H99=\"\",\"\",②選手情報入力!H99))","v":""},null,"","",null,{"$f":"IF(E91=\"\",\"\",IF(②選手情報入力!I99=\"\",\"\",IF(I91=1,VLOOKUP(②選手情報入力!I99,種目情報!$A$4:$B$22,2,FALSE),VLOOKUP(②選手情報入力!I99,種目情報!$E$4:$F$22,2,FALSE))))","v":""},{"$f":"IF(E91=\"\",\"\",IF(②選手情報入力!J99=\"\",\"\",②選手情報入力!J99))","v":""},{"$f":"IF(E91=\"\",\"\",IF(②選手情報入力!I99=\"\",\"\",0))","v":""},{"$f":"IF(E91=\"\",\"\",IF(②選手情報入力!I99=\"\",\"\",IF(I91=1,VLOOKUP(②選手情報入力!I99,種目情報!$A$4:$C$22,3,FALSE),VLOOKUP(②選手情報入力!I99,種目情報!$E$4:$G$22,3,FALSE))))","v":""},{"$f":"IF(E91=\"\",\"\",IF(②選手情報入力!K99=\"\",\"\",IF(I91=1,VLOOKUP(②選手情報入力!K99,種目情報!$A$4:$B$22,2,FALSE),VLOOKUP(②選手情報入力!K99,種目情報!$E$4:$F$22,2,FALSE))))","v":""},{"$f":"IF(E91=\"\",\"\",IF(②選手情報入力!L99=\"\",\"\",②選手情報入力!L99))","v":""},{"$f":"IF(E91=\"\",\"\",IF(②選手情報入力!K99=\"\",\"\",0))","v":""},{"$f":"IF(E91=\"\",\"\",IF(②選手情報入力!K99=\"\",\"\",IF(I91=1,VLOOKUP(②選手情報入力!K99,種目情報!$A$4:$C$22,3,FALSE),VLOOKUP(②選手情報入力!K99,種目情報!$E$4:$G$22,3,FALSE))))","v":""},{"$f":"IF(E91=\"\",\"\",IF(②選手情報入力!M99=\"\",\"\",IF(I91=1,VLOOKUP(②選手情報入力!M99,種目情報!$A$4:$B$22,2,FALSE),VLOOKUP(②選手情報入力!M99,種目情報!$E$4:$F$22,2,FALSE))))","v":""},{"$f":"IF(E91=\"\",\"\",IF(②選手情報入力!N99=\"\",\"\",②選手情報入力!N99))","v":""},{"$f":"IF(E91=\"\",\"\",IF(②選手情報入力!M99=\"\",\"\",0))","v":""},{"$f":"IF(E91=\"\",\"\",IF(②選手情報入力!M99=\"\",\"\",IF(I91=1,VLOOKUP(②選手情報入力!M99,種目情報!$A$4:$C$22,3,FALSE),VLOOKUP(②選手情報入力!M99,種目情報!$E$4:$G$22,3,FALSE))))","v":""},{"$f":"IF(E91=\"\",\"\",IF(②選手情報入力!O99=\"\",\"\",IF(I91=1,種目情報!$J$4,種目情報!$J$6)))","v":""},{"$f":"IF(E91=\"\",\"\",IF(②選手情報入力!O99=\"\",\"\",IF(I91=1,IF(②選手情報入力!$O$5=\"\",\"\",②選手情報入力!$O$5),IF(②選手情報入力!$O$6=\"\",\"\",②選手情報入力!$O$6))))","v":""},{"$f":"IF(E91=\"\",\"\",IF(②選手情報入力!O99=\"\",\"\",0))","v":""},{"$f":"IF(E91=\"\",\"\",IF(②選手情報入力!O99=\"\",\"\",2))","v":""},{"$f":"IF(E91=\"\",\"\",IF(②選手情報入力!P99=\"\",\"\",IF(I91=1,種目情報!$J$5,種目情報!$J$7)))","v":""},{"$f":"IF(E91=\"\",\"\",IF(②選手情報入力!P99=\"\",\"\",IF(I91=1,IF(②選手情報入力!$P$5=\"\",\"\",②選手情報入力!$P$5),IF(②選手情報入力!$P$6=\"\",\"\",②選手情報入力!$P$6))))","v":""},{"$f":"IF(E91=\"\",\"\",IF(②選手情報入力!P99=\"\",\"\",0))","v":""},{"$f":"IF(E91=\"\",\"\",IF(②選手情報入力!P99=\"\",\"\",2))","v":""}]

{"sheet":"data_team","index":9,"n_rows":25,"n_cols":13,"rows_kept":25,"cut":false,"hidden":false,"merged":[]}
["チームNO","所属コード","チーム名","チーム名カナ","チーム名略称","チーム正式名称","ID","競技者NO","競技者名","参加競技-競技コード","参加競技-自己記録","参加競技-オープン参加FLG","参加競技-記録FLG"]
[{"$f":"IF(③リレー情報確認!C8=\"\",\"\",410000+①学校情報入力!$D$3*10)","v":""},{"$f":"IF(A2=\"\",\"\",①学校情報入力!$D$3)","v":""},{"$f":"IF(A2=\"\",\"\",③リレー情報確認!$J$1)","v":""},{"$f":"IF(A2=\"\",\"\",③リレー情報確認!$P$1)","v":""},null,null,1,{"$f":"IF(A2=\"\",\"\",③リレー情報確認!E8)","v":""},{"$f":"IF(A2=\"\",\"\",③リレー情報確認!D8)","v":""},{"$f":"IF(A2=\"\",\"\",種目情報!$J$4)","v":""},{"$f":"IF(A2=\"\",\"\",③リレー情報確認!$F$8)","v":""},{"$f":"IF(A2=\"\",\"\",0)","v":""},{"$f":"IF(A2=\"\",\"\",種目情報!$K$4)","v":""}]
[{"$f":"IF(③リレー情報確認!C9=\"\",\"\",410000+①学校情報入力!$D$3*10)","v":""},{"$f":"IF(A3=\"\",\"\",①学校情報入力!$D$3)","v":""},{"$f":"IF(A3=\"\",\"\",③リレー情報確認!$J$1)","v":""},{"$f":"IF(A3=\"\",\"\",③リレー情報確認!$P$1)","v":""},null,null,2,{"$f":"IF(A3=\"\",\"\",③リレー情報確認!E9)","v":""},{"$f":"IF(A3=\"\",\"\",③リレー情報確認!D9)","v":""},{"$f":"IF(A3=\"\",\"\",種目情報!$J$4)","v":""},{"$f":"IF(A3=\"\",\"\",③リレー情報確認!$F$8)","v":""},{"$f":"IF(A3=\"\",\"\",0)","v":""},{"$f":"IF(A3=\"\",\"\",種目情報!$K$4)","v":""}]
[{"$f":"IF(③リレー情報確認!C10=\"\",\"\",410000+①学校情報入力!$D$3*10)","v":""},{"$f":"IF(A4=\"\",\"\",①学校情報入力!$D$3)","v":""},{"$f":"IF(A4=\"\",\"\",③リレー情報確認!$J$1)","v":""},{"$f":"IF(A4=\"\",\"\",③リレー情報確認!$P$1)","v":""},null,null,3,{"$f":"IF(A4=\"\",\"\",③リレー情報確認!E10)","v":""},{"$f":"IF(A4=\"\",\"\",③リレー情報確認!D10)","v":""},{"$f":"IF(A4=\"\",\"\",種目情報!$J$4)","v":""},{"$f":"IF(A4=\"\",\"\",③リレー情報確認!$F$8)","v":""},"",{"$f":"IF(A4=\"\",\"\",種目情報!$K$4)","v":""}]
[{"$f":"IF(③リレー情報確認!C11=\"\",\"\",410000+①学校情報入力!$D$3*10)","v":""},{"$f":"IF(A5=\"\",\"\",①学校情報入力!$D$3)","v":""},{"$f":"IF(A5=\"\",\"\",③リレー情報確認!$J$1)","v":""},{"$f":"IF(A5=\"\",\"\",③リレー情報確認!$P$1)","v":""},null,null,4,{"$f":"IF(A5=\"\",\"\",③リレー情報確認!E11)","v":""},{"$f":"IF(A5=\"\",\"\",③リレー情報確認!D11)","v":""},{"$f":"IF(A5=\"\",\"\",種目情報!$J$4)","v":""},{"$f":"IF(A5=\"\",\"\",③リレー情報確認!$F$8)","v":""},"",{"$f":"IF(A5=\"\",\"\",種目情報!$K$4)","v":""}]
[{"$f":"IF(③リレー情報確認!C12=\"\",\"\",410000+①学校情報入力!$D$3*10)","v":""},{"$f":"IF(A6=\"\",\"\",①学校情報入力!$D$3)","v":""},{"$f":"IF(A6=\"\",\"\",③リレー情報確認!$J$1)","v":""},{"$f":"IF(A6=\"\",\"\",③リレー情報確認!$P$1)","v":""},null,null,5,{"$f":"IF(A6=\"\",\"\",③リレー情報確認!E12)","v":""},{"$f":"IF(A6=\"\",\"\",③リレー情報確認!D12)","v":""},{"$f":"IF(A6=\"\",\"\",種目情報!$J$4)","v":""},{"$f":"IF(A6=\"\",\"\",③リレー情報確認!$F$8)","v":""},"",{"$f":"IF(A6=\"\",\"\",種目情報!$K$4)","v":""}]
[{"$f":"IF(③リレー情報確認!C13=\"\",\"\",410000+①学校情報入力!$D$3*10)","v":""},{"$f":"IF(A7=\"\",\"\",①学校情報入力!$D$3)","v":""},{"$f":"IF(A7=\"\",\"\",③リレー情報確認!$J$1)","v":""},{"$f":"IF(A7=\"\",\"\",③リレー情報確認!$P$1)","v":""},null,null,6,{"$f":"IF(A7=\"\",\"\",③リレー情報確認!E13)","v":""},{"$f":"IF(A7=\"\",\"\",③リレー情報確認!D13)","v":""},{"$f":"IF(A7=\"\",\"\",種目情報!$J$4)","v":""},{"$f":"IF(A7=\"\",\"\",③リレー情報確認!$F$8)","v":""},"",{"$f":"IF(A7=\"\",\"\",種目情報!$K$4)","v":""}]
[{"$f":"IF(③リレー情報確認!I8=\"\",\"\",1610000+①学校情報入力!$D$3*10)","v":""},{"$f":"IF(A8=\"\",\"\",①学校情報入力!$D$3)","v":""},{"$f":"IF(A8=\"\",\"\",③リレー情報確認!$J$1)","v":""},{"$f":"IF(A8=\"\",\"\",③リレー情報確認!$P$1)","v":""},null,null,1,{"$f":"IF(A8=\"\",\"\",③リレー情報確認!K8)","v":""},{"$f":"IF(A8=\"\",\"\",③リレー情報確認!J8)","v":""},{"$f":"IF(A8=\"\",\"\",種目情報!$J$5)","v":""},{"$f":"IF(A8=\"\",\"\",③リレー情報確認!$L$8)","v":""},{"$f":"IF(A8=\"\",\"\",0)","v":""},{"$f":"IF(A8=\"\",\"\",種目情報!$K$5)","v":""}]
[{"$f":"IF(③リレー情報確認!I9=\"\",\"\",1610000+①学校情報入力!$D$3*10)","v":""},{"$f":"IF(A9=\"\",\"\",①学校情報入力!$D$3)","v":""},{"$f":"IF(A9=\"\",\"\",③リレー情報確認!$J$1)","v":""},{"$f":"IF(A9=\"\",\"\",③リレー情報確認!$P$1)","v":""},null,null,2,{"$f":"IF(A9=\"\",\"\",③リレー情報確認!K9)","v":""},{"$f":"IF(A9=\"\",\"\",③リレー情報確認!J9)","v":""},{"$f":"IF(A9=\"\",\"\",種目情報!$J$5)","v":""},{"$f":"IF(A9=\"\",\"\",③リレー情報確認!$L$8)","v":""},{"$f":"IF(A9=\"\",\"\",0)","v":""},{"$f":"IF(A9=\"\",\"\",種目情報!$K$5)","v":""}]
[{"$f":"IF(③リレー情報確認!I10=\"\",\"\",1610000+①学校情報入力!$D$3*10)","v":""},{"$f":"IF(A10=\"\",\"\",①学校情報入力!$D$3)","v":""},{"$f":"IF(A10=\"\",\"\",③リレー情報確認!$J$1)","v":""},{"$f":"IF(A10=\"\",\"\",③リレー情報確認!$P$1)","v":""},null,null,3,{"$f":"IF(A10=\"\",\"\",③リレー情報確認!K10)","v":""},{"$f":"IF(A10=\"\",\"\",③リレー情報確認!J10)","v":""},{"$f":"IF(A10=\"\",\"\",種目情報!$J$5)","v":""},{"$f":"IF(A10=\"\",\"\",③リレー情報確認!$L$8)","v":""},"",{"$f":"IF(A10=\"\",\"\",種目情報!$K$5)","v":""}]
[{"$f":"IF(③リレー情報確認!I11=\"\",\"\",1610000+①学校情報入力!$D$3*10)","v":""},{"$f":"IF(A11=\"\",\"\",①学校情報入力!$D$3)","v":""},{"$f":"IF(A11=\"\",\"\",③リレー情報確認!$J$1)","v":""},{"$f":"IF(A11=\"\",\"\",③リレー情報確認!$P$1)","v":""},null,null,4,{"$f":"IF(A11=\"\",\"\",③リレー情報確認!K11)","v":""},{"$f":"IF(A11=\"\",\"\",③リレー情報確認!J11)","v":""},{"$f":"IF(A11=\"\",\"\",種目情報!$J$5)","v":""},{"$f":"IF(A11=\"\",\"\",③リレー情報確認!$L$8)","v":""},"",{"$f":"IF(A11=\"\",\"\",種目情報!$K$5)","v":""}]
[{"$f":"IF(③リレー情報確認!I12=\"\",\"\",1610000+①学校情報入力!$D$3*10)","v":""},{"$f":"IF(A12=\"\",\"\",①学校情報入力!$D$3)","v":""},{"$f":"IF(A12=\"\",\"\",③リレー情報確認!$J$1)","v":""},{"$f":"IF(A12=\"\",\"\",③リレー情報確認!$P$1)","v":""},null,null,5,{"$f":"IF(A12=\"\",\"\",③リレー情報確認!K12)","v":""},{"$f":"IF(A12=\"\",\"\",③リレー情報確認!J12)","v":""},{"$f":"IF(A12=\"\",\"\",種目情報!$J$5)","v":""},{"$f":"IF(A12=\"\",\"\",③リレー情報確認!$L$8)","v":""},"",{"$f":"IF(A12=\"\",\"\",種目情報!$K$5)","v":""}]
[{"$f":"IF(③リレー情報確認!I13=\"\",\"\",1610000+①学校情報入力!$D$3*10)","v":""},{"$f":"IF(A13=\"\",\"\",①学校情報入力!$D$3)","v":""},{"$f":"IF(A13=\"\",\"\",③リレー情報確認!$J$1)","v":""},{"$f":"IF(A13=\"\",\"\",③リレー情報確認!$P$1)","v":""},null,null,6,{"$f":"IF(A13=\"\",\"\",③リレー情報確認!K13)","v":""},{"$f":"IF(A13=\"\",\"\",③リレー情報確認!J13)","v":""},{"$f":"IF(A13=\"\",\"\",種目情報!$J$5)","v":""},{"$f":"IF(A13=\"\",\"\",③リレー情報確認!$L$8)","v":""},"",{"$f":"IF(A13=\"\",\"\",種目情報!$K$5)","v":""}]
[{"$f":"IF(③リレー情報確認!O8=\"\",\"\",420000+①学校情報入力!$D$3*10)","v":""},{"$f":"IF(A14=\"\",\"\",①学校情報入力!$D$3)","v":""},{"$f":"IF(A14=\"\",\"\",③リレー情報確認!$J$1)","v":""},{"$f":"IF(A14=\"\",\"\",③リレー情報確認!$P$1)","v":""},null,null,1,{"$f":"IF(A14=\"\",\"\",③リレー情報確認!Q8)","v":""},{"$f":"IF(A14=\"\",\"\",③リレー情報確認!P8)","v":""},{"$f":"IF(A14=\"\",\"\",種目情報!$J$6)","v":""},{"$f":"IF(A14=\"\",\"\",③リレー情報確認!$R$8)","v":""},{"$f":"IF(A14=\"\",\"\",0)","v":""},{"$f":"IF(A14=\"\",\"\",種目情報!$K$6)","v":""}]
[{"$f":"IF(③リレー情報確認!O9=\"\",\"\",420000+①学校情報入力!$D$3*10)","v":""},{"$f":"IF(A15=\"\",\"\",①学校情報入力!$D$3)","v":""},{"$f":"IF(A15=\"\",\"\",③リレー情報確認!$J$1)","v":""},{"$f":"IF(A15=\"\",\"\",③リレー情報確認!$P$1)","v":""},null,null,2,{"$f":"IF(A15=\"\",\"\",③リレー情報確認!Q9)","v":""},{"$f":"IF(A15=\"\",\"\",③リレー情報確認!P9)","v":""},{"$f":"IF(A15=\"\",\"\",種目情報!$J$6)","v":""},{"$f":"IF(A15=\"\",\"\",③リレー情報確認!$R$8)","v":""},{"$f":"IF(A15=\"\",\"\",0)","v":""},{"$f":"IF(A15=\"\",\"\",種目情報!$K$6)","v":""}]
[{"$f":"IF(③リレー情報確認!O10=\"\",\"\",420000+①学校情報入力!$D$3*10)","v":""},{"$f":"IF(A16=\"\",\"\",①学校情報入力!$D$3)","v":""},{"$f":"IF(A16=\"\",\"\",③リレー情報確認!$J$1)","v":""},{"$f":"IF(A16=\"\",\"\",③リレー情報確認!$P$1)","v":""},null,null,3,{"$f":"IF(A16=\"\",\"\",③リレー情報確認!Q10)","v":""},{"$f":"IF(A16=\"\",\"\",③リレー情報確認!P10)","v":""},{"$f":"IF(A16=\"\",\"\",種目情報!$J$6)","v":""},{"$f":"IF(A16=\"\",\"\",③リレー情報確認!$R$8)","v":""},"",{"$f":"IF(A16=\"\",\"\",種目情報!$K$6)","v":""}]
[{"$f":"IF(③リレー情報確認!O11=\"\",\"\",420000+①学校情報入力!$D$3*10)","v":""},{"$f":"IF(A17=\"\",\"\",①学校情報入力!$D$3)","v":""},{"$f":"IF(A17=\"\",\"\",③リレー情報確認!$J$1)","v":""},{"$f":"IF(A17=\"\",\"\",③リレー情報確認!$P$1)","v":""},null,null,4,{"$f":"IF(A17=\"\",\"\",③リレー情報確認!Q11)","v":""},{"$f":"IF(A17=\"\",\"\",③リレー情報確認!P11)","v":""},{"$f":"IF(A17=\"\",\"\",種目情報!$J$6)","v":""},{"$f":"IF(A17=\"\",\"\",③リレー情報確認!$R$8)","v":""},"",{"$f":"IF(A17=\"\",\"\",種目情報!$K$6)","v":""}]
[{"$f":"IF(③リレー情報確認!O12=\"\",\"\",420000+①学校情報入力!$D$3*10)","v":""},{"$f":"IF(A18=\"\",\"\",①学校情報入力!$D$3)","v":""},{"$f":"IF(A18=\"\",\"\",③リレー情報確認!$J$1)","v":""},{"$f":"IF(A18=\"\",\"\",③リレー情報確認!$P$1)","v":""},null,null,5,{"$f":"IF(A18=\"\",\"\",③リレー情報確認!Q12)","v":""},{"$f":"IF(A18=\"\",\"\",③リレー情報確認!P12)","v":""},{"$f":"IF(A18=\"\",\"\",種目情報!$J$6)","v":""},{"$f":"IF(A18=\"\",\"\",③リレー情報確認!$R$8)","v":""},"",{"$f":"IF(A18=\"\",\"\",種目情報!$K$6)","v":""}]
[{"$f":"IF(③リレー情報確認!O13=\"\",\"\",420000+①学校情報入力!$D$3*10)","v":""},{"$f":"IF(A19=\"\",\"\",①学校情報入力!$D$3)","v":""},{"$f":"IF(A19=\"\",\"\",③リレー情報確認!$J$1)","v":""},{"$f":"IF(A19=\"\",\"\",③リレー情報確認!$P$1)","v":""},null,null,6,{"$f":"IF(A19=\"\",\"\",③リレー情報確認!Q13)","v":""},{"$f":"IF(A19=\"\",\"\",③リレー情報確認!P13)","v":""},{"$f":"IF(A19=\"\",\"\",種目情報!$J$6)","v":""},{"$f":"IF(A19=\"\",\"\",③リレー情報確認!$R$8)","v":""},"",{"$f":"IF(A19=\"\",\"\",種目情報!$K$6)","v":""}]
[{"$f":"IF(③リレー情報確認!U8=\"\",\"\",1620000+①学校情報入力!$D$3*10)","v":""},{"$f":"IF(A20=\"\",\"\",①学校情報入力!$D$3)","v":""},{"$f":"IF(A20=\"\",\"\",③リレー情報確認!$J$1)","v":""},{"$f":"IF(A20=\"\",\"\",③リレー情報確認!$P$1)","v":""},null,null,1,{"$f":"IF(A20=\"\",\"\",③リレー情報確認!W8)","v":""},{"$f":"IF(A20=\"\",\"\",③リレー情報確認!V8)","v":""},{"$f":"IF(A20=\"\",\"\",種目情報!$J$7)","v":""},{"$f":"IF(A20=\"\",\"\",③リレー情報確認!$X$8)","v":""},{"$f":"IF(A20=\"\",\"\",0)","v":""},{"$f":"IF(A20=\"\",\"\",種目情報!$K$7)","v":""}]
[{"$f":"IF(③リレー情報確認!U9=\"\",\"\",1620000+①学校情報入力!$D$3*10)","v":""},{"$f":"IF(A21=\"\",\"\",①学校情報入力!$D$3)","v":""},{"$f":"IF(A21=\"\",\"\",③リレー情報確認!$J$1)","v":""},{"$f":"IF(A21=\"\",\"\",③リレー情報確認!$P$1)","v":""},null,null,2,{"$f":"IF(A21=\"\",\"\",③リレー情報確認!W9)","v":""},{"$f":"IF(A21=\"\",\"\",③リレー情報確認!V9)","v":""},{"$f":"IF(A21=\"\",\"\",種目情報!$J$7)","v":""},{"$f":"IF(A21=\"\",\"\",③リレー情報確認!$X$8)","v":""},{"$f":"IF(A21=\"\",\"\",0)","v":""},{"$f":"IF(A21=\"\",\"\",種目情報!$K$7)","v":""}]
[{"$f":"IF(③リレー情報確認!U10=\"\",\"\",1620000+①学校情報入力!$D$3*10)","v":""},{"$f":"IF(A22=\"\",\"\",①学校情報入力!$D$3)","v":""},{"$f":"IF(A22=\"\",\"\",③リレー情報確認!$J$1)","v":""},{"$f":"IF(A22=\"\",\"\",③リレー情報確認!$P$1)","v":""},null,null,3,{"$f":"IF(A22=\"\",\"\",③リレー情報確認!W10)","v":""},{"$f":"IF(A22=\"\",\"\",③リレー情報確認!V10)","v":""},{"$f":"IF(A22=\"\",\"\",種目情報!$J$7)","v":""},{"$f":"IF(A22=\"\",\"\",③リレー情報確認!$X$8)","v":""},"",{"$f":"IF(A22=\"\",\"\",種目情報!$K$7)","v":""}]
[{"$f":"IF(③リレー情報確認!U11=\"\",\"\",1620000+①学校情報入力!$D$3*10)","v":""},{"$f":"IF(A23=\"\",\"\",①学校情報入力!$D$3)","v":""},{"$f":"IF(A23=\"\",\"\",③リレー情報確認!$J$1)","v":""},{"$f":"IF(A23=\"\",\"\",③リレー情報確認!$P$1)","v":""},null,null,4,{"$f":"IF(A23=\"\",\"\",③リレー情報確認!W11)","v":""},{"$f":"IF(A23=\"\",\"\",③リレー情報確認!V11)","v":""},{"$f":"IF(A23=\"\",\"\",種目情報!$J$7)","v":""},{"$f":"IF(A23=\"\",\"\",③リレー情報確認!$X$8)","v":""},"",{"$f":"IF(A23=\"\",\"\",種目情報!$K$7)","v":""}]
[{"$f":"IF(③リレー情報確認!U12=\"\",\"\",1620000+①学校情報入力!$D$3*10)","v":""},{"$f":"IF(A24=\"\",\"\",①学校情報入力!$D$3)","v":""},{"$f":"IF(A24=\"\",\"\",③リレー情報確認!$J$1)","v":""},{"$f":"IF(A24=\"\",\"\",③リレー情報確認!$P$1)","v":""},null,null,5,{"$f":"IF(A24=\"\",\"\",③リレー情報確認!W12)","v":""},{"$f":"IF(A24=\"\",\"\",③リレー情報確認!V12)","v":""},{"$f":"IF(A24=\"\",\"\",種目情報!$J$7)","v":""},{"$f":"IF(A24=\"\",\"\",③リレー情報確認!$X$8)","v":""},"",{"$f":"IF(A24=\"\",\"\",種目情報!$K$7)","v":""}]
[{"$f":"IF(③リレー情報確認!U13=\"\",\"\",1620000+①学校情報入力!$D$3*10)","v":""},{"$f":"IF(A25=\"\",\"\",①学校情報入力!$D$3)","v":""},{"$f":"IF(A25=\"\",\"\",③リレー情報確認!$J$1)","v":""},{"$f":"IF(A25=\"\",\"\",③リレー情報確認!$P$1)","v":""},null,null,6,{"$f":"IF(A25=\"\",\"\",③リレー情報確認!W13)","v":""},{"$f":"IF(A25=\"\",\"\",③リレー情報確認!V13)","v":""},{"$f":"IF(A25=\"\",\"\",種目情報!$J$7)","v":""},{"$f":"IF(A25=\"\",\"\",③リレー情報確認!$X$8)","v":""},"",{"$f":"IF(A25=\"\",\"\",種目情報!$K$7)","v":""}]