{"text_format":"1","workbook":"xlsx","n_sheets":13,"sheets":["注意事項","①団体情報入力","②選手情報入力","③リレー情報確認","④種目別人数","⑤申込一覧表","個票","リレー個票","記録確認表","　　　　　","種目情報","data_kyogisha","data_team"],"not_rendered":{"charts":0,"images":1,"macros":1,"external_links":4,"defined_names":13,"comments":0,"pivot_tables":0},"unopened":[],"bounds":{"document_bytes":16777216,"sheet_cells":100000,"rows_first":2000,"rows_last":500,"rows_between":2000,"halvings":0,"cell_chars":16384,"cell_head_chars":4096},"cells_cut":0,"cells_raw":0,"read":"whole","date_system":"1900"}

{"sheet":"注意事項","index":0,"n_rows":75,"n_cols":10,"rows_kept":75,"cut":false,"hidden":false,"merged":[[74,3,74,7],[0,0,0,13],[7,1,7,7],[4,2,4,7],[2,9,4,11],[8,1,8,2],[8,3,8,5],[66,2,68,9],[2,2,2,8],[53,5,53,11],[3,2,3,4],[3,5,3,7],[6,2,6,4],[6,6,6,7]]}
["　★データ入力前にこのページの内容を必ずお読みください。"]
[]
[null,"大会名","愛知選手権リレー･国体少B･ｼﾞｭﾆｱ記録会",null,null,null,null,null,null,"中学用"]
[null,"期　日","2017-07-01",null,null,"2017-07-02"]
[null,"会　場","パロマ瑞穂スタジアム・パロマ瑞穂北陸上競技場"]
[]
[null,"申込期間","2017-05-31",null,null,"～","2017-06-08",null,"Ver５"]
[null,"※メール送信・振込を完了してください！"]
[]
["　＜注意事項等＞"]
["１ ","この大会は、資格審査があります。記録は、資格取得記録とシーズンベストの2つを記入してください。"]
["２ ","混成種目は、種目１でだけ選択ができます。"]
["３ ","このファイルは申込人数40名まで入力できます。40名を超える場合は、ファイルを追加してください。"]
["４ ","大会要項（出場制限等）をよく読んで入力してください。"]
["５ ","ナンバー・氏名・種目等、入力間違いのないようにお願いします。"]
["６ ","コピーしたデータを貼り付ける場合は、「形式を選択して貼り付け」から「値」を選択して貼り付けてください。"]
["７ ","入力したデータを削除・修正する場合は、必ず「Delete」キーで処理してください。※行削除はしないでください！"]
["８ ","申込は、メール送信と書類提出の両方が必要になりますので、お忘れのないようにお願いします。"]
["９ ","このファイルの内容は、プログラム編成及び作成、記録処理、その他競技会運営の目的で使用します。"]
["１０","このファイルには、印刷ボタンにマクロを使用しています。エクセルの設定をマクロ有効にしてください。"]
["　★作業の流れは次のとおりです。"]
["　　①団体情報の入力"]
["↓","　・必要事項を入力してください。"]
["　　②選手情報の入力"]
["↓","　・参加選手のナンバー、氏名、性別、学年、申込種目、記録を入力してください。"]
["↓","　　※ナンバーは、アルファベットと数字を分けて入力してください。"]
["↓","　　※入力は、男子を先に入力し、続けて女子を入力してください。"]
["↓","　　※氏名については、姓と名の間に全角スペースを１つ入れてください。"]
["↓","　　※ﾌﾘｶﾞﾅについては、姓と名の間に半角スペースを１つ入れてください。"]
["↓","　　※記録は、次のとおり入力してください。"]
["↓",null,"◎トラック種目・・・・分秒をドット「．」で区切り、100分の1秒まで入力"]
["↓",null,"例１",null,"54秒23","⇒",54.23]
["↓",null,"例２",null,"4分07秒00","⇒","4.07.00"]
["↓",null,null,"　 ※記録が１分未満で、10分の1以下が「00」"]
["↓",null,null,"　　 のときは整数で表示されます。"]
["↓",null,null,"例","12秒00","⇒",12]
["↓",null,"◎フィールド種目・・・メートルを「m」で区切り、cm単位まで入力（「cm」の文字は入れない）"]
["↓",null,"例３",null,"20m","⇒","20m00"]
["↓",null,"★記録がない場合は空欄にしてください。"]
["↓","　　※リレーに出場する選手は、リレー種目の欄へ「○」を入力してください。"]
["　　③リレー情報の確認"]
["↓","　・リレーにエントリーをする選手のナンバーと、チームの記録を確認してください。"]
["↓","　　修正がある場合は、「②選手情報入力」で修正してください。"]
["　　④種目別人数の確認"]
["↓","　・種目ごとの申込人数と申込金額を確認してください。"]
["↓","　・プログラム購入部数を入力後、合計金額を確認してください。"]
["　　⑤申込一覧表の確認"]
["↓","　・入力漏れや入力間違い等がないかを確認してください。"]
["　　⑥種目別人数表と申込一覧表の印刷"]
["↓","　・「④種目別人数表」にある、帳票印刷ボタンをクリックして印刷を行ってください。"]
["　　⑦ファイルの保存"]
["↓","　・ファイル名を団体名（例：○○○）に変更し保存してください。メールに添付するときは、ファイル名が団体名に"]
["↓","　　なっていることを確認してください。"]
["　　⑧メール送信",null,null,null,null,"申込みメールアドレス→　aichi.relay@gmail.com"]
["↓","　・入力したファイルを送信してください。"]
["↓","　・メールの件名に「大会名」と「団体名」を入力してください。"]
[null,"　・正しく送信されれば、受信した旨の返信が届きます。"]
["↓"]
["　　⑨参加料の振込"]
["↓","　・参加料を振り込み、明細書のコピーを「種目別人数一覧」の裏面に添付してください。"]
["　　⑨郵送",null,"締め切りは6月9日（金）必着です。"]
["↓"]
["↓","　・「④種目別一覧表」「⑤申込一覧表」を郵送してください。"]
["↓","　・「種目別人数一覧」の裏面には振込明細書のコピーを添付してください。"]
["↓"]
["↓",null,"送付先"]
["↓",null,"〒460-0012　名古屋市中区千代田２－19－16　千代田ビル７Ｆ\n        愛知陸上競技協会　　国体選考少年Ｂ・県ジュニア記録会　宛"]
["↓"]
["↓"]
["　　⑩申込完了"]
[]
[]
[null,"　★問い合わせ先"]
[]
[null,null,"mail：","toiawase.aichi@gmail.com"]

{"sheet":"①団体情報入力","index":1,"n_rows":9,"n_cols":7,"rows_kept":9,"cut":false,"hidden":false,"merged":[[8,1,8,2],[7,3,7,5],[2,3,2,5],[4,1,4,2],[3,3,3,5],[5,3,5,5],[6,3,6,5],[5,1,5,2],[6,1,6,2],[7,1,7,2],[2,1,2,2],[3,1,3,2],[4,3,4,5]]}
["①団体情報入力"]
[]
[null,"団体コード",null,null,null,null,"←入力不要です"]
[null,"団体名",null,null,null,null,"←入力"]
[null,"略称団体名",null,null,null,null,"←入力(全角６文字以内です。大学は\"学\"を入れて６文字以内です。)"]
[null,"略称ヨミガナ",null,null,null,null,"←入力 半角カタカナで入力してください。"]
[null,"申込責任者",null,null,null,null,"←入力"]
[null,"連絡先電話番号",null,null,null,null,"←入力(ハイフンを入れる)　※緊急時に連絡がとれる番号"]
[null,"プログラム購入部数",null,null,"部"]

{"sheet":"②選手情報入力","index":2,"n_rows":53,"n_cols":45,"rows_kept":53,"cut":false,"hidden":false,"merged":[[2,13,2,14],[2,15,2,16],[1,13,1,16]]}
["②選手情報入力",null,null,null,{"$f":"IF(①団体情報入力!D5=\"\",\"\",①団体情報入力!D5)","v":""}]
[null,null,null,null,null,null,null,null,null,null,null,null,null,"リレー記録"]
["※必要事項を全て入力してください。",null,null,null,null,null,null,null,null,null,null,null,null,"4X100mR",null,"4X400mR"]
["※リレー種目にエントリーをする場合は○を選択し、「③リレー情報確認」でメンバーを確認してください。",null,null,null,null,null,null,null,null,null,null,null,null,"資格記録","ｼｰｽﾞﾝﾍﾞｽﾄ","資格記録","ｼｰｽﾞﾝﾍﾞｽﾄ"]
["※コピーしたデータを貼り付ける場合は、「形式を選択して貼り付け」から「値」で貼り付けてください。",null,null,null,null,null,null,null,null,null,null,null,"男子"]
["※データを修正する場合は、必ず「Delete」キーを使用してください。",null,null,null,null,null,null,null,null,null,null,null,"女子"]
[]
[null,"ﾅﾝﾊﾞｰ1","ﾅﾝﾊﾞｰ2","氏　名\n姓と名の間に\n全角ｽﾍﾟｰｽ1つ","ﾌﾘｶﾞﾅ\n姓と名の間に\n半角ｽﾍﾟｰｽ1つ",null,"性別","学年","種目１","記録１\n参加資格記録","シーズンベスト","種目２","記録２\n参加資格記録","シーズンベスト",null,"4X100mR","4X400mR"]
["例","A",1001,"西三　太郎","ｾｲｻﾝ ﾀﾛｳ",null,"男",2,"少年Ｂ男子100m","28.12.53","27.35.00","男子5000m","13.45.67","13.30.00",null,"○","○",null,null,null,null,null,null,null,null,"ﾅﾝﾊﾞｰ","氏　名","ﾌﾘｶﾞﾅ","性別","学年","競技者NO","ﾅﾝﾊﾞｰ","氏　名","ﾌﾘｶﾞﾅ","性別","学年","競技者NO","男400R",{"$f":"COUNT(AM10:AM49)","v":0},"男1600R",{"$f":"COUNT(AO10:AO49)","v":0},"女400R",{"$f":"COUNT(AQ10:AQ49)","v":0},"女1600R",{"$f":"COUNT(AS10:AS49)","v":0}]
[1,null,null,null,null,null,null,null,null,null,null,null,null,null,null,"○","○",null,null,null,null,null,null,null,null,{"$f":"IF(G10=\"男\",C10,\"\")","v":""},{"$f":"IF(G10=\"男\",D10,\"\")","v":""},{"$f":"IF(G10=\"男\",E10,\"\")","v":""},{"$f":"IF(G10=\"男\",G10,\"\")","v":""},{"$f":"IF(G10=\"男\",IF(H10=\"\",\"\",H10),\"\")","v":""},{"$f":"IF(G10=\"男\",data_kyogisha!A2,\"\")","v":""},{"$f":"IF(G10=\"女\",C10,\"\")","v":""},{"$f":"IF(G10=\"女\",D10,\"\")","v":""},{"$f":"IF(G10=\"女\",E10,\"\")","v":""},{"$f":"IF(G10=\"女\",G10,\"\")","v":""},{"$f":"IF(G10=\"女\",IF(H10=\"\",\"\",H10),\"\")","v":""},{"$f":"IF(G10=\"女\",data_kyogisha!A2,\"\")","v":""},{"$f":"IF(AND(G10=\"男\",P10=\"○\"),1,0)","v":0},{"$f":"IF(AND(G10=\"男\",P10=\"○\"),C10,\"\")","v":""},{"$f":"IF(AND(G10=\"男\",Q10=\"○\"),1,0)","v":0},{"$f":"IF(AND(G10=\"男\",Q10=\"○\"),C10,\"\")","v":""},{"$f":"IF(AND(G10=\"女\",P10=\"○\"),1,0)","v":0},{"$f":"IF(AND(G10=\"女\",P10=\"○\"),C10,\"\")","v":""},{"$f":"IF(AND(G10=\"女\",Q10=\"○\"),1,0)","v":0},{"$f":"IF(AND(G10=\"女\",Q10=\"○\"),C10,\"\")","v":""}]
[2,null,null,null,null,null,null,null,null,null,null,null,null,null,null,null,null,null,null,null,null,"男",{"$f":"IF(種目情報!A4=\"\",\"\",種目情報!A4)","v":"少年B男子100m"},{"$f":"IF(種目情報!E4=\"\",\"\",種目情報!E4)","v":"少年B女子100m"},"○","","","","","",{"$f":"IF(G11=\"男\",data_kyogisha!A3,\"\")","v":""},"","","","","",{"$f":"IF(G11=\"女\",data_kyogisha!A3,\"\")","v":""},{"$f":"IF(AND(G11=\"男\",P11=\"○\"),AL10+1,AL10)","v":0},{"$f":"IF(AND(G11=\"男\",P11=\"○\"),C11,\"\")","v":""},{"$f":"IF(AND(G11=\"男\",Q11=\"○\"),AN10+1,AN10)","v":0},{"$f":"IF(AND(G11=\"男\",Q11=\"○\"),C11,\"\")","v":""},{"$f":"IF(AND(G11=\"女\",P11=\"○\"),AP10+1,AP10)","v":0},{"$f":"IF(AND(G11=\"女\",P11=\"○\"),C11,\"\")","v":""},{"$f":"IF(AND(G11=\"女\",Q11=\"○\"),AR10+1,AR10)","v":0},{"$f":"IF(AND(G11=\"女\",Q11=\"○\"),C11,\"\")","v":""}]
[3,null,null,null,null,null,null,null,null,null,null,null,null,null,null,null,null,null,null,null,null,"女",{"$f":"IF(種目情報!A5=\"\",\"\",種目情報!A5)","v":"少年B男子3000m"},{"$f":"IF(種目情報!E5=\"\",\"\",種目情報!E5)","v":"少年B女子800m"},null,"","","","","",{"$f":"IF(G12=\"男\",data_kyogisha!A4,\"\")","v":""},"","","","","",{"$f":"IF(G12=\"女\",data_kyogisha!A4,\"\")","v":""},{"$f":"IF(AND(G12=\"男\",P12=\"○\"),AL11+1,AL11)","v":0},"",{"$f":"IF(AND(G12=\"男\",Q12=\"○\"),AN11+1,AN11)","v":0},{"$f":"IF(AND(G12=\"男\",Q12=\"○\"),C12,\"\")","v":""},{"$f":"IF(AND(G12=\"女\",P12=\"○\"),AP11+1,AP11)","v":0},{"$f":"IF(AND(G12=\"女\",P12=\"○\"),C12,\"\")","v":""},{"$f":"IF(AND(G12=\"女\",Q12=\"○\"),AR11+1,AR11)","v":0},{"$f":"IF(AND(G12=\"女\",Q12=\"○\"),C12,\"\")","v":""}]
[4,null,null,null,null,null,null,null,null,null,null,null,null,null,null,null,null,null,null,null,null,null,{"$f":"IF(種目情報!A6=\"\",\"\",種目情報!A6)","v":""},{"$f":"IF(種目情報!E6=\"\",\"\",種目情報!E6)","v":"少年B女子100mYH(0.762/8.5m)"},null,"","","","","",{"$f":"IF(G13=\"男\",data_kyogisha!A5,\"\")","v":""},"","","","","",{"$f":"IF(G13=\"女\",data_kyogisha!A5,\"\")","v":""},0,"",0,"",0,"",0,""]
[5,null,null,null,null,null,null,null,null,null,null,null,null,null,null,null,null,null,null,null,null,null,{"$f":"IF(種目情報!A7=\"\",\"\",種目情報!A7)","v":"少年B男子走幅跳"},{"$f":"IF(種目情報!E7=\"\",\"\",種目情報!E7)","v":"少年B女子走幅跳"},null,"","","","","",{"$f":"IF(G14=\"男\",data_kyogisha!A6,\"\")","v":""},"","","","","",{"$f":"IF(G14=\"女\",data_kyogisha!A6,\"\")","v":""},0,"",0,"",0,"",0,""]
[6,null,null,null,null,null,null,null,null,null,null,null,null,null,null,null,null,null,null,null,null,null,{"$f":"IF(種目情報!A8=\"\",\"\",種目情報!A8)","v":"少B男砲丸投(5.000kg)"},{"$f":"IF(種目情報!E8=\"\",\"\",種目情報!E8)","v":""},null,"","","","","",{"$f":"IF(G15=\"男\",data_kyogisha!A7,\"\")","v":""},"","","","","",{"$f":"IF(G15=\"女\",data_kyogisha!A7,\"\")","v":""},0,"",0,"",0,"",0,""]
[7,null,null,null,null,null,null,null,null,null,null,null,null,null,null,null,null,null,null,null,null,null,{"$f":"IF(種目情報!A9=\"\",\"\",種目情報!A9)","v":""},{"$f":"IF(種目情報!E9=\"\",\"\",種目情報!E9)","v":"ABC女子円盤投(1.000kg)"},null,"","","","","",{"$f":"IF(G16=\"男\",data_kyogisha!A8,\"\")","v":""},"","","","","",{"$f":"IF(G16=\"女\",data_kyogisha!A8,\"\")","v":""},0,"",0,"",0,"",0,""]
[8,null,null,null,null,null,null,null,null,null,null,null,null,null,null,null,null,null,null,null,null,null,{"$f":"IF(種目情報!A10=\"\",\"\",種目情報!A10)","v":"ABC男子円盤投(1.500kg)"},{"$f":"IF(種目情報!E10=\"\",\"\",種目情報!E10)","v":"A女子砲丸投(4.000kg)"},null,"","","","","",{"$f":"IF(G17=\"男\",data_kyogisha!A9,\"\")","v":""},"","","","","",{"$f":"IF(G17=\"女\",data_kyogisha!A9,\"\")","v":""},0,"",0,"",0,"",0,""]
[9,null,null,null,null,null,null,null,null,null,null,null,null,null,null,null,null,null,null,null,null,null,{"$f":"IF(種目情報!A11=\"\",\"\",種目情報!A11)","v":"BC男子砲丸投(4.000kg)"},null,null,"","","","","",{"$f":"IF(G18=\"男\",data_kyogisha!A10,\"\")","v":""},"","","","","",{"$f":"IF(G18=\"女\",data_kyogisha!A10,\"\")","v":""},0,"",0,"",0,"",0,""]
[10,null,null,null,null,null,null,null,null,null,null,null,null,null,null,null,null,null,null,null,null,null,null,null,null,"","","","","",{"$f":"IF(G19=\"男\",data_kyogisha!A11,\"\")","v":""},"","","","","",{"$f":"IF(G19=\"女\",data_kyogisha!A11,\"\")","v":""},0,"",0,"",0,"",0,""]
[11,null,null,null,null,null,null,null,null,null,null,null,null,null,null,null,null,null,null,null,null,null,null,null,null,"","","","","",{"$f":"IF(G20=\"男\",data_kyogisha!A12,\"\")","v":""},"","","","","",{"$f":"IF(G20=\"女\",data_kyogisha!A12,\"\")","v":""},0,"",0,"",{"$f":"IF(AND(G20=\"女\",P20=\"○\"),AP19+1,AP19)","v":0},{"$f":"IF(AND(G20=\"女\",P20=\"○\"),C20,\"\")","v":""},0,""]
[12,null,null,null,null,null,null,null,null,null,null,null,null,null,null,null,null,null,null,null,null,null,null,null,null,"","","","","",{"$f":"IF(G21=\"男\",data_kyogisha!A13,\"\")","v":""},"","","","","",{"$f":"IF(G21=\"女\",data_kyogisha!A13,\"\")","v":""},0,"",0,"",0,"",0,""]
[13,null,null,null,null,null,null,null,null,null,null,null,null,null,null,null,null,null,null,null,null,null,null,null,null,"","","","","",{"$f":"IF(G22=\"男\",data_kyogisha!A14,\"\")","v":""},"","","","","",{"$f":"IF(G22=\"女\",data_kyogisha!A14,\"\")","v":""},0,"",0,"",0,"",0,""]
[14,null,null,null,null,null,null,null,null,null,null,null,null,null,null,null,null,null,null,null,null,null,null,null,null,"","","","","",{"$f":"IF(G23=\"男\",data_kyogisha!A15,\"\")","v":""},"","","","","",{"$f":"IF(G23=\"女\",data_kyogisha!A15,\"\")","v":""},0,"",0,"",0,"",0,""]
[15,null,null,null,null,null,null,null,null,null,null,null,null,null,null,null,null,null,null,null,null,null,null,null,null,"","","","","",{"$f":"IF(G24=\"男\",data_kyogisha!A16,\"\")","v":""},"","","","","",{"$f":"IF(G24=\"女\",data_kyogisha!A16,\"\")","v":""},0,"",0,"",0,"",0,""]
[16,null,null,null,null,null,null,null,null,null,null,null,null,null,null,null,null,null,null,null,null,null,null,null,null,"","","","","",{"$f":"IF(G25=\"男\",data_kyogisha!A17,\"\")","v":""},"","","","","",{"$f":"IF(G25=\"女\",data_kyogisha!A17,\"\")","v":""},0,"",0,"",0,"",0,""]
[17,null,null,null,null,null,null,null,null,null,null,null,null,null,null,null,null,null,null,null,null,null,null,null,null,"","","","","",{"$f":"IF(G26=\"男\",data_kyogisha!A18,\"\")","v":""},"","","","","",{"$f":"IF(G26=\"女\",data_kyogisha!A18,\"\")","v":""},0,"",0,"",0,"",0,""]
[18,null,null,null,null,null,null,null,null,null,null,null,null,null,null,null,null,null,null,null,null,null,null,null,null,"","","","","",{"$f":"IF(G27=\"男\",data_kyogisha!A19,\"\")","v":""},"","","","","",{"$f":"IF(G27=\"女\",data_kyogisha!A19,\"\")","v":""},0,"",0,"",0,"",0,""]
[19,null,null,null,null,null,null,null,null,null,null,null,null,null,null,null,null,null,null,null,null,null,null,null,null,"","","","","",{"$f":"IF(G28=\"男\",data_kyogisha!A20,\"\")","v":""},"","","","","",{"$f":"IF(G28=\"女\",data_kyogisha!A20,\"\")","v":""},0,"",0,"",0,"",0,""]
[20,null,null,null,null,null,null,null,null,null,null,null,null,null,null,null,null,null,null,null,null,null,null,null,null,"","","","","",{"$f":"IF(G29=\"男\",data_kyogisha!A21,\"\")","v":""},"","","","","",{"$f":"IF(G29=\"女\",data_kyogisha!A21,\"\")","v":""},0,"",0,"",0,"",0,""]
[21,null,null,null,null,null,null,null,null,null,null,null,null,null,null,null,null,null,null,null,null,null,null,null,null,"","","","","",{"$f":"IF(G30=\"男\",data_kyogisha!A22,\"\")","v":""},"","","","","",{"$f":"IF(G30=\"女\",data_kyogisha!A22,\"\")","v":""},0,"",0,"",0,"",0,""]
[22,null,null,null,null,null,null,null,null,null,null,null,null,null,null,null,null,null,null,null,null,null,null,null,null,"","","","","",{"$f":"IF(G31=\"男\",data_kyogisha!A23,\"\")","v":""},"","","","","",{"$f":"IF(G31=\"女\",data_kyogisha!A23,\"\")","v":""},0,"",0,"",0,"",0,""]
[23,null,null,null,null,null,null,null,null,null,null,null,null,null,null,null,null,null,null,null,null,null,null,null,null,"","","","","",{"$f":"IF(G32=\"男\",data_kyogisha!A24,\"\")","v":""},"","","","","",{"$f":"IF(G32=\"女\",data_kyogisha!A24,\"\")","v":""},0,"",0,"",0,"",0,""]
[24,null,null,null,null,null,null,null,null,null,null,null,null,null,null,null,null,null,null,null,null,null,null,null,null,"","","","","",{"$f":"IF(G33=\"男\",data_kyogisha!A25,\"\")","v":""},"","","","","",{"$f":"IF(G33=\"女\",data_kyogisha!A25,\"\")","v":""},0,"",0,"",0,"",0,""]
[25,null,null,null,null,null,null,null,null,null,null,null,null,null,null,null,null,null,null,null,null,null,null,null,null,"","","","","",{"$f":"IF(G34=\"男\",data_kyogisha!A26,\"\")","v":""},"","","","","",{"$f":"IF(G34=\"女\",data_kyogisha!A26,\"\")","v":""},0,"",0,"",0,"",0,""]
[26,null,null,null,null,null,null,null,null,null,null,null,null,null,null,null,null,null,null,null,null,null,null,null,null,"","","","","",{"$f":"IF(G35=\"男\",data_kyogisha!A27,\"\")","v":""},"","","","","",{"$f":"IF(G35=\"女\",data_kyogisha!A27,\"\")","v":""},0,"",0,"",0,"",0,""]
[27,null,null,null,null,null,null,null,null,null,null,null,null,null,null,null,null,null,null,null,null,null,null,null,null,"","","","","",{"$f":"IF(G36=\"男\",data_kyogisha!A28,\"\")","v":""},"","","","","",{"$f":"IF(G36=\"女\",data_kyogisha!A28,\"\")","v":""},0,"",0,"",0,"",0,""]
[28,null,null,null,null,null,null,null,null,null,null,null,null,null,null,null,null,null,null,null,null,null,null,null,null,"","","","","",{"$f":"IF(G37=\"男\",data_kyogisha!A29,\"\")","v":""},"","","","","",{"$f":"IF(G37=\"女\",data_kyogisha!A29,\"\")","v":""},0,"",0,"",0,"",0,""]
[29,null,null,null,null,null,null,null,null,null,null,null,null,null,null,null,null,null,null,null,null,null,null,null,null,"","","","","",{"$f":"IF(G38=\"男\",data_kyogisha!A30,\"\")","v":""},"","","","","",{"$f":"IF(G38=\"女\",data_kyogisha!A30,\"\")","v":""},0,"",0,"",0,"",0,""]
[30,null,null,null,null,null,null,null,null,null,null,null,null,null,null,null,null,null,null,null,null,null,null,null,null,"","","","","",{"$f":"IF(G39=\"男\",data_kyogisha!A31,\"\")","v":""},"","","","","",{"$f":"IF(G39=\"女\",data_kyogisha!A31,\"\")","v":""},0,"",0,"",0,"",0,""]
[31,null,null,null,null,null,null,null,null,null,null,null,null,null,null,null,null,null,null,null,null,null,null,null,null,"","","","","",{"$f":"IF(G40=\"男\",data_kyogisha!A32,\"\")","v":""},"","","","","",{"$f":"IF(G40=\"女\",data_kyogisha!A32,\"\")","v":""},0,"",0,"",0,"",0,""]
[32,null,null,null,null,null,null,null,null,null,null,null,null,null,null,null,null,null,null,null,null,null,null,null,null,"","","","","",{"$f":"IF(G41=\"男\",data_kyogisha!A33,\"\")","v":""},"","","","","",{"$f":"IF(G41=\"女\",data_kyogisha!A33,\"\")","v":""},0,"",0,"",0,"",0,""]
[33,null,null,null,null,null,null,null,null,null,null,null,null,null,null,null,null,null,null,null,null,null,null,null,null,{"$f":"IF(G42=\"男\",C42,\"\")","v":""},{"$f":"IF(G42=\"男\",D42,\"\")","v":""},{"$f":"IF(G42=\"男\",E42,\"\")","v":""},{"$f":"IF(G42=\"男\",G42,\"\")","v":""},{"$f":"IF(G42=\"男\",IF(H42=\"\",\"\",H42),\"\")","v":""},{"$f":"IF(G42=\"男\",data_kyogisha!A34,\"\")","v":""},{"$f":"IF(G42=\"女\",C42,\"\")","v":""},{"$f":"IF(G42=\"女\",D42,\"\")","v":""},{"$f":"IF(G42=\"女\",E42,\"\")","v":""},{"$f":"IF(G42=\"女\",G42,\"\")","v":""},{"$f":"IF(G42=\"女\",IF(H42=\"\",\"\",H42),\"\")","v":""},{"$f":"IF(G42=\"女\",data_kyogisha!A34,\"\")","v":""},0,"",0,"",0,"",0,""]
[34,null,null,null,null,null,null,null,null,null,null,null,null,null,null,null,null,null,null,null,null,null,null,null,null,"","","","","",{"$f":"IF(G43=\"男\",data_kyogisha!A35,\"\")","v":""},"","","","","",{"$f":"IF(G43=\"女\",data_kyogisha!A35,\"\")","v":""},0,"",0,"",0,"",0,""]
[35,null,null,null,null,null,null,null,null,null,null,null,null,null,null,null,null,null,null,null,null,null,null,null,null,"","","","","",{"$f":"IF(G44=\"男\",data_kyogisha!A36,\"\")","v":""},"","","","","",{"$f":"IF(G44=\"女\",data_kyogisha!A36,\"\")","v":""},0,"",0,"",0,"",0,""]
[36,null,null,null,null,null,null,null,null,null,null,null,null,null,null,null,null,null,null,null,null,null,null,null,null,"","","","","",{"$f":"IF(G45=\"男\",data_kyogisha!A37,\"\")","v":""},"","","","","",{"$f":"IF(G45=\"女\",data_kyogisha!A37,\"\")","v":""},0,"",0,"",0,"",0,""]
[37,null,null,null,null,null,null,null,null,null,null,null,null,null,null,null,null,null,null,null,null,null,null,null,null,"","","","","",{"$f":"IF(G46=\"男\",data_kyogisha!A38,\"\")","v":""},"","","","","",{"$f":"IF(G46=\"女\",data_kyogisha!A38,\"\")","v":""},0,"",0,"",0,"",0,""]
[38,null,null,null,null,null,null,null,null,null,null,null,null,null,null,null,null,null,null,null,null,null,null,null,null,"","","","","",{"$f":"IF(G47=\"男\",data_kyogisha!A39,\"\")","v":""},"","","","","",{"$f":"IF(G47=\"女\",data_kyogisha!A39,\"\")","v":""},0,"",0,"",0,"",0,""]
[39,null,null,null,null,null,null,null,null,null,null,null,null,null,null,null,null,null,null,null,null,null,null,null,null,"","","","","",{"$f":"IF(G48=\"男\",data_kyogisha!A40,\"\")","v":""},"","","","","",{"$f":"IF(G48=\"女\",data_kyogisha!A40,\"\")","v":""},0,"",0,"",0,"",0,""]
[40,null,null,null,null,null,null,null,null,null,null,null,null,null,null,null,null,null,null,null,null,null,null,null,null,"","","","","",{"$f":"IF(G49=\"男\",data_kyogisha!A41,\"\")","v":""},"","","","","",{"$f":"IF(G49=\"女\",data_kyogisha!A41,\"\")","v":""},0,"",0,"",0,"",0,""]
[null,null,null,null,null,"種目計",{"$f":"SUM(I50:M50)","v":0},null,{"$f":"COUNTA(I10:I49)","v":0},null,null,{"$f":"COUNTA(L10:L49)","v":0},null,{"$f":"COUNTA(N10:N49)","v":0}]
[null,null,null,null,null,"リレー計",{"$f":"③リレー情報確認!F16+③リレー情報確認!L16+③リレー情報確認!R16+③リレー情報確認!X16","v":0}]
[null,null,null,null,null,"男",{"$f":"COUNTIF(G10:G49,\"男\")","v":0}]
[null,null,null,null,null,"女",{"$f":"COUNTIF(G10:G49,\"女\")","v":0}]

{"sheet":"③リレー情報確認","index":3,"n_rows":16,"n_cols":24,"rows_kept":16,"cut":false,"hidden":false,"merged":[[0,9,0,11],[7,17,14,17],[7,5,14,5],[5,1,5,5],[7,23,14,23],[5,13,5,17],[5,19,5,23],[5,7,5,11],[7,11,14,11],[0,15,0,17]]}
["③リレー情報確認",null,null,null,null,null,null,null,"チーム名 ",{"$f":"IF(①団体情報入力!D5=\"\",\"\",①団体情報入力!D5)","v":""},null,null,null,null,"ｶﾅ",{"$f":"IF(①団体情報入力!D6=\"\",\"\",①団体情報入力!D6)","v":""}]
[]
[null,null,"※リレーにエントリーをする選手とチームの記録を確認してください。"]
[null,null,"※修正をする場合は「②選手情報入力」で修正してください。"]
[]
[null,"男4X100mR",null,null,null,null,null,"男4X400mR",null,null,null,null,null,"女4X100mR",null,null,null,null,null,"女4X400mR"]
[null,"Ord","ﾅﾝﾊﾞｰ","氏　名","競技者NO","記録",null,"Ord","ﾅﾝﾊﾞｰ","氏　名","競技者NO","記録",null,"Ord","ﾅﾝﾊﾞｰ","氏　名","競技者NO","記録",null,"Ord","ﾅﾝﾊﾞｰ","氏　名","競技者NO","記録"]
[null,1,{"$f":"IF(②選手情報入力!$AM$9<1,\"\",VLOOKUP(B8,②選手情報入力!$AL$10:$AM$49,2,FALSE))","v":""},{"$f":"IF(C8=\"\",\"\",VLOOKUP(C8,②選手情報入力!$Z$10:$AA$49,2,FALSE))","v":""},{"$f":"IF(C8=\"\",\"\",VLOOKUP(C8,②選手情報入力!$Z$10:$AF$49,6,FALSE))","v":""},{"$f":"IF(②選手情報入力!N5=\"\",\"\",IF(②選手情報入力!N5<②選手情報入力!O5,②選手情報入力!N5,②選手情報入力!O5))","v":""},null,1,{"$f":"IF(②選手情報入力!$AO$9<1,\"\",VLOOKUP(H8,②選手情報入力!$AN$10:$AO$49,2,FALSE))","v":""},{"$f":"IF(I8=\"\",\"\",VLOOKUP(I8,②選手情報入力!$Z$10:$AA$49,2,FALSE))","v":""},{"$f":"IF(I8=\"\",\"\",VLOOKUP(I8,②選手情報入力!$Z$10:$AF$49,6,FALSE))","v":""},{"$f":"IF(②選手情報入力!P5=\"\",\"\",IF(②選手情報入力!P5>②選手情報入力!Q5,②選手情報入力!Q5,②選手情報入力!P5))","v":""},null,1,{"$f":"IF(②選手情報入力!$AQ$9<1,\"\",VLOOKUP(N8,②選手情報入力!$AP$10:$AQ$49,2,FALSE))","v":""},{"$f":"IF(O8=\"\",\"\",VLOOKUP(O8,②選手情報入力!$AF$10:$AG$49,2,FALSE))","v":""},{"$f":"IF(O8=\"\",\"\",VLOOKUP(O8,②選手情報入力!$AF$10:$AM$49,6,FALSE))","v":""},{"$f":"IF(②選手情報入力!N6=\"\",\"\",IF(②選手情報入力!N6>②選手情報入力!O6,②選手情報入力!O6,②選手情報入力!N6))","v":""},null,1,{"$f":"IF(②選手情報入力!$AS$9<1,\"\",VLOOKUP(T8,②選手情報入力!$AR$10:$AS$49,2,FALSE))","v":""},{"$f":"IF(U8=\"\",\"\",VLOOKUP(U8,②選手情報入力!$AF$10:$AG$49,2,FALSE))","v":""},{"$f":"IF(U8=\"\",\"\",VLOOKUP(U8,②選手情報入力!$AF$10:$AM$49,6,FALSE))","v":""},{"$f":"IF(②選手情報入力!P6=\"\",\"\",IF(②選手情報入力!P6>②選手情報入力!Q6,②選手情報入力!Q6,②選手情報入力!P6))","v":""}]
[null,2,{"$f":"IF(②選手情報入力!$AM$9<1,\"\",VLOOKUP(B9,②選手情報入力!$AL$10:$AM$49,2,FALSE))","v":""},{"$f":"IF(C9=\"\",\"\",VLOOKUP(C9,②選手情報入力!$Z$10:$AA$49,2,FALSE))","v":""},{"$f":"IF(C9=\"\",\"\",VLOOKUP(C9,②選手情報入力!$Z$10:$AF$49,6,FALSE))","v":""},null,null,2,{"$f":"IF(②選手情報入力!$AO$9<1,\"\",VLOOKUP(H9,②選手情報入力!$AN$10:$AO$49,2,FALSE))","v":""},{"$f":"IF(I9=\"\",\"\",VLOOKUP(I9,②選手情報入力!$Z$10:$AA$49,2,FALSE))","v":""},{"$f":"IF(I9=\"\",\"\",VLOOKUP(I9,②選手情報入力!$Z$10:$AF$49,6,FALSE))","v":""},null,null,2,{"$f":"IF(②選手情報入力!$AQ$9<1,\"\",VLOOKUP(N9,②選手情報入力!$AP$10:$AQ$49,2,FALSE))","v":""},{"$f":"IF(O9=\"\",\"\",VLOOKUP(O9,②選手情報入力!$AF$10:$AG$49,2,FALSE))","v":""},{"$f":"IF(O9=\"\",\"\",VLOOKUP(O9,②選手情報入力!$AF$10:$AM$49,6,FALSE))","v":""},null,null,2,{"$f":"IF(②選手情報入力!$AS$9<1,\"\",VLOOKUP(T9,②選手情報入力!$AR$10:$AS$49,2,FALSE))","v":""},{"$f":"IF(U9=\"\",\"\",VLOOKUP(U9,②選手情報入力!$AF$10:$AG$49,2,FALSE))","v":""},{"$f":"IF(U9=\"\",\"\",VLOOKUP(U9,②選手情報入力!$AF$10:$AM$49,6,FALSE))","v":""}]
[null,3,{"$f":"IF(②選手情報入力!$AM$9<1,\"\",VLOOKUP(B10,②選手情報入力!$AL$10:$AM$49,2,FALSE))","v":""},{"$f":"IF(C10=\"\",\"\",VLOOKUP(C10,②選手情報入力!$Z$10:$AA$49,2,FALSE))","v":""},{"$f":"IF(C10=\"\",\"\",VLOOKUP(C10,②選手情報入力!$Z$10:$AF$49,6,FALSE))","v":""},null,null,3,{"$f":"IF(②選手情報入力!$AO$9<1,\"\",VLOOKUP(H10,②選手情報入力!$AN$10:$AO$49,2,FALSE))","v":""},{"$f":"IF(I10=\"\",\"\",VLOOKUP(I10,②選手情報入力!$Z$10:$AA$49,2,FALSE))","v":""},{"$f":"IF(I10=\"\",\"\",VLOOKUP(I10,②選手情報入力!$Z$10:$AF$49,6,FALSE))","v":""},null,null,3,{"$f":"IF(②選手情報入力!$AQ$9<1,\"\",VLOOKUP(N10,②選手情報入力!$AP$10:$AQ$49,2,FALSE))","v":""},{"$f":"IF(O10=\"\",\"\",VLOOKUP(O10,②選手情報入力!$AF$10:$AG$49,2,FALSE))","v":""},{"$f":"IF(O10=\"\",\"\",VLOOKUP(O10,②選手情報入力!$AF$10:$AM$49,6,FALSE))","v":""},null,null,3,{"$f":"IF(②選手情報入力!$AS$9<1,\"\",VLOOKUP(T10,②選手情報入力!$AR$10:$AS$49,2,FALSE))","v":""},{"$f":"IF(U10=\"\",\"\",VLOOKUP(U10,②選手情報入力!$AF$10:$AG$49,2,FALSE))","v":""},{"$f":"IF(U10=\"\",\"\",VLOOKUP(U10,②選手情報入力!$AF$10:$AM$49,6,FALSE))","v":""}]
[null,4,{"$f":"IF(②選手情報入力!$AM$9<1,\"\",VLOOKUP(B11,②選手情報入力!$AL$10:$AM$49,2,FALSE))","v":""},{"$f":"IF(C11=\"\",\"\",VLOOKUP(C11,②選手情報入力!$Z$10:$AA$49,2,FALSE))","v":""},{"$f":"IF(C11=\"\",\"\",VLOOKUP(C11,②選手情報入力!$Z$10:$AF$49,6,FALSE))","v":""},null,null,4,{"$f":"IF(②選手情報入力!$AO$9<1,\"\",VLOOKUP(H11,②選手情報入力!$AN$10:$AO$49,2,FALSE))","v":""},{"$f":"IF(I11=\"\",\"\",VLOOKUP(I11,②選手情報入力!$Z$10:$AA$49,2,FALSE))","v":""},{"$f":"IF(I11=\"\",\"\",VLOOKUP(I11,②選手情報入力!$Z$10:$AF$49,6,FALSE))","v":""},null,null,4,{"$f":"IF(②選手情報入力!$AQ$9<1,\"\",VLOOKUP(N11,②選手情報入力!$AP$10:$AQ$49,2,FALSE))","v":""},{"$f":"IF(O11=\"\",\"\",VLOOKUP(O11,②選手情報入力!$AF$10:$AG$49,2,FALSE))","v":""},{"$f":"IF(O11=\"\",\"\",VLOOKUP(O11,②選手情報入力!$AF$10:$AM$49,6,FALSE))","v":""},null,null,4,{"$f":"IF(②選手情報入力!$AS$9<1,\"\",VLOOKUP(T11,②選手情報入力!$AR$10:$AS$49,2,FALSE))","v":""},{"$f":"IF(U11=\"\",\"\",VLOOKUP(U11,②選手情報入力!$AF$10:$AG$49,2,FALSE))","v":""},{"$f":"IF(U11=\"\",\"\",VLOOKUP(U11,②選手情報入力!$AF$10:$AM$49,6,FALSE))","v":""}]
[null,5,{"$f":"IF(②選手情報入力!$AM$9<1,\"\",VLOOKUP(B12,②選手情報入力!$AL$10:$AM$49,2,FALSE))","v":""},{"$f":"IF(C12=\"\",\"\",VLOOKUP(C12,②選手情報入力!$Z$10:$AA$49,2,FALSE))","v":""},{"$f":"IF(C12=\"\",\"\",VLOOKUP(C12,②選手情報入力!$Z$10:$AF$49,6,FALSE))","v":""},null,null,5,{"$f":"IF(②選手情報入力!$AO$9<1,\"\",VLOOKUP(H12,②選手情報入力!$AN$10:$AO$49,2,FALSE))","v":""},{"$f":"IF(I12=\"\",\"\",VLOOKUP(I12,②選手情報入力!$Z$10:$AA$49,2,FALSE))","v":""},{"$f":"IF(I12=\"\",\"\",VLOOKUP(I12,②選手情報入力!$Z$10:$AF$49,6,FALSE))","v":""},null,null,5,{"$f":"IF(②選手情報入力!$AQ$9<1,\"\",VLOOKUP(N12,②選手情報入力!$AP$10:$AQ$49,2,FALSE))","v":""},{"$f":"IF(O12=\"\",\"\",VLOOKUP(O12,②選手情報入力!$AF$10:$AG$49,2,FALSE))","v":""},{"$f":"IF(O12=\"\",\"\",VLOOKUP(O12,②選手情報入力!$AF$10:$AM$49,6,FALSE))","v":""},null,null,5,{"$f":"IF(②選手情報入力!$AS$9<1,\"\",VLOOKUP(T12,②選手情報入力!$AR$10:$AS$49,2,FALSE))","v":""},{"$f":"IF(U12=\"\",\"\",VLOOKUP(U12,②選手情報入力!$AF$10:$AG$49,2,FALSE))","v":""},{"$f":"IF(U12=\"\",\"\",VLOOKUP(U12,②選手情報入力!$AF$10:$AM$49,6,FALSE))","v":""}]
[null,6,{"$f":"IF(②選手情報入力!$AM$9<1,\"\",VLOOKUP(B13,②選手情報入力!$AL$10:$AM$49,2,FALSE))","v":""},{"$f":"IF(C13=\"\",\"\",VLOOKUP(C13,②選手情報入力!$Z$10:$AA$49,2,FALSE))","v":""},{"$f":"IF(C13=\"\",\"\",VLOOKUP(C13,②選手情報入力!$Z$10:$AF$49,6,FALSE))","v":""},null,null,6,{"$f":"IF(②選手情報入力!$AO$9<1,\"\",VLOOKUP(H13,②選手情報入力!$AN$10:$AO$49,2,FALSE))","v":""},{"$f":"IF(I13=\"\",\"\",VLOOKUP(I13,②選手情報入力!$Z$10:$AA$49,2,FALSE))","v":""},{"$f":"IF(I13=\"\",\"\",VLOOKUP(I13,②選手情報入力!$Z$10:$AF$49,6,FALSE))","v":""},null,null,6,{"$f":"IF(②選手情報入力!$AQ$9<1,\"\",VLOOKUP(N13,②選手情報入力!$AP$10:$AQ$49,2,FALSE))","v":""},{"$f":"IF(O13=\"\",\"\",VLOOKUP(O13,②選手情報入力!$AF$10:$AG$49,2,FALSE))","v":""},{"$f":"IF(O13=\"\",\"\",VLOOKUP(O13,②選手情報入力!$AF$10:$AM$49,6,FALSE))","v":""},null,null,6,{"$f":"IF(②選手情報入力!$AS$9<1,\"\",VLOOKUP(T13,②選手情報入力!$AR$10:$AS$49,2,FALSE))","v":""},{"$f":"IF(U13=\"\",\"\",VLOOKUP(U13,②選手情報入力!$AF$10:$AG$49,2,FALSE))","v":""},{"$f":"IF(U13=\"\",\"\",VLOOKUP(U13,②選手情報入力!$AF$10:$AM$49,6,FALSE))","v":""}]
[null,7,{"$f":"IF(②選手情報入力!$AM$9<1,\"\",VLOOKUP(B14,②選手情報入力!$AL$10:$AM$49,2,FALSE))","v":""},{"$f":"IF(C14=\"\",\"\",VLOOKUP(C14,②選手情報入力!$Z$10:$AA$49,2,FALSE))","v":""},{"$f":"IF(C14=\"\",\"\",VLOOKUP(C14,②選手情報入力!$Z$10:$AF$49,6,FALSE))","v":""},null,null,7,{"$f":"IF(②選手情報入力!$AO$9<1,\"\",VLOOKUP(H14,②選手情報入力!$AN$10:$AO$49,2,FALSE))","v":""},{"$f":"IF(I14=\"\",\"\",VLOOKUP(I14,②選手情報入力!$Z$10:$AA$49,2,FALSE))","v":""},{"$f":"IF(I14=\"\",\"\",VLOOKUP(I14,②選手情報入力!$Z$10:$AF$49,6,FALSE))","v":""},null,null,7,{"$f":"IF(②選手情報入力!$AQ$9<1,\"\",VLOOKUP(N14,②選手情報入力!$AP$10:$AQ$49,2,FALSE))","v":""},{"$f":"IF(O14=\"\",\"\",VLOOKUP(O14,②選手情報入力!$AF$10:$AG$49,2,FALSE))","v":""},{"$f":"IF(O14=\"\",\"\",VLOOKUP(O14,②選手情報入力!$AF$10:$AM$49,6,FALSE))","v":""},null,null,7,{"$f":"IF(②選手情報入力!$AS$9<1,\"\",VLOOKUP(T14,②選手情報入力!$AR$10:$AS$49,2,FALSE))","v":""},{"$f":"IF(U14=\"\",\"\",VLOOKUP(U14,②選手情報入力!$AF$10:$AG$49,2,FALSE))","v":""},{"$f":"IF(U14=\"\",\"\",VLOOKUP(U14,②選手情報入力!$AF$10:$AM$49,6,FALSE))","v":""}]
[null,8,{"$f":"IF(②選手情報入力!$AM$9<1,\"\",VLOOKUP(B15,②選手情報入力!$AL$10:$AM$49,2,FALSE))","v":""},{"$f":"IF(C15=\"\",\"\",VLOOKUP(C15,②選手情報入力!$Z$10:$AA$49,2,FALSE))","v":""},{"$f":"IF(C15=\"\",\"\",VLOOKUP(C15,②選手情報入力!$Z$10:$AF$49,6,FALSE))","v":""},null,null,8,{"$f":"IF(②選手情報入力!$AO$9<1,\"\",VLOOKUP(H15,②選手情報入力!$AN$10:$AO$49,2,FALSE))","v":""},{"$f":"IF(I15=\"\",\"\",VLOOKUP(I15,②選手情報入力!$Z$10:$AA$49,2,FALSE))","v":""},{"$f":"IF(I15=\"\",\"\",VLOOKUP(I15,②選手情報入力!$Z$10:$AF$49,6,FALSE))","v":""},null,null,8,{"$f":"IF(②選手情報入力!$AQ$9<1,\"\",VLOOKUP(N15,②選手情報入力!$AP$10:$AQ$49,2,FALSE))","v":""},{"$f":"IF(O15=\"\",\"\",VLOOKUP(O15,②選手情報入力!$AF$10:$AG$49,2,FALSE))","v":""},{"$f":"IF(O15=\"\",\"\",VLOOKUP(O15,②選手情報入力!$AF$10:$AM$49,6,FALSE))","v":""},null,null,8,{"$f":"IF(②選手情報入力!$AS$9<1,\"\",VLOOKUP(T15,②選手情報入力!$AR$10:$AS$49,2,FALSE))","v":""},{"$f":"IF(U15=\"\",\"\",VLOOKUP(U15,②選手情報入力!$AF$10:$AG$49,2,FALSE))","v":""},{"$f":"IF(U15=\"\",\"\",VLOOKUP(U15,②選手情報入力!$AF$10:$AM$49,6,FALSE))","v":""}]
[null,null,null,"申込チーム数",null,{"$f":"IF(②選手情報入力!AM9>=4,1,0)","v":0},null,null,null,"申込チーム数",null,{"$f":"IF(②選手情報入力!AO9>=4,1,0)","v":0},null,null,null,"申込チーム数",null,{"$f":"IF(②選手情報入力!AQ9>=4,1,0)","v":0},null,null,null,"申込チーム数",null,{"$f":"IF(②選手情報入力!AS9>=4,1,0)","v":0}]

{"sheet":"④種目別人数","index":4,"n_rows":24,"n_cols":14,"rows_kept":24,"cut":false,"hidden":false,"merged":[[23,1,23,2],[20,2,20,3],[21,2,21,3],[16,2,16,3],[15,2,15,3],[7,2,7,3],[8,2,8,3],[14,2,14,3],[1,0,1,7],[3,0,3,7],[6,1,6,2],[6,5,6,6],[2,0,2,4],[5,3,5,6],[4,2,4,5],[9,2,9,3],[10,2,10,3],[11,2,11,3],[13,2,13,3],[12,2,12,3]]}
["④種目別人数一覧表",null,"※種目数・参加料等を確認してから印刷をしてください。"]
["　　　帳票印刷ボタンをクリックして印刷を行ってください。↓　　"]
[{"$f":"注意事項!C3","v":"愛知選手権リレー･国体少B･ｼﾞｭﾆｱ記録会"},null,null,null,null,null,{"$f":"IF(①団体情報入力!D3=\"\",\"\",①団体情報入力!D3)","v":""}]
["種目別申込人数一覧表"]
[null,"申込責任者",{"$f":"IF(①団体情報入力!D8=\"\",\"\",①団体情報入力!D8)","v":""},null,null,null,"A4サイズ"]
[null,{"$f":"IF(①団体情報入力!D7=\"\",\"\",①団体情報入力!D7)","v":""},"学校名",{"$f":"IF(①団体情報入力!D5=\"\",\"\",①団体情報入力!D5)","v":""}]
[null,"男　　　子",null,null,"Ver5","Vえｒ"]
[null,"種　　目","申込数",null,null,"種　　　目","申込数",null,null,null,null,"男種目",null,"女種目"]
[null,"少年B男子100m",{"$f":"IF(L9=0,\"\",L9)","v":""},null,null,"少年B女子100m",{"$f":"IF(N9=0,\"\",N9)","v":""},null,null,null,{"$f":"種目情報!A4","v":"少年B男子100m"},{"$f":"COUNTIF(②選手情報入力!$I$10:$O$49,K9)","v":0},{"$f":"種目情報!E4","v":"少年B女子100m"},{"$f":"COUNTIF(②選手情報入力!$I$10:$O$49,M9)","v":0}]
[null,"少年B男子3000m",{"$f":"IF(L10=0,\"\",L10)","v":""},null,null,"少年B女子800m",{"$f":"IF(N10=0,\"\",N10)","v":""},null,null,null,{"$f":"種目情報!A5","v":"少年B男子3000m"},{"$f":"COUNTIF(②選手情報入力!$I$10:$O$49,K10)","v":0},{"$f":"種目情報!E5","v":"少年B女子800m"},{"$f":"COUNTIF(②選手情報入力!$I$10:$O$49,M10)","v":0}]
[null,"少年B男子走幅跳",{"$f":"IF(L12=0,\"\",L12)","v":""},null,null,"少年B女子100mYH(0.762/8.5m)",null,null,null,null,{"$f":"種目情報!A6","v":0},{"$f":"COUNTIF(②選手情報入力!$I$10:$O$49,K11)","v":0},{"$f":"種目情報!E6","v":"少年B女子100mYH(0.762/8.5m)"},{"$f":"COUNTIF(②選手情報入力!$I$10:$O$49,M11)","v":0}]
[null,"少年B男子砲丸投",{"$f":"IF(L13=0,\"\",L13)","v":""},null,null,"少年B女子走幅跳",null,null,null,null,{"$f":"種目情報!A7","v":"少年B男子走幅跳"},{"$f":"COUNTIF(②選手情報入力!$I$10:$O$49,K12)","v":0},{"$f":"種目情報!E7","v":"少年B女子走幅跳"},{"$f":"COUNTIF(②選手情報入力!$I$10:$O$49,M12)","v":0}]
[null,null,{"$f":"IF(L14=0,\"\",L14)","v":""},null,null,"B女子砲丸投(4.000kg)",null,null,null,null,{"$f":"種目情報!A8","v":"少B男砲丸投(5.000kg)"},{"$f":"COUNTIF(②選手情報入力!$I$10:$O$49,K13)","v":0}]
[null,"ABC男子円盤投(1.500kg)",{"$f":"IF(L16=0,\"\",L16)","v":""},null,null,"ABC女子円盤投(1.000kg)",null,null,null,null,null,null,{"$f":"種目情報!E9","v":"ABC女子円盤投(1.000kg)"},{"$f":"COUNTIF(②選手情報入力!$I$10:$O$49,M14)","v":0}]
[null,"BC男子砲丸投(4.000kg)",{"$f":"IF(L17=0,\"\",L17)","v":""},null,null,"A女子砲丸投(4.000kg)",{"$f":"IF(N11=0,\"\",N11)","v":""},null,null,null,{"$f":"種目情報!A10","v":"ABC男子円盤投(1.500kg)"},{"$f":"N11+L11","v":0},{"$f":"種目情報!E10","v":"A女子砲丸投(4.000kg)"},{"$f":"COUNTIF(②選手情報入力!$I$10:$O$49,M15)","v":0}]
[null,"４×１００ｍＲ",{"$f":"IF(③リレー情報確認!F16=0,\"\",③リレー情報確認!F16)","v":""},null,null,"４×１００ｍＲ",{"$f":"IF(③リレー情報確認!R16=0,\"\",③リレー情報確認!R16)","v":""},null,null,null,{"$f":"種目情報!A11","v":"BC男子砲丸投(4.000kg)"},{"$f":"N12+L12","v":0},{"$f":"種目情報!E11","v":0},{"$f":"COUNTIF(②選手情報入力!$I$10:$O$49,M16)","v":0}]
[null,"４×４００ｍＲ",{"$f":"IF(③リレー情報確認!L16=0,\"\",③リレー情報確認!L16)","v":""},null,null,"４×４００ｍＲ",{"$f":"IF(③リレー情報確認!X16=0,\"\",③リレー情報確認!X16)","v":""},null,null,null,{"$f":"種目情報!A12","v":0},{"$f":"COUNTIF(②選手情報入力!$I$10:$O$49,K17)","v":0},{"$f":"種目情報!E12","v":0},{"$f":"COUNTIF(②選手情報入力!$I$10:$O$49,M17)","v":0}]
[null,null,null,null,null,null,null,null,null,null,{"$f":"種目情報!A13","v":0},null,{"$f":"種目情報!E13","v":0},{"$f":"COUNTIF(②選手情報入力!$I$10:$O$49,M18)","v":0}]
[null,null,null,null,null,"参　　加　　料",null,null,null,null,{"$f":"種目情報!A14","v":0},null,{"$f":"種目情報!E14","v":0},{"$f":"COUNTIF(②選手情報入力!$I$10:$O$49,M19)","v":0}]
[null,"種　目　数",null,null,null,"個人種目数×500円",{"$f":"C21*500","v":0}]
[null,"個人種目数",{"$f":"②選手情報入力!G50","v":0},null,null,"リレー参加数✕2000円",{"$f":"C22*2000","v":0}]
[null,"リレー",{"$f":"②選手情報入力!G51","v":0},null,null,"プログラム部数✕1000円",{"$f":"C23*1000","v":0}]
[null,"プログラム購入部数",{"$f":"IF(①団体情報入力!D9=\"\",0,①団体情報入力!D9)","v":0},"部",null,"支払金額",{"$f":"SUM(G20:G22)","v":0}]
[null,{"$f":"TODAY()","v":"2017-06-04"},null,null,null,"振込明細書のコピーを裏面に添付してください"]

{"sheet":"⑤申込一覧表","index":5,"n_rows":52,"n_cols":20,"rows_kept":52,"cut":false,"hidden":false,"merged":[[28,19,28,20],[29,0,29,1],[29,3,29,6],[29,7,29,12],[51,0,51,1],[51,3,51,6],[51,7,51,12],[51,19,51,20],[44,0,44,1],[44,3,44,6],[44,19,44,20],[45,19,45,20],[47,19,47,20],[48,19,48,20],[49,19,49,20],[47,7,47,12],[49,0,49,1],[49,3,49,6],[49,7,49,12],[47,0,47,1],[47,3,47,6],[50,3,50,6],[50,7,50,12],[29,19,29,20],[30,0,30,1],[32,0,32,1],[32,3,32,6],[32,7,32,12],[32,19,32,20],[41,0,41,1],[41,3,41,6],[41,7,41,12],[41,19,41,20],[33,0,33,1],[33,3,33,6],[33,7,33,12],[33,19,33,20],[50,19,50,20],[34,0,34,1],[34,3,34,6],[34,7,34,12],[34,19,34,20],[35,0,35,1],[35,3,35,6],[35,7,35,12],[35,19,35,20],[36,0,36,1],[36,3,36,6],[36,7,36,12],[36,19,36,20],[37,0,37,1],[37,3,37,6],[44,7,44,12],[45,0,45,1],[45,3,45,6],[45,7,45,12],[46,0,46,1],[46,3,46,6],[46,7,46,12],[48,0,48,1],[48,3,48,6],[48,7,48,12],[50,0,50,1],[27,0,27,1],[27,3,27,6],[27,7,27,12],[27,19,27,20],[26,0,26,1],[26,3,26,6],[26,7,26,12],[37,7,37,12],[38,0,38,1],[38,3,38,6],[38,7,38,12],[38,19,38,20],[39,0,39,1],[39,3,39,6],[39,7,39,12],[39,19,39,20],[37,19,37,20],[40,0,40,1],[40,3,40,6],[40,7,40,12],[40,19,40,20],[46,19,46,20],[23,0,23,1],[23,3,23,6],[23,7,23,12],[24,0,24,1],[24,3,24,6],[24,7,24,12],[25,0,25,1],[25,3,25,6],[25,7,25,12],[20,0,20,1],[20,3,20,6],[20,7,20,12],[21,0,21,1],[21,3,21,6],[21,7,21,12],[22,0,22,1],[22,3,22,6],[22,7,22,12],[18,3,18,6],[18,7,18,12],[19,0,19,1],[19,3,19,6],[2,1,2,19],[4,0,5,2],[5,15,6,15],[5,16,6,16],[5,17,6,18],[6,0,7,2],[19,7,19,12],[19,19,19,20],[12,0,12,1],[11,0,11,1],[11,15,11,17],[7,8,7,10],[7,11,7,12],[9,0,9,2],[10,0,10,2],[4,3,5,7],[11,3,11,6],[11,7,11,12],[12,7,12,12],[12,3,12,6],[17,0,17,1],[17,3,17,6],[17,7,17,12],[22,19,22,20],[23,19,23,20],[24,19,24,20],[25,19,25,20],[26,19,26,20],[6,19,7,19],[14,19,14,20],[15,19,15,20],[16,19,16,20],[17,19,17,20],[18,19,18,20],[20,19,20,20],[21,19,21,20],[13,7,13,12],[14,0,14,1],[14,3,14,6],[14,7,14,12],[15,0,15,1],[15,3,15,6],[15,7,15,12],[18,0,18,1],[12,19,12,20],[13,19,13,20],[13,0,13,1],[13,3,13,6],[10,3,10,11],[16,0,16,1],[16,3,16,6],[16,7,16,12],[1,18,1,20],[42,0,42,1],[42,3,42,6],[42,7,42,12],[42,19,42,20],[43,0,43,1],[43,3,43,6],[43,7,43,12],[43,19,43,20],[3,15,4,15],[3,16,4,20],[30,3,30,6],[30,7,30,12],[30,19,30,20],[31,0,31,1],[31,3,31,6],[31,7,31,12],[31,19,31,20],[28,0,28,1],[28,3,28,6],[28,7,28,12],[6,3,7,7],[9,3,9,20],[10,12,10,20],[11,19,11,20]]}
["⑤申込者一覧表"]
[null,null,"Ver5",null,null,null,null,null,null,null,null,null,null,null,null,null,null,null,{"$f":"IF(①団体情報入力!D3=\"\",\"\",①団体情報入力!D3)","v":""}]
[null,{"$f":"注意事項!C3","v":"愛知選手権リレー･国体少B･ｼﾞｭﾆｱ記録会"}]
[null,null,null,null,null,null,null,null,null,null,null,null,null,null,null,"団体名",{"$f":"IF(①団体情報入力!$D$5=\"\",\"\",①団体情報入力!$D$5)","v":""}]
["大会名",null,null,{"$f":"IF(注意事項!$C$3=\"\",\"\",注意事項!$C$3)","v":"愛知選手権リレー･国体少B･ｼﾞｭﾆｱ記録会"}]
[]
["区　分",null,null,"中学"]
[null,null,null,null,null,null,null,null,null,null,null,null,null,null,null,null,null,null,"Ｎｏ．"]
[]
["学校名",null,null,{"$f":"IF(①団体情報入力!D4=\"\",\"\",①団体情報入力!D4)","v":""}]
["申込責任者",null,null,{"$f":"IF(①団体情報入力!D7=\"\",\"\",①団体情報入力!D7)","v":""},null,null,null,null,null,null,null,null,{"$f":"IF(①団体情報入力!D8=\"\",\"\",①団体情報入力!D8)","v":""}]
["Ｎｏ",null,"ナンバー","氏　　　名",null,null,null,null,null,null,null,null,null,"学年","性別","個人出場種目",null,null,"4X100mR","4X400mR"]
[1,null,{"$f":"IF(②選手情報入力!C10=\"\",\"\",②選手情報入力!B10&②選手情報入力!C10)","v":""},{"$f":"IF(②選手情報入力!D10=\"\",\"\",②選手情報入力!D10)","v":""},null,null,null,null,null,null,null,null,null,{"$f":"IF(②選手情報入力!H10=\"\",\"\",②選手情報入力!H10)","v":""},{"$f":"IF(②選手情報入力!G10=\"\",\"\",②選手情報入力!G10)","v":""},{"$f":"IF(②選手情報入力!I10=\"\",\"\",VLOOKUP(②選手情報入力!I10,種目情報!$N$4:$O$51,2,FALSE))","v":""},{"$f":"IF(②選手情報入力!L10=\"\",\"\",VLOOKUP(②選手情報入力!L10,種目情報!$N$4:$O$51,2,FALSE))","v":""},{"$f":"IF(②選手情報入力!N10=\"\",\"\",VLOOKUP(②選手情報入力!N10,種目情報!$N$4:$O$51,2,FALSE))","v":""},{"$f":"IF(②選手情報入力!P10=\"\",\"\",②選手情報入力!P10)","v":"○"},{"$f":"IF(②選手情報入力!Q10=\"\",\"\",②選手情報入力!Q10)","v":"○"}]
[2,null,{"$f":"IF(②選手情報入力!C11=\"\",\"\",②選手情報入力!B11&②選手情報入力!C11)","v":""},{"$f":"IF(②選手情報入力!D11=\"\",\"\",②選手情報入力!D11)","v":""},null,null,null,null,null,null,null,null,null,{"$f":"IF(②選手情報入力!H11=\"\",\"\",②選手情報入力!H11)","v":""},{"$f":"IF(②選手情報入力!G11=\"\",\"\",②選手情報入力!G11)","v":""},{"$f":"IF(②選手情報入力!I11=\"\",\"\",VLOOKUP(②選手情報入力!I11,種目情報!$N$4:$O$51,2,FALSE))","v":""},{"$f":"IF(②選手情報入力!L11=\"\",\"\",VLOOKUP(②選手情報入力!L11,種目情報!$N$4:$O$51,2,FALSE))","v":""},{"$f":"IF(②選手情報入力!N11=\"\",\"\",VLOOKUP(②選手情報入力!N11,種目情報!$N$4:$O$51,2,FALSE))","v":""},{"$f":"IF(②選手情報入力!P11=\"\",\"\",②選手情報入力!P11)","v":""},{"$f":"IF(②選手情報入力!Q11=\"\",\"\",②選手情報入力!Q11)","v":""}]
[3,null,{"$f":"IF(②選手情報入力!C12=\"\",\"\",②選手情報入力!B12&②選手情報入力!C12)","v":""},{"$f":"IF(②選手情報入力!D12=\"\",\"\",②選手情報入力!D12)","v":""},null,null,null,null,null,null,null,null,null,{"$f":"IF(②選手情報入力!H12=\"\",\"\",②選手情報入力!H12)","v":""},{"$f":"IF(②選手情報入力!G12=\"\",\"\",②選手情報入力!G12)","v":""},{"$f":"IF(②選手情報入力!I12=\"\",\"\",VLOOKUP(②選手情報入力!I12,種目情報!$N$4:$O$51,2,FALSE))","v":""},{"$f":"IF(②選手情報入力!L12=\"\",\"\",VLOOKUP(②選手情報入力!L12,種目情報!$N$4:$O$51,2,FALSE))","v":""},{"$f":"IF(②選手情報入力!N12=\"\",\"\",VLOOKUP(②選手情報入力!N12,種目情報!$N$4:$O$51,2,FALSE))","v":""},{"$f":"IF(②選手情報入力!P12=\"\",\"\",②選手情報入力!P12)","v":""},{"$f":"IF(②選手情報入力!Q12=\"\",\"\",②選手情報入力!Q12)","v":""}]
[4,null,{"$f":"IF(②選手情報入力!C13=\"\",\"\",②選手情報入力!B13&②選手情報入力!C13)","v":""},{"$f":"IF(②選手情報入力!D13=\"\",\"\",②選手情報入力!D13)","v":""},null,null,null,null,null,null,null,null,null,{"$f":"IF(②選手情報入力!H13=\"\",\"\",②選手情報入力!H13)","v":""},{"$f":"IF(②選手情報入力!G13=\"\",\"\",②選手情報入力!G13)","v":""},{"$f":"IF(②選手情報入力!I13=\"\",\"\",VLOOKUP(②選手情報入力!I13,種目情報!$N$4:$O$51,2,FALSE))","v":""},{"$f":"IF(②選手情報入力!L13=\"\",\"\",VLOOKUP(②選手情報入力!L13,種目情報!$N$4:$O$51,2,FALSE))","v":""},{"$f":"IF(②選手情報入力!N13=\"\",\"\",VLOOKUP(②選手情報入力!N13,種目情報!$N$4:$O$51,2,FALSE))","v":""},{"$f":"IF(②選手情報入力!P13=\"\",\"\",②選手情報入力!P13)","v":""},{"$f":"IF(②選手情報入力!Q13=\"\",\"\",②選手情報入力!Q13)","v":""}]
[5,null,{"$f":"IF(②選手情報入力!C14=\"\",\"\",②選手情報入力!B14&②選手情報入力!C14)","v":""},{"$f":"IF(②選手情報入力!D14=\"\",\"\",②選手情報入力!D14)","v":""},null,null,null,null,null,null,null,null,null,{"$f":"IF(②選手情報入力!H14=\"\",\"\",②選手情報入力!H14)","v":""},{"$f":"IF(②選手情報入力!G14=\"\",\"\",②選手情報入力!G14)","v":""},{"$f":"IF(②選手情報入力!I14=\"\",\"\",VLOOKUP(②選手情報入力!I14,種目情報!$N$4:$O$51,2,FALSE))","v":""},{"$f":"IF(②選手情報入力!L14=\"\",\"\",VLOOKUP(②選手情報入力!L14,種目情報!$N$4:$O$51,2,FALSE))","v":""},{"$f":"IF(②選手情報入力!N14=\"\",\"\",VLOOKUP(②選手情報入力!N14,種目情報!$N$4:$O$51,2,FALSE))","v":""},{"$f":"IF(②選手情報入力!P14=\"\",\"\",②選手情報入力!P14)","v":""},{"$f":"IF(②選手情報入力!Q14=\"\",\"\",②選手情報入力!Q14)","v":""}]
[6,null,{"$f":"IF(②選手情報入力!C15=\"\",\"\",②選手情報入力!B15&②選手情報入力!C15)","v":""},{"$f":"IF(②選手情報入力!D15=\"\",\"\",②選手情報入力!D15)","v":""},null,null,null,null,null,null,null,null,null,{"$f":"IF(②選手情報入力!H15=\"\",\"\",②選手情報入力!H15)","v":""},{"$f":"IF(②選手情報入力!G15=\"\",\"\",②選手情報入力!G15)","v":""},{"$f":"IF(②選手情報入力!I15=\"\",\"\",VLOOKUP(②選手情報入力!I15,種目情報!$N$4:$O$51,2,FALSE))","v":""},{"$f":"IF(②選手情報入力!L15=\"\",\"\",VLOOKUP(②選手情報入力!L15,種目情報!$N$4:$O$51,2,FALSE))","v":""},{"$f":"IF(②選手情報入力!N15=\"\",\"\",VLOOKUP(②選手情報入力!N15,種目情報!$N$4:$O$51,2,FALSE))","v":""},{"$f":"IF(②選手情報入力!P15=\"\",\"\",②選手情報入力!P15)","v":""},{"$f":"IF(②選手情報入力!Q15=\"\",\"\",②選手情報入力!Q15)","v":""}]
[7,null,{"$f":"IF(②選手情報入力!C16=\"\",\"\",②選手情報入力!B16&②選手情報入力!C16)","v":""},{"$f":"IF(②選手情報入力!D16=\"\",\"\",②選手情報入力!D16)","v":""},null,null,null,null,null,null,null,null,null,{"$f":"IF(②選手情報入力!H16=\"\",\"\",②選手情報入力!H16)","v":""},{"$f":"IF(②選手情報入力!G16=\"\",\"\",②選手情報入力!G16)","v":""},{"$f":"IF(②選手情報入力!I16=\"\",\"\",VLOOKUP(②選手情報入力!I16,種目情報!$N$4:$O$51,2,FALSE))","v":""},{"$f":"IF(②選手情報入力!L16=\"\",\"\",VLOOKUP(②選手情報入力!L16,種目情報!$N$4:$O$51,2,FALSE))","v":""},{"$f":"IF(②選手情報入力!N16=\"\",\"\",VLOOKUP(②選手情報入力!N16,種目情報!$N$4:$O$51,2,FALSE))","v":""},{"$f":"IF(②選手情報入力!P16=\"\",\"\",②選手情報入力!P16)","v":""},{"$f":"IF(②選手情報入力!Q16=\"\",\"\",②選手情報入力!Q16)","v":""}]
[8,null,{"$f":"IF(②選手情報入力!C17=\"\",\"\",②選手情報入力!B17&②選手情報入力!C17)","v":""},{"$f":"IF(②選手情報入力!D17=\"\",\"\",②選手情報入力!D17)","v":""},null,null,null,null,null,null,null,null,null,{"$f":"IF(②選手情報入力!H17=\"\",\"\",②選手情報入力!H17)","v":""},{"$f":"IF(②選手情報入力!G17=\"\",\"\",②選手情報入力!G17)","v":""},{"$f":"IF(②選手情報入力!I17=\"\",\"\",VLOOKUP(②選手情報入力!I17,種目情報!$N$4:$O$51,2,FALSE))","v":""},{"$f":"IF(②選手情報入力!L17=\"\",\"\",VLOOKUP(②選手情報入力!L17,種目情報!$N$4:$O$51,2,FALSE))","v":""},{"$f":"IF(②選手情報入力!N17=\"\",\"\",VLOOKUP(②選手情報入力!N17,種目情報!$N$4:$O$51,2,FALSE))","v":""},{"$f":"IF(②選手情報入力!P17=\"\",\"\",②選手情報入力!P17)","v":""},{"$f":"IF(②選手情報入力!Q17=\"\",\"\",②選手情報入力!Q17)","v":""}]
[9,null,{"$f":"IF(②選手情報入力!C18=\"\",\"\",②選手情報入力!B18&②選手情報入力!C18)","v":""},{"$f":"IF(②選手情報入力!D18=\"\",\"\",②選手情報入力!D18)","v":""},null,null,null,null,null,null,null,null,null,{"$f":"IF(②選手情報入力!H18=\"\",\"\",②選手情報入力!H18)","v":""},{"$f":"IF(②選手情報入力!G18=\"\",\"\",②選手情報入力!G18)","v":""},{"$f":"IF(②選手情報入力!I18=\"\",\"\",VLOOKUP(②選手情報入力!I18,種目情報!$N$4:$O$51,2,FALSE))","v":""},{"$f":"IF(②選手情報入力!L18=\"\",\"\",VLOOKUP(②選手情報入力!L18,種目情報!$N$4:$O$51,2,FALSE))","v":""},{"$f":"IF(②選手情報入力!N18=\"\",\"\",VLOOKUP(②選手情報入力!N18,種目情報!$N$4:$O$51,2,FALSE))","v":""},{"$f":"IF(②選手情報入力!P18=\"\",\"\",②選手情報入力!P18)","v":""},{"$f":"IF(②選手情報入力!Q18=\"\",\"\",②選手情報入力!Q18)","v":""}]
[10,null,{"$f":"IF(②選手情報入力!C19=\"\",\"\",②選手情報入力!B19&②選手情報入力!C19)","v":""},{"$f":"IF(②選手情報入力!D19=\"\",\"\",②選手情報入力!D19)","v":""},null,null,null,null,null,null,null,null,null,{"$f":"IF(②選手情報入力!H19=\"\",\"\",②選手情報入力!H19)","v":""},{"$f":"IF(②選手情報入力!G19=\"\",\"\",②選手情報入力!G19)","v":""},{"$f":"IF(②選手情報入力!I19=\"\",\"\",VLOOKUP(②選手情報入力!I19,種目情報!$N$4:$O$51,2,FALSE))","v":""},{"$f":"IF(②選手情報入力!L19=\"\",\"\",VLOOKUP(②選手情報入力!L19,種目情報!$N$4:$O$51,2,FALSE))","v":""},{"$f":"IF(②選手情報入力!N19=\"\",\"\",VLOOKUP(②選手情報入力!N19,種目情報!$N$4:$O$51,2,FALSE))","v":""},{"$f":"IF(②選手情報入力!P19=\"\",\"\",②選手情報入力!P19)","v":""},{"$f":"IF(②選手情報入力!Q19=\"\",\"\",②選手情報入力!Q19)","v":""}]
[11,null,{"$f":"IF(②選手情報入力!C20=\"\",\"\",②選手情報入力!B20&②選手情報入力!C20)","v":""},{"$f":"IF(②選手情報入力!D20=\"\",\"\",②選手情報入力!D20)","v":""},null,null,null,null,null,null,null,null,null,{"$f":"IF(②選手情報入力!H20=\"\",\"\",②選手情報入力!H20)","v":""},{"$f":"IF(②選手情報入力!G20=\"\",\"\",②選手情報入力!G20)","v":""},{"$f":"IF(②選手情報入力!I20=\"\",\"\",VLOOKUP(②選手情報入力!I20,種目情報!$N$4:$O$51,2,FALSE))","v":""},{"$f":"IF(②選手情報入力!L20=\"\",\"\",VLOOKUP(②選手情報入力!L20,種目情報!$N$4:$O$51,2,FALSE))","v":""},{"$f":"IF(②選手情報入力!N20=\"\",\"\",VLOOKUP(②選手情報入力!N20,種目情報!$N$4:$O$51,2,FALSE))","v":""},{"$f":"IF(②選手情報入力!P20=\"\",\"\",②選手情報入力!P20)","v":""},{"$f":"IF(②選手情報入力!Q20=\"\",\"\",②選手情報入力!Q20)","v":""}]
[12,null,{"$f":"IF(②選手情報入力!C21=\"\",\"\",②選手情報入力!B21&②選手情報入力!C21)","v":""},{"$f":"IF(②選手情報入力!D21=\"\",\"\",②選手情報入力!D21)","v":""},null,null,null,null,null,null,null,null,null,{"$f":"IF(②選手情報入力!H21=\"\",\"\",②選手情報入力!H21)","v":""},{"$f":"IF(②選手情報入力!G21=\"\",\"\",②選手情報入力!G21)","v":""},{"$f":"IF(②選手情報入力!I21=\"\",\"\",VLOOKUP(②選手情報入力!I21,種目情報!$N$4:$O$51,2,FALSE))","v":""},{"$f":"IF(②選手情報入力!L21=\"\",\"\",VLOOKUP(②選手情報入力!L21,種目情報!$N$4:$O$51,2,FALSE))","v":""},{"$f":"IF(②選手情報入力!N21=\"\",\"\",VLOOKUP(②選手情報入力!N21,種目情報!$N$4:$O$51,2,FALSE))","v":""},{"$f":"IF(②選手情報入力!P21=\"\",\"\",②選手情報入力!P21)","v":""},{"$f":"IF(②選手情報入力!Q21=\"\",\"\",②選手情報入力!Q21)","v":""}]
[13,null,{"$f":"IF(②選手情報入力!C22=\"\",\"\",②選手情報入力!B22&②選手情報入力!C22)","v":""},{"$f":"IF(②選手情報入力!D22=\"\",\"\",②選手情報入力!D22)","v":""},null,null,null,null,null,null,null,null,null,{"$f":"IF(②選手情報入力!H22=\"\",\"\",②選手情報入力!H22)","v":""},{"$f":"IF(②選手情報入力!G22=\"\",\"\",②選手情報入力!G22)","v":""},{"$f":"IF(②選手情報入力!I22=\"\",\"\",VLOOKUP(②選手情報入力!I22,種目情報!$N$4:$O$51,2,FALSE))","v":""},{"$f":"IF(②選手情報入力!L22=\"\",\"\",VLOOKUP(②選手情報入力!L22,種目情報!$N$4:$O$51,2,FALSE))","v":""},{"$f":"IF(②選手情報入力!N22=\"\",\"\",VLOOKUP(②選手情報入力!N22,種目情報!$N$4:$O$51,2,FALSE))","v":""},{"$f":"IF(②選手情報入力!P22=\"\",\"\",②選手情報入力!P22)","v":""},{"$f":"IF(②選手情報入力!Q22=\"\",\"\",②選手情報入力!Q22)","v":""}]
[14,null,{"$f":"IF(②選手情報入力!C23=\"\",\"\",②選手情報入力!B23&②選手情報入力!C23)","v":""},{"$f":"IF(②選手情報入力!D23=\"\",\"\",②選手情報入力!D23)","v":""},null,null,null,null,null,null,null,null,null,{"$f":"IF(②選手情報入力!H23=\"\",\"\",②選手情報入力!H23)","v":""},{"$f":"IF(②選手情報入力!G23=\"\",\"\",②選手情報入力!G23)","v":""},{"$f":"IF(②選手情報入力!I23=\"\",\"\",VLOOKUP(②選手情報入力!I23,種目情報!$N$4:$O$51,2,FALSE))","v":""},{"$f":"IF(②選手情報入力!L23=\"\",\"\",VLOOKUP(②選手情報入力!L23,種目情報!$N$4:$O$51,2,FALSE))","v":""},{"$f":"IF(②選手情報入力!N23=\"\",\"\",VLOOKUP(②選手情報入力!N23,種目情報!$N$4:$O$51,2,FALSE))","v":""},{"$f":"IF(②選手情報入力!P23=\"\",\"\",②選手情報入力!P23)","v":""},{"$f":"IF(②選手情報入力!Q23=\"\",\"\",②選手情報入力!Q23)","v":""}]
[15,null,{"$f":"IF(②選手情報入力!C24=\"\",\"\",②選手情報入力!B24&②選手情報入力!C24)","v":""},{"$f":"IF(②選手情報入力!D24=\"\",\"\",②選手情報入力!D24)","v":""},null,null,null,null,null,null,null,null,null,{"$f":"IF(②選手情報入力!H24=\"\",\"\",②選手情報入力!H24)","v":""},{"$f":"IF(②選手情報入力!G24=\"\",\"\",②選手情報入力!G24)","v":""},{"$f":"IF(②選手情報入力!I24=\"\",\"\",VLOOKUP(②選手情報入力!I24,種目情報!$N$4:$O$51,2,FALSE))","v":""},{"$f":"IF(②選手情報入力!L24=\"\",\"\",VLOOKUP(②選手情報入力!L24,種目情報!$N$4:$O$51,2,FALSE))","v":""},{"$f":"IF(②選手情報入力!N24=\"\",\"\",VLOOKUP(②選手情報入力!N24,種目情報!$N$4:$O$51,2,FALSE))","v":""},{"$f":"IF(②選手情報入力!P24=\"\",\"\",②選手情報入力!P24)","v":""},{"$f":"IF(②選手情報入力!Q24=\"\",\"\",②選手情報入力!Q24)","v":""}]
[16,null,{"$f":"IF(②選手情報入力!C25=\"\",\"\",②選手情報入力!B25&②選手情報入力!C25)","v":""},{"$f":"IF(②選手情報入力!D25=\"\",\"\",②選手情報入力!D25)","v":""},null,null,null,null,null,null,null,null,null,{"$f":"IF(②選手情報入力!H25=\"\",\"\",②選手情報入力!H25)","v":""},{"$f":"IF(②選手情報入力!G25=\"\",\"\",②選手情報入力!G25)","v":""},{"$f":"IF(②選手情報入力!I25=\"\",\"\",VLOOKUP(②選手情報入力!I25,種目情報!$N$4:$O$51,2,FALSE))","v":""},{"$f":"IF(②選手情報入力!L25=\"\",\"\",VLOOKUP(②選手情報入力!L25,種目情報!$N$4:$O$51,2,FALSE))","v":""},{"$f":"IF(②選手情報入力!N25=\"\",\"\",VLOOKUP(②選手情報入力!N25,種目情報!$N$4:$O$51,2,FALSE))","v":""},{"$f":"IF(②選手情報入力!P25=\"\",\"\",②選手情報入力!P25)","v":""},{"$f":"IF(②選手情報入力!Q25=\"\",\"\",②選手情報入力!Q25)","v":""}]
[17,null,{"$f":"IF(②選手情報入力!C26=\"\",\"\",②選手情報入力!B26&②選手情報入力!C26)","v":""},{"$f":"IF(②選手情報入力!D26=\"\",\"\",②選手情報入力!D26)","v":""},null,null,null,null,null,null,null,null,null,{"$f":"IF(②選手情報入力!H26=\"\",\"\",②選手情報入力!H26)","v":""},{"$f":"IF(②選手情報入力!G26=\"\",\"\",②選手情報入力!G26)","v":""},{"$f":"IF(②選手情報入力!I26=\"\",\"\",VLOOKUP(②選手情報入力!I26,種目情報!$N$4:$O$51,2,FALSE))","v":""},{"$f":"IF(②選手情報入力!L26=\"\",\"\",VLOOKUP(②選手情報入力!L26,種目情報!$N$4:$O$51,2,FALSE))","v":""},{"$f":"IF(②選手情報入力!N26=\"\",\"\",VLOOKUP(②選手情報入力!N26,種目情報!$N$4:$O$51,2,FALSE))","v":""},{"$f":"IF(②選手情報入力!P26=\"\",\"\",②選手情報入力!P26)","v":""},{"$f":"IF(②選手情報入力!Q26=\"\",\"\",②選手情報入力!Q26)","v":""}]
[18,null,{"$f":"IF(②選手情報入力!C27=\"\",\"\",②選手情報入力!B27&②選手情報入力!C27)","v":""},{"$f":"IF(②選手情報入力!D27=\"\",\"\",②選手情報入力!D27)","v":""},null,null,null,null,null,null,null,null,null,{"$f":"IF(②選手情報入力!H27=\"\",\"\",②選手情報入力!H27)","v":""},{"$f":"IF(②選手情報入力!G27=\"\",\"\",②選手情報入力!G27)","v":""},{"$f":"IF(②選手情報入力!I27=\"\",\"\",VLOOKUP(②選手情報入力!I27,種目情報!$N$4:$O$51,2,FALSE))","v":""},{"$f":"IF(②選手情報入力!L27=\"\",\"\",VLOOKUP(②選手情報入力!L27,種目情報!$N$4:$O$51,2,FALSE))","v":""},{"$f":"IF(②選手情報入力!N27=\"\",\"\",VLOOKUP(②選手情報入力!N27,種目情報!$N$4:$O$51,2,FALSE))","v":""},{"$f":"IF(②選手情報入力!P27=\"\",\"\",②選手情報入力!P27)","v":""},{"$f":"IF(②選手情報入力!Q27=\"\",\"\",②選手情報入力!Q27)","v":""}]
[19,null,{"$f":"IF(②選手情報入力!C28=\"\",\"\",②選手情報入力!B28&②選手情報入力!C28)","v":""},{"$f":"IF(②選手情報入力!D28=\"\",\"\",②選手情報入力!D28)","v":""},null,null,null,null,null,null,null,null,null,{"$f":"IF(②選手情報入力!H28=\"\",\"\",②選手情報入力!H28)","v":""},{"$f":"IF(②選手情報入力!G28=\"\",\"\",②選手情報入力!G28)","v":""},{"$f":"IF(②選手情報入力!I28=\"\",\"\",VLOOKUP(②選手情報入力!I28,種目情報!$N$4:$O$51,2,FALSE))","v":""},{"$f":"IF(②選手情報入力!L28=\"\",\"\",VLOOKUP(②選手情報入力!L28,種目情報!$N$4:$O$51,2,FALSE))","v":""},{"$f":"IF(②選手情報入力!N28=\"\",\"\",VLOOKUP(②選手情報入力!N28,種目情報!$N$4:$O$51,2,FALSE))","v":""},{"$f":"IF(②選手情報入力!P28=\"\",\"\",②選手情報入力!P28)","v":""},{"$f":"IF(②選手情報入力!Q28=\"\",\"\",②選手情報入力!Q28)","v":""}]
[20,null,{"$f":"IF(②選手情報入力!C29=\"\",\"\",②選手情報入力!B29&②選手情報入力!C29)","v":""},{"$f":"IF(②選手情報入力!D29=\"\",\"\",②選手情報入力!D29)","v":""},null,null,null,null,null,null,null,null,null,{"$f":"IF(②選手情報入力!H29=\"\",\"\",②選手情報入力!H29)","v":""},{"$f":"IF(②選手情報入力!G29=\"\",\"\",②選手情報入力!G29)","v":""},{"$f":"IF(②選手情報入力!I29=\"\",\"\",VLOOKUP(②選手情報入力!I29,種目情報!$N$4:$O$51,2,FALSE))","v":""},{"$f":"IF(②選手情報入力!L29=\"\",\"\",VLOOKUP(②選手情報入力!L29,種目情報!$N$4:$O$51,2,FALSE))","v":""},{"$f":"IF(②選手情報入力!N29=\"\",\"\",VLOOKUP(②選手情報入力!N29,種目情報!$N$4:$O$51,2,FALSE))","v":""},{"$f":"IF(②選手情報入力!P29=\"\",\"\",②選手情報入力!P29)","v":""},{"$f":"IF(②選手情報入力!Q29=\"\",\"\",②選手情報入力!Q29)","v":""}]
[21,null,{"$f":"IF(②選手情報入力!C30=\"\",\"\",②選手情報入力!B30&②選手情報入力!C30)","v":""},{"$f":"IF(②選手情報入力!D30=\"\",\"\",②選手情報入力!D30)","v":""},null,null,null,null,null,null,null,null,null,{"$f":"IF(②選手情報入力!H30=\"\",\"\",②選手情報入力!H30)","v":""},{"$f":"IF(②選手情報入力!G30=\"\",\"\",②選手情報入力!G30)","v":""},{"$f":"IF(②選手情報入力!I30=\"\",\"\",VLOOKUP(②選手情報入力!I30,種目情報!$N$4:$O$51,2,FALSE))","v":""},{"$f":"IF(②選手情報入力!L30=\"\",\"\",VLOOKUP(②選手情報入力!L30,種目情報!$N$4:$O$51,2,FALSE))","v":""},{"$f":"IF(②選手情報入力!N30=\"\",\"\",VLOOKUP(②選手情報入力!N30,種目情報!$N$4:$O$51,2,FALSE))","v":""},{"$f":"IF(②選手情報入力!P30=\"\",\"\",②選手情報入力!P30)","v":""},{"$f":"IF(②選手情報入力!Q30=\"\",\"\",②選手情報入力!Q30)","v":""}]
[22,null,{"$f":"IF(②選手情報入力!C31=\"\",\"\",②選手情報入力!B31&②選手情報入力!C31)","v":""},{"$f":"IF(②選手情報入力!D31=\"\",\"\",②選手情報入力!D31)","v":""},null,null,null,null,null,null,null,null,null,{"$f":"IF(②選手情報入力!H31=\"\",\"\",②選手情報入力!H31)","v":""},{"$f":"IF(②選手情報入力!G31=\"\",\"\",②選手情報入力!G31)","v":""},{"$f":"IF(②選手情報入力!I31=\"\",\"\",VLOOKUP(②選手情報入力!I31,種目情報!$N$4:$O$51,2,FALSE))","v":""},{"$f":"IF(②選手情報入力!L31=\"\",\"\",VLOOKUP(②選手情報入力!L31,種目情報!$N$4:$O$51,2,FALSE))","v":""},{"$f":"IF(②選手情報入力!N31=\"\",\"\",VLOOKUP(②選手情報入力!N31,種目情報!$N$4:$O$51,2,FALSE))","v":""},{"$f":"IF(②選手情報入力!P31=\"\",\"\",②選手情報入力!P31)","v":""},{"$f":"IF(②選手情報入力!Q31=\"\",\"\",②選手情報入力!Q31)","v":""}]
[23,null,{"$f":"IF(②選手情報入力!C32=\"\",\"\",②選手情報入力!B32&②選手情報入力!C32)","v":""},{"$f":"IF(②選手情報入力!D32=\"\",\"\",②選手情報入力!D32)","v":""},null,null,null,null,null,null,null,null,null,{"$f":"IF(②選手情報入力!H32=\"\",\"\",②選手情報入力!H32)","v":""},{"$f":"IF(②選手情報入力!G32=\"\",\"\",②選手情報入力!G32)","v":""},{"$f":"IF(②選手情報入力!I32=\"\",\"\",VLOOKUP(②選手情報入力!I32,種目情報!$N$4:$O$51,2,FALSE))","v":""},{"$f":"IF(②選手情報入力!L32=\"\",\"\",VLOOKUP(②選手情報入力!L32,種目情報!$N$4:$O$51,2,FALSE))","v":""},{"$f":"IF(②選手情報入力!N32=\"\",\"\",VLOOKUP(②選手情報入力!N32,種目情報!$N$4:$O$51,2,FALSE))","v":""},{"$f":"IF(②選手情報入力!P32=\"\",\"\",②選手情報入力!P32)","v":""},{"$f":"IF(②選手情報入力!Q32=\"\",\"\",②選手情報入力!Q32)","v":""}]
[24,null,{"$f":"IF(②選手情報入力!C33=\"\",\"\",②選手情報入力!B33&②選手情報入力!C33)","v":""},{"$f":"IF(②選手情報入力!D33=\"\",\"\",②選手情報入力!D33)","v":""},null,null,null,null,null,null,null,null,null,{"$f":"IF(②選手情報入力!H33=\"\",\"\",②選手情報入力!H33)","v":""},{"$f":"IF(②選手情報入力!G33=\"\",\"\",②選手情報入力!G33)","v":""},{"$f":"IF(②選手情報入力!I33=\"\",\"\",VLOOKUP(②選手情報入力!I33,種目情報!$N$4:$O$51,2,FALSE))","v":""},{"$f":"IF(②選手情報入力!L33=\"\",\"\",VLOOKUP(②選手情報入力!L33,種目情報!$N$4:$O$51,2,FALSE))","v":""},{"$f":"IF(②選手情報入力!N33=\"\",\"\",VLOOKUP(②選手情報入力!N33,種目情報!$N$4:$O$51,2,FALSE))","v":""},{"$f":"IF(②選手情報入力!P33=\"\",\"\",②選手情報入力!P33)","v":""},{"$f":"IF(②選手情報入力!Q33=\"\",\"\",②選手情報入力!Q33)","v":""}]
[25,null,{"$f":"IF(②選手情報入力!C34=\"\",\"\",②選手情報入力!B34&②選手情報入力!C34)","v":""},{"$f":"IF(②選手情報入力!D34=\"\",\"\",②選手情報入力!D34)","v":""},null,null,null,null,null,null,null,null,null,{"$f":"IF(②選手情報入力!H34=\"\",\"\",②選手情報入力!H34)","v":""},{"$f":"IF(②選手情報入力!G34=\"\",\"\",②選手情報入力!G34)","v":""},{"$f":"IF(②選手情報入力!I34=\"\",\"\",VLOOKUP(②選手情報入力!I34,種目情報!$N$4:$O$51,2,FALSE))","v":""},{"$f":"IF(②選手情報入力!L34=\"\",\"\",VLOOKUP(②選手情報入力!L34,種目情報!$N$4:$O$51,2,FALSE))","v":""},{"$f":"IF(②選手情報入力!N34=\"\",\"\",VLOOKUP(②選手情報入力!N34,種目情報!$N$4:$O$51,2,FALSE))","v":""},{"$f":"IF(②選手情報入力!P34=\"\",\"\",②選手情報入力!P34)","v":""},{"$f":"IF(②選手情報入力!Q34=\"\",\"\",②選手情報入力!Q34)","v":""}]
[26,null,{"$f":"IF(②選手情報入力!C35=\"\",\"\",②選手情報入力!B35&②選手情報入力!C35)","v":""},{"$f":"IF(②選手情報入力!D35=\"\",\"\",②選手情報入力!D35)","v":""},null,null,null,null,null,null,null,null,null,{"$f":"IF(②選手情報入力!H35=\"\",\"\",②選手情報入力!H35)","v":""},{"$f":"IF(②選手情報入力!G35=\"\",\"\",②選手情報入力!G35)","v":""},{"$f":"IF(②選手情報入力!I35=\"\",\"\",VLOOKUP(②選手情報入力!I35,種目情報!$N$4:$O$51,2,FALSE))","v":""},{"$f":"IF(②選手情報入力!L35=\"\",\"\",VLOOKUP(②選手情報入力!L35,種目情報!$N$4:$O$51,2,FALSE))","v":""},{"$f":"IF(②選手情報入力!N35=\"\",\"\",VLOOKUP(②選手情報入力!N35,種目情報!$N$4:$O$51,2,FALSE))","v":""},{"$f":"IF(②選手情報入力!P35=\"\",\"\",②選手情報入力!P35)","v":""},{"$f":"IF(②選手情報入力!Q35=\"\",\"\",②選手情報入力!Q35)","v":""}]
[27,null,{"$f":"IF(②選手情報入力!C36=\"\",\"\",②選手情報入力!B36&②選手情報入力!C36)","v":""},{"$f":"IF(②選手情報入力!D36=\"\",\"\",②選手情報入力!D36)","v":""},null,null,null,null,null,null,null,null,null,{"$f":"IF(②選手情報入力!H36=\"\",\"\",②選手情報入力!H36)","v":""},{"$f":"IF(②選手情報入力!G36=\"\",\"\",②選手情報入力!G36)","v":""},{"$f":"IF(②選手情報入力!I36=\"\",\"\",VLOOKUP(②選手情報入力!I36,種目情報!$N$4:$O$51,2,FALSE))","v":""},{"$f":"IF(②選手情報入力!L36=\"\",\"\",VLOOKUP(②選手情報入力!L36,種目情報!$N$4:$O$51,2,FALSE))","v":""},{"$f":"IF(②選手情報入力!N36=\"\",\"\",VLOOKUP(②選手情報入力!N36,種目情報!$N$4:$O$51,2,FALSE))","v":""},{"$f":"IF(②選手情報入力!P36=\"\",\"\",②選手情報入力!P36)","v":""},{"$f":"IF(②選手情報入力!Q36=\"\",\"\",②選手情報入力!Q36)","v":""}]
[28,null,{"$f":"IF(②選手情報入力!C37=\"\",\"\",②選手情報入力!B37&②選手情報入力!C37)","v":""},{"$f":"IF(②選手情報入力!D37=\"\",\"\",②選手情報入力!D37)","v":""},null,null,null,null,null,null,null,null,null,{"$f":"IF(②選手情報入力!H37=\"\",\"\",②選手情報入力!H37)","v":""},{"$f":"IF(②選手情報入力!G37=\"\",\"\",②選手情報入力!G37)","v":""},{"$f":"IF(②選手情報入力!I37=\"\",\"\",VLOOKUP(②選手情報入力!I37,種目情報!$N$4:$O$51,2,FALSE))","v":""},{"$f":"IF(②選手情報入力!L37=\"\",\"\",VLOOKUP(②選手情報入力!L37,種目情報!$N$4:$O$51,2,FALSE))","v":""},{"$f":"IF(②選手情報入力!N37=\"\",\"\",VLOOKUP(②選手情報入力!N37,種目情報!$N$4:$O$51,2,FALSE))","v":""},{"$f":"IF(②選手情報入力!P37=\"\",\"\",②選手情報入力!P37)","v":""},{"$f":"IF(②選手情報入力!Q37=\"\",\"\",②選手情報入力!Q37)","v":""}]
[29,null,{"$f":"IF(②選手情報入力!C38=\"\",\"\",②選手情報入力!B38&②選手情報入力!C38)","v":""},{"$f":"IF(②選手情報入力!D38=\"\",\"\",②選手情報入力!D38)","v":""},null,null,null,null,null,null,null,null,null,{"$f":"IF(②選手情報入力!H38=\"\",\"\",②選手情報入力!H38)","v":""},{"$f":"IF(②選手情報入力!G38=\"\",\"\",②選手情報入力!G38)","v":""},{"$f":"IF(②選手情報入力!I38=\"\",\"\",VLOOKUP(②選手情報入力!I38,種目情報!$N$4:$O$51,2,FALSE))","v":""},{"$f":"IF(②選手情報入力!L38=\"\",\"\",VLOOKUP(②選手情報入力!L38,種目情報!$N$4:$O$51,2,FALSE))","v":""},{"$f":"IF(②選手情報入力!N38=\"\",\"\",VLOOKUP(②選手情報入力!N38,種目情報!$N$4:$O$51,2,FALSE))","v":""},{"$f":"IF(②選手情報入力!P38=\"\",\"\",②選手情報入力!P38)","v":""},{"$f":"IF(②選手情報入力!Q38=\"\",\"\",②選手情報入力!Q38)","v":""}]
[30,null,{"$f":"IF(②選手情報入力!C39=\"\",\"\",②選手情報入力!B39&②選手情報入力!C39)","v":""},{"$f":"IF(②選手情報入力!D39=\"\",\"\",②選手情報入力!D39)","v":""},null,null,null,null,null,null,null,null,null,{"$f":"IF(②選手情報入力!H39=\"\",\"\",②選手情報入力!H39)","v":""},{"$f":"IF(②選手情報入力!G39=\"\",\"\",②選手情報入力!G39)","v":""},{"$f":"IF(②選手情報入力!I39=\"\",\"\",VLOOKUP(②選手情報入力!I39,種目情報!$N$4:$O$51,2,FALSE))","v":""},{"$f":"IF(②選手情報入力!L39=\"\",\"\",VLOOKUP(②選手情報入力!L39,種目情報!$N$4:$O$51,2,FALSE))","v":""},{"$f":"IF(②選手情報入力!N39=\"\",\"\",VLOOKUP(②選手情報入力!N39,種目情報!$N$4:$O$51,2,FALSE))","v":""},{"$f":"IF(②選手情報入力!P39=\"\",\"\",②選手情報入力!P39)","v":""},{"$f":"IF(②選手情報入力!Q39=\"\",\"\",②選手情報入力!Q39)","v":""}]
[31,null,{"$f":"IF(②選手情報入力!C40=\"\",\"\",②選手情報入力!B40&②選手情報入力!C40)","v":""},{"$f":"IF(②選手情報入力!D40=\"\",\"\",②選手情報入力!D40)","v":""},null,null,null,null,null,null,null,null,null,{"$f":"IF(②選手情報入力!H40=\"\",\"\",②選手情報入力!H40)","v":""},{"$f":"IF(②選手情報入力!G40=\"\",\"\",②選手情報入力!G40)","v":""},{"$f":"IF(②選手情報入力!I40=\"\",\"\",VLOOKUP(②選手情報入力!I40,種目情報!$N$4:$O$51,2,FALSE))","v":""},{"$f":"IF(②選手情報入力!L40=\"\",\"\",VLOOKUP(②選手情報入力!L40,種目情報!$N$4:$O$51,2,FALSE))","v":""},{"$f":"IF(②選手情報入力!N40=\"\",\"\",VLOOKUP(②選手情報入力!N40,種目情報!$N$4:$O$51,2,FALSE))","v":""},{"$f":"IF(②選手情報入力!P40=\"\",\"\",②選手情報入力!P40)","v":""},{"$f":"IF(②選手情報入力!Q40=\"\",\"\",②選手情報入力!Q40)","v":""}]
[32,null,{"$f":"IF(②選手情報入力!C41=\"\",\"\",②選手情報入力!B41&②選手情報入力!C41)","v":""},{"$f":"IF(②選手情報入力!D41=\"\",\"\",②選手情報入力!D41)","v":""},null,null,null,null,null,null,null,null,null,{"$f":"IF(②選手情報入力!H41=\"\",\"\",②選手情報入力!H41)","v":""},{"$f":"IF(②選手情報入力!G41=\"\",\"\",②選手情報入力!G41)","v":""},{"$f":"IF(②選手情報入力!I41=\"\",\"\",VLOOKUP(②選手情報入力!I41,種目情報!$N$4:$O$51,2,FALSE))","v":""},{"$f":"IF(②選手情報入力!L41=\"\",\"\",VLOOKUP(②選手情報入力!L41,種目情報!$N$4:$O$51,2,FALSE))","v":""},{"$f":"IF(②選手情報入力!N41=\"\",\"\",VLOOKUP(②選手情報入力!N41,種目情報!$N$4:$O$51,2,FALSE))","v":""},{"$f":"IF(②選手情報入力!P41=\"\",\"\",②選手情報入力!P41)","v":""},{"$f":"IF(②選手情報入力!Q41=\"\",\"\",②選手情報入力!Q41)","v":""}]
[33,null,{"$f":"IF(②選手情報入力!C42=\"\",\"\",②選手情報入力!B42&②選手情報入力!C42)","v":""},{"$f":"IF(②選手情報入力!D42=\"\",\"\",②選手情報入力!D42)","v":""},null,null,null,null,null,null,null,null,null,{"$f":"IF(②選手情報入力!H42=\"\",\"\",②選手情報入力!H42)","v":""},{"$f":"IF(②選手情報入力!G42=\"\",\"\",②選手情報入力!G42)","v":""},{"$f":"IF(②選手情報入力!I42=\"\",\"\",VLOOKUP(②選手情報入力!I42,種目情報!$N$4:$O$51,2,FALSE))","v":""},{"$f":"IF(②選手情報入力!L42=\"\",\"\",VLOOKUP(②選手情報入力!L42,種目情報!$N$4:$O$51,2,FALSE))","v":""},{"$f":"IF(②選手情報入力!N42=\"\",\"\",VLOOKUP(②選手情報入力!N42,種目情報!$N$4:$O$51,2,FALSE))","v":""},{"$f":"IF(②選手情報入力!P42=\"\",\"\",②選手情報入力!P42)","v":""},{"$f":"IF(②選手情報入力!Q42=\"\",\"\",②選手情報入力!Q42)","v":""}]
[34,null,{"$f":"IF(②選手情報入力!C43=\"\",\"\",②選手情報入力!B43&②選手情報入力!C43)","v":""},{"$f":"IF(②選手情報入力!D43=\"\",\"\",②選手情報入力!D43)","v":""},null,null,null,null,null,null,null,null,null,{"$f":"IF(②選手情報入力!H43=\"\",\"\",②選手情報入力!H43)","v":""},{"$f":"IF(②選手情報入力!G43=\"\",\"\",②選手情報入力!G43)","v":""},{"$f":"IF(②選手情報入力!I43=\"\",\"\",VLOOKUP(②選手情報入力!I43,種目情報!$N$4:$O$51,2,FALSE))","v":""},{"$f":"IF(②選手情報入力!L43=\"\",\"\",VLOOKUP(②選手情報入力!L43,種目情報!$N$4:$O$51,2,FALSE))","v":""},{"$f":"IF(②選手情報入力!N43=\"\",\"\",VLOOKUP(②選手情報入力!N43,種目情報!$N$4:$O$51,2,FALSE))","v":""},{"$f":"IF(②選手情報入力!P43=\"\",\"\",②選手情報入力!P43)","v":""},{"$f":"IF(②選手情報入力!Q43=\"\",\"\",②選手情報入力!Q43)","v":""}]
[35,null,{"$f":"IF(②選手情報入力!C44=\"\",\"\",②選手情報入力!B44&②選手情報入力!C44)","v":""},{"$f":"IF(②選手情報入力!D44=\"\",\"\",②選手情報入力!D44)","v":""},null,null,null,null,null,null,null,null,null,{"$f":"IF(②選手情報入力!H44=\"\",\"\",②選手情報入力!H44)","v":""},{"$f":"IF(②選手情報入力!G44=\"\",\"\",②選手情報入力!G44)","v":""},{"$f":"IF(②選手情報入力!I44=\"\",\"\",VLOOKUP(②選手情報入力!I44,種目情報!$N$4:$O$51,2,FALSE))","v":""},{"$f":"IF(②選手情報入力!L44=\"\",\"\",VLOOKUP(②選手情報入力!L44,種目情報!$N$4:$O$51,2,FALSE))","v":""},{"$f":"IF(②選手情報入力!N44=\"\",\"\",VLOOKUP(②選手情報入力!N44,種目情報!$N$4:$O$51,2,FALSE))","v":""},{"$f":"IF(②選手情報入力!P44=\"\",\"\",②選手情報入力!P44)","v":""},{"$f":"IF(②選手情報入力!Q44=\"\",\"\",②選手情報入力!Q44)","v":""}]
[36,null,{"$f":"IF(②選手情報入力!C45=\"\",\"\",②選手情報入力!B45&②選手情報入力!C45)","v":""},{"$f":"IF(②選手情報入力!D45=\"\",\"\",②選手情報入力!D45)","v":""},null,null,null,null,null,null,null,null,null,{"$f":"IF(②選手情報入力!H45=\"\",\"\",②選手情報入力!H45)","v":""},{"$f":"IF(②選手情報入力!G45=\"\",\"\",②選手情報入力!G45)","v":""},{"$f":"IF(②選手情報入力!I45=\"\",\"\",VLOOKUP(②選手情報入力!I45,種目情報!$N$4:$O$51,2,FALSE))","v":""},{"$f":"IF(②選手情報入力!L45=\"\",\"\",VLOOKUP(②選手情報入力!L45,種目情報!$N$4:$O$51,2,FALSE))","v":""},{"$f":"IF(②選手情報入力!N45=\"\",\"\",VLOOKUP(②選手情報入力!N45,種目情報!$N$4:$O$51,2,FALSE))","v":""},{"$f":"IF(②選手情報入力!P45=\"\",\"\",②選手情報入力!P45)","v":""},{"$f":"IF(②選手情報入力!Q45=\"\",\"\",②選手情報入力!Q45)","v":""}]
[37,null,{"$f":"IF(②選手情報入力!C46=\"\",\"\",②選手情報入力!B46&②選手情報入力!C46)","v":""},{"$f":"IF(②選手情報入力!D46=\"\",\"\",②選手情報入力!D46)","v":""},null,null,null,null,null,null,null,null,null,{"$f":"IF(②選手情報入力!H46=\"\",\"\",②選手情報入力!H46)","v":""},{"$f":"IF(②選手情報入力!G46=\"\",\"\",②選手情報入力!G46)","v":""},{"$f":"IF(②選手情報入力!I46=\"\",\"\",VLOOKUP(②選手情報入力!I46,種目情報!$N$4:$O$51,2,FALSE))","v":""},{"$f":"IF(②選手情報入力!L46=\"\",\"\",VLOOKUP(②選手情報入力!L46,種目情報!$N$4:$O$51,2,FALSE))","v":""},{"$f":"IF(②選手情報入力!N46=\"\",\"\",VLOOKUP(②選手情報入力!N46,種目情報!$N$4:$O$51,2,FALSE))","v":""},{"$f":"IF(②選手情報入力!P46=\"\",\"\",②選手情報入力!P46)","v":""},{"$f":"IF(②選手情報入力!Q46=\"\",\"\",②選手情報入力!Q46)","v":""}]
[38,null,{"$f":"IF(②選手情報入力!C47=\"\",\"\",②選手情報入力!B47&②選手情報入力!C47)","v":""},{"$f":"IF(②選手情報入力!D47=\"\",\"\",②選手情報入力!D47)","v":""},null,null,null,null,null,null,null,null,null,{"$f":"IF(②選手情報入力!H47=\"\",\"\",②選手情報入力!H47)","v":""},{"$f":"IF(②選手情報入力!G47=\"\",\"\",②選手情報入力!G47)","v":""},{"$f":"IF(②選手情報入力!I47=\"\",\"\",VLOOKUP(②選手情報入力!I47,種目情報!$N$4:$O$51,2,FALSE))","v":""},{"$f":"IF(②選手情報入力!L47=\"\",\"\",VLOOKUP(②選手情報入力!L47,種目情報!$N$4:$O$51,2,FALSE))","v":""},{"$f":"IF(②選手情報入力!N47=\"\",\"\",VLOOKUP(②選手情報入力!N47,種目情報!$N$4:$O$51,2,FALSE))","v":""},{"$f":"IF(②選手情報入力!P47=\"\",\"\",②選手情報入力!P47)","v":""},{"$f":"IF(②選手情報入力!Q47=\"\",\"\",②選手情報入力!Q47)","v":""}]
[39,null,{"$f":"IF(②選手情報入力!C48=\"\",\"\",②選手情報入力!B48&②選手情報入力!C48)","v":""},{"$f":"IF(②選手情報入力!D48=\"\",\"\",②選手情報入力!D48)","v":""},null,null,null,null,null,null,null,null,null,{"$f":"IF(②選手情報入力!H48=\"\",\"\",②選手情報入力!H48)","v":""},{"$f":"IF(②選手情報入力!G48=\"\",\"\",②選手情報入力!G48)","v":""},{"$f":"IF(②選手情報入力!I48=\"\",\"\",VLOOKUP(②選手情報入力!I48,種目情報!$N$4:$O$51,2,FALSE))","v":""},{"$f":"IF(②選手情報入力!L48=\"\",\"\",VLOOKUP(②選手情報入力!L48,種目情報!$N$4:$O$51,2,FALSE))","v":""},{"$f":"IF(②選手情報入力!N48=\"\",\"\",VLOOKUP(②選手情報入力!N48,種目情報!$N$4:$O$51,2,FALSE))","v":""},{"$f":"IF(②選手情報入力!P48=\"\",\"\",②選手情報入力!P48)","v":""},{"$f":"IF(②選手情報入力!Q48=\"\",\"\",②選手情報入力!Q48)","v":""}]
[40,null,{"$f":"IF(②選手情報入力!C49=\"\",\"\",②選手情報入力!B49&②選手情報入力!C49)","v":""},{"$f":"IF(②選手情報入力!D49=\"\",\"\",②選手情報入力!D49)","v":""},null,null,null,null,null,null,null,null,null,{"$f":"IF(②選手情報入力!H49=\"\",\"\",②選手情報入力!H49)","v":""},{"$f":"IF(②選手情報入力!G49=\"\",\"\",②選手情報入力!G49)","v":""},{"$f":"IF(②選手情報入力!I49=\"\",\"\",VLOOKUP(②選手情報入力!I49,種目情報!$N$4:$O$51,2,FALSE))","v":""},{"$f":"IF(②選手情報入力!L49=\"\",\"\",VLOOKUP(②選手情報入力!L49,種目情報!$N$4:$O$51,2,FALSE))","v":""},{"$f":"IF(②選手情報入力!N49=\"\",\"\",VLOOKUP(②選手情報入力!N49,種目情報!$N$4:$O$51,2,FALSE))","v":""},{"$f":"IF(②選手情報入力!P49=\"\",\"\",②選手情報入力!P49)","v":""},{"$f":"IF(②選手情報入力!Q49=\"\",\"\",②選手情報入力!Q49)","v":""}]

{"sheet":"個票","index":6,"n_rows":848,"n_cols":28,"rows_kept":848,"cut":false,"hidden":false,"merged":[[412,0,415,0],[412,1,412,4],[412,5,412,6],[412,7,412,10],[412,13,415,13],[412,14,412,17],[412,18,412,19],[412,20,412,23],[413,1,415,4],[413,14,415,17],[414,21,415,22],[414,23,415,23],[414,5,415,5],[414,6,415,7],[414,8,415,9],[414,10,415,10],[414,18,415,18],[414,19,415,20],[394,1,395,4],[394,5,395,5],[394,6,395,7],[394,8,395,9],[394,10,395,10],[394,14,395,17],[394,18,395,18],[394,19,395,20],[394,21,395,22],[394,23,395,23],[404,0,404,10],[404,13,404,23],[406,1,406,2],[406,3,408,6],[406,14,406,15],[406,16,408,19],[407,1,408,2],[407,7,411,10],[407,14,408,15],[407,20,411,23],[409,3,409,6],[409,16,409,19],[410,0,411,1],[410,2,411,2],[410,3,411,6],[410,13,411,14],[410,15,411,15],[410,16,411,19],[390,0,393,0],[390,1,390,4],[390,5,390,6],[390,7,390,10],[390,13,393,13],[390,14,390,17],[390,18,390,19],[390,20,390,23],[391,1,393,4],[391,14,393,17],[392,5,393,5],[392,6,393,7],[392,8,393,9],[392,10,393,10],[392,18,393,18],[392,19,393,20],[392,21,393,22],[392,23,393,23],[373,1,374,4],[373,5,374,5],[373,6,374,7],[373,8,374,9],[373,10,374,10],[373,14,374,17],[373,18,374,18],[373,19,374,20],[373,21,374,22],[373,23,374,23],[382,0,382,10],[382,13,382,23],[384,1,384,2],[384,3,386,6],[384,14,384,15],[384,16,386,19],[385,1,386,2],[385,7,389,10],[385,14,386,15],[385,20,389,23],[387,3,387,6],[387,16,387,19],[388,0,389,1],[388,2,389,2],[388,3,389,6],[388,13,389,14],[388,15,389,15],[388,16,389,19],[369,0,372,0],[369,1,369,4],[369,5,369,6],[369,7,369,10],[369,13,372,13],[369,14,369,17],[369,18,369,19],[369,20,369,23],[370,1,372,4],[370,14,372,17],[371,5,372,5],[371,6,372,7],[371,8,372,9],[371,10,372,10],[371,18,372,18],[371,19,372,20],[371,21,372,22],[371,23,372,23],[352,1,353,4],[352,5,353,5],[352,6,353,7],[352,8,353,9],[352,10,353,10],[352,14,353,17],[352,18,353,18],[352,19,353,20],[352,21,353,22],[352,23,353,23],[361,0,361,10],[361,13,361,23],[363,1,363,2],[363,3,365,6],[363,14,363,15],[363,16,365,19],[364,1,365,2],[364,7,368,10],[364,14,365,15],[364,20,368,23],[366,3,366,6],[366,16,366,19],[367,0,368,1],[367,2,368,2],[367,3,368,6],[367,13,368,14],[367,15,368,15],[367,16,368,19],[348,0,351,0],[348,1,348,4],[348,5,348,6],[348,7,348,10],[348,13,351,13],[348,14,348,17],[348,18,348,19],[348,20,348,23],[349,1,351,4],[349,14,351,17],[350,5,351,5],[350,6,351,7],[350,8,351,9],[350,10,351,10],[350,18,351,18],[350,19,351,20],[350,21,351,22],[350,23,351,23],[331,1,332,4],[331,5,332,5],[331,6,332,7],[331,8,332,9],[331,10,332,10],[331,14,332,17],[331,18,332,18],[331,19,332,20],[331,21,332,22],[331,23,332,23],[340,0,340,10],[340,13,340,23],[342,1,342,2],[342,3,344,6],[342,14,342,15],[342,16,344,19],[343,1,344,2],[343,7,347,10],[343,14,344,15],[343,20,347,23],[345,3,345,6],[345,16,345,19],[346,0,347,1],[346,2,347,2],[346,3,347,6],[346,13,347,14],[346,15,347,15],[346,16,347,19],[327,0,330,0],[327,1,327,4],[327,5,327,6],[327,7,327,10],[327,13,330,13],[327,14,327,17],[327,18,327,19],[327,20,327,23],[328,1,330,4],[328,14,330,17],[329,5,330,5],[329,6,330,7],[329,8,330,9],[329,10,330,10],[329,18,330,18],[329,19,330,20],[329,21,330,22],[329,23,330,23],[309,1,310,4],[309,5,310,5],[309,6,310,7],[309,8,310,9],[309,10,310,10],[309,14,310,17],[309,18,310,18],[309,19,310,20],[309,21,310,22],[309,23,310,23],[319,0,319,10],[319,13,319,23],[321,1,321,2],[321,3,323,6],[321,14,321,15],[321,16,323,19],[322,1,323,2],[322,7,326,10],[322,14,323,15],[322,20,326,23],[324,3,324,6],[324,16,324,19],[325,0,326,1],[325,2,326,2],[325,3,326,6],[325,13,326,14],[325,15,326,15],[325,16,326,19],[305,0,308,0],[305,1,305,4],[305,5,305,6],[305,7,305,10],[305,13,308,13],[305,14,305,17],[300,14,301,15],[300,20,304,23],[302,3,302,6],[302,16,302,19],[303,0,304,1],[303,2,304,2],[303,3,304,6],[303,13,304,14],[303,15,304,15],[303,16,304,19],[305,18,305,19],[305,20,305,23],[306,1,308,4],[306,14,308,17],[307,5,308,5],[307,6,308,7],[307,8,308,9],[307,10,308,10],[307,18,308,18],[307,19,308,20],[307,21,308,22],[307,23,308,23],[288,1,289,4],[288,5,289,5],[288,6,289,7],[288,8,289,9],[288,10,289,10],[288,14,289,17],[288,18,289,18],[288,19,289,20],[288,21,289,22],[288,23,289,23],[297,0,297,10],[297,13,297,23],[299,1,299,2],[299,14,299,15],[300,1,301,2],[300,7,304,10],[299,3,301,6],[299,16,301,19],[284,0,287,0],[284,1,284,4],[284,5,284,6],[284,7,284,10],[284,13,287,13],[284,14,284,17],[279,14,280,15],[279,20,283,23],[281,3,281,6],[281,16,281,19],[282,0,283,1],[282,2,283,2],[282,3,283,6],[282,13,283,14],[282,15,283,15],[282,16,283,19],[284,18,284,19],[284,20,284,23],[285,1,287,4],[285,14,287,17],[286,5,287,5],[286,6,287,7],[286,8,287,9],[286,10,287,10],[286,18,287,18],[286,19,287,20],[286,21,287,22],[286,23,287,23],[267,1,268,4],[267,5,268,5],[267,6,268,7],[267,8,268,9],[267,10,268,10],[267,14,268,17],[267,18,268,18],[267,19,268,20],[267,21,268,22],[267,23,268,23],[276,0,276,10],[276,13,276,23],[278,1,278,2],[278,14,278,15],[279,1,280,2],[279,7,283,10],[278,3,280,6],[278,16,280,19],[263,0,266,0],[263,1,263,4],[263,5,263,6],[263,7,263,10],[263,13,266,13],[263,14,263,17],[263,18,263,19],[263,20,263,23],[264,1,266,4],[264,14,266,17],[265,5,266,5],[265,6,266,7],[265,8,266,9],[265,10,266,10],[265,18,266,18],[265,19,266,20],[265,21,266,22],[265,23,266,23],[245,1,246,4],[245,5,246,5],[245,6,246,7],[245,8,246,9],[245,10,246,10],[245,14,246,17],[245,18,246,18],[245,19,246,20],[245,21,246,22],[245,23,246,23],[255,0,255,10],[255,13,255,23],[257,1,257,2],[257,3,259,6],[257,14,257,15],[257,16,259,19],[258,1,259,2],[258,7,262,10],[258,14,259,15],[258,20,262,23],[260,3,260,6],[260,16,260,19],[261,0,262,1],[261,2,262,2],[261,3,262,6],[261,13,262,14],[261,15,262,15],[261,16,262,19],[241,0,244,0],[241,1,241,4],[241,5,241,6],[241,7,241,10],[241,13,244,13],[241,14,241,17],[236,14,237,15],[236,20,240,23],[238,3,238,6],[238,16,238,19],[239,0,240,1],[239,2,240,2],[239,3,240,6],[239,13,240,14],[239,15,240,15],[239,16,240,19],[241,18,241,19],[241,20,241,23],[242,1,244,4],[242,14,244,17],[243,5,244,5],[243,6,244,7],[243,8,244,9],[243,10,244,10],[243,18,244,18],[243,19,244,20],[243,21,244,22],[243,23,244,23],[224,1,225,4],[224,5,225,5],[224,6,225,7],[224,8,225,9],[224,10,225,10],[224,14,225,17],[224,18,225,18],[224,19,225,20],[224,21,225,22],[224,23,225,23],[233,0,233,10],[233,13,233,23],[235,1,235,2],[235,14,235,15],[236,1,237,2],[236,7,240,10],[235,3,237,6],[235,16,237,19],[220,0,223,0],[220,1,220,4],[220,5,220,6],[220,7,220,10],[220,13,223,13],[220,14,220,17],[215,14,216,15],[215,20,219,23],[217,3,217,6],[217,16,217,19],[218,0,219,1],[218,2,219,2],[218,3,219,6],[218,13,219,14],[218,15,219,15],[218,16,219,19],[220,18,220,19],[220,20,220,23],[221,1,223,4],[221,14,223,17],[222,5,223,5],[222,6,223,7],[222,8,223,9],[222,10,223,10],[222,18,223,18],[222,19,223,20],[222,21,223,22],[222,23,223,23],[203,1,204,4],[203,5,204,5],[203,6,204,7],[203,8,204,9],[203,10,204,10],[203,14,204,17],[203,18,204,18],[203,19,204,20],[203,21,204,22],[203,23,204,23],[212,0,212,10],[212,13,212,23],[214,1,214,2],[214,14,214,15],[215,1,216,2],[215,7,219,10],[214,3,216,6],[214,16,216,19],[199,0,202,0],[199,1,199,4],[199,5,199,6],[199,7,199,10],[199,13,202,13],[199,14,199,17],[194,14,195,15],[194,20,198,23],[196,3,196,6],[196,16,196,19],[197,0,198,1],[197,2,198,2],[197,3,198,6],[197,13,198,14],[197,15,198,15],[197,16,198,19],[199,18,199,19],[199,20,199,23],[200,1,202,4],[200,14,202,17],[201,5,202,5],[201,6,202,7],[201,8,202,9],[201,10,202,10],[201,18,202,18],[201,19,202,20],[201,21,202,22],[201,23,202,23],[182,1,183,4],[182,5,183,5],[182,6,183,7],[182,8,183,9],[182,10,183,10],[182,14,183,17],[182,18,183,18],[182,19,183,20],[182,21,183,22],[182,23,183,23],[191,0,191,10],[191,13,191,23],[193,1,193,2],[193,14,193,15],[194,1,195,2],[194,7,198,10],[193,3,195,6],[193,16,195,19],[178,0,181,0],[178,1,178,4],[178,5,178,6],[178,7,178,10],[178,13,181,13],[178,14,178,17],[173,20,177,23],[175,3,175,6],[175,16,175,19],[176,0,177,1],[176,2,177,2],[176,3,177,6],[176,13,177,14],[176,15,177,15],[176,16,177,19],[178,18,178,19],[178,20,178,23],[179,1,181,4],[179,14,181,17],[180,5,181,5],[180,6,181,7],[180,8,181,9],[180,10,181,10],[180,18,181,18],[180,19,181,20],[180,21,181,22],[180,23,181,23],[170,0,170,10],[170,13,170,23],[154,16,155,19],[156,13,159,13],[156,14,156,17],[156,18,156,19],[156,20,156,23],[157,14,159,17],[158,18,159,18],[158,19,159,20],[158,21,159,22],[158,23,159,23],[156,0,159,0],[172,1,172,2],[172,14,172,15],[173,1,174,2],[173,7,177,10],[173,14,174,15],[160,14,161,17],[160,18,161,18],[172,3,174,6],[172,16,174,19],[160,1,161,4],[160,5,161,5],[160,6,161,7],[160,8,161,9],[160,10,161,10],[154,3,155,6],[156,1,156,4],[156,5,156,6],[156,7,156,10],[157,1,159,4],[158,5,159,5],[158,6,159,7],[158,8,159,9],[158,10,159,10],[160,19,161,20],[160,21,161,22],[160,23,161,23],[139,1,140,4],[139,5,140,5],[139,6,140,7],[139,8,140,9],[139,10,140,10],[139,14,140,17],[139,18,140,18],[139,19,140,20],[139,21,140,22],[139,23,140,23],[148,0,148,10],[150,1,150,2],[151,1,152,2],[151,7,155,10],[153,3,153,6],[154,0,155,1],[154,2,155,2],[150,3,152,6],[150,16,152,19],[148,13,148,23],[150,14,150,15],[151,14,152,15],[151,20,155,23],[153,16,153,19],[154,13,155,14],[154,15,155,15],[135,0,138,0],[135,1,135,4],[135,5,135,6],[135,7,135,10],[135,13,138,13],[135,14,135,17],[130,14,131,15],[130,20,134,23],[132,3,132,6],[132,16,132,19],[133,0,134,1],[133,2,134,2],[133,3,134,6],[133,13,134,14],[133,15,134,15],[133,16,134,19],[135,18,135,19],[135,20,135,23],[136,1,138,4],[136,14,138,17],[137,5,138,5],[137,6,138,7],[137,8,138,9],[137,10,138,10],[137,18,138,18],[137,19,138,20],[137,21,138,22],[137,23,138,23],[118,1,119,4],[118,5,119,5],[118,6,119,7],[118,8,119,9],[118,10,119,10],[118,14,119,17],[118,18,119,18],[118,19,119,20],[118,21,119,22],[118,23,119,23],[127,0,127,10],[127,13,127,23],[129,1,129,2],[129,14,129,15],[130,1,131,2],[130,7,134,10],[129,3,131,6],[129,16,131,19],[114,0,117,0],[114,1,114,4],[114,5,114,6],[114,7,114,10],[114,13,117,13],[114,14,114,17],[109,14,110,15],[109,20,113,23],[111,3,111,6],[111,16,111,19],[112,0,113,1],[112,2,113,2],[112,3,113,6],[112,13,113,14],[112,15,113,15],[112,16,113,19],[114,18,114,19],[114,20,114,23],[115,1,117,4],[115,14,117,17],[116,5,117,5],[116,6,117,7],[116,8,117,9],[116,10,117,10],[116,18,117,18],[116,19,117,20],[116,21,117,22],[116,23,117,23],[96,1,97,4],[96,5,97,5],[96,6,97,7],[96,8,97,9],[96,10,97,10],[96,14,97,17],[96,18,97,18],[96,19,97,20],[96,21,97,22],[96,23,97,23],[106,0,106,10],[106,13,106,23],[108,1,108,2],[108,14,108,15],[109,1,110,2],[109,7,113,10],[108,3,110,6],[108,16,110,19],[92,0,95,0],[92,1,92,4],[92,5,92,6],[92,7,92,10],[92,13,95,13],[92,14,92,17],[87,14,88,15],[87,20,91,23],[89,3,89,6],[89,16,89,19],[90,0,91,1],[90,2,91,2],[90,3,91,6],[90,13,91,14],[90,15,91,15],[90,16,91,19],[92,18,92,19],[92,20,92,23],[93,1,95,4],[93,14,95,17],[94,5,95,5],[94,6,95,7],[94,8,95,9],[94,10,95,10],[94,18,95,18],[94,19,95,20],[94,21,95,22],[94,23,95,23],[75,1,76,4],[75,5,76,5],[75,6,76,7],[75,8,76,9],[75,10,76,10],[75,14,76,17],[75,18,76,18],[75,19,76,20],[75,21,76,22],[75,23,76,23],[84,0,84,10],[84,13,84,23],[86,1,86,2],[86,14,86,15],[87,1,88,2],[87,7,91,10],[86,3,88,6],[86,16,88,19],[71,0,74,0],[71,1,71,4],[71,5,71,6],[71,7,71,10],[71,13,74,13],[71,14,71,17],[66,14,67,15],[66,20,70,23],[68,3,68,6],[68,16,68,19],[69,0,70,1],[69,2,70,2],[69,3,70,6],[69,13,70,14],[69,15,70,15],[69,16,70,19],[71,18,71,19],[71,20,71,23],[72,1,74,4],[72,14,74,17],[73,5,74,5],[73,6,74,7],[73,8,74,9],[73,10,74,10],[73,18,74,18],[73,19,74,20],[73,21,74,22],[73,23,74,23],[54,1,55,4],[54,5,55,5],[54,6,55,7],[54,8,55,9],[54,10,55,10],[54,14,55,17],[54,18,55,18],[54,19,55,20],[54,21,55,22],[54,23,55,23],[63,0,63,10],[63,13,63,23],[65,1,65,2],[65,14,65,15],[66,1,67,2],[66,7,70,10],[65,3,67,6],[65,16,67,19],[50,0,53,0],[50,1,50,4],[50,5,50,6],[50,7,50,10],[50,13,53,13],[50,14,50,17],[45,14,46,15],[45,20,49,23],[47,3,47,6],[47,16,47,19],[48,0,49,1],[48,2,49,2],[48,3,49,6],[48,13,49,14],[48,15,49,15],[48,16,49,19],[50,18,50,19],[50,20,50,23],[51,1,53,4],[51,14,53,17],[52,5,53,5],[52,6,53,7],[52,8,53,9],[52,10,53,10],[52,18,53,18],[52,19,53,20],[52,21,53,22],[52,23,53,23],[33,1,34,4],[33,5,34,5],[33,6,34,7],[33,8,34,9],[33,10,34,10],[33,14,34,17],[33,18,34,18],[33,19,34,20],[33,21,34,22],[33,23,34,23],[42,0,42,10],[42,13,42,23],[44,1,44,2],[44,14,44,15],[45,1,46,2],[45,7,49,10],[44,3,46,6],[44,16,46,19],[24,1,25,2],[24,7,28,10],[23,3,25,6],[23,16,25,19],[29,0,32,0],[29,1,29,4],[29,5,29,6],[29,7,29,10],[29,13,32,13],[29,14,29,17],[24,14,25,15],[24,20,28,23],[26,3,26,6],[26,16,26,19],[27,0,28,1],[27,2,28,2],[27,3,28,6],[27,13,28,14],[27,15,28,15],[27,16,28,19],[29,18,29,19],[29,20,29,23],[30,1,32,4],[30,14,32,17],[31,5,32,5],[31,6,32,7],[31,8,32,9],[31,10,32,10],[31,18,32,18],[31,19,32,20],[31,21,32,22],[31,23,32,23],[10,18,11,18],[10,19,11,20],[10,21,11,22],[10,23,11,23],[12,1,13,4],[12,5,13,5],[12,6,13,7],[12,8,13,9],[12,10,13,10],[12,14,13,17],[12,18,13,18],[12,19,13,20],[12,21,13,22],[12,23,13,23],[21,0,21,10],[21,13,21,23],[23,1,23,2],[23,14,23,15],[0,0,0,10],[0,13,0,23],[2,1,2,2],[2,14,2,15],[3,1,4,2],[3,7,7,10],[3,14,4,15],[3,20,7,23],[2,3,4,6],[2,16,4,19],[8,0,11,0],[8,1,8,4],[8,5,8,6],[8,7,8,10],[8,13,11,13],[8,14,8,17],[5,3,5,6],[5,16,5,19],[6,0,7,1],[6,2,7,2],[6,3,7,6],[6,13,7,14],[6,15,7,15],[6,16,7,19],[8,18,8,19],[8,20,8,23],[9,1,11,4],[9,14,11,17],[10,5,11,5],[10,6,11,7],[10,8,11,9],[10,10,11,10],[416,23,417,23],[425,0,425,10],[425,13,425,23],[427,1,427,2],[427,3,429,6],[427,14,427,15],[427,16,429,19],[428,1,429,2],[428,7,432,10],[428,14,429,15],[428,20,432,23],[430,3,430,6],[430,16,430,19],[431,0,432,1],[431,2,432,2],[431,3,432,6],[431,13,432,14],[431,15,432,15],[431,16,432,19],[416,1,417,4],[416,5,417,5],[416,6,417,7],[416,8,417,9],[416,10,417,10],[416,14,417,17],[416,18,417,18],[416,19,417,20],[416,21,417,22],[433,0,436,0],[433,1,433,4],[433,5,433,6],[433,7,433,10],[433,13,436,13],[433,14,433,17],[433,18,433,19],[433,20,433,23],[434,1,436,4],[434,14,436,17],[435,5,436,5],[435,6,436,7],[435,8,436,9],[435,10,436,10],[435,18,436,18],[435,19,436,20],[435,21,436,22],[435,23,436,23],[437,23,438,23],[446,0,446,10],[446,13,446,23],[448,1,448,2],[448,3,450,6],[448,14,448,15],[448,16,450,19],[449,1,450,2],[449,7,453,10],[449,14,450,15],[449,20,453,23],[451,3,451,6],[451,16,451,19],[452,0,453,1],[452,2,453,2],[452,3,453,6],[452,13,453,14],[452,15,453,15],[452,16,453,19],[437,1,438,4],[437,5,438,5],[437,6,438,7],[437,8,438,9],[437,10,438,10],[437,14,438,17],[437,18,438,18],[437,19,438,20],[437,21,438,22],[454,0,457,0],[454,1,454,4],[454,5,454,6],[454,7,454,10],[454,13,457,13],[454,14,454,17],[454,18,454,19],[454,20,454,23],[455,1,457,4],[455,14,457,17],[456,5,457,5],[456,6,457,7],[456,8,457,9],[456,10,457,10],[456,18,457,18],[456,19,457,20]],"merged_total":1840,"flags":["merged_cut"]}
["愛知選手権リレー･国体少B･ｼﾞｭﾆｱ記録会 個人申込票",null,null,null,null,null,null,null,null,null,null,1,null,"愛知選手権リレー･国体少B･ｼﾞｭﾆｱ記録会 個人申込票",null,null,null,null,null,null,null,null,null,null,1]
[null,null,null,"",null,null,null,null,null,"資格審査用",null,null,null,null,null,null,"",null,null,null,null,null,"資格審査用",null,null,null,null,"資格"]
[null,"性　　別",null,{"$f":"IF(②選手情報入力!I10=\"\",\"\",②選手情報入力!I10)","v":""},null,null,null,"出場資格条件（選択)",null,null,null,null,null,null,"性　　別",null,{"$f":"IF(②選手情報入力!L10=\"\",\"\",②選手情報入力!L10)","v":""},null,null,null,"出場資格条件（選択)",null,null,null,null,null,null," １ 前年度選手権者"]
["種  目",{"$f":"IF(②選手情報入力!$G$10=\"\",\"\",②選手情報入力!$G$10)","v":""},null,null,null,null,null,null,null,null,null,null,null,"種  目",{"$f":"IF(②選手情報入力!$G$10=\"\",\"\",②選手情報入力!$G$10)","v":""},null,null,null,null,null,null,null,null,null,null,null,null," ２ 各支部予選通過"]
[null,null,null,null,null,null,null,null,null,null,null,null,null,null,null,null,null,null,null,null,null,null,null,null,null,null,null," ３ 中部実業団･東海学生入賞"]
["ナンバー",null,"ﾌ ﾘ ｶﾞﾅ",{"$f":"IF(②選手情報入力!$E$10=\"\",\"\",②選手情報入力!$E$10)","v":""},null,null,null,null,null,null,null,null,null,"ナンバー",null,"ﾌ ﾘ ｶﾞﾅ",{"$f":"IF(②選手情報入力!$E$10=\"\",\"\",②選手情報入力!$E$10)","v":""},null,null,null,null,null,null,null,null,null,null," ４ 県高校総体８位"]
[{"$f":"IF(②選手情報入力!$C$10=\"\",\"\",②選手情報入力!$C$10)","v":""},null,"氏 名",{"$f":"IF(②選手情報入力!$D$10=\"\",\"\",②選手情報入力!$D$10)","v":""},null,null,null,null,null,null,null,null,null,{"$f":"IF(②選手情報入力!$C$10=\"\",\"\",②選手情報入力!$C$10)","v":""},null,"氏 名",{"$f":"IF(②選手情報入力!$D$10=\"\",\"\",②選手情報入力!$D$10)","v":""},null,null,null,null,null,null,null,null,null,null," ５ 前年度10傑"]
[null,null,null,null,null,null,null,null,null,null,null,null,null,null,null,null,null,null,null,null,null,null,null,null,null,null,null," ６ 標準記録突破"]
["出場資格\n取得大会","大　会　名",null,null,null,"加入団体名",null,"中京大学",null,null,null,null,null,"出場資格\n取得大会","大　会　名",null,null,null,"加入団体名",null,"中京大学",null,null,null,null,null,null," ７ 推薦"]
[null,null,null,null,null,"年.月.日","順 位",null,"記　録",null,"場  所",null,null,null,null,null,null,null,"年.月.日","順 位",null,"記　録",null,"場  所"]
[null,null,null,null,null,null,null,null,{"$f":"IF(②選手情報入力!J10=\"\",\"\",②選手情報入力!J10)","v":""},null,null,null,null,null,null,null,null,null,null,null,null,{"$f":"IF(②選手情報入力!M10=\"\",\"\",②選手情報入力!M10)","v":""}]
[]
["本 年 度",null,null,null,null,null,null,null,{"$f":"IF(②選手情報入力!K10=\"\",\"\",②選手情報入力!K10)","v":""},null,null,null,null,"本 年 度",null,null,null,null,null,null,null,{"$f":"IF(②選手情報入力!N10=\"\",\"\",②選手情報入力!N10)","v":""}]
["最高記録",null,null,null,null,null,null,null,null,null,null,null,null,"最高記録"]
["備　  考","※記入不要",null,null,null,null,null,null,null,null,null,null,null,"備　  考","※記入不要"]
[]
["※標準記録突破大会は、公認大会で、記録会は正式名称を記入。",null,null,null,null,null,null,null,null,null,"女子",null,null,"※標準記録突破大会は、公認大会で、記録会は正式名称を記入。",null,null,null,null,null,null,null,null,null,"女子"]
["※参加資格・記録等記入不備の場合、審査の対象としない。",null,null,null,null,null,null,null,null,null,"ここを",null,null,"※参加資格・記録等記入不備の場合、審査の対象としない。",null,null,null,null,null,null,null,null,null,"ここを"]
["※申込締切期日厳守。",null,null,null,null,null,null,null,null,null,"切り取る",null,null,"※申込締切期日厳守。",null,null,null,null,null,null,null,null,null,"切り取る"]
[]
[]
["愛知選手権リレー･国体少B･ｼﾞｭﾆｱ記録会 個人申込票",null,null,null,null,null,null,null,null,null,null,3,null,"愛知選手権リレー･国体少B･ｼﾞｭﾆｱ記録会 個人申込票",null,null,null,null,null,null,null,null,null,null,4]
[null,null,null,"",null,null,null,null,null,"資格審査用",null,null,null,null,null,null,"",null,null,null,null,null,"資格審査用"]
[null,"性　　別",null,{"$f":"IF(②選手情報入力!I11=\"\",\"\",②選手情報入力!I11)","v":""},null,null,null,"出場資格条件（選択)",null,null,null,null,null,null,"性　　別",null,{"$f":"IF(②選手情報入力!L11=\"\",\"\",②選手情報入力!L11)","v":""},null,null,null,"出場資格条件（選択)"]
["種  目",{"$f":"IF(②選手情報入力!$G$11=\"\",\"\",②選手情報入力!$G$11)","v":""},null,null,null,null,null,null,null,null,null,null,null,"種  目",{"$f":"IF(②選手情報入力!$G$11=\"\",\"\",②選手情報入力!$G$11)","v":""}]
[]
["ナンバー",null,"ﾌ ﾘ ｶﾞﾅ",{"$f":"IF(②選手情報入力!$E$11=\"\",\"\",②選手情報入力!$E$11)","v":""},null,null,null,null,null,null,null,null,null,"ナンバー",null,"ﾌ ﾘ ｶﾞﾅ",{"$f":"IF(②選手情報入力!$E$11=\"\",\"\",②選手情報入力!$E$11)","v":""}]
[{"$f":"IF(②選手情報入力!$C$11=\"\",\"\",②選手情報入力!$C$11)","v":""},null,"氏 名",{"$f":"IF(②選手情報入力!$D$11=\"\",\"\",②選手情報入力!$D$11)","v":""},null,null,null,null,null,null,null,null,null,{"$f":"IF(②選手情報入力!$C$11=\"\",\"\",②選手情報入力!$C$11)","v":""},null,"氏 名",{"$f":"IF(②選手情報入力!$D$11=\"\",\"\",②選手情報入力!$D$11)","v":""}]
[]
["出場資格\n取得大会","大　会　名",null,null,null,"加入団体名",null,"中京大学",null,null,null,null,null,"出場資格\n取得大会","大　会　名",null,null,null,"加入団体名",null,"中京大学"]
[null,null,null,null,null,"年.月.日","順 位",null,"記　録",null,"場  所",null,null,null,null,null,null,null,"年.月.日","順 位",null,"記　録",null,"場  所"]
[null,null,null,null,null,null,null,null,{"$f":"IF(②選手情報入力!J11=\"\",\"\",②選手情報入力!J11)","v":""},null,null,null,null,null,null,null,null,null,null,null,null,{"$f":"IF(②選手情報入力!M11=\"\",\"\",②選手情報入力!M11)","v":""}]
[]
["本 年 度",null,null,null,null,null,null,null,{"$f":"IF(②選手情報入力!K11=\"\",\"\",②選手情報入力!K11)","v":""},null,null,null,null,"本 年 度",null,null,null,null,null,null,null,{"$f":"IF(②選手情報入力!N11=\"\",\"\",②選手情報入力!N11)","v":""}]
["最高記録",null,null,null,null,null,null,null,null,null,null,null,null,"最高記録"]
["備　  考","※記入不要",null,null,null,null,null,null,null,null,null,null,null,"備　  考","※記入不要"]
[]
["※標準記録突破大会は、公認大会で、記録会は正式名称を記入。",null,null,null,null,null,null,null,null,null,"女子",null,null,"※標準記録突破大会は、公認大会で、記録会は正式名称を記入。",null,null,null,null,null,null,null,null,null,"女子"]
["※参加資格・記録等記入不備の場合、審査の対象としない。",null,null,null,null,null,null,null,null,null,"ここを",null,null,"※参加資格・記録等記入不備の場合、審査の対象としない。",null,null,null,null,null,null,null,null,null,"ここを"]
["※申込締切期日厳守。",null,null,null,null,null,null,null,null,null,"切り取る",null,null,"※申込締切期日厳守。",null,null,null,null,null,null,null,null,null,"切り取る"]
[]
[]
["愛知選手権リレー･国体少B･ｼﾞｭﾆｱ記録会 個人申込票",null,null,null,null,null,null,null,null,null,null,5,null,"愛知選手権リレー･国体少B･ｼﾞｭﾆｱ記録会 個人申込票",null,null,null,null,null,null,null,null,null,null,6]
[null,null,null,"",null,null,null,null,null,"資格審査用",null,null,null,null,null,null,"",null,null,null,null,null,"資格審査用"]
[null,"性　　別",null,{"$f":"IF(②選手情報入力!I12=\"\",\"\",②選手情報入力!I12)","v":""},null,null,null,"出場資格条件（選択)",null,null,null,null,null,null,"性　　別",null,{"$f":"IF(②選手情報入力!L12=\"\",\"\",②選手情報入力!L12)","v":""},null,null,null,"出場資格条件（選択)"]
["種  目",{"$f":"IF(②選手情報入力!$G$12=\"\",\"\",②選手情報入力!$G$12)","v":""},null,null,null,null,null,null,null,null,null,null,null,"種  目",{"$f":"IF(②選手情報入力!$G$12=\"\",\"\",②選手情報入力!$G$12)","v":""}]
[]
["ナンバー",null,"ﾌ ﾘ ｶﾞﾅ",{"$f":"IF(②選手情報入力!$E$12=\"\",\"\",②選手情報入力!$E$12)","v":""},null,null,null,null,null,null,null,null,null,"ナンバー",null,"ﾌ ﾘ ｶﾞﾅ",{"$f":"IF(②選手情報入力!$E$12=\"\",\"\",②選手情報入力!$E$12)","v":""}]
[{"$f":"IF(②選手情報入力!$C$12=\"\",\"\",②選手情報入力!$C$12)","v":""},null,"氏 名",{"$f":"IF(②選手情報入力!$D$12=\"\",\"\",②選手情報入力!$D$12)","v":""},null,null,null,null,null,null,null,null,null,{"$f":"IF(②選手情報入力!$C$12=\"\",\"\",②選手情報入力!$C$12)","v":""},null,"氏 名",{"$f":"IF(②選手情報入力!$D$12=\"\",\"\",②選手情報入力!$D$12)","v":""}]
[]
["出場資格\n取得大会","大　会　名",null,null,null,"加入団体名",null,"中京大学",null,null,null,null,null,"出場資格\n取得大会","大　会　名",null,null,null,"加入団体名",null,"中京大学"]
[null,null,null,null,null,"年.月.日","順 位",null,"記　録",null,"場  所",null,null,null,null,null,null,null,"年.月.日","順 位",null,"記　録",null,"場  所"]
[null,null,null,null,null,null,null,null,{"$f":"IF(②選手情報入力!J12=\"\",\"\",②選手情報入力!J12)","v":""},null,null,null,null,null,null,null,null,null,null,null,null,{"$f":"IF(②選手情報入力!M12=\"\",\"\",②選手情報入力!M12)","v":""}]
[]
["本 年 度",null,null,null,null,null,null,null,{"$f":"IF(②選手情報入力!K12=\"\",\"\",②選手情報入力!K12)","v":""},null,null,null,null,"本 年 度",null,null,null,null,null,null,null,{"$f":"IF(②選手情報入力!N12=\"\",\"\",②選手情報入力!N12)","v":""}]
["最高記録",null,null,null,null,null,null,null,null,null,null,null,null,"最高記録"]
["備　  考","※記入不要",null,null,null,null,null,null,null,null,null,null,null,"備　  考","※記入不要"]
[]
["※標準記録突破大会は、公認大会で、記録会は正式名称を記入。",null,null,null,null,null,null,null,null,null,"女子",null,null,"※標準記録突破大会は、公認大会で、記録会は正式名称を記入。",null,null,null,null,null,null,null,null,null,"女子"]
["※参加資格・記録等記入不備の場合、審査の対象としない。",null,null,null,null,null,null,null,null,null,"ここを",null,null,"※参加資格・記録等記入不備の場合、審査の対象としない。",null,null,null,null,null,null,null,null,null,"ここを"]
["※申込締切期日厳守。",null,null,null,null,null,null,null,null,null,"切り取る",null,null,"※申込締切期日厳守。",null,null,null,null,null,null,null,null,null,"切り取る"]
[]
[]
["愛知選手権リレー･国体少B･ｼﾞｭﾆｱ記録会 個人申込票",null,null,null,null,null,null,null,null,null,null,7,null,"愛知選手権リレー･国体少B･ｼﾞｭﾆｱ記録会 個人申込票",null,null,null,null,null,null,null,null,null,null,8]
[null,null,null,"",null,null,null,null,null,"資格審査用",null,null,null,null,null,null,"",null,null,null,null,null,"資格審査用"]
[null,"性　　別",null,{"$f":"IF(②選手情報入力!I13=\"\",\"\",②選手情報入力!I13)","v":""},null,null,null,"出場資格条件（選択)",null,null,null,null,null,null,"性　　別",null,{"$f":"IF(②選手情報入力!L13=\"\",\"\",②選手情報入力!L13)","v":""},null,null,null,"出場資格条件（選択)"]
["種  目",{"$f":"IF(②選手情報入力!$G$13=\"\",\"\",②選手情報入力!$G$13)","v":""},null,null,null,null,null,null,null,null,null,null,null,"種  目",{"$f":"IF(②選手情報入力!$G$13=\"\",\"\",②選手情報入力!$G$13)","v":""}]
[]
["ナンバー",null,"ﾌ ﾘ ｶﾞﾅ",{"$f":"IF(②選手情報入力!$E$13=\"\",\"\",②選手情報入力!$E$13)","v":""},null,null,null,null,null,null,null,null,null,"ナンバー",null,"ﾌ ﾘ ｶﾞﾅ",{"$f":"IF(②選手情報入力!$E$13=\"\",\"\",②選手情報入力!$E$13)","v":""}]
[{"$f":"IF(②選手情報入力!$C$13=\"\",\"\",②選手情報入力!$C$13)","v":""},null,"氏 名",{"$f":"IF(②選手情報入力!$D$13=\"\",\"\",②選手情報入力!$D$13)","v":""},null,null,null,null,null,null,null,null,null,{"$f":"IF(②選手情報入力!$C$13=\"\",\"\",②選手情報入力!$C$13)","v":""},null,"氏 名",{"$f":"IF(②選手情報入力!$D$13=\"\",\"\",②選手情報入力!$D$13)","v":""}]
[]
["出場資格\n取得大会","大　会　名",null,null,null,"加入団体名",null,"中京大学",null,null,null,null,null,"出場資格\n取得大会","大　会　名",null,null,null,"加入団体名",null,"中京大学"]
[null,null,null,null,null,"年.月.日","順 位",null,"記　録",null,"場  所",null,null,null,null,null,null,null,"年.月.日","順 位",null,"記　録",null,"場  所"]
[null,null,null,null,null,null,null,null,{"$f":"IF(②選手情報入力!J13=\"\",\"\",②選手情報入力!J13)","v":""},null,null,null,null,null,null,null,null,null,null,null,null,{"$f":"IF(②選手情報入力!M13=\"\",\"\",②選手情報入力!M13)","v":""}]
[]
["本 年 度",null,null,null,null,null,null,null,{"$f":"IF(②選手情報入力!K13=\"\",\"\",②選手情報入力!K13)","v":""},null,null,null,null,"本 年 度",null,null,null,null,null,null,null,{"$f":"IF(②選手情報入力!N13=\"\",\"\",②選手情報入力!N13)","v":""}]
["最高記録",null,null,null,null,null,null,null,null,null,null,null,null,"最高記録"]
["備　  考","※記入不要",null,null,null,null,null,null,null,null,null,null,null,"備　  考","※記入不要"]
[]
["※標準記録突破大会は、公認大会で、記録会は正式名称を記入。",null,null,null,null,null,null,null,null,null,"女子",null,null,"※標準記録突破大会は、公認大会で、記録会は正式名称を記入。",null,null,null,null,null,null,null,null,null,"女子"]
["※参加資格・記録等記入不備の場合、審査の対象としない。",null,null,null,null,null,null,null,null,null,"ここを",null,null,"※参加資格・記録等記入不備の場合、審査の対象としない。",null,null,null,null,null,null,null,null,null,"ここを"]
["※申込締切期日厳守。",null,null,null,null,null,null,null,null,null,"切り取る",null,null,"※申込締切期日厳守。",null,null,null,null,null,null,null,null,null,"切り取る"]
[]
[]
["愛知選手権リレー･国体少B･ｼﾞｭﾆｱ記録会 個人申込票",null,null,null,null,null,null,null,null,null,null,9,null,"愛知選手権リレー･国体少B･ｼﾞｭﾆｱ記録会 個人申込票",null,null,null,null,null,null,null,null,null,null,10]
[null,null,null,"",null,null,null,null,null,"資格審査用",null,null,null,null,null,null,"",null,null,null,null,null,"資格審査用"]
[null,"性　　別",null,{"$f":"IF(②選手情報入力!I14=\"\",\"\",②選手情報入力!I14)","v":""},null,null,null,"出場資格条件（選択)",null,null,null,null,null,null,"性　　別",null,{"$f":"IF(②選手情報入力!L14=\"\",\"\",②選手情報入力!L14)","v":""},null,null,null,"出場資格条件（選択)"]
["種  目",{"$f":"IF(②選手情報入力!$G$14=\"\",\"\",②選手情報入力!$G$14)","v":""},null,null,null,null,null,null,null,null,null,null,null,"種  目",{"$f":"IF(②選手情報入力!$G$14=\"\",\"\",②選手情報入力!$G$14)","v":""}]
[]
["ナンバー",null,"ﾌ ﾘ ｶﾞﾅ",{"$f":"IF(②選手情報入力!$E$14=\"\",\"\",②選手情報入力!$E$14)","v":""},null,null,null,null,null,null,null,null,null,"ナンバー",null,"ﾌ ﾘ ｶﾞﾅ",{"$f":"IF(②選手情報入力!$E$14=\"\",\"\",②選手情報入力!$E$14)","v":""}]
[{"$f":"IF(②選手情報入力!$C$14=\"\",\"\",②選手情報入力!$C$14)","v":""},null,"氏 名",{"$f":"IF(②選手情報入力!$D$14=\"\",\"\",②選手情報入力!$D$14)","v":""},null,null,null,null,null,null,null,null,null,{"$f":"IF(②選手情報入力!$C$14=\"\",\"\",②選手情報入力!$C$14)","v":""},null,"氏 名",{"$f":"IF(②選手情報入力!$D$14=\"\",\"\",②選手情報入力!$D$14)","v":""}]
[]
["出場資格\n取得大会","大　会　名",null,null,null,"加入団体名",null,"中京大学",null,null,null,null,null,"出場資格\n取得大会","大　会　名",null,null,null,"加入団体名",null,"中京大学"]
[null,null,null,null,null,"年.月.日","順 位",null,"記　録",null,"場  所",null,null,null,null,null,null,null,"年.月.日","順 位",null,"記　録",null,"場  所"]
[null,null,null,null,null,null,null,null,{"$f":"IF(②選手情報入力!J14=\"\",\"\",②選手情報入力!J14)","v":""},null,null,null,null,null,null,null,null,null,null,null,null,{"$f":"IF(②選手情報入力!M14=\"\",\"\",②選手情報入力!M14)","v":""}]
[]
["本 年 度",null,null,null,null,null,null,null,{"$f":"IF(②選手情報入力!K14=\"\",\"\",②選手情報入力!K14)","v":""},null,null,null,null,"本 年 度",null,null,null,null,null,null,null,{"$f":"IF(②選手情報入力!N14=\"\",\"\",②選手情報入力!N14)","v":""}]
["最高記録",null,null,null,null,null,null,null,null,null,null,null,null,"最高記録"]
["備　  考","※記入不要",null,null,null,null,null,null,null,null,null,null,null,"備　  考","※記入不要"]
[]
["※標準記録突破大会は、公認大会で、記録会は正式名称を記入。",null,null,null,null,null,null,null,null,null,"女子",null,null,"※標準記録突破大会は、公認大会で、記録会は正式名称を記入。",null,null,null,null,null,null,null,null,null,"女子"]
["※参加資格・記録等記入不備の場合、審査の対象としない。",null,null,null,null,null,null,null,null,null,"ここを",null,null,"※参加資格・記録等記入不備の場合、審査の対象としない。",null,null,null,null,null,null,null,null,null,"ここを"]
["※申込締切期日厳守。",null,null,null,null,null,null,null,null,null,"切り取る",null,null,"※申込締切期日厳守。",null,null,null,null,null,null,null,null,null,"切り取る"]
[]
[]
[]
["愛知選手権リレー･国体少B･ｼﾞｭﾆｱ記録会 個人申込票",null,null,null,null,null,null,null,null,null,null,11,null,"愛知選手権リレー･国体少B･ｼﾞｭﾆｱ記録会 個人申込票"]
[null,null,null,"",null,null,null,null,null,"資格審査用",null,null,null,null,null,null,"",null,null,null,null,null,"資格審査用"]
[null,"性　　別",null,{"$f":"IF(②選手情報入力!I15=\"\",\"\",②選手情報入力!I15)","v":""},null,null,null,"出場資格条件（選択)",null,null,null,null,null,null,"性　　別",null,{"$f":"IF(②選手情報入力!L15=\"\",\"\",②選手情報入力!L15)","v":""},null,null,null,"出場資格条件（選択)"]
["種  目",{"$f":"IF(②選手情報入力!$G$15=\"\",\"\",②選手情報入力!$G$15)","v":""},null,null,null,null,null,null,null,null,null,null,null,"種  目",{"$f":"IF(②選手情報入力!$G$15=\"\",\"\",②選手情報入力!$G$15)","v":""}]
[]
["ナンバー",null,"ﾌ ﾘ ｶﾞﾅ",{"$f":"IF(②選手情報入力!$E$15=\"\",\"\",②選手情報入力!$E$15)","v":""},null,null,null,null,null,null,null,null,null,"ナンバー",null,"ﾌ ﾘ ｶﾞﾅ",{"$f":"IF(②選手情報入力!$E$15=\"\",\"\",②選手情報入力!$E$15)","v":""}]
[{"$f":"IF(②選手情報入力!$C$15=\"\",\"\",②選手情報入力!$C$15)","v":""},null,"氏 名",{"$f":"IF(②選手情報入力!$D$15=\"\",\"\",②選手情報入力!$D$15)","v":""},null,null,null,null,null,null,null,null,null,{"$f":"IF(②選手情報入力!$C$15=\"\",\"\",②選手情報入力!$C$15)","v":""},null,"氏 名",{"$f":"IF(②選手情報入力!$D$15=\"\",\"\",②選手情報入力!$D$15)","v":""}]
[]
["出場資格\n取得大会","大　会　名",null,null,null,"加入団体名",null,"中京大学",null,null,null,null,null,"出場資格\n取得大会","大　会　名",null,null,null,"加入団体名",null,"中京大学"]
[null,null,null,null,null,"年.月.日","順 位",null,"記　録",null,"場  所",null,null,null,null,null,null,null,"年.月.日","順 位",null,"記　録",null,"場  所"]
[null,null,null,null,null,null,null,null,{"$f":"IF(②選手情報入力!J15=\"\",\"\",②選手情報入力!J15)","v":""},null,null,null,null,null,null,null,null,null,null,null,null,{"$f":"IF(②選手情報入力!M15=\"\",\"\",②選手情報入力!M15)","v":""}]
[]
["本 年 度",null,null,null,null,null,null,null,{"$f":"IF(②選手情報入力!K15=\"\",\"\",②選手情報入力!K15)","v":""},null,null,null,null,"本 年 度",null,null,null,null,null,null,null,{"$f":"IF(②選手情報入力!N15=\"\",\"\",②選手情報入力!N15)","v":""}]
["最高記録",null,null,null,null,null,null,null,null,null,null,null,null,"最高記録"]
["備　  考","※記入不要",null,null,null,null,null,null,null,null,null,null,null,"備　  考","※記入不要"]
[]
["※標準記録突破大会は、公認大会で、記録会は正式名称を記入。",null,null,null,null,null,null,null,null,null,"女子",null,null,"※標準記録突破大会は、公認大会で、記録会は正式名称を記入。",null,null,null,null,null,null,null,null,null,"女子"]
["※参加資格・記録等記入不備の場合、審査の対象としない。",null,null,null,null,null,null,null,null,null,"ここを",null,null,"※参加資格・記録等記入不備の場合、審査の対象としない。",null,null,null,null,null,null,null,null,null,"ここを"]
["※申込締切期日厳守。",null,null,null,null,null,null,null,null,null,"切り取る",null,null,"※申込締切期日厳守。",null,null,null,null,null,null,null,null,null,"切り取る"]
[]
[]
["愛知選手権リレー･国体少B･ｼﾞｭﾆｱ記録会 個人申込票",null,null,null,null,null,null,null,null,null,null,13,null,"愛知選手権リレー･国体少B･ｼﾞｭﾆｱ記録会 個人申込票",null,null,null,null,null,null,null,null,null,null,14]
[null,null,null,"",null,null,null,null,null,"資格審査用",null,null,null,null,null,null,"",null,null,null,null,null,"資格審査用"]
[null,"性　　別",null,{"$f":"IF(②選手情報入力!I16=\"\",\"\",②選手情報入力!I16)","v":""},null,null,null,"出場資格条件（選択)",null,null,null,null,null,null,"性　　別",null,{"$f":"IF(②選手情報入力!L16=\"\",\"\",②選手情報入力!L16)","v":""},null,null,null,"出場資格条件（選択)"]
["種  目",{"$f":"IF(②選手情報入力!$G$16=\"\",\"\",②選手情報入力!$G$16)","v":""},null,null,null,null,null,null,null,null,null,null,null,"種  目",{"$f":"IF(②選手情報入力!$G$16=\"\",\"\",②選手情報入力!$G$16)","v":""}]
[]
["ナンバー",null,"ﾌ ﾘ ｶﾞﾅ",{"$f":"IF(②選手情報入力!$E$16=\"\",\"\",②選手情報入力!$E$16)","v":""},null,null,null,null,null,null,null,null,null,"ナンバー",null,"ﾌ ﾘ ｶﾞﾅ",{"$f":"IF(②選手情報入力!$E$16=\"\",\"\",②選手情報入力!$E$16)","v":""}]
[{"$f":"IF(②選手情報入力!$C$16=\"\",\"\",②選手情報入力!$C$16)","v":""},null,"氏 名",{"$f":"IF(②選手情報入力!$D$16=\"\",\"\",②選手情報入力!$D$16)","v":""},null,null,null,null,null,null,null,null,null,{"$f":"IF(②選手情報入力!$C$16=\"\",\"\",②選手情報入力!$C$16)","v":""},null,"氏 名",{"$f":"IF(②選手情報入力!$D$16=\"\",\"\",②選手情報入力!$D$16)","v":""}]
[]
["出場資格\n取得大会","大　会　名",null,null,null,"加入団体名",null,"中京大学",null,null,null,null,null,"出場資格\n取得大会","大　会　名",null,null,null,"加入団体名",null,"中京大学"]
[null,null,null,null,null,"年.月.日","順 位",null,"記　録",null,"場  所",null,null,null,null,null,null,null,"年.月.日","順 位",null,"記　録",null,"場  所"]
[null,null,null,null,null,null,null,null,{"$f":"IF(②選手情報入力!J16=\"\",\"\",②選手情報入力!J16)","v":""},null,null,null,null,null,null,null,null,null,null,null,null,{"$f":"IF(②選手情報入力!M16=\"\",\"\",②選手情報入力!M16)","v":""}]
[]
["本 年 度",null,null,null,null,null,null,null,{"$f":"IF(②選手情報入力!K16=\"\",\"\",②選手情報入力!K16)","v":""},null,null,null,null,"本 年 度",null,null,null,null,null,null,null,{"$f":"IF(②選手情報入力!N16=\"\",\"\",②選手情報入力!N16)","v":""}]
["最高記録",null,null,null,null,null,null,null,null,null,null,null,null,"最高記録"]
["備　  考","※記入不要",null,null,null,null,null,null,null,null,null,null,null,"備　  考","※記入不要"]
[]
["※標準記録突破大会は、公認大会で、記録会は正式名称を記入。",null,null,null,null,null,null,null,null,null,"女子",null,null,"※標準記録突破大会は、公認大会で、記録会は正式名称を記入。",null,null,null,null,null,null,null,null,null,"女子"]
["※参加資格・記録等記入不備の場合、審査の対象としない。",null,null,null,null,null,null,null,null,null,"ここを",null,null,"※参加資格・記録等記入不備の場合、審査の対象としない。",null,null,null,null,null,null,null,null,null,"ここを"]
["※申込締切期日厳守。",null,null,null,null,null,null,null,null,null,"切り取る",null,null,"※申込締切期日厳守。",null,null,null,null,null,null,null,null,null,"切り取る"]
[]
[]
["愛知選手権リレー･国体少B･ｼﾞｭﾆｱ記録会 個人申込票",null,null,null,null,null,null,null,null,null,null,15,null,"愛知選手権リレー･国体少B･ｼﾞｭﾆｱ記録会 個人申込票",null,null,null,null,null,null,null,null,null,null,16]
[null,null,null,"",null,null,null,null,null,"資格審査用",null,null,null,null,null,null,"",null,null,null,null,null,"資格審査用"]
[null,"性　　別",null,{"$f":"IF(②選手情報入力!I17=\"\",\"\",②選手情報入力!I17)","v":""},null,null,null,"出場資格条件（選択)",null,null,null,null,null,null,"性　　別",null,{"$f":"IF(②選手情報入力!L17=\"\",\"\",②選手情報入力!L17)","v":""},null,null,null,"出場資格条件（選択)"]
["種  目",{"$f":"IF(②選手情報入力!$G$17=\"\",\"\",②選手情報入力!$G$17)","v":""},null,null,null,null,null,null,null,null,null,null,null,"種  目",{"$f":"IF(②選手情報入力!$G$17=\"\",\"\",②選手情報入力!$G$17)","v":""}]
[]
["ナンバー",null,"ﾌ ﾘ ｶﾞﾅ",{"$f":"IF(②選手情報入力!$E$17=\"\",\"\",②選手情報入力!$E$17)","v":""},null,null,null,null,null,null,null,null,null,"ナンバー",null,"ﾌ ﾘ ｶﾞﾅ",{"$f":"IF(②選手情報入力!$E$17=\"\",\"\",②選手情報入力!$E$17)","v":""}]
[{"$f":"IF(②選手情報入力!$C$17=\"\",\"\",②選手情報入力!$C$17)","v":""},null,"氏 名",{"$f":"IF(②選手情報入力!$D$17=\"\",\"\",②選手情報入力!$D$17)","v":""},null,null,null,null,null,null,null,null,null,{"$f":"IF(②選手情報入力!$C$17=\"\",\"\",②選手情報入力!$C$17)","v":""},null,"氏 名",{"$f":"IF(②選手情報入力!$D$17=\"\",\"\",②選手情報入力!$D$17)","v":""}]
[]
["出場資格\n取得大会","大　会　名",null,null,null,"加入団体名",null,"中京大学",null,null,null,null,null,"出場資格\n取得大会","大　会　名",null,null,null,"加入団体名",null,"中京大学"]
[null,null,null,null,null,"年.月.日","順 位",null,"記　録",null,"場  所",null,null,null,null,null,null,null,"年.月.日","順 位",null,"記　録",null,"場  所"]
[null,null,null,null,null,null,null,null,{"$f":"IF(②選手情報入力!J17=\"\",\"\",②選手情報入力!J17)","v":""},null,null,null,null,null,null,null,null,null,null,null,null,{"$f":"IF(②選手情報入力!M17=\"\",\"\",②選手情報入力!M17)","v":""}]
[]
["本 年 度",null,null,null,null,null,null,null,{"$f":"IF(②選手情報入力!K17=\"\",\"\",②選手情報入力!K17)","v":""},null,null,null,null,"本 年 度",null,null,null,null,null,null,null,{"$f":"IF(②選手情報入力!N17=\"\",\"\",②選手情報入力!N17)","v":""}]
["最高記録",null,null,null,null,null,null,null,null,null,null,null,null,"最高記録"]
["備　  考","※記入不要",null,null,null,null,null,null,null,null,null,null,null,"備　  考","※記入不要"]
[]
["※標準記録突破大会は、公認大会で、記録会は正式名称を記入。",null,null,null,null,null,null,null,null,null,"女子",null,null,"※標準記録突破大会は、公認大会で、記録会は正式名称を記入。",null,null,null,null,null,null,null,null,null,"女子"]
["※参加資格・記録等記入不備の場合、審査の対象としない。",null,null,null,null,null,null,null,null,null,"ここを",null,null,"※参加資格・記録等記入不備の場合、審査の対象としない。",null,null,null,null,null,null,null,null,null,"ここを"]
["※申込締切期日厳守。",null,null,null,null,null,null,null,null,null,"切り取る",null,null,"※申込締切期日厳守。",null,null,null,null,null,null,null,null,null,"切り取る"]
[]
[]
[]
["愛知選手権リレー･国体少B･ｼﾞｭﾆｱ記録会 個人申込票",null,null,null,null,null,null,null,null,null,null,3,null,"愛知選手権リレー･国体少B･ｼﾞｭﾆｱ記録会 個人申込票",null,null,null,null,null,null,null,null,null,null,4]
[null,null,null,"",null,null,null,null,null,"資格審査用",null,null,null,null,null,null,"",null,null,null,null,null,"資格審査用"]
[null,"性　　別",null,{"$f":"IF(②選手情報入力!I18=\"\",\"\",②選手情報入力!I18)","v":""},null,null,null,"出場資格条件（選択)",null,null,null,null,null,null,"性　　別",null,{"$f":"IF(②選手情報入力!L18=\"\",\"\",②選手情報入力!L18)","v":""},null,null,null,"出場資格条件（選択)"]
["種  目",{"$f":"IF(②選手情報入力!$G$18=\"\",\"\",②選手情報入力!$G$18)","v":""},null,null,null,null,null,null,null,null,null,null,null,"種  目",{"$f":"IF(②選手情報入力!$G$18=\"\",\"\",②選手情報入力!$G$18)","v":""}]
[]
["ナンバー",null,"ﾌ ﾘ ｶﾞﾅ",{"$f":"IF(②選手情報入力!$E$18=\"\",\"\",②選手情報入力!$E$18)","v":""},null,null,null,null,null,null,null,null,null,"ナンバー",null,"ﾌ ﾘ ｶﾞﾅ",{"$f":"IF(②選手情報入力!$E$18=\"\",\"\",②選手情報入力!$E$18)","v":""}]
[{"$f":"IF(②選手情報入力!$C$18=\"\",\"\",②選手情報入力!$C$18)","v":""},null,"氏 名",{"$f":"IF(②選手情報入力!$D$18=\"\",\"\",②選手情報入力!$D$18)","v":""},null,null,null,null,null,null,null,null,null,{"$f":"IF(②選手情報入力!$C$18=\"\",\"\",②選手情報入力!$C$18)","v":""},null,"氏 名",{"$f":"IF(②選手情報入力!$D$18=\"\",\"\",②選手情報入力!$D$18)","v":""}]
[]
["出場資格\n取得大会","大　会　名",null,null,null,"加入団体名",null,"中京大学",null,null,null,null,null,"出場資格\n取得大会","大　会　名",null,null,null,"加入団体名",null,"中京大学"]
[null,null,null,null,null,"年.月.日","順 位",null,"記　録",null,"場  所",null,null,null,null,null,null,null,"年.月.日","順 位",null,"記　録",null,"場  所"]
[null,null,null,null,null,null,null,null,{"$f":"IF(②選手情報入力!J18=\"\",\"\",②選手情報入力!J18)","v":""},null,null,null,null,null,null,null,null,null,null,null,null,{"$f":"IF(②選手情報入力!M18=\"\",\"\",②選手情報入力!M18)","v":""}]
[]
["本 年 度",null,null,null,null,null,null,null,{"$f":"IF(②選手情報入力!K18=\"\",\"\",②選手情報入力!K18)","v":""},null,null,null,null,"本 年 度",null,null,null,null,null,null,null,{"$f":"IF(②選手情報入力!N18=\"\",\"\",②選手情報入力!N18)","v":""}]
["最高記録",null,null,null,null,null,null,null,null,null,null,null,null,"最高記録"]
["備　  考","※記入不要",null,null,null,null,null,null,null,null,null,null,null,"備　  考","※記入不要"]
[]
["※標準記録突破大会は、公認大会で、記録会は正式名称を記入。",null,null,null,null,null,null,null,null,null,"女子",null,null,"※標準記録突破大会は、公認大会で、記録会は正式名称を記入。",null,null,null,null,null,null,null,null,null,"女子"]
["※参加資格・記録等記入不備の場合、審査の対象としない。",null,null,null,null,null,null,null,null,null,"ここを",null,null,"※参加資格・記録等記入不備の場合、審査の対象としない。",null,null,null,null,null,null,null,null,null,"ここを"]
["※申込締切期日厳守。",null,null,null,null,null,null,null,null,null,"切り取る",null,null,"※申込締切期日厳守。",null,null,null,null,null,null,null,null,null,"切り取る"]
[]
[]
["愛知選手権リレー･国体少B･ｼﾞｭﾆｱ記録会 個人申込票",null,null,null,null,null,null,null,null,null,null,5,null,"愛知選手権リレー･国体少B･ｼﾞｭﾆｱ記録会 個人申込票",null,null,null,null,null,null,null,null,null,null,6]
[null,null,null,"",null,null,null,null,null,"資格審査用",null,null,null,null,null,null,"",null,null,null,null,null,"資格審査用"]
[null,"性　　別",null,{"$f":"IF(②選手情報入力!I19=\"\",\"\",②選手情報入力!I19)","v":""},null,null,null,"出場資格条件（選択)",null,null,null,null,null,null,"性　　別",null,{"$f":"IF(②選手情報入力!L19=\"\",\"\",②選手情報入力!L19)","v":""},null,null,null,"出場資格条件（選択)"]
["種  目",{"$f":"IF(②選手情報入力!$G$19=\"\",\"\",②選手情報入力!$G$19)","v":""},null,null,null,null,null,null,null,null,null,null,null,"種  目",{"$f":"IF(②選手情報入力!$G$19=\"\",\"\",②選手情報入力!$G$19)","v":""}]
[]
["ナンバー",null,"ﾌ ﾘ ｶﾞﾅ",{"$f":"IF(②選手情報入力!$E$19=\"\",\"\",②選手情報入力!$E$19)","v":""},null,null,null,null,null,null,null,null,null,"ナンバー",null,"ﾌ ﾘ ｶﾞﾅ",{"$f":"IF(②選手情報入力!$E$19=\"\",\"\",②選手情報入力!$E$19)","v":""}]
[{"$f":"IF(②選手情報入力!$C$19=\"\",\"\",②選手情報入力!$C$19)","v":""},null,"氏 名",{"$f":"IF(②選手情報入力!$D$19=\"\",\"\",②選手情報入力!$D$19)","v":""},null,null,null,null,null,null,null,null,null,{"$f":"IF(②選手情報入力!$C$19=\"\",\"\",②選手情報入力!$C$19)","v":""},null,"氏 名",{"$f":"IF(②選手情報入力!$D$19=\"\",\"\",②選手情報入力!$D$19)","v":""}]
[]
["出場資格\n取得大会","大　会　名",null,null,null,"加入団体名",null,"中京大学",null,null,null,null,null,"出場資格\n取得大会","大　会　名",null,null,null,"加入団体名",null,"中京大学"]
[null,null,null,null,null,"年.月.日","順 位",null,"記　録",null,"場  所",null,null,null,null,null,null,null,"年.月.日","順 位",null,"記　録",null,"場  所"]
[null,null,null,null,null,null,null,null,{"$f":"IF(②選手情報入力!J19=\"\",\"\",②選手情報入力!J19)","v":""},null,null,null,null,null,null,null,null,null,null,null,null,{"$f":"IF(②選手情報入力!M19=\"\",\"\",②選手情報入力!M19)","v":""}]
[]
["本 年 度",null,null,null,null,null,null,null,{"$f":"IF(②選手情報入力!K19=\"\",\"\",②選手情報入力!K19)","v":""},null,null,null,null,"本 年 度",null,null,null,null,null,null,null,{"$f":"IF(②選手情報入力!N19=\"\",\"\",②選手情報入力!N19)","v":""}]
["最高記録",null,null,null,null,null,null,null,null,null,null,null,null,"最高記録"]
["備　  考","※記入不要",null,null,null,null,null,null,null,null,null,null,null,"備　  考","※記入不要"]
[]
["※標準記録突破大会は、公認大会で、記録会は正式名称を記入。",null,null,null,null,null,null,null,null,null,"女子",null,null,"※標準記録突破大会は、公認大会で、記録会は正式名称を記入。",null,null,null,null,null,null,null,null,null,"女子"]
["※参加資格・記録等記入不備の場合、審査の対象としない。",null,null,null,null,null,null,null,null,null,"ここを",null,null,"※参加資格・記録等記入不備の場合、審査の対象としない。",null,null,null,null,null,null,null,null,null,"ここを"]
["※申込締切期日厳守。",null,null,null,null,null,null,null,null,null,"切り取る",null,null,"※申込締切期日厳守。",null,null,null,null,null,null,null,null,null,"切り取る"]
[]
[]
["愛知選手権リレー･国体少B･ｼﾞｭﾆｱ記録会 個人申込票",null,null,null,null,null,null,null,null,null,null,7,null,"愛知選手権リレー･国体少B･ｼﾞｭﾆｱ記録会 個人申込票",null,null,null,null,null,null,null,null,null,null,8]
[null,null,null,"",null,null,null,null,null,"資格審査用",null,null,null,null,null,null,"",null,null,null,null,null,"資格審査用"]
[null,"性　　別",null,{"$f":"IF(②選手情報入力!I20=\"\",\"\",②選手情報入力!I20)","v":""},null,null,null,"出場資格条件（選択)",null,null,null,null,null,null,"性　　別",null,{"$f":"IF(②選手情報入力!L20=\"\",\"\",②選手情報入力!L20)","v":""},null,null,null,"出場資格条件（選択)"]
["種  目",{"$f":"IF(②選手情報入力!$G$20=\"\",\"\",②選手情報入力!$G$20)","v":""},null,null,null,null,null,null,null,null,null,null,null,"種  目",{"$f":"IF(②選手情報入力!$G$20=\"\",\"\",②選手情報入力!$G$20)","v":""}]
[]
["ナンバー",null,"ﾌ ﾘ ｶﾞﾅ",{"$f":"IF(②選手情報入力!$E$20=\"\",\"\",②選手情報入力!$E$20)","v":""},null,null,null,null,null,null,null,null,null,"ナンバー",null,"ﾌ ﾘ ｶﾞﾅ",{"$f":"IF(②選手情報入力!$E$20=\"\",\"\",②選手情報入力!$E$20)","v":""}]
[{"$f":"IF(②選手情報入力!$C$20=\"\",\"\",②選手情報入力!$C$20)","v":""},null,"氏 名",{"$f":"IF(②選手情報入力!$D$20=\"\",\"\",②選手情報入力!$D$20)","v":""},null,null,null,null,null,null,null,null,null,{"$f":"IF(②選手情報入力!$C$20=\"\",\"\",②選手情報入力!$C$20)","v":""},null,"氏 名",{"$f":"IF(②選手情報入力!$D$20=\"\",\"\",②選手情報入力!$D$20)","v":""}]
[]
["出場資格\n取得大会","大　会　名",null,null,null,"加入団体名",null,"中京大学",null,null,null,null,null,"出場資格\n取得大会","大　会　名",null,null,null,"加入団体名",null,"中京大学"]
[null,null,null,null,null,"年.月.日","順 位",null,"記　録",null,"場  所",null,null,null,null,null,null,null,"年.月.日","順 位",null,"記　録",null,"場  所"]
[null,null,null,null,null,null,null,null,{"$f":"IF(②選手情報入力!J20=\"\",\"\",②選手情報入力!J20)","v":""},null,null,null,null,null,null,null,null,null,null,null,null,{"$f":"IF(②選手情報入力!M20=\"\",\"\",②選手情報入力!M20)","v":""}]
[]
["本 年 度",null,null,null,null,null,null,null,{"$f":"IF(②選手情報入力!K20=\"\",\"\",②選手情報入力!K20)","v":""},null,null,null,null,"本 年 度",null,null,null,null,null,null,null,{"$f":"IF(②選手情報入力!N20=\"\",\"\",②選手情報入力!N20)","v":""}]
["最高記録",null,null,null,null,null,null,null,null,null,null,null,null,"最高記録"]
["備　  考","※記入不要",null,null,null,null,null,null,null,null,null,null,null,"備　  考","※記入不要"]
[]
["※標準記録突破大会は、公認大会で、記録会は正式名称を記入。",null,null,null,null,null,null,null,null,null,"女子",null,null,"※標準記録突破大会は、公認大会で、記録会は正式名称を記入。",null,null,null,null,null,null,null,null,null,"女子"]
["※参加資格・記録等記入不備の場合、審査の対象としない。",null,null,null,null,null,null,null,null,null,"ここを",null,null,"※参加資格・記録等記入不備の場合、審査の対象としない。",null,null,null,null,null,null,null,null,null,"ここを"]
["※申込締切期日厳守。",null,null,null,null,null,null,null,null,null,"切り取る",null,null,"※申込締切期日厳守。",null,null,null,null,null,null,null,null,null,"切り取る"]
[]
[]
["愛知選手権リレー･国体少B･ｼﾞｭﾆｱ記録会 個人申込票",null,null,null,null,null,null,null,null,null,null,9,null,"愛知選手権リレー･国体少B･ｼﾞｭﾆｱ記録会 個人申込票",null,null,null,null,null,null,null,null,null,null,10]
[null,null,null,"",null,null,null,null,null,"資格審査用",null,null,null,null,null,null,"",null,null,null,null,null,"資格審査用"]
[null,"性　　別",null,{"$f":"IF(②選手情報入力!I21=\"\",\"\",②選手情報入力!I21)","v":""},null,null,null,"出場資格条件（選択)",null,null,null,null,null,null,"性　　別",null,{"$f":"IF(②選手情報入力!L21=\"\",\"\",②選手情報入力!L21)","v":""},null,null,null,"出場資格条件（選択)"]
["種  目",{"$f":"IF(②選手情報入力!$G$21=\"\",\"\",②選手情報入力!$G$21)","v":""},null,null,null,null,null,null,null,null,null,null,null,"種  目",{"$f":"IF(②選手情報入力!$G$21=\"\",\"\",②選手情報入力!$G$21)","v":""}]
[]
["ナンバー",null,"ﾌ ﾘ ｶﾞﾅ",{"$f":"IF(②選手情報入力!$E$21=\"\",\"\",②選手情報入力!$E$21)","v":""},null,null,null,null,null,null,null,null,null,"ナンバー",null,"ﾌ ﾘ ｶﾞﾅ",{"$f":"IF(②選手情報入力!$E$21=\"\",\"\",②選手情報入力!$E$21)","v":""}]
[{"$f":"IF(②選手情報入力!$C$21=\"\",\"\",②選手情報入力!$C$21)","v":""},null,"氏 名",{"$f":"IF(②選手情報入力!$D$21=\"\",\"\",②選手情報入力!$D$21)","v":""},null,null,null,null,null,null,null,null,null,{"$f":"IF(②選手情報入力!$C$21=\"\",\"\",②選手情報入力!$C$21)","v":""},null,"氏 名",{"$f":"IF(②選手情報入力!$D$21=\"\",\"\",②選手情報入力!$D$21)","v":""}]
[]
["出場資格\n取得大会","大　会　名",null,null,null,"加入団体名",null,"中京大学",null,null,null,null,null,"出場資格\n取得大会","大　会　名",null,null,null,"加入団体名",null,"中京大学"]
[null,null,null,null,null,"年.月.日","順 位",null,"記　録",null,"場  所",null,null,null,null,null,null,null,"年.月.日","順 位",null,"記　録",null,"場  所"]
[null,null,null,null,null,null,null,null,{"$f":"IF(②選手情報入力!J21=\"\",\"\",②選手情報入力!J21)","v":""},null,null,null,null,null,null,null,null,null,null,null,null,{"$f":"IF(②選手情報入力!M21=\"\",\"\",②選手情報入力!M21)","v":""}]
[]
["本 年 度",null,null,null,null,null,null,null,{"$f":"IF(②選手情報入力!K21=\"\",\"\",②選手情報入力!K21)","v":""},null,null,null,null,"本 年 度",null,null,null,null,null,null,null,{"$f":"IF(②選手情報入力!N21=\"\",\"\",②選手情報入力!N21)","v":""}]
["最高記録",null,null,null,null,null,null,null,null,null,null,null,null,"最高記録"]
["備　  考","※記入不要",null,null,null,null,null,null,null,null,null,null,null,"備　  考","※記入不要"]
[]
["※標準記録突破大会は、公認大会で、記録会は正式名称を記入。",null,null,null,null,null,null,null,null,null,"女子",null,null,"※標準記録突破大会は、公認大会で、記録会は正式名称を記入。",null,null,null,null,null,null,null,null,null,"女子"]
["※参加資格・記録等記入不備の場合、審査の対象としない。",null,null,null,null,null,null,null,null,null,"ここを",null,null,"※参加資格・記録等記入不備の場合、審査の対象としない。",null,null,null,null,null,null,null,null,null,"ここを"]
["※申込締切期日厳守。",null,null,null,null,null,null,null,null,null,"切り取る",null,null,"※申込締切期日厳守。",null,null,null,null,null,null,null,null,null,"切り取る"]
[]
[]
[]
["愛知選手権リレー･国体少B･ｼﾞｭﾆｱ記録会 個人申込票",null,null,null,null,null,null,null,null,null,null,11,null,"愛知選手権リレー･国体少B･ｼﾞｭﾆｱ記録会 個人申込票"]
[null,null,null,"",null,null,null,null,null,"資格審査用",null,null,null,null,null,null,"",null,null,null,null,null,"資格審査用"]
[null,"性　　別",null,{"$f":"IF(②選手情報入力!I22=\"\",\"\",②選手情報入力!I22)","v":""},null,null,null,"出場資格条件（選択)",null,null,null,null,null,null,"性　　別",null,{"$f":"IF(②選手情報入力!L22=\"\",\"\",②選手情報入力!L22)","v":""},null,null,null,"出場資格条件（選択)"]
["種  目",{"$f":"IF(②選手情報入力!$G$22=\"\",\"\",②選手情報入力!$G$22)","v":""},null,null,null,null,null,null,null,null,null,null,null,"種  目",{"$f":"IF(②選手情報入力!$G$22=\"\",\"\",②選手情報入力!$G$22)","v":""}]
[]
["ナンバー",null,"ﾌ ﾘ ｶﾞﾅ",{"$f":"IF(②選手情報入力!$E$22=\"\",\"\",②選手情報入力!$E$22)","v":""},null,null,null,null,null,null,null,null,null,"ナンバー",null,"ﾌ ﾘ ｶﾞﾅ",{"$f":"IF(②選手情報入力!$E$22=\"\",\"\",②選手情報入力!$E$22)","v":""}]
[{"$f":"IF(②選手情報入力!$C$22=\"\",\"\",②選手情報入力!$C$22)","v":""},null,"氏 名",{"$f":"IF(②選手情報入力!$D$22=\"\",\"\",②選手情報入力!$D$22)","v":""},null,null,null,null,null,null,null,null,null,{"$f":"IF(②選手情報入力!$C$22=\"\",\"\",②選手情報入力!$C$22)","v":""},null,"氏 名",{"$f":"IF(②選手情報入力!$D$22=\"\",\"\",②選手情報入力!$D$22)","v":""}]
[]
["出場資格\n取得大会","大　会　名",null,null,null,"加入団体名",null,"中京大学",null,null,null,null,null,"出場資格\n取得大会","大　会　名",null,null,null,"加入団体名",null,"中京大学"]
[null,null,null,null,null,"年.月.日","順 位",null,"記　録",null,"場  所",null,null,null,null,null,null,null,"年.月.日","順 位",null,"記　録",null,"場  所"]
[null,null,null,null,null,null,null,null,{"$f":"IF(②選手情報入力!J22=\"\",\"\",②選手情報入力!J22)","v":""},null,null,null,null,null,null,null,null,null,null,null,null,{"$f":"IF(②選手情報入力!M22=\"\",\"\",②選手情報入力!M22)","v":""}]
[]
["本 年 度",null,null,null,null,null,null,null,{"$f":"IF(②選手情報入力!K22=\"\",\"\",②選手情報入力!K22)","v":""},null,null,null,null,"本 年 度",null,null,null,null,null,null,null,{"$f":"IF(②選手情報入力!N22=\"\",\"\",②選手情報入力!N22)","v":""}]
["最高記録",null,null,null,null,null,null,null,null,null,null,null,null,"最高記録"]
["備　  考","※記入不要",null,null,null,null,null,null,null,null,null,null,null,"備　  考","※記入不要"]
[]
["※標準記録突破大会は、公認大会で、記録会は正式名称を記入。",null,null,null,null,null,null,null,null,null,"女子",null,null,"※標準記録突破大会は、公認大会で、記録会は正式名称を記入。",null,null,null,null,null,null,null,null,null,"女子"]
["※参加資格・記録等記入不備の場合、審査の対象としない。",null,null,null,null,null,null,null,null,null,"ここを",null,null,"※参加資格・記録等記入不備の場合、審査の対象としない。",null,null,null,null,null,null,null,null,null,"ここを"]
["※申込締切期日厳守。",null,null,null,null,null,null,null,null,null,"切り取る",null,null,"※申込締切期日厳守。",null,null,null,null,null,null,null,null,null,"切り取る"]
[]
[]
["愛知選手権リレー･国体少B･ｼﾞｭﾆｱ記録会 個人申込票",null,null,null,null,null,null,null,null,null,null,13,null,"愛知選手権リレー･国体少B･ｼﾞｭﾆｱ記録会 個人申込票",null,null,null,null,null,null,null,null,null,null,14]
[null,null,null,"",null,null,null,null,null,"資格審査用",null,null,null,null,null,null,"",null,null,null,null,null,"資格審査用"]
[null,"性　　別",null,{"$f":"IF(②選手情報入力!I23=\"\",\"\",②選手情報入力!I23)","v":""},null,null,null,"出場資格条件（選択)",null,null,null,null,null,null,"性　　別",null,{"$f":"IF(②選手情報入力!L23=\"\",\"\",②選手情報入力!L23)","v":""},null,null,null,"出場資格条件（選択)"]
["種  目",{"$f":"IF(②選手情報入力!$G$23=\"\",\"\",②選手情報入力!$G$23)","v":""},null,null,null,null,null,null,null,null,null,null,null,"種  目",{"$f":"IF(②選手情報入力!$G$23=\"\",\"\",②選手情報入力!$G$23)","v":""}]
[]
["ナンバー",null,"ﾌ ﾘ ｶﾞﾅ",{"$f":"IF(②選手情報入力!$E$23=\"\",\"\",②選手情報入力!$E$23)","v":""},null,null,null,null,null,null,null,null,null,"ナンバー",null,"ﾌ ﾘ ｶﾞﾅ",{"$f":"IF(②選手情報入力!$E$23=\"\",\"\",②選手情報入力!$E$23)","v":""}]
[{"$f":"IF(②選手情報入力!$C$23=\"\",\"\",②選手情報入力!$C$23)","v":""},null,"氏 名",{"$f":"IF(②選手情報入力!$D$23=\"\",\"\",②選手情報入力!$D$23)","v":""},null,null,null,null,null,null,null,null,null,{"$f":"IF(②選手情報入力!$C$23=\"\",\"\",②選手情報入力!$C$23)","v":""},null,"氏 名",{"$f":"IF(②選手情報入力!$D$23=\"\",\"\",②選手情報入力!$D$23)","v":""}]
[]
["出場資格\n取得大会","大　会　名",null,null,null,"加入団体名",null,"中京大学",null,null,null,null,null,"出場資格\n取得大会","大　会　名",null,null,null,"加入団体名",null,"中京大学"]
[null,null,null,null,null,"年.月.日","順 位",null,"記　録",null,"場  所",null,null,null,null,null,null,null,"年.月.日","順 位",null,"記　録",null,"場  所"]
[null,null,null,null,null,null,null,null,{"$f":"IF(②選手情報入力!J23=\"\",\"\",②選手情報入力!J23)","v":""},null,null,null,null,null,null,null,null,null,null,null,null,{"$f":"IF(②選手情報入力!M23=\"\",\"\",②選手情報入力!M23)","v":""}]
[]
["本 年 度",null,null,null,null,null,null,null,{"$f":"IF(②選手情報入力!K23=\"\",\"\",②選手情報入力!K23)","v":""},null,null,null,null,"本 年 度",null,null,null,null,null,null,null,{"$f":"IF(②選手情報入力!N23=\"\",\"\",②選手情報入力!N23)","v":""}]
["最高記録",null,null,null,null,null,null,null,null,null,null,null,null,"最高記録"]
["備　  考","※記入不要",null,null,null,null,null,null,null,null,null,null,null,"備　  考","※記入不要"]
[]
["※標準記録突破大会は、公認大会で、記録会は正式名称を記入。",null,null,null,null,null,null,null,null,null,"女子",null,null,"※標準記録突破大会は、公認大会で、記録会は正式名称を記入。",null,null,null,null,null,null,null,null,null,"女子"]
["※参加資格・記録等記入不備の場合、審査の対象としない。",null,null,null,null,null,null,null,null,null,"ここを",null,null,"※参加資格・記録等記入不備の場合、審査の対象としない。",null,null,null,null,null,null,null,null,null,"ここを"]
["※申込締切期日厳守。",null,null,null,null,null,null,null,null,null,"切り取る",null,null,"※申込締切期日厳守。",null,null,null,null,null,null,null,null,null,"切り取る"]
[]
[]
["愛知選手権リレー･国体少B･ｼﾞｭﾆｱ記録会 個人申込票",null,null,null,null,null,null,null,null,null,null,15,null,"愛知選手権リレー･国体少B･ｼﾞｭﾆｱ記録会 個人申込票",null,null,null,null,null,null,null,null,null,null,16]
[null,null,null,"",null,null,null,null,null,"資格審査用",null,null,null,null,null,null,"",null,null,null,null,null,"資格審査用"]
[null,"性　　別",null,{"$f":"IF(②選手情報入力!I24=\"\",\"\",②選手情報入力!I24)","v":""},null,null,null,"出場資格条件（選択)",null,null,null,null,null,null,"性　　別",null,{"$f":"IF(②選手情報入力!L24=\"\",\"\",②選手情報入力!L24)","v":""},null,null,null,"出場資格条件（選択)"]
["種  目",{"$f":"IF(②選手情報入力!$G$24=\"\",\"\",②選手情報入力!$G$24)","v":""},null,null,null,null,null,null,null,null,null,null,null,"種  目",{"$f":"IF(②選手情報入力!$G$24=\"\",\"\",②選手情報入力!$G$24)","v":""}]
[]
["ナンバー",null,"ﾌ ﾘ ｶﾞﾅ",{"$f":"IF(②選手情報入力!$E$24=\"\",\"\",②選手情報入力!$E$24)","v":""},null,null,null,null,null,null,null,null,null,"ナンバー",null,"ﾌ ﾘ ｶﾞﾅ",{"$f":"IF(②選手情報入力!$E$24=\"\",\"\",②選手情報入力!$E$24)","v":""}]
[{"$f":"IF(②選手情報入力!$C$24=\"\",\"\",②選手情報入力!$C$24)","v":""},null,"氏 名",{"$f":"IF(②選手情報入力!$D$24=\"\",\"\",②選手情報入力!$D$24)","v":""},null,null,null,null,null,null,null,null,null,{"$f":"IF(②選手情報入力!$C$24=\"\",\"\",②選手情報入力!$C$24)","v":""},null,"氏 名",{"$f":"IF(②選手情報入力!$D$24=\"\",\"\",②選手情報入力!$D$24)","v":""}]
[]
["出場資格\n取得大会","大　会　名",null,null,null,"加入団体名",null,"中京大学",null,null,null,null,null,"出場資格\n取得大会","大　会　名",null,null,null,"加入団体名",null,"中京大学"]
[null,null,null,null,null,"年.月.日","順 位",null,"記　録",null,"場  所",null,null,null,null,null,null,null,"年.月.日","順 位",null,"記　録",null,"場  所"]
[null,null,null,null,null,null,null,null,{"$f":"IF(②選手情報入力!J24=\"\",\"\",②選手情報入力!J24)","v":""},null,null,null,null,null,null,null,null,null,null,null,null,{"$f":"IF(②選手情報入力!M24=\"\",\"\",②選手情報入力!M24)","v":""}]
[]
["本 年 度",null,null,null,null,null,null,null,{"$f":"IF(②選手情報入力!K24=\"\",\"\",②選手情報入力!K24)","v":""},null,null,null,null,"本 年 度",null,null,null,null,null,null,null,{"$f":"IF(②選手情報入力!N24=\"\",\"\",②選手情報入力!N24)","v":""}]
["最高記録",null,null,null,null,null,null,null,null,null,null,null,null,"最高記録"]
["備　  考","※記入不要",null,null,null,null,null,null,null,null,null,null,null,"備　  考","※記入不要"]
[]
["※標準記録突破大会は、公認大会で、記録会は正式名称を記入。",null,null,null,null,null,null,null,null,null,"女子",null,null,"※標準記録突破大会は、公認大会で、記録会は正式名称を記入。",null,null,null,null,null,null,null,null,null,"女子"]
["※参加資格・記録等記入不備の場合、審査の対象としない。",null,null,null,null,null,null,null,null,null,"ここを",null,null,"※参加資格・記録等記入不備の場合、審査の対象としない。",null,null,null,null,null,null,null,null,null,"ここを"]
["※申込締切期日厳守。",null,null,null,null,null,null,null,null,null,"切り取る",null,null,"※申込締切期日厳守。",null,null,null,null,null,null,null,null,null,"切り取る"]
[]
[]
[]
["愛知選手権リレー･国体少B･ｼﾞｭﾆｱ記録会 個人申込票",null,null,null,null,null,null,null,null,null,null,3,null,"愛知選手権リレー･国体少B･ｼﾞｭﾆｱ記録会 個人申込票",null,null,null,null,null,null,null,null,null,null,4]
[null,null,null,"",null,null,null,null,null,"資格審査用",null,null,null,null,null,null,"",null,null,null,null,null,"資格審査用"]
[null,"性　　別",null,{"$f":"IF(②選手情報入力!I25=\"\",\"\",②選手情報入力!I25)","v":""},null,null,null,"出場資格条件（選択)",null,null,null,null,null,null,"性　　別",null,{"$f":"IF(②選手情報入力!L25=\"\",\"\",②選手情報入力!L25)","v":""},null,null,null,"出場資格条件（選択)"]
["種  目",{"$f":"IF(②選手情報入力!$G$25=\"\",\"\",②選手情報入力!$G$25)","v":""},null,null,null,null,null,null,null,null,null,null,null,"種  目",{"$f":"IF(②選手情報入力!$G$25=\"\",\"\",②選手情報入力!$G$25)","v":""}]
[]
["ナンバー",null,"ﾌ ﾘ ｶﾞﾅ",{"$f":"IF(②選手情報入力!$E$25=\"\",\"\",②選手情報入力!$E$25)","v":""},null,null,null,null,null,null,null,null,null,"ナンバー",null,"ﾌ ﾘ ｶﾞﾅ",{"$f":"IF(②選手情報入力!$E$25=\"\",\"\",②選手情報入力!$E$25)","v":""}]
[{"$f":"IF(②選手情報入力!$C$25=\"\",\"\",②選手情報入力!$C$25)","v":""},null,"氏 名",{"$f":"IF(②選手情報入力!$D$25=\"\",\"\",②選手情報入力!$D$25)","v":""},null,null,null,null,null,null,null,null,null,{"$f":"IF(②選手情報入力!$C$25=\"\",\"\",②選手情報入力!$C$25)","v":""},null,"氏 名",{"$f":"IF(②選手情報入力!$D$25=\"\",\"\",②選手情報入力!$D$25)","v":""}]
[]
["出場資格\n取得大会","大　会　名",null,null,null,"加入団体名",null,"中京大学",null,null,null,null,null,"出場資格\n取得大会","大　会　名",null,null,null,"加入団体名",null,"中京大学"]
[null,null,null,null,null,"年.月.日","順 位",null,"記　録",null,"場  所",null,null,null,null,null,null,null,"年.月.日","順 位",null,"記　録",null,"場  所"]
[null,null,null,null,null,null,null,null,{"$f":"IF(②選手情報入力!J25=\"\",\"\",②選手情報入力!J25)","v":""},null,null,null,null,null,null,null,null,null,null,null,null,{"$f":"IF(②選手情報入力!M25=\"\",\"\",②選手情報入力!M25)","v":""}]
[]
["本 年 度",null,null,null,null,null,null,null,{"$f":"IF(②選手情報入力!K25=\"\",\"\",②選手情報入力!K25)","v":""},null,null,null,null,"本 年 度",null,null,null,null,null,null,null,{"$f":"IF(②選手情報入力!N25=\"\",\"\",②選手情報入力!N25)","v":""}]
["最高記録",null,null,null,null,null,null,null,null,null,null,null,null,"最高記録"]
["備　  考","※記入不要",null,null,null,null,null,null,null,null,null,null,null,"備　  考","※記入不要"]
[]
["※標準記録突破大会は、公認大会で、記録会は正式名称を記入。",null,null,null,null,null,null,null,null,null,"女子",null,null,"※標準記録突破大会は、公認大会で、記録会は正式名称を記入。",null,null,null,null,null,null,null,null,null,"女子"]
["※参加資格・記録等記入不備の場合、審査の対象としない。",null,null,null,null,null,null,null,null,null,"ここを",null,null,"※参加資格・記録等記入不備の場合、審査の対象としない。",null,null,null,null,null,null,null,null,null,"ここを"]
["※申込締切期日厳守。",null,null,null,null,null,null,null,null,null,"切り取る",null,null,"※申込締切期日厳守。",null,null,null,null,null,null,null,null,null,"切り取る"]
[]
[]
["愛知選手権リレー･国体少B･ｼﾞｭﾆｱ記録会 個人申込票",null,null,null,null,null,null,null,null,null,null,5,null,"愛知選手権リレー･国体少B･ｼﾞｭﾆｱ記録会 個人申込票",null,null,null,null,null,null,null,null,null,null,6]
[null,null,null,"",null,null,null,null,null,"資格審査用",null,null,null,null,null,null,"",null,null,null,null,null,"資格審査用"]
[null,"性　　別",null,{"$f":"IF(②選手情報入力!I26=\"\",\"\",②選手情報入力!I26)","v":""},null,null,null,"出場資格条件（選択)",null,null,null,null,null,null,"性　　別",null,{"$f":"IF(②選手情報入力!L26=\"\",\"\",②選手情報入力!L26)","v":""},null,null,null,"出場資格条件（選択)"]
["種  目",{"$f":"IF(②選手情報入力!$G$26=\"\",\"\",②選手情報入力!$G$26)","v":""},null,null,null,null,null,null,null,null,null,null,null,"種  目",{"$f":"IF(②選手情報入力!$G$26=\"\",\"\",②選手情報入力!$G$26)","v":""}]
[]
["ナンバー",null,"ﾌ ﾘ ｶﾞﾅ",{"$f":"IF(②選手情報入力!$E$26=\"\",\"\",②選手情報入力!$E$26)","v":""},null,null,null,null,null,null,null,null,null,"ナンバー",null,"ﾌ ﾘ ｶﾞﾅ",{"$f":"IF(②選手情報入力!$E$26=\"\",\"\",②選手情報入力!$E$26)","v":""}]
[{"$f":"IF(②選手情報入力!$C$26=\"\",\"\",②選手情報入力!$C$26)","v":""},null,"氏 名",{"$f":"IF(②選手情報入力!$D$26=\"\",\"\",②選手情報入力!$D$26)","v":""},null,null,null,null,null,null,null,null,null,{"$f":"IF(②選手情報入力!$C$26=\"\",\"\",②選手情報入力!$C$26)","v":""},null,"氏 名",{"$f":"IF(②選手情報入力!$D$26=\"\",\"\",②選手情報入力!$D$26)","v":""}]
[]
["出場資格\n取得大会","大　会　名",null,null,null,"加入団体名",null,"中京大学",null,null,null,null,null,"出場資格\n取得大会","大　会　名",null,null,null,"加入団体名",null,"中京大学"]
[null,null,null,null,null,"年.月.日","順 位",null,"記　録",null,"場  所",null,null,null,null,null,null,null,"年.月.日","順 位",null,"記　録",null,"場  所"]
[null,null,null,null,null,null,null,null,{"$f":"IF(②選手情報入力!J26=\"\",\"\",②選手情報入力!J26)","v":""},null,null,null,null,null,null,null,null,null,null,null,null,{"$f":"IF(②選手情報入力!M26=\"\",\"\",②選手情報入力!M26)","v":""}]
[]
["本 年 度",null,null,null,null,null,null,null,{"$f":"IF(②選手情報入力!K26=\"\",\"\",②選手情報入力!K26)","v":""},null,null,null,null,"本 年 度",null,null,null,null,null,null,null,{"$f":"IF(②選手情報入力!N26=\"\",\"\",②選手情報入力!N26)","v":""}]
["最高記録",null,null,null,null,null,null,null,null,null,null,null,null,"最高記録"]
["備　  考","※記入不要",null,null,null,null,null,null,null,null,null,null,null,"備　  考","※記入不要"]
[]
["※標準記録突破大会は、公認大会で、記録会は正式名称を記入。",null,null,null,null,null,null,null,null,null,"女子",null,null,"※標準記録突破大会は、公認大会で、記録会は正式名称を記入。",null,null,null,null,null,null,null,null,null,"女子"]
["※参加資格・記録等記入不備の場合、審査の対象としない。",null,null,null,null,null,null,null,null,null,"ここを",null,null,"※参加資格・記録等記入不備の場合、審査の対象としない。",null,null,null,null,null,null,null,null,null,"ここを"]
["※申込締切期日厳守。",null,null,null,null,null,null,null,null,null,"切り取る",null,null,"※申込締切期日厳守。",null,null,null,null,null,null,null,null,null,"切り取る"]
[]
[]
["愛知選手権リレー･国体少B･ｼﾞｭﾆｱ記録会 個人申込票",null,null,null,null,null,null,null,null,null,null,7,null,"愛知選手権リレー･国体少B･ｼﾞｭﾆｱ記録会 個人申込票",null,null,null,null,null,null,null,null,null,null,8]
[null,null,null,"",null,null,null,null,null,"資格審査用",null,null,null,null,null,null,"",null,null,null,null,null,"資格審査用"]
[null,"性　　別",null,{"$f":"IF(②選手情報入力!I27=\"\",\"\",②選手情報入力!I27)","v":""},null,null,null,"出場資格条件（選択)",null,null,null,null,null,null,"性　　別",null,{"$f":"IF(②選手情報入力!L27=\"\",\"\",②選手情報入力!L27)","v":""},null,null,null,"出場資格条件（選択)"]
["種  目",{"$f":"IF(②選手情報入力!$G$27=\"\",\"\",②選手情報入力!$G$27)","v":""},null,null,null,null,null,null,null,null,null,null,null,"種  目",{"$f":"IF(②選手情報入力!$G$27=\"\",\"\",②選手情報入力!$G$27)","v":""}]
[]
["ナンバー",null,"ﾌ ﾘ ｶﾞﾅ",{"$f":"IF(②選手情報入力!$E$27=\"\",\"\",②選手情報入力!$E$27)","v":""},null,null,null,null,null,null,null,null,null,"ナンバー",null,"ﾌ ﾘ ｶﾞﾅ",{"$f":"IF(②選手情報入力!$E$27=\"\",\"\",②選手情報入力!$E$27)","v":""}]
[{"$f":"IF(②選手情報入力!$C$27=\"\",\"\",②選手情報入力!$C$27)","v":""},null,"氏 名",{"$f":"IF(②選手情報入力!$D$27=\"\",\"\",②選手情報入力!$D$27)","v":""},null,null,null,null,null,null,null,null,null,{"$f":"IF(②選手情報入力!$C$27=\"\",\"\",②選手情報入力!$C$27)","v":""},null,"氏 名",{"$f":"IF(②選手情報入力!$D$27=\"\",\"\",②選手情報入力!$D$27)","v":""}]
[]
["出場資格\n取得大会","大　会　名",null,null,null,"加入団体名",null,"中京大学",null,null,null,null,null,"出場資格\n取得大会","大　会　名",null,null,null,"加入団体名",null,"中京大学"]
[null,null,null,null,null,"年.月.日","順 位",null,"記　録",null,"場  所",null,null,null,null,null,null,null,"年.月.日","順 位",null,"記　録",null,"場  所"]
[null,null,null,null,null,null,null,null,{"$f":"IF(②選手情報入力!J27=\"\",\"\",②選手情報入力!J27)","v":""},null,null,null,null,null,null,null,null,null,null,null,null,{"$f":"IF(②選手情報入力!M27=\"\",\"\",②選手情報入力!M27)","v":""}]
[]
["本 年 度",null,null,null,null,null,null,null,{"$f":"IF(②選手情報入力!K27=\"\",\"\",②選手情報入力!K27)","v":""},null,null,null,null,"本 年 度",null,null,null,null,null,null,null,{"$f":"IF(②選手情報入力!N27=\"\",\"\",②選手情報入力!N27)","v":""}]
["最高記録",null,null,null,null,null,null,null,null,null,null,null,null,"最高記録"]
["備　  考","※記入不要",null,null,null,null,null,null,null,null,null,null,null,"備　  考","※記入不要"]
[]
["※標準記録突破大会は、公認大会で、記録会は正式名称を記入。",null,null,null,null,null,null,null,null,null,"女子",null,null,"※標準記録突破大会は、公認大会で、記録会は正式名称を記入。",null,null,null,null,null,null,null,null,null,"女子"]
["※参加資格・記録等記入不備の場合、審査の対象としない。",null,null,null,null,null,null,null,null,null,"ここを",null,null,"※参加資格・記録等記入不備の場合、審査の対象としない。",null,null,null,null,null,null,null,null,null,"ここを"]
["※申込締切期日厳守。",null,null,null,null,null,null,null,null,null,"切り取る",null,null,"※申込締切期日厳守。",null,null,null,null,null,null,null,null,null,"切り取る"]
[]
[]
["愛知選手権リレー･国体少B･ｼﾞｭﾆｱ記録会 個人申込票",null,null,null,null,null,null,null,null,null,null,9,null,"愛知選手権リレー･国体少B･ｼﾞｭﾆｱ記録会 個人申込票",null,null,null,null,null,null,null,null,null,null,10]
[null,null,null,"",null,null,null,null,null,"資格審査用",null,null,null,null,null,null,"",null,null,null,null,null,"資格審査用"]
[null,"性　　別",null,{"$f":"IF(②選手情報入力!I28=\"\",\"\",②選手情報入力!I28)","v":""},null,null,null,"出場資格条件（選択)",null,null,null,null,null,null,"性　　別",null,{"$f":"IF(②選手情報入力!L28=\"\",\"\",②選手情報入力!L28)","v":""},null,null,null,"出場資格条件（選択)"]
["種  目",{"$f":"IF(②選手情報入力!$G$28=\"\",\"\",②選手情報入力!$G$28)","v":""},null,null,null,null,null,null,null,null,null,null,null,"種  目",{"$f":"IF(②選手情報入力!$G$28=\"\",\"\",②選手情報入力!$G$28)","v":""}]
[]
["ナンバー",null,"ﾌ ﾘ ｶﾞﾅ",{"$f":"IF(②選手情報入力!$E$28=\"\",\"\",②選手情報入力!$E$28)","v":""},null,null,null,null,null,null,null,null,null,"ナンバー",null,"ﾌ ﾘ ｶﾞﾅ",{"$f":"IF(②選手情報入力!$E$28=\"\",\"\",②選手情報入力!$E$28)","v":""}]
[{"$f":"IF(②選手情報入力!$C$28=\"\",\"\",②選手情報入力!$C$28)","v":""},null,"氏 名",{"$f":"IF(②選手情報入力!$D$28=\"\",\"\",②選手情報入力!$D$28)","v":""},null,null,null,null,null,null,null,null,null,{"$f":"IF(②選手情報入力!$C$28=\"\",\"\",②選手情報入力!$C$28)","v":""},null,"氏 名",{"$f":"IF(②選手情報入力!$D$28=\"\",\"\",②選手情報入力!$D$28)","v":""}]
[]
["出場資格\n取得大会","大　会　名",null,null,null,"加入団体名",null,"中京大学",null,null,null,null,null,"出場資格\n取得大会","大　会　名",null,null,null,"加入団体名",null,"中京大学"]
[null,null,null,null,null,"年.月.日","順 位",null,"記　録",null,"場  所",null,null,null,null,null,null,null,"年.月.日","順 位",null,"記　録",null,"場  所"]
[null,null,null,null,null,null,null,null,{"$f":"IF(②選手情報入力!J28=\"\",\"\",②選手情報入力!J28)","v":""},null,null,null,null,null,null,null,null,null,null,null,null,{"$f":"IF(②選手情報入力!M28=\"\",\"\",②選手情報入力!M28)","v":""}]
[]
["本 年 度",null,null,null,null,null,null,null,{"$f":"IF(②選手情報入力!K28=\"\",\"\",②選手情報入力!K28)","v":""},null,null,null,null,"本 年 度",null,null,null,null,null,null,null,{"$f":"IF(②選手情報入力!N28=\"\",\"\",②選手情報入力!N28)","v":""}]
["最高記録",null,null,null,null,null,null,null,null,null,null,null,null,"最高記録"]
["備　  考","※記入不要",null,null,null,null,null,null,null,null,null,null,null,"備　  考","※記入不要"]
[]
["※標準記録突破大会は、公認大会で、記録会は正式名称を記入。",null,null,null,null,null,null,null,null,null,"女子",null,null,"※標準記録突破大会は、公認大会で、記録会は正式名称を記入。",null,null,null,null,null,null,null,null,null,"女子"]
["※参加資格・記録等記入不備の場合、審査の対象としない。",null,null,null,null,null,null,null,null,null,"ここを",null,null,"※参加資格・記録等記入不備の場合、審査の対象としない。",null,null,null,null,null,null,null,null,null,"ここを"]
["※申込締切期日厳守。",null,null,null,null,null,null,null,null,null,"切り取る",null,null,"※申込締切期日厳守。",null,null,null,null,null,null,null,null,null,"切り取る"]
[]
[]
[]
["愛知選手権リレー･国体少B･ｼﾞｭﾆｱ記録会 個人申込票",null,null,null,null,null,null,null,null,null,null,11,null,"愛知選手権リレー･国体少B･ｼﾞｭﾆｱ記録会 個人申込票"]
[null,null,null,"",null,null,null,null,null,"資格審査用",null,null,null,null,null,null,"",null,null,null,null,null,"資格審査用"]
[null,"性　　別",null,{"$f":"IF(②選手情報入力!I29=\"\",\"\",②選手情報入力!I29)","v":""},null,null,null,"出場資格条件（選択)",null,null,null,null,null,null,"性　　別",null,{"$f":"IF(②選手情報入力!L29=\"\",\"\",②選手情報入力!L29)","v":""},null,null,null,"出場資格条件（選択)"]
["種  目",{"$f":"IF(②選手情報入力!$G$29=\"\",\"\",②選手情報入力!$G$29)","v":""},null,null,null,null,null,null,null,null,null,null,null,"種  目",{"$f":"IF(②選手情報入力!$G$29=\"\",\"\",②選手情報入力!$G$29)","v":""}]
[]
["ナンバー",null,"ﾌ ﾘ ｶﾞﾅ",{"$f":"IF(②選手情報入力!$E$29=\"\",\"\",②選手情報入力!$E$29)","v":""},null,null,null,null,null,null,null,null,null,"ナンバー",null,"ﾌ ﾘ ｶﾞﾅ",{"$f":"IF(②選手情報入力!$E$29=\"\",\"\",②選手情報入力!$E$29)","v":""}]
[{"$f":"IF(②選手情報入力!$C$29=\"\",\"\",②選手情報入力!$C$29)","v":""},null,"氏 名",{"$f":"IF(②選手情報入力!$D$29=\"\",\"\",②選手情報入力!$D$29)","v":""},null,null,null,null,null,null,null,null,null,{"$f":"IF(②選手情報入力!$C$29=\"\",\"\",②選手情報入力!$C$29)","v":""},null,"氏 名",{"$f":"IF(②選手情報入力!$D$29=\"\",\"\",②選手情報入力!$D$29)","v":""}]
[]
["出場資格\n取得大会","大　会　名",null,null,null,"加入団体名",null,"中京大学",null,null,null,null,null,"出場資格\n取得大会","大　会　名",null,null,null,"加入団体名",null,"中京大学"]
[null,null,null,null,null,"年.月.日","順 位",null,"記　録",null,"場  所",null,null,null,null,null,null,null,"年.月.日","順 位",null,"記　録",null,"場  所"]
[null,null,null,null,null,null,null,null,{"$f":"IF(②選手情報入力!J29=\"\",\"\",②選手情報入力!J29)","v":""},null,null,null,null,null,null,null,null,null,null,null,null,{"$f":"IF(②選手情報入力!M29=\"\",\"\",②選手情報入力!M29)","v":""}]
[]
["本 年 度",null,null,null,null,null,null,null,{"$f":"IF(②選手情報入力!K29=\"\",\"\",②選手情報入力!K29)","v":""},null,null,null,null,"本 年 度",null,null,null,null,null,null,null,{"$f":"IF(②選手情報入力!N29=\"\",\"\",②選手情報入力!N29)","v":""}]
["最高記録",null,null,null,null,null,null,null,null,null,null,null,null,"最高記録"]
["備　  考","※記入不要",null,null,null,null,null,null,null,null,null,null,null,"備　  考","※記入不要"]
[]
["※標準記録突破大会は、公認大会で、記録会は正式名称を記入。",null,null,null,null,null,null,null,null,null,"女子",null,null,"※標準記録突破大会は、公認大会で、記録会は正式名称を記入。",null,null,null,null,null,null,null,null,null,"女子"]
["※参加資格・記録等記入不備の場合、審査の対象としない。",null,null,null,null,null,null,null,null,null,"ここを",null,null,"※参加資格・記録等記入不備の場合、審査の対象としない。",null,null,null,null,null,null,null,null,null,"ここを"]
["※申込締切期日厳守。",null,null,null,null,null,null,null,null,null,"切り取る",null,null,"※申込締切期日厳守。",null,null,null,null,null,null,null,null,null,"切り取る"]
[]
[]
["愛知選手権リレー･国体少B･ｼﾞｭﾆｱ記録会 個人申込票",null,null,null,null,null,null,null,null,null,null,13,null,"愛知選手権リレー･国体少B･ｼﾞｭﾆｱ記録会 個人申込票",null,null,null,null,null,null,null,null,null,null,14]
[null,null,null,"",null,null,null,null,null,"資格審査用",null,null,null,null,null,null,"",null,null,null,null,null,"資格審査用"]
[null,"性　　別",null,{"$f":"IF(②選手情報入力!I30=\"\",\"\",②選手情報入力!I30)","v":""},null,null,null,"出場資格条件（選択)",null,null,null,null,null,null,"性　　別",null,{"$f":"IF(②選手情報入力!L30=\"\",\"\",②選手情報入力!L30)","v":""},null,null,null,"出場資格条件（選択)"]
["種  目",{"$f":"IF(②選手情報入力!$G$30=\"\",\"\",②選手情報入力!$G$30)","v":""},null,null,null,null,null,null,null,null,null,null,null,"種  目",{"$f":"IF(②選手情報入力!$G$30=\"\",\"\",②選手情報入力!$G$30)","v":""}]
[]
["ナンバー",null,"ﾌ ﾘ ｶﾞﾅ",{"$f":"IF(②選手情報入力!$E$30=\"\",\"\",②選手情報入力!$E$30)","v":""},null,null,null,null,null,null,null,null,null,"ナンバー",null,"ﾌ ﾘ ｶﾞﾅ",{"$f":"IF(②選手情報入力!$E$30=\"\",\"\",②選手情報入力!$E$30)","v":""}]
[{"$f":"IF(②選手情報入力!$C$30=\"\",\"\",②選手情報入力!$C$30)","v":""},null,"氏 名",{"$f":"IF(②選手情報入力!$D$30=\"\",\"\",②選手情報入力!$D$30)","v":""},null,null,null,null,null,null,null,null,null,{"$f":"IF(②選手情報入力!$C$30=\"\",\"\",②選手情報入力!$C$30)","v":""},null,"氏 名",{"$f":"IF(②選手情報入力!$D$30=\"\",\"\",②選手情報入力!$D$30)","v":""}]
[]
["出場資格\n取得大会","大　会　名",null,null,null,"加入団体名",null,"中京大学",null,null,null,null,null,"出場資格\n取得大会","大　会　名",null,null,null,"加入団体名",null,"中京大学"]
[null,null,null,null,null,"年.月.日","順 位",null,"記　録",null,"場  所",null,null,null,null,null,null,null,"年.月.日","順 位",null,"記　録",null,"場  所"]
[null,null,null,null,null,null,null,null,{"$f":"IF(②選手情報入力!J30=\"\",\"\",②選手情報入力!J30)","v":""},null,null,null,null,null,null,null,null,null,null,null,null,{"$f":"IF(②選手情報入力!M30=\"\",\"\",②選手情報入力!M30)","v":""}]
[]
["本 年 度",null,null,null,null,null,null,null,{"$f":"IF(②選手情報入力!K30=\"\",\"\",②選手情報入力!K30)","v":""},null,null,null,null,"本 年 度",null,null,null,null,null,null,null,{"$f":"IF(②選手情報入力!N30=\"\",\"\",②選手情報入力!N30)","v":""}]
["最高記録",null,null,null,null,null,null,null,null,null,null,null,null,"最高記録"]
["備　  考","※記入不要",null,null,null,null,null,null,null,null,null,null,null,"備　  考","※記入不要"]
[]
["※標準記録突破大会は、公認大会で、記録会は正式名称を記入。",null,null,null,null,null,null,null,null,null,"女子",null,null,"※標準記録突破大会は、公認大会で、記録会は正式名称を記入。",null,null,null,null,null,null,null,null,null,"女子"]
["※参加資格・記録等記入不備の場合、審査の対象としない。",null,null,null,null,null,null,null,null,null,"ここを",null,null,"※参加資格・記録等記入不備の場合、審査の対象としない。",null,null,null,null,null,null,null,null,null,"ここを"]
["※申込締切期日厳守。",null,null,null,null,null,null,null,null,null,"切り取る",null,null,"※申込締切期日厳守。",null,null,null,null,null,null,null,null,null,"切り取る"]
[]
[]
["愛知選手権リレー･国体少B･ｼﾞｭﾆｱ記録会 個人申込票",null,null,null,null,null,null,null,null,null,null,15,null,"愛知選手権リレー･国体少B･ｼﾞｭﾆｱ記録会 個人申込票",null,null,null,null,null,null,null,null,null,null,16]
[null,null,null,"",null,null,null,null,null,"資格審査用",null,null,null,null,null,null,"",null,null,null,null,null,"資格審査用"]
[null,"性　　別",null,{"$f":"IF(②選手情報入力!I31=\"\",\"\",②選手情報入力!I31)","v":""},null,null,null,"出場資格条件（選択)",null,null,null,null,null,null,"性　　別",null,{"$f":"IF(②選手情報入力!L31=\"\",\"\",②選手情報入力!L31)","v":""},null,null,null,"出場資格条件（選択)"]
["種  目",{"$f":"IF(②選手情報入力!$G$31=\"\",\"\",②選手情報入力!$G$31)","v":""},null,null,null,null,null,null,null,null,null,null,null,"種  目",{"$f":"IF(②選手情報入力!$G$31=\"\",\"\",②選手情報入力!$G$31)","v":""}]
[]
["ナンバー",null,"ﾌ ﾘ ｶﾞﾅ",{"$f":"IF(②選手情報入力!$E$31=\"\",\"\",②選手情報入力!$E$31)","v":""},null,null,null,null,null,null,null,null,null,"ナンバー",null,"ﾌ ﾘ ｶﾞﾅ",{"$f":"IF(②選手情報入力!$E$31=\"\",\"\",②選手情報入力!$E$31)","v":""}]
[{"$f":"IF(②選手情報入力!$C$31=\"\",\"\",②選手情報入力!$C$31)","v":""},null,"氏 名",{"$f":"IF(②選手情報入力!$D$31=\"\",\"\",②選手情報入力!$D$31)","v":""},null,null,null,null,null,null,null,null,null,{"$f":"IF(②選手情報入力!$C$31=\"\",\"\",②選手情報入力!$C$31)","v":""},null,"氏 名",{"$f":"IF(②選手情報入力!$D$31=\"\",\"\",②選手情報入力!$D$31)","v":""}]
[]
["出場資格\n取得大会","大　会　名",null,null,null,"加入団体名",null,"中京大学",null,null,null,null,null,"出場資格\n取得大会","大　会　名",null,null,null,"加入団体名",null,"中京大学"]
[null,null,null,null,null,"年.月.日","順 位",null,"記　録",null,"場  所",null,null,null,null,null,null,null,"年.月.日","順 位",null,"記　録",null,"場  所"]
[null,null,null,null,null,null,null,null,{"$f":"IF(②選手情報入力!J31=\"\",\"\",②選手情報入力!J31)","v":""},null,null,null,null,null,null,null,null,null,null,null,null,{"$f":"IF(②選手情報入力!M31=\"\",\"\",②選手情報入力!M31)","v":""}]
[]
["本 年 度",null,null,null,null,null,null,null,{"$f":"IF(②選手情報入力!K31=\"\",\"\",②選手情報入力!K31)","v":""},null,null,null,null,"本 年 度",null,null,null,null,null,null,null,{"$f":"IF(②選手情報入力!N31=\"\",\"\",②選手情報入力!N31)","v":""}]
["最高記録",null,null,null,null,null,null,null,null,null,null,null,null,"最高記録"]
["備　  考","※記入不要",null,null,null,null,null,null,null,null,null,null,null,"備　  考","※記入不要"]
[]
["※標準記録突破大会は、公認大会で、記録会は正式名称を記入。",null,null,null,null,null,null,null,null,null,"女子",null,null,"※標準記録突破大会は、公認大会で、記録会は正式名称を記入。",null,null,null,null,null,null,null,null,null,"女子"]
["※参加資格・記録等記入不備の場合、審査の対象としない。",null,null,null,null,null,null,null,null,null,"ここを",null,null,"※参加資格・記録等記入不備の場合、審査の対象としない。",null,null,null,null,null,null,null,null,null,"ここを"]
["※申込締切期日厳守。",null,null,null,null,null,null,null,null,null,"切り取る",null,null,"※申込締切期日厳守。",null,null,null,null,null,null,null,null,null,"切り取る"]
[]
[]
[]
["愛知選手権リレー･国体少B･ｼﾞｭﾆｱ記録会 個人申込票",null,null,null,null,null,null,null,null,null,null,3,null,"愛知選手権リレー･国体少B･ｼﾞｭﾆｱ記録会 個人申込票",null,null,null,null,null,null,null,null,null,null,4]
[null,null,null,"",null,null,null,null,null,"資格審査用",null,null,null,null,null,null,"",null,null,null,null,null,"資格審査用"]
[null,"性　　別",null,{"$f":"IF(②選手情報入力!I32=\"\",\"\",②選手情報入力!I32)","v":""},null,null,null,"出場資格条件（選択)",null,null,null,null,null,null,"性　　別",null,{"$f":"IF(②選手情報入力!L32=\"\",\"\",②選手情報入力!L32)","v":""},null,null,null,"出場資格条件（選択)"]
["種  目",{"$f":"IF(②選手情報入力!$G$32=\"\",\"\",②選手情報入力!$G$32)","v":""},null,null,null,null,null,null,null,null,null,null,null,"種  目",{"$f":"IF(②選手情報入力!$G$32=\"\",\"\",②選手情報入力!$G$32)","v":""}]
[]
["ナンバー",null,"ﾌ ﾘ ｶﾞﾅ",{"$f":"IF(②選手情報入力!$E$32=\"\",\"\",②選手情報入力!$E$32)","v":""},null,null,null,null,null,null,null,null,null,"ナンバー",null,"ﾌ ﾘ ｶﾞﾅ",{"$f":"IF(②選手情報入力!$E$32=\"\",\"\",②選手情報入力!$E$32)","v":""}]
[{"$f":"IF(②選手情報入力!$C$32=\"\",\"\",②選手情報入力!$C$32)","v":""},null,"氏 名",{"$f":"IF(②選手情報入力!$D$32=\"\",\"\",②選手情報入力!$D$32)","v":""},null,null,null,null,null,null,null,null,null,{"$f":"IF(②選手情報入力!$C$32=\"\",\"\",②選手情報入力!$C$32)","v":""},null,"氏 名",{"$f":"IF(②選手情報入力!$D$32=\"\",\"\",②選手情報入力!$D$32)","v":""}]
[]
["出場資格\n取得大会","大　会　名",null,null,null,"加入団体名",null,"中京大学",null,null,null,null,null,"出場資格\n取得大会","大　会　名",null,null,null,"加入団体名",null,"中京大学"]
[null,null,null,null,null,"年.月.日","順 位",null,"記　録",null,"場  所",null,null,null,null,null,null,null,"年.月.日","順 位",null,"記　録",null,"場  所"]
[null,null,null,null,null,null,null,null,{"$f":"IF(②選手情報入力!J32=\"\",\"\",②選手情報入力!J32)","v":""},null,null,null,null,null,null,null,null,null,null,null,null,{"$f":"IF(②選手情報入力!M32=\"\",\"\",②選手情報入力!M32)","v":""}]
[]
["本 年 度",null,null,null,null,null,null,null,{"$f":"IF(②選手情報入力!K32=\"\",\"\",②選手情報入力!K32)","v":""},null,null,null,null,"本 年 度",null,null,null,null,null,null,null,{"$f":"IF(②選手情報入力!N32=\"\",\"\",②選手情報入力!N32)","v":""}]
["最高記録",null,null,null,null,null,null,null,null,null,null,null,null,"最高記録"]
["備　  考","※記入不要",null,null,null,null,null,null,null,null,null,null,null,"備　  考","※記入不要"]
[]
["※標準記録突破大会は、公認大会で、記録会は正式名称を記入。",null,null,null,null,null,null,null,null,null,"女子",null,null,"※標準記録突破大会は、公認大会で、記録会は正式名称を記入。",null,null,null,null,null,null,null,null,null,"女子"]
["※参加資格・記録等記入不備の場合、審査の対象としない。",null,null,null,null,null,null,null,null,null,"ここを",null,null,"※参加資格・記録等記入不備の場合、審査の対象としない。",null,null,null,null,null,null,null,null,null,"ここを"]
["※申込締切期日厳守。",null,null,null,null,null,null,null,null,null,"切り取る",null,null,"※申込締切期日厳守。",null,null,null,null,null,null,null,null,null,"切り取る"]
[]
[]
["愛知選手権リレー･国体少B･ｼﾞｭﾆｱ記録会 個人申込票",null,null,null,null,null,null,null,null,null,null,5,null,"愛知選手権リレー･国体少B･ｼﾞｭﾆｱ記録会 個人申込票",null,null,null,null,null,null,null,null,null,null,6]
[null,null,null,"",null,null,null,null,null,"資格審査用",null,null,null,null,null,null,"",null,null,null,null,null,"資格審査用"]
[null,"性　　別",null,{"$f":"IF(②選手情報入力!I33=\"\",\"\",②選手情報入力!I33)","v":""},null,null,null,"出場資格条件（選択)",null,null,null,null,null,null,"性　　別",null,{"$f":"IF(②選手情報入力!L33=\"\",\"\",②選手情報入力!L33)","v":""},null,null,null,"出場資格条件（選択)"]
["種  目",{"$f":"IF(②選手情報入力!$G$33=\"\",\"\",②選手情報入力!$G$33)","v":""},null,null,null,null,null,null,null,null,null,null,null,"種  目",{"$f":"IF(②選手情報入力!$G$33=\"\",\"\",②選手情報入力!$G$33)","v":""}]
[]
["ナンバー",null,"ﾌ ﾘ ｶﾞﾅ",{"$f":"IF(②選手情報入力!$E$33=\"\",\"\",②選手情報入力!$E$33)","v":""},null,null,null,null,null,null,null,null,null,"ナンバー",null,"ﾌ ﾘ ｶﾞﾅ",{"$f":"IF(②選手情報入力!$E$33=\"\",\"\",②選手情報入力!$E$33)","v":""}]
[{"$f":"IF(②選手情報入力!$C$33=\"\",\"\",②選手情報入力!$C$33)","v":""},null,"氏 名",{"$f":"IF(②選手情報入力!$D$33=\"\",\"\",②選手情報入力!$D$33)","v":""},null,null,null,null,null,null,null,null,null,{"$f":"IF(②選手情報入力!$C$33=\"\",\"\",②選手情報入力!$C$33)","v":""},null,"氏 名",{"$f":"IF(②選手情報入力!$D$33=\"\",\"\",②選手情報入力!$D$33)","v":""}]
[]
["出場資格\n取得大会","大　会　名",null,null,null,"加入団体名",null,"中京大学",null,null,null,null,null,"出場資格\n取得大会","大　会　名",null,null,null,"加入団体名",null,"中京大学"]
[null,null,null,null,null,"年.月.日","順 位",null,"記　録",null,"場  所",null,null,null,null,null,null,null,"年.月.日","順 位",null,"記　録",null,"場  所"]
[null,null,null,null,null,null,null,null,{"$f":"IF(②選手情報入力!J33=\"\",\"\",②選手情報入力!J33)","v":""},null,null,null,null,null,null,null,null,null,null,null,null,{"$f":"IF(②選手情報入力!M33=\"\",\"\",②選手情報入力!M33)","v":""}]
[]
["本 年 度",null,null,null,null,null,null,null,{"$f":"IF(②選手情報入力!K33=\"\",\"\",②選手情報入力!K33)","v":""},null,null,null,null,"本 年 度",null,null,null,null,null,null,null,{"$f":"IF(②選手情報入力!N33=\"\",\"\",②選手情報入力!N33)","v":""}]
["最高記録",null,null,null,null,null,null,null,null,null,null,null,null,"最高記録"]
["備　  考","※記入不要",null,null,null,null,null,null,null,null,null,null,null,"備　  考","※記入不要"]
[]
["※標準記録突破大会は、公認大会で、記録会は正式名称を記入。",null,null,null,null,null,null,null,null,null,"女子",null,null,"※標準記録突破大会は、公認大会で、記録会は正式名称を記入。",null,null,null,null,null,null,null,null,null,"女子"]
["※参加資格・記録等記入不備の場合、審査の対象としない。",null,null,null,null,null,null,null,null,null,"ここを",null,null,"※参加資格・記録等記入不備の場合、審査の対象としない。",null,null,null,null,null,null,null,null,null,"ここを"]
["※申込締切期日厳守。",null,null,null,null,null,null,null,null,null,"切り取る",null,null,"※申込締切期日厳守。",null,null,null,null,null,null,null,null,null,"切り取る"]
[]
[]
["愛知選手権リレー･国体少B･ｼﾞｭﾆｱ記録会 個人申込票",null,null,null,null,null,null,null,null,null,null,7,null,"愛知選手権リレー･国体少B･ｼﾞｭﾆｱ記録会 個人申込票",null,null,null,null,null,null,null,null,null,null,8]
[null,null,null,"",null,null,null,null,null,"資格審査用",null,null,null,null,null,null,"",null,null,null,null,null,"資格審査用"]
[null,"性　　別",null,{"$f":"IF(②選手情報入力!I34=\"\",\"\",②選手情報入力!I34)","v":""},null,null,null,"出場資格条件（選択)",null,null,null,null,null,null,"性　　別",null,{"$f":"IF(②選手情報入力!L34=\"\",\"\",②選手情報入力!L34)","v":""},null,null,null,"出場資格条件（選択)"]
["種  目",{"$f":"IF(②選手情報入力!$G$34=\"\",\"\",②選手情報入力!$G$34)","v":""},null,null,null,null,null,null,null,null,null,null,null,"種  目",{"$f":"IF(②選手情報入力!$G$34=\"\",\"\",②選手情報入力!$G$34)","v":""}]
[]
["ナンバー",null,"ﾌ ﾘ ｶﾞﾅ",{"$f":"IF(②選手情報入力!$E$34=\"\",\"\",②選手情報入力!$E$34)","v":""},null,null,null,null,null,null,null,null,null,"ナンバー",null,"ﾌ ﾘ ｶﾞﾅ",{"$f":"IF(②選手情報入力!$E$34=\"\",\"\",②選手情報入力!$E$34)","v":""}]
[{"$f":"IF(②選手情報入力!$C$34=\"\",\"\",②選手情報入力!$C$34)","v":""},null,"氏 名",{"$f":"IF(②選手情報入力!$D$34=\"\",\"\",②選手情報入力!$D$34)","v":""},null,null,null,null,null,null,null,null,null,{"$f":"IF(②選手情報入力!$C$34=\"\",\"\",②選手情報入力!$C$34)","v":""},null,"氏 名",{"$f":"IF(②選手情報入力!$D$34=\"\",\"\",②選手情報入力!$D$34)","v":""}]
[]
["出場資格\n取得大会","大　会　名",null,null,null,"加入団体名",null,"中京大学",null,null,null,null,null,"出場資格\n取得大会","大　会　名",null,null,null,"加入団体名",null,"中京大学"]
[null,null,null,null,null,"年.月.日","順 位",null,"記　録",null,"場  所",null,null,null,null,null,null,null,"年.月.日","順 位",null,"記　録",null,"場  所"]
[null,null,null,null,null,null,null,null,{"$f":"IF(②選手情報入力!J34=\"\",\"\",②選手情報入力!J34)","v":""},null,null,null,null,null,null,null,null,null,null,null,null,{"$f":"IF(②選手情報入力!M34=\"\",\"\",②選手情報入力!M34)","v":""}]
[]
["本 年 度",null,null,null,null,null,null,null,{"$f":"IF(②選手情報入力!K34=\"\",\"\",②選手情報入力!K34)","v":""},null,null,null,null,"本 年 度",null,null,null,null,null,null,null,{"$f":"IF(②選手情報入力!N34=\"\",\"\",②選手情報入力!N34)","v":""}]
["最高記録",null,null,null,null,null,null,null,null,null,null,null,null,"最高記録"]
["備　  考","※記入不要",null,null,null,null,null,null,null,null,null,null,null,"備　  考","※記入不要"]
[]
["※標準記録突破大会は、公認大会で、記録会は正式名称を記入。",null,null,null,null,null,null,null,null,null,"女子",null,null,"※標準記録突破大会は、公認大会で、記録会は正式名称を記入。",null,null,null,null,null,null,null,null,null,"女子"]
["※参加資格・記録等記入不備の場合、審査の対象としない。",null,null,null,null,null,null,null,null,null,"ここを",null,null,"※参加資格・記録等記入不備の場合、審査の対象としない。",null,null,null,null,null,null,null,null,null,"ここを"]
["※申込締切期日厳守。",null,null,null,null,null,null,null,null,null,"切り取る",null,null,"※申込締切期日厳守。",null,null,null,null,null,null,null,null,null,"切り取る"]
[]
[]
["愛知選手権リレー･国体少B･ｼﾞｭﾆｱ記録会 個人申込票",null,null,null,null,null,null,null,null,null,null,9,null,"愛知選手権リレー･国体少B･ｼﾞｭﾆｱ記録会 個人申込票",null,null,null,null,null,null,null,null,null,null,10]
[null,null,null,"",null,null,null,null,null,"資格審査用",null,null,null,null,null,null,"",null,null,null,null,null,"資格審査用"]
[null,"性　　別",null,{"$f":"IF(②選手情報入力!I35=\"\",\"\",②選手情報入力!I35)","v":""},null,null,null,"出場資格条件（選択)",null,null,null,null,null,null,"性　　別",null,{"$f":"IF(②選手情報入力!L35=\"\",\"\",②選手情報入力!L35)","v":""},null,null,null,"出場資格条件（選択)"]
["種  目",{"$f":"IF(②選手情報入力!$G$35=\"\",\"\",②選手情報入力!$G$35)","v":""},null,null,null,null,null,null,null,null,null,null,null,"種  目",{"$f":"IF(②選手情報入力!$G$35=\"\",\"\",②選手情報入力!$G$35)","v":""}]
[]
["ナンバー",null,"ﾌ ﾘ ｶﾞﾅ",{"$f":"IF(②選手情報入力!$E$35=\"\",\"\",②選手情報入力!$E$35)","v":""},null,null,null,null,null,null,null,null,null,"ナンバー",null,"ﾌ ﾘ ｶﾞﾅ",{"$f":"IF(②選手情報入力!$E$35=\"\",\"\",②選手情報入力!$E$35)","v":""}]
[{"$f":"IF(②選手情報入力!$C$35=\"\",\"\",②選手情報入力!$C$35)","v":""},null,"氏 名",{"$f":"IF(②選手情報入力!$D$35=\"\",\"\",②選手情報入力!$D$35)","v":""},null,null,null,null,null,null,null,null,null,{"$f":"IF(②選手情報入力!$C$35=\"\",\"\",②選手情報入力!$C$35)","v":""},null,"氏 名",{"$f":"IF(②選手情報入力!$D$35=\"\",\"\",②選手情報入力!$D$35)","v":""}]
[]
["出場資格\n取得大会","大　会　名",null,null,null,"加入団体名",null,"中京大学",null,null,null,null,null,"出場資格\n取得大会","大　会　名",null,null,null,"加入団体名",null,"中京大学"]
[null,null,null,null,null,"年.月.日","順 位",null,"記　録",null,"場  所",null,null,null,null,null,null,null,"年.月.日","順 位",null,"記　録",null,"場  所"]
[null,null,null,null,null,null,null,null,{"$f":"IF(②選手情報入力!J35=\"\",\"\",②選手情報入力!J35)","v":""},null,null,null,null,null,null,null,null,null,null,null,null,{"$f":"IF(②選手情報入力!M35=\"\",\"\",②選手情報入力!M35)","v":""}]
[]
["本 年 度",null,null,null,null,null,null,null,{"$f":"IF(②選手情報入力!K35=\"\",\"\",②選手情報入力!K35)","v":""},null,null,null,null,"本 年 度",null,null,null,null,null,null,null,{"$f":"IF(②選手情報入力!N35=\"\",\"\",②選手情報入力!N35)","v":""}]
["最高記録",null,null,null,null,null,null,null,null,null,null,null,null,"最高記録"]
["備　  考","※記入不要",null,null,null,null,null,null,null,null,null,null,null,"備　  考","※記入不要"]
[]
["※標準記録突破大会は、公認大会で、記録会は正式名称を記入。",null,null,null,null,null,null,null,null,null,"女子",null,null,"※標準記録突破大会は、公認大会で、記録会は正式名称を記入。",null,null,null,null,null,null,null,null,null,"女子"]
["※参加資格・記録等記入不備の場合、審査の対象としない。",null,null,null,null,null,null,null,null,null,"ここを",null,null,"※参加資格・記録等記入不備の場合、審査の対象としない。",null,null,null,null,null,null,null,null,null,"ここを"]
["※申込締切期日厳守。",null,null,null,null,null,null,null,null,null,"切り取る",null,null,"※申込締切期日厳守。",null,null,null,null,null,null,null,null,null,"切り取る"]
[]
[]
[]
["愛知選手権リレー･国体少B･ｼﾞｭﾆｱ記録会 個人申込票",null,null,null,null,null,null,null,null,null,null,11,null,"愛知選手権リレー･国体少B･ｼﾞｭﾆｱ記録会 個人申込票"]
[null,null,null,"",null,null,null,null,null,"資格審査用",null,null,null,null,null,null,"",null,null,null,null,null,"資格審査用"]
[null,"性　　別",null,{"$f":"IF(②選手情報入力!I36=\"\",\"\",②選手情報入力!I36)","v":""},null,null,null,"出場資格条件（選択)",null,null,null,null,null,null,"性　　別",null,{"$f":"IF(②選手情報入力!L36=\"\",\"\",②選手情報入力!L36)","v":""},null,null,null,"出場資格条件（選択)"]
["種  目",{"$f":"IF(②選手情報入力!$G$36=\"\",\"\",②選手情報入力!$G$36)","v":""},null,null,null,null,null,null,null,null,null,null,null,"種  目",{"$f":"IF(②選手情報入力!$G$36=\"\",\"\",②選手情報入力!$G$36)","v":""}]
[]
["ナンバー",null,"ﾌ ﾘ ｶﾞﾅ",{"$f":"IF(②選手情報入力!$E$36=\"\",\"\",②選手情報入力!$E$36)","v":""},null,null,null,null,null,null,null,null,null,"ナンバー",null,"ﾌ ﾘ ｶﾞﾅ",{"$f":"IF(②選手情報入力!$E$36=\"\",\"\",②選手情報入力!$E$36)","v":""}]
[{"$f":"IF(②選手情報入力!$C$36=\"\",\"\",②選手情報入力!$C$36)","v":""},null,"氏 名",{"$f":"IF(②選手情報入力!$D$36=\"\",\"\",②選手情報入力!$D$36)","v":""},null,null,null,null,null,null,null,null,null,{"$f":"IF(②選手情報入力!$C$36=\"\",\"\",②選手情報入力!$C$36)","v":""},null,"氏 名",{"$f":"IF(②選手情報入力!$D$36=\"\",\"\",②選手情報入力!$D$36)","v":""}]
[]
["出場資格\n取得大会","大　会　名",null,null,null,"加入団体名",null,"中京大学",null,null,null,null,null,"出場資格\n取得大会","大　会　名",null,null,null,"加入団体名",null,"中京大学"]
[null,null,null,null,null,"年.月.日","順 位",null,"記　録",null,"場  所",null,null,null,null,null,null,null,"年.月.日","順 位",null,"記　録",null,"場  所"]
[null,null,null,null,null,null,null,null,{"$f":"IF(②選手情報入力!J36=\"\",\"\",②選手情報入力!J36)","v":""},null,null,null,null,null,null,null,null,null,null,null,null,{"$f":"IF(②選手情報入力!M36=\"\",\"\",②選手情報入力!M36)","v":""}]
[]
["本 年 度",null,null,null,null,null,null,null,{"$f":"IF(②選手情報入力!K36=\"\",\"\",②選手情報入力!K36)","v":""},null,null,null,null,"本 年 度",null,null,null,null,null,null,null,{"$f":"IF(②選手情報入力!N36=\"\",\"\",②選手情報入力!N36)","v":""}]
["最高記録",null,null,null,null,null,null,null,null,null,null,null,null,"最高記録"]
["備　  考","※記入不要",null,null,null,null,null,null,null,null,null,null,null,"備　  考","※記入不要"]
[]
["※標準記録突破大会は、公認大会で、記録会は正式名称を記入。",null,null,null,null,null,null,null,null,null,"女子",null,null,"※標準記録突破大会は、公認大会で、記録会は正式名称を記入。",null,null,null,null,null,null,null,null,null,"女子"]
["※参加資格・記録等記入不備の場合、審査の対象としない。",null,null,null,null,null,null,null,null,null,"ここを",null,null,"※参加資格・記録等記入不備の場合、審査の対象としない。",null,null,null,null,null,null,null,null,null,"ここを"]
["※申込締切期日厳守。",null,null,null,null,null,null,null,null,null,"切り取る",null,null,"※申込締切期日厳守。",null,null,null,null,null,null,null,null,null,"切り取る"]
[]
[]
["愛知選手権リレー･国体少B･ｼﾞｭﾆｱ記録会 個人申込票",null,null,null,null,null,null,null,null,null,null,13,null,"愛知選手権リレー･国体少B･ｼﾞｭﾆｱ記録会 個人申込票",null,null,null,null,null,null,null,null,null,null,14]
[null,null,null,"",null,null,null,null,null,"資格審査用",null,null,null,null,null,null,"",null,null,null,null,null,"資格審査用"]
[null,"性　　別",null,{"$f":"IF(②選手情報入力!I37=\"\",\"\",②選手情報入力!I37)","v":""},null,null,null,"出場資格条件（選択)",null,null,null,null,null,null,"性　　別",null,{"$f":"IF(②選手情報入力!L37=\"\",\"\",②選手情報入力!L37)","v":""},null,null,null,"出場資格条件（選択)"]
["種  目",{"$f":"IF(②選手情報入力!$G$37=\"\",\"\",②選手情報入力!$G$37)","v":""},null,null,null,null,null,null,null,null,null,null,null,"種  目",{"$f":"IF(②選手情報入力!$G$37=\"\",\"\",②選手情報入力!$G$37)","v":""}]
[]
["ナンバー",null,"ﾌ ﾘ ｶﾞﾅ",{"$f":"IF(②選手情報入力!$E$37=\"\",\"\",②選手情報入力!$E$37)","v":""},null,null,null,null,null,null,null,null,null,"ナンバー",null,"ﾌ ﾘ ｶﾞﾅ",{"$f":"IF(②選手情報入力!$E$37=\"\",\"\",②選手情報入力!$E$37)","v":""}]
[{"$f":"IF(②選手情報入力!$C$37=\"\",\"\",②選手情報入力!$C$37)","v":""},null,"氏 名",{"$f":"IF(②選手情報入力!$D$37=\"\",\"\",②選手情報入力!$D$37)","v":""},null,null,null,null,null,null,null,null,null,{"$f":"IF(②選手情報入力!$C$37=\"\",\"\",②選手情報入力!$C$37)","v":""},null,"氏 名",{"$f":"IF(②選手情報入力!$D$37=\"\",\"\",②選手情報入力!$D$37)","v":""}]
[]
["出場資格\n取得大会","大　会　名",null,null,null,"加入団体名",null,"中京大学",null,null,null,null,null,"出場資格\n取得大会","大　会　名",null,null,null,"加入団体名",null,"中京大学"]
[null,null,null,null,null,"年.月.日","順 位",null,"記　録",null,"場  所",null,null,null,null,null,null,null,"年.月.日","順 位",null,"記　録",null,"場  所"]
[null,null,null,null,null,null,null,null,{"$f":"IF(②選手情報入力!J37=\"\",\"\",②選手情報入力!J37)","v":""},null,null,null,null,null,null,null,null,null,null,null,null,{"$f":"IF(②選手情報入力!M37=\"\",\"\",②選手情報入力!M37)","v":""}]
[]
["本 年 度",null,null,null,null,null,null,null,{"$f":"IF(②選手情報入力!K37=\"\",\"\",②選手情報入力!K37)","v":""},null,null,null,null,"本 年 度",null,null,null,null,null,null,null,{"$f":"IF(②選手情報入力!N37=\"\",\"\",②選手情報入力!N37)","v":""}]
["最高記録",null,null,null,null,null,null,null,null,null,null,null,null,"最高記録"]
["備　  考","※記入不要",null,null,null,null,null,null,null,null,null,null,null,"備　  考","※記入不要"]
[]
["※標準記録突破大会は、公認大会で、記録会は正式名称を記入。",null,null,null,null,null,null,null,null,null,"女子",null,null,"※標準記録突破大会は、公認大会で、記録会は正式名称を記入。",null,null,null,null,null,null,null,null,null,"女子"]
["※参加資格・記録等記入不備の場合、審査の対象としない。",null,null,null,null,null,null,null,null,null,"ここを",null,null,"※参加資格・記録等記入不備の場合、審査の対象としない。",null,null,null,null,null,null,null,null,null,"ここを"]
["※申込締切期日厳守。",null,null,null,null,null,null,null,null,null,"切り取る",null,null,"※申込締切期日厳守。",null,null,null,null,null,null,null,null,null,"切り取る"]
[]
[]
["愛知選手権リレー･国体少B･ｼﾞｭﾆｱ記録会 個人申込票",null,null,null,null,null,null,null,null,null,null,15,null,"愛知選手権リレー･国体少B･ｼﾞｭﾆｱ記録会 個人申込票",null,null,null,null,null,null,null,null,null,null,16]
[null,null,null,"",null,null,null,null,null,"資格審査用",null,null,null,null,null,null,"",null,null,null,null,null,"資格審査用"]
[null,"性　　別",null,{"$f":"IF(②選手情報入力!I38=\"\",\"\",②選手情報入力!I38)","v":""},null,null,null,"出場資格条件（選択)",null,null,null,null,null,null,"性　　別",null,{"$f":"IF(②選手情報入力!L38=\"\",\"\",②選手情報入力!L38)","v":""},null,null,null,"出場資格条件（選択)"]
["種  目",{"$f":"IF(②選手情報入力!$G$38=\"\",\"\",②選手情報入力!$G$38)","v":""},null,null,null,null,null,null,null,null,null,null,null,"種  目",{"$f":"IF(②選手情報入力!$G$38=\"\",\"\",②選手情報入力!$G$38)","v":""}]
[]
["ナンバー",null,"ﾌ ﾘ ｶﾞﾅ",{"$f":"IF(②選手情報入力!$E$38=\"\",\"\",②選手情報入力!$E$38)","v":""},null,null,null,null,null,null,null,null,null,"ナンバー",null,"ﾌ ﾘ ｶﾞﾅ",{"$f":"IF(②選手情報入力!$E$38=\"\",\"\",②選手情報入力!$E$38)","v":""}]
[{"$f":"IF(②選手情報入力!$C$38=\"\",\"\",②選手情報入力!$C$38)","v":""},null,"氏 名",{"$f":"IF(②選手情報入力!$D$38=\"\",\"\",②選手情報入力!$D$38)","v":""},null,null,null,null,null,null,null,null,null,{"$f":"IF(②選手情報入力!$C$38=\"\",\"\",②選手情報入力!$C$38)","v":""},null,"氏 名",{"$f":"IF(②選手情報入力!$D$38=\"\",\"\",②選手情報入力!$D$38)","v":""}]
[]
["出場資格\n取得大会","大　会　名",null,null,null,"加入団体名",null,"中京大学",null,null,null,null,null,"出場資格\n取得大会","大　会　名",null,null,null,"加入団体名",null,"中京大学"]
[null,null,null,null,null,"年.月.日","順 位",null,"記　録",null,"場  所",null,null,null,null,null,null,null,"年.月.日","順 位",null,"記　録",null,"場  所"]
[null,null,null,null,null,null,null,null,{"$f":"IF(②選手情報入力!J38=\"\",\"\",②選手情報入力!J38)","v":""},null,null,null,null,null,null,null,null,null,null,null,null,{"$f":"IF(②選手情報入力!M38=\"\",\"\",②選手情報入力!M38)","v":""}]
[]
["本 年 度",null,null,null,null,null,null,null,{"$f":"IF(②選手情報入力!K38=\"\",\"\",②選手情報入力!K38)","v":""},null,null,null,null,"本 年 度",null,null,null,null,null,null,null,{"$f":"IF(②選手情報入力!N38=\"\",\"\",②選手情報入力!N38)","v":""}]
["最高記録",null,null,null,null,null,null,null,null,null,null,null,null,"最高記録"]
["備　  考","※記入不要",null,null,null,null,null,null,null,null,null,null,null,"備　  考","※記入不要"]
[]
["※標準記録突破大会は、公認大会で、記録会は正式名称を記入。",null,null,null,null,null,null,null,null,null,"女子",null,null,"※標準記録突破大会は、公認大会で、記録会は正式名称を記入。",null,null,null,null,null,null,null,null,null,"女子"]
["※参加資格・記録等記入不備の場合、審査の対象としない。",null,null,null,null,null,null,null,null,null,"ここを",null,null,"※参加資格・記録等記入不備の場合、審査の対象としない。",null,null,null,null,null,null,null,null,null,"ここを"]
["※申込締切期日厳守。",null,null,null,null,null,null,null,null,null,"切り取る",null,null,"※申込締切期日厳守。",null,null,null,null,null,null,null,null,null,"切り取る"]
[]
[]
[]
["愛知選手権リレー･国体少B･ｼﾞｭﾆｱ記録会 個人申込票",null,null,null,null,null,null,null,null,null,null,3,null,"愛知選手権リレー･国体少B･ｼﾞｭﾆｱ記録会 個人申込票",null,null,null,null,null,null,null,null,null,null,4]
[null,null,null,"",null,null,null,null,null,"資格審査用",null,null,null,null,null,null,"",null,null,null,null,null,"資格審査用"]
[null,"性　　別",null,{"$f":"IF(②選手情報入力!I39=\"\",\"\",②選手情報入力!I39)","v":""},null,null,null,"出場資格条件（選択)",null,null,null,null,null,null,"性　　別",null,{"$f":"IF(②選手情報入力!L39=\"\",\"\",②選手情報入力!L39)","v":""},null,null,null,"出場資格条件（選択)"]
["種  目",{"$f":"IF(②選手情報入力!$G$39=\"\",\"\",②選手情報入力!$G$39)","v":""},null,null,null,null,null,null,null,null,null,null,null,"種  目",{"$f":"IF(②選手情報入力!$G$39=\"\",\"\",②選手情報入力!$G$39)","v":""}]
[]
["ナンバー",null,"ﾌ ﾘ ｶﾞﾅ",{"$f":"IF(②選手情報入力!$E$39=\"\",\"\",②選手情報入力!$E$39)","v":""},null,null,null,null,null,null,null,null,null,"ナンバー",null,"ﾌ ﾘ ｶﾞﾅ",{"$f":"IF(②選手情報入力!$E$39=\"\",\"\",②選手情報入力!$E$39)","v":""}]
[{"$f":"IF(②選手情報入力!$C$39=\"\",\"\",②選手情報入力!$C$39)","v":""},null,"氏 名",{"$f":"IF(②選手情報入力!$D$39=\"\",\"\",②選手情報入力!$D$39)","v":""},null,null,null,null,null,null,null,null,null,{"$f":"IF(②選手情報入力!$C$39=\"\",\"\",②選手情報入力!$C$39)","v":""},null,"氏 名",{"$f":"IF(②選手情報入力!$D$39=\"\",\"\",②選手情報入力!$D$39)","v":""}]
[]
["出場資格\n取得大会","大　会　名",null,null,null,"加入団体名",null,"中京大学",null,null,null,null,null,"出場資格\n取得大会","大　会　名",null,null,null,"加入団体名",null,"中京大学"]
[null,null,null,null,null,"年.月.日","順 位",null,"記　録",null,"場  所",null,null,null,null,null,null,null,"年.月.日","順 位",null,"記　録",null,"場  所"]
[null,null,null,null,null,null,null,null,{"$f":"IF(②選手情報入力!J39=\"\",\"\",②選手情報入力!J39)","v":""},null,null,null,null,null,null,null,null,null,null,null,null,{"$f":"IF(②選手情報入力!M39=\"\",\"\",②選手情報入力!M39)","v":""}]
[]
["本 年 度",null,null,null,null,null,null,null,{"$f":"IF(②選手情報入力!K39=\"\",\"\",②選手情報入力!K39)","v":""},null,null,null,null,"本 年 度",null,null,null,null,null,null,null,{"$f":"IF(②選手情報入力!N39=\"\",\"\",②選手情報入力!N39)","v":""}]
["最高記録",null,null,null,null,null,null,null,null,null,null,null,null,"最高記録"]
["備　  考","※記入不要",null,null,null,null,null,null,null,null,null,null,null,"備　  考","※記入不要"]
[]
["※標準記録突破大会は、公認大会で、記録会は正式名称を記入。",null,null,null,null,null,null,null,null,null,"女子",null,null,"※標準記録突破大会は、公認大会で、記録会は正式名称を記入。",null,null,null,null,null,null,null,null,null,"女子"]
["※参加資格・記録等記入不備の場合、審査の対象としない。",null,null,null,null,null,null,null,null,null,"ここを",null,null,"※参加資格・記録等記入不備の場合、審査の対象としない。",null,null,null,null,null,null,null,null,null,"ここを"]
["※申込締切期日厳守。",null,null,null,null,null,null,null,null,null,"切り取る",null,null,"※申込締切期日厳守。",null,null,null,null,null,null,null,null,null,"切り取る"]
[]
[]
["愛知選手権リレー･国体少B･ｼﾞｭﾆｱ記録会 個人申込票",null,null,null,null,null,null,null,null,null,null,5,null,"愛知選手権リレー･国体少B･ｼﾞｭﾆｱ記録会 個人申込票",null,null,null,null,null,null,null,null,null,null,6]
[null,null,null,"",null,null,null,null,null,"資格審査用",null,null,null,null,null,null,"",null,null,null,null,null,"資格審査用"]
[null,"性　　別",null,{"$f":"IF(②選手情報入力!I40=\"\",\"\",②選手情報入力!I40)","v":""},null,null,null,"出場資格条件（選択)",null,null,null,null,null,null,"性　　別",null,{"$f":"IF(②選手情報入力!L40=\"\",\"\",②選手情報入力!L40)","v":""},null,null,null,"出場資格条件（選択)"]
["種  目",{"$f":"IF(②選手情報入力!$G$40=\"\",\"\",②選手情報入力!$G$40)","v":""},null,null,null,null,null,null,null,null,null,null,null,"種  目",{"$f":"IF(②選手情報入力!$G$40=\"\",\"\",②選手情報入力!$G$40)","v":""}]
[]
["ナンバー",null,"ﾌ ﾘ ｶﾞﾅ",{"$f":"IF(②選手情報入力!$E$40=\"\",\"\",②選手情報入力!$E$40)","v":""},null,null,null,null,null,null,null,null,null,"ナンバー",null,"ﾌ ﾘ ｶﾞﾅ",{"$f":"IF(②選手情報入力!$E$40=\"\",\"\",②選手情報入力!$E$40)","v":""}]
[{"$f":"IF(②選手情報入力!$C$40=\"\",\"\",②選手情報入力!$C$40)","v":""},null,"氏 名",{"$f":"IF(②選手情報入力!$D$40=\"\",\"\",②選手情報入力!$D$40)","v":""},null,null,null,null,null,null,null,null,null,{"$f":"IF(②選手情報入力!$C$40=\"\",\"\",②選手情報入力!$C$40)","v":""},null,"氏 名",{"$f":"IF(②選手情報入力!$D$40=\"\",\"\",②選手情報入力!$D$40)","v":""}]
[]
["出場資格\n取得大会","大　会　名",null,null,null,"加入団体名",null,"中京大学",null,null,null,null,null,"出場資格\n取得大会","大　会　名",null,null,null,"加入団体名",null,"中京大学"]
[null,null,null,null,null,"年.月.日","順 位",null,"記　録",null,"場  所",null,null,null,null,null,null,null,"年.月.日","順 位",null,"記　録",null,"場  所"]
[null,null,null,null,null,null,null,null,{"$f":"IF(②選手情報入力!J40=\"\",\"\",②選手情報入力!J40)","v":""},null,null,null,null,null,null,null,null,null,null,null,null,{"$f":"IF(②選手情報入力!M40=\"\",\"\",②選手情報入力!M40)","v":""}]
[]
["本 年 度",null,null,null,null,null,null,null,{"$f":"IF(②選手情報入力!K40=\"\",\"\",②選手情報入力!K40)","v":""},null,null,null,null,"本 年 度",null,null,null,null,null,null,null,{"$f":"IF(②選手情報入力!N40=\"\",\"\",②選手情報入力!N40)","v":""}]
["最高記録",null,null,null,null,null,null,null,null,null,null,null,null,"最高記録"]
["備　  考","※記入不要",null,null,null,null,null,null,null,null,null,null,null,"備　  考","※記入不要"]
[]
["※標準記録突破大会は、公認大会で、記録会は正式名称を記入。",null,null,null,null,null,null,null,null,null,"女子",null,null,"※標準記録突破大会は、公認大会で、記録会は正式名称を記入。",null,null,null,null,null,null,null,null,null,"女子"]
["※参加資格・記録等記入不備の場合、審査の対象としない。",null,null,null,null,null,null,null,null,null,"ここを",null,null,"※参加資格・記録等記入不備の場合、審査の対象としない。",null,null,null,null,null,null,null,null,null,"ここを"]
["※申込締切期日厳守。",null,null,null,null,null,null,null,null,null,"切り取る",null,null,"※申込締切期日厳守。",null,null,null,null,null,null,null,null,null,"切り取る"]
[]
[]
["愛知選手権リレー･国体少B･ｼﾞｭﾆｱ記録会 個人申込票",null,null,null,null,null,null,null,null,null,null,7,null,"愛知選手権リレー･国体少B･ｼﾞｭﾆｱ記録会 個人申込票",null,null,null,null,null,null,null,null,null,null,8]
[null,null,null,"",null,null,null,null,null,"資格審査用",null,null,null,null,null,null,"",null,null,null,null,null,"資格審査用"]
[null,"性　　別",null,{"$f":"IF(②選手情報入力!I41=\"\",\"\",②選手情報入力!I41)","v":""},null,null,null,"出場資格条件（選択)",null,null,null,null,null,null,"性　　別",null,{"$f":"IF(②選手情報入力!L41=\"\",\"\",②選手情報入力!L41)","v":""},null,null,null,"出場資格条件（選択)"]
["種  目",{"$f":"IF(②選手情報入力!$G$41=\"\",\"\",②選手情報入力!$G$41)","v":""},null,null,null,null,null,null,null,null,null,null,null,"種  目",{"$f":"IF(②選手情報入力!$G$41=\"\",\"\",②選手情報入力!$G$41)","v":""}]
[]
["ナンバー",null,"ﾌ ﾘ ｶﾞﾅ",{"$f":"IF(②選手情報入力!$E$41=\"\",\"\",②選手情報入力!$E$41)","v":""},null,null,null,null,null,null,null,null,null,"ナンバー",null,"ﾌ ﾘ ｶﾞﾅ",{"$f":"IF(②選手情報入力!$E$41=\"\",\"\",②選手情報入力!$E$41)","v":""}]
[{"$f":"IF(②選手情報入力!$C$41=\"\",\"\",②選手情報入力!$C$41)","v":""},null,"氏 名",{"$f":"IF(②選手情報入力!$D$41=\"\",\"\",②選手情報入力!$D$41)","v":""},null,null,null,null,null,null,null,null,null,{"$f":"IF(②選手情報入力!$C$41=\"\",\"\",②選手情報入力!$C$41)","v":""},null,"氏 名",{"$f":"IF(②選手情報入力!$D$41=\"\",\"\",②選手情報入力!$D$41)","v":""}]
[]
["出場資格\n取得大会","大　会　名",null,null,null,"加入団体名",null,"中京大学",null,null,null,null,null,"出場資格\n取得大会","大　会　名",null,null,null,"加入団体名",null,"中京大学"]
[null,null,null,null,null,"年.月.日","順 位",null,"記　録",null,"場  所",null,null,null,null,null,null,null,"年.月.日","順 位",null,"記　録",null,"場  所"]
[null,null,null,null,null,null,null,null,{"$f":"IF(②選手情報入力!J41=\"\",\"\",②選手情報入力!J41)","v":""},null,null,null,null,null,null,null,null,null,null,null,null,{"$f":"IF(②選手情報入力!M41=\"\",\"\",②選手情報入力!M41)","v":""}]
[]
["本 年 度",null,null,null,null,null,null,null,{"$f":"IF(②選手情報入力!K41=\"\",\"\",②選手情報入力!K41)","v":""},null,null,null,null,"本 年 度",null,null,null,null,null,null,null,{"$f":"IF(②選手情報入力!N41=\"\",\"\",②選手情報入力!N41)","v":""}]
["最高記録",null,null,null,null,null,null,null,null,null,null,null,null,"最高記録"]
["備　  考","※記入不要",null,null,null,null,null,null,null,null,null,null,null,"備　  考","※記入不要"]
[]
["※標準記録突破大会は、公認大会で、記録会は正式名称を記入。",null,null,null,null,null,null,null,null,null,"女子",null,null,"※標準記録突破大会は、公認大会で、記録会は正式名称を記入。",null,null,null,null,null,null,null,null,null,"女子"]
["※参加資格・記録等記入不備の場合、審査の対象としない。",null,null,null,null,null,null,null,null,null,"ここを",null,null,"※参加資格・記録等記入不備の場合、審査の対象としない。",null,null,null,null,null,null,null,null,null,"ここを"]
["※申込締切期日厳守。",null,null,null,null,null,null,null,null,null,"切り取る",null,null,"※申込締切期日厳守。",null,null,null,null,null,null,null,null,null,"切り取る"]
[]
[]
["愛知選手権リレー･国体少B･ｼﾞｭﾆｱ記録会 個人申込票",null,null,null,null,null,null,null,null,null,null,9,null,"愛知選手権リレー･国体少B･ｼﾞｭﾆｱ記録会 個人申込票",null,null,null,null,null,null,null,null,null,null,10]
[null,null,null,"",null,null,null,null,null,"資格審査用",null,null,null,null,null,null,"",null,null,null,null,null,"資格審査用"]
[null,"性　　別",null,{"$f":"IF(②選手情報入力!I42=\"\",\"\",②選手情報入力!I42)","v":""},null,null,null,"出場資格条件（選択)",null,null,null,null,null,null,"性　　別",null,{"$f":"IF(②選手情報入力!L42=\"\",\"\",②選手情報入力!L42)","v":""},null,null,null,"出場資格条件（選択)"]
["種  目",{"$f":"IF(②選手情報入力!$G$42=\"\",\"\",②選手情報入力!$G$42)","v":""},null,null,null,null,null,null,null,null,null,null,null,"種  目",{"$f":"IF(②選手情報入力!$G$42=\"\",\"\",②選手情報入力!$G$42)","v":""}]
[]
["ナンバー",null,"ﾌ ﾘ ｶﾞﾅ",{"$f":"IF(②選手情報入力!$E$42=\"\",\"\",②選手情報入力!$E$42)","v":""},null,null,null,null,null,null,null,null,null,"ナンバー",null,"ﾌ ﾘ ｶﾞﾅ",{"$f":"IF(②選手情報入力!$E$42=\"\",\"\",②選手情報入力!$E$42)","v":""}]
[{"$f":"IF(②選手情報入力!$C$42=\"\",\"\",②選手情報入力!$C$42)","v":""},null,"氏 名",{"$f":"IF(②選手情報入力!$D$42=\"\",\"\",②選手情報入力!$D$42)","v":""},null,null,null,null,null,null,null,null,null,{"$f":"IF(②選手情報入力!$C$42=\"\",\"\",②選手情報入力!$C$42)","v":""},null,"氏 名",{"$f":"IF(②選手情報入力!$D$42=\"\",\"\",②選手情報入力!$D$42)","v":""}]
[]
["出場資格\n取得大会","大　会　名",null,null,null,"加入団体名",null,"中京大学",null,null,null,null,null,"出場資格\n取得大会","大　会　名",null,null,null,"加入団体名",null,"中京大学"]
[null,null,null,null,null,"年.月.日","順 位",null,"記　録",null,"場  所",null,null,null,null,null,null,null,"年.月.日","順 位",null,"記　録",null,"場  所"]
[null,null,null,null,null,null,null,null,{"$f":"IF(②選手情報入力!J42=\"\",\"\",②選手情報入力!J42)","v":""},null,null,null,null,null,null,null,null,null,null,null,null,{"$f":"IF(②選手情報入力!M42=\"\",\"\",②選手情報入力!M42)","v":""}]
[]
["本 年 度",null,null,null,null,null,null,null,{"$f":"IF(②選手情報入力!K42=\"\",\"\",②選手情報入力!K42)","v":""},null,null,null,null,"本 年 度",null,null,null,null,null,null,null,{"$f":"IF(②選手情報入力!N42=\"\",\"\",②選手情報入力!N42)","v":""}]
["最高記録",null,null,null,null,null,null,null,null,null,null,null,null,"最高記録"]
["備　  考","※記入不要",null,null,null,null,null,null,null,null,null,null,null,"備　  考","※記入不要"]
[]
["※標準記録突破大会は、公認大会で、記録会は正式名称を記入。",null,null,null,null,null,null,null,null,null,"女子",null,null,"※標準記録突破大会は、公認大会で、記録会は正式名称を記入。",null,null,null,null,null,null,null,null,null,"女子"]
["※参加資格・記録等記入不備の場合、審査の対象としない。",null,null,null,null,null,null,null,null,null,"ここを",null,null,"※参加資格・記録等記入不備の場合、審査の対象としない。",null,null,null,null,null,null,null,null,null,"ここを"]
["※申込締切期日厳守。",null,null,null,null,null,null,null,null,null,"切り取る",null,null,"※申込締切期日厳守。",null,null,null,null,null,null,null,null,null,"切り取る"]
[]
[]
[]
["愛知選手権リレー･国体少B･ｼﾞｭﾆｱ記録会 個人申込票",null,null,null,null,null,null,null,null,null,null,11,null,"愛知選手権リレー･国体少B･ｼﾞｭﾆｱ記録会 個人申込票"]
[null,null,null,"",null,null,null,null,null,"資格審査用",null,null,null,null,null,null,"",null,null,null,null,null,"資格審査用"]
[null,"性　　別",null,{"$f":"IF(②選手情報入力!I43=\"\",\"\",②選手情報入力!I43)","v":""},null,null,null,"出場資格条件（選択)",null,null,null,null,null,null,"性　　別",null,{"$f":"IF(②選手情報入力!L43=\"\",\"\",②選手情報入力!L43)","v":""},null,null,null,"出場資格条件（選択)"]
["種  目",{"$f":"IF(②選手情報入力!$G$43=\"\",\"\",②選手情報入力!$G$43)","v":""},null,null,null,null,null,null,null,null,null,null,null,"種  目",{"$f":"IF(②選手情報入力!$G$43=\"\",\"\",②選手情報入力!$G$43)","v":""}]
[]
["ナンバー",null,"ﾌ ﾘ ｶﾞﾅ",{"$f":"IF(②選手情報入力!$E$43=\"\",\"\",②選手情報入力!$E$43)","v":""},null,null,null,null,null,null,null,null,null,"ナンバー",null,"ﾌ ﾘ ｶﾞﾅ",{"$f":"IF(②選手情報入力!$E$43=\"\",\"\",②選手情報入力!$E$43)","v":""}]
[{"$f":"IF(②選手情報入力!$C$43=\"\",\"\",②選手情報入力!$C$43)","v":""},null,"氏 名",{"$f":"IF(②選手情報入力!$D$43=\"\",\"\",②選手情報入力!$D$43)","v":""},null,null,null,null,null,null,null,null,null,{"$f":"IF(②選手情報入力!$C$43=\"\",\"\",②選手情報入力!$C$43)","v":""},null,"氏 名",{"$f":"IF(②選手情報入力!$D$43=\"\",\"\",②選手情報入力!$D$43)","v":""}]
[]
["出場資格\n取得大会","大　会　名",null,null,null,"加入団体名",null,"中京大学",null,null,null,null,null,"出場資格\n取得大会","大　会　名",null,null,null,"加入団体名",null,"中京大学"]
[null,null,null,null,null,"年.月.日","順 位",null,"記　録",null,"場  所",null,null,null,null,null,null,null,"年.月.日","順 位",null,"記　録",null,"場  所"]
[null,null,null,null,null,null,null,null,{"$f":"IF(②選手情報入力!J43=\"\",\"\",②選手情報入力!J43)","v":""},null,null,null,null,null,null,null,null,null,null,null,null,{"$f":"IF(②選手情報入力!M43=\"\",\"\",②選手情報入力!M43)","v":""}]
[]
["本 年 度",null,null,null,null,null,null,null,{"$f":"IF(②選手情報入力!K43=\"\",\"\",②選手情報入力!K43)","v":""},null,null,null,null,"本 年 度",null,null,null,null,null,null,null,{"$f":"IF(②選手情報入力!N43=\"\",\"\",②選手情報入力!N43)","v":""}]
["最高記録",null,null,null,null,null,null,null,null,null,null,null,null,"最高記録"]
["備　  考","※記入不要",null,null,null,null,null,null,null,null,null,null,null,"備　  考","※記入不要"]
[]
["※標準記録突破大会は、公認大会で、記録会は正式名称を記入。",null,null,null,null,null,null,null,null,null,"女子",null,null,"※標準記録突破大会は、公認大会で、記録会は正式名称を記入。",null,null,null,null,null,null,null,null,null,"女子"]
["※参加資格・記録等記入不備の場合、審査の対象としない。",null,null,null,null,null,null,null,null,null,"ここを",null,null,"※参加資格・記録等記入不備の場合、審査の対象としない。",null,null,null,null,null,null,null,null,null,"ここを"]
["※申込締切期日厳守。",null,null,null,null,null,null,null,null,null,"切り取る",null,null,"※申込締切期日厳守。",null,null,null,null,null,null,null,null,null,"切り取る"]
[]
[]
["愛知選手権リレー･国体少B･ｼﾞｭﾆｱ記録会 個人申込票",null,null,null,null,null,null,null,null,null,null,13,null,"愛知選手権リレー･国体少B･ｼﾞｭﾆｱ記録会 個人申込票",null,null,null,null,null,null,null,null,null,null,14]
[null,null,null,"",null,null,null,null,null,"資格審査用",null,null,null,null,null,null,"",null,null,null,null,null,"資格審査用"]
[null,"性　　別",null,{"$f":"IF(②選手情報入力!I44=\"\",\"\",②選手情報入力!I44)","v":""},null,null,null,"出場資格条件（選択)",null,null,null,null,null,null,"性　　別",null,{"$f":"IF(②選手情報入力!L44=\"\",\"\",②選手情報入力!L44)","v":""},null,null,null,"出場資格条件（選択)"]
["種  目",{"$f":"IF(②選手情報入力!$G$44=\"\",\"\",②選手情報入力!$G$44)","v":""},null,null,null,null,null,null,null,null,null,null,null,"種  目",{"$f":"IF(②選手情報入力!$G$44=\"\",\"\",②選手情報入力!$G$44)","v":""}]
[]
["ナンバー",null,"ﾌ ﾘ ｶﾞﾅ",{"$f":"IF(②選手情報入力!$E$44=\"\",\"\",②選手情報入力!$E$44)","v":""},null,null,null,null,null,null,null,null,null,"ナンバー",null,"ﾌ ﾘ ｶﾞﾅ",{"$f":"IF(②選手情報入力!$E$44=\"\",\"\",②選手情報入力!$E$44)","v":""}]
[{"$f":"IF(②選手情報入力!$C$44=\"\",\"\",②選手情報入力!$C$44)","v":""},null,"氏 名",{"$f":"IF(②選手情報入力!$D$44=\"\",\"\",②選手情報入力!$D$44)","v":""},null,null,null,null,null,null,null,null,null,{"$f":"IF(②選手情報入力!$C$44=\"\",\"\",②選手情報入力!$C$44)","v":""},null,"氏 名",{"$f":"IF(②選手情報入力!$D$44=\"\",\"\",②選手情報入力!$D$44)","v":""}]
[]
["出場資格\n取得大会","大　会　名",null,null,null,"加入団体名",null,"中京大学",null,null,null,null,null,"出場資格\n取得大会","大　会　名",null,null,null,"加入団体名",null,"中京大学"]
[null,null,null,null,null,"年.月.日","順 位",null,"記　録",null,"場  所",null,null,null,null,null,null,null,"年.月.日","順 位",null,"記　録",null,"場  所"]
[null,null,null,null,null,null,null,null,{"$f":"IF(②選手情報入力!J44=\"\",\"\",②選手情報入力!J44)","v":""},null,null,null,null,null,null,null,null,null,null,null,null,{"$f":"IF(②選手情報入力!M44=\"\",\"\",②選手情報入力!M44)","v":""}]
[]
["本 年 度",null,null,null,null,null,null,null,{"$f":"IF(②選手情報入力!K44=\"\",\"\",②選手情報入力!K44)","v":""},null,null,null,null,"本 年 度",null,null,null,null,null,null,null,{"$f":"IF(②選手情報入力!N44=\"\",\"\",②選手情報入力!N44)","v":""}]
["最高記録",null,null,null,null,null,null,null,null,null,null,null,null,"最高記録"]
["備　  考","※記入不要",null,null,null,null,null,null,null,null,null,null,null,"備　  考","※記入不要"]
[]
["※標準記録突破大会は、公認大会で、記録会は正式名称を記入。",null,null,null,null,null,null,null,null,null,"女子",null,null,"※標準記録突破大会は、公認大会で、記録会は正式名称を記入。",null,null,null,null,null,null,null,null,null,"女子"]
["※参加資格・記録等記入不備の場合、審査の対象としない。",null,null,null,null,null,null,null,null,null,"ここを",null,null,"※参加資格・記録等記入不備の場合、審査の対象としない。",null,null,null,null,null,null,null,null,null,"ここを"]
["※申込締切期日厳守。",null,null,null,null,null,null,null,null,null,"切り取る",null,null,"※申込締切期日厳守。",null,null,null,null,null,null,null,null,null,"切り取る"]
[]
[]
["愛知選手権リレー･国体少B･ｼﾞｭﾆｱ記録会 個人申込票",null,null,null,null,null,null,null,null,null,null,15,null,"愛知選手権リレー･国体少B･ｼﾞｭﾆｱ記録会 個人申込票",null,null,null,null,null,null,null,null,null,null,16]
[null,null,null,"",null,null,null,null,null,"資格審査用",null,null,null,null,null,null,"",null,null,null,null,null,"資格審査用"]
[null,"性　　別",null,{"$f":"IF(②選手情報入力!I45=\"\",\"\",②選手情報入力!I45)","v":""},null,null,null,"出場資格条件（選択)",null,null,null,null,null,null,"性　　別",null,{"$f":"IF(②選手情報入力!L45=\"\",\"\",②選手情報入力!L45)","v":""},null,null,null,"出場資格条件（選択)"]
["種  目",{"$f":"IF(②選手情報入力!$G$45=\"\",\"\",②選手情報入力!$G$45)","v":""},null,null,null,null,null,null,null,null,null,null,null,"種  目",{"$f":"IF(②選手情報入力!$G$45=\"\",\"\",②選手情報入力!$G$45)","v":""}]
[]
["ナンバー",null,"ﾌ ﾘ ｶﾞﾅ",{"$f":"IF(②選手情報入力!$E$45=\"\",\"\",②選手情報入力!$E$45)","v":""},null,null,null,null,null,null,null,null,null,"ナンバー",null,"ﾌ ﾘ ｶﾞﾅ",{"$f":"IF(②選手情報入力!$E$45=\"\",\"\",②選手情報入力!$E$45)","v":""}]
[{"$f":"IF(②選手情報入力!$C$45=\"\",\"\",②選手情報入力!$C$45)","v":""},null,"氏 名",{"$f":"IF(②選手情報入力!$D$45=\"\",\"\",②選手情報入力!$D$45)","v":""},null,null,null,null,null,null,null,null,null,{"$f":"IF(②選手情報入力!$C$45=\"\",\"\",②選手情報入力!$C$45)","v":""},null,"氏 名",{"$f":"IF(②選手情報入力!$D$45=\"\",\"\",②選手情報入力!$D$45)","v":""}]
[]
["出場資格\n取得大会","大　会　名",null,null,null,"加入団体名",null,"中京大学",null,null,null,null,null,"出場資格\n取得大会","大　会　名",null,null,null,"加入団体名",null,"中京大学"]
[null,null,null,null,null,"年.月.日","順 位",null,"記　録",null,"場  所",null,null,null,null,null,null,null,"年.月.日","順 位",null,"記　録",null,"場  所"]
[null,null,null,null,null,null,null,null,{"$f":"IF(②選手情報入力!J45=\"\",\"\",②選手情報入力!J45)","v":""},null,null,null,null,null,null,null,null,null,null,null,null,{"$f":"IF(②選手情報入力!M45=\"\",\"\",②選手情報入力!M45)","v":""}]
[]
["本 年 度",null,null,null,null,null,null,null,{"$f":"IF(②選手情報入力!K45=\"\",\"\",②選手情報入力!K45)","v":""},null,null,null,null,"本 年 度",null,null,null,null,null,null,null,{"$f":"IF(②選手情報入力!N45=\"\",\"\",②選手情報入力!N45)","v":""}]
["最高記録",null,null,null,null,null,null,null,null,null,null,null,null,"最高記録"]
["備　  考","※記入不要",null,null,null,null,null,null,null,null,null,null,null,"備　  考","※記入不要"]
[]
["※標準記録突破大会は、公認大会で、記録会は正式名称を記入。",null,null,null,null,null,null,null,null,null,"女子",null,null,"※標準記録突破大会は、公認大会で、記録会は正式名称を記入。",null,null,null,null,null,null,null,null,null,"女子"]
["※参加資格・記録等記入不備の場合、審査の対象としない。",null,null,null,null,null,null,null,null,null,"ここを",null,null,"※参加資格・記録等記入不備の場合、審査の対象としない。",null,null,null,null,null,null,null,null,null,"ここを"]
["※申込締切期日厳守。",null,null,null,null,null,null,null,null,null,"切り取る",null,null,"※申込締切期日厳守。",null,null,null,null,null,null,null,null,null,"切り取る"]
[]
[]
[]
["愛知選手権リレー･国体少B･ｼﾞｭﾆｱ記録会 個人申込票",null,null,null,null,null,null,null,null,null,null,3,null,"愛知選手権リレー･国体少B･ｼﾞｭﾆｱ記録会 個人申込票",null,null,null,null,null,null,null,null,null,null,4]
[null,null,null,"",null,null,null,null,null,"資格審査用",null,null,null,null,null,null,"",null,null,null,null,null,"資格審査用"]
[null,"性　　別",null,{"$f":"IF(②選手情報入力!I46=\"\",\"\",②選手情報入力!I46)","v":""},null,null,null,"出場資格条件（選択)",null,null,null,null,null,null,"性　　別",null,{"$f":"IF(②選手情報入力!L46=\"\",\"\",②選手情報入力!L46)","v":""},null,null,null,"出場資格条件（選択)"]
["種  目",{"$f":"IF(②選手情報入力!$G$46=\"\",\"\",②選手情報入力!$G$46)","v":""},null,null,null,null,null,null,null,null,null,null,null,"種  目",{"$f":"IF(②選手情報入力!$G$46=\"\",\"\",②選手情報入力!$G$46)","v":""}]
[]
["ナンバー",null,"ﾌ ﾘ ｶﾞﾅ",{"$f":"IF(②選手情報入力!$E$46=\"\",\"\",②選手情報入力!$E$46)","v":""},null,null,null,null,null,null,null,null,null,"ナンバー",null,"ﾌ ﾘ ｶﾞﾅ",{"$f":"IF(②選手情報入力!$E$46=\"\",\"\",②選手情報入力!$E$46)","v":""}]
[{"$f":"IF(②選手情報入力!$C$46=\"\",\"\",②選手情報入力!$C$46)","v":""},null,"氏 名",{"$f":"IF(②選手情報入力!$D$46=\"\",\"\",②選手情報入力!$D$46)","v":""},null,null,null,null,null,null,null,null,null,{"$f":"IF(②選手情報入力!$C$46=\"\",\"\",②選手情報入力!$C$46)","v":""},null,"氏 名",{"$f":"IF(②選手情報入力!$D$46=\"\",\"\",②選手情報入力!$D$46)","v":""}]
[]
["出場資格\n取得大会","大　会　名",null,null,null,"加入団体名",null,"中京大学",null,null,null,null,null,"出場資格\n取得大会","大　会　名",null,null,null,"加入団体名",null,"中京大学"]
[null,null,null,null,null,"年.月.日","順 位",null,"記　録",null,"場  所",null,null,null,null,null,null,null,"年.月.日","順 位",null,"記　録",null,"場  所"]
[null,null,null,null,null,null,null,null,{"$f":"IF(②選手情報入力!J46=\"\",\"\",②選手情報入力!J46)","v":""},null,null,null,null,null,null,null,null,null,null,null,null,{"$f":"IF(②選手情報入力!M46=\"\",\"\",②選手情報入力!M46)","v":""}]
[]
["本 年 度",null,null,null,null,null,null,null,{"$f":"IF(②選手情報入力!K46=\"\",\"\",②選手情報入力!K46)","v":""},null,null,null,null,"本 年 度",null,null,null,null,null,null,null,{"$f":"IF(②選手情報入力!N46=\"\",\"\",②選手情報入力!N46)","v":""}]
["最高記録",null,null,null,null,null,null,null,null,null,null,null,null,"最高記録"]
["備　  考","※記入不要",null,null,null,null,null,null,null,null,null,null,null,"備　  考","※記入不要"]
[]
["※標準記録突破大会は、公認大会で、記録会は正式名称を記入。",null,null,null,null,null,null,null,null,null,"女子",null,null,"※標準記録突破大会は、公認大会で、記録会は正式名称を記入。",null,null,null,null,null,null,null,null,null,"女子"]
["※参加資格・記録等記入不備の場合、審査の対象としない。",null,null,null,null,null,null,null,null,null,"ここを",null,null,"※参加資格・記録等記入不備の場合、審査の対象としない。",null,null,null,null,null,null,null,null,null,"ここを"]
["※申込締切期日厳守。",null,null,null,null,null,null,null,null,null,"切り取る",null,null,"※申込締切期日厳守。",null,null,null,null,null,null,null,null,null,"切り取る"]
[]
[]
["愛知選手権リレー･国体少B･ｼﾞｭﾆｱ記録会 個人申込票",null,null,null,null,null,null,null,null,null,null,5,null,"愛知選手権リレー･国体少B･ｼﾞｭﾆｱ記録会 個人申込票",null,null,null,null,null,null,null,null,null,null,6]
[null,null,null,"",null,null,null,null,null,"資格審査用",null,null,null,null,null,null,"",null,null,null,null,null,"資格審査用"]
[null,"性　　別",null,{"$f":"IF(②選手情報入力!I47=\"\",\"\",②選手情報入力!I47)","v":""},null,null,null,"出場資格条件（選択)",null,null,null,null,null,null,"性　　別",null,{"$f":"IF(②選手情報入力!L47=\"\",\"\",②選手情報入力!L47)","v":""},null,null,null,"出場資格条件（選択)"]
["種  目",{"$f":"IF(②選手情報入力!$G$47=\"\",\"\",②選手情報入力!$G$47)","v":""},null,null,null,null,null,null,null,null,null,null,null,"種  目",{"$f":"IF(②選手情報入力!$G$47=\"\",\"\",②選手情報入力!$G$47)","v":""}]
[]
["ナンバー",null,"ﾌ ﾘ ｶﾞﾅ",{"$f":"IF(②選手情報入力!$E$47=\"\",\"\",②選手情報入力!$E$47)","v":""},null,null,null,null,null,null,null,null,null,"ナンバー",null,"ﾌ ﾘ ｶﾞﾅ",{"$f":"IF(②選手情報入力!$E$47=\"\",\"\",②選手情報入力!$E$47)","v":""}]
[{"$f":"IF(②選手情報入力!$C$47=\"\",\"\",②選手情報入力!$C$47)","v":""},null,"氏 名",{"$f":"IF(②選手情報入力!$D$47=\"\",\"\",②選手情報入力!$D$47)","v":""},null,null,null,null,null,null,null,null,null,{"$f":"IF(②選手情報入力!$C$47=\"\",\"\",②選手情報入力!$C$47)","v":""},null,"氏 名",{"$f":"IF(②選手情報入力!$D$47=\"\",\"\",②選手情報入力!$D$47)","v":""}]
[]
["出場資格\n取得大会","大　会　名",null,null,null,"加入団体名",null,"中京大学",null,null,null,null,null,"出場資格\n取得大会","大　会　名",null,null,null,"加入団体名",null,"中京大学"]
[null,null,null,null,null,"年.月.日","順 位",null,"記　録",null,"場  所",null,null,null,null,null,null,null,"年.月.日","順 位",null,"記　録",null,"場  所"]
[null,null,null,null,null,null,null,null,{"$f":"IF(②選手情報入力!J47=\"\",\"\",②選手情報入力!J47)","v":""},null,null,null,null,null,null,null,null,null,null,null,null,{"$f":"IF(②選手情報入力!M47=\"\",\"\",②選手情報入力!M47)","v":""}]
[]
["本 年 度",null,null,null,null,null,null,null,{"$f":"IF(②選手情報入力!K47=\"\",\"\",②選手情報入力!K47)","v":""},null,null,null,null,"本 年 度",null,null,null,null,null,null,null,{"$f":"IF(②選手情報入力!N47=\"\",\"\",②選手情報入力!N47)","v":""}]
["最高記録",null,null,null,null,null,null,null,null,null,null,null,null,"最高記録"]
["備　  考","※記入不要",null,null,null,null,null,null,null,null,null,null,null,"備　  考","※記入不要"]
[]
["※標準記録突破大会は、公認大会で、記録会は正式名称を記入。",null,null,null,null,null,null,null,null,null,"女子",null,null,"※標準記録突破大会は、公認大会で、記録会は正式名称を記入。",null,null,null,null,null,null,null,null,null,"女子"]
["※参加資格・記録等記入不備の場合、審査の対象としない。",null,null,null,null,null,null,null,null,null,"ここを",null,null,"※参加資格・記録等記入不備の場合、審査の対象としない。",null,null,null,null,null,null,null,null,null,"ここを"]
["※申込締切期日厳守。",null,null,null,null,null,null,null,null,null,"切り取る",null,null,"※申込締切期日厳守。",null,null,null,null,null,null,null,null,null,"切り取る"]
[]
[]
["愛知選手権リレー･国体少B･ｼﾞｭﾆｱ記録会 個人申込票",null,null,null,null,null,null,null,null,null,null,7,null,"愛知選手権リレー･国体少B･ｼﾞｭﾆｱ記録会 個人申込票",null,null,null,null,null,null,null,null,null,null,8]
[null,null,null,"",null,null,null,null,null,"資格審査用",null,null,null,null,null,null,"",null,null,null,null,null,"資格審査用"]
[null,"性　　別",null,{"$f":"IF(②選手情報入力!I48=\"\",\"\",②選手情報入力!I48)","v":""},null,null,null,"出場資格条件（選択)",null,null,null,null,null,null,"性　　別",null,{"$f":"IF(②選手情報入力!L48=\"\",\"\",②選手情報入力!L48)","v":""},null,null,null,"出場資格条件（選択)"]
["種  目",{"$f":"IF(②選手情報入力!$G$48=\"\",\"\",②選手情報入力!$G$48)","v":""},null,null,null,null,null,null,null,null,null,null,null,"種  目",{"$f":"IF(②選手情報入力!$G$48=\"\",\"\",②選手情報入力!$G$48)","v":""}]
[]
["ナンバー",null,"ﾌ ﾘ ｶﾞﾅ",{"$f":"IF(②選手情報入力!$E$48=\"\",\"\",②選手情報入力!$E$48)","v":""},null,null,null,null,null,null,null,null,null,"ナンバー",null,"ﾌ ﾘ ｶﾞﾅ",{"$f":"IF(②選手情報入力!$E$48=\"\",\"\",②選手情報入力!$E$48)","v":""}]
[{"$f":"IF(②選手情報入力!$C$48=\"\",\"\",②選手情報入力!$C$48)","v":""},null,"氏 名",{"$f":"IF(②選手情報入力!$D$48=\"\",\"\",②選手情報入力!$D$48)","v":""},null,null,null,null,null,null,null,null,null,{"$f":"IF(②選手情報入力!$C$48=\"\",\"\",②選手情報入力!$C$48)","v":""},null,"氏 名",{"$f":"IF(②選手情報入力!$D$48=\"\",\"\",②選手情報入力!$D$48)","v":""}]
[]
["出場資格\n取得大会","大　会　名",null,null,null,"加入団体名",null,"中京大学",null,null,null,null,null,"出場資格\n取得大会","大　会　名",null,null,null,"加入団体名",null,"中京大学"]
[null,null,null,null,null,"年.月.日","順 位",null,"記　録",null,"場  所",null,null,null,null,null,null,null,"年.月.日","順 位",null,"記　録",null,"場  所"]
[null,null,null,null,null,null,null,null,{"$f":"IF(②選手情報入力!J48=\"\",\"\",②選手情報入力!J48)","v":""},null,null,null,null,null,null,null,null,null,null,null,null,{"$f":"IF(②選手情報入力!M48=\"\",\"\",②選手情報入力!M48)","v":""}]
[]
["本 年 度",null,null,null,null,null,null,null,{"$f":"IF(②選手情報入力!K48=\"\",\"\",②選手情報入力!K48)","v":""},null,null,null,null,"本 年 度",null,null,null,null,null,null,null,{"$f":"IF(②選手情報入力!N48=\"\",\"\",②選手情報入力!N48)","v":""}]
["最高記録",null,null,null,null,null,null,null,null,null,null,null,null,"最高記録"]
["備　  考","※記入不要",null,null,null,null,null,null,null,null,null,null,null,"備　  考","※記入不要"]
[]
["※標準記録突破大会は、公認大会で、記録会は正式名称を記入。",null,null,null,null,null,null,null,null,null,"女子",null,null,"※標準記録突破大会は、公認大会で、記録会は正式名称を記入。",null,null,null,null,null,null,null,null,null,"女子"]
["※参加資格・記録等記入不備の場合、審査の対象としない。",null,null,null,null,null,null,null,null,null,"ここを",null,null,"※参加資格・記録等記入不備の場合、審査の対象としない。",null,null,null,null,null,null,null,null,null,"ここを"]
["※申込締切期日厳守。",null,null,null,null,null,null,null,null,null,"切り取る",null,null,"※申込締切期日厳守。",null,null,null,null,null,null,null,null,null,"切り取る"]
[]
[]
["愛知選手権リレー･国体少B･ｼﾞｭﾆｱ記録会 個人申込票",null,null,null,null,null,null,null,null,null,null,9,null,"愛知選手権リレー･国体少B･ｼﾞｭﾆｱ記録会 個人申込票",null,null,null,null,null,null,null,null,null,null,10]
[null,null,null,"",null,null,null,null,null,"資格審査用",null,null,null,null,null,null,"",null,null,null,null,null,"資格審査用"]
[null,"性　　別",null,{"$f":"IF(②選手情報入力!I49=\"\",\"\",②選手情報入力!I49)","v":""},null,null,null,"出場資格条件（選択)",null,null,null,null,null,null,"性　　別",null,{"$f":"IF(②選手情報入力!L49=\"\",\"\",②選手情報入力!L49)","v":""},null,null,null,"出場資格条件（選択)"]
["種  目",{"$f":"IF(②選手情報入力!$G$49=\"\",\"\",②選手情報入力!$G$49)","v":""},null,null,null,null,null,null,null,null,null,null,null,"種  目",{"$f":"IF(②選手情報入力!$G$49=\"\",\"\",②選手情報入力!$G$49)","v":""}]
[]
["ナンバー",null,"ﾌ ﾘ ｶﾞﾅ",{"$f":"IF(②選手情報入力!$E$49=\"\",\"\",②選手情報入力!$E$49)","v":""},null,null,null,null,null,null,null,null,null,"ナンバー",null,"ﾌ ﾘ ｶﾞﾅ",{"$f":"IF(②選手情報入力!$E$49=\"\",\"\",②選手情報入力!$E$49)","v":""}]
[{"$f":"IF(②選手情報入力!$C$49=\"\",\"\",②選手情報入力!$C$49)","v":""},null,"氏 名",{"$f":"IF(②選手情報入力!$D$49=\"\",\"\",②選手情報入力!$D$49)","v":""},null,null,null,null,null,null,null,null,null,{"$f":"IF(②選手情報入力!$C$49=\"\",\"\",②選手情報入力!$C$49)","v":""},null,"氏 名",{"$f":"IF(②選手情報入力!$D$49=\"\",\"\",②選手情報入力!$D$49)","v":""}]
[]
["出場資格\n取得大会","大　会　名",null,null,null,"加入団体名",null,"中京大学",null,null,null,null,null,"出場資格\n取得大会","大　会　名",null,null,null,"加入団体名",null,"中京大学"]
[null,null,null,null,null,"年.月.日","順 位",null,"記　録",null,"場  所",null,null,null,null,null,null,null,"年.月.日","順 位",null,"記　録",null,"場  所"]
[null,null,null,null,null,null,null,null,{"$f":"IF(②選手情報入力!J49=\"\",\"\",②選手情報入力!J49)","v":""},null,null,null,null,null,null,null,null,null,null,null,null,{"$f":"IF(②選手情報入力!M49=\"\",\"\",②選手情報入力!M49)","v":""}]
[]
["本 年 度",null,null,null,null,null,null,null,{"$f":"IF(②選手情報入力!K49=\"\",\"\",②選手情報入力!K49)","v":""},null,null,null,null,"本 年 度",null,null,null,null,null,null,null,{"$f":"IF(②選手情報入力!N49=\"\",\"\",②選手情報入力!N49)","v":""}]
["最高記録",null,null,null,null,null,null,null,null,null,null,null,null,"最高記録"]
["備　  考","※記入不要",null,null,null,null,null,null,null,null,null,null,null,"備　  考","※記入不要"]
[]
["※標準記録突破大会は、公認大会で、記録会は正式名称を記入。",null,null,null,null,null,null,null,null,null,"女子",null,null,"※標準記録突破大会は、公認大会で、記録会は正式名称を記入。",null,null,null,null,null,null,null,null,null,"女子"]
["※参加資格・記録等記入不備の場合、審査の対象としない。",null,null,null,null,null,null,null,null,null,"ここを",null,null,"※参加資格・記録等記入不備の場合、審査の対象としない。",null,null,null,null,null,null,null,null,null,"ここを"]
["※申込締切期日厳守。",null,null,null,null,null,null,null,null,null,"切り取る",null,null,"※申込締切期日厳守。",null,null,null,null,null,null,null,null,null,"切り取る"]

{"sheet":"リレー個票","index":7,"n_rows":72,"n_cols":27,"rows_kept":72,"cut":false,"hidden":false,"merged":[[53,8,53,9],[52,8,52,9],[55,8,55,9],[54,8,54,9],[16,21,16,22],[15,8,15,9],[15,21,15,22],[15,1,15,7],[16,1,16,7],[40,1,42,3],[40,9,40,10],[40,14,42,16],[40,22,40,23],[41,4,41,5],[41,7,42,8],[41,17,41,18],[41,20,42,21],[17,8,17,9],[17,21,17,22],[52,1,52,7],[53,1,53,7],[54,1,54,7],[55,1,55,7],[48,14,48,20],[12,21,12,22],[11,8,11,9],[11,21,11,22],[11,1,11,7],[12,1,12,7],[14,8,14,9],[14,21,14,22],[13,8,13,9],[13,21,13,22],[13,1,13,7],[14,1,14,7],[47,1,47,7],[48,1,48,7],[49,1,49,7],[2,22,2,23],[3,4,3,5],[3,7,4,8],[3,17,3,18],[3,20,4,21],[5,6,5,7],[5,19,5,20],[5,8,5,10],[6,8,8,10],[3,9,4,10],[5,4,5,5],[3,22,4,23],[5,21,5,23],[6,21,8,23],[5,17,5,18],[6,19,8,20],[10,21,10,22],[6,0,8,3],[6,4,8,5],[6,6,8,7],[6,13,8,16],[2,1,4,3],[2,9,2,10],[2,14,4,16],[5,0,5,3],[10,8,10,9],[12,8,12,9],[16,8,16,9],[43,6,43,7],[43,19,43,20],[43,8,43,10],[43,0,43,3],[43,4,43,5],[6,17,8,18],[9,1,9,7],[10,1,10,7],[9,14,9,20],[50,1,50,7],[51,1,51,7],[10,14,10,20],[11,14,11,20],[12,14,12,20],[13,14,13,20],[14,14,14,20],[15,14,15,20],[16,14,16,20],[17,14,17,20],[41,9,42,10],[44,6,46,7],[44,13,46,16],[44,17,46,18],[51,8,51,9],[50,8,50,9],[49,14,49,20],[44,8,46,10],[49,8,49,9],[44,19,46,20],[47,8,47,9],[48,8,48,9],[44,0,46,3],[44,4,46,5],[54,21,54,22],[55,14,55,20],[55,21,55,22],[47,14,47,20],[48,21,48,22],[43,13,43,16],[43,17,43,18],[43,21,43,23],[44,21,46,23],[49,21,49,22],[50,14,50,20],[50,21,50,22],[51,14,51,20],[51,21,51,22],[52,14,52,20],[52,21,52,22],[53,14,53,20],[53,21,53,22],[54,14,54,20]]}
["愛知選手権    リレー申込票",null,null,null,null,null,null,null,null,null,null,null,null,"愛知選手権    リレー申込票"]
[null,null,null,"（コピーの場合も同サイズで作成。切り離す。）",null,null,null,null,null,"資格審査用",null,null,null,null,null,null,"（コピーの場合も同サイズで作成。切り離す。）",null,null,null,null,null,"資格審査用"]
[null,"男子",null,null,null,null,null,"最 高 記 録",null,"出場資格（○で選ぶ)",null,null,null,null,"男子",null,null,null,null,null,"最 高 記 録",null,"出場資格（○で選ぶ)"]
["種  目",null,null,null,"４×１００",null,"ｍ",{"$f":"IF(②選手情報入力!O5=\"\",\"\",②選手情報入力!O5)","v":""},null,null,null,null,null,"種  目",null,null,null,"４×４００",null,"ｍ",{"$f":"IF(②選手情報入力!Q5=\"\",\"\",②選手情報入力!Q5)","v":""},null,null,null,null,null,"１ 前年度選手権者"]
[null,null,null,null,null,null,null,null,null,null,null,null,null,null,null,null,null,null,null,null,null,null,null,null,null,null,"２ 各支部予選通過"]
["加 入 団 体 名",null,null,null,"順位等",null,"記録",null,"資格取得大会",null,null,null,null,"加 入 団 体 名",null,null,null,"順位等",null,"記録",null,"資格取得大会",null,null,null,null,"３ 県高校総体８位"]
[{"$f":"IF(①団体情報入力!$D$5=\"\",\"\",①団体情報入力!$D$5)","v":""},null,null,null,null,null,{"$f":"IF(②選手情報入力!N5=\"\",\"\",②選手情報入力!N5)","v":""},null,null,null,null,null,null,{"$f":"IF(①団体情報入力!$D$5=\"\",\"\",①団体情報入力!$D$5)","v":""},null,null,null,null,null,{"$f":"IF(②選手情報入力!P5=\"\",\"\",②選手情報入力!P5)","v":""},null,null,null,null,null,null,"４ 標準記録突破"]
[null,null,null,null,null,null,null,null,null,null,null,null,null,null,null,null,null,null,null,null,null,null,null,null,null,null,"５ 推薦"]
[null,null,null,null,null,null,null,null,null,null,null,null,null,null,null,null,null,null,null,null,null,null,null,null,null,null,"６ 大学生"]
["ナンバー","氏　　　名",null,null,null,null,null,null,"ﾌ ﾘ ｶﾞﾅ",null,"備　考",null,null,"ナンバー","氏　　　名",null,null,null,null,null,null,"ﾌ ﾘ ｶﾞﾅ",null,"備　考"]
[{"$f":"③リレー情報確認!C8","v":""},{"$f":"③リレー情報確認!D8","v":""},null,null,null,null,null,null,{"$f":"VLOOKUP(A11,②選手情報入力!C:E,3,0)","v":{"$error":"#N/A"}},null,null,null,null,{"$f":"③リレー情報確認!I8","v":""},{"$f":"③リレー情報確認!J8","v":""},null,null,null,null,null,null,{"$f":"VLOOKUP(N11,②選手情報入力!C:E,3,0)","v":{"$error":"#N/A"}}]
[{"$f":"③リレー情報確認!C9","v":""},{"$f":"③リレー情報確認!D9","v":""},null,null,null,null,null,null,{"$f":"VLOOKUP(A12,②選手情報入力!C:E,3,0)","v":{"$error":"#N/A"}},null,null,null,null,{"$f":"③リレー情報確認!I9","v":""},{"$f":"③リレー情報確認!J9","v":""},null,null,null,null,null,null,{"$f":"VLOOKUP(N12,②選手情報入力!C:E,3,0)","v":{"$error":"#N/A"}}]
[{"$f":"③リレー情報確認!C10","v":""},{"$f":"③リレー情報確認!D10","v":""},null,null,null,null,null,null,{"$f":"VLOOKUP(A13,②選手情報入力!C:E,3,0)","v":{"$error":"#N/A"}},null,null,null,null,{"$f":"③リレー情報確認!I10","v":""},{"$f":"③リレー情報確認!J10","v":""},null,null,null,null,null,null,{"$f":"VLOOKUP(N13,②選手情報入力!C:E,3,0)","v":{"$error":"#N/A"}}]
[{"$f":"③リレー情報確認!C11","v":""},{"$f":"③リレー情報確認!D11","v":""},null,null,null,null,null,null,{"$f":"VLOOKUP(A14,②選手情報入力!C:E,3,0)","v":{"$error":"#N/A"}},null,null,null,null,{"$f":"③リレー情報確認!I11","v":""},{"$f":"③リレー情報確認!J11","v":""},null,null,null,null,null,null,{"$f":"VLOOKUP(N14,②選手情報入力!C:E,3,0)","v":{"$error":"#N/A"}}]
[{"$f":"③リレー情報確認!C12","v":""},{"$f":"③リレー情報確認!D12","v":""},null,null,null,null,null,null,{"$f":"VLOOKUP(A15,②選手情報入力!C:E,3,0)","v":{"$error":"#N/A"}},null,null,null,null,{"$f":"③リレー情報確認!I12","v":""},{"$f":"③リレー情報確認!J12","v":""},null,null,null,null,null,null,{"$f":"VLOOKUP(N15,②選手情報入力!C:E,3,0)","v":{"$error":"#N/A"}}]
[{"$f":"③リレー情報確認!C13","v":""},{"$f":"③リレー情報確認!D13","v":""},null,null,null,null,null,null,{"$f":"VLOOKUP(A16,②選手情報入力!C:E,3,0)","v":{"$error":"#N/A"}},null,null,null,null,{"$f":"③リレー情報確認!I13","v":""},{"$f":"③リレー情報確認!J13","v":""},null,null,null,null,null,null,{"$f":"VLOOKUP(N16,②選手情報入力!C:E,3,0)","v":{"$error":"#N/A"}}]
[{"$f":"③リレー情報確認!C14","v":""},{"$f":"③リレー情報確認!D14","v":""},null,null,null,null,null,null,{"$f":"VLOOKUP(A17,②選手情報入力!C:E,3,0)","v":{"$error":"#N/A"}},null,null,null,null,{"$f":"③リレー情報確認!I14","v":""},{"$f":"③リレー情報確認!J14","v":""},null,null,null,null,null,null,{"$f":"VLOOKUP(N17,②選手情報入力!C:E,3,0)","v":{"$error":"#N/A"}}]
[{"$f":"③リレー情報確認!C15","v":""},{"$f":"③リレー情報確認!D15","v":""},null,null,null,null,null,null,{"$f":"VLOOKUP(A18,②選手情報入力!C:E,3,0)","v":{"$error":"#N/A"}},null,null,null,null,{"$f":"③リレー情報確認!I15","v":""},{"$f":"③リレー情報確認!J15","v":""},null,null,null,null,null,null,{"$f":"VLOOKUP(N18,②選手情報入力!C:E,3,0)","v":{"$error":"#N/A"}}]
[]
["※標準記録突破大会は、公認大会で、記録会は正式名称を記入。",null,null,null,null,null,null,null,null,null,null,null,null,"※標準記録突破大会は、公認大会で、記録会は正式名称を記入。"]
["※参加資格・記録等記入不備の場合、審査の対象としない。",null,null,null,null,null,null,null,null,null,null,null,null,"※参加資格・記録等記入不備の場合、審査の対象としない。"]
["※申込締切期日厳守。",null,null,null,null,null,null,null,null,null,null,null,null,"※申込締切期日厳守。"]
[]
[]
[]
[null,{"$f":"A11&LEFT($B$3,1)","v":"男"},null,null,null,null,null,null,null,null,null,null,null,null,{"$f":"N11&LEFT($O$3,1)","v":"男"}]
[null,{"$f":"A12&LEFT($B$3,1)","v":"男"},null,null,null,null,null,null,null,null,null,null,null,null,{"$f":"N12&LEFT($O$3,1)","v":"男"}]
[null,"男",null,null,null,null,null,null,null,null,null,null,null,null,"男"]
[null,"男",null,null,null,null,null,null,null,null,null,null,null,null,"男"]
[null,"男",null,null,null,null,null,null,null,null,null,null,null,null,"男"]
[null,"男",null,null,null,null,null,null,null,null,null,null,null,null,"男"]
[null,"男",null,null,null,null,null,null,null,null,null,null,null,null,"男"]
[null,"男",null,null,null,null,null,null,null,null,null,null,null,null,"男"]
[null,"男",null,null,null,null,null,null,null,null,null,null,null,null,"男"]
[]
[]
[]
[]
["愛知選手権    リレー申込票",null,null,null,null,null,null,null,null,null,null,null,null,"愛知選手権    リレー申込票"]
["◎女子は赤でマーキング",null,null,"（コピーの場合も同サイズで作成。切り離す。）",null,null,null,null,null,"資格審査用",null,null,null,"◎女子は赤でマーキング",null,null,"（コピーの場合も同サイズで作成。切り離す。）",null,null,null,null,null,"資格審査用"]
[null,"女子",null,null,null,null,null,"最 高 記 録",null,"出場資格（○で選ぶ)",null,null,null,null,"女子",null,null,null,null,null,"最 高 記 録",null,"出場資格（○で選ぶ)"]
["種  目",null,null,null,"４×１００",null,"ｍ",{"$f":"IF(②選手情報入力!O6=\"\",\"\",②選手情報入力!O6)","v":""},null,null,null,null,null,"種  目",null,null,null,"４×４００",null,"ｍ",{"$f":"IF(②選手情報入力!Q6=\"\",\"\",②選手情報入力!Q6)","v":""}]
[]
["加 入 団 体 名",null,null,null,"順位等",null,"記録",null,"資格取得大会",null,null,null,null,"加 入 団 体 名",null,null,null,"順位等",null,"記録",null,"資格取得大会"]
[{"$f":"IF(①団体情報入力!$D$5=\"\",\"\",①団体情報入力!$D$5)","v":""},null,null,null,null,null,{"$f":"IF(②選手情報入力!N6=\"\",\"\",②選手情報入力!N6)","v":""},null,null,null,null,null,null,{"$f":"IF(①団体情報入力!$D$5=\"\",\"\",①団体情報入力!$D$5)","v":""},null,null,null,null,null,{"$f":"IF(②選手情報入力!P6=\"\",\"\",②選手情報入力!P6)","v":""}]
[]
[]
["ナンバー","氏　　　名",null,null,null,null,null,null,"ﾌ ﾘ ｶﾞﾅ",null,"備　考",null,null,"ナンバー","氏　　　名",null,null,null,null,null,null,"ﾌ ﾘ ｶﾞﾅ",null,"備　考"]
[{"$f":"③リレー情報確認!O8","v":""},{"$f":"③リレー情報確認!P8","v":""},null,null,null,null,null,null,{"$f":"VLOOKUP(A49,②選手情報入力!C:E,3,0)","v":{"$error":"#N/A"}},null,null,null,null,{"$f":"③リレー情報確認!U8","v":""},{"$f":"③リレー情報確認!V8","v":""},null,null,null,null,null,null,{"$f":"VLOOKUP(N49,②選手情報入力!C:E,3,0)","v":{"$error":"#N/A"}}]
[{"$f":"③リレー情報確認!O9","v":""},{"$f":"③リレー情報確認!P9","v":""},null,null,null,null,null,null,{"$f":"VLOOKUP(A50,②選手情報入力!C:E,3,0)","v":{"$error":"#N/A"}},null,null,null,null,{"$f":"③リレー情報確認!U9","v":""},{"$f":"③リレー情報確認!V9","v":""},null,null,null,null,null,null,{"$f":"VLOOKUP(N50,②選手情報入力!C:E,3,0)","v":{"$error":"#N/A"}}]
[{"$f":"③リレー情報確認!O10","v":""},{"$f":"③リレー情報確認!P10","v":""},null,null,null,null,null,null,{"$f":"VLOOKUP(A51,②選手情報入力!C:E,3,0)","v":{"$error":"#N/A"}},null,null,null,null,{"$f":"③リレー情報確認!U10","v":""},{"$f":"③リレー情報確認!V10","v":""},null,null,null,null,null,null,{"$f":"VLOOKUP(N51,②選手情報入力!C:E,3,0)","v":{"$error":"#N/A"}}]
[{"$f":"③リレー情報確認!O11","v":""},{"$f":"③リレー情報確認!P11","v":""},null,null,null,null,null,null,{"$f":"VLOOKUP(A52,②選手情報入力!C:E,3,0)","v":{"$error":"#N/A"}},null,null,null,null,{"$f":"③リレー情報確認!U11","v":""},{"$f":"③リレー情報確認!V11","v":""},null,null,null,null,null,null,{"$f":"VLOOKUP(N52,②選手情報入力!C:E,3,0)","v":{"$error":"#N/A"}}]
[{"$f":"③リレー情報確認!O12","v":""},{"$f":"③リレー情報確認!P12","v":""},null,null,null,null,null,null,{"$f":"VLOOKUP(A53,②選手情報入力!C:E,3,0)","v":{"$error":"#N/A"}},null,null,null,null,{"$f":"③リレー情報確認!U12","v":""},{"$f":"③リレー情報確認!V12","v":""},null,null,null,null,null,null,{"$f":"VLOOKUP(N53,②選手情報入力!C:E,3,0)","v":{"$error":"#N/A"}}]
[{"$f":"③リレー情報確認!O13","v":""},{"$f":"③リレー情報確認!P13","v":""},null,null,null,null,null,null,{"$f":"VLOOKUP(A54,②選手情報入力!C:E,3,0)","v":{"$error":"#N/A"}},null,null,null,null,{"$f":"③リレー情報確認!U13","v":""},{"$f":"③リレー情報確認!V13","v":""},null,null,null,null,null,null,{"$f":"VLOOKUP(N54,②選手情報入力!C:E,3,0)","v":{"$error":"#N/A"}}]
[{"$f":"③リレー情報確認!O14","v":""},{"$f":"③リレー情報確認!P14","v":""},null,null,null,null,null,null,{"$f":"VLOOKUP(A55,②選手情報入力!C:E,3,0)","v":{"$error":"#N/A"}},null,null,null,null,{"$f":"③リレー情報確認!U14","v":""},{"$f":"③リレー情報確認!V14","v":""},null,null,null,null,null,null,{"$f":"VLOOKUP(N55,②選手情報入力!C:E,3,0)","v":{"$error":"#N/A"}}]
[{"$f":"③リレー情報確認!O15","v":""},{"$f":"③リレー情報確認!P15","v":""},null,null,null,null,null,null,{"$f":"VLOOKUP(A56,②選手情報入力!C:E,3,0)","v":{"$error":"#N/A"}},null,null,null,null,{"$f":"③リレー情報確認!U15","v":""},{"$f":"③リレー情報確認!V15","v":""},null,null,null,null,null,null,{"$f":"VLOOKUP(N56,②選手情報入力!C:E,3,0)","v":{"$error":"#N/A"}}]
[]
["※標準記録突破大会は、公認大会で、記録会は正式名称を記入。",null,null,null,null,null,null,null,null,null,null,null,null,"※標準記録突破大会は、公認大会で、記録会は正式名称を記入。"]
["※参加資格・記録等記入不備の場合、審査の対象としない。",null,null,null,null,null,null,null,null,null,null,null,null,"※参加資格・記録等記入不備の場合、審査の対象としない。"]
["※申込締切期日厳守。",null,null,null,null,null,null,null,null,null,null,null,null,"※申込締切期日厳守。"]
[]
[]
[]
[null,{"$f":"A49&LEFT($B$41,1)","v":"女"},null,null,null,null,null,null,null,null,null,null,null,null,{"$f":"N49&LEFT($O$41,1)","v":"女"}]
[null,{"$f":"A50&LEFT($B$41,1)","v":"女"},null,null,null,null,null,null,null,null,null,null,null,null,{"$f":"N50&LEFT($O$41,1)","v":"女"}]
[null,"女",null,null,null,null,null,null,null,null,null,null,null,null,"女"]
[null,"女",null,null,null,null,null,null,null,null,null,null,null,null,"女"]
[null,"女",null,null,null,null,null,null,null,null,null,null,null,null,"女"]
[null,"女",null,null,null,null,null,null,null,null,null,null,null,null,"女"]
[null,"女",null,null,null,null,null,null,null,null,null,null,null,null,"女"]
[null,"女",null,null,null,null,null,null,null,null,null,null,null,null,"女"]
[null,"女",null,null,null,null,null,null,null,null,null,null,null,null,"女"]

{"sheet":"記録確認表","index":8,"n_rows":47,"n_cols":13,"rows_kept":47,"cut":false,"hidden":false,"merged":[[3,1,4,1],[3,6,4,6],[3,3,3,4],[4,3,4,4],[1,4,1,7]]}
["記録確認表"]
[null,null,null,"大会名",{"$f":"注意事項!C3&注意事項!F3","v":"愛知選手権リレー･国体少B･ｼﾞｭﾆｱ記録会"},null,null,null,"学校名",{"$f":"IF(①団体情報入力!D5=\"\",\"\",①団体情報入力!D5)","v":""},{"$f":"IF(①団体情報入力!D3=\"\",\"\",①団体情報入力!D3)","v":""}]
[]
[null,"人数","男　　子",{"$f":"②選手情報入力!G52","v":0},null,null,"リレー","男4X100mR",{"$f":"IF(③リレー情報確認!F8=\"\",\"\",③リレー情報確認!F8)","v":""},"男4X400mR",{"$f":"IF(③リレー情報確認!L8=\"\",\"\",③リレー情報確認!L8)","v":""}]
[null,null,"女　　子",{"$f":"②選手情報入力!G53","v":0},null,null,null,"女4X100mR",{"$f":"IF(③リレー情報確認!R8=\"\",\"\",③リレー情報確認!R8)","v":""},"女4X400mR",{"$f":"IF(③リレー情報確認!X8=\"\",\"\",③リレー情報確認!X8)","v":""}]
[]
[null,"ﾅﾝﾊﾞｰ","氏　名","性","年","種目１","記録１","種目２","記録２",null,null,"4R","16R"]
[1,{"$f":"IF(②選手情報入力!C10=\"\",\"\",②選手情報入力!B10&②選手情報入力!C10)","v":""},{"$f":"IF(②選手情報入力!D10=\"\",\"\",②選手情報入力!D10)","v":""},{"$f":"IF(②選手情報入力!G10=\"\",\"\",②選手情報入力!G10)","v":""},{"$f":"IF(②選手情報入力!H10=\"\",\"\",②選手情報入力!H10)","v":""},{"$f":"IF(②選手情報入力!I10=\"\",\"\",②選手情報入力!I10)","v":""},{"$f":"IF(②選手情報入力!J10=\"\",\"\",IF(②選手情報入力!J10<②選手情報入力!K10,②選手情報入力!K10,②選手情報入力!J10))","v":""},{"$f":"IF(②選手情報入力!L10=\"\",\"\",②選手情報入力!L10)","v":""},{"$f":"IF(②選手情報入力!M10=\"\",\"\",IF(②選手情報入力!M10>②選手情報入力!N10,②選手情報入力!N10,②選手情報入力!M10))","v":""},null,null,{"$f":"IF(②選手情報入力!P10=\"\",\"\",②選手情報入力!P10)","v":"○"},{"$f":"IF(②選手情報入力!Q10=\"\",\"\",②選手情報入力!Q10)","v":"○"}]
[2,{"$f":"IF(②選手情報入力!C11=\"\",\"\",②選手情報入力!B11&②選手情報入力!C11)","v":""},{"$f":"IF(②選手情報入力!D11=\"\",\"\",②選手情報入力!D11)","v":""},{"$f":"IF(②選手情報入力!G11=\"\",\"\",②選手情報入力!G11)","v":""},{"$f":"IF(②選手情報入力!H11=\"\",\"\",②選手情報入力!H11)","v":""},{"$f":"IF(②選手情報入力!I11=\"\",\"\",②選手情報入力!I11)","v":""},{"$f":"IF(②選手情報入力!J11=\"\",\"\",IF(②選手情報入力!J11>②選手情報入力!K11,②選手情報入力!K11,②選手情報入力!J11))","v":""},{"$f":"IF(②選手情報入力!L11=\"\",\"\",②選手情報入力!L11)","v":""},{"$f":"IF(②選手情報入力!M11=\"\",\"\",IF(②選手情報入力!M11>②選手情報入力!N11,②選手情報入力!N11,②選手情報入力!M11))","v":""},null,null,{"$f":"IF(②選手情報入力!P11=\"\",\"\",②選手情報入力!P11)","v":""},{"$f":"IF(②選手情報入力!Q11=\"\",\"\",②選手情報入力!Q11)","v":""}]
[3,{"$f":"IF(②選手情報入力!C12=\"\",\"\",②選手情報入力!B12&②選手情報入力!C12)","v":""},{"$f":"IF(②選手情報入力!D12=\"\",\"\",②選手情報入力!D12)","v":""},{"$f":"IF(②選手情報入力!G12=\"\",\"\",②選手情報入力!G12)","v":""},{"$f":"IF(②選手情報入力!H12=\"\",\"\",②選手情報入力!H12)","v":""},{"$f":"IF(②選手情報入力!I12=\"\",\"\",②選手情報入力!I12)","v":""},{"$f":"IF(②選手情報入力!J12=\"\",\"\",IF(②選手情報入力!J12>②選手情報入力!K12,②選手情報入力!K12,②選手情報入力!J12))","v":""},{"$f":"IF(②選手情報入力!L12=\"\",\"\",②選手情報入力!L12)","v":""},{"$f":"IF(②選手情報入力!M12=\"\",\"\",IF(②選手情報入力!M12>②選手情報入力!N12,②選手情報入力!N12,②選手情報入力!M12))","v":""},null,null,{"$f":"IF(②選手情報入力!P12=\"\",\"\",②選手情報入力!P12)","v":""},{"$f":"IF(②選手情報入力!Q12=\"\",\"\",②選手情報入力!Q12)","v":""}]
[4,{"$f":"IF(②選手情報入力!C13=\"\",\"\",②選手情報入力!B13&②選手情報入力!C13)","v":""},{"$f":"IF(②選手情報入力!D13=\"\",\"\",②選手情報入力!D13)","v":""},{"$f":"IF(②選手情報入力!G13=\"\",\"\",②選手情報入力!G13)","v":""},{"$f":"IF(②選手情報入力!H13=\"\",\"\",②選手情報入力!H13)","v":""},{"$f":"IF(②選手情報入力!I13=\"\",\"\",②選手情報入力!I13)","v":""},{"$f":"IF(②選手情報入力!J13=\"\",\"\",IF(②選手情報入力!J13>②選手情報入力!K13,②選手情報入力!K13,②選手情報入力!J13))","v":""},{"$f":"IF(②選手情報入力!L13=\"\",\"\",②選手情報入力!L13)","v":""},{"$f":"IF(②選手情報入力!M13=\"\",\"\",IF(②選手情報入力!M13>②選手情報入力!N13,②選手情報入力!N13,②選手情報入力!M13))","v":""},null,null,{"$f":"IF(②選手情報入力!P13=\"\",\"\",②選手情報入力!P13)","v":""},{"$f":"IF(②選手情報入力!Q13=\"\",\"\",②選手情報入力!Q13)","v":""}]
[5,{"$f":"IF(②選手情報入力!C14=\"\",\"\",②選手情報入力!B14&②選手情報入力!C14)","v":""},{"$f":"IF(②選手情報入力!D14=\"\",\"\",②選手情報入力!D14)","v":""},{"$f":"IF(②選手情報入力!G14=\"\",\"\",②選手情報入力!G14)","v":""},{"$f":"IF(②選手情報入力!H14=\"\",\"\",②選手情報入力!H14)","v":""},{"$f":"IF(②選手情報入力!I14=\"\",\"\",②選手情報入力!I14)","v":""},{"$f":"IF(②選手情報入力!J14=\"\",\"\",IF(②選手情報入力!J14>②選手情報入力!K14,②選手情報入力!K14,②選手情報入力!J14))","v":""},{"$f":"IF(②選手情報入力!L14=\"\",\"\",②選手情報入力!L14)","v":""},{"$f":"IF(②選手情報入力!M14=\"\",\"\",IF(②選手情報入力!M14>②選手情報入力!N14,②選手情報入力!N14,②選手情報入力!M14))","v":""},null,null,{"$f":"IF(②選手情報入力!P14=\"\",\"\",②選手情報入力!P14)","v":""},{"$f":"IF(②選手情報入力!Q14=\"\",\"\",②選手情報入力!Q14)","v":""}]
[6,{"$f":"IF(②選手情報入力!C15=\"\",\"\",②選手情報入力!B15&②選手情報入力!C15)","v":""},{"$f":"IF(②選手情報入力!D15=\"\",\"\",②選手情報入力!D15)","v":""},{"$f":"IF(②選手情報入力!G15=\"\",\"\",②選手情報入力!G15)","v":""},{"$f":"IF(②選手情報入力!H15=\"\",\"\",②選手情報入力!H15)","v":""},{"$f":"IF(②選手情報入力!I15=\"\",\"\",②選手情報入力!I15)","v":""},{"$f":"IF(②選手情報入力!J15=\"\",\"\",IF(②選手情報入力!J15>②選手情報入力!K15,②選手情報入力!K15,②選手情報入力!J15))","v":""},{"$f":"IF(②選手情報入力!L15=\"\",\"\",②選手情報入力!L15)","v":""},{"$f":"IF(②選手情報入力!M15=\"\",\"\",IF(②選手情報入力!M15>②選手情報入力!N15,②選手情報入力!N15,②選手情報入力!M15))","v":""},null,null,{"$f":"IF(②選手情報入力!P15=\"\",\"\",②選手情報入力!P15)","v":""},{"$f":"IF(②選手情報入力!Q15=\"\",\"\",②選手情報入力!Q15)","v":""}]
[7,{"$f":"IF(②選手情報入力!C16=\"\",\"\",②選手情報入力!B16&②選手情報入力!C16)","v":""},{"$f":"IF(②選手情報入力!D16=\"\",\"\",②選手情報入力!D16)","v":""},{"$f":"IF(②選手情報入力!G16=\"\",\"\",②選手情報入力!G16)","v":""},{"$f":"IF(②選手情報入力!H16=\"\",\"\",②選手情報入力!H16)","v":""},{"$f":"IF(②選手情報入力!I16=\"\",\"\",②選手情報入力!I16)","v":""},{"$f":"IF(②選手情報入力!J16=\"\",\"\",IF(②選手情報入力!J16>②選手情報入力!K16,②選手情報入力!K16,②選手情報入力!J16))","v":""},{"$f":"IF(②選手情報入力!L16=\"\",\"\",②選手情報入力!L16)","v":""},{"$f":"IF(②選手情報入力!M16=\"\",\"\",IF(②選手情報入力!M16>②選手情報入力!N16,②選手情報入力!N16,②選手情報入力!M16))","v":""},null,null,{"$f":"IF(②選手情報入力!P16=\"\",\"\",②選手情報入力!P16)","v":""},{"$f":"IF(②選手情報入力!Q16=\"\",\"\",②選手情報入力!Q16)","v":""}]
[8,{"$f":"IF(②選手情報入力!C17=\"\",\"\",②選手情報入力!B17&②選手情報入力!C17)","v":""},{"$f":"IF(②選手情報入力!D17=\"\",\"\",②選手情報入力!D17)","v":""},{"$f":"IF(②選手情報入力!G17=\"\",\"\",②選手情報入力!G17)","v":""},{"$f":"IF(②選手情報入力!H17=\"\",\"\",②選手情報入力!H17)","v":""},{"$f":"IF(②選手情報入力!I17=\"\",\"\",②選手情報入力!I17)","v":""},{"$f":"IF(②選手情報入力!J17=\"\",\"\",IF(②選手情報入力!J17>②選手情報入力!K17,②選手情報入力!K17,②選手情報入力!J17))","v":""},{"$f":"IF(②選手情報入力!L17=\"\",\"\",②選手情報入力!L17)","v":""},{"$f":"IF(②選手情報入力!M17=\"\",\"\",IF(②選手情報入力!M17>②選手情報入力!N17,②選手情報入力!N17,②選手情報入力!M17))","v":""},null,null,{"$f":"IF(②選手情報入力!P17=\"\",\"\",②選手情報入力!P17)","v":""},{"$f":"IF(②選手情報入力!Q17=\"\",\"\",②選手情報入力!Q17)","v":""}]
[9,{"$f":"IF(②選手情報入力!C18=\"\",\"\",②選手情報入力!B18&②選手情報入力!C18)","v":""},{"$f":"IF(②選手情報入力!D18=\"\",\"\",②選手情報入力!D18)","v":""},{"$f":"IF(②選手情報入力!G18=\"\",\"\",②選手情報入力!G18)","v":""},{"$f":"IF(②選手情報入力!H18=\"\",\"\",②選手情報入力!H18)","v":""},{"$f":"IF(②選手情報入力!I18=\"\",\"\",②選手情報入力!I18)","v":""},{"$f":"IF(②選手情報入力!J18=\"\",\"\",IF(②選手情報入力!J18>②選手情報入力!K18,②選手情報入力!K18,②選手情報入力!J18))","v":""},{"$f":"IF(②選手情報入力!L18=\"\",\"\",②選手情報入力!L18)","v":""},{"$f":"IF(②選手情報入力!M18=\"\",\"\",IF(②選手情報入力!M18>②選手情報入力!N18,②選手情報入力!N18,②選手情報入力!M18))","v":""},null,null,{"$f":"IF(②選手情報入力!P18=\"\",\"\",②選手情報入力!P18)","v":""},{"$f":"IF(②選手情報入力!Q18=\"\",\"\",②選手情報入力!Q18)","v":""}]
[10,{"$f":"IF(②選手情報入力!C19=\"\",\"\",②選手情報入力!B19&②選手情報入力!C19)","v":""},{"$f":"IF(②選手情報入力!D19=\"\",\"\",②選手情報入力!D19)","v":""},{"$f":"IF(②選手情報入力!G19=\"\",\"\",②選手情報入力!G19)","v":""},{"$f":"IF(②選手情報入力!H19=\"\",\"\",②選手情報入力!H19)","v":""},{"$f":"IF(②選手情報入力!I19=\"\",\"\",②選手情報入力!I19)","v":""},{"$f":"IF(②選手情報入力!J19=\"\",\"\",IF(②選手情報入力!J19>②選手情報入力!K19,②選手情報入力!K19,②選手情報入力!J19))","v":""},{"$f":"IF(②選手情報入力!L19=\"\",\"\",②選手情報入力!L19)","v":""},{"$f":"IF(②選手情報入力!M19=\"\",\"\",IF(②選手情報入力!M19>②選手情報入力!N19,②選手情報入力!N19,②選手情報入力!M19))","v":""},null,null,{"$f":"IF(②選手情報入力!P19=\"\",\"\",②選手情報入力!P19)","v":""},{"$f":"IF(②選手情報入力!Q19=\"\",\"\",②選手情報入力!Q19)","v":""}]
[11,{"$f":"IF(②選手情報入力!C20=\"\",\"\",②選手情報入力!B20&②選手情報入力!C20)","v":""},{"$f":"IF(②選手情報入力!D20=\"\",\"\",②選手情報入力!D20)","v":""},{"$f":"IF(②選手情報入力!G20=\"\",\"\",②選手情報入力!G20)","v":""},{"$f":"IF(②選手情報入力!H20=\"\",\"\",②選手情報入力!H20)","v":""},{"$f":"IF(②選手情報入力!I20=\"\",\"\",②選手情報入力!I20)","v":""},{"$f":"IF(②選手情報入力!J20=\"\",\"\",IF(②選手情報入力!J20>②選手情報入力!K20,②選手情報入力!K20,②選手情報入力!J20))","v":""},{"$f":"IF(②選手情報入力!L20=\"\",\"\",②選手情報入力!L20)","v":""},{"$f":"IF(②選手情報入力!M20=\"\",\"\",IF(②選手情報入力!M20>②選手情報入力!N20,②選手情報入力!N20,②選手情報入力!M20))","v":""},null,null,{"$f":"IF(②選手情報入力!P20=\"\",\"\",②選手情報入力!P20)","v":""},{"$f":"IF(②選手情報入力!Q20=\"\",\"\",②選手情報入力!Q20)","v":""}]
[12,{"$f":"IF(②選手情報入力!C21=\"\",\"\",②選手情報入力!B21&②選手情報入力!C21)","v":""},{"$f":"IF(②選手情報入力!D21=\"\",\"\",②選手情報入力!D21)","v":""},{"$f":"IF(②選手情報入力!G21=\"\",\"\",②選手情報入力!G21)","v":""},{"$f":"IF(②選手情報入力!H21=\"\",\"\",②選手情報入力!H21)","v":""},{"$f":"IF(②選手情報入力!I21=\"\",\"\",②選手情報入力!I21)","v":""},{"$f":"IF(②選手情報入力!J21=\"\",\"\",IF(②選手情報入力!J21>②選手情報入力!K21,②選手情報入力!K21,②選手情報入力!J21))","v":""},{"$f":"IF(②選手情報入力!L21=\"\",\"\",②選手情報入力!L21)","v":""},{"$f":"IF(②選手情報入力!M21=\"\",\"\",IF(②選手情報入力!M21>②選手情報入力!N21,②選手情報入力!N21,②選手情報入力!M21))","v":""},null,null,{"$f":"IF(②選手情報入力!P21=\"\",\"\",②選手情報入力!P21)","v":""},{"$f":"IF(②選手情報入力!Q21=\"\",\"\",②選手情報入力!Q21)","v":""}]
[13,{"$f":"IF(②選手情報入力!C22=\"\",\"\",②選手情報入力!B22&②選手情報入力!C22)","v":""},{"$f":"IF(②選手情報入力!D22=\"\",\"\",②選手情報入力!D22)","v":""},{"$f":"IF(②選手情報入力!G22=\"\",\"\",②選手情報入力!G22)","v":""},{"$f":"IF(②選手情報入力!H22=\"\",\"\",②選手情報入力!H22)","v":""},{"$f":"IF(②選手情報入力!I22=\"\",\"\",②選手情報入力!I22)","v":""},{"$f":"IF(②選手情報入力!J22=\"\",\"\",IF(②選手情報入力!J22>②選手情報入力!K22,②選手情報入力!K22,②選手情報入力!J22))","v":""},{"$f":"IF(②選手情報入力!L22=\"\",\"\",②選手情報入力!L22)","v":""},{"$f":"IF(②選手情報入力!M22=\"\",\"\",IF(②選手情報入力!M22>②選手情報入力!N22,②選手情報入力!N22,②選手情報入力!M22))","v":""},null,null,{"$f":"IF(②選手情報入力!P22=\"\",\"\",②選手情報入力!P22)","v":""},{"$f":"IF(②選手情報入力!Q22=\"\",\"\",②選手情報入力!Q22)","v":""}]
[14,{"$f":"IF(②選手情報入力!C23=\"\",\"\",②選手情報入力!B23&②選手情報入力!C23)","v":""},{"$f":"IF(②選手情報入力!D23=\"\",\"\",②選手情報入力!D23)","v":""},{"$f":"IF(②選手情報入力!G23=\"\",\"\",②選手情報入力!G23)","v":""},{"$f":"IF(②選手情報入力!H23=\"\",\"\",②選手情報入力!H23)","v":""},{"$f":"IF(②選手情報入力!I23=\"\",\"\",②選手情報入力!I23)","v":""},{"$f":"IF(②選手情報入力!J23=\"\",\"\",IF(②選手情報入力!J23>②選手情報入力!K23,②選手情報入力!K23,②選手情報入力!J23))","v":""},{"$f":"IF(②選手情報入力!L23=\"\",\"\",②選手情報入力!L23)","v":""},{"$f":"IF(②選手情報入力!M23=\"\",\"\",IF(②選手情報入力!M23>②選手情報入力!N23,②選手情報入力!N23,②選手情報入力!M23))","v":""},null,null,{"$f":"IF(②選手情報入力!P23=\"\",\"\",②選手情報入力!P23)","v":""},{"$f":"IF(②選手情報入力!Q23=\"\",\"\",②選手情報入力!Q23)","v":""}]
[15,{"$f":"IF(②選手情報入力!C24=\"\",\"\",②選手情報入力!B24&②選手情報入力!C24)","v":""},{"$f":"IF(②選手情報入力!D24=\"\",\"\",②選手情報入力!D24)","v":""},{"$f":"IF(②選手情報入力!G24=\"\",\"\",②選手情報入力!G24)","v":""},{"$f":"IF(②選手情報入力!H24=\"\",\"\",②選手情報入力!H24)","v":""},{"$f":"IF(②選手情報入力!I24=\"\",\"\",②選手情報入力!I24)","v":""},{"$f":"IF(②選手情報入力!J24=\"\",\"\",IF(②選手情報入力!J24>②選手情報入力!K24,②選手情報入力!K24,②選手情報入力!J24))","v":""},{"$f":"IF(②選手情報入力!L24=\"\",\"\",②選手情報入力!L24)","v":""},{"$f":"IF(②選手情報入力!M24=\"\",\"\",IF(②選手情報入力!M24>②選手情報入力!N24,②選手情報入力!N24,②選手情報入力!M24))","v":""},null,null,{"$f":"IF(②選手情報入力!P24=\"\",\"\",②選手情報入力!P24)","v":""},{"$f":"IF(②選手情報入力!Q24=\"\",\"\",②選手情報入力!Q24)","v":""}]
[16,{"$f":"IF(②選手情報入力!C25=\"\",\"\",②選手情報入力!B25&②選手情報入力!C25)","v":""},{"$f":"IF(②選手情報入力!D25=\"\",\"\",②選手情報入力!D25)","v":""},{"$f":"IF(②選手情報入力!G25=\"\",\"\",②選手情報入力!G25)","v":""},{"$f":"IF(②選手情報入力!H25=\"\",\"\",②選手情報入力!H25)","v":""},{"$f":"IF(②選手情報入力!I25=\"\",\"\",②選手情報入力!I25)","v":""},{"$f":"IF(②選手情報入力!J25=\"\",\"\",IF(②選手情報入力!J25>②選手情報入力!K25,②選手情報入力!K25,②選手情報入力!J25))","v":""},{"$f":"IF(②選手情報入力!L25=\"\",\"\",②選手情報入力!L25)","v":""},{"$f":"IF(②選手情報入力!M25=\"\",\"\",IF(②選手情報入力!M25>②選手情報入力!N25,②選手情報入力!N25,②選手情報入力!M25))","v":""},null,null,{"$f":"IF(②選手情報入力!P25=\"\",\"\",②選手情報入力!P25)","v":""},{"$f":"IF(②選手情報入力!Q25=\"\",\"\",②選手情報入力!Q25)","v":""}]
[17,{"$f":"IF(②選手情報入力!C26=\"\",\"\",②選手情報入力!B26&②選手情報入力!C26)","v":""},{"$f":"IF(②選手情報入力!D26=\"\",\"\",②選手情報入力!D26)","v":""},{"$f":"IF(②選手情報入力!G26=\"\",\"\",②選手情報入力!G26)","v":""},{"$f":"IF(②選手情報入力!H26=\"\",\"\",②選手情報入力!H26)","v":""},{"$f":"IF(②選手情報入力!I26=\"\",\"\",②選手情報入力!I26)","v":""},{"$f":"IF(②選手情報入力!J26=\"\",\"\",IF(②選手情報入力!J26>②選手情報入力!K26,②選手情報入力!K26,②選手情報入力!J26))","v":""},{"$f":"IF(②選手情報入力!L26=\"\",\"\",②選手情報入力!L26)","v":""},{"$f":"IF(②選手情報入力!M26=\"\",\"\",IF(②選手情報入力!M26>②選手情報入力!N26,②選手情報入力!N26,②選手情報入力!M26))","v":""},null,null,{"$f":"IF(②選手情報入力!P26=\"\",\"\",②選手情報入力!P26)","v":""},{"$f":"IF(②選手情報入力!Q26=\"\",\"\",②選手情報入力!Q26)","v":""}]
[18,{"$f":"IF(②選手情報入力!C27=\"\",\"\",②選手情報入力!B27&②選手情報入力!C27)","v":""},{"$f":"IF(②選手情報入力!D27=\"\",\"\",②選手情報入力!D27)","v":""},{"$f":"IF(②選手情報入力!G27=\"\",\"\",②選手情報入力!G27)","v":""},{"$f":"IF(②選手情報入力!H27=\"\",\"\",②選手情報入力!H27)","v":""},{"$f":"IF(②選手情報入力!I27=\"\",\"\",②選手情報入力!I27)","v":""},{"$f":"IF(②選手情報入力!J27=\"\",\"\",IF(②選手情報入力!J27>②選手情報入力!K27,②選手情報入力!K27,②選手情報入力!J27))","v":""},{"$f":"IF(②選手情報入力!L27=\"\",\"\",②選手情報入力!L27)","v":""},{"$f":"IF(②選手情報入力!M27=\"\",\"\",IF(②選手情報入力!M27>②選手情報入力!N27,②選手情報入力!N27,②選手情報入力!M27))","v":""},null,null,{"$f":"IF(②選手情報入力!P27=\"\",\"\",②選手情報入力!P27)","v":""},{"$f":"IF(②選手情報入力!Q27=\"\",\"\",②選手情報入力!Q27)","v":""}]
[19,{"$f":"IF(②選手情報入力!C28=\"\",\"\",②選手情報入力!B28&②選手情報入力!C28)","v":""},{"$f":"IF(②選手情報入力!D28=\"\",\"\",②選手情報入力!D28)","v":""},{"$f":"IF(②選手情報入力!G28=\"\",\"\",②選手情報入力!G28)","v":""},{"$f":"IF(②選手情報入力!H28=\"\",\"\",②選手情報入力!H28)","v":""},{"$f":"IF(②選手情報入力!I28=\"\",\"\",②選手情報入力!I28)","v":""},{"$f":"IF(②選手情報入力!J28=\"\",\"\",IF(②選手情報入力!J28>②選手情報入力!K28,②選手情報入力!K28,②選手情報入力!J28))","v":""},{"$f":"IF(②選手情報入力!L28=\"\",\"\",②選手情報入力!L28)","v":""},{"$f":"IF(②選手情報入力!M28=\"\",\"\",IF(②選手情報入力!M28>②選手情報入力!N28,②選手情報入力!N28,②選手情報入力!M28))","v":""},null,null,{"$f":"IF(②選手情報入力!P28=\"\",\"\",②選手情報入力!P28)","v":""},{"$f":"IF(②選手情報入力!Q28=\"\",\"\",②選手情報入力!Q28)","v":""}]
[20,{"$f":"IF(②選手情報入力!C29=\"\",\"\",②選手情報入力!B29&②選手情報入力!C29)","v":""},{"$f":"IF(②選手情報入力!D29=\"\",\"\",②選手情報入力!D29)","v":""},{"$f":"IF(②選手情報入力!G29=\"\",\"\",②選手情報入力!G29)","v":""},{"$f":"IF(②選手情報入力!H29=\"\",\"\",②選手情報入力!H29)","v":""},{"$f":"IF(②選手情報入力!I29=\"\",\"\",②選手情報入力!I29)","v":""},{"$f":"IF(②選手情報入力!J29=\"\",\"\",IF(②選手情報入力!J29>②選手情報入力!K29,②選手情報入力!K29,②選手情報入力!J29))","v":""},{"$f":"IF(②選手情報入力!L29=\"\",\"\",②選手情報入力!L29)","v":""},{"$f":"IF(②選手情報入力!M29=\"\",\"\",IF(②選手情報入力!M29>②選手情報入力!N29,②選手情報入力!N29,②選手情報入力!M29))","v":""},null,null,{"$f":"IF(②選手情報入力!P29=\"\",\"\",②選手情報入力!P29)","v":""},{"$f":"IF(②選手情報入力!Q29=\"\",\"\",②選手情報入力!Q29)","v":""}]
[21,{"$f":"IF(②選手情報入力!C30=\"\",\"\",②選手情報入力!B30&②選手情報入力!C30)","v":""},{"$f":"IF(②選手情報入力!D30=\"\",\"\",②選手情報入力!D30)","v":""},{"$f":"IF(②選手情報入力!G30=\"\",\"\",②選手情報入力!G30)","v":""},{"$f":"IF(②選手情報入力!H30=\"\",\"\",②選手情報入力!H30)","v":""},{"$f":"IF(②選手情報入力!I30=\"\",\"\",②選手情報入力!I30)","v":""},{"$f":"IF(②選手情報入力!J30=\"\",\"\",IF(②選手情報入力!J30>②選手情報入力!K30,②選手情報入力!K30,②選手情報入力!J30))","v":""},{"$f":"IF(②選手情報入力!L30=\"\",\"\",②選手情報入力!L30)","v":""},{"$f":"IF(②選手情報入力!M30=\"\",\"\",IF(②選手情報入力!M30>②選手情報入力!N30,②選手情報入力!N30,②選手情報入力!M30))","v":""},null,null,{"$f":"IF(②選手情報入力!P30=\"\",\"\",②選手情報入力!P30)","v":""},{"$f":"IF(②選手情報入力!Q30=\"\",\"\",②選手情報入力!Q30)","v":""}]
[22,{"$f":"IF(②選手情報入力!C31=\"\",\"\",②選手情報入力!B31&②選手情報入力!C31)","v":""},{"$f":"IF(②選手情報入力!D31=\"\",\"\",②選手情報入力!D31)","v":""},{"$f":"IF(②選手情報入力!G31=\"\",\"\",②選手情報入力!G31)","v":""},{"$f":"IF(②選手情報入力!H31=\"\",\"\",②選手情報入力!H31)","v":""},{"$f":"IF(②選手情報入力!I31=\"\",\"\",②選手情報入力!I31)","v":""},{"$f":"IF(②選手情報入力!J31=\"\",\"\",IF(②選手情報入力!J31>②選手情報入力!K31,②選手情報入力!K31,②選手情報入力!J31))","v":""},{"$f":"IF(②選手情報入力!L31=\"\",\"\",②選手情報入力!L31)","v":""},{"$f":"IF(②選手情報入力!M31=\"\",\"\",IF(②選手情報入力!M31>②選手情報入力!N31,②選手情報入力!N31,②選手情報入力!M31))","v":""},null,null,{"$f":"IF(②選手情報入力!P31=\"\",\"\",②選手情報入力!P31)","v":""},{"$f":"IF(②選手情報入力!Q31=\"\",\"\",②選手情報入力!Q31)","v":""}]
[23,{"$f":"IF(②選手情報入力!C32=\"\",\"\",②選手情報入力!B32&②選手情報入力!C32)","v":""},{"$f":"IF(②選手情報入力!D32=\"\",\"\",②選手情報入力!D32)","v":""},{"$f":"IF(②選手情報入力!G32=\"\",\"\",②選手情報入力!G32)","v":""},{"$f":"IF(②選手情報入力!H32=\"\",\"\",②選手情報入力!H32)","v":""},{"$f":"IF(②選手情報入力!I32=\"\",\"\",②選手情報入力!I32)","v":""},{"$f":"IF(②選手情報入力!J32=\"\",\"\",IF(②選手情報入力!J32>②選手情報入力!K32,②選手情報入力!K32,②選手情報入力!J32))","v":""},{"$f":"IF(②選手情報入力!L32=\"\",\"\",②選手情報入力!L32)","v":""},{"$f":"IF(②選手情報入力!M32=\"\",\"\",IF(②選手情報入力!M32>②選手情報入力!N32,②選手情報入力!N32,②選手情報入力!M32))","v":""},null,null,{"$f":"IF(②選手情報入力!P32=\"\",\"\",②選手情報入力!P32)","v":""},{"$f":"IF(②選手情報入力!Q32=\"\",\"\",②選手情報入力!Q32)","v":""}]
[24,{"$f":"IF(②選手情報入力!C33=\"\",\"\",②選手情報入力!B33&②選手情報入力!C33)","v":""},{"$f":"IF(②選手情報入力!D33=\"\",\"\",②選手情報入力!D33)","v":""},{"$f":"IF(②選手情報入力!G33=\"\",\"\",②選手情報入力!G33)","v":""},{"$f":"IF(②選手情報入力!H33=\"\",\"\",②選手情報入力!H33)","v":""},{"$f":"IF(②選手情報入力!I33=\"\",\"\",②選手情報入力!I33)","v":""},{"$f":"IF(②選手情報入力!J33=\"\",\"\",IF(②選手情報入力!J33>②選手情報入力!K33,②選手情報入力!K33,②選手情報入力!J33))","v":""},{"$f":"IF(②選手情報入力!L33=\"\",\"\",②選手情報入力!L33)","v":""},{"$f":"IF(②選手情報入力!M33=\"\",\"\",IF(②選手情報入力!M33>②選手情報入力!N33,②選手情報入力!N33,②選手情報入力!M33))","v":""},null,null,{"$f":"IF(②選手情報入力!P33=\"\",\"\",②選手情報入力!P33)","v":""},{"$f":"IF(②選手情報入力!Q33=\"\",\"\",②選手情報入力!Q33)","v":""}]
[25,{"$f":"IF(②選手情報入力!C34=\"\",\"\",②選手情報入力!B34&②選手情報入力!C34)","v":""},{"$f":"IF(②選手情報入力!D34=\"\",\"\",②選手情報入力!D34)","v":""},{"$f":"IF(②選手情報入力!G34=\"\",\"\",②選手情報入力!G34)","v":""},{"$f":"IF(②選手情報入力!H34=\"\",\"\",②選手情報入力!H34)","v":""},{"$f":"IF(②選手情報入力!I34=\"\",\"\",②選手情報入力!I34)","v":""},{"$f":"IF(②選手情報入力!J34=\"\",\"\",IF(②選手情報入力!J34>②選手情報入力!K34,②選手情報入力!K34,②選手情報入力!J34))","v":""},{"$f":"IF(②選手情報入力!L34=\"\",\"\",②選手情報入力!L34)","v":""},{"$f":"IF(②選手情報入力!M34=\"\",\"\",IF(②選手情報入力!M34>②選手情報入力!N34,②選手情報入力!N34,②選手情報入力!M34))","v":""},null,null,{"$f":"IF(②選手情報入力!P34=\"\",\"\",②選手情報入力!P34)","v":""},{"$f":"IF(②選手情報入力!Q34=\"\",\"\",②選手情報入力!Q34)","v":""}]
[26,{"$f":"IF(②選手情報入力!C35=\"\",\"\",②選手情報入力!B35&②選手情報入力!C35)","v":""},{"$f":"IF(②選手情報入力!D35=\"\",\"\",②選手情報入力!D35)","v":""},{"$f":"IF(②選手情報入力!G35=\"\",\"\",②選手情報入力!G35)","v":""},{"$f":"IF(②選手情報入力!H35=\"\",\"\",②選手情報入力!H35)","v":""},{"$f":"IF(②選手情報入力!I35=\"\",\"\",②選手情報入力!I35)","v":""},{"$f":"IF(②選手情報入力!J35=\"\",\"\",IF(②選手情報入力!J35>②選手情報入力!K35,②選手情報入力!K35,②選手情報入力!J35))","v":""},{"$f":"IF(②選手情報入力!L35=\"\",\"\",②選手情報入力!L35)","v":""},{"$f":"IF(②選手情報入力!M35=\"\",\"\",IF(②選手情報入力!M35>②選手情報入力!N35,②選手情報入力!N35,②選手情報入力!M35))","v":""},null,null,{"$f":"IF(②選手情報入力!P35=\"\",\"\",②選手情報入力!P35)","v":""},{"$f":"IF(②選手情報入力!Q35=\"\",\"\",②選手情報入力!Q35)","v":""}]
[27,{"$f":"IF(②選手情報入力!C36=\"\",\"\",②選手情報入力!B36&②選手情報入力!C36)","v":""},{"$f":"IF(②選手情報入力!D36=\"\",\"\",②選手情報入力!D36)","v":""},{"$f":"IF(②選手情報入力!G36=\"\",\"\",②選手情報入力!G36)","v":""},{"$f":"IF(②選手情報入力!H36=\"\",\"\",②選手情報入力!H36)","v":""},{"$f":"IF(②選手情報入力!I36=\"\",\"\",②選手情報入力!I36)","v":""},{"$f":"IF(②選手情報入力!J36=\"\",\"\",IF(②選手情報入力!J36>②選手情報入力!K36,②選手情報入力!K36,②選手情報入力!J36))","v":""},{"$f":"IF(②選手情報入力!L36=\"\",\"\",②選手情報入力!L36)","v":""},{"$f":"IF(②選手情報入力!M36=\"\",\"\",IF(②選手情報入力!M36>②選手情報入力!N36,②選手情報入力!N36,②選手情報入力!M36))","v":""},null,null,{"$f":"IF(②選手情報入力!P36=\"\",\"\",②選手情報入力!P36)","v":""},{"$f":"IF(②選手情報入力!Q36=\"\",\"\",②選手情報入力!Q36)","v":""}]
[28,{"$f":"IF(②選手情報入力!C37=\"\",\"\",②選手情報入力!B37&②選手情報入力!C37)","v":""},{"$f":"IF(②選手情報入力!D37=\"\",\"\",②選手情報入力!D37)","v":""},{"$f":"IF(②選手情報入力!G37=\"\",\"\",②選手情報入力!G37)","v":""},{"$f":"IF(②選手情報入力!H37=\"\",\"\",②選手情報入力!H37)","v":""},{"$f":"IF(②選手情報入力!I37=\"\",\"\",②選手情報入力!I37)","v":""},{"$f":"IF(②選手情報入力!J37=\"\",\"\",IF(②選手情報入力!J37>②選手情報入力!K37,②選手情報入力!K37,②選手情報入力!J37))","v":""},{"$f":"IF(②選手情報入力!L37=\"\",\"\",②選手情報入力!L37)","v":""},{"$f":"IF(②選手情報入力!M37=\"\",\"\",IF(②選手情報入力!M37>②選手情報入力!N37,②選手情報入力!N37,②選手情報入力!M37))","v":""},null,null,{"$f":"IF(②選手情報入力!P37=\"\",\"\",②選手情報入力!P37)","v":""},{"$f":"IF(②選手情報入力!Q37=\"\",\"\",②選手情報入力!Q37)","v":""}]
[29,{"$f":"IF(②選手情報入力!C38=\"\",\"\",②選手情報入力!B38&②選手情報入力!C38)","v":""},{"$f":"IF(②選手情報入力!D38=\"\",\"\",②選手情報入力!D38)","v":""},{"$f":"IF(②選手情報入力!G38=\"\",\"\",②選手情報入力!G38)","v":""},{"$f":"IF(②選手情報入力!H38=\"\",\"\",②選手情報入力!H38)","v":""},{"$f":"IF(②選手情報入力!I38=\"\",\"\",②選手情報入力!I38)","v":""},{"$f":"IF(②選手情報入力!J38=\"\",\"\",IF(②選手情報入力!J38>②選手情報入力!K38,②選手情報入力!K38,②選手情報入力!J38))","v":""},{"$f":"IF(②選手情報入力!L38=\"\",\"\",②選手情報入力!L38)","v":""},{"$f":"IF(②選手情報入力!M38=\"\",\"\",IF(②選手情報入力!M38>②選手情報入力!N38,②選手情報入力!N38,②選手情報入力!M38))","v":""},null,null,{"$f":"IF(②選手情報入力!P38=\"\",\"\",②選手情報入力!P38)","v":""},{"$f":"IF(②選手情報入力!Q38=\"\",\"\",②選手情報入力!Q38)","v":""}]
[30,{"$f":"IF(②選手情報入力!C39=\"\",\"\",②選手情報入力!B39&②選手情報入力!C39)","v":""},{"$f":"IF(②選手情報入力!D39=\"\",\"\",②選手情報入力!D39)","v":""},{"$f":"IF(②選手情報入力!G39=\"\",\"\",②選手情報入力!G39)","v":""},{"$f":"IF(②選手情報入力!H39=\"\",\"\",②選手情報入力!H39)","v":""},{"$f":"IF(②選手情報入力!I39=\"\",\"\",②選手情報入力!I39)","v":""},{"$f":"IF(②選手情報入力!J39=\"\",\"\",IF(②選手情報入力!J39>②選手情報入力!K39,②選手情報入力!K39,②選手情報入力!J39))","v":""},{"$f":"IF(②選手情報入力!L39=\"\",\"\",②選手情報入力!L39)","v":""},{"$f":"IF(②選手情報入力!M39=\"\",\"\",IF(②選手情報入力!M39>②選手情報入力!N39,②選手情報入力!N39,②選手情報入力!M39))","v":""},null,null,{"$f":"IF(②選手情報入力!P39=\"\",\"\",②選手情報入力!P39)","v":""},{"$f":"IF(②選手情報入力!Q39=\"\",\"\",②選手情報入力!Q39)","v":""}]
[31,{"$f":"IF(②選手情報入力!C40=\"\",\"\",②選手情報入力!B40&②選手情報入力!C40)","v":""},{"$f":"IF(②選手情報入力!D40=\"\",\"\",②選手情報入力!D40)","v":""},{"$f":"IF(②選手情報入力!G40=\"\",\"\",②選手情報入力!G40)","v":""},{"$f":"IF(②選手情報入力!H40=\"\",\"\",②選手情報入力!H40)","v":""},{"$f":"IF(②選手情報入力!I40=\"\",\"\",②選手情報入力!I40)","v":""},{"$f":"IF(②選手情報入力!J40=\"\",\"\",IF(②選手情報入力!J40>②選手情報入力!K40,②選手情報入力!K40,②選手情報入力!J40))","v":""},{"$f":"IF(②選手情報入力!L40=\"\",\"\",②選手情報入力!L40)","v":""},{"$f":"IF(②選手情報入力!M40=\"\",\"\",IF(②選手情報入力!M40>②選手情報入力!N40,②選手情報入力!N40,②選手情報入力!M40))","v":""},null,null,{"$f":"IF(②選手情報入力!P40=\"\",\"\",②選手情報入力!P40)","v":""},{"$f":"IF(②選手情報入力!Q40=\"\",\"\",②選手情報入力!Q40)","v":""}]
[32,{"$f":"IF(②選手情報入力!C41=\"\",\"\",②選手情報入力!B41&②選手情報入力!C41)","v":""},{"$f":"IF(②選手情報入力!D41=\"\",\"\",②選手情報入力!D41)","v":""},{"$f":"IF(②選手情報入力!G41=\"\",\"\",②選手情報入力!G41)","v":""},{"$f":"IF(②選手情報入力!H41=\"\",\"\",②選手情報入力!H41)","v":""},{"$f":"IF(②選手情報入力!I41=\"\",\"\",②選手情報入力!I41)","v":""},{"$f":"IF(②選手情報入力!J41=\"\",\"\",IF(②選手情報入力!J41>②選手情報入力!K41,②選手情報入力!K41,②選手情報入力!J41))","v":""},{"$f":"IF(②選手情報入力!L41=\"\",\"\",②選手情報入力!L41)","v":""},{"$f":"IF(②選手情報入力!M41=\"\",\"\",IF(②選手情報入力!M41>②選手情報入力!N41,②選手情報入力!N41,②選手情報入力!M41))","v":""},null,null,{"$f":"IF(②選手情報入力!P41=\"\",\"\",②選手情報入力!P41)","v":""},{"$f":"IF(②選手情報入力!Q41=\"\",\"\",②選手情報入力!Q41)","v":""}]
[33,{"$f":"IF(②選手情報入力!C42=\"\",\"\",②選手情報入力!B42&②選手情報入力!C42)","v":""},{"$f":"IF(②選手情報入力!D42=\"\",\"\",②選手情報入力!D42)","v":""},{"$f":"IF(②選手情報入力!G42=\"\",\"\",②選手情報入力!G42)","v":""},{"$f":"IF(②選手情報入力!H42=\"\",\"\",②選手情報入力!H42)","v":""},{"$f":"IF(②選手情報入力!I42=\"\",\"\",②選手情報入力!I42)","v":""},{"$f":"IF(②選手情報入力!J42=\"\",\"\",IF(②選手情報入力!J42>②選手情報入力!K42,②選手情報入力!K42,②選手情報入力!J42))","v":""},{"$f":"IF(②選手情報入力!L42=\"\",\"\",②選手情報入力!L42)","v":""},{"$f":"IF(②選手情報入力!M42=\"\",\"\",IF(②選手情報入力!M42>②選手情報入力!N42,②選手情報入力!N42,②選手情報入力!M42))","v":""},null,null,{"$f":"IF(②選手情報入力!P42=\"\",\"\",②選手情報入力!P42)","v":""},{"$f":"IF(②選手情報入力!Q42=\"\",\"\",②選手情報入力!Q42)","v":""}]
[34,{"$f":"IF(②選手情報入力!C43=\"\",\"\",②選手情報入力!B43&②選手情報入力!C43)","v":""},{"$f":"IF(②選手情報入力!D43=\"\",\"\",②選手情報入力!D43)","v":""},{"$f":"IF(②選手情報入力!G43=\"\",\"\",②選手情報入力!G43)","v":""},{"$f":"IF(②選手情報入力!H43=\"\",\"\",②選手情報入力!H43)","v":""},{"$f":"IF(②選手情報入力!I43=\"\",\"\",②選手情報入力!I43)","v":""},{"$f":"IF(②選手情報入力!J43=\"\",\"\",IF(②選手情報入力!J43>②選手情報入力!K43,②選手情報入力!K43,②選手情報入力!J43))","v":""},{"$f":"IF(②選手情報入力!L43=\"\",\"\",②選手情報入力!L43)","v":""},{"$f":"IF(②選手情報入力!M43=\"\",\"\",IF(②選手情報入力!M43>②選手情報入力!N43,②選手情報入力!N43,②選手情報入力!M43))","v":""},null,null,{"$f":"IF(②選手情報入力!P43=\"\",\"\",②選手情報入力!P43)","v":""},{"$f":"IF(②選手情報入力!Q43=\"\",\"\",②選手情報入力!Q43)","v":""}]
[35,{"$f":"IF(②選手情報入力!C44=\"\",\"\",②選手情報入力!B44&②選手情報入力!C44)","v":""},{"$f":"IF(②選手情報入力!D44=\"\",\"\",②選手情報入力!D44)","v":""},{"$f":"IF(②選手情報入力!G44=\"\",\"\",②選手情報入力!G44)","v":""},{"$f":"IF(②選手情報入力!H44=\"\",\"\",②選手情報入力!H44)","v":""},{"$f":"IF(②選手情報入力!I44=\"\",\"\",②選手情報入力!I44)","v":""},{"$f":"IF(②選手情報入力!J44=\"\",\"\",IF(②選手情報入力!J44>②選手情報入力!K44,②選手情報入力!K44,②選手情報入力!J44))","v":""},{"$f":"IF(②選手情報入力!L44=\"\",\"\",②選手情報入力!L44)","v":""},{"$f":"IF(②選手情報入力!M44=\"\",\"\",IF(②選手情報入力!M44>②選手情報入力!N44,②選手情報入力!N44,②選手情報入力!M44))","v":""},null,null,{"$f":"IF(②選手情報入力!P44=\"\",\"\",②選手情報入力!P44)","v":""},{"$f":"IF(②選手情報入力!Q44=\"\",\"\",②選手情報入力!Q44)","v":""}]
[36,{"$f":"IF(②選手情報入力!C45=\"\",\"\",②選手情報入力!B45&②選手情報入力!C45)","v":""},{"$f":"IF(②選手情報入力!D45=\"\",\"\",②選手情報入力!D45)","v":""},{"$f":"IF(②選手情報入力!G45=\"\",\"\",②選手情報入力!G45)","v":""},{"$f":"IF(②選手情報入力!H45=\"\",\"\",②選手情報入力!H45)","v":""},{"$f":"IF(②選手情報入力!I45=\"\",\"\",②選手情報入力!I45)","v":""},{"$f":"IF(②選手情報入力!J45=\"\",\"\",IF(②選手情報入力!J45>②選手情報入力!K45,②選手情報入力!K45,②選手情報入力!J45))","v":""},{"$f":"IF(②選手情報入力!L45=\"\",\"\",②選手情報入力!L45)","v":""},{"$f":"IF(②選手情報入力!M45=\"\",\"\",IF(②選手情報入力!M45>②選手情報入力!N45,②選手情報入力!N45,②選手情報入力!M45))","v":""},null,null,{"$f":"IF(②選手情報入力!P45=\"\",\"\",②選手情報入力!P45)","v":""},{"$f":"IF(②選手情報入力!Q45=\"\",\"\",②選手情報入力!Q45)","v":""}]
[37,{"$f":"IF(②選手情報入力!C46=\"\",\"\",②選手情報入力!B46&②選手情報入力!C46)","v":""},{"$f":"IF(②選手情報入力!D46=\"\",\"\",②選手情報入力!D46)","v":""},{"$f":"IF(②選手情報入力!G46=\"\",\"\",②選手情報入力!G46)","v":""},{"$f":"IF(②選手情報入力!H46=\"\",\"\",②選手情報入力!H46)","v":""},{"$f":"IF(②選手情報入力!I46=\"\",\"\",②選手情報入力!I46)","v":""},{"$f":"IF(②選手情報入力!J46=\"\",\"\",IF(②選手情報入力!J46>②選手情報入力!K46,②選手情報入力!K46,②選手情報入力!J46))","v":""},{"$f":"IF(②選手情報入力!L46=\"\",\"\",②選手情報入力!L46)","v":""},{"$f":"IF(②選手情報入力!M46=\"\",\"\",IF(②選手情報入力!M46>②選手情報入力!N46,②選手情報入力!N46,②選手情報入力!M46))","v":""},null,null,{"$f":"IF(②選手情報入力!P46=\"\",\"\",②選手情報入力!P46)","v":""},{"$f":"IF(②選手情報入力!Q46=\"\",\"\",②選手情報入力!Q46)","v":""}]
[38,{"$f":"IF(②選手情報入力!C47=\"\",\"\",②選手情報入力!B47&②選手情報入力!C47)","v":""},{"$f":"IF(②選手情報入力!D47=\"\",\"\",②選手情報入力!D47)","v":""},{"$f":"IF(②選手情報入力!G47=\"\",\"\",②選手情報入力!G47)","v":""},{"$f":"IF(②選手情報入力!H47=\"\",\"\",②選手情報入力!H47)","v":""},{"$f":"IF(②選手情報入力!I47=\"\",\"\",②選手情報入力!I47)","v":""},{"$f":"IF(②選手情報入力!J47=\"\",\"\",IF(②選手情報入力!J47>②選手情報入力!K47,②選手情報入力!K47,②選手情報入力!J47))","v":""},{"$f":"IF(②選手情報入力!L47=\"\",\"\",②選手情報入力!L47)","v":""},{"$f":"IF(②選手情報入力!M47=\"\",\"\",IF(②選手情報入力!M47>②選手情報入力!N47,②選手情報入力!N47,②選手情報入力!M47))","v":""},null,null,{"$f":"IF(②選手情報入力!P47=\"\",\"\",②選手情報入力!P47)","v":""},{"$f":"IF(②選手情報入力!Q47=\"\",\"\",②選手情報入力!Q47)","v":""}]
[39,{"$f":"IF(②選手情報入力!C48=\"\",\"\",②選手情報入力!B48&②選手情報入力!C48)","v":""},{"$f":"IF(②選手情報入力!D48=\"\",\"\",②選手情報入力!D48)","v":""},{"$f":"IF(②選手情報入力!G48=\"\",\"\",②選手情報入力!G48)","v":""},{"$f":"IF(②選手情報入力!H48=\"\",\"\",②選手情報入力!H48)","v":""},{"$f":"IF(②選手情報入力!I48=\"\",\"\",②選手情報入力!I48)","v":""},{"$f":"IF(②選手情報入力!J48=\"\",\"\",IF(②選手情報入力!J48>②選手情報入力!K48,②選手情報入力!K48,②選手情報入力!J48))","v":""},{"$f":"IF(②選手情報入力!L48=\"\",\"\",②選手情報入力!L48)","v":""},{"$f":"IF(②選手情報入力!M48=\"\",\"\",IF(②選手情報入力!M48>②選手情報入力!N48,②選手情報入力!N48,②選手情報入力!M48))","v":""},null,null,{"$f":"IF(②選手情報入力!P48=\"\",\"\",②選手情報入力!P48)","v":""},{"$f":"IF(②選手情報入力!Q48=\"\",\"\",②選手情報入力!Q48)","v":""}]
[40,{"$f":"IF(②選手情報入力!C49=\"\",\"\",②選手情報入力!B49&②選手情報入力!C49)","v":""},{"$f":"IF(②選手情報入力!D49=\"\",\"\",②選手情報入力!D49)","v":""},{"$f":"IF(②選手情報入力!G49=\"\",\"\",②選手情報入力!G49)","v":""},{"$f":"IF(②選手情報入力!H49=\"\",\"\",②選手情報入力!H49)","v":""},{"$f":"IF(②選手情報入力!I49=\"\",\"\",②選手情報入力!I49)","v":""},{"$f":"IF(②選手情報入力!J49=\"\",\"\",IF(②選手情報入力!J49<②選手情報入力!K49,②選手情報入力!K49,②選手情報入力!J49))","v":""},{"$f":"IF(②選手情報入力!L49=\"\",\"\",②選手情報入力!L49)","v":""},{"$f":"IF(②選手情報入力!M49=\"\",\"\",IF(②選手情報入力!M49>②選手情報入力!N49,②選手情報入力!N49,②選手情報入力!M49))","v":""},null,null,{"$f":"IF(②選手情報入力!P49=\"\",\"\",②選手情報入力!P49)","v":""},{"$f":"IF(②選手情報入力!Q49=\"\",\"\",②選手情報入力!Q49)","v":""}]

{"sheet":"　　　　　","index":9,"n_rows":0,"n_cols":0,"rows_kept":0,"cut":false,"hidden":false,"merged":[]}

{"sheet":"種目情報","index":10,"n_rows":37,"n_cols":15,"rows_kept":37,"cut":false,"hidden":false,"merged":[[3,12,28,12],[30,12,50,12],[1,13,1,14],[0,0,0,2],[0,4,0,6],[0,8,0,10],[1,0,2,0],[1,4,2,4],[1,8,2,8]]}
["男子",null,null,null,"女子",null,null,null,"リレー"]
["種目","種目","記録",null,"種目","種目","記録",null,"種目","種目","記録",null,null,"一覧表用　種目名"]
[null,"No","FLAG",null,null,"No","FLAG",null,null,"No","FLAG"]
["少年B男子100m",28,2,null,"少年B女子100m",33,2,null,"男4X100mR",44,2,null,"男　　　子","少年B男子100m","少年B男子100m"]
["少年B男子3000m",29,2,null,"少年B女子800m",34,2,null,"男4X400mR",45,2,null,null,"少年B男子3000m","少年B男子3000m"]
[null,30,2,null,"少年B女子100mYH(0.762/8.5m)",35,2,null,"女4X100mR",46,2]
["少年B男子走幅跳",31,0,null,"少年B女子走幅跳",36,0,null,"女4X400mR",47,2,null,null,"少年B男子走幅跳","少年B男子走幅跳"]
["少B男砲丸投(5.000kg)",32,0,null,null,null,null,null,null,null,null,null,null,"少B男砲丸投(5.000kg)","少B男砲丸投(5.000kg)"]
[null,null,null,null,"ABC女子円盤投(1.000kg)",48,0]
["ABC男子円盤投(1.500kg)",37,0,null,"A女子砲丸投(4.000kg)",39,0,null,null,null,null,null,null,"ABC男子円盤投(1.500kg)","ABC男子円盤投(1.500kg)"]
["BC男子砲丸投(4.000kg)",38,0,null,null,null,null,null,null,null,null,null,null,"BC男子砲丸投(4.000kg)","BC男子砲丸投(4.000kg)"]
[]
[]
[]
[]
[]
[]
[]
[]
[]
[]
[]
[]
[]
[]
[]
[]
[]
[]
[]
[null,null,null,null,null,null,null,null,null,null,null,null,"女　　　子","少年B女子100m","少年B女子100m"]
[null,null,null,null,null,null,null,null,null,null,null,null,null,"少年B女子800m","少年B女子800m"]
[null,null,null,null,null,null,null,null,null,null,null,null,null,"少年B女子100mYH(0.762/8.5m)","少年B女子100mYH(0.762/8.5m)"]
[null,null,null,null,null,null,null,null,null,null,null,null,null,"少年B女子走幅跳","少年B女子走幅跳"]
[]
[null,null,null,null,null,null,null,null,null,null,null,null,null,"ABC女子円盤投(1.000kg)","ABC女子円盤投(1.000kg)"]
[null,null,null,null,null,null,null,null,null,null,null,null,null,"A女子砲丸投(4.000kg)","A女子砲丸投(4.000kg)"]

{"sheet":"data_kyogisha","index":11,"n_rows":41,"n_cols":34,"rows_kept":41,"cut":false,"hidden":false,"merged":[]}
["競技者NO","所属コード1","所属コード2","ナンバー","ナンバー2","競技者名","競技者名カナ","競技者名略称","性別","学年","生年","月日","個人所属地名","陸連コード","参加競技-競技コード1","参加競技-自己記録1","参加競技-オープン参加FLG1","参加競技-記録FLG1","参加競技-競技コード2","参加競技-自己記録2","参加競技-オープン参加FLG2","参加競技-記録FLG2","参加競技-競技コード3","参加競技-自己記録3","参加競技-オープン参加FLG3","参加競技-記録FLG3","参加競技-競技コード4","参加競技-自己記録4","参加競技-オープン参加FLG4","参加競技-記録FLG4","参加競技-競技コード5","参加競技-自己記録5","参加競技-オープン参加FLG5","参加競技-記録FLG5"]
[{"$f":"IF(E2=\"\",\"\",I2*1000000+①団体情報入力!$D$3*1000+②選手情報入力!A10)","v":""},{"$f":"IF(E2=\"\",\"\",①団体情報入力!$D$3)","v":""},null,{"$f":"IF(②選手情報入力!B10=\"\",\"\",②選手情報入力!B10)","v":""},{"$f":"IF(②選手情報入力!C10=\"\",\"\",②選手情報入力!C10)","v":""},{"$f":"IF(E2=\"\",\"\",②選手情報入力!D10)","v":""},{"$f":"IF(E2=\"\",\"\",②選手情報入力!E10)","v":""},{"$f":"IF(E2=\"\",\"\",F2)","v":""},{"$f":"IF(E2=\"\",\"\",IF(②選手情報入力!G10=\"男\",1,2))","v":""},{"$f":"IF(E2=\"\",\"\",IF(②選手情報入力!H10=\"\",\"\",②選手情報入力!H10))","v":""},null,{"$f":"IF(E2=\"\",\"\",0)","v":""},{"$f":"IF(E2=\"\",\"\",\"愛知\")","v":""},null,{"$f":"IF(E2=\"\",\"\",IF(②選手情報入力!I10=\"\",\"\",IF(I2=1,VLOOKUP(②選手情報入力!I10,種目情報!$A$4:$B$21,2,FALSE),VLOOKUP(②選手情報入力!I10,種目情報!$E$4:$F$20,2,FALSE))))","v":""},{"$f":"IF(E2=\"\",\"\",IF(②選手情報入力!J10>②選手情報入力!K10,②選手情報入力!J10,②選手情報入力!K10))","v":""},{"$f":"IF(E2=\"\",\"\",IF(②選手情報入力!I10=\"\",\"\",0))","v":""},{"$f":"IF(E2=\"\",\"\",IF(②選手情報入力!I10=\"\",\"\",IF(I2=1,VLOOKUP(②選手情報入力!I10,種目情報!$A$4:$C$21,3,FALSE),VLOOKUP(②選手情報入力!I10,種目情報!$E$4:$G$20,3,FALSE))))","v":""},{"$f":"IF(E2=\"\",\"\",IF(②選手情報入力!L10=\"\",\"\",IF(I2=1,VLOOKUP(②選手情報入力!L10,種目情報!$A$4:$B$241,2,FALSE),VLOOKUP(②選手情報入力!L10,種目情報!$E$4:$F$240,2,FALSE))))","v":""},{"$f":"IF(E2=\"\",\"\",IF(②選手情報入力!M10<②選手情報入力!N10,②選手情報入力!M10,②選手情報入力!N10))","v":""},{"$f":"IF(E2=\"\",\"\",IF(②選手情報入力!L10=\"\",\"\",0))","v":""},{"$f":"IF(E2=\"\",\"\",IF(②選手情報入力!L10=\"\",\"\",IF(I2=1,VLOOKUP(②選手情報入力!L10,種目情報!$A$4:$C$21,3,FALSE),VLOOKUP(②選手情報入力!L10,種目情報!$E$4:$G$20,3,FALSE))))","v":""},null,null,null,null,{"$f":"IF(E2=\"\",\"\",IF(②選手情報入力!P10=\"\",\"\",IF(I2=1,種目情報!$J$4,種目情報!$J$6)))","v":""},{"$f":"IF(E2=\"\",\"\",IF(②選手情報入力!P10=\"\",\"\",IF(I2=1,IF(②選手情報入力!$N$5=\"\",\"\",②選手情報入力!$N$5),IF(②選手情報入力!$N$6=\"\",\"\",②選手情報入力!$N$6))))","v":""},{"$f":"IF(E2=\"\",\"\",IF(②選手情報入力!P10=\"\",\"\",0))","v":""},{"$f":"IF(E2=\"\",\"\",IF(②選手情報入力!P10=\"\",\"\",2))","v":""},{"$f":"IF(E2=\"\",\"\",IF(②選手情報入力!Q10=\"\",\"\",IF(I2=1,種目情報!$J$5,種目情報!$J$7)))","v":""},{"$f":"IF(E2=\"\",\"\",IF(②選手情報入力!Q10=\"\",\"\",IF(I2=1,IF(②選手情報入力!$P$5=\"\",\"\",②選手情報入力!$P$5),IF(②選手情報入力!$P$6=\"\",\"\",②選手情報入力!$P$6))))","v":""},{"$f":"IF(E2=\"\",\"\",IF(②選手情報入力!Q10=\"\",\"\",0))","v":""},{"$f":"IF(E2=\"\",\"\",IF(②選手情報入力!Q10=\"\",\"\",2))","v":""}]
[{"$f":"IF(E3=\"\",\"\",I3*1000000+①団体情報入力!$D$3*1000+②選手情報入力!A11)","v":""},{"$f":"IF(E3=\"\",\"\",①団体情報入力!$D$3)","v":""},null,{"$f":"IF(②選手情報入力!B11=\"\",\"\",②選手情報入力!B11)","v":""},{"$f":"IF(②選手情報入力!C11=\"\",\"\",②選手情報入力!C11)","v":""},{"$f":"IF(E3=\"\",\"\",②選手情報入力!D11)","v":""},{"$f":"IF(E3=\"\",\"\",②選手情報入力!E11)","v":""},{"$f":"IF(E3=\"\",\"\",F3)","v":""},{"$f":"IF(E3=\"\",\"\",IF(②選手情報入力!G11=\"男\",1,2))","v":""},{"$f":"IF(E3=\"\",\"\",IF(②選手情報入力!H11=\"\",\"\",②選手情報入力!H11))","v":""},null,{"$f":"IF(E3=\"\",\"\",0)","v":""},{"$f":"IF(E3=\"\",\"\",\"愛知\")","v":""},null,{"$f":"IF(E3=\"\",\"\",IF(②選手情報入力!I11=\"\",\"\",IF(I3=1,VLOOKUP(②選手情報入力!I11,種目情報!$A$4:$B$21,2,FALSE),VLOOKUP(②選手情報入力!I11,種目情報!$E$4:$F$20,2,FALSE))))","v":""},{"$f":"IF(E3=\"\",\"\",IF(②選手情報入力!J11=\"\",\"\",②選手情報入力!J11))","v":""},{"$f":"IF(E3=\"\",\"\",IF(②選手情報入力!I11=\"\",\"\",0))","v":""},{"$f":"IF(E3=\"\",\"\",IF(②選手情報入力!I11=\"\",\"\",IF(I3=1,VLOOKUP(②選手情報入力!I11,種目情報!$A$4:$C$21,3,FALSE),VLOOKUP(②選手情報入力!I11,種目情報!$E$4:$G$20,3,FALSE))))","v":""},{"$f":"IF(E3=\"\",\"\",IF(②選手情報入力!L11=\"\",\"\",IF(I3=1,VLOOKUP(②選手情報入力!L11,種目情報!$A$4:$B$21,2,FALSE),VLOOKUP(②選手情報入力!L11,種目情報!$E$4:$F$20,2,FALSE))))","v":""},{"$f":"IF(E3=\"\",\"\",IF(②選手情報入力!M11=\"\",\"\",②選手情報入力!M11))","v":""},{"$f":"IF(E3=\"\",\"\",IF(②選手情報入力!L11=\"\",\"\",0))","v":""},{"$f":"IF(E3=\"\",\"\",IF(②選手情報入力!L11=\"\",\"\",IF(I3=1,VLOOKUP(②選手情報入力!L11,種目情報!$A$4:$C$21,3,FALSE),VLOOKUP(②選手情報入力!L11,種目情報!$E$4:$G$20,3,FALSE))))","v":""},null,null,null,null,{"$f":"IF(E3=\"\",\"\",IF(②選手情報入力!P11=\"\",\"\",IF(I3=1,種目情報!$J$4,種目情報!$J$6)))","v":""},{"$f":"IF(E3=\"\",\"\",IF(②選手情報入力!P11=\"\",\"\",IF(I3=1,IF(②選手情報入力!$N$5=\"\",\"\",②選手情報入力!$N$5),IF(②選手情報入力!$N$6=\"\",\"\",②選手情報入力!$N$6))))","v":""},{"$f":"IF(E3=\"\",\"\",IF(②選手情報入力!P11=\"\",\"\",0))","v":""},{"$f":"IF(E3=\"\",\"\",IF(②選手情報入力!P11=\"\",\"\",2))","v":""},{"$f":"IF(E3=\"\",\"\",IF(②選手情報入力!Q11=\"\",\"\",IF(I3=1,種目情報!$J$5,種目情報!$J$7)))","v":""},{"$f":"IF(E3=\"\",\"\",IF(②選手情報入力!Q11=\"\",\"\",IF(I3=1,IF(②選手情報入力!$P$5=\"\",\"\",②選手情報入力!$P$5),IF(②選手情報入力!$P$6=\"\",\"\",②選手情報入力!$P$6))))","v":""},{"$f":"IF(E3=\"\",\"\",IF(②選手情報入力!Q11=\"\",\"\",0))","v":""},{"$f":"IF(E3=\"\",\"\",IF(②選手情報入力!Q11=\"\",\"\",2))","v":""}]
[{"$f":"IF(E4=\"\",\"\",I4*1000000+①団体情報入力!$D$3*1000+②選手情報入力!A12)","v":""},{"$f":"IF(E4=\"\",\"\",①団体情報入力!$D$3)","v":""},null,{"$f":"IF(②選手情報入力!B12=\"\",\"\",②選手情報入力!B12)","v":""},{"$f":"IF(②選手情報入力!C12=\"\",\"\",②選手情報入力!C12)","v":""},{"$f":"IF(E4=\"\",\"\",②選手情報入力!D12)","v":""},{"$f":"IF(E4=\"\",\"\",②選手情報入力!E12)","v":""},"",{"$f":"IF(E4=\"\",\"\",IF(②選手情報入力!G12=\"男\",1,2))","v":""},{"$f":"IF(E4=\"\",\"\",IF(②選手情報入力!H12=\"\",\"\",②選手情報入力!H12))","v":""},null,"","",null,{"$f":"IF(E4=\"\",\"\",IF(②選手情報入力!I12=\"\",\"\",IF(I4=1,VLOOKUP(②選手情報入力!I12,種目情報!$A$4:$B$21,2,FALSE),VLOOKUP(②選手情報入力!I12,種目情報!$E$4:$F$20,2,FALSE))))","v":""},{"$f":"IF(E4=\"\",\"\",IF(②選手情報入力!J12=\"\",\"\",②選手情報入力!J12))","v":""},{"$f":"IF(E4=\"\",\"\",IF(②選手情報入力!I12=\"\",\"\",0))","v":""},{"$f":"IF(E4=\"\",\"\",IF(②選手情報入力!I12=\"\",\"\",IF(I4=1,VLOOKUP(②選手情報入力!I12,種目情報!$A$4:$C$21,3,FALSE),VLOOKUP(②選手情報入力!I12,種目情報!$E$4:$G$20,3,FALSE))))","v":""},{"$f":"IF(E4=\"\",\"\",IF(②選手情報入力!L12=\"\",\"\",IF(I4=1,VLOOKUP(②選手情報入力!L12,種目情報!$A$4:$B$21,2,FALSE),VLOOKUP(②選手情報入力!L12,種目情報!$E$4:$F$20,2,FALSE))))","v":""},{"$f":"IF(E4=\"\",\"\",IF(②選手情報入力!M12=\"\",\"\",②選手情報入力!M12))","v":""},{"$f":"IF(E4=\"\",\"\",IF(②選手情報入力!L12=\"\",\"\",0))","v":""},{"$f":"IF(E4=\"\",\"\",IF(②選手情報入力!L12=\"\",\"\",IF(I4=1,VLOOKUP(②選手情報入力!L12,種目情報!$A$4:$C$21,3,FALSE),VLOOKUP(②選手情報入力!L12,種目情報!$E$4:$G$20,3,FALSE))))","v":""},null,null,null,null,{"$f":"IF(E4=\"\",\"\",IF(②選手情報入力!P12=\"\",\"\",IF(I4=1,種目情報!$J$4,種目情報!$J$6)))","v":""},{"$f":"IF(E4=\"\",\"\",IF(②選手情報入力!P12=\"\",\"\",IF(I4=1,IF(②選手情報入力!$N$5=\"\",\"\",②選手情報入力!$N$5),IF(②選手情報入力!$N$6=\"\",\"\",②選手情報入力!$N$6))))","v":""},{"$f":"IF(E4=\"\",\"\",IF(②選手情報入力!P12=\"\",\"\",0))","v":""},{"$f":"IF(E4=\"\",\"\",IF(②選手情報入力!P12=\"\",\"\",2))","v":""},{"$f":"IF(E4=\"\",\"\",IF(②選手情報入力!Q12=\"\",\"\",IF(I4=1,種目情報!$J$5,種目情報!$J$7)))","v":""},{"$f":"IF(E4=\"\",\"\",IF(②選手情報入力!Q12=\"\",\"\",IF(I4=1,IF(②選手情報入力!$P$5=\"\",\"\",②選手情報入力!$P$5),IF(②選手情報入力!$P$6=\"\",\"\",②選手情報入力!$P$6))))","v":""},{"$f":"IF(E4=\"\",\"\",IF(②選手情報入力!Q12=\"\",\"\",0))","v":""},{"$f":"IF(E4=\"\",\"\",IF(②選手情報入力!Q12=\"\",\"\",2))","v":""}]
[{"$f":"IF(E5=\"\",\"\",I5*1000000+①団体情報入力!$D$3*1000+②選手情報入力!A13)","v":""},{"$f":"IF(E5=\"\",\"\",①団体情報入力!$D$3)","v":""},null,{"$f":"IF(②選手情報入力!B13=\"\",\"\",②選手情報入力!B13)","v":""},{"$f":"IF(②選手情報入力!C13=\"\",\"\",②選手情報入力!C13)","v":""},{"$f":"IF(E5=\"\",\"\",②選手情報入力!D13)","v":""},{"$f":"IF(E5=\"\",\"\",②選手情報入力!E13)","v":""},"",{"$f":"IF(E5=\"\",\"\",IF(②選手情報入力!G13=\"男\",1,2))","v":""},{"$f":"IF(E5=\"\",\"\",IF(②選手情報入力!H13=\"\",\"\",②選手情報入力!H13))","v":""},null,"","",null,{"$f":"IF(E5=\"\",\"\",IF(②選手情報入力!I13=\"\",\"\",IF(I5=1,VLOOKUP(②選手情報入力!I13,種目情報!$A$4:$B$21,2,FALSE),VLOOKUP(②選手情報入力!I13,種目情報!$E$4:$F$20,2,FALSE))))","v":""},{"$f":"IF(E5=\"\",\"\",IF(②選手情報入力!J13=\"\",\"\",②選手情報入力!J13))","v":""},{"$f":"IF(E5=\"\",\"\",IF(②選手情報入力!I13=\"\",\"\",0))","v":""},{"$f":"IF(E5=\"\",\"\",IF(②選手情報入力!I13=\"\",\"\",IF(I5=1,VLOOKUP(②選手情報入力!I13,種目情報!$A$4:$C$21,3,FALSE),VLOOKUP(②選手情報入力!I13,種目情報!$E$4:$G$20,3,FALSE))))","v":""},{"$f":"IF(E5=\"\",\"\",IF(②選手情報入力!L13=\"\",\"\",IF(I5=1,VLOOKUP(②選手情報入力!L13,種目情報!$A$4:$B$21,2,FALSE),VLOOKUP(②選手情報入力!L13,種目情報!$E$4:$F$20,2,FALSE))))","v":""},{"$f":"IF(E5=\"\",\"\",IF(②選手情報入力!M13=\"\",\"\",②選手情報入力!M13))","v":""},{"$f":"IF(E5=\"\",\"\",IF(②選手情報入力!L13=\"\",\"\",0))","v":""},{"$f":"IF(E5=\"\",\"\",IF(②選手情報入力!L13=\"\",\"\",IF(I5=1,VLOOKUP(②選手情報入力!L13,種目情報!$A$4:$C$21,3,FALSE),VLOOKUP(②選手情報入力!L13,種目情報!$E$4:$G$20,3,FALSE))))","v":""},null,null,null,null,{"$f":"IF(E5=\"\",\"\",IF(②選手情報入力!P13=\"\",\"\",IF(I5=1,種目情報!$J$4,種目情報!$J$6)))","v":""},{"$f":"IF(E5=\"\",\"\",IF(②選手情報入力!P13=\"\",\"\",IF(I5=1,IF(②選手情報入力!$N$5=\"\",\"\",②選手情報入力!$N$5),IF(②選手情報入力!$N$6=\"\",\"\",②選手情報入力!$N$6))))","v":""},{"$f":"IF(E5=\"\",\"\",IF(②選手情報入力!P13=\"\",\"\",0))","v":""},{"$f":"IF(E5=\"\",\"\",IF(②選手情報入力!P13=\"\",\"\",2))","v":""},{"$f":"IF(E5=\"\",\"\",IF(②選手情報入力!Q13=\"\",\"\",IF(I5=1,種目情報!$J$5,種目情報!$J$7)))","v":""},{"$f":"IF(E5=\"\",\"\",IF(②選手情報入力!Q13=\"\",\"\",IF(I5=1,IF(②選手情報入力!$P$5=\"\",\"\",②選手情報入力!$P$5),IF(②選手情報入力!$P$6=\"\",\"\",②選手情報入力!$P$6))))","v":""},{"$f":"IF(E5=\"\",\"\",IF(②選手情報入力!Q13=\"\",\"\",0))","v":""},{"$f":"IF(E5=\"\",\"\",IF(②選手情報入力!Q13=\"\",\"\",2))","v":""}]
[{"$f":"IF(E6=\"\",\"\",I6*1000000+①団体情報入力!$D$3*1000+②選手情報入力!A14)","v":""},{"$f":"IF(E6=\"\",\"\",①団体情報入力!$D$3)","v":""},null,{"$f":"IF(②選手情報入力!B14=\"\",\"\",②選手情報入力!B14)","v":""},{"$f":"IF(②選手情報入力!C14=\"\",\"\",②選手情報入力!C14)","v":""},{"$f":"IF(E6=\"\",\"\",②選手情報入力!D14)","v":""},{"$f":"IF(E6=\"\",\"\",②選手情報入力!E14)","v":""},"",{"$f":"IF(E6=\"\",\"\",IF(②選手情報入力!G14=\"男\",1,2))","v":""},{"$f":"IF(E6=\"\",\"\",IF(②選手情報入力!H14=\"\",\"\",②選手情報入力!H14))","v":""},null,"","",null,{"$f":"IF(E6=\"\",\"\",IF(②選手情報入力!I14=\"\",\"\",IF(I6=1,VLOOKUP(②選手情報入力!I14,種目情報!$A$4:$B$21,2,FALSE),VLOOKUP(②選手情報入力!I14,種目情報!$E$4:$F$20,2,FALSE))))","v":""},{"$f":"IF(E6=\"\",\"\",IF(②選手情報入力!J14=\"\",\"\",②選手情報入力!J14))","v":""},{"$f":"IF(E6=\"\",\"\",IF(②選手情報入力!I14=\"\",\"\",0))","v":""},{"$f":"IF(E6=\"\",\"\",IF(②選手情報入力!I14=\"\",\"\",IF(I6=1,VLOOKUP(②選手情報入力!I14,種目情報!$A$4:$C$21,3,FALSE),VLOOKUP(②選手情報入力!I14,種目情報!$E$4:$G$20,3,FALSE))))","v":""},{"$f":"IF(E6=\"\",\"\",IF(②選手情報入力!L14=\"\",\"\",IF(I6=1,VLOOKUP(②選手情報入力!L14,種目情報!$A$4:$B$21,2,FALSE),VLOOKUP(②選手情報入力!L14,種目情報!$E$4:$F$20,2,FALSE))))","v":""},{"$f":"IF(E6=\"\",\"\",IF(②選手情報入力!M14=\"\",\"\",②選手情報入力!M14))","v":""},{"$f":"IF(E6=\"\",\"\",IF(②選手情報入力!L14=\"\",\"\",0))","v":""},{"$f":"IF(E6=\"\",\"\",IF(②選手情報入力!L14=\"\",\"\",IF(I6=1,VLOOKUP(②選手情報入力!L14,種目情報!$A$4:$C$21,3,FALSE),VLOOKUP(②選手情報入力!L14,種目情報!$E$4:$G$20,3,FALSE))))","v":""},null,null,null,null,{"$f":"IF(E6=\"\",\"\",IF(②選手情報入力!P14=\"\",\"\",IF(I6=1,種目情報!$J$4,種目情報!$J$6)))","v":""},{"$f":"IF(E6=\"\",\"\",IF(②選手情報入力!P14=\"\",\"\",IF(I6=1,IF(②選手情報入力!$N$5=\"\",\"\",②選手情報入力!$N$5),IF(②選手情報入力!$N$6=\"\",\"\",②選手情報入力!$N$6))))","v":""},{"$f":"IF(E6=\"\",\"\",IF(②選手情報入力!P14=\"\",\"\",0))","v":""},{"$f":"IF(E6=\"\",\"\",IF(②選手情報入力!P14=\"\",\"\",2))","v":""},{"$f":"IF(E6=\"\",\"\",IF(②選手情報入力!Q14=\"\",\"\",IF(I6=1,種目情報!$J$5,種目情報!$J$7)))","v":""},{"$f":"IF(E6=\"\",\"\",IF(②選手情報入力!Q14=\"\",\"\",IF(I6=1,IF(②選手情報入力!$P$5=\"\",\"\",②選手情報入力!$P$5),IF(②選手情報入力!$P$6=\"\",\"\",②選手情報入力!$P$6))))","v":""},{"$f":"IF(E6=\"\",\"\",IF(②選手情報入力!Q14=\"\",\"\",0))","v":""},{"$f":"IF(E6=\"\",\"\",IF(②選手情報入力!Q14=\"\",\"\",2))","v":""}]
[{"$f":"IF(E7=\"\",\"\",I7*1000000+①団体情報入力!$D$3*1000+②選手情報入力!A15)","v":""},{"$f":"IF(E7=\"\",\"\",①団体情報入力!$D$3)","v":""},null,{"$f":"IF(②選手情報入力!B15=\"\",\"\",②選手情報入力!B15)","v":""},{"$f":"IF(②選手情報入力!C15=\"\",\"\",②選手情報入力!C15)","v":""},{"$f":"IF(E7=\"\",\"\",②選手情報入力!D15)","v":""},{"$f":"IF(E7=\"\",\"\",②選手情報入力!E15)","v":""},"",{"$f":"IF(E7=\"\",\"\",IF(②選手情報入力!G15=\"男\",1,2))","v":""},{"$f":"IF(E7=\"\",\"\",IF(②選手情報入力!H15=\"\",\"\",②選手情報入力!H15))","v":""},null,"","",null,{"$f":"IF(E7=\"\",\"\",IF(②選手情報入力!I15=\"\",\"\",IF(I7=1,VLOOKUP(②選手情報入力!I15,種目情報!$A$4:$B$21,2,FALSE),VLOOKUP(②選手情報入力!I15,種目情報!$E$4:$F$20,2,FALSE))))","v":""},{"$f":"IF(E7=\"\",\"\",IF(②選手情報入力!J15=\"\",\"\",②選手情報入力!J15))","v":""},{"$f":"IF(E7=\"\",\"\",IF(②選手情報入力!I15=\"\",\"\",0))","v":""},{"$f":"IF(E7=\"\",\"\",IF(②選手情報入力!I15=\"\",\"\",IF(I7=1,VLOOKUP(②選手情報入力!I15,種目情報!$A$4:$C$21,3,FALSE),VLOOKUP(②選手情報入力!I15,種目情報!$E$4:$G$20,3,FALSE))))","v":""},{"$f":"IF(E7=\"\",\"\",IF(②選手情報入力!L15=\"\",\"\",IF(I7=1,VLOOKUP(②選手情報入力!L15,種目情報!$A$4:$B$21,2,FALSE),VLOOKUP(②選手情報入力!L15,種目情報!$E$4:$F$20,2,FALSE))))","v":""},{"$f":"IF(E7=\"\",\"\",IF(②選手情報入力!M15=\"\",\"\",②選手情報入力!M15))","v":""},{"$f":"IF(E7=\"\",\"\",IF(②選手情報入力!L15=\"\",\"\",0))","v":""},{"$f":"IF(E7=\"\",\"\",IF(②選手情報入力!L15=\"\",\"\",IF(I7=1,VLOOKUP(②選手情報入力!L15,種目情報!$A$4:$C$21,3,FALSE),VLOOKUP(②選手情報入力!L15,種目情報!$E$4:$G$20,3,FALSE))))","v":""},null,null,null,null,{"$f":"IF(E7=\"\",\"\",IF(②選手情報入力!P15=\"\",\"\",IF(I7=1,種目情報!$J$4,種目情報!$J$6)))","v":""},{"$f":"IF(E7=\"\",\"\",IF(②選手情報入力!P15=\"\",\"\",IF(I7=1,IF(②選手情報入力!$N$5=\"\",\"\",②選手情報入力!$N$5),IF(②選手情報入力!$N$6=\"\",\"\",②選手情報入力!$N$6))))","v":""},{"$f":"IF(E7=\"\",\"\",IF(②選手情報入力!P15=\"\",\"\",0))","v":""},{"$f":"IF(E7=\"\",\"\",IF(②選手情報入力!P15=\"\",\"\",2))","v":""},{"$f":"IF(E7=\"\",\"\",IF(②選手情報入力!Q15=\"\",\"\",IF(I7=1,種目情報!$J$5,種目情報!$J$7)))","v":""},{"$f":"IF(E7=\"\",\"\",IF(②選手情報入力!Q15=\"\",\"\",IF(I7=1,IF(②選手情報入力!$P$5=\"\",\"\",②選手情報入力!$P$5),IF(②選手情報入力!$P$6=\"\",\"\",②選手情報入力!$P$6))))","v":""},{"$f":"IF(E7=\"\",\"\",IF(②選手情報入力!Q15=\"\",\"\",0))","v":""},{"$f":"IF(E7=\"\",\"\",IF(②選手情報入力!Q15=\"\",\"\",2))","v":""}]
[{"$f":"IF(E8=\"\",\"\",I8*1000000+①団体情報入力!$D$3*1000+②選手情報入力!A16)","v":""},{"$f":"IF(E8=\"\",\"\",①団体情報入力!$D$3)","v":""},null,{"$f":"IF(②選手情報入力!B16=\"\",\"\",②選手情報入力!B16)","v":""},{"$f":"IF(②選手情報入力!C16=\"\",\"\",②選手情報入力!C16)","v":""},{"$f":"IF(E8=\"\",\"\",②選手情報入力!D16)","v":""},{"$f":"IF(E8=\"\",\"\",②選手情報入力!E16)","v":""},"",{"$f":"IF(E8=\"\",\"\",IF(②選手情報入力!G16=\"男\",1,2))","v":""},{"$f":"IF(E8=\"\",\"\",IF(②選手情報入力!H16=\"\",\"\",②選手情報入力!H16))","v":""},null,"","",null,{"$f":"IF(E8=\"\",\"\",IF(②選手情報入力!I16=\"\",\"\",IF(I8=1,VLOOKUP(②選手情報入力!I16,種目情報!$A$4:$B$21,2,FALSE),VLOOKUP(②選手情報入力!I16,種目情報!$E$4:$F$20,2,FALSE))))","v":""},{"$f":"IF(E8=\"\",\"\",IF(②選手情報入力!J16=\"\",\"\",②選手情報入力!J16))","v":""},{"$f":"IF(E8=\"\",\"\",IF(②選手情報入力!I16=\"\",\"\",0))","v":""},{"$f":"IF(E8=\"\",\"\",IF(②選手情報入力!I16=\"\",\"\",IF(I8=1,VLOOKUP(②選手情報入力!I16,種目情報!$A$4:$C$21,3,FALSE),VLOOKUP(②選手情報入力!I16,種目情報!$E$4:$G$20,3,FALSE))))","v":""},{"$f":"IF(E8=\"\",\"\",IF(②選手情報入力!L16=\"\",\"\",IF(I8=1,VLOOKUP(②選手情報入力!L16,種目情報!$A$4:$B$21,2,FALSE),VLOOKUP(②選手情報入力!L16,種目情報!$E$4:$F$20,2,FALSE))))","v":""},{"$f":"IF(E8=\"\",\"\",IF(②選手情報入力!M16=\"\",\"\",②選手情報入力!M16))","v":""},{"$f":"IF(E8=\"\",\"\",IF(②選手情報入力!L16=\"\",\"\",0))","v":""},{"$f":"IF(E8=\"\",\"\",IF(②選手情報入力!L16=\"\",\"\",IF(I8=1,VLOOKUP(②選手情報入力!L16,種目情報!$A$4:$C$21,3,FALSE),VLOOKUP(②選手情報入力!L16,種目情報!$E$4:$G$20,3,FALSE))))","v":""},null,null,null,null,{"$f":"IF(E8=\"\",\"\",IF(②選手情報入力!P16=\"\",\"\",IF(I8=1,種目情報!$J$4,種目情報!$J$6)))","v":""},{"$f":"IF(E8=\"\",\"\",IF(②選手情報入力!P16=\"\",\"\",IF(I8=1,IF(②選手情報入力!$N$5=\"\",\"\",②選手情報入力!$N$5),IF(②選手情報入力!$N$6=\"\",\"\",②選手情報入力!$N$6))))","v":""},{"$f":"IF(E8=\"\",\"\",IF(②選手情報入力!P16=\"\",\"\",0))","v":""},{"$f":"IF(E8=\"\",\"\",IF(②選手情報入力!P16=\"\",\"\",2))","v":""},{"$f":"IF(E8=\"\",\"\",IF(②選手情報入力!Q16=\"\",\"\",IF(I8=1,種目情報!$J$5,種目情報!$J$7)))","v":""},{"$f":"IF(E8=\"\",\"\",IF(②選手情報入力!Q16=\"\",\"\",IF(I8=1,IF(②選手情報入力!$P$5=\"\",\"\",②選手情報入力!$P$5),IF(②選手情報入力!$P$6=\"\",\"\",②選手情報入力!$P$6))))","v":""},{"$f":"IF(E8=\"\",\"\",IF(②選手情報入力!Q16=\"\",\"\",0))","v":""},{"$f":"IF(E8=\"\",\"\",IF(②選手情報入力!Q16=\"\",\"\",2))","v":""}]
[{"$f":"IF(E9=\"\",\"\",I9*1000000+①団体情報入力!$D$3*1000+②選手情報入力!A17)","v":""},{"$f":"IF(E9=\"\",\"\",①団体情報入力!$D$3)","v":""},null,{"$f":"IF(②選手情報入力!B17=\"\",\"\",②選手情報入力!B17)","v":""},{"$f":"IF(②選手情報入力!C17=\"\",\"\",②選手情報入力!C17)","v":""},{"$f":"IF(E9=\"\",\"\",②選手情報入力!D17)","v":""},{"$f":"IF(E9=\"\",\"\",②選手情報入力!E17)","v":""},"",{"$f":"IF(E9=\"\",\"\",IF(②選手情報入力!G17=\"男\",1,2))","v":""},{"$f":"IF(E9=\"\",\"\",IF(②選手情報入力!H17=\"\",\"\",②選手情報入力!H17))","v":""},null,"","",null,{"$f":"IF(E9=\"\",\"\",IF(②選手情報入力!I17=\"\",\"\",IF(I9=1,VLOOKUP(②選手情報入力!I17,種目情報!$A$4:$B$21,2,FALSE),VLOOKUP(②選手情報入力!I17,種目情報!$E$4:$F$20,2,FALSE))))","v":""},{"$f":"IF(E9=\"\",\"\",IF(②選手情報入力!J17=\"\",\"\",②選手情報入力!J17))","v":""},{"$f":"IF(E9=\"\",\"\",IF(②選手情報入力!I17=\"\",\"\",0))","v":""},{"$f":"IF(E9=\"\",\"\",IF(②選手情報入力!I17=\"\",\"\",IF(I9=1,VLOOKUP(②選手情報入力!I17,種目情報!$A$4:$C$21,3,FALSE),VLOOKUP(②選手情報入力!I17,種目情報!$E$4:$G$20,3,FALSE))))","v":""},{"$f":"IF(E9=\"\",\"\",IF(②選手情報入力!L17=\"\",\"\",IF(I9=1,VLOOKUP(②選手情報入力!L17,種目情報!$A$4:$B$21,2,FALSE),VLOOKUP(②選手情報入力!L17,種目情報!$E$4:$F$20,2,FALSE))))","v":""},{"$f":"IF(E9=\"\",\"\",IF(②選手情報入力!M17=\"\",\"\",②選手情報入力!M17))","v":""},{"$f":"IF(E9=\"\",\"\",IF(②選手情報入力!L17=\"\",\"\",0))","v":""},{"$f":"IF(E9=\"\",\"\",IF(②選手情報入力!L17=\"\",\"\",IF(I9=1,VLOOKUP(②選手情報入力!L17,種目情報!$A$4:$C$21,3,FALSE),VLOOKUP(②選手情報入力!L17,種目情報!$E$4:$G$20,3,FALSE))))","v":""},null,null,null,null,{"$f":"IF(E9=\"\",\"\",IF(②選手情報入力!P17=\"\",\"\",IF(I9=1,種目情報!$J$4,種目情報!$J$6)))","v":""},{"$f":"IF(E9=\"\",\"\",IF(②選手情報入力!P17=\"\",\"\",IF(I9=1,IF(②選手情報入力!$N$5=\"\",\"\",②選手情報入力!$N$5),IF(②選手情報入力!$N$6=\"\",\"\",②選手情報入力!$N$6))))","v":""},{"$f":"IF(E9=\"\",\"\",IF(②選手情報入力!P17=\"\",\"\",0))","v":""},{"$f":"IF(E9=\"\",\"\",IF(②選手情報入力!P17=\"\",\"\",2))","v":""},{"$f":"IF(E9=\"\",\"\",IF(②選手情報入力!Q17=\"\",\"\",IF(I9=1,種目情報!$J$5,種目情報!$J$7)))","v":""},{"$f":"IF(E9=\"\",\"\",IF(②選手情報入力!Q17=\"\",\"\",IF(I9=1,IF(②選手情報入力!$P$5=\"\",\"\",②選手情報入力!$P$5),IF(②選手情報入力!$P$6=\"\",\"\",②選手情報入力!$P$6))))","v":""},{"$f":"IF(E9=\"\",\"\",IF(②選手情報入力!Q17=\"\",\"\",0))","v":""},{"$f":"IF(E9=\"\",\"\",IF(②選手情報入力!Q17=\"\",\"\",2))","v":""}]
[{"$f":"IF(E10=\"\",\"\",I10*1000000+①団体情報入力!$D$3*1000+②選手情報入力!A18)","v":""},{"$f":"IF(E10=\"\",\"\",①団体情報入力!$D$3)","v":""},null,{"$f":"IF(②選手情報入力!B18=\"\",\"\",②選手情報入力!B18)","v":""},{"$f":"IF(②選手情報入力!C18=\"\",\"\",②選手情報入力!C18)","v":""},{"$f":"IF(E10=\"\",\"\",②選手情報入力!D18)","v":""},{"$f":"IF(E10=\"\",\"\",②選手情報入力!E18)","v":""},"",{"$f":"IF(E10=\"\",\"\",IF(②選手情報入力!G18=\"男\",1,2))","v":""},{"$f":"IF(E10=\"\",\"\",IF(②選手情報入力!H18=\"\",\"\",②選手情報入力!H18))","v":""},null,"","",null,{"$f":"IF(E10=\"\",\"\",IF(②選手情報入力!I18=\"\",\"\",IF(I10=1,VLOOKUP(②選手情報入力!I18,種目情報!$A$4:$B$21,2,FALSE),VLOOKUP(②選手情報入力!I18,種目情報!$E$4:$F$20,2,FALSE))))","v":""},{"$f":"IF(E10=\"\",\"\",IF(②選手情報入力!J18=\"\",\"\",②選手情報入力!J18))","v":""},{"$f":"IF(E10=\"\",\"\",IF(②選手情報入力!I18=\"\",\"\",0))","v":""},{"$f":"IF(E10=\"\",\"\",IF(②選手情報入力!I18=\"\",\"\",IF(I10=1,VLOOKUP(②選手情報入力!I18,種目情報!$A$4:$C$21,3,FALSE),VLOOKUP(②選手情報入力!I18,種目情報!$E$4:$G$20,3,FALSE))))","v":""},{"$f":"IF(E10=\"\",\"\",IF(②選手情報入力!L18=\"\",\"\",IF(I10=1,VLOOKUP(②選手情報入力!L18,種目情報!$A$4:$B$21,2,FALSE),VLOOKUP(②選手情報入力!L18,種目情報!$E$4:$F$20,2,FALSE))))","v":""},{"$f":"IF(E10=\"\",\"\",IF(②選手情報入力!M18=\"\",\"\",②選手情報入力!M18))","v":""},{"$f":"IF(E10=\"\",\"\",IF(②選手情報入力!L18=\"\",\"\",0))","v":""},{"$f":"IF(E10=\"\",\"\",IF(②選手情報入力!L18=\"\",\"\",IF(I10=1,VLOOKUP(②選手情報入力!L18,種目情報!$A$4:$C$21,3,FALSE),VLOOKUP(②選手情報入力!L18,種目情報!$E$4:$G$20,3,FALSE))))","v":""},null,null,null,null,{"$f":"IF(E10=\"\",\"\",IF(②選手情報入力!P18=\"\",\"\",IF(I10=1,種目情報!$J$4,種目情報!$J$6)))","v":""},{"$f":"IF(E10=\"\",\"\",IF(②選手情報入力!P18=\"\",\"\",IF(I10=1,IF(②選手情報入力!$N$5=\"\",\"\",②選手情報入力!$N$5),IF(②選手情報入力!$N$6=\"\",\"\",②選手情報入力!$N$6))))","v":""},{"$f":"IF(E10=\"\",\"\",IF(②選手情報入力!P18=\"\",\"\",0))","v":""},{"$f":"IF(E10=\"\",\"\",IF(②選手情報入力!P18=\"\",\"\",2))","v":""},{"$f":"IF(E10=\"\",\"\",IF(②選手情報入力!Q18=\"\",\"\",IF(I10=1,種目情報!$J$5,種目情報!$J$7)))","v":""},{"$f":"IF(E10=\"\",\"\",IF(②選手情報入力!Q18=\"\",\"\",IF(I10=1,IF(②選手情報入力!$P$5=\"\",\"\",②選手情報入力!$P$5),IF(②選手情報入力!$P$6=\"\",\"\",②選手情報入力!$P$6))))","v":""},{"$f":"IF(E10=\"\",\"\",IF(②選手情報入力!Q18=\"\",\"\",0))","v":""},{"$f":"IF(E10=\"\",\"\",IF(②選手情報入力!Q18=\"\",\"\",2))","v":""}]
[{"$f":"IF(E11=\"\",\"\",I11*1000000+①団体情報入力!$D$3*1000+②選手情報入力!A19)","v":""},{"$f":"IF(E11=\"\",\"\",①団体情報入力!$D$3)","v":""},null,{"$f":"IF(②選手情報入力!B19=\"\",\"\",②選手情報入力!B19)","v":""},{"$f":"IF(②選手情報入力!C19=\"\",\"\",②選手情報入力!C19)","v":""},{"$f":"IF(E11=\"\",\"\",②選手情報入力!D19)","v":""},{"$f":"IF(E11=\"\",\"\",②選手情報入力!E19)","v":""},"",{"$f":"IF(E11=\"\",\"\",IF(②選手情報入力!G19=\"男\",1,2))","v":""},{"$f":"IF(E11=\"\",\"\",IF(②選手情報入力!H19=\"\",\"\",②選手情報入力!H19))","v":""},null,"","",null,{"$f":"IF(E11=\"\",\"\",IF(②選手情報入力!I19=\"\",\"\",IF(I11=1,VLOOKUP(②選手情報入力!I19,種目情報!$A$4:$B$21,2,FALSE),VLOOKUP(②選手情報入力!I19,種目情報!$E$4:$F$20,2,FALSE))))","v":""},{"$f":"IF(E11=\"\",\"\",IF(②選手情報入力!J19=\"\",\"\",②選手情報入力!J19))","v":""},{"$f":"IF(E11=\"\",\"\",IF(②選手情報入力!I19=\"\",\"\",0))","v":""},{"$f":"IF(E11=\"\",\"\",IF(②選手情報入力!I19=\"\",\"\",IF(I11=1,VLOOKUP(②選手情報入力!I19,種目情報!$A$4:$C$21,3,FALSE),VLOOKUP(②選手情報入力!I19,種目情報!$E$4:$G$20,3,FALSE))))","v":""},{"$f":"IF(E11=\"\",\"\",IF(②選手情報入力!L19=\"\",\"\",IF(I11=1,VLOOKUP(②選手情報入力!L19,種目情報!$A$4:$B$21,2,FALSE),VLOOKUP(②選手情報入力!L19,種目情報!$E$4:$F$20,2,FALSE))))","v":""},{"$f":"IF(E11=\"\",\"\",IF(②選手情報入力!M19=\"\",\"\",②選手情報入力!M19))","v":""},{"$f":"IF(E11=\"\",\"\",IF(②選手情報入力!L19=\"\",\"\",0))","v":""},{"$f":"IF(E11=\"\",\"\",IF(②選手情報入力!L19=\"\",\"\",IF(I11=1,VLOOKUP(②選手情報入力!L19,種目情報!$A$4:$C$21,3,FALSE),VLOOKUP(②選手情報入力!L19,種目情報!$E$4:$G$20,3,FALSE))))","v":""},null,null,null,null,{"$f":"IF(E11=\"\",\"\",IF(②選手情報入力!P19=\"\",\"\",IF(I11=1,種目情報!$J$4,種目情報!$J$6)))","v":""},{"$f":"IF(E11=\"\",\"\",IF(②選手情報入力!P19=\"\",\"\",IF(I11=1,IF(②選手情報入力!$N$5=\"\",\"\",②選手情報入力!$N$5),IF(②選手情報入力!$N$6=\"\",\"\",②選手情報入力!$N$6))))","v":""},{"$f":"IF(E11=\"\",\"\",IF(②選手情報入力!P19=\"\",\"\",0))","v":""},{"$f":"IF(E11=\"\",\"\",IF(②選手情報入力!P19=\"\",\"\",2))","v":""},{"$f":"IF(E11=\"\",\"\",IF(②選手情報入力!Q19=\"\",\"\",IF(I11=1,種目情報!$J$5,種目情報!$J$7)))","v":""},{"$f":"IF(E11=\"\",\"\",IF(②選手情報入力!Q19=\"\",\"\",IF(I11=1,IF(②選手情報入力!$P$5=\"\",\"\",②選手情報入力!$P$5),IF(②選手情報入力!$P$6=\"\",\"\",②選手情報入力!$P$6))))","v":""},{"$f":"IF(E11=\"\",\"\",IF(②選手情報入力!Q19=\"\",\"\",0))","v":""},{"$f":"IF(E11=\"\",\"\",IF(②選手情報入力!Q19=\"\",\"\",2))","v":""}]
[{"$f":"IF(E12=\"\",\"\",I12*1000000+①団体情報入力!$D$3*1000+②選手情報入力!A20)","v":""},{"$f":"IF(E12=\"\",\"\",①団体情報入力!$D$3)","v":""},null,{"$f":"IF(②選手情報入力!B20=\"\",\"\",②選手情報入力!B20)","v":""},{"$f":"IF(②選手情報入力!C20=\"\",\"\",②選手情報入力!C20)","v":""},{"$f":"IF(E12=\"\",\"\",②選手情報入力!D20)","v":""},{"$f":"IF(E12=\"\",\"\",②選手情報入力!E20)","v":""},"",{"$f":"IF(E12=\"\",\"\",IF(②選手情報入力!G20=\"男\",1,2))","v":""},{"$f":"IF(E12=\"\",\"\",IF(②選手情報入力!H20=\"\",\"\",②選手情報入力!H20))","v":""},null,"","",null,{"$f":"IF(E12=\"\",\"\",IF(②選手情報入力!I20=\"\",\"\",IF(I12=1,VLOOKUP(②選手情報入力!I20,種目情報!$A$4:$B$21,2,FALSE),VLOOKUP(②選手情報入力!I20,種目情報!$E$4:$F$20,2,FALSE))))","v":""},{"$f":"IF(E12=\"\",\"\",IF(②選手情報入力!J20=\"\",\"\",②選手情報入力!J20))","v":""},{"$f":"IF(E12=\"\",\"\",IF(②選手情報入力!I20=\"\",\"\",0))","v":""},{"$f":"IF(E12=\"\",\"\",IF(②選手情報入力!I20=\"\",\"\",IF(I12=1,VLOOKUP(②選手情報入力!I20,種目情報!$A$4:$C$21,3,FALSE),VLOOKUP(②選手情報入力!I20,種目情報!$E$4:$G$20,3,FALSE))))","v":""},{"$f":"IF(E12=\"\",\"\",IF(②選手情報入力!L20=\"\",\"\",IF(I12=1,VLOOKUP(②選手情報入力!L20,種目情報!$A$4:$B$21,2,FALSE),VLOOKUP(②選手情報入力!L20,種目情報!$E$4:$F$20,2,FALSE))))","v":""},{"$f":"IF(E12=\"\",\"\",IF(②選手情報入力!M20=\"\",\"\",②選手情報入力!M20))","v":""},{"$f":"IF(E12=\"\",\"\",IF(②選手情報入力!L20=\"\",\"\",0))","v":""},{"$f":"IF(E12=\"\",\"\",IF(②選手情報入力!L20=\"\",\"\",IF(I12=1,VLOOKUP(②選手情報入力!L20,種目情報!$A$4:$C$21,3,FALSE),VLOOKUP(②選手情報入力!L20,種目情報!$E$4:$G$20,3,FALSE))))","v":""},null,null,null,null,{"$f":"IF(E12=\"\",\"\",IF(②選手情報入力!P20=\"\",\"\",IF(I12=1,種目情報!$J$4,種目情報!$J$6)))","v":""},{"$f":"IF(E12=\"\",\"\",IF(②選手情報入力!P20=\"\",\"\",IF(I12=1,IF(②選手情報入力!$N$5=\"\",\"\",②選手情報入力!$N$5),IF(②選手情報入力!$N$6=\"\",\"\",②選手情報入力!$N$6))))","v":""},{"$f":"IF(E12=\"\",\"\",IF(②選手情報入力!P20=\"\",\"\",0))","v":""},{"$f":"IF(E12=\"\",\"\",IF(②選手情報入力!P20=\"\",\"\",2))","v":""},{"$f":"IF(E12=\"\",\"\",IF(②選手情報入力!Q20=\"\",\"\",IF(I12=1,種目情報!$J$5,種目情報!$J$7)))","v":""},{"$f":"IF(E12=\"\",\"\",IF(②選手情報入力!Q20=\"\",\"\",IF(I12=1,IF(②選手情報入力!$P$5=\"\",\"\",②選手情報入力!$P$5),IF(②選手情報入力!$P$6=\"\",\"\",②選手情報入力!$P$6))))","v":""},{"$f":"IF(E12=\"\",\"\",IF(②選手情報入力!Q20=\"\",\"\",0))","v":""},{"$f":"IF(E12=\"\",\"\",IF(②選手情報入力!Q20=\"\",\"\",2))","v":""}]
[{"$f":"IF(E13=\"\",\"\",I13*1000000+①団体情報入力!$D$3*1000+②選手情報入力!A21)","v":""},{"$f":"IF(E13=\"\",\"\",①団体情報入力!$D$3)","v":""},null,{"$f":"IF(②選手情報入力!B21=\"\",\"\",②選手情報入力!B21)","v":""},{"$f":"IF(②選手情報入力!C21=\"\",\"\",②選手情報入力!C21)","v":""},{"$f":"IF(E13=\"\",\"\",②選手情報入力!D21)","v":""},{"$f":"IF(E13=\"\",\"\",②選手情報入力!E21)","v":""},"",{"$f":"IF(E13=\"\",\"\",IF(②選手情報入力!G21=\"男\",1,2))","v":""},{"$f":"IF(E13=\"\",\"\",IF(②選手情報入力!H21=\"\",\"\",②選手情報入力!H21))","v":""},null,"","",null,{"$f":"IF(E13=\"\",\"\",IF(②選手情報入力!I21=\"\",\"\",IF(I13=1,VLOOKUP(②選手情報入力!I21,種目情報!$A$4:$B$21,2,FALSE),VLOOKUP(②選手情報入力!I21,種目情報!$E$4:$F$20,2,FALSE))))","v":""},{"$f":"IF(E13=\"\",\"\",IF(②選手情報入力!J21=\"\",\"\",②選手情報入力!J21))","v":""},{"$f":"IF(E13=\"\",\"\",IF(②選手情報入力!I21=\"\",\"\",0))","v":""},{"$f":"IF(E13=\"\",\"\",IF(②選手情報入力!I21=\"\",\"\",IF(I13=1,VLOOKUP(②選手情報入力!I21,種目情報!$A$4:$C$21,3,FALSE),VLOOKUP(②選手情報入力!I21,種目情報!$E$4:$G$20,3,FALSE))))","v":""},{"$f":"IF(E13=\"\",\"\",IF(②選手情報入力!L21=\"\",\"\",IF(I13=1,VLOOKUP(②選手情報入力!L21,種目情報!$A$4:$B$21,2,FALSE),VLOOKUP(②選手情報入力!L21,種目情報!$E$4:$F$20,2,FALSE))))","v":""},{"$f":"IF(E13=\"\",\"\",IF(②選手情報入力!M21=\"\",\"\",②選手情報入力!M21))","v":""},{"$f":"IF(E13=\"\",\"\",IF(②選手情報入力!L21=\"\",\"\",0))","v":""},{"$f":"IF(E13=\"\",\"\",IF(②選手情報入力!L21=\"\",\"\",IF(I13=1,VLOOKUP(②選手情報入力!L21,種目情報!$A$4:$C$21,3,FALSE),VLOOKUP(②選手情報入力!L21,種目情報!$E$4:$G$20,3,FALSE))))","v":""},null,null,null,null,{"$f":"IF(E13=\"\",\"\",IF(②選手情報入力!P21=\"\",\"\",IF(I13=1,種目情報!$J$4,種目情報!$J$6)))","v":""},{"$f":"IF(E13=\"\",\"\",IF(②選手情報入力!P21=\"\",\"\",IF(I13=1,IF(②選手情報入力!$N$5=\"\",\"\",②選手情報入力!$N$5),IF(②選手情報入力!$N$6=\"\",\"\",②選手情報入力!$N$6))))","v":""},{"$f":"IF(E13=\"\",\"\",IF(②選手情報入力!P21=\"\",\"\",0))","v":""},{"$f":"IF(E13=\"\",\"\",IF(②選手情報入力!P21=\"\",\"\",2))","v":""},{"$f":"IF(E13=\"\",\"\",IF(②選手情報入力!Q21=\"\",\"\",IF(I13=1,種目情報!$J$5,種目情報!$J$7)))","v":""},{"$f":"IF(E13=\"\",\"\",IF(②選手情報入力!Q21=\"\",\"\",IF(I13=1,IF(②選手情報入力!$P$5=\"\",\"\",②選手情報入力!$P$5),IF(②選手情報入力!$P$6=\"\",\"\",②選手情報入力!$P$6))))","v":""},{"$f":"IF(E13=\"\",\"\",IF(②選手情報入力!Q21=\"\",\"\",0))","v":""},{"$f":"IF(E13=\"\",\"\",IF(②選手情報入力!Q21=\"\",\"\",2))","v":""}]
[{"$f":"IF(E14=\"\",\"\",I14*1000000+①団体情報入力!$D$3*1000+②選手情報入力!A22)","v":""},{"$f":"IF(E14=\"\",\"\",①団体情報入力!$D$3)","v":""},null,{"$f":"IF(②選手情報入力!B22=\"\",\"\",②選手情報入力!B22)","v":""},{"$f":"IF(②選手情報入力!C22=\"\",\"\",②選手情報入力!C22)","v":""},{"$f":"IF(E14=\"\",\"\",②選手情報入力!D22)","v":""},{"$f":"IF(E14=\"\",\"\",②選手情報入力!E22)","v":""},"",{"$f":"IF(E14=\"\",\"\",IF(②選手情報入力!G22=\"男\",1,2))","v":""},{"$f":"IF(E14=\"\",\"\",IF(②選手情報入力!H22=\"\",\"\",②選手情報入力!H22))","v":""},null,"","",null,{"$f":"IF(E14=\"\",\"\",IF(②選手情報入力!I22=\"\",\"\",IF(I14=1,VLOOKUP(②選手情報入力!I22,種目情報!$A$4:$B$21,2,FALSE),VLOOKUP(②選手情報入力!I22,種目情報!$E$4:$F$20,2,FALSE))))","v":""},{"$f":"IF(E14=\"\",\"\",IF(②選手情報入力!J22=\"\",\"\",②選手情報入力!J22))","v":""},{"$f":"IF(E14=\"\",\"\",IF(②選手情報入力!I22=\"\",\"\",0))","v":""},{"$f":"IF(E14=\"\",\"\",IF(②選手情報入力!I22=\"\",\"\",IF(I14=1,VLOOKUP(②選手情報入力!I22,種目情報!$A$4:$C$21,3,FALSE),VLOOKUP(②選手情報入力!I22,種目情報!$E$4:$G$20,3,FALSE))))","v":""},{"$f":"IF(E14=\"\",\"\",IF(②選手情報入力!L22=\"\",\"\",IF(I14=1,VLOOKUP(②選手情報入力!L22,種目情報!$A$4:$B$21,2,FALSE),VLOOKUP(②選手情報入力!L22,種目情報!$E$4:$F$20,2,FALSE))))","v":""},{"$f":"IF(E14=\"\",\"\",IF(②選手情報入力!M22=\"\",\"\",②選手情報入力!M22))","v":""},{"$f":"IF(E14=\"\",\"\",IF(②選手情報入力!L22=\"\",\"\",0))","v":""},{"$f":"IF(E14=\"\",\"\",IF(②選手情報入力!L22=\"\",\"\",IF(I14=1,VLOOKUP(②選手情報入力!L22,種目情報!$A$4:$C$21,3,FALSE),VLOOKUP(②選手情報入力!L22,種目情報!$E$4:$G$20,3,FALSE))))","v":""},null,null,null,null,{"$f":"IF(E14=\"\",\"\",IF(②選手情報入力!P22=\"\",\"\",IF(I14=1,種目情報!$J$4,種目情報!$J$6)))","v":""},{"$f":"IF(E14=\"\",\"\",IF(②選手情報入力!P22=\"\",\"\",IF(I14=1,IF(②選手情報入力!$N$5=\"\",\"\",②選手情報入力!$N$5),IF(②選手情報入力!$N$6=\"\",\"\",②選手情報入力!$N$6))))","v":""},{"$f":"IF(E14=\"\",\"\",IF(②選手情報入力!P22=\"\",\"\",0))","v":""},{"$f":"IF(E14=\"\",\"\",IF(②選手情報入力!P22=\"\",\"\",2))","v":""},{"$f":"IF(E14=\"\",\"\",IF(②選手情報入力!Q22=\"\",\"\",IF(I14=1,種目情報!$J$5,種目情報!$J$7)))","v":""},{"$f":"IF(E14=\"\",\"\",IF(②選手情報入力!Q22=\"\",\"\",IF(I14=1,IF(②選手情報入力!$P$5=\"\",\"\",②選手情報入力!$P$5),IF(②選手情報入力!$P$6=\"\",\"\",②選手情報入力!$P$6))))","v":""},{"$f":"IF(E14=\"\",\"\",IF(②選手情報入力!Q22=\"\",\"\",0))","v":""},{"$f":"IF(E14=\"\",\"\",IF(②選手情報入力!Q22=\"\",\"\",2))","v":""}]
[{"$f":"IF(E15=\"\",\"\",I15*1000000+①団体情報入力!$D$3*1000+②選手情報入力!A23)","v":""},{"$f":"IF(E15=\"\",\"\",①団体情報入力!$D$3)","v":""},null,{"$f":"IF(②選手情報入力!B23=\"\",\"\",②選手情報入力!B23)","v":""},{"$f":"IF(②選手情報入力!C23=\"\",\"\",②選手情報入力!C23)","v":""},{"$f":"IF(E15=\"\",\"\",②選手情報入力!D23)","v":""},{"$f":"IF(E15=\"\",\"\",②選手情報入力!E23)","v":""},"",{"$f":"IF(E15=\"\",\"\",IF(②選手情報入力!G23=\"男\",1,2))","v":""},{"$f":"IF(E15=\"\",\"\",IF(②選手情報入力!H23=\"\",\"\",②選手情報入力!H23))","v":""},null,"","",null,{"$f":"IF(E15=\"\",\"\",IF(②選手情報入力!I23=\"\",\"\",IF(I15=1,VLOOKUP(②選手情報入力!I23,種目情報!$A$4:$B$21,2,FALSE),VLOOKUP(②選手情報入力!I23,種目情報!$E$4:$F$20,2,FALSE))))","v":""},{"$f":"IF(E15=\"\",\"\",IF(②選手情報入力!J23=\"\",\"\",②選手情報入力!J23))","v":""},{"$f":"IF(E15=\"\",\"\",IF(②選手情報入力!I23=\"\",\"\",0))","v":""},{"$f":"IF(E15=\"\",\"\",IF(②選手情報入力!I23=\"\",\"\",IF(I15=1,VLOOKUP(②選手情報入力!I23,種目情報!$A$4:$C$21,3,FALSE),VLOOKUP(②選手情報入力!I23,種目情報!$E$4:$G$20,3,FALSE))))","v":""},{"$f":"IF(E15=\"\",\"\",IF(②選手情報入力!L23=\"\",\"\",IF(I15=1,VLOOKUP(②選手情報入力!L23,種目情報!$A$4:$B$21,2,FALSE),VLOOKUP(②選手情報入力!L23,種目情報!$E$4:$F$20,2,FALSE))))","v":""},{"$f":"IF(E15=\"\",\"\",IF(②選手情報入力!M23=\"\",\"\",②選手情報入力!M23))","v":""},{"$f":"IF(E15=\"\",\"\",IF(②選手情報入力!L23=\"\",\"\",0))","v":""},{"$f":"IF(E15=\"\",\"\",IF(②選手情報入力!L23=\"\",\"\",IF(I15=1,VLOOKUP(②選手情報入力!L23,種目情報!$A$4:$C$21,3,FALSE),VLOOKUP(②選手情報入力!L23,種目情報!$E$4:$G$20,3,FALSE))))","v":""},null,null,null,null,{"$f":"IF(E15=\"\",\"\",IF(②選手情報入力!P23=\"\",\"\",IF(I15=1,種目情報!$J$4,種目情報!$J$6)))","v":""},{"$f":"IF(E15=\"\",\"\",IF(②選手情報入力!P23=\"\",\"\",IF(I15=1,IF(②選手情報入力!$N$5=\"\",\"\",②選手情報入力!$N$5),IF(②選手情報入力!$N$6=\"\",\"\",②選手情報入力!$N$6))))","v":""},{"$f":"IF(E15=\"\",\"\",IF(②選手情報入力!P23=\"\",\"\",0))","v":""},{"$f":"IF(E15=\"\",\"\",IF(②選手情報入力!P23=\"\",\"\",2))","v":""},{"$f":"IF(E15=\"\",\"\",IF(②選手情報入力!Q23=\"\",\"\",IF(I15=1,種目情報!$J$5,種目情報!$J$7)))","v":""},{"$f":"IF(E15=\"\",\"\",IF(②選手情報入力!Q23=\"\",\"\",IF(I15=1,IF(②選手情報入力!$P$5=\"\",\"\",②選手情報入力!$P$5),IF(②選手情報入力!$P$6=\"\",\"\",②選手情報入力!$P$6))))","v":""},{"$f":"IF(E15=\"\",\"\",IF(②選手情報入力!Q23=\"\",\"\",0))","v":""},{"$f":"IF(E15=\"\",\"\",IF(②選手情報入力!Q23=\"\",\"\",2))","v":""}]
[{"$f":"IF(E16=\"\",\"\",I16*1000000+①団体情報入力!$D$3*1000+②選手情報入力!A24)","v":""},{"$f":"IF(E16=\"\",\"\",①団体情報入力!$D$3)","v":""},null,{"$f":"IF(②選手情報入力!B24=\"\",\"\",②選手情報入力!B24)","v":""},{"$f":"IF(②選手情報入力!C24=\"\",\"\",②選手情報入力!C24)","v":""},{"$f":"IF(E16=\"\",\"\",②選手情報入力!D24)","v":""},{"$f":"IF(E16=\"\",\"\",②選手情報入力!E24)","v":""},"",{"$f":"IF(E16=\"\",\"\",IF(②選手情報入力!G24=\"男\",1,2))","v":""},{"$f":"IF(E16=\"\",\"\",IF(②選手情報入力!H24=\"\",\"\",②選手情報入力!H24))","v":""},null,"","",null,{"$f":"IF(E16=\"\",\"\",IF(②選手情報入力!I24=\"\",\"\",IF(I16=1,VLOOKUP(②選手情報入力!I24,種目情報!$A$4:$B$21,2,FALSE),VLOOKUP(②選手情報入力!I24,種目情報!$E$4:$F$20,2,FALSE))))","v":""},{"$f":"IF(E16=\"\",\"\",IF(②選手情報入力!J24=\"\",\"\",②選手情報入力!J24))","v":""},{"$f":"IF(E16=\"\",\"\",IF(②選手情報入力!I24=\"\",\"\",0))","v":""},{"$f":"IF(E16=\"\",\"\",IF(②選手情報入力!I24=\"\",\"\",IF(I16=1,VLOOKUP(②選手情報入力!I24,種目情報!$A$4:$C$21,3,FALSE),VLOOKUP(②選手情報入力!I24,種目情報!$E$4:$G$20,3,FALSE))))","v":""},{"$f":"IF(E16=\"\",\"\",IF(②選手情報入力!L24=\"\",\"\",IF(I16=1,VLOOKUP(②選手情報入力!L24,種目情報!$A$4:$B$21,2,FALSE),VLOOKUP(②選手情報入力!L24,種目情報!$E$4:$F$20,2,FALSE))))","v":""},{"$f":"IF(E16=\"\",\"\",IF(②選手情報入力!M24=\"\",\"\",②選手情報入力!M24))","v":""},{"$f":"IF(E16=\"\",\"\",IF(②選手情報入力!L24=\"\",\"\",0))","v":""},{"$f":"IF(E16=\"\",\"\",IF(②選手情報入力!L24=\"\",\"\",IF(I16=1,VLOOKUP(②選手情報入力!L24,種目情報!$A$4:$C$21,3,FALSE),VLOOKUP(②選手情報入力!L24,種目情報!$E$4:$G$20,3,FALSE))))","v":""},null,null,null,null,{"$f":"IF(E16=\"\",\"\",IF(②選手情報入力!P24=\"\",\"\",IF(I16=1,種目情報!$J$4,種目情報!$J$6)))","v":""},{"$f":"IF(E16=\"\",\"\",IF(②選手情報入力!P24=\"\",\"\",IF(I16=1,IF(②選手情報入力!$N$5=\"\",\"\",②選手情報入力!$N$5),IF(②選手情報入力!$N$6=\"\",\"\",②選手情報入力!$N$6))))","v":""},{"$f":"IF(E16=\"\",\"\",IF(②選手情報入力!P24=\"\",\"\",0))","v":""},{"$f":"IF(E16=\"\",\"\",IF(②選手情報入力!P24=\"\",\"\",2))","v":""},{"$f":"IF(E16=\"\",\"\",IF(②選手情報入力!Q24=\"\",\"\",IF(I16=1,種目情報!$J$5,種目情報!$J$7)))","v":""},{"$f":"IF(E16=\"\",\"\",IF(②選手情報入力!Q24=\"\",\"\",IF(I16=1,IF(②選手情報入力!$P$5=\"\",\"\",②選手情報入力!$P$5),IF(②選手情報入力!$P$6=\"\",\"\",②選手情報入力!$P$6))))","v":""},{"$f":"IF(E16=\"\",\"\",IF(②選手情報入力!Q24=\"\",\"\",0))","v":""},{"$f":"IF(E16=\"\",\"\",IF(②選手情報入力!Q24=\"\",\"\",2))","v":""}]
[{"$f":"IF(E17=\"\",\"\",I17*1000000+①団体情報入力!$D$3*1000+②選手情報入力!A25)","v":""},{"$f":"IF(E17=\"\",\"\",①団体情報入力!$D$3)","v":""},null,{"$f":"IF(②選手情報入力!B25=\"\",\"\",②選手情報入力!B25)","v":""},{"$f":"IF(②選手情報入力!C25=\"\",\"\",②選手情報入力!C25)","v":""},{"$f":"IF(E17=\"\",\"\",②選手情報入力!D25)","v":""},{"$f":"IF(E17=\"\",\"\",②選手情報入力!E25)","v":""},"",{"$f":"IF(E17=\"\",\"\",IF(②選手情報入力!G25=\"男\",1,2))","v":""},{"$f":"IF(E17=\"\",\"\",IF(②選手情報入力!H25=\"\",\"\",②選手情報入力!H25))","v":""},null,"","",null,{"$f":"IF(E17=\"\",\"\",IF(②選手情報入力!I25=\"\",\"\",IF(I17=1,VLOOKUP(②選手情報入力!I25,種目情報!$A$4:$B$21,2,FALSE),VLOOKUP(②選手情報入力!I25,種目情報!$E$4:$F$20,2,FALSE))))","v":""},{"$f":"IF(E17=\"\",\"\",IF(②選手情報入力!J25=\"\",\"\",②選手情報入力!J25))","v":""},{"$f":"IF(E17=\"\",\"\",IF(②選手情報入力!I25=\"\",\"\",0))","v":""},{"$f":"IF(E17=\"\",\"\",IF(②選手情報入力!I25=\"\",\"\",IF(I17=1,VLOOKUP(②選手情報入力!I25,種目情報!$A$4:$C$21,3,FALSE),VLOOKUP(②選手情報入力!I25,種目情報!$E$4:$G$20,3,FALSE))))","v":""},{"$f":"IF(E17=\"\",\"\",IF(②選手情報入力!L25=\"\",\"\",IF(I17=1,VLOOKUP(②選手情報入力!L25,種目情報!$A$4:$B$21,2,FALSE),VLOOKUP(②選手情報入力!L25,種目情報!$E$4:$F$20,2,FALSE))))","v":""},{"$f":"IF(E17=\"\",\"\",IF(②選手情報入力!M25=\"\",\"\",②選手情報入力!M25))","v":""},{"$f":"IF(E17=\"\",\"\",IF(②選手情報入力!L25=\"\",\"\",0))","v":""},{"$f":"IF(E17=\"\",\"\",IF(②選手情報入力!L25=\"\",\"\",IF(I17=1,VLOOKUP(②選手情報入力!L25,種目情報!$A$4:$C$21,3,FALSE),VLOOKUP(②選手情報入力!L25,種目情報!$E$4:$G$20,3,FALSE))))","v":""},null,null,null,null,{"$f":"IF(E17=\"\",\"\",IF(②選手情報入力!P25=\"\",\"\",IF(I17=1,種目情報!$J$4,種目情報!$J$6)))","v":""},{"$f":"IF(E17=\"\",\"\",IF(②選手情報入力!P25=\"\",\"\",IF(I17=1,IF(②選手情報入力!$N$5=\"\",\"\",②選手情報入力!$N$5),IF(②選手情報入力!$N$6=\"\",\"\",②選手情報入力!$N$6))))","v":""},{"$f":"IF(E17=\"\",\"\",IF(②選手情報入力!P25=\"\",\"\",0))","v":""},{"$f":"IF(E17=\"\",\"\",IF(②選手情報入力!P25=\"\",\"\",2))","v":""},{"$f":"IF(E17=\"\",\"\",IF(②選手情報入力!Q25=\"\",\"\",IF(I17=1,種目情報!$J$5,種目情報!$J$7)))","v":""},{"$f":"IF(E17=\"\",\"\",IF(②選手情報入力!Q25=\"\",\"\",IF(I17=1,IF(②選手情報入力!$P$5=\"\",\"\",②選手情報入力!$P$5),IF(②選手情報入力!$P$6=\"\",\"\",②選手情報入力!$P$6))))","v":""},{"$f":"IF(E17=\"\",\"\",IF(②選手情報入力!Q25=\"\",\"\",0))","v":""},{"$f":"IF(E17=\"\",\"\",IF(②選手情報入力!Q25=\"\",\"\",2))","v":""}]
[{"$f":"IF(E18=\"\",\"\",I18*1000000+①団体情報入力!$D$3*1000+②選手情報入力!A26)","v":""},{"$f":"IF(E18=\"\",\"\",①団体情報入力!$D$3)","v":""},null,{"$f":"IF(②選手情報入力!B26=\"\",\"\",②選手情報入力!B26)","v":""},{"$f":"IF(②選手情報入力!C26=\"\",\"\",②選手情報入力!C26)","v":""},{"$f":"IF(E18=\"\",\"\",②選手情報入力!D26)","v":""},{"$f":"IF(E18=\"\",\"\",②選手情報入力!E26)","v":""},"",{"$f":"IF(E18=\"\",\"\",IF(②選手情報入力!G26=\"男\",1,2))","v":""},{"$f":"IF(E18=\"\",\"\",IF(②選手情報入力!H26=\"\",\"\",②選手情報入力!H26))","v":""},null,"","",null,{"$f":"IF(E18=\"\",\"\",IF(②選手情報入力!I26=\"\",\"\",IF(I18=1,VLOOKUP(②選手情報入力!I26,種目情報!$A$4:$B$21,2,FALSE),VLOOKUP(②選手情報入力!I26,種目情報!$E$4:$F$20,2,FALSE))))","v":""},{"$f":"IF(E18=\"\",\"\",IF(②選手情報入力!J26=\"\",\"\",②選手情報入力!J26))","v":""},{"$f":"IF(E18=\"\",\"\",IF(②選手情報入力!I26=\"\",\"\",0))","v":""},{"$f":"IF(E18=\"\",\"\",IF(②選手情報入力!I26=\"\",\"\",IF(I18=1,VLOOKUP(②選手情報入力!I26,種目情報!$A$4:$C$21,3,FALSE),VLOOKUP(②選手情報入力!I26,種目情報!$E$4:$G$20,3,FALSE))))","v":""},{"$f":"IF(E18=\"\",\"\",IF(②選手情報入力!L26=\"\",\"\",IF(I18=1,VLOOKUP(②選手情報入力!L26,種目情報!$A$4:$B$21,2,FALSE),VLOOKUP(②選手情報入力!L26,種目情報!$E$4:$F$20,2,FALSE))))","v":""},{"$f":"IF(E18=\"\",\"\",IF(②選手情報入力!M26=\"\",\"\",②選手情報入力!M26))","v":""},{"$f":"IF(E18=\"\",\"\",IF(②選手情報入力!L26=\"\",\"\",0))","v":""},{"$f":"IF(E18=\"\",\"\",IF(②選手情報入力!L26=\"\",\"\",IF(I18=1,VLOOKUP(②選手情報入力!L26,種目情報!$A$4:$C$21,3,FALSE),VLOOKUP(②選手情報入力!L26,種目情報!$E$4:$G$20,3,FALSE))))","v":""},null,null,null,null,{"$f":"IF(E18=\"\",\"\",IF(②選手情報入力!P26=\"\",\"\",IF(I18=1,種目情報!$J$4,種目情報!$J$6)))","v":""},{"$f":"IF(E18=\"\",\"\",IF(②選手情報入力!P26=\"\",\"\",IF(I18=1,IF(②選手情報入力!$N$5=\"\",\"\",②選手情報入力!$N$5),IF(②選手情報入力!$N$6=\"\",\"\",②選手情報入力!$N$6))))","v":""},{"$f":"IF(E18=\"\",\"\",IF(②選手情報入力!P26=\"\",\"\",0))","v":""},{"$f":"IF(E18=\"\",\"\",IF(②選手情報入力!P26=\"\",\"\",2))","v":""},{"$f":"IF(E18=\"\",\"\",IF(②選手情報入力!Q26=\"\",\"\",IF(I18=1,種目情報!$J$5,種目情報!$J$7)))","v":""},{"$f":"IF(E18=\"\",\"\",IF(②選手情報入力!Q26=\"\",\"\",IF(I18=1,IF(②選手情報入力!$P$5=\"\",\"\",②選手情報入力!$P$5),IF(②選手情報入力!$P$6=\"\",\"\",②選手情報入力!$P$6))))","v":""},{"$f":"IF(E18=\"\",\"\",IF(②選手情報入力!Q26=\"\",\"\",0))","v":""},{"$f":"IF(E18=\"\",\"\",IF(②選手情報入力!Q26=\"\",\"\",2))","v":""}]
[{"$f":"IF(E19=\"\",\"\",I19*1000000+①団体情報入力!$D$3*1000+②選手情報入力!A27)","v":""},{"$f":"IF(E19=\"\",\"\",①団体情報入力!$D$3)","v":""},null,{"$f":"IF(②選手情報入力!B27=\"\",\"\",②選手情報入力!B27)","v":""},{"$f":"IF(②選手情報入力!C27=\"\",\"\",②選手情報入力!C27)","v":""},{"$f":"IF(E19=\"\",\"\",②選手情報入力!D27)","v":""},{"$f":"IF(E19=\"\",\"\",②選手情報入力!E27)","v":""},"",{"$f":"IF(E19=\"\",\"\",IF(②選手情報入力!G27=\"男\",1,2))","v":""},{"$f":"IF(E19=\"\",\"\",IF(②選手情報入力!H27=\"\",\"\",②選手情報入力!H27))","v":""},null,"","",null,{"$f":"IF(E19=\"\",\"\",IF(②選手情報入力!I27=\"\",\"\",IF(I19=1,VLOOKUP(②選手情報入力!I27,種目情報!$A$4:$B$21,2,FALSE),VLOOKUP(②選手情報入力!I27,種目情報!$E$4:$F$20,2,FALSE))))","v":""},{"$f":"IF(E19=\"\",\"\",IF(②選手情報入力!J27=\"\",\"\",②選手情報入力!J27))","v":""},{"$f":"IF(E19=\"\",\"\",IF(②選手情報入力!I27=\"\",\"\",0))","v":""},{"$f":"IF(E19=\"\",\"\",IF(②選手情報入力!I27=\"\",\"\",IF(I19=1,VLOOKUP(②選手情報入力!I27,種目情報!$A$4:$C$21,3,FALSE),VLOOKUP(②選手情報入力!I27,種目情報!$E$4:$G$20,3,FALSE))))","v":""},{"$f":"IF(E19=\"\",\"\",IF(②選手情報入力!L27=\"\",\"\",IF(I19=1,VLOOKUP(②選手情報入力!L27,種目情報!$A$4:$B$21,2,FALSE),VLOOKUP(②選手情報入力!L27,種目情報!$E$4:$F$20,2,FALSE))))","v":""},{"$f":"IF(E19=\"\",\"\",IF(②選手情報入力!M27=\"\",\"\",②選手情報入力!M27))","v":""},{"$f":"IF(E19=\"\",\"\",IF(②選手情報入力!L27=\"\",\"\",0))","v":""},{"$f":"IF(E19=\"\",\"\",IF(②選手情報入力!L27=\"\",\"\",IF(I19=1,VLOOKUP(②選手情報入力!L27,種目情報!$A$4:$C$21,3,FALSE),VLOOKUP(②選手情報入力!L27,種目情報!$E$4:$G$20,3,FALSE))))","v":""},null,null,null,null,{"$f":"IF(E19=\"\",\"\",IF(②選手情報入力!P27=\"\",\"\",IF(I19=1,種目情報!$J$4,種目情報!$J$6)))","v":""},{"$f":"IF(E19=\"\",\"\",IF(②選手情報入力!P27=\"\",\"\",IF(I19=1,IF(②選手情報入力!$N$5=\"\",\"\",②選手情報入力!$N$5),IF(②選手情報入力!$N$6=\"\",\"\",②選手情報入力!$N$6))))","v":""},{"$f":"IF(E19=\"\",\"\",IF(②選手情報入力!P27=\"\",\"\",0))","v":""},{"$f":"IF(E19=\"\",\"\",IF(②選手情報入力!P27=\"\",\"\",2))","v":""},{"$f":"IF(E19=\"\",\"\",IF(②選手情報入力!Q27=\"\",\"\",IF(I19=1,種目情報!$J$5,種目情報!$J$7)))","v":""},{"$f":"IF(E19=\"\",\"\",IF(②選手情報入力!Q27=\"\",\"\",IF(I19=1,IF(②選手情報入力!$P$5=\"\",\"\",②選手情報入力!$P$5),IF(②選手情報入力!$P$6=\"\",\"\",②選手情報入力!$P$6))))","v":""},{"$f":"IF(E19=\"\",\"\",IF(②選手情報入力!Q27=\"\",\"\",0))","v":""},{"$f":"IF(E19=\"\",\"\",IF(②選手情報入力!Q27=\"\",\"\",2))","v":""}]
[{"$f":"IF(E20=\"\",\"\",I20*1000000+①団体情報入力!$D$3*1000+②選手情報入力!A28)","v":""},{"$f":"IF(E20=\"\",\"\",①団体情報入力!$D$3)","v":""},null,{"$f":"IF(②選手情報入力!B28=\"\",\"\",②選手情報入力!B28)","v":""},{"$f":"IF(②選手情報入力!C28=\"\",\"\",②選手情報入力!C28)","v":""},{"$f":"IF(E20=\"\",\"\",②選手情報入力!D28)","v":""},{"$f":"IF(E20=\"\",\"\",②選手情報入力!E28)","v":""},"",{"$f":"IF(E20=\"\",\"\",IF(②選手情報入力!G28=\"男\",1,2))","v":""},{"$f":"IF(E20=\"\",\"\",IF(②選手情報入力!H28=\"\",\"\",②選手情報入力!H28))","v":""},null,"","",null,{"$f":"IF(E20=\"\",\"\",IF(②選手情報入力!I28=\"\",\"\",IF(I20=1,VLOOKUP(②選手情報入力!I28,種目情報!$A$4:$B$21,2,FALSE),VLOOKUP(②選手情報入力!I28,種目情報!$E$4:$F$20,2,FALSE))))","v":""},{"$f":"IF(E20=\"\",\"\",IF(②選手情報入力!J28=\"\",\"\",②選手情報入力!J28))","v":""},{"$f":"IF(E20=\"\",\"\",IF(②選手情報入力!I28=\"\",\"\",0))","v":""},{"$f":"IF(E20=\"\",\"\",IF(②選手情報入力!I28=\"\",\"\",IF(I20=1,VLOOKUP(②選手情報入力!I28,種目情報!$A$4:$C$21,3,FALSE),VLOOKUP(②選手情報入力!I28,種目情報!$E$4:$G$20,3,FALSE))))","v":""},{"$f":"IF(E20=\"\",\"\",IF(②選手情報入力!L28=\"\",\"\",IF(I20=1,VLOOKUP(②選手情報入力!L28,種目情報!$A$4:$B$21,2,FALSE),VLOOKUP(②選手情報入力!L28,種目情報!$E$4:$F$20,2,FALSE))))","v":""},{"$f":"IF(E20=\"\",\"\",IF(②選手情報入力!M28=\"\",\"\",②選手情報入力!M28))","v":""},{"$f":"IF(E20=\"\",\"\",IF(②選手情報入力!L28=\"\",\"\",0))","v":""},{"$f":"IF(E20=\"\",\"\",IF(②選手情報入力!L28=\"\",\"\",IF(I20=1,VLOOKUP(②選手情報入力!L28,種目情報!$A$4:$C$21,3,FALSE),VLOOKUP(②選手情報入力!L28,種目情報!$E$4:$G$20,3,FALSE))))","v":""},null,null,null,null,{"$f":"IF(E20=\"\",\"\",IF(②選手情報入力!P28=\"\",\"\",IF(I20=1,種目情報!$J$4,種目情報!$J$6)))","v":""},{"$f":"IF(E20=\"\",\"\",IF(②選手情報入力!P28=\"\",\"\",IF(I20=1,IF(②選手情報入力!$N$5=\"\",\"\",②選手情報入力!$N$5),IF(②選手情報入力!$N$6=\"\",\"\",②選手情報入力!$N$6))))","v":""},{"$f":"IF(E20=\"\",\"\",IF(②選手情報入力!P28=\"\",\"\",0))","v":""},{"$f":"IF(E20=\"\",\"\",IF(②選手情報入力!P28=\"\",\"\",2))","v":""},{"$f":"IF(E20=\"\",\"\",IF(②選手情報入力!Q28=\"\",\"\",IF(I20=1,種目情報!$J$5,種目情報!$J$7)))","v":""},{"$f":"IF(E20=\"\",\"\",IF(②選手情報入力!Q28=\"\",\"\",IF(I20=1,IF(②選手情報入力!$P$5=\"\",\"\",②選手情報入力!$P$5),IF(②選手情報入力!$P$6=\"\",\"\",②選手情報入力!$P$6))))","v":""},{"$f":"IF(E20=\"\",\"\",IF(②選手情報入力!Q28=\"\",\"\",0))","v":""},{"$f":"IF(E20=\"\",\"\",IF(②選手情報入力!Q28=\"\",\"\",2))","v":""}]
[{"$f":"IF(E21=\"\",\"\",I21*1000000+①団体情報入力!$D$3*1000+②選手情報入力!A29)","v":""},{"$f":"IF(E21=\"\",\"\",①団体情報入力!$D$3)","v":""},null,{"$f":"IF(②選手情報入力!B29=\"\",\"\",②選手情報入力!B29)","v":""},{"$f":"IF(②選手情報入力!C29=\"\",\"\",②選手情報入力!C29)","v":""},{"$f":"IF(E21=\"\",\"\",②選手情報入力!D29)","v":""},{"$f":"IF(E21=\"\",\"\",②選手情報入力!E29)","v":""},"",{"$f":"IF(E21=\"\",\"\",IF(②選手情報入力!G29=\"男\",1,2))","v":""},{"$f":"IF(E21=\"\",\"\",IF(②選手情報入力!H29=\"\",\"\",②選手情報入力!H29))","v":""},null,"","",null,{"$f":"IF(E21=\"\",\"\",IF(②選手情報入力!I29=\"\",\"\",IF(I21=1,VLOOKUP(②選手情報入力!I29,種目情報!$A$4:$B$21,2,FALSE),VLOOKUP(②選手情報入力!I29,種目情報!$E$4:$F$20,2,FALSE))))","v":""},{"$f":"IF(E21=\"\",\"\",IF(②選手情報入力!J29=\"\",\"\",②選手情報入力!J29))","v":""},{"$f":"IF(E21=\"\",\"\",IF(②選手情報入力!I29=\"\",\"\",0))","v":""},{"$f":"IF(E21=\"\",\"\",IF(②選手情報入力!I29=\"\",\"\",IF(I21=1,VLOOKUP(②選手情報入力!I29,種目情報!$A$4:$C$21,3,FALSE),VLOOKUP(②選手情報入力!I29,種目情報!$E$4:$G$20,3,FALSE))))","v":""},{"$f":"IF(E21=\"\",\"\",IF(②選手情報入力!L29=\"\",\"\",IF(I21=1,VLOOKUP(②選手情報入力!L29,種目情報!$A$4:$B$21,2,FALSE),VLOOKUP(②選手情報入力!L29,種目情報!$E$4:$F$20,2,FALSE))))","v":""},{"$f":"IF(E21=\"\",\"\",IF(②選手情報入力!M29=\"\",\"\",②選手情報入力!M29))","v":""},{"$f":"IF(E21=\"\",\"\",IF(②選手情報入力!L29=\"\",\"\",0))","v":""},{"$f":"IF(E21=\"\",\"\",IF(②選手情報入力!L29=\"\",\"\",IF(I21=1,VLOOKUP(②選手情報入力!L29,種目情報!$A$4:$C$21,3,FALSE),VLOOKUP(②選手情報入力!L29,種目情報!$E$4:$G$20,3,FALSE))))","v":""},null,null,null,null,{"$f":"IF(E21=\"\",\"\",IF(②選手情報入力!P29=\"\",\"\",IF(I21=1,種目情報!$J$4,種目情報!$J$6)))","v":""},{"$f":"IF(E21=\"\",\"\",IF(②選手情報入力!P29=\"\",\"\",IF(I21=1,IF(②選手情報入力!$N$5=\"\",\"\",②選手情報入力!$N$5),IF(②選手情報入力!$N$6=\"\",\"\",②選手情報入力!$N$6))))","v":""},{"$f":"IF(E21=\"\",\"\",IF(②選手情報入力!P29=\"\",\"\",0))","v":""},{"$f":"IF(E21=\"\",\"\",IF(②選手情報入力!P29=\"\",\"\",2))","v":""},{"$f":"IF(E21=\"\",\"\",IF(②選手情報入力!Q29=\"\",\"\",IF(I21=1,種目情報!$J$5,種目情報!$J$7)))","v":""},{"$f":"IF(E21=\"\",\"\",IF(②選手情報入力!Q29=\"\",\"\",IF(I21=1,IF(②選手情報入力!$P$5=\"\",\"\",②選手情報入力!$P$5),IF(②選手情報入力!$P$6=\"\",\"\",②選手情報入力!$P$6))))","v":""},{"$f":"IF(E21=\"\",\"\",IF(②選手情報入力!Q29=\"\",\"\",0))","v":""},{"$f":"IF(E21=\"\",\"\",IF(②選手情報入力!Q29=\"\",\"\",2))","v":""}]
[{"$f":"IF(E22=\"\",\"\",I22*1000000+①団体情報入力!$D$3*1000+②選手情報入力!A30)","v":""},{"$f":"IF(E22=\"\",\"\",①団体情報入力!$D$3)","v":""},null,{"$f":"IF(②選手情報入力!B30=\"\",\"\",②選手情報入力!B30)","v":""},{"$f":"IF(②選手情報入力!C30=\"\",\"\",②選手情報入力!C30)","v":""},{"$f":"IF(E22=\"\",\"\",②選手情報入力!D30)","v":""},{"$f":"IF(E22=\"\",\"\",②選手情報入力!E30)","v":""},"",{"$f":"IF(E22=\"\",\"\",IF(②選手情報入力!G30=\"男\",1,2))","v":""},{"$f":"IF(E22=\"\",\"\",IF(②選手情報入力!H30=\"\",\"\",②選手情報入力!H30))","v":""},null,"","",null,{"$f":"IF(E22=\"\",\"\",IF(②選手情報入力!I30=\"\",\"\",IF(I22=1,VLOOKUP(②選手情報入力!I30,種目情報!$A$4:$B$21,2,FALSE),VLOOKUP(②選手情報入力!I30,種目情報!$E$4:$F$20,2,FALSE))))","v":""},{"$f":"IF(E22=\"\",\"\",IF(②選手情報入力!J30=\"\",\"\",②選手情報入力!J30))","v":""},{"$f":"IF(E22=\"\",\"\",IF(②選手情報入力!I30=\"\",\"\",0))","v":""},{"$f":"IF(E22=\"\",\"\",IF(②選手情報入力!I30=\"\",\"\",IF(I22=1,VLOOKUP(②選手情報入力!I30,種目情報!$A$4:$C$21,3,FALSE),VLOOKUP(②選手情報入力!I30,種目情報!$E$4:$G$20,3,FALSE))))","v":""},{"$f":"IF(E22=\"\",\"\",IF(②選手情報入力!L30=\"\",\"\",IF(I22=1,VLOOKUP(②選手情報入力!L30,種目情報!$A$4:$B$21,2,FALSE),VLOOKUP(②選手情報入力!L30,種目情報!$E$4:$F$20,2,FALSE))))","v":""},{"$f":"IF(E22=\"\",\"\",IF(②選手情報入力!M30=\"\",\"\",②選手情報入力!M30))","v":""},{"$f":"IF(E22=\"\",\"\",IF(②選手情報入力!L30=\"\",\"\",0))","v":""},{"$f":"IF(E22=\"\",\"\",IF(②選手情報入力!L30=\"\",\"\",IF(I22=1,VLOOKUP(②選手情報入力!L30,種目情報!$A$4:$C$21,3,FALSE),VLOOKUP(②選手情報入力!L30,種目情報!$E$4:$G$20,3,FALSE))))","v":""},null,null,null,null,{"$f":"IF(E22=\"\",\"\",IF(②選手情報入力!P30=\"\",\"\",IF(I22=1,種目情報!$J$4,種目情報!$J$6)))","v":""},{"$f":"IF(E22=\"\",\"\",IF(②選手情報入力!P30=\"\",\"\",IF(I22=1,IF(②選手情報入力!$N$5=\"\",\"\",②選手情報入力!$N$5),IF(②選手情報入力!$N$6=\"\",\"\",②選手情報入力!$N$6))))","v":""},{"$f":"IF(E22=\"\",\"\",IF(②選手情報入力!P30=\"\",\"\",0))","v":""},{"$f":"IF(E22=\"\",\"\",IF(②選手情報入力!P30=\"\",\"\",2))","v":""},{"$f":"IF(E22=\"\",\"\",IF(②選手情報入力!Q30=\"\",\"\",IF(I22=1,種目情報!$J$5,種目情報!$J$7)))","v":""},{"$f":"IF(E22=\"\",\"\",IF(②選手情報入力!Q30=\"\",\"\",IF(I22=1,IF(②選手情報入力!$P$5=\"\",\"\",②選手情報入力!$P$5),IF(②選手情報入力!$P$6=\"\",\"\",②選手情報入力!$P$6))))","v":""},{"$f":"IF(E22=\"\",\"\",IF(②選手情報入力!Q30=\"\",\"\",0))","v":""},{"$f":"IF(E22=\"\",\"\",IF(②選手情報入力!Q30=\"\",\"\",2))","v":""}]
[{"$f":"IF(E23=\"\",\"\",I23*1000000+①団体情報入力!$D$3*1000+②選手情報入力!A31)","v":""},{"$f":"IF(E23=\"\",\"\",①団体情報入力!$D$3)","v":""},null,{"$f":"IF(②選手情報入力!B31=\"\",\"\",②選手情報入力!B31)","v":""},{"$f":"IF(②選手情報入力!C31=\"\",\"\",②選手情報入力!C31)","v":""},{"$f":"IF(E23=\"\",\"\",②選手情報入力!D31)","v":""},{"$f":"IF(E23=\"\",\"\",②選手情報入力!E31)","v":""},"",{"$f":"IF(E23=\"\",\"\",IF(②選手情報入力!G31=\"男\",1,2))","v":""},{"$f":"IF(E23=\"\",\"\",IF(②選手情報入力!H31=\"\",\"\",②選手情報入力!H31))","v":""},null,"","",null,{"$f":"IF(E23=\"\",\"\",IF(②選手情報入力!I31=\"\",\"\",IF(I23=1,VLOOKUP(②選手情報入力!I31,種目情報!$A$4:$B$21,2,FALSE),VLOOKUP(②選手情報入力!I31,種目情報!$E$4:$F$20,2,FALSE))))","v":""},{"$f":"IF(E23=\"\",\"\",IF(②選手情報入力!J31=\"\",\"\",②選手情報入力!J31))","v":""},{"$f":"IF(E23=\"\",\"\",IF(②選手情報入力!I31=\"\",\"\",0))","v":""},{"$f":"IF(E23=\"\",\"\",IF(②選手情報入力!I31=\"\",\"\",IF(I23=1,VLOOKUP(②選手情報入力!I31,種目情報!$A$4:$C$21,3,FALSE),VLOOKUP(②選手情報入力!I31,種目情報!$E$4:$G$20,3,FALSE))))","v":""},{"$f":"IF(E23=\"\",\"\",IF(②選手情報入力!L31=\"\",\"\",IF(I23=1,VLOOKUP(②選手情報入力!L31,種目情報!$A$4:$B$21,2,FALSE),VLOOKUP(②選手情報入力!L31,種目情報!$E$4:$F$20,2,FALSE))))","v":""},{"$f":"IF(E23=\"\",\"\",IF(②選手情報入力!M31=\"\",\"\",②選手情報入力!M31))","v":""},{"$f":"IF(E23=\"\",\"\",IF(②選手情報入力!L31=\"\",\"\",0))","v":""},{"$f":"IF(E23=\"\",\"\",IF(②選手情報入力!L31=\"\",\"\",IF(I23=1,VLOOKUP(②選手情報入力!L31,種目情報!$A$4:$C$21,3,FALSE),VLOOKUP(②選手情報入力!L31,種目情報!$E$4:$G$20,3,FALSE))))","v":""},null,null,null,null,{"$f":"IF(E23=\"\",\"\",IF(②選手情報入力!P31=\"\",\"\",IF(I23=1,種目情報!$J$4,種目情報!$J$6)))","v":""},{"$f":"IF(E23=\"\",\"\",IF(②選手情報入力!P31=\"\",\"\",IF(I23=1,IF(②選手情報入力!$N$5=\"\",\"\",②選手情報入力!$N$5),IF(②選手情報入力!$N$6=\"\",\"\",②選手情報入力!$N$6))))","v":""},{"$f":"IF(E23=\"\",\"\",IF(②選手情報入力!P31=\"\",\"\",0))","v":""},{"$f":"IF(E23=\"\",\"\",IF(②選手情報入力!P31=\"\",\"\",2))","v":""},{"$f":"IF(E23=\"\",\"\",IF(②選手情報入力!Q31=\"\",\"\",IF(I23=1,種目情報!$J$5,種目情報!$J$7)))","v":""},{"$f":"IF(E23=\"\",\"\",IF(②選手情報入力!Q31=\"\",\"\",IF(I23=1,IF(②選手情報入力!$P$5=\"\",\"\",②選手情報入力!$P$5),IF(②選手情報入力!$P$6=\"\",\"\",②選手情報入力!$P$6))))","v":""},{"$f":"IF(E23=\"\",\"\",IF(②選手情報入力!Q31=\"\",\"\",0))","v":""},{"$f":"IF(E23=\"\",\"\",IF(②選手情報入力!Q31=\"\",\"\",2))","v":""}]
[{"$f":"IF(E24=\"\",\"\",I24*1000000+①団体情報入力!$D$3*1000+②選手情報入力!A32)","v":""},{"$f":"IF(E24=\"\",\"\",①団体情報入力!$D$3)","v":""},null,{"$f":"IF(②選手情報入力!B32=\"\",\"\",②選手情報入力!B32)","v":""},{"$f":"IF(②選手情報入力!C32=\"\",\"\",②選手情報入力!C32)","v":""},{"$f":"IF(E24=\"\",\"\",②選手情報入力!D32)","v":""},{"$f":"IF(E24=\"\",\"\",②選手情報入力!E32)","v":""},"",{"$f":"IF(E24=\"\",\"\",IF(②選手情報入力!G32=\"男\",1,2))","v":""},{"$f":"IF(E24=\"\",\"\",IF(②選手情報入力!H32=\"\",\"\",②選手情報入力!H32))","v":""},null,"","",null,{"$f":"IF(E24=\"\",\"\",IF(②選手情報入力!I32=\"\",\"\",IF(I24=1,VLOOKUP(②選手情報入力!I32,種目情報!$A$4:$B$21,2,FALSE),VLOOKUP(②選手情報入力!I32,種目情報!$E$4:$F$20,2,FALSE))))","v":""},{"$f":"IF(E24=\"\",\"\",IF(②選手情報入力!J32=\"\",\"\",②選手情報入力!J32))","v":""},{"$f":"IF(E24=\"\",\"\",IF(②選手情報入力!I32=\"\",\"\",0))","v":""},{"$f":"IF(E24=\"\",\"\",IF(②選手情報入力!I32=\"\",\"\",IF(I24=1,VLOOKUP(②選手情報入力!I32,種目情報!$A$4:$C$21,3,FALSE),VLOOKUP(②選手情報入力!I32,種目情報!$E$4:$G$20,3,FALSE))))","v":""},{"$f":"IF(E24=\"\",\"\",IF(②選手情報入力!L32=\"\",\"\",IF(I24=1,VLOOKUP(②選手情報入力!L32,種目情報!$A$4:$B$21,2,FALSE),VLOOKUP(②選手情報入力!L32,種目情報!$E$4:$F$20,2,FALSE))))","v":""},{"$f":"IF(E24=\"\",\"\",IF(②選手情報入力!M32=\"\",\"\",②選手情報入力!M32))","v":""},{"$f":"IF(E24=\"\",\"\",IF(②選手情報入力!L32=\"\",\"\",0))","v":""},{"$f":"IF(E24=\"\",\"\",IF(②選手情報入力!L32=\"\",\"\",IF(I24=1,VLOOKUP(②選手情報入力!L32,種目情報!$A$4:$C$21,3,FALSE),VLOOKUP(②選手情報入力!L32,種目情報!$E$4:$G$20,3,FALSE))))","v":""},null,null,null,null,{"$f":"IF(E24=\"\",\"\",IF(②選手情報入力!P32=\"\",\"\",IF(I24=1,種目情報!$J$4,種目情報!$J$6)))","v":""},{"$f":"IF(E24=\"\",\"\",IF(②選手情報入力!P32=\"\",\"\",IF(I24=1,IF(②選手情報入力!$N$5=\"\",\"\",②選手情報入力!$N$5),IF(②選手情報入力!$N$6=\"\",\"\",②選手情報入力!$N$6))))","v":""},{"$f":"IF(E24=\"\",\"\",IF(②選手情報入力!P32=\"\",\"\",0))","v":""},{"$f":"IF(E24=\"\",\"\",IF(②選手情報入力!P32=\"\",\"\",2))","v":""},{"$f":"IF(E24=\"\",\"\",IF(②選手情報入力!Q32=\"\",\"\",IF(I24=1,種目情報!$J$5,種目情報!$J$7)))","v":""},{"$f":"IF(E24=\"\",\"\",IF(②選手情報入力!Q32=\"\",\"\",IF(I24=1,IF(②選手情報入力!$P$5=\"\",\"\",②選手情報入力!$P$5),IF(②選手情報入力!$P$6=\"\",\"\",②選手情報入力!$P$6))))","v":""},{"$f":"IF(E24=\"\",\"\",IF(②選手情報入力!Q32=\"\",\"\",0))","v":""},{"$f":"IF(E24=\"\",\"\",IF(②選手情報入力!Q32=\"\",\"\",2))","v":""}]
[{"$f":"IF(E25=\"\",\"\",I25*1000000+①団体情報入力!$D$3*1000+②選手情報入力!A33)","v":""},{"$f":"IF(E25=\"\",\"\",①団体情報入力!$D$3)","v":""},null,{"$f":"IF(②選手情報入力!B33=\"\",\"\",②選手情報入力!B33)","v":""},{"$f":"IF(②選手情報入力!C33=\"\",\"\",②選手情報入力!C33)","v":""},{"$f":"IF(E25=\"\",\"\",②選手情報入力!D33)","v":""},{"$f":"IF(E25=\"\",\"\",②選手情報入力!E33)","v":""},"",{"$f":"IF(E25=\"\",\"\",IF(②選手情報入力!G33=\"男\",1,2))","v":""},{"$f":"IF(E25=\"\",\"\",IF(②選手情報入力!H33=\"\",\"\",②選手情報入力!H33))","v":""},null,"","",null,{"$f":"IF(E25=\"\",\"\",IF(②選手情報入力!I33=\"\",\"\",IF(I25=1,VLOOKUP(②選手情報入力!I33,種目情報!$A$4:$B$21,2,FALSE),VLOOKUP(②選手情報入力!I33,種目情報!$E$4:$F$20,2,FALSE))))","v":""},{"$f":"IF(E25=\"\",\"\",IF(②選手情報入力!J33=\"\",\"\",②選手情報入力!J33))","v":""},{"$f":"IF(E25=\"\",\"\",IF(②選手情報入力!I33=\"\",\"\",0))","v":""},{"$f":"IF(E25=\"\",\"\",IF(②選手情報入力!I33=\"\",\"\",IF(I25=1,VLOOKUP(②選手情報入力!I33,種目情報!$A$4:$C$21,3,FALSE),VLOOKUP(②選手情報入力!I33,種目情報!$E$4:$G$20,3,FALSE))))","v":""},{"$f":"IF(E25=\"\",\"\",IF(②選手情報入力!L33=\"\",\"\",IF(I25=1,VLOOKUP(②選手情報入力!L33,種目情報!$A$4:$B$21,2,FALSE),VLOOKUP(②選手情報入力!L33,種目情報!$E$4:$F$20,2,FALSE))))","v":""},{"$f":"IF(E25=\"\",\"\",IF(②選手情報入力!M33=\"\",\"\",②選手情報入力!M33))","v":""},{"$f":"IF(E25=\"\",\"\",IF(②選手情報入力!L33=\"\",\"\",0))","v":""},{"$f":"IF(E25=\"\",\"\",IF(②選手情報入力!L33=\"\",\"\",IF(I25=1,VLOOKUP(②選手情報入力!L33,種目情報!$A$4:$C$21,3,FALSE),VLOOKUP(②選手情報入力!L33,種目情報!$E$4:$G$20,3,FALSE))))","v":""},null,null,null,null,{"$f":"IF(E25=\"\",\"\",IF(②選手情報入力!P33=\"\",\"\",IF(I25=1,種目情報!$J$4,種目情報!$J$6)))","v":""},{"$f":"IF(E25=\"\",\"\",IF(②選手情報入力!P33=\"\",\"\",IF(I25=1,IF(②選手情報入力!$N$5=\"\",\"\",②選手情報入力!$N$5),IF(②選手情報入力!$N$6=\"\",\"\",②選手情報入力!$N$6))))","v":""},{"$f":"IF(E25=\"\",\"\",IF(②選手情報入力!P33=\"\",\"\",0))","v":""},{"$f":"IF(E25=\"\",\"\",IF(②選手情報入力!P33=\"\",\"\",2))","v":""},{"$f":"IF(E25=\"\",\"\",IF(②選手情報入力!Q33=\"\",\"\",IF(I25=1,種目情報!$J$5,種目情報!$J$7)))","v":""},{"$f":"IF(E25=\"\",\"\",IF(②選手情報入力!Q33=\"\",\"\",IF(I25=1,IF(②選手情報入力!$P$5=\"\",\"\",②選手情報入力!$P$5),IF(②選手情報入力!$P$6=\"\",\"\",②選手情報入力!$P$6))))","v":""},{"$f":"IF(E25=\"\",\"\",IF(②選手情報入力!Q33=\"\",\"\",0))","v":""},{"$f":"IF(E25=\"\",\"\",IF(②選手情報入力!Q33=\"\",\"\",2))","v":""}]
[{"$f":"IF(E26=\"\",\"\",I26*1000000+①団体情報入力!$D$3*1000+②選手情報入力!A34)","v":""},{"$f":"IF(E26=\"\",\"\",①団体情報入力!$D$3)","v":""},null,{"$f":"IF(②選手情報入力!B34=\"\",\"\",②選手情報入力!B34)","v":""},{"$f":"IF(②選手情報入力!C34=\"\",\"\",②選手情報入力!C34)","v":""},{"$f":"IF(E26=\"\",\"\",②選手情報入力!D34)","v":""},{"$f":"IF(E26=\"\",\"\",②選手情報入力!E34)","v":""},"",{"$f":"IF(E26=\"\",\"\",IF(②選手情報入力!G34=\"男\",1,2))","v":""},{"$f":"IF(E26=\"\",\"\",IF(②選手情報入力!H34=\"\",\"\",②選手情報入力!H34))","v":""},null,"","",null,{"$f":"IF(E26=\"\",\"\",IF(②選手情報入力!I34=\"\",\"\",IF(I26=1,VLOOKUP(②選手情報入力!I34,種目情報!$A$4:$B$21,2,FALSE),VLOOKUP(②選手情報入力!I34,種目情報!$E$4:$F$20,2,FALSE))))","v":""},{"$f":"IF(E26=\"\",\"\",IF(②選手情報入力!J34=\"\",\"\",②選手情報入力!J34))","v":""},{"$f":"IF(E26=\"\",\"\",IF(②選手情報入力!I34=\"\",\"\",0))","v":""},{"$f":"IF(E26=\"\",\"\",IF(②選手情報入力!I34=\"\",\"\",IF(I26=1,VLOOKUP(②選手情報入力!I34,種目情報!$A$4:$C$21,3,FALSE),VLOOKUP(②選手情報入力!I34,種目情報!$E$4:$G$20,3,FALSE))))","v":""},{"$f":"IF(E26=\"\",\"\",IF(②選手情報入力!L34=\"\",\"\",IF(I26=1,VLOOKUP(②選手情報入力!L34,種目情報!$A$4:$B$21,2,FALSE),VLOOKUP(②選手情報入力!L34,種目情報!$E$4:$F$20,2,FALSE))))","v":""},{"$f":"IF(E26=\"\",\"\",IF(②選手情報入力!M34=\"\",\"\",②選手情報入力!M34))","v":""},{"$f":"IF(E26=\"\",\"\",IF(②選手情報入力!L34=\"\",\"\",0))","v":""},{"$f":"IF(E26=\"\",\"\",IF(②選手情報入力!L34=\"\",\"\",IF(I26=1,VLOOKUP(②選手情報入力!L34,種目情報!$A$4:$C$21,3,FALSE),VLOOKUP(②選手情報入力!L34,種目情報!$E$4:$G$20,3,FALSE))))","v":""},null,null,null,null,{"$f":"IF(E26=\"\",\"\",IF(②選手情報入力!P34=\"\",\"\",IF(I26=1,種目情報!$J$4,種目情報!$J$6)))","v":""},{"$f":"IF(E26=\"\",\"\",IF(②選手情報入力!P34=\"\",\"\",IF(I26=1,IF(②選手情報入力!$N$5=\"\",\"\",②選手情報入力!$N$5),IF(②選手情報入力!$N$6=\"\",\"\",②選手情報入力!$N$6))))","v":""},{"$f":"IF(E26=\"\",\"\",IF(②選手情報入力!P34=\"\",\"\",0))","v":""},{"$f":"IF(E26=\"\",\"\",IF(②選手情報入力!P34=\"\",\"\",2))","v":""},{"$f":"IF(E26=\"\",\"\",IF(②選手情報入力!Q34=\"\",\"\",IF(I26=1,種目情報!$J$5,種目情報!$J$7)))","v":""},{"$f":"IF(E26=\"\",\"\",IF(②選手情報入力!Q34=\"\",\"\",IF(I26=1,IF(②選手情報入力!$P$5=\"\",\"\",②選手情報入力!$P$5),IF(②選手情報入力!$P$6=\"\",\"\",②選手情報入力!$P$6))))","v":""},{"$f":"IF(E26=\"\",\"\",IF(②選手情報入力!Q34=\"\",\"\",0))","v":""},{"$f":"IF(E26=\"\",\"\",IF(②選手情報入力!Q34=\"\",\"\",2))","v":""}]
[{"$f":"IF(E27=\"\",\"\",I27*1000000+①団体情報入力!$D$3*1000+②選手情報入力!A35)","v":""},{"$f":"IF(E27=\"\",\"\",①団体情報入力!$D$3)","v":""},null,{"$f":"IF(②選手情報入力!B35=\"\",\"\",②選手情報入力!B35)","v":""},{"$f":"IF(②選手情報入力!C35=\"\",\"\",②選手情報入力!C35)","v":""},{"$f":"IF(E27=\"\",\"\",②選手情報入力!D35)","v":""},{"$f":"IF(E27=\"\",\"\",②選手情報入力!E35)","v":""},"",{"$f":"IF(E27=\"\",\"\",IF(②選手情報入力!G35=\"男\",1,2))","v":""},{"$f":"IF(E27=\"\",\"\",IF(②選手情報入力!H35=\"\",\"\",②選手情報入力!H35))","v":""},null,"","",null,{"$f":"IF(E27=\"\",\"\",IF(②選手情報入力!I35=\"\",\"\",IF(I27=1,VLOOKUP(②選手情報入力!I35,種目情報!$A$4:$B$21,2,FALSE),VLOOKUP(②選手情報入力!I35,種目情報!$E$4:$F$20,2,FALSE))))","v":""},{"$f":"IF(E27=\"\",\"\",IF(②選手情報入力!J35=\"\",\"\",②選手情報入力!J35))","v":""},{"$f":"IF(E27=\"\",\"\",IF(②選手情報入力!I35=\"\",\"\",0))","v":""},{"$f":"IF(E27=\"\",\"\",IF(②選手情報入力!I35=\"\",\"\",IF(I27=1,VLOOKUP(②選手情報入力!I35,種目情報!$A$4:$C$21,3,FALSE),VLOOKUP(②選手情報入力!I35,種目情報!$E$4:$G$20,3,FALSE))))","v":""},{"$f":"IF(E27=\"\",\"\",IF(②選手情報入力!L35=\"\",\"\",IF(I27=1,VLOOKUP(②選手情報入力!L35,種目情報!$A$4:$B$21,2,FALSE),VLOOKUP(②選手情報入力!L35,種目情報!$E$4:$F$20,2,FALSE))))","v":""},{"$f":"IF(E27=\"\",\"\",IF(②選手情報入力!M35=\"\",\"\",②選手情報入力!M35))","v":""},{"$f":"IF(E27=\"\",\"\",IF(②選手情報入力!L35=\"\",\"\",0))","v":""},{"$f":"IF(E27=\"\",\"\",IF(②選手情報入力!L35=\"\",\"\",IF(I27=1,VLOOKUP(②選手情報入力!L35,種目情報!$A$4:$C$21,3,FALSE),VLOOKUP(②選手情報入力!L35,種目情報!$E$4:$G$20,3,FALSE))))","v":""},null,null,null,null,{"$f":"IF(E27=\"\",\"\",IF(②選手情報入力!P35=\"\",\"\",IF(I27=1,種目情報!$J$4,種目情報!$J$6)))","v":""},{"$f":"IF(E27=\"\",\"\",IF(②選手情報入力!P35=\"\",\"\",IF(I27=1,IF(②選手情報入力!$N$5=\"\",\"\",②選手情報入力!$N$5),IF(②選手情報入力!$N$6=\"\",\"\",②選手情報入力!$N$6))))","v":""},{"$f":"IF(E27=\"\",\"\",IF(②選手情報入力!P35=\"\",\"\",0))","v":""},{"$f":"IF(E27=\"\",\"\",IF(②選手情報入力!P35=\"\",\"\",2))","v":""},{"$f":"IF(E27=\"\",\"\",IF(②選手情報入力!Q35=\"\",\"\",IF(I27=1,種目情報!$J$5,種目情報!$J$7)))","v":""},{"$f":"IF(E27=\"\",\"\",IF(②選手情報入力!Q35=\"\",\"\",IF(I27=1,IF(②選手情報入力!$P$5=\"\",\"\",②選手情報入力!$P$5),IF(②選手情報入力!$P$6=\"\",\"\",②選手情報入力!$P$6))))","v":""},{"$f":"IF(E27=\"\",\"\",IF(②選手情報入力!Q35=\"\",\"\",0))","v":""},{"$f":"IF(E27=\"\",\"\",IF(②選手情報入力!Q35=\"\",\"\",2))","v":""}]
[{"$f":"IF(E28=\"\",\"\",I28*1000000+①団体情報入力!$D$3*1000+②選手情報入力!A36)","v":""},{"$f":"IF(E28=\"\",\"\",①団体情報入力!$D$3)","v":""},null,{"$f":"IF(②選手情報入力!B36=\"\",\"\",②選手情報入力!B36)","v":""},{"$f":"IF(②選手情報入力!C36=\"\",\"\",②選手情報入力!C36)","v":""},{"$f":"IF(E28=\"\",\"\",②選手情報入力!D36)","v":""},{"$f":"IF(E28=\"\",\"\",②選手情報入力!E36)","v":""},"",{"$f":"IF(E28=\"\",\"\",IF(②選手情報入力!G36=\"男\",1,2))","v":""},{"$f":"IF(E28=\"\",\"\",IF(②選手情報入力!H36=\"\",\"\",②選手情報入力!H36))","v":""},null,"","",null,{"$f":"IF(E28=\"\",\"\",IF(②選手情報入力!I36=\"\",\"\",IF(I28=1,VLOOKUP(②選手情報入力!I36,種目情報!$A$4:$B$21,2,FALSE),VLOOKUP(②選手情報入力!I36,種目情報!$E$4:$F$20,2,FALSE))))","v":""},{"$f":"IF(E28=\"\",\"\",IF(②選手情報入力!J36=\"\",\"\",②選手情報入力!J36))","v":""},{"$f":"IF(E28=\"\",\"\",IF(②選手情報入力!I36=\"\",\"\",0))","v":""},{"$f":"IF(E28=\"\",\"\",IF(②選手情報入力!I36=\"\",\"\",IF(I28=1,VLOOKUP(②選手情報入力!I36,種目情報!$A$4:$C$21,3,FALSE),VLOOKUP(②選手情報入力!I36,種目情報!$E$4:$G$20,3,FALSE))))","v":""},{"$f":"IF(E28=\"\",\"\",IF(②選手情報入力!L36=\"\",\"\",IF(I28=1,VLOOKUP(②選手情報入力!L36,種目情報!$A$4:$B$21,2,FALSE),VLOOKUP(②選手情報入力!L36,種目情報!$E$4:$F$20,2,FALSE))))","v":""},{"$f":"IF(E28=\"\",\"\",IF(②選手情報入力!M36=\"\",\"\",②選手情報入力!M36))","v":""},{"$f":"IF(E28=\"\",\"\",IF(②選手情報入力!L36=\"\",\"\",0))","v":""},{"$f":"IF(E28=\"\",\"\",IF(②選手情報入力!L36=\"\",\"\",IF(I28=1,VLOOKUP(②選手情報入力!L36,種目情報!$A$4:$C$21,3,FALSE),VLOOKUP(②選手情報入力!L36,種目情報!$E$4:$G$20,3,FALSE))))","v":""},null,null,null,null,{"$f":"IF(E28=\"\",\"\",IF(②選手情報入力!P36=\"\",\"\",IF(I28=1,種目情報!$J$4,種目情報!$J$6)))","v":""},{"$f":"IF(E28=\"\",\"\",IF(②選手情報入力!P36=\"\",\"\",IF(I28=1,IF(②選手情報入力!$N$5=\"\",\"\",②選手情報入力!$N$5),IF(②選手情報入力!$N$6=\"\",\"\",②選手情報入力!$N$6))))","v":""},{"$f":"IF(E28=\"\",\"\",IF(②選手情報入力!P36=\"\",\"\",0))","v":""},{"$f":"IF(E28=\"\",\"\",IF(②選手情報入力!P36=\"\",\"\",2))","v":""},{"$f":"IF(E28=\"\",\"\",IF(②選手情報入力!Q36=\"\",\"\",IF(I28=1,種目情報!$J$5,種目情報!$J$7)))","v":""},{"$f":"IF(E28=\"\",\"\",IF(②選手情報入力!Q36=\"\",\"\",IF(I28=1,IF(②選手情報入力!$P$5=\"\",\"\",②選手情報入力!$P$5),IF(②選手情報入力!$P$6=\"\",\"\",②選手情報入力!$P$6))))","v":""},{"$f":"IF(E28=\"\",\"\",IF(②選手情報入力!Q36=\"\",\"\",0))","v":""},{"$f":"IF(E28=\"\",\"\",IF(②選手情報入力!Q36=\"\",\"\",2))","v":""}]
[{"$f":"IF(E29=\"\",\"\",I29*1000000+①団体情報入力!$D$3*1000+②選手情報入力!A37)","v":""},{"$f":"IF(E29=\"\",\"\",①団体情報入力!$D$3)","v":""},null,{"$f":"IF(②選手情報入力!B37=\"\",\"\",②選手情報入力!B37)","v":""},{"$f":"IF(②選手情報入力!C37=\"\",\"\",②選手情報入力!C37)","v":""},{"$f":"IF(E29=\"\",\"\",②選手情報入力!D37)","v":""},{"$f":"IF(E29=\"\",\"\",②選手情報入力!E37)","v":""},"",{"$f":"IF(E29=\"\",\"\",IF(②選手情報入力!G37=\"男\",1,2))","v":""},{"$f":"IF(E29=\"\",\"\",IF(②選手情報入力!H37=\"\",\"\",②選手情報入力!H37))","v":""},null,"","",null,{"$f":"IF(E29=\"\",\"\",IF(②選手情報入力!I37=\"\",\"\",IF(I29=1,VLOOKUP(②選手情報入力!I37,種目情報!$A$4:$B$21,2,FALSE),VLOOKUP(②選手情報入力!I37,種目情報!$E$4:$F$20,2,FALSE))))","v":""},{"$f":"IF(E29=\"\",\"\",IF(②選手情報入力!J37=\"\",\"\",②選手情報入力!J37))","v":""},{"$f":"IF(E29=\"\",\"\",IF(②選手情報入力!I37=\"\",\"\",0))","v":""},{"$f":"IF(E29=\"\",\"\",IF(②選手情報入力!I37=\"\",\"\",IF(I29=1,VLOOKUP(②選手情報入力!I37,種目情報!$A$4:$C$21,3,FALSE),VLOOKUP(②選手情報入力!I37,種目情報!$E$4:$G$20,3,FALSE))))","v":""},{"$f":"IF(E29=\"\",\"\",IF(②選手情報入力!L37=\"\",\"\",IF(I29=1,VLOOKUP(②選手情報入力!L37,種目情報!$A$4:$B$21,2,FALSE),VLOOKUP(②選手情報入力!L37,種目情報!$E$4:$F$20,2,FALSE))))","v":""},{"$f":"IF(E29=\"\",\"\",IF(②選手情報入力!M37=\"\",\"\",②選手情報入力!M37))","v":""},{"$f":"IF(E29=\"\",\"\",IF(②選手情報入力!L37=\"\",\"\",0))","v":""},{"$f":"IF(E29=\"\",\"\",IF(②選手情報入力!L37=\"\",\"\",IF(I29=1,VLOOKUP(②選手情報入力!L37,種目情報!$A$4:$C$21,3,FALSE),VLOOKUP(②選手情報入力!L37,種目情報!$E$4:$G$20,3,FALSE))))","v":""},null,null,null,null,{"$f":"IF(E29=\"\",\"\",IF(②選手情報入力!P37=\"\",\"\",IF(I29=1,種目情報!$J$4,種目情報!$J$6)))","v":""},{"$f":"IF(E29=\"\",\"\",IF(②選手情報入力!P37=\"\",\"\",IF(I29=1,IF(②選手情報入力!$N$5=\"\",\"\",②選手情報入力!$N$5),IF(②選手情報入力!$N$6=\"\",\"\",②選手情報入力!$N$6))))","v":""},{"$f":"IF(E29=\"\",\"\",IF(②選手情報入力!P37=\"\",\"\",0))","v":""},{"$f":"IF(E29=\"\",\"\",IF(②選手情報入力!P37=\"\",\"\",2))","v":""},{"$f":"IF(E29=\"\",\"\",IF(②選手情報入力!Q37=\"\",\"\",IF(I29=1,種目情報!$J$5,種目情報!$J$7)))","v":""},{"$f":"IF(E29=\"\",\"\",IF(②選手情報入力!Q37=\"\",\"\",IF(I29=1,IF(②選手情報入力!$P$5=\"\",\"\",②選手情報入力!$P$5),IF(②選手情報入力!$P$6=\"\",\"\",②選手情報入力!$P$6))))","v":""},{"$f":"IF(E29=\"\",\"\",IF(②選手情報入力!Q37=\"\",\"\",0))","v":""},{"$f":"IF(E29=\"\",\"\",IF(②選手情報入力!Q37=\"\",\"\",2))","v":""}]
[{"$f":"IF(E30=\"\",\"\",I30*1000000+①団体情報入力!$D$3*1000+②選手情報入力!A38)","v":""},{"$f":"IF(E30=\"\",\"\",①団体情報入力!$D$3)","v":""},null,{"$f":"IF(②選手情報入力!B38=\"\",\"\",②選手情報入力!B38)","v":""},{"$f":"IF(②選手情報入力!C38=\"\",\"\",②選手情報入力!C38)","v":""},{"$f":"IF(E30=\"\",\"\",②選手情報入力!D38)","v":""},{"$f":"IF(E30=\"\",\"\",②選手情報入力!E38)","v":""},"",{"$f":"IF(E30=\"\",\"\",IF(②選手情報入力!G38=\"男\",1,2))","v":""},{"$f":"IF(E30=\"\",\"\",IF(②選手情報入力!H38=\"\",\"\",②選手情報入力!H38))","v":""},null,"","",null,{"$f":"IF(E30=\"\",\"\",IF(②選手情報入力!I38=\"\",\"\",IF(I30=1,VLOOKUP(②選手情報入力!I38,種目情報!$A$4:$B$21,2,FALSE),VLOOKUP(②選手情報入力!I38,種目情報!$E$4:$F$20,2,FALSE))))","v":""},{"$f":"IF(E30=\"\",\"\",IF(②選手情報入力!J38=\"\",\"\",②選手情報入力!J38))","v":""},{"$f":"IF(E30=\"\",\"\",IF(②選手情報入力!I38=\"\",\"\",0))","v":""},{"$f":"IF(E30=\"\",\"\",IF(②選手情報入力!I38=\"\",\"\",IF(I30=1,VLOOKUP(②選手情報入力!I38,種目情報!$A$4:$C$21,3,FALSE),VLOOKUP(②選手情報入力!I38,種目情報!$E$4:$G$20,3,FALSE))))","v":""},{"$f":"IF(E30=\"\",\"\",IF(②選手情報入力!L38=\"\",\"\",IF(I30=1,VLOOKUP(②選手情報入力!L38,種目情報!$A$4:$B$21,2,FALSE),VLOOKUP(②選手情報入力!L38,種目情報!$E$4:$F$20,2,FALSE))))","v":""},{"$f":"IF(E30=\"\",\"\",IF(②選手情報入力!M38=\"\",\"\",②選手情報入力!M38))","v":""},{"$f":"IF(E30=\"\",\"\",IF(②選手情報入力!L38=\"\",\"\",0))","v":""},{"$f":"IF(E30=\"\",\"\",IF(②選手情報入力!L38=\"\",\"\",IF(I30=1,VLOOKUP(②選手情報入力!L38,種目情報!$A$4:$C$21,3,FALSE),VLOOKUP(②選手情報入力!L38,種目情報!$E$4:$G$20,3,FALSE))))","v":""},null,null,null,null,{"$f":"IF(E30=\"\",\"\",IF(②選手情報入力!P38=\"\",\"\",IF(I30=1,種目情報!$J$4,種目情報!$J$6)))","v":""},{"$f":"IF(E30=\"\",\"\",IF(②選手情報入力!P38=\"\",\"\",IF(I30=1,IF(②選手情報入力!$N$5=\"\",\"\",②選手情報入力!$N$5),IF(②選手情報入力!$N$6=\"\",\"\",②選手情報入力!$N$6))))","v":""},{"$f":"IF(E30=\"\",\"\",IF(②選手情報入力!P38=\"\",\"\",0))","v":""},{"$f":"IF(E30=\"\",\"\",IF(②選手情報入力!P38=\"\",\"\",2))","v":""},{"$f":"IF(E30=\"\",\"\",IF(②選手情報入力!Q38=\"\",\"\",IF(I30=1,種目情報!$J$5,種目情報!$J$7)))","v":""},{"$f":"IF(E30=\"\",\"\",IF(②選手情報入力!Q38=\"\",\"\",IF(I30=1,IF(②選手情報入力!$P$5=\"\",\"\",②選手情報入力!$P$5),IF(②選手情報入力!$P$6=\"\",\"\",②選手情報入力!$P$6))))","v":""},{"$f":"IF(E30=\"\",\"\",IF(②選手情報入力!Q38=\"\",\"\",0))","v":""},{"$f":"IF(E30=\"\",\"\",IF(②選手情報入力!Q38=\"\",\"\",2))","v":""}]
[{"$f":"IF(E31=\"\",\"\",I31*1000000+①団体情報入力!$D$3*1000+②選手情報入力!A39)","v":""},{"$f":"IF(E31=\"\",\"\",①団体情報入力!$D$3)","v":""},null,{"$f":"IF(②選手情報入力!B39=\"\",\"\",②選手情報入力!B39)","v":""},{"$f":"IF(②選手情報入力!C39=\"\",\"\",②選手情報入力!C39)","v":""},{"$f":"IF(E31=\"\",\"\",②選手情報入力!D39)","v":""},{"$f":"IF(E31=\"\",\"\",②選手情報入力!E39)","v":""},"",{"$f":"IF(E31=\"\",\"\",IF(②選手情報入力!G39=\"男\",1,2))","v":""},{"$f":"IF(E31=\"\",\"\",IF(②選手情報入力!H39=\"\",\"\",②選手情報入力!H39))","v":""},null,"","",null,{"$f":"IF(E31=\"\",\"\",IF(②選手情報入力!I39=\"\",\"\",IF(I31=1,VLOOKUP(②選手情報入力!I39,種目情報!$A$4:$B$21,2,FALSE),VLOOKUP(②選手情報入力!I39,種目情報!$E$4:$F$20,2,FALSE))))","v":""},{"$f":"IF(E31=\"\",\"\",IF(②選手情報入力!J39=\"\",\"\",②選手情報入力!J39))","v":""},{"$f":"IF(E31=\"\",\"\",IF(②選手情報入力!I39=\"\",\"\",0))","v":""},{"$f":"IF(E31=\"\",\"\",IF(②選手情報入力!I39=\"\",\"\",IF(I31=1,VLOOKUP(②選手情報入力!I39,種目情報!$A$4:$C$21,3,FALSE),VLOOKUP(②選手情報入力!I39,種目情報!$E$4:$G$20,3,FALSE))))","v":""},{"$f":"IF(E31=\"\",\"\",IF(②選手情報入力!L39=\"\",\"\",IF(I31=1,VLOOKUP(②選手情報入力!L39,種目情報!$A$4:$B$21,2,FALSE),VLOOKUP(②選手情報入力!L39,種目情報!$E$4:$F$20,2,FALSE))))","v":""},{"$f":"IF(E31=\"\",\"\",IF(②選手情報入力!M39=\"\",\"\",②選手情報入力!M39))","v":""},{"$f":"IF(E31=\"\",\"\",IF(②選手情報入力!L39=\"\",\"\",0))","v":""},{"$f":"IF(E31=\"\",\"\",IF(②選手情報入力!L39=\"\",\"\",IF(I31=1,VLOOKUP(②選手情報入力!L39,種目情報!$A$4:$C$21,3,FALSE),VLOOKUP(②選手情報入力!L39,種目情報!$E$4:$G$20,3,FALSE))))","v":""},null,null,null,null,{"$f":"IF(E31=\"\",\"\",IF(②選手情報入力!P39=\"\",\"\",IF(I31=1,種目情報!$J$4,種目情報!$J$6)))","v":""},{"$f":"IF(E31=\"\",\"\",IF(②選手情報入力!P39=\"\",\"\",IF(I31=1,IF(②選手情報入力!$N$5=\"\",\"\",②選手情報入力!$N$5),IF(②選手情報入力!$N$6=\"\",\"\",②選手情報入力!$N$6))))","v":""},{"$f":"IF(E31=\"\",\"\",IF(②選手情報入力!P39=\"\",\"\",0))","v":""},{"$f":"IF(E31=\"\",\"\",IF(②選手情報入力!P39=\"\",\"\",2))","v":""},{"$f":"IF(E31=\"\",\"\",IF(②選手情報入力!Q39=\"\",\"\",IF(I31=1,種目情報!$J$5,種目情報!$J$7)))","v":""},{"$f":"IF(E31=\"\",\"\",IF(②選手情報入力!Q39=\"\",\"\",IF(I31=1,IF(②選手情報入力!$P$5=\"\",\"\",②選手情報入力!$P$5),IF(②選手情報入力!$P$6=\"\",\"\",②選手情報入力!$P$6))))","v":""},{"$f":"IF(E31=\"\",\"\",IF(②選手情報入力!Q39=\"\",\"\",0))","v":""},{"$f":"IF(E31=\"\",\"\",IF(②選手情報入力!Q39=\"\",\"\",2))","v":""}]
[{"$f":"IF(E32=\"\",\"\",I32*1000000+①団体情報入力!$D$3*1000+②選手情報入力!A40)","v":""},{"$f":"IF(E32=\"\",\"\",①団体情報入力!$D$3)","v":""},null,{"$f":"IF(②選手情報入力!B40=\"\",\"\",②選手情報入力!B40)","v":""},{"$f":"IF(②選手情報入力!C40=\"\",\"\",②選手情報入力!C40)","v":""},{"$f":"IF(E32=\"\",\"\",②選手情報入力!D40)","v":""},{"$f":"IF(E32=\"\",\"\",②選手情報入力!E40)","v":""},"",{"$f":"IF(E32=\"\",\"\",IF(②選手情報入力!G40=\"男\",1,2))","v":""},{"$f":"IF(E32=\"\",\"\",IF(②選手情報入力!H40=\"\",\"\",②選手情報入力!H40))","v":""},null,"","",null,{"$f":"IF(E32=\"\",\"\",IF(②選手情報入力!I40=\"\",\"\",IF(I32=1,VLOOKUP(②選手情報入力!I40,種目情報!$A$4:$B$21,2,FALSE),VLOOKUP(②選手情報入力!I40,種目情報!$E$4:$F$20,2,FALSE))))","v":""},{"$f":"IF(E32=\"\",\"\",IF(②選手情報入力!J40=\"\",\"\",②選手情報入力!J40))","v":""},{"$f":"IF(E32=\"\",\"\",IF(②選手情報入力!I40=\"\",\"\",0))","v":""},{"$f":"IF(E32=\"\",\"\",IF(②選手情報入力!I40=\"\",\"\",IF(I32=1,VLOOKUP(②選手情報入力!I40,種目情報!$A$4:$C$21,3,FALSE),VLOOKUP(②選手情報入力!I40,種目情報!$E$4:$G$20,3,FALSE))))","v":""},{"$f":"IF(E32=\"\",\"\",IF(②選手情報入力!L40=\"\",\"\",IF(I32=1,VLOOKUP(②選手情報入力!L40,種目情報!$A$4:$B$21,2,FALSE),VLOOKUP(②選手情報入力!L40,種目情報!$E$4:$F$20,2,FALSE))))","v":""},{"$f":"IF(E32=\"\",\"\",IF(②選手情報入力!M40=\"\",\"\",②選手情報入力!M40))","v":""},{"$f":"IF(E32=\"\",\"\",IF(②選手情報入力!L40=\"\",\"\",0))","v":""},{"$f":"IF(E32=\"\",\"\",IF(②選手情報入力!L40=\"\",\"\",IF(I32=1,VLOOKUP(②選手情報入力!L40,種目情報!$A$4:$C$21,3,FALSE),VLOOKUP(②選手情報入力!L40,種目情報!$E$4:$G$20,3,FALSE))))","v":""},null,null,null,null,{"$f":"IF(E32=\"\",\"\",IF(②選手情報入力!P40=\"\",\"\",IF(I32=1,種目情報!$J$4,種目情報!$J$6)))","v":""},{"$f":"IF(E32=\"\",\"\",IF(②選手情報入力!P40=\"\",\"\",IF(I32=1,IF(②選手情報入力!$N$5=\"\",\"\",②選手情報入力!$N$5),IF(②選手情報入力!$N$6=\"\",\"\",②選手情報入力!$N$6))))","v":""},{"$f":"IF(E32=\"\",\"\",IF(②選手情報入力!P40=\"\",\"\",0))","v":""},{"$f":"IF(E32=\"\",\"\",IF(②選手情報入力!P40=\"\",\"\",2))","v":""},{"$f":"IF(E32=\"\",\"\",IF(②選手情報入力!Q40=\"\",\"\",IF(I32=1,種目情報!$J$5,種目情報!$J$7)))","v":""},{"$f":"IF(E32=\"\",\"\",IF(②選手情報入力!Q40=\"\",\"\",IF(I32=1,IF(②選手情報入力!$P$5=\"\",\"\",②選手情報入力!$P$5),IF(②選手情報入力!$P$6=\"\",\"\",②選手情報入力!$P$6))))","v":""},{"$f":"IF(E32=\"\",\"\",IF(②選手情報入力!Q40=\"\",\"\",0))","v":""},{"$f":"IF(E32=\"\",\"\",IF(②選手情報入力!Q40=\"\",\"\",2))","v":""}]
[{"$f":"IF(E33=\"\",\"\",I33*1000000+①団体情報入力!$D$3*1000+②選手情報入力!A41)","v":""},{"$f":"IF(E33=\"\",\"\",①団体情報入力!$D$3)","v":""},null,{"$f":"IF(②選手情報入力!B41=\"\",\"\",②選手情報入力!B41)","v":""},{"$f":"IF(②選手情報入力!C41=\"\",\"\",②選手情報入力!C41)","v":""},{"$f":"IF(E33=\"\",\"\",②選手情報入力!D41)","v":""},{"$f":"IF(E33=\"\",\"\",②選手情報入力!E41)","v":""},"",{"$f":"IF(E33=\"\",\"\",IF(②選手情報入力!G41=\"男\",1,2))","v":""},{"$f":"IF(E33=\"\",\"\",IF(②選手情報入力!H41=\"\",\"\",②選手情報入力!H41))","v":""},null,"","",null,{"$f":"IF(E33=\"\",\"\",IF(②選手情報入力!I41=\"\",\"\",IF(I33=1,VLOOKUP(②選手情報入力!I41,種目情報!$A$4:$B$21,2,FALSE),VLOOKUP(②選手情報入力!I41,種目情報!$E$4:$F$20,2,FALSE))))","v":""},{"$f":"IF(E33=\"\",\"\",IF(②選手情報入力!J41=\"\",\"\",②選手情報入力!J41))","v":""},{"$f":"IF(E33=\"\",\"\",IF(②選手情報入力!I41=\"\",\"\",0))","v":""},{"$f":"IF(E33=\"\",\"\",IF(②選手情報入力!I41=\"\",\"\",IF(I33=1,VLOOKUP(②選手情報入力!I41,種目情報!$A$4:$C$21,3,FALSE),VLOOKUP(②選手情報入力!I41,種目情報!$E$4:$G$20,3,FALSE))))","v":""},{"$f":"IF(E33=\"\",\"\",IF(②選手情報入力!L41=\"\",\"\",IF(I33=1,VLOOKUP(②選手情報入力!L41,種目情報!$A$4:$B$21,2,FALSE),VLOOKUP(②選手情報入力!L41,種目情報!$E$4:$F$20,2,FALSE))))","v":""},{"$f":"IF(E33=\"\",\"\",IF(②選手情報入力!M41=\"\",\"\",②選手情報入力!M41))","v":""},{"$f":"IF(E33=\"\",\"\",IF(②選手情報入力!L41=\"\",\"\",0))","v":""},{"$f":"IF(E33=\"\",\"\",IF(②選手情報入力!L41=\"\",\"\",IF(I33=1,VLOOKUP(②選手情報入力!L41,種目情報!$A$4:$C$21,3,FALSE),VLOOKUP(②選手情報入力!L41,種目情報!$E$4:$G$20,3,FALSE))))","v":""},null,null,null,null,{"$f":"IF(E33=\"\",\"\",IF(②選手情報入力!P41=\"\",\"\",IF(I33=1,種目情報!$J$4,種目情報!$J$6)))","v":""},{"$f":"IF(E33=\"\",\"\",IF(②選手情報入力!P41=\"\",\"\",IF(I33=1,IF(②選手情報入力!$N$5=\"\",\"\",②選手情報入力!$N$5),IF(②選手情報入力!$N$6=\"\",\"\",②選手情報入力!$N$6))))","v":""},{"$f":"IF(E33=\"\",\"\",IF(②選手情報入力!P41=\"\",\"\",0))","v":""},{"$f":"IF(E33=\"\",\"\",IF(②選手情報入力!P41=\"\",\"\",2))","v":""},{"$f":"IF(E33=\"\",\"\",IF(②選手情報入力!Q41=\"\",\"\",IF(I33=1,種目情報!$J$5,種目情報!$J$7)))","v":""},{"$f":"IF(E33=\"\",\"\",IF(②選手情報入力!Q41=\"\",\"\",IF(I33=1,IF(②選手情報入力!$P$5=\"\",\"\",②選手情報入力!$P$5),IF(②選手情報入力!$P$6=\"\",\"\",②選手情報入力!$P$6))))","v":""},{"$f":"IF(E33=\"\",\"\",IF(②選手情報入力!Q41=\"\",\"\",0))","v":""},{"$f":"IF(E33=\"\",\"\",IF(②選手情報入力!Q41=\"\",\"\",2))","v":""}]
[{"$f":"IF(E34=\"\",\"\",I34*1000000+①団体情報入力!$D$3*1000+②選手情報入力!A42)","v":""},{"$f":"IF(E34=\"\",\"\",①団体情報入力!$D$3)","v":""},null,{"$f":"IF(②選手情報入力!B42=\"\",\"\",②選手情報入力!B42)","v":""},{"$f":"IF(②選手情報入力!C42=\"\",\"\",②選手情報入力!C42)","v":""},{"$f":"IF(E34=\"\",\"\",②選手情報入力!D42)","v":""},{"$f":"IF(E34=\"\",\"\",②選手情報入力!E42)","v":""},"",{"$f":"IF(E34=\"\",\"\",IF(②選手情報入力!G42=\"男\",1,2))","v":""},{"$f":"IF(E34=\"\",\"\",IF(②選手情報入力!H42=\"\",\"\",②選手情報入力!H42))","v":""},null,"","",null,{"$f":"IF(E34=\"\",\"\",IF(②選手情報入力!I42=\"\",\"\",IF(I34=1,VLOOKUP(②選手情報入力!I42,種目情報!$A$4:$B$21,2,FALSE),VLOOKUP(②選手情報入力!I42,種目情報!$E$4:$F$20,2,FALSE))))","v":""},{"$f":"IF(E34=\"\",\"\",IF(②選手情報入力!J42=\"\",\"\",②選手情報入力!J42))","v":""},{"$f":"IF(E34=\"\",\"\",IF(②選手情報入力!I42=\"\",\"\",0))","v":""},{"$f":"IF(E34=\"\",\"\",IF(②選手情報入力!I42=\"\",\"\",IF(I34=1,VLOOKUP(②選手情報入力!I42,種目情報!$A$4:$C$21,3,FALSE),VLOOKUP(②選手情報入力!I42,種目情報!$E$4:$G$20,3,FALSE))))","v":""},{"$f":"IF(E34=\"\",\"\",IF(②選手情報入力!L42=\"\",\"\",IF(I34=1,VLOOKUP(②選手情報入力!L42,種目情報!$A$4:$B$21,2,FALSE),VLOOKUP(②選手情報入力!L42,種目情報!$E$4:$F$20,2,FALSE))))","v":""},{"$f":"IF(E34=\"\",\"\",IF(②選手情報入力!M42=\"\",\"\",②選手情報入力!M42))","v":""},{"$f":"IF(E34=\"\",\"\",IF(②選手情報入力!L42=\"\",\"\",0))","v":""},{"$f":"IF(E34=\"\",\"\",IF(②選手情報入力!L42=\"\",\"\",IF(I34=1,VLOOKUP(②選手情報入力!L42,種目情報!$A$4:$C$21,3,FALSE),VLOOKUP(②選手情報入力!L42,種目情報!$E$4:$G$20,3,FALSE))))","v":""},null,null,null,null,{"$f":"IF(E34=\"\",\"\",IF(②選手情報入力!P42=\"\",\"\",IF(I34=1,種目情報!$J$4,種目情報!$J$6)))","v":""},{"$f":"IF(E34=\"\",\"\",IF(②選手情報入力!P42=\"\",\"\",IF(I34=1,IF(②選手情報入力!$N$5=\"\",\"\",②選手情報入力!$N$5),IF(②選手情報入力!$N$6=\"\",\"\",②選手情報入力!$N$6))))","v":""},{"$f":"IF(E34=\"\",\"\",IF(②選手情報入力!P42=\"\",\"\",0))","v":""},{"$f":"IF(E34=\"\",\"\",IF(②選手情報入力!P42=\"\",\"\",2))","v":""},{"$f":"IF(E34=\"\",\"\",IF(②選手情報入力!Q42=\"\",\"\",IF(I34=1,種目情報!$J$5,種目情報!$J$7)))","v":""},{"$f":"IF(E34=\"\",\"\",IF(②選手情報入力!Q42=\"\",\"\",IF(I34=1,IF(②選手情報入力!$P$5=\"\",\"\",②選手情報入力!$P$5),IF(②選手情報入力!$P$6=\"\",\"\",②選手情報入力!$P$6))))","v":""},{"$f":"IF(E34=\"\",\"\",IF(②選手情報入力!Q42=\"\",\"\",0))","v":""},{"$f":"IF(E34=\"\",\"\",IF(②選手情報入力!Q42=\"\",\"\",2))","v":""}]
[{"$f":"IF(E35=\"\",\"\",I35*1000000+①団体情報入力!$D$3*1000+②選手情報入力!A43)","v":""},{"$f":"IF(E35=\"\",\"\",①団体情報入力!$D$3)","v":""},null,{"$f":"IF(②選手情報入力!B43=\"\",\"\",②選手情報入力!B43)","v":""},{"$f":"IF(②選手情報入力!C43=\"\",\"\",②選手情報入力!C43)","v":""},{"$f":"IF(E35=\"\",\"\",②選手情報入力!D43)","v":""},{"$f":"IF(E35=\"\",\"\",②選手情報入力!E43)","v":""},"",{"$f":"IF(E35=\"\",\"\",IF(②選手情報入力!G43=\"男\",1,2))","v":""},{"$f":"IF(E35=\"\",\"\",IF(②選手情報入力!H43=\"\",\"\",②選手情報入力!H43))","v":""},null,"","",null,{"$f":"IF(E35=\"\",\"\",IF(②選手情報入力!I43=\"\",\"\",IF(I35=1,VLOOKUP(②選手情報入力!I43,種目情報!$A$4:$B$21,2,FALSE),VLOOKUP(②選手情報入力!I43,種目情報!$E$4:$F$20,2,FALSE))))","v":""},{"$f":"IF(E35=\"\",\"\",IF(②選手情報入力!J43=\"\",\"\",②選手情報入力!J43))","v":""},{"$f":"IF(E35=\"\",\"\",IF(②選手情報入力!I43=\"\",\"\",0))","v":""},{"$f":"IF(E35=\"\",\"\",IF(②選手情報入力!I43=\"\",\"\",IF(I35=1,VLOOKUP(②選手情報入力!I43,種目情報!$A$4:$C$21,3,FALSE),VLOOKUP(②選手情報入力!I43,種目情報!$E$4:$G$20,3,FALSE))))","v":""},{"$f":"IF(E35=\"\",\"\",IF(②選手情報入力!L43=\"\",\"\",IF(I35=1,VLOOKUP(②選手情報入力!L43,種目情報!$A$4:$B$21,2,FALSE),VLOOKUP(②選手情報入力!L43,種目情報!$E$4:$F$20,2,FALSE))))","v":""},{"$f":"IF(E35=\"\",\"\",IF(②選手情報入力!M43=\"\",\"\",②選手情報入力!M43))","v":""},{"$f":"IF(E35=\"\",\"\",IF(②選手情報入力!L43=\"\",\"\",0))","v":""},{"$f":"IF(E35=\"\",\"\",IF(②選手情報入力!L43=\"\",\"\",IF(I35=1,VLOOKUP(②選手情報入力!L43,種目情報!$A$4:$C$21,3,FALSE),VLOOKUP(②選手情報入力!L43,種目情報!$E$4:$G$20,3,FALSE))))","v":""},null,null,null,null,{"$f":"IF(E35=\"\",\"\",IF(②選手情報入力!P43=\"\",\"\",IF(I35=1,種目情報!$J$4,種目情報!$J$6)))","v":""},{"$f":"IF(E35=\"\",\"\",IF(②選手情報入力!P43=\"\",\"\",IF(I35=1,IF(②選手情報入力!$N$5=\"\",\"\",②選手情報入力!$N$5),IF(②選手情報入力!$N$6=\"\",\"\",②選手情報入力!$N$6))))","v":""},{"$f":"IF(E35=\"\",\"\",IF(②選手情報入力!P43=\"\",\"\",0))","v":""},{"$f":"IF(E35=\"\",\"\",IF(②選手情報入力!P43=\"\",\"\",2))","v":""},{"$f":"IF(E35=\"\",\"\",IF(②選手情報入力!Q43=\"\",\"\",IF(I35=1,種目情報!$J$5,種目情報!$J$7)))","v":""},{"$f":"IF(E35=\"\",\"\",IF(②選手情報入力!Q43=\"\",\"\",IF(I35=1,IF(②選手情報入力!$P$5=\"\",\"\",②選手情報入力!$P$5),IF(②選手情報入力!$P$6=\"\",\"\",②選手情報入力!$P$6))))","v":""},{"$f":"IF(E35=\"\",\"\",IF(②選手情報入力!Q43=\"\",\"\",0))","v":""},{"$f":"IF(E35=\"\",\"\",IF(②選手情報入力!Q43=\"\",\"\",2))","v":""}]
[{"$f":"IF(E36=\"\",\"\",I36*1000000+①団体情報入力!$D$3*1000+②選手情報入力!A44)","v":""},{"$f":"IF(E36=\"\",\"\",①団体情報入力!$D$3)","v":""},null,{"$f":"IF(②選手情報入力!B44=\"\",\"\",②選手情報入力!B44)","v":""},{"$f":"IF(②選手情報入力!C44=\"\",\"\",②選手情報入力!C44)","v":""},{"$f":"IF(E36=\"\",\"\",②選手情報入力!D44)","v":""},{"$f":"IF(E36=\"\",\"\",②選手情報入力!E44)","v":""},"",{"$f":"IF(E36=\"\",\"\",IF(②選手情報入力!G44=\"男\",1,2))","v":""},{"$f":"IF(E36=\"\",\"\",IF(②選手情報入力!H44=\"\",\"\",②選手情報入力!H44))","v":""},null,"","",null,{"$f":"IF(E36=\"\",\"\",IF(②選手情報入力!I44=\"\",\"\",IF(I36=1,VLOOKUP(②選手情報入力!I44,種目情報!$A$4:$B$21,2,FALSE),VLOOKUP(②選手情報入力!I44,種目情報!$E$4:$F$20,2,FALSE))))","v":""},{"$f":"IF(E36=\"\",\"\",IF(②選手情報入力!J44=\"\",\"\",②選手情報入力!J44))","v":""},{"$f":"IF(E36=\"\",\"\",IF(②選手情報入力!I44=\"\",\"\",0))","v":""},{"$f":"IF(E36=\"\",\"\",IF(②選手情報入力!I44=\"\",\"\",IF(I36=1,VLOOKUP(②選手情報入力!I44,種目情報!$A$4:$C$21,3,FALSE),VLOOKUP(②選手情報入力!I44,種目情報!$E$4:$G$20,3,FALSE))))","v":""},{"$f":"IF(E36=\"\",\"\",IF(②選手情報入力!L44=\"\",\"\",IF(I36=1,VLOOKUP(②選手情報入力!L44,種目情報!$A$4:$B$21,2,FALSE),VLOOKUP(②選手情報入力!L44,種目情報!$E$4:$F$20,2,FALSE))))","v":""},{"$f":"IF(E36=\"\",\"\",IF(②選手情報入力!M44=\"\",\"\",②選手情報入力!M44))","v":""},{"$f":"IF(E36=\"\",\"\",IF(②選手情報入力!L44=\"\",\"\",0))","v":""},{"$f":"IF(E36=\"\",\"\",IF(②選手情報入力!L44=\"\",\"\",IF(I36=1,VLOOKUP(②選手情報入力!L44,種目情報!$A$4:$C$21,3,FALSE),VLOOKUP(②選手情報入力!L44,種目情報!$E$4:$G$20,3,FALSE))))","v":""},null,null,null,null,{"$f":"IF(E36=\"\",\"\",IF(②選手情報入力!P44=\"\",\"\",IF(I36=1,種目情報!$J$4,種目情報!$J$6)))","v":""},{"$f":"IF(E36=\"\",\"\",IF(②選手情報入力!P44=\"\",\"\",IF(I36=1,IF(②選手情報入力!$N$5=\"\",\"\",②選手情報入力!$N$5),IF(②選手情報入力!$N$6=\"\",\"\",②選手情報入力!$N$6))))","v":""},{"$f":"IF(E36=\"\",\"\",IF(②選手情報入力!P44=\"\",\"\",0))","v":""},{"$f":"IF(E36=\"\",\"\",IF(②選手情報入力!P44=\"\",\"\",2))","v":""},{"$f":"IF(E36=\"\",\"\",IF(②選手情報入力!Q44=\"\",\"\",IF(I36=1,種目情報!$J$5,種目情報!$J$7)))","v":""},{"$f":"IF(E36=\"\",\"\",IF(②選手情報入力!Q44=\"\",\"\",IF(I36=1,IF(②選手情報入力!$P$5=\"\",\"\",②選手情報入力!$P$5),IF(②選手情報入力!$P$6=\"\",\"\",②選手情報入力!$P$6))))","v":""},{"$f":"IF(E36=\"\",\"\",IF(②選手情報入力!Q44=\"\",\"\",0))","v":""},{"$f":"IF(E36=\"\",\"\",IF(②選手情報入力!Q44=\"\",\"\",2))","v":""}]
[{"$f":"IF(E37=\"\",\"\",I37*1000000+①団体情報入力!$D$3*1000+②選手情報入力!A45)","v":""},{"$f":"IF(E37=\"\",\"\",①団体情報入力!$D$3)","v":""},null,{"$f":"IF(②選手情報入力!B45=\"\",\"\",②選手情報入力!B45)","v":""},{"$f":"IF(②選手情報入力!C45=\"\",\"\",②選手情報入力!C45)","v":""},{"$f":"IF(E37=\"\",\"\",②選手情報入力!D45)","v":""},{"$f":"IF(E37=\"\",\"\",②選手情報入力!E45)","v":""},"",{"$f":"IF(E37=\"\",\"\",IF(②選手情報入力!G45=\"男\",1,2))","v":""},{"$f":"IF(E37=\"\",\"\",IF(②選手情報入力!H45=\"\",\"\",②選手情報入力!H45))","v":""},null,"","",null,{"$f":"IF(E37=\"\",\"\",IF(②選手情報入力!I45=\"\",\"\",IF(I37=1,VLOOKUP(②選手情報入力!I45,種目情報!$A$4:$B$21,2,FALSE),VLOOKUP(②選手情報入力!I45,種目情報!$E$4:$F$20,2,FALSE))))","v":""},{"$f":"IF(E37=\"\",\"\",IF(②選手情報入力!J45=\"\",\"\",②選手情報入力!J45))","v":""},{"$f":"IF(E37=\"\",\"\",IF(②選手情報入力!I45=\"\",\"\",0))","v":""},{"$f":"IF(E37=\"\",\"\",IF(②選手情報入力!I45=\"\",\"\",IF(I37=1,VLOOKUP(②選手情報入力!I45,種目情報!$A$4:$C$21,3,FALSE),VLOOKUP(②選手情報入力!I45,種目情報!$E$4:$G$20,3,FALSE))))","v":""},{"$f":"IF(E37=\"\",\"\",IF(②選手情報入力!L45=\"\",\"\",IF(I37=1,VLOOKUP(②選手情報入力!L45,種目情報!$A$4:$B$21,2,FALSE),VLOOKUP(②選手情報入力!L45,種目情報!$E$4:$F$20,2,FALSE))))","v":""},{"$f":"IF(E37=\"\",\"\",IF(②選手情報入力!M45=\"\",\"\",②選手情報入力!M45))","v":""},{"$f":"IF(E37=\"\",\"\",IF(②選手情報入力!L45=\"\",\"\",0))","v":""},{"$f":"IF(E37=\"\",\"\",IF(②選手情報入力!L45=\"\",\"\",IF(I37=1,VLOOKUP(②選手情報入力!L45,種目情報!$A$4:$C$21,3,FALSE),VLOOKUP(②選手情報入力!L45,種目情報!$E$4:$G$20,3,FALSE))))","v":""},null,null,null,null,{"$f":"IF(E37=\"\",\"\",IF(②選手情報入力!P45=\"\",\"\",IF(I37=1,種目情報!$J$4,種目情報!$J$6)))","v":""},{"$f":"IF(E37=\"\",\"\",IF(②選手情報入力!P45=\"\",\"\",IF(I37=1,IF(②選手情報入力!$N$5=\"\",\"\",②選手情報入力!$N$5),IF(②選手情報入力!$N$6=\"\",\"\",②選手情報入力!$N$6))))","v":""},{"$f":"IF(E37=\"\",\"\",IF(②選手情報入力!P45=\"\",\"\",0))","v":""},{"$f":"IF(E37=\"\",\"\",IF(②選手情報入力!P45=\"\",\"\",2))","v":""},{"$f":"IF(E37=\"\",\"\",IF(②選手情報入力!Q45=\"\",\"\",IF(I37=1,種目情報!$J$5,種目情報!$J$7)))","v":""},{"$f":"IF(E37=\"\",\"\",IF(②選手情報入力!Q45=\"\",\"\",IF(I37=1,IF(②選手情報入力!$P$5=\"\",\"\",②選手情報入力!$P$5),IF(②選手情報入力!$P$6=\"\",\"\",②選手情報入力!$P$6))))","v":""},{"$f":"IF(E37=\"\",\"\",IF(②選手情報入力!Q45=\"\",\"\",0))","v":""},{"$f":"IF(E37=\"\",\"\",IF(②選手情報入力!Q45=\"\",\"\",2))","v":""}]
[{"$f":"IF(E38=\"\",\"\",I38*1000000+①団体情報入力!$D$3*1000+②選手情報入力!A46)","v":""},{"$f":"IF(E38=\"\",\"\",①団体情報入力!$D$3)","v":""},null,{"$f":"IF(②選手情報入力!B46=\"\",\"\",②選手情報入力!B46)","v":""},{"$f":"IF(②選手情報入力!C46=\"\",\"\",②選手情報入力!C46)","v":""},{"$f":"IF(E38=\"\",\"\",②選手情報入力!D46)","v":""},{"$f":"IF(E38=\"\",\"\",②選手情報入力!E46)","v":""},"",{"$f":"IF(E38=\"\",\"\",IF(②選手情報入力!G46=\"男\",1,2))","v":""},{"$f":"IF(E38=\"\",\"\",IF(②選手情報入力!H46=\"\",\"\",②選手情報入力!H46))","v":""},null,"","",null,{"$f":"IF(E38=\"\",\"\",IF(②選手情報入力!I46=\"\",\"\",IF(I38=1,VLOOKUP(②選手情報入力!I46,種目情報!$A$4:$B$21,2,FALSE),VLOOKUP(②選手情報入力!I46,種目情報!$E$4:$F$20,2,FALSE))))","v":""},{"$f":"IF(E38=\"\",\"\",IF(②選手情報入力!J46=\"\",\"\",②選手情報入力!J46))","v":""},{"$f":"IF(E38=\"\",\"\",IF(②選手情報入力!I46=\"\",\"\",0))","v":""},{"$f":"IF(E38=\"\",\"\",IF(②選手情報入力!I46=\"\",\"\",IF(I38=1,VLOOKUP(②選手情報入力!I46,種目情報!$A$4:$C$21,3,FALSE),VLOOKUP(②選手情報入力!I46,種目情報!$E$4:$G$20,3,FALSE))))","v":""},{"$f":"IF(E38=\"\",\"\",IF(②選手情報入力!L46=\"\",\"\",IF(I38=1,VLOOKUP(②選手情報入力!L46,種目情報!$A$4:$B$21,2,FALSE),VLOOKUP(②選手情報入力!L46,種目情報!$E$4:$F$20,2,FALSE))))","v":""},{"$f":"IF(E38=\"\",\"\",IF(②選手情報入力!M46=\"\",\"\",②選手情報入力!M46))","v":""},{"$f":"IF(E38=\"\",\"\",IF(②選手情報入力!L46=\"\",\"\",0))","v":""},{"$f":"IF(E38=\"\",\"\",IF(②選手情報入力!L46=\"\",\"\",IF(I38=1,VLOOKUP(②選手情報入力!L46,種目情報!$A$4:$C$21,3,FALSE),VLOOKUP(②選手情報入力!L46,種目情報!$E$4:$G$20,3,FALSE))))","v":""},null,null,null,null,{"$f":"IF(E38=\"\",\"\",IF(②選手情報入力!P46=\"\",\"\",IF(I38=1,種目情報!$J$4,種目情報!$J$6)))","v":""},{"$f":"IF(E38=\"\",\"\",IF(②選手情報入力!P46=\"\",\"\",IF(I38=1,IF(②選手情報入力!$N$5=\"\",\"\",②選手情報入力!$N$5),IF(②選手情報入力!$N$6=\"\",\"\",②選手情報入力!$N$6))))","v":""},{"$f":"IF(E38=\"\",\"\",IF(②選手情報入力!P46=\"\",\"\",0))","v":""},{"$f":"IF(E38=\"\",\"\",IF(②選手情報入力!P46=\"\",\"\",2))","v":""},{"$f":"IF(E38=\"\",\"\",IF(②選手情報入力!Q46=\"\",\"\",IF(I38=1,種目情報!$J$5,種目情報!$J$7)))","v":""},{"$f":"IF(E38=\"\",\"\",IF(②選手情報入力!Q46=\"\",\"\",IF(I38=1,IF(②選手情報入力!$P$5=\"\",\"\",②選手情報入力!$P$5),IF(②選手情報入力!$P$6=\"\",\"\",②選手情報入力!$P$6))))","v":""},{"$f":"IF(E38=\"\",\"\",IF(②選手情報入力!Q46=\"\",\"\",0))","v":""},{"$f":"IF(E38=\"\",\"\",IF(②選手情報入力!Q46=\"\",\"\",2))","v":""}]
[{"$f":"IF(E39=\"\",\"\",I39*1000000+①団体情報入力!$D$3*1000+②選手情報入力!A47)","v":""},{"$f":"IF(E39=\"\",\"\",①団体情報入力!$D$3)","v":""},null,{"$f":"IF(②選手情報入力!B47=\"\",\"\",②選手情報入力!B47)","v":""},{"$f":"IF(②選手情報入力!C47=\"\",\"\",②選手情報入力!C47)","v":""},{"$f":"IF(E39=\"\",\"\",②選手情報入力!D47)","v":""},{"$f":"IF(E39=\"\",\"\",②選手情報入力!E47)","v":""},"",{"$f":"IF(E39=\"\",\"\",IF(②選手情報入力!G47=\"男\",1,2))","v":""},{"$f":"IF(E39=\"\",\"\",IF(②選手情報入力!H47=\"\",\"\",②選手情報入力!H47))","v":""},null,"","",null,{"$f":"IF(E39=\"\",\"\",IF(②選手情報入力!I47=\"\",\"\",IF(I39=1,VLOOKUP(②選手情報入力!I47,種目情報!$A$4:$B$21,2,FALSE),VLOOKUP(②選手情報入力!I47,種目情報!$E$4:$F$20,2,FALSE))))","v":""},{"$f":"IF(E39=\"\",\"\",IF(②選手情報入力!J47=\"\",\"\",②選手情報入力!J47))","v":""},{"$f":"IF(E39=\"\",\"\",IF(②選手情報入力!I47=\"\",\"\",0))","v":""},{"$f":"IF(E39=\"\",\"\",IF(②選手情報入力!I47=\"\",\"\",IF(I39=1,VLOOKUP(②選手情報入力!I47,種目情報!$A$4:$C$21,3,FALSE),VLOOKUP(②選手情報入力!I47,種目情報!$E$4:$G$20,3,FALSE))))","v":""},{"$f":"IF(E39=\"\",\"\",IF(②選手情報入力!L47=\"\",\"\",IF(I39=1,VLOOKUP(②選手情報入力!L47,種目情報!$A$4:$B$21,2,FALSE),VLOOKUP(②選手情報入力!L47,種目情報!$E$4:$F$20,2,FALSE))))","v":""},{"$f":"IF(E39=\"\",\"\",IF(②選手情報入力!M47=\"\",\"\",②選手情報入力!M47))","v":""},{"$f":"IF(E39=\"\",\"\",IF(②選手情報入力!L47=\"\",\"\",0))","v":""},{"$f":"IF(E39=\"\",\"\",IF(②選手情報入力!L47=\"\",\"\",IF(I39=1,VLOOKUP(②選手情報入力!L47,種目情報!$A$4:$C$21,3,FALSE),VLOOKUP(②選手情報入力!L47,種目情報!$E$4:$G$20,3,FALSE))))","v":""},null,null,null,null,{"$f":"IF(E39=\"\",\"\",IF(②選手情報入力!P47=\"\",\"\",IF(I39=1,種目情報!$J$4,種目情報!$J$6)))","v":""},{"$f":"IF(E39=\"\",\"\",IF(②選手情報入力!P47=\"\",\"\",IF(I39=1,IF(②選手情報入力!$N$5=\"\",\"\",②選手情報入力!$N$5),IF(②選手情報入力!$N$6=\"\",\"\",②選手情報入力!$N$6))))","v":""},{"$f":"IF(E39=\"\",\"\",IF(②選手情報入力!P47=\"\",\"\",0))","v":""},{"$f":"IF(E39=\"\",\"\",IF(②選手情報入力!P47=\"\",\"\",2))","v":""},{"$f":"IF(E39=\"\",\"\",IF(②選手情報入力!Q47=\"\",\"\",IF(I39=1,種目情報!$J$5,種目情報!$J$7)))","v":""},{"$f":"IF(E39=\"\",\"\",IF(②選手情報入力!Q47=\"\",\"\",IF(I39=1,IF(②選手情報入力!$P$5=\"\",\"\",②選手情報入力!$P$5),IF(②選手情報入力!$P$6=\"\",\"\",②選手情報入力!$P$6))))","v":""},{"$f":"IF(E39=\"\",\"\",IF(②選手情報入力!Q47=\"\",\"\",0))","v":""},{"$f":"IF(E39=\"\",\"\",IF(②選手情報入力!Q47=\"\",\"\",2))","v":""}]
[{"$f":"IF(E40=\"\",\"\",I40*1000000+①団体情報入力!$D$3*1000+②選手情報入力!A48)","v":""},{"$f":"IF(E40=\"\",\"\",①団体情報入力!$D$3)","v":""},null,{"$f":"IF(②選手情報入力!B48=\"\",\"\",②選手情報入力!B48)","v":""},{"$f":"IF(②選手情報入力!C48=\"\",\"\",②選手情報入力!C48)","v":""},{"$f":"IF(E40=\"\",\"\",②選手情報入力!D48)","v":""},{"$f":"IF(E40=\"\",\"\",②選手情報入力!E48)","v":""},"",{"$f":"IF(E40=\"\",\"\",IF(②選手情報入力!G48=\"男\",1,2))","v":""},{"$f":"IF(E40=\"\",\"\",IF(②選手情報入力!H48=\"\",\"\",②選手情報入力!H48))","v":""},null,"","",null,{"$f":"IF(E40=\"\",\"\",IF(②選手情報入力!I48=\"\",\"\",IF(I40=1,VLOOKUP(②選手情報入力!I48,種目情報!$A$4:$B$21,2,FALSE),VLOOKUP(②選手情報入力!I48,種目情報!$E$4:$F$20,2,FALSE))))","v":""},{"$f":"IF(E40=\"\",\"\",IF(②選手情報入力!J48=\"\",\"\",②選手情報入力!J48))","v":""},{"$f":"IF(E40=\"\",\"\",IF(②選手情報入力!I48=\"\",\"\",0))","v":""},{"$f":"IF(E40=\"\",\"\",IF(②選手情報入力!I48=\"\",\"\",IF(I40=1,VLOOKUP(②選手情報入力!I48,種目情報!$A$4:$C$21,3,FALSE),VLOOKUP(②選手情報入力!I48,種目情報!$E$4:$G$20,3,FALSE))))","v":""},{"$f":"IF(E40=\"\",\"\",IF(②選手情報入力!L48=\"\",\"\",IF(I40=1,VLOOKUP(②選手情報入力!L48,種目情報!$A$4:$B$21,2,FALSE),VLOOKUP(②選手情報入力!L48,種目情報!$E$4:$F$20,2,FALSE))))","v":""},{"$f":"IF(E40=\"\",\"\",IF(②選手情報入力!M48=\"\",\"\",②選手情報入力!M48))","v":""},{"$f":"IF(E40=\"\",\"\",IF(②選手情報入力!L48=\"\",\"\",0))","v":""},{"$f":"IF(E40=\"\",\"\",IF(②選手情報入力!L48=\"\",\"\",IF(I40=1,VLOOKUP(②選手情報入力!L48,種目情報!$A$4:$C$21,3,FALSE),VLOOKUP(②選手情報入力!L48,種目情報!$E$4:$G$20,3,FALSE))))","v":""},null,null,null,null,{"$f":"IF(E40=\"\",\"\",IF(②選手情報入力!P48=\"\",\"\",IF(I40=1,種目情報!$J$4,種目情報!$J$6)))","v":""},{"$f":"IF(E40=\"\",\"\",IF(②選手情報入力!P48=\"\",\"\",IF(I40=1,IF(②選手情報入力!$N$5=\"\",\"\",②選手情報入力!$N$5),IF(②選手情報入力!$N$6=\"\",\"\",②選手情報入力!$N$6))))","v":""},{"$f":"IF(E40=\"\",\"\",IF(②選手情報入力!P48=\"\",\"\",0))","v":""},{"$f":"IF(E40=\"\",\"\",IF(②選手情報入力!P48=\"\",\"\",2))","v":""},{"$f":"IF(E40=\"\",\"\",IF(②選手情報入力!Q48=\"\",\"\",IF(I40=1,種目情報!$J$5,種目情報!$J$7)))","v":""},{"$f":"IF(E40=\"\",\"\",IF(②選手情報入力!Q48=\"\",\"\",IF(I40=1,IF(②選手情報入力!$P$5=\"\",\"\",②選手情報入力!$P$5),IF(②選手情報入力!$P$6=\"\",\"\",②選手情報入力!$P$6))))","v":""},{"$f":"IF(E40=\"\",\"\",IF(②選手情報入力!Q48=\"\",\"\",0))","v":""},{"$f":"IF(E40=\"\",\"\",IF(②選手情報入力!Q48=\"\",\"\",2))","v":""}]
[{"$f":"IF(E41=\"\",\"\",I41*1000000+①団体情報入力!$D$3*1000+②選手情報入力!A49)","v":""},{"$f":"IF(E41=\"\",\"\",①団体情報入力!$D$3)","v":""},null,{"$f":"IF(②選手情報入力!B49=\"\",\"\",②選手情報入力!B49)","v":""},{"$f":"IF(②選手情報入力!C49=\"\",\"\",②選手情報入力!C49)","v":""},{"$f":"IF(E41=\"\",\"\",②選手情報入力!D49)","v":""},{"$f":"IF(E41=\"\",\"\",②選手情報入力!E49)","v":""},"",{"$f":"IF(E41=\"\",\"\",IF(②選手情報入力!G49=\"男\",1,2))","v":""},{"$f":"IF(E41=\"\",\"\",IF(②選手情報入力!H49=\"\",\"\",②選手情報入力!H49))","v":""},null,"","",null,{"$f":"IF(E41=\"\",\"\",IF(②選手情報入力!I49=\"\",\"\",IF(I41=1,VLOOKUP(②選手情報入力!I49,種目情報!$A$4:$B$21,2,FALSE),VLOOKUP(②選手情報入力!I49,種目情報!$E$4:$F$20,2,FALSE))))","v":""},{"$f":"IF(E41=\"\",\"\",IF(②選手情報入力!J49=\"\",\"\",②選手情報入力!J49))","v":""},{"$f":"IF(E41=\"\",\"\",IF(②選手情報入力!I49=\"\",\"\",0))","v":""},{"$f":"IF(E41=\"\",\"\",IF(②選手情報入力!I49=\"\",\"\",IF(I41=1,VLOOKUP(②選手情報入力!I49,種目情報!$A$4:$C$21,3,FALSE),VLOOKUP(②選手情報入力!I49,種目情報!$E$4:$G$20,3,FALSE))))","v":""},{"$f":"IF(E41=\"\",\"\",IF(②選手情報入力!L49=\"\",\"\",IF(I41=1,VLOOKUP(②選手情報入力!L49,種目情報!$A$4:$B$21,2,FALSE),VLOOKUP(②選手情報入力!L49,種目情報!$E$4:$F$20,2,FALSE))))","v":""},{"$f":"IF(E41=\"\",\"\",IF(②選手情報入力!M49=\"\",\"\",②選手情報入力!M49))","v":""},{"$f":"IF(E41=\"\",\"\",IF(②選手情報入力!L49=\"\",\"\",0))","v":""},{"$f":"IF(E41=\"\",\"\",IF(②選手情報入力!L49=\"\",\"\",IF(I41=1,VLOOKUP(②選手情報入力!L49,種目情報!$A$4:$C$21,3,FALSE),VLOOKUP(②選手情報入力!L49,種目情報!$E$4:$G$20,3,FALSE))))","v":""},null,null,null,null,{"$f":"IF(E41=\"\",\"\",IF(②選手情報入力!P49=\"\",\"\",IF(I41=1,種目情報!$J$4,種目情報!$J$6)))","v":""},{"$f":"IF(E41=\"\",\"\",IF(②選手情報入力!P49=\"\",\"\",IF(I41=1,IF(②選手情報入力!$N$5=\"\",\"\",②選手情報入力!$N$5),IF(②選手情報入力!$N$6=\"\",\"\",②選手情報入力!$N$6))))","v":""},{"$f":"IF(E41=\"\",\"\",IF(②選手情報入力!P49=\"\",\"\",0))","v":""},{"$f":"IF(E41=\"\",\"\",IF(②選手情報入力!P49=\"\",\"\",2))","v":""},{"$f":"IF(E41=\"\",\"\",IF(②選手情報入力!Q49=\"\",\"\",IF(I41=1,種目情報!$J$5,種目情報!$J$7)))","v":""},{"$f":"IF(E41=\"\",\"\",IF(②選手情報入力!Q49=\"\",\"\",IF(I41=1,IF(②選手情報入力!$P$5=\"\",\"\",②選手情報入力!$P$5),IF(②選手情報入力!$P$6=\"\",\"\",②選手情報入力!$P$6))))","v":""},{"$f":"IF(E41=\"\",\"\",IF(②選手情報入力!Q49=\"\",\"\",0))","v":""},{"$f":"IF(E41=\"\",\"\",IF(②選手情報入力!Q49=\"\",\"\",2))","v":""}]

{"sheet":"data_team","index":12,"n_rows":33,"n_cols":13,"rows_kept":33,"cut":false,"hidden":false,"merged":[]}
["チームNO","所属コード","チーム名","チーム名カナ","チーム名略称","チーム正式名称","ID","競技者NO","競技者名","参加競技-競技コード","参加競技-自己記録","参加競技-オープン参加FLG","参加競技-記録FLG"]
[{"$f":"IF(③リレー情報確認!C8=\"\",\"\",410000+①団体情報入力!$D$3*10)","v":""},{"$f":"IF(A2=\"\",\"\",①団体情報入力!$D$3)","v":""},{"$f":"IF(A2=\"\",\"\",③リレー情報確認!$J$1)","v":""},{"$f":"IF(A2=\"\",\"\",③リレー情報確認!$P$1)","v":""},null,null,1,{"$f":"IF(A2=\"\",\"\",③リレー情報確認!E8)","v":""},{"$f":"IF(A2=\"\",\"\",③リレー情報確認!D8)","v":""},{"$f":"IF(A2=\"\",\"\",種目情報!$J$4)","v":""},{"$f":"IF(A2=\"\",\"\",③リレー情報確認!$F$8)","v":""},{"$f":"IF(A2=\"\",\"\",0)","v":""},{"$f":"IF(A2=\"\",\"\",種目情報!$K$4)","v":""}]
[{"$f":"IF(③リレー情報確認!C9=\"\",\"\",410000+①団体情報入力!$D$3*10)","v":""},{"$f":"IF(A3=\"\",\"\",①団体情報入力!$D$3)","v":""},{"$f":"IF(A3=\"\",\"\",③リレー情報確認!$J$1)","v":""},{"$f":"IF(A3=\"\",\"\",③リレー情報確認!$P$1)","v":""},null,null,2,{"$f":"IF(A3=\"\",\"\",③リレー情報確認!E9)","v":""},{"$f":"IF(A3=\"\",\"\",③リレー情報確認!D9)","v":""},{"$f":"IF(A3=\"\",\"\",種目情報!$J$4)","v":""},{"$f":"IF(A3=\"\",\"\",③リレー情報確認!$F$8)","v":""},{"$f":"IF(A3=\"\",\"\",0)","v":""},{"$f":"IF(A3=\"\",\"\",種目情報!$K$4)","v":""}]
[{"$f":"IF(③リレー情報確認!C10=\"\",\"\",410000+①団体情報入力!$D$3*10)","v":""},{"$f":"IF(A4=\"\",\"\",①団体情報入力!$D$3)","v":""},{"$f":"IF(A4=\"\",\"\",③リレー情報確認!$J$1)","v":""},{"$f":"IF(A4=\"\",\"\",③リレー情報確認!$P$1)","v":""},null,null,3,{"$f":"IF(A4=\"\",\"\",③リレー情報確認!E10)","v":""},{"$f":"IF(A4=\"\",\"\",③リレー情報確認!D10)","v":""},{"$f":"IF(A4=\"\",\"\",種目情報!$J$4)","v":""},{"$f":"IF(A4=\"\",\"\",③リレー情報確認!$F$8)","v":""},"",{"$f":"IF(A4=\"\",\"\",種目情報!$K$4)","v":""}]
[{"$f":"IF(③リレー情報確認!C11=\"\",\"\",410000+①団体情報入力!$D$3*10)","v":""},{"$f":"IF(A5=\"\",\"\",①団体情報入力!$D$3)","v":""},{"$f":"IF(A5=\"\",\"\",③リレー情報確認!$J$1)","v":""},{"$f":"IF(A5=\"\",\"\",③リレー情報確認!$P$1)","v":""},null,null,4,{"$f":"IF(A5=\"\",\"\",③リレー情報確認!E11)","v":""},{"$f":"IF(A5=\"\",\"\",③リレー情報確認!D11)","v":""},{"$f":"IF(A5=\"\",\"\",種目情報!$J$4)","v":""},{"$f":"IF(A5=\"\",\"\",③リレー情報確認!$F$8)","v":""},"",{"$f":"IF(A5=\"\",\"\",種目情報!$K$4)","v":""}]
[{"$f":"IF(③リレー情報確認!C12=\"\",\"\",410000+①団体情報入力!$D$3*10)","v":""},{"$f":"IF(A6=\"\",\"\",①団体情報入力!$D$3)","v":""},{"$f":"IF(A6=\"\",\"\",③リレー情報確認!$J$1)","v":""},{"$f":"IF(A6=\"\",\"\",③リレー情報確認!$P$1)","v":""},null,null,5,{"$f":"IF(A6=\"\",\"\",③リレー情報確認!E12)","v":""},{"$f":"IF(A6=\"\",\"\",③リレー情報確認!D12)","v":""},{"$f":"IF(A6=\"\",\"\",種目情報!$J$4)","v":""},{"$f":"IF(A6=\"\",\"\",③リレー情報確認!$F$8)","v":""},"",{"$f":"IF(A6=\"\",\"\",種目情報!$K$4)","v":""}]
[{"$f":"IF(③リレー情報確認!C13=\"\",\"\",410000+①団体情報入力!$D$3*10)","v":""},{"$f":"IF(A7=\"\",\"\",①団体情報入力!$D$3)","v":""},{"$f":"IF(A7=\"\",\"\",③リレー情報確認!$J$1)","v":""},{"$f":"IF(A7=\"\",\"\",③リレー情報確認!$P$1)","v":""},null,null,6,{"$f":"IF(A7=\"\",\"\",③リレー情報確認!E13)","v":""},{"$f":"IF(A7=\"\",\"\",③リレー情報確認!D13)","v":""},{"$f":"IF(A7=\"\",\"\",種目情報!$J$4)","v":""},{"$f":"IF(A7=\"\",\"\",③リレー情報確認!$F$8)","v":""},"",{"$f":"IF(A7=\"\",\"\",種目情報!$K$4)","v":""}]
[{"$f":"IF(③リレー情報確認!C14=\"\",\"\",410000+①団体情報入力!$D$3*10)","v":""},{"$f":"IF(A8=\"\",\"\",①団体情報入力!$D$3)","v":""},{"$f":"IF(A8=\"\",\"\",③リレー情報確認!$J$1)","v":""},{"$f":"IF(A8=\"\",\"\",③リレー情報確認!$P$1)","v":""},null,null,7,{"$f":"IF(A8=\"\",\"\",③リレー情報確認!E14)","v":""},{"$f":"IF(A8=\"\",\"\",③リレー情報確認!D14)","v":""},{"$f":"IF(A8=\"\",\"\",種目情報!$J$4)","v":""},{"$f":"IF(A8=\"\",\"\",③リレー情報確認!$F$8)","v":""},"",{"$f":"IF(A8=\"\",\"\",種目情報!$K$4)","v":""}]
[{"$f":"IF(③リレー情報確認!C15=\"\",\"\",410000+①団体情報入力!$D$3*10)","v":""},{"$f":"IF(A9=\"\",\"\",①団体情報入力!$D$3)","v":""},{"$f":"IF(A9=\"\",\"\",③リレー情報確認!$J$1)","v":""},{"$f":"IF(A9=\"\",\"\",③リレー情報確認!$P$1)","v":""},null,null,8,{"$f":"IF(A9=\"\",\"\",③リレー情報確認!E15)","v":""},{"$f":"IF(A9=\"\",\"\",③リレー情報確認!D15)","v":""},{"$f":"IF(A9=\"\",\"\",種目情報!$J$4)","v":""},{"$f":"IF(A9=\"\",\"\",③リレー情報確認!$F$8)","v":""},"",{"$f":"IF(A9=\"\",\"\",種目情報!$K$4)","v":""}]
[{"$f":"IF(③リレー情報確認!I8=\"\",\"\",1610000+①団体情報入力!$D$3*10)","v":""},{"$f":"IF(A10=\"\",\"\",①団体情報入力!$D$3)","v":""},{"$f":"IF(A10=\"\",\"\",③リレー情報確認!$J$1)","v":""},{"$f":"IF(A10=\"\",\"\",③リレー情報確認!$P$1)","v":""},null,null,1,{"$f":"IF(A10=\"\",\"\",③リレー情報確認!K8)","v":""},{"$f":"IF(A10=\"\",\"\",③リレー情報確認!J8)","v":""},{"$f":"IF(A10=\"\",\"\",種目情報!$J$5)","v":""},{"$f":"IF(A10=\"\",\"\",③リレー情報確認!$L$8)","v":""},{"$f":"IF(A10=\"\",\"\",0)","v":""},{"$f":"IF(A10=\"\",\"\",種目情報!$K$5)","v":""}]
[{"$f":"IF(③リレー情報確認!I9=\"\",\"\",1610000+①団体情報入力!$D$3*10)","v":""},{"$f":"IF(A11=\"\",\"\",①団体情報入力!$D$3)","v":""},{"$f":"IF(A11=\"\",\"\",③リレー情報確認!$J$1)","v":""},{"$f":"IF(A11=\"\",\"\",③リレー情報確認!$P$1)","v":""},null,null,2,{"$f":"IF(A11=\"\",\"\",③リレー情報確認!K9)","v":""},{"$f":"IF(A11=\"\",\"\",③リレー情報確認!J9)","v":""},{"$f":"IF(A11=\"\",\"\",種目情報!$J$5)","v":""},{"$f":"IF(A11=\"\",\"\",③リレー情報確認!$L$8)","v":""},{"$f":"IF(A11=\"\",\"\",0)","v":""},{"$f":"IF(A11=\"\",\"\",種目情報!$K$5)","v":""}]
[{"$f":"IF(③リレー情報確認!I10=\"\",\"\",1610000+①団体情報入力!$D$3*10)","v":""},{"$f":"IF(A12=\"\",\"\",①団体情報入力!$D$3)","v":""},{"$f":"IF(A12=\"\",\"\",③リレー情報確認!$J$1)","v":""},{"$f":"IF(A12=\"\",\"\",③リレー情報確認!$P$1)","v":""},null,null,3,{"$f":"IF(A12=\"\",\"\",③リレー情報確認!K10)","v":""},{"$f":"IF(A12=\"\",\"\",③リレー情報確認!J10)","v":""},{"$f":"IF(A12=\"\",\"\",種目情報!$J$5)","v":""},{"$f":"IF(A12=\"\",\"\",③リレー情報確認!$L$8)","v":""},"",{"$f":"IF(A12=\"\",\"\",種目情報!$K$5)","v":""}]
[{"$f":"IF(③リレー情報確認!I11=\"\",\"\",1610000+①団体情報入力!$D$3*10)","v":""},{"$f":"IF(A13=\"\",\"\",①団体情報入力!$D$3)","v":""},{"$f":"IF(A13=\"\",\"\",③リレー情報確認!$J$1)","v":""},{"$f":"IF(A13=\"\",\"\",③リレー情報確認!$P$1)","v":""},null,null,4,{"$f":"IF(A13=\"\",\"\",③リレー情報確認!K11)","v":""},{"$f":"IF(A13=\"\",\"\",③リレー情報確認!J11)","v":""},{"$f":"IF(A13=\"\",\"\",種目情報!$J$5)","v":""},{"$f":"IF(A13=\"\",\"\",③リレー情報確認!$L$8)","v":""},"",{"$f":"IF(A13=\"\",\"\",種目情報!$K$5)","v":""}]
[{"$f":"IF(③リレー情報確認!I12=\"\",\"\",1610000+①団体情報入力!$D$3*10)","v":""},{"$f":"IF(A14=\"\",\"\",①団体情報入力!$D$3)","v":""},{"$f":"IF(A14=\"\",\"\",③リレー情報確認!$J$1)","v":""},{"$f":"IF(A14=\"\",\"\",③リレー情報確認!$P$1)","v":""},null,null,5,{"$f":"IF(A14=\"\",\"\",③リレー情報確認!K12)","v":""},{"$f":"IF(A14=\"\",\"\",③リレー情報確認!J12)","v":""},{"$f":"IF(A14=\"\",\"\",種目情報!$J$5)","v":""},{"$f":"IF(A14=\"\",\"\",③リレー情報確認!$L$8)","v":""},"",{"$f":"IF(A14=\"\",\"\",種目情報!$K$5)","v":""}]
[{"$f":"IF(③リレー情報確認!I13=\"\",\"\",1610000+①団体情報入力!$D$3*10)","v":""},{"$f":"IF(A15=\"\",\"\",①団体情報入力!$D$3)","v":""},{"$f":"IF(A15=\"\",\"\",③リレー情報確認!$J$1)","v":""},{"$f":"IF(A15=\"\",\"\",③リレー情報確認!$P$1)","v":""},null,null,6,{"$f":"IF(A15=\"\",\"\",③リレー情報確認!K13)","v":""},{"$f":"IF(A15=\"\",\"\",③リレー情報確認!J13)","v":""},{"$f":"IF(A15=\"\",\"\",種目情報!$J$5)","v":""},{"$f":"IF(A15=\"\",\"\",③リレー情報確認!$L$8)","v":""},"",{"$f":"IF(A15=\"\",\"\",種目情報!$K$5)","v":""}]
[{"$f":"IF(③リレー情報確認!I14=\"\",\"\",1610000+①団体情報入力!$D$3*10)","v":""},{"$f":"IF(A16=\"\",\"\",①団体情報入力!$D$3)","v":""},{"$f":"IF(A16=\"\",\"\",③リレー情報確認!$J$1)","v":""},{"$f":"IF(A16=\"\",\"\",③リレー情報確認!$P$1)","v":""},null,null,7,{"$f":"IF(A16=\"\",\"\",③リレー情報確認!K14)","v":""},{"$f":"IF(A16=\"\",\"\",③リレー情報確認!J14)","v":""},{"$f":"IF(A16=\"\",\"\",種目情報!$J$5)","v":""},{"$f":"IF(A16=\"\",\"\",③リレー情報確認!$L$8)","v":""},"",{"$f":"IF(A16=\"\",\"\",種目情報!$K$5)","v":""}]
[{"$f":"IF(③リレー情報確認!I15=\"\",\"\",1610000+①団体情報入力!$D$3*10)","v":""},{"$f":"IF(A17=\"\",\"\",①団体情報入力!$D$3)","v":""},{"$f":"IF(A17=\"\",\"\",③リレー情報確認!$J$1)","v":""},{"$f":"IF(A17=\"\",\"\",③リレー情報確認!$P$1)","v":""},null,null,8,{"$f":"IF(A17=\"\",\"\",③リレー情報確認!K15)","v":""},{"$f":"IF(A17=\"\",\"\",③リレー情報確認!J15)","v":""},{"$f":"IF(A17=\"\",\"\",種目情報!$J$5)","v":""},{"$f":"IF(A17=\"\",\"\",③リレー情報確認!$L$8)","v":""},"",{"$f":"IF(A17=\"\",\"\",種目情報!$K$5)","v":""}]
[{"$f":"IF(③リレー情報確認!O8=\"\",\"\",420000+①団体情報入力!$D$3*10)","v":""},{"$f":"IF(A18=\"\",\"\",①団体情報入力!$D$3)","v":""},{"$f":"IF(A18=\"\",\"\",③リレー情報確認!$J$1)","v":""},{"$f":"IF(A18=\"\",\"\",③リレー情報確認!$P$1)","v":""},null,null,1,{"$f":"IF(A18=\"\",\"\",③リレー情報確認!Q8)","v":""},{"$f":"IF(A18=\"\",\"\",③リレー情報確認!P8)","v":""},{"$f":"IF(A18=\"\",\"\",種目情報!$J$6)","v":""},{"$f":"IF(A18=\"\",\"\",③リレー情報確認!$R$8)","v":""},{"$f":"IF(A18=\"\",\"\",0)","v":""},{"$f":"IF(A18=\"\",\"\",種目情報!$K$6)","v":""}]
[{"$f":"IF(③リレー情報確認!O9=\"\",\"\",420000+①団体情報入力!$D$3*10)","v":""},{"$f":"IF(A19=\"\",\"\",①団体情報入力!$D$3)","v":""},{"$f":"IF(A19=\"\",\"\",③リレー情報確認!$J$1)","v":""},{"$f":"IF(A19=\"\",\"\",③リレー情報確認!$P$1)","v":""},null,null,2,{"$f":"IF(A19=\"\",\"\",③リレー情報確認!Q9)","v":""},{"$f":"IF(A19=\"\",\"\",③リレー情報確認!P9)","v":""},{"$f":"IF(A19=\"\",\"\",種目情報!$J$6)","v":""},{"$f":"IF(A19=\"\",\"\",③リレー情報確認!$R$8)","v":""},{"$f":"IF(A19=\"\",\"\",0)","v":""},{"$f":"IF(A19=\"\",\"\",種目情報!$K$6)","v":""}]
[{"$f":"IF(③リレー情報確認!O10=\"\",\"\",420000+①団体情報入力!$D$3*10)","v":""},{"$f":"IF(A20=\"\",\"\",①団体情報入力!$D$3)","v":""},{"$f":"IF(A20=\"\",\"\",③リレー情報確認!$J$1)","v":""},{"$f":"IF(A20=\"\",\"\",③リレー情報確認!$P$1)","v":""},null,null,3,{"$f":"IF(A20=\"\",\"\",③リレー情報確認!Q10)","v":""},{"$f":"IF(A20=\"\",\"\",③リレー情報確認!P10)","v":""},{"$f":"IF(A20=\"\",\"\",種目情報!$J$6)","v":""},{"$f":"IF(A20=\"\",\"\",③リレー情報確認!$R$8)","v":""},"",{"$f":"IF(A20=\"\",\"\",種目情報!$K$6)","v":""}]
[{"$f":"IF(③リレー情報確認!O11=\"\",\"\",420000+①団体情報入力!$D$3*10)","v":""},{"$f":"IF(A21=\"\",\"\",①団体情報入力!$D$3)","v":""},{"$f":"IF(A21=\"\",\"\",③リレー情報確認!$J$1)","v":""},{"$f":"IF(A21=\"\",\"\",③リレー情報確認!$P$1)","v":""},null,null,4,{"$f":"IF(A21=\"\",\"\",③リレー情報確認!Q11)","v":""},{"$f":"IF(A21=\"\",\"\",③リレー情報確認!P11)","v":""},{"$f":"IF(A21=\"\",\"\",種目情報!$J$6)","v":""},{"$f":"IF(A21=\"\",\"\",③リレー情報確認!$R$8)","v":""},"",{"$f":"IF(A21=\"\",\"\",種目情報!$K$6)","v":""}]
[{"$f":"IF(③リレー情報確認!O12=\"\",\"\",420000+①団体情報入力!$D$3*10)","v":""},{"$f":"IF(A22=\"\",\"\",①団体情報入力!$D$3)","v":""},{"$f":"IF(A22=\"\",\"\",③リレー情報確認!$J$1)","v":""},{"$f":"IF(A22=\"\",\"\",③リレー情報確認!$P$1)","v":""},null,null,5,{"$f":"IF(A22=\"\",\"\",③リレー情報確認!Q12)","v":""},{"$f":"IF(A22=\"\",\"\",③リレー情報確認!P12)","v":""},{"$f":"IF(A22=\"\",\"\",種目情報!$J$6)","v":""},{"$f":"IF(A22=\"\",\"\",③リレー情報確認!$R$8)","v":""},"",{"$f":"IF(A22=\"\",\"\",種目情報!$K$6)","v":""}]
[{"$f":"IF(③リレー情報確認!O13=\"\",\"\",420000+①団体情報入力!$D$3*10)","v":""},{"$f":"IF(A23=\"\",\"\",①団体情報入力!$D$3)","v":""},{"$f":"IF(A23=\"\",\"\",③リレー情報確認!$J$1)","v":""},{"$f":"IF(A23=\"\",\"\",③リレー情報確認!$P$1)","v":""},null,null,6,{"$f":"IF(A23=\"\",\"\",③リレー情報確認!Q13)","v":""},{"$f":"IF(A23=\"\",\"\",③リレー情報確認!P13)","v":""},{"$f":"IF(A23=\"\",\"\",種目情報!$J$6)","v":""},{"$f":"IF(A23=\"\",\"\",③リレー情報確認!$R$8)","v":""},"",{"$f":"IF(A23=\"\",\"\",種目情報!$K$6)","v":""}]
[{"$f":"IF(③リレー情報確認!O14=\"\",\"\",420000+①団体情報入力!$D$3*10)","v":""},{"$f":"IF(A24=\"\",\"\",①団体情報入力!$D$3)","v":""},{"$f":"IF(A24=\"\",\"\",③リレー情報確認!$J$1)","v":""},{"$f":"IF(A24=\"\",\"\",③リレー情報確認!$P$1)","v":""},null,null,7,{"$f":"IF(A24=\"\",\"\",③リレー情報確認!Q14)","v":""},{"$f":"IF(A24=\"\",\"\",③リレー情報確認!P14)","v":""},{"$f":"IF(A24=\"\",\"\",種目情報!$J$6)","v":""},{"$f":"IF(A24=\"\",\"\",③リレー情報確認!$R$8)","v":""},"",{"$f":"IF(A24=\"\",\"\",種目情報!$K$6)","v":""}]
[{"$f":"IF(③リレー情報確認!O15=\"\",\"\",420000+①団体情報入力!$D$3*10)","v":""},{"$f":"IF(A25=\"\",\"\",①団体情報入力!$D$3)","v":""},{"$f":"IF(A25=\"\",\"\",③リレー情報確認!$J$1)","v":""},{"$f":"IF(A25=\"\",\"\",③リレー情報確認!$P$1)","v":""},null,null,8,{"$f":"IF(A25=\"\",\"\",③リレー情報確認!Q15)","v":""},{"$f":"IF(A25=\"\",\"\",③リレー情報確認!P15)","v":""},{"$f":"IF(A25=\"\",\"\",種目情報!$J$6)","v":""},{"$f":"IF(A25=\"\",\"\",③リレー情報確認!$R$8)","v":""},"",{"$f":"IF(A25=\"\",\"\",種目情報!$K$6)","v":""}]
[{"$f":"IF(③リレー情報確認!U8=\"\",\"\",1620000+①団体情報入力!$D$3*10)","v":""},{"$f":"IF(A26=\"\",\"\",①団体情報入力!$D$3)","v":""},{"$f":"IF(A26=\"\",\"\",③リレー情報確認!$J$1)","v":""},{"$f":"IF(A26=\"\",\"\",③リレー情報確認!$P$1)","v":""},null,null,1,{"$f":"IF(A26=\"\",\"\",③リレー情報確認!W8)","v":""},{"$f":"IF(A26=\"\",\"\",③リレー情報確認!V8)","v":""},{"$f":"IF(A26=\"\",\"\",種目情報!$J$7)","v":""},{"$f":"IF(A26=\"\",\"\",③リレー情報確認!$X$8)","v":""},{"$f":"IF(A26=\"\",\"\",0)","v":""},{"$f":"IF(A26=\"\",\"\",種目情報!$K$7)","v":""}]
[{"$f":"IF(③リレー情報確認!U9=\"\",\"\",1620000+①団体情報入力!$D$3*10)","v":""},{"$f":"IF(A27=\"\",\"\",①団体情報入力!$D$3)","v":""},{"$f":"IF(A27=\"\",\"\",③リレー情報確認!$J$1)","v":""},{"$f":"IF(A27=\"\",\"\",③リレー情報確認!$P$1)","v":""},null,null,2,{"$f":"IF(A27=\"\",\"\",③リレー情報確認!W9)","v":""},{"$f":"IF(A27=\"\",\"\",③リレー情報確認!V9)","v":""},{"$f":"IF(A27=\"\",\"\",種目情報!$J$7)","v":""},{"$f":"IF(A27=\"\",\"\",③リレー情報確認!$X$8)","v":""},{"$f":"IF(A27=\"\",\"\",0)","v":""},{"$f":"IF(A27=\"\",\"\",種目情報!$K$7)","v":""}]
[{"$f":"IF(③リレー情報確認!U10=\"\",\"\",1620000+①団体情報入力!$D$3*10)","v":""},{"$f":"IF(A28=\"\",\"\",①団体情報入力!$D$3)","v":""},{"$f":"IF(A28=\"\",\"\",③リレー情報確認!$J$1)","v":""},{"$f":"IF(A28=\"\",\"\",③リレー情報確認!$P$1)","v":""},null,null,3,{"$f":"IF(A28=\"\",\"\",③リレー情報確認!W10)","v":""},{"$f":"IF(A28=\"\",\"\",③リレー情報確認!V10)","v":""},{"$f":"IF(A28=\"\",\"\",種目情報!$J$7)","v":""},{"$f":"IF(A28=\"\",\"\",③リレー情報確認!$X$8)","v":""},"",{"$f":"IF(A28=\"\",\"\",種目情報!$K$7)","v":""}]
[{"$f":"IF(③リレー情報確認!U11=\"\",\"\",1620000+①団体情報入力!$D$3*10)","v":""},{"$f":"IF(A29=\"\",\"\",①団体情報入力!$D$3)","v":""},{"$f":"IF(A29=\"\",\"\",③リレー情報確認!$J$1)","v":""},{"$f":"IF(A29=\"\",\"\",③リレー情報確認!$P$1)","v":""},null,null,4,{"$f":"IF(A29=\"\",\"\",③リレー情報確認!W11)","v":""},{"$f":"IF(A29=\"\",\"\",③リレー情報確認!V11)","v":""},{"$f":"IF(A29=\"\",\"\",種目情報!$J$7)","v":""},{"$f":"IF(A29=\"\",\"\",③リレー情報確認!$X$8)","v":""},"",{"$f":"IF(A29=\"\",\"\",種目情報!$K$7)","v":""}]
[{"$f":"IF(③リレー情報確認!U12=\"\",\"\",1620000+①団体情報入力!$D$3*10)","v":""},{"$f":"IF(A30=\"\",\"\",①団体情報入力!$D$3)","v":""},{"$f":"IF(A30=\"\",\"\",③リレー情報確認!$J$1)","v":""},{"$f":"IF(A30=\"\",\"\",③リレー情報確認!$P$1)","v":""},null,null,5,{"$f":"IF(A30=\"\",\"\",③リレー情報確認!W12)","v":""},{"$f":"IF(A30=\"\",\"\",③リレー情報確認!V12)","v":""},{"$f":"IF(A30=\"\",\"\",種目情報!$J$7)","v":""},{"$f":"IF(A30=\"\",\"\",③リレー情報確認!$X$8)","v":""},"",{"$f":"IF(A30=\"\",\"\",種目情報!$K$7)","v":""}]
[{"$f":"IF(③リレー情報確認!U13=\"\",\"\",1620000+①団体情報入力!$D$3*10)","v":""},{"$f":"IF(A31=\"\",\"\",①団体情報入力!$D$3)","v":""},{"$f":"IF(A31=\"\",\"\",③リレー情報確認!$J$1)","v":""},{"$f":"IF(A31=\"\",\"\",③リレー情報確認!$P$1)","v":""},null,null,6,{"$f":"IF(A31=\"\",\"\",③リレー情報確認!W13)","v":""},{"$f":"IF(A31=\"\",\"\",③リレー情報確認!V13)","v":""},{"$f":"IF(A31=\"\",\"\",種目情報!$J$7)","v":""},{"$f":"IF(A31=\"\",\"\",③リレー情報確認!$X$8)","v":""},"",{"$f":"IF(A31=\"\",\"\",種目情報!$K$7)","v":""}]
[{"$f":"IF(③リレー情報確認!U14=\"\",\"\",1620000+①団体情報入力!$D$3*10)","v":""},{"$f":"IF(A32=\"\",\"\",①団体情報入力!$D$3)","v":""},{"$f":"IF(A32=\"\",\"\",③リレー情報確認!$J$1)","v":""},{"$f":"IF(A32=\"\",\"\",③リレー情報確認!$P$1)","v":""},null,null,7,{"$f":"IF(A32=\"\",\"\",③リレー情報確認!W14)","v":""},{"$f":"IF(A32=\"\",\"\",③リレー情報確認!V14)","v":""},{"$f":"IF(A32=\"\",\"\",種目情報!$J$7)","v":""},{"$f":"IF(A32=\"\",\"\",③リレー情報確認!$X$8)","v":""},"",{"$f":"IF(A32=\"\",\"\",種目情報!$K$7)","v":""}]
[{"$f":"IF(③リレー情報確認!U15=\"\",\"\",1620000+①団体情報入力!$D$3*10)","v":""},{"$f":"IF(A33=\"\",\"\",①団体情報入力!$D$3)","v":""},{"$f":"IF(A33=\"\",\"\",③リレー情報確認!$J$1)","v":""},{"$f":"IF(A33=\"\",\"\",③リレー情報確認!$P$1)","v":""},null,null,8,{"$f":"IF(A33=\"\",\"\",③リレー情報確認!W15)","v":""},{"$f":"IF(A33=\"\",\"\",③リレー情報確認!V15)","v":""},{"$f":"IF(A33=\"\",\"\",種目情報!$J$7)","v":""},{"$f":"IF(A33=\"\",\"\",③リレー情報確認!$X$8)","v":""},"",{"$f":"IF(A33=\"\",\"\",種目情報!$K$7)","v":""}]