{"text_format":"1","workbook":"xlsx","n_sheets":13,"sheets":["注意事項","①団体情報入力","②選手情報入力","③リレー情報確認","④種目別人数","⑤申込一覧表","個人種目個票","リレー個票","混成個票","　　　　　","種目情報","data_kyogisha","data_team"],"not_rendered":{"charts":0,"images":1,"macros":1,"external_links":4,"defined_names":12,"comments":3,"pivot_tables":0},"unopened":[],"bounds":{"document_bytes":16777216,"sheet_cells":100000,"rows_first":2000,"rows_last":500,"rows_between":2000,"halvings":0,"cell_chars":16384,"cell_head_chars":4096},"cells_cut":0,"cells_raw":0,"read":"whole","date_system":"1900"}

{"sheet":"注意事項","index":0,"n_rows":77,"n_cols":13,"rows_kept":77,"cut":false,"hidden":false,"merged":[[3,5,3,7],[6,2,6,4],[6,6,6,7],[76,3,76,7],[0,0,0,13],[7,1,7,7],[4,2,4,7],[2,12,4,14],[8,1,8,2],[8,3,8,5],[2,2,2,10],[55,4,55,10],[68,2,70,11],[3,2,3,4]]}
["　★データ入力前にこのページの内容を必ずお読みください。"]
[]
[null,"大会名","愛知選手権混成･リレー･5000m･10000m",null,null,null,null,null,null,null,null,null,"一般用"]
[null,"期　日","2017-07-01",null,null,"2017-07-02",null,null,null,"Ver３"]
[null,"会　場","パロマ瑞穂スタジアム・パロマ瑞穂北陸上競技場"]
[]
[null,"申込期間","2017-05-31",null,null,"～","2017-06-08",null,"※メール送信を最優先してください。"]
[null,"※メール送信・書類郵送・振込を完了してください！"]
[]
["　＜注意事項等＞"]
["１ ","この大会は、資格審査があります。資格取得記録を入力してください。"]
[null,"シーズンベストが資格記録を上回る場合のみ、シーズンベストの欄に記録を記入してください。"]
[null,"シーズンベストが資格記録の場合には、シーズンベストの欄は未記入にしてください。"]
["２ ","混成種目は、種目１でのみ選択ができます。"]
["３ ","このファイルは申込人数40名まで入力できます。40名を超える場合は、ファイルを追加してください。"]
["４ ","大会要項（出場制限等）をよく読んで入力してください。"]
["５ ","ナンバー・氏名・種目等、入力間違いのないようにお願いします。"]
["６ ","コピーしたデータを貼り付ける場合は、「形式を選択して貼り付け」から「値」を選択して貼り付けてください。"]
["７ ","入力したデータを削除・修正する場合は、必ず「Delete」キーで処理してください。※行削除はしないでください！"]
["８ ","申込は、メール送信と書類提出の両方が必要になりますので、お忘れのないようにお願いします。"]
["９ ","このファイルの内容は、プログラム編成及び作成、記録処理、その他競技会運営の目的で使用します。"]
["１０","このファイルには、印刷ボタンにマクロを使用しています。エクセルの設定をマクロ有効にしてください。"]
["　★作業の流れは次のとおりです。"]
["　　①選手情報の入力",null,null,"４月末の登録データが入っていますので、ナンバーの入力で選手データが入りますが、新入生などに対応していない場合があります。"]
["↓","　・参加選手のナンバー、氏名、性別、学年、申込種目、記録を入力してください。"]
["↓","　　※入力は、男子を先に入力し、続けて女子を入力してください。"]
["↓","　　※氏名については、姓と名の間に全角スペースを１つ入れてください。"]
["↓","　　※ﾌﾘｶﾞﾅについては、姓と名の間に半角スペースを１つ入れてください。"]
["↓","　　※記録は、次のとおり入力してください。"]
["↓",null,"◎トラック種目・・・・分秒をドット「．」で区切り、100分の1秒まで入力"]
["↓",null,"例１",null,"54秒23","⇒",54.23]
["↓",null,"例２",null,"4分07秒00","⇒","4.07.00"]
["↓",null,null,"　 ※記録が１分未満で、10分の1以下が「00」"]
["↓",null,null,"　　 のときは整数で表示されます。"]
["↓",null,null,"例","12秒00","⇒",12]
["↓",null,"◎フィールド種目・・・メートルを「m」で区切り、cm単位まで入力（「cm」の文字は入れない）"]
["↓",null,"例３",null,"20m","⇒","20m00"]
["↓",null,"★記録がない場合は空欄にしてください。"]
["↓","　　※リレーに出場する選手は、リレー種目の欄へ「○」を入力してください。"]
["　　②団体情報の入力"]
["↓","　・選手情報入力はNoだけで必要事項が入力されます。"]
["↓","　・それ以外の場合は、必要事項を入力してください。"]
["　　③リレー情報の確認"]
["↓","　・リレーにエントリーをする選手のナンバーと、チームの記録を確認してください。"]
["↓","　　修正がある場合は、「②選手情報入力」で修正してください。"]
["　　④種目別人数の確認　⑤申込一覧表の確認"]
["↓","　・種目ごとの申込人数と申込金額を確認してください。"]
["↓","　・プログラム購入部数を入力後、合計金額を確認してください。"]
["↓","　・入力漏れや入力間違い等がないかを確認してください。"]
["　　⑥種目別人数表・申込一覧表・個人種目個票・リレー個票・混成個票の印刷"]
["↓","　・「④種目別人数表」にある、帳票印刷ボタンをクリックして種目別人数表・申込一覧表・個人種目個票等の印刷を行ってください。"]
["↓"]
["　　⑦ファイルの保存"]
["↓","　・ファイル名を団体名（例：○○○）に変更し保存してください。メールに添付するときは、ファイル名が団体名に"]
["↓","　　なっていることを確認してください。"]
["　　⑧メール送信",null,null,null,"申込みメールアドレス→　aichi.relay@gmail.com"]
["↓","　・入力したファイルを送信してください。"]
["↓","　・メールの件名に「大会名」と「団体名」を入力してください。"]
[null,"　・正しく送信されれば、受信した旨の返信が届きます。"]
["↓"]
["　　⑨参加料の振込"]
["↓","　・参加料を振り込み、明細書のコピーを「種目別人数一覧」の裏面に添付してください。"]
["　　⑨郵送"]
["↓"]
["↓","　・「④種目別一覧表」「⑤申込一覧表」「各種個票」を郵送してください。"]
["↓","　・「種目別人数一覧」の裏面には振込明細書のコピーを添付してください。"]
["↓"]
["↓",null,"送付先"]
["↓",null,"〒460-0012　名古屋市中区千代田２－19－16　千代田ビル７Ｆ\n         （財）愛知陸上競技協会　「愛知選手権リレー・5000m・10000m大会・県混成競技会」宛\n"]
["↓"]
["↓"]
["　　⑩申込完了"]
[]
[]
[null,"　★問い合わせ先"]
[]
[null,null,"mail：","toiawase.aichi@gmail.com"]

{"sheet":"①団体情報入力","index":1,"n_rows":9,"n_cols":7,"rows_kept":9,"cut":false,"hidden":false,"merged":[[8,1,8,2],[7,3,7,5],[2,3,2,5],[4,1,4,2],[3,3,3,5],[5,3,5,5],[6,3,6,5],[5,1,5,2],[6,1,6,2],[7,1,7,2],[2,1,2,2],[3,1,3,2],[4,3,4,5]]}
["①団体情報入力"]
[]
[null,"団体コード",null,null,null,null,"←入力不要です。"]
[null,"団体名",null,null,null,null,"←愛知県立･名古屋市立等を省いて入力してください。"]
[null,"略称団体名",null,null,null,null,"←入力(全角６文字以内です。\"高\"を入れて６文字以内です。)"]
[null,"略称ヨミガナ",null,null,null,null,"←略称の読みを半角カタカナで入力してください。"]
[null,"申込責任者",null,null,null,null,"←入力"]
[null,"連絡先電話番号",null,null,null,null,"←入力(ハイフンを入れる)　※緊急時に連絡がとれる番号"]
[null,"プログラム購入部数",null,null,"部"]

{"sheet":"②選手情報入力","index":2,"n_rows":53,"n_cols":45,"rows_kept":53,"cut":false,"hidden":false,"merged":[[2,13,2,14],[2,15,2,16],[1,13,1,16]]}
["②選手情報入力"]
["※必要事項を全て入力してください。",null,null,null,null,null,null,null,null,null,null,null,null,"リレー記録"]
["※シーズンベスト欄は、シーズンベストが資格記録を上回る場合にのみ記入してください。",null,null,null,null,null,null,null,null,null,null,null,null,"4X100mR",null,"4X400mR"]
["※リレー種目にエントリーをする場合は○を選択し、「③リレー情報確認」でメンバーを確認してください。",null,null,null,null,null,null,null,null,null,null,null,null,"資格記録","ｼｰｽﾞﾝﾍﾞｽﾄ","資格記録","ｼｰｽﾞﾝﾍﾞｽﾄ"]
["※コピーしたデータを貼り付ける場合は、「形式を選択して貼り付け」から「値」で貼り付けてください。",null,null,null,null,null,null,null,null,null,null,null,"男子"]
["※データを修正する場合は、必ず「Delete」キーを使用してください。",null,null,null,null,null,null,null,null,null,null,null,"女子"]
[]
[null,"ﾅﾝﾊﾞｰ1","ﾅﾝﾊﾞｰ2","氏　名\n姓と名の間に\n全角ｽﾍﾟｰｽ1つ","ﾌﾘｶﾞﾅ\n姓と名の間に\n半角ｽﾍﾟｰｽ1つ",null,"性別","学年","種目１","参加資格\n取得記録１","シーズン\nベスト１","種目２","参加資格\n取得記録２","シーズン\nベスト２",null,"4X100mR","4X400mR"]
["例","A",1001,"西三　太郎","ｾｲｻﾝ ﾀﾛｳ",null,"男",2,"男子10000m","28.12.53","27.35.00","男子5000m","13.45.67","13.30.00",null,"○","○",null,null,null,null,null,null,null,null,"ﾅﾝﾊﾞｰ","氏　名","ﾌﾘｶﾞﾅ","性別","学年","競技者NO","ﾅﾝﾊﾞｰ","氏　名","ﾌﾘｶﾞﾅ","性別","学年","競技者NO","男400R",{"$f":"COUNTIF(AM10:AM49,\"<>0\")","v":0},"男1600R",{"$f":"COUNTIF(AO10:AO49,\"<>0\")","v":0},"女400R",{"$f":"COUNTIF(AQ10:AQ49,\"<>0\")","v":0},"女1600R",{"$f":"COUNTIF(AS10:AS49,\"<>0\")","v":0}]
[1,null,null,null,null,null,null,null,null,null,null,null,null,null,null,null,null,null,null,null,null,null,null,null,null,{"$f":"IF(G10=\"男\",C10,\"\")","v":""},{"$f":"IF(G10=\"男\",D10,\"\")","v":""},{"$f":"IF(G10=\"男\",E10,\"\")","v":""},{"$f":"IF(G10=\"男\",G10,\"\")","v":""},{"$f":"IF(G10=\"男\",IF(H10=\"\",\"\",H10),\"\")","v":""},{"$f":"IF(G10=\"男\",data_kyogisha!A2,\"\")","v":""},{"$f":"IF(G10=\"女\",C10,\"\")","v":""},{"$f":"IF(G10=\"女\",D10,\"\")","v":""},{"$f":"IF(G10=\"女\",E10,\"\")","v":""},{"$f":"IF(G10=\"女\",G10,\"\")","v":""},{"$f":"IF(G10=\"女\",IF(H10=\"\",\"\",H10),\"\")","v":""},{"$f":"IF(G10=\"女\",data_kyogisha!A2,\"\")","v":""},{"$f":"IF(AND(G10=\"男\",P10=\"○\"),1,0)","v":0},{"$f":"IF(AND(G10=\"男\",P10=\"○\"),C10,0)","v":0},{"$f":"IF(AND(G10=\"男\",Q10=\"○\"),1,0)","v":0},{"$f":"IF(AND(G10=\"男\",Q10=\"○\"),C10,0)","v":0},{"$f":"IF(AND(G10=\"女\",P10=\"○\"),1,0)","v":0},{"$f":"IF(AND(G10=\"女\",P10=\"○\"),C10,0)","v":0},{"$f":"IF(AND(G10=\"女\",Q10=\"○\"),1,0)","v":0},{"$f":"IF(AND(G10=\"女\",Q10=\"○\"),C10,0)","v":0}]
[2,null,null,null,null,null,null,null,null,null,null,null,null,null,null,null,null,null,null,null,null,"男",{"$f":"IF(種目情報!A4=\"\",\"\",種目情報!A4)","v":"男子十種競技"},{"$f":"IF(種目情報!E4=\"\",\"\",種目情報!E4)","v":"女子七種競技"},"○",{"$f":"IF(G11=\"男\",C11,\"\")","v":""},"","","","",{"$f":"IF(G11=\"男\",data_kyogisha!A3,\"\")","v":""},{"$f":"IF(G11=\"女\",C11,\"\")","v":""},"","","","",{"$f":"IF(G11=\"女\",data_kyogisha!A3,\"\")","v":""},{"$f":"IF(AND(G11=\"男\",P11=\"○\"),AL10+1,AL10)","v":0},{"$f":"IF(AND(G11=\"男\",P11=\"○\"),C11,0)","v":0},{"$f":"IF(AND(G11=\"男\",Q11=\"○\"),AN10+1,AN10)","v":0},{"$f":"IF(AND(G11=\"男\",Q11=\"○\"),C11,0)","v":0},{"$f":"IF(AND(G11=\"女\",P11=\"○\"),AP10+1,AP10)","v":0},{"$f":"IF(AND(G11=\"女\",P11=\"○\"),C11,0)","v":0},{"$f":"IF(AND(G11=\"女\",Q11=\"○\"),AR10+1,AR10)","v":0},{"$f":"IF(AND(G11=\"女\",Q11=\"○\"),C11,0)","v":0}]
[3,null,null,null,null,null,null,null,null,null,null,null,null,null,null,null,null,null,null,null,null,"女",{"$f":"IF(種目情報!A5=\"\",\"\",種目情報!A5)","v":"男子5000m"},{"$f":"IF(種目情報!E5=\"\",\"\",種目情報!E5)","v":"女子5000m"},null,"","","","","",{"$f":"IF(G12=\"男\",data_kyogisha!A4,\"\")","v":""},"","","","","",{"$f":"IF(G12=\"女\",data_kyogisha!A4,\"\")","v":""},{"$f":"IF(AND(G12=\"男\",P12=\"○\"),AL11+1,AL11)","v":0},0,{"$f":"IF(AND(G12=\"男\",Q12=\"○\"),AN11+1,AN11)","v":0},0,{"$f":"IF(AND(G12=\"女\",P12=\"○\"),AP11+1,AP11)","v":0},0,{"$f":"IF(AND(G12=\"女\",Q12=\"○\"),AR11+1,AR11)","v":0},0]
[4,null,null,null,null,null,null,null,null,null,null,null,null,null,null,null,null,null,null,null,null,null,{"$f":"IF(種目情報!A6=\"\",\"\",種目情報!A6)","v":"男子10000m"},{"$f":"IF(種目情報!E6=\"\",\"\",種目情報!E6)","v":"女子10000m"},null,"","","","","",{"$f":"IF(G13=\"男\",data_kyogisha!A5,\"\")","v":""},"","","","","",{"$f":"IF(G13=\"女\",data_kyogisha!A5,\"\")","v":""},0,0,0,0,0,0,0,0]
[5,null,null,null,null,null,null,null,null,null,null,null,null,null,null,null,null,null,null,null,null,null,null,null,null,"","","","","",{"$f":"IF(G14=\"男\",data_kyogisha!A6,\"\")","v":""},"","","","","",{"$f":"IF(G14=\"女\",data_kyogisha!A6,\"\")","v":""},0,0,0,0,0,0,0,0]
[6,null,null,null,null,null,null,null,null,null,null,null,null,null,null,null,null,null,null,null,null,null,{"$f":"IF(種目情報!A8=\"\",\"\",種目情報!A8)","v":""},{"$f":"IF(種目情報!E8=\"\",\"\",種目情報!E8)","v":""},null,"","","","","",{"$f":"IF(G15=\"男\",data_kyogisha!A7,\"\")","v":""},"","","","","",{"$f":"IF(G15=\"女\",data_kyogisha!A7,\"\")","v":""},0,0,0,0,0,0,0,0]
[7,null,null,null,null,null,null,null,null,null,null,null,null,null,null,null,null,null,null,null,null,null,{"$f":"IF(種目情報!A9=\"\",\"\",種目情報!A9)","v":""},{"$f":"IF(種目情報!E9=\"\",\"\",種目情報!E9)","v":""},null,"","","","","",{"$f":"IF(G16=\"男\",data_kyogisha!A8,\"\")","v":""},"","","","","",{"$f":"IF(G16=\"女\",data_kyogisha!A8,\"\")","v":""},0,0,0,0,0,0,0,0]
[8,null,null,null,null,null,null,null,null,null,null,null,null,null,null,null,null,null,null,null,null,null,{"$f":"IF(種目情報!A10=\"\",\"\",種目情報!A10)","v":""},{"$f":"IF(種目情報!E10=\"\",\"\",種目情報!E10)","v":""},null,"","","","","",{"$f":"IF(G17=\"男\",data_kyogisha!A9,\"\")","v":""},"","","","","",{"$f":"IF(G17=\"女\",data_kyogisha!A9,\"\")","v":""},0,0,0,0,0,0,0,0]
[9,null,null,null,null,null,null,null,null,null,null,null,null,null,null,null,null,null,null,null,null,null,{"$f":"IF(種目情報!A11=\"\",\"\",種目情報!A11)","v":""},{"$f":"IF(種目情報!E11=\"\",\"\",種目情報!E11)","v":""},null,"","","","","",{"$f":"IF(G18=\"男\",data_kyogisha!A10,\"\")","v":""},"","","","","",{"$f":"IF(G18=\"女\",data_kyogisha!A10,\"\")","v":""},0,0,0,0,0,0,0,0]
[10,null,null,null,null,null,null,null,null,null,null,null,null,null,null,null,null,null,null,null,null,null,{"$f":"IF(種目情報!A12=\"\",\"\",種目情報!A12)","v":""},{"$f":"IF(種目情報!E12=\"\",\"\",種目情報!E12)","v":""},null,"","","","","",{"$f":"IF(G19=\"男\",data_kyogisha!A11,\"\")","v":""},"","","","","",{"$f":"IF(G19=\"女\",data_kyogisha!A11,\"\")","v":""},0,0,0,0,0,0,0,0]
[11,null,null,null,null,null,null,null,null,null,null,null,null,null,null,null,null,null,null,null,null,null,null,null,null,"","","","","",{"$f":"IF(G20=\"男\",data_kyogisha!A12,\"\")","v":""},"","","","","",{"$f":"IF(G20=\"女\",data_kyogisha!A12,\"\")","v":""},0,0,0,0,{"$f":"IF(AND(G20=\"女\",P20=\"○\"),AP19+1,AP19)","v":0},0,0,0]
[12,null,null,null,null,null,null,null,null,null,null,null,null,null,null,null,null,null,null,null,null,null,null,{"$f":"IF(種目情報!E14=\"\",\"\",種目情報!E14)","v":""},null,"","","","","",{"$f":"IF(G21=\"男\",data_kyogisha!A13,\"\")","v":""},"","","","","",{"$f":"IF(G21=\"女\",data_kyogisha!A13,\"\")","v":""},0,0,0,0,0,0,0,0]
[13,null,null,null,null,null,null,null,null,null,null,null,null,null,null,null,null,null,null,null,null,null,null,null,null,"","","","","",{"$f":"IF(G22=\"男\",data_kyogisha!A14,\"\")","v":""},"","","","","",{"$f":"IF(G22=\"女\",data_kyogisha!A14,\"\")","v":""},0,0,0,0,0,0,0,0]
[14,null,null,null,null,null,null,null,null,null,null,null,null,null,null,null,null,null,null,null,null,null,null,null,null,"","","","","",{"$f":"IF(G23=\"男\",data_kyogisha!A15,\"\")","v":""},"","","","","",{"$f":"IF(G23=\"女\",data_kyogisha!A15,\"\")","v":""},0,0,0,0,0,0,0,0]
[15,null,null,null,null,null,null,null,null,null,null,null,null,null,null,null,null,null,null,null,null,null,null,null,null,"","","","","",{"$f":"IF(G24=\"男\",data_kyogisha!A16,\"\")","v":""},"","","","","",{"$f":"IF(G24=\"女\",data_kyogisha!A16,\"\")","v":""},0,0,0,0,0,0,0,0]
[16,null,null,null,null,null,null,null,null,null,null,null,null,null,null,null,null,null,null,null,null,null,null,null,null,"","","","","",{"$f":"IF(G25=\"男\",data_kyogisha!A17,\"\")","v":""},"","","","","",{"$f":"IF(G25=\"女\",data_kyogisha!A17,\"\")","v":""},0,0,0,0,0,0,0,0]
[17,null,null,null,null,null,null,null,null,null,null,null,null,null,null,null,null,null,null,null,null,null,null,null,null,"","","","","",{"$f":"IF(G26=\"男\",data_kyogisha!A18,\"\")","v":""},"","","","","",{"$f":"IF(G26=\"女\",data_kyogisha!A18,\"\")","v":""},0,0,0,0,0,0,0,0]
[18,null,null,null,null,null,null,null,null,null,null,null,null,null,null,null,null,null,null,null,null,null,null,null,null,"","","","","",{"$f":"IF(G27=\"男\",data_kyogisha!A19,\"\")","v":""},"","","","","",{"$f":"IF(G27=\"女\",data_kyogisha!A19,\"\")","v":""},0,0,0,0,0,0,0,0]
[19,null,null,null,null,null,null,null,null,null,null,null,null,null,null,null,null,null,null,null,null,null,null,null,null,"","","","","",{"$f":"IF(G28=\"男\",data_kyogisha!A20,\"\")","v":""},"","","","","",{"$f":"IF(G28=\"女\",data_kyogisha!A20,\"\")","v":""},0,0,0,0,0,0,0,0]
[20,null,null,null,null,null,null,null,null,null,null,null,null,null,null,null,null,null,null,null,null,null,null,null,null,"","","","","",{"$f":"IF(G29=\"男\",data_kyogisha!A21,\"\")","v":""},"","","","","",{"$f":"IF(G29=\"女\",data_kyogisha!A21,\"\")","v":""},0,0,0,0,0,0,0,0]
[21,null,null,null,null,null,null,null,null,null,null,null,null,null,null,null,null,null,null,null,null,null,null,null,null,"","","","","",{"$f":"IF(G30=\"男\",data_kyogisha!A22,\"\")","v":""},"","","","","",{"$f":"IF(G30=\"女\",data_kyogisha!A22,\"\")","v":""},0,0,0,0,0,0,0,0]
[22,null,null,null,null,null,null,null,null,null,null,null,null,null,null,null,null,null,null,null,null,null,null,null,null,"","","","","",{"$f":"IF(G31=\"男\",data_kyogisha!A23,\"\")","v":""},"","","","","",{"$f":"IF(G31=\"女\",data_kyogisha!A23,\"\")","v":""},0,0,0,0,0,0,0,0]
[23,null,null,null,null,null,null,null,null,null,null,null,null,null,null,null,null,null,null,null,null,null,null,null,null,"","","","","",{"$f":"IF(G32=\"男\",data_kyogisha!A24,\"\")","v":""},"","","","","",{"$f":"IF(G32=\"女\",data_kyogisha!A24,\"\")","v":""},0,0,0,0,0,0,0,0]
[24,null,null,null,null,null,null,null,null,null,null,null,null,null,null,null,null,null,null,null,null,null,null,null,null,"","","","","",{"$f":"IF(G33=\"男\",data_kyogisha!A25,\"\")","v":""},"","","","","",{"$f":"IF(G33=\"女\",data_kyogisha!A25,\"\")","v":""},0,0,0,0,0,0,0,0]
[25,null,null,null,null,null,null,null,null,null,null,null,null,null,null,null,null,null,null,null,null,null,null,null,null,"","","","","",{"$f":"IF(G34=\"男\",data_kyogisha!A26,\"\")","v":""},"","","","","",{"$f":"IF(G34=\"女\",data_kyogisha!A26,\"\")","v":""},0,0,0,0,0,0,0,0]
[26,null,null,null,null,null,null,null,null,null,null,null,null,null,null,null,null,null,null,null,null,null,null,null,null,"","","","","",{"$f":"IF(G35=\"男\",data_kyogisha!A27,\"\")","v":""},"","","","","",{"$f":"IF(G35=\"女\",data_kyogisha!A27,\"\")","v":""},0,0,0,0,0,0,0,0]
[27,null,null,null,null,null,null,null,null,null,null,null,null,null,null,null,null,null,null,null,null,null,null,null,null,"","","","","",{"$f":"IF(G36=\"男\",data_kyogisha!A28,\"\")","v":""},"","","","","",{"$f":"IF(G36=\"女\",data_kyogisha!A28,\"\")","v":""},0,0,0,0,0,0,0,0]
[28,null,null,null,null,null,null,null,null,null,null,null,null,null,null,null,null,null,null,null,null,null,null,null,null,"","","","","",{"$f":"IF(G37=\"男\",data_kyogisha!A29,\"\")","v":""},"","","","","",{"$f":"IF(G37=\"女\",data_kyogisha!A29,\"\")","v":""},0,0,0,0,0,0,0,0]
[29,null,null,null,null,null,null,null,null,null,null,null,null,null,null,null,null,null,null,null,null,null,null,null,null,"","","","","",{"$f":"IF(G38=\"男\",data_kyogisha!A30,\"\")","v":""},"","","","","",{"$f":"IF(G38=\"女\",data_kyogisha!A30,\"\")","v":""},0,0,0,0,0,0,0,0]
[30,null,null,null,null,null,null,null,null,null,null,null,null,null,null,null,null,null,null,null,null,null,null,null,null,"","","","","",{"$f":"IF(G39=\"男\",data_kyogisha!A31,\"\")","v":""},"","","","","",{"$f":"IF(G39=\"女\",data_kyogisha!A31,\"\")","v":""},0,0,0,0,0,0,0,0]
[31,null,null,null,null,null,null,null,null,null,null,null,null,null,null,null,null,null,null,null,null,null,null,null,null,"","","","","",{"$f":"IF(G40=\"男\",data_kyogisha!A32,\"\")","v":""},"","","","","",{"$f":"IF(G40=\"女\",data_kyogisha!A32,\"\")","v":""},0,0,0,0,0,0,0,0]
[32,null,null,null,null,null,null,null,null,null,null,null,null,null,null,null,null,null,null,null,null,null,null,null,null,"","","","","",{"$f":"IF(G41=\"男\",data_kyogisha!A33,\"\")","v":""},"","","","","",{"$f":"IF(G41=\"女\",data_kyogisha!A33,\"\")","v":""},0,0,0,0,0,0,0,0]
[33,null,null,null,null,null,null,null,null,null,null,null,null,null,null,null,null,null,null,null,null,null,null,null,null,"",{"$f":"IF(G42=\"男\",D42,\"\")","v":""},{"$f":"IF(G42=\"男\",E42,\"\")","v":""},{"$f":"IF(G42=\"男\",G42,\"\")","v":""},{"$f":"IF(G42=\"男\",IF(H42=\"\",\"\",H42),\"\")","v":""},{"$f":"IF(G42=\"男\",data_kyogisha!A34,\"\")","v":""},"",{"$f":"IF(G42=\"女\",D42,\"\")","v":""},{"$f":"IF(G42=\"女\",E42,\"\")","v":""},{"$f":"IF(G42=\"女\",G42,\"\")","v":""},{"$f":"IF(G42=\"女\",IF(H42=\"\",\"\",H42),\"\")","v":""},{"$f":"IF(G42=\"女\",data_kyogisha!A34,\"\")","v":""},0,0,0,0,0,0,0,0]
[34,null,null,null,null,null,null,null,null,null,null,null,null,null,null,null,null,null,null,null,null,null,null,null,null,"","","","","",{"$f":"IF(G43=\"男\",data_kyogisha!A35,\"\")","v":""},"","","","","",{"$f":"IF(G43=\"女\",data_kyogisha!A35,\"\")","v":""},0,0,0,0,0,0,0,0]
[35,null,null,null,null,null,null,null,null,null,null,null,null,null,null,null,null,null,null,null,null,null,null,null,null,"","","","","",{"$f":"IF(G44=\"男\",data_kyogisha!A36,\"\")","v":""},"","","","","",{"$f":"IF(G44=\"女\",data_kyogisha!A36,\"\")","v":""},0,0,0,0,0,0,0,0]
[36,null,null,null,null,null,null,null,null,null,null,null,null,null,null,null,null,null,null,null,null,null,null,null,null,"","","","","",{"$f":"IF(G45=\"男\",data_kyogisha!A37,\"\")","v":""},"","","","","",{"$f":"IF(G45=\"女\",data_kyogisha!A37,\"\")","v":""},0,0,0,0,0,0,0,0]
[37,null,null,null,null,null,null,null,null,null,null,null,null,null,null,null,null,null,null,null,null,null,null,null,null,"","","","","",{"$f":"IF(G46=\"男\",data_kyogisha!A38,\"\")","v":""},"","","","","",{"$f":"IF(G46=\"女\",data_kyogisha!A38,\"\")","v":""},0,0,0,0,0,0,0,0]
[38,null,null,null,null,null,null,null,null,null,null,null,null,null,null,null,null,null,null,null,null,null,null,null,null,"","","","","",{"$f":"IF(G47=\"男\",data_kyogisha!A39,\"\")","v":""},"","","","","",{"$f":"IF(G47=\"女\",data_kyogisha!A39,\"\")","v":""},0,0,0,0,0,0,0,0]
[39,null,null,null,null,null,null,null,null,null,null,null,null,null,null,null,null,null,null,null,null,null,null,null,null,"","","","","",{"$f":"IF(G48=\"男\",data_kyogisha!A40,\"\")","v":""},"","","","","",{"$f":"IF(G48=\"女\",data_kyogisha!A40,\"\")","v":""},0,0,0,0,0,0,0,0]
[40,null,null,null,null,null,null,null,null,null,null,null,null,null,null,null,null,null,null,null,null,null,null,null,null,"","","","","",{"$f":"IF(G49=\"男\",data_kyogisha!A41,\"\")","v":""},"","","","","",{"$f":"IF(G49=\"女\",data_kyogisha!A41,\"\")","v":""},0,0,0,0,0,0,0,0]
[null,null,null,null,null,"種目計",{"$f":"SUM(I50:M50)","v":0},null,{"$f":"COUNTA(I10:I49)","v":0},null,null,{"$f":"COUNTA(L10:L49)","v":0}]
[null,null,null,null,null,"リレー計",{"$f":"③リレー情報確認!F16+③リレー情報確認!L16+③リレー情報確認!R16+③リレー情報確認!X16","v":0}]
[null,null,null,null,null,"男",{"$f":"COUNTIF(G10:G49,\"男\")","v":0}]
[null,null,null,null,null,"女",{"$f":"COUNTIF(G10:G49,\"女\")","v":0}]

{"sheet":"③リレー情報確認","index":3,"n_rows":16,"n_cols":24,"rows_kept":16,"cut":false,"hidden":false,"merged":[[0,9,0,11],[7,17,14,17],[7,5,14,5],[5,1,5,5],[7,23,14,23],[5,13,5,17],[5,19,5,23],[5,7,5,11],[7,11,14,11],[0,15,0,17]]}
["③リレー情報確認",null,null,null,null,null,null,null,"チーム名 ",{"$f":"IF(①団体情報入力!D5=\"\",\"\",①団体情報入力!D5)","v":""},null,null,null,null,"ｶﾅ",{"$f":"IF(①団体情報入力!D6=\"\",\"\",①団体情報入力!D6)","v":""}]
[]
[null,null,"※リレーにエントリーをする選手とチームの記録を確認してください。"]
[null,null,"※修正をする場合は「②選手情報入力」で修正してください。"]
[]
[null,"男4X100mR",null,null,null,null,null,"男4X400mR",null,null,null,null,null,"女4X100mR",null,null,null,null,null,"女4X400mR"]
[null,"Ord","ﾅﾝﾊﾞｰ","氏　名","競技者NO","記録",null,"Ord","ﾅﾝﾊﾞｰ","氏　名","競技者NO","記録",null,"Ord","ﾅﾝﾊﾞｰ","氏　名","競技者NO","記録",null,"Ord","ﾅﾝﾊﾞｰ","氏　名","競技者NO","記録"]
[null,1,{"$f":"IF(②選手情報入力!$AM$9<1,\"\",VLOOKUP(B8,②選手情報入力!$AL$10:$AM$49,2,FALSE))","v":""},{"$f":"IF(C8=\"\",\"\",VLOOKUP(C8,②選手情報入力!$Z$10:$AA$49,2,FALSE))","v":""},{"$f":"IF(C8=\"\",\"\",VLOOKUP(C8,②選手情報入力!$Z$10:$AF$49,6,FALSE))","v":""},{"$f":"IF(②選手情報入力!N5=\"\",\"\",IF(②選手情報入力!N5<②選手情報入力!O5,②選手情報入力!N5,②選手情報入力!O5))","v":""},null,1,{"$f":"IF(②選手情報入力!$AO$9<1,\"\",VLOOKUP(H8,②選手情報入力!$AN$10:$AO$49,2,FALSE))","v":""},{"$f":"IF(I8=\"\",\"\",VLOOKUP(I8,②選手情報入力!$Z$10:$AA$49,2,FALSE))","v":""},{"$f":"IF(I8=\"\",\"\",VLOOKUP(I8,②選手情報入力!$Z$10:$AF$49,6,FALSE))","v":""},{"$f":"IF(②選手情報入力!P5=\"\",\"\",IF(②選手情報入力!P5>②選手情報入力!Q5,②選手情報入力!Q5,②選手情報入力!P5))","v":""},null,1,{"$f":"IF(②選手情報入力!$AQ$9<1,\"\",VLOOKUP(N8,②選手情報入力!$AP$10:$AQ$49,2,FALSE))","v":""},{"$f":"IF(O8=\"\",\"\",VLOOKUP(O8,②選手情報入力!$AF$10:$AG$49,2,FALSE))","v":""},{"$f":"IF(O8=\"\",\"\",VLOOKUP(O8,②選手情報入力!$AF$10:$AM$49,6,FALSE))","v":""},{"$f":"IF(②選手情報入力!N6=\"\",\"\",IF(②選手情報入力!N6>②選手情報入力!O6,②選手情報入力!O6,②選手情報入力!N6))","v":""},null,1,{"$f":"IF(②選手情報入力!$AS$9<1,\"\",VLOOKUP(T8,②選手情報入力!$AR$10:$AS$49,2,FALSE))","v":""},{"$f":"IF(U8=\"\",\"\",VLOOKUP(U8,②選手情報入力!$AF$10:$AG$49,2,FALSE))","v":""},{"$f":"IF(U8=\"\",\"\",VLOOKUP(U8,②選手情報入力!$AF$10:$AM$49,6,FALSE))","v":""},{"$f":"IF(②選手情報入力!P6=\"\",\"\",IF(②選手情報入力!P6>②選手情報入力!Q6,②選手情報入力!Q6,②選手情報入力!P6))","v":""}]
[null,2,{"$f":"IF(②選手情報入力!$AM$9<1,\"\",VLOOKUP(B9,②選手情報入力!$AL$10:$AM$49,2,FALSE))","v":""},{"$f":"IF(C9=\"\",\"\",VLOOKUP(C9,②選手情報入力!$Z$10:$AA$49,2,FALSE))","v":""},{"$f":"IF(C9=\"\",\"\",VLOOKUP(C9,②選手情報入力!$Z$10:$AF$49,6,FALSE))","v":""},null,null,2,{"$f":"IF(②選手情報入力!$AO$9<1,\"\",VLOOKUP(H9,②選手情報入力!$AN$10:$AO$49,2,FALSE))","v":""},{"$f":"IF(I9=\"\",\"\",VLOOKUP(I9,②選手情報入力!$Z$10:$AA$49,2,FALSE))","v":""},{"$f":"IF(I9=\"\",\"\",VLOOKUP(I9,②選手情報入力!$Z$10:$AF$49,6,FALSE))","v":""},null,null,2,{"$f":"IF(②選手情報入力!$AQ$9<1,\"\",VLOOKUP(N9,②選手情報入力!$AP$10:$AQ$49,2,FALSE))","v":""},{"$f":"IF(O9=\"\",\"\",VLOOKUP(O9,②選手情報入力!$AF$10:$AG$49,2,FALSE))","v":""},{"$f":"IF(O9=\"\",\"\",VLOOKUP(O9,②選手情報入力!$AF$10:$AM$49,6,FALSE))","v":""},null,null,2,{"$f":"IF(②選手情報入力!$AS$9<1,\"\",VLOOKUP(T9,②選手情報入力!$AR$10:$AS$49,2,FALSE))","v":""},{"$f":"IF(U9=\"\",\"\",VLOOKUP(U9,②選手情報入力!$AF$10:$AG$49,2,FALSE))","v":""},{"$f":"IF(U9=\"\",\"\",VLOOKUP(U9,②選手情報入力!$AF$10:$AM$49,6,FALSE))","v":""}]
[null,3,{"$f":"IF(②選手情報入力!$AM$9<1,\"\",VLOOKUP(B10,②選手情報入力!$AL$10:$AM$49,2,FALSE))","v":""},{"$f":"IF(C10=\"\",\"\",VLOOKUP(C10,②選手情報入力!$Z$10:$AA$49,2,FALSE))","v":""},{"$f":"IF(C10=\"\",\"\",VLOOKUP(C10,②選手情報入力!$Z$10:$AF$49,6,FALSE))","v":""},null,null,3,{"$f":"IF(②選手情報入力!$AO$9<1,\"\",VLOOKUP(H10,②選手情報入力!$AN$10:$AO$49,2,FALSE))","v":""},{"$f":"IF(I10=\"\",\"\",VLOOKUP(I10,②選手情報入力!$Z$10:$AA$49,2,FALSE))","v":""},{"$f":"IF(I10=\"\",\"\",VLOOKUP(I10,②選手情報入力!$Z$10:$AF$49,6,FALSE))","v":""},null,null,3,{"$f":"IF(②選手情報入力!$AQ$9<1,\"\",VLOOKUP(N10,②選手情報入力!$AP$10:$AQ$49,2,FALSE))","v":""},{"$f":"IF(O10=\"\",\"\",VLOOKUP(O10,②選手情報入力!$AF$10:$AG$49,2,FALSE))","v":""},{"$f":"IF(O10=\"\",\"\",VLOOKUP(O10,②選手情報入力!$AF$10:$AM$49,6,FALSE))","v":""},null,null,3,{"$f":"IF(②選手情報入力!$AS$9<1,\"\",VLOOKUP(T10,②選手情報入力!$AR$10:$AS$49,2,FALSE))","v":""},{"$f":"IF(U10=\"\",\"\",VLOOKUP(U10,②選手情報入力!$AF$10:$AG$49,2,FALSE))","v":""},{"$f":"IF(U10=\"\",\"\",VLOOKUP(U10,②選手情報入力!$AF$10:$AM$49,6,FALSE))","v":""}]
[null,4,{"$f":"IF(②選手情報入力!$AM$9<1,\"\",VLOOKUP(B11,②選手情報入力!$AL$10:$AM$49,2,FALSE))","v":""},{"$f":"IF(C11=\"\",\"\",VLOOKUP(C11,②選手情報入力!$Z$10:$AA$49,2,FALSE))","v":""},{"$f":"IF(C11=\"\",\"\",VLOOKUP(C11,②選手情報入力!$Z$10:$AF$49,6,FALSE))","v":""},null,null,4,{"$f":"IF(②選手情報入力!$AO$9<1,\"\",VLOOKUP(H11,②選手情報入力!$AN$10:$AO$49,2,FALSE))","v":""},{"$f":"IF(I11=\"\",\"\",VLOOKUP(I11,②選手情報入力!$Z$10:$AA$49,2,FALSE))","v":""},{"$f":"IF(I11=\"\",\"\",VLOOKUP(I11,②選手情報入力!$Z$10:$AF$49,6,FALSE))","v":""},null,null,4,{"$f":"IF(②選手情報入力!$AQ$9<1,\"\",VLOOKUP(N11,②選手情報入力!$AP$10:$AQ$49,2,FALSE))","v":""},{"$f":"IF(O11=\"\",\"\",VLOOKUP(O11,②選手情報入力!$AF$10:$AG$49,2,FALSE))","v":""},{"$f":"IF(O11=\"\",\"\",VLOOKUP(O11,②選手情報入力!$AF$10:$AM$49,6,FALSE))","v":""},null,null,4,{"$f":"IF(②選手情報入力!$AS$9<1,\"\",VLOOKUP(T11,②選手情報入力!$AR$10:$AS$49,2,FALSE))","v":""},{"$f":"IF(U11=\"\",\"\",VLOOKUP(U11,②選手情報入力!$AF$10:$AG$49,2,FALSE))","v":""},{"$f":"IF(U11=\"\",\"\",VLOOKUP(U11,②選手情報入力!$AF$10:$AM$49,6,FALSE))","v":""}]
[null,5,{"$f":"IF(②選手情報入力!$AM$9<1,\"\",VLOOKUP(B12,②選手情報入力!$AL$10:$AM$49,2,FALSE))","v":""},{"$f":"IF(C12=\"\",\"\",VLOOKUP(C12,②選手情報入力!$Z$10:$AA$49,2,FALSE))","v":""},{"$f":"IF(C12=\"\",\"\",VLOOKUP(C12,②選手情報入力!$Z$10:$AF$49,6,FALSE))","v":""},null,null,5,{"$f":"IF(②選手情報入力!$AO$9<1,\"\",VLOOKUP(H12,②選手情報入力!$AN$10:$AO$49,2,FALSE))","v":""},{"$f":"IF(I12=\"\",\"\",VLOOKUP(I12,②選手情報入力!$Z$10:$AA$49,2,FALSE))","v":""},{"$f":"IF(I12=\"\",\"\",VLOOKUP(I12,②選手情報入力!$Z$10:$AF$49,6,FALSE))","v":""},null,null,5,{"$f":"IF(②選手情報入力!$AQ$9<1,\"\",VLOOKUP(N12,②選手情報入力!$AP$10:$AQ$49,2,FALSE))","v":""},{"$f":"IF(O12=\"\",\"\",VLOOKUP(O12,②選手情報入力!$AF$10:$AG$49,2,FALSE))","v":""},{"$f":"IF(O12=\"\",\"\",VLOOKUP(O12,②選手情報入力!$AF$10:$AM$49,6,FALSE))","v":""},null,null,5,{"$f":"IF(②選手情報入力!$AS$9<1,\"\",VLOOKUP(T12,②選手情報入力!$AR$10:$AS$49,2,FALSE))","v":""},{"$f":"IF(U12=\"\",\"\",VLOOKUP(U12,②選手情報入力!$AF$10:$AG$49,2,FALSE))","v":""},{"$f":"IF(U12=\"\",\"\",VLOOKUP(U12,②選手情報入力!$AF$10:$AM$49,6,FALSE))","v":""}]
[null,6,{"$f":"IF(②選手情報入力!$AM$9<1,\"\",VLOOKUP(B13,②選手情報入力!$AL$10:$AM$49,2,FALSE))","v":""},{"$f":"IF(C13=\"\",\"\",VLOOKUP(C13,②選手情報入力!$Z$10:$AA$49,2,FALSE))","v":""},{"$f":"IF(C13=\"\",\"\",VLOOKUP(C13,②選手情報入力!$Z$10:$AF$49,6,FALSE))","v":""},null,null,6,{"$f":"IF(②選手情報入力!$AO$9<1,\"\",VLOOKUP(H13,②選手情報入力!$AN$10:$AO$49,2,FALSE))","v":""},{"$f":"IF(I13=\"\",\"\",VLOOKUP(I13,②選手情報入力!$Z$10:$AA$49,2,FALSE))","v":""},{"$f":"IF(I13=\"\",\"\",VLOOKUP(I13,②選手情報入力!$Z$10:$AF$49,6,FALSE))","v":""},null,null,6,{"$f":"IF(②選手情報入力!$AQ$9<1,\"\",VLOOKUP(N13,②選手情報入力!$AP$10:$AQ$49,2,FALSE))","v":""},{"$f":"IF(O13=\"\",\"\",VLOOKUP(O13,②選手情報入力!$AF$10:$AG$49,2,FALSE))","v":""},{"$f":"IF(O13=\"\",\"\",VLOOKUP(O13,②選手情報入力!$AF$10:$AM$49,6,FALSE))","v":""},null,null,6,{"$f":"IF(②選手情報入力!$AS$9<1,\"\",VLOOKUP(T13,②選手情報入力!$AR$10:$AS$49,2,FALSE))","v":""},{"$f":"IF(U13=\"\",\"\",VLOOKUP(U13,②選手情報入力!$AF$10:$AG$49,2,FALSE))","v":""},{"$f":"IF(U13=\"\",\"\",VLOOKUP(U13,②選手情報入力!$AF$10:$AM$49,6,FALSE))","v":""}]
[null,7,{"$f":"IF(②選手情報入力!$AM$9<1,\"\",VLOOKUP(B14,②選手情報入力!$AL$10:$AM$49,2,FALSE))","v":""},{"$f":"IF(C14=\"\",\"\",VLOOKUP(C14,②選手情報入力!$Z$10:$AA$49,2,FALSE))","v":""},{"$f":"IF(C14=\"\",\"\",VLOOKUP(C14,②選手情報入力!$Z$10:$AF$49,6,FALSE))","v":""},null,null,7,{"$f":"IF(②選手情報入力!$AO$9<1,\"\",VLOOKUP(H14,②選手情報入力!$AN$10:$AO$49,2,FALSE))","v":""},{"$f":"IF(I14=\"\",\"\",VLOOKUP(I14,②選手情報入力!$Z$10:$AA$49,2,FALSE))","v":""},{"$f":"IF(I14=\"\",\"\",VLOOKUP(I14,②選手情報入力!$Z$10:$AF$49,6,FALSE))","v":""},null,null,7,{"$f":"IF(②選手情報入力!$AQ$9<1,\"\",VLOOKUP(N14,②選手情報入力!$AP$10:$AQ$49,2,FALSE))","v":""},{"$f":"IF(O14=\"\",\"\",VLOOKUP(O14,②選手情報入力!$AF$10:$AG$49,2,FALSE))","v":""},{"$f":"IF(O14=\"\",\"\",VLOOKUP(O14,②選手情報入力!$AF$10:$AM$49,6,FALSE))","v":""},null,null,7,{"$f":"IF(②選手情報入力!$AS$9<1,\"\",VLOOKUP(T14,②選手情報入力!$AR$10:$AS$49,2,FALSE))","v":""},{"$f":"IF(U14=\"\",\"\",VLOOKUP(U14,②選手情報入力!$AF$10:$AG$49,2,FALSE))","v":""},{"$f":"IF(U14=\"\",\"\",VLOOKUP(U14,②選手情報入力!$AF$10:$AM$49,6,FALSE))","v":""}]
[null,8,{"$f":"IF(②選手情報入力!$AM$9<1,\"\",VLOOKUP(B15,②選手情報入力!$AL$10:$AM$49,2,FALSE))","v":""},{"$f":"IF(C15=\"\",\"\",VLOOKUP(C15,②選手情報入力!$Z$10:$AA$49,2,FALSE))","v":""},{"$f":"IF(C15=\"\",\"\",VLOOKUP(C15,②選手情報入力!$Z$10:$AF$49,6,FALSE))","v":""},null,null,8,{"$f":"IF(②選手情報入力!$AO$9<1,\"\",VLOOKUP(H15,②選手情報入力!$AN$10:$AO$49,2,FALSE))","v":""},{"$f":"IF(I15=\"\",\"\",VLOOKUP(I15,②選手情報入力!$Z$10:$AA$49,2,FALSE))","v":""},{"$f":"IF(I15=\"\",\"\",VLOOKUP(I15,②選手情報入力!$Z$10:$AF$49,6,FALSE))","v":""},null,null,8,{"$f":"IF(②選手情報入力!$AQ$9<1,\"\",VLOOKUP(N15,②選手情報入力!$AP$10:$AQ$49,2,FALSE))","v":""},{"$f":"IF(O15=\"\",\"\",VLOOKUP(O15,②選手情報入力!$AF$10:$AG$49,2,FALSE))","v":""},{"$f":"IF(O15=\"\",\"\",VLOOKUP(O15,②選手情報入力!$AF$10:$AM$49,6,FALSE))","v":""},null,null,8,{"$f":"IF(②選手情報入力!$AS$9<1,\"\",VLOOKUP(T15,②選手情報入力!$AR$10:$AS$49,2,FALSE))","v":""},{"$f":"IF(U15=\"\",\"\",VLOOKUP(U15,②選手情報入力!$AF$10:$AG$49,2,FALSE))","v":""},{"$f":"IF(U15=\"\",\"\",VLOOKUP(U15,②選手情報入力!$AF$10:$AM$49,6,FALSE))","v":""}]
[null,null,null,"申込チーム数",null,{"$f":"IF(②選手情報入力!AM9>=4,1,0)","v":0},null,null,null,"申込チーム数",null,{"$f":"IF(②選手情報入力!AO9>=4,1,0)","v":0},null,null,null,"申込チーム数",null,{"$f":"IF(②選手情報入力!AQ9>=4,1,0)","v":0},null,null,null,"申込チーム数",null,{"$f":"IF(②選手情報入力!AS9>=4,1,0)","v":0}]

{"sheet":"④種目別人数","index":4,"n_rows":28,"n_cols":14,"rows_kept":28,"cut":false,"hidden":false,"merged":[[7,2,7,3],[8,2,8,3],[9,2,9,3],[10,2,10,3],[1,0,1,7],[3,0,3,7],[6,1,6,2],[6,5,6,6],[2,0,2,4],[5,3,5,6],[4,2,4,5],[25,1,25,2],[21,2,21,3],[23,2,23,3],[12,2,12,3],[11,2,11,3],[22,2,22,3],[14,2,14,3],[15,2,15,3],[16,2,16,3],[18,2,18,3],[17,2,17,3]]}
["④種目別人数一覧表",null,"※種目数・参加料等を確認してから印刷をしてください。"]
["　　　帳票印刷ボタンをクリックして印刷を行ってください。↓　　"]
[{"$f":"注意事項!C3","v":"愛知選手権混成･リレー･5000m･10000m"},null,null,null,null,null,{"$f":"IF(①団体情報入力!D3=\"\",\"\",①団体情報入力!D3)","v":""}]
["種目別申込人数一覧表"]
[null,"申込責任者",{"$f":"IF(①団体情報入力!D8=\"\",\"\",①団体情報入力!D8)","v":""},null,null,null,"A4サイズ"]
[null,{"$f":"IF(①団体情報入力!D7=\"\",\"\",①団体情報入力!D7)","v":""},"学校名",{"$f":"IF(①団体情報入力!D5=\"\",\"\",①団体情報入力!D5)","v":""}]
[null,"男　　　子",null,null,"Ver2","女　　　子",null,null,null,null,null,"男種目",null,"女種目"]
[null,"種　　目","申込数",null,null,"種　　　目","申込数"]
[null,"男子十種競技",{"$f":"IF(L9=0,\"\",L9)","v":""},null,null,"女子七種競技",{"$f":"IF(N9=0,\"\",N9)","v":""},null,null,null,{"$f":"種目情報!A4","v":"男子十種競技"},{"$f":"COUNTIF(②選手情報入力!$I$10:$O$49,K9)","v":0},{"$f":"種目情報!E4","v":"女子七種競技"},{"$f":"COUNTIF(②選手情報入力!$I$10:$O$49,M9)","v":0}]
[null,"男子5000m",{"$f":"IF(L10=0,\"\",L10)","v":""},null,null,"女子5000m",{"$f":"IF(N10=0,\"\",N10)","v":""},null,null,null,{"$f":"種目情報!A5","v":"男子5000m"},{"$f":"COUNTIF(②選手情報入力!$I$10:$O$49,K10)","v":0},{"$f":"種目情報!E5","v":"女子5000m"},{"$f":"COUNTIF(②選手情報入力!$I$10:$O$49,M10)","v":0}]
[null,"男子10000m","",null,null,"女子10000m","",null,null,null,{"$f":"種目情報!A6","v":"男子10000m"},{"$f":"COUNTIF(②選手情報入力!$I$10:$O$49,K11)","v":0},{"$f":"種目情報!E6","v":"女子10000m"},{"$f":"COUNTIF(②選手情報入力!$I$10:$O$49,M11)","v":0}]
[null,"４×１００ｍＲ",{"$f":"IF(③リレー情報確認!F16=0,\"\",③リレー情報確認!F16)","v":""},null,null,"４×１００ｍＲ",{"$f":"IF(③リレー情報確認!R16=0,\"\",③リレー情報確認!R16)","v":""}]
[null,"４×４００ｍＲ",{"$f":"IF(③リレー情報確認!L16=0,\"\",③リレー情報確認!L16)","v":""},null,null,"４×４００ｍＲ",{"$f":"IF(③リレー情報確認!X16=0,\"\",③リレー情報確認!X16)","v":""}]
[]
[null,"少年B男子100m",{"$f":"IF(L15=0,\"\",L15)","v":""},null,null,"少年B女子100m",{"$f":"IF(N15=0,\"\",N15)","v":""},null,null,null,{"$f":"種目情報!A8","v":0},{"$f":"COUNTIF(②選手情報入力!$I$10:$O$49,K15)","v":0},{"$f":"種目情報!E8","v":0},{"$f":"COUNTIF(②選手情報入力!$I$10:$O$49,M15)","v":0}]
[null,"少年B男子3000m",{"$f":"IF(L16=0,\"\",L16)","v":""},null,null,"少年B女子1500m","",null,null,null,{"$f":"種目情報!A9","v":0},{"$f":"COUNTIF(②選手情報入力!$I$10:$O$49,K16)","v":0},{"$f":"種目情報!E9","v":0},{"$f":"COUNTIF(②選手情報入力!$I$10:$O$49,M16)","v":0}]
[null,"少年B男子110mJH(0.991m)","",null,null,"少年B女子100mYH(0.762/8.5m)","",null,null,null,{"$f":"種目情報!A10","v":0},{"$f":"COUNTIF(②選手情報入力!$I$10:$O$49,K17)","v":0},{"$f":"種目情報!E10","v":0},{"$f":"COUNTIF(②選手情報入力!$I$10:$O$49,M17)","v":0}]
[null,"少年B男子走幅跳","",null,null,"少年B女子走幅跳","",null,null,null,{"$f":"種目情報!A11","v":0},{"$f":"COUNTIF(②選手情報入力!$I$10:$O$49,K18)","v":0},{"$f":"種目情報!E11","v":0},{"$f":"COUNTIF(②選手情報入力!$I$10:$O$49,M18)","v":0}]
[null,"少年B男子砲丸投","",null,null,null,null,null,null,null,{"$f":"種目情報!A12","v":0},{"$f":"COUNTIF(②選手情報入力!$I$10:$O$49,K19)","v":0},{"$f":"種目情報!E12","v":0},{"$f":"COUNTIF(②選手情報入力!$I$10:$O$49,M19)","v":0}]
[null,null,null,null,null,null,null,null,null,null,{"$f":"種目情報!A13","v":0},{"$f":"COUNTIF(②選手情報入力!$I$10:$O$49,K20)","v":0}]
[null,"種　目　数",null,null,null,"参　　加　　料"]
[null,"個人種目数",{"$f":"L22+L24","v":0},null,null,"県選長距離種目数×1000円",{"$f":"L22*1000","v":0},null,null,null,"個人種目数",{"$f":"L11+L10+N11+N10","v":0}]
[null,"混成種目数",{"$f":"L23","v":0},null,null,"混成種目数✕2000円",{"$f":"L23*2000","v":0},null,null,null,"混成種目数",{"$f":"N9+L9","v":0}]
[null,"リレー",{"$f":"②選手情報入力!G51","v":0},null,null,"少年Ｂ種目数✕800円",{"$f":"L24*800","v":0},null,null,null,"少年Ｂ種目数",{"$f":"SUM(L15:N19)","v":0}]
[null,"プログラム購入部数",{"$f":"IF(①団体情報入力!D9=\"\",0,①団体情報入力!D9)","v":0},"部",null,"リレー参加数✕2000円",{"$f":"C24*2000","v":0},null,null,null,{"$f":"種目情報!A34","v":0},{"$f":"COUNTIF(②選手情報入力!$I$10:$O$49,K25)","v":0}]
[null,{"$f":"TODAY()","v":"2017-05-31"},null,null,null,"プログラム部数✕1000円",{"$f":"C25*1000","v":0},null,null,null,{"$f":"種目情報!A35","v":0}]
[null,null,null,null,null,"支払金額",{"$f":"SUM(G22:G26)","v":0},null,null,null,{"$f":"種目情報!A36","v":0}]
[null,"振込明細書のコピーを添付してください"]

{"sheet":"⑤申込一覧表","index":5,"n_rows":47,"n_cols":13,"rows_kept":47,"cut":false,"hidden":false,"merged":[[1,2,1,7],[3,5,4,5],[3,1,4,1],[3,3,3,4],[4,3,4,4]]}
["⑤申込一覧表"]
[null,"大会名",{"$f":"注意事項!C3&注意事項!F3","v":"愛知選手権混成･リレー･5000m･10000m"}]
[null,null,"Ver2",null,null,null,"学校名",{"$f":"IF(①団体情報入力!D5=\"\",\"\",①団体情報入力!D5)","v":""},{"$f":"IF(①団体情報入力!D3=\"\",\"\",①団体情報入力!D3)","v":""}]
[null,"人数","男　　子",{"$f":"②選手情報入力!G52","v":0},null,"リレー","男4X100mR",{"$f":"IF(③リレー情報確認!F8=\"\",\"\",③リレー情報確認!F8)","v":""},"男4X400mR",{"$f":"IF(③リレー情報確認!L8=\"\",\"\",③リレー情報確認!L8)","v":""}]
[null,null,"女　　子",{"$f":"②選手情報入力!G53","v":0},null,null,"女4X100mR",{"$f":"IF(③リレー情報確認!R8=\"\",\"\",③リレー情報確認!R8)","v":""},"女4X400mR",{"$f":"IF(③リレー情報確認!X8=\"\",\"\",③リレー情報確認!X8)","v":""}]
[]
[null,"ﾅﾝﾊﾞｰ","氏　名","性","年","種目１","記録１","種目２","記録２",null,null,"4R","16R"]
[1,{"$f":"IF(②選手情報入力!B10=\"\",\"\",②選手情報入力!B10)","v":""},{"$f":"IF(②選手情報入力!D10=\"\",\"\",②選手情報入力!D10)","v":""},{"$f":"IF(②選手情報入力!G10=\"\",\"\",②選手情報入力!G10)","v":""},{"$f":"IF(②選手情報入力!H10=\"\",\"\",②選手情報入力!H10)","v":""},{"$f":"IF(②選手情報入力!I10=\"\",\"\",②選手情報入力!I10)","v":""},{"$f":"IF(②選手情報入力!K10=\"\",\"\",②選手情報入力!K10)","v":""},{"$f":"IF(②選手情報入力!L10=\"\",\"\",②選手情報入力!L10)","v":""},{"$f":"IF(②選手情報入力!N10=\"\",\"\",②選手情報入力!N10)","v":""},null,null,{"$f":"IF(②選手情報入力!P10=\"\",\"\",②選手情報入力!P10)","v":""},{"$f":"IF(②選手情報入力!Q10=\"\",\"\",②選手情報入力!Q10)","v":""}]
[2,{"$f":"IF(②選手情報入力!B11=\"\",\"\",②選手情報入力!B11)","v":""},{"$f":"IF(②選手情報入力!D11=\"\",\"\",②選手情報入力!D11)","v":""},{"$f":"IF(②選手情報入力!G11=\"\",\"\",②選手情報入力!G11)","v":""},{"$f":"IF(②選手情報入力!H11=\"\",\"\",②選手情報入力!H11)","v":""},{"$f":"IF(②選手情報入力!I11=\"\",\"\",②選手情報入力!I11)","v":""},{"$f":"IF(②選手情報入力!K11=\"\",\"\",②選手情報入力!K11)","v":""},{"$f":"IF(②選手情報入力!L11=\"\",\"\",②選手情報入力!L11)","v":""},{"$f":"IF(②選手情報入力!N11=\"\",\"\",②選手情報入力!N11)","v":""},null,null,{"$f":"IF(②選手情報入力!P11=\"\",\"\",②選手情報入力!P11)","v":""},{"$f":"IF(②選手情報入力!Q11=\"\",\"\",②選手情報入力!Q11)","v":""}]
[3,{"$f":"IF(②選手情報入力!B12=\"\",\"\",②選手情報入力!B12)","v":""},{"$f":"IF(②選手情報入力!D12=\"\",\"\",②選手情報入力!D12)","v":""},{"$f":"IF(②選手情報入力!G12=\"\",\"\",②選手情報入力!G12)","v":""},{"$f":"IF(②選手情報入力!H12=\"\",\"\",②選手情報入力!H12)","v":""},{"$f":"IF(②選手情報入力!I12=\"\",\"\",②選手情報入力!I12)","v":""},{"$f":"IF(②選手情報入力!K12=\"\",\"\",②選手情報入力!K12)","v":""},{"$f":"IF(②選手情報入力!L12=\"\",\"\",②選手情報入力!L12)","v":""},{"$f":"IF(②選手情報入力!N12=\"\",\"\",②選手情報入力!N12)","v":""},null,null,{"$f":"IF(②選手情報入力!P12=\"\",\"\",②選手情報入力!P12)","v":""},{"$f":"IF(②選手情報入力!Q12=\"\",\"\",②選手情報入力!Q12)","v":""}]
[4,{"$f":"IF(②選手情報入力!B13=\"\",\"\",②選手情報入力!B13)","v":""},{"$f":"IF(②選手情報入力!D13=\"\",\"\",②選手情報入力!D13)","v":""},{"$f":"IF(②選手情報入力!G13=\"\",\"\",②選手情報入力!G13)","v":""},{"$f":"IF(②選手情報入力!H13=\"\",\"\",②選手情報入力!H13)","v":""},{"$f":"IF(②選手情報入力!I13=\"\",\"\",②選手情報入力!I13)","v":""},{"$f":"IF(②選手情報入力!K13=\"\",\"\",②選手情報入力!K13)","v":""},{"$f":"IF(②選手情報入力!L13=\"\",\"\",②選手情報入力!L13)","v":""},{"$f":"IF(②選手情報入力!N13=\"\",\"\",②選手情報入力!N13)","v":""},null,null,{"$f":"IF(②選手情報入力!P13=\"\",\"\",②選手情報入力!P13)","v":""},{"$f":"IF(②選手情報入力!Q13=\"\",\"\",②選手情報入力!Q13)","v":""}]
[5,{"$f":"IF(②選手情報入力!B14=\"\",\"\",②選手情報入力!B14)","v":""},{"$f":"IF(②選手情報入力!D14=\"\",\"\",②選手情報入力!D14)","v":""},{"$f":"IF(②選手情報入力!G14=\"\",\"\",②選手情報入力!G14)","v":""},{"$f":"IF(②選手情報入力!H14=\"\",\"\",②選手情報入力!H14)","v":""},{"$f":"IF(②選手情報入力!I14=\"\",\"\",②選手情報入力!I14)","v":""},{"$f":"IF(②選手情報入力!K14=\"\",\"\",②選手情報入力!K14)","v":""},{"$f":"IF(②選手情報入力!L14=\"\",\"\",②選手情報入力!L14)","v":""},{"$f":"IF(②選手情報入力!N14=\"\",\"\",②選手情報入力!N14)","v":""},null,null,{"$f":"IF(②選手情報入力!P14=\"\",\"\",②選手情報入力!P14)","v":""},{"$f":"IF(②選手情報入力!Q14=\"\",\"\",②選手情報入力!Q14)","v":""}]
[6,{"$f":"IF(②選手情報入力!B15=\"\",\"\",②選手情報入力!B15)","v":""},{"$f":"IF(②選手情報入力!D15=\"\",\"\",②選手情報入力!D15)","v":""},{"$f":"IF(②選手情報入力!G15=\"\",\"\",②選手情報入力!G15)","v":""},{"$f":"IF(②選手情報入力!H15=\"\",\"\",②選手情報入力!H15)","v":""},{"$f":"IF(②選手情報入力!I15=\"\",\"\",②選手情報入力!I15)","v":""},{"$f":"IF(②選手情報入力!K15=\"\",\"\",②選手情報入力!K15)","v":""},{"$f":"IF(②選手情報入力!L15=\"\",\"\",②選手情報入力!L15)","v":""},{"$f":"IF(②選手情報入力!N15=\"\",\"\",②選手情報入力!N15)","v":""},null,null,{"$f":"IF(②選手情報入力!P15=\"\",\"\",②選手情報入力!P15)","v":""},{"$f":"IF(②選手情報入力!Q15=\"\",\"\",②選手情報入力!Q15)","v":""}]
[7,{"$f":"IF(②選手情報入力!B16=\"\",\"\",②選手情報入力!B16)","v":""},{"$f":"IF(②選手情報入力!D16=\"\",\"\",②選手情報入力!D16)","v":""},{"$f":"IF(②選手情報入力!G16=\"\",\"\",②選手情報入力!G16)","v":""},{"$f":"IF(②選手情報入力!H16=\"\",\"\",②選手情報入力!H16)","v":""},{"$f":"IF(②選手情報入力!I16=\"\",\"\",②選手情報入力!I16)","v":""},{"$f":"IF(②選手情報入力!K16=\"\",\"\",②選手情報入力!K16)","v":""},{"$f":"IF(②選手情報入力!L16=\"\",\"\",②選手情報入力!L16)","v":""},{"$f":"IF(②選手情報入力!N16=\"\",\"\",②選手情報入力!N16)","v":""},null,null,{"$f":"IF(②選手情報入力!P16=\"\",\"\",②選手情報入力!P16)","v":""},{"$f":"IF(②選手情報入力!Q16=\"\",\"\",②選手情報入力!Q16)","v":""}]
[8,{"$f":"IF(②選手情報入力!B17=\"\",\"\",②選手情報入力!B17)","v":""},{"$f":"IF(②選手情報入力!D17=\"\",\"\",②選手情報入力!D17)","v":""},{"$f":"IF(②選手情報入力!G17=\"\",\"\",②選手情報入力!G17)","v":""},{"$f":"IF(②選手情報入力!H17=\"\",\"\",②選手情報入力!H17)","v":""},{"$f":"IF(②選手情報入力!I17=\"\",\"\",②選手情報入力!I17)","v":""},{"$f":"IF(②選手情報入力!K17=\"\",\"\",②選手情報入力!K17)","v":""},{"$f":"IF(②選手情報入力!L17=\"\",\"\",②選手情報入力!L17)","v":""},{"$f":"IF(②選手情報入力!N17=\"\",\"\",②選手情報入力!N17)","v":""},null,null,{"$f":"IF(②選手情報入力!P17=\"\",\"\",②選手情報入力!P17)","v":""},{"$f":"IF(②選手情報入力!Q17=\"\",\"\",②選手情報入力!Q17)","v":""}]
[9,{"$f":"IF(②選手情報入力!B18=\"\",\"\",②選手情報入力!B18)","v":""},{"$f":"IF(②選手情報入力!D18=\"\",\"\",②選手情報入力!D18)","v":""},{"$f":"IF(②選手情報入力!G18=\"\",\"\",②選手情報入力!G18)","v":""},{"$f":"IF(②選手情報入力!H18=\"\",\"\",②選手情報入力!H18)","v":""},{"$f":"IF(②選手情報入力!I18=\"\",\"\",②選手情報入力!I18)","v":""},{"$f":"IF(②選手情報入力!K18=\"\",\"\",②選手情報入力!K18)","v":""},{"$f":"IF(②選手情報入力!L18=\"\",\"\",②選手情報入力!L18)","v":""},{"$f":"IF(②選手情報入力!N18=\"\",\"\",②選手情報入力!N18)","v":""},null,null,{"$f":"IF(②選手情報入力!P18=\"\",\"\",②選手情報入力!P18)","v":""},{"$f":"IF(②選手情報入力!Q18=\"\",\"\",②選手情報入力!Q18)","v":""}]
[10,{"$f":"IF(②選手情報入力!B19=\"\",\"\",②選手情報入力!B19)","v":""},{"$f":"IF(②選手情報入力!D19=\"\",\"\",②選手情報入力!D19)","v":""},{"$f":"IF(②選手情報入力!G19=\"\",\"\",②選手情報入力!G19)","v":""},{"$f":"IF(②選手情報入力!H19=\"\",\"\",②選手情報入力!H19)","v":""},{"$f":"IF(②選手情報入力!I19=\"\",\"\",②選手情報入力!I19)","v":""},{"$f":"IF(②選手情報入力!K19=\"\",\"\",②選手情報入力!K19)","v":""},{"$f":"IF(②選手情報入力!L19=\"\",\"\",②選手情報入力!L19)","v":""},{"$f":"IF(②選手情報入力!N19=\"\",\"\",②選手情報入力!N19)","v":""},null,null,{"$f":"IF(②選手情報入力!P19=\"\",\"\",②選手情報入力!P19)","v":""},{"$f":"IF(②選手情報入力!Q19=\"\",\"\",②選手情報入力!Q19)","v":""}]
[11,{"$f":"IF(②選手情報入力!B20=\"\",\"\",②選手情報入力!B20)","v":""},{"$f":"IF(②選手情報入力!D20=\"\",\"\",②選手情報入力!D20)","v":""},{"$f":"IF(②選手情報入力!G20=\"\",\"\",②選手情報入力!G20)","v":""},{"$f":"IF(②選手情報入力!H20=\"\",\"\",②選手情報入力!H20)","v":""},{"$f":"IF(②選手情報入力!I20=\"\",\"\",②選手情報入力!I20)","v":""},{"$f":"IF(②選手情報入力!K20=\"\",\"\",②選手情報入力!K20)","v":""},{"$f":"IF(②選手情報入力!L20=\"\",\"\",②選手情報入力!L20)","v":""},{"$f":"IF(②選手情報入力!N20=\"\",\"\",②選手情報入力!N20)","v":""},null,null,{"$f":"IF(②選手情報入力!P20=\"\",\"\",②選手情報入力!P20)","v":""},{"$f":"IF(②選手情報入力!Q20=\"\",\"\",②選手情報入力!Q20)","v":""}]
[12,{"$f":"IF(②選手情報入力!B21=\"\",\"\",②選手情報入力!B21)","v":""},{"$f":"IF(②選手情報入力!D21=\"\",\"\",②選手情報入力!D21)","v":""},{"$f":"IF(②選手情報入力!G21=\"\",\"\",②選手情報入力!G21)","v":""},{"$f":"IF(②選手情報入力!H21=\"\",\"\",②選手情報入力!H21)","v":""},{"$f":"IF(②選手情報入力!I21=\"\",\"\",②選手情報入力!I21)","v":""},{"$f":"IF(②選手情報入力!K21=\"\",\"\",②選手情報入力!K21)","v":""},{"$f":"IF(②選手情報入力!L21=\"\",\"\",②選手情報入力!L21)","v":""},{"$f":"IF(②選手情報入力!N21=\"\",\"\",②選手情報入力!N21)","v":""},null,null,{"$f":"IF(②選手情報入力!P21=\"\",\"\",②選手情報入力!P21)","v":""},{"$f":"IF(②選手情報入力!Q21=\"\",\"\",②選手情報入力!Q21)","v":""}]
[13,{"$f":"IF(②選手情報入力!B22=\"\",\"\",②選手情報入力!B22)","v":""},{"$f":"IF(②選手情報入力!D22=\"\",\"\",②選手情報入力!D22)","v":""},{"$f":"IF(②選手情報入力!G22=\"\",\"\",②選手情報入力!G22)","v":""},{"$f":"IF(②選手情報入力!H22=\"\",\"\",②選手情報入力!H22)","v":""},{"$f":"IF(②選手情報入力!I22=\"\",\"\",②選手情報入力!I22)","v":""},{"$f":"IF(②選手情報入力!K22=\"\",\"\",②選手情報入力!K22)","v":""},{"$f":"IF(②選手情報入力!L22=\"\",\"\",②選手情報入力!L22)","v":""},{"$f":"IF(②選手情報入力!N22=\"\",\"\",②選手情報入力!N22)","v":""},null,null,{"$f":"IF(②選手情報入力!P22=\"\",\"\",②選手情報入力!P22)","v":""},{"$f":"IF(②選手情報入力!Q22=\"\",\"\",②選手情報入力!Q22)","v":""}]
[14,{"$f":"IF(②選手情報入力!B23=\"\",\"\",②選手情報入力!B23)","v":""},{"$f":"IF(②選手情報入力!D23=\"\",\"\",②選手情報入力!D23)","v":""},{"$f":"IF(②選手情報入力!G23=\"\",\"\",②選手情報入力!G23)","v":""},{"$f":"IF(②選手情報入力!H23=\"\",\"\",②選手情報入力!H23)","v":""},{"$f":"IF(②選手情報入力!I23=\"\",\"\",②選手情報入力!I23)","v":""},{"$f":"IF(②選手情報入力!K23=\"\",\"\",②選手情報入力!K23)","v":""},{"$f":"IF(②選手情報入力!L23=\"\",\"\",②選手情報入力!L23)","v":""},{"$f":"IF(②選手情報入力!N23=\"\",\"\",②選手情報入力!N23)","v":""},null,null,{"$f":"IF(②選手情報入力!P23=\"\",\"\",②選手情報入力!P23)","v":""},{"$f":"IF(②選手情報入力!Q23=\"\",\"\",②選手情報入力!Q23)","v":""}]
[15,{"$f":"IF(②選手情報入力!B24=\"\",\"\",②選手情報入力!B24)","v":""},{"$f":"IF(②選手情報入力!D24=\"\",\"\",②選手情報入力!D24)","v":""},{"$f":"IF(②選手情報入力!G24=\"\",\"\",②選手情報入力!G24)","v":""},{"$f":"IF(②選手情報入力!H24=\"\",\"\",②選手情報入力!H24)","v":""},{"$f":"IF(②選手情報入力!I24=\"\",\"\",②選手情報入力!I24)","v":""},{"$f":"IF(②選手情報入力!K24=\"\",\"\",②選手情報入力!K24)","v":""},{"$f":"IF(②選手情報入力!L24=\"\",\"\",②選手情報入力!L24)","v":""},{"$f":"IF(②選手情報入力!N24=\"\",\"\",②選手情報入力!N24)","v":""},null,null,{"$f":"IF(②選手情報入力!P24=\"\",\"\",②選手情報入力!P24)","v":""},{"$f":"IF(②選手情報入力!Q24=\"\",\"\",②選手情報入力!Q24)","v":""}]
[16,{"$f":"IF(②選手情報入力!B25=\"\",\"\",②選手情報入力!B25)","v":""},{"$f":"IF(②選手情報入力!D25=\"\",\"\",②選手情報入力!D25)","v":""},{"$f":"IF(②選手情報入力!G25=\"\",\"\",②選手情報入力!G25)","v":""},{"$f":"IF(②選手情報入力!H25=\"\",\"\",②選手情報入力!H25)","v":""},{"$f":"IF(②選手情報入力!I25=\"\",\"\",②選手情報入力!I25)","v":""},{"$f":"IF(②選手情報入力!K25=\"\",\"\",②選手情報入力!K25)","v":""},{"$f":"IF(②選手情報入力!L25=\"\",\"\",②選手情報入力!L25)","v":""},{"$f":"IF(②選手情報入力!N25=\"\",\"\",②選手情報入力!N25)","v":""},null,null,{"$f":"IF(②選手情報入力!P25=\"\",\"\",②選手情報入力!P25)","v":""},{"$f":"IF(②選手情報入力!Q25=\"\",\"\",②選手情報入力!Q25)","v":""}]
[17,{"$f":"IF(②選手情報入力!B26=\"\",\"\",②選手情報入力!B26)","v":""},{"$f":"IF(②選手情報入力!D26=\"\",\"\",②選手情報入力!D26)","v":""},{"$f":"IF(②選手情報入力!G26=\"\",\"\",②選手情報入力!G26)","v":""},{"$f":"IF(②選手情報入力!H26=\"\",\"\",②選手情報入力!H26)","v":""},{"$f":"IF(②選手情報入力!I26=\"\",\"\",②選手情報入力!I26)","v":""},{"$f":"IF(②選手情報入力!K26=\"\",\"\",②選手情報入力!K26)","v":""},{"$f":"IF(②選手情報入力!L26=\"\",\"\",②選手情報入力!L26)","v":""},{"$f":"IF(②選手情報入力!N26=\"\",\"\",②選手情報入力!N26)","v":""},null,null,{"$f":"IF(②選手情報入力!P26=\"\",\"\",②選手情報入力!P26)","v":""},{"$f":"IF(②選手情報入力!Q26=\"\",\"\",②選手情報入力!Q26)","v":""}]
[18,{"$f":"IF(②選手情報入力!B27=\"\",\"\",②選手情報入力!B27)","v":""},{"$f":"IF(②選手情報入力!D27=\"\",\"\",②選手情報入力!D27)","v":""},{"$f":"IF(②選手情報入力!G27=\"\",\"\",②選手情報入力!G27)","v":""},{"$f":"IF(②選手情報入力!H27=\"\",\"\",②選手情報入力!H27)","v":""},{"$f":"IF(②選手情報入力!I27=\"\",\"\",②選手情報入力!I27)","v":""},{"$f":"IF(②選手情報入力!K27=\"\",\"\",②選手情報入力!K27)","v":""},{"$f":"IF(②選手情報入力!L27=\"\",\"\",②選手情報入力!L27)","v":""},{"$f":"IF(②選手情報入力!N27=\"\",\"\",②選手情報入力!N27)","v":""},null,null,{"$f":"IF(②選手情報入力!P27=\"\",\"\",②選手情報入力!P27)","v":""},{"$f":"IF(②選手情報入力!Q27=\"\",\"\",②選手情報入力!Q27)","v":""}]
[19,{"$f":"IF(②選手情報入力!B28=\"\",\"\",②選手情報入力!B28)","v":""},{"$f":"IF(②選手情報入力!D28=\"\",\"\",②選手情報入力!D28)","v":""},{"$f":"IF(②選手情報入力!G28=\"\",\"\",②選手情報入力!G28)","v":""},{"$f":"IF(②選手情報入力!H28=\"\",\"\",②選手情報入力!H28)","v":""},{"$f":"IF(②選手情報入力!I28=\"\",\"\",②選手情報入力!I28)","v":""},{"$f":"IF(②選手情報入力!K28=\"\",\"\",②選手情報入力!K28)","v":""},{"$f":"IF(②選手情報入力!L28=\"\",\"\",②選手情報入力!L28)","v":""},{"$f":"IF(②選手情報入力!N28=\"\",\"\",②選手情報入力!N28)","v":""},null,null,{"$f":"IF(②選手情報入力!P28=\"\",\"\",②選手情報入力!P28)","v":""},{"$f":"IF(②選手情報入力!Q28=\"\",\"\",②選手情報入力!Q28)","v":""}]
[20,{"$f":"IF(②選手情報入力!B29=\"\",\"\",②選手情報入力!B29)","v":""},{"$f":"IF(②選手情報入力!D29=\"\",\"\",②選手情報入力!D29)","v":""},{"$f":"IF(②選手情報入力!G29=\"\",\"\",②選手情報入力!G29)","v":""},{"$f":"IF(②選手情報入力!H29=\"\",\"\",②選手情報入力!H29)","v":""},{"$f":"IF(②選手情報入力!I29=\"\",\"\",②選手情報入力!I29)","v":""},{"$f":"IF(②選手情報入力!K29=\"\",\"\",②選手情報入力!K29)","v":""},{"$f":"IF(②選手情報入力!L29=\"\",\"\",②選手情報入力!L29)","v":""},{"$f":"IF(②選手情報入力!N29=\"\",\"\",②選手情報入力!N29)","v":""},null,null,{"$f":"IF(②選手情報入力!P29=\"\",\"\",②選手情報入力!P29)","v":""},{"$f":"IF(②選手情報入力!Q29=\"\",\"\",②選手情報入力!Q29)","v":""}]
[21,{"$f":"IF(②選手情報入力!B30=\"\",\"\",②選手情報入力!B30)","v":""},{"$f":"IF(②選手情報入力!D30=\"\",\"\",②選手情報入力!D30)","v":""},{"$f":"IF(②選手情報入力!G30=\"\",\"\",②選手情報入力!G30)","v":""},{"$f":"IF(②選手情報入力!H30=\"\",\"\",②選手情報入力!H30)","v":""},{"$f":"IF(②選手情報入力!I30=\"\",\"\",②選手情報入力!I30)","v":""},{"$f":"IF(②選手情報入力!K30=\"\",\"\",②選手情報入力!K30)","v":""},{"$f":"IF(②選手情報入力!L30=\"\",\"\",②選手情報入力!L30)","v":""},{"$f":"IF(②選手情報入力!N30=\"\",\"\",②選手情報入力!N30)","v":""},null,null,{"$f":"IF(②選手情報入力!P30=\"\",\"\",②選手情報入力!P30)","v":""},{"$f":"IF(②選手情報入力!Q30=\"\",\"\",②選手情報入力!Q30)","v":""}]
[22,{"$f":"IF(②選手情報入力!B31=\"\",\"\",②選手情報入力!B31)","v":""},{"$f":"IF(②選手情報入力!D31=\"\",\"\",②選手情報入力!D31)","v":""},{"$f":"IF(②選手情報入力!G31=\"\",\"\",②選手情報入力!G31)","v":""},{"$f":"IF(②選手情報入力!H31=\"\",\"\",②選手情報入力!H31)","v":""},{"$f":"IF(②選手情報入力!I31=\"\",\"\",②選手情報入力!I31)","v":""},{"$f":"IF(②選手情報入力!K31=\"\",\"\",②選手情報入力!K31)","v":""},{"$f":"IF(②選手情報入力!L31=\"\",\"\",②選手情報入力!L31)","v":""},{"$f":"IF(②選手情報入力!N31=\"\",\"\",②選手情報入力!N31)","v":""},null,null,{"$f":"IF(②選手情報入力!P31=\"\",\"\",②選手情報入力!P31)","v":""},{"$f":"IF(②選手情報入力!Q31=\"\",\"\",②選手情報入力!Q31)","v":""}]
[23,{"$f":"IF(②選手情報入力!B32=\"\",\"\",②選手情報入力!B32)","v":""},{"$f":"IF(②選手情報入力!D32=\"\",\"\",②選手情報入力!D32)","v":""},{"$f":"IF(②選手情報入力!G32=\"\",\"\",②選手情報入力!G32)","v":""},{"$f":"IF(②選手情報入力!H32=\"\",\"\",②選手情報入力!H32)","v":""},{"$f":"IF(②選手情報入力!I32=\"\",\"\",②選手情報入力!I32)","v":""},{"$f":"IF(②選手情報入力!K32=\"\",\"\",②選手情報入力!K32)","v":""},{"$f":"IF(②選手情報入力!L32=\"\",\"\",②選手情報入力!L32)","v":""},{"$f":"IF(②選手情報入力!N32=\"\",\"\",②選手情報入力!N32)","v":""},null,null,{"$f":"IF(②選手情報入力!P32=\"\",\"\",②選手情報入力!P32)","v":""},{"$f":"IF(②選手情報入力!Q32=\"\",\"\",②選手情報入力!Q32)","v":""}]
[24,{"$f":"IF(②選手情報入力!B33=\"\",\"\",②選手情報入力!B33)","v":""},{"$f":"IF(②選手情報入力!D33=\"\",\"\",②選手情報入力!D33)","v":""},{"$f":"IF(②選手情報入力!G33=\"\",\"\",②選手情報入力!G33)","v":""},{"$f":"IF(②選手情報入力!H33=\"\",\"\",②選手情報入力!H33)","v":""},{"$f":"IF(②選手情報入力!I33=\"\",\"\",②選手情報入力!I33)","v":""},{"$f":"IF(②選手情報入力!K33=\"\",\"\",②選手情報入力!K33)","v":""},{"$f":"IF(②選手情報入力!L33=\"\",\"\",②選手情報入力!L33)","v":""},{"$f":"IF(②選手情報入力!N33=\"\",\"\",②選手情報入力!N33)","v":""},null,null,{"$f":"IF(②選手情報入力!P33=\"\",\"\",②選手情報入力!P33)","v":""},{"$f":"IF(②選手情報入力!Q33=\"\",\"\",②選手情報入力!Q33)","v":""}]
[25,{"$f":"IF(②選手情報入力!B34=\"\",\"\",②選手情報入力!B34)","v":""},{"$f":"IF(②選手情報入力!D34=\"\",\"\",②選手情報入力!D34)","v":""},{"$f":"IF(②選手情報入力!G34=\"\",\"\",②選手情報入力!G34)","v":""},{"$f":"IF(②選手情報入力!H34=\"\",\"\",②選手情報入力!H34)","v":""},{"$f":"IF(②選手情報入力!I34=\"\",\"\",②選手情報入力!I34)","v":""},{"$f":"IF(②選手情報入力!K34=\"\",\"\",②選手情報入力!K34)","v":""},{"$f":"IF(②選手情報入力!L34=\"\",\"\",②選手情報入力!L34)","v":""},{"$f":"IF(②選手情報入力!N34=\"\",\"\",②選手情報入力!N34)","v":""},null,null,{"$f":"IF(②選手情報入力!P34=\"\",\"\",②選手情報入力!P34)","v":""},{"$f":"IF(②選手情報入力!Q34=\"\",\"\",②選手情報入力!Q34)","v":""}]
[26,{"$f":"IF(②選手情報入力!B35=\"\",\"\",②選手情報入力!B35)","v":""},{"$f":"IF(②選手情報入力!D35=\"\",\"\",②選手情報入力!D35)","v":""},{"$f":"IF(②選手情報入力!G35=\"\",\"\",②選手情報入力!G35)","v":""},{"$f":"IF(②選手情報入力!H35=\"\",\"\",②選手情報入力!H35)","v":""},{"$f":"IF(②選手情報入力!I35=\"\",\"\",②選手情報入力!I35)","v":""},{"$f":"IF(②選手情報入力!K35=\"\",\"\",②選手情報入力!K35)","v":""},{"$f":"IF(②選手情報入力!L35=\"\",\"\",②選手情報入力!L35)","v":""},{"$f":"IF(②選手情報入力!N35=\"\",\"\",②選手情報入力!N35)","v":""},null,null,{"$f":"IF(②選手情報入力!P35=\"\",\"\",②選手情報入力!P35)","v":""},{"$f":"IF(②選手情報入力!Q35=\"\",\"\",②選手情報入力!Q35)","v":""}]
[27,{"$f":"IF(②選手情報入力!B36=\"\",\"\",②選手情報入力!B36)","v":""},{"$f":"IF(②選手情報入力!D36=\"\",\"\",②選手情報入力!D36)","v":""},{"$f":"IF(②選手情報入力!G36=\"\",\"\",②選手情報入力!G36)","v":""},{"$f":"IF(②選手情報入力!H36=\"\",\"\",②選手情報入力!H36)","v":""},{"$f":"IF(②選手情報入力!I36=\"\",\"\",②選手情報入力!I36)","v":""},{"$f":"IF(②選手情報入力!K36=\"\",\"\",②選手情報入力!K36)","v":""},{"$f":"IF(②選手情報入力!L36=\"\",\"\",②選手情報入力!L36)","v":""},{"$f":"IF(②選手情報入力!N36=\"\",\"\",②選手情報入力!N36)","v":""},null,null,{"$f":"IF(②選手情報入力!P36=\"\",\"\",②選手情報入力!P36)","v":""},{"$f":"IF(②選手情報入力!Q36=\"\",\"\",②選手情報入力!Q36)","v":""}]
[28,{"$f":"IF(②選手情報入力!B37=\"\",\"\",②選手情報入力!B37)","v":""},{"$f":"IF(②選手情報入力!D37=\"\",\"\",②選手情報入力!D37)","v":""},{"$f":"IF(②選手情報入力!G37=\"\",\"\",②選手情報入力!G37)","v":""},{"$f":"IF(②選手情報入力!H37=\"\",\"\",②選手情報入力!H37)","v":""},{"$f":"IF(②選手情報入力!I37=\"\",\"\",②選手情報入力!I37)","v":""},{"$f":"IF(②選手情報入力!K37=\"\",\"\",②選手情報入力!K37)","v":""},{"$f":"IF(②選手情報入力!L37=\"\",\"\",②選手情報入力!L37)","v":""},{"$f":"IF(②選手情報入力!N37=\"\",\"\",②選手情報入力!N37)","v":""},null,null,{"$f":"IF(②選手情報入力!P37=\"\",\"\",②選手情報入力!P37)","v":""},{"$f":"IF(②選手情報入力!Q37=\"\",\"\",②選手情報入力!Q37)","v":""}]
[29,{"$f":"IF(②選手情報入力!B38=\"\",\"\",②選手情報入力!B38)","v":""},{"$f":"IF(②選手情報入力!D38=\"\",\"\",②選手情報入力!D38)","v":""},{"$f":"IF(②選手情報入力!G38=\"\",\"\",②選手情報入力!G38)","v":""},{"$f":"IF(②選手情報入力!H38=\"\",\"\",②選手情報入力!H38)","v":""},{"$f":"IF(②選手情報入力!I38=\"\",\"\",②選手情報入力!I38)","v":""},{"$f":"IF(②選手情報入力!K38=\"\",\"\",②選手情報入力!K38)","v":""},{"$f":"IF(②選手情報入力!L38=\"\",\"\",②選手情報入力!L38)","v":""},{"$f":"IF(②選手情報入力!N38=\"\",\"\",②選手情報入力!N38)","v":""},null,null,{"$f":"IF(②選手情報入力!P38=\"\",\"\",②選手情報入力!P38)","v":""},{"$f":"IF(②選手情報入力!Q38=\"\",\"\",②選手情報入力!Q38)","v":""}]
[30,{"$f":"IF(②選手情報入力!B39=\"\",\"\",②選手情報入力!B39)","v":""},{"$f":"IF(②選手情報入力!D39=\"\",\"\",②選手情報入力!D39)","v":""},{"$f":"IF(②選手情報入力!G39=\"\",\"\",②選手情報入力!G39)","v":""},{"$f":"IF(②選手情報入力!H39=\"\",\"\",②選手情報入力!H39)","v":""},{"$f":"IF(②選手情報入力!I39=\"\",\"\",②選手情報入力!I39)","v":""},{"$f":"IF(②選手情報入力!K39=\"\",\"\",②選手情報入力!K39)","v":""},{"$f":"IF(②選手情報入力!L39=\"\",\"\",②選手情報入力!L39)","v":""},{"$f":"IF(②選手情報入力!N39=\"\",\"\",②選手情報入力!N39)","v":""},null,null,{"$f":"IF(②選手情報入力!P39=\"\",\"\",②選手情報入力!P39)","v":""},{"$f":"IF(②選手情報入力!Q39=\"\",\"\",②選手情報入力!Q39)","v":""}]
[31,{"$f":"IF(②選手情報入力!B40=\"\",\"\",②選手情報入力!B40)","v":""},{"$f":"IF(②選手情報入力!D40=\"\",\"\",②選手情報入力!D40)","v":""},{"$f":"IF(②選手情報入力!G40=\"\",\"\",②選手情報入力!G40)","v":""},{"$f":"IF(②選手情報入力!H40=\"\",\"\",②選手情報入力!H40)","v":""},{"$f":"IF(②選手情報入力!I40=\"\",\"\",②選手情報入力!I40)","v":""},{"$f":"IF(②選手情報入力!K40=\"\",\"\",②選手情報入力!K40)","v":""},{"$f":"IF(②選手情報入力!L40=\"\",\"\",②選手情報入力!L40)","v":""},{"$f":"IF(②選手情報入力!N40=\"\",\"\",②選手情報入力!N40)","v":""},null,null,{"$f":"IF(②選手情報入力!P40=\"\",\"\",②選手情報入力!P40)","v":""},{"$f":"IF(②選手情報入力!Q40=\"\",\"\",②選手情報入力!Q40)","v":""}]
[32,{"$f":"IF(②選手情報入力!B41=\"\",\"\",②選手情報入力!B41)","v":""},{"$f":"IF(②選手情報入力!D41=\"\",\"\",②選手情報入力!D41)","v":""},{"$f":"IF(②選手情報入力!G41=\"\",\"\",②選手情報入力!G41)","v":""},{"$f":"IF(②選手情報入力!H41=\"\",\"\",②選手情報入力!H41)","v":""},{"$f":"IF(②選手情報入力!I41=\"\",\"\",②選手情報入力!I41)","v":""},{"$f":"IF(②選手情報入力!K41=\"\",\"\",②選手情報入力!K41)","v":""},{"$f":"IF(②選手情報入力!L41=\"\",\"\",②選手情報入力!L41)","v":""},{"$f":"IF(②選手情報入力!N41=\"\",\"\",②選手情報入力!N41)","v":""},null,null,{"$f":"IF(②選手情報入力!P41=\"\",\"\",②選手情報入力!P41)","v":""},{"$f":"IF(②選手情報入力!Q41=\"\",\"\",②選手情報入力!Q41)","v":""}]
[33,{"$f":"IF(②選手情報入力!B42=\"\",\"\",②選手情報入力!B42)","v":""},{"$f":"IF(②選手情報入力!D42=\"\",\"\",②選手情報入力!D42)","v":""},{"$f":"IF(②選手情報入力!G42=\"\",\"\",②選手情報入力!G42)","v":""},{"$f":"IF(②選手情報入力!H42=\"\",\"\",②選手情報入力!H42)","v":""},{"$f":"IF(②選手情報入力!I42=\"\",\"\",②選手情報入力!I42)","v":""},{"$f":"IF(②選手情報入力!K42=\"\",\"\",②選手情報入力!K42)","v":""},{"$f":"IF(②選手情報入力!L42=\"\",\"\",②選手情報入力!L42)","v":""},{"$f":"IF(②選手情報入力!N42=\"\",\"\",②選手情報入力!N42)","v":""},null,null,{"$f":"IF(②選手情報入力!P42=\"\",\"\",②選手情報入力!P42)","v":""},{"$f":"IF(②選手情報入力!Q42=\"\",\"\",②選手情報入力!Q42)","v":""}]
[34,{"$f":"IF(②選手情報入力!B43=\"\",\"\",②選手情報入力!B43)","v":""},{"$f":"IF(②選手情報入力!D43=\"\",\"\",②選手情報入力!D43)","v":""},{"$f":"IF(②選手情報入力!G43=\"\",\"\",②選手情報入力!G43)","v":""},{"$f":"IF(②選手情報入力!H43=\"\",\"\",②選手情報入力!H43)","v":""},{"$f":"IF(②選手情報入力!I43=\"\",\"\",②選手情報入力!I43)","v":""},{"$f":"IF(②選手情報入力!K43=\"\",\"\",②選手情報入力!K43)","v":""},{"$f":"IF(②選手情報入力!L43=\"\",\"\",②選手情報入力!L43)","v":""},{"$f":"IF(②選手情報入力!N43=\"\",\"\",②選手情報入力!N43)","v":""},null,null,{"$f":"IF(②選手情報入力!P43=\"\",\"\",②選手情報入力!P43)","v":""},{"$f":"IF(②選手情報入力!Q43=\"\",\"\",②選手情報入力!Q43)","v":""}]
[35,{"$f":"IF(②選手情報入力!B44=\"\",\"\",②選手情報入力!B44)","v":""},{"$f":"IF(②選手情報入力!D44=\"\",\"\",②選手情報入力!D44)","v":""},{"$f":"IF(②選手情報入力!G44=\"\",\"\",②選手情報入力!G44)","v":""},{"$f":"IF(②選手情報入力!H44=\"\",\"\",②選手情報入力!H44)","v":""},{"$f":"IF(②選手情報入力!I44=\"\",\"\",②選手情報入力!I44)","v":""},{"$f":"IF(②選手情報入力!K44=\"\",\"\",②選手情報入力!K44)","v":""},{"$f":"IF(②選手情報入力!L44=\"\",\"\",②選手情報入力!L44)","v":""},{"$f":"IF(②選手情報入力!N44=\"\",\"\",②選手情報入力!N44)","v":""},null,null,{"$f":"IF(②選手情報入力!P44=\"\",\"\",②選手情報入力!P44)","v":""},{"$f":"IF(②選手情報入力!Q44=\"\",\"\",②選手情報入力!Q44)","v":""}]
[36,{"$f":"IF(②選手情報入力!B45=\"\",\"\",②選手情報入力!B45)","v":""},{"$f":"IF(②選手情報入力!D45=\"\",\"\",②選手情報入力!D45)","v":""},{"$f":"IF(②選手情報入力!G45=\"\",\"\",②選手情報入力!G45)","v":""},{"$f":"IF(②選手情報入力!H45=\"\",\"\",②選手情報入力!H45)","v":""},{"$f":"IF(②選手情報入力!I45=\"\",\"\",②選手情報入力!I45)","v":""},{"$f":"IF(②選手情報入力!K45=\"\",\"\",②選手情報入力!K45)","v":""},{"$f":"IF(②選手情報入力!L45=\"\",\"\",②選手情報入力!L45)","v":""},{"$f":"IF(②選手情報入力!N45=\"\",\"\",②選手情報入力!N45)","v":""},null,null,{"$f":"IF(②選手情報入力!P45=\"\",\"\",②選手情報入力!P45)","v":""},{"$f":"IF(②選手情報入力!Q45=\"\",\"\",②選手情報入力!Q45)","v":""}]
[37,{"$f":"IF(②選手情報入力!B46=\"\",\"\",②選手情報入力!B46)","v":""},{"$f":"IF(②選手情報入力!D46=\"\",\"\",②選手情報入力!D46)","v":""},{"$f":"IF(②選手情報入力!G46=\"\",\"\",②選手情報入力!G46)","v":""},{"$f":"IF(②選手情報入力!H46=\"\",\"\",②選手情報入力!H46)","v":""},{"$f":"IF(②選手情報入力!I46=\"\",\"\",②選手情報入力!I46)","v":""},{"$f":"IF(②選手情報入力!K46=\"\",\"\",②選手情報入力!K46)","v":""},{"$f":"IF(②選手情報入力!L46=\"\",\"\",②選手情報入力!L46)","v":""},{"$f":"IF(②選手情報入力!N46=\"\",\"\",②選手情報入力!N46)","v":""},null,null,{"$f":"IF(②選手情報入力!P46=\"\",\"\",②選手情報入力!P46)","v":""},{"$f":"IF(②選手情報入力!Q46=\"\",\"\",②選手情報入力!Q46)","v":""}]
[38,{"$f":"IF(②選手情報入力!B47=\"\",\"\",②選手情報入力!B47)","v":""},{"$f":"IF(②選手情報入力!D47=\"\",\"\",②選手情報入力!D47)","v":""},{"$f":"IF(②選手情報入力!G47=\"\",\"\",②選手情報入力!G47)","v":""},{"$f":"IF(②選手情報入力!H47=\"\",\"\",②選手情報入力!H47)","v":""},{"$f":"IF(②選手情報入力!I47=\"\",\"\",②選手情報入力!I47)","v":""},{"$f":"IF(②選手情報入力!K47=\"\",\"\",②選手情報入力!K47)","v":""},{"$f":"IF(②選手情報入力!L47=\"\",\"\",②選手情報入力!L47)","v":""},{"$f":"IF(②選手情報入力!N47=\"\",\"\",②選手情報入力!N47)","v":""},null,null,{"$f":"IF(②選手情報入力!P47=\"\",\"\",②選手情報入力!P47)","v":""},{"$f":"IF(②選手情報入力!Q47=\"\",\"\",②選手情報入力!Q47)","v":""}]
[39,{"$f":"IF(②選手情報入力!B48=\"\",\"\",②選手情報入力!B48)","v":""},{"$f":"IF(②選手情報入力!D48=\"\",\"\",②選手情報入力!D48)","v":""},{"$f":"IF(②選手情報入力!G48=\"\",\"\",②選手情報入力!G48)","v":""},{"$f":"IF(②選手情報入力!H48=\"\",\"\",②選手情報入力!H48)","v":""},{"$f":"IF(②選手情報入力!I48=\"\",\"\",②選手情報入力!I48)","v":""},{"$f":"IF(②選手情報入力!K48=\"\",\"\",②選手情報入力!K48)","v":""},{"$f":"IF(②選手情報入力!L48=\"\",\"\",②選手情報入力!L48)","v":""},{"$f":"IF(②選手情報入力!N48=\"\",\"\",②選手情報入力!N48)","v":""},null,null,{"$f":"IF(②選手情報入力!P48=\"\",\"\",②選手情報入力!P48)","v":""},{"$f":"IF(②選手情報入力!Q48=\"\",\"\",②選手情報入力!Q48)","v":""}]
[40,{"$f":"IF(②選手情報入力!B49=\"\",\"\",②選手情報入力!B49)","v":""},{"$f":"IF(②選手情報入力!D49=\"\",\"\",②選手情報入力!D49)","v":""},{"$f":"IF(②選手情報入力!G49=\"\",\"\",②選手情報入力!G49)","v":""},{"$f":"IF(②選手情報入力!H49=\"\",\"\",②選手情報入力!H49)","v":""},{"$f":"IF(②選手情報入力!I49=\"\",\"\",②選手情報入力!I49)","v":""},{"$f":"IF(②選手情報入力!K49=\"\",\"\",②選手情報入力!K49)","v":""},{"$f":"IF(②選手情報入力!L49=\"\",\"\",②選手情報入力!L49)","v":""},{"$f":"IF(②選手情報入力!N49=\"\",\"\",②選手情報入力!N49)","v":""},null,null,{"$f":"IF(②選手情報入力!P49=\"\",\"\",②選手情報入力!P49)","v":""},{"$f":"IF(②選手情報入力!Q49=\"\",\"\",②選手情報入力!Q49)","v":""}]

{"sheet":"個人種目個票","index":6,"n_rows":848,"n_cols":28,"rows_kept":848,"cut":false,"hidden":false,"merged":[[847,10,847,11],[847,23,847,24],[528,10,528,11],[528,23,528,24],[505,10,505,11],[505,23,505,24],[506,10,506,11],[506,23,506,24],[507,10,507,11],[507,23,507,24],[824,10,824,11],[824,23,824,24],[825,10,825,11],[825,23,825,24],[826,10,826,11],[826,23,826,24],[845,10,845,11],[845,23,845,24],[846,10,846,11],[846,23,846,24],[613,10,613,11],[613,23,613,24],[590,10,590,11],[590,23,590,24],[591,10,591,11],[591,23,591,24],[592,10,592,11],[592,23,592,24],[569,10,569,11],[569,23,569,24],[570,10,570,11],[570,23,570,24],[549,10,549,11],[549,23,549,24],[698,10,698,11],[698,23,698,24],[675,10,675,11],[675,23,675,24],[676,10,676,11],[676,23,676,24],[677,10,677,11],[677,23,677,24],[654,10,654,11],[654,23,654,24],[655,10,655,11],[655,23,655,24],[656,10,656,11],[656,23,656,24],[633,10,633,11],[633,23,633,24],[634,10,634,11],[634,23,634,24],[635,10,635,11],[635,23,635,24],[692,23,693,23],[671,23,672,23],[680,0,680,10],[680,13,680,23],[692,1,693,4],[692,5,693,5],[692,6,693,7],[692,8,693,9],[692,10,693,10],[692,14,693,17],[784,10,784,11],[784,23,784,24],[760,10,760,11],[760,23,760,24],[761,10,761,11],[761,23,761,24],[762,10,762,11],[762,23,762,24],[739,10,739,11],[739,23,739,24],[740,10,740,11],[740,23,740,24],[741,10,741,11],[741,23,741,24],[718,10,718,11],[718,23,718,24],[719,10,719,11],[719,23,719,24],[720,10,720,11],[720,23,720,24],[778,23,779,23],[756,23,757,23],[766,0,766,10],[766,13,766,23],[768,1,768,2],[768,3,770,6],[768,14,768,15],[768,16,770,19],[769,1,770,2],[769,7,773,10],[769,14,770,15],[769,20,773,23],[422,10,422,11],[422,23,422,24],[441,10,441,11],[441,23,441,24],[442,10,442,11],[442,23,442,24],[443,10,443,11],[443,23,443,24],[484,10,484,11],[484,23,484,24],[485,10,485,11],[485,23,485,24],[486,10,486,11],[486,23,486,24],[462,10,462,11],[462,23,462,24],[463,10,463,11],[463,23,463,24],[464,10,464,11],[464,23,464,24],[480,23,481,23],[458,23,459,23],[468,0,468,10],[468,13,468,23],[470,1,470,2],[470,3,472,6],[470,14,470,15],[470,16,472,19],[471,1,472,2],[471,7,475,10],[471,14,472,15],[471,20,475,23],[337,10,337,11],[337,23,337,24],[356,10,356,11],[356,23,356,24],[357,10,357,11],[357,23,357,24],[358,10,358,11],[358,23,358,24],[377,10,377,11],[377,23,377,24],[378,10,378,11],[378,23,378,24],[379,10,379,11],[379,23,379,24],[398,10,398,11],[398,23,398,24],[399,10,399,11],[399,23,399,24],[251,10,251,11],[251,23,251,24],[271,10,271,11],[271,23,271,24],[272,10,272,11],[272,23,272,24],[273,10,273,11],[273,23,273,24],[292,10,292,11],[292,23,292,24],[293,10,293,11],[293,23,293,24],[294,10,294,11],[294,23,294,24],[313,10,313,11],[313,23,313,24],[314,10,314,11],[314,23,314,24],[144,23,144,24],[145,10,145,11],[145,23,145,24],[164,10,164,11],[164,23,164,24],[165,10,165,11],[165,23,165,24],[166,10,166,11],[166,23,166,24],[186,10,186,11],[186,23,186,24],[187,10,187,11],[187,23,187,24],[188,10,188,11],[188,23,188,24],[207,10,207,11],[207,23,207,24],[154,15,155,15],[151,20,155,23],[153,16,153,19],[154,13,155,14],[170,0,170,10],[170,13,170,23],[154,16,155,19],[156,13,159,13],[156,14,156,17],[156,18,156,19],[156,20,156,23],[157,14,159,17],[158,18,159,18],[158,19,159,20],[158,21,159,22],[841,23,842,23],[841,1,842,4],[841,5,842,5],[841,6,842,7],[841,8,842,9],[841,10,842,10],[841,14,842,17],[841,18,842,18],[841,19,842,20],[841,21,842,22],[837,0,840,0],[837,1,837,4],[837,5,837,6],[837,7,837,10],[837,13,840,13],[837,14,837,17],[837,18,837,19],[837,20,837,23],[838,1,840,4],[838,14,840,17],[839,5,840,5],[839,6,840,7],[839,8,840,9],[839,10,840,10],[839,18,840,18],[839,19,840,20],[839,21,840,22],[839,23,840,23],[820,23,821,23],[829,0,829,10],[829,13,829,23],[831,1,831,2],[831,3,833,6],[831,14,831,15],[831,16,833,19],[832,1,833,2],[832,7,836,10],[832,14,833,15],[832,20,836,23],[834,3,834,6],[834,16,834,19],[835,0,836,1],[835,2,836,2],[835,3,836,6],[835,13,836,14],[835,15,836,15],[835,16,836,19],[820,1,821,4],[820,5,821,5],[820,6,821,7],[820,8,821,9],[820,10,821,10],[820,14,821,17],[820,18,821,18],[820,19,821,20],[820,21,821,22],[816,0,819,0],[816,1,816,4],[816,5,816,6],[816,7,816,10],[816,13,819,13],[816,14,816,17],[816,18,816,19],[816,20,816,23],[817,1,819,4],[817,14,819,17],[818,5,819,5],[818,6,819,7],[818,8,819,9],[818,10,819,10],[818,18,819,18],[818,19,819,20],[818,21,819,22],[818,23,819,23],[799,23,800,23],[808,0,808,10],[808,13,808,23],[810,1,810,2],[810,3,812,6],[810,14,810,15],[810,16,812,19],[811,1,812,2],[811,7,815,10],[811,14,812,15],[811,20,815,23],[813,3,813,6],[813,16,813,19],[814,0,815,1],[814,2,815,2],[814,3,815,6],[814,13,815,14],[814,15,815,15],[814,16,815,19],[799,1,800,4],[799,5,800,5],[799,6,800,7],[799,8,800,9],[799,10,800,10],[799,14,800,17],[799,18,800,18],[799,19,800,20],[799,21,800,22],[795,0,798,0],[795,1,795,4],[795,5,795,6],[795,7,795,10],[795,13,798,13],[795,14,795,17],[795,18,795,19],[795,20,795,23],[796,1,798,4],[796,14,798,17],[797,5,798,5],[797,6,798,7],[797,8,798,9],[797,10,798,10],[797,18,798,18],[797,19,798,20],[797,21,798,22],[797,23,798,23],[787,0,787,10],[787,13,787,23],[789,1,789,2],[789,3,791,6],[789,14,789,15],[789,16,791,19],[790,1,791,2],[790,7,794,10],[790,14,791,15],[790,20,794,23],[792,3,792,6],[792,16,792,19],[793,0,794,1],[793,2,794,2],[793,3,794,6],[793,13,794,14],[793,15,794,15],[793,16,794,19],[778,1,779,4],[778,5,779,5],[778,6,779,7],[778,8,779,9],[778,10,779,10],[778,14,779,17],[778,18,779,18],[778,19,779,20],[778,21,779,22],[782,10,782,11],[782,23,782,24],[783,10,783,11],[783,23,783,24],[774,0,777,0],[774,1,774,4],[774,5,774,6],[774,7,774,10],[774,13,777,13],[774,14,774,17],[774,18,774,19],[774,20,774,23],[775,1,777,4],[775,14,777,17],[776,5,777,5],[776,6,777,7],[776,8,777,9],[776,10,777,10],[776,18,777,18],[776,19,777,20],[776,21,777,22],[776,23,777,23],[771,3,771,6],[771,16,771,19],[772,0,773,1],[772,2,773,2],[772,3,773,6],[772,13,773,14],[772,15,773,15],[772,16,773,19],[756,1,757,4],[756,5,757,5],[756,6,757,7],[756,8,757,9],[756,10,757,10],[756,14,757,17],[756,18,757,18],[756,19,757,20],[756,21,757,22],[752,0,755,0],[752,1,752,4],[752,5,752,6],[752,7,752,10],[752,13,755,13],[752,14,752,17],[752,18,752,19],[752,20,752,23],[753,1,755,4],[753,14,755,17],[754,5,755,5],[754,6,755,7],[754,8,755,9],[754,10,755,10],[754,18,755,18],[754,19,755,20],[754,21,755,22],[754,23,755,23],[735,23,736,23],[744,0,744,10],[744,13,744,23],[746,1,746,2],[746,3,748,6],[746,14,746,15],[746,16,748,19],[747,1,748,2],[747,7,751,10],[747,14,748,15],[747,20,751,23],[749,3,749,6],[749,16,749,19],[750,0,751,1],[750,2,751,2],[750,3,751,6],[750,13,751,14],[750,15,751,15],[750,16,751,19],[735,1,736,4],[735,5,736,5],[735,6,736,7],[735,8,736,9],[735,10,736,10],[735,14,736,17],[735,18,736,18],[735,19,736,20],[735,21,736,22],[731,0,734,0],[731,1,731,4],[731,5,731,6],[731,7,731,10],[731,13,734,13],[731,14,731,17],[731,18,731,19],[731,20,731,23],[732,1,734,4],[732,14,734,17],[733,5,734,5],[733,6,734,7],[733,8,734,9],[733,10,734,10],[733,18,734,18],[733,19,734,20],[733,21,734,22],[733,23,734,23],[714,23,715,23],[723,0,723,10],[723,13,723,23],[725,1,725,2],[725,3,727,6],[725,14,725,15],[725,16,727,19],[726,1,727,2],[726,7,730,10],[726,14,727,15],[726,20,730,23],[728,3,728,6],[728,16,728,19],[729,0,730,1],[729,2,730,2],[729,3,730,6],[729,13,730,14],[729,15,730,15],[729,16,730,19],[714,1,715,4],[714,5,715,5],[714,6,715,7],[714,8,715,9],[714,10,715,10],[714,14,715,17],[714,18,715,18],[714,19,715,20],[714,21,715,22],[710,0,713,0],[710,1,710,4],[710,5,710,6],[710,7,710,10],[710,13,713,13],[710,14,710,17],[710,18,710,19],[710,20,710,23],[711,1,713,4],[711,14,713,17],[712,5,713,5],[712,6,713,7],[712,8,713,9],[712,10,713,10],[712,18,713,18],[712,19,713,20],[712,21,713,22],[712,23,713,23],[702,0,702,10],[702,13,702,23],[704,1,704,2],[704,3,706,6],[704,14,704,15],[704,16,706,19],[705,1,706,2],[705,7,709,10],[705,14,706,15],[705,20,709,23],[707,3,707,6],[707,16,707,19],[708,0,709,1],[708,2,709,2],[708,3,709,6],[708,13,709,14],[708,15,709,15],[708,16,709,19],[692,18,693,18],[692,19,693,20],[692,21,693,22],[696,10,696,11],[696,23,696,24],[697,10,697,11],[697,23,697,24],[688,0,691,0],[688,1,688,4],[688,5,688,6],[688,7,688,10],[688,13,691,13],[688,14,688,17],[688,18,688,19],[688,20,688,23],[689,1,691,4],[689,14,691,17],[690,5,691,5],[690,6,691,7],[690,8,691,9],[690,10,691,10],[690,18,691,18],[690,19,691,20],[690,21,691,22],[690,23,691,23],[682,1,682,2],[682,3,684,6],[682,14,682,15],[682,16,684,19],[683,1,684,2],[683,7,687,10],[683,14,684,15],[683,20,687,23],[685,3,685,6],[685,16,685,19],[686,0,687,1],[686,2,687,2],[686,3,687,6],[686,13,687,14],[686,15,687,15],[686,16,687,19],[671,1,672,4],[671,5,672,5],[671,6,672,7],[671,8,672,9],[671,10,672,10],[671,14,672,17],[671,18,672,18],[671,19,672,20],[671,21,672,22],[667,0,670,0],[667,1,667,4],[667,5,667,6],[667,7,667,10],[667,13,670,13],[667,14,667,17],[667,18,667,19],[667,20,667,23],[668,1,670,4],[668,14,670,17],[669,5,670,5],[669,6,670,7],[669,8,670,9],[669,10,670,10],[669,18,670,18],[669,19,670,20],[669,21,670,22],[669,23,670,23],[650,23,651,23],[659,0,659,10],[659,13,659,23],[661,1,661,2],[661,3,663,6],[661,14,661,15],[661,16,663,19],[662,1,663,2],[662,7,666,10],[662,14,663,15],[662,20,666,23],[664,3,664,6],[664,16,664,19],[665,0,666,1],[665,2,666,2],[665,3,666,6],[665,13,666,14],[665,15,666,15],[665,16,666,19],[650,1,651,4],[650,5,651,5],[650,6,651,7],[650,8,651,9],[650,10,651,10],[650,14,651,17],[650,18,651,18],[650,19,651,20],[650,21,651,22],[646,0,649,0],[646,1,646,4],[646,5,646,6],[646,7,646,10],[646,13,649,13],[646,14,646,17],[646,18,646,19],[646,20,646,23],[647,1,649,4],[647,14,649,17],[648,5,649,5],[648,6,649,7],[648,8,649,9],[648,10,649,10],[648,18,649,18],[648,19,649,20],[648,21,649,22],[648,23,649,23],[629,23,630,23],[638,0,638,10],[638,13,638,23],[640,1,640,2],[640,3,642,6],[640,14,640,15],[640,16,642,19],[641,1,642,2],[641,7,645,10],[641,14,642,15],[641,20,645,23],[643,3,643,6],[643,16,643,19],[644,0,645,1],[644,2,645,2],[644,3,645,6],[644,13,645,14],[644,15,645,15],[644,16,645,19],[629,1,630,4],[629,5,630,5],[629,6,630,7],[629,8,630,9],[629,10,630,10],[629,14,630,17],[629,18,630,18],[629,19,630,20],[629,21,630,22],[625,0,628,0],[625,1,625,4],[625,5,625,6],[625,7,625,10],[625,13,628,13],[625,14,625,17],[625,18,625,19],[625,20,625,23],[626,1,628,4],[626,14,628,17],[627,5,628,5],[627,6,628,7],[627,8,628,9],[627,10,628,10],[627,18,628,18],[627,19,628,20],[627,21,628,22],[627,23,628,23],[607,23,608,23],[617,0,617,10],[617,13,617,23],[619,1,619,2],[619,3,621,6],[619,14,619,15],[619,16,621,19],[620,1,621,2],[620,7,624,10],[620,14,621,15],[620,20,624,23],[622,3,622,6],[622,16,622,19],[623,0,624,1],[623,2,624,2],[623,3,624,6],[623,13,624,14],[623,15,624,15],[623,16,624,19],[607,1,608,4],[607,5,608,5],[607,6,608,7],[607,8,608,9],[607,10,608,10],[607,14,608,17],[607,18,608,18],[607,19,608,20],[607,21,608,22],[611,10,611,11],[611,23,611,24],[612,10,612,11],[612,23,612,24],[603,0,606,0],[603,1,603,4],[603,5,603,6],[603,7,603,10],[603,13,606,13],[603,14,603,17],[603,18,603,19],[603,20,603,23],[604,1,606,4],[604,14,606,17],[605,5,606,5],[605,6,606,7],[605,8,606,9],[605,10,606,10],[605,18,606,18],[605,19,606,20],[605,21,606,22],[605,23,606,23],[586,23,587,23],[595,0,595,10],[595,13,595,23],[597,1,597,2],[597,3,599,6],[597,14,597,15],[597,16,599,19],[598,1,599,2],[598,7,602,10],[598,14,599,15],[598,20,602,23],[600,3,600,6],[600,16,600,19],[601,0,602,1],[601,2,602,2],[601,3,602,6],[601,13,602,14],[601,15,602,15],[601,16,602,19],[586,1,587,4],[586,5,587,5],[586,6,587,7],[586,8,587,9],[586,10,587,10],[586,14,587,17],[586,18,587,18],[586,19,587,20],[586,21,587,22],[582,0,585,0],[582,1,582,4],[582,5,582,6],[582,7,582,10],[582,13,585,13],[582,14,582,17],[582,18,582,19],[582,20,582,23],[583,1,585,4],[583,14,585,17],[584,5,585,5],[584,6,585,7],[584,8,585,9],[584,10,585,10],[584,18,585,18],[584,19,585,20],[584,21,585,22],[584,23,585,23],[565,23,566,23],[574,0,574,10],[574,13,574,23],[576,1,576,2],[576,3,578,6],[576,14,576,15],[576,16,578,19],[577,1,578,2],[577,7,581,10],[577,14,578,15],[577,20,581,23],[579,3,579,6],[579,16,579,19],[580,0,581,1],[580,2,581,2],[580,3,581,6],[580,13,581,14],[580,15,581,15],[580,16,581,19],[565,1,566,4],[565,5,566,5],[565,6,566,7],[565,8,566,9],[565,10,566,10],[565,14,566,17],[565,18,566,18],[565,19,566,20],[565,21,566,22],[571,10,571,11],[571,23,571,24],[561,0,564,0],[561,1,561,4],[561,5,561,6],[561,7,561,10],[561,13,564,13],[561,14,561,17],[561,18,561,19],[561,20,561,23],[562,1,564,4],[562,14,564,17],[563,5,564,5],[563,6,564,7],[563,8,564,9],[563,10,564,10],[563,18,564,18],[563,19,564,20],[563,21,564,22],[563,23,564,23],[543,23,544,23],[553,0,553,10],[553,13,553,23],[555,1,555,2],[555,3,557,6],[555,14,555,15],[555,16,557,19],[556,1,557,2],[556,7,560,10],[556,14,557,15],[556,20,560,23],[558,3,558,6],[558,16,558,19],[559,0,560,1],[559,2,560,2],[559,3,560,6],[559,13,560,14],[559,15,560,15],[559,16,560,19],[543,1,544,4],[543,5,544,5],[543,6,544,7],[543,8,544,9],[543,10,544,10],[543,14,544,17],[543,18,544,18],[543,19,544,20],[543,21,544,22],[547,10,547,11],[547,23,547,24],[548,10,548,11],[548,23,548,24],[539,0,542,0],[539,1,539,4],[539,5,539,6],[539,7,539,10],[539,13,542,13],[539,14,539,17],[539,18,539,19],[539,20,539,23],[540,1,542,4],[540,14,542,17],[541,5,542,5],[541,6,542,7],[541,8,542,9],[541,10,542,10],[541,18,542,18],[541,19,542,20],[541,21,542,22],[541,23,542,23],[522,23,523,23],[531,0,531,10],[531,13,531,23],[533,1,533,2],[533,3,535,6],[533,14,533,15],[533,16,535,19],[534,1,535,2],[534,7,538,10],[534,14,535,15],[534,20,538,23],[536,3,536,6],[536,16,536,19],[537,0,538,1],[537,2,538,2],[537,3,538,6],[537,13,538,14],[537,15,538,15],[537,16,538,19],[522,1,523,4],[522,5,523,5],[522,6,523,7],[522,8,523,9],[522,10,523,10],[522,14,523,17],[522,18,523,18],[522,19,523,20],[522,21,523,22],[526,10,526,11],[526,23,526,24],[527,10,527,11],[527,23,527,24],[518,0,521,0],[518,1,518,4],[518,5,518,6],[518,7,518,10],[518,13,521,13],[518,14,518,17],[518,18,518,19],[518,20,518,23],[519,1,521,4],[519,14,521,17],[520,5,521,5],[520,6,521,7],[520,8,521,9],[520,10,521,10],[520,18,521,18],[520,19,521,20],[520,21,521,22],[520,23,521,23],[501,23,502,23],[510,0,510,10],[510,13,510,23],[512,1,512,2],[512,3,514,6],[512,14,512,15],[512,16,514,19],[513,1,514,2],[513,7,517,10],[513,14,514,15],[513,20,517,23],[515,3,515,6],[515,16,515,19],[516,0,517,1],[516,2,517,2],[516,3,517,6],[516,13,517,14],[516,15,517,15],[516,16,517,19],[501,1,502,4],[501,5,502,5],[501,6,502,7],[501,8,502,9],[501,10,502,10],[501,14,502,17],[501,18,502,18],[501,19,502,20],[501,21,502,22],[497,0,500,0],[497,1,497,4],[497,5,497,6],[497,7,497,10],[497,13,500,13],[497,14,497,17],[497,18,497,19],[497,20,497,23],[498,1,500,4],[498,14,500,17],[499,5,500,5],[499,6,500,7],[499,8,500,9],[499,10,500,10],[499,18,500,18],[499,19,500,20],[499,21,500,22],[499,23,500,23],[489,0,489,10],[489,13,489,23],[491,1,491,2],[491,3,493,6],[491,14,491,15],[491,16,493,19],[492,1,493,2],[492,7,496,10],[492,14,493,15],[492,20,496,23],[494,3,494,6],[494,16,494,19],[495,0,496,1],[495,2,496,2],[495,3,496,6],[495,13,496,14],[495,15,496,15],[495,16,496,19],[480,1,481,4],[480,5,481,5],[480,6,481,7],[480,8,481,9],[480,10,481,10],[480,14,481,17],[480,18,481,18],[480,19,481,20],[480,21,481,22],[476,0,479,0],[476,1,476,4],[476,5,476,6],[476,7,476,10],[476,13,479,13],[476,14,476,17],[476,18,476,19],[476,20,476,23],[477,1,479,4],[477,14,479,17],[478,5,479,5],[478,6,479,7],[478,8,479,9]],"merged_total":2074,"flags":["merged_cut"]}
["愛知選手権5000m･10000m 国体少年Ｂ 個人申込票",null,null,null,null,null,null,null,null,null,null,1,null,"愛知選手権5000m･10000m 国体少年Ｂ 個人申込票",null,null,null,null,null,null,null,null,null,null,1]
[null,null,null,"",null,null,null,null,null,"資格審査用",null,null,null,null,null,null,"",null,null,null,null,null,"資格審査用",null,null,null,null,"資格"]
[null,"性　　別",null,{"$f":"IF(②選手情報入力!I10=\"\",\"\",②選手情報入力!I10)","v":""},null,null,null,"出場資格条件（選択)",null,null,null,null,null,null,"性　　別",null,{"$f":"IF(②選手情報入力!L10=\"\",\"\",②選手情報入力!L10)","v":""},null,null,null,"出場資格条件（選択)",null,null,null,null,null,null," １ 前年度選手権者"]
["種  目",{"$f":"IF(②選手情報入力!$G$10=\"\",\"\",②選手情報入力!$G$10)","v":""},null,null,null,null,null,null,null,null,null,null,null,"種  目",{"$f":"IF(②選手情報入力!$G$10=\"\",\"\",②選手情報入力!$G$10)","v":""},null,null,null,null,null,null,null,null,null,null,null,null," ２ 各支部予選通過"]
[null,null,null,null,null,null,null,null,null,null,null,null,null,null,null,null,null,null,null,null,null,null,null,null,null,null,null," ３ 中部実業団･東海学生入賞"]
["ナンバー",null,"ﾌ ﾘ ｶﾞﾅ",{"$f":"IF(②選手情報入力!$E$10=\"\",\"\",②選手情報入力!$E$10)","v":""},null,null,null,null,null,null,null,null,null,"ナンバー",null,"ﾌ ﾘ ｶﾞﾅ",{"$f":"IF(②選手情報入力!$E$10=\"\",\"\",②選手情報入力!$E$10)","v":""},null,null,null,null,null,null,null,null,null,null," ４ 県高校総体８位"]
[{"$f":"IF(②選手情報入力!$B$10=\"\",\"\",②選手情報入力!$B$10)","v":""},null,"氏 名",{"$f":"IF(②選手情報入力!$D$10=\"\",\"\",②選手情報入力!$D$10)","v":""},null,null,null,null,null,null,null,null,null,{"$f":"IF(②選手情報入力!$B$10=\"\",\"\",②選手情報入力!$B$10)","v":""},null,"氏 名",{"$f":"IF(②選手情報入力!$D$10=\"\",\"\",②選手情報入力!$D$10)","v":""},null,null,null,null,null,null,null,null,null,null," ５ 前年度10傑"]
[null,null,null,null,null,null,null,null,null,null,null,null,null,null,null,null,null,null,null,null,null,null,null,null,null,null,null," ６ 標準記録突破"]
["出場資格\n取得大会","大　会　名",null,null,null,"加入団体名",null,{"$f":"①団体情報入力!$D$5","v":0},null,null,null,null,null,"出場資格\n取得大会","大　会　名",null,null,null,"加入団体名",null,{"$f":"①団体情報入力!$D$5","v":0},null,null,null,null,null,null," ７ 推薦"]
[null,null,null,null,null,"年.月.日","順 位",null,"記　録",null,"場  所",null,null,null,null,null,null,null,"年.月.日","順 位",null,"記　録",null,"場  所"]
[null,null,null,null,null,null,null,null,{"$f":"IF(②選手情報入力!J10=\"\",\"\",②選手情報入力!J10)","v":""},null,null,null,null,null,null,null,null,null,null,null,null,{"$f":"IF(②選手情報入力!M10=\"\",\"\",②選手情報入力!M10)","v":""}]
[]
["本 年 度",null,null,null,null,null,null,null,{"$f":"IF(②選手情報入力!J10=\"\",\"同上\",②選手情報入力!K10)","v":"同上"},null,null,null,null,"本 年 度",null,null,null,null,null,null,null,{"$f":"IF(②選手情報入力!N10=\"\",\"同上\",②選手情報入力!N10)","v":"同上"}]
["最高記録",null,null,null,null,null,null,null,null,null,null,null,null,"最高記録"]
["備　  考","※記入不要",null,null,null,null,null,null,null,null,null,null,null,"備　  考","※記入不要"]
[]
["※標準記録突破大会は、公認大会で、記録会は正式名称を記入。",null,null,null,null,null,null,null,null,null,"女子は",null,null,"※標準記録突破大会は、公認大会で、記録会は正式名称を記入。",null,null,null,null,null,null,null,null,null,"女子は"]
["※参加資格・記録等記入不備の場合、審査の対象としない。",null,null,null,null,null,null,null,null,null,"ここを",null,null,"※参加資格・記録等記入不備の場合、審査の対象としない。",null,null,null,null,null,null,null,null,null,"ここを"]
["※申込締切期日厳守。",null,null,null,null,null,null,null,null,null,"切り取る",null,null,"※申込締切期日厳守。",null,null,null,null,null,null,null,null,null,"切り取る"]
[]
[]
["愛知選手権5000m･10000m 国体少年Ｂ 個人申込票",null,null,null,null,null,null,null,null,null,null,2,null,"愛知選手権5000m･10000m 国体少年Ｂ 個人申込票",null,null,null,null,null,null,null,null,null,null,2]
[null,null,null,"",null,null,null,null,null,"資格審査用",null,null,null,null,null,null,"",null,null,null,null,null,"資格審査用"]
[null,"性　　別",null,{"$f":"IF(②選手情報入力!I11=\"\",\"\",②選手情報入力!I11)","v":""},null,null,null,"出場資格条件（選択)",null,null,null,null,null,null,"性　　別",null,{"$f":"IF(②選手情報入力!L11=\"\",\"\",②選手情報入力!L11)","v":""},null,null,null,"出場資格条件（選択)"]
["種  目",{"$f":"IF(②選手情報入力!$G$11=\"\",\"\",②選手情報入力!$G$11)","v":""},null,null,null,null,null,null,null,null,null,null,null,"種  目",{"$f":"IF(②選手情報入力!$G$11=\"\",\"\",②選手情報入力!$G$11)","v":""}]
[]
["ナンバー",null,"ﾌ ﾘ ｶﾞﾅ",{"$f":"IF(②選手情報入力!$E$11=\"\",\"\",②選手情報入力!$E$11)","v":""},null,null,null,null,null,null,null,null,null,"ナンバー",null,"ﾌ ﾘ ｶﾞﾅ",{"$f":"IF(②選手情報入力!$E$11=\"\",\"\",②選手情報入力!$E$11)","v":""}]
[{"$f":"IF(②選手情報入力!$B$11=\"\",\"\",②選手情報入力!$B$11)","v":""},null,"氏 名",{"$f":"IF(②選手情報入力!$D$11=\"\",\"\",②選手情報入力!$D$11)","v":""},null,null,null,null,null,null,null,null,null,{"$f":"IF(②選手情報入力!$B$11=\"\",\"\",②選手情報入力!$B$11)","v":""},null,"氏 名",{"$f":"IF(②選手情報入力!$D$11=\"\",\"\",②選手情報入力!$D$11)","v":""}]
[]
["出場資格\n取得大会","大　会　名",null,null,null,"加入団体名",null,{"$f":"①団体情報入力!$D$5","v":0},null,null,null,null,null,"出場資格\n取得大会","大　会　名",null,null,null,"加入団体名",null,{"$f":"①団体情報入力!$D$5","v":0}]
[null,null,null,null,null,"年.月.日","順 位",null,"記　録",null,"場  所",null,null,null,null,null,null,null,"年.月.日","順 位",null,"記　録",null,"場  所"]
[null,null,null,null,null,null,null,null,{"$f":"IF(②選手情報入力!J11=\"\",\"\",②選手情報入力!J11)","v":""},null,null,null,null,null,null,null,null,null,null,null,null,{"$f":"IF(②選手情報入力!M11=\"\",\"\",②選手情報入力!M11)","v":""}]
[]
["本 年 度",null,null,null,null,null,null,null,{"$f":"IF(②選手情報入力!K11=\"\",\"同上\",②選手情報入力!K11)","v":"同上"},null,null,null,null,"本 年 度",null,null,null,null,null,null,null,{"$f":"IF(②選手情報入力!N11=\"\",\"同上\",②選手情報入力!N11)","v":"同上"}]
["最高記録",null,null,null,null,null,null,null,null,null,null,null,null,"最高記録"]
["備　  考","※記入不要",null,null,null,null,null,null,null,null,null,null,null,"備　  考","※記入不要"]
[]
["※標準記録突破大会は、公認大会で、記録会は正式名称を記入。",null,null,null,null,null,null,null,null,null,"女子は",null,null,"※標準記録突破大会は、公認大会で、記録会は正式名称を記入。",null,null,null,null,null,null,null,null,null,"女子は"]
["※参加資格・記録等記入不備の場合、審査の対象としない。",null,null,null,null,null,null,null,null,null,"ここを",null,null,"※参加資格・記録等記入不備の場合、審査の対象としない。",null,null,null,null,null,null,null,null,null,"ここを"]
["※申込締切期日厳守。",null,null,null,null,null,null,null,null,null,"切り取る",null,null,"※申込締切期日厳守。",null,null,null,null,null,null,null,null,null,"切り取る"]
[]
[]
["愛知選手権5000m･10000m 国体少年Ｂ 個人申込票",null,null,null,null,null,null,null,null,null,null,3,null,"愛知選手権5000m･10000m 国体少年Ｂ 個人申込票",null,null,null,null,null,null,null,null,null,null,3]
[null,null,null,"",null,null,null,null,null,"資格審査用",null,null,null,null,null,null,"",null,null,null,null,null,"資格審査用"]
[null,"性　　別",null,{"$f":"IF(②選手情報入力!I12=\"\",\"\",②選手情報入力!I12)","v":""},null,null,null,"出場資格条件（選択)",null,null,null,null,null,null,"性　　別",null,{"$f":"IF(②選手情報入力!L12=\"\",\"\",②選手情報入力!L12)","v":""},null,null,null,"出場資格条件（選択)"]
["種  目",{"$f":"IF(②選手情報入力!$G$12=\"\",\"\",②選手情報入力!$G$12)","v":""},null,null,null,null,null,null,null,null,null,null,null,"種  目",{"$f":"IF(②選手情報入力!$G$12=\"\",\"\",②選手情報入力!$G$12)","v":""}]
[]
["ナンバー",null,"ﾌ ﾘ ｶﾞﾅ",{"$f":"IF(②選手情報入力!$E$12=\"\",\"\",②選手情報入力!$E$12)","v":""},null,null,null,null,null,null,null,null,null,"ナンバー",null,"ﾌ ﾘ ｶﾞﾅ",{"$f":"IF(②選手情報入力!$E$12=\"\",\"\",②選手情報入力!$E$12)","v":""}]
[{"$f":"IF(②選手情報入力!$B$12=\"\",\"\",②選手情報入力!$B$12)","v":""},null,"氏 名",{"$f":"IF(②選手情報入力!$D$12=\"\",\"\",②選手情報入力!$D$12)","v":""},null,null,null,null,null,null,null,null,null,{"$f":"IF(②選手情報入力!$B$12=\"\",\"\",②選手情報入力!$B$12)","v":""},null,"氏 名",{"$f":"IF(②選手情報入力!$D$12=\"\",\"\",②選手情報入力!$D$12)","v":""}]
[]
["出場資格\n取得大会","大　会　名",null,null,null,"加入団体名",null,{"$f":"①団体情報入力!$D$5","v":0},null,null,null,null,null,"出場資格\n取得大会","大　会　名",null,null,null,"加入団体名",null,{"$f":"①団体情報入力!$D$5","v":0}]
[null,null,null,null,null,"年.月.日","順 位",null,"記　録",null,"場  所",null,null,null,null,null,null,null,"年.月.日","順 位",null,"記　録",null,"場  所"]
[null,null,null,null,null,null,null,null,{"$f":"IF(②選手情報入力!J12=\"\",\"\",②選手情報入力!J12)","v":""},null,null,null,null,null,null,null,null,null,null,null,null,{"$f":"IF(②選手情報入力!M12=\"\",\"\",②選手情報入力!M12)","v":""}]
[]
["本 年 度",null,null,null,null,null,null,null,{"$f":"IF(②選手情報入力!K12=\"\",\"同上\",②選手情報入力!K12)","v":"同上"},null,null,null,null,"本 年 度",null,null,null,null,null,null,null,{"$f":"IF(②選手情報入力!N12=\"\",\"同上\",②選手情報入力!N12)","v":"同上"}]
["最高記録",null,null,null,null,null,null,null,null,null,null,null,null,"最高記録"]
["備　  考","※記入不要",null,null,null,null,null,null,null,null,null,null,null,"備　  考","※記入不要"]
[]
["※標準記録突破大会は、公認大会で、記録会は正式名称を記入。",null,null,null,null,null,null,null,null,null,"女子は",null,null,"※標準記録突破大会は、公認大会で、記録会は正式名称を記入。",null,null,null,null,null,null,null,null,null,"女子は"]
["※参加資格・記録等記入不備の場合、審査の対象としない。",null,null,null,null,null,null,null,null,null,"ここを",null,null,"※参加資格・記録等記入不備の場合、審査の対象としない。",null,null,null,null,null,null,null,null,null,"ここを"]
["※申込締切期日厳守。",null,null,null,null,null,null,null,null,null,"切り取る",null,null,"※申込締切期日厳守。",null,null,null,null,null,null,null,null,null,"切り取る"]
[]
[]
["愛知選手権5000m･10000m 国体少年Ｂ 個人申込票",null,null,null,null,null,null,null,null,null,null,4,null,"愛知選手権5000m･10000m 国体少年Ｂ 個人申込票",null,null,null,null,null,null,null,null,null,null,4]
[null,null,null,"",null,null,null,null,null,"資格審査用",null,null,null,null,null,null,"",null,null,null,null,null,"資格審査用"]
[null,"性　　別",null,{"$f":"IF(②選手情報入力!I13=\"\",\"\",②選手情報入力!I13)","v":""},null,null,null,"出場資格条件（選択)",null,null,null,null,null,null,"性　　別",null,{"$f":"IF(②選手情報入力!L13=\"\",\"\",②選手情報入力!L13)","v":""},null,null,null,"出場資格条件（選択)"]
["種  目",{"$f":"IF(②選手情報入力!$G$13=\"\",\"\",②選手情報入力!$G$13)","v":""},null,null,null,null,null,null,null,null,null,null,null,"種  目",{"$f":"IF(②選手情報入力!$G$13=\"\",\"\",②選手情報入力!$G$13)","v":""}]
[]
["ナンバー",null,"ﾌ ﾘ ｶﾞﾅ",{"$f":"IF(②選手情報入力!$E$13=\"\",\"\",②選手情報入力!$E$13)","v":""},null,null,null,null,null,null,null,null,null,"ナンバー",null,"ﾌ ﾘ ｶﾞﾅ",{"$f":"IF(②選手情報入力!$E$13=\"\",\"\",②選手情報入力!$E$13)","v":""}]
[{"$f":"IF(②選手情報入力!$B$13=\"\",\"\",②選手情報入力!$B$13)","v":""},null,"氏 名",{"$f":"IF(②選手情報入力!$D$13=\"\",\"\",②選手情報入力!$D$13)","v":""},null,null,null,null,null,null,null,null,null,{"$f":"IF(②選手情報入力!$B$13=\"\",\"\",②選手情報入力!$B$13)","v":""},null,"氏 名",{"$f":"IF(②選手情報入力!$D$13=\"\",\"\",②選手情報入力!$D$13)","v":""}]
[]
["出場資格\n取得大会","大　会　名",null,null,null,"加入団体名",null,{"$f":"①団体情報入力!$D$5","v":0},null,null,null,null,null,"出場資格\n取得大会","大　会　名",null,null,null,"加入団体名",null,{"$f":"①団体情報入力!$D$5","v":0}]
[null,null,null,null,null,"年.月.日","順 位",null,"記　録",null,"場  所",null,null,null,null,null,null,null,"年.月.日","順 位",null,"記　録",null,"場  所"]
[null,null,null,null,null,null,null,null,{"$f":"IF(②選手情報入力!J13=\"\",\"\",②選手情報入力!J13)","v":""},null,null,null,null,null,null,null,null,null,null,null,null,{"$f":"IF(②選手情報入力!M13=\"\",\"\",②選手情報入力!M13)","v":""}]
[]
["本 年 度",null,null,null,null,null,null,null,{"$f":"IF(②選手情報入力!K13=\"\",\"同上\",②選手情報入力!K13)","v":"同上"},null,null,null,null,"本 年 度",null,null,null,null,null,null,null,{"$f":"IF(②選手情報入力!N13=\"\",\"同上\",②選手情報入力!N13)","v":"同上"}]
["最高記録",null,null,null,null,null,null,null,null,null,null,null,null,"最高記録"]
["備　  考","※記入不要",null,null,null,null,null,null,null,null,null,null,null,"備　  考","※記入不要"]
[]
["※標準記録突破大会は、公認大会で、記録会は正式名称を記入。",null,null,null,null,null,null,null,null,null,"女子は",null,null,"※標準記録突破大会は、公認大会で、記録会は正式名称を記入。",null,null,null,null,null,null,null,null,null,"女子は"]
["※参加資格・記録等記入不備の場合、審査の対象としない。",null,null,null,null,null,null,null,null,null,"ここを",null,null,"※参加資格・記録等記入不備の場合、審査の対象としない。",null,null,null,null,null,null,null,null,null,"ここを"]
["※申込締切期日厳守。",null,null,null,null,null,null,null,null,null,"切り取る",null,null,"※申込締切期日厳守。",null,null,null,null,null,null,null,null,null,"切り取る"]
[]
[]
["愛知選手権5000m･10000m 国体少年Ｂ 個人申込票",null,null,null,null,null,null,null,null,null,null,5,null,"愛知選手権5000m･10000m 国体少年Ｂ 個人申込票",null,null,null,null,null,null,null,null,null,null,5]
[null,null,null,"",null,null,null,null,null,"資格審査用",null,null,null,null,null,null,"",null,null,null,null,null,"資格審査用"]
[null,"性　　別",null,{"$f":"IF(②選手情報入力!I14=\"\",\"\",②選手情報入力!I14)","v":""},null,null,null,"出場資格条件（選択)",null,null,null,null,null,null,"性　　別",null,{"$f":"IF(②選手情報入力!L14=\"\",\"\",②選手情報入力!L14)","v":""},null,null,null,"出場資格条件（選択)"]
["種  目",{"$f":"IF(②選手情報入力!$G$14=\"\",\"\",②選手情報入力!$G$14)","v":""},null,null,null,null,null,null,null,null,null,null,null,"種  目",{"$f":"IF(②選手情報入力!$G$14=\"\",\"\",②選手情報入力!$G$14)","v":""}]
[]
["ナンバー",null,"ﾌ ﾘ ｶﾞﾅ",{"$f":"IF(②選手情報入力!$E$14=\"\",\"\",②選手情報入力!$E$14)","v":""},null,null,null,null,null,null,null,null,null,"ナンバー",null,"ﾌ ﾘ ｶﾞﾅ",{"$f":"IF(②選手情報入力!$E$14=\"\",\"\",②選手情報入力!$E$14)","v":""}]
[{"$f":"IF(②選手情報入力!$B$14=\"\",\"\",②選手情報入力!$B$14)","v":""},null,"氏 名",{"$f":"IF(②選手情報入力!$D$14=\"\",\"\",②選手情報入力!$D$14)","v":""},null,null,null,null,null,null,null,null,null,{"$f":"IF(②選手情報入力!$B$14=\"\",\"\",②選手情報入力!$B$14)","v":""},null,"氏 名",{"$f":"IF(②選手情報入力!$D$14=\"\",\"\",②選手情報入力!$D$14)","v":""}]
[]
["出場資格\n取得大会","大　会　名",null,null,null,"加入団体名",null,{"$f":"①団体情報入力!$D$5","v":0},null,null,null,null,null,"出場資格\n取得大会","大　会　名",null,null,null,"加入団体名",null,{"$f":"①団体情報入力!$D$5","v":0}]
[null,null,null,null,null,"年.月.日","順 位",null,"記　録",null,"場  所",null,null,null,null,null,null,null,"年.月.日","順 位",null,"記　録",null,"場  所"]
[null,null,null,null,null,null,null,null,{"$f":"IF(②選手情報入力!J14=\"\",\"\",②選手情報入力!J14)","v":""},null,null,null,null,null,null,null,null,null,null,null,null,{"$f":"IF(②選手情報入力!M14=\"\",\"\",②選手情報入力!M14)","v":""}]
[]
["本 年 度",null,null,null,null,null,null,null,{"$f":"IF(②選手情報入力!K14=\"\",\"同上\",②選手情報入力!K14)","v":"同上"},null,null,null,null,"本 年 度",null,null,null,null,null,null,null,{"$f":"IF(②選手情報入力!N14=\"\",\"同上\",②選手情報入力!N14)","v":"同上"}]
["最高記録",null,null,null,null,null,null,null,null,null,null,null,null,"最高記録"]
["備　  考","※記入不要",null,null,null,null,null,null,null,null,null,null,null,"備　  考","※記入不要"]
[]
["※標準記録突破大会は、公認大会で、記録会は正式名称を記入。",null,null,null,null,null,null,null,null,null,"女子は",null,null,"※標準記録突破大会は、公認大会で、記録会は正式名称を記入。",null,null,null,null,null,null,null,null,null,"女子は"]
["※参加資格・記録等記入不備の場合、審査の対象としない。",null,null,null,null,null,null,null,null,null,"ここを",null,null,"※参加資格・記録等記入不備の場合、審査の対象としない。",null,null,null,null,null,null,null,null,null,"ここを"]
["※申込締切期日厳守。",null,null,null,null,null,null,null,null,null,"切り取る",null,null,"※申込締切期日厳守。",null,null,null,null,null,null,null,null,null,"切り取る"]
[]
[]
[]
["愛知選手権5000m･10000m 国体少年Ｂ 個人申込票",null,null,null,null,null,null,null,null,null,null,6,null,"愛知選手権5000m･10000m 国体少年Ｂ 個人申込票",null,null,null,null,null,null,null,null,null,null,6]
[null,null,null,"",null,null,null,null,null,"資格審査用",null,null,null,null,null,null,"",null,null,null,null,null,"資格審査用"]
[null,"性　　別",null,{"$f":"IF(②選手情報入力!I15=\"\",\"\",②選手情報入力!I15)","v":""},null,null,null,"出場資格条件（選択)",null,null,null,null,null,null,"性　　別",null,{"$f":"IF(②選手情報入力!L15=\"\",\"\",②選手情報入力!L15)","v":""},null,null,null,"出場資格条件（選択)"]
["種  目",{"$f":"IF(②選手情報入力!$G$15=\"\",\"\",②選手情報入力!$G$15)","v":""},null,null,null,null,null,null,null,null,null,null,null,"種  目",{"$f":"IF(②選手情報入力!$G$15=\"\",\"\",②選手情報入力!$G$15)","v":""}]
[]
["ナンバー",null,"ﾌ ﾘ ｶﾞﾅ",{"$f":"IF(②選手情報入力!$E$15=\"\",\"\",②選手情報入力!$E$15)","v":""},null,null,null,null,null,null,null,null,null,"ナンバー",null,"ﾌ ﾘ ｶﾞﾅ",{"$f":"IF(②選手情報入力!$E$15=\"\",\"\",②選手情報入力!$E$15)","v":""}]
[{"$f":"IF(②選手情報入力!$B$15=\"\",\"\",②選手情報入力!$B$15)","v":""},null,"氏 名",{"$f":"IF(②選手情報入力!$D$15=\"\",\"\",②選手情報入力!$D$15)","v":""},null,null,null,null,null,null,null,null,null,{"$f":"IF(②選手情報入力!$B$15=\"\",\"\",②選手情報入力!$B$15)","v":""},null,"氏 名",{"$f":"IF(②選手情報入力!$D$15=\"\",\"\",②選手情報入力!$D$15)","v":""}]
[]
["出場資格\n取得大会","大　会　名",null,null,null,"加入団体名",null,{"$f":"①団体情報入力!$D$5","v":0},null,null,null,null,null,"出場資格\n取得大会","大　会　名",null,null,null,"加入団体名",null,{"$f":"①団体情報入力!$D$5","v":0}]
[null,null,null,null,null,"年.月.日","順 位",null,"記　録",null,"場  所",null,null,null,null,null,null,null,"年.月.日","順 位",null,"記　録",null,"場  所"]
[null,null,null,null,null,null,null,null,{"$f":"IF(②選手情報入力!J15=\"\",\"\",②選手情報入力!J15)","v":""},null,null,null,null,null,null,null,null,null,null,null,null,{"$f":"IF(②選手情報入力!M15=\"\",\"\",②選手情報入力!M15)","v":""}]
[]
["本 年 度",null,null,null,null,null,null,null,{"$f":"IF(②選手情報入力!K15=\"\",\"同上\",②選手情報入力!K15)","v":"同上"},null,null,null,null,"本 年 度",null,null,null,null,null,null,null,{"$f":"IF(②選手情報入力!N15=\"\",\"同上\",②選手情報入力!N15)","v":"同上"}]
["最高記録",null,null,null,null,null,null,null,null,null,null,null,null,"最高記録"]
["備　  考","※記入不要",null,null,null,null,null,null,null,null,null,null,null,"備　  考","※記入不要"]
[]
["※標準記録突破大会は、公認大会で、記録会は正式名称を記入。",null,null,null,null,null,null,null,null,null,"女子は",null,null,"※標準記録突破大会は、公認大会で、記録会は正式名称を記入。",null,null,null,null,null,null,null,null,null,"女子は"]
["※参加資格・記録等記入不備の場合、審査の対象としない。",null,null,null,null,null,null,null,null,null,"ここを",null,null,"※参加資格・記録等記入不備の場合、審査の対象としない。",null,null,null,null,null,null,null,null,null,"ここを"]
["※申込締切期日厳守。",null,null,null,null,null,null,null,null,null,"切り取る",null,null,"※申込締切期日厳守。",null,null,null,null,null,null,null,null,null,"切り取る"]
[]
[]
["愛知選手権5000m･10000m 国体少年Ｂ 個人申込票",null,null,null,null,null,null,null,null,null,null,7,null,"愛知選手権5000m･10000m 国体少年Ｂ 個人申込票",null,null,null,null,null,null,null,null,null,null,7]
[null,null,null,"",null,null,null,null,null,"資格審査用",null,null,null,null,null,null,"",null,null,null,null,null,"資格審査用"]
[null,"性　　別",null,{"$f":"IF(②選手情報入力!I16=\"\",\"\",②選手情報入力!I16)","v":""},null,null,null,"出場資格条件（選択)",null,null,null,null,null,null,"性　　別",null,{"$f":"IF(②選手情報入力!L16=\"\",\"\",②選手情報入力!L16)","v":""},null,null,null,"出場資格条件（選択)"]
["種  目",{"$f":"IF(②選手情報入力!$G$16=\"\",\"\",②選手情報入力!$G$16)","v":""},null,null,null,null,null,null,null,null,null,null,null,"種  目",{"$f":"IF(②選手情報入力!$G$16=\"\",\"\",②選手情報入力!$G$16)","v":""}]
[]
["ナンバー",null,"ﾌ ﾘ ｶﾞﾅ",{"$f":"IF(②選手情報入力!$E$16=\"\",\"\",②選手情報入力!$E$16)","v":""},null,null,null,null,null,null,null,null,null,"ナンバー",null,"ﾌ ﾘ ｶﾞﾅ",{"$f":"IF(②選手情報入力!$E$16=\"\",\"\",②選手情報入力!$E$16)","v":""}]
[{"$f":"IF(②選手情報入力!$B$16=\"\",\"\",②選手情報入力!$B$16)","v":""},null,"氏 名",{"$f":"IF(②選手情報入力!$D$16=\"\",\"\",②選手情報入力!$D$16)","v":""},null,null,null,null,null,null,null,null,null,{"$f":"IF(②選手情報入力!$B$16=\"\",\"\",②選手情報入力!$B$16)","v":""},null,"氏 名",{"$f":"IF(②選手情報入力!$D$16=\"\",\"\",②選手情報入力!$D$16)","v":""}]
[]
["出場資格\n取得大会","大　会　名",null,null,null,"加入団体名",null,{"$f":"①団体情報入力!$D$5","v":0},null,null,null,null,null,"出場資格\n取得大会","大　会　名",null,null,null,"加入団体名",null,{"$f":"①団体情報入力!$D$5","v":0}]
[null,null,null,null,null,"年.月.日","順 位",null,"記　録",null,"場  所",null,null,null,null,null,null,null,"年.月.日","順 位",null,"記　録",null,"場  所"]
[null,null,null,null,null,null,null,null,{"$f":"IF(②選手情報入力!J16=\"\",\"\",②選手情報入力!J16)","v":""},null,null,null,null,null,null,null,null,null,null,null,null,{"$f":"IF(②選手情報入力!M16=\"\",\"\",②選手情報入力!M16)","v":""}]
[]
["本 年 度",null,null,null,null,null,null,null,{"$f":"IF(②選手情報入力!K16=\"\",\"同上\",②選手情報入力!K16)","v":"同上"},null,null,null,null,"本 年 度",null,null,null,null,null,null,null,{"$f":"IF(②選手情報入力!N16=\"\",\"同上\",②選手情報入力!N16)","v":"同上"}]
["最高記録",null,null,null,null,null,null,null,null,null,null,null,null,"最高記録"]
["備　  考","※記入不要",null,null,null,null,null,null,null,null,null,null,null,"備　  考","※記入不要"]
[]
["※標準記録突破大会は、公認大会で、記録会は正式名称を記入。",null,null,null,null,null,null,null,null,null,"女子は",null,null,"※標準記録突破大会は、公認大会で、記録会は正式名称を記入。",null,null,null,null,null,null,null,null,null,"女子は"]
["※参加資格・記録等記入不備の場合、審査の対象としない。",null,null,null,null,null,null,null,null,null,"ここを",null,null,"※参加資格・記録等記入不備の場合、審査の対象としない。",null,null,null,null,null,null,null,null,null,"ここを"]
["※申込締切期日厳守。",null,null,null,null,null,null,null,null,null,"切り取る",null,null,"※申込締切期日厳守。",null,null,null,null,null,null,null,null,null,"切り取る"]
[]
[]
["愛知選手権5000m･10000m 国体少年Ｂ 個人申込票",null,null,null,null,null,null,null,null,null,null,8,null,"愛知選手権5000m･10000m 国体少年Ｂ 個人申込票",null,null,null,null,null,null,null,null,null,null,8]
[null,null,null,"",null,null,null,null,null,"資格審査用",null,null,null,null,null,null,"",null,null,null,null,null,"資格審査用"]
[null,"性　　別",null,{"$f":"IF(②選手情報入力!I17=\"\",\"\",②選手情報入力!I17)","v":""},null,null,null,"出場資格条件（選択)",null,null,null,null,null,null,"性　　別",null,{"$f":"IF(②選手情報入力!L17=\"\",\"\",②選手情報入力!L17)","v":""},null,null,null,"出場資格条件（選択)"]
["種  目",{"$f":"IF(②選手情報入力!$G$17=\"\",\"\",②選手情報入力!$G$17)","v":""},null,null,null,null,null,null,null,null,null,null,null,"種  目",{"$f":"IF(②選手情報入力!$G$17=\"\",\"\",②選手情報入力!$G$17)","v":""}]
[]
["ナンバー",null,"ﾌ ﾘ ｶﾞﾅ",{"$f":"IF(②選手情報入力!$E$17=\"\",\"\",②選手情報入力!$E$17)","v":""},null,null,null,null,null,null,null,null,null,"ナンバー",null,"ﾌ ﾘ ｶﾞﾅ",{"$f":"IF(②選手情報入力!$E$17=\"\",\"\",②選手情報入力!$E$17)","v":""}]
[{"$f":"IF(②選手情報入力!$B$17=\"\",\"\",②選手情報入力!$B$17)","v":""},null,"氏 名",{"$f":"IF(②選手情報入力!$D$17=\"\",\"\",②選手情報入力!$D$17)","v":""},null,null,null,null,null,null,null,null,null,{"$f":"IF(②選手情報入力!$B$17=\"\",\"\",②選手情報入力!$B$17)","v":""},null,"氏 名",{"$f":"IF(②選手情報入力!$D$17=\"\",\"\",②選手情報入力!$D$17)","v":""}]
[]
["出場資格\n取得大会","大　会　名",null,null,null,"加入団体名",null,{"$f":"①団体情報入力!$D$5","v":0},null,null,null,null,null,"出場資格\n取得大会","大　会　名",null,null,null,"加入団体名",null,{"$f":"①団体情報入力!$D$5","v":0}]
[null,null,null,null,null,"年.月.日","順 位",null,"記　録",null,"場  所",null,null,null,null,null,null,null,"年.月.日","順 位",null,"記　録",null,"場  所"]
[null,null,null,null,null,null,null,null,{"$f":"IF(②選手情報入力!J17=\"\",\"\",②選手情報入力!J17)","v":""},null,null,null,null,null,null,null,null,null,null,null,null,{"$f":"IF(②選手情報入力!M17=\"\",\"\",②選手情報入力!M17)","v":""}]
[]
["本 年 度",null,null,null,null,null,null,null,{"$f":"IF(②選手情報入力!K17=\"\",\"同上\",②選手情報入力!K17)","v":"同上"},null,null,null,null,"本 年 度",null,null,null,null,null,null,null,{"$f":"IF(②選手情報入力!N17=\"\",\"同上\",②選手情報入力!N17)","v":"同上"}]
["最高記録",null,null,null,null,null,null,null,null,null,null,null,null,"最高記録"]
["備　  考","※記入不要",null,null,null,null,null,null,null,null,null,null,null,"備　  考","※記入不要"]
[]
["※標準記録突破大会は、公認大会で、記録会は正式名称を記入。",null,null,null,null,null,null,null,null,null,"女子は",null,null,"※標準記録突破大会は、公認大会で、記録会は正式名称を記入。",null,null,null,null,null,null,null,null,null,"女子は"]
["※参加資格・記録等記入不備の場合、審査の対象としない。",null,null,null,null,null,null,null,null,null,"ここを",null,null,"※参加資格・記録等記入不備の場合、審査の対象としない。",null,null,null,null,null,null,null,null,null,"ここを"]
["※申込締切期日厳守。",null,null,null,null,null,null,null,null,null,"切り取る",null,null,"※申込締切期日厳守。",null,null,null,null,null,null,null,null,null,"切り取る"]
[]
[]
[]
["愛知選手権5000m･10000m 国体少年Ｂ 個人申込票",null,null,null,null,null,null,null,null,null,null,9,null,"愛知選手権5000m･10000m 国体少年Ｂ 個人申込票",null,null,null,null,null,null,null,null,null,null,9]
[null,null,null,"",null,null,null,null,null,"資格審査用",null,null,null,null,null,null,"",null,null,null,null,null,"資格審査用"]
[null,"性　　別",null,{"$f":"IF(②選手情報入力!I18=\"\",\"\",②選手情報入力!I18)","v":""},null,null,null,"出場資格条件（選択)",null,null,null,null,null,null,"性　　別",null,{"$f":"IF(②選手情報入力!L18=\"\",\"\",②選手情報入力!L18)","v":""},null,null,null,"出場資格条件（選択)"]
["種  目",{"$f":"IF(②選手情報入力!$G$18=\"\",\"\",②選手情報入力!$G$18)","v":""},null,null,null,null,null,null,null,null,null,null,null,"種  目",{"$f":"IF(②選手情報入力!$G$18=\"\",\"\",②選手情報入力!$G$18)","v":""}]
[]
["ナンバー",null,"ﾌ ﾘ ｶﾞﾅ",{"$f":"IF(②選手情報入力!$E$18=\"\",\"\",②選手情報入力!$E$18)","v":""},null,null,null,null,null,null,null,null,null,"ナンバー",null,"ﾌ ﾘ ｶﾞﾅ",{"$f":"IF(②選手情報入力!$E$18=\"\",\"\",②選手情報入力!$E$18)","v":""}]
[{"$f":"IF(②選手情報入力!$B$18=\"\",\"\",②選手情報入力!$B$18)","v":""},null,"氏 名",{"$f":"IF(②選手情報入力!$D$18=\"\",\"\",②選手情報入力!$D$18)","v":""},null,null,null,null,null,null,null,null,null,{"$f":"IF(②選手情報入力!$B$18=\"\",\"\",②選手情報入力!$B$18)","v":""},null,"氏 名",{"$f":"IF(②選手情報入力!$D$18=\"\",\"\",②選手情報入力!$D$18)","v":""}]
[]
["出場資格\n取得大会","大　会　名",null,null,null,"加入団体名",null,{"$f":"①団体情報入力!$D$5","v":0},null,null,null,null,null,"出場資格\n取得大会","大　会　名",null,null,null,"加入団体名",null,{"$f":"①団体情報入力!$D$5","v":0}]
[null,null,null,null,null,"年.月.日","順 位",null,"記　録",null,"場  所",null,null,null,null,null,null,null,"年.月.日","順 位",null,"記　録",null,"場  所"]
[null,null,null,null,null,null,null,null,{"$f":"IF(②選手情報入力!J18=\"\",\"\",②選手情報入力!J18)","v":""},null,null,null,null,null,null,null,null,null,null,null,null,{"$f":"IF(②選手情報入力!M18=\"\",\"\",②選手情報入力!M18)","v":""}]
[]
["本 年 度",null,null,null,null,null,null,null,{"$f":"IF(②選手情報入力!K18=\"\",\"同上\",②選手情報入力!K18)","v":"同上"},null,null,null,null,"本 年 度",null,null,null,null,null,null,null,{"$f":"IF(②選手情報入力!N18=\"\",\"同上\",②選手情報入力!N18)","v":"同上"}]
["最高記録",null,null,null,null,null,null,null,null,null,null,null,null,"最高記録"]
["備　  考","※記入不要",null,null,null,null,null,null,null,null,null,null,null,"備　  考","※記入不要"]
[]
["※標準記録突破大会は、公認大会で、記録会は正式名称を記入。",null,null,null,null,null,null,null,null,null,"女子は",null,null,"※標準記録突破大会は、公認大会で、記録会は正式名称を記入。",null,null,null,null,null,null,null,null,null,"女子は"]
["※参加資格・記録等記入不備の場合、審査の対象としない。",null,null,null,null,null,null,null,null,null,"ここを",null,null,"※参加資格・記録等記入不備の場合、審査の対象としない。",null,null,null,null,null,null,null,null,null,"ここを"]
["※申込締切期日厳守。",null,null,null,null,null,null,null,null,null,"切り取る",null,null,"※申込締切期日厳守。",null,null,null,null,null,null,null,null,null,"切り取る"]
[]
[]
["愛知選手権5000m･10000m 国体少年Ｂ 個人申込票",null,null,null,null,null,null,null,null,null,null,10,null,"愛知選手権5000m･10000m 国体少年Ｂ 個人申込票",null,null,null,null,null,null,null,null,null,null,10]
[null,null,null,"",null,null,null,null,null,"資格審査用",null,null,null,null,null,null,"",null,null,null,null,null,"資格審査用"]
[null,"性　　別",null,{"$f":"IF(②選手情報入力!I20=\"\",\"\",②選手情報入力!I20)","v":""},null,null,null,"出場資格条件（選択)",null,null,null,null,null,null,"性　　別",null,{"$f":"IF(②選手情報入力!L20=\"\",\"\",②選手情報入力!L20)","v":""},null,null,null,"出場資格条件（選択)"]
["種  目",{"$f":"IF(②選手情報入力!$G$20=\"\",\"\",②選手情報入力!$G$20)","v":""},null,null,null,null,null,null,null,null,null,null,null,"種  目",{"$f":"IF(②選手情報入力!$G$20=\"\",\"\",②選手情報入力!$G$20)","v":""}]
[]
["ナンバー",null,"ﾌ ﾘ ｶﾞﾅ",{"$f":"IF(②選手情報入力!$E$20=\"\",\"\",②選手情報入力!$E$20)","v":""},null,null,null,null,null,null,null,null,null,"ナンバー",null,"ﾌ ﾘ ｶﾞﾅ",{"$f":"IF(②選手情報入力!$E$20=\"\",\"\",②選手情報入力!$E$20)","v":""}]
[{"$f":"IF(②選手情報入力!$B$20=\"\",\"\",②選手情報入力!$B$20)","v":""},null,"氏 名",{"$f":"IF(②選手情報入力!$D$20=\"\",\"\",②選手情報入力!$D$20)","v":""},null,null,null,null,null,null,null,null,null,{"$f":"IF(②選手情報入力!$B$20=\"\",\"\",②選手情報入力!$B$20)","v":""},null,"氏 名",{"$f":"IF(②選手情報入力!$D$20=\"\",\"\",②選手情報入力!$D$20)","v":""}]
[]
["出場資格\n取得大会","大　会　名",null,null,null,"加入団体名",null,{"$f":"①団体情報入力!$D$5","v":0},null,null,null,null,null,"出場資格\n取得大会","大　会　名",null,null,null,"加入団体名",null,{"$f":"①団体情報入力!$D$5","v":0}]
[null,null,null,null,null,"年.月.日","順 位",null,"記　録",null,"場  所",null,null,null,null,null,null,null,"年.月.日","順 位",null,"記　録",null,"場  所"]
[null,null,null,null,null,null,null,null,{"$f":"IF(②選手情報入力!J20=\"\",\"\",②選手情報入力!J20)","v":""},null,null,null,null,null,null,null,null,null,null,null,null,{"$f":"IF(②選手情報入力!M20=\"\",\"\",②選手情報入力!M20)","v":""}]
[]
["本 年 度",null,null,null,null,null,null,null,{"$f":"IF(②選手情報入力!K20=\"\",\"同上\",②選手情報入力!K20)","v":"同上"},null,null,null,null,"本 年 度",null,null,null,null,null,null,null,{"$f":"IF(②選手情報入力!N20=\"\",\"同上\",②選手情報入力!N20)","v":"同上"}]
["最高記録",null,null,null,null,null,null,null,null,null,null,null,null,"最高記録"]
["備　  考","※記入不要",null,null,null,null,null,null,null,null,null,null,null,"備　  考","※記入不要"]
[]
["※標準記録突破大会は、公認大会で、記録会は正式名称を記入。",null,null,null,null,null,null,null,null,null,"女子は",null,null,"※標準記録突破大会は、公認大会で、記録会は正式名称を記入。",null,null,null,null,null,null,null,null,null,"女子は"]
["※参加資格・記録等記入不備の場合、審査の対象としない。",null,null,null,null,null,null,null,null,null,"ここを",null,null,"※参加資格・記録等記入不備の場合、審査の対象としない。",null,null,null,null,null,null,null,null,null,"ここを"]
["※申込締切期日厳守。",null,null,null,null,null,null,null,null,null,"切り取る",null,null,"※申込締切期日厳守。",null,null,null,null,null,null,null,null,null,"切り取る"]
[]
[]
["愛知選手権5000m･10000m 国体少年Ｂ 個人申込票",null,null,null,null,null,null,null,null,null,null,11,null,"愛知選手権5000m･10000m 国体少年Ｂ 個人申込票",null,null,null,null,null,null,null,null,null,null,11]
[null,null,null,"",null,null,null,null,null,"資格審査用",null,null,null,null,null,null,"",null,null,null,null,null,"資格審査用"]
[null,"性　　別",null,{"$f":"IF(②選手情報入力!I20=\"\",\"\",②選手情報入力!I20)","v":""},null,null,null,"出場資格条件（選択)",null,null,null,null,null,null,"性　　別",null,{"$f":"IF(②選手情報入力!L20=\"\",\"\",②選手情報入力!L20)","v":""},null,null,null,"出場資格条件（選択)"]
["種  目",{"$f":"IF(②選手情報入力!$G$20=\"\",\"\",②選手情報入力!$G$20)","v":""},null,null,null,null,null,null,null,null,null,null,null,"種  目",{"$f":"IF(②選手情報入力!$G$20=\"\",\"\",②選手情報入力!$G$20)","v":""}]
[]
["ナンバー",null,"ﾌ ﾘ ｶﾞﾅ",{"$f":"IF(②選手情報入力!$E$20=\"\",\"\",②選手情報入力!$E$20)","v":""},null,null,null,null,null,null,null,null,null,"ナンバー",null,"ﾌ ﾘ ｶﾞﾅ",{"$f":"IF(②選手情報入力!$E$20=\"\",\"\",②選手情報入力!$E$20)","v":""}]
[{"$f":"IF(②選手情報入力!$B$20=\"\",\"\",②選手情報入力!$B$20)","v":""},null,"氏 名",{"$f":"IF(②選手情報入力!$D$20=\"\",\"\",②選手情報入力!$D$20)","v":""},null,null,null,null,null,null,null,null,null,{"$f":"IF(②選手情報入力!$B$20=\"\",\"\",②選手情報入力!$B$20)","v":""},null,"氏 名",{"$f":"IF(②選手情報入力!$D$20=\"\",\"\",②選手情報入力!$D$20)","v":""}]
[]
["出場資格\n取得大会","大　会　名",null,null,null,"加入団体名",null,{"$f":"①団体情報入力!$D$5","v":0},null,null,null,null,null,"出場資格\n取得大会","大　会　名",null,null,null,"加入団体名",null,{"$f":"①団体情報入力!$D$5","v":0}]
[null,null,null,null,null,"年.月.日","順 位",null,"記　録",null,"場  所",null,null,null,null,null,null,null,"年.月.日","順 位",null,"記　録",null,"場  所"]
[null,null,null,null,null,null,null,null,{"$f":"IF(②選手情報入力!J20=\"\",\"\",②選手情報入力!J20)","v":""},null,null,null,null,null,null,null,null,null,null,null,null,{"$f":"IF(②選手情報入力!M20=\"\",\"\",②選手情報入力!M20)","v":""}]
[]
["本 年 度",null,null,null,null,null,null,null,{"$f":"IF(②選手情報入力!K20=\"\",\"同上\",②選手情報入力!K20)","v":"同上"},null,null,null,null,"本 年 度",null,null,null,null,null,null,null,{"$f":"IF(②選手情報入力!N20=\"\",\"同上\",②選手情報入力!N20)","v":"同上"}]
["最高記録",null,null,null,null,null,null,null,null,null,null,null,null,"最高記録"]
["備　  考","※記入不要",null,null,null,null,null,null,null,null,null,null,null,"備　  考","※記入不要"]
[]
["※標準記録突破大会は、公認大会で、記録会は正式名称を記入。",null,null,null,null,null,null,null,null,null,"女子は",null,null,"※標準記録突破大会は、公認大会で、記録会は正式名称を記入。",null,null,null,null,null,null,null,null,null,"女子は"]
["※参加資格・記録等記入不備の場合、審査の対象としない。",null,null,null,null,null,null,null,null,null,"ここを",null,null,"※参加資格・記録等記入不備の場合、審査の対象としない。",null,null,null,null,null,null,null,null,null,"ここを"]
["※申込締切期日厳守。",null,null,null,null,null,null,null,null,null,"切り取る",null,null,"※申込締切期日厳守。",null,null,null,null,null,null,null,null,null,"切り取る"]
[]
[]
["愛知選手権5000m･10000m 国体少年Ｂ 個人申込票",null,null,null,null,null,null,null,null,null,null,12,null,"愛知選手権5000m･10000m 国体少年Ｂ 個人申込票",null,null,null,null,null,null,null,null,null,null,12]
[null,null,null,"",null,null,null,null,null,"資格審査用",null,null,null,null,null,null,"",null,null,null,null,null,"資格審査用"]
[null,"性　　別",null,{"$f":"IF(②選手情報入力!I21=\"\",\"\",②選手情報入力!I21)","v":""},null,null,null,"出場資格条件（選択)",null,null,null,null,null,null,"性　　別",null,{"$f":"IF(②選手情報入力!L21=\"\",\"\",②選手情報入力!L21)","v":""},null,null,null,"出場資格条件（選択)"]
["種  目",{"$f":"IF(②選手情報入力!$G$21=\"\",\"\",②選手情報入力!$G$21)","v":""},null,null,null,null,null,null,null,null,null,null,null,"種  目",{"$f":"IF(②選手情報入力!$G$21=\"\",\"\",②選手情報入力!$G$21)","v":""}]
[]
["ナンバー",null,"ﾌ ﾘ ｶﾞﾅ",{"$f":"IF(②選手情報入力!$E$21=\"\",\"\",②選手情報入力!$E$21)","v":""},null,null,null,null,null,null,null,null,null,"ナンバー",null,"ﾌ ﾘ ｶﾞﾅ",{"$f":"IF(②選手情報入力!$E$21=\"\",\"\",②選手情報入力!$E$21)","v":""}]
[{"$f":"IF(②選手情報入力!$B$21=\"\",\"\",②選手情報入力!$B$21)","v":""},null,"氏 名",{"$f":"IF(②選手情報入力!$D$21=\"\",\"\",②選手情報入力!$D$21)","v":""},null,null,null,null,null,null,null,null,null,{"$f":"IF(②選手情報入力!$B$21=\"\",\"\",②選手情報入力!$B$21)","v":""},null,"氏 名",{"$f":"IF(②選手情報入力!$D$21=\"\",\"\",②選手情報入力!$D$21)","v":""}]
[]
["出場資格\n取得大会","大　会　名",null,null,null,"加入団体名",null,{"$f":"①団体情報入力!$D$5","v":0},null,null,null,null,null,"出場資格\n取得大会","大　会　名",null,null,null,"加入団体名",null,{"$f":"①団体情報入力!$D$5","v":0}]
[null,null,null,null,null,"年.月.日","順 位",null,"記　録",null,"場  所",null,null,null,null,null,null,null,"年.月.日","順 位",null,"記　録",null,"場  所"]
[null,null,null,null,null,null,null,null,{"$f":"IF(②選手情報入力!J21=\"\",\"\",②選手情報入力!J21)","v":""},null,null,null,null,null,null,null,null,null,null,null,null,{"$f":"IF(②選手情報入力!M21=\"\",\"\",②選手情報入力!M21)","v":""}]
[]
["本 年 度",null,null,null,null,null,null,null,{"$f":"IF(②選手情報入力!K21=\"\",\"同上\",②選手情報入力!K21)","v":"同上"},null,null,null,null,"本 年 度",null,null,null,null,null,null,null,{"$f":"IF(②選手情報入力!N21=\"\",\"同上\",②選手情報入力!N21)","v":"同上"}]
["最高記録",null,null,null,null,null,null,null,null,null,null,null,null,"最高記録"]
["備　  考","※記入不要",null,null,null,null,null,null,null,null,null,null,null,"備　  考","※記入不要"]
[]
["※標準記録突破大会は、公認大会で、記録会は正式名称を記入。",null,null,null,null,null,null,null,null,null,"女子は",null,null,"※標準記録突破大会は、公認大会で、記録会は正式名称を記入。",null,null,null,null,null,null,null,null,null,"女子は"]
["※参加資格・記録等記入不備の場合、審査の対象としない。",null,null,null,null,null,null,null,null,null,"ここを",null,null,"※参加資格・記録等記入不備の場合、審査の対象としない。",null,null,null,null,null,null,null,null,null,"ここを"]
["※申込締切期日厳守。",null,null,null,null,null,null,null,null,null,"切り取る",null,null,"※申込締切期日厳守。",null,null,null,null,null,null,null,null,null,"切り取る"]
[]
[]
[]
["愛知選手権5000m･10000m 国体少年Ｂ 個人申込票",null,null,null,null,null,null,null,null,null,null,13,null,"愛知選手権5000m･10000m 国体少年Ｂ 個人申込票",null,null,null,null,null,null,null,null,null,null,13]
[null,null,null,"",null,null,null,null,null,"資格審査用",null,null,null,null,null,null,"",null,null,null,null,null,"資格審査用"]
[null,"性　　別",null,{"$f":"IF(②選手情報入力!I22=\"\",\"\",②選手情報入力!I22)","v":""},null,null,null,"出場資格条件（選択)",null,null,null,null,null,null,"性　　別",null,{"$f":"IF(②選手情報入力!L22=\"\",\"\",②選手情報入力!L22)","v":""},null,null,null,"出場資格条件（選択)"]
["種  目",{"$f":"IF(②選手情報入力!$G$22=\"\",\"\",②選手情報入力!$G$22)","v":""},null,null,null,null,null,null,null,null,null,null,null,"種  目",{"$f":"IF(②選手情報入力!$G$22=\"\",\"\",②選手情報入力!$G$22)","v":""}]
[]
["ナンバー",null,"ﾌ ﾘ ｶﾞﾅ",{"$f":"IF(②選手情報入力!$E$22=\"\",\"\",②選手情報入力!$E$22)","v":""},null,null,null,null,null,null,null,null,null,"ナンバー",null,"ﾌ ﾘ ｶﾞﾅ",{"$f":"IF(②選手情報入力!$E$22=\"\",\"\",②選手情報入力!$E$22)","v":""}]
[{"$f":"IF(②選手情報入力!$B$22=\"\",\"\",②選手情報入力!$B$22)","v":""},null,"氏 名",{"$f":"IF(②選手情報入力!$D$22=\"\",\"\",②選手情報入力!$D$22)","v":""},null,null,null,null,null,null,null,null,null,{"$f":"IF(②選手情報入力!$B$22=\"\",\"\",②選手情報入力!$B$22)","v":""},null,"氏 名",{"$f":"IF(②選手情報入力!$D$22=\"\",\"\",②選手情報入力!$D$22)","v":""}]
[]
["出場資格\n取得大会","大　会　名",null,null,null,"加入団体名",null,{"$f":"①団体情報入力!$D$5","v":0},null,null,null,null,null,"出場資格\n取得大会","大　会　名",null,null,null,"加入団体名",null,{"$f":"①団体情報入力!$D$5","v":0}]
[null,null,null,null,null,"年.月.日","順 位",null,"記　録",null,"場  所",null,null,null,null,null,null,null,"年.月.日","順 位",null,"記　録",null,"場  所"]
[null,null,null,null,null,null,null,null,{"$f":"IF(②選手情報入力!J22=\"\",\"\",②選手情報入力!J22)","v":""},null,null,null,null,null,null,null,null,null,null,null,null,{"$f":"IF(②選手情報入力!M22=\"\",\"\",②選手情報入力!M22)","v":""}]
[]
["本 年 度",null,null,null,null,null,null,null,{"$f":"IF(②選手情報入力!K22=\"\",\"同上\",②選手情報入力!K22)","v":"同上"},null,null,null,null,"本 年 度",null,null,null,null,null,null,null,{"$f":"IF(②選手情報入力!N22=\"\",\"同上\",②選手情報入力!N22)","v":"同上"}]
["最高記録",null,null,null,null,null,null,null,null,null,null,null,null,"最高記録"]
["備　  考","※記入不要",null,null,null,null,null,null,null,null,null,null,null,"備　  考","※記入不要"]
[]
["※標準記録突破大会は、公認大会で、記録会は正式名称を記入。",null,null,null,null,null,null,null,null,null,"女子は",null,null,"※標準記録突破大会は、公認大会で、記録会は正式名称を記入。",null,null,null,null,null,null,null,null,null,"女子は"]
["※参加資格・記録等記入不備の場合、審査の対象としない。",null,null,null,null,null,null,null,null,null,"ここを",null,null,"※参加資格・記録等記入不備の場合、審査の対象としない。",null,null,null,null,null,null,null,null,null,"ここを"]
["※申込締切期日厳守。",null,null,null,null,null,null,null,null,null,"切り取る",null,null,"※申込締切期日厳守。",null,null,null,null,null,null,null,null,null,"切り取る"]
[]
[]
["愛知選手権5000m･10000m 国体少年Ｂ 個人申込票",null,null,null,null,null,null,null,null,null,null,14,null,"愛知選手権5000m･10000m 国体少年Ｂ 個人申込票",null,null,null,null,null,null,null,null,null,null,14]
[null,null,null,"",null,null,null,null,null,"資格審査用",null,null,null,null,null,null,"",null,null,null,null,null,"資格審査用"]
[null,"性　　別",null,{"$f":"IF(②選手情報入力!I23=\"\",\"\",②選手情報入力!I23)","v":""},null,null,null,"出場資格条件（選択)",null,null,null,null,null,null,"性　　別",null,{"$f":"IF(②選手情報入力!L23=\"\",\"\",②選手情報入力!L23)","v":""},null,null,null,"出場資格条件（選択)"]
["種  目",{"$f":"IF(②選手情報入力!$G$23=\"\",\"\",②選手情報入力!$G$23)","v":""},null,null,null,null,null,null,null,null,null,null,null,"種  目",{"$f":"IF(②選手情報入力!$G$23=\"\",\"\",②選手情報入力!$G$23)","v":""}]
[]
["ナンバー",null,"ﾌ ﾘ ｶﾞﾅ",{"$f":"IF(②選手情報入力!$E$23=\"\",\"\",②選手情報入力!$E$23)","v":""},null,null,null,null,null,null,null,null,null,"ナンバー",null,"ﾌ ﾘ ｶﾞﾅ",{"$f":"IF(②選手情報入力!$E$23=\"\",\"\",②選手情報入力!$E$23)","v":""}]
[{"$f":"IF(②選手情報入力!$B$23=\"\",\"\",②選手情報入力!$B$23)","v":""},null,"氏 名",{"$f":"IF(②選手情報入力!$D$23=\"\",\"\",②選手情報入力!$D$23)","v":""},null,null,null,null,null,null,null,null,null,{"$f":"IF(②選手情報入力!$B$23=\"\",\"\",②選手情報入力!$B$23)","v":""},null,"氏 名",{"$f":"IF(②選手情報入力!$D$23=\"\",\"\",②選手情報入力!$D$23)","v":""}]
[]
["出場資格\n取得大会","大　会　名",null,null,null,"加入団体名",null,{"$f":"①団体情報入力!$D$5","v":0},null,null,null,null,null,"出場資格\n取得大会","大　会　名",null,null,null,"加入団体名",null,{"$f":"①団体情報入力!$D$5","v":0}]
[null,null,null,null,null,"年.月.日","順 位",null,"記　録",null,"場  所",null,null,null,null,null,null,null,"年.月.日","順 位",null,"記　録",null,"場  所"]
[null,null,null,null,null,null,null,null,{"$f":"IF(②選手情報入力!J23=\"\",\"\",②選手情報入力!J23)","v":""},null,null,null,null,null,null,null,null,null,null,null,null,{"$f":"IF(②選手情報入力!M23=\"\",\"\",②選手情報入力!M23)","v":""}]
[]
["本 年 度",null,null,null,null,null,null,null,{"$f":"IF(②選手情報入力!K23=\"\",\"同上\",②選手情報入力!K23)","v":"同上"},null,null,null,null,"本 年 度",null,null,null,null,null,null,null,{"$f":"IF(②選手情報入力!N23=\"\",\"同上\",②選手情報入力!N23)","v":"同上"}]
["最高記録",null,null,null,null,null,null,null,null,null,null,null,null,"最高記録"]
["備　  考","※記入不要",null,null,null,null,null,null,null,null,null,null,null,"備　  考","※記入不要"]
[]
["※標準記録突破大会は、公認大会で、記録会は正式名称を記入。",null,null,null,null,null,null,null,null,null,"女子は",null,null,"※標準記録突破大会は、公認大会で、記録会は正式名称を記入。",null,null,null,null,null,null,null,null,null,"女子は"]
["※参加資格・記録等記入不備の場合、審査の対象としない。",null,null,null,null,null,null,null,null,null,"ここを",null,null,"※参加資格・記録等記入不備の場合、審査の対象としない。",null,null,null,null,null,null,null,null,null,"ここを"]
["※申込締切期日厳守。",null,null,null,null,null,null,null,null,null,"切り取る",null,null,"※申込締切期日厳守。",null,null,null,null,null,null,null,null,null,"切り取る"]
[]
[]
["愛知選手権5000m･10000m 国体少年Ｂ 個人申込票",null,null,null,null,null,null,null,null,null,null,15,null,"愛知選手権5000m･10000m 国体少年Ｂ 個人申込票",null,null,null,null,null,null,null,null,null,null,16]
[null,null,null,"",null,null,null,null,null,"資格審査用",null,null,null,null,null,null,"",null,null,null,null,null,"資格審査用"]
[null,"性　　別",null,{"$f":"IF(②選手情報入力!I24=\"\",\"\",②選手情報入力!I24)","v":""},null,null,null,"出場資格条件（選択)",null,null,null,null,null,null,"性　　別",null,{"$f":"IF(②選手情報入力!L24=\"\",\"\",②選手情報入力!L24)","v":""},null,null,null,"出場資格条件（選択)"]
["種  目",{"$f":"IF(②選手情報入力!$G$24=\"\",\"\",②選手情報入力!$G$24)","v":""},null,null,null,null,null,null,null,null,null,null,null,"種  目",{"$f":"IF(②選手情報入力!$G$24=\"\",\"\",②選手情報入力!$G$24)","v":""}]
[]
["ナンバー",null,"ﾌ ﾘ ｶﾞﾅ",{"$f":"IF(②選手情報入力!$E$24=\"\",\"\",②選手情報入力!$E$24)","v":""},null,null,null,null,null,null,null,null,null,"ナンバー",null,"ﾌ ﾘ ｶﾞﾅ",{"$f":"IF(②選手情報入力!$E$24=\"\",\"\",②選手情報入力!$E$24)","v":""}]
[{"$f":"IF(②選手情報入力!$B$24=\"\",\"\",②選手情報入力!$B$24)","v":""},null,"氏 名",{"$f":"IF(②選手情報入力!$D$24=\"\",\"\",②選手情報入力!$D$24)","v":""},null,null,null,null,null,null,null,null,null,{"$f":"IF(②選手情報入力!$B$24=\"\",\"\",②選手情報入力!$B$24)","v":""},null,"氏 名",{"$f":"IF(②選手情報入力!$D$24=\"\",\"\",②選手情報入力!$D$24)","v":""}]
[]
["出場資格\n取得大会","大　会　名",null,null,null,"加入団体名",null,{"$f":"①団体情報入力!$D$5","v":0},null,null,null,null,null,"出場資格\n取得大会","大　会　名",null,null,null,"加入団体名",null,{"$f":"①団体情報入力!$D$5","v":0}]
[null,null,null,null,null,"年.月.日","順 位",null,"記　録",null,"場  所",null,null,null,null,null,null,null,"年.月.日","順 位",null,"記　録",null,"場  所"]
[null,null,null,null,null,null,null,null,{"$f":"IF(②選手情報入力!J24=\"\",\"\",②選手情報入力!J24)","v":""},null,null,null,null,null,null,null,null,null,null,null,null,{"$f":"IF(②選手情報入力!M24=\"\",\"\",②選手情報入力!M24)","v":""}]
[]
["本 年 度",null,null,null,null,null,null,null,{"$f":"IF(②選手情報入力!K24=\"\",\"同上\",②選手情報入力!K24)","v":"同上"},null,null,null,null,"本 年 度",null,null,null,null,null,null,null,{"$f":"IF(②選手情報入力!N24=\"\",\"同上\",②選手情報入力!N24)","v":"同上"}]
["最高記録",null,null,null,null,null,null,null,null,null,null,null,null,"最高記録"]
["備　  考","※記入不要",null,null,null,null,null,null,null,null,null,null,null,"備　  考","※記入不要"]
[]
["※標準記録突破大会は、公認大会で、記録会は正式名称を記入。",null,null,null,null,null,null,null,null,null,"女子は",null,null,"※標準記録突破大会は、公認大会で、記録会は正式名称を記入。",null,null,null,null,null,null,null,null,null,"女子は"]
["※参加資格・記録等記入不備の場合、審査の対象としない。",null,null,null,null,null,null,null,null,null,"ここを",null,null,"※参加資格・記録等記入不備の場合、審査の対象としない。",null,null,null,null,null,null,null,null,null,"ここを"]
["※申込締切期日厳守。",null,null,null,null,null,null,null,null,null,"切り取る",null,null,"※申込締切期日厳守。",null,null,null,null,null,null,null,null,null,"切り取る"]
[]
[]
[]
["愛知選手権5000m･10000m 国体少年Ｂ 個人申込票",null,null,null,null,null,null,null,null,null,null,16,null,"愛知選手権5000m･10000m 国体少年Ｂ 個人申込票",null,null,null,null,null,null,null,null,null,null,16]
[null,null,null,"",null,null,null,null,null,"資格審査用",null,null,null,null,null,null,"",null,null,null,null,null,"資格審査用"]
[null,"性　　別",null,{"$f":"IF(②選手情報入力!I25=\"\",\"\",②選手情報入力!I25)","v":""},null,null,null,"出場資格条件（選択)",null,null,null,null,null,null,"性　　別",null,{"$f":"IF(②選手情報入力!L25=\"\",\"\",②選手情報入力!L25)","v":""},null,null,null,"出場資格条件（選択)"]
["種  目",{"$f":"IF(②選手情報入力!$G$25=\"\",\"\",②選手情報入力!$G$25)","v":""},null,null,null,null,null,null,null,null,null,null,null,"種  目",{"$f":"IF(②選手情報入力!$G$25=\"\",\"\",②選手情報入力!$G$25)","v":""}]
[]
["ナンバー",null,"ﾌ ﾘ ｶﾞﾅ",{"$f":"IF(②選手情報入力!$E$25=\"\",\"\",②選手情報入力!$E$25)","v":""},null,null,null,null,null,null,null,null,null,"ナンバー",null,"ﾌ ﾘ ｶﾞﾅ",{"$f":"IF(②選手情報入力!$E$25=\"\",\"\",②選手情報入力!$E$25)","v":""}]
[{"$f":"IF(②選手情報入力!$B$25=\"\",\"\",②選手情報入力!$B$25)","v":""},null,"氏 名",{"$f":"IF(②選手情報入力!$D$25=\"\",\"\",②選手情報入力!$D$25)","v":""},null,null,null,null,null,null,null,null,null,{"$f":"IF(②選手情報入力!$B$25=\"\",\"\",②選手情報入力!$B$25)","v":""},null,"氏 名",{"$f":"IF(②選手情報入力!$D$25=\"\",\"\",②選手情報入力!$D$25)","v":""}]
[]
["出場資格\n取得大会","大　会　名",null,null,null,"加入団体名",null,{"$f":"①団体情報入力!$D$5","v":0},null,null,null,null,null,"出場資格\n取得大会","大　会　名",null,null,null,"加入団体名",null,{"$f":"①団体情報入力!$D$5","v":0}]
[null,null,null,null,null,"年.月.日","順 位",null,"記　録",null,"場  所",null,null,null,null,null,null,null,"年.月.日","順 位",null,"記　録",null,"場  所"]
[null,null,null,null,null,null,null,null,{"$f":"IF(②選手情報入力!J25=\"\",\"\",②選手情報入力!J25)","v":""},null,null,null,null,null,null,null,null,null,null,null,null,{"$f":"IF(②選手情報入力!M25=\"\",\"\",②選手情報入力!M25)","v":""}]
[]
["本 年 度",null,null,null,null,null,null,null,{"$f":"IF(②選手情報入力!K25=\"\",\"同上\",②選手情報入力!K25)","v":"同上"},null,null,null,null,"本 年 度",null,null,null,null,null,null,null,{"$f":"IF(②選手情報入力!N25=\"\",\"同上\",②選手情報入力!N25)","v":"同上"}]
["最高記録",null,null,null,null,null,null,null,null,null,null,null,null,"最高記録"]
["備　  考","※記入不要",null,null,null,null,null,null,null,null,null,null,null,"備　  考","※記入不要"]
[]
["※標準記録突破大会は、公認大会で、記録会は正式名称を記入。",null,null,null,null,null,null,null,null,null,"女子は",null,null,"※標準記録突破大会は、公認大会で、記録会は正式名称を記入。",null,null,null,null,null,null,null,null,null,"女子は"]
["※参加資格・記録等記入不備の場合、審査の対象としない。",null,null,null,null,null,null,null,null,null,"ここを",null,null,"※参加資格・記録等記入不備の場合、審査の対象としない。",null,null,null,null,null,null,null,null,null,"ここを"]
["※申込締切期日厳守。",null,null,null,null,null,null,null,null,null,"切り取る",null,null,"※申込締切期日厳守。",null,null,null,null,null,null,null,null,null,"切り取る"]
[]
[]
["愛知選手権5000m･10000m 国体少年Ｂ 個人申込票",null,null,null,null,null,null,null,null,null,null,17,null,"愛知選手権5000m･10000m 国体少年Ｂ 個人申込票",null,null,null,null,null,null,null,null,null,null,17]
[null,null,null,"",null,null,null,null,null,"資格審査用",null,null,null,null,null,null,"",null,null,null,null,null,"資格審査用"]
[null,"性　　別",null,{"$f":"IF(②選手情報入力!I26=\"\",\"\",②選手情報入力!I26)","v":""},null,null,null,"出場資格条件（選択)",null,null,null,null,null,null,"性　　別",null,{"$f":"IF(②選手情報入力!L26=\"\",\"\",②選手情報入力!L26)","v":""},null,null,null,"出場資格条件（選択)"]
["種  目",{"$f":"IF(②選手情報入力!$G$26=\"\",\"\",②選手情報入力!$G$26)","v":""},null,null,null,null,null,null,null,null,null,null,null,"種  目",{"$f":"IF(②選手情報入力!$G$26=\"\",\"\",②選手情報入力!$G$26)","v":""}]
[]
["ナンバー",null,"ﾌ ﾘ ｶﾞﾅ",{"$f":"IF(②選手情報入力!$E$26=\"\",\"\",②選手情報入力!$E$26)","v":""},null,null,null,null,null,null,null,null,null,"ナンバー",null,"ﾌ ﾘ ｶﾞﾅ",{"$f":"IF(②選手情報入力!$E$26=\"\",\"\",②選手情報入力!$E$26)","v":""}]
[{"$f":"IF(②選手情報入力!$B$26=\"\",\"\",②選手情報入力!$B$26)","v":""},null,"氏 名",{"$f":"IF(②選手情報入力!$D$26=\"\",\"\",②選手情報入力!$D$26)","v":""},null,null,null,null,null,null,null,null,null,{"$f":"IF(②選手情報入力!$B$26=\"\",\"\",②選手情報入力!$B$26)","v":""},null,"氏 名",{"$f":"IF(②選手情報入力!$D$26=\"\",\"\",②選手情報入力!$D$26)","v":""}]
[]
["出場資格\n取得大会","大　会　名",null,null,null,"加入団体名",null,{"$f":"①団体情報入力!$D$5","v":0},null,null,null,null,null,"出場資格\n取得大会","大　会　名",null,null,null,"加入団体名",null,{"$f":"①団体情報入力!$D$5","v":0}]
[null,null,null,null,null,"年.月.日","順 位",null,"記　録",null,"場  所",null,null,null,null,null,null,null,"年.月.日","順 位",null,"記　録",null,"場  所"]
[null,null,null,null,null,null,null,null,{"$f":"IF(②選手情報入力!J26=\"\",\"\",②選手情報入力!J26)","v":""},null,null,null,null,null,null,null,null,null,null,null,null,{"$f":"IF(②選手情報入力!M26=\"\",\"\",②選手情報入力!M26)","v":""}]
[]
["本 年 度",null,null,null,null,null,null,null,{"$f":"IF(②選手情報入力!K26=\"\",\"同上\",②選手情報入力!K26)","v":"同上"},null,null,null,null,"本 年 度",null,null,null,null,null,null,null,{"$f":"IF(②選手情報入力!N26=\"\",\"同上\",②選手情報入力!N26)","v":"同上"}]
["最高記録",null,null,null,null,null,null,null,null,null,null,null,null,"最高記録"]
["備　  考","※記入不要",null,null,null,null,null,null,null,null,null,null,null,"備　  考","※記入不要"]
[]
["※標準記録突破大会は、公認大会で、記録会は正式名称を記入。",null,null,null,null,null,null,null,null,null,"女子は",null,null,"※標準記録突破大会は、公認大会で、記録会は正式名称を記入。",null,null,null,null,null,null,null,null,null,"女子は"]
["※参加資格・記録等記入不備の場合、審査の対象としない。",null,null,null,null,null,null,null,null,null,"ここを",null,null,"※参加資格・記録等記入不備の場合、審査の対象としない。",null,null,null,null,null,null,null,null,null,"ここを"]
["※申込締切期日厳守。",null,null,null,null,null,null,null,null,null,"切り取る",null,null,"※申込締切期日厳守。",null,null,null,null,null,null,null,null,null,"切り取る"]
[]
[]
["愛知選手権5000m･10000m 国体少年Ｂ 個人申込票",null,null,null,null,null,null,null,null,null,null,18,null,"愛知選手権5000m･10000m 国体少年Ｂ 個人申込票",null,null,null,null,null,null,null,null,null,null,18]
[null,null,null,"",null,null,null,null,null,"資格審査用",null,null,null,null,null,null,"",null,null,null,null,null,"資格審査用"]
[null,"性　　別",null,{"$f":"IF(②選手情報入力!I27=\"\",\"\",②選手情報入力!I27)","v":""},null,null,null,"出場資格条件（選択)",null,null,null,null,null,null,"性　　別",null,{"$f":"IF(②選手情報入力!L27=\"\",\"\",②選手情報入力!L27)","v":""},null,null,null,"出場資格条件（選択)"]
["種  目",{"$f":"IF(②選手情報入力!$G$27=\"\",\"\",②選手情報入力!$G$27)","v":""},null,null,null,null,null,null,null,null,null,null,null,"種  目",{"$f":"IF(②選手情報入力!$G$27=\"\",\"\",②選手情報入力!$G$27)","v":""}]
[]
["ナンバー",null,"ﾌ ﾘ ｶﾞﾅ",{"$f":"IF(②選手情報入力!$E$27=\"\",\"\",②選手情報入力!$E$27)","v":""},null,null,null,null,null,null,null,null,null,"ナンバー",null,"ﾌ ﾘ ｶﾞﾅ",{"$f":"IF(②選手情報入力!$E$27=\"\",\"\",②選手情報入力!$E$27)","v":""}]
[{"$f":"IF(②選手情報入力!$B$27=\"\",\"\",②選手情報入力!$B$27)","v":""},null,"氏 名",{"$f":"IF(②選手情報入力!$D$27=\"\",\"\",②選手情報入力!$D$27)","v":""},null,null,null,null,null,null,null,null,null,{"$f":"IF(②選手情報入力!$B$27=\"\",\"\",②選手情報入力!$B$27)","v":""},null,"氏 名",{"$f":"IF(②選手情報入力!$D$27=\"\",\"\",②選手情報入力!$D$27)","v":""}]
[]
["出場資格\n取得大会","大　会　名",null,null,null,"加入団体名",null,{"$f":"①団体情報入力!$D$5","v":0},null,null,null,null,null,"出場資格\n取得大会","大　会　名",null,null,null,"加入団体名",null,{"$f":"①団体情報入力!$D$5","v":0}]
[null,null,null,null,null,"年.月.日","順 位",null,"記　録",null,"場  所",null,null,null,null,null,null,null,"年.月.日","順 位",null,"記　録",null,"場  所"]
[null,null,null,null,null,null,null,null,{"$f":"IF(②選手情報入力!J27=\"\",\"\",②選手情報入力!J27)","v":""},null,null,null,null,null,null,null,null,null,null,null,null,{"$f":"IF(②選手情報入力!M27=\"\",\"\",②選手情報入力!M27)","v":""}]
[]
["本 年 度",null,null,null,null,null,null,null,{"$f":"IF(②選手情報入力!K27=\"\",\"同上\",②選手情報入力!K27)","v":"同上"},null,null,null,null,"本 年 度",null,null,null,null,null,null,null,{"$f":"IF(②選手情報入力!N27=\"\",\"同上\",②選手情報入力!N27)","v":"同上"}]
["最高記録",null,null,null,null,null,null,null,null,null,null,null,null,"最高記録"]
["備　  考","※記入不要",null,null,null,null,null,null,null,null,null,null,null,"備　  考","※記入不要"]
[]
["※標準記録突破大会は、公認大会で、記録会は正式名称を記入。",null,null,null,null,null,null,null,null,null,"女子は",null,null,"※標準記録突破大会は、公認大会で、記録会は正式名称を記入。",null,null,null,null,null,null,null,null,null,"女子は"]
["※参加資格・記録等記入不備の場合、審査の対象としない。",null,null,null,null,null,null,null,null,null,"ここを",null,null,"※参加資格・記録等記入不備の場合、審査の対象としない。",null,null,null,null,null,null,null,null,null,"ここを"]
["※申込締切期日厳守。",null,null,null,null,null,null,null,null,null,"切り取る",null,null,"※申込締切期日厳守。",null,null,null,null,null,null,null,null,null,"切り取る"]
[]
[]
["愛知選手権5000m･10000m 国体少年Ｂ 個人申込票",null,null,null,null,null,null,null,null,null,null,19,null,"愛知選手権5000m･10000m 国体少年Ｂ 個人申込票",null,null,null,null,null,null,null,null,null,null,19]
[null,null,null,"",null,null,null,null,null,"資格審査用",null,null,null,null,null,null,"",null,null,null,null,null,"資格審査用"]
[null,"性　　別",null,{"$f":"IF(②選手情報入力!I28=\"\",\"\",②選手情報入力!I28)","v":""},null,null,null,"出場資格条件（選択)",null,null,null,null,null,null,"性　　別",null,{"$f":"IF(②選手情報入力!L28=\"\",\"\",②選手情報入力!L28)","v":""},null,null,null,"出場資格条件（選択)"]
["種  目",{"$f":"IF(②選手情報入力!$G$28=\"\",\"\",②選手情報入力!$G$28)","v":""},null,null,null,null,null,null,null,null,null,null,null,"種  目",{"$f":"IF(②選手情報入力!$G$28=\"\",\"\",②選手情報入力!$G$28)","v":""}]
[]
["ナンバー",null,"ﾌ ﾘ ｶﾞﾅ",{"$f":"IF(②選手情報入力!$E$28=\"\",\"\",②選手情報入力!$E$28)","v":""},null,null,null,null,null,null,null,null,null,"ナンバー",null,"ﾌ ﾘ ｶﾞﾅ",{"$f":"IF(②選手情報入力!$E$28=\"\",\"\",②選手情報入力!$E$28)","v":""}]
[{"$f":"IF(②選手情報入力!$B$28=\"\",\"\",②選手情報入力!$B$28)","v":""},null,"氏 名",{"$f":"IF(②選手情報入力!$D$28=\"\",\"\",②選手情報入力!$D$28)","v":""},null,null,null,null,null,null,null,null,null,{"$f":"IF(②選手情報入力!$B$28=\"\",\"\",②選手情報入力!$B$28)","v":""},null,"氏 名",{"$f":"IF(②選手情報入力!$D$28=\"\",\"\",②選手情報入力!$D$28)","v":""}]
[]
["出場資格\n取得大会","大　会　名",null,null,null,"加入団体名",null,{"$f":"①団体情報入力!$D$5","v":0},null,null,null,null,null,"出場資格\n取得大会","大　会　名",null,null,null,"加入団体名",null,{"$f":"①団体情報入力!$D$5","v":0}]
[null,null,null,null,null,"年.月.日","順 位",null,"記　録",null,"場  所",null,null,null,null,null,null,null,"年.月.日","順 位",null,"記　録",null,"場  所"]
[null,null,null,null,null,null,null,null,{"$f":"IF(②選手情報入力!J28=\"\",\"\",②選手情報入力!J28)","v":""},null,null,null,null,null,null,null,null,null,null,null,null,{"$f":"IF(②選手情報入力!M28=\"\",\"\",②選手情報入力!M28)","v":""}]
[]
["本 年 度",null,null,null,null,null,null,null,{"$f":"IF(②選手情報入力!K28=\"\",\"同上\",②選手情報入力!K28)","v":"同上"},null,null,null,null,"本 年 度",null,null,null,null,null,null,null,{"$f":"IF(②選手情報入力!N28=\"\",\"同上\",②選手情報入力!N28)","v":"同上"}]
["最高記録",null,null,null,null,null,null,null,null,null,null,null,null,"最高記録"]
["備　  考","※記入不要",null,null,null,null,null,null,null,null,null,null,null,"備　  考","※記入不要"]
[]
["※標準記録突破大会は、公認大会で、記録会は正式名称を記入。",null,null,null,null,null,null,null,null,null,"女子は",null,null,"※標準記録突破大会は、公認大会で、記録会は正式名称を記入。",null,null,null,null,null,null,null,null,null,"女子は"]
["※参加資格・記録等記入不備の場合、審査の対象としない。",null,null,null,null,null,null,null,null,null,"ここを",null,null,"※参加資格・記録等記入不備の場合、審査の対象としない。",null,null,null,null,null,null,null,null,null,"ここを"]
["※申込締切期日厳守。",null,null,null,null,null,null,null,null,null,"切り取る",null,null,"※申込締切期日厳守。",null,null,null,null,null,null,null,null,null,"切り取る"]
[]
[]
[]
["愛知選手権5000m･10000m 国体少年Ｂ 個人申込票",null,null,null,null,null,null,null,null,null,null,20,null,"愛知選手権5000m･10000m 国体少年Ｂ 個人申込票",null,null,null,null,null,null,null,null,null,null,20]
[null,null,null,"",null,null,null,null,null,"資格審査用",null,null,null,null,null,null,"",null,null,null,null,null,"資格審査用"]
[null,"性　　別",null,{"$f":"IF(②選手情報入力!I29=\"\",\"\",②選手情報入力!I29)","v":""},null,null,null,"出場資格条件（選択)",null,null,null,null,null,null,"性　　別",null,{"$f":"IF(②選手情報入力!L29=\"\",\"\",②選手情報入力!L29)","v":""},null,null,null,"出場資格条件（選択)"]
["種  目",{"$f":"IF(②選手情報入力!$G$29=\"\",\"\",②選手情報入力!$G$29)","v":""},null,null,null,null,null,null,null,null,null,null,null,"種  目",{"$f":"IF(②選手情報入力!$G$29=\"\",\"\",②選手情報入力!$G$29)","v":""}]
[]
["ナンバー",null,"ﾌ ﾘ ｶﾞﾅ",{"$f":"IF(②選手情報入力!$E$29=\"\",\"\",②選手情報入力!$E$29)","v":""},null,null,null,null,null,null,null,null,null,"ナンバー",null,"ﾌ ﾘ ｶﾞﾅ",{"$f":"IF(②選手情報入力!$E$29=\"\",\"\",②選手情報入力!$E$29)","v":""}]
[{"$f":"IF(②選手情報入力!$B$29=\"\",\"\",②選手情報入力!$B$29)","v":""},null,"氏 名",{"$f":"IF(②選手情報入力!$D$29=\"\",\"\",②選手情報入力!$D$29)","v":""},null,null,null,null,null,null,null,null,null,{"$f":"IF(②選手情報入力!$B$29=\"\",\"\",②選手情報入力!$B$29)","v":""},null,"氏 名",{"$f":"IF(②選手情報入力!$D$29=\"\",\"\",②選手情報入力!$D$29)","v":""}]
[]
["出場資格\n取得大会","大　会　名",null,null,null,"加入団体名",null,{"$f":"①団体情報入力!$D$5","v":0},null,null,null,null,null,"出場資格\n取得大会","大　会　名",null,null,null,"加入団体名",null,{"$f":"①団体情報入力!$D$5","v":0}]
[null,null,null,null,null,"年.月.日","順 位",null,"記　録",null,"場  所",null,null,null,null,null,null,null,"年.月.日","順 位",null,"記　録",null,"場  所"]
[null,null,null,null,null,null,null,null,{"$f":"IF(②選手情報入力!J29=\"\",\"\",②選手情報入力!J29)","v":""},null,null,null,null,null,null,null,null,null,null,null,null,{"$f":"IF(②選手情報入力!M29=\"\",\"\",②選手情報入力!M29)","v":""}]
[]
["本 年 度",null,null,null,null,null,null,null,{"$f":"IF(②選手情報入力!K29=\"\",\"同上\",②選手情報入力!K29)","v":"同上"},null,null,null,null,"本 年 度",null,null,null,null,null,null,null,{"$f":"IF(②選手情報入力!N29=\"\",\"同上\",②選手情報入力!N29)","v":"同上"}]
["最高記録",null,null,null,null,null,null,null,null,null,null,null,null,"最高記録"]
["備　  考","※記入不要",null,null,null,null,null,null,null,null,null,null,null,"備　  考","※記入不要"]
[]
["※標準記録突破大会は、公認大会で、記録会は正式名称を記入。",null,null,null,null,null,null,null,null,null,"女子は",null,null,"※標準記録突破大会は、公認大会で、記録会は正式名称を記入。",null,null,null,null,null,null,null,null,null,"女子は"]
["※参加資格・記録等記入不備の場合、審査の対象としない。",null,null,null,null,null,null,null,null,null,"ここを",null,null,"※参加資格・記録等記入不備の場合、審査の対象としない。",null,null,null,null,null,null,null,null,null,"ここを"]
["※申込締切期日厳守。",null,null,null,null,null,null,null,null,null,"切り取る",null,null,"※申込締切期日厳守。",null,null,null,null,null,null,null,null,null,"切り取る"]
[]
[]
["愛知選手権5000m･10000m 国体少年Ｂ 個人申込票",null,null,null,null,null,null,null,null,null,null,21,null,"愛知選手権5000m･10000m 国体少年Ｂ 個人申込票",null,null,null,null,null,null,null,null,null,null,21]
[null,null,null,"",null,null,null,null,null,"資格審査用",null,null,null,null,null,null,"",null,null,null,null,null,"資格審査用"]
[null,"性　　別",null,{"$f":"IF(②選手情報入力!I30=\"\",\"\",②選手情報入力!I30)","v":""},null,null,null,"出場資格条件（選択)",null,null,null,null,null,null,"性　　別",null,{"$f":"IF(②選手情報入力!L30=\"\",\"\",②選手情報入力!L30)","v":""},null,null,null,"出場資格条件（選択)"]
["種  目",{"$f":"IF(②選手情報入力!$G$30=\"\",\"\",②選手情報入力!$G$30)","v":""},null,null,null,null,null,null,null,null,null,null,null,"種  目",{"$f":"IF(②選手情報入力!$G$30=\"\",\"\",②選手情報入力!$G$30)","v":""}]
[]
["ナンバー",null,"ﾌ ﾘ ｶﾞﾅ",{"$f":"IF(②選手情報入力!$E$30=\"\",\"\",②選手情報入力!$E$30)","v":""},null,null,null,null,null,null,null,null,null,"ナンバー",null,"ﾌ ﾘ ｶﾞﾅ",{"$f":"IF(②選手情報入力!$E$30=\"\",\"\",②選手情報入力!$E$30)","v":""}]
[{"$f":"IF(②選手情報入力!$B$30=\"\",\"\",②選手情報入力!$B$30)","v":""},null,"氏 名",{"$f":"IF(②選手情報入力!$D$30=\"\",\"\",②選手情報入力!$D$30)","v":""},null,null,null,null,null,null,null,null,null,{"$f":"IF(②選手情報入力!$B$30=\"\",\"\",②選手情報入力!$B$30)","v":""},null,"氏 名",{"$f":"IF(②選手情報入力!$D$30=\"\",\"\",②選手情報入力!$D$30)","v":""}]
[]
["出場資格\n取得大会","大　会　名",null,null,null,"加入団体名",null,{"$f":"①団体情報入力!$D$5","v":0},null,null,null,null,null,"出場資格\n取得大会","大　会　名",null,null,null,"加入団体名",null,{"$f":"①団体情報入力!$D$5","v":0}]
[null,null,null,null,null,"年.月.日","順 位",null,"記　録",null,"場  所",null,null,null,null,null,null,null,"年.月.日","順 位",null,"記　録",null,"場  所"]
[null,null,null,null,null,null,null,null,{"$f":"IF(②選手情報入力!J30=\"\",\"\",②選手情報入力!J30)","v":""},null,null,null,null,null,null,null,null,null,null,null,null,{"$f":"IF(②選手情報入力!M30=\"\",\"\",②選手情報入力!M30)","v":""}]
[]
["本 年 度",null,null,null,null,null,null,null,{"$f":"IF(②選手情報入力!K30=\"\",\"同上\",②選手情報入力!K30)","v":"同上"},null,null,null,null,"本 年 度",null,null,null,null,null,null,null,{"$f":"IF(②選手情報入力!N30=\"\",\"同上\",②選手情報入力!N30)","v":"同上"}]
["最高記録",null,null,null,null,null,null,null,null,null,null,null,null,"最高記録"]
["備　  考","※記入不要",null,null,null,null,null,null,null,null,null,null,null,"備　  考","※記入不要"]
[]
["※標準記録突破大会は、公認大会で、記録会は正式名称を記入。",null,null,null,null,null,null,null,null,null,"女子は",null,null,"※標準記録突破大会は、公認大会で、記録会は正式名称を記入。",null,null,null,null,null,null,null,null,null,"女子は"]
["※参加資格・記録等記入不備の場合、審査の対象としない。",null,null,null,null,null,null,null,null,null,"ここを",null,null,"※参加資格・記録等記入不備の場合、審査の対象としない。",null,null,null,null,null,null,null,null,null,"ここを"]
["※申込締切期日厳守。",null,null,null,null,null,null,null,null,null,"切り取る",null,null,"※申込締切期日厳守。",null,null,null,null,null,null,null,null,null,"切り取る"]
[]
[]
["愛知選手権5000m･10000m 国体少年Ｂ 個人申込票",null,null,null,null,null,null,null,null,null,null,22,null,"愛知選手権5000m･10000m 国体少年Ｂ 個人申込票",null,null,null,null,null,null,null,null,null,null,22]
[null,null,null,"",null,null,null,null,null,"資格審査用",null,null,null,null,null,null,"",null,null,null,null,null,"資格審査用"]
[null,"性　　別",null,{"$f":"IF(②選手情報入力!I31=\"\",\"\",②選手情報入力!I31)","v":""},null,null,null,"出場資格条件（選択)",null,null,null,null,null,null,"性　　別",null,{"$f":"IF(②選手情報入力!L31=\"\",\"\",②選手情報入力!L31)","v":""},null,null,null,"出場資格条件（選択)"]
["種  目",{"$f":"IF(②選手情報入力!$G$31=\"\",\"\",②選手情報入力!$G$31)","v":""},null,null,null,null,null,null,null,null,null,null,null,"種  目",{"$f":"IF(②選手情報入力!$G$31=\"\",\"\",②選手情報入力!$G$31)","v":""}]
[]
["ナンバー",null,"ﾌ ﾘ ｶﾞﾅ",{"$f":"IF(②選手情報入力!$E$31=\"\",\"\",②選手情報入力!$E$31)","v":""},null,null,null,null,null,null,null,null,null,"ナンバー",null,"ﾌ ﾘ ｶﾞﾅ",{"$f":"IF(②選手情報入力!$E$31=\"\",\"\",②選手情報入力!$E$31)","v":""}]
[{"$f":"IF(②選手情報入力!$B$31=\"\",\"\",②選手情報入力!$B$31)","v":""},null,"氏 名",{"$f":"IF(②選手情報入力!$D$31=\"\",\"\",②選手情報入力!$D$31)","v":""},null,null,null,null,null,null,null,null,null,{"$f":"IF(②選手情報入力!$B$31=\"\",\"\",②選手情報入力!$B$31)","v":""},null,"氏 名",{"$f":"IF(②選手情報入力!$D$31=\"\",\"\",②選手情報入力!$D$31)","v":""}]
[]
["出場資格\n取得大会","大　会　名",null,null,null,"加入団体名",null,{"$f":"①団体情報入力!$D$5","v":0},null,null,null,null,null,"出場資格\n取得大会","大　会　名",null,null,null,"加入団体名",null,{"$f":"①団体情報入力!$D$5","v":0}]
[null,null,null,null,null,"年.月.日","順 位",null,"記　録",null,"場  所",null,null,null,null,null,null,null,"年.月.日","順 位",null,"記　録",null,"場  所"]
[null,null,null,null,null,null,null,null,{"$f":"IF(②選手情報入力!J31=\"\",\"\",②選手情報入力!J31)","v":""},null,null,null,null,null,null,null,null,null,null,null,null,{"$f":"IF(②選手情報入力!M31=\"\",\"\",②選手情報入力!M31)","v":""}]
[]
["本 年 度",null,null,null,null,null,null,null,{"$f":"IF(②選手情報入力!K31=\"\",\"同上\",②選手情報入力!K31)","v":"同上"},null,null,null,null,"本 年 度",null,null,null,null,null,null,null,{"$f":"IF(②選手情報入力!N31=\"\",\"同上\",②選手情報入力!N31)","v":"同上"}]
["最高記録",null,null,null,null,null,null,null,null,null,null,null,null,"最高記録"]
["備　  考","※記入不要",null,null,null,null,null,null,null,null,null,null,null,"備　  考","※記入不要"]
[]
["※標準記録突破大会は、公認大会で、記録会は正式名称を記入。",null,null,null,null,null,null,null,null,null,"女子は",null,null,"※標準記録突破大会は、公認大会で、記録会は正式名称を記入。",null,null,null,null,null,null,null,null,null,"女子は"]
["※参加資格・記録等記入不備の場合、審査の対象としない。",null,null,null,null,null,null,null,null,null,"ここを",null,null,"※参加資格・記録等記入不備の場合、審査の対象としない。",null,null,null,null,null,null,null,null,null,"ここを"]
["※申込締切期日厳守。",null,null,null,null,null,null,null,null,null,"切り取る",null,null,"※申込締切期日厳守。",null,null,null,null,null,null,null,null,null,"切り取る"]
[]
[]
[]
["愛知選手権5000m･10000m 国体少年Ｂ 個人申込票",null,null,null,null,null,null,null,null,null,null,23,null,"愛知選手権5000m･10000m 国体少年Ｂ 個人申込票",null,null,null,null,null,null,null,null,null,null,23]
[null,null,null,"",null,null,null,null,null,"資格審査用",null,null,null,null,null,null,"",null,null,null,null,null,"資格審査用"]
[null,"性　　別",null,{"$f":"IF(②選手情報入力!I32=\"\",\"\",②選手情報入力!I32)","v":""},null,null,null,"出場資格条件（選択)",null,null,null,null,null,null,"性　　別",null,{"$f":"IF(②選手情報入力!L32=\"\",\"\",②選手情報入力!L32)","v":""},null,null,null,"出場資格条件（選択)"]
["種  目",{"$f":"IF(②選手情報入力!$G$32=\"\",\"\",②選手情報入力!$G$32)","v":""},null,null,null,null,null,null,null,null,null,null,null,"種  目",{"$f":"IF(②選手情報入力!$G$32=\"\",\"\",②選手情報入力!$G$32)","v":""}]
[]
["ナンバー",null,"ﾌ ﾘ ｶﾞﾅ",{"$f":"IF(②選手情報入力!$E$32=\"\",\"\",②選手情報入力!$E$32)","v":""},null,null,null,null,null,null,null,null,null,"ナンバー",null,"ﾌ ﾘ ｶﾞﾅ",{"$f":"IF(②選手情報入力!$E$32=\"\",\"\",②選手情報入力!$E$32)","v":""}]
[{"$f":"IF(②選手情報入力!$B$32=\"\",\"\",②選手情報入力!$B$32)","v":""},null,"氏 名",{"$f":"IF(②選手情報入力!$D$32=\"\",\"\",②選手情報入力!$D$32)","v":""},null,null,null,null,null,null,null,null,null,{"$f":"IF(②選手情報入力!$B$32=\"\",\"\",②選手情報入力!$B$32)","v":""},null,"氏 名",{"$f":"IF(②選手情報入力!$D$32=\"\",\"\",②選手情報入力!$D$32)","v":""}]
[]
["出場資格\n取得大会","大　会　名",null,null,null,"加入団体名",null,{"$f":"①団体情報入力!$D$5","v":0},null,null,null,null,null,"出場資格\n取得大会","大　会　名",null,null,null,"加入団体名",null,{"$f":"①団体情報入力!$D$5","v":0}]
[null,null,null,null,null,"年.月.日","順 位",null,"記　録",null,"場  所",null,null,null,null,null,null,null,"年.月.日","順 位",null,"記　録",null,"場  所"]
[null,null,null,null,null,null,null,null,{"$f":"IF(②選手情報入力!J32=\"\",\"\",②選手情報入力!J32)","v":""},null,null,null,null,null,null,null,null,null,null,null,null,{"$f":"IF(②選手情報入力!M32=\"\",\"\",②選手情報入力!M32)","v":""}]
[]
["本 年 度",null,null,null,null,null,null,null,{"$f":"IF(②選手情報入力!K32=\"\",\"同上\",②選手情報入力!K32)","v":"同上"},null,null,null,null,"本 年 度",null,null,null,null,null,null,null,{"$f":"IF(②選手情報入力!N32=\"\",\"同上\",②選手情報入力!N32)","v":"同上"}]
["最高記録",null,null,null,null,null,null,null,null,null,null,null,null,"最高記録"]
["備　  考","※記入不要",null,null,null,null,null,null,null,null,null,null,null,"備　  考","※記入不要"]
[]
["※標準記録突破大会は、公認大会で、記録会は正式名称を記入。",null,null,null,null,null,null,null,null,null,"女子は",null,null,"※標準記録突破大会は、公認大会で、記録会は正式名称を記入。",null,null,null,null,null,null,null,null,null,"女子は"]
["※参加資格・記録等記入不備の場合、審査の対象としない。",null,null,null,null,null,null,null,null,null,"ここを",null,null,"※参加資格・記録等記入不備の場合、審査の対象としない。",null,null,null,null,null,null,null,null,null,"ここを"]
["※申込締切期日厳守。",null,null,null,null,null,null,null,null,null,"切り取る",null,null,"※申込締切期日厳守。",null,null,null,null,null,null,null,null,null,"切り取る"]
[]
[]
["愛知選手権5000m･10000m 国体少年Ｂ 個人申込票",null,null,null,null,null,null,null,null,null,null,24,null,"愛知選手権5000m･10000m 国体少年Ｂ 個人申込票",null,null,null,null,null,null,null,null,null,null,24]
[null,null,null,"",null,null,null,null,null,"資格審査用",null,null,null,null,null,null,"",null,null,null,null,null,"資格審査用"]
[null,"性　　別",null,{"$f":"IF(②選手情報入力!I33=\"\",\"\",②選手情報入力!I33)","v":""},null,null,null,"出場資格条件（選択)",null,null,null,null,null,null,"性　　別",null,{"$f":"IF(②選手情報入力!L33=\"\",\"\",②選手情報入力!L33)","v":""},null,null,null,"出場資格条件（選択)"]
["種  目",{"$f":"IF(②選手情報入力!$G$33=\"\",\"\",②選手情報入力!$G$33)","v":""},null,null,null,null,null,null,null,null,null,null,null,"種  目",{"$f":"IF(②選手情報入力!$G$33=\"\",\"\",②選手情報入力!$G$33)","v":""}]
[]
["ナンバー",null,"ﾌ ﾘ ｶﾞﾅ",{"$f":"IF(②選手情報入力!$E$33=\"\",\"\",②選手情報入力!$E$33)","v":""},null,null,null,null,null,null,null,null,null,"ナンバー",null,"ﾌ ﾘ ｶﾞﾅ",{"$f":"IF(②選手情報入力!$E$33=\"\",\"\",②選手情報入力!$E$33)","v":""}]
[{"$f":"IF(②選手情報入力!$B$33=\"\",\"\",②選手情報入力!$B$33)","v":""},null,"氏 名",{"$f":"IF(②選手情報入力!$D$33=\"\",\"\",②選手情報入力!$D$33)","v":""},null,null,null,null,null,null,null,null,null,{"$f":"IF(②選手情報入力!$B$33=\"\",\"\",②選手情報入力!$B$33)","v":""},null,"氏 名",{"$f":"IF(②選手情報入力!$D$33=\"\",\"\",②選手情報入力!$D$33)","v":""}]
[]
["出場資格\n取得大会","大　会　名",null,null,null,"加入団体名",null,{"$f":"①団体情報入力!$D$5","v":0},null,null,null,null,null,"出場資格\n取得大会","大　会　名",null,null,null,"加入団体名",null,{"$f":"①団体情報入力!$D$5","v":0}]
[null,null,null,null,null,"年.月.日","順 位",null,"記　録",null,"場  所",null,null,null,null,null,null,null,"年.月.日","順 位",null,"記　録",null,"場  所"]
[null,null,null,null,null,null,null,null,{"$f":"IF(②選手情報入力!J33=\"\",\"\",②選手情報入力!J33)","v":""},null,null,null,null,null,null,null,null,null,null,null,null,{"$f":"IF(②選手情報入力!M33=\"\",\"\",②選手情報入力!M33)","v":""}]
[]
["本 年 度",null,null,null,null,null,null,null,{"$f":"IF(②選手情報入力!K33=\"\",\"同上\",②選手情報入力!K33)","v":"同上"},null,null,null,null,"本 年 度",null,null,null,null,null,null,null,{"$f":"IF(②選手情報入力!N33=\"\",\"同上\",②選手情報入力!N33)","v":"同上"}]
["最高記録",null,null,null,null,null,null,null,null,null,null,null,null,"最高記録"]
["備　  考","※記入不要",null,null,null,null,null,null,null,null,null,null,null,"備　  考","※記入不要"]
[]
["※標準記録突破大会は、公認大会で、記録会は正式名称を記入。",null,null,null,null,null,null,null,null,null,"女子は",null,null,"※標準記録突破大会は、公認大会で、記録会は正式名称を記入。",null,null,null,null,null,null,null,null,null,"女子は"]
["※参加資格・記録等記入不備の場合、審査の対象としない。",null,null,null,null,null,null,null,null,null,"ここを",null,null,"※参加資格・記録等記入不備の場合、審査の対象としない。",null,null,null,null,null,null,null,null,null,"ここを"]
["※申込締切期日厳守。",null,null,null,null,null,null,null,null,null,"切り取る",null,null,"※申込締切期日厳守。",null,null,null,null,null,null,null,null,null,"切り取る"]
[]
[]
["愛知選手権5000m･10000m 国体少年Ｂ 個人申込票",null,null,null,null,null,null,null,null,null,null,25,null,"愛知選手権5000m･10000m 国体少年Ｂ 個人申込票",null,null,null,null,null,null,null,null,null,null,25]
[null,null,null,"",null,null,null,null,null,"資格審査用",null,null,null,null,null,null,"",null,null,null,null,null,"資格審査用"]
[null,"性　　別",null,{"$f":"IF(②選手情報入力!I34=\"\",\"\",②選手情報入力!I34)","v":""},null,null,null,"出場資格条件（選択)",null,null,null,null,null,null,"性　　別",null,{"$f":"IF(②選手情報入力!L34=\"\",\"\",②選手情報入力!L34)","v":""},null,null,null,"出場資格条件（選択)"]
["種  目",{"$f":"IF(②選手情報入力!$G$34=\"\",\"\",②選手情報入力!$G$34)","v":""},null,null,null,null,null,null,null,null,null,null,null,"種  目",{"$f":"IF(②選手情報入力!$G$34=\"\",\"\",②選手情報入力!$G$34)","v":""}]
[]
["ナンバー",null,"ﾌ ﾘ ｶﾞﾅ",{"$f":"IF(②選手情報入力!$E$34=\"\",\"\",②選手情報入力!$E$34)","v":""},null,null,null,null,null,null,null,null,null,"ナンバー",null,"ﾌ ﾘ ｶﾞﾅ",{"$f":"IF(②選手情報入力!$E$34=\"\",\"\",②選手情報入力!$E$34)","v":""}]
[{"$f":"IF(②選手情報入力!$B$34=\"\",\"\",②選手情報入力!$B$34)","v":""},null,"氏 名",{"$f":"IF(②選手情報入力!$D$34=\"\",\"\",②選手情報入力!$D$34)","v":""},null,null,null,null,null,null,null,null,null,{"$f":"IF(②選手情報入力!$B$34=\"\",\"\",②選手情報入力!$B$34)","v":""},null,"氏 名",{"$f":"IF(②選手情報入力!$D$34=\"\",\"\",②選手情報入力!$D$34)","v":""}]
[]
["出場資格\n取得大会","大　会　名",null,null,null,"加入団体名",null,{"$f":"①団体情報入力!$D$5","v":0},null,null,null,null,null,"出場資格\n取得大会","大　会　名",null,null,null,"加入団体名",null,{"$f":"①団体情報入力!$D$5","v":0}]
[null,null,null,null,null,"年.月.日","順 位",null,"記　録",null,"場  所",null,null,null,null,null,null,null,"年.月.日","順 位",null,"記　録",null,"場  所"]
[null,null,null,null,null,null,null,null,{"$f":"IF(②選手情報入力!J34=\"\",\"\",②選手情報入力!J34)","v":""},null,null,null,null,null,null,null,null,null,null,null,null,{"$f":"IF(②選手情報入力!M34=\"\",\"\",②選手情報入力!M34)","v":""}]
[]
["本 年 度",null,null,null,null,null,null,null,{"$f":"IF(②選手情報入力!K34=\"\",\"同上\",②選手情報入力!K34)","v":"同上"},null,null,null,null,"本 年 度",null,null,null,null,null,null,null,{"$f":"IF(②選手情報入力!N34=\"\",\"同上\",②選手情報入力!N34)","v":"同上"}]
["最高記録",null,null,null,null,null,null,null,null,null,null,null,null,"最高記録"]
["備　  考","※記入不要",null,null,null,null,null,null,null,null,null,null,null,"備　  考","※記入不要"]
[]
["※標準記録突破大会は、公認大会で、記録会は正式名称を記入。",null,null,null,null,null,null,null,null,null,"女子は",null,null,"※標準記録突破大会は、公認大会で、記録会は正式名称を記入。",null,null,null,null,null,null,null,null,null,"女子は"]
["※参加資格・記録等記入不備の場合、審査の対象としない。",null,null,null,null,null,null,null,null,null,"ここを",null,null,"※参加資格・記録等記入不備の場合、審査の対象としない。",null,null,null,null,null,null,null,null,null,"ここを"]
["※申込締切期日厳守。",null,null,null,null,null,null,null,null,null,"切り取る",null,null,"※申込締切期日厳守。",null,null,null,null,null,null,null,null,null,"切り取る"]
[]
[]
["愛知選手権5000m･10000m 国体少年Ｂ 個人申込票",null,null,null,null,null,null,null,null,null,null,26,null,"愛知選手権5000m･10000m 国体少年Ｂ 個人申込票",null,null,null,null,null,null,null,null,null,null,26]
[null,null,null,"",null,null,null,null,null,"資格審査用",null,null,null,null,null,null,"",null,null,null,null,null,"資格審査用"]
[null,"性　　別",null,{"$f":"IF(②選手情報入力!I35=\"\",\"\",②選手情報入力!I35)","v":""},null,null,null,"出場資格条件（選択)",null,null,null,null,null,null,"性　　別",null,{"$f":"IF(②選手情報入力!L35=\"\",\"\",②選手情報入力!L35)","v":""},null,null,null,"出場資格条件（選択)"]
["種  目",{"$f":"IF(②選手情報入力!$G$35=\"\",\"\",②選手情報入力!$G$35)","v":""},null,null,null,null,null,null,null,null,null,null,null,"種  目",{"$f":"IF(②選手情報入力!$G$35=\"\",\"\",②選手情報入力!$G$35)","v":""}]
[]
["ナンバー",null,"ﾌ ﾘ ｶﾞﾅ",{"$f":"IF(②選手情報入力!$E$35=\"\",\"\",②選手情報入力!$E$35)","v":""},null,null,null,null,null,null,null,null,null,"ナンバー",null,"ﾌ ﾘ ｶﾞﾅ",{"$f":"IF(②選手情報入力!$E$35=\"\",\"\",②選手情報入力!$E$35)","v":""}]
[{"$f":"IF(②選手情報入力!$B$35=\"\",\"\",②選手情報入力!$B$35)","v":""},null,"氏 名",{"$f":"IF(②選手情報入力!$D$35=\"\",\"\",②選手情報入力!$D$35)","v":""},null,null,null,null,null,null,null,null,null,{"$f":"IF(②選手情報入力!$B$35=\"\",\"\",②選手情報入力!$B$35)","v":""},null,"氏 名",{"$f":"IF(②選手情報入力!$D$35=\"\",\"\",②選手情報入力!$D$35)","v":""}]
[]
["出場資格\n取得大会","大　会　名",null,null,null,"加入団体名",null,{"$f":"①団体情報入力!$D$5","v":0},null,null,null,null,null,"出場資格\n取得大会","大　会　名",null,null,null,"加入団体名",null,{"$f":"①団体情報入力!$D$5","v":0}]
[null,null,null,null,null,"年.月.日","順 位",null,"記　録",null,"場  所",null,null,null,null,null,null,null,"年.月.日","順 位",null,"記　録",null,"場  所"]
[null,null,null,null,null,null,null,null,{"$f":"IF(②選手情報入力!J35=\"\",\"\",②選手情報入力!J35)","v":""},null,null,null,null,null,null,null,null,null,null,null,null,{"$f":"IF(②選手情報入力!M35=\"\",\"\",②選手情報入力!M35)","v":""}]
[]
["本 年 度",null,null,null,null,null,null,null,{"$f":"IF(②選手情報入力!K35=\"\",\"同上\",②選手情報入力!K35)","v":"同上"},null,null,null,null,"本 年 度",null,null,null,null,null,null,null,{"$f":"IF(②選手情報入力!N35=\"\",\"同上\",②選手情報入力!N35)","v":"同上"}]
["最高記録",null,null,null,null,null,null,null,null,null,null,null,null,"最高記録"]
["備　  考","※記入不要",null,null,null,null,null,null,null,null,null,null,null,"備　  考","※記入不要"]
[]
["※標準記録突破大会は、公認大会で、記録会は正式名称を記入。",null,null,null,null,null,null,null,null,null,"女子は",null,null,"※標準記録突破大会は、公認大会で、記録会は正式名称を記入。",null,null,null,null,null,null,null,null,null,"女子は"]
["※参加資格・記録等記入不備の場合、審査の対象としない。",null,null,null,null,null,null,null,null,null,"ここを",null,null,"※参加資格・記録等記入不備の場合、審査の対象としない。",null,null,null,null,null,null,null,null,null,"ここを"]
["※申込締切期日厳守。",null,null,null,null,null,null,null,null,null,"切り取る",null,null,"※申込締切期日厳守。",null,null,null,null,null,null,null,null,null,"切り取る"]
[]
[]
[]
["愛知選手権5000m･10000m 国体少年Ｂ 個人申込票",null,null,null,null,null,null,null,null,null,null,27,null,"愛知選手権5000m･10000m 国体少年Ｂ 個人申込票",null,null,null,null,null,null,null,null,null,null,27]
[null,null,null,"",null,null,null,null,null,"資格審査用",null,null,null,null,null,null,"",null,null,null,null,null,"資格審査用"]
[null,"性　　別",null,{"$f":"IF(②選手情報入力!I36=\"\",\"\",②選手情報入力!I36)","v":""},null,null,null,"出場資格条件（選択)",null,null,null,null,null,null,"性　　別",null,{"$f":"IF(②選手情報入力!L36=\"\",\"\",②選手情報入力!L36)","v":""},null,null,null,"出場資格条件（選択)"]
["種  目",{"$f":"IF(②選手情報入力!$G$36=\"\",\"\",②選手情報入力!$G$36)","v":""},null,null,null,null,null,null,null,null,null,null,null,"種  目",{"$f":"IF(②選手情報入力!$G$36=\"\",\"\",②選手情報入力!$G$36)","v":""}]
[]
["ナンバー",null,"ﾌ ﾘ ｶﾞﾅ",{"$f":"IF(②選手情報入力!$E$36=\"\",\"\",②選手情報入力!$E$36)","v":""},null,null,null,null,null,null,null,null,null,"ナンバー",null,"ﾌ ﾘ ｶﾞﾅ",{"$f":"IF(②選手情報入力!$E$36=\"\",\"\",②選手情報入力!$E$36)","v":""}]
[{"$f":"IF(②選手情報入力!$B$36=\"\",\"\",②選手情報入力!$B$36)","v":""},null,"氏 名",{"$f":"IF(②選手情報入力!$D$36=\"\",\"\",②選手情報入力!$D$36)","v":""},null,null,null,null,null,null,null,null,null,{"$f":"IF(②選手情報入力!$B$36=\"\",\"\",②選手情報入力!$B$36)","v":""},null,"氏 名",{"$f":"IF(②選手情報入力!$D$36=\"\",\"\",②選手情報入力!$D$36)","v":""}]
[]
["出場資格\n取得大会","大　会　名",null,null,null,"加入団体名",null,{"$f":"①団体情報入力!$D$5","v":0},null,null,null,null,null,"出場資格\n取得大会","大　会　名",null,null,null,"加入団体名",null,{"$f":"①団体情報入力!$D$5","v":0}]
[null,null,null,null,null,"年.月.日","順 位",null,"記　録",null,"場  所",null,null,null,null,null,null,null,"年.月.日","順 位",null,"記　録",null,"場  所"]
[null,null,null,null,null,null,null,null,{"$f":"IF(②選手情報入力!J36=\"\",\"\",②選手情報入力!J36)","v":""},null,null,null,null,null,null,null,null,null,null,null,null,{"$f":"IF(②選手情報入力!M36=\"\",\"\",②選手情報入力!M36)","v":""}]
[]
["本 年 度",null,null,null,null,null,null,null,{"$f":"IF(②選手情報入力!K36=\"\",\"同上\",②選手情報入力!K36)","v":"同上"},null,null,null,null,"本 年 度",null,null,null,null,null,null,null,{"$f":"IF(②選手情報入力!N36=\"\",\"同上\",②選手情報入力!N36)","v":"同上"}]
["最高記録",null,null,null,null,null,null,null,null,null,null,null,null,"最高記録"]
["備　  考","※記入不要",null,null,null,null,null,null,null,null,null,null,null,"備　  考","※記入不要"]
[]
["※標準記録突破大会は、公認大会で、記録会は正式名称を記入。",null,null,null,null,null,null,null,null,null,"女子は",null,null,"※標準記録突破大会は、公認大会で、記録会は正式名称を記入。",null,null,null,null,null,null,null,null,null,"女子は"]
["※参加資格・記録等記入不備の場合、審査の対象としない。",null,null,null,null,null,null,null,null,null,"ここを",null,null,"※参加資格・記録等記入不備の場合、審査の対象としない。",null,null,null,null,null,null,null,null,null,"ここを"]
["※申込締切期日厳守。",null,null,null,null,null,null,null,null,null,"切り取る",null,null,"※申込締切期日厳守。",null,null,null,null,null,null,null,null,null,"切り取る"]
[]
[]
["愛知選手権5000m･10000m 国体少年Ｂ 個人申込票",null,null,null,null,null,null,null,null,null,null,28,null,"愛知選手権5000m･10000m 国体少年Ｂ 個人申込票",null,null,null,null,null,null,null,null,null,null,28]
[null,null,null,"",null,null,null,null,null,"資格審査用",null,null,null,null,null,null,"",null,null,null,null,null,"資格審査用"]
[null,"性　　別",null,{"$f":"IF(②選手情報入力!I37=\"\",\"\",②選手情報入力!I37)","v":""},null,null,null,"出場資格条件（選択)",null,null,null,null,null,null,"性　　別",null,{"$f":"IF(②選手情報入力!L37=\"\",\"\",②選手情報入力!L37)","v":""},null,null,null,"出場資格条件（選択)"]
["種  目",{"$f":"IF(②選手情報入力!$G$37=\"\",\"\",②選手情報入力!$G$37)","v":""},null,null,null,null,null,null,null,null,null,null,null,"種  目",{"$f":"IF(②選手情報入力!$G$37=\"\",\"\",②選手情報入力!$G$37)","v":""}]
[]
["ナンバー",null,"ﾌ ﾘ ｶﾞﾅ",{"$f":"IF(②選手情報入力!$E$37=\"\",\"\",②選手情報入力!$E$37)","v":""},null,null,null,null,null,null,null,null,null,"ナンバー",null,"ﾌ ﾘ ｶﾞﾅ",{"$f":"IF(②選手情報入力!$E$37=\"\",\"\",②選手情報入力!$E$37)","v":""}]
[{"$f":"IF(②選手情報入力!$B$37=\"\",\"\",②選手情報入力!$B$37)","v":""},null,"氏 名",{"$f":"IF(②選手情報入力!$D$37=\"\",\"\",②選手情報入力!$D$37)","v":""},null,null,null,null,null,null,null,null,null,{"$f":"IF(②選手情報入力!$B$37=\"\",\"\",②選手情報入力!$B$37)","v":""},null,"氏 名",{"$f":"IF(②選手情報入力!$D$37=\"\",\"\",②選手情報入力!$D$37)","v":""}]
[]
["出場資格\n取得大会","大　会　名",null,null,null,"加入団体名",null,{"$f":"①団体情報入力!$D$5","v":0},null,null,null,null,null,"出場資格\n取得大会","大　会　名",null,null,null,"加入団体名",null,{"$f":"①団体情報入力!$D$5","v":0}]
[null,null,null,null,null,"年.月.日","順 位",null,"記　録",null,"場  所",null,null,null,null,null,null,null,"年.月.日","順 位",null,"記　録",null,"場  所"]
[null,null,null,null,null,null,null,null,{"$f":"IF(②選手情報入力!J37=\"\",\"\",②選手情報入力!J37)","v":""},null,null,null,null,null,null,null,null,null,null,null,null,{"$f":"IF(②選手情報入力!M37=\"\",\"\",②選手情報入力!M37)","v":""}]
[]
["本 年 度",null,null,null,null,null,null,null,{"$f":"IF(②選手情報入力!K37=\"\",\"同上\",②選手情報入力!K37)","v":"同上"},null,null,null,null,"本 年 度",null,null,null,null,null,null,null,{"$f":"IF(②選手情報入力!N37=\"\",\"同上\",②選手情報入力!N37)","v":"同上"}]
["最高記録",null,null,null,null,null,null,null,null,null,null,null,null,"最高記録"]
["備　  考","※記入不要",null,null,null,null,null,null,null,null,null,null,null,"備　  考","※記入不要"]
[]
["※標準記録突破大会は、公認大会で、記録会は正式名称を記入。",null,null,null,null,null,null,null,null,null,"女子は",null,null,"※標準記録突破大会は、公認大会で、記録会は正式名称を記入。",null,null,null,null,null,null,null,null,null,"女子は"]
["※参加資格・記録等記入不備の場合、審査の対象としない。",null,null,null,null,null,null,null,null,null,"ここを",null,null,"※参加資格・記録等記入不備の場合、審査の対象としない。",null,null,null,null,null,null,null,null,null,"ここを"]
["※申込締切期日厳守。",null,null,null,null,null,null,null,null,null,"切り取る",null,null,"※申込締切期日厳守。",null,null,null,null,null,null,null,null,null,"切り取る"]
[]
[]
["愛知選手権5000m･10000m 国体少年Ｂ 個人申込票",null,null,null,null,null,null,null,null,null,null,29,null,"愛知選手権5000m･10000m 国体少年Ｂ 個人申込票",null,null,null,null,null,null,null,null,null,null,29]
[null,null,null,"",null,null,null,null,null,"資格審査用",null,null,null,null,null,null,"",null,null,null,null,null,"資格審査用"]
[null,"性　　別",null,{"$f":"IF(②選手情報入力!I38=\"\",\"\",②選手情報入力!I38)","v":""},null,null,null,"出場資格条件（選択)",null,null,null,null,null,null,"性　　別",null,{"$f":"IF(②選手情報入力!L38=\"\",\"\",②選手情報入力!L38)","v":""},null,null,null,"出場資格条件（選択)"]
["種  目",{"$f":"IF(②選手情報入力!$G$38=\"\",\"\",②選手情報入力!$G$38)","v":""},null,null,null,null,null,null,null,null,null,null,null,"種  目",{"$f":"IF(②選手情報入力!$G$38=\"\",\"\",②選手情報入力!$G$38)","v":""}]
[]
["ナンバー",null,"ﾌ ﾘ ｶﾞﾅ",{"$f":"IF(②選手情報入力!$E$38=\"\",\"\",②選手情報入力!$E$38)","v":""},null,null,null,null,null,null,null,null,null,"ナンバー",null,"ﾌ ﾘ ｶﾞﾅ",{"$f":"IF(②選手情報入力!$E$38=\"\",\"\",②選手情報入力!$E$38)","v":""}]
[{"$f":"IF(②選手情報入力!$B$38=\"\",\"\",②選手情報入力!$B$38)","v":""},null,"氏 名",{"$f":"IF(②選手情報入力!$D$38=\"\",\"\",②選手情報入力!$D$38)","v":""},null,null,null,null,null,null,null,null,null,{"$f":"IF(②選手情報入力!$B$38=\"\",\"\",②選手情報入力!$B$38)","v":""},null,"氏 名",{"$f":"IF(②選手情報入力!$D$38=\"\",\"\",②選手情報入力!$D$38)","v":""}]
[]
["出場資格\n取得大会","大　会　名",null,null,null,"加入団体名",null,{"$f":"①団体情報入力!$D$5","v":0},null,null,null,null,null,"出場資格\n取得大会","大　会　名",null,null,null,"加入団体名",null,{"$f":"①団体情報入力!$D$5","v":0}]
[null,null,null,null,null,"年.月.日","順 位",null,"記　録",null,"場  所",null,null,null,null,null,null,null,"年.月.日","順 位",null,"記　録",null,"場  所"]
[null,null,null,null,null,null,null,null,{"$f":"IF(②選手情報入力!J38=\"\",\"\",②選手情報入力!J38)","v":""},null,null,null,null,null,null,null,null,null,null,null,null,{"$f":"IF(②選手情報入力!M38=\"\",\"\",②選手情報入力!M38)","v":""}]
[]
["本 年 度",null,null,null,null,null,null,null,{"$f":"IF(②選手情報入力!K38=\"\",\"同上\",②選手情報入力!K38)","v":"同上"},null,null,null,null,"本 年 度",null,null,null,null,null,null,null,{"$f":"IF(②選手情報入力!N38=\"\",\"同上\",②選手情報入力!N38)","v":"同上"}]
["最高記録",null,null,null,null,null,null,null,null,null,null,null,null,"最高記録"]
["備　  考","※記入不要",null,null,null,null,null,null,null,null,null,null,null,"備　  考","※記入不要"]
[]
["※標準記録突破大会は、公認大会で、記録会は正式名称を記入。",null,null,null,null,null,null,null,null,null,"女子は",null,null,"※標準記録突破大会は、公認大会で、記録会は正式名称を記入。",null,null,null,null,null,null,null,null,null,"女子は"]
["※参加資格・記録等記入不備の場合、審査の対象としない。",null,null,null,null,null,null,null,null,null,"ここを",null,null,"※参加資格・記録等記入不備の場合、審査の対象としない。",null,null,null,null,null,null,null,null,null,"ここを"]
["※申込締切期日厳守。",null,null,null,null,null,null,null,null,null,"切り取る",null,null,"※申込締切期日厳守。",null,null,null,null,null,null,null,null,null,"切り取る"]
[]
[]
[]
["愛知選手権5000m･10000m 国体少年Ｂ 個人申込票",null,null,null,null,null,null,null,null,null,null,30,null,"愛知選手権5000m･10000m 国体少年Ｂ 個人申込票",null,null,null,null,null,null,null,null,null,null,30]
[null,null,null,"",null,null,null,null,null,"資格審査用",null,null,null,null,null,null,"",null,null,null,null,null,"資格審査用"]
[null,"性　　別",null,{"$f":"IF(②選手情報入力!I39=\"\",\"\",②選手情報入力!I39)","v":""},null,null,null,"出場資格条件（選択)",null,null,null,null,null,null,"性　　別",null,{"$f":"IF(②選手情報入力!L39=\"\",\"\",②選手情報入力!L39)","v":""},null,null,null,"出場資格条件（選択)"]
["種  目",{"$f":"IF(②選手情報入力!$G$39=\"\",\"\",②選手情報入力!$G$39)","v":""},null,null,null,null,null,null,null,null,null,null,null,"種  目",{"$f":"IF(②選手情報入力!$G$39=\"\",\"\",②選手情報入力!$G$39)","v":""}]
[]
["ナンバー",null,"ﾌ ﾘ ｶﾞﾅ",{"$f":"IF(②選手情報入力!$E$39=\"\",\"\",②選手情報入力!$E$39)","v":""},null,null,null,null,null,null,null,null,null,"ナンバー",null,"ﾌ ﾘ ｶﾞﾅ",{"$f":"IF(②選手情報入力!$E$39=\"\",\"\",②選手情報入力!$E$39)","v":""}]
[{"$f":"IF(②選手情報入力!$B$39=\"\",\"\",②選手情報入力!$B$39)","v":""},null,"氏 名",{"$f":"IF(②選手情報入力!$D$39=\"\",\"\",②選手情報入力!$D$39)","v":""},null,null,null,null,null,null,null,null,null,{"$f":"IF(②選手情報入力!$B$39=\"\",\"\",②選手情報入力!$B$39)","v":""},null,"氏 名",{"$f":"IF(②選手情報入力!$D$39=\"\",\"\",②選手情報入力!$D$39)","v":""}]
[]
["出場資格\n取得大会","大　会　名",null,null,null,"加入団体名",null,{"$f":"①団体情報入力!$D$5","v":0},null,null,null,null,null,"出場資格\n取得大会","大　会　名",null,null,null,"加入団体名",null,{"$f":"①団体情報入力!$D$5","v":0}]
[null,null,null,null,null,"年.月.日","順 位",null,"記　録",null,"場  所",null,null,null,null,null,null,null,"年.月.日","順 位",null,"記　録",null,"場  所"]
[null,null,null,null,null,null,null,null,{"$f":"IF(②選手情報入力!J39=\"\",\"\",②選手情報入力!J39)","v":""},null,null,null,null,null,null,null,null,null,null,null,null,{"$f":"IF(②選手情報入力!M39=\"\",\"\",②選手情報入力!M39)","v":""}]
[]
["本 年 度",null,null,null,null,null,null,null,{"$f":"IF(②選手情報入力!K39=\"\",\"同上\",②選手情報入力!K39)","v":"同上"},null,null,null,null,"本 年 度",null,null,null,null,null,null,null,{"$f":"IF(②選手情報入力!N39=\"\",\"同上\",②選手情報入力!N39)","v":"同上"}]
["最高記録",null,null,null,null,null,null,null,null,null,null,null,null,"最高記録"]
["備　  考","※記入不要",null,null,null,null,null,null,null,null,null,null,null,"備　  考","※記入不要"]
[]
["※標準記録突破大会は、公認大会で、記録会は正式名称を記入。",null,null,null,null,null,null,null,null,null,"女子は",null,null,"※標準記録突破大会は、公認大会で、記録会は正式名称を記入。",null,null,null,null,null,null,null,null,null,"女子は"]
["※参加資格・記録等記入不備の場合、審査の対象としない。",null,null,null,null,null,null,null,null,null,"ここを",null,null,"※参加資格・記録等記入不備の場合、審査の対象としない。",null,null,null,null,null,null,null,null,null,"ここを"]
["※申込締切期日厳守。",null,null,null,null,null,null,null,null,null,"切り取る",null,null,"※申込締切期日厳守。",null,null,null,null,null,null,null,null,null,"切り取る"]
[]
[]
["愛知選手権5000m･10000m 国体少年Ｂ 個人申込票",null,null,null,null,null,null,null,null,null,null,31,null,"愛知選手権5000m･10000m 国体少年Ｂ 個人申込票",null,null,null,null,null,null,null,null,null,null,31]
[null,null,null,"",null,null,null,null,null,"資格審査用",null,null,null,null,null,null,"",null,null,null,null,null,"資格審査用"]
[null,"性　　別",null,{"$f":"IF(②選手情報入力!I40=\"\",\"\",②選手情報入力!I40)","v":""},null,null,null,"出場資格条件（選択)",null,null,null,null,null,null,"性　　別",null,{"$f":"IF(②選手情報入力!L40=\"\",\"\",②選手情報入力!L40)","v":""},null,null,null,"出場資格条件（選択)"]
["種  目",{"$f":"IF(②選手情報入力!$G$40=\"\",\"\",②選手情報入力!$G$40)","v":""},null,null,null,null,null,null,null,null,null,null,null,"種  目",{"$f":"IF(②選手情報入力!$G$40=\"\",\"\",②選手情報入力!$G$40)","v":""}]
[]
["ナンバー",null,"ﾌ ﾘ ｶﾞﾅ",{"$f":"IF(②選手情報入力!$E$40=\"\",\"\",②選手情報入力!$E$40)","v":""},null,null,null,null,null,null,null,null,null,"ナンバー",null,"ﾌ ﾘ ｶﾞﾅ",{"$f":"IF(②選手情報入力!$E$40=\"\",\"\",②選手情報入力!$E$40)","v":""}]
[{"$f":"IF(②選手情報入力!$B$40=\"\",\"\",②選手情報入力!$B$40)","v":""},null,"氏 名",{"$f":"IF(②選手情報入力!$D$40=\"\",\"\",②選手情報入力!$D$40)","v":""},null,null,null,null,null,null,null,null,null,{"$f":"IF(②選手情報入力!$B$40=\"\",\"\",②選手情報入力!$B$40)","v":""},null,"氏 名",{"$f":"IF(②選手情報入力!$D$40=\"\",\"\",②選手情報入力!$D$40)","v":""}]
[]
["出場資格\n取得大会","大　会　名",null,null,null,"加入団体名",null,{"$f":"①団体情報入力!$D$5","v":0},null,null,null,null,null,"出場資格\n取得大会","大　会　名",null,null,null,"加入団体名",null,{"$f":"①団体情報入力!$D$5","v":0}]
[null,null,null,null,null,"年.月.日","順 位",null,"記　録",null,"場  所",null,null,null,null,null,null,null,"年.月.日","順 位",null,"記　録",null,"場  所"]
[null,null,null,null,null,null,null,null,{"$f":"IF(②選手情報入力!J40=\"\",\"\",②選手情報入力!J40)","v":""},null,null,null,null,null,null,null,null,null,null,null,null,{"$f":"IF(②選手情報入力!M40=\"\",\"\",②選手情報入力!M40)","v":""}]
[]
["本 年 度",null,null,null,null,null,null,null,{"$f":"IF(②選手情報入力!K40=\"\",\"同上\",②選手情報入力!K40)","v":"同上"},null,null,null,null,"本 年 度",null,null,null,null,null,null,null,{"$f":"IF(②選手情報入力!N40=\"\",\"同上\",②選手情報入力!N40)","v":"同上"}]
["最高記録",null,null,null,null,null,null,null,null,null,null,null,null,"最高記録"]
["備　  考","※記入不要",null,null,null,null,null,null,null,null,null,null,null,"備　  考","※記入不要"]
[]
["※標準記録突破大会は、公認大会で、記録会は正式名称を記入。",null,null,null,null,null,null,null,null,null,"女子は",null,null,"※標準記録突破大会は、公認大会で、記録会は正式名称を記入。",null,null,null,null,null,null,null,null,null,"女子は"]
["※参加資格・記録等記入不備の場合、審査の対象としない。",null,null,null,null,null,null,null,null,null,"ここを",null,null,"※参加資格・記録等記入不備の場合、審査の対象としない。",null,null,null,null,null,null,null,null,null,"ここを"]
["※申込締切期日厳守。",null,null,null,null,null,null,null,null,null,"切り取る",null,null,"※申込締切期日厳守。",null,null,null,null,null,null,null,null,null,"切り取る"]
[]
[]
["愛知選手権5000m･10000m 国体少年Ｂ 個人申込票",null,null,null,null,null,null,null,null,null,null,32,null,"愛知選手権5000m･10000m 国体少年Ｂ 個人申込票",null,null,null,null,null,null,null,null,null,null,32]
[null,null,null,"",null,null,null,null,null,"資格審査用",null,null,null,null,null,null,"",null,null,null,null,null,"資格審査用"]
[null,"性　　別",null,{"$f":"IF(②選手情報入力!I41=\"\",\"\",②選手情報入力!I41)","v":""},null,null,null,"出場資格条件（選択)",null,null,null,null,null,null,"性　　別",null,{"$f":"IF(②選手情報入力!L41=\"\",\"\",②選手情報入力!L41)","v":""},null,null,null,"出場資格条件（選択)"]
["種  目",{"$f":"IF(②選手情報入力!$G$41=\"\",\"\",②選手情報入力!$G$41)","v":""},null,null,null,null,null,null,null,null,null,null,null,"種  目",{"$f":"IF(②選手情報入力!$G$41=\"\",\"\",②選手情報入力!$G$41)","v":""}]
[]
["ナンバー",null,"ﾌ ﾘ ｶﾞﾅ",{"$f":"IF(②選手情報入力!$E$41=\"\",\"\",②選手情報入力!$E$41)","v":""},null,null,null,null,null,null,null,null,null,"ナンバー",null,"ﾌ ﾘ ｶﾞﾅ",{"$f":"IF(②選手情報入力!$E$41=\"\",\"\",②選手情報入力!$E$41)","v":""}]
[{"$f":"IF(②選手情報入力!$B$41=\"\",\"\",②選手情報入力!$B$41)","v":""},null,"氏 名",{"$f":"IF(②選手情報入力!$D$41=\"\",\"\",②選手情報入力!$D$41)","v":""},null,null,null,null,null,null,null,null,null,{"$f":"IF(②選手情報入力!$B$41=\"\",\"\",②選手情報入力!$B$41)","v":""},null,"氏 名",{"$f":"IF(②選手情報入力!$D$41=\"\",\"\",②選手情報入力!$D$41)","v":""}]
[]
["出場資格\n取得大会","大　会　名",null,null,null,"加入団体名",null,{"$f":"①団体情報入力!$D$5","v":0},null,null,null,null,null,"出場資格\n取得大会","大　会　名",null,null,null,"加入団体名",null,{"$f":"①団体情報入力!$D$5","v":0}]
[null,null,null,null,null,"年.月.日","順 位",null,"記　録",null,"場  所",null,null,null,null,null,null,null,"年.月.日","順 位",null,"記　録",null,"場  所"]
[null,null,null,null,null,null,null,null,{"$f":"IF(②選手情報入力!J41=\"\",\"\",②選手情報入力!J41)","v":""},null,null,null,null,null,null,null,null,null,null,null,null,{"$f":"IF(②選手情報入力!M41=\"\",\"\",②選手情報入力!M41)","v":""}]
[]
["本 年 度",null,null,null,null,null,null,null,{"$f":"IF(②選手情報入力!K41=\"\",\"同上\",②選手情報入力!K41)","v":"同上"},null,null,null,null,"本 年 度",null,null,null,null,null,null,null,{"$f":"IF(②選手情報入力!N41=\"\",\"同上\",②選手情報入力!N41)","v":"同上"}]
["最高記録",null,null,null,null,null,null,null,null,null,null,null,null,"最高記録"]
["備　  考","※記入不要",null,null,null,null,null,null,null,null,null,null,null,"備　  考","※記入不要"]
[]
["※標準記録突破大会は、公認大会で、記録会は正式名称を記入。",null,null,null,null,null,null,null,null,null,"女子は",null,null,"※標準記録突破大会は、公認大会で、記録会は正式名称を記入。",null,null,null,null,null,null,null,null,null,"女子は"]
["※参加資格・記録等記入不備の場合、審査の対象としない。",null,null,null,null,null,null,null,null,null,"ここを",null,null,"※参加資格・記録等記入不備の場合、審査の対象としない。",null,null,null,null,null,null,null,null,null,"ここを"]
["※申込締切期日厳守。",null,null,null,null,null,null,null,null,null,"切り取る",null,null,"※申込締切期日厳守。",null,null,null,null,null,null,null,null,null,"切り取る"]
[]
[]
["愛知選手権5000m･10000m 国体少年Ｂ 個人申込票",null,null,null,null,null,null,null,null,null,null,33,null,"愛知選手権5000m･10000m 国体少年Ｂ 個人申込票",null,null,null,null,null,null,null,null,null,null,33]
[null,null,null,"",null,null,null,null,null,"資格審査用",null,null,null,null,null,null,"",null,null,null,null,null,"資格審査用"]
[null,"性　　別",null,{"$f":"IF(②選手情報入力!I42=\"\",\"\",②選手情報入力!I42)","v":""},null,null,null,"出場資格条件（選択)",null,null,null,null,null,null,"性　　別",null,{"$f":"IF(②選手情報入力!L42=\"\",\"\",②選手情報入力!L42)","v":""},null,null,null,"出場資格条件（選択)"]
["種  目",{"$f":"IF(②選手情報入力!$G$42=\"\",\"\",②選手情報入力!$G$42)","v":""},null,null,null,null,null,null,null,null,null,null,null,"種  目",{"$f":"IF(②選手情報入力!$G$42=\"\",\"\",②選手情報入力!$G$42)","v":""}]
[]
["ナンバー",null,"ﾌ ﾘ ｶﾞﾅ",{"$f":"IF(②選手情報入力!$E$42=\"\",\"\",②選手情報入力!$E$42)","v":""},null,null,null,null,null,null,null,null,null,"ナンバー",null,"ﾌ ﾘ ｶﾞﾅ",{"$f":"IF(②選手情報入力!$E$42=\"\",\"\",②選手情報入力!$E$42)","v":""}]
[{"$f":"IF(②選手情報入力!$B$42=\"\",\"\",②選手情報入力!$B$42)","v":""},null,"氏 名",{"$f":"IF(②選手情報入力!$D$42=\"\",\"\",②選手情報入力!$D$42)","v":""},null,null,null,null,null,null,null,null,null,{"$f":"IF(②選手情報入力!$B$42=\"\",\"\",②選手情報入力!$B$42)","v":""},null,"氏 名",{"$f":"IF(②選手情報入力!$D$42=\"\",\"\",②選手情報入力!$D$42)","v":""}]
[]
["出場資格\n取得大会","大　会　名",null,null,null,"加入団体名",null,{"$f":"①団体情報入力!$D$5","v":0},null,null,null,null,null,"出場資格\n取得大会","大　会　名",null,null,null,"加入団体名",null,{"$f":"①団体情報入力!$D$5","v":0}]
[null,null,null,null,null,"年.月.日","順 位",null,"記　録",null,"場  所",null,null,null,null,null,null,null,"年.月.日","順 位",null,"記　録",null,"場  所"]
[null,null,null,null,null,null,null,null,{"$f":"IF(②選手情報入力!J42=\"\",\"\",②選手情報入力!J42)","v":""},null,null,null,null,null,null,null,null,null,null,null,null,{"$f":"IF(②選手情報入力!M42=\"\",\"\",②選手情報入力!M42)","v":""}]
[]
["本 年 度",null,null,null,null,null,null,null,{"$f":"IF(②選手情報入力!K42=\"\",\"同上\",②選手情報入力!K42)","v":"同上"},null,null,null,null,"本 年 度",null,null,null,null,null,null,null,{"$f":"IF(②選手情報入力!N42=\"\",\"同上\",②選手情報入力!N42)","v":"同上"}]
["最高記録",null,null,null,null,null,null,null,null,null,null,null,null,"最高記録"]
["備　  考","※記入不要",null,null,null,null,null,null,null,null,null,null,null,"備　  考","※記入不要"]
[]
["※標準記録突破大会は、公認大会で、記録会は正式名称を記入。",null,null,null,null,null,null,null,null,null,"女子は",null,null,"※標準記録突破大会は、公認大会で、記録会は正式名称を記入。",null,null,null,null,null,null,null,null,null,"女子は"]
["※参加資格・記録等記入不備の場合、審査の対象としない。",null,null,null,null,null,null,null,null,null,"ここを",null,null,"※参加資格・記録等記入不備の場合、審査の対象としない。",null,null,null,null,null,null,null,null,null,"ここを"]
["※申込締切期日厳守。",null,null,null,null,null,null,null,null,null,"切り取る",null,null,"※申込締切期日厳守。",null,null,null,null,null,null,null,null,null,"切り取る"]
[]
[]
[]
["愛知選手権5000m･10000m 国体少年Ｂ 個人申込票",null,null,null,null,null,null,null,null,null,null,34,null,"愛知選手権5000m･10000m 国体少年Ｂ 個人申込票",null,null,null,null,null,null,null,null,null,null,34]
[null,null,null,"",null,null,null,null,null,"資格審査用",null,null,null,null,null,null,"",null,null,null,null,null,"資格審査用"]
[null,"性　　別",null,{"$f":"IF(②選手情報入力!I43=\"\",\"\",②選手情報入力!I43)","v":""},null,null,null,"出場資格条件（選択)",null,null,null,null,null,null,"性　　別",null,{"$f":"IF(②選手情報入力!L43=\"\",\"\",②選手情報入力!L43)","v":""},null,null,null,"出場資格条件（選択)"]
["種  目",{"$f":"IF(②選手情報入力!$G$43=\"\",\"\",②選手情報入力!$G$43)","v":""},null,null,null,null,null,null,null,null,null,null,null,"種  目",{"$f":"IF(②選手情報入力!$G$43=\"\",\"\",②選手情報入力!$G$43)","v":""}]
[]
["ナンバー",null,"ﾌ ﾘ ｶﾞﾅ",{"$f":"IF(②選手情報入力!$E$43=\"\",\"\",②選手情報入力!$E$43)","v":""},null,null,null,null,null,null,null,null,null,"ナンバー",null,"ﾌ ﾘ ｶﾞﾅ",{"$f":"IF(②選手情報入力!$E$43=\"\",\"\",②選手情報入力!$E$43)","v":""}]
[{"$f":"IF(②選手情報入力!$B$43=\"\",\"\",②選手情報入力!$B$43)","v":""},null,"氏 名",{"$f":"IF(②選手情報入力!$D$43=\"\",\"\",②選手情報入力!$D$43)","v":""},null,null,null,null,null,null,null,null,null,{"$f":"IF(②選手情報入力!$B$43=\"\",\"\",②選手情報入力!$B$43)","v":""},null,"氏 名",{"$f":"IF(②選手情報入力!$D$43=\"\",\"\",②選手情報入力!$D$43)","v":""}]
[]
["出場資格\n取得大会","大　会　名",null,null,null,"加入団体名",null,{"$f":"①団体情報入力!$D$5","v":0},null,null,null,null,null,"出場資格\n取得大会","大　会　名",null,null,null,"加入団体名",null,{"$f":"①団体情報入力!$D$5","v":0}]
[null,null,null,null,null,"年.月.日","順 位",null,"記　録",null,"場  所",null,null,null,null,null,null,null,"年.月.日","順 位",null,"記　録",null,"場  所"]
[null,null,null,null,null,null,null,null,{"$f":"IF(②選手情報入力!J43=\"\",\"\",②選手情報入力!J43)","v":""},null,null,null,null,null,null,null,null,null,null,null,null,{"$f":"IF(②選手情報入力!M43=\"\",\"\",②選手情報入力!M43)","v":""}]
[]
["本 年 度",null,null,null,null,null,null,null,{"$f":"IF(②選手情報入力!K43=\"\",\"同上\",②選手情報入力!K43)","v":"同上"},null,null,null,null,"本 年 度",null,null,null,null,null,null,null,{"$f":"IF(②選手情報入力!N43=\"\",\"同上\",②選手情報入力!N43)","v":"同上"}]
["最高記録",null,null,null,null,null,null,null,null,null,null,null,null,"最高記録"]
["備　  考","※記入不要",null,null,null,null,null,null,null,null,null,null,null,"備　  考","※記入不要"]
[]
["※標準記録突破大会は、公認大会で、記録会は正式名称を記入。",null,null,null,null,null,null,null,null,null,"女子は",null,null,"※標準記録突破大会は、公認大会で、記録会は正式名称を記入。",null,null,null,null,null,null,null,null,null,"女子は"]
["※参加資格・記録等記入不備の場合、審査の対象としない。",null,null,null,null,null,null,null,null,null,"ここを",null,null,"※参加資格・記録等記入不備の場合、審査の対象としない。",null,null,null,null,null,null,null,null,null,"ここを"]
["※申込締切期日厳守。",null,null,null,null,null,null,null,null,null,"切り取る",null,null,"※申込締切期日厳守。",null,null,null,null,null,null,null,null,null,"切り取る"]
[]
[]
["愛知選手権5000m･10000m 国体少年Ｂ 個人申込票",null,null,null,null,null,null,null,null,null,null,35,null,"愛知選手権5000m･10000m 国体少年Ｂ 個人申込票",null,null,null,null,null,null,null,null,null,null,35]
[null,null,null,"",null,null,null,null,null,"資格審査用",null,null,null,null,null,null,"",null,null,null,null,null,"資格審査用"]
[null,"性　　別",null,{"$f":"IF(②選手情報入力!I44=\"\",\"\",②選手情報入力!I44)","v":""},null,null,null,"出場資格条件（選択)",null,null,null,null,null,null,"性　　別",null,{"$f":"IF(②選手情報入力!L44=\"\",\"\",②選手情報入力!L44)","v":""},null,null,null,"出場資格条件（選択)"]
["種  目",{"$f":"IF(②選手情報入力!$G$44=\"\",\"\",②選手情報入力!$G$44)","v":""},null,null,null,null,null,null,null,null,null,null,null,"種  目",{"$f":"IF(②選手情報入力!$G$44=\"\",\"\",②選手情報入力!$G$44)","v":""}]
[]
["ナンバー",null,"ﾌ ﾘ ｶﾞﾅ",{"$f":"IF(②選手情報入力!$E$44=\"\",\"\",②選手情報入力!$E$44)","v":""},null,null,null,null,null,null,null,null,null,"ナンバー",null,"ﾌ ﾘ ｶﾞﾅ",{"$f":"IF(②選手情報入力!$E$44=\"\",\"\",②選手情報入力!$E$44)","v":""}]
[{"$f":"IF(②選手情報入力!$B$44=\"\",\"\",②選手情報入力!$B$44)","v":""},null,"氏 名",{"$f":"IF(②選手情報入力!$D$44=\"\",\"\",②選手情報入力!$D$44)","v":""},null,null,null,null,null,null,null,null,null,{"$f":"IF(②選手情報入力!$B$44=\"\",\"\",②選手情報入力!$B$44)","v":""},null,"氏 名",{"$f":"IF(②選手情報入力!$D$44=\"\",\"\",②選手情報入力!$D$44)","v":""}]
[]
["出場資格\n取得大会","大　会　名",null,null,null,"加入団体名",null,{"$f":"①団体情報入力!$D$5","v":0},null,null,null,null,null,"出場資格\n取得大会","大　会　名",null,null,null,"加入団体名",null,{"$f":"①団体情報入力!$D$5","v":0}]
[null,null,null,null,null,"年.月.日","順 位",null,"記　録",null,"場  所",null,null,null,null,null,null,null,"年.月.日","順 位",null,"記　録",null,"場  所"]
[null,null,null,null,null,null,null,null,{"$f":"IF(②選手情報入力!J44=\"\",\"\",②選手情報入力!J44)","v":""},null,null,null,null,null,null,null,null,null,null,null,null,{"$f":"IF(②選手情報入力!M44=\"\",\"\",②選手情報入力!M44)","v":""}]
[]
["本 年 度",null,null,null,null,null,null,null,{"$f":"IF(②選手情報入力!K44=\"\",\"同上\",②選手情報入力!K44)","v":"同上"},null,null,null,null,"本 年 度",null,null,null,null,null,null,null,{"$f":"IF(②選手情報入力!N44=\"\",\"同上\",②選手情報入力!N44)","v":"同上"}]
["最高記録",null,null,null,null,null,null,null,null,null,null,null,null,"最高記録"]
["備　  考","※記入不要",null,null,null,null,null,null,null,null,null,null,null,"備　  考","※記入不要"]
[]
["※標準記録突破大会は、公認大会で、記録会は正式名称を記入。",null,null,null,null,null,null,null,null,null,"女子は",null,null,"※標準記録突破大会は、公認大会で、記録会は正式名称を記入。",null,null,null,null,null,null,null,null,null,"女子は"]
["※参加資格・記録等記入不備の場合、審査の対象としない。",null,null,null,null,null,null,null,null,null,"ここを",null,null,"※参加資格・記録等記入不備の場合、審査の対象としない。",null,null,null,null,null,null,null,null,null,"ここを"]
["※申込締切期日厳守。",null,null,null,null,null,null,null,null,null,"切り取る",null,null,"※申込締切期日厳守。",null,null,null,null,null,null,null,null,null,"切り取る"]
[]
[]
["愛知選手権5000m･10000m 国体少年Ｂ 個人申込票",null,null,null,null,null,null,null,null,null,null,36,null,"愛知選手権5000m･10000m 国体少年Ｂ 個人申込票",null,null,null,null,null,null,null,null,null,null,36]
[null,null,null,"",null,null,null,null,null,"資格審査用",null,null,null,null,null,null,"",null,null,null,null,null,"資格審査用"]
[null,"性　　別",null,{"$f":"IF(②選手情報入力!I45=\"\",\"\",②選手情報入力!I45)","v":""},null,null,null,"出場資格条件（選択)",null,null,null,null,null,null,"性　　別",null,{"$f":"IF(②選手情報入力!L45=\"\",\"\",②選手情報入力!L45)","v":""},null,null,null,"出場資格条件（選択)"]
["種  目",{"$f":"IF(②選手情報入力!$G$45=\"\",\"\",②選手情報入力!$G$45)","v":""},null,null,null,null,null,null,null,null,null,null,null,"種  目",{"$f":"IF(②選手情報入力!$G$45=\"\",\"\",②選手情報入力!$G$45)","v":""}]
[]
["ナンバー",null,"ﾌ ﾘ ｶﾞﾅ",{"$f":"IF(②選手情報入力!$E$45=\"\",\"\",②選手情報入力!$E$45)","v":""},null,null,null,null,null,null,null,null,null,"ナンバー",null,"ﾌ ﾘ ｶﾞﾅ",{"$f":"IF(②選手情報入力!$E$45=\"\",\"\",②選手情報入力!$E$45)","v":""}]
[{"$f":"IF(②選手情報入力!$B$45=\"\",\"\",②選手情報入力!$B$45)","v":""},null,"氏 名",{"$f":"IF(②選手情報入力!$D$45=\"\",\"\",②選手情報入力!$D$45)","v":""},null,null,null,null,null,null,null,null,null,{"$f":"IF(②選手情報入力!$B$45=\"\",\"\",②選手情報入力!$B$45)","v":""},null,"氏 名",{"$f":"IF(②選手情報入力!$D$45=\"\",\"\",②選手情報入力!$D$45)","v":""}]
[]
["出場資格\n取得大会","大　会　名",null,null,null,"加入団体名",null,{"$f":"①団体情報入力!$D$5","v":0},null,null,null,null,null,"出場資格\n取得大会","大　会　名",null,null,null,"加入団体名",null,{"$f":"①団体情報入力!$D$5","v":0}]
[null,null,null,null,null,"年.月.日","順 位",null,"記　録",null,"場  所",null,null,null,null,null,null,null,"年.月.日","順 位",null,"記　録",null,"場  所"]
[null,null,null,null,null,null,null,null,{"$f":"IF(②選手情報入力!J45=\"\",\"\",②選手情報入力!J45)","v":""},null,null,null,null,null,null,null,null,null,null,null,null,{"$f":"IF(②選手情報入力!M45=\"\",\"\",②選手情報入力!M45)","v":""}]
[]
["本 年 度",null,null,null,null,null,null,null,{"$f":"IF(②選手情報入力!K45=\"\",\"同上\",②選手情報入力!K45)","v":"同上"},null,null,null,null,"本 年 度",null,null,null,null,null,null,null,{"$f":"IF(②選手情報入力!N45=\"\",\"同上\",②選手情報入力!N45)","v":"同上"}]
["最高記録",null,null,null,null,null,null,null,null,null,null,null,null,"最高記録"]
["備　  考","※記入不要",null,null,null,null,null,null,null,null,null,null,null,"備　  考","※記入不要"]
[]
["※標準記録突破大会は、公認大会で、記録会は正式名称を記入。",null,null,null,null,null,null,null,null,null,"女子は",null,null,"※標準記録突破大会は、公認大会で、記録会は正式名称を記入。",null,null,null,null,null,null,null,null,null,"女子は"]
["※参加資格・記録等記入不備の場合、審査の対象としない。",null,null,null,null,null,null,null,null,null,"ここを",null,null,"※参加資格・記録等記入不備の場合、審査の対象としない。",null,null,null,null,null,null,null,null,null,"ここを"]
["※申込締切期日厳守。",null,null,null,null,null,null,null,null,null,"切り取る",null,null,"※申込締切期日厳守。",null,null,null,null,null,null,null,null,null,"切り取る"]
[]
[]
[]
["愛知選手権5000m･10000m 国体少年Ｂ 個人申込票",null,null,null,null,null,null,null,null,null,null,37,null,"愛知選手権5000m･10000m 国体少年Ｂ 個人申込票",null,null,null,null,null,null,null,null,null,null,37]
[null,null,null,"",null,null,null,null,null,"資格審査用",null,null,null,null,null,null,"",null,null,null,null,null,"資格審査用"]
[null,"性　　別",null,{"$f":"IF(②選手情報入力!I46=\"\",\"\",②選手情報入力!I46)","v":""},null,null,null,"出場資格条件（選択)",null,null,null,null,null,null,"性　　別",null,{"$f":"IF(②選手情報入力!L46=\"\",\"\",②選手情報入力!L46)","v":""},null,null,null,"出場資格条件（選択)"]
["種  目",{"$f":"IF(②選手情報入力!$G$46=\"\",\"\",②選手情報入力!$G$46)","v":""},null,null,null,null,null,null,null,null,null,null,null,"種  目",{"$f":"IF(②選手情報入力!$G$46=\"\",\"\",②選手情報入力!$G$46)","v":""}]
[]
["ナンバー",null,"ﾌ ﾘ ｶﾞﾅ",{"$f":"IF(②選手情報入力!$E$46=\"\",\"\",②選手情報入力!$E$46)","v":""},null,null,null,null,null,null,null,null,null,"ナンバー",null,"ﾌ ﾘ ｶﾞﾅ",{"$f":"IF(②選手情報入力!$E$46=\"\",\"\",②選手情報入力!$E$46)","v":""}]
[{"$f":"IF(②選手情報入力!$B$46=\"\",\"\",②選手情報入力!$B$46)","v":""},null,"氏 名",{"$f":"IF(②選手情報入力!$D$46=\"\",\"\",②選手情報入力!$D$46)","v":""},null,null,null,null,null,null,null,null,null,{"$f":"IF(②選手情報入力!$B$46=\"\",\"\",②選手情報入力!$B$46)","v":""},null,"氏 名",{"$f":"IF(②選手情報入力!$D$46=\"\",\"\",②選手情報入力!$D$46)","v":""}]
[]
["出場資格\n取得大会","大　会　名",null,null,null,"加入団体名",null,{"$f":"①団体情報入力!$D$5","v":0},null,null,null,null,null,"出場資格\n取得大会","大　会　名",null,null,null,"加入団体名",null,{"$f":"①団体情報入力!$D$5","v":0}]
[null,null,null,null,null,"年.月.日","順 位",null,"記　録",null,"場  所",null,null,null,null,null,null,null,"年.月.日","順 位",null,"記　録",null,"場  所"]
[null,null,null,null,null,null,null,null,{"$f":"IF(②選手情報入力!J46=\"\",\"\",②選手情報入力!J46)","v":""},null,null,null,null,null,null,null,null,null,null,null,null,{"$f":"IF(②選手情報入力!M46=\"\",\"\",②選手情報入力!M46)","v":""}]
[]
["本 年 度",null,null,null,null,null,null,null,{"$f":"IF(②選手情報入力!K46=\"\",\"同上\",②選手情報入力!K46)","v":"同上"},null,null,null,null,"本 年 度",null,null,null,null,null,null,null,{"$f":"IF(②選手情報入力!N46=\"\",\"同上\",②選手情報入力!N46)","v":"同上"}]
["最高記録",null,null,null,null,null,null,null,null,null,null,null,null,"最高記録"]
["備　  考","※記入不要",null,null,null,null,null,null,null,null,null,null,null,"備　  考","※記入不要"]
[]
["※標準記録突破大会は、公認大会で、記録会は正式名称を記入。",null,null,null,null,null,null,null,null,null,"女子は",null,null,"※標準記録突破大会は、公認大会で、記録会は正式名称を記入。",null,null,null,null,null,null,null,null,null,"女子は"]
["※参加資格・記録等記入不備の場合、審査の対象としない。",null,null,null,null,null,null,null,null,null,"ここを",null,null,"※参加資格・記録等記入不備の場合、審査の対象としない。",null,null,null,null,null,null,null,null,null,"ここを"]
["※申込締切期日厳守。",null,null,null,null,null,null,null,null,null,"切り取る",null,null,"※申込締切期日厳守。",null,null,null,null,null,null,null,null,null,"切り取る"]
[]
[]
["愛知選手権5000m･10000m 国体少年Ｂ 個人申込票",null,null,null,null,null,null,null,null,null,null,38,null,"愛知選手権5000m･10000m 国体少年Ｂ 個人申込票",null,null,null,null,null,null,null,null,null,null,38]
[null,null,null,"",null,null,null,null,null,"資格審査用",null,null,null,null,null,null,"",null,null,null,null,null,"資格審査用"]
[null,"性　　別",null,{"$f":"IF(②選手情報入力!I47=\"\",\"\",②選手情報入力!I47)","v":""},null,null,null,"出場資格条件（選択)",null,null,null,null,null,null,"性　　別",null,{"$f":"IF(②選手情報入力!L47=\"\",\"\",②選手情報入力!L47)","v":""},null,null,null,"出場資格条件（選択)"]
["種  目",{"$f":"IF(②選手情報入力!$G$47=\"\",\"\",②選手情報入力!$G$47)","v":""},null,null,null,null,null,null,null,null,null,null,null,"種  目",{"$f":"IF(②選手情報入力!$G$47=\"\",\"\",②選手情報入力!$G$47)","v":""}]
[]
["ナンバー",null,"ﾌ ﾘ ｶﾞﾅ",{"$f":"IF(②選手情報入力!$E$47=\"\",\"\",②選手情報入力!$E$47)","v":""},null,null,null,null,null,null,null,null,null,"ナンバー",null,"ﾌ ﾘ ｶﾞﾅ",{"$f":"IF(②選手情報入力!$E$47=\"\",\"\",②選手情報入力!$E$47)","v":""}]
[{"$f":"IF(②選手情報入力!$B$47=\"\",\"\",②選手情報入力!$B$47)","v":""},null,"氏 名",{"$f":"IF(②選手情報入力!$D$47=\"\",\"\",②選手情報入力!$D$47)","v":""},null,null,null,null,null,null,null,null,null,{"$f":"IF(②選手情報入力!$B$47=\"\",\"\",②選手情報入力!$B$47)","v":""},null,"氏 名",{"$f":"IF(②選手情報入力!$D$47=\"\",\"\",②選手情報入力!$D$47)","v":""}]
[]
["出場資格\n取得大会","大　会　名",null,null,null,"加入団体名",null,{"$f":"①団体情報入力!$D$5","v":0},null,null,null,null,null,"出場資格\n取得大会","大　会　名",null,null,null,"加入団体名",null,{"$f":"①団体情報入力!$D$5","v":0}]
[null,null,null,null,null,"年.月.日","順 位",null,"記　録",null,"場  所",null,null,null,null,null,null,null,"年.月.日","順 位",null,"記　録",null,"場  所"]
[null,null,null,null,null,null,null,null,{"$f":"IF(②選手情報入力!J47=\"\",\"\",②選手情報入力!J47)","v":""},null,null,null,null,null,null,null,null,null,null,null,null,{"$f":"IF(②選手情報入力!M47=\"\",\"\",②選手情報入力!M47)","v":""}]
[]
["本 年 度",null,null,null,null,null,null,null,{"$f":"IF(②選手情報入力!K47=\"\",\"同上\",②選手情報入力!K47)","v":"同上"},null,null,null,null,"本 年 度",null,null,null,null,null,null,null,{"$f":"IF(②選手情報入力!N47=\"\",\"同上\",②選手情報入力!N47)","v":"同上"}]
["最高記録",null,null,null,null,null,null,null,null,null,null,null,null,"最高記録"]
["備　  考","※記入不要",null,null,null,null,null,null,null,null,null,null,null,"備　  考","※記入不要"]
[]
["※標準記録突破大会は、公認大会で、記録会は正式名称を記入。",null,null,null,null,null,null,null,null,null,"女子は",null,null,"※標準記録突破大会は、公認大会で、記録会は正式名称を記入。",null,null,null,null,null,null,null,null,null,"女子は"]
["※参加資格・記録等記入不備の場合、審査の対象としない。",null,null,null,null,null,null,null,null,null,"ここを",null,null,"※参加資格・記録等記入不備の場合、審査の対象としない。",null,null,null,null,null,null,null,null,null,"ここを"]
["※申込締切期日厳守。",null,null,null,null,null,null,null,null,null,"切り取る",null,null,"※申込締切期日厳守。",null,null,null,null,null,null,null,null,null,"切り取る"]
[]
[]
["愛知選手権5000m･10000m 国体少年Ｂ 個人申込票",null,null,null,null,null,null,null,null,null,null,39,null,"愛知選手権5000m･10000m 国体少年Ｂ 個人申込票",null,null,null,null,null,null,null,null,null,null,39]
[null,null,null,"",null,null,null,null,null,"資格審査用",null,null,null,null,null,null,"",null,null,null,null,null,"資格審査用"]
[null,"性　　別",null,{"$f":"IF(②選手情報入力!I48=\"\",\"\",②選手情報入力!I48)","v":""},null,null,null,"出場資格条件（選択)",null,null,null,null,null,null,"性　　別",null,{"$f":"IF(②選手情報入力!L48=\"\",\"\",②選手情報入力!L48)","v":""},null,null,null,"出場資格条件（選択)"]
["種  目",{"$f":"IF(②選手情報入力!$G$48=\"\",\"\",②選手情報入力!$G$48)","v":""},null,null,null,null,null,null,null,null,null,null,null,"種  目",{"$f":"IF(②選手情報入力!$G$48=\"\",\"\",②選手情報入力!$G$48)","v":""}]
[]
["ナンバー",null,"ﾌ ﾘ ｶﾞﾅ",{"$f":"IF(②選手情報入力!$E$48=\"\",\"\",②選手情報入力!$E$48)","v":""},null,null,null,null,null,null,null,null,null,"ナンバー",null,"ﾌ ﾘ ｶﾞﾅ",{"$f":"IF(②選手情報入力!$E$48=\"\",\"\",②選手情報入力!$E$48)","v":""}]
[{"$f":"IF(②選手情報入力!$B$48=\"\",\"\",②選手情報入力!$B$48)","v":""},null,"氏 名",{"$f":"IF(②選手情報入力!$D$48=\"\",\"\",②選手情報入力!$D$48)","v":""},null,null,null,null,null,null,null,null,null,{"$f":"IF(②選手情報入力!$B$48=\"\",\"\",②選手情報入力!$B$48)","v":""},null,"氏 名",{"$f":"IF(②選手情報入力!$D$48=\"\",\"\",②選手情報入力!$D$48)","v":""}]
[]
["出場資格\n取得大会","大　会　名",null,null,null,"加入団体名",null,{"$f":"①団体情報入力!$D$5","v":0},null,null,null,null,null,"出場資格\n取得大会","大　会　名",null,null,null,"加入団体名",null,{"$f":"①団体情報入力!$D$5","v":0}]
[null,null,null,null,null,"年.月.日","順 位",null,"記　録",null,"場  所",null,null,null,null,null,null,null,"年.月.日","順 位",null,"記　録",null,"場  所"]
[null,null,null,null,null,null,null,null,{"$f":"IF(②選手情報入力!J48=\"\",\"\",②選手情報入力!J48)","v":""},null,null,null,null,null,null,null,null,null,null,null,null,{"$f":"IF(②選手情報入力!M48=\"\",\"\",②選手情報入力!M48)","v":""}]
[]
["本 年 度",null,null,null,null,null,null,null,{"$f":"IF(②選手情報入力!K48=\"\",\"同上\",②選手情報入力!K48)","v":"同上"},null,null,null,null,"本 年 度",null,null,null,null,null,null,null,{"$f":"IF(②選手情報入力!N48=\"\",\"同上\",②選手情報入力!N48)","v":"同上"}]
["最高記録",null,null,null,null,null,null,null,null,null,null,null,null,"最高記録"]
["備　  考","※記入不要",null,null,null,null,null,null,null,null,null,null,null,"備　  考","※記入不要"]
[]
["※標準記録突破大会は、公認大会で、記録会は正式名称を記入。",null,null,null,null,null,null,null,null,null,"女子は",null,null,"※標準記録突破大会は、公認大会で、記録会は正式名称を記入。",null,null,null,null,null,null,null,null,null,"女子は"]
["※参加資格・記録等記入不備の場合、審査の対象としない。",null,null,null,null,null,null,null,null,null,"ここを",null,null,"※参加資格・記録等記入不備の場合、審査の対象としない。",null,null,null,null,null,null,null,null,null,"ここを"]
["※申込締切期日厳守。",null,null,null,null,null,null,null,null,null,"切り取る",null,null,"※申込締切期日厳守。",null,null,null,null,null,null,null,null,null,"切り取る"]
[]
[]
["愛知選手権5000m･10000m 国体少年Ｂ 個人申込票",null,null,null,null,null,null,null,null,null,null,40,null,"愛知選手権5000m･10000m 国体少年Ｂ 個人申込票",null,null,null,null,null,null,null,null,null,null,40]
[null,null,null,"",null,null,null,null,null,"資格審査用",null,null,null,null,null,null,"",null,null,null,null,null,"資格審査用"]
[null,"性　　別",null,{"$f":"IF(②選手情報入力!I49=\"\",\"\",②選手情報入力!I49)","v":""},null,null,null,"出場資格条件（選択)",null,null,null,null,null,null,"性　　別",null,{"$f":"IF(②選手情報入力!L49=\"\",\"\",②選手情報入力!L49)","v":""},null,null,null,"出場資格条件（選択)"]
["種  目",{"$f":"IF(②選手情報入力!$G$49=\"\",\"\",②選手情報入力!$G$49)","v":""},null,null,null,null,null,null,null,null,null,null,null,"種  目",{"$f":"IF(②選手情報入力!$G$49=\"\",\"\",②選手情報入力!$G$49)","v":""}]
[]
["ナンバー",null,"ﾌ ﾘ ｶﾞﾅ",{"$f":"IF(②選手情報入力!$E$49=\"\",\"\",②選手情報入力!$E$49)","v":""},null,null,null,null,null,null,null,null,null,"ナンバー",null,"ﾌ ﾘ ｶﾞﾅ",{"$f":"IF(②選手情報入力!$E$49=\"\",\"\",②選手情報入力!$E$49)","v":""}]
[{"$f":"IF(②選手情報入力!$B$49=\"\",\"\",②選手情報入力!$B$49)","v":""},null,"氏 名",{"$f":"IF(②選手情報入力!$D$49=\"\",\"\",②選手情報入力!$D$49)","v":""},null,null,null,null,null,null,null,null,null,{"$f":"IF(②選手情報入力!$B$49=\"\",\"\",②選手情報入力!$B$49)","v":""},null,"氏 名",{"$f":"IF(②選手情報入力!$D$49=\"\",\"\",②選手情報入力!$D$49)","v":""}]
[]
["出場資格\n取得大会","大　会　名",null,null,null,"加入団体名",null,{"$f":"①団体情報入力!$D$5","v":0},null,null,null,null,null,"出場資格\n取得大会","大　会　名",null,null,null,"加入団体名",null,{"$f":"①団体情報入力!$D$5","v":0}]
[null,null,null,null,null,"年.月.日","順 位",null,"記　録",null,"場  所",null,null,null,null,null,null,null,"年.月.日","順 位",null,"記　録",null,"場  所"]
[null,null,null,null,null,null,null,null,{"$f":"IF(②選手情報入力!J49=\"\",\"\",②選手情報入力!J49)","v":""},null,null,null,null,null,null,null,null,null,null,null,null,{"$f":"IF(②選手情報入力!M49=\"\",\"\",②選手情報入力!M49)","v":""}]
[]
["本 年 度",null,null,null,null,null,null,null,{"$f":"IF(②選手情報入力!K49=\"\",\"同上\",②選手情報入力!K49)","v":"同上"},null,null,null,null,"本 年 度",null,null,null,null,null,null,null,{"$f":"IF(②選手情報入力!N49=\"\",\"同上\",②選手情報入力!N49)","v":"同上"}]
["最高記録",null,null,null,null,null,null,null,null,null,null,null,null,"最高記録"]
["備　  考","※記入不要",null,null,null,null,null,null,null,null,null,null,null,"備　  考","※記入不要"]
[]
["※標準記録突破大会は、公認大会で、記録会は正式名称を記入。",null,null,null,null,null,null,null,null,null,"女子は",null,null,"※標準記録突破大会は、公認大会で、記録会は正式名称を記入。",null,null,null,null,null,null,null,null,null,"女子は"]
["※参加資格・記録等記入不備の場合、審査の対象としない。",null,null,null,null,null,null,null,null,null,"ここを",null,null,"※参加資格・記録等記入不備の場合、審査の対象としない。",null,null,null,null,null,null,null,null,null,"ここを"]
["※申込締切期日厳守。",null,null,null,null,null,null,null,null,null,"切り取る",null,null,"※申込締切期日厳守。",null,null,null,null,null,null,null,null,null,"切り取る"]

{"sheet":"リレー個票","index":7,"n_rows":72,"n_cols":27,"rows_kept":72,"cut":false,"hidden":false,"merged":[[43,21,43,23],[44,21,46,23],[49,21,49,22],[50,14,50,20],[50,21,50,22],[51,14,51,20],[51,21,51,22],[52,14,52,20],[52,21,52,22],[47,8,47,9],[48,8,48,9],[44,0,46,3],[44,4,46,5],[54,21,54,22],[55,14,55,20],[55,21,55,22],[47,14,47,20],[48,21,48,22],[53,14,53,20],[53,21,53,22],[54,14,54,20],[49,1,49,7],[53,8,53,9],[52,8,52,9],[55,8,55,9],[54,8,54,9],[52,1,52,7],[53,1,53,7],[54,1,54,7],[55,1,55,7],[48,14,48,20],[47,1,47,7],[48,1,48,7],[2,4,4,6],[2,17,4,19],[40,4,42,6],[40,17,42,19],[50,1,50,7],[51,1,51,7],[10,14,10,20],[11,14,11,20],[12,14,12,20],[13,14,13,20],[14,14,14,20],[15,14,15,20],[16,14,16,20],[17,14,17,20],[41,9,42,10],[44,6,46,7],[44,13,46,16],[44,17,46,18],[51,8,51,9],[50,8,50,9],[49,14,49,20],[44,8,46,10],[49,8,49,9],[44,19,46,20],[43,6,43,7],[43,19,43,20],[43,8,43,10],[43,0,43,3],[43,4,43,5],[6,17,8,18],[9,1,9,7],[10,1,10,7],[9,14,9,20],[17,1,17,7],[43,13,43,16],[43,17,43,18],[10,21,10,22],[6,0,8,3],[6,4,8,5],[6,6,8,7],[6,13,8,16],[2,1,4,3],[2,9,2,10],[2,14,4,16],[5,0,5,3],[2,22,2,23],[3,7,4,8],[3,20,4,21],[5,6,5,7],[5,19,5,20],[5,8,5,10],[6,8,8,10],[3,9,4,10],[5,4,5,5],[3,22,4,23],[5,21,5,23],[6,21,8,23],[5,17,5,18],[6,19,8,20],[10,8,10,9],[12,21,12,22],[11,8,11,9],[11,21,11,22],[11,1,11,7],[12,1,12,7],[14,8,14,9],[14,21,14,22],[13,8,13,9],[13,21,13,22],[13,1,13,7],[14,1,14,7],[12,8,12,9],[16,21,16,22],[15,8,15,9],[15,21,15,22],[15,1,15,7],[16,1,16,7],[40,1,42,3],[40,9,40,10],[40,14,42,16],[40,22,40,23],[41,7,42,8],[41,20,42,21],[17,8,17,9],[17,21,17,22],[16,8,16,9]]}
["愛知選手権    リレー申込票",null,null,null,null,null,null,null,null,null,null,null,null,"愛知選手権    リレー申込票"]
[null,null,null,"（コピーの場合も同サイズで作成。切り離す。）",null,null,null,null,null,"資格審査用",null,null,null,null,null,null,"（コピーの場合も同サイズで作成。切り離す。）",null,null,null,null,null,"資格審査用"]
[null,"男子",null,null,"４×１００ｍ",null,null,"最 高 記 録",null,"出場資格",null,null,null,null,"男子",null,null,"４×４００ｍ",null,null,"最 高 記 録",null,"出場資格"]
["種  目",null,null,null,null,null,null,{"$f":"IF(②選手情報入力!O5=\"\",\"\",②選手情報入力!O5)","v":""},null,null,null,null,null,"種  目",null,null,null,null,null,null,{"$f":"IF(②選手情報入力!Q5=\"\",\"\",②選手情報入力!Q5)","v":""},null,null,null,null,null,"１ 前年度選手権者"]
[null,null,null,null,null,null,null,null,null,null,null,null,null,null,null,null,null,null,null,null,null,null,null,null,null,null,"２ 各支部予選通過"]
["加 入 団 体 名",null,null,null,"順位等",null,"記録",null,"資格取得大会",null,null,null,null,"加 入 団 体 名",null,null,null,"順位等",null,"記録",null,"資格取得大会",null,null,null,null,"３ 県高校総体８位"]
[{"$f":"IF(①団体情報入力!$D$5=\"\",\"\",①団体情報入力!$D$5)","v":""},null,null,null,null,null,{"$f":"IF(②選手情報入力!N5=\"\",\"\",②選手情報入力!N5)","v":""},null,null,null,null,null,null,{"$f":"IF(①団体情報入力!$D$5=\"\",\"\",①団体情報入力!$D$5)","v":""},null,null,null,null,null,{"$f":"IF(②選手情報入力!P5=\"\",\"\",②選手情報入力!P5)","v":""},null,null,null,null,null,null,"４ 標準記録突破"]
[null,null,null,null,null,null,null,null,null,null,null,null,null,null,null,null,null,null,null,null,null,null,null,null,null,null,"５ 推薦"]
[null,null,null,null,null,null,null,null,null,null,null,null,null,null,null,null,null,null,null,null,null,null,null,null,null,null,"６ 大学生"]
["ナンバー","氏　　　名",null,null,null,null,null,null,"ﾌ ﾘ ｶﾞﾅ",null,"備　考",null,null,"ナンバー","氏　　　名",null,null,null,null,null,null,"ﾌ ﾘ ｶﾞﾅ",null,"備　考"]
[{"$f":"③リレー情報確認!C8","v":""},{"$f":"③リレー情報確認!D8","v":""},null,null,null,null,null,null,{"$f":"VLOOKUP(A11,②選手情報入力!C:E,3,0)","v":{"$error":"#N/A"}},null,null,null,null,{"$f":"③リレー情報確認!I8","v":""},{"$f":"③リレー情報確認!J8","v":""},null,null,null,null,null,null,{"$f":"VLOOKUP(N11,②選手情報入力!C:E,3,0)","v":{"$error":"#N/A"}}]
[{"$f":"③リレー情報確認!C9","v":""},{"$f":"③リレー情報確認!D9","v":""},null,null,null,null,null,null,{"$f":"VLOOKUP(A12,②選手情報入力!C:E,3,0)","v":{"$error":"#N/A"}},null,null,null,null,{"$f":"③リレー情報確認!I9","v":""},{"$f":"③リレー情報確認!J9","v":""},null,null,null,null,null,null,{"$f":"VLOOKUP(N12,②選手情報入力!C:E,3,0)","v":{"$error":"#N/A"}}]
[{"$f":"③リレー情報確認!C10","v":""},{"$f":"③リレー情報確認!D10","v":""},null,null,null,null,null,null,{"$f":"VLOOKUP(A13,②選手情報入力!C:E,3,0)","v":{"$error":"#N/A"}},null,null,null,null,{"$f":"③リレー情報確認!I10","v":""},{"$f":"③リレー情報確認!J10","v":""},null,null,null,null,null,null,{"$f":"VLOOKUP(N13,②選手情報入力!C:E,3,0)","v":{"$error":"#N/A"}}]
[{"$f":"③リレー情報確認!C11","v":""},{"$f":"③リレー情報確認!D11","v":""},null,null,null,null,null,null,{"$f":"VLOOKUP(A14,②選手情報入力!C:E,3,0)","v":{"$error":"#N/A"}},null,null,null,null,{"$f":"③リレー情報確認!I11","v":""},{"$f":"③リレー情報確認!J11","v":""},null,null,null,null,null,null,{"$f":"VLOOKUP(N14,②選手情報入力!C:E,3,0)","v":{"$error":"#N/A"}}]
[{"$f":"③リレー情報確認!C12","v":""},{"$f":"③リレー情報確認!D12","v":""},null,null,null,null,null,null,{"$f":"VLOOKUP(A15,②選手情報入力!C:E,3,0)","v":{"$error":"#N/A"}},null,null,null,null,{"$f":"③リレー情報確認!I12","v":""},{"$f":"③リレー情報確認!J12","v":""},null,null,null,null,null,null,{"$f":"VLOOKUP(N15,②選手情報入力!C:E,3,0)","v":{"$error":"#N/A"}}]
[{"$f":"③リレー情報確認!C13","v":""},{"$f":"③リレー情報確認!D13","v":""},null,null,null,null,null,null,{"$f":"VLOOKUP(A16,②選手情報入力!C:E,3,0)","v":{"$error":"#N/A"}},null,null,null,null,{"$f":"③リレー情報確認!I13","v":""},{"$f":"③リレー情報確認!J13","v":""},null,null,null,null,null,null,{"$f":"VLOOKUP(N16,②選手情報入力!C:E,3,0)","v":{"$error":"#N/A"}}]
[{"$f":"③リレー情報確認!C14","v":""},{"$f":"③リレー情報確認!D14","v":""},null,null,null,null,null,null,{"$f":"VLOOKUP(A17,②選手情報入力!C:E,3,0)","v":{"$error":"#N/A"}},null,null,null,null,{"$f":"③リレー情報確認!I14","v":""},{"$f":"③リレー情報確認!J14","v":""},null,null,null,null,null,null,{"$f":"VLOOKUP(N17,②選手情報入力!C:E,3,0)","v":{"$error":"#N/A"}}]
[{"$f":"③リレー情報確認!C15","v":""},{"$f":"③リレー情報確認!D15","v":""},null,null,null,null,null,null,{"$f":"VLOOKUP(A18,②選手情報入力!C:E,3,0)","v":{"$error":"#N/A"}},null,null,null,null,{"$f":"③リレー情報確認!I15","v":""},{"$f":"③リレー情報確認!J15","v":""},null,null,null,null,null,null,{"$f":"VLOOKUP(N18,②選手情報入力!C:E,3,0)","v":{"$error":"#N/A"}}]
[]
["※標準記録突破大会は、公認大会で、記録会は正式名称を記入。",null,null,null,null,null,null,null,null,null,null,null,null,"※標準記録突破大会は、公認大会で、記録会は正式名称を記入。"]
["※参加資格・記録等記入不備の場合、審査の対象としない。",null,null,null,null,null,null,null,null,null,null,null,null,"※参加資格・記録等記入不備の場合、審査の対象としない。"]
["※申込締切期日厳守。",null,null,null,null,null,null,null,null,null,null,null,null,"※申込締切期日厳守。"]
[]
[]
[]
[null,{"$f":"A11&LEFT($B$3,1)","v":"男"},null,null,null,null,null,null,null,null,null,null,null,null,{"$f":"N11&LEFT($O$3,1)","v":"男"}]
[null,{"$f":"A12&LEFT($B$3,1)","v":"男"},null,null,null,null,null,null,null,null,null,null,null,null,{"$f":"N12&LEFT($O$3,1)","v":"男"}]
[null,"男",null,null,null,null,null,null,null,null,null,null,null,null,"男"]
[null,"男",null,null,null,null,null,null,null,null,null,null,null,null,"男"]
[null,"男",null,null,null,null,null,null,null,null,null,null,null,null,"男"]
[null,"男",null,null,null,null,null,null,null,null,null,null,null,null,"男"]
[null,"男",null,null,null,null,null,null,null,null,null,null,null,null,"男"]
[null,"男",null,null,null,null,null,null,null,null,null,null,null,null,"男"]
[null,"男",null,null,null,null,null,null,null,null,null,null,null,null,"男"]
[]
[]
[]
[]
["愛知選手権    リレー申込票",null,null,null,null,null,null,null,null,null,null,null,null,"愛知選手権    リレー申込票"]
["◎女子は赤でマーキング",null,null,"（コピーの場合も同サイズで作成。切り離す。）",null,null,null,null,null,"資格審査用",null,null,null,"◎女子は赤でマーキング",null,null,"（コピーの場合も同サイズで作成。切り離す。）",null,null,null,null,null,"資格審査用"]
[null,"女子",null,null,"４×１００ｍ",null,null,"最 高 記 録",null,"出場資格",null,null,null,null,"女子",null,null,"４×４００ｍ",null,null,"最 高 記 録",null,"出場資格"]
["種  目",null,null,null,null,null,null,{"$f":"IF(②選手情報入力!O6=\"\",\"\",②選手情報入力!O6)","v":""},null,null,null,null,null,"種  目",null,null,null,null,null,null,{"$f":"IF(②選手情報入力!Q6=\"\",\"\",②選手情報入力!Q6)","v":""}]
[]
["加 入 団 体 名",null,null,null,"順位等",null,"記録",null,"資格取得大会",null,null,null,null,"加 入 団 体 名",null,null,null,"順位等",null,"記録",null,"資格取得大会"]
[{"$f":"IF(①団体情報入力!$D$5=\"\",\"\",①団体情報入力!$D$5)","v":""},null,null,null,null,null,{"$f":"IF(②選手情報入力!N6=\"\",\"\",②選手情報入力!N6)","v":""},null,null,null,null,null,null,{"$f":"IF(①団体情報入力!$D$5=\"\",\"\",①団体情報入力!$D$5)","v":""},null,null,null,null,null,{"$f":"IF(②選手情報入力!P6=\"\",\"\",②選手情報入力!P6)","v":""}]
[]
[]
["ナンバー","氏　　　名",null,null,null,null,null,null,"ﾌ ﾘ ｶﾞﾅ",null,"備　考",null,null,"ナンバー","氏　　　名",null,null,null,null,null,null,"ﾌ ﾘ ｶﾞﾅ",null,"備　考"]
[{"$f":"③リレー情報確認!O8","v":""},{"$f":"③リレー情報確認!P8","v":""},null,null,null,null,null,null,{"$f":"VLOOKUP(A49,②選手情報入力!C:E,3,0)","v":{"$error":"#N/A"}},null,null,null,null,{"$f":"③リレー情報確認!U8","v":""},{"$f":"③リレー情報確認!V8","v":""},null,null,null,null,null,null,{"$f":"VLOOKUP(N49,②選手情報入力!C:E,3,0)","v":{"$error":"#N/A"}}]
[{"$f":"③リレー情報確認!O9","v":""},{"$f":"③リレー情報確認!P9","v":""},null,null,null,null,null,null,{"$f":"VLOOKUP(A50,②選手情報入力!C:E,3,0)","v":{"$error":"#N/A"}},null,null,null,null,{"$f":"③リレー情報確認!U9","v":""},{"$f":"③リレー情報確認!V9","v":""},null,null,null,null,null,null,{"$f":"VLOOKUP(N50,②選手情報入力!C:E,3,0)","v":{"$error":"#N/A"}}]
[{"$f":"③リレー情報確認!O10","v":""},{"$f":"③リレー情報確認!P10","v":""},null,null,null,null,null,null,{"$f":"VLOOKUP(A51,②選手情報入力!C:E,3,0)","v":{"$error":"#N/A"}},null,null,null,null,{"$f":"③リレー情報確認!U10","v":""},{"$f":"③リレー情報確認!V10","v":""},null,null,null,null,null,null,{"$f":"VLOOKUP(N51,②選手情報入力!C:E,3,0)","v":{"$error":"#N/A"}}]
[{"$f":"③リレー情報確認!O11","v":""},{"$f":"③リレー情報確認!P11","v":""},null,null,null,null,null,null,{"$f":"VLOOKUP(A52,②選手情報入力!C:E,3,0)","v":{"$error":"#N/A"}},null,null,null,null,{"$f":"③リレー情報確認!U11","v":""},{"$f":"③リレー情報確認!V11","v":""},null,null,null,null,null,null,{"$f":"VLOOKUP(N52,②選手情報入力!C:E,3,0)","v":{"$error":"#N/A"}}]
[{"$f":"③リレー情報確認!O12","v":""},{"$f":"③リレー情報確認!P12","v":""},null,null,null,null,null,null,{"$f":"VLOOKUP(A53,②選手情報入力!C:E,3,0)","v":{"$error":"#N/A"}},null,null,null,null,{"$f":"③リレー情報確認!U12","v":""},{"$f":"③リレー情報確認!V12","v":""},null,null,null,null,null,null,{"$f":"VLOOKUP(N53,②選手情報入力!C:E,3,0)","v":{"$error":"#N/A"}}]
[{"$f":"③リレー情報確認!O13","v":""},{"$f":"③リレー情報確認!P13","v":""},null,null,null,null,null,null,{"$f":"VLOOKUP(A54,②選手情報入力!C:E,3,0)","v":{"$error":"#N/A"}},null,null,null,null,{"$f":"③リレー情報確認!U13","v":""},{"$f":"③リレー情報確認!V13","v":""},null,null,null,null,null,null,{"$f":"VLOOKUP(N54,②選手情報入力!C:E,3,0)","v":{"$error":"#N/A"}}]
[{"$f":"③リレー情報確認!O14","v":""},{"$f":"③リレー情報確認!P14","v":""},null,null,null,null,null,null,{"$f":"VLOOKUP(A55,②選手情報入力!C:E,3,0)","v":{"$error":"#N/A"}},null,null,null,null,{"$f":"③リレー情報確認!U14","v":""},{"$f":"③リレー情報確認!V14","v":""},null,null,null,null,null,null,{"$f":"VLOOKUP(N55,②選手情報入力!C:E,3,0)","v":{"$error":"#N/A"}}]
[{"$f":"③リレー情報確認!O15","v":""},{"$f":"③リレー情報確認!P15","v":""},null,null,null,null,null,null,{"$f":"VLOOKUP(A56,②選手情報入力!C:E,3,0)","v":{"$error":"#N/A"}},null,null,null,null,{"$f":"③リレー情報確認!U15","v":""},{"$f":"③リレー情報確認!V15","v":""},null,null,null,null,null,null,{"$f":"VLOOKUP(N56,②選手情報入力!C:E,3,0)","v":{"$error":"#N/A"}}]
[]
["※標準記録突破大会は、公認大会で、記録会は正式名称を記入。",null,null,null,null,null,null,null,null,null,null,null,null,"※標準記録突破大会は、公認大会で、記録会は正式名称を記入。"]
["※参加資格・記録等記入不備の場合、審査の対象としない。",null,null,null,null,null,null,null,null,null,null,null,null,"※参加資格・記録等記入不備の場合、審査の対象としない。"]
["※申込締切期日厳守。",null,null,null,null,null,null,null,null,null,null,null,null,"※申込締切期日厳守。"]
[]
[]
[]
[null,{"$f":"A49&LEFT($B$41,1)","v":"女"},null,null,null,null,null,null,null,null,null,null,null,null,{"$f":"N49&LEFT($O$41,1)","v":"女"}]
[null,{"$f":"A50&LEFT($B$41,1)","v":"女"},null,null,null,null,null,null,null,null,null,null,null,null,{"$f":"N50&LEFT($O$41,1)","v":"女"}]
[null,"女",null,null,null,null,null,null,null,null,null,null,null,null,"女"]
[null,"女",null,null,null,null,null,null,null,null,null,null,null,null,"女"]
[null,"女",null,null,null,null,null,null,null,null,null,null,null,null,"女"]
[null,"女",null,null,null,null,null,null,null,null,null,null,null,null,"女"]
[null,"女",null,null,null,null,null,null,null,null,null,null,null,null,"女"]
[null,"女",null,null,null,null,null,null,null,null,null,null,null,null,"女"]
[null,"女",null,null,null,null,null,null,null,null,null,null,null,null,"女"]

{"sheet":"混成個票","index":8,"n_rows":664,"n_cols":30,"rows_kept":664,"cut":false,"hidden":false,"merged":[[30,13,33,13],[30,27,33,28],[29,0,29,5],[29,6,29,7],[29,8,29,9],[29,10,29,11],[29,12,29,13],[29,16,29,20],[27,20,27,22],[27,23,27,24],[27,25,27,26],[29,21,29,22],[29,23,29,24],[29,25,29,26],[29,28,29,29],[28,18,28,19],[28,20,28,22],[28,23,28,26],[28,27,28,29],[28,0,28,1],[28,2,28,3],[28,4,28,6],[28,7,28,10],[28,11,28,13],[28,16,28,17],[27,9,27,10],[27,11,27,13],[27,18,27,19],[24,0,27,1],[24,20,24,22],[24,23,24,24],[24,25,24,26],[24,27,24,29],[25,2,25,3],[25,4,25,6],[25,7,25,8],[25,9,25,10],[25,11,25,13],[25,18,25,19],[24,4,24,6],[24,7,24,8],[24,9,24,10],[24,11,24,13],[24,16,27,17],[25,20,25,22],[25,23,25,24],[25,25,25,26],[25,27,25,29],[26,2,26,3],[26,4,26,6],[26,7,26,8],[26,9,26,10],[26,11,26,13],[26,18,26,19],[27,27,27,29],[26,20,26,22],[26,23,26,24],[26,25,26,26],[26,27,26,29],[27,2,27,3],[27,4,27,6],[27,7,27,8],[21,0,23,1],[21,2,21,3],[21,4,21,5],[21,7,21,9],[21,16,23,17],[21,18,21,19],[21,20,21,21],[21,23,21,25],[23,2,23,6],[23,7,23,9],[23,10,23,13],[23,18,23,22],[23,23,23,25],[23,26,23,29],[22,2,22,6],[22,7,22,9],[22,10,22,13],[22,18,22,22],[22,23,22,25],[22,26,22,29],[17,0,17,13],[17,16,17,28],[18,3,18,10],[18,11,18,13],[18,16,18,18],[18,19,18,25],[18,26,18,28],[12,21,12,22],[12,23,12,24],[12,25,12,26],[12,28,12,29],[13,13,16,13],[13,27,16,28],[19,3,19,7],[19,19,19,23],[20,0,20,1],[20,3,20,7],[20,16,20,17],[20,19,20,23],[19,8,20,9],[19,10,20,13],[19,24,20,25],[19,26,20,29],[11,0,11,1],[11,2,11,3],[11,4,11,6],[11,7,11,10],[11,11,11,13],[11,16,11,17],[7,0,10,1],[11,18,11,19],[11,20,11,22],[11,23,11,26],[11,27,11,29],[12,0,12,5],[12,6,12,7],[12,8,12,9],[12,10,12,11],[12,12,12,13],[12,16,12,20],[8,2,8,3],[8,4,8,6],[8,7,8,8],[8,9,8,10],[8,11,8,13],[8,18,8,19],[7,4,7,6],[7,7,7,8],[7,9,7,10],[7,11,7,13],[7,16,10,17],[8,20,8,22],[8,23,8,24],[8,25,8,26],[8,27,8,29],[9,2,9,3],[9,4,9,6],[9,7,9,8],[9,9,9,10],[9,11,9,13],[9,18,9,19],[9,20,9,22],[9,23,9,24],[9,25,9,26],[9,27,9,29],[10,2,10,3],[10,4,10,6],[10,7,10,8],[10,9,10,10],[10,11,10,13],[10,18,10,19],[10,20,10,22],[10,23,10,24],[10,25,10,26],[10,27,10,29],[4,16,6,17],[4,18,4,19],[4,20,4,21],[4,23,4,25],[6,2,6,6],[6,7,6,9],[6,10,6,13],[6,18,6,22],[6,23,6,25],[6,26,6,29],[5,2,5,6],[5,7,5,9],[5,10,5,13],[5,18,5,22],[5,23,5,25],[5,26,5,29],[7,20,7,22],[7,23,7,24],[7,25,7,26],[7,27,7,29],[35,3,35,10],[35,11,35,13],[35,16,35,18],[35,19,35,25],[35,26,35,28],[36,3,36,7],[36,8,37,9],[36,10,37,13],[36,19,36,23],[36,24,37,25],[36,26,37,29],[0,0,0,13],[0,16,0,28],[1,3,1,10],[1,11,1,13],[1,16,1,18],[1,19,1,25],[1,26,1,28],[2,8,3,9],[2,10,3,13],[2,24,3,25],[2,26,3,29],[2,3,2,7],[2,19,2,23],[3,0,3,1],[3,3,3,7],[3,16,3,17],[3,19,3,23],[4,0,6,1],[4,2,4,3],[4,4,4,5],[4,7,4,9],[37,0,37,1],[37,3,37,7],[37,16,37,17],[37,19,37,23],[38,0,40,1],[38,2,38,3],[38,4,38,5],[38,7,38,9],[38,16,40,17],[38,18,38,19],[38,20,38,21],[38,23,38,25],[39,2,39,6],[39,7,39,9],[39,10,39,13],[39,18,39,22],[39,23,39,25],[39,26,39,29],[40,2,40,6],[40,7,40,9],[40,10,40,13],[40,18,40,22],[40,23,40,25],[40,26,40,29],[41,4,41,6],[41,7,41,8],[41,9,41,10],[41,11,41,13],[41,16,44,17],[41,20,41,22],[41,23,41,24],[41,25,41,26],[41,27,41,29],[42,2,42,3],[42,4,42,6],[42,7,42,8],[44,27,44,29],[44,2,44,3],[44,4,44,6],[44,7,44,8],[44,9,44,10],[44,11,44,13],[44,18,44,19],[44,20,44,22],[44,23,44,24],[44,25,44,26],[41,0,44,1],[42,9,42,10],[42,11,42,13],[42,18,42,19],[42,20,42,22],[42,23,42,24],[42,25,42,26],[42,27,42,29],[43,2,43,3],[43,4,43,6],[43,7,43,8],[43,9,43,10],[43,11,43,13],[43,18,43,19],[43,20,43,22],[43,23,43,24],[43,25,43,26],[43,27,43,29],[55,0,57,1],[55,2,55,3],[55,4,55,5],[55,7,55,9],[55,16,57,17],[55,18,55,19],[55,20,55,21],[45,0,45,1],[45,2,45,3],[45,4,45,6],[45,7,45,10],[45,11,45,13],[45,16,45,17],[45,18,45,19],[45,20,45,22],[45,23,45,26],[45,27,45,29],[54,0,54,1],[54,3,54,7],[54,16,54,17],[54,19,54,23],[46,28,46,29],[47,13,50,13],[47,27,50,28],[51,0,51,13],[51,16,51,28],[52,3,52,10],[52,11,52,13],[52,16,52,18],[52,19,52,25],[52,26,52,28],[46,0,46,5],[46,6,46,7],[46,8,46,9],[46,10,46,11],[46,12,46,13],[46,16,46,20],[46,21,46,22],[46,23,46,24],[46,25,46,26],[53,3,53,7],[53,8,54,9],[53,10,54,13],[53,19,53,23],[53,24,54,25],[59,27,59,29],[60,2,60,3],[60,4,60,6],[60,7,60,8],[60,9,60,10],[60,11,60,13],[60,18,60,19],[60,20,60,22],[60,23,60,24],[60,25,60,26],[60,27,60,29],[56,26,56,29],[57,2,57,6],[57,7,57,9],[57,10,57,13],[57,18,57,22],[57,23,57,25],[57,26,57,29],[58,4,58,6],[58,7,58,8],[58,9,58,10],[59,25,59,26],[53,26,54,29],[59,20,59,22],[59,23,59,24],[63,6,63,7],[63,8,63,9],[63,10,63,11],[63,12,63,13],[63,16,63,20],[63,21,63,22],[63,23,63,24],[63,25,63,26],[61,27,61,29],[55,23,55,25],[56,2,56,6],[56,7,56,9],[56,10,56,13],[56,18,56,22],[56,23,56,25],[62,0,62,1],[62,2,62,3],[62,4,62,6],[62,7,62,10],[62,11,62,13],[62,16,62,17],[62,18,62,19],[62,20,62,22],[62,23,62,26],[62,27,62,29],[61,2,61,3],[61,4,61,6],[61,7,61,8],[61,9,61,10],[61,11,61,13],[61,18,61,19],[61,20,61,22],[61,23,61,24],[61,25,61,26],[58,0,61,1],[59,9,59,10],[59,11,59,13],[59,18,59,19],[58,11,58,13],[58,16,61,17],[58,20,58,22],[58,23,58,24],[58,25,58,26],[58,27,58,29],[59,2,59,3],[59,4,59,6],[59,7,59,8],[71,0,73,1],[71,2,71,3],[71,4,71,5],[71,7,71,9],[71,16,73,17],[71,18,71,19],[71,20,71,21],[71,23,71,25],[72,2,72,6],[72,7,72,9],[72,10,72,13],[72,18,72,22],[72,23,72,25],[63,28,63,29],[67,0,67,13],[67,16,67,28],[68,3,68,10],[68,11,68,13],[68,16,68,18],[68,19,68,25],[68,26,68,28],[69,3,69,7],[69,8,70,9],[69,10,70,13],[69,19,69,23],[69,24,70,25],[69,26,70,29],[70,0,70,1],[70,3,70,7],[70,16,70,17],[70,19,70,23],[63,0,63,5],[72,26,72,29],[73,2,73,6],[73,7,73,9],[73,10,73,13],[73,18,73,22],[73,23,73,25],[73,26,73,29],[74,4,74,6],[74,7,74,8],[74,9,74,10],[74,11,74,13],[74,16,77,17],[74,20,74,22],[74,23,74,24],[74,25,74,26],[74,27,74,29],[75,2,75,3],[75,4,75,6],[75,7,75,8],[77,27,77,29],[77,2,77,3],[77,4,77,6],[77,7,77,8],[77,9,77,10],[77,11,77,13],[77,18,77,19],[77,20,77,22],[77,23,77,24],[77,25,77,26],[74,0,77,1],[75,9,75,10],[75,11,75,13],[75,18,75,19],[75,20,75,22],[75,23,75,24],[75,25,75,26],[75,27,75,29],[76,2,76,3],[76,4,76,6],[76,7,76,8],[76,9,76,10],[76,11,76,13],[76,18,76,19],[76,20,76,22],[76,23,76,24],[76,25,76,26],[76,27,76,29],[88,0,90,1],[88,2,88,3],[88,4,88,5],[88,7,88,9],[88,16,90,17],[88,18,88,19],[88,20,88,21],[78,0,78,1],[78,2,78,3],[78,4,78,6],[78,7,78,10],[78,11,78,13],[78,16,78,17],[78,18,78,19],[78,20,78,22],[78,23,78,26],[78,27,78,29],[87,0,87,1],[87,3,87,7],[87,16,87,17],[87,19,87,23],[79,28,79,29],[80,13,83,13],[80,27,83,28],[84,0,84,13],[84,16,84,28],[85,3,85,10],[85,11,85,13],[85,16,85,18],[85,19,85,25],[85,26,85,28],[79,0,79,5],[79,6,79,7],[79,8,79,9],[79,10,79,11],[79,12,79,13],[79,16,79,20],[79,21,79,22],[79,23,79,24],[79,25,79,26],[86,3,86,7],[86,8,87,9],[86,10,87,13],[86,19,86,23],[86,24,87,25],[92,27,92,29],[93,2,93,3],[93,4,93,6],[93,7,93,8],[93,9,93,10],[93,11,93,13],[93,18,93,19],[93,20,93,22],[93,23,93,24],[93,25,93,26],[93,27,93,29],[89,26,89,29],[90,2,90,6],[90,7,90,9],[90,10,90,13],[90,18,90,22],[90,23,90,25],[90,26,90,29],[91,4,91,6],[91,7,91,8],[91,9,91,10],[92,25,92,26],[86,26,87,29],[92,20,92,22],[92,23,92,24],[96,6,96,7],[96,8,96,9],[96,10,96,11],[96,12,96,13],[96,16,96,20],[96,21,96,22],[96,23,96,24],[96,25,96,26],[94,27,94,29],[88,23,88,25],[89,2,89,6],[89,7,89,9],[89,10,89,13],[89,18,89,22],[89,23,89,25],[95,0,95,1],[95,2,95,3],[95,4,95,6],[95,7,95,10],[95,11,95,13],[95,16,95,17],[95,18,95,19],[95,20,95,22],[95,23,95,26],[95,27,95,29],[94,2,94,3],[94,4,94,6],[94,7,94,8],[94,9,94,10],[94,11,94,13],[94,18,94,19],[94,20,94,22],[94,23,94,24],[94,25,94,26],[91,0,94,1],[92,9,92,10],[92,11,92,13],[92,18,92,19],[91,11,91,13],[91,16,94,17],[91,20,91,22],[91,23,91,24],[91,25,91,26],[91,27,91,29],[92,2,92,3],[92,4,92,6],[92,7,92,8],[104,0,106,1],[104,2,104,3],[104,4,104,5],[104,7,104,9],[104,16,106,17],[104,18,104,19],[104,20,104,21],[104,23,104,25],[105,2,105,6],[105,7,105,9],[105,10,105,13],[105,18,105,22],[105,23,105,25],[96,28,96,29],[100,0,100,13],[100,16,100,28],[101,3,101,10],[101,11,101,13],[101,16,101,18],[101,19,101,25],[101,26,101,28],[102,3,102,7],[102,8,103,9],[102,10,103,13],[102,19,102,23],[102,24,103,25],[102,26,103,29],[103,0,103,1],[103,3,103,7],[103,16,103,17],[103,19,103,23],[96,0,96,5],[105,26,105,29],[106,2,106,6],[106,7,106,9],[106,10,106,13],[106,18,106,22],[106,23,106,25],[106,26,106,29],[107,4,107,6],[107,7,107,8],[107,9,107,10],[107,11,107,13],[107,16,110,17],[107,20,107,22],[107,23,107,24],[107,25,107,26],[107,27,107,29],[108,2,108,3],[108,4,108,6],[108,7,108,8],[110,27,110,29],[110,2,110,3],[110,4,110,6],[110,7,110,8],[110,9,110,10],[110,11,110,13],[110,18,110,19],[110,20,110,22],[110,23,110,24],[110,25,110,26],[107,0,110,1],[108,9,108,10],[108,11,108,13],[108,18,108,19],[108,20,108,22],[108,23,108,24],[108,25,108,26],[108,27,108,29],[109,2,109,3],[109,4,109,6],[109,7,109,8],[109,9,109,10],[109,11,109,13],[109,18,109,19],[109,20,109,22],[109,23,109,24],[109,25,109,26],[109,27,109,29],[121,0,123,1],[121,2,121,3],[121,4,121,5],[121,7,121,9],[121,16,123,17],[121,18,121,19],[121,20,121,21],[111,0,111,1],[111,2,111,3],[111,4,111,6],[111,7,111,10],[111,11,111,13],[111,16,111,17],[111,18,111,19],[111,20,111,22],[111,23,111,26],[111,27,111,29],[120,0,120,1],[120,3,120,7],[120,16,120,17],[120,19,120,23],[112,28,112,29],[113,13,116,13],[113,27,116,28],[117,0,117,13],[117,16,117,28],[118,3,118,10],[118,11,118,13],[118,16,118,18],[118,19,118,25],[118,26,118,28],[112,0,112,5],[112,6,112,7],[112,8,112,9],[112,10,112,11],[112,12,112,13],[112,16,112,20],[112,21,112,22],[112,23,112,24],[112,25,112,26],[119,3,119,7],[119,8,120,9],[119,10,120,13],[119,19,119,23],[119,24,120,25],[125,27,125,29],[126,2,126,3],[126,4,126,6],[126,7,126,8],[126,9,126,10],[126,11,126,13],[126,18,126,19],[126,20,126,22],[126,23,126,24],[126,25,126,26],[126,27,126,29],[122,26,122,29],[123,2,123,6],[123,7,123,9],[123,10,123,13],[123,18,123,22],[123,23,123,25],[123,26,123,29],[124,4,124,6],[124,7,124,8],[124,9,124,10],[125,25,125,26],[119,26,120,29],[125,20,125,22],[125,23,125,24],[129,6,129,7],[129,8,129,9],[129,10,129,11],[129,12,129,13],[129,16,129,20],[129,21,129,22],[129,23,129,24],[129,25,129,26],[127,27,127,29],[121,23,121,25],[122,2,122,6],[122,7,122,9],[122,10,122,13],[122,18,122,22],[122,23,122,25],[128,0,128,1],[128,2,128,3],[128,4,128,6],[128,7,128,10],[128,11,128,13],[128,16,128,17],[128,18,128,19],[128,20,128,22],[128,23,128,26],[128,27,128,29],[127,2,127,3],[127,4,127,6],[127,7,127,8],[127,9,127,10],[127,11,127,13],[127,18,127,19],[127,20,127,22],[127,23,127,24],[127,25,127,26],[124,0,127,1],[125,9,125,10],[125,11,125,13],[125,18,125,19],[124,11,124,13],[124,16,127,17],[124,20,124,22],[124,23,124,24],[124,25,124,26],[124,27,124,29],[125,2,125,3],[125,4,125,6],[125,7,125,8],[137,0,139,1],[137,2,137,3],[137,4,137,5],[137,7,137,9],[137,16,139,17],[137,18,137,19],[137,20,137,21],[137,23,137,25],[138,2,138,6],[138,7,138,9],[138,10,138,13],[138,18,138,22],[138,23,138,25],[129,28,129,29],[133,0,133,13],[133,16,133,28],[134,3,134,10],[134,11,134,13],[134,16,134,18],[134,19,134,25],[134,26,134,28],[135,3,135,7],[135,8,136,9],[135,10,136,13],[135,19,135,23],[135,24,136,25],[135,26,136,29],[136,0,136,1],[136,3,136,7],[136,16,136,17],[136,19,136,23],[129,0,129,5],[138,26,138,29],[139,2,139,6],[139,7,139,9],[139,10,139,13],[139,18,139,22],[139,23,139,25],[139,26,139,29],[140,4,140,6],[140,7,140,8],[140,9,140,10],[140,11,140,13],[140,16,143,17],[140,20,140,22],[140,23,140,24],[140,25,140,26],[140,27,140,29],[141,2,141,3],[141,4,141,6],[141,7,141,8],[143,27,143,29],[143,2,143,3],[143,4,143,6],[143,7,143,8],[143,9,143,10],[143,11,143,13],[143,18,143,19],[143,20,143,22],[143,23,143,24],[143,25,143,26],[140,0,143,1],[141,9,141,10],[141,11,141,13],[141,18,141,19],[141,20,141,22],[141,23,141,24],[141,25,141,26],[141,27,141,29],[142,2,142,3],[142,4,142,6],[142,7,142,8],[142,9,142,10],[142,11,142,13],[142,18,142,19],[142,20,142,22],[142,23,142,24],[142,25,142,26],[142,27,142,29],[154,0,156,1],[154,2,154,3],[154,4,154,5],[154,7,154,9],[154,16,156,17],[154,18,154,19],[154,20,154,21],[144,0,144,1],[144,2,144,3],[144,4,144,6],[144,7,144,10],[144,11,144,13],[144,16,144,17],[144,18,144,19],[144,20,144,22],[144,23,144,26],[144,27,144,29],[153,0,153,1],[153,3,153,7],[153,16,153,17],[153,19,153,23],[145,28,145,29],[146,13,149,13],[146,27,149,28],[150,0,150,13],[150,16,150,28],[151,3,151,10],[151,11,151,13],[151,16,151,18],[151,19,151,25],[151,26,151,28],[145,0,145,5],[145,6,145,7],[145,8,145,9],[145,10,145,11],[145,12,145,13],[145,16,145,20],[145,21,145,22],[145,23,145,24],[145,25,145,26],[152,3,152,7],[152,8,153,9],[152,10,153,13],[152,19,152,23],[152,24,153,25],[158,27,158,29],[159,2,159,3],[159,4,159,6],[159,7,159,8],[159,9,159,10],[159,11,159,13],[159,18,159,19],[159,20,159,22],[159,23,159,24],[159,25,159,26],[159,27,159,29],[155,26,155,29],[156,2,156,6],[156,7,156,9],[156,10,156,13],[156,18,156,22],[156,23,156,25],[156,26,156,29],[157,4,157,6],[157,7,157,8],[157,9,157,10],[158,25,158,26],[152,26,153,29],[158,20,158,22],[158,23,158,24],[162,6,162,7],[162,8,162,9],[162,10,162,11],[162,12,162,13],[162,16,162,20],[162,21,162,22],[162,23,162,24],[162,25,162,26],[160,27,160,29],[154,23,154,25],[155,2,155,6],[155,7,155,9],[155,10,155,13],[155,18,155,22],[155,23,155,25],[161,0,161,1],[161,2,161,3],[161,4,161,6],[161,7,161,10],[161,11,161,13],[161,16,161,17],[161,18,161,19],[161,20,161,22],[161,23,161,26],[161,27,161,29],[160,2,160,3],[160,4,160,6],[160,7,160,8],[160,9,160,10],[160,11,160,13],[160,18,160,19],[160,20,160,22],[160,23,160,24],[160,25,160,26],[157,0,160,1],[158,9,158,10],[158,11,158,13],[158,18,158,19],[157,11,157,13],[157,16,160,17],[157,20,157,22],[157,23,157,24],[157,25,157,26],[157,27,157,29],[158,2,158,3],[158,4,158,6],[158,7,158,8],[170,0,172,1],[170,2,170,3],[170,4,170,5],[170,7,170,9],[170,16,172,17],[170,18,170,19],[170,20,170,21],[170,23,170,25],[171,2,171,6],[171,7,171,9],[171,10,171,13],[171,18,171,22],[171,23,171,25],[162,28,162,29],[166,0,166,13],[166,16,166,28],[167,3,167,10],[167,11,167,13],[167,16,167,18],[167,19,167,25],[167,26,167,28],[168,3,168,7]],"merged_total":3928,"flags":["merged_cut"]}
["十種競技　個人申込票　(男子)",null,null,null,null,null,null,null,null,null,null,null,null,null,null,null,"七種競技　個人申込票　(女子）"]
[null,null,null,null,null,null,null,null,null,null,null,"資格審査用",null,null,null,null,null,null,null,null,null,null,null,null,null,null,"資格審査用"]
["ﾅ ﾝ ﾊﾞ ｰ",null,"ﾌ ﾘ ｶﾞﾅ",{"$f":"②選手情報入力!$E$10","v":0},null,null,null,null,"加入団体名",null,{"$f":"①団体情報入力!$D$5","v":0},null,null,null,null,null,"ﾅ ﾝ ﾊﾞ ｰ",null,"ﾌ ﾘ ｶﾞﾅ",{"$f":"②選手情報入力!$E$10","v":0},null,null,null,null,"加入団体名",null,{"$f":"①団体情報入力!$D$5","v":0}]
[{"$f":"IF(②選手情報入力!$B$10=\"\",\"\",②選手情報入力!$B$10)","v":""},null,"氏 名",{"$f":"②選手情報入力!$D$10","v":0},null,null,null,null,null,null,null,null,null,null,null,null,{"$f":"IF(②選手情報入力!$B$10=\"\",\"\",②選手情報入力!$B$10)","v":""},null,"氏 名",{"$f":"②選手情報入力!$D$10","v":0}]
["参加資格",null,"①総得点",null,{"$f":"②選手情報入力!$J$10","v":0},null,"点","②高校総体",null,null,null,"位",null,"点",null,null,"参加資格",null,"①総得点",null,{"$f":"②選手情報入力!$J$10","v":0},null,"点","②高校総体",null,null,null,"位",null,"点"]
[null,null,"大  会  名",null,null,null,null,"年  月  日",null,null,"場     所",null,null,null,null,null,null,null,"大  会  名",null,null,null,null,"年  月  日",null,null,"場     所"]
[]
["③ベスト　３ 種 目　合計得点",null,"種　目",null,"大会名",null,null,"年  月  日",null,"記　録",null,"得点",null,null,null,null,"③ベスト　３ 種 目　合計得点",null,"種　目",null,"大会名",null,null,"年  月  日",null,"記　録",null,"得点"]
[]
[]
[]
["1850点以上",null,null,null,null,null,null,"合　計　得　点",null,null,null,null,null,null,null,null,"1750点以上",null,null,null,null,null,null,"合　計　得　点"]
["走高跳･棒高跳のＡ・Ｂ区分",null,null,null,null,null,"走 高 跳",null,null,null,"棒 高 跳",null,null,null,null,null,"走高跳のＡ・Ｂ区分",null,null,null,null,"走 高 跳"]
[]
["※記載等に不備・不正があり、審査の結果で返却した場合、再受付はしない。",null,null,null,null,null,null,null,null,null,null,null,null,null,null,null,"※記載等に不備・不正があり、審査の結果で返却した場合、再受付はしない。"]
["※申込締切期日に遅れた場合は、受付けない。",null,null,null,null,null,null,null,null,null,null,null,null,null,null,null,"※申込締切期日に遅れた場合は、受付けない。"]
[]
["十種競技　個人申込票　(男子)",null,null,null,null,null,null,null,null,null,null,null,null,null,null,null,"七種競技　個人申込票　(女子）"]
[null,null,null,null,null,null,null,null,null,null,null,"資格審査用",null,null,null,null,null,null,null,null,null,null,null,null,null,null,"資格審査用"]
["ﾅ ﾝ ﾊﾞ ｰ",null,"ﾌ ﾘ ｶﾞﾅ",{"$f":"②選手情報入力!$E$11","v":0},null,null,null,null,"加入団体名",null,{"$f":"①団体情報入力!$D$5","v":0},null,null,null,null,null,"ﾅ ﾝ ﾊﾞ ｰ",null,"ﾌ ﾘ ｶﾞﾅ",{"$f":"②選手情報入力!$E$11","v":0},null,null,null,null,"加入団体名",null,{"$f":"①団体情報入力!$D$5","v":0}]
[{"$f":"IF(②選手情報入力!$B$11=\"\",\"\",②選手情報入力!$B$11)","v":""},null,"氏 名",{"$f":"②選手情報入力!$D$11","v":0},null,null,null,null,null,null,null,null,null,null,null,null,{"$f":"IF(②選手情報入力!$B$11=\"\",\"\",②選手情報入力!$B$11)","v":""},null,"氏 名",{"$f":"②選手情報入力!$D$11","v":0}]
["参加資格",null,"①総得点",null,{"$f":"②選手情報入力!$J$11","v":0},null,"点","②高校総体",null,null,null,"位",null,"点",null,null,"参加資格",null,"①総得点",null,{"$f":"②選手情報入力!$J$11","v":0},null,"点","②高校総体",null,null,null,"位",null,"点"]
[null,null,"大  会  名",null,null,null,null,"年  月  日",null,null,"場     所",null,null,null,null,null,null,null,"大  会  名",null,null,null,null,"年  月  日",null,null,"場     所"]
[]
["③ベスト　３ 種 目　合計得点",null,"種　目",null,"大会名",null,null,"年  月  日",null,"記　録",null,"得点",null,null,null,null,"③ベスト　３ 種 目　合計得点",null,"種　目",null,"大会名",null,null,"年  月  日",null,"記　録",null,"得点"]
[]
[]
[]
["1850点以上",null,null,null,null,null,null,"合　計　得　点",null,null,null,null,null,null,null,null,"1750点以上",null,null,null,null,null,null,"合　計　得　点"]
["走高跳･棒高跳のＡ・Ｂ区分",null,null,null,null,null,"走 高 跳",null,null,null,"棒 高 跳",null,null,null,null,null,"走高跳のＡ・Ｂ区分",null,null,null,null,"走 高 跳"]
[]
["※記載等に不備・不正があり、審査の結果で返却した場合、再受付はしない。",null,null,null,null,null,null,null,null,null,null,null,null,null,null,null,"※記載等に不備・不正があり、審査の結果で返却した場合、再受付はしない。"]
["※申込締切期日に遅れた場合は、受付けない。",null,null,null,null,null,null,null,null,null,null,null,null,null,null,null,"※申込締切期日に遅れた場合は、受付けない。"]
[]
["十種競技　個人申込票　(男子)",null,null,null,null,null,null,null,null,null,null,null,null,null,null,null,"七種競技　個人申込票　(女子）"]
[null,null,null,null,null,null,null,null,null,null,null,"資格審査用",null,null,null,null,null,null,null,null,null,null,null,null,null,null,"資格審査用"]
["ﾅ ﾝ ﾊﾞ ｰ",null,"ﾌ ﾘ ｶﾞﾅ",{"$f":"②選手情報入力!$E$12","v":0},null,null,null,null,"加入団体名",null,{"$f":"①団体情報入力!$D$5","v":0},null,null,null,null,null,"ﾅ ﾝ ﾊﾞ ｰ",null,"ﾌ ﾘ ｶﾞﾅ",{"$f":"②選手情報入力!$E$12","v":0},null,null,null,null,"加入団体名",null,{"$f":"①団体情報入力!$D$5","v":0}]
[{"$f":"IF(②選手情報入力!$B$12=\"\",\"\",②選手情報入力!$B$12)","v":""},null,"氏 名",{"$f":"②選手情報入力!$D$12","v":0},null,null,null,null,null,null,null,null,null,null,null,null,{"$f":"IF(②選手情報入力!$B$12=\"\",\"\",②選手情報入力!$B$12)","v":""},null,"氏 名",{"$f":"②選手情報入力!$D$12","v":0}]
["参加資格",null,"①総得点",null,{"$f":"②選手情報入力!$J$12","v":0},null,"点","②高校総体",null,null,null,"位",null,"点",null,null,"参加資格",null,"①総得点",null,{"$f":"②選手情報入力!$J$12","v":0},null,"点","②高校総体",null,null,null,"位",null,"点"]
[null,null,"大  会  名",null,null,null,null,"年  月  日",null,null,"場     所",null,null,null,null,null,null,null,"大  会  名",null,null,null,null,"年  月  日",null,null,"場     所"]
[]
["③ベスト　３ 種 目　合計得点",null,"種　目",null,"大会名",null,null,"年  月  日",null,"記　録",null,"得点",null,null,null,null,"③ベスト　３ 種 目　合計得点",null,"種　目",null,"大会名",null,null,"年  月  日",null,"記　録",null,"得点"]
[]
[]
[]
["1850点以上",null,null,null,null,null,null,"合　計　得　点",null,null,null,null,null,null,null,null,"1750点以上",null,null,null,null,null,null,"合　計　得　点"]
["走高跳･棒高跳のＡ・Ｂ区分",null,null,null,null,null,"走 高 跳",null,null,null,"棒 高 跳",null,null,null,null,null,"走高跳のＡ・Ｂ区分",null,null,null,null,"走 高 跳"]
[]
["※記載等に不備・不正があり、審査の結果で返却した場合、再受付はしない。",null,null,null,null,null,null,null,null,null,null,null,null,null,null,null,"※記載等に不備・不正があり、審査の結果で返却した場合、再受付はしない。"]
["※申込締切期日に遅れた場合は、受付けない。",null,null,null,null,null,null,null,null,null,null,null,null,null,null,null,"※申込締切期日に遅れた場合は、受付けない。"]
[]
["十種競技　個人申込票　(男子)",null,null,null,null,null,null,null,null,null,null,null,null,null,null,null,"七種競技　個人申込票　(女子）"]
[null,null,null,null,null,null,null,null,null,null,null,"資格審査用",null,null,null,null,null,null,null,null,null,null,null,null,null,null,"資格審査用"]
["ﾅ ﾝ ﾊﾞ ｰ",null,"ﾌ ﾘ ｶﾞﾅ",{"$f":"②選手情報入力!$E$13","v":0},null,null,null,null,"加入団体名",null,{"$f":"①団体情報入力!$D$5","v":0},null,null,null,null,null,"ﾅ ﾝ ﾊﾞ ｰ",null,"ﾌ ﾘ ｶﾞﾅ",{"$f":"②選手情報入力!$E$13","v":0},null,null,null,null,"加入団体名",null,{"$f":"①団体情報入力!$D$5","v":0}]
[{"$f":"IF(②選手情報入力!$B$13=\"\",\"\",②選手情報入力!$B$13)","v":""},null,"氏 名",{"$f":"②選手情報入力!$D$13","v":0},null,null,null,null,null,null,null,null,null,null,null,null,{"$f":"IF(②選手情報入力!$B$13=\"\",\"\",②選手情報入力!$B$13)","v":""},null,"氏 名",{"$f":"②選手情報入力!$D$13","v":0}]
["参加資格",null,"①総得点",null,{"$f":"②選手情報入力!$J$13","v":0},null,"点","②高校総体",null,null,null,"位",null,"点",null,null,"参加資格",null,"①総得点",null,{"$f":"②選手情報入力!$J$13","v":0},null,"点","②高校総体",null,null,null,"位",null,"点"]
[null,null,"大  会  名",null,null,null,null,"年  月  日",null,null,"場     所",null,null,null,null,null,null,null,"大  会  名",null,null,null,null,"年  月  日",null,null,"場     所"]
[]
["③ベスト　３ 種 目　合計得点",null,"種　目",null,"大会名",null,null,"年  月  日",null,"記　録",null,"得点",null,null,null,null,"③ベスト　３ 種 目　合計得点",null,"種　目",null,"大会名",null,null,"年  月  日",null,"記　録",null,"得点"]
[]
[]
[]
["1850点以上",null,null,null,null,null,null,"合　計　得　点",null,null,null,null,null,null,null,null,"1750点以上",null,null,null,null,null,null,"合　計　得　点"]
["走高跳･棒高跳のＡ・Ｂ区分",null,null,null,null,null,"走 高 跳",null,null,null,"棒 高 跳",null,null,null,null,null,"走高跳のＡ・Ｂ区分",null,null,null,null,"走 高 跳"]
[]
["※記載等に不備・不正があり、審査の結果で返却した場合、再受付はしない。",null,null,null,null,null,null,null,null,null,null,null,null,null,null,null,"※記載等に不備・不正があり、審査の結果で返却した場合、再受付はしない。"]
["※申込締切期日に遅れた場合は、受付けない。",null,null,null,null,null,null,null,null,null,null,null,null,null,null,null,"※申込締切期日に遅れた場合は、受付けない。"]
["十種競技　個人申込票　(男子)",null,null,null,null,null,null,null,null,null,null,null,null,null,null,null,"七種競技　個人申込票　(女子）"]
[null,null,null,null,null,null,null,null,null,null,null,"資格審査用",null,null,null,null,null,null,null,null,null,null,null,null,null,null,"資格審査用"]
["ﾅ ﾝ ﾊﾞ ｰ",null,"ﾌ ﾘ ｶﾞﾅ",{"$f":"②選手情報入力!$E$14","v":0},null,null,null,null,"加入団体名",null,{"$f":"①団体情報入力!$D$5","v":0},null,null,null,null,null,"ﾅ ﾝ ﾊﾞ ｰ",null,"ﾌ ﾘ ｶﾞﾅ",{"$f":"②選手情報入力!$E$14","v":0},null,null,null,null,"加入団体名",null,{"$f":"①団体情報入力!$D$5","v":0}]
[{"$f":"IF(②選手情報入力!$B$14=\"\",\"\",②選手情報入力!$B$14)","v":""},null,"氏 名",{"$f":"②選手情報入力!$D$14","v":0},null,null,null,null,null,null,null,null,null,null,null,null,{"$f":"IF(②選手情報入力!$B$14=\"\",\"\",②選手情報入力!$B$14)","v":""},null,"氏 名",{"$f":"②選手情報入力!$D$14","v":0}]
["参加資格",null,"①総得点",null,{"$f":"②選手情報入力!$J$14","v":0},null,"点","②高校総体",null,null,null,"位",null,"点",null,null,"参加資格",null,"①総得点",null,{"$f":"②選手情報入力!$J$14","v":0},null,"点","②高校総体",null,null,null,"位",null,"点"]
[null,null,"大  会  名",null,null,null,null,"年  月  日",null,null,"場     所",null,null,null,null,null,null,null,"大  会  名",null,null,null,null,"年  月  日",null,null,"場     所"]
[]
["③ベスト　３ 種 目　合計得点",null,"種　目",null,"大会名",null,null,"年  月  日",null,"記　録",null,"得点",null,null,null,null,"③ベスト　３ 種 目　合計得点",null,"種　目",null,"大会名",null,null,"年  月  日",null,"記　録",null,"得点"]
[]
[]
[]
["1850点以上",null,null,null,null,null,null,"合　計　得　点",null,null,null,null,null,null,null,null,"1750点以上",null,null,null,null,null,null,"合　計　得　点"]
["走高跳･棒高跳のＡ・Ｂ区分",null,null,null,null,null,"走 高 跳",null,null,null,"棒 高 跳",null,null,null,null,null,"走高跳のＡ・Ｂ区分",null,null,null,null,"走 高 跳"]
[]
["※記載等に不備・不正があり、審査の結果で返却した場合、再受付はしない。",null,null,null,null,null,null,null,null,null,null,null,null,null,null,null,"※記載等に不備・不正があり、審査の結果で返却した場合、再受付はしない。"]
["※申込締切期日に遅れた場合は、受付けない。",null,null,null,null,null,null,null,null,null,null,null,null,null,null,null,"※申込締切期日に遅れた場合は、受付けない。"]
[]
["十種競技　個人申込票　(男子)",null,null,null,null,null,null,null,null,null,null,null,null,null,null,null,"七種競技　個人申込票　(女子）"]
[null,null,null,null,null,null,null,null,null,null,null,"資格審査用",null,null,null,null,null,null,null,null,null,null,null,null,null,null,"資格審査用"]
["ﾅ ﾝ ﾊﾞ ｰ",null,"ﾌ ﾘ ｶﾞﾅ",{"$f":"②選手情報入力!$E$15","v":0},null,null,null,null,"加入団体名",null,{"$f":"①団体情報入力!$D$5","v":0},null,null,null,null,null,"ﾅ ﾝ ﾊﾞ ｰ",null,"ﾌ ﾘ ｶﾞﾅ",{"$f":"②選手情報入力!$E$15","v":0},null,null,null,null,"加入団体名",null,{"$f":"①団体情報入力!$D$5","v":0}]
[{"$f":"IF(②選手情報入力!$B$15=\"\",\"\",②選手情報入力!$B$15)","v":""},null,"氏 名",{"$f":"②選手情報入力!$D$15","v":0},null,null,null,null,null,null,null,null,null,null,null,null,{"$f":"IF(②選手情報入力!$B$15=\"\",\"\",②選手情報入力!$B$15)","v":""},null,"氏 名",{"$f":"②選手情報入力!$D$15","v":0}]
["参加資格",null,"①総得点",null,{"$f":"②選手情報入力!$J$15","v":0},null,"点","②高校総体",null,null,null,"位",null,"点",null,null,"参加資格",null,"①総得点",null,{"$f":"②選手情報入力!$J$15","v":0},null,"点","②高校総体",null,null,null,"位",null,"点"]
[null,null,"大  会  名",null,null,null,null,"年  月  日",null,null,"場     所",null,null,null,null,null,null,null,"大  会  名",null,null,null,null,"年  月  日",null,null,"場     所"]
[]
["③ベスト　３ 種 目　合計得点",null,"種　目",null,"大会名",null,null,"年  月  日",null,"記　録",null,"得点",null,null,null,null,"③ベスト　３ 種 目　合計得点",null,"種　目",null,"大会名",null,null,"年  月  日",null,"記　録",null,"得点"]
[]
[]
[]
["1850点以上",null,null,null,null,null,null,"合　計　得　点",null,null,null,null,null,null,null,null,"1750点以上",null,null,null,null,null,null,"合　計　得　点"]
["走高跳･棒高跳のＡ・Ｂ区分",null,null,null,null,null,"走 高 跳",null,null,null,"棒 高 跳",null,null,null,null,null,"走高跳のＡ・Ｂ区分",null,null,null,null,"走 高 跳"]
[]
["※記載等に不備・不正があり、審査の結果で返却した場合、再受付はしない。",null,null,null,null,null,null,null,null,null,null,null,null,null,null,null,"※記載等に不備・不正があり、審査の結果で返却した場合、再受付はしない。"]
["※申込締切期日に遅れた場合は、受付けない。",null,null,null,null,null,null,null,null,null,null,null,null,null,null,null,"※申込締切期日に遅れた場合は、受付けない。"]
["十種競技　個人申込票　(男子)",null,null,null,null,null,null,null,null,null,null,null,null,null,null,null,"七種競技　個人申込票　(女子）"]
[null,null,null,null,null,null,null,null,null,null,null,"資格審査用",null,null,null,null,null,null,null,null,null,null,null,null,null,null,"資格審査用"]
["ﾅ ﾝ ﾊﾞ ｰ",null,"ﾌ ﾘ ｶﾞﾅ",{"$f":"②選手情報入力!$E$16","v":0},null,null,null,null,"加入団体名",null,{"$f":"①団体情報入力!$D$5","v":0},null,null,null,null,null,"ﾅ ﾝ ﾊﾞ ｰ",null,"ﾌ ﾘ ｶﾞﾅ",{"$f":"②選手情報入力!$E$16","v":0},null,null,null,null,"加入団体名",null,{"$f":"①団体情報入力!$D$5","v":0}]
[{"$f":"IF(②選手情報入力!$B$16=\"\",\"\",②選手情報入力!$B$16)","v":""},null,"氏 名",{"$f":"②選手情報入力!$D$16","v":0},null,null,null,null,null,null,null,null,null,null,null,null,{"$f":"IF(②選手情報入力!$B$16=\"\",\"\",②選手情報入力!$B$16)","v":""},null,"氏 名",{"$f":"②選手情報入力!$D$16","v":0}]
["参加資格",null,"①総得点",null,{"$f":"②選手情報入力!$J$16","v":0},null,"点","②高校総体",null,null,null,"位",null,"点",null,null,"参加資格",null,"①総得点",null,{"$f":"②選手情報入力!$J$16","v":0},null,"点","②高校総体",null,null,null,"位",null,"点"]
[null,null,"大  会  名",null,null,null,null,"年  月  日",null,null,"場     所",null,null,null,null,null,null,null,"大  会  名",null,null,null,null,"年  月  日",null,null,"場     所"]
[]
["③ベスト　３ 種 目　合計得点",null,"種　目",null,"大会名",null,null,"年  月  日",null,"記　録",null,"得点",null,null,null,null,"③ベスト　３ 種 目　合計得点",null,"種　目",null,"大会名",null,null,"年  月  日",null,"記　録",null,"得点"]
[]
[]
[]
["1850点以上",null,null,null,null,null,null,"合　計　得　点",null,null,null,null,null,null,null,null,"1750点以上",null,null,null,null,null,null,"合　計　得　点"]
["走高跳･棒高跳のＡ・Ｂ区分",null,null,null,null,null,"走 高 跳",null,null,null,"棒 高 跳",null,null,null,null,null,"走高跳のＡ・Ｂ区分",null,null,null,null,"走 高 跳"]
[]
["※記載等に不備・不正があり、審査の結果で返却した場合、再受付はしない。",null,null,null,null,null,null,null,null,null,null,null,null,null,null,null,"※記載等に不備・不正があり、審査の結果で返却した場合、再受付はしない。"]
["※申込締切期日に遅れた場合は、受付けない。",null,null,null,null,null,null,null,null,null,null,null,null,null,null,null,"※申込締切期日に遅れた場合は、受付けない。"]
[]
["十種競技　個人申込票　(男子)",null,null,null,null,null,null,null,null,null,null,null,null,null,null,null,"七種競技　個人申込票　(女子）"]
[null,null,null,null,null,null,null,null,null,null,null,"資格審査用",null,null,null,null,null,null,null,null,null,null,null,null,null,null,"資格審査用"]
["ﾅ ﾝ ﾊﾞ ｰ",null,"ﾌ ﾘ ｶﾞﾅ",{"$f":"②選手情報入力!$E$17","v":0},null,null,null,null,"加入団体名",null,{"$f":"①団体情報入力!$D$5","v":0},null,null,null,null,null,"ﾅ ﾝ ﾊﾞ ｰ",null,"ﾌ ﾘ ｶﾞﾅ",{"$f":"②選手情報入力!$E$17","v":0},null,null,null,null,"加入団体名",null,{"$f":"①団体情報入力!$D$5","v":0}]
[{"$f":"IF(②選手情報入力!$B$17=\"\",\"\",②選手情報入力!$B$17)","v":""},null,"氏 名",{"$f":"②選手情報入力!$D$17","v":0},null,null,null,null,null,null,null,null,null,null,null,null,{"$f":"IF(②選手情報入力!$B$17=\"\",\"\",②選手情報入力!$B$17)","v":""},null,"氏 名",{"$f":"②選手情報入力!$D$17","v":0}]
["参加資格",null,"①総得点",null,{"$f":"②選手情報入力!$J$17","v":0},null,"点","②高校総体",null,null,null,"位",null,"点",null,null,"参加資格",null,"①総得点",null,{"$f":"②選手情報入力!$J$17","v":0},null,"点","②高校総体",null,null,null,"位",null,"点"]
[null,null,"大  会  名",null,null,null,null,"年  月  日",null,null,"場     所",null,null,null,null,null,null,null,"大  会  名",null,null,null,null,"年  月  日",null,null,"場     所"]
[]
["③ベスト　３ 種 目　合計得点",null,"種　目",null,"大会名",null,null,"年  月  日",null,"記　録",null,"得点",null,null,null,null,"③ベスト　３ 種 目　合計得点",null,"種　目",null,"大会名",null,null,"年  月  日",null,"記　録",null,"得点"]
[]
[]
[]
["1850点以上",null,null,null,null,null,null,"合　計　得　点",null,null,null,null,null,null,null,null,"1750点以上",null,null,null,null,null,null,"合　計　得　点"]
["走高跳･棒高跳のＡ・Ｂ区分",null,null,null,null,null,"走 高 跳",null,null,null,"棒 高 跳",null,null,null,null,null,"走高跳のＡ・Ｂ区分",null,null,null,null,"走 高 跳"]
[]
["※記載等に不備・不正があり、審査の結果で返却した場合、再受付はしない。",null,null,null,null,null,null,null,null,null,null,null,null,null,null,null,"※記載等に不備・不正があり、審査の結果で返却した場合、再受付はしない。"]
["※申込締切期日に遅れた場合は、受付けない。",null,null,null,null,null,null,null,null,null,null,null,null,null,null,null,"※申込締切期日に遅れた場合は、受付けない。"]
["十種競技　個人申込票　(男子)",null,null,null,null,null,null,null,null,null,null,null,null,null,null,null,"七種競技　個人申込票　(女子）"]
[null,null,null,null,null,null,null,null,null,null,null,"資格審査用",null,null,null,null,null,null,null,null,null,null,null,null,null,null,"資格審査用"]
["ﾅ ﾝ ﾊﾞ ｰ",null,"ﾌ ﾘ ｶﾞﾅ",{"$f":"②選手情報入力!$E$18","v":0},null,null,null,null,"加入団体名",null,{"$f":"①団体情報入力!$D$5","v":0},null,null,null,null,null,"ﾅ ﾝ ﾊﾞ ｰ",null,"ﾌ ﾘ ｶﾞﾅ",{"$f":"②選手情報入力!$E$18","v":0},null,null,null,null,"加入団体名",null,{"$f":"①団体情報入力!$D$5","v":0}]
[{"$f":"IF(②選手情報入力!$B$18=\"\",\"\",②選手情報入力!$B$18)","v":""},null,"氏 名",{"$f":"②選手情報入力!$D$18","v":0},null,null,null,null,null,null,null,null,null,null,null,null,{"$f":"IF(②選手情報入力!$B$18=\"\",\"\",②選手情報入力!$B$18)","v":""},null,"氏 名",{"$f":"②選手情報入力!$D$18","v":0}]
["参加資格",null,"①総得点",null,{"$f":"②選手情報入力!$J$18","v":0},null,"点","②高校総体",null,null,null,"位",null,"点",null,null,"参加資格",null,"①総得点",null,{"$f":"②選手情報入力!$J$18","v":0},null,"点","②高校総体",null,null,null,"位",null,"点"]
[null,null,"大  会  名",null,null,null,null,"年  月  日",null,null,"場     所",null,null,null,null,null,null,null,"大  会  名",null,null,null,null,"年  月  日",null,null,"場     所"]
[]
["③ベスト　３ 種 目　合計得点",null,"種　目",null,"大会名",null,null,"年  月  日",null,"記　録",null,"得点",null,null,null,null,"③ベスト　３ 種 目　合計得点",null,"種　目",null,"大会名",null,null,"年  月  日",null,"記　録",null,"得点"]
[]
[]
[]
["1850点以上",null,null,null,null,null,null,"合　計　得　点",null,null,null,null,null,null,null,null,"1750点以上",null,null,null,null,null,null,"合　計　得　点"]
["走高跳･棒高跳のＡ・Ｂ区分",null,null,null,null,null,"走 高 跳",null,null,null,"棒 高 跳",null,null,null,null,null,"走高跳のＡ・Ｂ区分",null,null,null,null,"走 高 跳"]
[]
["※記載等に不備・不正があり、審査の結果で返却した場合、再受付はしない。",null,null,null,null,null,null,null,null,null,null,null,null,null,null,null,"※記載等に不備・不正があり、審査の結果で返却した場合、再受付はしない。"]
["※申込締切期日に遅れた場合は、受付けない。",null,null,null,null,null,null,null,null,null,null,null,null,null,null,null,"※申込締切期日に遅れた場合は、受付けない。"]
[]
["十種競技　個人申込票　(男子)",null,null,null,null,null,null,null,null,null,null,null,null,null,null,null,"七種競技　個人申込票　(女子）"]
[null,null,null,null,null,null,null,null,null,null,null,"資格審査用",null,null,null,null,null,null,null,null,null,null,null,null,null,null,"資格審査用"]
["ﾅ ﾝ ﾊﾞ ｰ",null,"ﾌ ﾘ ｶﾞﾅ",{"$f":"②選手情報入力!$E$19","v":0},null,null,null,null,"加入団体名",null,{"$f":"①団体情報入力!$D$5","v":0},null,null,null,null,null,"ﾅ ﾝ ﾊﾞ ｰ",null,"ﾌ ﾘ ｶﾞﾅ",{"$f":"②選手情報入力!$E$19","v":0},null,null,null,null,"加入団体名",null,{"$f":"①団体情報入力!$D$5","v":0}]
[{"$f":"IF(②選手情報入力!$B$19=\"\",\"\",②選手情報入力!$B$19)","v":""},null,"氏 名",{"$f":"②選手情報入力!$D$19","v":0},null,null,null,null,null,null,null,null,null,null,null,null,{"$f":"IF(②選手情報入力!$B$19=\"\",\"\",②選手情報入力!$B$19)","v":""},null,"氏 名",{"$f":"②選手情報入力!$D$19","v":0}]
["参加資格",null,"①総得点",null,{"$f":"②選手情報入力!$J$19","v":0},null,"点","②高校総体",null,null,null,"位",null,"点",null,null,"参加資格",null,"①総得点",null,{"$f":"②選手情報入力!$J$19","v":0},null,"点","②高校総体",null,null,null,"位",null,"点"]
[null,null,"大  会  名",null,null,null,null,"年  月  日",null,null,"場     所",null,null,null,null,null,null,null,"大  会  名",null,null,null,null,"年  月  日",null,null,"場     所"]
[]
["③ベスト　３ 種 目　合計得点",null,"種　目",null,"大会名",null,null,"年  月  日",null,"記　録",null,"得点",null,null,null,null,"③ベスト　３ 種 目　合計得点",null,"種　目",null,"大会名",null,null,"年  月  日",null,"記　録",null,"得点"]
[]
[]
[]
["1850点以上",null,null,null,null,null,null,"合　計　得　点",null,null,null,null,null,null,null,null,"1750点以上",null,null,null,null,null,null,"合　計　得　点"]
["走高跳･棒高跳のＡ・Ｂ区分",null,null,null,null,null,"走 高 跳",null,null,null,"棒 高 跳",null,null,null,null,null,"走高跳のＡ・Ｂ区分",null,null,null,null,"走 高 跳"]
[]
["※記載等に不備・不正があり、審査の結果で返却した場合、再受付はしない。",null,null,null,null,null,null,null,null,null,null,null,null,null,null,null,"※記載等に不備・不正があり、審査の結果で返却した場合、再受付はしない。"]
["※申込締切期日に遅れた場合は、受付けない。",null,null,null,null,null,null,null,null,null,null,null,null,null,null,null,"※申込締切期日に遅れた場合は、受付けない。"]
["十種競技　個人申込票　(男子)",null,null,null,null,null,null,null,null,null,null,null,null,null,null,null,"七種競技　個人申込票　(女子）"]
[null,null,null,null,null,null,null,null,null,null,null,"資格審査用",null,null,null,null,null,null,null,null,null,null,null,null,null,null,"資格審査用"]
["ﾅ ﾝ ﾊﾞ ｰ",null,"ﾌ ﾘ ｶﾞﾅ",{"$f":"②選手情報入力!$E$20","v":0},null,null,null,null,"加入団体名",null,{"$f":"①団体情報入力!$D$5","v":0},null,null,null,null,null,"ﾅ ﾝ ﾊﾞ ｰ",null,"ﾌ ﾘ ｶﾞﾅ",{"$f":"②選手情報入力!$E$20","v":0},null,null,null,null,"加入団体名",null,{"$f":"①団体情報入力!$D$5","v":0}]
[{"$f":"IF(②選手情報入力!$B$20=\"\",\"\",②選手情報入力!$B$20)","v":""},null,"氏 名",{"$f":"②選手情報入力!$D$20","v":0},null,null,null,null,null,null,null,null,null,null,null,null,{"$f":"IF(②選手情報入力!$B$20=\"\",\"\",②選手情報入力!$B$20)","v":""},null,"氏 名",{"$f":"②選手情報入力!$D$20","v":0}]
["参加資格",null,"①総得点",null,{"$f":"②選手情報入力!$J$20","v":0},null,"点","②高校総体",null,null,null,"位",null,"点",null,null,"参加資格",null,"①総得点",null,{"$f":"②選手情報入力!$J$20","v":0},null,"点","②高校総体",null,null,null,"位",null,"点"]
[null,null,"大  会  名",null,null,null,null,"年  月  日",null,null,"場     所",null,null,null,null,null,null,null,"大  会  名",null,null,null,null,"年  月  日",null,null,"場     所"]
[]
["③ベスト　３ 種 目　合計得点",null,"種　目",null,"大会名",null,null,"年  月  日",null,"記　録",null,"得点",null,null,null,null,"③ベスト　３ 種 目　合計得点",null,"種　目",null,"大会名",null,null,"年  月  日",null,"記　録",null,"得点"]
[]
[]
[]
["1850点以上",null,null,null,null,null,null,"合　計　得　点",null,null,null,null,null,null,null,null,"1750点以上",null,null,null,null,null,null,"合　計　得　点"]
["走高跳･棒高跳のＡ・Ｂ区分",null,null,null,null,null,"走 高 跳",null,null,null,"棒 高 跳",null,null,null,null,null,"走高跳のＡ・Ｂ区分",null,null,null,null,"走 高 跳"]
[]
["※記載等に不備・不正があり、審査の結果で返却した場合、再受付はしない。",null,null,null,null,null,null,null,null,null,null,null,null,null,null,null,"※記載等に不備・不正があり、審査の結果で返却した場合、再受付はしない。"]
["※申込締切期日に遅れた場合は、受付けない。",null,null,null,null,null,null,null,null,null,null,null,null,null,null,null,"※申込締切期日に遅れた場合は、受付けない。"]
[]
["十種競技　個人申込票　(男子)",null,null,null,null,null,null,null,null,null,null,null,null,null,null,null,"七種競技　個人申込票　(女子）"]
[null,null,null,null,null,null,null,null,null,null,null,"資格審査用",null,null,null,null,null,null,null,null,null,null,null,null,null,null,"資格審査用"]
["ﾅ ﾝ ﾊﾞ ｰ",null,"ﾌ ﾘ ｶﾞﾅ",{"$f":"②選手情報入力!$E$21","v":0},null,null,null,null,"加入団体名",null,{"$f":"①団体情報入力!$D$5","v":0},null,null,null,null,null,"ﾅ ﾝ ﾊﾞ ｰ",null,"ﾌ ﾘ ｶﾞﾅ",{"$f":"②選手情報入力!$E$21","v":0},null,null,null,null,"加入団体名",null,{"$f":"①団体情報入力!$D$5","v":0}]
[{"$f":"IF(②選手情報入力!$B$21=\"\",\"\",②選手情報入力!$B$21)","v":""},null,"氏 名",{"$f":"②選手情報入力!$D$21","v":0},null,null,null,null,null,null,null,null,null,null,null,null,{"$f":"IF(②選手情報入力!$B$21=\"\",\"\",②選手情報入力!$B$21)","v":""},null,"氏 名",{"$f":"②選手情報入力!$D$21","v":0}]
["参加資格",null,"①総得点",null,{"$f":"②選手情報入力!$J$21","v":0},null,"点","②高校総体",null,null,null,"位",null,"点",null,null,"参加資格",null,"①総得点",null,{"$f":"②選手情報入力!$J$21","v":0},null,"点","②高校総体",null,null,null,"位",null,"点"]
[null,null,"大  会  名",null,null,null,null,"年  月  日",null,null,"場     所",null,null,null,null,null,null,null,"大  会  名",null,null,null,null,"年  月  日",null,null,"場     所"]
[]
["③ベスト　３ 種 目　合計得点",null,"種　目",null,"大会名",null,null,"年  月  日",null,"記　録",null,"得点",null,null,null,null,"③ベスト　３ 種 目　合計得点",null,"種　目",null,"大会名",null,null,"年  月  日",null,"記　録",null,"得点"]
[]
[]
[]
["1850点以上",null,null,null,null,null,null,"合　計　得　点",null,null,null,null,null,null,null,null,"1750点以上",null,null,null,null,null,null,"合　計　得　点"]
["走高跳･棒高跳のＡ・Ｂ区分",null,null,null,null,null,"走 高 跳",null,null,null,"棒 高 跳",null,null,null,null,null,"走高跳のＡ・Ｂ区分",null,null,null,null,"走 高 跳"]
[]
["※記載等に不備・不正があり、審査の結果で返却した場合、再受付はしない。",null,null,null,null,null,null,null,null,null,null,null,null,null,null,null,"※記載等に不備・不正があり、審査の結果で返却した場合、再受付はしない。"]
["※申込締切期日に遅れた場合は、受付けない。",null,null,null,null,null,null,null,null,null,null,null,null,null,null,null,"※申込締切期日に遅れた場合は、受付けない。"]
[]
["十種競技　個人申込票　(男子)",null,null,null,null,null,null,null,null,null,null,null,null,null,null,null,"七種競技　個人申込票　(女子）"]
[null,null,null,null,null,null,null,null,null,null,null,"資格審査用",null,null,null,null,null,null,null,null,null,null,null,null,null,null,"資格審査用"]
["ﾅ ﾝ ﾊﾞ ｰ",null,"ﾌ ﾘ ｶﾞﾅ",{"$f":"②選手情報入力!$E$22","v":0},null,null,null,null,"加入団体名",null,{"$f":"①団体情報入力!$D$5","v":0},null,null,null,null,null,"ﾅ ﾝ ﾊﾞ ｰ",null,"ﾌ ﾘ ｶﾞﾅ",{"$f":"②選手情報入力!$E$22","v":0},null,null,null,null,"加入団体名",null,{"$f":"①団体情報入力!$D$5","v":0}]
[{"$f":"IF(②選手情報入力!$B$22=\"\",\"\",②選手情報入力!$B$22)","v":""},null,"氏 名",{"$f":"②選手情報入力!$D$22","v":0},null,null,null,null,null,null,null,null,null,null,null,null,{"$f":"IF(②選手情報入力!$B$22=\"\",\"\",②選手情報入力!$B$22)","v":""},null,"氏 名",{"$f":"②選手情報入力!$D$22","v":0}]
["参加資格",null,"①総得点",null,{"$f":"②選手情報入力!$J$22","v":0},null,"点","②高校総体",null,null,null,"位",null,"点",null,null,"参加資格",null,"①総得点",null,{"$f":"②選手情報入力!$J$22","v":0},null,"点","②高校総体",null,null,null,"位",null,"点"]
[null,null,"大  会  名",null,null,null,null,"年  月  日",null,null,"場     所",null,null,null,null,null,null,null,"大  会  名",null,null,null,null,"年  月  日",null,null,"場     所"]
[]
["③ベスト　３ 種 目　合計得点",null,"種　目",null,"大会名",null,null,"年  月  日",null,"記　録",null,"得点",null,null,null,null,"③ベスト　３ 種 目　合計得点",null,"種　目",null,"大会名",null,null,"年  月  日",null,"記　録",null,"得点"]
[]
[]
[]
["1850点以上",null,null,null,null,null,null,"合　計　得　点",null,null,null,null,null,null,null,null,"1750点以上",null,null,null,null,null,null,"合　計　得　点"]
["走高跳･棒高跳のＡ・Ｂ区分",null,null,null,null,null,"走 高 跳",null,null,null,"棒 高 跳",null,null,null,null,null,"走高跳のＡ・Ｂ区分",null,null,null,null,"走 高 跳"]
[]
["※記載等に不備・不正があり、審査の結果で返却した場合、再受付はしない。",null,null,null,null,null,null,null,null,null,null,null,null,null,null,null,"※記載等に不備・不正があり、審査の結果で返却した場合、再受付はしない。"]
["※申込締切期日に遅れた場合は、受付けない。",null,null,null,null,null,null,null,null,null,null,null,null,null,null,null,"※申込締切期日に遅れた場合は、受付けない。"]
[]
["十種競技　個人申込票　(男子)",null,null,null,null,null,null,null,null,null,null,null,null,null,null,null,"七種競技　個人申込票　(女子）"]
[null,null,null,null,null,null,null,null,null,null,null,"資格審査用",null,null,null,null,null,null,null,null,null,null,null,null,null,null,"資格審査用"]
["ﾅ ﾝ ﾊﾞ ｰ",null,"ﾌ ﾘ ｶﾞﾅ",{"$f":"②選手情報入力!$E$23","v":0},null,null,null,null,"加入団体名",null,{"$f":"①団体情報入力!$D$5","v":0},null,null,null,null,null,"ﾅ ﾝ ﾊﾞ ｰ",null,"ﾌ ﾘ ｶﾞﾅ",{"$f":"②選手情報入力!$E$23","v":0},null,null,null,null,"加入団体名",null,{"$f":"①団体情報入力!$D$5","v":0}]
[{"$f":"IF(②選手情報入力!$B$23=\"\",\"\",②選手情報入力!$B$23)","v":""},null,"氏 名",{"$f":"②選手情報入力!$D$23","v":0},null,null,null,null,null,null,null,null,null,null,null,null,{"$f":"IF(②選手情報入力!$B$23=\"\",\"\",②選手情報入力!$B$23)","v":""},null,"氏 名",{"$f":"②選手情報入力!$D$23","v":0}]
["参加資格",null,"①総得点",null,{"$f":"②選手情報入力!$J$23","v":0},null,"点","②高校総体",null,null,null,"位",null,"点",null,null,"参加資格",null,"①総得点",null,{"$f":"②選手情報入力!$J$23","v":0},null,"点","②高校総体",null,null,null,"位",null,"点"]
[null,null,"大  会  名",null,null,null,null,"年  月  日",null,null,"場     所",null,null,null,null,null,null,null,"大  会  名",null,null,null,null,"年  月  日",null,null,"場     所"]
[]
["③ベスト　３ 種 目　合計得点",null,"種　目",null,"大会名",null,null,"年  月  日",null,"記　録",null,"得点",null,null,null,null,"③ベスト　３ 種 目　合計得点",null,"種　目",null,"大会名",null,null,"年  月  日",null,"記　録",null,"得点"]
[]
[]
[]
["1850点以上",null,null,null,null,null,null,"合　計　得　点",null,null,null,null,null,null,null,null,"1750点以上",null,null,null,null,null,null,"合　計　得　点"]
["走高跳･棒高跳のＡ・Ｂ区分",null,null,null,null,null,"走 高 跳",null,null,null,"棒 高 跳",null,null,null,null,null,"走高跳のＡ・Ｂ区分",null,null,null,null,"走 高 跳"]
[]
["※記載等に不備・不正があり、審査の結果で返却した場合、再受付はしない。",null,null,null,null,null,null,null,null,null,null,null,null,null,null,null,"※記載等に不備・不正があり、審査の結果で返却した場合、再受付はしない。"]
["※申込締切期日に遅れた場合は、受付けない。",null,null,null,null,null,null,null,null,null,null,null,null,null,null,null,"※申込締切期日に遅れた場合は、受付けない。"]
["十種競技　個人申込票　(男子)",null,null,null,null,null,null,null,null,null,null,null,null,null,null,null,"七種競技　個人申込票　(女子）"]
[null,null,null,null,null,null,null,null,null,null,null,"資格審査用",null,null,null,null,null,null,null,null,null,null,null,null,null,null,"資格審査用"]
["ﾅ ﾝ ﾊﾞ ｰ",null,"ﾌ ﾘ ｶﾞﾅ",{"$f":"②選手情報入力!$E$24","v":0},null,null,null,null,"加入団体名",null,{"$f":"①団体情報入力!$D$5","v":0},null,null,null,null,null,"ﾅ ﾝ ﾊﾞ ｰ",null,"ﾌ ﾘ ｶﾞﾅ",{"$f":"②選手情報入力!$E$24","v":0},null,null,null,null,"加入団体名",null,{"$f":"①団体情報入力!$D$5","v":0}]
[{"$f":"IF(②選手情報入力!$B$24=\"\",\"\",②選手情報入力!$B$24)","v":""},null,"氏 名",{"$f":"②選手情報入力!$D$24","v":0},null,null,null,null,null,null,null,null,null,null,null,null,{"$f":"IF(②選手情報入力!$B$24=\"\",\"\",②選手情報入力!$B$24)","v":""},null,"氏 名",{"$f":"②選手情報入力!$D$24","v":0}]
["参加資格",null,"①総得点",null,{"$f":"②選手情報入力!$J$24","v":0},null,"点","②高校総体",null,null,null,"位",null,"点",null,null,"参加資格",null,"①総得点",null,{"$f":"②選手情報入力!$J$24","v":0},null,"点","②高校総体",null,null,null,"位",null,"点"]
[null,null,"大  会  名",null,null,null,null,"年  月  日",null,null,"場     所",null,null,null,null,null,null,null,"大  会  名",null,null,null,null,"年  月  日",null,null,"場     所"]
[]
["③ベスト　３ 種 目　合計得点",null,"種　目",null,"大会名",null,null,"年  月  日",null,"記　録",null,"得点",null,null,null,null,"③ベスト　３ 種 目　合計得点",null,"種　目",null,"大会名",null,null,"年  月  日",null,"記　録",null,"得点"]
[]
[]
[]
["1850点以上",null,null,null,null,null,null,"合　計　得　点",null,null,null,null,null,null,null,null,"1750点以上",null,null,null,null,null,null,"合　計　得　点"]
["走高跳･棒高跳のＡ・Ｂ区分",null,null,null,null,null,"走 高 跳",null,null,null,"棒 高 跳",null,null,null,null,null,"走高跳のＡ・Ｂ区分",null,null,null,null,"走 高 跳"]
[]
["※記載等に不備・不正があり、審査の結果で返却した場合、再受付はしない。",null,null,null,null,null,null,null,null,null,null,null,null,null,null,null,"※記載等に不備・不正があり、審査の結果で返却した場合、再受付はしない。"]
["※申込締切期日に遅れた場合は、受付けない。",null,null,null,null,null,null,null,null,null,null,null,null,null,null,null,"※申込締切期日に遅れた場合は、受付けない。"]
[]
["十種競技　個人申込票　(男子)",null,null,null,null,null,null,null,null,null,null,null,null,null,null,null,"七種競技　個人申込票　(女子）"]
[null,null,null,null,null,null,null,null,null,null,null,"資格審査用",null,null,null,null,null,null,null,null,null,null,null,null,null,null,"資格審査用"]
["ﾅ ﾝ ﾊﾞ ｰ",null,"ﾌ ﾘ ｶﾞﾅ",{"$f":"②選手情報入力!$E$25","v":0},null,null,null,null,"加入団体名",null,{"$f":"①団体情報入力!$D$5","v":0},null,null,null,null,null,"ﾅ ﾝ ﾊﾞ ｰ",null,"ﾌ ﾘ ｶﾞﾅ",{"$f":"②選手情報入力!$E$25","v":0},null,null,null,null,"加入団体名",null,{"$f":"①団体情報入力!$D$5","v":0}]
[{"$f":"IF(②選手情報入力!$B$25=\"\",\"\",②選手情報入力!$B$25)","v":""},null,"氏 名",{"$f":"②選手情報入力!$D$25","v":0},null,null,null,null,null,null,null,null,null,null,null,null,{"$f":"IF(②選手情報入力!$B$25=\"\",\"\",②選手情報入力!$B$25)","v":""},null,"氏 名",{"$f":"②選手情報入力!$D$25","v":0}]
["参加資格",null,"①総得点",null,{"$f":"②選手情報入力!$J$25","v":0},null,"点","②高校総体",null,null,null,"位",null,"点",null,null,"参加資格",null,"①総得点",null,{"$f":"②選手情報入力!$J$25","v":0},null,"点","②高校総体",null,null,null,"位",null,"点"]
[null,null,"大  会  名",null,null,null,null,"年  月  日",null,null,"場     所",null,null,null,null,null,null,null,"大  会  名",null,null,null,null,"年  月  日",null,null,"場     所"]
[]
["③ベスト　３ 種 目　合計得点",null,"種　目",null,"大会名",null,null,"年  月  日",null,"記　録",null,"得点",null,null,null,null,"③ベスト　３ 種 目　合計得点",null,"種　目",null,"大会名",null,null,"年  月  日",null,"記　録",null,"得点"]
[]
[]
[]
["1850点以上",null,null,null,null,null,null,"合　計　得　点",null,null,null,null,null,null,null,null,"1750点以上",null,null,null,null,null,null,"合　計　得　点"]
["走高跳･棒高跳のＡ・Ｂ区分",null,null,null,null,null,"走 高 跳",null,null,null,"棒 高 跳",null,null,null,null,null,"走高跳のＡ・Ｂ区分",null,null,null,null,"走 高 跳"]
[]
["※記載等に不備・不正があり、審査の結果で返却した場合、再受付はしない。",null,null,null,null,null,null,null,null,null,null,null,null,null,null,null,"※記載等に不備・不正があり、審査の結果で返却した場合、再受付はしない。"]
["※申込締切期日に遅れた場合は、受付けない。",null,null,null,null,null,null,null,null,null,null,null,null,null,null,null,"※申込締切期日に遅れた場合は、受付けない。"]
["十種競技　個人申込票　(男子)",null,null,null,null,null,null,null,null,null,null,null,null,null,null,null,"七種競技　個人申込票　(女子）"]
[null,null,null,null,null,null,null,null,null,null,null,"資格審査用",null,null,null,null,null,null,null,null,null,null,null,null,null,null,"資格審査用"]
["ﾅ ﾝ ﾊﾞ ｰ",null,"ﾌ ﾘ ｶﾞﾅ",{"$f":"②選手情報入力!$E$26","v":0},null,null,null,null,"加入団体名",null,{"$f":"①団体情報入力!$D$5","v":0},null,null,null,null,null,"ﾅ ﾝ ﾊﾞ ｰ",null,"ﾌ ﾘ ｶﾞﾅ",{"$f":"②選手情報入力!$E$26","v":0},null,null,null,null,"加入団体名",null,{"$f":"①団体情報入力!$D$5","v":0}]
[{"$f":"IF(②選手情報入力!$B$26=\"\",\"\",②選手情報入力!$B$26)","v":""},null,"氏 名",{"$f":"②選手情報入力!$D$26","v":0},null,null,null,null,null,null,null,null,null,null,null,null,{"$f":"IF(②選手情報入力!$B$26=\"\",\"\",②選手情報入力!$B$26)","v":""},null,"氏 名",{"$f":"②選手情報入力!$D$26","v":0}]
["参加資格",null,"①総得点",null,{"$f":"②選手情報入力!$J$26","v":0},null,"点","②高校総体",null,null,null,"位",null,"点",null,null,"参加資格",null,"①総得点",null,{"$f":"②選手情報入力!$J$26","v":0},null,"点","②高校総体",null,null,null,"位",null,"点"]
[null,null,"大  会  名",null,null,null,null,"年  月  日",null,null,"場     所",null,null,null,null,null,null,null,"大  会  名",null,null,null,null,"年  月  日",null,null,"場     所"]
[]
["③ベスト　３ 種 目　合計得点",null,"種　目",null,"大会名",null,null,"年  月  日",null,"記　録",null,"得点",null,null,null,null,"③ベスト　３ 種 目　合計得点",null,"種　目",null,"大会名",null,null,"年  月  日",null,"記　録",null,"得点"]
[]
[]
[]
["1850点以上",null,null,null,null,null,null,"合　計　得　点",null,null,null,null,null,null,null,null,"1750点以上",null,null,null,null,null,null,"合　計　得　点"]
["走高跳･棒高跳のＡ・Ｂ区分",null,null,null,null,null,"走 高 跳",null,null,null,"棒 高 跳",null,null,null,null,null,"走高跳のＡ・Ｂ区分",null,null,null,null,"走 高 跳"]
[]
["※記載等に不備・不正があり、審査の結果で返却した場合、再受付はしない。",null,null,null,null,null,null,null,null,null,null,null,null,null,null,null,"※記載等に不備・不正があり、審査の結果で返却した場合、再受付はしない。"]
["※申込締切期日に遅れた場合は、受付けない。",null,null,null,null,null,null,null,null,null,null,null,null,null,null,null,"※申込締切期日に遅れた場合は、受付けない。"]
[]
["十種競技　個人申込票　(男子)",null,null,null,null,null,null,null,null,null,null,null,null,null,null,null,"七種競技　個人申込票　(女子）"]
[null,null,null,null,null,null,null,null,null,null,null,"資格審査用",null,null,null,null,null,null,null,null,null,null,null,null,null,null,"資格審査用"]
["ﾅ ﾝ ﾊﾞ ｰ",null,"ﾌ ﾘ ｶﾞﾅ",{"$f":"②選手情報入力!$E$27","v":0},null,null,null,null,"加入団体名",null,{"$f":"①団体情報入力!$D$5","v":0},null,null,null,null,null,"ﾅ ﾝ ﾊﾞ ｰ",null,"ﾌ ﾘ ｶﾞﾅ",{"$f":"②選手情報入力!$E$27","v":0},null,null,null,null,"加入団体名",null,{"$f":"①団体情報入力!$D$5","v":0}]
[{"$f":"IF(②選手情報入力!$B$27=\"\",\"\",②選手情報入力!$B$27)","v":""},null,"氏 名",{"$f":"②選手情報入力!$D$27","v":0},null,null,null,null,null,null,null,null,null,null,null,null,{"$f":"IF(②選手情報入力!$B$27=\"\",\"\",②選手情報入力!$B$27)","v":""},null,"氏 名",{"$f":"②選手情報入力!$D$27","v":0}]
["参加資格",null,"①総得点",null,{"$f":"②選手情報入力!$J$27","v":0},null,"点","②高校総体",null,null,null,"位",null,"点",null,null,"参加資格",null,"①総得点",null,{"$f":"②選手情報入力!$J$27","v":0},null,"点","②高校総体",null,null,null,"位",null,"点"]
[null,null,"大  会  名",null,null,null,null,"年  月  日",null,null,"場     所",null,null,null,null,null,null,null,"大  会  名",null,null,null,null,"年  月  日",null,null,"場     所"]
[]
["③ベスト　３ 種 目　合計得点",null,"種　目",null,"大会名",null,null,"年  月  日",null,"記　録",null,"得点",null,null,null,null,"③ベスト　３ 種 目　合計得点",null,"種　目",null,"大会名",null,null,"年  月  日",null,"記　録",null,"得点"]
[]
[]
[]
["1850点以上",null,null,null,null,null,null,"合　計　得　点",null,null,null,null,null,null,null,null,"1750点以上",null,null,null,null,null,null,"合　計　得　点"]
["走高跳･棒高跳のＡ・Ｂ区分",null,null,null,null,null,"走 高 跳",null,null,null,"棒 高 跳",null,null,null,null,null,"走高跳のＡ・Ｂ区分",null,null,null,null,"走 高 跳"]
[]
["※記載等に不備・不正があり、審査の結果で返却した場合、再受付はしない。",null,null,null,null,null,null,null,null,null,null,null,null,null,null,null,"※記載等に不備・不正があり、審査の結果で返却した場合、再受付はしない。"]
["※申込締切期日に遅れた場合は、受付けない。",null,null,null,null,null,null,null,null,null,null,null,null,null,null,null,"※申込締切期日に遅れた場合は、受付けない。"]
["十種競技　個人申込票　(男子)",null,null,null,null,null,null,null,null,null,null,null,null,null,null,null,"七種競技　個人申込票　(女子）"]
[null,null,null,null,null,null,null,null,null,null,null,"資格審査用",null,null,null,null,null,null,null,null,null,null,null,null,null,null,"資格審査用"]
["ﾅ ﾝ ﾊﾞ ｰ",null,"ﾌ ﾘ ｶﾞﾅ",{"$f":"②選手情報入力!$E$28","v":0},null,null,null,null,"加入団体名",null,{"$f":"①団体情報入力!$D$5","v":0},null,null,null,null,null,"ﾅ ﾝ ﾊﾞ ｰ",null,"ﾌ ﾘ ｶﾞﾅ",{"$f":"②選手情報入力!$E$28","v":0},null,null,null,null,"加入団体名",null,{"$f":"①団体情報入力!$D$5","v":0}]
[{"$f":"IF(②選手情報入力!$B$28=\"\",\"\",②選手情報入力!$B$28)","v":""},null,"氏 名",{"$f":"②選手情報入力!$D$28","v":0},null,null,null,null,null,null,null,null,null,null,null,null,{"$f":"IF(②選手情報入力!$B$28=\"\",\"\",②選手情報入力!$B$28)","v":""},null,"氏 名",{"$f":"②選手情報入力!$D$28","v":0}]
["参加資格",null,"①総得点",null,{"$f":"②選手情報入力!$J$28","v":0},null,"点","②高校総体",null,null,null,"位",null,"点",null,null,"参加資格",null,"①総得点",null,{"$f":"②選手情報入力!$J$28","v":0},null,"点","②高校総体",null,null,null,"位",null,"点"]
[null,null,"大  会  名",null,null,null,null,"年  月  日",null,null,"場     所",null,null,null,null,null,null,null,"大  会  名",null,null,null,null,"年  月  日",null,null,"場     所"]
[]
["③ベスト　３ 種 目　合計得点",null,"種　目",null,"大会名",null,null,"年  月  日",null,"記　録",null,"得点",null,null,null,null,"③ベスト　３ 種 目　合計得点",null,"種　目",null,"大会名",null,null,"年  月  日",null,"記　録",null,"得点"]
[]
[]
[]
["1850点以上",null,null,null,null,null,null,"合　計　得　点",null,null,null,null,null,null,null,null,"1750点以上",null,null,null,null,null,null,"合　計　得　点"]
["走高跳･棒高跳のＡ・Ｂ区分",null,null,null,null,null,"走 高 跳",null,null,null,"棒 高 跳",null,null,null,null,null,"走高跳のＡ・Ｂ区分",null,null,null,null,"走 高 跳"]
[]
["※記載等に不備・不正があり、審査の結果で返却した場合、再受付はしない。",null,null,null,null,null,null,null,null,null,null,null,null,null,null,null,"※記載等に不備・不正があり、審査の結果で返却した場合、再受付はしない。"]
["※申込締切期日に遅れた場合は、受付けない。",null,null,null,null,null,null,null,null,null,null,null,null,null,null,null,"※申込締切期日に遅れた場合は、受付けない。"]
[]
["十種競技　個人申込票　(男子)",null,null,null,null,null,null,null,null,null,null,null,null,null,null,null,"七種競技　個人申込票　(女子）"]
[null,null,null,null,null,null,null,null,null,null,null,"資格審査用",null,null,null,null,null,null,null,null,null,null,null,null,null,null,"資格審査用"]
["ﾅ ﾝ ﾊﾞ ｰ",null,"ﾌ ﾘ ｶﾞﾅ",{"$f":"②選手情報入力!$E$29","v":0},null,null,null,null,"加入団体名",null,{"$f":"①団体情報入力!$D$5","v":0},null,null,null,null,null,"ﾅ ﾝ ﾊﾞ ｰ",null,"ﾌ ﾘ ｶﾞﾅ",{"$f":"②選手情報入力!$E$29","v":0},null,null,null,null,"加入団体名",null,{"$f":"①団体情報入力!$D$5","v":0}]
[{"$f":"IF(②選手情報入力!$B$29=\"\",\"\",②選手情報入力!$B$29)","v":""},null,"氏 名",{"$f":"②選手情報入力!$D$29","v":0},null,null,null,null,null,null,null,null,null,null,null,null,{"$f":"IF(②選手情報入力!$B$29=\"\",\"\",②選手情報入力!$B$29)","v":""},null,"氏 名",{"$f":"②選手情報入力!$D$29","v":0}]
["参加資格",null,"①総得点",null,{"$f":"②選手情報入力!$J$29","v":0},null,"点","②高校総体",null,null,null,"位",null,"点",null,null,"参加資格",null,"①総得点",null,{"$f":"②選手情報入力!$J$29","v":0},null,"点","②高校総体",null,null,null,"位",null,"点"]
[null,null,"大  会  名",null,null,null,null,"年  月  日",null,null,"場     所",null,null,null,null,null,null,null,"大  会  名",null,null,null,null,"年  月  日",null,null,"場     所"]
[]
["③ベスト　３ 種 目　合計得点",null,"種　目",null,"大会名",null,null,"年  月  日",null,"記　録",null,"得点",null,null,null,null,"③ベスト　３ 種 目　合計得点",null,"種　目",null,"大会名",null,null,"年  月  日",null,"記　録",null,"得点"]
[]
[]
[]
["1850点以上",null,null,null,null,null,null,"合　計　得　点",null,null,null,null,null,null,null,null,"1750点以上",null,null,null,null,null,null,"合　計　得　点"]
["走高跳･棒高跳のＡ・Ｂ区分",null,null,null,null,null,"走 高 跳",null,null,null,"棒 高 跳",null,null,null,null,null,"走高跳のＡ・Ｂ区分",null,null,null,null,"走 高 跳"]
[]
["※記載等に不備・不正があり、審査の結果で返却した場合、再受付はしない。",null,null,null,null,null,null,null,null,null,null,null,null,null,null,null,"※記載等に不備・不正があり、審査の結果で返却した場合、再受付はしない。"]
["※申込締切期日に遅れた場合は、受付けない。",null,null,null,null,null,null,null,null,null,null,null,null,null,null,null,"※申込締切期日に遅れた場合は、受付けない。"]
["十種競技　個人申込票　(男子)",null,null,null,null,null,null,null,null,null,null,null,null,null,null,null,"七種競技　個人申込票　(女子）"]
[null,null,null,null,null,null,null,null,null,null,null,"資格審査用",null,null,null,null,null,null,null,null,null,null,null,null,null,null,"資格審査用"]
["ﾅ ﾝ ﾊﾞ ｰ",null,"ﾌ ﾘ ｶﾞﾅ",{"$f":"②選手情報入力!$E$30","v":0},null,null,null,null,"加入団体名",null,{"$f":"①団体情報入力!$D$5","v":0},null,null,null,null,null,"ﾅ ﾝ ﾊﾞ ｰ",null,"ﾌ ﾘ ｶﾞﾅ",{"$f":"②選手情報入力!$E$30","v":0},null,null,null,null,"加入団体名",null,{"$f":"①団体情報入力!$D$5","v":0}]
[{"$f":"IF(②選手情報入力!$B$30=\"\",\"\",②選手情報入力!$B$30)","v":""},null,"氏 名",{"$f":"②選手情報入力!$D$30","v":0},null,null,null,null,null,null,null,null,null,null,null,null,{"$f":"IF(②選手情報入力!$B$30=\"\",\"\",②選手情報入力!$B$30)","v":""},null,"氏 名",{"$f":"②選手情報入力!$D$30","v":0}]
["参加資格",null,"①総得点",null,{"$f":"②選手情報入力!$J$30","v":0},null,"点","②高校総体",null,null,null,"位",null,"点",null,null,"参加資格",null,"①総得点",null,{"$f":"②選手情報入力!$J$30","v":0},null,"点","②高校総体",null,null,null,"位",null,"点"]
[null,null,"大  会  名",null,null,null,null,"年  月  日",null,null,"場     所",null,null,null,null,null,null,null,"大  会  名",null,null,null,null,"年  月  日",null,null,"場     所"]
[]
["③ベスト　３ 種 目　合計得点",null,"種　目",null,"大会名",null,null,"年  月  日",null,"記　録",null,"得点",null,null,null,null,"③ベスト　３ 種 目　合計得点",null,"種　目",null,"大会名",null,null,"年  月  日",null,"記　録",null,"得点"]
[]
[]
[]
["1850点以上",null,null,null,null,null,null,"合　計　得　点",null,null,null,null,null,null,null,null,"1750点以上",null,null,null,null,null,null,"合　計　得　点"]
["走高跳･棒高跳のＡ・Ｂ区分",null,null,null,null,null,"走 高 跳",null,null,null,"棒 高 跳",null,null,null,null,null,"走高跳のＡ・Ｂ区分",null,null,null,null,"走 高 跳"]
[]
["※記載等に不備・不正があり、審査の結果で返却した場合、再受付はしない。",null,null,null,null,null,null,null,null,null,null,null,null,null,null,null,"※記載等に不備・不正があり、審査の結果で返却した場合、再受付はしない。"]
["※申込締切期日に遅れた場合は、受付けない。",null,null,null,null,null,null,null,null,null,null,null,null,null,null,null,"※申込締切期日に遅れた場合は、受付けない。"]
[]
["十種競技　個人申込票　(男子)",null,null,null,null,null,null,null,null,null,null,null,null,null,null,null,"七種競技　個人申込票　(女子）"]
[null,null,null,null,null,null,null,null,null,null,null,"資格審査用",null,null,null,null,null,null,null,null,null,null,null,null,null,null,"資格審査用"]
["ﾅ ﾝ ﾊﾞ ｰ",null,"ﾌ ﾘ ｶﾞﾅ",{"$f":"②選手情報入力!$E$31","v":0},null,null,null,null,"加入団体名",null,{"$f":"①団体情報入力!$D$5","v":0},null,null,null,null,null,"ﾅ ﾝ ﾊﾞ ｰ",null,"ﾌ ﾘ ｶﾞﾅ",{"$f":"②選手情報入力!$E$31","v":0},null,null,null,null,"加入団体名",null,{"$f":"①団体情報入力!$D$5","v":0}]
[{"$f":"IF(②選手情報入力!$B$31=\"\",\"\",②選手情報入力!$B$31)","v":""},null,"氏 名",{"$f":"②選手情報入力!$D$31","v":0},null,null,null,null,null,null,null,null,null,null,null,null,{"$f":"IF(②選手情報入力!$B$31=\"\",\"\",②選手情報入力!$B$31)","v":""},null,"氏 名",{"$f":"②選手情報入力!$D$31","v":0}]
["参加資格",null,"①総得点",null,{"$f":"②選手情報入力!$J$31","v":0},null,"点","②高校総体",null,null,null,"位",null,"点",null,null,"参加資格",null,"①総得点",null,{"$f":"②選手情報入力!$J$31","v":0},null,"点","②高校総体",null,null,null,"位",null,"点"]
[null,null,"大  会  名",null,null,null,null,"年  月  日",null,null,"場     所",null,null,null,null,null,null,null,"大  会  名",null,null,null,null,"年  月  日",null,null,"場     所"]
[]
["③ベスト　３ 種 目　合計得点",null,"種　目",null,"大会名",null,null,"年  月  日",null,"記　録",null,"得点",null,null,null,null,"③ベスト　３ 種 目　合計得点",null,"種　目",null,"大会名",null,null,"年  月  日",null,"記　録",null,"得点"]
[]
[]
[]
["1850点以上",null,null,null,null,null,null,"合　計　得　点",null,null,null,null,null,null,null,null,"1750点以上",null,null,null,null,null,null,"合　計　得　点"]
["走高跳･棒高跳のＡ・Ｂ区分",null,null,null,null,null,"走 高 跳",null,null,null,"棒 高 跳",null,null,null,null,null,"走高跳のＡ・Ｂ区分",null,null,null,null,"走 高 跳"]
[]
["※記載等に不備・不正があり、審査の結果で返却した場合、再受付はしない。",null,null,null,null,null,null,null,null,null,null,null,null,null,null,null,"※記載等に不備・不正があり、審査の結果で返却した場合、再受付はしない。"]
["※申込締切期日に遅れた場合は、受付けない。",null,null,null,null,null,null,null,null,null,null,null,null,null,null,null,"※申込締切期日に遅れた場合は、受付けない。"]
[]
["十種競技　個人申込票　(男子)",null,null,null,null,null,null,null,null,null,null,null,null,null,null,null,"七種競技　個人申込票　(女子）"]
[null,null,null,null,null,null,null,null,null,null,null,"資格審査用",null,null,null,null,null,null,null,null,null,null,null,null,null,null,"資格審査用"]
["ﾅ ﾝ ﾊﾞ ｰ",null,"ﾌ ﾘ ｶﾞﾅ",{"$f":"②選手情報入力!$E$32","v":0},null,null,null,null,"加入団体名",null,{"$f":"①団体情報入力!$D$5","v":0},null,null,null,null,null,"ﾅ ﾝ ﾊﾞ ｰ",null,"ﾌ ﾘ ｶﾞﾅ",{"$f":"②選手情報入力!$E$32","v":0},null,null,null,null,"加入団体名",null,{"$f":"①団体情報入力!$D$5","v":0}]
[{"$f":"IF(②選手情報入力!$B$32=\"\",\"\",②選手情報入力!$B$32)","v":""},null,"氏 名",{"$f":"②選手情報入力!$D$32","v":0},null,null,null,null,null,null,null,null,null,null,null,null,{"$f":"IF(②選手情報入力!$B$32=\"\",\"\",②選手情報入力!$B$32)","v":""},null,"氏 名",{"$f":"②選手情報入力!$D$32","v":0}]
["参加資格",null,"①総得点",null,{"$f":"②選手情報入力!$J$32","v":0},null,"点","②高校総体",null,null,null,"位",null,"点",null,null,"参加資格",null,"①総得点",null,{"$f":"②選手情報入力!$J$32","v":0},null,"点","②高校総体",null,null,null,"位",null,"点"]
[null,null,"大  会  名",null,null,null,null,"年  月  日",null,null,"場     所",null,null,null,null,null,null,null,"大  会  名",null,null,null,null,"年  月  日",null,null,"場     所"]
[]
["③ベスト　３ 種 目　合計得点",null,"種　目",null,"大会名",null,null,"年  月  日",null,"記　録",null,"得点",null,null,null,null,"③ベスト　３ 種 目　合計得点",null,"種　目",null,"大会名",null,null,"年  月  日",null,"記　録",null,"得点"]
[]
[]
[]
["1850点以上",null,null,null,null,null,null,"合　計　得　点",null,null,null,null,null,null,null,null,"1750点以上",null,null,null,null,null,null,"合　計　得　点"]
["走高跳･棒高跳のＡ・Ｂ区分",null,null,null,null,null,"走 高 跳",null,null,null,"棒 高 跳",null,null,null,null,null,"走高跳のＡ・Ｂ区分",null,null,null,null,"走 高 跳"]
[]
["※記載等に不備・不正があり、審査の結果で返却した場合、再受付はしない。",null,null,null,null,null,null,null,null,null,null,null,null,null,null,null,"※記載等に不備・不正があり、審査の結果で返却した場合、再受付はしない。"]
["※申込締切期日に遅れた場合は、受付けない。",null,null,null,null,null,null,null,null,null,null,null,null,null,null,null,"※申込締切期日に遅れた場合は、受付けない。"]
[]
["十種競技　個人申込票　(男子)",null,null,null,null,null,null,null,null,null,null,null,null,null,null,null,"七種競技　個人申込票　(女子）"]
[null,null,null,null,null,null,null,null,null,null,null,"資格審査用",null,null,null,null,null,null,null,null,null,null,null,null,null,null,"資格審査用"]
["ﾅ ﾝ ﾊﾞ ｰ",null,"ﾌ ﾘ ｶﾞﾅ",{"$f":"②選手情報入力!$E$33","v":0},null,null,null,null,"加入団体名",null,{"$f":"①団体情報入力!$D$5","v":0},null,null,null,null,null,"ﾅ ﾝ ﾊﾞ ｰ",null,"ﾌ ﾘ ｶﾞﾅ",{"$f":"②選手情報入力!$E$33","v":0},null,null,null,null,"加入団体名",null,{"$f":"①団体情報入力!$D$5","v":0}]
[{"$f":"IF(②選手情報入力!$B$33=\"\",\"\",②選手情報入力!$B$33)","v":""},null,"氏 名",{"$f":"②選手情報入力!$D$33","v":0},null,null,null,null,null,null,null,null,null,null,null,null,{"$f":"IF(②選手情報入力!$B$33=\"\",\"\",②選手情報入力!$B$33)","v":""},null,"氏 名",{"$f":"②選手情報入力!$D$33","v":0}]
["参加資格",null,"①総得点",null,{"$f":"②選手情報入力!$J$33","v":0},null,"点","②高校総体",null,null,null,"位",null,"点",null,null,"参加資格",null,"①総得点",null,{"$f":"②選手情報入力!$J$33","v":0},null,"点","②高校総体",null,null,null,"位",null,"点"]
[null,null,"大  会  名",null,null,null,null,"年  月  日",null,null,"場     所",null,null,null,null,null,null,null,"大  会  名",null,null,null,null,"年  月  日",null,null,"場     所"]
[]
["③ベスト　３ 種 目　合計得点",null,"種　目",null,"大会名",null,null,"年  月  日",null,"記　録",null,"得点",null,null,null,null,"③ベスト　３ 種 目　合計得点",null,"種　目",null,"大会名",null,null,"年  月  日",null,"記　録",null,"得点"]
[]
[]
[]
["1850点以上",null,null,null,null,null,null,"合　計　得　点",null,null,null,null,null,null,null,null,"1750点以上",null,null,null,null,null,null,"合　計　得　点"]
["走高跳･棒高跳のＡ・Ｂ区分",null,null,null,null,null,"走 高 跳",null,null,null,"棒 高 跳",null,null,null,null,null,"走高跳のＡ・Ｂ区分",null,null,null,null,"走 高 跳"]
[]
["※記載等に不備・不正があり、審査の結果で返却した場合、再受付はしない。",null,null,null,null,null,null,null,null,null,null,null,null,null,null,null,"※記載等に不備・不正があり、審査の結果で返却した場合、再受付はしない。"]
["※申込締切期日に遅れた場合は、受付けない。",null,null,null,null,null,null,null,null,null,null,null,null,null,null,null,"※申込締切期日に遅れた場合は、受付けない。"]
["十種競技　個人申込票　(男子)",null,null,null,null,null,null,null,null,null,null,null,null,null,null,null,"七種競技　個人申込票　(女子）"]
[null,null,null,null,null,null,null,null,null,null,null,"資格審査用",null,null,null,null,null,null,null,null,null,null,null,null,null,null,"資格審査用"]
["ﾅ ﾝ ﾊﾞ ｰ",null,"ﾌ ﾘ ｶﾞﾅ",{"$f":"②選手情報入力!$E$34","v":0},null,null,null,null,"加入団体名",null,{"$f":"①団体情報入力!$D$5","v":0},null,null,null,null,null,"ﾅ ﾝ ﾊﾞ ｰ",null,"ﾌ ﾘ ｶﾞﾅ",{"$f":"②選手情報入力!$E$34","v":0},null,null,null,null,"加入団体名",null,{"$f":"①団体情報入力!$D$5","v":0}]
[{"$f":"IF(②選手情報入力!$B$34=\"\",\"\",②選手情報入力!$B$34)","v":""},null,"氏 名",{"$f":"②選手情報入力!$D$34","v":0},null,null,null,null,null,null,null,null,null,null,null,null,{"$f":"IF(②選手情報入力!$B$34=\"\",\"\",②選手情報入力!$B$34)","v":""},null,"氏 名",{"$f":"②選手情報入力!$D$34","v":0}]
["参加資格",null,"①総得点",null,{"$f":"②選手情報入力!$J$34","v":0},null,"点","②高校総体",null,null,null,"位",null,"点",null,null,"参加資格",null,"①総得点",null,{"$f":"②選手情報入力!$J$34","v":0},null,"点","②高校総体",null,null,null,"位",null,"点"]
[null,null,"大  会  名",null,null,null,null,"年  月  日",null,null,"場     所",null,null,null,null,null,null,null,"大  会  名",null,null,null,null,"年  月  日",null,null,"場     所"]
[]
["③ベスト　３ 種 目　合計得点",null,"種　目",null,"大会名",null,null,"年  月  日",null,"記　録",null,"得点",null,null,null,null,"③ベスト　３ 種 目　合計得点",null,"種　目",null,"大会名",null,null,"年  月  日",null,"記　録",null,"得点"]
[]
[]
[]
["1850点以上",null,null,null,null,null,null,"合　計　得　点",null,null,null,null,null,null,null,null,"1750点以上",null,null,null,null,null,null,"合　計　得　点"]
["走高跳･棒高跳のＡ・Ｂ区分",null,null,null,null,null,"走 高 跳",null,null,null,"棒 高 跳",null,null,null,null,null,"走高跳のＡ・Ｂ区分",null,null,null,null,"走 高 跳"]
[]
["※記載等に不備・不正があり、審査の結果で返却した場合、再受付はしない。",null,null,null,null,null,null,null,null,null,null,null,null,null,null,null,"※記載等に不備・不正があり、審査の結果で返却した場合、再受付はしない。"]
["※申込締切期日に遅れた場合は、受付けない。",null,null,null,null,null,null,null,null,null,null,null,null,null,null,null,"※申込締切期日に遅れた場合は、受付けない。"]
[]
["十種競技　個人申込票　(男子)",null,null,null,null,null,null,null,null,null,null,null,null,null,null,null,"七種競技　個人申込票　(女子）"]
[null,null,null,null,null,null,null,null,null,null,null,"資格審査用",null,null,null,null,null,null,null,null,null,null,null,null,null,null,"資格審査用"]
["ﾅ ﾝ ﾊﾞ ｰ",null,"ﾌ ﾘ ｶﾞﾅ",{"$f":"②選手情報入力!$E$35","v":0},null,null,null,null,"加入団体名",null,{"$f":"①団体情報入力!$D$5","v":0},null,null,null,null,null,"ﾅ ﾝ ﾊﾞ ｰ",null,"ﾌ ﾘ ｶﾞﾅ",{"$f":"②選手情報入力!$E$35","v":0},null,null,null,null,"加入団体名",null,{"$f":"①団体情報入力!$D$5","v":0}]
[{"$f":"IF(②選手情報入力!$B$35=\"\",\"\",②選手情報入力!$B$35)","v":""},null,"氏 名",{"$f":"②選手情報入力!$D$35","v":0},null,null,null,null,null,null,null,null,null,null,null,null,{"$f":"IF(②選手情報入力!$B$35=\"\",\"\",②選手情報入力!$B$35)","v":""},null,"氏 名",{"$f":"②選手情報入力!$D$35","v":0}]
["参加資格",null,"①総得点",null,{"$f":"②選手情報入力!$J$35","v":0},null,"点","②高校総体",null,null,null,"位",null,"点",null,null,"参加資格",null,"①総得点",null,{"$f":"②選手情報入力!$J$35","v":0},null,"点","②高校総体",null,null,null,"位",null,"点"]
[null,null,"大  会  名",null,null,null,null,"年  月  日",null,null,"場     所",null,null,null,null,null,null,null,"大  会  名",null,null,null,null,"年  月  日",null,null,"場     所"]
[]
["③ベスト　３ 種 目　合計得点",null,"種　目",null,"大会名",null,null,"年  月  日",null,"記　録",null,"得点",null,null,null,null,"③ベスト　３ 種 目　合計得点",null,"種　目",null,"大会名",null,null,"年  月  日",null,"記　録",null,"得点"]
[]
[]
[]
["1850点以上",null,null,null,null,null,null,"合　計　得　点",null,null,null,null,null,null,null,null,"1750点以上",null,null,null,null,null,null,"合　計　得　点"]
["走高跳･棒高跳のＡ・Ｂ区分",null,null,null,null,null,"走 高 跳",null,null,null,"棒 高 跳",null,null,null,null,null,"走高跳のＡ・Ｂ区分",null,null,null,null,"走 高 跳"]
[]
["※記載等に不備・不正があり、審査の結果で返却した場合、再受付はしない。",null,null,null,null,null,null,null,null,null,null,null,null,null,null,null,"※記載等に不備・不正があり、審査の結果で返却した場合、再受付はしない。"]
["※申込締切期日に遅れた場合は、受付けない。",null,null,null,null,null,null,null,null,null,null,null,null,null,null,null,"※申込締切期日に遅れた場合は、受付けない。"]
["十種競技　個人申込票　(男子)",null,null,null,null,null,null,null,null,null,null,null,null,null,null,null,"七種競技　個人申込票　(女子）"]
[null,null,null,null,null,null,null,null,null,null,null,"資格審査用",null,null,null,null,null,null,null,null,null,null,null,null,null,null,"資格審査用"]
["ﾅ ﾝ ﾊﾞ ｰ",null,"ﾌ ﾘ ｶﾞﾅ",{"$f":"②選手情報入力!$E$36","v":0},null,null,null,null,"加入団体名",null,{"$f":"①団体情報入力!$D$5","v":0},null,null,null,null,null,"ﾅ ﾝ ﾊﾞ ｰ",null,"ﾌ ﾘ ｶﾞﾅ",{"$f":"②選手情報入力!$E$36","v":0},null,null,null,null,"加入団体名",null,{"$f":"①団体情報入力!$D$5","v":0}]
[{"$f":"IF(②選手情報入力!$B$36=\"\",\"\",②選手情報入力!$B$36)","v":""},null,"氏 名",{"$f":"②選手情報入力!$D$36","v":0},null,null,null,null,null,null,null,null,null,null,null,null,{"$f":"IF(②選手情報入力!$B$36=\"\",\"\",②選手情報入力!$B$36)","v":""},null,"氏 名",{"$f":"②選手情報入力!$D$36","v":0}]
["参加資格",null,"①総得点",null,{"$f":"②選手情報入力!$J$36","v":0},null,"点","②高校総体",null,null,null,"位",null,"点",null,null,"参加資格",null,"①総得点",null,{"$f":"②選手情報入力!$J$36","v":0},null,"点","②高校総体",null,null,null,"位",null,"点"]
[null,null,"大  会  名",null,null,null,null,"年  月  日",null,null,"場     所",null,null,null,null,null,null,null,"大  会  名",null,null,null,null,"年  月  日",null,null,"場     所"]
[]
["③ベスト　３ 種 目　合計得点",null,"種　目",null,"大会名",null,null,"年  月  日",null,"記　録",null,"得点",null,null,null,null,"③ベスト　３ 種 目　合計得点",null,"種　目",null,"大会名",null,null,"年  月  日",null,"記　録",null,"得点"]
[]
[]
[]
["1850点以上",null,null,null,null,null,null,"合　計　得　点",null,null,null,null,null,null,null,null,"1750点以上",null,null,null,null,null,null,"合　計　得　点"]
["走高跳･棒高跳のＡ・Ｂ区分",null,null,null,null,null,"走 高 跳",null,null,null,"棒 高 跳",null,null,null,null,null,"走高跳のＡ・Ｂ区分",null,null,null,null,"走 高 跳"]
[]
["※記載等に不備・不正があり、審査の結果で返却した場合、再受付はしない。",null,null,null,null,null,null,null,null,null,null,null,null,null,null,null,"※記載等に不備・不正があり、審査の結果で返却した場合、再受付はしない。"]
["※申込締切期日に遅れた場合は、受付けない。",null,null,null,null,null,null,null,null,null,null,null,null,null,null,null,"※申込締切期日に遅れた場合は、受付けない。"]
[]
["十種競技　個人申込票　(男子)",null,null,null,null,null,null,null,null,null,null,null,null,null,null,null,"七種競技　個人申込票　(女子）"]
[null,null,null,null,null,null,null,null,null,null,null,"資格審査用",null,null,null,null,null,null,null,null,null,null,null,null,null,null,"資格審査用"]
["ﾅ ﾝ ﾊﾞ ｰ",null,"ﾌ ﾘ ｶﾞﾅ",{"$f":"②選手情報入力!$E$37","v":0},null,null,null,null,"加入団体名",null,{"$f":"①団体情報入力!$D$5","v":0},null,null,null,null,null,"ﾅ ﾝ ﾊﾞ ｰ",null,"ﾌ ﾘ ｶﾞﾅ",{"$f":"②選手情報入力!$E$37","v":0},null,null,null,null,"加入団体名",null,{"$f":"①団体情報入力!$D$5","v":0}]
[{"$f":"IF(②選手情報入力!$B$37=\"\",\"\",②選手情報入力!$B$37)","v":""},null,"氏 名",{"$f":"②選手情報入力!$D$37","v":0},null,null,null,null,null,null,null,null,null,null,null,null,{"$f":"IF(②選手情報入力!$B$37=\"\",\"\",②選手情報入力!$B$37)","v":""},null,"氏 名",{"$f":"②選手情報入力!$D$37","v":0}]
["参加資格",null,"①総得点",null,{"$f":"②選手情報入力!$J$37","v":0},null,"点","②高校総体",null,null,null,"位",null,"点",null,null,"参加資格",null,"①総得点",null,{"$f":"②選手情報入力!$J$37","v":0},null,"点","②高校総体",null,null,null,"位",null,"点"]
[null,null,"大  会  名",null,null,null,null,"年  月  日",null,null,"場     所",null,null,null,null,null,null,null,"大  会  名",null,null,null,null,"年  月  日",null,null,"場     所"]
[]
["③ベスト　３ 種 目　合計得点",null,"種　目",null,"大会名",null,null,"年  月  日",null,"記　録",null,"得点",null,null,null,null,"③ベスト　３ 種 目　合計得点",null,"種　目",null,"大会名",null,null,"年  月  日",null,"記　録",null,"得点"]
[]
[]
[]
["1850点以上",null,null,null,null,null,null,"合　計　得　点",null,null,null,null,null,null,null,null,"1750点以上",null,null,null,null,null,null,"合　計　得　点"]
["走高跳･棒高跳のＡ・Ｂ区分",null,null,null,null,null,"走 高 跳",null,null,null,"棒 高 跳",null,null,null,null,null,"走高跳のＡ・Ｂ区分",null,null,null,null,"走 高 跳"]
[]
["※記載等に不備・不正があり、審査の結果で返却した場合、再受付はしない。",null,null,null,null,null,null,null,null,null,null,null,null,null,null,null,"※記載等に不備・不正があり、審査の結果で返却した場合、再受付はしない。"]
["※申込締切期日に遅れた場合は、受付けない。",null,null,null,null,null,null,null,null,null,null,null,null,null,null,null,"※申込締切期日に遅れた場合は、受付けない。"]
["十種競技　個人申込票　(男子)",null,null,null,null,null,null,null,null,null,null,null,null,null,null,null,"七種競技　個人申込票　(女子）"]
[null,null,null,null,null,null,null,null,null,null,null,"資格審査用",null,null,null,null,null,null,null,null,null,null,null,null,null,null,"資格審査用"]
["ﾅ ﾝ ﾊﾞ ｰ",null,"ﾌ ﾘ ｶﾞﾅ",{"$f":"②選手情報入力!$E$38","v":0},null,null,null,null,"加入団体名",null,{"$f":"①団体情報入力!$D$5","v":0},null,null,null,null,null,"ﾅ ﾝ ﾊﾞ ｰ",null,"ﾌ ﾘ ｶﾞﾅ",{"$f":"②選手情報入力!$E$38","v":0},null,null,null,null,"加入団体名",null,{"$f":"①団体情報入力!$D$5","v":0}]
[{"$f":"IF(②選手情報入力!$B$38=\"\",\"\",②選手情報入力!$B$38)","v":""},null,"氏 名",{"$f":"②選手情報入力!$D$38","v":0},null,null,null,null,null,null,null,null,null,null,null,null,{"$f":"IF(②選手情報入力!$B$38=\"\",\"\",②選手情報入力!$B$38)","v":""},null,"氏 名",{"$f":"②選手情報入力!$D$38","v":0}]
["参加資格",null,"①総得点",null,{"$f":"②選手情報入力!$J$38","v":0},null,"点","②高校総体",null,null,null,"位",null,"点",null,null,"参加資格",null,"①総得点",null,{"$f":"②選手情報入力!$J$38","v":0},null,"点","②高校総体",null,null,null,"位",null,"点"]
[null,null,"大  会  名",null,null,null,null,"年  月  日",null,null,"場     所",null,null,null,null,null,null,null,"大  会  名",null,null,null,null,"年  月  日",null,null,"場     所"]
[]
["③ベスト　３ 種 目　合計得点",null,"種　目",null,"大会名",null,null,"年  月  日",null,"記　録",null,"得点",null,null,null,null,"③ベスト　３ 種 目　合計得点",null,"種　目",null,"大会名",null,null,"年  月  日",null,"記　録",null,"得点"]
[]
[]
[]
["1850点以上",null,null,null,null,null,null,"合　計　得　点",null,null,null,null,null,null,null,null,"1750点以上",null,null,null,null,null,null,"合　計　得　点"]
["走高跳･棒高跳のＡ・Ｂ区分",null,null,null,null,null,"走 高 跳",null,null,null,"棒 高 跳",null,null,null,null,null,"走高跳のＡ・Ｂ区分",null,null,null,null,"走 高 跳"]
[]
["※記載等に不備・不正があり、審査の結果で返却した場合、再受付はしない。",null,null,null,null,null,null,null,null,null,null,null,null,null,null,null,"※記載等に不備・不正があり、審査の結果で返却した場合、再受付はしない。"]
["※申込締切期日に遅れた場合は、受付けない。",null,null,null,null,null,null,null,null,null,null,null,null,null,null,null,"※申込締切期日に遅れた場合は、受付けない。"]
[]
["十種競技　個人申込票　(男子)",null,null,null,null,null,null,null,null,null,null,null,null,null,null,null,"七種競技　個人申込票　(女子）"]
[null,null,null,null,null,null,null,null,null,null,null,"資格審査用",null,null,null,null,null,null,null,null,null,null,null,null,null,null,"資格審査用"]
["ﾅ ﾝ ﾊﾞ ｰ",null,"ﾌ ﾘ ｶﾞﾅ",{"$f":"②選手情報入力!$E$39","v":0},null,null,null,null,"加入団体名",null,{"$f":"①団体情報入力!$D$5","v":0},null,null,null,null,null,"ﾅ ﾝ ﾊﾞ ｰ",null,"ﾌ ﾘ ｶﾞﾅ",{"$f":"②選手情報入力!$E$39","v":0},null,null,null,null,"加入団体名",null,{"$f":"①団体情報入力!$D$5","v":0}]
[{"$f":"IF(②選手情報入力!$B$39=\"\",\"\",②選手情報入力!$B$39)","v":""},null,"氏 名",{"$f":"②選手情報入力!$D$39","v":0},null,null,null,null,null,null,null,null,null,null,null,null,{"$f":"IF(②選手情報入力!$B$39=\"\",\"\",②選手情報入力!$B$39)","v":""},null,"氏 名",{"$f":"②選手情報入力!$D$39","v":0}]
["参加資格",null,"①総得点",null,{"$f":"②選手情報入力!$J$39","v":0},null,"点","②高校総体",null,null,null,"位",null,"点",null,null,"参加資格",null,"①総得点",null,{"$f":"②選手情報入力!$J$39","v":0},null,"点","②高校総体",null,null,null,"位",null,"点"]
[null,null,"大  会  名",null,null,null,null,"年  月  日",null,null,"場     所",null,null,null,null,null,null,null,"大  会  名",null,null,null,null,"年  月  日",null,null,"場     所"]
[]
["③ベスト　３ 種 目　合計得点",null,"種　目",null,"大会名",null,null,"年  月  日",null,"記　録",null,"得点",null,null,null,null,"③ベスト　３ 種 目　合計得点",null,"種　目",null,"大会名",null,null,"年  月  日",null,"記　録",null,"得点"]
[]
[]
[]
["1850点以上",null,null,null,null,null,null,"合　計　得　点",null,null,null,null,null,null,null,null,"1750点以上",null,null,null,null,null,null,"合　計　得　点"]
["走高跳･棒高跳のＡ・Ｂ区分",null,null,null,null,null,"走 高 跳",null,null,null,"棒 高 跳",null,null,null,null,null,"走高跳のＡ・Ｂ区分",null,null,null,null,"走 高 跳"]
[]
["※記載等に不備・不正があり、審査の結果で返却した場合、再受付はしない。",null,null,null,null,null,null,null,null,null,null,null,null,null,null,null,"※記載等に不備・不正があり、審査の結果で返却した場合、再受付はしない。"]
["※申込締切期日に遅れた場合は、受付けない。",null,null,null,null,null,null,null,null,null,null,null,null,null,null,null,"※申込締切期日に遅れた場合は、受付けない。"]
["十種競技　個人申込票　(男子)",null,null,null,null,null,null,null,null,null,null,null,null,null,null,null,"七種競技　個人申込票　(女子）"]
[null,null,null,null,null,null,null,null,null,null,null,"資格審査用",null,null,null,null,null,null,null,null,null,null,null,null,null,null,"資格審査用"]
["ﾅ ﾝ ﾊﾞ ｰ",null,"ﾌ ﾘ ｶﾞﾅ",{"$f":"②選手情報入力!$E$40","v":0},null,null,null,null,"加入団体名",null,{"$f":"①団体情報入力!$D$5","v":0},null,null,null,null,null,"ﾅ ﾝ ﾊﾞ ｰ",null,"ﾌ ﾘ ｶﾞﾅ",{"$f":"②選手情報入力!$E$40","v":0},null,null,null,null,"加入団体名",null,{"$f":"①団体情報入力!$D$5","v":0}]
[{"$f":"IF(②選手情報入力!$B$40=\"\",\"\",②選手情報入力!$B$40)","v":""},null,"氏 名",{"$f":"②選手情報入力!$D$40","v":0},null,null,null,null,null,null,null,null,null,null,null,null,{"$f":"IF(②選手情報入力!$B$40=\"\",\"\",②選手情報入力!$B$40)","v":""},null,"氏 名",{"$f":"②選手情報入力!$D$40","v":0}]
["参加資格",null,"①総得点",null,{"$f":"②選手情報入力!$J$40","v":0},null,"点","②高校総体",null,null,null,"位",null,"点",null,null,"参加資格",null,"①総得点",null,{"$f":"②選手情報入力!$J$40","v":0},null,"点","②高校総体",null,null,null,"位",null,"点"]
[null,null,"大  会  名",null,null,null,null,"年  月  日",null,null,"場     所",null,null,null,null,null,null,null,"大  会  名",null,null,null,null,"年  月  日",null,null,"場     所"]
[]
["③ベスト　３ 種 目　合計得点",null,"種　目",null,"大会名",null,null,"年  月  日",null,"記　録",null,"得点",null,null,null,null,"③ベスト　３ 種 目　合計得点",null,"種　目",null,"大会名",null,null,"年  月  日",null,"記　録",null,"得点"]
[]
[]
[]
["1850点以上",null,null,null,null,null,null,"合　計　得　点",null,null,null,null,null,null,null,null,"1750点以上",null,null,null,null,null,null,"合　計　得　点"]
["走高跳･棒高跳のＡ・Ｂ区分",null,null,null,null,null,"走 高 跳",null,null,null,"棒 高 跳",null,null,null,null,null,"走高跳のＡ・Ｂ区分",null,null,null,null,"走 高 跳"]
[]
["※記載等に不備・不正があり、審査の結果で返却した場合、再受付はしない。",null,null,null,null,null,null,null,null,null,null,null,null,null,null,null,"※記載等に不備・不正があり、審査の結果で返却した場合、再受付はしない。"]
["※申込締切期日に遅れた場合は、受付けない。",null,null,null,null,null,null,null,null,null,null,null,null,null,null,null,"※申込締切期日に遅れた場合は、受付けない。"]
[]
["十種競技　個人申込票　(男子)",null,null,null,null,null,null,null,null,null,null,null,null,null,null,null,"七種競技　個人申込票　(女子）"]
[null,null,null,null,null,null,null,null,null,null,null,"資格審査用",null,null,null,null,null,null,null,null,null,null,null,null,null,null,"資格審査用"]
["ﾅ ﾝ ﾊﾞ ｰ",null,"ﾌ ﾘ ｶﾞﾅ",{"$f":"②選手情報入力!$E$41","v":0},null,null,null,null,"加入団体名",null,{"$f":"①団体情報入力!$D$5","v":0},null,null,null,null,null,"ﾅ ﾝ ﾊﾞ ｰ",null,"ﾌ ﾘ ｶﾞﾅ",{"$f":"②選手情報入力!$E$41","v":0},null,null,null,null,"加入団体名",null,{"$f":"①団体情報入力!$D$5","v":0}]
[{"$f":"IF(②選手情報入力!$B$41=\"\",\"\",②選手情報入力!$B$41)","v":""},null,"氏 名",{"$f":"②選手情報入力!$D$41","v":0},null,null,null,null,null,null,null,null,null,null,null,null,{"$f":"IF(②選手情報入力!$B$41=\"\",\"\",②選手情報入力!$B$41)","v":""},null,"氏 名",{"$f":"②選手情報入力!$D$41","v":0}]
["参加資格",null,"①総得点",null,{"$f":"②選手情報入力!$J$41","v":0},null,"点","②高校総体",null,null,null,"位",null,"点",null,null,"参加資格",null,"①総得点",null,{"$f":"②選手情報入力!$J$41","v":0},null,"点","②高校総体",null,null,null,"位",null,"点"]
[null,null,"大  会  名",null,null,null,null,"年  月  日",null,null,"場     所",null,null,null,null,null,null,null,"大  会  名",null,null,null,null,"年  月  日",null,null,"場     所"]
[]
["③ベスト　３ 種 目　合計得点",null,"種　目",null,"大会名",null,null,"年  月  日",null,"記　録",null,"得点",null,null,null,null,"③ベスト　３ 種 目　合計得点",null,"種　目",null,"大会名",null,null,"年  月  日",null,"記　録",null,"得点"]
[]
[]
[]
["1850点以上",null,null,null,null,null,null,"合　計　得　点",null,null,null,null,null,null,null,null,"1750点以上",null,null,null,null,null,null,"合　計　得　点"]
["走高跳･棒高跳のＡ・Ｂ区分",null,null,null,null,null,"走 高 跳",null,null,null,"棒 高 跳",null,null,null,null,null,"走高跳のＡ・Ｂ区分",null,null,null,null,"走 高 跳"]
[]
["※記載等に不備・不正があり、審査の結果で返却した場合、再受付はしない。",null,null,null,null,null,null,null,null,null,null,null,null,null,null,null,"※記載等に不備・不正があり、審査の結果で返却した場合、再受付はしない。"]
["※申込締切期日に遅れた場合は、受付けない。",null,null,null,null,null,null,null,null,null,null,null,null,null,null,null,"※申込締切期日に遅れた場合は、受付けない。"]
[]
["十種競技　個人申込票　(男子)",null,null,null,null,null,null,null,null,null,null,null,null,null,null,null,"七種競技　個人申込票　(女子）"]
[null,null,null,null,null,null,null,null,null,null,null,"資格審査用",null,null,null,null,null,null,null,null,null,null,null,null,null,null,"資格審査用"]
["ﾅ ﾝ ﾊﾞ ｰ",null,"ﾌ ﾘ ｶﾞﾅ",{"$f":"②選手情報入力!$E$42","v":0},null,null,null,null,"加入団体名",null,{"$f":"①団体情報入力!$D$5","v":0},null,null,null,null,null,"ﾅ ﾝ ﾊﾞ ｰ",null,"ﾌ ﾘ ｶﾞﾅ",{"$f":"②選手情報入力!$E$42","v":0},null,null,null,null,"加入団体名",null,{"$f":"①団体情報入力!$D$5","v":0}]
[{"$f":"IF(②選手情報入力!$B$42=\"\",\"\",②選手情報入力!$B$42)","v":""},null,"氏 名",{"$f":"②選手情報入力!$D$42","v":0},null,null,null,null,null,null,null,null,null,null,null,null,{"$f":"IF(②選手情報入力!$B$42=\"\",\"\",②選手情報入力!$B$42)","v":""},null,"氏 名",{"$f":"②選手情報入力!$D$42","v":0}]
["参加資格",null,"①総得点",null,{"$f":"②選手情報入力!$J$42","v":0},null,"点","②高校総体",null,null,null,"位",null,"点",null,null,"参加資格",null,"①総得点",null,{"$f":"②選手情報入力!$J$42","v":0},null,"点","②高校総体",null,null,null,"位",null,"点"]
[null,null,"大  会  名",null,null,null,null,"年  月  日",null,null,"場     所",null,null,null,null,null,null,null,"大  会  名",null,null,null,null,"年  月  日",null,null,"場     所"]
[]
["③ベスト　３ 種 目　合計得点",null,"種　目",null,"大会名",null,null,"年  月  日",null,"記　録",null,"得点",null,null,null,null,"③ベスト　３ 種 目　合計得点",null,"種　目",null,"大会名",null,null,"年  月  日",null,"記　録",null,"得点"]
[]
[]
[]
["1850点以上",null,null,null,null,null,null,"合　計　得　点",null,null,null,null,null,null,null,null,"1750点以上",null,null,null,null,null,null,"合　計　得　点"]
["走高跳･棒高跳のＡ・Ｂ区分",null,null,null,null,null,"走 高 跳",null,null,null,"棒 高 跳",null,null,null,null,null,"走高跳のＡ・Ｂ区分",null,null,null,null,"走 高 跳"]
[]
["※記載等に不備・不正があり、審査の結果で返却した場合、再受付はしない。",null,null,null,null,null,null,null,null,null,null,null,null,null,null,null,"※記載等に不備・不正があり、審査の結果で返却した場合、再受付はしない。"]
["※申込締切期日に遅れた場合は、受付けない。",null,null,null,null,null,null,null,null,null,null,null,null,null,null,null,"※申込締切期日に遅れた場合は、受付けない。"]
[]
["十種競技　個人申込票　(男子)",null,null,null,null,null,null,null,null,null,null,null,null,null,null,null,"七種競技　個人申込票　(女子）"]
[null,null,null,null,null,null,null,null,null,null,null,"資格審査用",null,null,null,null,null,null,null,null,null,null,null,null,null,null,"資格審査用"]
["ﾅ ﾝ ﾊﾞ ｰ",null,"ﾌ ﾘ ｶﾞﾅ",{"$f":"②選手情報入力!$E$43","v":0},null,null,null,null,"加入団体名",null,{"$f":"①団体情報入力!$D$5","v":0},null,null,null,null,null,"ﾅ ﾝ ﾊﾞ ｰ",null,"ﾌ ﾘ ｶﾞﾅ",{"$f":"②選手情報入力!$E$43","v":0},null,null,null,null,"加入団体名",null,{"$f":"①団体情報入力!$D$5","v":0}]
[{"$f":"IF(②選手情報入力!$B$43=\"\",\"\",②選手情報入力!$B$43)","v":""},null,"氏 名",{"$f":"②選手情報入力!$D$43","v":0},null,null,null,null,null,null,null,null,null,null,null,null,{"$f":"IF(②選手情報入力!$B$43=\"\",\"\",②選手情報入力!$B$43)","v":""},null,"氏 名",{"$f":"②選手情報入力!$D$43","v":0}]
["参加資格",null,"①総得点",null,{"$f":"②選手情報入力!$J$43","v":0},null,"点","②高校総体",null,null,null,"位",null,"点",null,null,"参加資格",null,"①総得点",null,{"$f":"②選手情報入力!$J$43","v":0},null,"点","②高校総体",null,null,null,"位",null,"点"]
[null,null,"大  会  名",null,null,null,null,"年  月  日",null,null,"場     所",null,null,null,null,null,null,null,"大  会  名",null,null,null,null,"年  月  日",null,null,"場     所"]
[]
["③ベスト　３ 種 目　合計得点",null,"種　目",null,"大会名",null,null,"年  月  日",null,"記　録",null,"得点",null,null,null,null,"③ベスト　３ 種 目　合計得点",null,"種　目",null,"大会名",null,null,"年  月  日",null,"記　録",null,"得点"]
[]
[]
[]
["1850点以上",null,null,null,null,null,null,"合　計　得　点",null,null,null,null,null,null,null,null,"1750点以上",null,null,null,null,null,null,"合　計　得　点"]
["走高跳･棒高跳のＡ・Ｂ区分",null,null,null,null,null,"走 高 跳",null,null,null,"棒 高 跳",null,null,null,null,null,"走高跳のＡ・Ｂ区分",null,null,null,null,"走 高 跳"]
[]
["※記載等に不備・不正があり、審査の結果で返却した場合、再受付はしない。",null,null,null,null,null,null,null,null,null,null,null,null,null,null,null,"※記載等に不備・不正があり、審査の結果で返却した場合、再受付はしない。"]
["※申込締切期日に遅れた場合は、受付けない。",null,null,null,null,null,null,null,null,null,null,null,null,null,null,null,"※申込締切期日に遅れた場合は、受付けない。"]
["十種競技　個人申込票　(男子)",null,null,null,null,null,null,null,null,null,null,null,null,null,null,null,"七種競技　個人申込票　(女子）"]
[null,null,null,null,null,null,null,null,null,null,null,"資格審査用",null,null,null,null,null,null,null,null,null,null,null,null,null,null,"資格審査用"]
["ﾅ ﾝ ﾊﾞ ｰ",null,"ﾌ ﾘ ｶﾞﾅ",{"$f":"②選手情報入力!$E$44","v":0},null,null,null,null,"加入団体名",null,{"$f":"①団体情報入力!$D$5","v":0},null,null,null,null,null,"ﾅ ﾝ ﾊﾞ ｰ",null,"ﾌ ﾘ ｶﾞﾅ",{"$f":"②選手情報入力!$E$44","v":0},null,null,null,null,"加入団体名",null,{"$f":"①団体情報入力!$D$5","v":0}]
[{"$f":"IF(②選手情報入力!$B$44=\"\",\"\",②選手情報入力!$B$44)","v":""},null,"氏 名",{"$f":"②選手情報入力!$D$44","v":0},null,null,null,null,null,null,null,null,null,null,null,null,{"$f":"IF(②選手情報入力!$B$44=\"\",\"\",②選手情報入力!$B$44)","v":""},null,"氏 名",{"$f":"②選手情報入力!$D$44","v":0}]
["参加資格",null,"①総得点",null,{"$f":"②選手情報入力!$J$44","v":0},null,"点","②高校総体",null,null,null,"位",null,"点",null,null,"参加資格",null,"①総得点",null,{"$f":"②選手情報入力!$J$44","v":0},null,"点","②高校総体",null,null,null,"位",null,"点"]
[null,null,"大  会  名",null,null,null,null,"年  月  日",null,null,"場     所",null,null,null,null,null,null,null,"大  会  名",null,null,null,null,"年  月  日",null,null,"場     所"]
[]
["③ベスト　３ 種 目　合計得点",null,"種　目",null,"大会名",null,null,"年  月  日",null,"記　録",null,"得点",null,null,null,null,"③ベスト　３ 種 目　合計得点",null,"種　目",null,"大会名",null,null,"年  月  日",null,"記　録",null,"得点"]
[]
[]
[]
["1850点以上",null,null,null,null,null,null,"合　計　得　点",null,null,null,null,null,null,null,null,"1750点以上",null,null,null,null,null,null,"合　計　得　点"]
["走高跳･棒高跳のＡ・Ｂ区分",null,null,null,null,null,"走 高 跳",null,null,null,"棒 高 跳",null,null,null,null,null,"走高跳のＡ・Ｂ区分",null,null,null,null,"走 高 跳"]
[]
["※記載等に不備・不正があり、審査の結果で返却した場合、再受付はしない。",null,null,null,null,null,null,null,null,null,null,null,null,null,null,null,"※記載等に不備・不正があり、審査の結果で返却した場合、再受付はしない。"]
["※申込締切期日に遅れた場合は、受付けない。",null,null,null,null,null,null,null,null,null,null,null,null,null,null,null,"※申込締切期日に遅れた場合は、受付けない。"]
[]
["十種競技　個人申込票　(男子)",null,null,null,null,null,null,null,null,null,null,null,null,null,null,null,"七種競技　個人申込票　(女子）"]
[null,null,null,null,null,null,null,null,null,null,null,"資格審査用",null,null,null,null,null,null,null,null,null,null,null,null,null,null,"資格審査用"]
["ﾅ ﾝ ﾊﾞ ｰ",null,"ﾌ ﾘ ｶﾞﾅ",{"$f":"②選手情報入力!$E$45","v":0},null,null,null,null,"加入団体名",null,{"$f":"①団体情報入力!$D$5","v":0},null,null,null,null,null,"ﾅ ﾝ ﾊﾞ ｰ",null,"ﾌ ﾘ ｶﾞﾅ",{"$f":"②選手情報入力!$E$45","v":0},null,null,null,null,"加入団体名",null,{"$f":"①団体情報入力!$D$5","v":0}]
[{"$f":"IF(②選手情報入力!$B$45=\"\",\"\",②選手情報入力!$B$45)","v":""},null,"氏 名",{"$f":"②選手情報入力!$D$45","v":0},null,null,null,null,null,null,null,null,null,null,null,null,{"$f":"IF(②選手情報入力!$B$45=\"\",\"\",②選手情報入力!$B$45)","v":""},null,"氏 名",{"$f":"②選手情報入力!$D$45","v":0}]
["参加資格",null,"①総得点",null,{"$f":"②選手情報入力!$J$45","v":0},null,"点","②高校総体",null,null,null,"位",null,"点",null,null,"参加資格",null,"①総得点",null,{"$f":"②選手情報入力!$J$45","v":0},null,"点","②高校総体",null,null,null,"位",null,"点"]
[null,null,"大  会  名",null,null,null,null,"年  月  日",null,null,"場     所",null,null,null,null,null,null,null,"大  会  名",null,null,null,null,"年  月  日",null,null,"場     所"]
[]
["③ベスト　３ 種 目　合計得点",null,"種　目",null,"大会名",null,null,"年  月  日",null,"記　録",null,"得点",null,null,null,null,"③ベスト　３ 種 目　合計得点",null,"種　目",null,"大会名",null,null,"年  月  日",null,"記　録",null,"得点"]
[]
[]
[]
["1850点以上",null,null,null,null,null,null,"合　計　得　点",null,null,null,null,null,null,null,null,"1750点以上",null,null,null,null,null,null,"合　計　得　点"]
["走高跳･棒高跳のＡ・Ｂ区分",null,null,null,null,null,"走 高 跳",null,null,null,"棒 高 跳",null,null,null,null,null,"走高跳のＡ・Ｂ区分",null,null,null,null,"走 高 跳"]
[]
["※記載等に不備・不正があり、審査の結果で返却した場合、再受付はしない。",null,null,null,null,null,null,null,null,null,null,null,null,null,null,null,"※記載等に不備・不正があり、審査の結果で返却した場合、再受付はしない。"]
["※申込締切期日に遅れた場合は、受付けない。",null,null,null,null,null,null,null,null,null,null,null,null,null,null,null,"※申込締切期日に遅れた場合は、受付けない。"]
["十種競技　個人申込票　(男子)",null,null,null,null,null,null,null,null,null,null,null,null,null,null,null,"七種競技　個人申込票　(女子）"]
[null,null,null,null,null,null,null,null,null,null,null,"資格審査用",null,null,null,null,null,null,null,null,null,null,null,null,null,null,"資格審査用"]
["ﾅ ﾝ ﾊﾞ ｰ",null,"ﾌ ﾘ ｶﾞﾅ",{"$f":"②選手情報入力!$E$46","v":0},null,null,null,null,"加入団体名",null,{"$f":"①団体情報入力!$D$5","v":0},null,null,null,null,null,"ﾅ ﾝ ﾊﾞ ｰ",null,"ﾌ ﾘ ｶﾞﾅ",{"$f":"②選手情報入力!$E$46","v":0},null,null,null,null,"加入団体名",null,{"$f":"①団体情報入力!$D$5","v":0}]
[{"$f":"IF(②選手情報入力!$B$46=\"\",\"\",②選手情報入力!$B$46)","v":""},null,"氏 名",{"$f":"②選手情報入力!$D$46","v":0},null,null,null,null,null,null,null,null,null,null,null,null,{"$f":"IF(②選手情報入力!$B$46=\"\",\"\",②選手情報入力!$B$46)","v":""},null,"氏 名",{"$f":"②選手情報入力!$D$46","v":0}]
["参加資格",null,"①総得点",null,{"$f":"②選手情報入力!$J$46","v":0},null,"点","②高校総体",null,null,null,"位",null,"点",null,null,"参加資格",null,"①総得点",null,{"$f":"②選手情報入力!$J$46","v":0},null,"点","②高校総体",null,null,null,"位",null,"点"]
[null,null,"大  会  名",null,null,null,null,"年  月  日",null,null,"場     所",null,null,null,null,null,null,null,"大  会  名",null,null,null,null,"年  月  日",null,null,"場     所"]
[]
["③ベスト　３ 種 目　合計得点",null,"種　目",null,"大会名",null,null,"年  月  日",null,"記　録",null,"得点",null,null,null,null,"③ベスト　３ 種 目　合計得点",null,"種　目",null,"大会名",null,null,"年  月  日",null,"記　録",null,"得点"]
[]
[]
[]
["1850点以上",null,null,null,null,null,null,"合　計　得　点",null,null,null,null,null,null,null,null,"1750点以上",null,null,null,null,null,null,"合　計　得　点"]
["走高跳･棒高跳のＡ・Ｂ区分",null,null,null,null,null,"走 高 跳",null,null,null,"棒 高 跳",null,null,null,null,null,"走高跳のＡ・Ｂ区分",null,null,null,null,"走 高 跳"]
[]
["※記載等に不備・不正があり、審査の結果で返却した場合、再受付はしない。",null,null,null,null,null,null,null,null,null,null,null,null,null,null,null,"※記載等に不備・不正があり、審査の結果で返却した場合、再受付はしない。"]
["※申込締切期日に遅れた場合は、受付けない。",null,null,null,null,null,null,null,null,null,null,null,null,null,null,null,"※申込締切期日に遅れた場合は、受付けない。"]
[]
["十種競技　個人申込票　(男子)",null,null,null,null,null,null,null,null,null,null,null,null,null,null,null,"七種競技　個人申込票　(女子）"]
[null,null,null,null,null,null,null,null,null,null,null,"資格審査用",null,null,null,null,null,null,null,null,null,null,null,null,null,null,"資格審査用"]
["ﾅ ﾝ ﾊﾞ ｰ",null,"ﾌ ﾘ ｶﾞﾅ",{"$f":"②選手情報入力!$E$47","v":0},null,null,null,null,"加入団体名",null,{"$f":"①団体情報入力!$D$5","v":0},null,null,null,null,null,"ﾅ ﾝ ﾊﾞ ｰ",null,"ﾌ ﾘ ｶﾞﾅ",{"$f":"②選手情報入力!$E$47","v":0},null,null,null,null,"加入団体名",null,{"$f":"①団体情報入力!$D$5","v":0}]
[{"$f":"IF(②選手情報入力!$B$47=\"\",\"\",②選手情報入力!$B$47)","v":""},null,"氏 名",{"$f":"②選手情報入力!$D$47","v":0},null,null,null,null,null,null,null,null,null,null,null,null,{"$f":"IF(②選手情報入力!$B$47=\"\",\"\",②選手情報入力!$B$47)","v":""},null,"氏 名",{"$f":"②選手情報入力!$D$47","v":0}]
["参加資格",null,"①総得点",null,{"$f":"②選手情報入力!$J$47","v":0},null,"点","②高校総体",null,null,null,"位",null,"点",null,null,"参加資格",null,"①総得点",null,{"$f":"②選手情報入力!$J$47","v":0},null,"点","②高校総体",null,null,null,"位",null,"点"]
[null,null,"大  会  名",null,null,null,null,"年  月  日",null,null,"場     所",null,null,null,null,null,null,null,"大  会  名",null,null,null,null,"年  月  日",null,null,"場     所"]
[]
["③ベスト　３ 種 目　合計得点",null,"種　目",null,"大会名",null,null,"年  月  日",null,"記　録",null,"得点",null,null,null,null,"③ベスト　３ 種 目　合計得点",null,"種　目",null,"大会名",null,null,"年  月  日",null,"記　録",null,"得点"]
[]
[]
[]
["1850点以上",null,null,null,null,null,null,"合　計　得　点",null,null,null,null,null,null,null,null,"1750点以上",null,null,null,null,null,null,"合　計　得　点"]
["走高跳･棒高跳のＡ・Ｂ区分",null,null,null,null,null,"走 高 跳",null,null,null,"棒 高 跳",null,null,null,null,null,"走高跳のＡ・Ｂ区分",null,null,null,null,"走 高 跳"]
[]
["※記載等に不備・不正があり、審査の結果で返却した場合、再受付はしない。",null,null,null,null,null,null,null,null,null,null,null,null,null,null,null,"※記載等に不備・不正があり、審査の結果で返却した場合、再受付はしない。"]
["※申込締切期日に遅れた場合は、受付けない。",null,null,null,null,null,null,null,null,null,null,null,null,null,null,null,"※申込締切期日に遅れた場合は、受付けない。"]
["十種競技　個人申込票　(男子)",null,null,null,null,null,null,null,null,null,null,null,null,null,null,null,"七種競技　個人申込票　(女子）"]
[null,null,null,null,null,null,null,null,null,null,null,"資格審査用",null,null,null,null,null,null,null,null,null,null,null,null,null,null,"資格審査用"]
["ﾅ ﾝ ﾊﾞ ｰ",null,"ﾌ ﾘ ｶﾞﾅ",{"$f":"②選手情報入力!$E$48","v":0},null,null,null,null,"加入団体名",null,{"$f":"①団体情報入力!$D$5","v":0},null,null,null,null,null,"ﾅ ﾝ ﾊﾞ ｰ",null,"ﾌ ﾘ ｶﾞﾅ",{"$f":"②選手情報入力!$E$48","v":0},null,null,null,null,"加入団体名",null,{"$f":"①団体情報入力!$D$5","v":0}]
[{"$f":"IF(②選手情報入力!$B$48=\"\",\"\",②選手情報入力!$B$48)","v":""},null,"氏 名",{"$f":"②選手情報入力!$D$48","v":0},null,null,null,null,null,null,null,null,null,null,null,null,{"$f":"IF(②選手情報入力!$B$48=\"\",\"\",②選手情報入力!$B$48)","v":""},null,"氏 名",{"$f":"②選手情報入力!$D$48","v":0}]
["参加資格",null,"①総得点",null,{"$f":"②選手情報入力!$J$48","v":0},null,"点","②高校総体",null,null,null,"位",null,"点",null,null,"参加資格",null,"①総得点",null,{"$f":"②選手情報入力!$J$48","v":0},null,"点","②高校総体",null,null,null,"位",null,"点"]
[null,null,"大  会  名",null,null,null,null,"年  月  日",null,null,"場     所",null,null,null,null,null,null,null,"大  会  名",null,null,null,null,"年  月  日",null,null,"場     所"]
[]
["③ベスト　３ 種 目　合計得点",null,"種　目",null,"大会名",null,null,"年  月  日",null,"記　録",null,"得点",null,null,null,null,"③ベスト　３ 種 目　合計得点",null,"種　目",null,"大会名",null,null,"年  月  日",null,"記　録",null,"得点"]
[]
[]
[]
["1850点以上",null,null,null,null,null,null,"合　計　得　点",null,null,null,null,null,null,null,null,"1750点以上",null,null,null,null,null,null,"合　計　得　点"]
["走高跳･棒高跳のＡ・Ｂ区分",null,null,null,null,null,"走 高 跳",null,null,null,"棒 高 跳",null,null,null,null,null,"走高跳のＡ・Ｂ区分",null,null,null,null,"走 高 跳"]
[]
["※記載等に不備・不正があり、審査の結果で返却した場合、再受付はしない。",null,null,null,null,null,null,null,null,null,null,null,null,null,null,null,"※記載等に不備・不正があり、審査の結果で返却した場合、再受付はしない。"]
["※申込締切期日に遅れた場合は、受付けない。",null,null,null,null,null,null,null,null,null,null,null,null,null,null,null,"※申込締切期日に遅れた場合は、受付けない。"]
[]
["十種競技　個人申込票　(男子)",null,null,null,null,null,null,null,null,null,null,null,null,null,null,null,"七種競技　個人申込票　(女子）"]
[null,null,null,null,null,null,null,null,null,null,null,"資格審査用",null,null,null,null,null,null,null,null,null,null,null,null,null,null,"資格審査用"]
["ﾅ ﾝ ﾊﾞ ｰ",null,"ﾌ ﾘ ｶﾞﾅ",{"$f":"②選手情報入力!$E$49","v":0},null,null,null,null,"加入団体名",null,{"$f":"①団体情報入力!$D$5","v":0},null,null,null,null,null,"ﾅ ﾝ ﾊﾞ ｰ",null,"ﾌ ﾘ ｶﾞﾅ",{"$f":"②選手情報入力!$E$49","v":0},null,null,null,null,"加入団体名",null,{"$f":"①団体情報入力!$D$5","v":0}]
[{"$f":"IF(②選手情報入力!$B$49=\"\",\"\",②選手情報入力!$B$49)","v":""},null,"氏 名",{"$f":"②選手情報入力!$D$49","v":0},null,null,null,null,null,null,null,null,null,null,null,null,{"$f":"IF(②選手情報入力!$B$49=\"\",\"\",②選手情報入力!$B$49)","v":""},null,"氏 名",{"$f":"②選手情報入力!$D$49","v":0}]
["参加資格",null,"①総得点",null,{"$f":"②選手情報入力!$J$49","v":0},null,"点","②高校総体",null,null,null,"位",null,"点",null,null,"参加資格",null,"①総得点",null,{"$f":"②選手情報入力!$J$49","v":0},null,"点","②高校総体",null,null,null,"位",null,"点"]
[null,null,"大  会  名",null,null,null,null,"年  月  日",null,null,"場     所",null,null,null,null,null,null,null,"大  会  名",null,null,null,null,"年  月  日",null,null,"場     所"]
[]
["③ベスト　３ 種 目　合計得点",null,"種　目",null,"大会名",null,null,"年  月  日",null,"記　録",null,"得点",null,null,null,null,"③ベスト　３ 種 目　合計得点",null,"種　目",null,"大会名",null,null,"年  月  日",null,"記　録",null,"得点"]
[]
[]
[]
["1850点以上",null,null,null,null,null,null,"合　計　得　点",null,null,null,null,null,null,null,null,"1750点以上",null,null,null,null,null,null,"合　計　得　点"]
["走高跳･棒高跳のＡ・Ｂ区分",null,null,null,null,null,"走 高 跳",null,null,null,"棒 高 跳",null,null,null,null,null,"走高跳のＡ・Ｂ区分",null,null,null,null,"走 高 跳"]
[]
["※記載等に不備・不正があり、審査の結果で返却した場合、再受付はしない。",null,null,null,null,null,null,null,null,null,null,null,null,null,null,null,"※記載等に不備・不正があり、審査の結果で返却した場合、再受付はしない。"]
["※申込締切期日に遅れた場合は、受付けない。",null,null,null,null,null,null,null,null,null,null,null,null,null,null,null,"※申込締切期日に遅れた場合は、受付けない。"]

{"sheet":"　　　　　","index":9,"n_rows":0,"n_cols":0,"rows_kept":0,"cut":false,"hidden":false,"merged":[]}

{"sheet":"種目情報","index":10,"n_rows":38,"n_cols":15,"rows_kept":38,"cut":false,"hidden":false,"merged":[[3,12,28,12],[30,12,50,12],[1,13,1,14],[0,0,0,2],[0,4,0,6],[0,8,0,10],[1,0,2,0],[1,4,2,4],[1,8,2,8]]}
["男子",null,null,null,"女子",null,null,null,"リレー"]
["種目","種目","記録",null,"種目","種目","記録",null,"種目","種目","記録",null,null,"一覧表用　種目名"]
[null,"No","FLAG",null,null,"No","FLAG",null,null,"No","FLAG"]
["男子十種競技",26,0,null,"女子七種競技",27,0,null,"男子4X100mR",44,2,null,"男　　　子","男子十種競技","男子十種競技"]
["男子5000m",40,2,null,"女子5000m",42,2,null,"男子4X400mR",45,2,null,null,"男子5000m","男子5000m"]
["男子10000m",41,2,null,"女子10000m",43,2,null,"女子4X100mR",46,2,null,null,"男子10000m","男子10000m"]
[null,null,null,null,null,null,null,null,"女子4X400mR",47,2]
[null,null,null,null,null,null,null,null,null,null,null,null,null,"少年B男子100m","少年B男子100m"]
[null,null,null,null,null,null,null,null,null,null,null,null,null,"少年B男子3000m","少年B男子3000m"]
[null,null,null,null,null,null,null,null,null,null,null,null,null,"少年B男子110mJH(0.991m)","少年B男子110mJH(0.991m)"]
[null,null,null,null,null,null,null,null,null,null,null,null,null,"少年B男子走幅跳","少年B男子走幅跳"]
[null,null,null,null,null,null,null,null,null,null,null,null,null,"少年B男子砲丸投(5.000kg)","少年B男子砲丸投(5.000kg)"]
[]
[]
[]
[]
[]
[]
[]
[]
[]
[]
[]
[]
[]
[]
[]
[]
[]
[]
[null,null,null,null,null,null,null,null,null,null,null,null,"女　　　子","女子七種競技","女子七種競技"]
[null,null,null,null,null,null,null,null,null,null,null,null,null,"女子5000m","女子5000m"]
[null,null,null,null,null,null,null,null,null,null,null,null,null,"女子10000m","女子10000m"]
[]
[null,null,null,null,null,null,null,null,null,null,null,null,null,"少年B女子100m","少年B女子100m"]
[null,null,null,null,null,null,null,null,null,null,null,null,null,"少年B女子1500m","少年B女子1500m"]
[null,null,null,null,null,null,null,null,null,null,null,null,null,"少年B女子100mYH(0.762/8.5m)","少年B女子100mYH(0.762/8.5m)"]
[null,null,null,null,null,null,null,null,null,null,null,null,null,"少年B女子走幅跳","少年B女子走幅跳"]

{"sheet":"data_kyogisha","index":11,"n_rows":41,"n_cols":34,"rows_kept":41,"cut":false,"hidden":false,"merged":[]}
["競技者NO","所属コード1","所属コード2","ナンバー","ナンバー2","競技者名","競技者名カナ","競技者名略称","性別","学年","生年","月日","個人所属地名","陸連コード","参加競技-競技コード1","参加競技-自己記録1","参加競技-オープン参加FLG1","参加競技-記録FLG1","参加競技-競技コード2","参加競技-自己記録2","参加競技-オープン参加FLG2","参加競技-記録FLG2","参加競技-競技コード3","参加競技-自己記録3","参加競技-オープン参加FLG3","参加競技-記録FLG3","参加競技-競技コード4","参加競技-自己記録4","参加競技-オープン参加FLG4","参加競技-記録FLG4","参加競技-競技コード5","参加競技-自己記録5","参加競技-オープン参加FLG5","参加競技-記録FLG5"]
[{"$f":"IF(E2=\"\",\"\",I2*1000000+①団体情報入力!$D$3*1000+②選手情報入力!A11)","v":""},{"$f":"IF(E2=\"\",\"\",①団体情報入力!$D$3)","v":""},null,{"$f":"IF(②選手情報入力!B10=\"\",\"\",②選手情報入力!B10)","v":""},{"$f":"IF(②選手情報入力!C10=\"\",\"\",②選手情報入力!C10)","v":""},{"$f":"IF(E2=\"\",\"\",②選手情報入力!D10)","v":""},{"$f":"IF(E2=\"\",\"\",②選手情報入力!E10)","v":""},{"$f":"IF(E2=\"\",\"\",F2)","v":""},{"$f":"IF(E2=\"\",\"\",IF(②選手情報入力!G10=\"男\",1,2))","v":""},{"$f":"IF(E2=\"\",\"\",IF(②選手情報入力!H10=\"\",\"\",②選手情報入力!H10))","v":""},null,{"$f":"IF(E2=\"\",\"\",0)","v":""},{"$f":"IF(E2=\"\",\"\",\"愛知\")","v":""},null,{"$f":"IF(E2=\"\",\"\",IF(②選手情報入力!I10=\"\",\"\",IF(I2=1,VLOOKUP(②選手情報入力!I10,種目情報!$A$4:$B$232,2,FALSE),VLOOKUP(②選手情報入力!I10,種目情報!$E$4:$F$81,2,FALSE))))","v":""},{"$f":"IF(E2=\"\",\"\",IF(②選手情報入力!K11=\"\",\"\",②選手情報入力!K11))","v":""},{"$f":"IF(E2=\"\",\"\",IF(②選手情報入力!I10=\"\",\"\",0))","v":""},{"$f":"IF(E2=\"\",\"\",IF(②選手情報入力!I10=\"\",\"\",IF(I2=1,VLOOKUP(②選手情報入力!I10,種目情報!$A$4:$C$22,3,FALSE),VLOOKUP(②選手情報入力!I10,種目情報!$E$4:$G$21,3,FALSE))))","v":""},{"$f":"IF(E2=\"\",\"\",IF(②選手情報入力!L10=\"\",\"\",IF(I2=1,VLOOKUP(②選手情報入力!L10,種目情報!$A$5:$B$242,2,FALSE),VLOOKUP(②選手情報入力!L10,種目情報!$E$5:$F$241,2,FALSE))))","v":""},{"$f":"IF(E2=\"\",\"\",IF(②選手情報入力!N11=\"\",\"\",②選手情報入力!N11))","v":""},{"$f":"IF(E2=\"\",\"\",IF(②選手情報入力!L10=\"\",\"\",0))","v":""},{"$f":"IF(E2=\"\",\"\",IF(②選手情報入力!L10=\"\",\"\",IF(I2=1,VLOOKUP(②選手情報入力!L10,種目情報!$A$5:$C$22,3,FALSE),VLOOKUP(②選手情報入力!L10,種目情報!$E$5:$G$21,3,FALSE))))","v":""},null,null,null,null,{"$f":"IF(E2=\"\",\"\",IF(②選手情報入力!P10=\"\",\"\",IF(I2=1,種目情報!$J$4,種目情報!$J$6)))","v":""},{"$f":"IF(E2=\"\",\"\",IF(②選手情報入力!P10=\"\",\"\",IF(I2=1,IF(②選手情報入力!$N$5=\"\",\"\",②選手情報入力!$N$5),IF(②選手情報入力!$N$6=\"\",\"\",②選手情報入力!$N$6))))","v":""},{"$f":"IF(E2=\"\",\"\",IF(②選手情報入力!P10=\"\",\"\",0))","v":""},{"$f":"IF(E2=\"\",\"\",IF(②選手情報入力!P10=\"\",\"\",2))","v":""},{"$f":"IF(E2=\"\",\"\",IF(②選手情報入力!Q10=\"\",\"\",IF(I2=1,種目情報!$J$5,種目情報!$J$7)))","v":""},{"$f":"IF(E2=\"\",\"\",IF(②選手情報入力!Q10=\"\",\"\",IF(I2=1,IF(②選手情報入力!$P$5=\"\",\"\",②選手情報入力!$P$5),IF(②選手情報入力!$P$6=\"\",\"\",②選手情報入力!$P$6))))","v":""},{"$f":"IF(E2=\"\",\"\",IF(②選手情報入力!Q10=\"\",\"\",0))","v":""},{"$f":"IF(E2=\"\",\"\",IF(②選手情報入力!Q10=\"\",\"\",2))","v":""}]
[{"$f":"IF(E3=\"\",\"\",I3*1000000+①団体情報入力!$D$3*1000+②選手情報入力!A12)","v":""},{"$f":"IF(E3=\"\",\"\",①団体情報入力!$D$3)","v":""},null,{"$f":"IF(②選手情報入力!B11=\"\",\"\",②選手情報入力!B11)","v":""},{"$f":"IF(②選手情報入力!C11=\"\",\"\",②選手情報入力!C11)","v":""},{"$f":"IF(E3=\"\",\"\",②選手情報入力!D11)","v":""},{"$f":"IF(E3=\"\",\"\",②選手情報入力!E11)","v":""},{"$f":"IF(E3=\"\",\"\",F3)","v":""},{"$f":"IF(E3=\"\",\"\",IF(②選手情報入力!G11=\"男\",1,2))","v":""},{"$f":"IF(E3=\"\",\"\",IF(②選手情報入力!H11=\"\",\"\",②選手情報入力!H11))","v":""},null,{"$f":"IF(E3=\"\",\"\",0)","v":""},{"$f":"IF(E3=\"\",\"\",\"愛知\")","v":""},null,{"$f":"IF(E3=\"\",\"\",IF(②選手情報入力!I11=\"\",\"\",IF(I3=1,VLOOKUP(②選手情報入力!I11,種目情報!$A$4:$B$232,2,FALSE),VLOOKUP(②選手情報入力!I11,種目情報!$E$4:$F$81,2,FALSE))))","v":""},{"$f":"IF(E3=\"\",\"\",IF(②選手情報入力!K12=\"\",\"\",②選手情報入力!K12))","v":""},{"$f":"IF(E3=\"\",\"\",IF(②選手情報入力!I11=\"\",\"\",0))","v":""},{"$f":"IF(E3=\"\",\"\",IF(②選手情報入力!I11=\"\",\"\",IF(I3=1,VLOOKUP(②選手情報入力!I11,種目情報!$A$4:$C$22,3,FALSE),VLOOKUP(②選手情報入力!I11,種目情報!$E$4:$G$21,3,FALSE))))","v":""},{"$f":"IF(E3=\"\",\"\",IF(②選手情報入力!L11=\"\",\"\",IF(I3=1,VLOOKUP(②選手情報入力!L11,種目情報!$A$5:$B$242,2,FALSE),VLOOKUP(②選手情報入力!L11,種目情報!$E$5:$F$241,2,FALSE))))","v":""},{"$f":"IF(E3=\"\",\"\",IF(②選手情報入力!N12=\"\",\"\",②選手情報入力!N12))","v":""},{"$f":"IF(E3=\"\",\"\",IF(②選手情報入力!L11=\"\",\"\",0))","v":""},{"$f":"IF(E3=\"\",\"\",IF(②選手情報入力!L11=\"\",\"\",IF(I3=1,VLOOKUP(②選手情報入力!L11,種目情報!$A$5:$C$22,3,FALSE),VLOOKUP(②選手情報入力!L11,種目情報!$E$5:$G$21,3,FALSE))))","v":""},null,null,null,null,{"$f":"IF(E3=\"\",\"\",IF(②選手情報入力!P11=\"\",\"\",IF(I3=1,種目情報!$J$4,種目情報!$J$6)))","v":""},{"$f":"IF(E3=\"\",\"\",IF(②選手情報入力!P11=\"\",\"\",IF(I3=1,IF(②選手情報入力!$N$5=\"\",\"\",②選手情報入力!$N$5),IF(②選手情報入力!$N$6=\"\",\"\",②選手情報入力!$N$6))))","v":""},{"$f":"IF(E3=\"\",\"\",IF(②選手情報入力!P11=\"\",\"\",0))","v":""},{"$f":"IF(E3=\"\",\"\",IF(②選手情報入力!P11=\"\",\"\",2))","v":""},{"$f":"IF(E3=\"\",\"\",IF(②選手情報入力!Q11=\"\",\"\",IF(I3=1,種目情報!$J$5,種目情報!$J$7)))","v":""},{"$f":"IF(E3=\"\",\"\",IF(②選手情報入力!Q11=\"\",\"\",IF(I3=1,IF(②選手情報入力!$P$5=\"\",\"\",②選手情報入力!$P$5),IF(②選手情報入力!$P$6=\"\",\"\",②選手情報入力!$P$6))))","v":""},{"$f":"IF(E3=\"\",\"\",IF(②選手情報入力!Q11=\"\",\"\",0))","v":""},{"$f":"IF(E3=\"\",\"\",IF(②選手情報入力!Q11=\"\",\"\",2))","v":""}]
[{"$f":"IF(E4=\"\",\"\",I4*1000000+①団体情報入力!$D$3*1000+②選手情報入力!A13)","v":""},{"$f":"IF(E4=\"\",\"\",①団体情報入力!$D$3)","v":""},null,{"$f":"IF(②選手情報入力!B12=\"\",\"\",②選手情報入力!B12)","v":""},{"$f":"IF(②選手情報入力!C12=\"\",\"\",②選手情報入力!C12)","v":""},{"$f":"IF(E4=\"\",\"\",②選手情報入力!D12)","v":""},{"$f":"IF(E4=\"\",\"\",②選手情報入力!E12)","v":""},"",{"$f":"IF(E4=\"\",\"\",IF(②選手情報入力!G12=\"男\",1,2))","v":""},{"$f":"IF(E4=\"\",\"\",IF(②選手情報入力!H12=\"\",\"\",②選手情報入力!H12))","v":""},null,"","",null,{"$f":"IF(E4=\"\",\"\",IF(②選手情報入力!I12=\"\",\"\",IF(I4=1,VLOOKUP(②選手情報入力!I12,種目情報!$A$4:$B$232,2,FALSE),VLOOKUP(②選手情報入力!I12,種目情報!$E$4:$F$81,2,FALSE))))","v":""},{"$f":"IF(E4=\"\",\"\",IF(②選手情報入力!K13=\"\",\"\",②選手情報入力!K13))","v":""},{"$f":"IF(E4=\"\",\"\",IF(②選手情報入力!I12=\"\",\"\",0))","v":""},{"$f":"IF(E4=\"\",\"\",IF(②選手情報入力!I12=\"\",\"\",IF(I4=1,VLOOKUP(②選手情報入力!I12,種目情報!$A$4:$C$22,3,FALSE),VLOOKUP(②選手情報入力!I12,種目情報!$E$4:$G$21,3,FALSE))))","v":""},{"$f":"IF(E4=\"\",\"\",IF(②選手情報入力!L12=\"\",\"\",IF(I4=1,VLOOKUP(②選手情報入力!L12,種目情報!$A$5:$B$242,2,FALSE),VLOOKUP(②選手情報入力!L12,種目情報!$E$5:$F$241,2,FALSE))))","v":""},{"$f":"IF(E4=\"\",\"\",IF(②選手情報入力!N13=\"\",\"\",②選手情報入力!N13))","v":""},{"$f":"IF(E4=\"\",\"\",IF(②選手情報入力!L12=\"\",\"\",0))","v":""},{"$f":"IF(E4=\"\",\"\",IF(②選手情報入力!L12=\"\",\"\",IF(I4=1,VLOOKUP(②選手情報入力!L12,種目情報!$A$5:$C$22,3,FALSE),VLOOKUP(②選手情報入力!L12,種目情報!$E$5:$G$21,3,FALSE))))","v":""},null,null,null,null,{"$f":"IF(E4=\"\",\"\",IF(②選手情報入力!P12=\"\",\"\",IF(I4=1,種目情報!$J$4,種目情報!$J$6)))","v":""},{"$f":"IF(E4=\"\",\"\",IF(②選手情報入力!P12=\"\",\"\",IF(I4=1,IF(②選手情報入力!$N$5=\"\",\"\",②選手情報入力!$N$5),IF(②選手情報入力!$N$6=\"\",\"\",②選手情報入力!$N$6))))","v":""},{"$f":"IF(E4=\"\",\"\",IF(②選手情報入力!P12=\"\",\"\",0))","v":""},{"$f":"IF(E4=\"\",\"\",IF(②選手情報入力!P12=\"\",\"\",2))","v":""},{"$f":"IF(E4=\"\",\"\",IF(②選手情報入力!Q12=\"\",\"\",IF(I4=1,種目情報!$J$5,種目情報!$J$7)))","v":""},{"$f":"IF(E4=\"\",\"\",IF(②選手情報入力!Q12=\"\",\"\",IF(I4=1,IF(②選手情報入力!$P$5=\"\",\"\",②選手情報入力!$P$5),IF(②選手情報入力!$P$6=\"\",\"\",②選手情報入力!$P$6))))","v":""},{"$f":"IF(E4=\"\",\"\",IF(②選手情報入力!Q12=\"\",\"\",0))","v":""},{"$f":"IF(E4=\"\",\"\",IF(②選手情報入力!Q12=\"\",\"\",2))","v":""}]
[{"$f":"IF(E5=\"\",\"\",I5*1000000+①団体情報入力!$D$3*1000+②選手情報入力!A14)","v":""},{"$f":"IF(E5=\"\",\"\",①団体情報入力!$D$3)","v":""},null,{"$f":"IF(②選手情報入力!B13=\"\",\"\",②選手情報入力!B13)","v":""},{"$f":"IF(②選手情報入力!C13=\"\",\"\",②選手情報入力!C13)","v":""},{"$f":"IF(E5=\"\",\"\",②選手情報入力!D13)","v":""},{"$f":"IF(E5=\"\",\"\",②選手情報入力!E13)","v":""},"",{"$f":"IF(E5=\"\",\"\",IF(②選手情報入力!G13=\"男\",1,2))","v":""},{"$f":"IF(E5=\"\",\"\",IF(②選手情報入力!H13=\"\",\"\",②選手情報入力!H13))","v":""},null,"","",null,{"$f":"IF(E5=\"\",\"\",IF(②選手情報入力!I13=\"\",\"\",IF(I5=1,VLOOKUP(②選手情報入力!I13,種目情報!$A$4:$B$232,2,FALSE),VLOOKUP(②選手情報入力!I13,種目情報!$E$4:$F$81,2,FALSE))))","v":""},{"$f":"IF(E5=\"\",\"\",IF(②選手情報入力!K14=\"\",\"\",②選手情報入力!K14))","v":""},{"$f":"IF(E5=\"\",\"\",IF(②選手情報入力!I13=\"\",\"\",0))","v":""},{"$f":"IF(E5=\"\",\"\",IF(②選手情報入力!I13=\"\",\"\",IF(I5=1,VLOOKUP(②選手情報入力!I13,種目情報!$A$4:$C$22,3,FALSE),VLOOKUP(②選手情報入力!I13,種目情報!$E$4:$G$21,3,FALSE))))","v":""},{"$f":"IF(E5=\"\",\"\",IF(②選手情報入力!L13=\"\",\"\",IF(I5=1,VLOOKUP(②選手情報入力!L13,種目情報!$A$5:$B$242,2,FALSE),VLOOKUP(②選手情報入力!L13,種目情報!$E$5:$F$241,2,FALSE))))","v":""},{"$f":"IF(E5=\"\",\"\",IF(②選手情報入力!N14=\"\",\"\",②選手情報入力!N14))","v":""},{"$f":"IF(E5=\"\",\"\",IF(②選手情報入力!L13=\"\",\"\",0))","v":""},{"$f":"IF(E5=\"\",\"\",IF(②選手情報入力!L13=\"\",\"\",IF(I5=1,VLOOKUP(②選手情報入力!L13,種目情報!$A$5:$C$22,3,FALSE),VLOOKUP(②選手情報入力!L13,種目情報!$E$5:$G$21,3,FALSE))))","v":""},null,null,null,null,{"$f":"IF(E5=\"\",\"\",IF(②選手情報入力!P13=\"\",\"\",IF(I5=1,種目情報!$J$4,種目情報!$J$6)))","v":""},{"$f":"IF(E5=\"\",\"\",IF(②選手情報入力!P13=\"\",\"\",IF(I5=1,IF(②選手情報入力!$N$5=\"\",\"\",②選手情報入力!$N$5),IF(②選手情報入力!$N$6=\"\",\"\",②選手情報入力!$N$6))))","v":""},{"$f":"IF(E5=\"\",\"\",IF(②選手情報入力!P13=\"\",\"\",0))","v":""},{"$f":"IF(E5=\"\",\"\",IF(②選手情報入力!P13=\"\",\"\",2))","v":""},{"$f":"IF(E5=\"\",\"\",IF(②選手情報入力!Q13=\"\",\"\",IF(I5=1,種目情報!$J$5,種目情報!$J$7)))","v":""},{"$f":"IF(E5=\"\",\"\",IF(②選手情報入力!Q13=\"\",\"\",IF(I5=1,IF(②選手情報入力!$P$5=\"\",\"\",②選手情報入力!$P$5),IF(②選手情報入力!$P$6=\"\",\"\",②選手情報入力!$P$6))))","v":""},{"$f":"IF(E5=\"\",\"\",IF(②選手情報入力!Q13=\"\",\"\",0))","v":""},{"$f":"IF(E5=\"\",\"\",IF(②選手情報入力!Q13=\"\",\"\",2))","v":""}]
[{"$f":"IF(E6=\"\",\"\",I6*1000000+①団体情報入力!$D$3*1000+②選手情報入力!A15)","v":""},{"$f":"IF(E6=\"\",\"\",①団体情報入力!$D$3)","v":""},null,{"$f":"IF(②選手情報入力!B14=\"\",\"\",②選手情報入力!B14)","v":""},{"$f":"IF(②選手情報入力!C14=\"\",\"\",②選手情報入力!C14)","v":""},{"$f":"IF(E6=\"\",\"\",②選手情報入力!D14)","v":""},{"$f":"IF(E6=\"\",\"\",②選手情報入力!E14)","v":""},"",{"$f":"IF(E6=\"\",\"\",IF(②選手情報入力!G14=\"男\",1,2))","v":""},{"$f":"IF(E6=\"\",\"\",IF(②選手情報入力!H14=\"\",\"\",②選手情報入力!H14))","v":""},null,"","",null,{"$f":"IF(E6=\"\",\"\",IF(②選手情報入力!I14=\"\",\"\",IF(I6=1,VLOOKUP(②選手情報入力!I14,種目情報!$A$4:$B$232,2,FALSE),VLOOKUP(②選手情報入力!I14,種目情報!$E$4:$F$81,2,FALSE))))","v":""},{"$f":"IF(E6=\"\",\"\",IF(②選手情報入力!K15=\"\",\"\",②選手情報入力!K15))","v":""},{"$f":"IF(E6=\"\",\"\",IF(②選手情報入力!I14=\"\",\"\",0))","v":""},{"$f":"IF(E6=\"\",\"\",IF(②選手情報入力!I14=\"\",\"\",IF(I6=1,VLOOKUP(②選手情報入力!I14,種目情報!$A$4:$C$22,3,FALSE),VLOOKUP(②選手情報入力!I14,種目情報!$E$4:$G$21,3,FALSE))))","v":""},{"$f":"IF(E6=\"\",\"\",IF(②選手情報入力!L14=\"\",\"\",IF(I6=1,VLOOKUP(②選手情報入力!L14,種目情報!$A$5:$B$242,2,FALSE),VLOOKUP(②選手情報入力!L14,種目情報!$E$5:$F$241,2,FALSE))))","v":""},{"$f":"IF(E6=\"\",\"\",IF(②選手情報入力!N15=\"\",\"\",②選手情報入力!N15))","v":""},{"$f":"IF(E6=\"\",\"\",IF(②選手情報入力!L14=\"\",\"\",0))","v":""},{"$f":"IF(E6=\"\",\"\",IF(②選手情報入力!L14=\"\",\"\",IF(I6=1,VLOOKUP(②選手情報入力!L14,種目情報!$A$5:$C$22,3,FALSE),VLOOKUP(②選手情報入力!L14,種目情報!$E$5:$G$21,3,FALSE))))","v":""},null,null,null,null,{"$f":"IF(E6=\"\",\"\",IF(②選手情報入力!P14=\"\",\"\",IF(I6=1,種目情報!$J$4,種目情報!$J$6)))","v":""},{"$f":"IF(E6=\"\",\"\",IF(②選手情報入力!P14=\"\",\"\",IF(I6=1,IF(②選手情報入力!$N$5=\"\",\"\",②選手情報入力!$N$5),IF(②選手情報入力!$N$6=\"\",\"\",②選手情報入力!$N$6))))","v":""},{"$f":"IF(E6=\"\",\"\",IF(②選手情報入力!P14=\"\",\"\",0))","v":""},{"$f":"IF(E6=\"\",\"\",IF(②選手情報入力!P14=\"\",\"\",2))","v":""},{"$f":"IF(E6=\"\",\"\",IF(②選手情報入力!Q14=\"\",\"\",IF(I6=1,種目情報!$J$5,種目情報!$J$7)))","v":""},{"$f":"IF(E6=\"\",\"\",IF(②選手情報入力!Q14=\"\",\"\",IF(I6=1,IF(②選手情報入力!$P$5=\"\",\"\",②選手情報入力!$P$5),IF(②選手情報入力!$P$6=\"\",\"\",②選手情報入力!$P$6))))","v":""},{"$f":"IF(E6=\"\",\"\",IF(②選手情報入力!Q14=\"\",\"\",0))","v":""},{"$f":"IF(E6=\"\",\"\",IF(②選手情報入力!Q14=\"\",\"\",2))","v":""}]
[{"$f":"IF(E7=\"\",\"\",I7*1000000+①団体情報入力!$D$3*1000+②選手情報入力!A16)","v":""},{"$f":"IF(E7=\"\",\"\",①団体情報入力!$D$3)","v":""},null,{"$f":"IF(②選手情報入力!B15=\"\",\"\",②選手情報入力!B15)","v":""},{"$f":"IF(②選手情報入力!C15=\"\",\"\",②選手情報入力!C15)","v":""},{"$f":"IF(E7=\"\",\"\",②選手情報入力!D15)","v":""},{"$f":"IF(E7=\"\",\"\",②選手情報入力!E15)","v":""},"",{"$f":"IF(E7=\"\",\"\",IF(②選手情報入力!G15=\"男\",1,2))","v":""},{"$f":"IF(E7=\"\",\"\",IF(②選手情報入力!H15=\"\",\"\",②選手情報入力!H15))","v":""},null,"","",null,{"$f":"IF(E7=\"\",\"\",IF(②選手情報入力!I15=\"\",\"\",IF(I7=1,VLOOKUP(②選手情報入力!I15,種目情報!$A$4:$B$232,2,FALSE),VLOOKUP(②選手情報入力!I15,種目情報!$E$4:$F$81,2,FALSE))))","v":""},{"$f":"IF(E7=\"\",\"\",IF(②選手情報入力!K16=\"\",\"\",②選手情報入力!K16))","v":""},{"$f":"IF(E7=\"\",\"\",IF(②選手情報入力!I15=\"\",\"\",0))","v":""},{"$f":"IF(E7=\"\",\"\",IF(②選手情報入力!I15=\"\",\"\",IF(I7=1,VLOOKUP(②選手情報入力!I15,種目情報!$A$4:$C$22,3,FALSE),VLOOKUP(②選手情報入力!I15,種目情報!$E$4:$G$21,3,FALSE))))","v":""},{"$f":"IF(E7=\"\",\"\",IF(②選手情報入力!L15=\"\",\"\",IF(I7=1,VLOOKUP(②選手情報入力!L15,種目情報!$A$5:$B$242,2,FALSE),VLOOKUP(②選手情報入力!L15,種目情報!$E$5:$F$241,2,FALSE))))","v":""},{"$f":"IF(E7=\"\",\"\",IF(②選手情報入力!N16=\"\",\"\",②選手情報入力!N16))","v":""},{"$f":"IF(E7=\"\",\"\",IF(②選手情報入力!L15=\"\",\"\",0))","v":""},{"$f":"IF(E7=\"\",\"\",IF(②選手情報入力!L15=\"\",\"\",IF(I7=1,VLOOKUP(②選手情報入力!L15,種目情報!$A$5:$C$22,3,FALSE),VLOOKUP(②選手情報入力!L15,種目情報!$E$5:$G$21,3,FALSE))))","v":""},null,null,null,null,{"$f":"IF(E7=\"\",\"\",IF(②選手情報入力!P15=\"\",\"\",IF(I7=1,種目情報!$J$4,種目情報!$J$6)))","v":""},{"$f":"IF(E7=\"\",\"\",IF(②選手情報入力!P15=\"\",\"\",IF(I7=1,IF(②選手情報入力!$N$5=\"\",\"\",②選手情報入力!$N$5),IF(②選手情報入力!$N$6=\"\",\"\",②選手情報入力!$N$6))))","v":""},{"$f":"IF(E7=\"\",\"\",IF(②選手情報入力!P15=\"\",\"\",0))","v":""},{"$f":"IF(E7=\"\",\"\",IF(②選手情報入力!P15=\"\",\"\",2))","v":""},{"$f":"IF(E7=\"\",\"\",IF(②選手情報入力!Q15=\"\",\"\",IF(I7=1,種目情報!$J$5,種目情報!$J$7)))","v":""},{"$f":"IF(E7=\"\",\"\",IF(②選手情報入力!Q15=\"\",\"\",IF(I7=1,IF(②選手情報入力!$P$5=\"\",\"\",②選手情報入力!$P$5),IF(②選手情報入力!$P$6=\"\",\"\",②選手情報入力!$P$6))))","v":""},{"$f":"IF(E7=\"\",\"\",IF(②選手情報入力!Q15=\"\",\"\",0))","v":""},{"$f":"IF(E7=\"\",\"\",IF(②選手情報入力!Q15=\"\",\"\",2))","v":""}]
[{"$f":"IF(E8=\"\",\"\",I8*1000000+①団体情報入力!$D$3*1000+②選手情報入力!A17)","v":""},{"$f":"IF(E8=\"\",\"\",①団体情報入力!$D$3)","v":""},null,{"$f":"IF(②選手情報入力!B16=\"\",\"\",②選手情報入力!B16)","v":""},{"$f":"IF(②選手情報入力!C16=\"\",\"\",②選手情報入力!C16)","v":""},{"$f":"IF(E8=\"\",\"\",②選手情報入力!D16)","v":""},{"$f":"IF(E8=\"\",\"\",②選手情報入力!E16)","v":""},"",{"$f":"IF(E8=\"\",\"\",IF(②選手情報入力!G16=\"男\",1,2))","v":""},{"$f":"IF(E8=\"\",\"\",IF(②選手情報入力!H16=\"\",\"\",②選手情報入力!H16))","v":""},null,"","",null,{"$f":"IF(E8=\"\",\"\",IF(②選手情報入力!I16=\"\",\"\",IF(I8=1,VLOOKUP(②選手情報入力!I16,種目情報!$A$4:$B$232,2,FALSE),VLOOKUP(②選手情報入力!I16,種目情報!$E$4:$F$81,2,FALSE))))","v":""},{"$f":"IF(E8=\"\",\"\",IF(②選手情報入力!K17=\"\",\"\",②選手情報入力!K17))","v":""},{"$f":"IF(E8=\"\",\"\",IF(②選手情報入力!I16=\"\",\"\",0))","v":""},{"$f":"IF(E8=\"\",\"\",IF(②選手情報入力!I16=\"\",\"\",IF(I8=1,VLOOKUP(②選手情報入力!I16,種目情報!$A$4:$C$22,3,FALSE),VLOOKUP(②選手情報入力!I16,種目情報!$E$4:$G$21,3,FALSE))))","v":""},{"$f":"IF(E8=\"\",\"\",IF(②選手情報入力!L16=\"\",\"\",IF(I8=1,VLOOKUP(②選手情報入力!L16,種目情報!$A$5:$B$242,2,FALSE),VLOOKUP(②選手情報入力!L16,種目情報!$E$5:$F$241,2,FALSE))))","v":""},{"$f":"IF(E8=\"\",\"\",IF(②選手情報入力!N17=\"\",\"\",②選手情報入力!N17))","v":""},{"$f":"IF(E8=\"\",\"\",IF(②選手情報入力!L16=\"\",\"\",0))","v":""},{"$f":"IF(E8=\"\",\"\",IF(②選手情報入力!L16=\"\",\"\",IF(I8=1,VLOOKUP(②選手情報入力!L16,種目情報!$A$5:$C$22,3,FALSE),VLOOKUP(②選手情報入力!L16,種目情報!$E$5:$G$21,3,FALSE))))","v":""},null,null,null,null,{"$f":"IF(E8=\"\",\"\",IF(②選手情報入力!P16=\"\",\"\",IF(I8=1,種目情報!$J$4,種目情報!$J$6)))","v":""},{"$f":"IF(E8=\"\",\"\",IF(②選手情報入力!P16=\"\",\"\",IF(I8=1,IF(②選手情報入力!$N$5=\"\",\"\",②選手情報入力!$N$5),IF(②選手情報入力!$N$6=\"\",\"\",②選手情報入力!$N$6))))","v":""},{"$f":"IF(E8=\"\",\"\",IF(②選手情報入力!P16=\"\",\"\",0))","v":""},{"$f":"IF(E8=\"\",\"\",IF(②選手情報入力!P16=\"\",\"\",2))","v":""},{"$f":"IF(E8=\"\",\"\",IF(②選手情報入力!Q16=\"\",\"\",IF(I8=1,種目情報!$J$5,種目情報!$J$7)))","v":""},{"$f":"IF(E8=\"\",\"\",IF(②選手情報入力!Q16=\"\",\"\",IF(I8=1,IF(②選手情報入力!$P$5=\"\",\"\",②選手情報入力!$P$5),IF(②選手情報入力!$P$6=\"\",\"\",②選手情報入力!$P$6))))","v":""},{"$f":"IF(E8=\"\",\"\",IF(②選手情報入力!Q16=\"\",\"\",0))","v":""},{"$f":"IF(E8=\"\",\"\",IF(②選手情報入力!Q16=\"\",\"\",2))","v":""}]
[{"$f":"IF(E9=\"\",\"\",I9*1000000+①団体情報入力!$D$3*1000+②選手情報入力!A18)","v":""},{"$f":"IF(E9=\"\",\"\",①団体情報入力!$D$3)","v":""},null,{"$f":"IF(②選手情報入力!B17=\"\",\"\",②選手情報入力!B17)","v":""},{"$f":"IF(②選手情報入力!C17=\"\",\"\",②選手情報入力!C17)","v":""},{"$f":"IF(E9=\"\",\"\",②選手情報入力!D17)","v":""},{"$f":"IF(E9=\"\",\"\",②選手情報入力!E17)","v":""},"",{"$f":"IF(E9=\"\",\"\",IF(②選手情報入力!G17=\"男\",1,2))","v":""},{"$f":"IF(E9=\"\",\"\",IF(②選手情報入力!H17=\"\",\"\",②選手情報入力!H17))","v":""},null,"","",null,{"$f":"IF(E9=\"\",\"\",IF(②選手情報入力!I17=\"\",\"\",IF(I9=1,VLOOKUP(②選手情報入力!I17,種目情報!$A$4:$B$232,2,FALSE),VLOOKUP(②選手情報入力!I17,種目情報!$E$4:$F$81,2,FALSE))))","v":""},{"$f":"IF(E9=\"\",\"\",IF(②選手情報入力!K18=\"\",\"\",②選手情報入力!K18))","v":""},{"$f":"IF(E9=\"\",\"\",IF(②選手情報入力!I17=\"\",\"\",0))","v":""},{"$f":"IF(E9=\"\",\"\",IF(②選手情報入力!I17=\"\",\"\",IF(I9=1,VLOOKUP(②選手情報入力!I17,種目情報!$A$4:$C$22,3,FALSE),VLOOKUP(②選手情報入力!I17,種目情報!$E$4:$G$21,3,FALSE))))","v":""},{"$f":"IF(E9=\"\",\"\",IF(②選手情報入力!L17=\"\",\"\",IF(I9=1,VLOOKUP(②選手情報入力!L17,種目情報!$A$5:$B$242,2,FALSE),VLOOKUP(②選手情報入力!L17,種目情報!$E$5:$F$241,2,FALSE))))","v":""},{"$f":"IF(E9=\"\",\"\",IF(②選手情報入力!N18=\"\",\"\",②選手情報入力!N18))","v":""},{"$f":"IF(E9=\"\",\"\",IF(②選手情報入力!L17=\"\",\"\",0))","v":""},{"$f":"IF(E9=\"\",\"\",IF(②選手情報入力!L17=\"\",\"\",IF(I9=1,VLOOKUP(②選手情報入力!L17,種目情報!$A$5:$C$22,3,FALSE),VLOOKUP(②選手情報入力!L17,種目情報!$E$5:$G$21,3,FALSE))))","v":""},null,null,null,null,{"$f":"IF(E9=\"\",\"\",IF(②選手情報入力!P17=\"\",\"\",IF(I9=1,種目情報!$J$4,種目情報!$J$6)))","v":""},{"$f":"IF(E9=\"\",\"\",IF(②選手情報入力!P17=\"\",\"\",IF(I9=1,IF(②選手情報入力!$N$5=\"\",\"\",②選手情報入力!$N$5),IF(②選手情報入力!$N$6=\"\",\"\",②選手情報入力!$N$6))))","v":""},{"$f":"IF(E9=\"\",\"\",IF(②選手情報入力!P17=\"\",\"\",0))","v":""},{"$f":"IF(E9=\"\",\"\",IF(②選手情報入力!P17=\"\",\"\",2))","v":""},{"$f":"IF(E9=\"\",\"\",IF(②選手情報入力!Q17=\"\",\"\",IF(I9=1,種目情報!$J$5,種目情報!$J$7)))","v":""},{"$f":"IF(E9=\"\",\"\",IF(②選手情報入力!Q17=\"\",\"\",IF(I9=1,IF(②選手情報入力!$P$5=\"\",\"\",②選手情報入力!$P$5),IF(②選手情報入力!$P$6=\"\",\"\",②選手情報入力!$P$6))))","v":""},{"$f":"IF(E9=\"\",\"\",IF(②選手情報入力!Q17=\"\",\"\",0))","v":""},{"$f":"IF(E9=\"\",\"\",IF(②選手情報入力!Q17=\"\",\"\",2))","v":""}]
[{"$f":"IF(E10=\"\",\"\",I10*1000000+①団体情報入力!$D$3*1000+②選手情報入力!A19)","v":""},{"$f":"IF(E10=\"\",\"\",①団体情報入力!$D$3)","v":""},null,{"$f":"IF(②選手情報入力!B18=\"\",\"\",②選手情報入力!B18)","v":""},{"$f":"IF(②選手情報入力!C18=\"\",\"\",②選手情報入力!C18)","v":""},{"$f":"IF(E10=\"\",\"\",②選手情報入力!D18)","v":""},{"$f":"IF(E10=\"\",\"\",②選手情報入力!E18)","v":""},"",{"$f":"IF(E10=\"\",\"\",IF(②選手情報入力!G18=\"男\",1,2))","v":""},{"$f":"IF(E10=\"\",\"\",IF(②選手情報入力!H18=\"\",\"\",②選手情報入力!H18))","v":""},null,"","",null,{"$f":"IF(E10=\"\",\"\",IF(②選手情報入力!I18=\"\",\"\",IF(I10=1,VLOOKUP(②選手情報入力!I18,種目情報!$A$4:$B$232,2,FALSE),VLOOKUP(②選手情報入力!I18,種目情報!$E$4:$F$81,2,FALSE))))","v":""},{"$f":"IF(E10=\"\",\"\",IF(②選手情報入力!K19=\"\",\"\",②選手情報入力!K19))","v":""},{"$f":"IF(E10=\"\",\"\",IF(②選手情報入力!I18=\"\",\"\",0))","v":""},{"$f":"IF(E10=\"\",\"\",IF(②選手情報入力!I18=\"\",\"\",IF(I10=1,VLOOKUP(②選手情報入力!I18,種目情報!$A$4:$C$22,3,FALSE),VLOOKUP(②選手情報入力!I18,種目情報!$E$4:$G$21,3,FALSE))))","v":""},{"$f":"IF(E10=\"\",\"\",IF(②選手情報入力!L18=\"\",\"\",IF(I10=1,VLOOKUP(②選手情報入力!L18,種目情報!$A$5:$B$242,2,FALSE),VLOOKUP(②選手情報入力!L18,種目情報!$E$5:$F$241,2,FALSE))))","v":""},{"$f":"IF(E10=\"\",\"\",IF(②選手情報入力!N19=\"\",\"\",②選手情報入力!N19))","v":""},{"$f":"IF(E10=\"\",\"\",IF(②選手情報入力!L18=\"\",\"\",0))","v":""},{"$f":"IF(E10=\"\",\"\",IF(②選手情報入力!L18=\"\",\"\",IF(I10=1,VLOOKUP(②選手情報入力!L18,種目情報!$A$5:$C$22,3,FALSE),VLOOKUP(②選手情報入力!L18,種目情報!$E$5:$G$21,3,FALSE))))","v":""},null,null,null,null,{"$f":"IF(E10=\"\",\"\",IF(②選手情報入力!P18=\"\",\"\",IF(I10=1,種目情報!$J$4,種目情報!$J$6)))","v":""},{"$f":"IF(E10=\"\",\"\",IF(②選手情報入力!P18=\"\",\"\",IF(I10=1,IF(②選手情報入力!$N$5=\"\",\"\",②選手情報入力!$N$5),IF(②選手情報入力!$N$6=\"\",\"\",②選手情報入力!$N$6))))","v":""},{"$f":"IF(E10=\"\",\"\",IF(②選手情報入力!P18=\"\",\"\",0))","v":""},{"$f":"IF(E10=\"\",\"\",IF(②選手情報入力!P18=\"\",\"\",2))","v":""},{"$f":"IF(E10=\"\",\"\",IF(②選手情報入力!Q18=\"\",\"\",IF(I10=1,種目情報!$J$5,種目情報!$J$7)))","v":""},{"$f":"IF(E10=\"\",\"\",IF(②選手情報入力!Q18=\"\",\"\",IF(I10=1,IF(②選手情報入力!$P$5=\"\",\"\",②選手情報入力!$P$5),IF(②選手情報入力!$P$6=\"\",\"\",②選手情報入力!$P$6))))","v":""},{"$f":"IF(E10=\"\",\"\",IF(②選手情報入力!Q18=\"\",\"\",0))","v":""},{"$f":"IF(E10=\"\",\"\",IF(②選手情報入力!Q18=\"\",\"\",2))","v":""}]
[{"$f":"IF(E11=\"\",\"\",I11*1000000+①団体情報入力!$D$3*1000+②選手情報入力!A20)","v":""},{"$f":"IF(E11=\"\",\"\",①団体情報入力!$D$3)","v":""},null,{"$f":"IF(②選手情報入力!B19=\"\",\"\",②選手情報入力!B19)","v":""},{"$f":"IF(②選手情報入力!C19=\"\",\"\",②選手情報入力!C19)","v":""},{"$f":"IF(E11=\"\",\"\",②選手情報入力!D19)","v":""},{"$f":"IF(E11=\"\",\"\",②選手情報入力!E19)","v":""},"",{"$f":"IF(E11=\"\",\"\",IF(②選手情報入力!G19=\"男\",1,2))","v":""},{"$f":"IF(E11=\"\",\"\",IF(②選手情報入力!H19=\"\",\"\",②選手情報入力!H19))","v":""},null,"","",null,{"$f":"IF(E11=\"\",\"\",IF(②選手情報入力!I19=\"\",\"\",IF(I11=1,VLOOKUP(②選手情報入力!I19,種目情報!$A$4:$B$232,2,FALSE),VLOOKUP(②選手情報入力!I19,種目情報!$E$4:$F$81,2,FALSE))))","v":""},{"$f":"IF(E11=\"\",\"\",IF(②選手情報入力!K20=\"\",\"\",②選手情報入力!K20))","v":""},{"$f":"IF(E11=\"\",\"\",IF(②選手情報入力!I19=\"\",\"\",0))","v":""},{"$f":"IF(E11=\"\",\"\",IF(②選手情報入力!I19=\"\",\"\",IF(I11=1,VLOOKUP(②選手情報入力!I19,種目情報!$A$4:$C$22,3,FALSE),VLOOKUP(②選手情報入力!I19,種目情報!$E$4:$G$21,3,FALSE))))","v":""},{"$f":"IF(E11=\"\",\"\",IF(②選手情報入力!L19=\"\",\"\",IF(I11=1,VLOOKUP(②選手情報入力!L19,種目情報!$A$5:$B$242,2,FALSE),VLOOKUP(②選手情報入力!L19,種目情報!$E$5:$F$241,2,FALSE))))","v":""},{"$f":"IF(E11=\"\",\"\",IF(②選手情報入力!N20=\"\",\"\",②選手情報入力!N20))","v":""},{"$f":"IF(E11=\"\",\"\",IF(②選手情報入力!L19=\"\",\"\",0))","v":""},{"$f":"IF(E11=\"\",\"\",IF(②選手情報入力!L19=\"\",\"\",IF(I11=1,VLOOKUP(②選手情報入力!L19,種目情報!$A$5:$C$22,3,FALSE),VLOOKUP(②選手情報入力!L19,種目情報!$E$5:$G$21,3,FALSE))))","v":""},null,null,null,null,{"$f":"IF(E11=\"\",\"\",IF(②選手情報入力!P19=\"\",\"\",IF(I11=1,種目情報!$J$4,種目情報!$J$6)))","v":""},{"$f":"IF(E11=\"\",\"\",IF(②選手情報入力!P19=\"\",\"\",IF(I11=1,IF(②選手情報入力!$N$5=\"\",\"\",②選手情報入力!$N$5),IF(②選手情報入力!$N$6=\"\",\"\",②選手情報入力!$N$6))))","v":""},{"$f":"IF(E11=\"\",\"\",IF(②選手情報入力!P19=\"\",\"\",0))","v":""},{"$f":"IF(E11=\"\",\"\",IF(②選手情報入力!P19=\"\",\"\",2))","v":""},{"$f":"IF(E11=\"\",\"\",IF(②選手情報入力!Q19=\"\",\"\",IF(I11=1,種目情報!$J$5,種目情報!$J$7)))","v":""},{"$f":"IF(E11=\"\",\"\",IF(②選手情報入力!Q19=\"\",\"\",IF(I11=1,IF(②選手情報入力!$P$5=\"\",\"\",②選手情報入力!$P$5),IF(②選手情報入力!$P$6=\"\",\"\",②選手情報入力!$P$6))))","v":""},{"$f":"IF(E11=\"\",\"\",IF(②選手情報入力!Q19=\"\",\"\",0))","v":""},{"$f":"IF(E11=\"\",\"\",IF(②選手情報入力!Q19=\"\",\"\",2))","v":""}]
[{"$f":"IF(E12=\"\",\"\",I12*1000000+①団体情報入力!$D$3*1000+②選手情報入力!A21)","v":""},{"$f":"IF(E12=\"\",\"\",①団体情報入力!$D$3)","v":""},null,{"$f":"IF(②選手情報入力!B20=\"\",\"\",②選手情報入力!B20)","v":""},{"$f":"IF(②選手情報入力!C20=\"\",\"\",②選手情報入力!C20)","v":""},{"$f":"IF(E12=\"\",\"\",②選手情報入力!D20)","v":""},{"$f":"IF(E12=\"\",\"\",②選手情報入力!E20)","v":""},"",{"$f":"IF(E12=\"\",\"\",IF(②選手情報入力!G20=\"男\",1,2))","v":""},{"$f":"IF(E12=\"\",\"\",IF(②選手情報入力!H20=\"\",\"\",②選手情報入力!H20))","v":""},null,"","",null,{"$f":"IF(E12=\"\",\"\",IF(②選手情報入力!I20=\"\",\"\",IF(I12=1,VLOOKUP(②選手情報入力!I20,種目情報!$A$4:$B$232,2,FALSE),VLOOKUP(②選手情報入力!I20,種目情報!$E$4:$F$81,2,FALSE))))","v":""},{"$f":"IF(E12=\"\",\"\",IF(②選手情報入力!K21=\"\",\"\",②選手情報入力!K21))","v":""},{"$f":"IF(E12=\"\",\"\",IF(②選手情報入力!I20=\"\",\"\",0))","v":""},{"$f":"IF(E12=\"\",\"\",IF(②選手情報入力!I20=\"\",\"\",IF(I12=1,VLOOKUP(②選手情報入力!I20,種目情報!$A$4:$C$22,3,FALSE),VLOOKUP(②選手情報入力!I20,種目情報!$E$4:$G$21,3,FALSE))))","v":""},{"$f":"IF(E12=\"\",\"\",IF(②選手情報入力!L20=\"\",\"\",IF(I12=1,VLOOKUP(②選手情報入力!L20,種目情報!$A$5:$B$242,2,FALSE),VLOOKUP(②選手情報入力!L20,種目情報!$E$5:$F$241,2,FALSE))))","v":""},{"$f":"IF(E12=\"\",\"\",IF(②選手情報入力!N21=\"\",\"\",②選手情報入力!N21))","v":""},{"$f":"IF(E12=\"\",\"\",IF(②選手情報入力!L20=\"\",\"\",0))","v":""},{"$f":"IF(E12=\"\",\"\",IF(②選手情報入力!L20=\"\",\"\",IF(I12=1,VLOOKUP(②選手情報入力!L20,種目情報!$A$5:$C$22,3,FALSE),VLOOKUP(②選手情報入力!L20,種目情報!$E$5:$G$21,3,FALSE))))","v":""},null,null,null,null,{"$f":"IF(E12=\"\",\"\",IF(②選手情報入力!P20=\"\",\"\",IF(I12=1,種目情報!$J$4,種目情報!$J$6)))","v":""},{"$f":"IF(E12=\"\",\"\",IF(②選手情報入力!P20=\"\",\"\",IF(I12=1,IF(②選手情報入力!$N$5=\"\",\"\",②選手情報入力!$N$5),IF(②選手情報入力!$N$6=\"\",\"\",②選手情報入力!$N$6))))","v":""},{"$f":"IF(E12=\"\",\"\",IF(②選手情報入力!P20=\"\",\"\",0))","v":""},{"$f":"IF(E12=\"\",\"\",IF(②選手情報入力!P20=\"\",\"\",2))","v":""},{"$f":"IF(E12=\"\",\"\",IF(②選手情報入力!Q20=\"\",\"\",IF(I12=1,種目情報!$J$5,種目情報!$J$7)))","v":""},{"$f":"IF(E12=\"\",\"\",IF(②選手情報入力!Q20=\"\",\"\",IF(I12=1,IF(②選手情報入力!$P$5=\"\",\"\",②選手情報入力!$P$5),IF(②選手情報入力!$P$6=\"\",\"\",②選手情報入力!$P$6))))","v":""},{"$f":"IF(E12=\"\",\"\",IF(②選手情報入力!Q20=\"\",\"\",0))","v":""},{"$f":"IF(E12=\"\",\"\",IF(②選手情報入力!Q20=\"\",\"\",2))","v":""}]
[{"$f":"IF(E13=\"\",\"\",I13*1000000+①団体情報入力!$D$3*1000+②選手情報入力!A22)","v":""},{"$f":"IF(E13=\"\",\"\",①団体情報入力!$D$3)","v":""},null,{"$f":"IF(②選手情報入力!B21=\"\",\"\",②選手情報入力!B21)","v":""},{"$f":"IF(②選手情報入力!C21=\"\",\"\",②選手情報入力!C21)","v":""},{"$f":"IF(E13=\"\",\"\",②選手情報入力!D21)","v":""},{"$f":"IF(E13=\"\",\"\",②選手情報入力!E21)","v":""},"",{"$f":"IF(E13=\"\",\"\",IF(②選手情報入力!G21=\"男\",1,2))","v":""},{"$f":"IF(E13=\"\",\"\",IF(②選手情報入力!H21=\"\",\"\",②選手情報入力!H21))","v":""},null,"","",null,{"$f":"IF(E13=\"\",\"\",IF(②選手情報入力!I21=\"\",\"\",IF(I13=1,VLOOKUP(②選手情報入力!I21,種目情報!$A$4:$B$232,2,FALSE),VLOOKUP(②選手情報入力!I21,種目情報!$E$4:$F$81,2,FALSE))))","v":""},{"$f":"IF(E13=\"\",\"\",IF(②選手情報入力!K22=\"\",\"\",②選手情報入力!K22))","v":""},{"$f":"IF(E13=\"\",\"\",IF(②選手情報入力!I21=\"\",\"\",0))","v":""},{"$f":"IF(E13=\"\",\"\",IF(②選手情報入力!I21=\"\",\"\",IF(I13=1,VLOOKUP(②選手情報入力!I21,種目情報!$A$4:$C$22,3,FALSE),VLOOKUP(②選手情報入力!I21,種目情報!$E$4:$G$21,3,FALSE))))","v":""},{"$f":"IF(E13=\"\",\"\",IF(②選手情報入力!L21=\"\",\"\",IF(I13=1,VLOOKUP(②選手情報入力!L21,種目情報!$A$5:$B$242,2,FALSE),VLOOKUP(②選手情報入力!L21,種目情報!$E$5:$F$241,2,FALSE))))","v":""},{"$f":"IF(E13=\"\",\"\",IF(②選手情報入力!N22=\"\",\"\",②選手情報入力!N22))","v":""},{"$f":"IF(E13=\"\",\"\",IF(②選手情報入力!L21=\"\",\"\",0))","v":""},{"$f":"IF(E13=\"\",\"\",IF(②選手情報入力!L21=\"\",\"\",IF(I13=1,VLOOKUP(②選手情報入力!L21,種目情報!$A$5:$C$22,3,FALSE),VLOOKUP(②選手情報入力!L21,種目情報!$E$5:$G$21,3,FALSE))))","v":""},null,null,null,null,{"$f":"IF(E13=\"\",\"\",IF(②選手情報入力!P21=\"\",\"\",IF(I13=1,種目情報!$J$4,種目情報!$J$6)))","v":""},{"$f":"IF(E13=\"\",\"\",IF(②選手情報入力!P21=\"\",\"\",IF(I13=1,IF(②選手情報入力!$N$5=\"\",\"\",②選手情報入力!$N$5),IF(②選手情報入力!$N$6=\"\",\"\",②選手情報入力!$N$6))))","v":""},{"$f":"IF(E13=\"\",\"\",IF(②選手情報入力!P21=\"\",\"\",0))","v":""},{"$f":"IF(E13=\"\",\"\",IF(②選手情報入力!P21=\"\",\"\",2))","v":""},{"$f":"IF(E13=\"\",\"\",IF(②選手情報入力!Q21=\"\",\"\",IF(I13=1,種目情報!$J$5,種目情報!$J$7)))","v":""},{"$f":"IF(E13=\"\",\"\",IF(②選手情報入力!Q21=\"\",\"\",IF(I13=1,IF(②選手情報入力!$P$5=\"\",\"\",②選手情報入力!$P$5),IF(②選手情報入力!$P$6=\"\",\"\",②選手情報入力!$P$6))))","v":""},{"$f":"IF(E13=\"\",\"\",IF(②選手情報入力!Q21=\"\",\"\",0))","v":""},{"$f":"IF(E13=\"\",\"\",IF(②選手情報入力!Q21=\"\",\"\",2))","v":""}]
[{"$f":"IF(E14=\"\",\"\",I14*1000000+①団体情報入力!$D$3*1000+②選手情報入力!A23)","v":""},{"$f":"IF(E14=\"\",\"\",①団体情報入力!$D$3)","v":""},null,{"$f":"IF(②選手情報入力!B22=\"\",\"\",②選手情報入力!B22)","v":""},{"$f":"IF(②選手情報入力!C22=\"\",\"\",②選手情報入力!C22)","v":""},{"$f":"IF(E14=\"\",\"\",②選手情報入力!D22)","v":""},{"$f":"IF(E14=\"\",\"\",②選手情報入力!E22)","v":""},"",{"$f":"IF(E14=\"\",\"\",IF(②選手情報入力!G22=\"男\",1,2))","v":""},{"$f":"IF(E14=\"\",\"\",IF(②選手情報入力!H22=\"\",\"\",②選手情報入力!H22))","v":""},null,"","",null,{"$f":"IF(E14=\"\",\"\",IF(②選手情報入力!I22=\"\",\"\",IF(I14=1,VLOOKUP(②選手情報入力!I22,種目情報!$A$4:$B$232,2,FALSE),VLOOKUP(②選手情報入力!I22,種目情報!$E$4:$F$81,2,FALSE))))","v":""},{"$f":"IF(E14=\"\",\"\",IF(②選手情報入力!K23=\"\",\"\",②選手情報入力!K23))","v":""},{"$f":"IF(E14=\"\",\"\",IF(②選手情報入力!I22=\"\",\"\",0))","v":""},{"$f":"IF(E14=\"\",\"\",IF(②選手情報入力!I22=\"\",\"\",IF(I14=1,VLOOKUP(②選手情報入力!I22,種目情報!$A$4:$C$22,3,FALSE),VLOOKUP(②選手情報入力!I22,種目情報!$E$4:$G$21,3,FALSE))))","v":""},{"$f":"IF(E14=\"\",\"\",IF(②選手情報入力!L22=\"\",\"\",IF(I14=1,VLOOKUP(②選手情報入力!L22,種目情報!$A$5:$B$242,2,FALSE),VLOOKUP(②選手情報入力!L22,種目情報!$E$5:$F$241,2,FALSE))))","v":""},{"$f":"IF(E14=\"\",\"\",IF(②選手情報入力!N23=\"\",\"\",②選手情報入力!N23))","v":""},{"$f":"IF(E14=\"\",\"\",IF(②選手情報入力!L22=\"\",\"\",0))","v":""},{"$f":"IF(E14=\"\",\"\",IF(②選手情報入力!L22=\"\",\"\",IF(I14=1,VLOOKUP(②選手情報入力!L22,種目情報!$A$5:$C$22,3,FALSE),VLOOKUP(②選手情報入力!L22,種目情報!$E$5:$G$21,3,FALSE))))","v":""},null,null,null,null,{"$f":"IF(E14=\"\",\"\",IF(②選手情報入力!P22=\"\",\"\",IF(I14=1,種目情報!$J$4,種目情報!$J$6)))","v":""},{"$f":"IF(E14=\"\",\"\",IF(②選手情報入力!P22=\"\",\"\",IF(I14=1,IF(②選手情報入力!$N$5=\"\",\"\",②選手情報入力!$N$5),IF(②選手情報入力!$N$6=\"\",\"\",②選手情報入力!$N$6))))","v":""},{"$f":"IF(E14=\"\",\"\",IF(②選手情報入力!P22=\"\",\"\",0))","v":""},{"$f":"IF(E14=\"\",\"\",IF(②選手情報入力!P22=\"\",\"\",2))","v":""},{"$f":"IF(E14=\"\",\"\",IF(②選手情報入力!Q22=\"\",\"\",IF(I14=1,種目情報!$J$5,種目情報!$J$7)))","v":""},{"$f":"IF(E14=\"\",\"\",IF(②選手情報入力!Q22=\"\",\"\",IF(I14=1,IF(②選手情報入力!$P$5=\"\",\"\",②選手情報入力!$P$5),IF(②選手情報入力!$P$6=\"\",\"\",②選手情報入力!$P$6))))","v":""},{"$f":"IF(E14=\"\",\"\",IF(②選手情報入力!Q22=\"\",\"\",0))","v":""},{"$f":"IF(E14=\"\",\"\",IF(②選手情報入力!Q22=\"\",\"\",2))","v":""}]
[{"$f":"IF(E15=\"\",\"\",I15*1000000+①団体情報入力!$D$3*1000+②選手情報入力!A24)","v":""},{"$f":"IF(E15=\"\",\"\",①団体情報入力!$D$3)","v":""},null,{"$f":"IF(②選手情報入力!B23=\"\",\"\",②選手情報入力!B23)","v":""},{"$f":"IF(②選手情報入力!C23=\"\",\"\",②選手情報入力!C23)","v":""},{"$f":"IF(E15=\"\",\"\",②選手情報入力!D23)","v":""},{"$f":"IF(E15=\"\",\"\",②選手情報入力!E23)","v":""},"",{"$f":"IF(E15=\"\",\"\",IF(②選手情報入力!G23=\"男\",1,2))","v":""},{"$f":"IF(E15=\"\",\"\",IF(②選手情報入力!H23=\"\",\"\",②選手情報入力!H23))","v":""},null,"","",null,{"$f":"IF(E15=\"\",\"\",IF(②選手情報入力!I23=\"\",\"\",IF(I15=1,VLOOKUP(②選手情報入力!I23,種目情報!$A$4:$B$232,2,FALSE),VLOOKUP(②選手情報入力!I23,種目情報!$E$4:$F$81,2,FALSE))))","v":""},{"$f":"IF(E15=\"\",\"\",IF(②選手情報入力!K24=\"\",\"\",②選手情報入力!K24))","v":""},{"$f":"IF(E15=\"\",\"\",IF(②選手情報入力!I23=\"\",\"\",0))","v":""},{"$f":"IF(E15=\"\",\"\",IF(②選手情報入力!I23=\"\",\"\",IF(I15=1,VLOOKUP(②選手情報入力!I23,種目情報!$A$4:$C$22,3,FALSE),VLOOKUP(②選手情報入力!I23,種目情報!$E$4:$G$21,3,FALSE))))","v":""},{"$f":"IF(E15=\"\",\"\",IF(②選手情報入力!L23=\"\",\"\",IF(I15=1,VLOOKUP(②選手情報入力!L23,種目情報!$A$5:$B$242,2,FALSE),VLOOKUP(②選手情報入力!L23,種目情報!$E$5:$F$241,2,FALSE))))","v":""},{"$f":"IF(E15=\"\",\"\",IF(②選手情報入力!N24=\"\",\"\",②選手情報入力!N24))","v":""},{"$f":"IF(E15=\"\",\"\",IF(②選手情報入力!L23=\"\",\"\",0))","v":""},{"$f":"IF(E15=\"\",\"\",IF(②選手情報入力!L23=\"\",\"\",IF(I15=1,VLOOKUP(②選手情報入力!L23,種目情報!$A$5:$C$22,3,FALSE),VLOOKUP(②選手情報入力!L23,種目情報!$E$5:$G$21,3,FALSE))))","v":""},null,null,null,null,{"$f":"IF(E15=\"\",\"\",IF(②選手情報入力!P23=\"\",\"\",IF(I15=1,種目情報!$J$4,種目情報!$J$6)))","v":""},{"$f":"IF(E15=\"\",\"\",IF(②選手情報入力!P23=\"\",\"\",IF(I15=1,IF(②選手情報入力!$N$5=\"\",\"\",②選手情報入力!$N$5),IF(②選手情報入力!$N$6=\"\",\"\",②選手情報入力!$N$6))))","v":""},{"$f":"IF(E15=\"\",\"\",IF(②選手情報入力!P23=\"\",\"\",0))","v":""},{"$f":"IF(E15=\"\",\"\",IF(②選手情報入力!P23=\"\",\"\",2))","v":""},{"$f":"IF(E15=\"\",\"\",IF(②選手情報入力!Q23=\"\",\"\",IF(I15=1,種目情報!$J$5,種目情報!$J$7)))","v":""},{"$f":"IF(E15=\"\",\"\",IF(②選手情報入力!Q23=\"\",\"\",IF(I15=1,IF(②選手情報入力!$P$5=\"\",\"\",②選手情報入力!$P$5),IF(②選手情報入力!$P$6=\"\",\"\",②選手情報入力!$P$6))))","v":""},{"$f":"IF(E15=\"\",\"\",IF(②選手情報入力!Q23=\"\",\"\",0))","v":""},{"$f":"IF(E15=\"\",\"\",IF(②選手情報入力!Q23=\"\",\"\",2))","v":""}]
[{"$f":"IF(E16=\"\",\"\",I16*1000000+①団体情報入力!$D$3*1000+②選手情報入力!A25)","v":""},{"$f":"IF(E16=\"\",\"\",①団体情報入力!$D$3)","v":""},null,{"$f":"IF(②選手情報入力!B24=\"\",\"\",②選手情報入力!B24)","v":""},{"$f":"IF(②選手情報入力!C24=\"\",\"\",②選手情報入力!C24)","v":""},{"$f":"IF(E16=\"\",\"\",②選手情報入力!D24)","v":""},{"$f":"IF(E16=\"\",\"\",②選手情報入力!E24)","v":""},"",{"$f":"IF(E16=\"\",\"\",IF(②選手情報入力!G24=\"男\",1,2))","v":""},{"$f":"IF(E16=\"\",\"\",IF(②選手情報入力!H24=\"\",\"\",②選手情報入力!H24))","v":""},null,"","",null,{"$f":"IF(E16=\"\",\"\",IF(②選手情報入力!I24=\"\",\"\",IF(I16=1,VLOOKUP(②選手情報入力!I24,種目情報!$A$4:$B$232,2,FALSE),VLOOKUP(②選手情報入力!I24,種目情報!$E$4:$F$81,2,FALSE))))","v":""},{"$f":"IF(E16=\"\",\"\",IF(②選手情報入力!K25=\"\",\"\",②選手情報入力!K25))","v":""},{"$f":"IF(E16=\"\",\"\",IF(②選手情報入力!I24=\"\",\"\",0))","v":""},{"$f":"IF(E16=\"\",\"\",IF(②選手情報入力!I24=\"\",\"\",IF(I16=1,VLOOKUP(②選手情報入力!I24,種目情報!$A$4:$C$22,3,FALSE),VLOOKUP(②選手情報入力!I24,種目情報!$E$4:$G$21,3,FALSE))))","v":""},{"$f":"IF(E16=\"\",\"\",IF(②選手情報入力!L24=\"\",\"\",IF(I16=1,VLOOKUP(②選手情報入力!L24,種目情報!$A$5:$B$242,2,FALSE),VLOOKUP(②選手情報入力!L24,種目情報!$E$5:$F$241,2,FALSE))))","v":""},{"$f":"IF(E16=\"\",\"\",IF(②選手情報入力!N25=\"\",\"\",②選手情報入力!N25))","v":""},{"$f":"IF(E16=\"\",\"\",IF(②選手情報入力!L24=\"\",\"\",0))","v":""},{"$f":"IF(E16=\"\",\"\",IF(②選手情報入力!L24=\"\",\"\",IF(I16=1,VLOOKUP(②選手情報入力!L24,種目情報!$A$5:$C$22,3,FALSE),VLOOKUP(②選手情報入力!L24,種目情報!$E$5:$G$21,3,FALSE))))","v":""},null,null,null,null,{"$f":"IF(E16=\"\",\"\",IF(②選手情報入力!P24=\"\",\"\",IF(I16=1,種目情報!$J$4,種目情報!$J$6)))","v":""},{"$f":"IF(E16=\"\",\"\",IF(②選手情報入力!P24=\"\",\"\",IF(I16=1,IF(②選手情報入力!$N$5=\"\",\"\",②選手情報入力!$N$5),IF(②選手情報入力!$N$6=\"\",\"\",②選手情報入力!$N$6))))","v":""},{"$f":"IF(E16=\"\",\"\",IF(②選手情報入力!P24=\"\",\"\",0))","v":""},{"$f":"IF(E16=\"\",\"\",IF(②選手情報入力!P24=\"\",\"\",2))","v":""},{"$f":"IF(E16=\"\",\"\",IF(②選手情報入力!Q24=\"\",\"\",IF(I16=1,種目情報!$J$5,種目情報!$J$7)))","v":""},{"$f":"IF(E16=\"\",\"\",IF(②選手情報入力!Q24=\"\",\"\",IF(I16=1,IF(②選手情報入力!$P$5=\"\",\"\",②選手情報入力!$P$5),IF(②選手情報入力!$P$6=\"\",\"\",②選手情報入力!$P$6))))","v":""},{"$f":"IF(E16=\"\",\"\",IF(②選手情報入力!Q24=\"\",\"\",0))","v":""},{"$f":"IF(E16=\"\",\"\",IF(②選手情報入力!Q24=\"\",\"\",2))","v":""}]
[{"$f":"IF(E17=\"\",\"\",I17*1000000+①団体情報入力!$D$3*1000+②選手情報入力!A26)","v":""},{"$f":"IF(E17=\"\",\"\",①団体情報入力!$D$3)","v":""},null,{"$f":"IF(②選手情報入力!B25=\"\",\"\",②選手情報入力!B25)","v":""},{"$f":"IF(②選手情報入力!C25=\"\",\"\",②選手情報入力!C25)","v":""},{"$f":"IF(E17=\"\",\"\",②選手情報入力!D25)","v":""},{"$f":"IF(E17=\"\",\"\",②選手情報入力!E25)","v":""},"",{"$f":"IF(E17=\"\",\"\",IF(②選手情報入力!G25=\"男\",1,2))","v":""},{"$f":"IF(E17=\"\",\"\",IF(②選手情報入力!H25=\"\",\"\",②選手情報入力!H25))","v":""},null,"","",null,{"$f":"IF(E17=\"\",\"\",IF(②選手情報入力!I25=\"\",\"\",IF(I17=1,VLOOKUP(②選手情報入力!I25,種目情報!$A$4:$B$232,2,FALSE),VLOOKUP(②選手情報入力!I25,種目情報!$E$4:$F$81,2,FALSE))))","v":""},{"$f":"IF(E17=\"\",\"\",IF(②選手情報入力!K26=\"\",\"\",②選手情報入力!K26))","v":""},{"$f":"IF(E17=\"\",\"\",IF(②選手情報入力!I25=\"\",\"\",0))","v":""},{"$f":"IF(E17=\"\",\"\",IF(②選手情報入力!I25=\"\",\"\",IF(I17=1,VLOOKUP(②選手情報入力!I25,種目情報!$A$4:$C$22,3,FALSE),VLOOKUP(②選手情報入力!I25,種目情報!$E$4:$G$21,3,FALSE))))","v":""},{"$f":"IF(E17=\"\",\"\",IF(②選手情報入力!L25=\"\",\"\",IF(I17=1,VLOOKUP(②選手情報入力!L25,種目情報!$A$5:$B$242,2,FALSE),VLOOKUP(②選手情報入力!L25,種目情報!$E$5:$F$241,2,FALSE))))","v":""},{"$f":"IF(E17=\"\",\"\",IF(②選手情報入力!N26=\"\",\"\",②選手情報入力!N26))","v":""},{"$f":"IF(E17=\"\",\"\",IF(②選手情報入力!L25=\"\",\"\",0))","v":""},{"$f":"IF(E17=\"\",\"\",IF(②選手情報入力!L25=\"\",\"\",IF(I17=1,VLOOKUP(②選手情報入力!L25,種目情報!$A$5:$C$22,3,FALSE),VLOOKUP(②選手情報入力!L25,種目情報!$E$5:$G$21,3,FALSE))))","v":""},null,null,null,null,{"$f":"IF(E17=\"\",\"\",IF(②選手情報入力!P25=\"\",\"\",IF(I17=1,種目情報!$J$4,種目情報!$J$6)))","v":""},{"$f":"IF(E17=\"\",\"\",IF(②選手情報入力!P25=\"\",\"\",IF(I17=1,IF(②選手情報入力!$N$5=\"\",\"\",②選手情報入力!$N$5),IF(②選手情報入力!$N$6=\"\",\"\",②選手情報入力!$N$6))))","v":""},{"$f":"IF(E17=\"\",\"\",IF(②選手情報入力!P25=\"\",\"\",0))","v":""},{"$f":"IF(E17=\"\",\"\",IF(②選手情報入力!P25=\"\",\"\",2))","v":""},{"$f":"IF(E17=\"\",\"\",IF(②選手情報入力!Q25=\"\",\"\",IF(I17=1,種目情報!$J$5,種目情報!$J$7)))","v":""},{"$f":"IF(E17=\"\",\"\",IF(②選手情報入力!Q25=\"\",\"\",IF(I17=1,IF(②選手情報入力!$P$5=\"\",\"\",②選手情報入力!$P$5),IF(②選手情報入力!$P$6=\"\",\"\",②選手情報入力!$P$6))))","v":""},{"$f":"IF(E17=\"\",\"\",IF(②選手情報入力!Q25=\"\",\"\",0))","v":""},{"$f":"IF(E17=\"\",\"\",IF(②選手情報入力!Q25=\"\",\"\",2))","v":""}]
[{"$f":"IF(E18=\"\",\"\",I18*1000000+①団体情報入力!$D$3*1000+②選手情報入力!A27)","v":""},{"$f":"IF(E18=\"\",\"\",①団体情報入力!$D$3)","v":""},null,{"$f":"IF(②選手情報入力!B26=\"\",\"\",②選手情報入力!B26)","v":""},{"$f":"IF(②選手情報入力!C26=\"\",\"\",②選手情報入力!C26)","v":""},{"$f":"IF(E18=\"\",\"\",②選手情報入力!D26)","v":""},{"$f":"IF(E18=\"\",\"\",②選手情報入力!E26)","v":""},"",{"$f":"IF(E18=\"\",\"\",IF(②選手情報入力!G26=\"男\",1,2))","v":""},{"$f":"IF(E18=\"\",\"\",IF(②選手情報入力!H26=\"\",\"\",②選手情報入力!H26))","v":""},null,"","",null,{"$f":"IF(E18=\"\",\"\",IF(②選手情報入力!I26=\"\",\"\",IF(I18=1,VLOOKUP(②選手情報入力!I26,種目情報!$A$4:$B$232,2,FALSE),VLOOKUP(②選手情報入力!I26,種目情報!$E$4:$F$81,2,FALSE))))","v":""},{"$f":"IF(E18=\"\",\"\",IF(②選手情報入力!K27=\"\",\"\",②選手情報入力!K27))","v":""},{"$f":"IF(E18=\"\",\"\",IF(②選手情報入力!I26=\"\",\"\",0))","v":""},{"$f":"IF(E18=\"\",\"\",IF(②選手情報入力!I26=\"\",\"\",IF(I18=1,VLOOKUP(②選手情報入力!I26,種目情報!$A$4:$C$22,3,FALSE),VLOOKUP(②選手情報入力!I26,種目情報!$E$4:$G$21,3,FALSE))))","v":""},{"$f":"IF(E18=\"\",\"\",IF(②選手情報入力!L26=\"\",\"\",IF(I18=1,VLOOKUP(②選手情報入力!L26,種目情報!$A$5:$B$242,2,FALSE),VLOOKUP(②選手情報入力!L26,種目情報!$E$5:$F$241,2,FALSE))))","v":""},{"$f":"IF(E18=\"\",\"\",IF(②選手情報入力!N27=\"\",\"\",②選手情報入力!N27))","v":""},{"$f":"IF(E18=\"\",\"\",IF(②選手情報入力!L26=\"\",\"\",0))","v":""},{"$f":"IF(E18=\"\",\"\",IF(②選手情報入力!L26=\"\",\"\",IF(I18=1,VLOOKUP(②選手情報入力!L26,種目情報!$A$5:$C$22,3,FALSE),VLOOKUP(②選手情報入力!L26,種目情報!$E$5:$G$21,3,FALSE))))","v":""},null,null,null,null,{"$f":"IF(E18=\"\",\"\",IF(②選手情報入力!P26=\"\",\"\",IF(I18=1,種目情報!$J$4,種目情報!$J$6)))","v":""},{"$f":"IF(E18=\"\",\"\",IF(②選手情報入力!P26=\"\",\"\",IF(I18=1,IF(②選手情報入力!$N$5=\"\",\"\",②選手情報入力!$N$5),IF(②選手情報入力!$N$6=\"\",\"\",②選手情報入力!$N$6))))","v":""},{"$f":"IF(E18=\"\",\"\",IF(②選手情報入力!P26=\"\",\"\",0))","v":""},{"$f":"IF(E18=\"\",\"\",IF(②選手情報入力!P26=\"\",\"\",2))","v":""},{"$f":"IF(E18=\"\",\"\",IF(②選手情報入力!Q26=\"\",\"\",IF(I18=1,種目情報!$J$5,種目情報!$J$7)))","v":""},{"$f":"IF(E18=\"\",\"\",IF(②選手情報入力!Q26=\"\",\"\",IF(I18=1,IF(②選手情報入力!$P$5=\"\",\"\",②選手情報入力!$P$5),IF(②選手情報入力!$P$6=\"\",\"\",②選手情報入力!$P$6))))","v":""},{"$f":"IF(E18=\"\",\"\",IF(②選手情報入力!Q26=\"\",\"\",0))","v":""},{"$f":"IF(E18=\"\",\"\",IF(②選手情報入力!Q26=\"\",\"\",2))","v":""}]
[{"$f":"IF(E19=\"\",\"\",I19*1000000+①団体情報入力!$D$3*1000+②選手情報入力!A28)","v":""},{"$f":"IF(E19=\"\",\"\",①団体情報入力!$D$3)","v":""},null,{"$f":"IF(②選手情報入力!B27=\"\",\"\",②選手情報入力!B27)","v":""},{"$f":"IF(②選手情報入力!C27=\"\",\"\",②選手情報入力!C27)","v":""},{"$f":"IF(E19=\"\",\"\",②選手情報入力!D27)","v":""},{"$f":"IF(E19=\"\",\"\",②選手情報入力!E27)","v":""},"",{"$f":"IF(E19=\"\",\"\",IF(②選手情報入力!G27=\"男\",1,2))","v":""},{"$f":"IF(E19=\"\",\"\",IF(②選手情報入力!H27=\"\",\"\",②選手情報入力!H27))","v":""},null,"","",null,{"$f":"IF(E19=\"\",\"\",IF(②選手情報入力!I27=\"\",\"\",IF(I19=1,VLOOKUP(②選手情報入力!I27,種目情報!$A$4:$B$232,2,FALSE),VLOOKUP(②選手情報入力!I27,種目情報!$E$4:$F$81,2,FALSE))))","v":""},{"$f":"IF(E19=\"\",\"\",IF(②選手情報入力!K28=\"\",\"\",②選手情報入力!K28))","v":""},{"$f":"IF(E19=\"\",\"\",IF(②選手情報入力!I27=\"\",\"\",0))","v":""},{"$f":"IF(E19=\"\",\"\",IF(②選手情報入力!I27=\"\",\"\",IF(I19=1,VLOOKUP(②選手情報入力!I27,種目情報!$A$4:$C$22,3,FALSE),VLOOKUP(②選手情報入力!I27,種目情報!$E$4:$G$21,3,FALSE))))","v":""},{"$f":"IF(E19=\"\",\"\",IF(②選手情報入力!L27=\"\",\"\",IF(I19=1,VLOOKUP(②選手情報入力!L27,種目情報!$A$5:$B$242,2,FALSE),VLOOKUP(②選手情報入力!L27,種目情報!$E$5:$F$241,2,FALSE))))","v":""},{"$f":"IF(E19=\"\",\"\",IF(②選手情報入力!N28=\"\",\"\",②選手情報入力!N28))","v":""},{"$f":"IF(E19=\"\",\"\",IF(②選手情報入力!L27=\"\",\"\",0))","v":""},{"$f":"IF(E19=\"\",\"\",IF(②選手情報入力!L27=\"\",\"\",IF(I19=1,VLOOKUP(②選手情報入力!L27,種目情報!$A$5:$C$22,3,FALSE),VLOOKUP(②選手情報入力!L27,種目情報!$E$5:$G$21,3,FALSE))))","v":""},null,null,null,null,{"$f":"IF(E19=\"\",\"\",IF(②選手情報入力!P27=\"\",\"\",IF(I19=1,種目情報!$J$4,種目情報!$J$6)))","v":""},{"$f":"IF(E19=\"\",\"\",IF(②選手情報入力!P27=\"\",\"\",IF(I19=1,IF(②選手情報入力!$N$5=\"\",\"\",②選手情報入力!$N$5),IF(②選手情報入力!$N$6=\"\",\"\",②選手情報入力!$N$6))))","v":""},{"$f":"IF(E19=\"\",\"\",IF(②選手情報入力!P27=\"\",\"\",0))","v":""},{"$f":"IF(E19=\"\",\"\",IF(②選手情報入力!P27=\"\",\"\",2))","v":""},{"$f":"IF(E19=\"\",\"\",IF(②選手情報入力!Q27=\"\",\"\",IF(I19=1,種目情報!$J$5,種目情報!$J$7)))","v":""},{"$f":"IF(E19=\"\",\"\",IF(②選手情報入力!Q27=\"\",\"\",IF(I19=1,IF(②選手情報入力!$P$5=\"\",\"\",②選手情報入力!$P$5),IF(②選手情報入力!$P$6=\"\",\"\",②選手情報入力!$P$6))))","v":""},{"$f":"IF(E19=\"\",\"\",IF(②選手情報入力!Q27=\"\",\"\",0))","v":""},{"$f":"IF(E19=\"\",\"\",IF(②選手情報入力!Q27=\"\",\"\",2))","v":""}]
[{"$f":"IF(E20=\"\",\"\",I20*1000000+①団体情報入力!$D$3*1000+②選手情報入力!A29)","v":""},{"$f":"IF(E20=\"\",\"\",①団体情報入力!$D$3)","v":""},null,{"$f":"IF(②選手情報入力!B28=\"\",\"\",②選手情報入力!B28)","v":""},{"$f":"IF(②選手情報入力!C28=\"\",\"\",②選手情報入力!C28)","v":""},{"$f":"IF(E20=\"\",\"\",②選手情報入力!D28)","v":""},{"$f":"IF(E20=\"\",\"\",②選手情報入力!E28)","v":""},"",{"$f":"IF(E20=\"\",\"\",IF(②選手情報入力!G28=\"男\",1,2))","v":""},{"$f":"IF(E20=\"\",\"\",IF(②選手情報入力!H28=\"\",\"\",②選手情報入力!H28))","v":""},null,"","",null,{"$f":"IF(E20=\"\",\"\",IF(②選手情報入力!I28=\"\",\"\",IF(I20=1,VLOOKUP(②選手情報入力!I28,種目情報!$A$4:$B$232,2,FALSE),VLOOKUP(②選手情報入力!I28,種目情報!$E$4:$F$81,2,FALSE))))","v":""},{"$f":"IF(E20=\"\",\"\",IF(②選手情報入力!K29=\"\",\"\",②選手情報入力!K29))","v":""},{"$f":"IF(E20=\"\",\"\",IF(②選手情報入力!I28=\"\",\"\",0))","v":""},{"$f":"IF(E20=\"\",\"\",IF(②選手情報入力!I28=\"\",\"\",IF(I20=1,VLOOKUP(②選手情報入力!I28,種目情報!$A$4:$C$22,3,FALSE),VLOOKUP(②選手情報入力!I28,種目情報!$E$4:$G$21,3,FALSE))))","v":""},{"$f":"IF(E20=\"\",\"\",IF(②選手情報入力!L28=\"\",\"\",IF(I20=1,VLOOKUP(②選手情報入力!L28,種目情報!$A$5:$B$242,2,FALSE),VLOOKUP(②選手情報入力!L28,種目情報!$E$5:$F$241,2,FALSE))))","v":""},{"$f":"IF(E20=\"\",\"\",IF(②選手情報入力!N29=\"\",\"\",②選手情報入力!N29))","v":""},{"$f":"IF(E20=\"\",\"\",IF(②選手情報入力!L28=\"\",\"\",0))","v":""},{"$f":"IF(E20=\"\",\"\",IF(②選手情報入力!L28=\"\",\"\",IF(I20=1,VLOOKUP(②選手情報入力!L28,種目情報!$A$5:$C$22,3,FALSE),VLOOKUP(②選手情報入力!L28,種目情報!$E$5:$G$21,3,FALSE))))","v":""},null,null,null,null,{"$f":"IF(E20=\"\",\"\",IF(②選手情報入力!P28=\"\",\"\",IF(I20=1,種目情報!$J$4,種目情報!$J$6)))","v":""},{"$f":"IF(E20=\"\",\"\",IF(②選手情報入力!P28=\"\",\"\",IF(I20=1,IF(②選手情報入力!$N$5=\"\",\"\",②選手情報入力!$N$5),IF(②選手情報入力!$N$6=\"\",\"\",②選手情報入力!$N$6))))","v":""},{"$f":"IF(E20=\"\",\"\",IF(②選手情報入力!P28=\"\",\"\",0))","v":""},{"$f":"IF(E20=\"\",\"\",IF(②選手情報入力!P28=\"\",\"\",2))","v":""},{"$f":"IF(E20=\"\",\"\",IF(②選手情報入力!Q28=\"\",\"\",IF(I20=1,種目情報!$J$5,種目情報!$J$7)))","v":""},{"$f":"IF(E20=\"\",\"\",IF(②選手情報入力!Q28=\"\",\"\",IF(I20=1,IF(②選手情報入力!$P$5=\"\",\"\",②選手情報入力!$P$5),IF(②選手情報入力!$P$6=\"\",\"\",②選手情報入力!$P$6))))","v":""},{"$f":"IF(E20=\"\",\"\",IF(②選手情報入力!Q28=\"\",\"\",0))","v":""},{"$f":"IF(E20=\"\",\"\",IF(②選手情報入力!Q28=\"\",\"\",2))","v":""}]
[{"$f":"IF(E21=\"\",\"\",I21*1000000+①団体情報入力!$D$3*1000+②選手情報入力!A30)","v":""},{"$f":"IF(E21=\"\",\"\",①団体情報入力!$D$3)","v":""},null,{"$f":"IF(②選手情報入力!B29=\"\",\"\",②選手情報入力!B29)","v":""},{"$f":"IF(②選手情報入力!C29=\"\",\"\",②選手情報入力!C29)","v":""},{"$f":"IF(E21=\"\",\"\",②選手情報入力!D29)","v":""},{"$f":"IF(E21=\"\",\"\",②選手情報入力!E29)","v":""},"",{"$f":"IF(E21=\"\",\"\",IF(②選手情報入力!G29=\"男\",1,2))","v":""},{"$f":"IF(E21=\"\",\"\",IF(②選手情報入力!H29=\"\",\"\",②選手情報入力!H29))","v":""},null,"","",null,{"$f":"IF(E21=\"\",\"\",IF(②選手情報入力!I29=\"\",\"\",IF(I21=1,VLOOKUP(②選手情報入力!I29,種目情報!$A$4:$B$232,2,FALSE),VLOOKUP(②選手情報入力!I29,種目情報!$E$4:$F$81,2,FALSE))))","v":""},{"$f":"IF(E21=\"\",\"\",IF(②選手情報入力!K30=\"\",\"\",②選手情報入力!K30))","v":""},{"$f":"IF(E21=\"\",\"\",IF(②選手情報入力!I29=\"\",\"\",0))","v":""},{"$f":"IF(E21=\"\",\"\",IF(②選手情報入力!I29=\"\",\"\",IF(I21=1,VLOOKUP(②選手情報入力!I29,種目情報!$A$4:$C$22,3,FALSE),VLOOKUP(②選手情報入力!I29,種目情報!$E$4:$G$21,3,FALSE))))","v":""},{"$f":"IF(E21=\"\",\"\",IF(②選手情報入力!L29=\"\",\"\",IF(I21=1,VLOOKUP(②選手情報入力!L29,種目情報!$A$5:$B$242,2,FALSE),VLOOKUP(②選手情報入力!L29,種目情報!$E$5:$F$241,2,FALSE))))","v":""},{"$f":"IF(E21=\"\",\"\",IF(②選手情報入力!N30=\"\",\"\",②選手情報入力!N30))","v":""},{"$f":"IF(E21=\"\",\"\",IF(②選手情報入力!L29=\"\",\"\",0))","v":""},{"$f":"IF(E21=\"\",\"\",IF(②選手情報入力!L29=\"\",\"\",IF(I21=1,VLOOKUP(②選手情報入力!L29,種目情報!$A$5:$C$22,3,FALSE),VLOOKUP(②選手情報入力!L29,種目情報!$E$5:$G$21,3,FALSE))))","v":""},null,null,null,null,{"$f":"IF(E21=\"\",\"\",IF(②選手情報入力!P29=\"\",\"\",IF(I21=1,種目情報!$J$4,種目情報!$J$6)))","v":""},{"$f":"IF(E21=\"\",\"\",IF(②選手情報入力!P29=\"\",\"\",IF(I21=1,IF(②選手情報入力!$N$5=\"\",\"\",②選手情報入力!$N$5),IF(②選手情報入力!$N$6=\"\",\"\",②選手情報入力!$N$6))))","v":""},{"$f":"IF(E21=\"\",\"\",IF(②選手情報入力!P29=\"\",\"\",0))","v":""},{"$f":"IF(E21=\"\",\"\",IF(②選手情報入力!P29=\"\",\"\",2))","v":""},{"$f":"IF(E21=\"\",\"\",IF(②選手情報入力!Q29=\"\",\"\",IF(I21=1,種目情報!$J$5,種目情報!$J$7)))","v":""},{"$f":"IF(E21=\"\",\"\",IF(②選手情報入力!Q29=\"\",\"\",IF(I21=1,IF(②選手情報入力!$P$5=\"\",\"\",②選手情報入力!$P$5),IF(②選手情報入力!$P$6=\"\",\"\",②選手情報入力!$P$6))))","v":""},{"$f":"IF(E21=\"\",\"\",IF(②選手情報入力!Q29=\"\",\"\",0))","v":""},{"$f":"IF(E21=\"\",\"\",IF(②選手情報入力!Q29=\"\",\"\",2))","v":""}]
[{"$f":"IF(E22=\"\",\"\",I22*1000000+①団体情報入力!$D$3*1000+②選手情報入力!A31)","v":""},{"$f":"IF(E22=\"\",\"\",①団体情報入力!$D$3)","v":""},null,{"$f":"IF(②選手情報入力!B30=\"\",\"\",②選手情報入力!B30)","v":""},{"$f":"IF(②選手情報入力!C30=\"\",\"\",②選手情報入力!C30)","v":""},{"$f":"IF(E22=\"\",\"\",②選手情報入力!D30)","v":""},{"$f":"IF(E22=\"\",\"\",②選手情報入力!E30)","v":""},"",{"$f":"IF(E22=\"\",\"\",IF(②選手情報入力!G30=\"男\",1,2))","v":""},{"$f":"IF(E22=\"\",\"\",IF(②選手情報入力!H30=\"\",\"\",②選手情報入力!H30))","v":""},null,"","",null,{"$f":"IF(E22=\"\",\"\",IF(②選手情報入力!I30=\"\",\"\",IF(I22=1,VLOOKUP(②選手情報入力!I30,種目情報!$A$4:$B$232,2,FALSE),VLOOKUP(②選手情報入力!I30,種目情報!$E$4:$F$81,2,FALSE))))","v":""},{"$f":"IF(E22=\"\",\"\",IF(②選手情報入力!K31=\"\",\"\",②選手情報入力!K31))","v":""},{"$f":"IF(E22=\"\",\"\",IF(②選手情報入力!I30=\"\",\"\",0))","v":""},{"$f":"IF(E22=\"\",\"\",IF(②選手情報入力!I30=\"\",\"\",IF(I22=1,VLOOKUP(②選手情報入力!I30,種目情報!$A$4:$C$22,3,FALSE),VLOOKUP(②選手情報入力!I30,種目情報!$E$4:$G$21,3,FALSE))))","v":""},{"$f":"IF(E22=\"\",\"\",IF(②選手情報入力!L30=\"\",\"\",IF(I22=1,VLOOKUP(②選手情報入力!L30,種目情報!$A$5:$B$242,2,FALSE),VLOOKUP(②選手情報入力!L30,種目情報!$E$5:$F$241,2,FALSE))))","v":""},{"$f":"IF(E22=\"\",\"\",IF(②選手情報入力!N31=\"\",\"\",②選手情報入力!N31))","v":""},{"$f":"IF(E22=\"\",\"\",IF(②選手情報入力!L30=\"\",\"\",0))","v":""},{"$f":"IF(E22=\"\",\"\",IF(②選手情報入力!L30=\"\",\"\",IF(I22=1,VLOOKUP(②選手情報入力!L30,種目情報!$A$5:$C$22,3,FALSE),VLOOKUP(②選手情報入力!L30,種目情報!$E$5:$G$21,3,FALSE))))","v":""},null,null,null,null,{"$f":"IF(E22=\"\",\"\",IF(②選手情報入力!P30=\"\",\"\",IF(I22=1,種目情報!$J$4,種目情報!$J$6)))","v":""},{"$f":"IF(E22=\"\",\"\",IF(②選手情報入力!P30=\"\",\"\",IF(I22=1,IF(②選手情報入力!$N$5=\"\",\"\",②選手情報入力!$N$5),IF(②選手情報入力!$N$6=\"\",\"\",②選手情報入力!$N$6))))","v":""},{"$f":"IF(E22=\"\",\"\",IF(②選手情報入力!P30=\"\",\"\",0))","v":""},{"$f":"IF(E22=\"\",\"\",IF(②選手情報入力!P30=\"\",\"\",2))","v":""},{"$f":"IF(E22=\"\",\"\",IF(②選手情報入力!Q30=\"\",\"\",IF(I22=1,種目情報!$J$5,種目情報!$J$7)))","v":""},{"$f":"IF(E22=\"\",\"\",IF(②選手情報入力!Q30=\"\",\"\",IF(I22=1,IF(②選手情報入力!$P$5=\"\",\"\",②選手情報入力!$P$5),IF(②選手情報入力!$P$6=\"\",\"\",②選手情報入力!$P$6))))","v":""},{"$f":"IF(E22=\"\",\"\",IF(②選手情報入力!Q30=\"\",\"\",0))","v":""},{"$f":"IF(E22=\"\",\"\",IF(②選手情報入力!Q30=\"\",\"\",2))","v":""}]
[{"$f":"IF(E23=\"\",\"\",I23*1000000+①団体情報入力!$D$3*1000+②選手情報入力!A32)","v":""},{"$f":"IF(E23=\"\",\"\",①団体情報入力!$D$3)","v":""},null,{"$f":"IF(②選手情報入力!B31=\"\",\"\",②選手情報入力!B31)","v":""},{"$f":"IF(②選手情報入力!C31=\"\",\"\",②選手情報入力!C31)","v":""},{"$f":"IF(E23=\"\",\"\",②選手情報入力!D31)","v":""},{"$f":"IF(E23=\"\",\"\",②選手情報入力!E31)","v":""},"",{"$f":"IF(E23=\"\",\"\",IF(②選手情報入力!G31=\"男\",1,2))","v":""},{"$f":"IF(E23=\"\",\"\",IF(②選手情報入力!H31=\"\",\"\",②選手情報入力!H31))","v":""},null,"","",null,{"$f":"IF(E23=\"\",\"\",IF(②選手情報入力!I31=\"\",\"\",IF(I23=1,VLOOKUP(②選手情報入力!I31,種目情報!$A$4:$B$232,2,FALSE),VLOOKUP(②選手情報入力!I31,種目情報!$E$4:$F$81,2,FALSE))))","v":""},{"$f":"IF(E23=\"\",\"\",IF(②選手情報入力!K32=\"\",\"\",②選手情報入力!K32))","v":""},{"$f":"IF(E23=\"\",\"\",IF(②選手情報入力!I31=\"\",\"\",0))","v":""},{"$f":"IF(E23=\"\",\"\",IF(②選手情報入力!I31=\"\",\"\",IF(I23=1,VLOOKUP(②選手情報入力!I31,種目情報!$A$4:$C$22,3,FALSE),VLOOKUP(②選手情報入力!I31,種目情報!$E$4:$G$21,3,FALSE))))","v":""},{"$f":"IF(E23=\"\",\"\",IF(②選手情報入力!L31=\"\",\"\",IF(I23=1,VLOOKUP(②選手情報入力!L31,種目情報!$A$5:$B$242,2,FALSE),VLOOKUP(②選手情報入力!L31,種目情報!$E$5:$F$241,2,FALSE))))","v":""},{"$f":"IF(E23=\"\",\"\",IF(②選手情報入力!N32=\"\",\"\",②選手情報入力!N32))","v":""},{"$f":"IF(E23=\"\",\"\",IF(②選手情報入力!L31=\"\",\"\",0))","v":""},{"$f":"IF(E23=\"\",\"\",IF(②選手情報入力!L31=\"\",\"\",IF(I23=1,VLOOKUP(②選手情報入力!L31,種目情報!$A$5:$C$22,3,FALSE),VLOOKUP(②選手情報入力!L31,種目情報!$E$5:$G$21,3,FALSE))))","v":""},null,null,null,null,{"$f":"IF(E23=\"\",\"\",IF(②選手情報入力!P31=\"\",\"\",IF(I23=1,種目情報!$J$4,種目情報!$J$6)))","v":""},{"$f":"IF(E23=\"\",\"\",IF(②選手情報入力!P31=\"\",\"\",IF(I23=1,IF(②選手情報入力!$N$5=\"\",\"\",②選手情報入力!$N$5),IF(②選手情報入力!$N$6=\"\",\"\",②選手情報入力!$N$6))))","v":""},{"$f":"IF(E23=\"\",\"\",IF(②選手情報入力!P31=\"\",\"\",0))","v":""},{"$f":"IF(E23=\"\",\"\",IF(②選手情報入力!P31=\"\",\"\",2))","v":""},{"$f":"IF(E23=\"\",\"\",IF(②選手情報入力!Q31=\"\",\"\",IF(I23=1,種目情報!$J$5,種目情報!$J$7)))","v":""},{"$f":"IF(E23=\"\",\"\",IF(②選手情報入力!Q31=\"\",\"\",IF(I23=1,IF(②選手情報入力!$P$5=\"\",\"\",②選手情報入力!$P$5),IF(②選手情報入力!$P$6=\"\",\"\",②選手情報入力!$P$6))))","v":""},{"$f":"IF(E23=\"\",\"\",IF(②選手情報入力!Q31=\"\",\"\",0))","v":""},{"$f":"IF(E23=\"\",\"\",IF(②選手情報入力!Q31=\"\",\"\",2))","v":""}]
[{"$f":"IF(E24=\"\",\"\",I24*1000000+①団体情報入力!$D$3*1000+②選手情報入力!A33)","v":""},{"$f":"IF(E24=\"\",\"\",①団体情報入力!$D$3)","v":""},null,{"$f":"IF(②選手情報入力!B32=\"\",\"\",②選手情報入力!B32)","v":""},{"$f":"IF(②選手情報入力!C32=\"\",\"\",②選手情報入力!C32)","v":""},{"$f":"IF(E24=\"\",\"\",②選手情報入力!D32)","v":""},{"$f":"IF(E24=\"\",\"\",②選手情報入力!E32)","v":""},"",{"$f":"IF(E24=\"\",\"\",IF(②選手情報入力!G32=\"男\",1,2))","v":""},{"$f":"IF(E24=\"\",\"\",IF(②選手情報入力!H32=\"\",\"\",②選手情報入力!H32))","v":""},null,"","",null,{"$f":"IF(E24=\"\",\"\",IF(②選手情報入力!I32=\"\",\"\",IF(I24=1,VLOOKUP(②選手情報入力!I32,種目情報!$A$4:$B$232,2,FALSE),VLOOKUP(②選手情報入力!I32,種目情報!$E$4:$F$81,2,FALSE))))","v":""},{"$f":"IF(E24=\"\",\"\",IF(②選手情報入力!K33=\"\",\"\",②選手情報入力!K33))","v":""},{"$f":"IF(E24=\"\",\"\",IF(②選手情報入力!I32=\"\",\"\",0))","v":""},{"$f":"IF(E24=\"\",\"\",IF(②選手情報入力!I32=\"\",\"\",IF(I24=1,VLOOKUP(②選手情報入力!I32,種目情報!$A$4:$C$22,3,FALSE),VLOOKUP(②選手情報入力!I32,種目情報!$E$4:$G$21,3,FALSE))))","v":""},{"$f":"IF(E24=\"\",\"\",IF(②選手情報入力!L32=\"\",\"\",IF(I24=1,VLOOKUP(②選手情報入力!L32,種目情報!$A$5:$B$242,2,FALSE),VLOOKUP(②選手情報入力!L32,種目情報!$E$5:$F$241,2,FALSE))))","v":""},{"$f":"IF(E24=\"\",\"\",IF(②選手情報入力!N33=\"\",\"\",②選手情報入力!N33))","v":""},{"$f":"IF(E24=\"\",\"\",IF(②選手情報入力!L32=\"\",\"\",0))","v":""},{"$f":"IF(E24=\"\",\"\",IF(②選手情報入力!L32=\"\",\"\",IF(I24=1,VLOOKUP(②選手情報入力!L32,種目情報!$A$5:$C$22,3,FALSE),VLOOKUP(②選手情報入力!L32,種目情報!$E$5:$G$21,3,FALSE))))","v":""},null,null,null,null,{"$f":"IF(E24=\"\",\"\",IF(②選手情報入力!P32=\"\",\"\",IF(I24=1,種目情報!$J$4,種目情報!$J$6)))","v":""},{"$f":"IF(E24=\"\",\"\",IF(②選手情報入力!P32=\"\",\"\",IF(I24=1,IF(②選手情報入力!$N$5=\"\",\"\",②選手情報入力!$N$5),IF(②選手情報入力!$N$6=\"\",\"\",②選手情報入力!$N$6))))","v":""},{"$f":"IF(E24=\"\",\"\",IF(②選手情報入力!P32=\"\",\"\",0))","v":""},{"$f":"IF(E24=\"\",\"\",IF(②選手情報入力!P32=\"\",\"\",2))","v":""},{"$f":"IF(E24=\"\",\"\",IF(②選手情報入力!Q32=\"\",\"\",IF(I24=1,種目情報!$J$5,種目情報!$J$7)))","v":""},{"$f":"IF(E24=\"\",\"\",IF(②選手情報入力!Q32=\"\",\"\",IF(I24=1,IF(②選手情報入力!$P$5=\"\",\"\",②選手情報入力!$P$5),IF(②選手情報入力!$P$6=\"\",\"\",②選手情報入力!$P$6))))","v":""},{"$f":"IF(E24=\"\",\"\",IF(②選手情報入力!Q32=\"\",\"\",0))","v":""},{"$f":"IF(E24=\"\",\"\",IF(②選手情報入力!Q32=\"\",\"\",2))","v":""}]
[{"$f":"IF(E25=\"\",\"\",I25*1000000+①団体情報入力!$D$3*1000+②選手情報入力!A34)","v":""},{"$f":"IF(E25=\"\",\"\",①団体情報入力!$D$3)","v":""},null,{"$f":"IF(②選手情報入力!B33=\"\",\"\",②選手情報入力!B33)","v":""},{"$f":"IF(②選手情報入力!C33=\"\",\"\",②選手情報入力!C33)","v":""},{"$f":"IF(E25=\"\",\"\",②選手情報入力!D33)","v":""},{"$f":"IF(E25=\"\",\"\",②選手情報入力!E33)","v":""},"",{"$f":"IF(E25=\"\",\"\",IF(②選手情報入力!G33=\"男\",1,2))","v":""},{"$f":"IF(E25=\"\",\"\",IF(②選手情報入力!H33=\"\",\"\",②選手情報入力!H33))","v":""},null,"","",null,{"$f":"IF(E25=\"\",\"\",IF(②選手情報入力!I33=\"\",\"\",IF(I25=1,VLOOKUP(②選手情報入力!I33,種目情報!$A$4:$B$232,2,FALSE),VLOOKUP(②選手情報入力!I33,種目情報!$E$4:$F$81,2,FALSE))))","v":""},{"$f":"IF(E25=\"\",\"\",IF(②選手情報入力!K34=\"\",\"\",②選手情報入力!K34))","v":""},{"$f":"IF(E25=\"\",\"\",IF(②選手情報入力!I33=\"\",\"\",0))","v":""},{"$f":"IF(E25=\"\",\"\",IF(②選手情報入力!I33=\"\",\"\",IF(I25=1,VLOOKUP(②選手情報入力!I33,種目情報!$A$4:$C$22,3,FALSE),VLOOKUP(②選手情報入力!I33,種目情報!$E$4:$G$21,3,FALSE))))","v":""},{"$f":"IF(E25=\"\",\"\",IF(②選手情報入力!L33=\"\",\"\",IF(I25=1,VLOOKUP(②選手情報入力!L33,種目情報!$A$5:$B$242,2,FALSE),VLOOKUP(②選手情報入力!L33,種目情報!$E$5:$F$241,2,FALSE))))","v":""},{"$f":"IF(E25=\"\",\"\",IF(②選手情報入力!N34=\"\",\"\",②選手情報入力!N34))","v":""},{"$f":"IF(E25=\"\",\"\",IF(②選手情報入力!L33=\"\",\"\",0))","v":""},{"$f":"IF(E25=\"\",\"\",IF(②選手情報入力!L33=\"\",\"\",IF(I25=1,VLOOKUP(②選手情報入力!L33,種目情報!$A$5:$C$22,3,FALSE),VLOOKUP(②選手情報入力!L33,種目情報!$E$5:$G$21,3,FALSE))))","v":""},null,null,null,null,{"$f":"IF(E25=\"\",\"\",IF(②選手情報入力!P33=\"\",\"\",IF(I25=1,種目情報!$J$4,種目情報!$J$6)))","v":""},{"$f":"IF(E25=\"\",\"\",IF(②選手情報入力!P33=\"\",\"\",IF(I25=1,IF(②選手情報入力!$N$5=\"\",\"\",②選手情報入力!$N$5),IF(②選手情報入力!$N$6=\"\",\"\",②選手情報入力!$N$6))))","v":""},{"$f":"IF(E25=\"\",\"\",IF(②選手情報入力!P33=\"\",\"\",0))","v":""},{"$f":"IF(E25=\"\",\"\",IF(②選手情報入力!P33=\"\",\"\",2))","v":""},{"$f":"IF(E25=\"\",\"\",IF(②選手情報入力!Q33=\"\",\"\",IF(I25=1,種目情報!$J$5,種目情報!$J$7)))","v":""},{"$f":"IF(E25=\"\",\"\",IF(②選手情報入力!Q33=\"\",\"\",IF(I25=1,IF(②選手情報入力!$P$5=\"\",\"\",②選手情報入力!$P$5),IF(②選手情報入力!$P$6=\"\",\"\",②選手情報入力!$P$6))))","v":""},{"$f":"IF(E25=\"\",\"\",IF(②選手情報入力!Q33=\"\",\"\",0))","v":""},{"$f":"IF(E25=\"\",\"\",IF(②選手情報入力!Q33=\"\",\"\",2))","v":""}]
[{"$f":"IF(E26=\"\",\"\",I26*1000000+①団体情報入力!$D$3*1000+②選手情報入力!A35)","v":""},{"$f":"IF(E26=\"\",\"\",①団体情報入力!$D$3)","v":""},null,{"$f":"IF(②選手情報入力!B34=\"\",\"\",②選手情報入力!B34)","v":""},{"$f":"IF(②選手情報入力!C34=\"\",\"\",②選手情報入力!C34)","v":""},{"$f":"IF(E26=\"\",\"\",②選手情報入力!D34)","v":""},{"$f":"IF(E26=\"\",\"\",②選手情報入力!E34)","v":""},"",{"$f":"IF(E26=\"\",\"\",IF(②選手情報入力!G34=\"男\",1,2))","v":""},{"$f":"IF(E26=\"\",\"\",IF(②選手情報入力!H34=\"\",\"\",②選手情報入力!H34))","v":""},null,"","",null,{"$f":"IF(E26=\"\",\"\",IF(②選手情報入力!I34=\"\",\"\",IF(I26=1,VLOOKUP(②選手情報入力!I34,種目情報!$A$4:$B$232,2,FALSE),VLOOKUP(②選手情報入力!I34,種目情報!$E$4:$F$81,2,FALSE))))","v":""},{"$f":"IF(E26=\"\",\"\",IF(②選手情報入力!K35=\"\",\"\",②選手情報入力!K35))","v":""},{"$f":"IF(E26=\"\",\"\",IF(②選手情報入力!I34=\"\",\"\",0))","v":""},{"$f":"IF(E26=\"\",\"\",IF(②選手情報入力!I34=\"\",\"\",IF(I26=1,VLOOKUP(②選手情報入力!I34,種目情報!$A$4:$C$22,3,FALSE),VLOOKUP(②選手情報入力!I34,種目情報!$E$4:$G$21,3,FALSE))))","v":""},{"$f":"IF(E26=\"\",\"\",IF(②選手情報入力!L34=\"\",\"\",IF(I26=1,VLOOKUP(②選手情報入力!L34,種目情報!$A$5:$B$242,2,FALSE),VLOOKUP(②選手情報入力!L34,種目情報!$E$5:$F$241,2,FALSE))))","v":""},{"$f":"IF(E26=\"\",\"\",IF(②選手情報入力!N35=\"\",\"\",②選手情報入力!N35))","v":""},{"$f":"IF(E26=\"\",\"\",IF(②選手情報入力!L34=\"\",\"\",0))","v":""},{"$f":"IF(E26=\"\",\"\",IF(②選手情報入力!L34=\"\",\"\",IF(I26=1,VLOOKUP(②選手情報入力!L34,種目情報!$A$5:$C$22,3,FALSE),VLOOKUP(②選手情報入力!L34,種目情報!$E$5:$G$21,3,FALSE))))","v":""},null,null,null,null,{"$f":"IF(E26=\"\",\"\",IF(②選手情報入力!P34=\"\",\"\",IF(I26=1,種目情報!$J$4,種目情報!$J$6)))","v":""},{"$f":"IF(E26=\"\",\"\",IF(②選手情報入力!P34=\"\",\"\",IF(I26=1,IF(②選手情報入力!$N$5=\"\",\"\",②選手情報入力!$N$5),IF(②選手情報入力!$N$6=\"\",\"\",②選手情報入力!$N$6))))","v":""},{"$f":"IF(E26=\"\",\"\",IF(②選手情報入力!P34=\"\",\"\",0))","v":""},{"$f":"IF(E26=\"\",\"\",IF(②選手情報入力!P34=\"\",\"\",2))","v":""},{"$f":"IF(E26=\"\",\"\",IF(②選手情報入力!Q34=\"\",\"\",IF(I26=1,種目情報!$J$5,種目情報!$J$7)))","v":""},{"$f":"IF(E26=\"\",\"\",IF(②選手情報入力!Q34=\"\",\"\",IF(I26=1,IF(②選手情報入力!$P$5=\"\",\"\",②選手情報入力!$P$5),IF(②選手情報入力!$P$6=\"\",\"\",②選手情報入力!$P$6))))","v":""},{"$f":"IF(E26=\"\",\"\",IF(②選手情報入力!Q34=\"\",\"\",0))","v":""},{"$f":"IF(E26=\"\",\"\",IF(②選手情報入力!Q34=\"\",\"\",2))","v":""}]
[{"$f":"IF(E27=\"\",\"\",I27*1000000+①団体情報入力!$D$3*1000+②選手情報入力!A36)","v":""},{"$f":"IF(E27=\"\",\"\",①団体情報入力!$D$3)","v":""},null,{"$f":"IF(②選手情報入力!B35=\"\",\"\",②選手情報入力!B35)","v":""},{"$f":"IF(②選手情報入力!C35=\"\",\"\",②選手情報入力!C35)","v":""},{"$f":"IF(E27=\"\",\"\",②選手情報入力!D35)","v":""},{"$f":"IF(E27=\"\",\"\",②選手情報入力!E35)","v":""},"",{"$f":"IF(E27=\"\",\"\",IF(②選手情報入力!G35=\"男\",1,2))","v":""},{"$f":"IF(E27=\"\",\"\",IF(②選手情報入力!H35=\"\",\"\",②選手情報入力!H35))","v":""},null,"","",null,{"$f":"IF(E27=\"\",\"\",IF(②選手情報入力!I35=\"\",\"\",IF(I27=1,VLOOKUP(②選手情報入力!I35,種目情報!$A$4:$B$232,2,FALSE),VLOOKUP(②選手情報入力!I35,種目情報!$E$4:$F$81,2,FALSE))))","v":""},{"$f":"IF(E27=\"\",\"\",IF(②選手情報入力!K36=\"\",\"\",②選手情報入力!K36))","v":""},{"$f":"IF(E27=\"\",\"\",IF(②選手情報入力!I35=\"\",\"\",0))","v":""},{"$f":"IF(E27=\"\",\"\",IF(②選手情報入力!I35=\"\",\"\",IF(I27=1,VLOOKUP(②選手情報入力!I35,種目情報!$A$4:$C$22,3,FALSE),VLOOKUP(②選手情報入力!I35,種目情報!$E$4:$G$21,3,FALSE))))","v":""},{"$f":"IF(E27=\"\",\"\",IF(②選手情報入力!L35=\"\",\"\",IF(I27=1,VLOOKUP(②選手情報入力!L35,種目情報!$A$5:$B$242,2,FALSE),VLOOKUP(②選手情報入力!L35,種目情報!$E$5:$F$241,2,FALSE))))","v":""},{"$f":"IF(E27=\"\",\"\",IF(②選手情報入力!N36=\"\",\"\",②選手情報入力!N36))","v":""},{"$f":"IF(E27=\"\",\"\",IF(②選手情報入力!L35=\"\",\"\",0))","v":""},{"$f":"IF(E27=\"\",\"\",IF(②選手情報入力!L35=\"\",\"\",IF(I27=1,VLOOKUP(②選手情報入力!L35,種目情報!$A$5:$C$22,3,FALSE),VLOOKUP(②選手情報入力!L35,種目情報!$E$5:$G$21,3,FALSE))))","v":""},null,null,null,null,{"$f":"IF(E27=\"\",\"\",IF(②選手情報入力!P35=\"\",\"\",IF(I27=1,種目情報!$J$4,種目情報!$J$6)))","v":""},{"$f":"IF(E27=\"\",\"\",IF(②選手情報入力!P35=\"\",\"\",IF(I27=1,IF(②選手情報入力!$N$5=\"\",\"\",②選手情報入力!$N$5),IF(②選手情報入力!$N$6=\"\",\"\",②選手情報入力!$N$6))))","v":""},{"$f":"IF(E27=\"\",\"\",IF(②選手情報入力!P35=\"\",\"\",0))","v":""},{"$f":"IF(E27=\"\",\"\",IF(②選手情報入力!P35=\"\",\"\",2))","v":""},{"$f":"IF(E27=\"\",\"\",IF(②選手情報入力!Q35=\"\",\"\",IF(I27=1,種目情報!$J$5,種目情報!$J$7)))","v":""},{"$f":"IF(E27=\"\",\"\",IF(②選手情報入力!Q35=\"\",\"\",IF(I27=1,IF(②選手情報入力!$P$5=\"\",\"\",②選手情報入力!$P$5),IF(②選手情報入力!$P$6=\"\",\"\",②選手情報入力!$P$6))))","v":""},{"$f":"IF(E27=\"\",\"\",IF(②選手情報入力!Q35=\"\",\"\",0))","v":""},{"$f":"IF(E27=\"\",\"\",IF(②選手情報入力!Q35=\"\",\"\",2))","v":""}]
[{"$f":"IF(E28=\"\",\"\",I28*1000000+①団体情報入力!$D$3*1000+②選手情報入力!A37)","v":""},{"$f":"IF(E28=\"\",\"\",①団体情報入力!$D$3)","v":""},null,{"$f":"IF(②選手情報入力!B36=\"\",\"\",②選手情報入力!B36)","v":""},{"$f":"IF(②選手情報入力!C36=\"\",\"\",②選手情報入力!C36)","v":""},{"$f":"IF(E28=\"\",\"\",②選手情報入力!D36)","v":""},{"$f":"IF(E28=\"\",\"\",②選手情報入力!E36)","v":""},"",{"$f":"IF(E28=\"\",\"\",IF(②選手情報入力!G36=\"男\",1,2))","v":""},{"$f":"IF(E28=\"\",\"\",IF(②選手情報入力!H36=\"\",\"\",②選手情報入力!H36))","v":""},null,"","",null,{"$f":"IF(E28=\"\",\"\",IF(②選手情報入力!I36=\"\",\"\",IF(I28=1,VLOOKUP(②選手情報入力!I36,種目情報!$A$4:$B$232,2,FALSE),VLOOKUP(②選手情報入力!I36,種目情報!$E$4:$F$81,2,FALSE))))","v":""},{"$f":"IF(E28=\"\",\"\",IF(②選手情報入力!K37=\"\",\"\",②選手情報入力!K37))","v":""},{"$f":"IF(E28=\"\",\"\",IF(②選手情報入力!I36=\"\",\"\",0))","v":""},{"$f":"IF(E28=\"\",\"\",IF(②選手情報入力!I36=\"\",\"\",IF(I28=1,VLOOKUP(②選手情報入力!I36,種目情報!$A$4:$C$22,3,FALSE),VLOOKUP(②選手情報入力!I36,種目情報!$E$4:$G$21,3,FALSE))))","v":""},{"$f":"IF(E28=\"\",\"\",IF(②選手情報入力!L36=\"\",\"\",IF(I28=1,VLOOKUP(②選手情報入力!L36,種目情報!$A$5:$B$242,2,FALSE),VLOOKUP(②選手情報入力!L36,種目情報!$E$5:$F$241,2,FALSE))))","v":""},{"$f":"IF(E28=\"\",\"\",IF(②選手情報入力!N37=\"\",\"\",②選手情報入力!N37))","v":""},{"$f":"IF(E28=\"\",\"\",IF(②選手情報入力!L36=\"\",\"\",0))","v":""},{"$f":"IF(E28=\"\",\"\",IF(②選手情報入力!L36=\"\",\"\",IF(I28=1,VLOOKUP(②選手情報入力!L36,種目情報!$A$5:$C$22,3,FALSE),VLOOKUP(②選手情報入力!L36,種目情報!$E$5:$G$21,3,FALSE))))","v":""},null,null,null,null,{"$f":"IF(E28=\"\",\"\",IF(②選手情報入力!P36=\"\",\"\",IF(I28=1,種目情報!$J$4,種目情報!$J$6)))","v":""},{"$f":"IF(E28=\"\",\"\",IF(②選手情報入力!P36=\"\",\"\",IF(I28=1,IF(②選手情報入力!$N$5=\"\",\"\",②選手情報入力!$N$5),IF(②選手情報入力!$N$6=\"\",\"\",②選手情報入力!$N$6))))","v":""},{"$f":"IF(E28=\"\",\"\",IF(②選手情報入力!P36=\"\",\"\",0))","v":""},{"$f":"IF(E28=\"\",\"\",IF(②選手情報入力!P36=\"\",\"\",2))","v":""},{"$f":"IF(E28=\"\",\"\",IF(②選手情報入力!Q36=\"\",\"\",IF(I28=1,種目情報!$J$5,種目情報!$J$7)))","v":""},{"$f":"IF(E28=\"\",\"\",IF(②選手情報入力!Q36=\"\",\"\",IF(I28=1,IF(②選手情報入力!$P$5=\"\",\"\",②選手情報入力!$P$5),IF(②選手情報入力!$P$6=\"\",\"\",②選手情報入力!$P$6))))","v":""},{"$f":"IF(E28=\"\",\"\",IF(②選手情報入力!Q36=\"\",\"\",0))","v":""},{"$f":"IF(E28=\"\",\"\",IF(②選手情報入力!Q36=\"\",\"\",2))","v":""}]
[{"$f":"IF(E29=\"\",\"\",I29*1000000+①団体情報入力!$D$3*1000+②選手情報入力!A38)","v":""},{"$f":"IF(E29=\"\",\"\",①団体情報入力!$D$3)","v":""},null,{"$f":"IF(②選手情報入力!B37=\"\",\"\",②選手情報入力!B37)","v":""},{"$f":"IF(②選手情報入力!C37=\"\",\"\",②選手情報入力!C37)","v":""},{"$f":"IF(E29=\"\",\"\",②選手情報入力!D37)","v":""},{"$f":"IF(E29=\"\",\"\",②選手情報入力!E37)","v":""},"",{"$f":"IF(E29=\"\",\"\",IF(②選手情報入力!G37=\"男\",1,2))","v":""},{"$f":"IF(E29=\"\",\"\",IF(②選手情報入力!H37=\"\",\"\",②選手情報入力!H37))","v":""},null,"","",null,{"$f":"IF(E29=\"\",\"\",IF(②選手情報入力!I37=\"\",\"\",IF(I29=1,VLOOKUP(②選手情報入力!I37,種目情報!$A$4:$B$232,2,FALSE),VLOOKUP(②選手情報入力!I37,種目情報!$E$4:$F$81,2,FALSE))))","v":""},{"$f":"IF(E29=\"\",\"\",IF(②選手情報入力!K38=\"\",\"\",②選手情報入力!K38))","v":""},{"$f":"IF(E29=\"\",\"\",IF(②選手情報入力!I37=\"\",\"\",0))","v":""},{"$f":"IF(E29=\"\",\"\",IF(②選手情報入力!I37=\"\",\"\",IF(I29=1,VLOOKUP(②選手情報入力!I37,種目情報!$A$4:$C$22,3,FALSE),VLOOKUP(②選手情報入力!I37,種目情報!$E$4:$G$21,3,FALSE))))","v":""},{"$f":"IF(E29=\"\",\"\",IF(②選手情報入力!L37=\"\",\"\",IF(I29=1,VLOOKUP(②選手情報入力!L37,種目情報!$A$5:$B$242,2,FALSE),VLOOKUP(②選手情報入力!L37,種目情報!$E$5:$F$241,2,FALSE))))","v":""},{"$f":"IF(E29=\"\",\"\",IF(②選手情報入力!N38=\"\",\"\",②選手情報入力!N38))","v":""},{"$f":"IF(E29=\"\",\"\",IF(②選手情報入力!L37=\"\",\"\",0))","v":""},{"$f":"IF(E29=\"\",\"\",IF(②選手情報入力!L37=\"\",\"\",IF(I29=1,VLOOKUP(②選手情報入力!L37,種目情報!$A$5:$C$22,3,FALSE),VLOOKUP(②選手情報入力!L37,種目情報!$E$5:$G$21,3,FALSE))))","v":""},null,null,null,null,{"$f":"IF(E29=\"\",\"\",IF(②選手情報入力!P37=\"\",\"\",IF(I29=1,種目情報!$J$4,種目情報!$J$6)))","v":""},{"$f":"IF(E29=\"\",\"\",IF(②選手情報入力!P37=\"\",\"\",IF(I29=1,IF(②選手情報入力!$N$5=\"\",\"\",②選手情報入力!$N$5),IF(②選手情報入力!$N$6=\"\",\"\",②選手情報入力!$N$6))))","v":""},{"$f":"IF(E29=\"\",\"\",IF(②選手情報入力!P37=\"\",\"\",0))","v":""},{"$f":"IF(E29=\"\",\"\",IF(②選手情報入力!P37=\"\",\"\",2))","v":""},{"$f":"IF(E29=\"\",\"\",IF(②選手情報入力!Q37=\"\",\"\",IF(I29=1,種目情報!$J$5,種目情報!$J$7)))","v":""},{"$f":"IF(E29=\"\",\"\",IF(②選手情報入力!Q37=\"\",\"\",IF(I29=1,IF(②選手情報入力!$P$5=\"\",\"\",②選手情報入力!$P$5),IF(②選手情報入力!$P$6=\"\",\"\",②選手情報入力!$P$6))))","v":""},{"$f":"IF(E29=\"\",\"\",IF(②選手情報入力!Q37=\"\",\"\",0))","v":""},{"$f":"IF(E29=\"\",\"\",IF(②選手情報入力!Q37=\"\",\"\",2))","v":""}]
[{"$f":"IF(E30=\"\",\"\",I30*1000000+①団体情報入力!$D$3*1000+②選手情報入力!A39)","v":""},{"$f":"IF(E30=\"\",\"\",①団体情報入力!$D$3)","v":""},null,{"$f":"IF(②選手情報入力!B38=\"\",\"\",②選手情報入力!B38)","v":""},{"$f":"IF(②選手情報入力!C38=\"\",\"\",②選手情報入力!C38)","v":""},{"$f":"IF(E30=\"\",\"\",②選手情報入力!D38)","v":""},{"$f":"IF(E30=\"\",\"\",②選手情報入力!E38)","v":""},"",{"$f":"IF(E30=\"\",\"\",IF(②選手情報入力!G38=\"男\",1,2))","v":""},{"$f":"IF(E30=\"\",\"\",IF(②選手情報入力!H38=\"\",\"\",②選手情報入力!H38))","v":""},null,"","",null,{"$f":"IF(E30=\"\",\"\",IF(②選手情報入力!I38=\"\",\"\",IF(I30=1,VLOOKUP(②選手情報入力!I38,種目情報!$A$4:$B$232,2,FALSE),VLOOKUP(②選手情報入力!I38,種目情報!$E$4:$F$81,2,FALSE))))","v":""},{"$f":"IF(E30=\"\",\"\",IF(②選手情報入力!K39=\"\",\"\",②選手情報入力!K39))","v":""},{"$f":"IF(E30=\"\",\"\",IF(②選手情報入力!I38=\"\",\"\",0))","v":""},{"$f":"IF(E30=\"\",\"\",IF(②選手情報入力!I38=\"\",\"\",IF(I30=1,VLOOKUP(②選手情報入力!I38,種目情報!$A$4:$C$22,3,FALSE),VLOOKUP(②選手情報入力!I38,種目情報!$E$4:$G$21,3,FALSE))))","v":""},{"$f":"IF(E30=\"\",\"\",IF(②選手情報入力!L38=\"\",\"\",IF(I30=1,VLOOKUP(②選手情報入力!L38,種目情報!$A$5:$B$242,2,FALSE),VLOOKUP(②選手情報入力!L38,種目情報!$E$5:$F$241,2,FALSE))))","v":""},{"$f":"IF(E30=\"\",\"\",IF(②選手情報入力!N39=\"\",\"\",②選手情報入力!N39))","v":""},{"$f":"IF(E30=\"\",\"\",IF(②選手情報入力!L38=\"\",\"\",0))","v":""},{"$f":"IF(E30=\"\",\"\",IF(②選手情報入力!L38=\"\",\"\",IF(I30=1,VLOOKUP(②選手情報入力!L38,種目情報!$A$5:$C$22,3,FALSE),VLOOKUP(②選手情報入力!L38,種目情報!$E$5:$G$21,3,FALSE))))","v":""},null,null,null,null,{"$f":"IF(E30=\"\",\"\",IF(②選手情報入力!P38=\"\",\"\",IF(I30=1,種目情報!$J$4,種目情報!$J$6)))","v":""},{"$f":"IF(E30=\"\",\"\",IF(②選手情報入力!P38=\"\",\"\",IF(I30=1,IF(②選手情報入力!$N$5=\"\",\"\",②選手情報入力!$N$5),IF(②選手情報入力!$N$6=\"\",\"\",②選手情報入力!$N$6))))","v":""},{"$f":"IF(E30=\"\",\"\",IF(②選手情報入力!P38=\"\",\"\",0))","v":""},{"$f":"IF(E30=\"\",\"\",IF(②選手情報入力!P38=\"\",\"\",2))","v":""},{"$f":"IF(E30=\"\",\"\",IF(②選手情報入力!Q38=\"\",\"\",IF(I30=1,種目情報!$J$5,種目情報!$J$7)))","v":""},{"$f":"IF(E30=\"\",\"\",IF(②選手情報入力!Q38=\"\",\"\",IF(I30=1,IF(②選手情報入力!$P$5=\"\",\"\",②選手情報入力!$P$5),IF(②選手情報入力!$P$6=\"\",\"\",②選手情報入力!$P$6))))","v":""},{"$f":"IF(E30=\"\",\"\",IF(②選手情報入力!Q38=\"\",\"\",0))","v":""},{"$f":"IF(E30=\"\",\"\",IF(②選手情報入力!Q38=\"\",\"\",2))","v":""}]
[{"$f":"IF(E31=\"\",\"\",I31*1000000+①団体情報入力!$D$3*1000+②選手情報入力!A40)","v":""},{"$f":"IF(E31=\"\",\"\",①団体情報入力!$D$3)","v":""},null,{"$f":"IF(②選手情報入力!B39=\"\",\"\",②選手情報入力!B39)","v":""},{"$f":"IF(②選手情報入力!C39=\"\",\"\",②選手情報入力!C39)","v":""},{"$f":"IF(E31=\"\",\"\",②選手情報入力!D39)","v":""},{"$f":"IF(E31=\"\",\"\",②選手情報入力!E39)","v":""},"",{"$f":"IF(E31=\"\",\"\",IF(②選手情報入力!G39=\"男\",1,2))","v":""},{"$f":"IF(E31=\"\",\"\",IF(②選手情報入力!H39=\"\",\"\",②選手情報入力!H39))","v":""},null,"","",null,{"$f":"IF(E31=\"\",\"\",IF(②選手情報入力!I39=\"\",\"\",IF(I31=1,VLOOKUP(②選手情報入力!I39,種目情報!$A$4:$B$232,2,FALSE),VLOOKUP(②選手情報入力!I39,種目情報!$E$4:$F$81,2,FALSE))))","v":""},{"$f":"IF(E31=\"\",\"\",IF(②選手情報入力!K40=\"\",\"\",②選手情報入力!K40))","v":""},{"$f":"IF(E31=\"\",\"\",IF(②選手情報入力!I39=\"\",\"\",0))","v":""},{"$f":"IF(E31=\"\",\"\",IF(②選手情報入力!I39=\"\",\"\",IF(I31=1,VLOOKUP(②選手情報入力!I39,種目情報!$A$4:$C$22,3,FALSE),VLOOKUP(②選手情報入力!I39,種目情報!$E$4:$G$21,3,FALSE))))","v":""},{"$f":"IF(E31=\"\",\"\",IF(②選手情報入力!L39=\"\",\"\",IF(I31=1,VLOOKUP(②選手情報入力!L39,種目情報!$A$5:$B$242,2,FALSE),VLOOKUP(②選手情報入力!L39,種目情報!$E$5:$F$241,2,FALSE))))","v":""},{"$f":"IF(E31=\"\",\"\",IF(②選手情報入力!N40=\"\",\"\",②選手情報入力!N40))","v":""},{"$f":"IF(E31=\"\",\"\",IF(②選手情報入力!L39=\"\",\"\",0))","v":""},{"$f":"IF(E31=\"\",\"\",IF(②選手情報入力!L39=\"\",\"\",IF(I31=1,VLOOKUP(②選手情報入力!L39,種目情報!$A$5:$C$22,3,FALSE),VLOOKUP(②選手情報入力!L39,種目情報!$E$5:$G$21,3,FALSE))))","v":""},null,null,null,null,{"$f":"IF(E31=\"\",\"\",IF(②選手情報入力!P39=\"\",\"\",IF(I31=1,種目情報!$J$4,種目情報!$J$6)))","v":""},{"$f":"IF(E31=\"\",\"\",IF(②選手情報入力!P39=\"\",\"\",IF(I31=1,IF(②選手情報入力!$N$5=\"\",\"\",②選手情報入力!$N$5),IF(②選手情報入力!$N$6=\"\",\"\",②選手情報入力!$N$6))))","v":""},{"$f":"IF(E31=\"\",\"\",IF(②選手情報入力!P39=\"\",\"\",0))","v":""},{"$f":"IF(E31=\"\",\"\",IF(②選手情報入力!P39=\"\",\"\",2))","v":""},{"$f":"IF(E31=\"\",\"\",IF(②選手情報入力!Q39=\"\",\"\",IF(I31=1,種目情報!$J$5,種目情報!$J$7)))","v":""},{"$f":"IF(E31=\"\",\"\",IF(②選手情報入力!Q39=\"\",\"\",IF(I31=1,IF(②選手情報入力!$P$5=\"\",\"\",②選手情報入力!$P$5),IF(②選手情報入力!$P$6=\"\",\"\",②選手情報入力!$P$6))))","v":""},{"$f":"IF(E31=\"\",\"\",IF(②選手情報入力!Q39=\"\",\"\",0))","v":""},{"$f":"IF(E31=\"\",\"\",IF(②選手情報入力!Q39=\"\",\"\",2))","v":""}]
[{"$f":"IF(E32=\"\",\"\",I32*1000000+①団体情報入力!$D$3*1000+②選手情報入力!A41)","v":""},{"$f":"IF(E32=\"\",\"\",①団体情報入力!$D$3)","v":""},null,{"$f":"IF(②選手情報入力!B40=\"\",\"\",②選手情報入力!B40)","v":""},{"$f":"IF(②選手情報入力!C40=\"\",\"\",②選手情報入力!C40)","v":""},{"$f":"IF(E32=\"\",\"\",②選手情報入力!D40)","v":""},{"$f":"IF(E32=\"\",\"\",②選手情報入力!E40)","v":""},"",{"$f":"IF(E32=\"\",\"\",IF(②選手情報入力!G40=\"男\",1,2))","v":""},{"$f":"IF(E32=\"\",\"\",IF(②選手情報入力!H40=\"\",\"\",②選手情報入力!H40))","v":""},null,"","",null,{"$f":"IF(E32=\"\",\"\",IF(②選手情報入力!I40=\"\",\"\",IF(I32=1,VLOOKUP(②選手情報入力!I40,種目情報!$A$4:$B$232,2,FALSE),VLOOKUP(②選手情報入力!I40,種目情報!$E$4:$F$81,2,FALSE))))","v":""},{"$f":"IF(E32=\"\",\"\",IF(②選手情報入力!K41=\"\",\"\",②選手情報入力!K41))","v":""},{"$f":"IF(E32=\"\",\"\",IF(②選手情報入力!I40=\"\",\"\",0))","v":""},{"$f":"IF(E32=\"\",\"\",IF(②選手情報入力!I40=\"\",\"\",IF(I32=1,VLOOKUP(②選手情報入力!I40,種目情報!$A$4:$C$22,3,FALSE),VLOOKUP(②選手情報入力!I40,種目情報!$E$4:$G$21,3,FALSE))))","v":""},{"$f":"IF(E32=\"\",\"\",IF(②選手情報入力!L40=\"\",\"\",IF(I32=1,VLOOKUP(②選手情報入力!L40,種目情報!$A$5:$B$242,2,FALSE),VLOOKUP(②選手情報入力!L40,種目情報!$E$5:$F$241,2,FALSE))))","v":""},{"$f":"IF(E32=\"\",\"\",IF(②選手情報入力!N41=\"\",\"\",②選手情報入力!N41))","v":""},{"$f":"IF(E32=\"\",\"\",IF(②選手情報入力!L40=\"\",\"\",0))","v":""},{"$f":"IF(E32=\"\",\"\",IF(②選手情報入力!L40=\"\",\"\",IF(I32=1,VLOOKUP(②選手情報入力!L40,種目情報!$A$5:$C$22,3,FALSE),VLOOKUP(②選手情報入力!L40,種目情報!$E$5:$G$21,3,FALSE))))","v":""},null,null,null,null,{"$f":"IF(E32=\"\",\"\",IF(②選手情報入力!P40=\"\",\"\",IF(I32=1,種目情報!$J$4,種目情報!$J$6)))","v":""},{"$f":"IF(E32=\"\",\"\",IF(②選手情報入力!P40=\"\",\"\",IF(I32=1,IF(②選手情報入力!$N$5=\"\",\"\",②選手情報入力!$N$5),IF(②選手情報入力!$N$6=\"\",\"\",②選手情報入力!$N$6))))","v":""},{"$f":"IF(E32=\"\",\"\",IF(②選手情報入力!P40=\"\",\"\",0))","v":""},{"$f":"IF(E32=\"\",\"\",IF(②選手情報入力!P40=\"\",\"\",2))","v":""},{"$f":"IF(E32=\"\",\"\",IF(②選手情報入力!Q40=\"\",\"\",IF(I32=1,種目情報!$J$5,種目情報!$J$7)))","v":""},{"$f":"IF(E32=\"\",\"\",IF(②選手情報入力!Q40=\"\",\"\",IF(I32=1,IF(②選手情報入力!$P$5=\"\",\"\",②選手情報入力!$P$5),IF(②選手情報入力!$P$6=\"\",\"\",②選手情報入力!$P$6))))","v":""},{"$f":"IF(E32=\"\",\"\",IF(②選手情報入力!Q40=\"\",\"\",0))","v":""},{"$f":"IF(E32=\"\",\"\",IF(②選手情報入力!Q40=\"\",\"\",2))","v":""}]
[{"$f":"IF(E33=\"\",\"\",I33*1000000+①団体情報入力!$D$3*1000+②選手情報入力!A42)","v":""},{"$f":"IF(E33=\"\",\"\",①団体情報入力!$D$3)","v":""},null,{"$f":"IF(②選手情報入力!B41=\"\",\"\",②選手情報入力!B41)","v":""},{"$f":"IF(②選手情報入力!C41=\"\",\"\",②選手情報入力!C41)","v":""},{"$f":"IF(E33=\"\",\"\",②選手情報入力!D41)","v":""},{"$f":"IF(E33=\"\",\"\",②選手情報入力!E41)","v":""},"",{"$f":"IF(E33=\"\",\"\",IF(②選手情報入力!G41=\"男\",1,2))","v":""},{"$f":"IF(E33=\"\",\"\",IF(②選手情報入力!H41=\"\",\"\",②選手情報入力!H41))","v":""},null,"","",null,{"$f":"IF(E33=\"\",\"\",IF(②選手情報入力!I41=\"\",\"\",IF(I33=1,VLOOKUP(②選手情報入力!I41,種目情報!$A$4:$B$232,2,FALSE),VLOOKUP(②選手情報入力!I41,種目情報!$E$4:$F$81,2,FALSE))))","v":""},{"$f":"IF(E33=\"\",\"\",IF(②選手情報入力!K42=\"\",\"\",②選手情報入力!K42))","v":""},{"$f":"IF(E33=\"\",\"\",IF(②選手情報入力!I41=\"\",\"\",0))","v":""},{"$f":"IF(E33=\"\",\"\",IF(②選手情報入力!I41=\"\",\"\",IF(I33=1,VLOOKUP(②選手情報入力!I41,種目情報!$A$4:$C$22,3,FALSE),VLOOKUP(②選手情報入力!I41,種目情報!$E$4:$G$21,3,FALSE))))","v":""},{"$f":"IF(E33=\"\",\"\",IF(②選手情報入力!L41=\"\",\"\",IF(I33=1,VLOOKUP(②選手情報入力!L41,種目情報!$A$5:$B$242,2,FALSE),VLOOKUP(②選手情報入力!L41,種目情報!$E$5:$F$241,2,FALSE))))","v":""},{"$f":"IF(E33=\"\",\"\",IF(②選手情報入力!N42=\"\",\"\",②選手情報入力!N42))","v":""},{"$f":"IF(E33=\"\",\"\",IF(②選手情報入力!L41=\"\",\"\",0))","v":""},{"$f":"IF(E33=\"\",\"\",IF(②選手情報入力!L41=\"\",\"\",IF(I33=1,VLOOKUP(②選手情報入力!L41,種目情報!$A$5:$C$22,3,FALSE),VLOOKUP(②選手情報入力!L41,種目情報!$E$5:$G$21,3,FALSE))))","v":""},null,null,null,null,{"$f":"IF(E33=\"\",\"\",IF(②選手情報入力!P41=\"\",\"\",IF(I33=1,種目情報!$J$4,種目情報!$J$6)))","v":""},{"$f":"IF(E33=\"\",\"\",IF(②選手情報入力!P41=\"\",\"\",IF(I33=1,IF(②選手情報入力!$N$5=\"\",\"\",②選手情報入力!$N$5),IF(②選手情報入力!$N$6=\"\",\"\",②選手情報入力!$N$6))))","v":""},{"$f":"IF(E33=\"\",\"\",IF(②選手情報入力!P41=\"\",\"\",0))","v":""},{"$f":"IF(E33=\"\",\"\",IF(②選手情報入力!P41=\"\",\"\",2))","v":""},{"$f":"IF(E33=\"\",\"\",IF(②選手情報入力!Q41=\"\",\"\",IF(I33=1,種目情報!$J$5,種目情報!$J$7)))","v":""},{"$f":"IF(E33=\"\",\"\",IF(②選手情報入力!Q41=\"\",\"\",IF(I33=1,IF(②選手情報入力!$P$5=\"\",\"\",②選手情報入力!$P$5),IF(②選手情報入力!$P$6=\"\",\"\",②選手情報入力!$P$6))))","v":""},{"$f":"IF(E33=\"\",\"\",IF(②選手情報入力!Q41=\"\",\"\",0))","v":""},{"$f":"IF(E33=\"\",\"\",IF(②選手情報入力!Q41=\"\",\"\",2))","v":""}]
[{"$f":"IF(E34=\"\",\"\",I34*1000000+①団体情報入力!$D$3*1000+②選手情報入力!A43)","v":""},{"$f":"IF(E34=\"\",\"\",①団体情報入力!$D$3)","v":""},null,{"$f":"IF(②選手情報入力!B42=\"\",\"\",②選手情報入力!B42)","v":""},{"$f":"IF(②選手情報入力!C42=\"\",\"\",②選手情報入力!C42)","v":""},{"$f":"IF(E34=\"\",\"\",②選手情報入力!D42)","v":""},{"$f":"IF(E34=\"\",\"\",②選手情報入力!E42)","v":""},"",{"$f":"IF(E34=\"\",\"\",IF(②選手情報入力!G42=\"男\",1,2))","v":""},{"$f":"IF(E34=\"\",\"\",IF(②選手情報入力!H42=\"\",\"\",②選手情報入力!H42))","v":""},null,"","",null,{"$f":"IF(E34=\"\",\"\",IF(②選手情報入力!I42=\"\",\"\",IF(I34=1,VLOOKUP(②選手情報入力!I42,種目情報!$A$4:$B$232,2,FALSE),VLOOKUP(②選手情報入力!I42,種目情報!$E$4:$F$81,2,FALSE))))","v":""},{"$f":"IF(E34=\"\",\"\",IF(②選手情報入力!K43=\"\",\"\",②選手情報入力!K43))","v":""},{"$f":"IF(E34=\"\",\"\",IF(②選手情報入力!I42=\"\",\"\",0))","v":""},{"$f":"IF(E34=\"\",\"\",IF(②選手情報入力!I42=\"\",\"\",IF(I34=1,VLOOKUP(②選手情報入力!I42,種目情報!$A$4:$C$22,3,FALSE),VLOOKUP(②選手情報入力!I42,種目情報!$E$4:$G$21,3,FALSE))))","v":""},{"$f":"IF(E34=\"\",\"\",IF(②選手情報入力!L42=\"\",\"\",IF(I34=1,VLOOKUP(②選手情報入力!L42,種目情報!$A$5:$B$242,2,FALSE),VLOOKUP(②選手情報入力!L42,種目情報!$E$5:$F$241,2,FALSE))))","v":""},{"$f":"IF(E34=\"\",\"\",IF(②選手情報入力!N43=\"\",\"\",②選手情報入力!N43))","v":""},{"$f":"IF(E34=\"\",\"\",IF(②選手情報入力!L42=\"\",\"\",0))","v":""},{"$f":"IF(E34=\"\",\"\",IF(②選手情報入力!L42=\"\",\"\",IF(I34=1,VLOOKUP(②選手情報入力!L42,種目情報!$A$5:$C$22,3,FALSE),VLOOKUP(②選手情報入力!L42,種目情報!$E$5:$G$21,3,FALSE))))","v":""},null,null,null,null,{"$f":"IF(E34=\"\",\"\",IF(②選手情報入力!P42=\"\",\"\",IF(I34=1,種目情報!$J$4,種目情報!$J$6)))","v":""},{"$f":"IF(E34=\"\",\"\",IF(②選手情報入力!P42=\"\",\"\",IF(I34=1,IF(②選手情報入力!$N$5=\"\",\"\",②選手情報入力!$N$5),IF(②選手情報入力!$N$6=\"\",\"\",②選手情報入力!$N$6))))","v":""},{"$f":"IF(E34=\"\",\"\",IF(②選手情報入力!P42=\"\",\"\",0))","v":""},{"$f":"IF(E34=\"\",\"\",IF(②選手情報入力!P42=\"\",\"\",2))","v":""},{"$f":"IF(E34=\"\",\"\",IF(②選手情報入力!Q42=\"\",\"\",IF(I34=1,種目情報!$J$5,種目情報!$J$7)))","v":""},{"$f":"IF(E34=\"\",\"\",IF(②選手情報入力!Q42=\"\",\"\",IF(I34=1,IF(②選手情報入力!$P$5=\"\",\"\",②選手情報入力!$P$5),IF(②選手情報入力!$P$6=\"\",\"\",②選手情報入力!$P$6))))","v":""},{"$f":"IF(E34=\"\",\"\",IF(②選手情報入力!Q42=\"\",\"\",0))","v":""},{"$f":"IF(E34=\"\",\"\",IF(②選手情報入力!Q42=\"\",\"\",2))","v":""}]
[{"$f":"IF(E35=\"\",\"\",I35*1000000+①団体情報入力!$D$3*1000+②選手情報入力!A44)","v":""},{"$f":"IF(E35=\"\",\"\",①団体情報入力!$D$3)","v":""},null,{"$f":"IF(②選手情報入力!B43=\"\",\"\",②選手情報入力!B43)","v":""},{"$f":"IF(②選手情報入力!C43=\"\",\"\",②選手情報入力!C43)","v":""},{"$f":"IF(E35=\"\",\"\",②選手情報入力!D43)","v":""},{"$f":"IF(E35=\"\",\"\",②選手情報入力!E43)","v":""},"",{"$f":"IF(E35=\"\",\"\",IF(②選手情報入力!G43=\"男\",1,2))","v":""},{"$f":"IF(E35=\"\",\"\",IF(②選手情報入力!H43=\"\",\"\",②選手情報入力!H43))","v":""},null,"","",null,{"$f":"IF(E35=\"\",\"\",IF(②選手情報入力!I43=\"\",\"\",IF(I35=1,VLOOKUP(②選手情報入力!I43,種目情報!$A$4:$B$232,2,FALSE),VLOOKUP(②選手情報入力!I43,種目情報!$E$4:$F$81,2,FALSE))))","v":""},{"$f":"IF(E35=\"\",\"\",IF(②選手情報入力!K44=\"\",\"\",②選手情報入力!K44))","v":""},{"$f":"IF(E35=\"\",\"\",IF(②選手情報入力!I43=\"\",\"\",0))","v":""},{"$f":"IF(E35=\"\",\"\",IF(②選手情報入力!I43=\"\",\"\",IF(I35=1,VLOOKUP(②選手情報入力!I43,種目情報!$A$4:$C$22,3,FALSE),VLOOKUP(②選手情報入力!I43,種目情報!$E$4:$G$21,3,FALSE))))","v":""},{"$f":"IF(E35=\"\",\"\",IF(②選手情報入力!L43=\"\",\"\",IF(I35=1,VLOOKUP(②選手情報入力!L43,種目情報!$A$5:$B$242,2,FALSE),VLOOKUP(②選手情報入力!L43,種目情報!$E$5:$F$241,2,FALSE))))","v":""},{"$f":"IF(E35=\"\",\"\",IF(②選手情報入力!N44=\"\",\"\",②選手情報入力!N44))","v":""},{"$f":"IF(E35=\"\",\"\",IF(②選手情報入力!L43=\"\",\"\",0))","v":""},{"$f":"IF(E35=\"\",\"\",IF(②選手情報入力!L43=\"\",\"\",IF(I35=1,VLOOKUP(②選手情報入力!L43,種目情報!$A$5:$C$22,3,FALSE),VLOOKUP(②選手情報入力!L43,種目情報!$E$5:$G$21,3,FALSE))))","v":""},null,null,null,null,{"$f":"IF(E35=\"\",\"\",IF(②選手情報入力!P43=\"\",\"\",IF(I35=1,種目情報!$J$4,種目情報!$J$6)))","v":""},{"$f":"IF(E35=\"\",\"\",IF(②選手情報入力!P43=\"\",\"\",IF(I35=1,IF(②選手情報入力!$N$5=\"\",\"\",②選手情報入力!$N$5),IF(②選手情報入力!$N$6=\"\",\"\",②選手情報入力!$N$6))))","v":""},{"$f":"IF(E35=\"\",\"\",IF(②選手情報入力!P43=\"\",\"\",0))","v":""},{"$f":"IF(E35=\"\",\"\",IF(②選手情報入力!P43=\"\",\"\",2))","v":""},{"$f":"IF(E35=\"\",\"\",IF(②選手情報入力!Q43=\"\",\"\",IF(I35=1,種目情報!$J$5,種目情報!$J$7)))","v":""},{"$f":"IF(E35=\"\",\"\",IF(②選手情報入力!Q43=\"\",\"\",IF(I35=1,IF(②選手情報入力!$P$5=\"\",\"\",②選手情報入力!$P$5),IF(②選手情報入力!$P$6=\"\",\"\",②選手情報入力!$P$6))))","v":""},{"$f":"IF(E35=\"\",\"\",IF(②選手情報入力!Q43=\"\",\"\",0))","v":""},{"$f":"IF(E35=\"\",\"\",IF(②選手情報入力!Q43=\"\",\"\",2))","v":""}]
[{"$f":"IF(E36=\"\",\"\",I36*1000000+①団体情報入力!$D$3*1000+②選手情報入力!A45)","v":""},{"$f":"IF(E36=\"\",\"\",①団体情報入力!$D$3)","v":""},null,{"$f":"IF(②選手情報入力!B44=\"\",\"\",②選手情報入力!B44)","v":""},{"$f":"IF(②選手情報入力!C44=\"\",\"\",②選手情報入力!C44)","v":""},{"$f":"IF(E36=\"\",\"\",②選手情報入力!D44)","v":""},{"$f":"IF(E36=\"\",\"\",②選手情報入力!E44)","v":""},"",{"$f":"IF(E36=\"\",\"\",IF(②選手情報入力!G44=\"男\",1,2))","v":""},{"$f":"IF(E36=\"\",\"\",IF(②選手情報入力!H44=\"\",\"\",②選手情報入力!H44))","v":""},null,"","",null,{"$f":"IF(E36=\"\",\"\",IF(②選手情報入力!I44=\"\",\"\",IF(I36=1,VLOOKUP(②選手情報入力!I44,種目情報!$A$4:$B$232,2,FALSE),VLOOKUP(②選手情報入力!I44,種目情報!$E$4:$F$81,2,FALSE))))","v":""},{"$f":"IF(E36=\"\",\"\",IF(②選手情報入力!K45=\"\",\"\",②選手情報入力!K45))","v":""},{"$f":"IF(E36=\"\",\"\",IF(②選手情報入力!I44=\"\",\"\",0))","v":""},{"$f":"IF(E36=\"\",\"\",IF(②選手情報入力!I44=\"\",\"\",IF(I36=1,VLOOKUP(②選手情報入力!I44,種目情報!$A$4:$C$22,3,FALSE),VLOOKUP(②選手情報入力!I44,種目情報!$E$4:$G$21,3,FALSE))))","v":""},{"$f":"IF(E36=\"\",\"\",IF(②選手情報入力!L44=\"\",\"\",IF(I36=1,VLOOKUP(②選手情報入力!L44,種目情報!$A$5:$B$242,2,FALSE),VLOOKUP(②選手情報入力!L44,種目情報!$E$5:$F$241,2,FALSE))))","v":""},{"$f":"IF(E36=\"\",\"\",IF(②選手情報入力!N45=\"\",\"\",②選手情報入力!N45))","v":""},{"$f":"IF(E36=\"\",\"\",IF(②選手情報入力!L44=\"\",\"\",0))","v":""},{"$f":"IF(E36=\"\",\"\",IF(②選手情報入力!L44=\"\",\"\",IF(I36=1,VLOOKUP(②選手情報入力!L44,種目情報!$A$5:$C$22,3,FALSE),VLOOKUP(②選手情報入力!L44,種目情報!$E$5:$G$21,3,FALSE))))","v":""},null,null,null,null,{"$f":"IF(E36=\"\",\"\",IF(②選手情報入力!P44=\"\",\"\",IF(I36=1,種目情報!$J$4,種目情報!$J$6)))","v":""},{"$f":"IF(E36=\"\",\"\",IF(②選手情報入力!P44=\"\",\"\",IF(I36=1,IF(②選手情報入力!$N$5=\"\",\"\",②選手情報入力!$N$5),IF(②選手情報入力!$N$6=\"\",\"\",②選手情報入力!$N$6))))","v":""},{"$f":"IF(E36=\"\",\"\",IF(②選手情報入力!P44=\"\",\"\",0))","v":""},{"$f":"IF(E36=\"\",\"\",IF(②選手情報入力!P44=\"\",\"\",2))","v":""},{"$f":"IF(E36=\"\",\"\",IF(②選手情報入力!Q44=\"\",\"\",IF(I36=1,種目情報!$J$5,種目情報!$J$7)))","v":""},{"$f":"IF(E36=\"\",\"\",IF(②選手情報入力!Q44=\"\",\"\",IF(I36=1,IF(②選手情報入力!$P$5=\"\",\"\",②選手情報入力!$P$5),IF(②選手情報入力!$P$6=\"\",\"\",②選手情報入力!$P$6))))","v":""},{"$f":"IF(E36=\"\",\"\",IF(②選手情報入力!Q44=\"\",\"\",0))","v":""},{"$f":"IF(E36=\"\",\"\",IF(②選手情報入力!Q44=\"\",\"\",2))","v":""}]
[{"$f":"IF(E37=\"\",\"\",I37*1000000+①団体情報入力!$D$3*1000+②選手情報入力!A46)","v":""},{"$f":"IF(E37=\"\",\"\",①団体情報入力!$D$3)","v":""},null,{"$f":"IF(②選手情報入力!B45=\"\",\"\",②選手情報入力!B45)","v":""},{"$f":"IF(②選手情報入力!C45=\"\",\"\",②選手情報入力!C45)","v":""},{"$f":"IF(E37=\"\",\"\",②選手情報入力!D45)","v":""},{"$f":"IF(E37=\"\",\"\",②選手情報入力!E45)","v":""},"",{"$f":"IF(E37=\"\",\"\",IF(②選手情報入力!G45=\"男\",1,2))","v":""},{"$f":"IF(E37=\"\",\"\",IF(②選手情報入力!H45=\"\",\"\",②選手情報入力!H45))","v":""},null,"","",null,{"$f":"IF(E37=\"\",\"\",IF(②選手情報入力!I45=\"\",\"\",IF(I37=1,VLOOKUP(②選手情報入力!I45,種目情報!$A$4:$B$232,2,FALSE),VLOOKUP(②選手情報入力!I45,種目情報!$E$4:$F$81,2,FALSE))))","v":""},{"$f":"IF(E37=\"\",\"\",IF(②選手情報入力!K46=\"\",\"\",②選手情報入力!K46))","v":""},{"$f":"IF(E37=\"\",\"\",IF(②選手情報入力!I45=\"\",\"\",0))","v":""},{"$f":"IF(E37=\"\",\"\",IF(②選手情報入力!I45=\"\",\"\",IF(I37=1,VLOOKUP(②選手情報入力!I45,種目情報!$A$4:$C$22,3,FALSE),VLOOKUP(②選手情報入力!I45,種目情報!$E$4:$G$21,3,FALSE))))","v":""},{"$f":"IF(E37=\"\",\"\",IF(②選手情報入力!L45=\"\",\"\",IF(I37=1,VLOOKUP(②選手情報入力!L45,種目情報!$A$5:$B$242,2,FALSE),VLOOKUP(②選手情報入力!L45,種目情報!$E$5:$F$241,2,FALSE))))","v":""},{"$f":"IF(E37=\"\",\"\",IF(②選手情報入力!N46=\"\",\"\",②選手情報入力!N46))","v":""},{"$f":"IF(E37=\"\",\"\",IF(②選手情報入力!L45=\"\",\"\",0))","v":""},{"$f":"IF(E37=\"\",\"\",IF(②選手情報入力!L45=\"\",\"\",IF(I37=1,VLOOKUP(②選手情報入力!L45,種目情報!$A$5:$C$22,3,FALSE),VLOOKUP(②選手情報入力!L45,種目情報!$E$5:$G$21,3,FALSE))))","v":""},null,null,null,null,{"$f":"IF(E37=\"\",\"\",IF(②選手情報入力!P45=\"\",\"\",IF(I37=1,種目情報!$J$4,種目情報!$J$6)))","v":""},{"$f":"IF(E37=\"\",\"\",IF(②選手情報入力!P45=\"\",\"\",IF(I37=1,IF(②選手情報入力!$N$5=\"\",\"\",②選手情報入力!$N$5),IF(②選手情報入力!$N$6=\"\",\"\",②選手情報入力!$N$6))))","v":""},{"$f":"IF(E37=\"\",\"\",IF(②選手情報入力!P45=\"\",\"\",0))","v":""},{"$f":"IF(E37=\"\",\"\",IF(②選手情報入力!P45=\"\",\"\",2))","v":""},{"$f":"IF(E37=\"\",\"\",IF(②選手情報入力!Q45=\"\",\"\",IF(I37=1,種目情報!$J$5,種目情報!$J$7)))","v":""},{"$f":"IF(E37=\"\",\"\",IF(②選手情報入力!Q45=\"\",\"\",IF(I37=1,IF(②選手情報入力!$P$5=\"\",\"\",②選手情報入力!$P$5),IF(②選手情報入力!$P$6=\"\",\"\",②選手情報入力!$P$6))))","v":""},{"$f":"IF(E37=\"\",\"\",IF(②選手情報入力!Q45=\"\",\"\",0))","v":""},{"$f":"IF(E37=\"\",\"\",IF(②選手情報入力!Q45=\"\",\"\",2))","v":""}]
[{"$f":"IF(E38=\"\",\"\",I38*1000000+①団体情報入力!$D$3*1000+②選手情報入力!A47)","v":""},{"$f":"IF(E38=\"\",\"\",①団体情報入力!$D$3)","v":""},null,{"$f":"IF(②選手情報入力!B46=\"\",\"\",②選手情報入力!B46)","v":""},{"$f":"IF(②選手情報入力!C46=\"\",\"\",②選手情報入力!C46)","v":""},{"$f":"IF(E38=\"\",\"\",②選手情報入力!D46)","v":""},{"$f":"IF(E38=\"\",\"\",②選手情報入力!E46)","v":""},"",{"$f":"IF(E38=\"\",\"\",IF(②選手情報入力!G46=\"男\",1,2))","v":""},{"$f":"IF(E38=\"\",\"\",IF(②選手情報入力!H46=\"\",\"\",②選手情報入力!H46))","v":""},null,"","",null,{"$f":"IF(E38=\"\",\"\",IF(②選手情報入力!I46=\"\",\"\",IF(I38=1,VLOOKUP(②選手情報入力!I46,種目情報!$A$4:$B$232,2,FALSE),VLOOKUP(②選手情報入力!I46,種目情報!$E$4:$F$81,2,FALSE))))","v":""},{"$f":"IF(E38=\"\",\"\",IF(②選手情報入力!K47=\"\",\"\",②選手情報入力!K47))","v":""},{"$f":"IF(E38=\"\",\"\",IF(②選手情報入力!I46=\"\",\"\",0))","v":""},{"$f":"IF(E38=\"\",\"\",IF(②選手情報入力!I46=\"\",\"\",IF(I38=1,VLOOKUP(②選手情報入力!I46,種目情報!$A$4:$C$22,3,FALSE),VLOOKUP(②選手情報入力!I46,種目情報!$E$4:$G$21,3,FALSE))))","v":""},{"$f":"IF(E38=\"\",\"\",IF(②選手情報入力!L46=\"\",\"\",IF(I38=1,VLOOKUP(②選手情報入力!L46,種目情報!$A$5:$B$242,2,FALSE),VLOOKUP(②選手情報入力!L46,種目情報!$E$5:$F$241,2,FALSE))))","v":""},{"$f":"IF(E38=\"\",\"\",IF(②選手情報入力!N47=\"\",\"\",②選手情報入力!N47))","v":""},{"$f":"IF(E38=\"\",\"\",IF(②選手情報入力!L46=\"\",\"\",0))","v":""},{"$f":"IF(E38=\"\",\"\",IF(②選手情報入力!L46=\"\",\"\",IF(I38=1,VLOOKUP(②選手情報入力!L46,種目情報!$A$5:$C$22,3,FALSE),VLOOKUP(②選手情報入力!L46,種目情報!$E$5:$G$21,3,FALSE))))","v":""},null,null,null,null,{"$f":"IF(E38=\"\",\"\",IF(②選手情報入力!P46=\"\",\"\",IF(I38=1,種目情報!$J$4,種目情報!$J$6)))","v":""},{"$f":"IF(E38=\"\",\"\",IF(②選手情報入力!P46=\"\",\"\",IF(I38=1,IF(②選手情報入力!$N$5=\"\",\"\",②選手情報入力!$N$5),IF(②選手情報入力!$N$6=\"\",\"\",②選手情報入力!$N$6))))","v":""},{"$f":"IF(E38=\"\",\"\",IF(②選手情報入力!P46=\"\",\"\",0))","v":""},{"$f":"IF(E38=\"\",\"\",IF(②選手情報入力!P46=\"\",\"\",2))","v":""},{"$f":"IF(E38=\"\",\"\",IF(②選手情報入力!Q46=\"\",\"\",IF(I38=1,種目情報!$J$5,種目情報!$J$7)))","v":""},{"$f":"IF(E38=\"\",\"\",IF(②選手情報入力!Q46=\"\",\"\",IF(I38=1,IF(②選手情報入力!$P$5=\"\",\"\",②選手情報入力!$P$5),IF(②選手情報入力!$P$6=\"\",\"\",②選手情報入力!$P$6))))","v":""},{"$f":"IF(E38=\"\",\"\",IF(②選手情報入力!Q46=\"\",\"\",0))","v":""},{"$f":"IF(E38=\"\",\"\",IF(②選手情報入力!Q46=\"\",\"\",2))","v":""}]
[{"$f":"IF(E39=\"\",\"\",I39*1000000+①団体情報入力!$D$3*1000+②選手情報入力!A48)","v":""},{"$f":"IF(E39=\"\",\"\",①団体情報入力!$D$3)","v":""},null,{"$f":"IF(②選手情報入力!B47=\"\",\"\",②選手情報入力!B47)","v":""},{"$f":"IF(②選手情報入力!C47=\"\",\"\",②選手情報入力!C47)","v":""},{"$f":"IF(E39=\"\",\"\",②選手情報入力!D47)","v":""},{"$f":"IF(E39=\"\",\"\",②選手情報入力!E47)","v":""},"",{"$f":"IF(E39=\"\",\"\",IF(②選手情報入力!G47=\"男\",1,2))","v":""},{"$f":"IF(E39=\"\",\"\",IF(②選手情報入力!H47=\"\",\"\",②選手情報入力!H47))","v":""},null,"","",null,{"$f":"IF(E39=\"\",\"\",IF(②選手情報入力!I47=\"\",\"\",IF(I39=1,VLOOKUP(②選手情報入力!I47,種目情報!$A$4:$B$232,2,FALSE),VLOOKUP(②選手情報入力!I47,種目情報!$E$4:$F$81,2,FALSE))))","v":""},{"$f":"IF(E39=\"\",\"\",IF(②選手情報入力!K48=\"\",\"\",②選手情報入力!K48))","v":""},{"$f":"IF(E39=\"\",\"\",IF(②選手情報入力!I47=\"\",\"\",0))","v":""},{"$f":"IF(E39=\"\",\"\",IF(②選手情報入力!I47=\"\",\"\",IF(I39=1,VLOOKUP(②選手情報入力!I47,種目情報!$A$4:$C$22,3,FALSE),VLOOKUP(②選手情報入力!I47,種目情報!$E$4:$G$21,3,FALSE))))","v":""},{"$f":"IF(E39=\"\",\"\",IF(②選手情報入力!L47=\"\",\"\",IF(I39=1,VLOOKUP(②選手情報入力!L47,種目情報!$A$5:$B$242,2,FALSE),VLOOKUP(②選手情報入力!L47,種目情報!$E$5:$F$241,2,FALSE))))","v":""},{"$f":"IF(E39=\"\",\"\",IF(②選手情報入力!N48=\"\",\"\",②選手情報入力!N48))","v":""},{"$f":"IF(E39=\"\",\"\",IF(②選手情報入力!L47=\"\",\"\",0))","v":""},{"$f":"IF(E39=\"\",\"\",IF(②選手情報入力!L47=\"\",\"\",IF(I39=1,VLOOKUP(②選手情報入力!L47,種目情報!$A$5:$C$22,3,FALSE),VLOOKUP(②選手情報入力!L47,種目情報!$E$5:$G$21,3,FALSE))))","v":""},null,null,null,null,{"$f":"IF(E39=\"\",\"\",IF(②選手情報入力!P47=\"\",\"\",IF(I39=1,種目情報!$J$4,種目情報!$J$6)))","v":""},{"$f":"IF(E39=\"\",\"\",IF(②選手情報入力!P47=\"\",\"\",IF(I39=1,IF(②選手情報入力!$N$5=\"\",\"\",②選手情報入力!$N$5),IF(②選手情報入力!$N$6=\"\",\"\",②選手情報入力!$N$6))))","v":""},{"$f":"IF(E39=\"\",\"\",IF(②選手情報入力!P47=\"\",\"\",0))","v":""},{"$f":"IF(E39=\"\",\"\",IF(②選手情報入力!P47=\"\",\"\",2))","v":""},{"$f":"IF(E39=\"\",\"\",IF(②選手情報入力!Q47=\"\",\"\",IF(I39=1,種目情報!$J$5,種目情報!$J$7)))","v":""},{"$f":"IF(E39=\"\",\"\",IF(②選手情報入力!Q47=\"\",\"\",IF(I39=1,IF(②選手情報入力!$P$5=\"\",\"\",②選手情報入力!$P$5),IF(②選手情報入力!$P$6=\"\",\"\",②選手情報入力!$P$6))))","v":""},{"$f":"IF(E39=\"\",\"\",IF(②選手情報入力!Q47=\"\",\"\",0))","v":""},{"$f":"IF(E39=\"\",\"\",IF(②選手情報入力!Q47=\"\",\"\",2))","v":""}]
[{"$f":"IF(E40=\"\",\"\",I40*1000000+①団体情報入力!$D$3*1000+②選手情報入力!A49)","v":""},{"$f":"IF(E40=\"\",\"\",①団体情報入力!$D$3)","v":""},null,{"$f":"IF(②選手情報入力!B48=\"\",\"\",②選手情報入力!B48)","v":""},{"$f":"IF(②選手情報入力!C48=\"\",\"\",②選手情報入力!C48)","v":""},{"$f":"IF(E40=\"\",\"\",②選手情報入力!D48)","v":""},{"$f":"IF(E40=\"\",\"\",②選手情報入力!E48)","v":""},"",{"$f":"IF(E40=\"\",\"\",IF(②選手情報入力!G48=\"男\",1,2))","v":""},{"$f":"IF(E40=\"\",\"\",IF(②選手情報入力!H48=\"\",\"\",②選手情報入力!H48))","v":""},null,"","",null,{"$f":"IF(E40=\"\",\"\",IF(②選手情報入力!I48=\"\",\"\",IF(I40=1,VLOOKUP(②選手情報入力!I48,種目情報!$A$4:$B$232,2,FALSE),VLOOKUP(②選手情報入力!I48,種目情報!$E$4:$F$81,2,FALSE))))","v":""},{"$f":"IF(E40=\"\",\"\",IF(②選手情報入力!K49=\"\",\"\",②選手情報入力!K49))","v":""},{"$f":"IF(E40=\"\",\"\",IF(②選手情報入力!I48=\"\",\"\",0))","v":""},{"$f":"IF(E40=\"\",\"\",IF(②選手情報入力!I48=\"\",\"\",IF(I40=1,VLOOKUP(②選手情報入力!I48,種目情報!$A$4:$C$22,3,FALSE),VLOOKUP(②選手情報入力!I48,種目情報!$E$4:$G$21,3,FALSE))))","v":""},{"$f":"IF(E40=\"\",\"\",IF(②選手情報入力!L48=\"\",\"\",IF(I40=1,VLOOKUP(②選手情報入力!L48,種目情報!$A$5:$B$242,2,FALSE),VLOOKUP(②選手情報入力!L48,種目情報!$E$5:$F$241,2,FALSE))))","v":""},{"$f":"IF(E40=\"\",\"\",IF(②選手情報入力!N49=\"\",\"\",②選手情報入力!N49))","v":""},{"$f":"IF(E40=\"\",\"\",IF(②選手情報入力!L48=\"\",\"\",0))","v":""},{"$f":"IF(E40=\"\",\"\",IF(②選手情報入力!L48=\"\",\"\",IF(I40=1,VLOOKUP(②選手情報入力!L48,種目情報!$A$5:$C$22,3,FALSE),VLOOKUP(②選手情報入力!L48,種目情報!$E$5:$G$21,3,FALSE))))","v":""},null,null,null,null,{"$f":"IF(E40=\"\",\"\",IF(②選手情報入力!P48=\"\",\"\",IF(I40=1,種目情報!$J$4,種目情報!$J$6)))","v":""},{"$f":"IF(E40=\"\",\"\",IF(②選手情報入力!P48=\"\",\"\",IF(I40=1,IF(②選手情報入力!$N$5=\"\",\"\",②選手情報入力!$N$5),IF(②選手情報入力!$N$6=\"\",\"\",②選手情報入力!$N$6))))","v":""},{"$f":"IF(E40=\"\",\"\",IF(②選手情報入力!P48=\"\",\"\",0))","v":""},{"$f":"IF(E40=\"\",\"\",IF(②選手情報入力!P48=\"\",\"\",2))","v":""},{"$f":"IF(E40=\"\",\"\",IF(②選手情報入力!Q48=\"\",\"\",IF(I40=1,種目情報!$J$5,種目情報!$J$7)))","v":""},{"$f":"IF(E40=\"\",\"\",IF(②選手情報入力!Q48=\"\",\"\",IF(I40=1,IF(②選手情報入力!$P$5=\"\",\"\",②選手情報入力!$P$5),IF(②選手情報入力!$P$6=\"\",\"\",②選手情報入力!$P$6))))","v":""},{"$f":"IF(E40=\"\",\"\",IF(②選手情報入力!Q48=\"\",\"\",0))","v":""},{"$f":"IF(E40=\"\",\"\",IF(②選手情報入力!Q48=\"\",\"\",2))","v":""}]
[{"$f":"IF(E41=\"\",\"\",I41*1000000+①団体情報入力!$D$3*1000+②選手情報入力!A50)","v":""},{"$f":"IF(E41=\"\",\"\",①団体情報入力!$D$3)","v":""},null,{"$f":"IF(②選手情報入力!B49=\"\",\"\",②選手情報入力!B49)","v":""},{"$f":"IF(②選手情報入力!C49=\"\",\"\",②選手情報入力!C49)","v":""},{"$f":"IF(E41=\"\",\"\",②選手情報入力!D49)","v":""},{"$f":"IF(E41=\"\",\"\",②選手情報入力!E49)","v":""},"",{"$f":"IF(E41=\"\",\"\",IF(②選手情報入力!G49=\"男\",1,2))","v":""},{"$f":"IF(E41=\"\",\"\",IF(②選手情報入力!H49=\"\",\"\",②選手情報入力!H49))","v":""},null,"","",null,{"$f":"IF(E41=\"\",\"\",IF(②選手情報入力!I49=\"\",\"\",IF(I41=1,VLOOKUP(②選手情報入力!I49,種目情報!$A$4:$B$232,2,FALSE),VLOOKUP(②選手情報入力!I49,種目情報!$E$4:$F$81,2,FALSE))))","v":""},{"$f":"IF(E41=\"\",\"\",IF(②選手情報入力!K50=\"\",\"\",②選手情報入力!K50))","v":""},{"$f":"IF(E41=\"\",\"\",IF(②選手情報入力!I49=\"\",\"\",0))","v":""},{"$f":"IF(E41=\"\",\"\",IF(②選手情報入力!I49=\"\",\"\",IF(I41=1,VLOOKUP(②選手情報入力!I49,種目情報!$A$4:$C$22,3,FALSE),VLOOKUP(②選手情報入力!I49,種目情報!$E$4:$G$21,3,FALSE))))","v":""},{"$f":"IF(E41=\"\",\"\",IF(②選手情報入力!L49=\"\",\"\",IF(I41=1,VLOOKUP(②選手情報入力!L49,種目情報!$A$5:$B$242,2,FALSE),VLOOKUP(②選手情報入力!L49,種目情報!$E$5:$F$241,2,FALSE))))","v":""},{"$f":"IF(E41=\"\",\"\",IF(②選手情報入力!N50=\"\",\"\",②選手情報入力!N50))","v":""},{"$f":"IF(E41=\"\",\"\",IF(②選手情報入力!L49=\"\",\"\",0))","v":""},{"$f":"IF(E41=\"\",\"\",IF(②選手情報入力!L49=\"\",\"\",IF(I41=1,VLOOKUP(②選手情報入力!L49,種目情報!$A$5:$C$22,3,FALSE),VLOOKUP(②選手情報入力!L49,種目情報!$E$5:$G$21,3,FALSE))))","v":""},null,null,null,null,{"$f":"IF(E41=\"\",\"\",IF(②選手情報入力!P49=\"\",\"\",IF(I41=1,種目情報!$J$4,種目情報!$J$6)))","v":""},{"$f":"IF(E41=\"\",\"\",IF(②選手情報入力!P49=\"\",\"\",IF(I41=1,IF(②選手情報入力!$N$5=\"\",\"\",②選手情報入力!$N$5),IF(②選手情報入力!$N$6=\"\",\"\",②選手情報入力!$N$6))))","v":""},{"$f":"IF(E41=\"\",\"\",IF(②選手情報入力!P49=\"\",\"\",0))","v":""},{"$f":"IF(E41=\"\",\"\",IF(②選手情報入力!P49=\"\",\"\",2))","v":""},{"$f":"IF(E41=\"\",\"\",IF(②選手情報入力!Q49=\"\",\"\",IF(I41=1,種目情報!$J$5,種目情報!$J$7)))","v":""},{"$f":"IF(E41=\"\",\"\",IF(②選手情報入力!Q49=\"\",\"\",IF(I41=1,IF(②選手情報入力!$P$5=\"\",\"\",②選手情報入力!$P$5),IF(②選手情報入力!$P$6=\"\",\"\",②選手情報入力!$P$6))))","v":""},{"$f":"IF(E41=\"\",\"\",IF(②選手情報入力!Q49=\"\",\"\",0))","v":""},{"$f":"IF(E41=\"\",\"\",IF(②選手情報入力!Q49=\"\",\"\",2))","v":""}]

{"sheet":"data_team","index":12,"n_rows":33,"n_cols":13,"rows_kept":33,"cut":false,"hidden":false,"merged":[]}
["チームNO","所属コード","チーム名","チーム名カナ","チーム名略称","チーム正式名称","ID","競技者NO","競技者名","参加競技-競技コード","参加競技-自己記録","参加競技-オープン参加FLG","参加競技-記録FLG"]
[{"$f":"IF(③リレー情報確認!C8=\"\",\"\",410000+①団体情報入力!$D$3*10)","v":""},{"$f":"IF(A2=\"\",\"\",①団体情報入力!$D$3)","v":""},{"$f":"IF(A2=\"\",\"\",③リレー情報確認!$J$1)","v":""},{"$f":"IF(A2=\"\",\"\",③リレー情報確認!$P$1)","v":""},{"$f":"IF(C2=\"\",\"\",C2)","v":""},{"$f":"IF(C2=\"\",\"\",C2)","v":""},1,{"$f":"IF(A2=\"\",\"\",③リレー情報確認!E8)","v":""},{"$f":"IF(A2=\"\",\"\",③リレー情報確認!D8)","v":""},{"$f":"IF(A2=\"\",\"\",種目情報!$J$4)","v":""},{"$f":"IF(A2=\"\",\"\",③リレー情報確認!$F$8)","v":""},{"$f":"IF(A2=\"\",\"\",0)","v":""},{"$f":"IF(A2=\"\",\"\",種目情報!$K$4)","v":""}]
[{"$f":"IF(③リレー情報確認!C9=\"\",\"\",410000+①団体情報入力!$D$3*10)","v":""},{"$f":"IF(A3=\"\",\"\",①団体情報入力!$D$3)","v":""},{"$f":"IF(A3=\"\",\"\",③リレー情報確認!$J$1)","v":""},{"$f":"IF(A3=\"\",\"\",③リレー情報確認!$P$1)","v":""},{"$f":"IF(C3=\"\",\"\",C3)","v":""},{"$f":"IF(C3=\"\",\"\",C3)","v":""},2,{"$f":"IF(A3=\"\",\"\",③リレー情報確認!E9)","v":""},{"$f":"IF(A3=\"\",\"\",③リレー情報確認!D9)","v":""},{"$f":"IF(A3=\"\",\"\",種目情報!$J$4)","v":""},{"$f":"IF(A3=\"\",\"\",③リレー情報確認!$F$8)","v":""},{"$f":"IF(A3=\"\",\"\",0)","v":""},{"$f":"IF(A3=\"\",\"\",種目情報!$K$4)","v":""}]
[{"$f":"IF(③リレー情報確認!C10=\"\",\"\",410000+①団体情報入力!$D$3*10)","v":""},{"$f":"IF(A4=\"\",\"\",①団体情報入力!$D$3)","v":""},{"$f":"IF(A4=\"\",\"\",③リレー情報確認!$J$1)","v":""},{"$f":"IF(A4=\"\",\"\",③リレー情報確認!$P$1)","v":""},"","",3,{"$f":"IF(A4=\"\",\"\",③リレー情報確認!E10)","v":""},{"$f":"IF(A4=\"\",\"\",③リレー情報確認!D10)","v":""},{"$f":"IF(A4=\"\",\"\",種目情報!$J$4)","v":""},{"$f":"IF(A4=\"\",\"\",③リレー情報確認!$F$8)","v":""},"",{"$f":"IF(A4=\"\",\"\",種目情報!$K$4)","v":""}]
[{"$f":"IF(③リレー情報確認!C11=\"\",\"\",410000+①団体情報入力!$D$3*10)","v":""},{"$f":"IF(A5=\"\",\"\",①団体情報入力!$D$3)","v":""},{"$f":"IF(A5=\"\",\"\",③リレー情報確認!$J$1)","v":""},{"$f":"IF(A5=\"\",\"\",③リレー情報確認!$P$1)","v":""},"","",4,{"$f":"IF(A5=\"\",\"\",③リレー情報確認!E11)","v":""},{"$f":"IF(A5=\"\",\"\",③リレー情報確認!D11)","v":""},{"$f":"IF(A5=\"\",\"\",種目情報!$J$4)","v":""},{"$f":"IF(A5=\"\",\"\",③リレー情報確認!$F$8)","v":""},"",{"$f":"IF(A5=\"\",\"\",種目情報!$K$4)","v":""}]
[{"$f":"IF(③リレー情報確認!C12=\"\",\"\",410000+①団体情報入力!$D$3*10)","v":""},{"$f":"IF(A6=\"\",\"\",①団体情報入力!$D$3)","v":""},{"$f":"IF(A6=\"\",\"\",③リレー情報確認!$J$1)","v":""},{"$f":"IF(A6=\"\",\"\",③リレー情報確認!$P$1)","v":""},"","",5,{"$f":"IF(A6=\"\",\"\",③リレー情報確認!E12)","v":""},{"$f":"IF(A6=\"\",\"\",③リレー情報確認!D12)","v":""},{"$f":"IF(A6=\"\",\"\",種目情報!$J$4)","v":""},{"$f":"IF(A6=\"\",\"\",③リレー情報確認!$F$8)","v":""},"",{"$f":"IF(A6=\"\",\"\",種目情報!$K$4)","v":""}]
[{"$f":"IF(③リレー情報確認!C13=\"\",\"\",410000+①団体情報入力!$D$3*10)","v":""},{"$f":"IF(A7=\"\",\"\",①団体情報入力!$D$3)","v":""},{"$f":"IF(A7=\"\",\"\",③リレー情報確認!$J$1)","v":""},{"$f":"IF(A7=\"\",\"\",③リレー情報確認!$P$1)","v":""},"","",6,{"$f":"IF(A7=\"\",\"\",③リレー情報確認!E13)","v":""},{"$f":"IF(A7=\"\",\"\",③リレー情報確認!D13)","v":""},{"$f":"IF(A7=\"\",\"\",種目情報!$J$4)","v":""},{"$f":"IF(A7=\"\",\"\",③リレー情報確認!$F$8)","v":""},"",{"$f":"IF(A7=\"\",\"\",種目情報!$K$4)","v":""}]
[{"$f":"IF(③リレー情報確認!C14=\"\",\"\",410000+①団体情報入力!$D$3*10)","v":""},{"$f":"IF(A8=\"\",\"\",①団体情報入力!$D$3)","v":""},{"$f":"IF(A8=\"\",\"\",③リレー情報確認!$J$1)","v":""},{"$f":"IF(A8=\"\",\"\",③リレー情報確認!$P$1)","v":""},"","",7,{"$f":"IF(A8=\"\",\"\",③リレー情報確認!E14)","v":""},{"$f":"IF(A8=\"\",\"\",③リレー情報確認!D14)","v":""},{"$f":"IF(A8=\"\",\"\",種目情報!$J$4)","v":""},{"$f":"IF(A8=\"\",\"\",③リレー情報確認!$F$8)","v":""},"",{"$f":"IF(A8=\"\",\"\",種目情報!$K$4)","v":""}]
[{"$f":"IF(③リレー情報確認!C15=\"\",\"\",410000+①団体情報入力!$D$3*10)","v":""},{"$f":"IF(A9=\"\",\"\",①団体情報入力!$D$3)","v":""},{"$f":"IF(A9=\"\",\"\",③リレー情報確認!$J$1)","v":""},{"$f":"IF(A9=\"\",\"\",③リレー情報確認!$P$1)","v":""},"","",8,{"$f":"IF(A9=\"\",\"\",③リレー情報確認!E15)","v":""},{"$f":"IF(A9=\"\",\"\",③リレー情報確認!D15)","v":""},{"$f":"IF(A9=\"\",\"\",種目情報!$J$4)","v":""},{"$f":"IF(A9=\"\",\"\",③リレー情報確認!$F$8)","v":""},"",{"$f":"IF(A9=\"\",\"\",種目情報!$K$4)","v":""}]
[{"$f":"IF(③リレー情報確認!I8=\"\",\"\",1610000+①団体情報入力!$D$3*10)","v":""},{"$f":"IF(A10=\"\",\"\",①団体情報入力!$D$3)","v":""},{"$f":"IF(A10=\"\",\"\",③リレー情報確認!$J$1)","v":""},{"$f":"IF(A10=\"\",\"\",③リレー情報確認!$P$1)","v":""},"","",1,{"$f":"IF(A10=\"\",\"\",③リレー情報確認!K8)","v":""},{"$f":"IF(A10=\"\",\"\",③リレー情報確認!J8)","v":""},{"$f":"IF(A10=\"\",\"\",種目情報!$J$5)","v":""},{"$f":"IF(A10=\"\",\"\",③リレー情報確認!$L$8)","v":""},{"$f":"IF(A10=\"\",\"\",0)","v":""},{"$f":"IF(A10=\"\",\"\",種目情報!$K$5)","v":""}]
[{"$f":"IF(③リレー情報確認!I9=\"\",\"\",1610000+①団体情報入力!$D$3*10)","v":""},{"$f":"IF(A11=\"\",\"\",①団体情報入力!$D$3)","v":""},{"$f":"IF(A11=\"\",\"\",③リレー情報確認!$J$1)","v":""},{"$f":"IF(A11=\"\",\"\",③リレー情報確認!$P$1)","v":""},"","",2,{"$f":"IF(A11=\"\",\"\",③リレー情報確認!K9)","v":""},{"$f":"IF(A11=\"\",\"\",③リレー情報確認!J9)","v":""},{"$f":"IF(A11=\"\",\"\",種目情報!$J$5)","v":""},{"$f":"IF(A11=\"\",\"\",③リレー情報確認!$L$8)","v":""},{"$f":"IF(A11=\"\",\"\",0)","v":""},{"$f":"IF(A11=\"\",\"\",種目情報!$K$5)","v":""}]
[{"$f":"IF(③リレー情報確認!I10=\"\",\"\",1610000+①団体情報入力!$D$3*10)","v":""},{"$f":"IF(A12=\"\",\"\",①団体情報入力!$D$3)","v":""},{"$f":"IF(A12=\"\",\"\",③リレー情報確認!$J$1)","v":""},{"$f":"IF(A12=\"\",\"\",③リレー情報確認!$P$1)","v":""},"","",3,{"$f":"IF(A12=\"\",\"\",③リレー情報確認!K10)","v":""},{"$f":"IF(A12=\"\",\"\",③リレー情報確認!J10)","v":""},{"$f":"IF(A12=\"\",\"\",種目情報!$J$5)","v":""},{"$f":"IF(A12=\"\",\"\",③リレー情報確認!$L$8)","v":""},"",{"$f":"IF(A12=\"\",\"\",種目情報!$K$5)","v":""}]
[{"$f":"IF(③リレー情報確認!I11=\"\",\"\",1610000+①団体情報入力!$D$3*10)","v":""},{"$f":"IF(A13=\"\",\"\",①団体情報入力!$D$3)","v":""},{"$f":"IF(A13=\"\",\"\",③リレー情報確認!$J$1)","v":""},{"$f":"IF(A13=\"\",\"\",③リレー情報確認!$P$1)","v":""},"","",4,{"$f":"IF(A13=\"\",\"\",③リレー情報確認!K11)","v":""},{"$f":"IF(A13=\"\",\"\",③リレー情報確認!J11)","v":""},{"$f":"IF(A13=\"\",\"\",種目情報!$J$5)","v":""},{"$f":"IF(A13=\"\",\"\",③リレー情報確認!$L$8)","v":""},"",{"$f":"IF(A13=\"\",\"\",種目情報!$K$5)","v":""}]
[{"$f":"IF(③リレー情報確認!I12=\"\",\"\",1610000+①団体情報入力!$D$3*10)","v":""},{"$f":"IF(A14=\"\",\"\",①団体情報入力!$D$3)","v":""},{"$f":"IF(A14=\"\",\"\",③リレー情報確認!$J$1)","v":""},{"$f":"IF(A14=\"\",\"\",③リレー情報確認!$P$1)","v":""},"","",5,{"$f":"IF(A14=\"\",\"\",③リレー情報確認!K12)","v":""},{"$f":"IF(A14=\"\",\"\",③リレー情報確認!J12)","v":""},{"$f":"IF(A14=\"\",\"\",種目情報!$J$5)","v":""},{"$f":"IF(A14=\"\",\"\",③リレー情報確認!$L$8)","v":""},"",{"$f":"IF(A14=\"\",\"\",種目情報!$K$5)","v":""}]
[{"$f":"IF(③リレー情報確認!I13=\"\",\"\",1610000+①団体情報入力!$D$3*10)","v":""},{"$f":"IF(A15=\"\",\"\",①団体情報入力!$D$3)","v":""},{"$f":"IF(A15=\"\",\"\",③リレー情報確認!$J$1)","v":""},{"$f":"IF(A15=\"\",\"\",③リレー情報確認!$P$1)","v":""},"","",6,{"$f":"IF(A15=\"\",\"\",③リレー情報確認!K13)","v":""},{"$f":"IF(A15=\"\",\"\",③リレー情報確認!J13)","v":""},{"$f":"IF(A15=\"\",\"\",種目情報!$J$5)","v":""},{"$f":"IF(A15=\"\",\"\",③リレー情報確認!$L$8)","v":""},"",{"$f":"IF(A15=\"\",\"\",種目情報!$K$5)","v":""}]
[{"$f":"IF(③リレー情報確認!I14=\"\",\"\",1610000+①団体情報入力!$D$3*10)","v":""},{"$f":"IF(A16=\"\",\"\",①団体情報入力!$D$3)","v":""},{"$f":"IF(A16=\"\",\"\",③リレー情報確認!$J$1)","v":""},{"$f":"IF(A16=\"\",\"\",③リレー情報確認!$P$1)","v":""},"","",7,{"$f":"IF(A16=\"\",\"\",③リレー情報確認!K14)","v":""},{"$f":"IF(A16=\"\",\"\",③リレー情報確認!J14)","v":""},{"$f":"IF(A16=\"\",\"\",種目情報!$J$5)","v":""},{"$f":"IF(A16=\"\",\"\",③リレー情報確認!$L$8)","v":""},"",{"$f":"IF(A16=\"\",\"\",種目情報!$K$5)","v":""}]
[{"$f":"IF(③リレー情報確認!I15=\"\",\"\",1610000+①団体情報入力!$D$3*10)","v":""},{"$f":"IF(A17=\"\",\"\",①団体情報入力!$D$3)","v":""},{"$f":"IF(A17=\"\",\"\",③リレー情報確認!$J$1)","v":""},{"$f":"IF(A17=\"\",\"\",③リレー情報確認!$P$1)","v":""},"","",8,{"$f":"IF(A17=\"\",\"\",③リレー情報確認!K15)","v":""},{"$f":"IF(A17=\"\",\"\",③リレー情報確認!J15)","v":""},{"$f":"IF(A17=\"\",\"\",種目情報!$J$5)","v":""},{"$f":"IF(A17=\"\",\"\",③リレー情報確認!$L$8)","v":""},"",{"$f":"IF(A17=\"\",\"\",種目情報!$K$5)","v":""}]
[{"$f":"IF(③リレー情報確認!O8=\"\",\"\",420000+①団体情報入力!$D$3*10)","v":""},{"$f":"IF(A18=\"\",\"\",①団体情報入力!$D$3)","v":""},{"$f":"IF(A18=\"\",\"\",③リレー情報確認!$J$1)","v":""},{"$f":"IF(A18=\"\",\"\",③リレー情報確認!$P$1)","v":""},"","",1,{"$f":"IF(A18=\"\",\"\",③リレー情報確認!Q8)","v":""},{"$f":"IF(A18=\"\",\"\",③リレー情報確認!P8)","v":""},{"$f":"IF(A18=\"\",\"\",種目情報!$J$6)","v":""},{"$f":"IF(A18=\"\",\"\",③リレー情報確認!$R$8)","v":""},{"$f":"IF(A18=\"\",\"\",0)","v":""},{"$f":"IF(A18=\"\",\"\",種目情報!$K$6)","v":""}]
[{"$f":"IF(③リレー情報確認!O9=\"\",\"\",420000+①団体情報入力!$D$3*10)","v":""},{"$f":"IF(A19=\"\",\"\",①団体情報入力!$D$3)","v":""},{"$f":"IF(A19=\"\",\"\",③リレー情報確認!$J$1)","v":""},{"$f":"IF(A19=\"\",\"\",③リレー情報確認!$P$1)","v":""},"","",2,{"$f":"IF(A19=\"\",\"\",③リレー情報確認!Q9)","v":""},{"$f":"IF(A19=\"\",\"\",③リレー情報確認!P9)","v":""},{"$f":"IF(A19=\"\",\"\",種目情報!$J$6)","v":""},{"$f":"IF(A19=\"\",\"\",③リレー情報確認!$R$8)","v":""},{"$f":"IF(A19=\"\",\"\",0)","v":""},{"$f":"IF(A19=\"\",\"\",種目情報!$K$6)","v":""}]
[{"$f":"IF(③リレー情報確認!O10=\"\",\"\",420000+①団体情報入力!$D$3*10)","v":""},{"$f":"IF(A20=\"\",\"\",①団体情報入力!$D$3)","v":""},{"$f":"IF(A20=\"\",\"\",③リレー情報確認!$J$1)","v":""},{"$f":"IF(A20=\"\",\"\",③リレー情報確認!$P$1)","v":""},"","",3,{"$f":"IF(A20=\"\",\"\",③リレー情報確認!Q10)","v":""},{"$f":"IF(A20=\"\",\"\",③リレー情報確認!P10)","v":""},{"$f":"IF(A20=\"\",\"\",種目情報!$J$6)","v":""},{"$f":"IF(A20=\"\",\"\",③リレー情報確認!$R$8)","v":""},"",{"$f":"IF(A20=\"\",\"\",種目情報!$K$6)","v":""}]
[{"$f":"IF(③リレー情報確認!O11=\"\",\"\",420000+①団体情報入力!$D$3*10)","v":""},{"$f":"IF(A21=\"\",\"\",①団体情報入力!$D$3)","v":""},{"$f":"IF(A21=\"\",\"\",③リレー情報確認!$J$1)","v":""},{"$f":"IF(A21=\"\",\"\",③リレー情報確認!$P$1)","v":""},"","",4,{"$f":"IF(A21=\"\",\"\",③リレー情報確認!Q11)","v":""},{"$f":"IF(A21=\"\",\"\",③リレー情報確認!P11)","v":""},{"$f":"IF(A21=\"\",\"\",種目情報!$J$6)","v":""},{"$f":"IF(A21=\"\",\"\",③リレー情報確認!$R$8)","v":""},"",{"$f":"IF(A21=\"\",\"\",種目情報!$K$6)","v":""}]
[{"$f":"IF(③リレー情報確認!O12=\"\",\"\",420000+①団体情報入力!$D$3*10)","v":""},{"$f":"IF(A22=\"\",\"\",①団体情報入力!$D$3)","v":""},{"$f":"IF(A22=\"\",\"\",③リレー情報確認!$J$1)","v":""},{"$f":"IF(A22=\"\",\"\",③リレー情報確認!$P$1)","v":""},"","",5,{"$f":"IF(A22=\"\",\"\",③リレー情報確認!Q12)","v":""},{"$f":"IF(A22=\"\",\"\",③リレー情報確認!P12)","v":""},{"$f":"IF(A22=\"\",\"\",種目情報!$J$6)","v":""},{"$f":"IF(A22=\"\",\"\",③リレー情報確認!$R$8)","v":""},"",{"$f":"IF(A22=\"\",\"\",種目情報!$K$6)","v":""}]
[{"$f":"IF(③リレー情報確認!O13=\"\",\"\",420000+①団体情報入力!$D$3*10)","v":""},{"$f":"IF(A23=\"\",\"\",①団体情報入力!$D$3)","v":""},{"$f":"IF(A23=\"\",\"\",③リレー情報確認!$J$1)","v":""},{"$f":"IF(A23=\"\",\"\",③リレー情報確認!$P$1)","v":""},"","",6,{"$f":"IF(A23=\"\",\"\",③リレー情報確認!Q13)","v":""},{"$f":"IF(A23=\"\",\"\",③リレー情報確認!P13)","v":""},{"$f":"IF(A23=\"\",\"\",種目情報!$J$6)","v":""},{"$f":"IF(A23=\"\",\"\",③リレー情報確認!$R$8)","v":""},"",{"$f":"IF(A23=\"\",\"\",種目情報!$K$6)","v":""}]
[{"$f":"IF(③リレー情報確認!O14=\"\",\"\",420000+①団体情報入力!$D$3*10)","v":""},{"$f":"IF(A24=\"\",\"\",①団体情報入力!$D$3)","v":""},{"$f":"IF(A24=\"\",\"\",③リレー情報確認!$J$1)","v":""},{"$f":"IF(A24=\"\",\"\",③リレー情報確認!$P$1)","v":""},"","",7,{"$f":"IF(A24=\"\",\"\",③リレー情報確認!Q14)","v":""},{"$f":"IF(A24=\"\",\"\",③リレー情報確認!P14)","v":""},{"$f":"IF(A24=\"\",\"\",種目情報!$J$6)","v":""},{"$f":"IF(A24=\"\",\"\",③リレー情報確認!$R$8)","v":""},"",{"$f":"IF(A24=\"\",\"\",種目情報!$K$6)","v":""}]
[{"$f":"IF(③リレー情報確認!O15=\"\",\"\",420000+①団体情報入力!$D$3*10)","v":""},{"$f":"IF(A25=\"\",\"\",①団体情報入力!$D$3)","v":""},{"$f":"IF(A25=\"\",\"\",③リレー情報確認!$J$1)","v":""},{"$f":"IF(A25=\"\",\"\",③リレー情報確認!$P$1)","v":""},"","",8,{"$f":"IF(A25=\"\",\"\",③リレー情報確認!Q15)","v":""},{"$f":"IF(A25=\"\",\"\",③リレー情報確認!P15)","v":""},{"$f":"IF(A25=\"\",\"\",種目情報!$J$6)","v":""},{"$f":"IF(A25=\"\",\"\",③リレー情報確認!$R$8)","v":""},"",{"$f":"IF(A25=\"\",\"\",種目情報!$K$6)","v":""}]
[{"$f":"IF(③リレー情報確認!U8=\"\",\"\",1620000+①団体情報入力!$D$3*10)","v":""},{"$f":"IF(A26=\"\",\"\",①団体情報入力!$D$3)","v":""},{"$f":"IF(A26=\"\",\"\",③リレー情報確認!$J$1)","v":""},{"$f":"IF(A26=\"\",\"\",③リレー情報確認!$P$1)","v":""},"","",1,{"$f":"IF(A26=\"\",\"\",③リレー情報確認!W8)","v":""},{"$f":"IF(A26=\"\",\"\",③リレー情報確認!V8)","v":""},{"$f":"IF(A26=\"\",\"\",種目情報!$J$7)","v":""},{"$f":"IF(A26=\"\",\"\",③リレー情報確認!$X$8)","v":""},{"$f":"IF(A26=\"\",\"\",0)","v":""},{"$f":"IF(A26=\"\",\"\",種目情報!$K$7)","v":""}]
[{"$f":"IF(③リレー情報確認!U9=\"\",\"\",1620000+①団体情報入力!$D$3*10)","v":""},{"$f":"IF(A27=\"\",\"\",①団体情報入力!$D$3)","v":""},{"$f":"IF(A27=\"\",\"\",③リレー情報確認!$J$1)","v":""},{"$f":"IF(A27=\"\",\"\",③リレー情報確認!$P$1)","v":""},"","",2,{"$f":"IF(A27=\"\",\"\",③リレー情報確認!W9)","v":""},{"$f":"IF(A27=\"\",\"\",③リレー情報確認!V9)","v":""},{"$f":"IF(A27=\"\",\"\",種目情報!$J$7)","v":""},{"$f":"IF(A27=\"\",\"\",③リレー情報確認!$X$8)","v":""},{"$f":"IF(A27=\"\",\"\",0)","v":""},{"$f":"IF(A27=\"\",\"\",種目情報!$K$7)","v":""}]
[{"$f":"IF(③リレー情報確認!U10=\"\",\"\",1620000+①団体情報入力!$D$3*10)","v":""},{"$f":"IF(A28=\"\",\"\",①団体情報入力!$D$3)","v":""},{"$f":"IF(A28=\"\",\"\",③リレー情報確認!$J$1)","v":""},{"$f":"IF(A28=\"\",\"\",③リレー情報確認!$P$1)","v":""},"","",3,{"$f":"IF(A28=\"\",\"\",③リレー情報確認!W10)","v":""},{"$f":"IF(A28=\"\",\"\",③リレー情報確認!V10)","v":""},{"$f":"IF(A28=\"\",\"\",種目情報!$J$7)","v":""},{"$f":"IF(A28=\"\",\"\",③リレー情報確認!$X$8)","v":""},"",{"$f":"IF(A28=\"\",\"\",種目情報!$K$7)","v":""}]
[{"$f":"IF(③リレー情報確認!U11=\"\",\"\",1620000+①団体情報入力!$D$3*10)","v":""},{"$f":"IF(A29=\"\",\"\",①団体情報入力!$D$3)","v":""},{"$f":"IF(A29=\"\",\"\",③リレー情報確認!$J$1)","v":""},{"$f":"IF(A29=\"\",\"\",③リレー情報確認!$P$1)","v":""},"","",4,{"$f":"IF(A29=\"\",\"\",③リレー情報確認!W11)","v":""},{"$f":"IF(A29=\"\",\"\",③リレー情報確認!V11)","v":""},{"$f":"IF(A29=\"\",\"\",種目情報!$J$7)","v":""},{"$f":"IF(A29=\"\",\"\",③リレー情報確認!$X$8)","v":""},"",{"$f":"IF(A29=\"\",\"\",種目情報!$K$7)","v":""}]
[{"$f":"IF(③リレー情報確認!U12=\"\",\"\",1620000+①団体情報入力!$D$3*10)","v":""},{"$f":"IF(A30=\"\",\"\",①団体情報入力!$D$3)","v":""},{"$f":"IF(A30=\"\",\"\",③リレー情報確認!$J$1)","v":""},{"$f":"IF(A30=\"\",\"\",③リレー情報確認!$P$1)","v":""},"","",5,{"$f":"IF(A30=\"\",\"\",③リレー情報確認!W12)","v":""},{"$f":"IF(A30=\"\",\"\",③リレー情報確認!V12)","v":""},{"$f":"IF(A30=\"\",\"\",種目情報!$J$7)","v":""},{"$f":"IF(A30=\"\",\"\",③リレー情報確認!$X$8)","v":""},"",{"$f":"IF(A30=\"\",\"\",種目情報!$K$7)","v":""}]
[{"$f":"IF(③リレー情報確認!U13=\"\",\"\",1620000+①団体情報入力!$D$3*10)","v":""},{"$f":"IF(A31=\"\",\"\",①団体情報入力!$D$3)","v":""},{"$f":"IF(A31=\"\",\"\",③リレー情報確認!$J$1)","v":""},{"$f":"IF(A31=\"\",\"\",③リレー情報確認!$P$1)","v":""},"","",6,{"$f":"IF(A31=\"\",\"\",③リレー情報確認!W13)","v":""},{"$f":"IF(A31=\"\",\"\",③リレー情報確認!V13)","v":""},{"$f":"IF(A31=\"\",\"\",種目情報!$J$7)","v":""},{"$f":"IF(A31=\"\",\"\",③リレー情報確認!$X$8)","v":""},"",{"$f":"IF(A31=\"\",\"\",種目情報!$K$7)","v":""}]
[{"$f":"IF(③リレー情報確認!U14=\"\",\"\",1620000+①団体情報入力!$D$3*10)","v":""},{"$f":"IF(A32=\"\",\"\",①団体情報入力!$D$3)","v":""},{"$f":"IF(A32=\"\",\"\",③リレー情報確認!$J$1)","v":""},{"$f":"IF(A32=\"\",\"\",③リレー情報確認!$P$1)","v":""},"","",7,{"$f":"IF(A32=\"\",\"\",③リレー情報確認!W14)","v":""},{"$f":"IF(A32=\"\",\"\",③リレー情報確認!V14)","v":""},{"$f":"IF(A32=\"\",\"\",種目情報!$J$7)","v":""},{"$f":"IF(A32=\"\",\"\",③リレー情報確認!$X$8)","v":""},"",{"$f":"IF(A32=\"\",\"\",種目情報!$K$7)","v":""}]
[{"$f":"IF(③リレー情報確認!U15=\"\",\"\",1620000+①団体情報入力!$D$3*10)","v":""},{"$f":"IF(A33=\"\",\"\",①団体情報入力!$D$3)","v":""},{"$f":"IF(A33=\"\",\"\",③リレー情報確認!$J$1)","v":""},{"$f":"IF(A33=\"\",\"\",③リレー情報確認!$P$1)","v":""},"","",8,{"$f":"IF(A33=\"\",\"\",③リレー情報確認!W15)","v":""},{"$f":"IF(A33=\"\",\"\",③リレー情報確認!V15)","v":""},{"$f":"IF(A33=\"\",\"\",種目情報!$J$7)","v":""},{"$f":"IF(A33=\"\",\"\",③リレー情報確認!$X$8)","v":""},"",{"$f":"IF(A33=\"\",\"\",種目情報!$K$7)","v":""}]