{"text_format":"1","workbook":"xlsx","n_sheets":13,"sheets":["注意事項","①陸連データ貼り付け","②団体情報入力","③選手情報入力","③リレー情報確認","④種目別人数","⑤申込一覧表","個人種目個票","　　　　　","種目情報","data_kyogisha","MC","Sheet1"],"not_rendered":{"charts":0,"images":3,"macros":1,"external_links":1,"defined_names":12,"comments":3,"pivot_tables":0},"unopened":[],"bounds":{"document_bytes":16777216,"sheet_cells":100000,"rows_first":2000,"rows_last":500,"rows_between":2000,"halvings":0,"cell_chars":16384,"cell_head_chars":4096},"cells_cut":0,"cells_raw":0,"read":"whole","date_system":"1900"}

{"sheet":"注意事項","index":0,"n_rows":87,"n_cols":7,"rows_kept":87,"cut":false,"hidden":false,"merged":[[86,3,86,7],[0,0,0,13],[7,1,7,7],[3,2,3,7],[4,2,4,7],[8,1,8,2],[8,3,8,5],[6,2,6,7],[78,2,80,9],[2,2,2,10],[65,4,65,10]]}
["　★データ入力前にこのページの内容を必ずお読みください。"]
[]
[null,"大会名","第77回愛知陸上競技選手権大会"]
[null,"期　日","平成29年7月15日(土)・17日（祝月）"]
[null,"会　場","パロマ瑞穂スタジアム・パロマ瑞穂北陸上競技場"]
[]
[null,"申込期間","平成２９年６月１２日（月）～２０日（火）"]
[null,"※メール送信・書類郵送・振込を完了してください！"]
[]
["　＜注意事項等＞"]
["１ ","この大会は、資格審査があります。資格取得記録を入力してください。"]
[null,"シーズンベストが資格記録を上回る場合のみ、シーズンベストの欄に記録を記入してください。"]
[null,"シーズンベストが資格記録の場合には、シーズンベストの欄は未記入にしてください。"]
["２ ","大会要項（出場制限等）をよく読んで入力してください。"]
["３ ","このファイルは申込人数40名まで入力できます。40名を超える場合は、ファイルを追加してください。"]
["４ ","大会要項（出場制限等）をよく読んで入力してください。"]
["５ ","ナンバー・氏名・種目等、入力間違いのないようにお願いします。"]
["６ ","コピーしたデータを貼り付ける場合は、「形式を選択して貼り付け」から「値」を選択して貼り付けてください。"]
["７ ","入力したデータを削除・修正する場合は、必ず「Delete」キーで処理してください。※行削除はしないでください！"]
["８ ","申込は、メール送信と書類提出の両方が必要になりますので、お忘れのないようにお願いします。"]
["９ ","このファイルの内容は、プログラム編成及び作成、記録処理、その他競技会運営の目的で使用します。"]
["１０","このファイルには、印刷ボタンにマクロを使用しています。エクセルの設定をマクロ有効にしてください。"]
["　★作業の流れは次のとおりです。"]
["　　①陸連登録データの貼り付け"]
[null,"各団体の陸連登録データをJAAFスタートからダウンロードしてください。"]
[null,"ダウンロードしたデータを①の陸連データ貼付けシートに貼りつけてください。"]
[null,"手順","１ 団体データのシートのすべてを選択してコピーしてください。"]
[null,null,"２ ①陸連データ貼付けシートのA1セルに値で貼り付けてください。"]
[]
[]
[]
["　　②団体情報の入力"]
["↓"]
["↓","　・必要事項を入力してください。"]
["　　③選手情報の入力"]
["↓"]
["↓","　・登録データが貼り付けてあれば、ナンバーを入力すれば、氏名、フリガナ、性別、学年は自動で入力されます。"]
[null,"　　入力を確認して、申込種目、記録を入力してください。"]
["↓","　　※ナンバーは、アルファベットと数字を分けて入力してください。"]
["↓","　　※入力は、男子を先に入力し、続けて女子を入力してください。"]
["↓","　　※氏名については、姓と名の間に全角スペースを１つ入れてください。"]
["↓","　　※ﾌﾘｶﾞﾅについては、姓と名の間に半角スペースを１つ入れてください。"]
["↓","　　※記録は、次のとおり入力してください。"]
["↓",null,"◎トラック種目・・・・分秒をドット「．」で区切り、100分の1秒まで入力"]
["↓",null,"例１",null,"54秒23","⇒",54.23]
["↓",null,"例２",null,"4分07秒00","⇒","4.07.00"]
["↓",null,null,"　 ※記録が１分未満で、10分の1以下が「00」"]
["↓",null,null,"　　 のときは整数で表示されます。"]
["↓",null,null,"例","12秒00","⇒",12]
["↓",null,"◎フィールド種目・・・メートルを「m」で区切り、cm単位まで入力（「cm」の文字は入れない）"]
["↓",null,"例３",null,"20m","⇒","20m00"]
["↓",null,"★記録がない場合は空欄にしてください。"]
["　　④種目別人数の確認"]
["↓"]
["↓"]
["↓","　・種目ごとの申込人数と申込金額を確認してください。"]
["↓","　・プログラム購入部数を入力後、合計金額を確認してください。"]
["　　⑤申込一覧表の確認"]
["↓","　・入力漏れや入力間違い等がないかを確認してください。"]
["↓","　・30名ごとにＡ４用紙１枚で出力されます。"]
["　　⑥種目別人数表と申込一覧表の印刷"]
["↓","　・「④種目別人数表」にある、帳票印刷ボタンをクリックして印刷を行ってください。"]
["　　⑦ファイルの保存"]
["↓","　・ファイル名を団体名（例：○○○）に変更し保存してください。メールに添付するときは、ファイル名が団体名に"]
["↓","　　なっていることを確認してください。"]
["　　⑧メール送信",null,null,null,"申込みメールアドレス→　aichi.kensen@gmail.com"]
["↓","　・入力したファイルを送信してください。"]
["↓","　・メールの件名に「大会名」と「団体名」を入力してください。"]
["↓","　・正しく送信されれば、受信した旨の返信が届きます。"]
["↓"]
["　　⑨参加料の振込"]
["↓","　・参加料を振り込み、明細書のコピーを「種目別人数一覧」の裏面に添付してください。"]
["　　⑨郵送"]
["↓"]
["↓","　・「④種目別一覧表」「⑤申込一覧表」を郵送してください。"]
["↓","　・「種目別人数一覧」の裏面には振込明細書のコピーを添付してください。"]
["↓"]
["↓",null,"送付先"]
["↓",null,"〒460-0012　名古屋市中区千代田２－19－16　千代田ビル７Ｆ\n         （財）愛知陸上競技協会　「愛知選手権大会」宛"]
["↓"]
["↓"]
["　　⑩申込完了"]
[]
[]
[null,"　★問い合わせ先"]
[]
[null,null,"mail：","toiawase.aichi@gmail.com"]

{"sheet":"①陸連データ貼り付け","index":1,"n_rows":1,"n_cols":35,"rows_kept":1,"cut":false,"hidden":false,"merged":[]}
["JAAF ID","会員名","会員名カナ","性別","登録都道府県コード","登録都道府県名","団体ID","団体名","団体名カナ","団体名略称","生年月日","都道府県(学連)登録番号","旧団体コード","備考","学年","団体区分","地域学連名","支部名","郵便番号","住所(都道府県)","住所(市区町村以下)","住所(建物名)","審判資格","E-mail","E-mail配信希望","連絡先電話番号","出身高校都道府県","出身高校名","出身中学校都道府県","出身中学校名","勤務先名","勤務先郵便番号","勤務先住所","勤務先電話番号","学部"]

{"sheet":"②団体情報入力","index":2,"n_rows":10,"n_cols":18,"rows_kept":10,"cut":false,"hidden":false,"merged":[[9,1,9,2],[8,3,8,5],[2,3,2,5],[4,1,4,2],[3,3,3,5],[5,3,5,5],[7,3,7,5],[5,1,5,2],[7,1,7,2],[8,1,8,2],[2,1,2,2],[3,1,3,2],[4,3,4,5],[6,1,6,2],[6,3,6,5]]}
["①団体情報入力"]
[]
[null,"団体コード",null,{"$f":"IF(①陸連データ貼り付け!G2=\"\",\"\",①陸連データ貼り付け!G2)","v":""},null,null,"←陸連登録データを貼り付ければ入力不要です。貼り付けない場合は、陸連登録データを入力してください。"]
[null,"団体名",null,{"$f":"IF(①陸連データ貼り付け!J2=\"\",\"\",①陸連データ貼り付け!J2)","v":""},null,null,"←陸連登録データを貼り付ければ入力不要です。貼り付けない場合は、愛知県立･名古屋市立等を省いて入力してください。"]
[null,"略称団体名",null,{"$f":"IF(D4=\"\",\"\",D4)","v":""},null,null,"←入力(全角６文字以内です。\"高\"を入れて６文字以内です。)"]
[null,"略称ヨミガナ",null,{"$f":"IF(①陸連データ貼り付け!I2=\"\",\"\",①陸連データ貼り付け!I2)","v":""},null,null,"←略称の読みを半角カタカナで入力してください。"]
[null,"団体区分"]
[null,"申込責任者",null,null,null,null,"←入力",null,null,null,null,null,null,null,null,null,null,"中学"]
[null,"連絡先電話番号",null,null,null,null,"←入力(ハイフンを入れる)　※緊急時に連絡がとれる番号",null,null,null,null,null,null,null,null,null,null,"高校"]
[null,"プログラム購入部数",null,null,"部"]

{"sheet":"③選手情報入力","index":3,"n_rows":52,"n_cols":19,"rows_kept":52,"cut":false,"hidden":false,"merged":[]}
["②選手情報入力",null,null,{"$f":"IF(②団体情報入力!D5=\"\",\"\",②団体情報入力!D5)","v":""}]
["※必要事項を全て入力してください。"]
[]
[]
["※コピーしたデータを貼り付ける場合は、「形式を選択して貼り付け」から「値」で貼り付けてください。"]
["※データを修正する場合は、必ず「Delete」キーを使用してください。"]
[]
[null,"ﾅﾝﾊﾞｰ1","氏　名\n姓と名の間に\n全角ｽﾍﾟｰｽ1つ","ﾌﾘｶﾞﾅ\n姓と名の間に\n半角ｽﾍﾟｰｽ1つ",null,"性別","学年","種目１","参加資格\n取得記録１","シーズン\nベスト１","備考：該当する出場制限を選んで下さい","種目２","参加資格\n取得記録２","シーズン\nベスト２","備考：該当する出場制限を選んで下さい"]
["例","A","西三　太郎","ｾｲｻﾝ ﾀﾛｳ",null,"男",2,"男10000m","28.12.53","27.35.00","県高校総体8位","男5000m","13.45.67","13.30.00","県高校総体8位"]
[1,null,{"$f":"IF(B10=\"\",\"\",VLOOKUP(B10,Sheet1!$A:$E,2,0))","v":""},{"$f":"IF(B10=\"\",\"\",VLOOKUP(B10,Sheet1!$A:$E,3,0))","v":""},null,null,null,null,null,null,null,null,null,null,null,null,"男",{"$f":"種目情報!N4","v":"男100m"},"前年度選手権者"]
[2,null,{"$f":"IF(B11=\"\",\"\",VLOOKUP(B11,Sheet1!$A:$E,2,0))","v":""},{"$f":"IF(B11=\"\",\"\",VLOOKUP(B11,Sheet1!$A:$E,3,0))","v":""},null,null,null,null,null,null,null,null,null,null,null,null,"女",{"$f":"種目情報!N5","v":"男200m"},"各陸協予選会決勝6位"]
[3,null,{"$f":"IF(B12=\"\",\"\",VLOOKUP(B12,Sheet1!$A:$E,2,0))","v":""},{"$f":"IF(B12=\"\",\"\",VLOOKUP(B12,Sheet1!$A:$E,3,0))","v":""},null,null,null,null,null,null,null,null,null,null,null,null,null,{"$f":"種目情報!N6","v":"男400m"},"各陸協予選会決勝8位"]
[4,null,{"$f":"IF(B13=\"\",\"\",VLOOKUP(B13,Sheet1!$A:$E,2,0))","v":""},{"$f":"IF(B13=\"\",\"\",VLOOKUP(B13,Sheet1!$A:$E,3,0))","v":""},null,null,null,null,null,null,null,null,null,null,null,null,null,{"$f":"種目情報!N7","v":"男800m"},"県高校総体8位"]
[5,null,{"$f":"IF(B14=\"\",\"\",VLOOKUP(B14,Sheet1!$A:$E,2,0))","v":""},{"$f":"IF(B14=\"\",\"\",VLOOKUP(B14,Sheet1!$A:$E,3,0))","v":""},null,null,null,null,null,null,null,null,null,null,null,null,null,{"$f":"種目情報!N8","v":"男1500m"},"東海学生選手権8位"]
[6,null,{"$f":"IF(B15=\"\",\"\",VLOOKUP(B15,Sheet1!$A:$E,2,0))","v":""},{"$f":"IF(B15=\"\",\"\",VLOOKUP(B15,Sheet1!$A:$E,3,0))","v":""},null,null,null,null,null,null,null,null,null,null,null,null,null,{"$f":"種目情報!N9","v":"男110mH"},"中部実業団選手権8位"]
[7,null,{"$f":"IF(B16=\"\",\"\",VLOOKUP(B16,Sheet1!$A:$E,2,0))","v":""},{"$f":"IF(B16=\"\",\"\",VLOOKUP(B16,Sheet1!$A:$E,3,0))","v":""},null,null,null,null,null,null,null,null,null,null,null,null,null,{"$f":"種目情報!N10","v":"男400mH"},"H27一般１０傑"]
[8,null,{"$f":"IF(B17=\"\",\"\",VLOOKUP(B17,Sheet1!$A:$E,2,0))","v":""},{"$f":"IF(B17=\"\",\"\",VLOOKUP(B17,Sheet1!$A:$E,3,0))","v":""},null,null,null,null,null,null,null,null,null,null,null,null,null,{"$f":"種目情報!N11","v":"男3000mSC"},"標準記録突破"]
[9,null,{"$f":"IF(B18=\"\",\"\",VLOOKUP(B18,Sheet1!$A:$E,2,0))","v":""},{"$f":"IF(B18=\"\",\"\",VLOOKUP(B18,Sheet1!$A:$E,3,0))","v":""},null,null,null,null,null,null,null,null,null,null,null,null,null,{"$f":"種目情報!N12","v":"男5000mW"}]
[10,null,{"$f":"IF(B19=\"\",\"\",VLOOKUP(B19,Sheet1!$A:$E,2,0))","v":""},{"$f":"IF(B19=\"\",\"\",VLOOKUP(B19,Sheet1!$A:$E,3,0))","v":""},null,null,null,null,null,null,null,null,null,null,null,null,null,{"$f":"種目情報!N13","v":"男走高跳"}]
[11,null,{"$f":"IF(B20=\"\",\"\",VLOOKUP(B20,Sheet1!$A:$E,2,0))","v":""},{"$f":"IF(B20=\"\",\"\",VLOOKUP(B20,Sheet1!$A:$E,3,0))","v":""},null,{"$f":"IF(B20=\"\",\"\",VLOOKUP(B20,Sheet1!$A:$E,4,0))","v":""},{"$f":"IF(B20=\"\",\"\",VLOOKUP(③選手情報入力!B20,Sheet1!$A:$E,5,0))","v":""},null,null,null,null,null,null,null,null,null,null,{"$f":"種目情報!N14","v":"男棒高跳"}]
[12,null,{"$f":"IF(B21=\"\",\"\",VLOOKUP(B21,Sheet1!$A:$E,2,0))","v":""},{"$f":"IF(B21=\"\",\"\",VLOOKUP(B21,Sheet1!$A:$E,3,0))","v":""},null,{"$f":"IF(B21=\"\",\"\",VLOOKUP(B21,Sheet1!$A:$E,4,0))","v":""},{"$f":"IF(B21=\"\",\"\",VLOOKUP(③選手情報入力!B21,Sheet1!$A:$E,5,0))","v":""},null,null,null,null,null,null,null,null,null,null,{"$f":"種目情報!N15","v":"男走幅跳"}]
[13,null,{"$f":"IF(B22=\"\",\"\",VLOOKUP(B22,Sheet1!$A:$E,2,0))","v":""},{"$f":"IF(B22=\"\",\"\",VLOOKUP(B22,Sheet1!$A:$E,3,0))","v":""},null,{"$f":"IF(B22=\"\",\"\",VLOOKUP(B22,Sheet1!$A:$E,4,0))","v":""},{"$f":"IF(B22=\"\",\"\",VLOOKUP(③選手情報入力!B22,Sheet1!$A:$E,5,0))","v":""},null,null,null,null,null,null,null,null,null,null,{"$f":"種目情報!N16","v":"男三段跳"}]
[14,null,{"$f":"IF(B23=\"\",\"\",VLOOKUP(B23,Sheet1!$A:$E,2,0))","v":""},{"$f":"IF(B23=\"\",\"\",VLOOKUP(B23,Sheet1!$A:$E,3,0))","v":""},null,{"$f":"IF(B23=\"\",\"\",VLOOKUP(B23,Sheet1!$A:$E,4,0))","v":""},{"$f":"IF(B23=\"\",\"\",VLOOKUP(③選手情報入力!B23,Sheet1!$A:$E,5,0))","v":""},null,null,null,null,null,null,null,null,null,null,{"$f":"種目情報!N17","v":"男砲丸投"}]
[15,null,{"$f":"IF(B24=\"\",\"\",VLOOKUP(B24,Sheet1!$A:$E,2,0))","v":""},{"$f":"IF(B24=\"\",\"\",VLOOKUP(B24,Sheet1!$A:$E,3,0))","v":""},null,{"$f":"IF(B24=\"\",\"\",VLOOKUP(B24,Sheet1!$A:$E,4,0))","v":""},{"$f":"IF(B24=\"\",\"\",VLOOKUP(③選手情報入力!B24,Sheet1!$A:$E,5,0))","v":""},null,null,null,null,null,null,null,null,null,null,{"$f":"種目情報!N18","v":"男円盤投"}]
[16,null,{"$f":"IF(B25=\"\",\"\",VLOOKUP(B25,Sheet1!$A:$E,2,0))","v":""},{"$f":"IF(B25=\"\",\"\",VLOOKUP(B25,Sheet1!$A:$E,3,0))","v":""},null,{"$f":"IF(B25=\"\",\"\",VLOOKUP(B25,Sheet1!$A:$E,4,0))","v":""},{"$f":"IF(B25=\"\",\"\",VLOOKUP(③選手情報入力!B25,Sheet1!$A:$E,5,0))","v":""},null,null,null,null,null,null,null,null,null,null,{"$f":"種目情報!N19","v":"男ハンマー投"}]
[17,null,{"$f":"IF(B26=\"\",\"\",VLOOKUP(B26,Sheet1!$A:$E,2,0))","v":""},{"$f":"IF(B26=\"\",\"\",VLOOKUP(B26,Sheet1!$A:$E,3,0))","v":""},null,{"$f":"IF(B26=\"\",\"\",VLOOKUP(B26,Sheet1!$A:$E,4,0))","v":""},{"$f":"IF(B26=\"\",\"\",VLOOKUP(③選手情報入力!B26,Sheet1!$A:$E,5,0))","v":""},null,null,null,null,null,null,null,null,null,null,{"$f":"種目情報!N20","v":"男やり投"}]
[18,null,{"$f":"IF(B27=\"\",\"\",VLOOKUP(B27,Sheet1!$A:$E,2,0))","v":""},{"$f":"IF(B27=\"\",\"\",VLOOKUP(B27,Sheet1!$A:$E,3,0))","v":""},null,{"$f":"IF(B27=\"\",\"\",VLOOKUP(B27,Sheet1!$A:$E,4,0))","v":""},{"$f":"IF(B27=\"\",\"\",VLOOKUP(③選手情報入力!B27,Sheet1!$A:$E,5,0))","v":""}]
[19,null,{"$f":"IF(B28=\"\",\"\",VLOOKUP(B28,Sheet1!$A:$E,2,0))","v":""},{"$f":"IF(B28=\"\",\"\",VLOOKUP(B28,Sheet1!$A:$E,3,0))","v":""},null,{"$f":"IF(B28=\"\",\"\",VLOOKUP(B28,Sheet1!$A:$E,4,0))","v":""},{"$f":"IF(B28=\"\",\"\",VLOOKUP(③選手情報入力!B28,Sheet1!$A:$E,5,0))","v":""},null,null,null,null,null,null,null,null,null,null,{"$f":"種目情報!N31","v":"女100m"}]
[20,null,{"$f":"IF(B29=\"\",\"\",VLOOKUP(B29,Sheet1!$A:$E,2,0))","v":""},{"$f":"IF(B29=\"\",\"\",VLOOKUP(B29,Sheet1!$A:$E,3,0))","v":""},null,{"$f":"IF(B29=\"\",\"\",VLOOKUP(B29,Sheet1!$A:$E,4,0))","v":""},{"$f":"IF(B29=\"\",\"\",VLOOKUP(③選手情報入力!B29,Sheet1!$A:$E,5,0))","v":""},null,null,null,null,null,null,null,null,null,null,{"$f":"種目情報!N32","v":"女200m"}]
[21,null,{"$f":"IF(B30=\"\",\"\",VLOOKUP(B30,Sheet1!$A:$E,2,0))","v":""},{"$f":"IF(B30=\"\",\"\",VLOOKUP(B30,Sheet1!$A:$E,3,0))","v":""},null,{"$f":"IF(B30=\"\",\"\",VLOOKUP(B30,Sheet1!$A:$E,4,0))","v":""},{"$f":"IF(B30=\"\",\"\",VLOOKUP(③選手情報入力!B30,Sheet1!$A:$E,5,0))","v":""},null,null,null,null,null,null,null,null,null,null,{"$f":"種目情報!N33","v":"女400m"}]
[22,null,{"$f":"IF(B31=\"\",\"\",VLOOKUP(B31,Sheet1!$A:$E,2,0))","v":""},{"$f":"IF(B31=\"\",\"\",VLOOKUP(B31,Sheet1!$A:$E,3,0))","v":""},null,{"$f":"IF(B31=\"\",\"\",VLOOKUP(B31,Sheet1!$A:$E,4,0))","v":""},{"$f":"IF(B31=\"\",\"\",VLOOKUP(③選手情報入力!B31,Sheet1!$A:$E,5,0))","v":""},null,null,null,null,null,null,null,null,null,null,{"$f":"種目情報!N34","v":"女800m"}]
[23,null,{"$f":"IF(B32=\"\",\"\",VLOOKUP(B32,Sheet1!$A:$E,2,0))","v":""},{"$f":"IF(B32=\"\",\"\",VLOOKUP(B32,Sheet1!$A:$E,3,0))","v":""},null,{"$f":"IF(B32=\"\",\"\",VLOOKUP(B32,Sheet1!$A:$E,4,0))","v":""},{"$f":"IF(B32=\"\",\"\",VLOOKUP(③選手情報入力!B32,Sheet1!$A:$E,5,0))","v":""},null,null,null,null,null,null,null,null,null,null,{"$f":"種目情報!N35","v":"女1500m"}]
[24,null,{"$f":"IF(B33=\"\",\"\",VLOOKUP(B33,Sheet1!$A:$E,2,0))","v":""},{"$f":"IF(B33=\"\",\"\",VLOOKUP(B33,Sheet1!$A:$E,3,0))","v":""},null,{"$f":"IF(B33=\"\",\"\",VLOOKUP(B33,Sheet1!$A:$E,4,0))","v":""},{"$f":"IF(B33=\"\",\"\",VLOOKUP(③選手情報入力!B33,Sheet1!$A:$E,5,0))","v":""},null,null,null,null,null,null,null,null,null,null,{"$f":"種目情報!N36","v":"女100mH"}]
[25,null,{"$f":"IF(B34=\"\",\"\",VLOOKUP(B34,Sheet1!$A:$E,2,0))","v":""},{"$f":"IF(B34=\"\",\"\",VLOOKUP(B34,Sheet1!$A:$E,3,0))","v":""},null,{"$f":"IF(B34=\"\",\"\",VLOOKUP(B34,Sheet1!$A:$E,4,0))","v":""},{"$f":"IF(B34=\"\",\"\",VLOOKUP(③選手情報入力!B34,Sheet1!$A:$E,5,0))","v":""},null,null,null,null,null,null,null,null,null,null,{"$f":"種目情報!N37","v":"女400mH"}]
[26,null,{"$f":"IF(B35=\"\",\"\",VLOOKUP(B35,Sheet1!$A:$E,2,0))","v":""},{"$f":"IF(B35=\"\",\"\",VLOOKUP(B35,Sheet1!$A:$E,3,0))","v":""},null,{"$f":"IF(B35=\"\",\"\",VLOOKUP(B35,Sheet1!$A:$E,4,0))","v":""},{"$f":"IF(B35=\"\",\"\",VLOOKUP(③選手情報入力!B35,Sheet1!$A:$E,5,0))","v":""},null,null,null,null,null,null,null,null,null,null,{"$f":"種目情報!N38","v":"女3000mSC"}]
[27,null,{"$f":"IF(B36=\"\",\"\",VLOOKUP(B36,Sheet1!$A:$E,2,0))","v":""},{"$f":"IF(B36=\"\",\"\",VLOOKUP(B36,Sheet1!$A:$E,3,0))","v":""},null,{"$f":"IF(B36=\"\",\"\",VLOOKUP(B36,Sheet1!$A:$E,4,0))","v":""},{"$f":"IF(B36=\"\",\"\",VLOOKUP(③選手情報入力!B36,Sheet1!$A:$E,5,0))","v":""},null,null,null,null,null,null,null,null,null,null,{"$f":"種目情報!N39","v":"女5000mW"}]
[28,null,{"$f":"IF(B37=\"\",\"\",VLOOKUP(B37,Sheet1!$A:$E,2,0))","v":""},{"$f":"IF(B37=\"\",\"\",VLOOKUP(B37,Sheet1!$A:$E,3,0))","v":""},null,{"$f":"IF(B37=\"\",\"\",VLOOKUP(B37,Sheet1!$A:$E,4,0))","v":""},{"$f":"IF(B37=\"\",\"\",VLOOKUP(③選手情報入力!B37,Sheet1!$A:$E,5,0))","v":""},null,null,null,null,null,null,null,null,null,null,{"$f":"種目情報!N40","v":"女走高跳"}]
[29,null,{"$f":"IF(B38=\"\",\"\",VLOOKUP(B38,Sheet1!$A:$E,2,0))","v":""},{"$f":"IF(B38=\"\",\"\",VLOOKUP(B38,Sheet1!$A:$E,3,0))","v":""},null,{"$f":"IF(B38=\"\",\"\",VLOOKUP(B38,Sheet1!$A:$E,4,0))","v":""},{"$f":"IF(B38=\"\",\"\",VLOOKUP(③選手情報入力!B38,Sheet1!$A:$E,5,0))","v":""},null,null,null,null,null,null,null,null,null,null,{"$f":"種目情報!N41","v":"女棒高跳"}]
[30,null,{"$f":"IF(B39=\"\",\"\",VLOOKUP(B39,Sheet1!$A:$E,2,0))","v":""},{"$f":"IF(B39=\"\",\"\",VLOOKUP(B39,Sheet1!$A:$E,3,0))","v":""},null,{"$f":"IF(B39=\"\",\"\",VLOOKUP(B39,Sheet1!$A:$E,4,0))","v":""},{"$f":"IF(B39=\"\",\"\",VLOOKUP(③選手情報入力!B39,Sheet1!$A:$E,5,0))","v":""},null,null,null,null,null,null,null,null,null,null,{"$f":"種目情報!N42","v":"女走幅跳"}]
[31,null,{"$f":"IF(B40=\"\",\"\",VLOOKUP(B40,Sheet1!$A:$E,2,0))","v":""},{"$f":"IF(B40=\"\",\"\",VLOOKUP(B40,Sheet1!$A:$E,3,0))","v":""},null,{"$f":"IF(B40=\"\",\"\",VLOOKUP(B40,Sheet1!$A:$E,4,0))","v":""},{"$f":"IF(B40=\"\",\"\",VLOOKUP(③選手情報入力!B40,Sheet1!$A:$E,5,0))","v":""},null,null,null,null,null,null,null,null,null,null,{"$f":"種目情報!N43","v":"女三段跳"}]
[32,null,{"$f":"IF(B41=\"\",\"\",VLOOKUP(B41,Sheet1!$A:$E,2,0))","v":""},{"$f":"IF(B41=\"\",\"\",VLOOKUP(B41,Sheet1!$A:$E,3,0))","v":""},null,{"$f":"IF(B41=\"\",\"\",VLOOKUP(B41,Sheet1!$A:$E,4,0))","v":""},{"$f":"IF(B41=\"\",\"\",VLOOKUP(③選手情報入力!B41,Sheet1!$A:$E,5,0))","v":""},null,null,null,null,null,null,null,null,null,null,{"$f":"種目情報!N44","v":"女砲丸投"}]
[33,null,{"$f":"IF(B42=\"\",\"\",VLOOKUP(B42,Sheet1!$A:$E,2,0))","v":""},{"$f":"IF(B42=\"\",\"\",VLOOKUP(B42,Sheet1!$A:$E,3,0))","v":""},null,{"$f":"IF(B42=\"\",\"\",VLOOKUP(B42,Sheet1!$A:$E,4,0))","v":""},{"$f":"IF(B42=\"\",\"\",VLOOKUP(③選手情報入力!B42,Sheet1!$A:$E,5,0))","v":""},null,null,null,null,null,null,null,null,null,null,{"$f":"種目情報!N45","v":"女円盤投"}]
[34,null,{"$f":"IF(B43=\"\",\"\",VLOOKUP(B43,Sheet1!$A:$E,2,0))","v":""},{"$f":"IF(B43=\"\",\"\",VLOOKUP(B43,Sheet1!$A:$E,3,0))","v":""},null,{"$f":"IF(B43=\"\",\"\",VLOOKUP(B43,Sheet1!$A:$E,4,0))","v":""},{"$f":"IF(B43=\"\",\"\",VLOOKUP(③選手情報入力!B43,Sheet1!$A:$E,5,0))","v":""},null,null,null,null,null,null,null,null,null,null,{"$f":"種目情報!N46","v":"女ハンマー投"}]
[35,null,{"$f":"IF(B44=\"\",\"\",VLOOKUP(B44,Sheet1!$A:$E,2,0))","v":""},{"$f":"IF(B44=\"\",\"\",VLOOKUP(B44,Sheet1!$A:$E,3,0))","v":""},null,{"$f":"IF(B44=\"\",\"\",VLOOKUP(B44,Sheet1!$A:$E,4,0))","v":""},{"$f":"IF(B44=\"\",\"\",VLOOKUP(③選手情報入力!B44,Sheet1!$A:$E,5,0))","v":""},null,null,null,null,null,null,null,null,null,null,{"$f":"種目情報!N47","v":"女やり投"}]
[36,null,{"$f":"IF(B45=\"\",\"\",VLOOKUP(B45,Sheet1!$A:$E,2,0))","v":""},{"$f":"IF(B45=\"\",\"\",VLOOKUP(B45,Sheet1!$A:$E,3,0))","v":""},null,{"$f":"IF(B45=\"\",\"\",VLOOKUP(B45,Sheet1!$A:$E,4,0))","v":""},{"$f":"IF(B45=\"\",\"\",VLOOKUP(③選手情報入力!B45,Sheet1!$A:$E,5,0))","v":""}]
[37,null,{"$f":"IF(B46=\"\",\"\",VLOOKUP(B46,Sheet1!$A:$E,2,0))","v":""},{"$f":"IF(B46=\"\",\"\",VLOOKUP(B46,Sheet1!$A:$E,3,0))","v":""},null,{"$f":"IF(B46=\"\",\"\",VLOOKUP(B46,Sheet1!$A:$E,4,0))","v":""},{"$f":"IF(B46=\"\",\"\",VLOOKUP(③選手情報入力!B46,Sheet1!$A:$E,5,0))","v":""}]
[38,null,{"$f":"IF(B47=\"\",\"\",VLOOKUP(B47,Sheet1!$A:$E,2,0))","v":""},{"$f":"IF(B47=\"\",\"\",VLOOKUP(B47,Sheet1!$A:$E,3,0))","v":""},null,{"$f":"IF(B47=\"\",\"\",VLOOKUP(B47,Sheet1!$A:$E,4,0))","v":""},{"$f":"IF(B47=\"\",\"\",VLOOKUP(③選手情報入力!B47,Sheet1!$A:$E,5,0))","v":""}]
[39,null,{"$f":"IF(B48=\"\",\"\",VLOOKUP(B48,Sheet1!$A:$E,2,0))","v":""},{"$f":"IF(B48=\"\",\"\",VLOOKUP(B48,Sheet1!$A:$E,3,0))","v":""},null,{"$f":"IF(B48=\"\",\"\",VLOOKUP(B48,Sheet1!$A:$E,4,0))","v":""},{"$f":"IF(B48=\"\",\"\",VLOOKUP(③選手情報入力!B48,Sheet1!$A:$E,5,0))","v":""}]
[40,null,{"$f":"IF(B49=\"\",\"\",VLOOKUP(B49,Sheet1!$A:$E,2,0))","v":""},{"$f":"IF(B49=\"\",\"\",VLOOKUP(B49,Sheet1!$A:$E,3,0))","v":""},null,{"$f":"IF(B49=\"\",\"\",VLOOKUP(B49,Sheet1!$A:$E,4,0))","v":""},{"$f":"IF(B49=\"\",\"\",VLOOKUP(③選手情報入力!B49,Sheet1!$A:$E,5,0))","v":""}]
[null,null,null,null,"種目計",{"$f":"SUM(H50:M50)","v":0},null,{"$f":"COUNTA(H10:H49)","v":0},null,null,null,{"$f":"COUNTA(L10:L49)","v":0}]
[null,null,null,null,"男",{"$f":"COUNTIF(F10:F49,\"男\")","v":0}]
[null,null,null,null,"女",{"$f":"COUNTIF(F10:F49,\"女\")","v":0}]

{"sheet":"③リレー情報確認","index":4,"n_rows":16,"n_cols":24,"rows_kept":16,"cut":false,"hidden":true,"merged":[[0,9,0,11],[7,17,14,17],[7,5,14,5],[5,1,5,5],[7,23,14,23],[5,13,5,17],[5,19,5,23],[5,7,5,11],[7,11,14,11],[0,15,0,17]]}
["③リレー情報確認",null,null,null,null,null,null,null,"チーム名 ",{"$f":"IF(②団体情報入力!D5=\"\",\"\",②団体情報入力!D5)","v":""},null,null,null,null,"ｶﾅ",{"$f":"IF(②団体情報入力!D6=\"\",\"\",②団体情報入力!D6)","v":""}]
[]
[null,null,"※リレーにエントリーをする選手とチームの記録を確認してください。"]
[null,null,"※修正をする場合は「②選手情報入力」で修正してください。"]
[]
[null,"男4X100mR",null,null,null,null,null,"男4X400mR",null,null,null,null,null,"女4X100mR",null,null,null,null,null,"女4X400mR"]
[null,"Ord","ﾅﾝﾊﾞｰ","氏　名","競技者NO","記録",null,"Ord","ﾅﾝﾊﾞｰ","氏　名","競技者NO","記録",null,"Ord","ﾅﾝﾊﾞｰ","氏　名","競技者NO","記録",null,"Ord","ﾅﾝﾊﾞｰ","氏　名","競技者NO","記録"]
[null,1,{"$f":"IF(③選手情報入力!#REF!<1,\"\",VLOOKUP(B8,③選手情報入力!#REF!,2,FALSE))","v":{"$error":"#REF!"}},{"$f":"IF(C8=\"\",\"\",VLOOKUP(C8,③選手情報入力!#REF!,2,FALSE))","v":{"$error":"#REF!"}},{"$f":"IF(C8=\"\",\"\",VLOOKUP(C8,③選手情報入力!#REF!,6,FALSE))","v":{"$error":"#REF!"}},{"$f":"IF(③選手情報入力!N5=\"\",\"\",IF(③選手情報入力!N5<③選手情報入力!#REF!,③選手情報入力!N5,③選手情報入力!#REF!))","v":""},null,1,{"$f":"IF(③選手情報入力!#REF!<1,\"\",VLOOKUP(H8,③選手情報入力!#REF!,2,FALSE))","v":{"$error":"#REF!"}},{"$f":"IF(I8=\"\",\"\",VLOOKUP(I8,③選手情報入力!#REF!,2,FALSE))","v":{"$error":"#REF!"}},{"$f":"IF(I8=\"\",\"\",VLOOKUP(I8,③選手情報入力!#REF!,6,FALSE))","v":{"$error":"#REF!"}},{"$f":"IF(③選手情報入力!#REF!=\"\",\"\",IF(③選手情報入力!#REF!>③選手情報入力!#REF!,③選手情報入力!#REF!,③選手情報入力!#REF!))","v":{"$error":"#REF!"}},null,1,{"$f":"IF(③選手情報入力!#REF!<1,\"\",VLOOKUP(N8,③選手情報入力!#REF!,2,FALSE))","v":{"$error":"#REF!"}},{"$f":"IF(O8=\"\",\"\",VLOOKUP(O8,③選手情報入力!#REF!,2,FALSE))","v":{"$error":"#REF!"}},{"$f":"IF(O8=\"\",\"\",VLOOKUP(O8,③選手情報入力!#REF!,6,FALSE))","v":{"$error":"#REF!"}},{"$f":"IF(③選手情報入力!N6=\"\",\"\",IF(③選手情報入力!N6>③選手情報入力!#REF!,③選手情報入力!#REF!,③選手情報入力!N6))","v":""},null,1,{"$f":"IF(③選手情報入力!#REF!<1,\"\",VLOOKUP(T8,③選手情報入力!#REF!,2,FALSE))","v":{"$error":"#REF!"}},{"$f":"IF(U8=\"\",\"\",VLOOKUP(U8,③選手情報入力!#REF!,2,FALSE))","v":{"$error":"#REF!"}},{"$f":"IF(U8=\"\",\"\",VLOOKUP(U8,③選手情報入力!#REF!,6,FALSE))","v":{"$error":"#REF!"}},{"$f":"IF(③選手情報入力!#REF!=\"\",\"\",IF(③選手情報入力!#REF!>③選手情報入力!#REF!,③選手情報入力!#REF!,③選手情報入力!#REF!))","v":{"$error":"#REF!"}}]
[null,2,{"$f":"IF(③選手情報入力!#REF!<1,\"\",VLOOKUP(B9,③選手情報入力!#REF!,2,FALSE))","v":{"$error":"#REF!"}},{"$f":"IF(C9=\"\",\"\",VLOOKUP(C9,③選手情報入力!#REF!,2,FALSE))","v":{"$error":"#REF!"}},{"$f":"IF(C9=\"\",\"\",VLOOKUP(C9,③選手情報入力!#REF!,6,FALSE))","v":{"$error":"#REF!"}},null,null,2,{"$f":"IF(③選手情報入力!#REF!<1,\"\",VLOOKUP(H9,③選手情報入力!#REF!,2,FALSE))","v":{"$error":"#REF!"}},{"$f":"IF(I9=\"\",\"\",VLOOKUP(I9,③選手情報入力!#REF!,2,FALSE))","v":{"$error":"#REF!"}},{"$f":"IF(I9=\"\",\"\",VLOOKUP(I9,③選手情報入力!#REF!,6,FALSE))","v":{"$error":"#REF!"}},null,null,2,{"$f":"IF(③選手情報入力!#REF!<1,\"\",VLOOKUP(N9,③選手情報入力!#REF!,2,FALSE))","v":{"$error":"#REF!"}},{"$f":"IF(O9=\"\",\"\",VLOOKUP(O9,③選手情報入力!#REF!,2,FALSE))","v":{"$error":"#REF!"}},{"$f":"IF(O9=\"\",\"\",VLOOKUP(O9,③選手情報入力!#REF!,6,FALSE))","v":{"$error":"#REF!"}},null,null,2,{"$f":"IF(③選手情報入力!#REF!<1,\"\",VLOOKUP(T9,③選手情報入力!#REF!,2,FALSE))","v":{"$error":"#REF!"}},{"$f":"IF(U9=\"\",\"\",VLOOKUP(U9,③選手情報入力!#REF!,2,FALSE))","v":{"$error":"#REF!"}},{"$f":"IF(U9=\"\",\"\",VLOOKUP(U9,③選手情報入力!#REF!,6,FALSE))","v":{"$error":"#REF!"}}]
[null,3,{"$f":"IF(③選手情報入力!#REF!<1,\"\",VLOOKUP(B10,③選手情報入力!#REF!,2,FALSE))","v":{"$error":"#REF!"}},{"$f":"IF(C10=\"\",\"\",VLOOKUP(C10,③選手情報入力!#REF!,2,FALSE))","v":{"$error":"#REF!"}},{"$f":"IF(C10=\"\",\"\",VLOOKUP(C10,③選手情報入力!#REF!,6,FALSE))","v":{"$error":"#REF!"}},null,null,3,{"$f":"IF(③選手情報入力!#REF!<1,\"\",VLOOKUP(H10,③選手情報入力!#REF!,2,FALSE))","v":{"$error":"#REF!"}},{"$f":"IF(I10=\"\",\"\",VLOOKUP(I10,③選手情報入力!#REF!,2,FALSE))","v":{"$error":"#REF!"}},{"$f":"IF(I10=\"\",\"\",VLOOKUP(I10,③選手情報入力!#REF!,6,FALSE))","v":{"$error":"#REF!"}},null,null,3,{"$f":"IF(③選手情報入力!#REF!<1,\"\",VLOOKUP(N10,③選手情報入力!#REF!,2,FALSE))","v":{"$error":"#REF!"}},{"$f":"IF(O10=\"\",\"\",VLOOKUP(O10,③選手情報入力!#REF!,2,FALSE))","v":{"$error":"#REF!"}},{"$f":"IF(O10=\"\",\"\",VLOOKUP(O10,③選手情報入力!#REF!,6,FALSE))","v":{"$error":"#REF!"}},null,null,3,{"$f":"IF(③選手情報入力!#REF!<1,\"\",VLOOKUP(T10,③選手情報入力!#REF!,2,FALSE))","v":{"$error":"#REF!"}},{"$f":"IF(U10=\"\",\"\",VLOOKUP(U10,③選手情報入力!#REF!,2,FALSE))","v":{"$error":"#REF!"}},{"$f":"IF(U10=\"\",\"\",VLOOKUP(U10,③選手情報入力!#REF!,6,FALSE))","v":{"$error":"#REF!"}}]
[null,4,{"$f":"IF(③選手情報入力!#REF!<1,\"\",VLOOKUP(B11,③選手情報入力!#REF!,2,FALSE))","v":{"$error":"#REF!"}},{"$f":"IF(C11=\"\",\"\",VLOOKUP(C11,③選手情報入力!#REF!,2,FALSE))","v":{"$error":"#REF!"}},{"$f":"IF(C11=\"\",\"\",VLOOKUP(C11,③選手情報入力!#REF!,6,FALSE))","v":{"$error":"#REF!"}},null,null,4,{"$f":"IF(③選手情報入力!#REF!<1,\"\",VLOOKUP(H11,③選手情報入力!#REF!,2,FALSE))","v":{"$error":"#REF!"}},{"$f":"IF(I11=\"\",\"\",VLOOKUP(I11,③選手情報入力!#REF!,2,FALSE))","v":{"$error":"#REF!"}},{"$f":"IF(I11=\"\",\"\",VLOOKUP(I11,③選手情報入力!#REF!,6,FALSE))","v":{"$error":"#REF!"}},null,null,4,{"$f":"IF(③選手情報入力!#REF!<1,\"\",VLOOKUP(N11,③選手情報入力!#REF!,2,FALSE))","v":{"$error":"#REF!"}},{"$f":"IF(O11=\"\",\"\",VLOOKUP(O11,③選手情報入力!#REF!,2,FALSE))","v":{"$error":"#REF!"}},{"$f":"IF(O11=\"\",\"\",VLOOKUP(O11,③選手情報入力!#REF!,6,FALSE))","v":{"$error":"#REF!"}},null,null,4,{"$f":"IF(③選手情報入力!#REF!<1,\"\",VLOOKUP(T11,③選手情報入力!#REF!,2,FALSE))","v":{"$error":"#REF!"}},{"$f":"IF(U11=\"\",\"\",VLOOKUP(U11,③選手情報入力!#REF!,2,FALSE))","v":{"$error":"#REF!"}},{"$f":"IF(U11=\"\",\"\",VLOOKUP(U11,③選手情報入力!#REF!,6,FALSE))","v":{"$error":"#REF!"}}]
[null,5,{"$f":"IF(③選手情報入力!#REF!<1,\"\",VLOOKUP(B12,③選手情報入力!#REF!,2,FALSE))","v":{"$error":"#REF!"}},{"$f":"IF(C12=\"\",\"\",VLOOKUP(C12,③選手情報入力!#REF!,2,FALSE))","v":{"$error":"#REF!"}},{"$f":"IF(C12=\"\",\"\",VLOOKUP(C12,③選手情報入力!#REF!,6,FALSE))","v":{"$error":"#REF!"}},null,null,5,{"$f":"IF(③選手情報入力!#REF!<1,\"\",VLOOKUP(H12,③選手情報入力!#REF!,2,FALSE))","v":{"$error":"#REF!"}},{"$f":"IF(I12=\"\",\"\",VLOOKUP(I12,③選手情報入力!#REF!,2,FALSE))","v":{"$error":"#REF!"}},{"$f":"IF(I12=\"\",\"\",VLOOKUP(I12,③選手情報入力!#REF!,6,FALSE))","v":{"$error":"#REF!"}},null,null,5,{"$f":"IF(③選手情報入力!#REF!<1,\"\",VLOOKUP(N12,③選手情報入力!#REF!,2,FALSE))","v":{"$error":"#REF!"}},{"$f":"IF(O12=\"\",\"\",VLOOKUP(O12,③選手情報入力!#REF!,2,FALSE))","v":{"$error":"#REF!"}},{"$f":"IF(O12=\"\",\"\",VLOOKUP(O12,③選手情報入力!#REF!,6,FALSE))","v":{"$error":"#REF!"}},null,null,5,{"$f":"IF(③選手情報入力!#REF!<1,\"\",VLOOKUP(T12,③選手情報入力!#REF!,2,FALSE))","v":{"$error":"#REF!"}},{"$f":"IF(U12=\"\",\"\",VLOOKUP(U12,③選手情報入力!#REF!,2,FALSE))","v":{"$error":"#REF!"}},{"$f":"IF(U12=\"\",\"\",VLOOKUP(U12,③選手情報入力!#REF!,6,FALSE))","v":{"$error":"#REF!"}}]
[null,6,{"$f":"IF(③選手情報入力!#REF!<1,\"\",VLOOKUP(B13,③選手情報入力!#REF!,2,FALSE))","v":{"$error":"#REF!"}},{"$f":"IF(C13=\"\",\"\",VLOOKUP(C13,③選手情報入力!#REF!,2,FALSE))","v":{"$error":"#REF!"}},{"$f":"IF(C13=\"\",\"\",VLOOKUP(C13,③選手情報入力!#REF!,6,FALSE))","v":{"$error":"#REF!"}},null,null,6,{"$f":"IF(③選手情報入力!#REF!<1,\"\",VLOOKUP(H13,③選手情報入力!#REF!,2,FALSE))","v":{"$error":"#REF!"}},{"$f":"IF(I13=\"\",\"\",VLOOKUP(I13,③選手情報入力!#REF!,2,FALSE))","v":{"$error":"#REF!"}},{"$f":"IF(I13=\"\",\"\",VLOOKUP(I13,③選手情報入力!#REF!,6,FALSE))","v":{"$error":"#REF!"}},null,null,6,{"$f":"IF(③選手情報入力!#REF!<1,\"\",VLOOKUP(N13,③選手情報入力!#REF!,2,FALSE))","v":{"$error":"#REF!"}},{"$f":"IF(O13=\"\",\"\",VLOOKUP(O13,③選手情報入力!#REF!,2,FALSE))","v":{"$error":"#REF!"}},{"$f":"IF(O13=\"\",\"\",VLOOKUP(O13,③選手情報入力!#REF!,6,FALSE))","v":{"$error":"#REF!"}},null,null,6,{"$f":"IF(③選手情報入力!#REF!<1,\"\",VLOOKUP(T13,③選手情報入力!#REF!,2,FALSE))","v":{"$error":"#REF!"}},{"$f":"IF(U13=\"\",\"\",VLOOKUP(U13,③選手情報入力!#REF!,2,FALSE))","v":{"$error":"#REF!"}},{"$f":"IF(U13=\"\",\"\",VLOOKUP(U13,③選手情報入力!#REF!,6,FALSE))","v":{"$error":"#REF!"}}]
[null,7,{"$f":"IF(③選手情報入力!#REF!<1,\"\",VLOOKUP(B14,③選手情報入力!#REF!,2,FALSE))","v":{"$error":"#REF!"}},{"$f":"IF(C14=\"\",\"\",VLOOKUP(C14,③選手情報入力!#REF!,2,FALSE))","v":{"$error":"#REF!"}},{"$f":"IF(C14=\"\",\"\",VLOOKUP(C14,③選手情報入力!#REF!,6,FALSE))","v":{"$error":"#REF!"}},null,null,7,{"$f":"IF(③選手情報入力!#REF!<1,\"\",VLOOKUP(H14,③選手情報入力!#REF!,2,FALSE))","v":{"$error":"#REF!"}},{"$f":"IF(I14=\"\",\"\",VLOOKUP(I14,③選手情報入力!#REF!,2,FALSE))","v":{"$error":"#REF!"}},{"$f":"IF(I14=\"\",\"\",VLOOKUP(I14,③選手情報入力!#REF!,6,FALSE))","v":{"$error":"#REF!"}},null,null,7,{"$f":"IF(③選手情報入力!#REF!<1,\"\",VLOOKUP(N14,③選手情報入力!#REF!,2,FALSE))","v":{"$error":"#REF!"}},{"$f":"IF(O14=\"\",\"\",VLOOKUP(O14,③選手情報入力!#REF!,2,FALSE))","v":{"$error":"#REF!"}},{"$f":"IF(O14=\"\",\"\",VLOOKUP(O14,③選手情報入力!#REF!,6,FALSE))","v":{"$error":"#REF!"}},null,null,7,{"$f":"IF(③選手情報入力!#REF!<1,\"\",VLOOKUP(T14,③選手情報入力!#REF!,2,FALSE))","v":{"$error":"#REF!"}},{"$f":"IF(U14=\"\",\"\",VLOOKUP(U14,③選手情報入力!#REF!,2,FALSE))","v":{"$error":"#REF!"}},{"$f":"IF(U14=\"\",\"\",VLOOKUP(U14,③選手情報入力!#REF!,6,FALSE))","v":{"$error":"#REF!"}}]
[null,8,{"$f":"IF(③選手情報入力!#REF!<1,\"\",VLOOKUP(B15,③選手情報入力!#REF!,2,FALSE))","v":{"$error":"#REF!"}},{"$f":"IF(C15=\"\",\"\",VLOOKUP(C15,③選手情報入力!#REF!,2,FALSE))","v":{"$error":"#REF!"}},{"$f":"IF(C15=\"\",\"\",VLOOKUP(C15,③選手情報入力!#REF!,6,FALSE))","v":{"$error":"#REF!"}},null,null,8,{"$f":"IF(③選手情報入力!#REF!<1,\"\",VLOOKUP(H15,③選手情報入力!#REF!,2,FALSE))","v":{"$error":"#REF!"}},{"$f":"IF(I15=\"\",\"\",VLOOKUP(I15,③選手情報入力!#REF!,2,FALSE))","v":{"$error":"#REF!"}},{"$f":"IF(I15=\"\",\"\",VLOOKUP(I15,③選手情報入力!#REF!,6,FALSE))","v":{"$error":"#REF!"}},null,null,8,{"$f":"IF(③選手情報入力!#REF!<1,\"\",VLOOKUP(N15,③選手情報入力!#REF!,2,FALSE))","v":{"$error":"#REF!"}},{"$f":"IF(O15=\"\",\"\",VLOOKUP(O15,③選手情報入力!#REF!,2,FALSE))","v":{"$error":"#REF!"}},{"$f":"IF(O15=\"\",\"\",VLOOKUP(O15,③選手情報入力!#REF!,6,FALSE))","v":{"$error":"#REF!"}},null,null,8,{"$f":"IF(③選手情報入力!#REF!<1,\"\",VLOOKUP(T15,③選手情報入力!#REF!,2,FALSE))","v":{"$error":"#REF!"}},{"$f":"IF(U15=\"\",\"\",VLOOKUP(U15,③選手情報入力!#REF!,2,FALSE))","v":{"$error":"#REF!"}},{"$f":"IF(U15=\"\",\"\",VLOOKUP(U15,③選手情報入力!#REF!,6,FALSE))","v":{"$error":"#REF!"}}]
[null,null,null,"申込チーム数",null,{"$f":"IF(③選手情報入力!#REF!>=4,1,0)","v":{"$error":"#REF!"}},null,null,null,"申込チーム数",null,{"$f":"IF(③選手情報入力!#REF!>=4,1,0)","v":{"$error":"#REF!"}},null,null,null,"申込チーム数",null,{"$f":"IF(③選手情報入力!#REF!>=4,1,0)","v":{"$error":"#REF!"}},null,null,null,"申込チーム数",null,{"$f":"IF(③選手情報入力!#REF!>=4,1,0)","v":{"$error":"#REF!"}}]

{"sheet":"④種目別人数","index":5,"n_rows":31,"n_cols":14,"rows_kept":31,"cut":false,"hidden":false,"merged":[[29,1,29,2],[27,2,27,3],[12,2,12,3],[11,2,11,3],[13,2,13,3],[14,2,14,3],[15,2,15,3],[16,2,16,3],[17,2,17,3],[18,2,18,3],[19,2,19,3],[20,2,20,3],[21,2,21,3],[22,2,22,3],[1,0,1,7],[3,0,3,7],[6,1,6,2],[6,5,6,6],[2,0,2,4],[5,3,5,6],[4,2,4,5],[7,2,7,3],[8,2,8,3],[9,2,9,3],[10,2,10,3],[12,6,12,7],[7,6,7,7],[8,6,8,7],[9,6,9,7],[24,6,24,7],[23,2,23,3],[24,2,24,3],[10,6,10,7],[11,6,11,7],[21,6,21,7],[22,6,22,7],[23,6,23,7],[17,6,17,7],[18,6,18,7],[19,6,19,7],[20,6,20,7],[13,6,13,7],[14,6,14,7],[15,6,15,7],[16,6,16,7]]}
["④種目別人数一覧表",null,"※種目数・参加料等を確認してから印刷をしてください。"]
["　　　帳票印刷ボタンをクリックして印刷を行ってください。↓　　"]
[{"$f":"注意事項!C3","v":"第77回愛知陸上競技選手権大会"},null,null,null,null,null,{"$f":"IF(②団体情報入力!D3=\"\",\"\",②団体情報入力!D3)","v":""}]
["種目別申込人数一覧表"]
[null,"申込責任者",{"$f":"IF(②団体情報入力!D9=\"\",\"\",②団体情報入力!D9)","v":""},null,null,null,"A4サイズ"]
[null,{"$f":"IF(②団体情報入力!D8=\"\",\"\",②団体情報入力!D8)","v":""},"学校名",{"$f":"IF(②団体情報入力!D5=\"\",\"\",②団体情報入力!D5)","v":""}]
[null,"男　　　子",null,null,null,"女　　　子",null,null,null,null,null,"男種目",null,"女種目"]
[null,"種　　目","申込数",null,null,"種　　目","申込数",null,null,null,"男100m",{"$f":"COUNTIF(③選手情報入力!$H$10:$N$49,K8)","v":0},"女100m",{"$f":"COUNTIF(③選手情報入力!$H$10:$N$49,M8)","v":0}]
[null,"100m",{"$f":"IF(L8=0,\"\",L8)","v":""},null,null,"100m",{"$f":"IF(N8=0,\"\",N8)","v":""},null,null,null,"男200m",{"$f":"COUNTIF(③選手情報入力!$H$10:$N$49,K9)","v":0},"女200m",{"$f":"COUNTIF(③選手情報入力!$H$10:$N$49,M9)","v":0}]
[null,"200m",{"$f":"IF(L9=0,\"\",L9)","v":""},null,null,"200m",{"$f":"IF(N9=0,\"\",N9)","v":""},null,null,null,"男400m",{"$f":"COUNTIF(③選手情報入力!$H$10:$N$49,K10)","v":0},"女400m",{"$f":"COUNTIF(③選手情報入力!$H$10:$N$49,M10)","v":0}]
[null,"400m","",null,null,"400m","",null,null,null,"男800m",{"$f":"COUNTIF(③選手情報入力!$H$10:$N$49,K11)","v":0},"女800m",{"$f":"COUNTIF(③選手情報入力!$H$10:$N$49,M11)","v":0}]
[null,"800m","",null,null,"800m","",null,null,null,"男1500m",{"$f":"COUNTIF(③選手情報入力!$H$10:$N$49,K12)","v":0},"女1500m",{"$f":"COUNTIF(③選手情報入力!$H$10:$N$49,M12)","v":0}]
[null,"1500m","",null,null,"1500m","",null,null,null,"男110mH",{"$f":"COUNTIF(③選手情報入力!$H$10:$N$49,K13)","v":0},"女100mH",{"$f":"COUNTIF(③選手情報入力!$H$10:$N$49,M13)","v":0}]
[null,"110mH","",null,null,"100mH","",null,null,null,"男400mH",{"$f":"COUNTIF(③選手情報入力!$H$10:$N$49,K14)","v":0},"女400mH",{"$f":"COUNTIF(③選手情報入力!$H$10:$N$49,M14)","v":0}]
[null,"400mH","",null,null,"400mH","",null,null,null,"男3000mSC",{"$f":"COUNTIF(③選手情報入力!$H$10:$N$49,K15)","v":0},"女3000mSC",{"$f":"COUNTIF(③選手情報入力!$H$10:$N$49,M15)","v":0}]
[null,"3000mSC","",null,null,"3000mSC","",null,null,null,"男5000mW",{"$f":"COUNTIF(③選手情報入力!$H$10:$N$49,K16)","v":0},"女5000mW",{"$f":"COUNTIF(③選手情報入力!$H$10:$N$49,M16)","v":0}]
[null,"5000mW","",null,null,"5000mW","",null,null,null,"男走高跳",{"$f":"COUNTIF(③選手情報入力!$H$10:$N$49,K17)","v":0},"女走高跳",{"$f":"COUNTIF(③選手情報入力!$H$10:$N$49,M17)","v":0}]
[null,"走高跳","",null,null,"走高跳","",null,null,null,"男棒高跳",{"$f":"COUNTIF(③選手情報入力!$H$10:$N$49,K18)","v":0},"女棒高跳",{"$f":"COUNTIF(③選手情報入力!$H$10:$N$49,M18)","v":0}]
[null,"棒高跳","",null,null,"棒高跳","",null,null,null,"男走幅跳",{"$f":"COUNTIF(③選手情報入力!$H$10:$N$49,K19)","v":0},"女走幅跳",{"$f":"COUNTIF(③選手情報入力!$H$10:$N$49,M19)","v":0}]
[null,"走幅跳","",null,null,"走幅跳","",null,null,null,"男三段跳",{"$f":"COUNTIF(③選手情報入力!$H$10:$N$49,K20)","v":0},"女三段跳",{"$f":"COUNTIF(③選手情報入力!$H$10:$N$49,M20)","v":0}]
[null,"三段跳","",null,null,"三段跳","",null,null,null,"男砲丸投",{"$f":"COUNTIF(③選手情報入力!$H$10:$N$49,K21)","v":0},"女砲丸投",{"$f":"COUNTIF(③選手情報入力!$H$10:$N$49,M21)","v":0}]
[null,"砲丸投","",null,null,"砲丸投","",null,null,null,"男円盤投",{"$f":"COUNTIF(③選手情報入力!$H$10:$N$49,K22)","v":0},"女円盤投",{"$f":"COUNTIF(③選手情報入力!$H$10:$N$49,M22)","v":0}]
[null,"円盤投","",null,null,"円盤投","",null,null,null,"男ハンマー投",{"$f":"COUNTIF(③選手情報入力!$H$10:$N$49,K23)","v":0},"女ハンマー投",{"$f":"COUNTIF(③選手情報入力!$H$10:$N$49,M23)","v":0}]
[null,"ハンマー投","",null,null,"ハンマー投","",null,null,null,"男やり投",{"$f":"COUNTIF(③選手情報入力!$H$10:$N$49,K24)","v":0},"女やり投",{"$f":"COUNTIF(③選手情報入力!$H$10:$N$49,M24)","v":0}]
[null,"やり投","",null,null,"やり投","",null,null,null,null,{"$f":"SUM(L8:L24)","v":0},null,{"$f":"SUM(N8:N24)","v":0}]
[]
[null,"種　目　数",null,null,null,"参　　加　　料"]
[null,"個人種目数",{"$f":"L25+N25-COUNTIF(③選手情報入力!$K$10:$K$49,\"前年度選手権者\")-COUNTIF(③選手情報入力!$O$10:$O$49,\"前年度選手権者\")","v":0},null,null,"種目数✕1,000円",{"$f":"C28*1000","v":0}]
[null,"プログラム購入部数",{"$f":"IF(②団体情報入力!D10=\"\",0,②団体情報入力!D10)","v":0},"部",null,"プログラム部数✕1000円",{"$f":"C29*1000","v":0}]
[null,{"$f":"TODAY()","v":"2017-06-05"},null,null,null,"支払金額",{"$f":"SUM(G28:G29)","v":0}]
[null,null,null,null,null,"振込明細書のコピーを裏面に添付してください"]

{"sheet":"⑤申込一覧表","index":6,"n_rows":47,"n_cols":9,"rows_kept":47,"cut":false,"hidden":false,"merged":[[1,2,1,7],[3,1,4,1],[3,3,3,4],[4,3,4,4]]}
["⑤申込一覧表"]
[null,"大会名",{"$f":"注意事項!C3&注意事項!F3","v":"第77回愛知陸上競技選手権大会"}]
[null,null,null,null,null,null,"学校名",{"$f":"IF(②団体情報入力!D5=\"\",\"\",②団体情報入力!D5)","v":""},{"$f":"IF(②団体情報入力!D3=\"\",\"\",②団体情報入力!D3)","v":""}]
[null,"人数","男　　子",{"$f":"③選手情報入力!F51","v":0}]
[null,null,"女　　子",{"$f":"③選手情報入力!F52","v":0}]
[]
[null,"ﾅﾝﾊﾞｰ","氏　名","性","年","種目１","記録１","種目２","記録２"]
[1,{"$f":"IF(③選手情報入力!B10=\"\",\"\",③選手情報入力!B10)","v":""},{"$f":"IF(③選手情報入力!C10=\"\",\"\",③選手情報入力!C10)","v":""},{"$f":"IF(③選手情報入力!F10=\"\",\"\",③選手情報入力!F10)","v":""},{"$f":"IF(③選手情報入力!G10=\"\",\"\",③選手情報入力!G10)","v":""},{"$f":"IF(③選手情報入力!H10=\"\",\"\",③選手情報入力!H10)","v":""},{"$f":"IF(③選手情報入力!I10=\"\",\"\",③選手情報入力!I10)","v":""},{"$f":"IF(③選手情報入力!L10=\"\",\"\",③選手情報入力!L10)","v":""},{"$f":"IF(③選手情報入力!M10=\"\",\"\",③選手情報入力!M10)","v":""}]
[2,{"$f":"IF(③選手情報入力!B11=\"\",\"\",③選手情報入力!B11)","v":""},{"$f":"IF(③選手情報入力!C11=\"\",\"\",③選手情報入力!C11)","v":""},{"$f":"IF(③選手情報入力!F11=\"\",\"\",③選手情報入力!F11)","v":""},{"$f":"IF(③選手情報入力!G11=\"\",\"\",③選手情報入力!G11)","v":""},{"$f":"IF(③選手情報入力!H11=\"\",\"\",③選手情報入力!H11)","v":""},{"$f":"IF(③選手情報入力!I11=\"\",\"\",③選手情報入力!I11)","v":""},{"$f":"IF(③選手情報入力!L11=\"\",\"\",③選手情報入力!L11)","v":""},{"$f":"IF(③選手情報入力!M11=\"\",\"\",③選手情報入力!M11)","v":""}]
[3,{"$f":"IF(③選手情報入力!B12=\"\",\"\",③選手情報入力!B12)","v":""},{"$f":"IF(③選手情報入力!C12=\"\",\"\",③選手情報入力!C12)","v":""},{"$f":"IF(③選手情報入力!F12=\"\",\"\",③選手情報入力!F12)","v":""},{"$f":"IF(③選手情報入力!G12=\"\",\"\",③選手情報入力!G12)","v":""},{"$f":"IF(③選手情報入力!H12=\"\",\"\",③選手情報入力!H12)","v":""},{"$f":"IF(③選手情報入力!I12=\"\",\"\",③選手情報入力!I12)","v":""},{"$f":"IF(③選手情報入力!L12=\"\",\"\",③選手情報入力!L12)","v":""},{"$f":"IF(③選手情報入力!M12=\"\",\"\",③選手情報入力!M12)","v":""}]
[4,{"$f":"IF(③選手情報入力!B13=\"\",\"\",③選手情報入力!B13)","v":""},{"$f":"IF(③選手情報入力!C13=\"\",\"\",③選手情報入力!C13)","v":""},{"$f":"IF(③選手情報入力!F13=\"\",\"\",③選手情報入力!F13)","v":""},{"$f":"IF(③選手情報入力!G13=\"\",\"\",③選手情報入力!G13)","v":""},{"$f":"IF(③選手情報入力!H13=\"\",\"\",③選手情報入力!H13)","v":""},{"$f":"IF(③選手情報入力!I13=\"\",\"\",③選手情報入力!I13)","v":""},{"$f":"IF(③選手情報入力!L13=\"\",\"\",③選手情報入力!L13)","v":""},{"$f":"IF(③選手情報入力!M13=\"\",\"\",③選手情報入力!M13)","v":""}]
[5,{"$f":"IF(③選手情報入力!B14=\"\",\"\",③選手情報入力!B14)","v":""},{"$f":"IF(③選手情報入力!C14=\"\",\"\",③選手情報入力!C14)","v":""},{"$f":"IF(③選手情報入力!F14=\"\",\"\",③選手情報入力!F14)","v":""},{"$f":"IF(③選手情報入力!G14=\"\",\"\",③選手情報入力!G14)","v":""},{"$f":"IF(③選手情報入力!H14=\"\",\"\",③選手情報入力!H14)","v":""},{"$f":"IF(③選手情報入力!I14=\"\",\"\",③選手情報入力!I14)","v":""},{"$f":"IF(③選手情報入力!L14=\"\",\"\",③選手情報入力!L14)","v":""},{"$f":"IF(③選手情報入力!M14=\"\",\"\",③選手情報入力!M14)","v":""}]
[6,{"$f":"IF(③選手情報入力!B15=\"\",\"\",③選手情報入力!B15)","v":""},{"$f":"IF(③選手情報入力!C15=\"\",\"\",③選手情報入力!C15)","v":""},{"$f":"IF(③選手情報入力!F15=\"\",\"\",③選手情報入力!F15)","v":""},{"$f":"IF(③選手情報入力!G15=\"\",\"\",③選手情報入力!G15)","v":""},{"$f":"IF(③選手情報入力!H15=\"\",\"\",③選手情報入力!H15)","v":""},{"$f":"IF(③選手情報入力!I15=\"\",\"\",③選手情報入力!I15)","v":""},{"$f":"IF(③選手情報入力!L15=\"\",\"\",③選手情報入力!L15)","v":""},{"$f":"IF(③選手情報入力!M15=\"\",\"\",③選手情報入力!M15)","v":""}]
[7,{"$f":"IF(③選手情報入力!B16=\"\",\"\",③選手情報入力!B16)","v":""},{"$f":"IF(③選手情報入力!C16=\"\",\"\",③選手情報入力!C16)","v":""},{"$f":"IF(③選手情報入力!F16=\"\",\"\",③選手情報入力!F16)","v":""},{"$f":"IF(③選手情報入力!G16=\"\",\"\",③選手情報入力!G16)","v":""},{"$f":"IF(③選手情報入力!H16=\"\",\"\",③選手情報入力!H16)","v":""},{"$f":"IF(③選手情報入力!I16=\"\",\"\",③選手情報入力!I16)","v":""},{"$f":"IF(③選手情報入力!L16=\"\",\"\",③選手情報入力!L16)","v":""},{"$f":"IF(③選手情報入力!M16=\"\",\"\",③選手情報入力!M16)","v":""}]
[8,{"$f":"IF(③選手情報入力!B17=\"\",\"\",③選手情報入力!B17)","v":""},{"$f":"IF(③選手情報入力!C17=\"\",\"\",③選手情報入力!C17)","v":""},{"$f":"IF(③選手情報入力!F17=\"\",\"\",③選手情報入力!F17)","v":""},{"$f":"IF(③選手情報入力!G17=\"\",\"\",③選手情報入力!G17)","v":""},{"$f":"IF(③選手情報入力!H17=\"\",\"\",③選手情報入力!H17)","v":""},{"$f":"IF(③選手情報入力!I17=\"\",\"\",③選手情報入力!I17)","v":""},{"$f":"IF(③選手情報入力!L17=\"\",\"\",③選手情報入力!L17)","v":""},{"$f":"IF(③選手情報入力!M17=\"\",\"\",③選手情報入力!M17)","v":""}]
[9,{"$f":"IF(③選手情報入力!B18=\"\",\"\",③選手情報入力!B18)","v":""},{"$f":"IF(③選手情報入力!C18=\"\",\"\",③選手情報入力!C18)","v":""},{"$f":"IF(③選手情報入力!F18=\"\",\"\",③選手情報入力!F18)","v":""},{"$f":"IF(③選手情報入力!G18=\"\",\"\",③選手情報入力!G18)","v":""},{"$f":"IF(③選手情報入力!H18=\"\",\"\",③選手情報入力!H18)","v":""},{"$f":"IF(③選手情報入力!I18=\"\",\"\",③選手情報入力!I18)","v":""},{"$f":"IF(③選手情報入力!L18=\"\",\"\",③選手情報入力!L18)","v":""},{"$f":"IF(③選手情報入力!M18=\"\",\"\",③選手情報入力!M18)","v":""}]
[10,{"$f":"IF(③選手情報入力!B19=\"\",\"\",③選手情報入力!B19)","v":""},{"$f":"IF(③選手情報入力!C19=\"\",\"\",③選手情報入力!C19)","v":""},{"$f":"IF(③選手情報入力!F19=\"\",\"\",③選手情報入力!F19)","v":""},{"$f":"IF(③選手情報入力!G19=\"\",\"\",③選手情報入力!G19)","v":""},{"$f":"IF(③選手情報入力!H19=\"\",\"\",③選手情報入力!H19)","v":""},{"$f":"IF(③選手情報入力!I19=\"\",\"\",③選手情報入力!I19)","v":""},{"$f":"IF(③選手情報入力!L19=\"\",\"\",③選手情報入力!L19)","v":""},{"$f":"IF(③選手情報入力!M19=\"\",\"\",③選手情報入力!M19)","v":""}]
[11,{"$f":"IF(③選手情報入力!B20=\"\",\"\",③選手情報入力!B20)","v":""},{"$f":"IF(③選手情報入力!C20=\"\",\"\",③選手情報入力!C20)","v":""},{"$f":"IF(③選手情報入力!F20=\"\",\"\",③選手情報入力!F20)","v":""},{"$f":"IF(③選手情報入力!G20=\"\",\"\",③選手情報入力!G20)","v":""},{"$f":"IF(③選手情報入力!H20=\"\",\"\",③選手情報入力!H20)","v":""},{"$f":"IF(③選手情報入力!I20=\"\",\"\",③選手情報入力!I20)","v":""},{"$f":"IF(③選手情報入力!L20=\"\",\"\",③選手情報入力!L20)","v":""},{"$f":"IF(③選手情報入力!M20=\"\",\"\",③選手情報入力!M20)","v":""}]
[12,{"$f":"IF(③選手情報入力!B21=\"\",\"\",③選手情報入力!B21)","v":""},{"$f":"IF(③選手情報入力!C21=\"\",\"\",③選手情報入力!C21)","v":""},{"$f":"IF(③選手情報入力!F21=\"\",\"\",③選手情報入力!F21)","v":""},{"$f":"IF(③選手情報入力!G21=\"\",\"\",③選手情報入力!G21)","v":""},{"$f":"IF(③選手情報入力!H21=\"\",\"\",③選手情報入力!H21)","v":""},{"$f":"IF(③選手情報入力!I21=\"\",\"\",③選手情報入力!I21)","v":""},{"$f":"IF(③選手情報入力!L21=\"\",\"\",③選手情報入力!L21)","v":""},{"$f":"IF(③選手情報入力!M21=\"\",\"\",③選手情報入力!M21)","v":""}]
[13,{"$f":"IF(③選手情報入力!B22=\"\",\"\",③選手情報入力!B22)","v":""},{"$f":"IF(③選手情報入力!C22=\"\",\"\",③選手情報入力!C22)","v":""},{"$f":"IF(③選手情報入力!F22=\"\",\"\",③選手情報入力!F22)","v":""},{"$f":"IF(③選手情報入力!G22=\"\",\"\",③選手情報入力!G22)","v":""},{"$f":"IF(③選手情報入力!H22=\"\",\"\",③選手情報入力!H22)","v":""},{"$f":"IF(③選手情報入力!I22=\"\",\"\",③選手情報入力!I22)","v":""},{"$f":"IF(③選手情報入力!L22=\"\",\"\",③選手情報入力!L22)","v":""},{"$f":"IF(③選手情報入力!M22=\"\",\"\",③選手情報入力!M22)","v":""}]
[14,{"$f":"IF(③選手情報入力!B23=\"\",\"\",③選手情報入力!B23)","v":""},{"$f":"IF(③選手情報入力!C23=\"\",\"\",③選手情報入力!C23)","v":""},{"$f":"IF(③選手情報入力!F23=\"\",\"\",③選手情報入力!F23)","v":""},{"$f":"IF(③選手情報入力!G23=\"\",\"\",③選手情報入力!G23)","v":""},{"$f":"IF(③選手情報入力!H23=\"\",\"\",③選手情報入力!H23)","v":""},{"$f":"IF(③選手情報入力!I23=\"\",\"\",③選手情報入力!I23)","v":""},{"$f":"IF(③選手情報入力!L23=\"\",\"\",③選手情報入力!L23)","v":""},{"$f":"IF(③選手情報入力!M23=\"\",\"\",③選手情報入力!M23)","v":""}]
[15,{"$f":"IF(③選手情報入力!B24=\"\",\"\",③選手情報入力!B24)","v":""},{"$f":"IF(③選手情報入力!C24=\"\",\"\",③選手情報入力!C24)","v":""},{"$f":"IF(③選手情報入力!F24=\"\",\"\",③選手情報入力!F24)","v":""},{"$f":"IF(③選手情報入力!G24=\"\",\"\",③選手情報入力!G24)","v":""},{"$f":"IF(③選手情報入力!H24=\"\",\"\",③選手情報入力!H24)","v":""},{"$f":"IF(③選手情報入力!I24=\"\",\"\",③選手情報入力!I24)","v":""},{"$f":"IF(③選手情報入力!L24=\"\",\"\",③選手情報入力!L24)","v":""},{"$f":"IF(③選手情報入力!M24=\"\",\"\",③選手情報入力!M24)","v":""}]
[16,{"$f":"IF(③選手情報入力!B25=\"\",\"\",③選手情報入力!B25)","v":""},{"$f":"IF(③選手情報入力!C25=\"\",\"\",③選手情報入力!C25)","v":""},{"$f":"IF(③選手情報入力!F25=\"\",\"\",③選手情報入力!F25)","v":""},{"$f":"IF(③選手情報入力!G25=\"\",\"\",③選手情報入力!G25)","v":""},{"$f":"IF(③選手情報入力!H25=\"\",\"\",③選手情報入力!H25)","v":""},{"$f":"IF(③選手情報入力!I25=\"\",\"\",③選手情報入力!I25)","v":""},{"$f":"IF(③選手情報入力!L25=\"\",\"\",③選手情報入力!L25)","v":""},{"$f":"IF(③選手情報入力!M25=\"\",\"\",③選手情報入力!M25)","v":""}]
[17,{"$f":"IF(③選手情報入力!B26=\"\",\"\",③選手情報入力!B26)","v":""},{"$f":"IF(③選手情報入力!C26=\"\",\"\",③選手情報入力!C26)","v":""},{"$f":"IF(③選手情報入力!F26=\"\",\"\",③選手情報入力!F26)","v":""},{"$f":"IF(③選手情報入力!G26=\"\",\"\",③選手情報入力!G26)","v":""},{"$f":"IF(③選手情報入力!H26=\"\",\"\",③選手情報入力!H26)","v":""},{"$f":"IF(③選手情報入力!I26=\"\",\"\",③選手情報入力!I26)","v":""},{"$f":"IF(③選手情報入力!L26=\"\",\"\",③選手情報入力!L26)","v":""},{"$f":"IF(③選手情報入力!M26=\"\",\"\",③選手情報入力!M26)","v":""}]
[18,{"$f":"IF(③選手情報入力!B27=\"\",\"\",③選手情報入力!B27)","v":""},{"$f":"IF(③選手情報入力!C27=\"\",\"\",③選手情報入力!C27)","v":""},{"$f":"IF(③選手情報入力!F27=\"\",\"\",③選手情報入力!F27)","v":""},{"$f":"IF(③選手情報入力!G27=\"\",\"\",③選手情報入力!G27)","v":""},{"$f":"IF(③選手情報入力!H27=\"\",\"\",③選手情報入力!H27)","v":""},{"$f":"IF(③選手情報入力!I27=\"\",\"\",③選手情報入力!I27)","v":""},{"$f":"IF(③選手情報入力!L27=\"\",\"\",③選手情報入力!L27)","v":""},{"$f":"IF(③選手情報入力!M27=\"\",\"\",③選手情報入力!M27)","v":""}]
[19,{"$f":"IF(③選手情報入力!B28=\"\",\"\",③選手情報入力!B28)","v":""},{"$f":"IF(③選手情報入力!C28=\"\",\"\",③選手情報入力!C28)","v":""},{"$f":"IF(③選手情報入力!F28=\"\",\"\",③選手情報入力!F28)","v":""},{"$f":"IF(③選手情報入力!G28=\"\",\"\",③選手情報入力!G28)","v":""},{"$f":"IF(③選手情報入力!H28=\"\",\"\",③選手情報入力!H28)","v":""},{"$f":"IF(③選手情報入力!I28=\"\",\"\",③選手情報入力!I28)","v":""},{"$f":"IF(③選手情報入力!L28=\"\",\"\",③選手情報入力!L28)","v":""},{"$f":"IF(③選手情報入力!M28=\"\",\"\",③選手情報入力!M28)","v":""}]
[20,{"$f":"IF(③選手情報入力!B29=\"\",\"\",③選手情報入力!B29)","v":""},{"$f":"IF(③選手情報入力!C29=\"\",\"\",③選手情報入力!C29)","v":""},{"$f":"IF(③選手情報入力!F29=\"\",\"\",③選手情報入力!F29)","v":""},{"$f":"IF(③選手情報入力!G29=\"\",\"\",③選手情報入力!G29)","v":""},{"$f":"IF(③選手情報入力!H29=\"\",\"\",③選手情報入力!H29)","v":""},{"$f":"IF(③選手情報入力!I29=\"\",\"\",③選手情報入力!I29)","v":""},{"$f":"IF(③選手情報入力!L29=\"\",\"\",③選手情報入力!L29)","v":""},{"$f":"IF(③選手情報入力!M29=\"\",\"\",③選手情報入力!M29)","v":""}]
[21,{"$f":"IF(③選手情報入力!B30=\"\",\"\",③選手情報入力!B30)","v":""},{"$f":"IF(③選手情報入力!C30=\"\",\"\",③選手情報入力!C30)","v":""},{"$f":"IF(③選手情報入力!F30=\"\",\"\",③選手情報入力!F30)","v":""},{"$f":"IF(③選手情報入力!G30=\"\",\"\",③選手情報入力!G30)","v":""},{"$f":"IF(③選手情報入力!H30=\"\",\"\",③選手情報入力!H30)","v":""},{"$f":"IF(③選手情報入力!I30=\"\",\"\",③選手情報入力!I30)","v":""},{"$f":"IF(③選手情報入力!L30=\"\",\"\",③選手情報入力!L30)","v":""},{"$f":"IF(③選手情報入力!M30=\"\",\"\",③選手情報入力!M30)","v":""}]
[22,{"$f":"IF(③選手情報入力!B31=\"\",\"\",③選手情報入力!B31)","v":""},{"$f":"IF(③選手情報入力!C31=\"\",\"\",③選手情報入力!C31)","v":""},{"$f":"IF(③選手情報入力!F31=\"\",\"\",③選手情報入力!F31)","v":""},{"$f":"IF(③選手情報入力!G31=\"\",\"\",③選手情報入力!G31)","v":""},{"$f":"IF(③選手情報入力!H31=\"\",\"\",③選手情報入力!H31)","v":""},{"$f":"IF(③選手情報入力!I31=\"\",\"\",③選手情報入力!I31)","v":""},{"$f":"IF(③選手情報入力!L31=\"\",\"\",③選手情報入力!L31)","v":""},{"$f":"IF(③選手情報入力!M31=\"\",\"\",③選手情報入力!M31)","v":""}]
[23,{"$f":"IF(③選手情報入力!B32=\"\",\"\",③選手情報入力!B32)","v":""},{"$f":"IF(③選手情報入力!C32=\"\",\"\",③選手情報入力!C32)","v":""},{"$f":"IF(③選手情報入力!F32=\"\",\"\",③選手情報入力!F32)","v":""},{"$f":"IF(③選手情報入力!G32=\"\",\"\",③選手情報入力!G32)","v":""},{"$f":"IF(③選手情報入力!H32=\"\",\"\",③選手情報入力!H32)","v":""},{"$f":"IF(③選手情報入力!I32=\"\",\"\",③選手情報入力!I32)","v":""},{"$f":"IF(③選手情報入力!L32=\"\",\"\",③選手情報入力!L32)","v":""},{"$f":"IF(③選手情報入力!M32=\"\",\"\",③選手情報入力!M32)","v":""}]
[24,{"$f":"IF(③選手情報入力!B33=\"\",\"\",③選手情報入力!B33)","v":""},{"$f":"IF(③選手情報入力!C33=\"\",\"\",③選手情報入力!C33)","v":""},{"$f":"IF(③選手情報入力!F33=\"\",\"\",③選手情報入力!F33)","v":""},{"$f":"IF(③選手情報入力!G33=\"\",\"\",③選手情報入力!G33)","v":""},{"$f":"IF(③選手情報入力!H33=\"\",\"\",③選手情報入力!H33)","v":""},{"$f":"IF(③選手情報入力!I33=\"\",\"\",③選手情報入力!I33)","v":""},{"$f":"IF(③選手情報入力!L33=\"\",\"\",③選手情報入力!L33)","v":""},{"$f":"IF(③選手情報入力!M33=\"\",\"\",③選手情報入力!M33)","v":""}]
[25,{"$f":"IF(③選手情報入力!B34=\"\",\"\",③選手情報入力!B34)","v":""},{"$f":"IF(③選手情報入力!C34=\"\",\"\",③選手情報入力!C34)","v":""},{"$f":"IF(③選手情報入力!F34=\"\",\"\",③選手情報入力!F34)","v":""},{"$f":"IF(③選手情報入力!G34=\"\",\"\",③選手情報入力!G34)","v":""},{"$f":"IF(③選手情報入力!H34=\"\",\"\",③選手情報入力!H34)","v":""},{"$f":"IF(③選手情報入力!I34=\"\",\"\",③選手情報入力!I34)","v":""},{"$f":"IF(③選手情報入力!L34=\"\",\"\",③選手情報入力!L34)","v":""},{"$f":"IF(③選手情報入力!M34=\"\",\"\",③選手情報入力!M34)","v":""}]
[26,{"$f":"IF(③選手情報入力!B35=\"\",\"\",③選手情報入力!B35)","v":""},{"$f":"IF(③選手情報入力!C35=\"\",\"\",③選手情報入力!C35)","v":""},{"$f":"IF(③選手情報入力!F35=\"\",\"\",③選手情報入力!F35)","v":""},{"$f":"IF(③選手情報入力!G35=\"\",\"\",③選手情報入力!G35)","v":""},{"$f":"IF(③選手情報入力!H35=\"\",\"\",③選手情報入力!H35)","v":""},{"$f":"IF(③選手情報入力!I35=\"\",\"\",③選手情報入力!I35)","v":""},{"$f":"IF(③選手情報入力!L35=\"\",\"\",③選手情報入力!L35)","v":""},{"$f":"IF(③選手情報入力!M35=\"\",\"\",③選手情報入力!M35)","v":""}]
[27,{"$f":"IF(③選手情報入力!B36=\"\",\"\",③選手情報入力!B36)","v":""},{"$f":"IF(③選手情報入力!C36=\"\",\"\",③選手情報入力!C36)","v":""},{"$f":"IF(③選手情報入力!F36=\"\",\"\",③選手情報入力!F36)","v":""},{"$f":"IF(③選手情報入力!G36=\"\",\"\",③選手情報入力!G36)","v":""},{"$f":"IF(③選手情報入力!H36=\"\",\"\",③選手情報入力!H36)","v":""},{"$f":"IF(③選手情報入力!I36=\"\",\"\",③選手情報入力!I36)","v":""},{"$f":"IF(③選手情報入力!L36=\"\",\"\",③選手情報入力!L36)","v":""},{"$f":"IF(③選手情報入力!M36=\"\",\"\",③選手情報入力!M36)","v":""}]
[28,{"$f":"IF(③選手情報入力!B37=\"\",\"\",③選手情報入力!B37)","v":""},{"$f":"IF(③選手情報入力!C37=\"\",\"\",③選手情報入力!C37)","v":""},{"$f":"IF(③選手情報入力!F37=\"\",\"\",③選手情報入力!F37)","v":""},{"$f":"IF(③選手情報入力!G37=\"\",\"\",③選手情報入力!G37)","v":""},{"$f":"IF(③選手情報入力!H37=\"\",\"\",③選手情報入力!H37)","v":""},{"$f":"IF(③選手情報入力!I37=\"\",\"\",③選手情報入力!I37)","v":""},{"$f":"IF(③選手情報入力!L37=\"\",\"\",③選手情報入力!L37)","v":""},{"$f":"IF(③選手情報入力!M37=\"\",\"\",③選手情報入力!M37)","v":""}]
[29,{"$f":"IF(③選手情報入力!B38=\"\",\"\",③選手情報入力!B38)","v":""},{"$f":"IF(③選手情報入力!C38=\"\",\"\",③選手情報入力!C38)","v":""},{"$f":"IF(③選手情報入力!F38=\"\",\"\",③選手情報入力!F38)","v":""},{"$f":"IF(③選手情報入力!G38=\"\",\"\",③選手情報入力!G38)","v":""},{"$f":"IF(③選手情報入力!H38=\"\",\"\",③選手情報入力!H38)","v":""},{"$f":"IF(③選手情報入力!I38=\"\",\"\",③選手情報入力!I38)","v":""},{"$f":"IF(③選手情報入力!L38=\"\",\"\",③選手情報入力!L38)","v":""},{"$f":"IF(③選手情報入力!M38=\"\",\"\",③選手情報入力!M38)","v":""}]
[30,{"$f":"IF(③選手情報入力!B39=\"\",\"\",③選手情報入力!B39)","v":""},{"$f":"IF(③選手情報入力!C39=\"\",\"\",③選手情報入力!C39)","v":""},{"$f":"IF(③選手情報入力!F39=\"\",\"\",③選手情報入力!F39)","v":""},{"$f":"IF(③選手情報入力!G39=\"\",\"\",③選手情報入力!G39)","v":""},{"$f":"IF(③選手情報入力!H39=\"\",\"\",③選手情報入力!H39)","v":""},{"$f":"IF(③選手情報入力!I39=\"\",\"\",③選手情報入力!I39)","v":""},{"$f":"IF(③選手情報入力!L39=\"\",\"\",③選手情報入力!L39)","v":""},{"$f":"IF(③選手情報入力!M39=\"\",\"\",③選手情報入力!M39)","v":""}]
[31,{"$f":"IF(③選手情報入力!B40=\"\",\"\",③選手情報入力!B40)","v":""},{"$f":"IF(③選手情報入力!C40=\"\",\"\",③選手情報入力!C40)","v":""},{"$f":"IF(③選手情報入力!F40=\"\",\"\",③選手情報入力!F40)","v":""},{"$f":"IF(③選手情報入力!G40=\"\",\"\",③選手情報入力!G40)","v":""},{"$f":"IF(③選手情報入力!H40=\"\",\"\",③選手情報入力!H40)","v":""},{"$f":"IF(③選手情報入力!I40=\"\",\"\",③選手情報入力!I40)","v":""},{"$f":"IF(③選手情報入力!L40=\"\",\"\",③選手情報入力!L40)","v":""},{"$f":"IF(③選手情報入力!M40=\"\",\"\",③選手情報入力!M40)","v":""}]
[32,{"$f":"IF(③選手情報入力!B41=\"\",\"\",③選手情報入力!B41)","v":""},{"$f":"IF(③選手情報入力!C41=\"\",\"\",③選手情報入力!C41)","v":""},{"$f":"IF(③選手情報入力!F41=\"\",\"\",③選手情報入力!F41)","v":""},{"$f":"IF(③選手情報入力!G41=\"\",\"\",③選手情報入力!G41)","v":""},{"$f":"IF(③選手情報入力!H41=\"\",\"\",③選手情報入力!H41)","v":""},{"$f":"IF(③選手情報入力!I41=\"\",\"\",③選手情報入力!I41)","v":""},{"$f":"IF(③選手情報入力!L41=\"\",\"\",③選手情報入力!L41)","v":""},{"$f":"IF(③選手情報入力!M41=\"\",\"\",③選手情報入力!M41)","v":""}]
[33,{"$f":"IF(③選手情報入力!B42=\"\",\"\",③選手情報入力!B42)","v":""},{"$f":"IF(③選手情報入力!C42=\"\",\"\",③選手情報入力!C42)","v":""},{"$f":"IF(③選手情報入力!F42=\"\",\"\",③選手情報入力!F42)","v":""},{"$f":"IF(③選手情報入力!G42=\"\",\"\",③選手情報入力!G42)","v":""},{"$f":"IF(③選手情報入力!H42=\"\",\"\",③選手情報入力!H42)","v":""},{"$f":"IF(③選手情報入力!I42=\"\",\"\",③選手情報入力!I42)","v":""},{"$f":"IF(③選手情報入力!L42=\"\",\"\",③選手情報入力!L42)","v":""},{"$f":"IF(③選手情報入力!M42=\"\",\"\",③選手情報入力!M42)","v":""}]
[34,{"$f":"IF(③選手情報入力!B43=\"\",\"\",③選手情報入力!B43)","v":""},{"$f":"IF(③選手情報入力!C43=\"\",\"\",③選手情報入力!C43)","v":""},{"$f":"IF(③選手情報入力!F43=\"\",\"\",③選手情報入力!F43)","v":""},{"$f":"IF(③選手情報入力!G43=\"\",\"\",③選手情報入力!G43)","v":""},{"$f":"IF(③選手情報入力!H43=\"\",\"\",③選手情報入力!H43)","v":""},{"$f":"IF(③選手情報入力!I43=\"\",\"\",③選手情報入力!I43)","v":""},{"$f":"IF(③選手情報入力!L43=\"\",\"\",③選手情報入力!L43)","v":""},{"$f":"IF(③選手情報入力!M43=\"\",\"\",③選手情報入力!M43)","v":""}]
[35,{"$f":"IF(③選手情報入力!B44=\"\",\"\",③選手情報入力!B44)","v":""},{"$f":"IF(③選手情報入力!C44=\"\",\"\",③選手情報入力!C44)","v":""},{"$f":"IF(③選手情報入力!F44=\"\",\"\",③選手情報入力!F44)","v":""},{"$f":"IF(③選手情報入力!G44=\"\",\"\",③選手情報入力!G44)","v":""},{"$f":"IF(③選手情報入力!H44=\"\",\"\",③選手情報入力!H44)","v":""},{"$f":"IF(③選手情報入力!I44=\"\",\"\",③選手情報入力!I44)","v":""},{"$f":"IF(③選手情報入力!L44=\"\",\"\",③選手情報入力!L44)","v":""},{"$f":"IF(③選手情報入力!M44=\"\",\"\",③選手情報入力!M44)","v":""}]
[36,{"$f":"IF(③選手情報入力!B45=\"\",\"\",③選手情報入力!B45)","v":""},{"$f":"IF(③選手情報入力!C45=\"\",\"\",③選手情報入力!C45)","v":""},{"$f":"IF(③選手情報入力!F45=\"\",\"\",③選手情報入力!F45)","v":""},{"$f":"IF(③選手情報入力!G45=\"\",\"\",③選手情報入力!G45)","v":""},{"$f":"IF(③選手情報入力!H45=\"\",\"\",③選手情報入力!H45)","v":""},{"$f":"IF(③選手情報入力!I45=\"\",\"\",③選手情報入力!I45)","v":""},{"$f":"IF(③選手情報入力!L45=\"\",\"\",③選手情報入力!L45)","v":""},{"$f":"IF(③選手情報入力!M45=\"\",\"\",③選手情報入力!M45)","v":""}]
[37,{"$f":"IF(③選手情報入力!B46=\"\",\"\",③選手情報入力!B46)","v":""},{"$f":"IF(③選手情報入力!C46=\"\",\"\",③選手情報入力!C46)","v":""},{"$f":"IF(③選手情報入力!F46=\"\",\"\",③選手情報入力!F46)","v":""},{"$f":"IF(③選手情報入力!G46=\"\",\"\",③選手情報入力!G46)","v":""},{"$f":"IF(③選手情報入力!H46=\"\",\"\",③選手情報入力!H46)","v":""},{"$f":"IF(③選手情報入力!I46=\"\",\"\",③選手情報入力!I46)","v":""},{"$f":"IF(③選手情報入力!L46=\"\",\"\",③選手情報入力!L46)","v":""},{"$f":"IF(③選手情報入力!M46=\"\",\"\",③選手情報入力!M46)","v":""}]
[38,{"$f":"IF(③選手情報入力!B47=\"\",\"\",③選手情報入力!B47)","v":""},{"$f":"IF(③選手情報入力!C47=\"\",\"\",③選手情報入力!C47)","v":""},{"$f":"IF(③選手情報入力!F47=\"\",\"\",③選手情報入力!F47)","v":""},{"$f":"IF(③選手情報入力!G47=\"\",\"\",③選手情報入力!G47)","v":""},{"$f":"IF(③選手情報入力!H47=\"\",\"\",③選手情報入力!H47)","v":""},{"$f":"IF(③選手情報入力!I47=\"\",\"\",③選手情報入力!I47)","v":""},{"$f":"IF(③選手情報入力!L47=\"\",\"\",③選手情報入力!L47)","v":""},{"$f":"IF(③選手情報入力!M47=\"\",\"\",③選手情報入力!M47)","v":""}]
[39,{"$f":"IF(③選手情報入力!B48=\"\",\"\",③選手情報入力!B48)","v":""},{"$f":"IF(③選手情報入力!C48=\"\",\"\",③選手情報入力!C48)","v":""},{"$f":"IF(③選手情報入力!F48=\"\",\"\",③選手情報入力!F48)","v":""},{"$f":"IF(③選手情報入力!G48=\"\",\"\",③選手情報入力!G48)","v":""},{"$f":"IF(③選手情報入力!H48=\"\",\"\",③選手情報入力!H48)","v":""},{"$f":"IF(③選手情報入力!I48=\"\",\"\",③選手情報入力!I48)","v":""},{"$f":"IF(③選手情報入力!L48=\"\",\"\",③選手情報入力!L48)","v":""},{"$f":"IF(③選手情報入力!M48=\"\",\"\",③選手情報入力!M48)","v":""}]
[40,{"$f":"IF(③選手情報入力!B49=\"\",\"\",③選手情報入力!B49)","v":""},{"$f":"IF(③選手情報入力!C49=\"\",\"\",③選手情報入力!C49)","v":""},{"$f":"IF(③選手情報入力!F49=\"\",\"\",③選手情報入力!F49)","v":""},{"$f":"IF(③選手情報入力!G49=\"\",\"\",③選手情報入力!G49)","v":""},{"$f":"IF(③選手情報入力!H49=\"\",\"\",③選手情報入力!H49)","v":""},{"$f":"IF(③選手情報入力!I49=\"\",\"\",③選手情報入力!I49)","v":""},{"$f":"IF(③選手情報入力!L49=\"\",\"\",③選手情報入力!L49)","v":""},{"$f":"IF(③選手情報入力!M49=\"\",\"\",③選手情報入力!M49)","v":""}]

{"sheet":"個人種目個票","index":7,"n_rows":838,"n_cols":25,"rows_kept":838,"cut":false,"hidden":false,"merged":[[831,23,832,23],[835,10,835,11],[835,23,835,24],[836,10,836,11],[836,23,836,24],[837,10,837,11],[837,23,837,24],[831,1,832,4],[831,5,832,5],[831,6,832,7],[831,8,832,9],[831,10,832,10],[831,14,832,17],[831,18,832,18],[831,19,832,20],[831,21,832,22],[827,0,830,0],[827,1,827,4],[827,5,827,6],[827,7,827,10],[827,13,830,13],[827,14,827,17],[827,18,827,19],[827,20,827,23],[828,1,830,4],[828,14,830,17],[829,5,830,5],[829,6,830,7],[829,8,830,9],[829,10,830,10],[829,18,830,18],[829,19,830,20],[829,21,830,22],[829,23,830,23],[821,1,821,2],[821,3,823,6],[821,7,826,10],[821,14,821,15],[821,16,823,19],[821,20,826,23],[822,1,823,2],[822,14,823,15],[824,3,824,6],[824,16,824,19],[825,0,826,1],[825,2,826,2],[825,3,826,6],[825,13,826,14],[825,15,826,15],[825,16,826,19],[810,23,811,23],[814,10,814,11],[814,23,814,24],[815,10,815,11],[815,23,815,24],[816,10,816,11],[816,23,816,24],[819,0,819,10],[819,13,819,23],[810,1,811,4],[810,5,811,5],[810,6,811,7],[810,8,811,9],[810,10,811,10],[810,14,811,17],[810,18,811,18],[810,19,811,20],[810,21,811,22],[806,0,809,0],[806,1,806,4],[806,5,806,6],[806,7,806,10],[806,13,809,13],[806,14,806,17],[806,18,806,19],[806,20,806,23],[807,1,809,4],[807,14,809,17],[808,5,809,5],[808,6,809,7],[808,8,809,9],[808,10,809,10],[808,18,809,18],[808,19,809,20],[808,21,809,22],[808,23,809,23],[800,1,800,2],[800,3,802,6],[800,7,805,10],[800,14,800,15],[800,16,802,19],[800,20,805,23],[801,1,802,2],[801,14,802,15],[803,3,803,6],[803,16,803,19],[804,0,805,1],[804,2,805,2],[804,3,805,6],[804,13,805,14],[804,15,805,15],[804,16,805,19],[789,23,790,23],[793,10,793,11],[793,23,793,24],[794,10,794,11],[794,23,794,24],[795,10,795,11],[795,23,795,24],[798,0,798,10],[798,13,798,23],[789,1,790,4],[789,5,790,5],[789,6,790,7],[789,8,790,9],[789,10,790,10],[789,14,790,17],[789,18,790,18],[789,19,790,20],[789,21,790,22],[785,0,788,0],[785,1,785,4],[785,5,785,6],[785,7,785,10],[785,13,788,13],[785,14,785,17],[785,18,785,19],[785,20,785,23],[786,1,788,4],[786,14,788,17],[787,5,788,5],[787,6,788,7],[787,8,788,9],[787,10,788,10],[787,18,788,18],[787,19,788,20],[787,21,788,22],[787,23,788,23],[779,1,779,2],[779,3,781,6],[779,7,784,10],[779,14,779,15],[779,16,781,19],[779,20,784,23],[780,1,781,2],[780,14,781,15],[782,3,782,6],[782,16,782,19],[783,0,784,1],[783,2,784,2],[783,3,784,6],[783,13,784,14],[783,15,784,15],[783,16,784,19],[768,23,769,23],[772,10,772,11],[772,23,772,24],[773,10,773,11],[773,23,773,24],[774,10,774,11],[774,23,774,24],[777,0,777,10],[777,13,777,23],[768,1,769,4],[768,5,769,5],[768,6,769,7],[768,8,769,9],[768,10,769,10],[768,14,769,17],[768,18,769,18],[768,19,769,20],[768,21,769,22],[764,0,767,0],[764,1,764,4],[764,5,764,6],[764,7,764,10],[764,13,767,13],[764,14,764,17],[764,18,764,19],[764,20,764,23],[765,1,767,4],[765,14,767,17],[766,5,767,5],[766,6,767,7],[766,8,767,9],[766,10,767,10],[766,18,767,18],[766,19,767,20],[766,21,767,22],[766,23,767,23],[758,1,758,2],[758,3,760,6],[758,7,763,10],[758,14,758,15],[758,16,760,19],[758,20,763,23],[759,1,760,2],[759,14,760,15],[761,3,761,6],[761,16,761,19],[762,0,763,1],[762,2,763,2],[762,3,763,6],[762,13,763,14],[762,15,763,15],[762,16,763,19],[747,23,748,23],[751,10,751,11],[751,23,751,24],[752,10,752,11],[752,23,752,24],[753,10,753,11],[753,23,753,24],[756,0,756,10],[756,13,756,23],[747,1,748,4],[747,5,748,5],[747,6,748,7],[747,8,748,9],[747,10,748,10],[747,14,748,17],[747,18,748,18],[747,19,748,20],[747,21,748,22],[743,0,746,0],[743,1,743,4],[743,5,743,6],[743,7,743,10],[743,13,746,13],[743,14,743,17],[743,18,743,19],[743,20,743,23],[744,1,746,4],[744,14,746,17],[745,5,746,5],[745,6,746,7],[745,8,746,9],[745,10,746,10],[745,18,746,18],[745,19,746,20],[745,21,746,22],[745,23,746,23],[737,1,737,2],[737,3,739,6],[737,7,742,10],[737,14,737,15],[737,16,739,19],[737,20,742,23],[738,1,739,2],[738,14,739,15],[740,3,740,6],[740,16,740,19],[741,0,742,1],[741,2,742,2],[741,3,742,6],[741,13,742,14],[741,15,742,15],[741,16,742,19],[726,23,727,23],[730,10,730,11],[730,23,730,24],[731,10,731,11],[731,23,731,24],[732,10,732,11],[732,23,732,24],[735,0,735,10],[735,13,735,23],[726,1,727,4],[726,5,727,5],[726,6,727,7],[726,8,727,9],[726,10,727,10],[726,14,727,17],[726,18,727,18],[726,19,727,20],[726,21,727,22],[722,0,725,0],[722,1,722,4],[722,5,722,6],[722,7,722,10],[722,13,725,13],[722,14,722,17],[722,18,722,19],[722,20,722,23],[723,1,725,4],[723,14,725,17],[724,5,725,5],[724,6,725,7],[724,8,725,9],[724,10,725,10],[724,18,725,18],[724,19,725,20],[724,21,725,22],[724,23,725,23],[716,1,716,2],[716,3,718,6],[716,7,721,10],[716,14,716,15],[716,16,718,19],[716,20,721,23],[717,1,718,2],[717,14,718,15],[719,3,719,6],[719,16,719,19],[720,0,721,1],[720,2,721,2],[720,3,721,6],[720,13,721,14],[720,15,721,15],[720,16,721,19],[705,23,706,23],[709,10,709,11],[709,23,709,24],[710,10,710,11],[710,23,710,24],[711,10,711,11],[711,23,711,24],[714,0,714,10],[714,13,714,23],[705,1,706,4],[705,5,706,5],[705,6,706,7],[705,8,706,9],[705,10,706,10],[705,14,706,17],[705,18,706,18],[705,19,706,20],[705,21,706,22],[701,0,704,0],[701,1,701,4],[701,5,701,6],[701,7,701,10],[701,13,704,13],[701,14,701,17],[701,18,701,19],[701,20,701,23],[702,1,704,4],[702,14,704,17],[703,5,704,5],[703,6,704,7],[703,8,704,9],[703,10,704,10],[703,18,704,18],[703,19,704,20],[703,21,704,22],[703,23,704,23],[695,1,695,2],[695,3,697,6],[695,7,700,10],[695,14,695,15],[695,16,697,19],[695,20,700,23],[696,1,697,2],[696,14,697,15],[698,3,698,6],[698,16,698,19],[699,0,700,1],[699,2,700,2],[699,3,700,6],[699,13,700,14],[699,15,700,15],[699,16,700,19],[684,23,685,23],[688,10,688,11],[688,23,688,24],[689,10,689,11],[689,23,689,24],[690,10,690,11],[690,23,690,24],[693,0,693,10],[693,13,693,23],[684,1,685,4],[684,5,685,5],[684,6,685,7],[684,8,685,9],[684,10,685,10],[684,14,685,17],[684,18,685,18],[684,19,685,20],[684,21,685,22],[680,0,683,0],[680,1,680,4],[680,5,680,6],[680,7,680,10],[680,13,683,13],[680,14,680,17],[680,18,680,19],[680,20,680,23],[681,1,683,4],[681,14,683,17],[682,5,683,5],[682,6,683,7],[682,8,683,9],[682,10,683,10],[682,18,683,18],[682,19,683,20],[682,21,683,22],[682,23,683,23],[674,1,674,2],[674,3,676,6],[674,7,679,10],[674,14,674,15],[674,16,676,19],[674,20,679,23],[675,1,676,2],[675,14,676,15],[677,3,677,6],[677,16,677,19],[678,0,679,1],[678,2,679,2],[678,3,679,6],[678,13,679,14],[678,15,679,15],[678,16,679,19],[663,23,664,23],[667,10,667,11],[667,23,667,24],[668,10,668,11],[668,23,668,24],[669,10,669,11],[669,23,669,24],[672,0,672,10],[672,13,672,23],[663,1,664,4],[663,5,664,5],[663,6,664,7],[663,8,664,9],[663,10,664,10],[663,14,664,17],[663,18,664,18],[663,19,664,20],[663,21,664,22],[659,0,662,0],[659,1,659,4],[659,5,659,6],[659,7,659,10],[659,13,662,13],[659,14,659,17],[659,18,659,19],[659,20,659,23],[660,1,662,4],[660,14,662,17],[661,5,662,5],[661,6,662,7],[661,8,662,9],[661,10,662,10],[661,18,662,18],[661,19,662,20],[661,21,662,22],[661,23,662,23],[653,1,653,2],[653,3,655,6],[653,7,658,10],[653,14,653,15],[653,16,655,19],[653,20,658,23],[654,1,655,2],[654,14,655,15],[656,3,656,6],[656,16,656,19],[657,0,658,1],[657,2,658,2],[657,3,658,6],[657,13,658,14],[657,15,658,15],[657,16,658,19],[642,23,643,23],[646,10,646,11],[646,23,646,24],[647,10,647,11],[647,23,647,24],[648,10,648,11],[648,23,648,24],[651,0,651,10],[651,13,651,23],[642,1,643,4],[642,5,643,5],[642,6,643,7],[642,8,643,9],[642,10,643,10],[642,14,643,17],[642,18,643,18],[642,19,643,20],[642,21,643,22],[638,0,641,0],[638,1,638,4],[638,5,638,6],[638,7,638,10],[638,13,641,13],[638,14,638,17],[638,18,638,19],[638,20,638,23],[639,1,641,4],[639,14,641,17],[640,5,641,5],[640,6,641,7],[640,8,641,9],[640,10,641,10],[640,18,641,18],[640,19,641,20],[640,21,641,22],[640,23,641,23],[632,1,632,2],[632,3,634,6],[632,7,637,10],[632,14,632,15],[632,16,634,19],[632,20,637,23],[633,1,634,2],[633,14,634,15],[635,3,635,6],[635,16,635,19],[636,0,637,1],[636,2,637,2],[636,3,637,6],[636,13,637,14],[636,15,637,15],[636,16,637,19],[621,23,622,23],[625,10,625,11],[625,23,625,24],[626,10,626,11],[626,23,626,24],[627,10,627,11],[627,23,627,24],[630,0,630,10],[630,13,630,23],[621,1,622,4],[621,5,622,5],[621,6,622,7],[621,8,622,9],[621,10,622,10],[621,14,622,17],[621,18,622,18],[621,19,622,20],[621,21,622,22],[617,0,620,0],[617,1,617,4],[617,5,617,6],[617,7,617,10],[617,13,620,13],[617,14,617,17],[617,18,617,19],[617,20,617,23],[618,1,620,4],[618,14,620,17],[619,5,620,5],[619,6,620,7],[619,8,620,9],[619,10,620,10],[619,18,620,18],[619,19,620,20],[619,21,620,22],[619,23,620,23],[611,1,611,2],[611,3,613,6],[611,7,616,10],[611,14,611,15],[611,16,613,19],[611,20,616,23],[612,1,613,2],[612,14,613,15],[614,3,614,6],[614,16,614,19],[615,0,616,1],[615,2,616,2],[615,3,616,6],[615,13,616,14],[615,15,616,15],[615,16,616,19],[600,23,601,23],[604,10,604,11],[604,23,604,24],[605,10,605,11],[605,23,605,24],[606,10,606,11],[606,23,606,24],[609,0,609,10],[609,13,609,23],[600,1,601,4],[600,5,601,5],[600,6,601,7],[600,8,601,9],[600,10,601,10],[600,14,601,17],[600,18,601,18],[600,19,601,20],[600,21,601,22],[596,0,599,0],[596,1,596,4],[596,5,596,6],[596,7,596,10],[596,13,599,13],[596,14,596,17],[596,18,596,19],[596,20,596,23],[597,1,599,4],[597,14,599,17],[598,5,599,5],[598,6,599,7],[598,8,599,9],[598,10,599,10],[598,18,599,18],[598,19,599,20],[598,21,599,22],[598,23,599,23],[590,1,590,2],[590,3,592,6],[590,7,595,10],[590,14,590,15],[590,16,592,19],[590,20,595,23],[591,1,592,2],[591,14,592,15],[593,3,593,6],[593,16,593,19],[594,0,595,1],[594,2,595,2],[594,3,595,6],[594,13,595,14],[594,15,595,15],[594,16,595,19],[579,23,580,23],[583,10,583,11],[583,23,583,24],[584,10,584,11],[584,23,584,24],[585,10,585,11],[585,23,585,24],[588,0,588,10],[588,13,588,23],[579,1,580,4],[579,5,580,5],[579,6,580,7],[579,8,580,9],[579,10,580,10],[579,14,580,17],[579,18,580,18],[579,19,580,20],[579,21,580,22],[575,0,578,0],[575,1,575,4],[575,5,575,6],[575,7,575,10],[575,13,578,13],[575,14,575,17],[575,18,575,19],[575,20,575,23],[576,1,578,4],[576,14,578,17],[577,5,578,5],[577,6,578,7],[577,8,578,9],[577,10,578,10],[577,18,578,18],[577,19,578,20],[577,21,578,22],[577,23,578,23],[569,1,569,2],[569,3,571,6],[569,7,574,10],[569,14,569,15],[569,16,571,19],[569,20,574,23],[570,1,571,2],[570,14,571,15],[572,3,572,6],[572,16,572,19],[573,0,574,1],[573,2,574,2],[573,3,574,6],[573,13,574,14],[573,15,574,15],[573,16,574,19],[558,23,559,23],[562,10,562,11],[562,23,562,24],[563,10,563,11],[563,23,563,24],[564,10,564,11],[564,23,564,24],[567,0,567,10],[567,13,567,23],[558,1,559,4],[558,5,559,5],[558,6,559,7],[558,8,559,9],[558,10,559,10],[558,14,559,17],[558,18,559,18],[558,19,559,20],[558,21,559,22],[554,0,557,0],[554,1,554,4],[554,5,554,6],[554,7,554,10],[554,13,557,13],[554,14,554,17],[554,18,554,19],[554,20,554,23],[555,1,557,4],[555,14,557,17],[556,5,557,5],[556,6,557,7],[556,8,557,9],[556,10,557,10],[556,18,557,18],[556,19,557,20],[556,21,557,22],[556,23,557,23],[548,1,548,2],[548,3,550,6],[548,7,553,10],[548,14,548,15],[548,16,550,19],[548,20,553,23],[549,1,550,2],[549,14,550,15],[551,3,551,6],[551,16,551,19],[552,0,553,1],[552,2,553,2],[552,3,553,6],[552,13,553,14],[552,15,553,15],[552,16,553,19],[537,23,538,23],[541,10,541,11],[541,23,541,24],[542,10,542,11],[542,23,542,24],[543,10,543,11],[543,23,543,24],[546,0,546,10],[546,13,546,23],[537,1,538,4],[537,5,538,5],[537,6,538,7],[537,8,538,9],[537,10,538,10],[537,14,538,17],[537,18,538,18],[537,19,538,20],[537,21,538,22],[533,0,536,0],[533,1,533,4],[533,5,533,6],[533,7,533,10],[533,13,536,13],[533,14,533,17],[533,18,533,19],[533,20,533,23],[534,1,536,4],[534,14,536,17],[535,5,536,5],[535,6,536,7],[535,8,536,9],[535,10,536,10],[535,18,536,18],[535,19,536,20],[535,21,536,22],[535,23,536,23],[527,1,527,2],[527,3,529,6],[527,7,532,10],[527,14,527,15],[527,16,529,19],[527,20,532,23],[528,1,529,2],[528,14,529,15],[530,3,530,6],[530,16,530,19],[531,0,532,1],[531,2,532,2],[531,3,532,6],[531,13,532,14],[531,15,532,15],[531,16,532,19],[516,23,517,23],[520,10,520,11],[520,23,520,24],[521,10,521,11],[521,23,521,24],[522,10,522,11],[522,23,522,24],[525,0,525,10],[525,13,525,23],[516,1,517,4],[516,5,517,5],[516,6,517,7],[516,8,517,9],[516,10,517,10],[516,14,517,17],[516,18,517,18],[516,19,517,20],[516,21,517,22],[512,0,515,0],[512,1,512,4],[512,5,512,6],[512,7,512,10],[512,13,515,13],[512,14,512,17],[512,18,512,19],[512,20,512,23],[513,1,515,4],[513,14,515,17],[514,5,515,5],[514,6,515,7],[514,8,515,9],[514,10,515,10],[514,18,515,18],[514,19,515,20],[514,21,515,22],[514,23,515,23],[506,1,506,2],[506,3,508,6],[506,7,511,10],[506,14,506,15],[506,16,508,19],[506,20,511,23],[507,1,508,2],[507,14,508,15],[509,3,509,6],[509,16,509,19],[510,0,511,1],[510,2,511,2],[510,3,511,6],[510,13,511,14],[510,15,511,15],[510,16,511,19],[495,23,496,23],[499,10,499,11],[499,23,499,24],[500,10,500,11],[500,23,500,24],[501,10,501,11],[501,23,501,24],[504,0,504,10],[504,13,504,23],[495,1,496,4],[495,5,496,5],[495,6,496,7],[495,8,496,9],[495,10,496,10],[495,14,496,17],[495,18,496,18],[495,19,496,20],[495,21,496,22],[491,0,494,0],[491,1,491,4],[491,5,491,6],[491,7,491,10],[491,13,494,13],[491,14,491,17],[491,18,491,19],[491,20,491,23],[492,1,494,4],[492,14,494,17],[493,5,494,5],[493,6,494,7],[493,8,494,9],[493,10,494,10],[493,18,494,18],[493,19,494,20],[493,21,494,22],[493,23,494,23],[485,1,485,2],[485,3,487,6],[485,7,490,10],[485,14,485,15],[485,16,487,19],[485,20,490,23],[486,1,487,2],[486,14,487,15],[488,3,488,6],[488,16,488,19],[489,0,490,1],[489,2,490,2],[489,3,490,6],[489,13,490,14],[489,15,490,15],[489,16,490,19],[474,23,475,23],[478,10,478,11],[478,23,478,24],[479,10,479,11],[479,23,479,24],[480,10,480,11],[480,23,480,24],[483,0,483,10],[483,13,483,23],[474,1,475,4],[474,5,475,5],[474,6,475,7],[474,8,475,9],[474,10,475,10],[474,14,475,17],[474,18,475,18],[474,19,475,20],[474,21,475,22],[470,0,473,0],[470,1,470,4],[470,5,470,6],[470,7,470,10],[470,13,473,13],[470,14,470,17],[470,18,470,19],[470,20,470,23],[471,1,473,4],[471,14,473,17],[472,5,473,5],[472,6,473,7],[472,8,473,9],[472,10,473,10],[472,18,473,18],[472,19,473,20],[472,21,473,22],[472,23,473,23],[464,1,464,2],[464,3,466,6],[464,7,469,10],[464,14,464,15],[464,16,466,19],[464,20,469,23],[465,1,466,2],[465,14,466,15],[467,3,467,6],[467,16,467,19],[468,0,469,1],[468,2,469,2],[468,3,469,6],[468,13,469,14],[468,15,469,15],[468,16,469,19],[453,23,454,23],[457,10,457,11],[457,23,457,24],[458,10,458,11],[458,23,458,24],[459,10,459,11],[459,23,459,24],[462,0,462,10],[462,13,462,23],[453,1,454,4],[453,5,454,5],[453,6,454,7],[453,8,454,9],[453,10,454,10],[453,14,454,17],[453,18,454,18],[453,19,454,20],[453,21,454,22],[449,0,452,0],[449,1,449,4],[449,5,449,6],[449,7,449,10],[449,13,452,13],[449,14,449,17],[449,18,449,19],[449,20,449,23],[450,1,452,4],[450,14,452,17],[451,5,452,5],[451,6,452,7],[451,8,452,9],[451,10,452,10],[451,18,452,18],[451,19,452,20],[451,21,452,22],[451,23,452,23],[443,1,443,2],[443,3,445,6],[443,7,448,10],[443,14,443,15],[443,16,445,19],[443,20,448,23],[444,1,445,2],[444,14,445,15],[446,3,446,6],[446,16,446,19],[447,0,448,1],[447,2,448,2],[447,3,448,6],[447,13,448,14],[447,15,448,15],[447,16,448,19],[432,23,433,23],[436,10,436,11],[436,23,436,24],[437,10,437,11],[437,23,437,24],[438,10,438,11],[438,23,438,24],[441,0,441,10],[441,13,441,23],[432,1,433,4],[432,5,433,5],[432,6,433,7],[432,8,433,9],[432,10,433,10]],"merged_total":2080,"flags":["merged_cut"]}
["第77回愛知陸上競技選手権大会　個人申込票",null,null,null,null,null,null,null,null,null,null,1,null,{"$f":"A1","v":"第77回愛知陸上競技選手権大会　個人申込票"},null,null,null,null,null,null,null,null,null,null,1]
[null,null,null,"",null,null,null,null,null,"資格審査用",null,null,null,null,null,null,"",null,null,null,null,null,"資格審査用"]
[null,"性　　別",null,{"$f":"IF(③選手情報入力!H10=\"\",\"\",③選手情報入力!H10)","v":""},null,null,null,{"$f":"IF(③選手情報入力!K10=\"\",\"\",③選手情報入力!K10)","v":""},null,null,null,null,null,null,"性　　別",null,{"$f":"IF(③選手情報入力!L10=\"\",\"\",③選手情報入力!L10)","v":""},null,null,null,{"$f":"IF(③選手情報入力!O10=\"\",\"\",③選手情報入力!O10)","v":""}]
["種  目",{"$f":"IF(③選手情報入力!$F$10=\"\",\"\",③選手情報入力!$F$10)","v":""},null,null,null,null,null,null,null,null,null,null,null,"種  目",{"$f":"IF(③選手情報入力!$F$10=\"\",\"\",③選手情報入力!$F$10)","v":""}]
[]
["ナンバー",null,"ﾌ ﾘ ｶﾞﾅ",{"$f":"IF(③選手情報入力!$D$10=\"\",\"\",③選手情報入力!$D$10)","v":""},null,null,null,null,null,null,null,null,null,"ナンバー",null,"ﾌ ﾘ ｶﾞﾅ",{"$f":"IF(③選手情報入力!$D$10=\"\",\"\",③選手情報入力!$D$10)","v":""}]
[{"$f":"IF(③選手情報入力!$B$10=\"\",\"\",③選手情報入力!$B$10)","v":""},null,"氏 名",{"$f":"IF(③選手情報入力!$C$10=\"\",\"\",③選手情報入力!$C$10)","v":""},null,null,null,null,null,null,null,null,null,{"$f":"IF(③選手情報入力!$B$10=\"\",\"\",③選手情報入力!$B$10)","v":""},null,"氏 名",{"$f":"IF(③選手情報入力!$C$10=\"\",\"\",③選手情報入力!$C$10)","v":""}]
[]
["出場資格\n取得大会","大　会　名",null,null,null,"加入団体名",null,{"$f":"②団体情報入力!$D$5","v":""},null,null,null,null,null,"出場資格\n取得大会","大　会　名",null,null,null,"加入団体名",null,{"$f":"②団体情報入力!$D$5","v":""}]
[null,null,null,null,null,"年.月.日","順 位",null,"記　録",null,"場  所",null,null,null,null,null,null,null,"年.月.日","順 位",null,"記　録",null,"場  所"]
[null,null,null,null,null,null,null,null,{"$f":"IF(③選手情報入力!I10=\"\",\"\",③選手情報入力!I10)","v":""},null,null,null,null,null,null,null,null,null,null,null,null,{"$f":"IF(③選手情報入力!M10=\"\",\"\",③選手情報入力!M10)","v":""}]
[]
["本 年 度",null,null,null,null,null,null,null,{"$f":"IF(③選手情報入力!J10=\"\",\"同上\",③選手情報入力!J10)","v":"同上"},null,null,null,null,"本 年 度",null,null,null,null,null,null,null,{"$f":"IF(③選手情報入力!N10=\"\",\"同上\",③選手情報入力!N10)","v":"同上"}]
["最高記録",null,null,null,null,null,null,null,null,null,null,null,null,"最高記録"]
["備　  考","※記入不要",null,null,null,null,null,null,null,null,null,null,null,"備　  考","※記入不要"]
[]
["※標準記録突破大会は、公認大会で、記録会は正式名称を記入。",null,null,null,null,null,null,null,null,null,"女子は",null,null,"※標準記録突破大会は、公認大会で、記録会は正式名称を記入。",null,null,null,null,null,null,null,null,null,"女子は"]
["※参加資格・記録等記入不備の場合、審査の対象としない。",null,null,null,null,null,null,null,null,null,"ここを",null,null,"※参加資格・記録等記入不備の場合、審査の対象としない。",null,null,null,null,null,null,null,null,null,"ここを"]
["※申込締切期日厳守。",null,null,null,null,null,null,null,null,null,"切り取る",null,null,"※申込締切期日厳守。",null,null,null,null,null,null,null,null,null,"切り取る"]
[]
[]
[{"$f":"A1","v":"第77回愛知陸上競技選手権大会　個人申込票"},null,null,null,null,null,null,null,null,null,null,2,null,{"$f":"A1","v":"第77回愛知陸上競技選手権大会　個人申込票"},null,null,null,null,null,null,null,null,null,null,2]
[null,null,null,"",null,null,null,null,null,"資格審査用",null,null,null,null,null,null,"",null,null,null,null,null,"資格審査用"]
[null,"性　　別",null,{"$f":"IF(③選手情報入力!H11=\"\",\"\",③選手情報入力!H11)","v":""},null,null,null,{"$f":"IF(③選手情報入力!K11=\"\",\"\",③選手情報入力!K11)","v":""},null,null,null,null,null,null,"性　　別",null,{"$f":"IF(③選手情報入力!L11=\"\",\"\",③選手情報入力!L11)","v":""},null,null,null,{"$f":"IF(③選手情報入力!O11=\"\",\"\",③選手情報入力!O11)","v":""}]
["種  目",{"$f":"IF(③選手情報入力!$F$10=\"\",\"\",③選手情報入力!$F$10)","v":""},null,null,null,null,null,null,null,null,null,null,null,"種  目",{"$f":"IF(③選手情報入力!$F$10=\"\",\"\",③選手情報入力!$F$10)","v":""}]
[]
["ナンバー",null,"ﾌ ﾘ ｶﾞﾅ",{"$f":"IF(③選手情報入力!$D$11=\"\",\"\",③選手情報入力!$D$11)","v":""},null,null,null,null,null,null,null,null,null,"ナンバー",null,"ﾌ ﾘ ｶﾞﾅ",{"$f":"IF(③選手情報入力!$D$11=\"\",\"\",③選手情報入力!$D$11)","v":""}]
[{"$f":"IF(③選手情報入力!$B$10=\"\",\"\",③選手情報入力!$B$10)","v":""},null,"氏 名",{"$f":"IF(③選手情報入力!$C$11=\"\",\"\",③選手情報入力!$C$11)","v":""},null,null,null,null,null,null,null,null,null,{"$f":"IF(③選手情報入力!$B$10=\"\",\"\",③選手情報入力!$B$10)","v":""},null,"氏 名",{"$f":"IF(③選手情報入力!$C$11=\"\",\"\",③選手情報入力!$C$11)","v":""}]
[]
["出場資格\n取得大会","大　会　名",null,null,null,"加入団体名",null,{"$f":"②団体情報入力!$D$5","v":""},null,null,null,null,null,"出場資格\n取得大会","大　会　名",null,null,null,"加入団体名",null,{"$f":"②団体情報入力!$D$5","v":""}]
[null,null,null,null,null,"年.月.日","順 位",null,"記　録",null,"場  所",null,null,null,null,null,null,null,"年.月.日","順 位",null,"記　録",null,"場  所"]
[null,null,null,null,null,null,null,null,{"$f":"IF(③選手情報入力!I11=\"\",\"\",③選手情報入力!I11)","v":""},null,null,null,null,null,null,null,null,null,null,null,null,{"$f":"IF(③選手情報入力!M11=\"\",\"\",③選手情報入力!M11)","v":""}]
[]
["本 年 度",null,null,null,null,null,null,null,{"$f":"IF(③選手情報入力!J11=\"\",\"同上\",③選手情報入力!J11)","v":"同上"},null,null,null,null,"本 年 度",null,null,null,null,null,null,null,{"$f":"IF(③選手情報入力!N11=\"\",\"同上\",③選手情報入力!N11)","v":"同上"}]
["最高記録",null,null,null,null,null,null,null,null,null,null,null,null,"最高記録"]
["備　  考","※記入不要",null,null,null,null,null,null,null,null,null,null,null,"備　  考","※記入不要"]
[]
["※標準記録突破大会は、公認大会で、記録会は正式名称を記入。",null,null,null,null,null,null,null,null,null,"女子は",null,null,"※標準記録突破大会は、公認大会で、記録会は正式名称を記入。",null,null,null,null,null,null,null,null,null,"女子は"]
["※参加資格・記録等記入不備の場合、審査の対象としない。",null,null,null,null,null,null,null,null,null,"ここを",null,null,"※参加資格・記録等記入不備の場合、審査の対象としない。",null,null,null,null,null,null,null,null,null,"ここを"]
["※申込締切期日厳守。",null,null,null,null,null,null,null,null,null,"切り取る",null,null,"※申込締切期日厳守。",null,null,null,null,null,null,null,null,null,"切り取る"]
[]
[]
[{"$f":"A1","v":"第77回愛知陸上競技選手権大会　個人申込票"},null,null,null,null,null,null,null,null,null,null,3,null,{"$f":"A1","v":"第77回愛知陸上競技選手権大会　個人申込票"},null,null,null,null,null,null,null,null,null,null,3]
[null,null,null,"",null,null,null,null,null,"資格審査用",null,null,null,null,null,null,"",null,null,null,null,null,"資格審査用"]
[null,"性　　別",null,{"$f":"IF(③選手情報入力!H12=\"\",\"\",③選手情報入力!H12)","v":""},null,null,null,{"$f":"IF(③選手情報入力!K12=\"\",\"\",③選手情報入力!K12)","v":""},null,null,null,null,null,null,"性　　別",null,{"$f":"IF(③選手情報入力!L12=\"\",\"\",③選手情報入力!L12)","v":""},null,null,null,{"$f":"IF(③選手情報入力!O12=\"\",\"\",③選手情報入力!O12)","v":""}]
["種  目",{"$f":"IF(③選手情報入力!$F$12=\"\",\"\",③選手情報入力!$F$12)","v":""},null,null,null,null,null,null,null,null,null,null,null,"種  目",{"$f":"IF(③選手情報入力!$F$12=\"\",\"\",③選手情報入力!$F$12)","v":""}]
[]
["ナンバー",null,"ﾌ ﾘ ｶﾞﾅ",{"$f":"IF(③選手情報入力!$D$12=\"\",\"\",③選手情報入力!$D$12)","v":""},null,null,null,null,null,null,null,null,null,"ナンバー",null,"ﾌ ﾘ ｶﾞﾅ",{"$f":"IF(③選手情報入力!$D$12=\"\",\"\",③選手情報入力!$D$12)","v":""}]
[{"$f":"IF(③選手情報入力!$B$12=\"\",\"\",③選手情報入力!$B$12)","v":""},null,"氏 名",{"$f":"IF(③選手情報入力!$C$12=\"\",\"\",③選手情報入力!$C$12)","v":""},null,null,null,null,null,null,null,null,null,{"$f":"IF(③選手情報入力!$B$12=\"\",\"\",③選手情報入力!$B$12)","v":""},null,"氏 名",{"$f":"IF(③選手情報入力!$C$12=\"\",\"\",③選手情報入力!$C$12)","v":""}]
[]
["出場資格\n取得大会","大　会　名",null,null,null,"加入団体名",null,{"$f":"②団体情報入力!$D$5","v":""},null,null,null,null,null,"出場資格\n取得大会","大　会　名",null,null,null,"加入団体名",null,{"$f":"②団体情報入力!$D$5","v":""}]
[null,null,null,null,null,"年.月.日","順 位",null,"記　録",null,"場  所",null,null,null,null,null,null,null,"年.月.日","順 位",null,"記　録",null,"場  所"]
[null,null,null,null,null,null,null,null,{"$f":"IF(③選手情報入力!I12=\"\",\"\",③選手情報入力!I12)","v":""},null,null,null,null,null,null,null,null,null,null,null,null,{"$f":"IF(③選手情報入力!M12=\"\",\"\",③選手情報入力!M12)","v":""}]
[]
["本 年 度",null,null,null,null,null,null,null,{"$f":"IF(③選手情報入力!J12=\"\",\"同上\",③選手情報入力!J12)","v":"同上"},null,null,null,null,"本 年 度",null,null,null,null,null,null,null,{"$f":"IF(③選手情報入力!N12=\"\",\"同上\",③選手情報入力!N12)","v":"同上"}]
["最高記録",null,null,null,null,null,null,null,null,null,null,null,null,"最高記録"]
["備　  考","※記入不要",null,null,null,null,null,null,null,null,null,null,null,"備　  考","※記入不要"]
[]
["※標準記録突破大会は、公認大会で、記録会は正式名称を記入。",null,null,null,null,null,null,null,null,null,"女子は",null,null,"※標準記録突破大会は、公認大会で、記録会は正式名称を記入。",null,null,null,null,null,null,null,null,null,"女子は"]
["※参加資格・記録等記入不備の場合、審査の対象としない。",null,null,null,null,null,null,null,null,null,"ここを",null,null,"※参加資格・記録等記入不備の場合、審査の対象としない。",null,null,null,null,null,null,null,null,null,"ここを"]
["※申込締切期日厳守。",null,null,null,null,null,null,null,null,null,"切り取る",null,null,"※申込締切期日厳守。",null,null,null,null,null,null,null,null,null,"切り取る"]
[]
[]
[{"$f":"A1","v":"第77回愛知陸上競技選手権大会　個人申込票"},null,null,null,null,null,null,null,null,null,null,4,null,{"$f":"A1","v":"第77回愛知陸上競技選手権大会　個人申込票"},null,null,null,null,null,null,null,null,null,null,4]
[null,null,null,"",null,null,null,null,null,"資格審査用",null,null,null,null,null,null,"",null,null,null,null,null,"資格審査用"]
[null,"性　　別",null,{"$f":"IF(③選手情報入力!H13=\"\",\"\",③選手情報入力!H13)","v":""},null,null,null,{"$f":"IF(③選手情報入力!K13=\"\",\"\",③選手情報入力!K13)","v":""},null,null,null,null,null,null,"性　　別",null,{"$f":"IF(③選手情報入力!L13=\"\",\"\",③選手情報入力!L13)","v":""},null,null,null,{"$f":"IF(③選手情報入力!O13=\"\",\"\",③選手情報入力!O13)","v":""}]
["種  目",{"$f":"IF(③選手情報入力!$F$13=\"\",\"\",③選手情報入力!$F$13)","v":""},null,null,null,null,null,null,null,null,null,null,null,"種  目",{"$f":"IF(③選手情報入力!$F$13=\"\",\"\",③選手情報入力!$F$13)","v":""}]
[]
["ナンバー",null,"ﾌ ﾘ ｶﾞﾅ",{"$f":"IF(③選手情報入力!$D$13=\"\",\"\",③選手情報入力!$D$13)","v":""},null,null,null,null,null,null,null,null,null,"ナンバー",null,"ﾌ ﾘ ｶﾞﾅ",{"$f":"IF(③選手情報入力!$D$13=\"\",\"\",③選手情報入力!$D$13)","v":""}]
[{"$f":"IF(③選手情報入力!$B$13=\"\",\"\",③選手情報入力!$B$13)","v":""},null,"氏 名",{"$f":"IF(③選手情報入力!$C$13=\"\",\"\",③選手情報入力!$C$13)","v":""},null,null,null,null,null,null,null,null,null,{"$f":"IF(③選手情報入力!$B$13=\"\",\"\",③選手情報入力!$B$13)","v":""},null,"氏 名",{"$f":"IF(③選手情報入力!$C$13=\"\",\"\",③選手情報入力!$C$13)","v":""}]
[]
["出場資格\n取得大会","大　会　名",null,null,null,"加入団体名",null,{"$f":"②団体情報入力!$D$5","v":""},null,null,null,null,null,"出場資格\n取得大会","大　会　名",null,null,null,"加入団体名",null,{"$f":"②団体情報入力!$D$5","v":""}]
[null,null,null,null,null,"年.月.日","順 位",null,"記　録",null,"場  所",null,null,null,null,null,null,null,"年.月.日","順 位",null,"記　録",null,"場  所"]
[null,null,null,null,null,null,null,null,{"$f":"IF(③選手情報入力!I13=\"\",\"\",③選手情報入力!I13)","v":""},null,null,null,null,null,null,null,null,null,null,null,null,{"$f":"IF(③選手情報入力!M13=\"\",\"\",③選手情報入力!M13)","v":""}]
[]
["本 年 度",null,null,null,null,null,null,null,{"$f":"IF(③選手情報入力!J13=\"\",\"同上\",③選手情報入力!J13)","v":"同上"},null,null,null,null,"本 年 度",null,null,null,null,null,null,null,{"$f":"IF(③選手情報入力!N13=\"\",\"同上\",③選手情報入力!N13)","v":"同上"}]
["最高記録",null,null,null,null,null,null,null,null,null,null,null,null,"最高記録"]
["備　  考","※記入不要",null,null,null,null,null,null,null,null,null,null,null,"備　  考","※記入不要"]
[]
["※標準記録突破大会は、公認大会で、記録会は正式名称を記入。",null,null,null,null,null,null,null,null,null,"女子は",null,null,"※標準記録突破大会は、公認大会で、記録会は正式名称を記入。",null,null,null,null,null,null,null,null,null,"女子は"]
["※参加資格・記録等記入不備の場合、審査の対象としない。",null,null,null,null,null,null,null,null,null,"ここを",null,null,"※参加資格・記録等記入不備の場合、審査の対象としない。",null,null,null,null,null,null,null,null,null,"ここを"]
["※申込締切期日厳守。",null,null,null,null,null,null,null,null,null,"切り取る",null,null,"※申込締切期日厳守。",null,null,null,null,null,null,null,null,null,"切り取る"]
[]
[]
[{"$f":"A1","v":"第77回愛知陸上競技選手権大会　個人申込票"},null,null,null,null,null,null,null,null,null,null,5,null,{"$f":"A1","v":"第77回愛知陸上競技選手権大会　個人申込票"},null,null,null,null,null,null,null,null,null,null,5]
[null,null,null,"",null,null,null,null,null,"資格審査用",null,null,null,null,null,null,"",null,null,null,null,null,"資格審査用"]
[null,"性　　別",null,{"$f":"IF(③選手情報入力!H14=\"\",\"\",③選手情報入力!H14)","v":""},null,null,null,{"$f":"IF(③選手情報入力!K14=\"\",\"\",③選手情報入力!K14)","v":""},null,null,null,null,null,null,"性　　別",null,{"$f":"IF(③選手情報入力!L14=\"\",\"\",③選手情報入力!L14)","v":""},null,null,null,{"$f":"IF(③選手情報入力!O14=\"\",\"\",③選手情報入力!O14)","v":""}]
["種  目",{"$f":"IF(③選手情報入力!$F$14=\"\",\"\",③選手情報入力!$F$14)","v":""},null,null,null,null,null,null,null,null,null,null,null,"種  目",{"$f":"IF(③選手情報入力!$F$14=\"\",\"\",③選手情報入力!$F$14)","v":""}]
[]
["ナンバー",null,"ﾌ ﾘ ｶﾞﾅ",{"$f":"IF(③選手情報入力!$D$14=\"\",\"\",③選手情報入力!$D$14)","v":""},null,null,null,null,null,null,null,null,null,"ナンバー",null,"ﾌ ﾘ ｶﾞﾅ",{"$f":"IF(③選手情報入力!$D$14=\"\",\"\",③選手情報入力!$D$14)","v":""}]
[{"$f":"IF(③選手情報入力!$B$14=\"\",\"\",③選手情報入力!$B$14)","v":""},null,"氏 名",{"$f":"IF(③選手情報入力!$C$14=\"\",\"\",③選手情報入力!$C$14)","v":""},null,null,null,null,null,null,null,null,null,{"$f":"IF(③選手情報入力!$B$14=\"\",\"\",③選手情報入力!$B$14)","v":""},null,"氏 名",{"$f":"IF(③選手情報入力!$C$14=\"\",\"\",③選手情報入力!$C$14)","v":""}]
[]
["出場資格\n取得大会","大　会　名",null,null,null,"加入団体名",null,{"$f":"②団体情報入力!$D$5","v":""},null,null,null,null,null,"出場資格\n取得大会","大　会　名",null,null,null,"加入団体名",null,{"$f":"②団体情報入力!$D$5","v":""}]
[null,null,null,null,null,"年.月.日","順 位",null,"記　録",null,"場  所",null,null,null,null,null,null,null,"年.月.日","順 位",null,"記　録",null,"場  所"]
[null,null,null,null,null,null,null,null,{"$f":"IF(③選手情報入力!I14=\"\",\"\",③選手情報入力!I14)","v":""},null,null,null,null,null,null,null,null,null,null,null,null,{"$f":"IF(③選手情報入力!M14=\"\",\"\",③選手情報入力!M14)","v":""}]
[]
["本 年 度",null,null,null,null,null,null,null,{"$f":"IF(③選手情報入力!J14=\"\",\"同上\",③選手情報入力!J14)","v":"同上"},null,null,null,null,"本 年 度",null,null,null,null,null,null,null,{"$f":"IF(③選手情報入力!N14=\"\",\"同上\",③選手情報入力!N14)","v":"同上"}]
["最高記録",null,null,null,null,null,null,null,null,null,null,null,null,"最高記録"]
["備　  考","※記入不要",null,null,null,null,null,null,null,null,null,null,null,"備　  考","※記入不要"]
[]
["※標準記録突破大会は、公認大会で、記録会は正式名称を記入。",null,null,null,null,null,null,null,null,null,"女子は",null,null,"※標準記録突破大会は、公認大会で、記録会は正式名称を記入。",null,null,null,null,null,null,null,null,null,"女子は"]
["※参加資格・記録等記入不備の場合、審査の対象としない。",null,null,null,null,null,null,null,null,null,"ここを",null,null,"※参加資格・記録等記入不備の場合、審査の対象としない。",null,null,null,null,null,null,null,null,null,"ここを"]
["※申込締切期日厳守。",null,null,null,null,null,null,null,null,null,"切り取る",null,null,"※申込締切期日厳守。",null,null,null,null,null,null,null,null,null,"切り取る"]
[]
[]
[{"$f":"A1","v":"第77回愛知陸上競技選手権大会　個人申込票"},null,null,null,null,null,null,null,null,null,null,6,null,{"$f":"A1","v":"第77回愛知陸上競技選手権大会　個人申込票"},null,null,null,null,null,null,null,null,null,null,6]
[null,null,null,"",null,null,null,null,null,"資格審査用",null,null,null,null,null,null,"",null,null,null,null,null,"資格審査用"]
[null,"性　　別",null,{"$f":"IF(③選手情報入力!H15=\"\",\"\",③選手情報入力!H15)","v":""},null,null,null,{"$f":"IF(③選手情報入力!K15=\"\",\"\",③選手情報入力!K15)","v":""},null,null,null,null,null,null,"性　　別",null,{"$f":"IF(③選手情報入力!L15=\"\",\"\",③選手情報入力!L15)","v":""},null,null,null,{"$f":"IF(③選手情報入力!O15=\"\",\"\",③選手情報入力!O15)","v":""}]
["種  目",{"$f":"IF(③選手情報入力!$F$15=\"\",\"\",③選手情報入力!$F$15)","v":""},null,null,null,null,null,null,null,null,null,null,null,"種  目",{"$f":"IF(③選手情報入力!$F$15=\"\",\"\",③選手情報入力!$F$15)","v":""}]
[]
["ナンバー",null,"ﾌ ﾘ ｶﾞﾅ",{"$f":"IF(③選手情報入力!$D$15=\"\",\"\",③選手情報入力!$D$15)","v":""},null,null,null,null,null,null,null,null,null,"ナンバー",null,"ﾌ ﾘ ｶﾞﾅ",{"$f":"IF(③選手情報入力!$D$15=\"\",\"\",③選手情報入力!$D$15)","v":""}]
[{"$f":"IF(③選手情報入力!$B$15=\"\",\"\",③選手情報入力!$B$15)","v":""},null,"氏 名",{"$f":"IF(③選手情報入力!$C$15=\"\",\"\",③選手情報入力!$C$15)","v":""},null,null,null,null,null,null,null,null,null,{"$f":"IF(③選手情報入力!$B$15=\"\",\"\",③選手情報入力!$B$15)","v":""},null,"氏 名",{"$f":"IF(③選手情報入力!$C$15=\"\",\"\",③選手情報入力!$C$15)","v":""}]
[]
["出場資格\n取得大会","大　会　名",null,null,null,"加入団体名",null,{"$f":"②団体情報入力!$D$5","v":""},null,null,null,null,null,"出場資格\n取得大会","大　会　名",null,null,null,"加入団体名",null,{"$f":"②団体情報入力!$D$5","v":""}]
[null,null,null,null,null,"年.月.日","順 位",null,"記　録",null,"場  所",null,null,null,null,null,null,null,"年.月.日","順 位",null,"記　録",null,"場  所"]
[null,null,null,null,null,null,null,null,{"$f":"IF(③選手情報入力!I15=\"\",\"\",③選手情報入力!I15)","v":""},null,null,null,null,null,null,null,null,null,null,null,null,{"$f":"IF(③選手情報入力!M15=\"\",\"\",③選手情報入力!M15)","v":""}]
[]
["本 年 度",null,null,null,null,null,null,null,{"$f":"IF(③選手情報入力!J15=\"\",\"同上\",③選手情報入力!J15)","v":"同上"},null,null,null,null,"本 年 度",null,null,null,null,null,null,null,{"$f":"IF(③選手情報入力!N15=\"\",\"同上\",③選手情報入力!N15)","v":"同上"}]
["最高記録",null,null,null,null,null,null,null,null,null,null,null,null,"最高記録"]
["備　  考","※記入不要",null,null,null,null,null,null,null,null,null,null,null,"備　  考","※記入不要"]
[]
["※標準記録突破大会は、公認大会で、記録会は正式名称を記入。",null,null,null,null,null,null,null,null,null,"女子は",null,null,"※標準記録突破大会は、公認大会で、記録会は正式名称を記入。",null,null,null,null,null,null,null,null,null,"女子は"]
["※参加資格・記録等記入不備の場合、審査の対象としない。",null,null,null,null,null,null,null,null,null,"ここを",null,null,"※参加資格・記録等記入不備の場合、審査の対象としない。",null,null,null,null,null,null,null,null,null,"ここを"]
["※申込締切期日厳守。",null,null,null,null,null,null,null,null,null,"切り取る",null,null,"※申込締切期日厳守。",null,null,null,null,null,null,null,null,null,"切り取る"]
[]
[]
[{"$f":"A1","v":"第77回愛知陸上競技選手権大会　個人申込票"},null,null,null,null,null,null,null,null,null,null,7,null,{"$f":"A1","v":"第77回愛知陸上競技選手権大会　個人申込票"},null,null,null,null,null,null,null,null,null,null,7]
[null,null,null,"",null,null,null,null,null,"資格審査用",null,null,null,null,null,null,"",null,null,null,null,null,"資格審査用"]
[null,"性　　別",null,{"$f":"IF(③選手情報入力!H16=\"\",\"\",③選手情報入力!H16)","v":""},null,null,null,{"$f":"IF(③選手情報入力!K16=\"\",\"\",③選手情報入力!K16)","v":""},null,null,null,null,null,null,"性　　別",null,{"$f":"IF(③選手情報入力!L16=\"\",\"\",③選手情報入力!L16)","v":""},null,null,null,{"$f":"IF(③選手情報入力!O16=\"\",\"\",③選手情報入力!O16)","v":""}]
["種  目",{"$f":"IF(③選手情報入力!$F$16=\"\",\"\",③選手情報入力!$F$16)","v":""},null,null,null,null,null,null,null,null,null,null,null,"種  目",{"$f":"IF(③選手情報入力!$F$16=\"\",\"\",③選手情報入力!$F$16)","v":""}]
[]
["ナンバー",null,"ﾌ ﾘ ｶﾞﾅ",{"$f":"IF(③選手情報入力!$D$16=\"\",\"\",③選手情報入力!$D$16)","v":""},null,null,null,null,null,null,null,null,null,"ナンバー",null,"ﾌ ﾘ ｶﾞﾅ",{"$f":"IF(③選手情報入力!$D$16=\"\",\"\",③選手情報入力!$D$16)","v":""}]
[{"$f":"IF(③選手情報入力!$B$16=\"\",\"\",③選手情報入力!$B$16)","v":""},null,"氏 名",{"$f":"IF(③選手情報入力!$C$16=\"\",\"\",③選手情報入力!$C$16)","v":""},null,null,null,null,null,null,null,null,null,{"$f":"IF(③選手情報入力!$B$16=\"\",\"\",③選手情報入力!$B$16)","v":""},null,"氏 名",{"$f":"IF(③選手情報入力!$C$16=\"\",\"\",③選手情報入力!$C$16)","v":""}]
[]
["出場資格\n取得大会","大　会　名",null,null,null,"加入団体名",null,{"$f":"②団体情報入力!$D$5","v":""},null,null,null,null,null,"出場資格\n取得大会","大　会　名",null,null,null,"加入団体名",null,{"$f":"②団体情報入力!$D$5","v":""}]
[null,null,null,null,null,"年.月.日","順 位",null,"記　録",null,"場  所",null,null,null,null,null,null,null,"年.月.日","順 位",null,"記　録",null,"場  所"]
[null,null,null,null,null,null,null,null,{"$f":"IF(③選手情報入力!I16=\"\",\"\",③選手情報入力!I16)","v":""},null,null,null,null,null,null,null,null,null,null,null,null,{"$f":"IF(③選手情報入力!M16=\"\",\"\",③選手情報入力!M16)","v":""}]
[]
["本 年 度",null,null,null,null,null,null,null,{"$f":"IF(③選手情報入力!J16=\"\",\"同上\",③選手情報入力!J16)","v":"同上"},null,null,null,null,"本 年 度",null,null,null,null,null,null,null,{"$f":"IF(③選手情報入力!N16=\"\",\"同上\",③選手情報入力!N16)","v":"同上"}]
["最高記録",null,null,null,null,null,null,null,null,null,null,null,null,"最高記録"]
["備　  考","※記入不要",null,null,null,null,null,null,null,null,null,null,null,"備　  考","※記入不要"]
[]
["※標準記録突破大会は、公認大会で、記録会は正式名称を記入。",null,null,null,null,null,null,null,null,null,"女子は",null,null,"※標準記録突破大会は、公認大会で、記録会は正式名称を記入。",null,null,null,null,null,null,null,null,null,"女子は"]
["※参加資格・記録等記入不備の場合、審査の対象としない。",null,null,null,null,null,null,null,null,null,"ここを",null,null,"※参加資格・記録等記入不備の場合、審査の対象としない。",null,null,null,null,null,null,null,null,null,"ここを"]
["※申込締切期日厳守。",null,null,null,null,null,null,null,null,null,"切り取る",null,null,"※申込締切期日厳守。",null,null,null,null,null,null,null,null,null,"切り取る"]
[]
[]
[{"$f":"A1","v":"第77回愛知陸上競技選手権大会　個人申込票"},null,null,null,null,null,null,null,null,null,null,8,null,{"$f":"A1","v":"第77回愛知陸上競技選手権大会　個人申込票"},null,null,null,null,null,null,null,null,null,null,8]
[null,null,null,"",null,null,null,null,null,"資格審査用",null,null,null,null,null,null,"",null,null,null,null,null,"資格審査用"]
[null,"性　　別",null,{"$f":"IF(③選手情報入力!H17=\"\",\"\",③選手情報入力!H17)","v":""},null,null,null,{"$f":"IF(③選手情報入力!K17=\"\",\"\",③選手情報入力!K17)","v":""},null,null,null,null,null,null,"性　　別",null,{"$f":"IF(③選手情報入力!L17=\"\",\"\",③選手情報入力!L17)","v":""},null,null,null,{"$f":"IF(③選手情報入力!O17=\"\",\"\",③選手情報入力!O17)","v":""}]
["種  目",{"$f":"IF(③選手情報入力!$F$17=\"\",\"\",③選手情報入力!$F$17)","v":""},null,null,null,null,null,null,null,null,null,null,null,"種  目",{"$f":"IF(③選手情報入力!$F$17=\"\",\"\",③選手情報入力!$F$17)","v":""}]
[]
["ナンバー",null,"ﾌ ﾘ ｶﾞﾅ",{"$f":"IF(③選手情報入力!$D$17=\"\",\"\",③選手情報入力!$D$17)","v":""},null,null,null,null,null,null,null,null,null,"ナンバー",null,"ﾌ ﾘ ｶﾞﾅ",{"$f":"IF(③選手情報入力!$D$17=\"\",\"\",③選手情報入力!$D$17)","v":""}]
[{"$f":"IF(③選手情報入力!$B$17=\"\",\"\",③選手情報入力!$B$17)","v":""},null,"氏 名",{"$f":"IF(③選手情報入力!$C$17=\"\",\"\",③選手情報入力!$C$17)","v":""},null,null,null,null,null,null,null,null,null,{"$f":"IF(③選手情報入力!$B$17=\"\",\"\",③選手情報入力!$B$17)","v":""},null,"氏 名",{"$f":"IF(③選手情報入力!$C$17=\"\",\"\",③選手情報入力!$C$17)","v":""}]
[]
["出場資格\n取得大会","大　会　名",null,null,null,"加入団体名",null,{"$f":"②団体情報入力!$D$5","v":""},null,null,null,null,null,"出場資格\n取得大会","大　会　名",null,null,null,"加入団体名",null,{"$f":"②団体情報入力!$D$5","v":""}]
[null,null,null,null,null,"年.月.日","順 位",null,"記　録",null,"場  所",null,null,null,null,null,null,null,"年.月.日","順 位",null,"記　録",null,"場  所"]
[null,null,null,null,null,null,null,null,{"$f":"IF(③選手情報入力!I17=\"\",\"\",③選手情報入力!I17)","v":""},null,null,null,null,null,null,null,null,null,null,null,null,{"$f":"IF(③選手情報入力!M17=\"\",\"\",③選手情報入力!M17)","v":""}]
[]
["本 年 度",null,null,null,null,null,null,null,{"$f":"IF(③選手情報入力!J17=\"\",\"同上\",③選手情報入力!J17)","v":"同上"},null,null,null,null,"本 年 度",null,null,null,null,null,null,null,{"$f":"IF(③選手情報入力!N17=\"\",\"同上\",③選手情報入力!N17)","v":"同上"}]
["最高記録",null,null,null,null,null,null,null,null,null,null,null,null,"最高記録"]
["備　  考","※記入不要",null,null,null,null,null,null,null,null,null,null,null,"備　  考","※記入不要"]
[]
["※標準記録突破大会は、公認大会で、記録会は正式名称を記入。",null,null,null,null,null,null,null,null,null,"女子は",null,null,"※標準記録突破大会は、公認大会で、記録会は正式名称を記入。",null,null,null,null,null,null,null,null,null,"女子は"]
["※参加資格・記録等記入不備の場合、審査の対象としない。",null,null,null,null,null,null,null,null,null,"ここを",null,null,"※参加資格・記録等記入不備の場合、審査の対象としない。",null,null,null,null,null,null,null,null,null,"ここを"]
["※申込締切期日厳守。",null,null,null,null,null,null,null,null,null,"切り取る",null,null,"※申込締切期日厳守。",null,null,null,null,null,null,null,null,null,"切り取る"]
[]
[]
[{"$f":"A1","v":"第77回愛知陸上競技選手権大会　個人申込票"},null,null,null,null,null,null,null,null,null,null,9,null,{"$f":"A1","v":"第77回愛知陸上競技選手権大会　個人申込票"},null,null,null,null,null,null,null,null,null,null,9]
[null,null,null,"",null,null,null,null,null,"資格審査用",null,null,null,null,null,null,"",null,null,null,null,null,"資格審査用"]
[null,"性　　別",null,{"$f":"IF(③選手情報入力!H18=\"\",\"\",③選手情報入力!H18)","v":""},null,null,null,{"$f":"IF(③選手情報入力!K18=\"\",\"\",③選手情報入力!K18)","v":""},null,null,null,null,null,null,"性　　別",null,{"$f":"IF(③選手情報入力!L18=\"\",\"\",③選手情報入力!L18)","v":""},null,null,null,{"$f":"IF(③選手情報入力!O18=\"\",\"\",③選手情報入力!O18)","v":""}]
["種  目",{"$f":"IF(③選手情報入力!$F$18=\"\",\"\",③選手情報入力!$F$18)","v":""},null,null,null,null,null,null,null,null,null,null,null,"種  目",{"$f":"IF(③選手情報入力!$F$18=\"\",\"\",③選手情報入力!$F$18)","v":""}]
[]
["ナンバー",null,"ﾌ ﾘ ｶﾞﾅ",{"$f":"IF(③選手情報入力!$D$18=\"\",\"\",③選手情報入力!$D$18)","v":""},null,null,null,null,null,null,null,null,null,"ナンバー",null,"ﾌ ﾘ ｶﾞﾅ",{"$f":"IF(③選手情報入力!$D$18=\"\",\"\",③選手情報入力!$D$18)","v":""}]
[{"$f":"IF(③選手情報入力!$B$18=\"\",\"\",③選手情報入力!$B$18)","v":""},null,"氏 名",{"$f":"IF(③選手情報入力!$C$18=\"\",\"\",③選手情報入力!$C$18)","v":""},null,null,null,null,null,null,null,null,null,{"$f":"IF(③選手情報入力!$B$18=\"\",\"\",③選手情報入力!$B$18)","v":""},null,"氏 名",{"$f":"IF(③選手情報入力!$C$18=\"\",\"\",③選手情報入力!$C$18)","v":""}]
[]
["出場資格\n取得大会","大　会　名",null,null,null,"加入団体名",null,{"$f":"②団体情報入力!$D$5","v":""},null,null,null,null,null,"出場資格\n取得大会","大　会　名",null,null,null,"加入団体名",null,{"$f":"②団体情報入力!$D$5","v":""}]
[null,null,null,null,null,"年.月.日","順 位",null,"記　録",null,"場  所",null,null,null,null,null,null,null,"年.月.日","順 位",null,"記　録",null,"場  所"]
[null,null,null,null,null,null,null,null,{"$f":"IF(③選手情報入力!I18=\"\",\"\",③選手情報入力!I18)","v":""},null,null,null,null,null,null,null,null,null,null,null,null,{"$f":"IF(③選手情報入力!M18=\"\",\"\",③選手情報入力!M18)","v":""}]
[]
["本 年 度",null,null,null,null,null,null,null,{"$f":"IF(③選手情報入力!J18=\"\",\"同上\",③選手情報入力!J18)","v":"同上"},null,null,null,null,"本 年 度",null,null,null,null,null,null,null,{"$f":"IF(③選手情報入力!N18=\"\",\"同上\",③選手情報入力!N18)","v":"同上"}]
["最高記録",null,null,null,null,null,null,null,null,null,null,null,null,"最高記録"]
["備　  考","※記入不要",null,null,null,null,null,null,null,null,null,null,null,"備　  考","※記入不要"]
[]
["※標準記録突破大会は、公認大会で、記録会は正式名称を記入。",null,null,null,null,null,null,null,null,null,"女子は",null,null,"※標準記録突破大会は、公認大会で、記録会は正式名称を記入。",null,null,null,null,null,null,null,null,null,"女子は"]
["※参加資格・記録等記入不備の場合、審査の対象としない。",null,null,null,null,null,null,null,null,null,"ここを",null,null,"※参加資格・記録等記入不備の場合、審査の対象としない。",null,null,null,null,null,null,null,null,null,"ここを"]
["※申込締切期日厳守。",null,null,null,null,null,null,null,null,null,"切り取る",null,null,"※申込締切期日厳守。",null,null,null,null,null,null,null,null,null,"切り取る"]
[]
[]
[{"$f":"A1","v":"第77回愛知陸上競技選手権大会　個人申込票"},null,null,null,null,null,null,null,null,null,null,10,null,{"$f":"A1","v":"第77回愛知陸上競技選手権大会　個人申込票"},null,null,null,null,null,null,null,null,null,null,10]
[null,null,null,"",null,null,null,null,null,"資格審査用",null,null,null,null,null,null,"",null,null,null,null,null,"資格審査用"]
[null,"性　　別",null,{"$f":"IF(③選手情報入力!H19=\"\",\"\",③選手情報入力!H19)","v":""},null,null,null,{"$f":"IF(③選手情報入力!K19=\"\",\"\",③選手情報入力!K19)","v":""},null,null,null,null,null,null,"性　　別",null,{"$f":"IF(③選手情報入力!L19=\"\",\"\",③選手情報入力!L19)","v":""},null,null,null,{"$f":"IF(③選手情報入力!O19=\"\",\"\",③選手情報入力!O19)","v":""}]
["種  目",{"$f":"IF(③選手情報入力!$F$19=\"\",\"\",③選手情報入力!$F$19)","v":""},null,null,null,null,null,null,null,null,null,null,null,"種  目",{"$f":"IF(③選手情報入力!$F$19=\"\",\"\",③選手情報入力!$F$19)","v":""}]
[]
["ナンバー",null,"ﾌ ﾘ ｶﾞﾅ",{"$f":"IF(③選手情報入力!$D$19=\"\",\"\",③選手情報入力!$D$19)","v":""},null,null,null,null,null,null,null,null,null,"ナンバー",null,"ﾌ ﾘ ｶﾞﾅ",{"$f":"IF(③選手情報入力!$D$19=\"\",\"\",③選手情報入力!$D$19)","v":""}]
[{"$f":"IF(③選手情報入力!$B$19=\"\",\"\",③選手情報入力!$B$19)","v":""},null,"氏 名",{"$f":"IF(③選手情報入力!$C$19=\"\",\"\",③選手情報入力!$C$19)","v":""},null,null,null,null,null,null,null,null,null,{"$f":"IF(③選手情報入力!$B$19=\"\",\"\",③選手情報入力!$B$19)","v":""},null,"氏 名",{"$f":"IF(③選手情報入力!$C$19=\"\",\"\",③選手情報入力!$C$19)","v":""}]
[]
["出場資格\n取得大会","大　会　名",null,null,null,"加入団体名",null,{"$f":"②団体情報入力!$D$5","v":""},null,null,null,null,null,"出場資格\n取得大会","大　会　名",null,null,null,"加入団体名",null,{"$f":"②団体情報入力!$D$5","v":""}]
[null,null,null,null,null,"年.月.日","順 位",null,"記　録",null,"場  所",null,null,null,null,null,null,null,"年.月.日","順 位",null,"記　録",null,"場  所"]
[null,null,null,null,null,null,null,null,{"$f":"IF(③選手情報入力!I19=\"\",\"\",③選手情報入力!I19)","v":""},null,null,null,null,null,null,null,null,null,null,null,null,{"$f":"IF(③選手情報入力!M19=\"\",\"\",③選手情報入力!M19)","v":""}]
[]
["本 年 度",null,null,null,null,null,null,null,{"$f":"IF(③選手情報入力!J19=\"\",\"同上\",③選手情報入力!J19)","v":"同上"},null,null,null,null,"本 年 度",null,null,null,null,null,null,null,{"$f":"IF(③選手情報入力!N19=\"\",\"同上\",③選手情報入力!N19)","v":"同上"}]
["最高記録",null,null,null,null,null,null,null,null,null,null,null,null,"最高記録"]
["備　  考","※記入不要",null,null,null,null,null,null,null,null,null,null,null,"備　  考","※記入不要"]
[]
["※標準記録突破大会は、公認大会で、記録会は正式名称を記入。",null,null,null,null,null,null,null,null,null,"女子は",null,null,"※標準記録突破大会は、公認大会で、記録会は正式名称を記入。",null,null,null,null,null,null,null,null,null,"女子は"]
["※参加資格・記録等記入不備の場合、審査の対象としない。",null,null,null,null,null,null,null,null,null,"ここを",null,null,"※参加資格・記録等記入不備の場合、審査の対象としない。",null,null,null,null,null,null,null,null,null,"ここを"]
["※申込締切期日厳守。",null,null,null,null,null,null,null,null,null,"切り取る",null,null,"※申込締切期日厳守。",null,null,null,null,null,null,null,null,null,"切り取る"]
[]
[]
[{"$f":"A1","v":"第77回愛知陸上競技選手権大会　個人申込票"},null,null,null,null,null,null,null,null,null,null,11,null,{"$f":"A1","v":"第77回愛知陸上競技選手権大会　個人申込票"},null,null,null,null,null,null,null,null,null,null,11]
[null,null,null,"",null,null,null,null,null,"資格審査用",null,null,null,null,null,null,"",null,null,null,null,null,"資格審査用"]
[null,"性　　別",null,{"$f":"IF(③選手情報入力!H20=\"\",\"\",③選手情報入力!H20)","v":""},null,null,null,{"$f":"IF(③選手情報入力!K20=\"\",\"\",③選手情報入力!K20)","v":""},null,null,null,null,null,null,"性　　別",null,{"$f":"IF(③選手情報入力!L20=\"\",\"\",③選手情報入力!L20)","v":""},null,null,null,{"$f":"IF(③選手情報入力!O20=\"\",\"\",③選手情報入力!O20)","v":""}]
["種  目",{"$f":"IF(③選手情報入力!$F$20=\"\",\"\",③選手情報入力!$F$20)","v":""},null,null,null,null,null,null,null,null,null,null,null,"種  目",{"$f":"IF(③選手情報入力!$F$20=\"\",\"\",③選手情報入力!$F$20)","v":""}]
[]
["ナンバー",null,"ﾌ ﾘ ｶﾞﾅ",{"$f":"IF(③選手情報入力!$D$20=\"\",\"\",③選手情報入力!$D$20)","v":""},null,null,null,null,null,null,null,null,null,"ナンバー",null,"ﾌ ﾘ ｶﾞﾅ",{"$f":"IF(③選手情報入力!$D$20=\"\",\"\",③選手情報入力!$D$20)","v":""}]
[{"$f":"IF(③選手情報入力!$B$20=\"\",\"\",③選手情報入力!$B$20)","v":""},null,"氏 名",{"$f":"IF(③選手情報入力!$C$20=\"\",\"\",③選手情報入力!$C$20)","v":""},null,null,null,null,null,null,null,null,null,{"$f":"IF(③選手情報入力!$B$20=\"\",\"\",③選手情報入力!$B$20)","v":""},null,"氏 名",{"$f":"IF(③選手情報入力!$C$20=\"\",\"\",③選手情報入力!$C$20)","v":""}]
[]
["出場資格\n取得大会","大　会　名",null,null,null,"加入団体名",null,{"$f":"②団体情報入力!$D$5","v":""},null,null,null,null,null,"出場資格\n取得大会","大　会　名",null,null,null,"加入団体名",null,{"$f":"②団体情報入力!$D$5","v":""}]
[null,null,null,null,null,"年.月.日","順 位",null,"記　録",null,"場  所",null,null,null,null,null,null,null,"年.月.日","順 位",null,"記　録",null,"場  所"]
[null,null,null,null,null,null,null,null,{"$f":"IF(③選手情報入力!I20=\"\",\"\",③選手情報入力!I20)","v":""},null,null,null,null,null,null,null,null,null,null,null,null,{"$f":"IF(③選手情報入力!M20=\"\",\"\",③選手情報入力!M20)","v":""}]
[]
["本 年 度",null,null,null,null,null,null,null,{"$f":"IF(③選手情報入力!J20=\"\",\"同上\",③選手情報入力!J20)","v":"同上"},null,null,null,null,"本 年 度",null,null,null,null,null,null,null,{"$f":"IF(③選手情報入力!N20=\"\",\"同上\",③選手情報入力!N20)","v":"同上"}]
["最高記録",null,null,null,null,null,null,null,null,null,null,null,null,"最高記録"]
["備　  考","※記入不要",null,null,null,null,null,null,null,null,null,null,null,"備　  考","※記入不要"]
[]
["※標準記録突破大会は、公認大会で、記録会は正式名称を記入。",null,null,null,null,null,null,null,null,null,"女子は",null,null,"※標準記録突破大会は、公認大会で、記録会は正式名称を記入。",null,null,null,null,null,null,null,null,null,"女子は"]
["※参加資格・記録等記入不備の場合、審査の対象としない。",null,null,null,null,null,null,null,null,null,"ここを",null,null,"※参加資格・記録等記入不備の場合、審査の対象としない。",null,null,null,null,null,null,null,null,null,"ここを"]
["※申込締切期日厳守。",null,null,null,null,null,null,null,null,null,"切り取る",null,null,"※申込締切期日厳守。",null,null,null,null,null,null,null,null,null,"切り取る"]
[]
[]
[{"$f":"A1","v":"第77回愛知陸上競技選手権大会　個人申込票"},null,null,null,null,null,null,null,null,null,null,12,null,{"$f":"A1","v":"第77回愛知陸上競技選手権大会　個人申込票"},null,null,null,null,null,null,null,null,null,null,12]
[null,null,null,"",null,null,null,null,null,"資格審査用",null,null,null,null,null,null,"",null,null,null,null,null,"資格審査用"]
[null,"性　　別",null,{"$f":"IF(③選手情報入力!H21=\"\",\"\",③選手情報入力!H21)","v":""},null,null,null,{"$f":"IF(③選手情報入力!K21=\"\",\"\",③選手情報入力!K21)","v":""},null,null,null,null,null,null,"性　　別",null,{"$f":"IF(③選手情報入力!L21=\"\",\"\",③選手情報入力!L21)","v":""},null,null,null,{"$f":"IF(③選手情報入力!O21=\"\",\"\",③選手情報入力!O21)","v":""}]
["種  目",{"$f":"IF(③選手情報入力!$F$21=\"\",\"\",③選手情報入力!$F$21)","v":""},null,null,null,null,null,null,null,null,null,null,null,"種  目",{"$f":"IF(③選手情報入力!$F$21=\"\",\"\",③選手情報入力!$F$21)","v":""}]
[]
["ナンバー",null,"ﾌ ﾘ ｶﾞﾅ",{"$f":"IF(③選手情報入力!$D$21=\"\",\"\",③選手情報入力!$D$21)","v":""},null,null,null,null,null,null,null,null,null,"ナンバー",null,"ﾌ ﾘ ｶﾞﾅ",{"$f":"IF(③選手情報入力!$D$21=\"\",\"\",③選手情報入力!$D$21)","v":""}]
[{"$f":"IF(③選手情報入力!$B$21=\"\",\"\",③選手情報入力!$B$21)","v":""},null,"氏 名",{"$f":"IF(③選手情報入力!$C$21=\"\",\"\",③選手情報入力!$C$21)","v":""},null,null,null,null,null,null,null,null,null,{"$f":"IF(③選手情報入力!$B$21=\"\",\"\",③選手情報入力!$B$21)","v":""},null,"氏 名",{"$f":"IF(③選手情報入力!$C$21=\"\",\"\",③選手情報入力!$C$21)","v":""}]
[]
["出場資格\n取得大会","大　会　名",null,null,null,"加入団体名",null,{"$f":"②団体情報入力!$D$5","v":""},null,null,null,null,null,"出場資格\n取得大会","大　会　名",null,null,null,"加入団体名",null,{"$f":"②団体情報入力!$D$5","v":""}]
[null,null,null,null,null,"年.月.日","順 位",null,"記　録",null,"場  所",null,null,null,null,null,null,null,"年.月.日","順 位",null,"記　録",null,"場  所"]
[null,null,null,null,null,null,null,null,{"$f":"IF(③選手情報入力!I21=\"\",\"\",③選手情報入力!I21)","v":""},null,null,null,null,null,null,null,null,null,null,null,null,{"$f":"IF(③選手情報入力!M21=\"\",\"\",③選手情報入力!M21)","v":""}]
[]
["本 年 度",null,null,null,null,null,null,null,{"$f":"IF(③選手情報入力!J21=\"\",\"同上\",③選手情報入力!J21)","v":"同上"},null,null,null,null,"本 年 度",null,null,null,null,null,null,null,{"$f":"IF(③選手情報入力!N21=\"\",\"同上\",③選手情報入力!N21)","v":"同上"}]
["最高記録",null,null,null,null,null,null,null,null,null,null,null,null,"最高記録"]
["備　  考","※記入不要",null,null,null,null,null,null,null,null,null,null,null,"備　  考","※記入不要"]
[]
["※標準記録突破大会は、公認大会で、記録会は正式名称を記入。",null,null,null,null,null,null,null,null,null,"女子は",null,null,"※標準記録突破大会は、公認大会で、記録会は正式名称を記入。",null,null,null,null,null,null,null,null,null,"女子は"]
["※参加資格・記録等記入不備の場合、審査の対象としない。",null,null,null,null,null,null,null,null,null,"ここを",null,null,"※参加資格・記録等記入不備の場合、審査の対象としない。",null,null,null,null,null,null,null,null,null,"ここを"]
["※申込締切期日厳守。",null,null,null,null,null,null,null,null,null,"切り取る",null,null,"※申込締切期日厳守。",null,null,null,null,null,null,null,null,null,"切り取る"]
[]
[]
[{"$f":"A1","v":"第77回愛知陸上競技選手権大会　個人申込票"},null,null,null,null,null,null,null,null,null,null,13,null,{"$f":"A1","v":"第77回愛知陸上競技選手権大会　個人申込票"},null,null,null,null,null,null,null,null,null,null,13]
[null,null,null,"",null,null,null,null,null,"資格審査用",null,null,null,null,null,null,"",null,null,null,null,null,"資格審査用"]
[null,"性　　別",null,{"$f":"IF(③選手情報入力!H22=\"\",\"\",③選手情報入力!H22)","v":""},null,null,null,{"$f":"IF(③選手情報入力!K22=\"\",\"\",③選手情報入力!K22)","v":""},null,null,null,null,null,null,"性　　別",null,{"$f":"IF(③選手情報入力!L22=\"\",\"\",③選手情報入力!L22)","v":""},null,null,null,{"$f":"IF(③選手情報入力!O22=\"\",\"\",③選手情報入力!O22)","v":""}]
["種  目",{"$f":"IF(③選手情報入力!$F$22=\"\",\"\",③選手情報入力!$F$22)","v":""},null,null,null,null,null,null,null,null,null,null,null,"種  目",{"$f":"IF(③選手情報入力!$F$22=\"\",\"\",③選手情報入力!$F$22)","v":""}]
[]
["ナンバー",null,"ﾌ ﾘ ｶﾞﾅ",{"$f":"IF(③選手情報入力!$D$22=\"\",\"\",③選手情報入力!$D$22)","v":""},null,null,null,null,null,null,null,null,null,"ナンバー",null,"ﾌ ﾘ ｶﾞﾅ",{"$f":"IF(③選手情報入力!$D$22=\"\",\"\",③選手情報入力!$D$22)","v":""}]
[{"$f":"IF(③選手情報入力!$B$22=\"\",\"\",③選手情報入力!$B$22)","v":""},null,"氏 名",{"$f":"IF(③選手情報入力!$C$22=\"\",\"\",③選手情報入力!$C$22)","v":""},null,null,null,null,null,null,null,null,null,{"$f":"IF(③選手情報入力!$B$22=\"\",\"\",③選手情報入力!$B$22)","v":""},null,"氏 名",{"$f":"IF(③選手情報入力!$C$22=\"\",\"\",③選手情報入力!$C$22)","v":""}]
[]
["出場資格\n取得大会","大　会　名",null,null,null,"加入団体名",null,{"$f":"②団体情報入力!$D$5","v":""},null,null,null,null,null,"出場資格\n取得大会","大　会　名",null,null,null,"加入団体名",null,{"$f":"②団体情報入力!$D$5","v":""}]
[null,null,null,null,null,"年.月.日","順 位",null,"記　録",null,"場  所",null,null,null,null,null,null,null,"年.月.日","順 位",null,"記　録",null,"場  所"]
[null,null,null,null,null,null,null,null,{"$f":"IF(③選手情報入力!I22=\"\",\"\",③選手情報入力!I22)","v":""},null,null,null,null,null,null,null,null,null,null,null,null,{"$f":"IF(③選手情報入力!M22=\"\",\"\",③選手情報入力!M22)","v":""}]
[]
["本 年 度",null,null,null,null,null,null,null,{"$f":"IF(③選手情報入力!J22=\"\",\"同上\",③選手情報入力!J22)","v":"同上"},null,null,null,null,"本 年 度",null,null,null,null,null,null,null,{"$f":"IF(③選手情報入力!N22=\"\",\"同上\",③選手情報入力!N22)","v":"同上"}]
["最高記録",null,null,null,null,null,null,null,null,null,null,null,null,"最高記録"]
["備　  考","※記入不要",null,null,null,null,null,null,null,null,null,null,null,"備　  考","※記入不要"]
[]
["※標準記録突破大会は、公認大会で、記録会は正式名称を記入。",null,null,null,null,null,null,null,null,null,"女子は",null,null,"※標準記録突破大会は、公認大会で、記録会は正式名称を記入。",null,null,null,null,null,null,null,null,null,"女子は"]
["※参加資格・記録等記入不備の場合、審査の対象としない。",null,null,null,null,null,null,null,null,null,"ここを",null,null,"※参加資格・記録等記入不備の場合、審査の対象としない。",null,null,null,null,null,null,null,null,null,"ここを"]
["※申込締切期日厳守。",null,null,null,null,null,null,null,null,null,"切り取る",null,null,"※申込締切期日厳守。",null,null,null,null,null,null,null,null,null,"切り取る"]
[]
[]
[{"$f":"A1","v":"第77回愛知陸上競技選手権大会　個人申込票"},null,null,null,null,null,null,null,null,null,null,14,null,{"$f":"A1","v":"第77回愛知陸上競技選手権大会　個人申込票"},null,null,null,null,null,null,null,null,null,null,14]
[null,null,null,"",null,null,null,null,null,"資格審査用",null,null,null,null,null,null,"",null,null,null,null,null,"資格審査用"]
[null,"性　　別",null,{"$f":"IF(③選手情報入力!H23=\"\",\"\",③選手情報入力!H23)","v":""},null,null,null,{"$f":"IF(③選手情報入力!K23=\"\",\"\",③選手情報入力!K23)","v":""},null,null,null,null,null,null,"性　　別",null,{"$f":"IF(③選手情報入力!L23=\"\",\"\",③選手情報入力!L23)","v":""},null,null,null,{"$f":"IF(③選手情報入力!O23=\"\",\"\",③選手情報入力!O23)","v":""}]
["種  目",{"$f":"IF(③選手情報入力!$F$23=\"\",\"\",③選手情報入力!$F$23)","v":""},null,null,null,null,null,null,null,null,null,null,null,"種  目",{"$f":"IF(③選手情報入力!$F$23=\"\",\"\",③選手情報入力!$F$23)","v":""}]
[]
["ナンバー",null,"ﾌ ﾘ ｶﾞﾅ",{"$f":"IF(③選手情報入力!$D$23=\"\",\"\",③選手情報入力!$D$23)","v":""},null,null,null,null,null,null,null,null,null,"ナンバー",null,"ﾌ ﾘ ｶﾞﾅ",{"$f":"IF(③選手情報入力!$D$23=\"\",\"\",③選手情報入力!$D$23)","v":""}]
[{"$f":"IF(③選手情報入力!$B$23=\"\",\"\",③選手情報入力!$B$23)","v":""},null,"氏 名",{"$f":"IF(③選手情報入力!$C$23=\"\",\"\",③選手情報入力!$C$23)","v":""},null,null,null,null,null,null,null,null,null,{"$f":"IF(③選手情報入力!$B$23=\"\",\"\",③選手情報入力!$B$23)","v":""},null,"氏 名",{"$f":"IF(③選手情報入力!$C$23=\"\",\"\",③選手情報入力!$C$23)","v":""}]
[]
["出場資格\n取得大会","大　会　名",null,null,null,"加入団体名",null,{"$f":"②団体情報入力!$D$5","v":""},null,null,null,null,null,"出場資格\n取得大会","大　会　名",null,null,null,"加入団体名",null,{"$f":"②団体情報入力!$D$5","v":""}]
[null,null,null,null,null,"年.月.日","順 位",null,"記　録",null,"場  所",null,null,null,null,null,null,null,"年.月.日","順 位",null,"記　録",null,"場  所"]
[null,null,null,null,null,null,null,null,{"$f":"IF(③選手情報入力!I23=\"\",\"\",③選手情報入力!I23)","v":""},null,null,null,null,null,null,null,null,null,null,null,null,{"$f":"IF(③選手情報入力!M23=\"\",\"\",③選手情報入力!M23)","v":""}]
[]
["本 年 度",null,null,null,null,null,null,null,{"$f":"IF(③選手情報入力!J23=\"\",\"同上\",③選手情報入力!J23)","v":"同上"},null,null,null,null,"本 年 度",null,null,null,null,null,null,null,{"$f":"IF(③選手情報入力!N23=\"\",\"同上\",③選手情報入力!N23)","v":"同上"}]
["最高記録",null,null,null,null,null,null,null,null,null,null,null,null,"最高記録"]
["備　  考","※記入不要",null,null,null,null,null,null,null,null,null,null,null,"備　  考","※記入不要"]
[]
["※標準記録突破大会は、公認大会で、記録会は正式名称を記入。",null,null,null,null,null,null,null,null,null,"女子は",null,null,"※標準記録突破大会は、公認大会で、記録会は正式名称を記入。",null,null,null,null,null,null,null,null,null,"女子は"]
["※参加資格・記録等記入不備の場合、審査の対象としない。",null,null,null,null,null,null,null,null,null,"ここを",null,null,"※参加資格・記録等記入不備の場合、審査の対象としない。",null,null,null,null,null,null,null,null,null,"ここを"]
["※申込締切期日厳守。",null,null,null,null,null,null,null,null,null,"切り取る",null,null,"※申込締切期日厳守。",null,null,null,null,null,null,null,null,null,"切り取る"]
[]
[]
[{"$f":"A1","v":"第77回愛知陸上競技選手権大会　個人申込票"},null,null,null,null,null,null,null,null,null,null,15,null,{"$f":"A1","v":"第77回愛知陸上競技選手権大会　個人申込票"},null,null,null,null,null,null,null,null,null,null,15]
[null,null,null,"",null,null,null,null,null,"資格審査用",null,null,null,null,null,null,"",null,null,null,null,null,"資格審査用"]
[null,"性　　別",null,{"$f":"IF(③選手情報入力!H24=\"\",\"\",③選手情報入力!H24)","v":""},null,null,null,{"$f":"IF(③選手情報入力!K24=\"\",\"\",③選手情報入力!K24)","v":""},null,null,null,null,null,null,"性　　別",null,{"$f":"IF(③選手情報入力!L24=\"\",\"\",③選手情報入力!L24)","v":""},null,null,null,{"$f":"IF(③選手情報入力!O24=\"\",\"\",③選手情報入力!O24)","v":""}]
["種  目",{"$f":"IF(③選手情報入力!$F$24=\"\",\"\",③選手情報入力!$F$24)","v":""},null,null,null,null,null,null,null,null,null,null,null,"種  目",{"$f":"IF(③選手情報入力!$F$24=\"\",\"\",③選手情報入力!$F$24)","v":""}]
[]
["ナンバー",null,"ﾌ ﾘ ｶﾞﾅ",{"$f":"IF(③選手情報入力!$D$24=\"\",\"\",③選手情報入力!$D$24)","v":""},null,null,null,null,null,null,null,null,null,"ナンバー",null,"ﾌ ﾘ ｶﾞﾅ",{"$f":"IF(③選手情報入力!$D$24=\"\",\"\",③選手情報入力!$D$24)","v":""}]
[{"$f":"IF(③選手情報入力!$B$24=\"\",\"\",③選手情報入力!$B$24)","v":""},null,"氏 名",{"$f":"IF(③選手情報入力!$C$24=\"\",\"\",③選手情報入力!$C$24)","v":""},null,null,null,null,null,null,null,null,null,{"$f":"IF(③選手情報入力!$B$24=\"\",\"\",③選手情報入力!$B$24)","v":""},null,"氏 名",{"$f":"IF(③選手情報入力!$C$24=\"\",\"\",③選手情報入力!$C$24)","v":""}]
[]
["出場資格\n取得大会","大　会　名",null,null,null,"加入団体名",null,{"$f":"②団体情報入力!$D$5","v":""},null,null,null,null,null,"出場資格\n取得大会","大　会　名",null,null,null,"加入団体名",null,{"$f":"②団体情報入力!$D$5","v":""}]
[null,null,null,null,null,"年.月.日","順 位",null,"記　録",null,"場  所",null,null,null,null,null,null,null,"年.月.日","順 位",null,"記　録",null,"場  所"]
[null,null,null,null,null,null,null,null,{"$f":"IF(③選手情報入力!I24=\"\",\"\",③選手情報入力!I24)","v":""},null,null,null,null,null,null,null,null,null,null,null,null,{"$f":"IF(③選手情報入力!M24=\"\",\"\",③選手情報入力!M24)","v":""}]
[]
["本 年 度",null,null,null,null,null,null,null,{"$f":"IF(③選手情報入力!J24=\"\",\"同上\",③選手情報入力!J24)","v":"同上"},null,null,null,null,"本 年 度",null,null,null,null,null,null,null,{"$f":"IF(③選手情報入力!N24=\"\",\"同上\",③選手情報入力!N24)","v":"同上"}]
["最高記録",null,null,null,null,null,null,null,null,null,null,null,null,"最高記録"]
["備　  考","※記入不要",null,null,null,null,null,null,null,null,null,null,null,"備　  考","※記入不要"]
[]
["※標準記録突破大会は、公認大会で、記録会は正式名称を記入。",null,null,null,null,null,null,null,null,null,"女子は",null,null,"※標準記録突破大会は、公認大会で、記録会は正式名称を記入。",null,null,null,null,null,null,null,null,null,"女子は"]
["※参加資格・記録等記入不備の場合、審査の対象としない。",null,null,null,null,null,null,null,null,null,"ここを",null,null,"※参加資格・記録等記入不備の場合、審査の対象としない。",null,null,null,null,null,null,null,null,null,"ここを"]
["※申込締切期日厳守。",null,null,null,null,null,null,null,null,null,"切り取る",null,null,"※申込締切期日厳守。",null,null,null,null,null,null,null,null,null,"切り取る"]
[]
[]
[{"$f":"A1","v":"第77回愛知陸上競技選手権大会　個人申込票"},null,null,null,null,null,null,null,null,null,null,16,null,{"$f":"A1","v":"第77回愛知陸上競技選手権大会　個人申込票"},null,null,null,null,null,null,null,null,null,null,16]
[null,null,null,"",null,null,null,null,null,"資格審査用",null,null,null,null,null,null,"",null,null,null,null,null,"資格審査用"]
[null,"性　　別",null,{"$f":"IF(③選手情報入力!H25=\"\",\"\",③選手情報入力!H25)","v":""},null,null,null,{"$f":"IF(③選手情報入力!K25=\"\",\"\",③選手情報入力!K25)","v":""},null,null,null,null,null,null,"性　　別",null,{"$f":"IF(③選手情報入力!L25=\"\",\"\",③選手情報入力!L25)","v":""},null,null,null,{"$f":"IF(③選手情報入力!O25=\"\",\"\",③選手情報入力!O25)","v":""}]
["種  目",{"$f":"IF(③選手情報入力!$F$25=\"\",\"\",③選手情報入力!$F$25)","v":""},null,null,null,null,null,null,null,null,null,null,null,"種  目",{"$f":"IF(③選手情報入力!$F$25=\"\",\"\",③選手情報入力!$F$25)","v":""}]
[]
["ナンバー",null,"ﾌ ﾘ ｶﾞﾅ",{"$f":"IF(③選手情報入力!$D$25=\"\",\"\",③選手情報入力!$D$25)","v":""},null,null,null,null,null,null,null,null,null,"ナンバー",null,"ﾌ ﾘ ｶﾞﾅ",{"$f":"IF(③選手情報入力!$D$25=\"\",\"\",③選手情報入力!$D$25)","v":""}]
[{"$f":"IF(③選手情報入力!$B$25=\"\",\"\",③選手情報入力!$B$25)","v":""},null,"氏 名",{"$f":"IF(③選手情報入力!$C$25=\"\",\"\",③選手情報入力!$C$25)","v":""},null,null,null,null,null,null,null,null,null,{"$f":"IF(③選手情報入力!$B$25=\"\",\"\",③選手情報入力!$B$25)","v":""},null,"氏 名",{"$f":"IF(③選手情報入力!$C$25=\"\",\"\",③選手情報入力!$C$25)","v":""}]
[]
["出場資格\n取得大会","大　会　名",null,null,null,"加入団体名",null,{"$f":"②団体情報入力!$D$5","v":""},null,null,null,null,null,"出場資格\n取得大会","大　会　名",null,null,null,"加入団体名",null,{"$f":"②団体情報入力!$D$5","v":""}]
[null,null,null,null,null,"年.月.日","順 位",null,"記　録",null,"場  所",null,null,null,null,null,null,null,"年.月.日","順 位",null,"記　録",null,"場  所"]
[null,null,null,null,null,null,null,null,{"$f":"IF(③選手情報入力!I25=\"\",\"\",③選手情報入力!I25)","v":""},null,null,null,null,null,null,null,null,null,null,null,null,{"$f":"IF(③選手情報入力!M25=\"\",\"\",③選手情報入力!M25)","v":""}]
[]
["本 年 度",null,null,null,null,null,null,null,{"$f":"IF(③選手情報入力!J25=\"\",\"同上\",③選手情報入力!J25)","v":"同上"},null,null,null,null,"本 年 度",null,null,null,null,null,null,null,{"$f":"IF(③選手情報入力!N25=\"\",\"同上\",③選手情報入力!N25)","v":"同上"}]
["最高記録",null,null,null,null,null,null,null,null,null,null,null,null,"最高記録"]
["備　  考","※記入不要",null,null,null,null,null,null,null,null,null,null,null,"備　  考","※記入不要"]
[]
["※標準記録突破大会は、公認大会で、記録会は正式名称を記入。",null,null,null,null,null,null,null,null,null,"女子は",null,null,"※標準記録突破大会は、公認大会で、記録会は正式名称を記入。",null,null,null,null,null,null,null,null,null,"女子は"]
["※参加資格・記録等記入不備の場合、審査の対象としない。",null,null,null,null,null,null,null,null,null,"ここを",null,null,"※参加資格・記録等記入不備の場合、審査の対象としない。",null,null,null,null,null,null,null,null,null,"ここを"]
["※申込締切期日厳守。",null,null,null,null,null,null,null,null,null,"切り取る",null,null,"※申込締切期日厳守。",null,null,null,null,null,null,null,null,null,"切り取る"]
[]
[]
[{"$f":"A1","v":"第77回愛知陸上競技選手権大会　個人申込票"},null,null,null,null,null,null,null,null,null,null,17,null,{"$f":"A1","v":"第77回愛知陸上競技選手権大会　個人申込票"},null,null,null,null,null,null,null,null,null,null,17]
[null,null,null,"",null,null,null,null,null,"資格審査用",null,null,null,null,null,null,"",null,null,null,null,null,"資格審査用"]
[null,"性　　別",null,{"$f":"IF(③選手情報入力!H26=\"\",\"\",③選手情報入力!H26)","v":""},null,null,null,{"$f":"IF(③選手情報入力!K26=\"\",\"\",③選手情報入力!K26)","v":""},null,null,null,null,null,null,"性　　別",null,{"$f":"IF(③選手情報入力!L26=\"\",\"\",③選手情報入力!L26)","v":""},null,null,null,{"$f":"IF(③選手情報入力!O26=\"\",\"\",③選手情報入力!O26)","v":""}]
["種  目",{"$f":"IF(③選手情報入力!$F$26=\"\",\"\",③選手情報入力!$F$26)","v":""},null,null,null,null,null,null,null,null,null,null,null,"種  目",{"$f":"IF(③選手情報入力!$F$26=\"\",\"\",③選手情報入力!$F$26)","v":""}]
[]
["ナンバー",null,"ﾌ ﾘ ｶﾞﾅ",{"$f":"IF(③選手情報入力!$D$26=\"\",\"\",③選手情報入力!$D$26)","v":""},null,null,null,null,null,null,null,null,null,"ナンバー",null,"ﾌ ﾘ ｶﾞﾅ",{"$f":"IF(③選手情報入力!$D$26=\"\",\"\",③選手情報入力!$D$26)","v":""}]
[{"$f":"IF(③選手情報入力!$B$26=\"\",\"\",③選手情報入力!$B$26)","v":""},null,"氏 名",{"$f":"IF(③選手情報入力!$C$26=\"\",\"\",③選手情報入力!$C$26)","v":""},null,null,null,null,null,null,null,null,null,{"$f":"IF(③選手情報入力!$B$26=\"\",\"\",③選手情報入力!$B$26)","v":""},null,"氏 名",{"$f":"IF(③選手情報入力!$C$26=\"\",\"\",③選手情報入力!$C$26)","v":""}]
[]
["出場資格\n取得大会","大　会　名",null,null,null,"加入団体名",null,{"$f":"②団体情報入力!$D$5","v":""},null,null,null,null,null,"出場資格\n取得大会","大　会　名",null,null,null,"加入団体名",null,{"$f":"②団体情報入力!$D$5","v":""}]
[null,null,null,null,null,"年.月.日","順 位",null,"記　録",null,"場  所",null,null,null,null,null,null,null,"年.月.日","順 位",null,"記　録",null,"場  所"]
[null,null,null,null,null,null,null,null,{"$f":"IF(③選手情報入力!I26=\"\",\"\",③選手情報入力!I26)","v":""},null,null,null,null,null,null,null,null,null,null,null,null,{"$f":"IF(③選手情報入力!M26=\"\",\"\",③選手情報入力!M26)","v":""}]
[]
["本 年 度",null,null,null,null,null,null,null,{"$f":"IF(③選手情報入力!J26=\"\",\"同上\",③選手情報入力!J26)","v":"同上"},null,null,null,null,"本 年 度",null,null,null,null,null,null,null,{"$f":"IF(③選手情報入力!N26=\"\",\"同上\",③選手情報入力!N26)","v":"同上"}]
["最高記録",null,null,null,null,null,null,null,null,null,null,null,null,"最高記録"]
["備　  考","※記入不要",null,null,null,null,null,null,null,null,null,null,null,"備　  考","※記入不要"]
[]
["※標準記録突破大会は、公認大会で、記録会は正式名称を記入。",null,null,null,null,null,null,null,null,null,"女子は",null,null,"※標準記録突破大会は、公認大会で、記録会は正式名称を記入。",null,null,null,null,null,null,null,null,null,"女子は"]
["※参加資格・記録等記入不備の場合、審査の対象としない。",null,null,null,null,null,null,null,null,null,"ここを",null,null,"※参加資格・記録等記入不備の場合、審査の対象としない。",null,null,null,null,null,null,null,null,null,"ここを"]
["※申込締切期日厳守。",null,null,null,null,null,null,null,null,null,"切り取る",null,null,"※申込締切期日厳守。",null,null,null,null,null,null,null,null,null,"切り取る"]
[]
[]
[{"$f":"A1","v":"第77回愛知陸上競技選手権大会　個人申込票"},null,null,null,null,null,null,null,null,null,null,18,null,{"$f":"A1","v":"第77回愛知陸上競技選手権大会　個人申込票"},null,null,null,null,null,null,null,null,null,null,18]
[null,null,null,"",null,null,null,null,null,"資格審査用",null,null,null,null,null,null,"",null,null,null,null,null,"資格審査用"]
[null,"性　　別",null,{"$f":"IF(③選手情報入力!H27=\"\",\"\",③選手情報入力!H27)","v":""},null,null,null,{"$f":"IF(③選手情報入力!K27=\"\",\"\",③選手情報入力!K27)","v":""},null,null,null,null,null,null,"性　　別",null,{"$f":"IF(③選手情報入力!L27=\"\",\"\",③選手情報入力!L27)","v":""},null,null,null,{"$f":"IF(③選手情報入力!O27=\"\",\"\",③選手情報入力!O27)","v":""}]
["種  目",{"$f":"IF(③選手情報入力!$F$27=\"\",\"\",③選手情報入力!$F$27)","v":""},null,null,null,null,null,null,null,null,null,null,null,"種  目",{"$f":"IF(③選手情報入力!$F$27=\"\",\"\",③選手情報入力!$F$27)","v":""}]
[]
["ナンバー",null,"ﾌ ﾘ ｶﾞﾅ",{"$f":"IF(③選手情報入力!$D$27=\"\",\"\",③選手情報入力!$D$27)","v":""},null,null,null,null,null,null,null,null,null,"ナンバー",null,"ﾌ ﾘ ｶﾞﾅ",{"$f":"IF(③選手情報入力!$D$27=\"\",\"\",③選手情報入力!$D$27)","v":""}]
[{"$f":"IF(③選手情報入力!$B$27=\"\",\"\",③選手情報入力!$B$27)","v":""},null,"氏 名",{"$f":"IF(③選手情報入力!$C$27=\"\",\"\",③選手情報入力!$C$27)","v":""},null,null,null,null,null,null,null,null,null,{"$f":"IF(③選手情報入力!$B$27=\"\",\"\",③選手情報入力!$B$27)","v":""},null,"氏 名",{"$f":"IF(③選手情報入力!$C$27=\"\",\"\",③選手情報入力!$C$27)","v":""}]
[]
["出場資格\n取得大会","大　会　名",null,null,null,"加入団体名",null,{"$f":"②団体情報入力!$D$5","v":""},null,null,null,null,null,"出場資格\n取得大会","大　会　名",null,null,null,"加入団体名",null,{"$f":"②団体情報入力!$D$5","v":""}]
[null,null,null,null,null,"年.月.日","順 位",null,"記　録",null,"場  所",null,null,null,null,null,null,null,"年.月.日","順 位",null,"記　録",null,"場  所"]
[null,null,null,null,null,null,null,null,{"$f":"IF(③選手情報入力!I27=\"\",\"\",③選手情報入力!I27)","v":""},null,null,null,null,null,null,null,null,null,null,null,null,{"$f":"IF(③選手情報入力!M27=\"\",\"\",③選手情報入力!M27)","v":""}]
[]
["本 年 度",null,null,null,null,null,null,null,{"$f":"IF(③選手情報入力!J27=\"\",\"同上\",③選手情報入力!J27)","v":"同上"},null,null,null,null,"本 年 度",null,null,null,null,null,null,null,{"$f":"IF(③選手情報入力!N27=\"\",\"同上\",③選手情報入力!N27)","v":"同上"}]
["最高記録",null,null,null,null,null,null,null,null,null,null,null,null,"最高記録"]
["備　  考","※記入不要",null,null,null,null,null,null,null,null,null,null,null,"備　  考","※記入不要"]
[]
["※標準記録突破大会は、公認大会で、記録会は正式名称を記入。",null,null,null,null,null,null,null,null,null,"女子は",null,null,"※標準記録突破大会は、公認大会で、記録会は正式名称を記入。",null,null,null,null,null,null,null,null,null,"女子は"]
["※参加資格・記録等記入不備の場合、審査の対象としない。",null,null,null,null,null,null,null,null,null,"ここを",null,null,"※参加資格・記録等記入不備の場合、審査の対象としない。",null,null,null,null,null,null,null,null,null,"ここを"]
["※申込締切期日厳守。",null,null,null,null,null,null,null,null,null,"切り取る",null,null,"※申込締切期日厳守。",null,null,null,null,null,null,null,null,null,"切り取る"]
[]
[]
[{"$f":"A1","v":"第77回愛知陸上競技選手権大会　個人申込票"},null,null,null,null,null,null,null,null,null,null,19,null,{"$f":"A1","v":"第77回愛知陸上競技選手権大会　個人申込票"},null,null,null,null,null,null,null,null,null,null,19]
[null,null,null,"",null,null,null,null,null,"資格審査用",null,null,null,null,null,null,"",null,null,null,null,null,"資格審査用"]
[null,"性　　別",null,{"$f":"IF(③選手情報入力!H28=\"\",\"\",③選手情報入力!H28)","v":""},null,null,null,{"$f":"IF(③選手情報入力!K28=\"\",\"\",③選手情報入力!K28)","v":""},null,null,null,null,null,null,"性　　別",null,{"$f":"IF(③選手情報入力!L28=\"\",\"\",③選手情報入力!L28)","v":""},null,null,null,{"$f":"IF(③選手情報入力!O28=\"\",\"\",③選手情報入力!O28)","v":""}]
["種  目",{"$f":"IF(③選手情報入力!$F$28=\"\",\"\",③選手情報入力!$F$28)","v":""},null,null,null,null,null,null,null,null,null,null,null,"種  目",{"$f":"IF(③選手情報入力!$F$28=\"\",\"\",③選手情報入力!$F$28)","v":""}]
[]
["ナンバー",null,"ﾌ ﾘ ｶﾞﾅ",{"$f":"IF(③選手情報入力!$D$28=\"\",\"\",③選手情報入力!$D$28)","v":""},null,null,null,null,null,null,null,null,null,"ナンバー",null,"ﾌ ﾘ ｶﾞﾅ",{"$f":"IF(③選手情報入力!$D$28=\"\",\"\",③選手情報入力!$D$28)","v":""}]
[{"$f":"IF(③選手情報入力!$B$28=\"\",\"\",③選手情報入力!$B$28)","v":""},null,"氏 名",{"$f":"IF(③選手情報入力!$C$28=\"\",\"\",③選手情報入力!$C$28)","v":""},null,null,null,null,null,null,null,null,null,{"$f":"IF(③選手情報入力!$B$28=\"\",\"\",③選手情報入力!$B$28)","v":""},null,"氏 名",{"$f":"IF(③選手情報入力!$C$28=\"\",\"\",③選手情報入力!$C$28)","v":""}]
[]
["出場資格\n取得大会","大　会　名",null,null,null,"加入団体名",null,{"$f":"②団体情報入力!$D$5","v":""},null,null,null,null,null,"出場資格\n取得大会","大　会　名",null,null,null,"加入団体名",null,{"$f":"②団体情報入力!$D$5","v":""}]
[null,null,null,null,null,"年.月.日","順 位",null,"記　録",null,"場  所",null,null,null,null,null,null,null,"年.月.日","順 位",null,"記　録",null,"場  所"]
[null,null,null,null,null,null,null,null,{"$f":"IF(③選手情報入力!I28=\"\",\"\",③選手情報入力!I28)","v":""},null,null,null,null,null,null,null,null,null,null,null,null,{"$f":"IF(③選手情報入力!M28=\"\",\"\",③選手情報入力!M28)","v":""}]
[]
["本 年 度",null,null,null,null,null,null,null,{"$f":"IF(③選手情報入力!J28=\"\",\"同上\",③選手情報入力!J28)","v":"同上"},null,null,null,null,"本 年 度",null,null,null,null,null,null,null,{"$f":"IF(③選手情報入力!N28=\"\",\"同上\",③選手情報入力!N28)","v":"同上"}]
["最高記録",null,null,null,null,null,null,null,null,null,null,null,null,"最高記録"]
["備　  考","※記入不要",null,null,null,null,null,null,null,null,null,null,null,"備　  考","※記入不要"]
[]
["※標準記録突破大会は、公認大会で、記録会は正式名称を記入。",null,null,null,null,null,null,null,null,null,"女子は",null,null,"※標準記録突破大会は、公認大会で、記録会は正式名称を記入。",null,null,null,null,null,null,null,null,null,"女子は"]
["※参加資格・記録等記入不備の場合、審査の対象としない。",null,null,null,null,null,null,null,null,null,"ここを",null,null,"※参加資格・記録等記入不備の場合、審査の対象としない。",null,null,null,null,null,null,null,null,null,"ここを"]
["※申込締切期日厳守。",null,null,null,null,null,null,null,null,null,"切り取る",null,null,"※申込締切期日厳守。",null,null,null,null,null,null,null,null,null,"切り取る"]
[]
[]
[{"$f":"A1","v":"第77回愛知陸上競技選手権大会　個人申込票"},null,null,null,null,null,null,null,null,null,null,20,null,{"$f":"A1","v":"第77回愛知陸上競技選手権大会　個人申込票"},null,null,null,null,null,null,null,null,null,null,20]
[null,null,null,"",null,null,null,null,null,"資格審査用",null,null,null,null,null,null,"",null,null,null,null,null,"資格審査用"]
[null,"性　　別",null,{"$f":"IF(③選手情報入力!H29=\"\",\"\",③選手情報入力!H29)","v":""},null,null,null,{"$f":"IF(③選手情報入力!K29=\"\",\"\",③選手情報入力!K29)","v":""},null,null,null,null,null,null,"性　　別",null,{"$f":"IF(③選手情報入力!L29=\"\",\"\",③選手情報入力!L29)","v":""},null,null,null,{"$f":"IF(③選手情報入力!O29=\"\",\"\",③選手情報入力!O29)","v":""}]
["種  目",{"$f":"IF(③選手情報入力!$F$29=\"\",\"\",③選手情報入力!$F$29)","v":""},null,null,null,null,null,null,null,null,null,null,null,"種  目",{"$f":"IF(③選手情報入力!$F$29=\"\",\"\",③選手情報入力!$F$29)","v":""}]
[]
["ナンバー",null,"ﾌ ﾘ ｶﾞﾅ",{"$f":"IF(③選手情報入力!$D$29=\"\",\"\",③選手情報入力!$D$29)","v":""},null,null,null,null,null,null,null,null,null,"ナンバー",null,"ﾌ ﾘ ｶﾞﾅ",{"$f":"IF(③選手情報入力!$D$29=\"\",\"\",③選手情報入力!$D$29)","v":""}]
[{"$f":"IF(③選手情報入力!$B$29=\"\",\"\",③選手情報入力!$B$29)","v":""},null,"氏 名",{"$f":"IF(③選手情報入力!$C$29=\"\",\"\",③選手情報入力!$C$29)","v":""},null,null,null,null,null,null,null,null,null,{"$f":"IF(③選手情報入力!$B$29=\"\",\"\",③選手情報入力!$B$29)","v":""},null,"氏 名",{"$f":"IF(③選手情報入力!$C$29=\"\",\"\",③選手情報入力!$C$29)","v":""}]
[]
["出場資格\n取得大会","大　会　名",null,null,null,"加入団体名",null,{"$f":"②団体情報入力!$D$5","v":""},null,null,null,null,null,"出場資格\n取得大会","大　会　名",null,null,null,"加入団体名",null,{"$f":"②団体情報入力!$D$5","v":""}]
[null,null,null,null,null,"年.月.日","順 位",null,"記　録",null,"場  所",null,null,null,null,null,null,null,"年.月.日","順 位",null,"記　録",null,"場  所"]
[null,null,null,null,null,null,null,null,{"$f":"IF(③選手情報入力!I29=\"\",\"\",③選手情報入力!I29)","v":""},null,null,null,null,null,null,null,null,null,null,null,null,{"$f":"IF(③選手情報入力!M29=\"\",\"\",③選手情報入力!M29)","v":""}]
[]
["本 年 度",null,null,null,null,null,null,null,{"$f":"IF(③選手情報入力!J29=\"\",\"同上\",③選手情報入力!J29)","v":"同上"},null,null,null,null,"本 年 度",null,null,null,null,null,null,null,{"$f":"IF(③選手情報入力!N29=\"\",\"同上\",③選手情報入力!N29)","v":"同上"}]
["最高記録",null,null,null,null,null,null,null,null,null,null,null,null,"最高記録"]
["備　  考","※記入不要",null,null,null,null,null,null,null,null,null,null,null,"備　  考","※記入不要"]
[]
["※標準記録突破大会は、公認大会で、記録会は正式名称を記入。",null,null,null,null,null,null,null,null,null,"女子は",null,null,"※標準記録突破大会は、公認大会で、記録会は正式名称を記入。",null,null,null,null,null,null,null,null,null,"女子は"]
["※参加資格・記録等記入不備の場合、審査の対象としない。",null,null,null,null,null,null,null,null,null,"ここを",null,null,"※参加資格・記録等記入不備の場合、審査の対象としない。",null,null,null,null,null,null,null,null,null,"ここを"]
["※申込締切期日厳守。",null,null,null,null,null,null,null,null,null,"切り取る",null,null,"※申込締切期日厳守。",null,null,null,null,null,null,null,null,null,"切り取る"]
[]
[]
[{"$f":"A1","v":"第77回愛知陸上競技選手権大会　個人申込票"},null,null,null,null,null,null,null,null,null,null,21,null,{"$f":"A1","v":"第77回愛知陸上競技選手権大会　個人申込票"},null,null,null,null,null,null,null,null,null,null,21]
[null,null,null,"",null,null,null,null,null,"資格審査用",null,null,null,null,null,null,"",null,null,null,null,null,"資格審査用"]
[null,"性　　別",null,{"$f":"IF(③選手情報入力!H30=\"\",\"\",③選手情報入力!H30)","v":""},null,null,null,{"$f":"IF(③選手情報入力!K30=\"\",\"\",③選手情報入力!K30)","v":""},null,null,null,null,null,null,"性　　別",null,{"$f":"IF(③選手情報入力!L30=\"\",\"\",③選手情報入力!L30)","v":""},null,null,null,{"$f":"IF(③選手情報入力!O30=\"\",\"\",③選手情報入力!O30)","v":""}]
["種  目",{"$f":"IF(③選手情報入力!$F$30=\"\",\"\",③選手情報入力!$F$30)","v":""},null,null,null,null,null,null,null,null,null,null,null,"種  目",{"$f":"IF(③選手情報入力!$F$30=\"\",\"\",③選手情報入力!$F$30)","v":""}]
[]
["ナンバー",null,"ﾌ ﾘ ｶﾞﾅ",{"$f":"IF(③選手情報入力!$D$30=\"\",\"\",③選手情報入力!$D$30)","v":""},null,null,null,null,null,null,null,null,null,"ナンバー",null,"ﾌ ﾘ ｶﾞﾅ",{"$f":"IF(③選手情報入力!$D$30=\"\",\"\",③選手情報入力!$D$30)","v":""}]
[{"$f":"IF(③選手情報入力!$B$30=\"\",\"\",③選手情報入力!$B$30)","v":""},null,"氏 名",{"$f":"IF(③選手情報入力!$C$30=\"\",\"\",③選手情報入力!$C$30)","v":""},null,null,null,null,null,null,null,null,null,{"$f":"IF(③選手情報入力!$B$30=\"\",\"\",③選手情報入力!$B$30)","v":""},null,"氏 名",{"$f":"IF(③選手情報入力!$C$30=\"\",\"\",③選手情報入力!$C$30)","v":""}]
[]
["出場資格\n取得大会","大　会　名",null,null,null,"加入団体名",null,{"$f":"②団体情報入力!$D$5","v":""},null,null,null,null,null,"出場資格\n取得大会","大　会　名",null,null,null,"加入団体名",null,{"$f":"②団体情報入力!$D$5","v":""}]
[null,null,null,null,null,"年.月.日","順 位",null,"記　録",null,"場  所",null,null,null,null,null,null,null,"年.月.日","順 位",null,"記　録",null,"場  所"]
[null,null,null,null,null,null,null,null,{"$f":"IF(③選手情報入力!I30=\"\",\"\",③選手情報入力!I30)","v":""},null,null,null,null,null,null,null,null,null,null,null,null,{"$f":"IF(③選手情報入力!M30=\"\",\"\",③選手情報入力!M30)","v":""}]
[]
["本 年 度",null,null,null,null,null,null,null,{"$f":"IF(③選手情報入力!J30=\"\",\"同上\",③選手情報入力!J30)","v":"同上"},null,null,null,null,"本 年 度",null,null,null,null,null,null,null,{"$f":"IF(③選手情報入力!N30=\"\",\"同上\",③選手情報入力!N30)","v":"同上"}]
["最高記録",null,null,null,null,null,null,null,null,null,null,null,null,"最高記録"]
["備　  考","※記入不要",null,null,null,null,null,null,null,null,null,null,null,"備　  考","※記入不要"]
[]
["※標準記録突破大会は、公認大会で、記録会は正式名称を記入。",null,null,null,null,null,null,null,null,null,"女子は",null,null,"※標準記録突破大会は、公認大会で、記録会は正式名称を記入。",null,null,null,null,null,null,null,null,null,"女子は"]
["※参加資格・記録等記入不備の場合、審査の対象としない。",null,null,null,null,null,null,null,null,null,"ここを",null,null,"※参加資格・記録等記入不備の場合、審査の対象としない。",null,null,null,null,null,null,null,null,null,"ここを"]
["※申込締切期日厳守。",null,null,null,null,null,null,null,null,null,"切り取る",null,null,"※申込締切期日厳守。",null,null,null,null,null,null,null,null,null,"切り取る"]
[]
[]
[{"$f":"A1","v":"第77回愛知陸上競技選手権大会　個人申込票"},null,null,null,null,null,null,null,null,null,null,22,null,{"$f":"A1","v":"第77回愛知陸上競技選手権大会　個人申込票"},null,null,null,null,null,null,null,null,null,null,22]
[null,null,null,"",null,null,null,null,null,"資格審査用",null,null,null,null,null,null,"",null,null,null,null,null,"資格審査用"]
[null,"性　　別",null,{"$f":"IF(③選手情報入力!H31=\"\",\"\",③選手情報入力!H31)","v":""},null,null,null,{"$f":"IF(③選手情報入力!K31=\"\",\"\",③選手情報入力!K31)","v":""},null,null,null,null,null,null,"性　　別",null,{"$f":"IF(③選手情報入力!L31=\"\",\"\",③選手情報入力!L31)","v":""},null,null,null,{"$f":"IF(③選手情報入力!O31=\"\",\"\",③選手情報入力!O31)","v":""}]
["種  目",{"$f":"IF(③選手情報入力!$F$31=\"\",\"\",③選手情報入力!$F$31)","v":""},null,null,null,null,null,null,null,null,null,null,null,"種  目",{"$f":"IF(③選手情報入力!$F$31=\"\",\"\",③選手情報入力!$F$31)","v":""}]
[]
["ナンバー",null,"ﾌ ﾘ ｶﾞﾅ",{"$f":"IF(③選手情報入力!$D$31=\"\",\"\",③選手情報入力!$D$31)","v":""},null,null,null,null,null,null,null,null,null,"ナンバー",null,"ﾌ ﾘ ｶﾞﾅ",{"$f":"IF(③選手情報入力!$D$31=\"\",\"\",③選手情報入力!$D$31)","v":""}]
[{"$f":"IF(③選手情報入力!$B$31=\"\",\"\",③選手情報入力!$B$31)","v":""},null,"氏 名",{"$f":"IF(③選手情報入力!$C$31=\"\",\"\",③選手情報入力!$C$31)","v":""},null,null,null,null,null,null,null,null,null,{"$f":"IF(③選手情報入力!$B$31=\"\",\"\",③選手情報入力!$B$31)","v":""},null,"氏 名",{"$f":"IF(③選手情報入力!$C$31=\"\",\"\",③選手情報入力!$C$31)","v":""}]
[]
["出場資格\n取得大会","大　会　名",null,null,null,"加入団体名",null,{"$f":"②団体情報入力!$D$5","v":""},null,null,null,null,null,"出場資格\n取得大会","大　会　名",null,null,null,"加入団体名",null,{"$f":"②団体情報入力!$D$5","v":""}]
[null,null,null,null,null,"年.月.日","順 位",null,"記　録",null,"場  所",null,null,null,null,null,null,null,"年.月.日","順 位",null,"記　録",null,"場  所"]
[null,null,null,null,null,null,null,null,{"$f":"IF(③選手情報入力!I31=\"\",\"\",③選手情報入力!I31)","v":""},null,null,null,null,null,null,null,null,null,null,null,null,{"$f":"IF(③選手情報入力!M31=\"\",\"\",③選手情報入力!M31)","v":""}]
[]
["本 年 度",null,null,null,null,null,null,null,{"$f":"IF(③選手情報入力!J31=\"\",\"同上\",③選手情報入力!J31)","v":"同上"},null,null,null,null,"本 年 度",null,null,null,null,null,null,null,{"$f":"IF(③選手情報入力!N31=\"\",\"同上\",③選手情報入力!N31)","v":"同上"}]
["最高記録",null,null,null,null,null,null,null,null,null,null,null,null,"最高記録"]
["備　  考","※記入不要",null,null,null,null,null,null,null,null,null,null,null,"備　  考","※記入不要"]
[]
["※標準記録突破大会は、公認大会で、記録会は正式名称を記入。",null,null,null,null,null,null,null,null,null,"女子は",null,null,"※標準記録突破大会は、公認大会で、記録会は正式名称を記入。",null,null,null,null,null,null,null,null,null,"女子は"]
["※参加資格・記録等記入不備の場合、審査の対象としない。",null,null,null,null,null,null,null,null,null,"ここを",null,null,"※参加資格・記録等記入不備の場合、審査の対象としない。",null,null,null,null,null,null,null,null,null,"ここを"]
["※申込締切期日厳守。",null,null,null,null,null,null,null,null,null,"切り取る",null,null,"※申込締切期日厳守。",null,null,null,null,null,null,null,null,null,"切り取る"]
[]
[]
[{"$f":"A1","v":"第77回愛知陸上競技選手権大会　個人申込票"},null,null,null,null,null,null,null,null,null,null,23,null,{"$f":"A1","v":"第77回愛知陸上競技選手権大会　個人申込票"},null,null,null,null,null,null,null,null,null,null,23]
[null,null,null,"",null,null,null,null,null,"資格審査用",null,null,null,null,null,null,"",null,null,null,null,null,"資格審査用"]
[null,"性　　別",null,{"$f":"IF(③選手情報入力!H32=\"\",\"\",③選手情報入力!H32)","v":""},null,null,null,{"$f":"IF(③選手情報入力!K32=\"\",\"\",③選手情報入力!K32)","v":""},null,null,null,null,null,null,"性　　別",null,{"$f":"IF(③選手情報入力!L32=\"\",\"\",③選手情報入力!L32)","v":""},null,null,null,{"$f":"IF(③選手情報入力!O32=\"\",\"\",③選手情報入力!O32)","v":""}]
["種  目",{"$f":"IF(③選手情報入力!$F$32=\"\",\"\",③選手情報入力!$F$32)","v":""},null,null,null,null,null,null,null,null,null,null,null,"種  目",{"$f":"IF(③選手情報入力!$F$32=\"\",\"\",③選手情報入力!$F$32)","v":""}]
[]
["ナンバー",null,"ﾌ ﾘ ｶﾞﾅ",{"$f":"IF(③選手情報入力!$D$32=\"\",\"\",③選手情報入力!$D$32)","v":""},null,null,null,null,null,null,null,null,null,"ナンバー",null,"ﾌ ﾘ ｶﾞﾅ",{"$f":"IF(③選手情報入力!$D$32=\"\",\"\",③選手情報入力!$D$32)","v":""}]
[{"$f":"IF(③選手情報入力!$B$32=\"\",\"\",③選手情報入力!$B$32)","v":""},null,"氏 名",{"$f":"IF(③選手情報入力!$C$32=\"\",\"\",③選手情報入力!$C$32)","v":""},null,null,null,null,null,null,null,null,null,{"$f":"IF(③選手情報入力!$B$32=\"\",\"\",③選手情報入力!$B$32)","v":""},null,"氏 名",{"$f":"IF(③選手情報入力!$C$32=\"\",\"\",③選手情報入力!$C$32)","v":""}]
[]
["出場資格\n取得大会","大　会　名",null,null,null,"加入団体名",null,{"$f":"②団体情報入力!$D$5","v":""},null,null,null,null,null,"出場資格\n取得大会","大　会　名",null,null,null,"加入団体名",null,{"$f":"②団体情報入力!$D$5","v":""}]
[null,null,null,null,null,"年.月.日","順 位",null,"記　録",null,"場  所",null,null,null,null,null,null,null,"年.月.日","順 位",null,"記　録",null,"場  所"]
[null,null,null,null,null,null,null,null,{"$f":"IF(③選手情報入力!I32=\"\",\"\",③選手情報入力!I32)","v":""},null,null,null,null,null,null,null,null,null,null,null,null,{"$f":"IF(③選手情報入力!M32=\"\",\"\",③選手情報入力!M32)","v":""}]
[]
["本 年 度",null,null,null,null,null,null,null,{"$f":"IF(③選手情報入力!J32=\"\",\"同上\",③選手情報入力!J32)","v":"同上"},null,null,null,null,"本 年 度",null,null,null,null,null,null,null,{"$f":"IF(③選手情報入力!N32=\"\",\"同上\",③選手情報入力!N32)","v":"同上"}]
["最高記録",null,null,null,null,null,null,null,null,null,null,null,null,"最高記録"]
["備　  考","※記入不要",null,null,null,null,null,null,null,null,null,null,null,"備　  考","※記入不要"]
[]
["※標準記録突破大会は、公認大会で、記録会は正式名称を記入。",null,null,null,null,null,null,null,null,null,"女子は",null,null,"※標準記録突破大会は、公認大会で、記録会は正式名称を記入。",null,null,null,null,null,null,null,null,null,"女子は"]
["※参加資格・記録等記入不備の場合、審査の対象としない。",null,null,null,null,null,null,null,null,null,"ここを",null,null,"※参加資格・記録等記入不備の場合、審査の対象としない。",null,null,null,null,null,null,null,null,null,"ここを"]
["※申込締切期日厳守。",null,null,null,null,null,null,null,null,null,"切り取る",null,null,"※申込締切期日厳守。",null,null,null,null,null,null,null,null,null,"切り取る"]
[]
[]
[{"$f":"A1","v":"第77回愛知陸上競技選手権大会　個人申込票"},null,null,null,null,null,null,null,null,null,null,24,null,{"$f":"A1","v":"第77回愛知陸上競技選手権大会　個人申込票"},null,null,null,null,null,null,null,null,null,null,24]
[null,null,null,"",null,null,null,null,null,"資格審査用",null,null,null,null,null,null,"",null,null,null,null,null,"資格審査用"]
[null,"性　　別",null,{"$f":"IF(③選手情報入力!H33=\"\",\"\",③選手情報入力!H33)","v":""},null,null,null,{"$f":"IF(③選手情報入力!K33=\"\",\"\",③選手情報入力!K33)","v":""},null,null,null,null,null,null,"性　　別",null,{"$f":"IF(③選手情報入力!L33=\"\",\"\",③選手情報入力!L33)","v":""},null,null,null,{"$f":"IF(③選手情報入力!O33=\"\",\"\",③選手情報入力!O33)","v":""}]
["種  目",{"$f":"IF(③選手情報入力!$F$33=\"\",\"\",③選手情報入力!$F$33)","v":""},null,null,null,null,null,null,null,null,null,null,null,"種  目",{"$f":"IF(③選手情報入力!$F$33=\"\",\"\",③選手情報入力!$F$33)","v":""}]
[]
["ナンバー",null,"ﾌ ﾘ ｶﾞﾅ",{"$f":"IF(③選手情報入力!$D$33=\"\",\"\",③選手情報入力!$D$33)","v":""},null,null,null,null,null,null,null,null,null,"ナンバー",null,"ﾌ ﾘ ｶﾞﾅ",{"$f":"IF(③選手情報入力!$D$33=\"\",\"\",③選手情報入力!$D$33)","v":""}]
[{"$f":"IF(③選手情報入力!$B$33=\"\",\"\",③選手情報入力!$B$33)","v":""},null,"氏 名",{"$f":"IF(③選手情報入力!$C$33=\"\",\"\",③選手情報入力!$C$33)","v":""},null,null,null,null,null,null,null,null,null,{"$f":"IF(③選手情報入力!$B$33=\"\",\"\",③選手情報入力!$B$33)","v":""},null,"氏 名",{"$f":"IF(③選手情報入力!$C$33=\"\",\"\",③選手情報入力!$C$33)","v":""}]
[]
["出場資格\n取得大会","大　会　名",null,null,null,"加入団体名",null,{"$f":"②団体情報入力!$D$5","v":""},null,null,null,null,null,"出場資格\n取得大会","大　会　名",null,null,null,"加入団体名",null,{"$f":"②団体情報入力!$D$5","v":""}]
[null,null,null,null,null,"年.月.日","順 位",null,"記　録",null,"場  所",null,null,null,null,null,null,null,"年.月.日","順 位",null,"記　録",null,"場  所"]
[null,null,null,null,null,null,null,null,{"$f":"IF(③選手情報入力!I33=\"\",\"\",③選手情報入力!I33)","v":""},null,null,null,null,null,null,null,null,null,null,null,null,{"$f":"IF(③選手情報入力!M33=\"\",\"\",③選手情報入力!M33)","v":""}]
[]
["本 年 度",null,null,null,null,null,null,null,{"$f":"IF(③選手情報入力!J33=\"\",\"同上\",③選手情報入力!J33)","v":"同上"},null,null,null,null,"本 年 度",null,null,null,null,null,null,null,{"$f":"IF(③選手情報入力!N33=\"\",\"同上\",③選手情報入力!N33)","v":"同上"}]
["最高記録",null,null,null,null,null,null,null,null,null,null,null,null,"最高記録"]
["備　  考","※記入不要",null,null,null,null,null,null,null,null,null,null,null,"備　  考","※記入不要"]
[]
["※標準記録突破大会は、公認大会で、記録会は正式名称を記入。",null,null,null,null,null,null,null,null,null,"女子は",null,null,"※標準記録突破大会は、公認大会で、記録会は正式名称を記入。",null,null,null,null,null,null,null,null,null,"女子は"]
["※参加資格・記録等記入不備の場合、審査の対象としない。",null,null,null,null,null,null,null,null,null,"ここを",null,null,"※参加資格・記録等記入不備の場合、審査の対象としない。",null,null,null,null,null,null,null,null,null,"ここを"]
["※申込締切期日厳守。",null,null,null,null,null,null,null,null,null,"切り取る",null,null,"※申込締切期日厳守。",null,null,null,null,null,null,null,null,null,"切り取る"]
[]
[]
[{"$f":"A1","v":"第77回愛知陸上競技選手権大会　個人申込票"},null,null,null,null,null,null,null,null,null,null,25,null,{"$f":"A1","v":"第77回愛知陸上競技選手権大会　個人申込票"},null,null,null,null,null,null,null,null,null,null,25]
[null,null,null,"",null,null,null,null,null,"資格審査用",null,null,null,null,null,null,"",null,null,null,null,null,"資格審査用"]
[null,"性　　別",null,{"$f":"IF(③選手情報入力!H34=\"\",\"\",③選手情報入力!H34)","v":""},null,null,null,{"$f":"IF(③選手情報入力!K34=\"\",\"\",③選手情報入力!K34)","v":""},null,null,null,null,null,null,"性　　別",null,{"$f":"IF(③選手情報入力!L34=\"\",\"\",③選手情報入力!L34)","v":""},null,null,null,{"$f":"IF(③選手情報入力!O34=\"\",\"\",③選手情報入力!O34)","v":""}]
["種  目",{"$f":"IF(③選手情報入力!$F$34=\"\",\"\",③選手情報入力!$F$34)","v":""},null,null,null,null,null,null,null,null,null,null,null,"種  目",{"$f":"IF(③選手情報入力!$F$34=\"\",\"\",③選手情報入力!$F$34)","v":""}]
[]
["ナンバー",null,"ﾌ ﾘ ｶﾞﾅ",{"$f":"IF(③選手情報入力!$D$34=\"\",\"\",③選手情報入力!$D$34)","v":""},null,null,null,null,null,null,null,null,null,"ナンバー",null,"ﾌ ﾘ ｶﾞﾅ",{"$f":"IF(③選手情報入力!$D$34=\"\",\"\",③選手情報入力!$D$34)","v":""}]
[{"$f":"IF(③選手情報入力!$B$34=\"\",\"\",③選手情報入力!$B$34)","v":""},null,"氏 名",{"$f":"IF(③選手情報入力!$C$34=\"\",\"\",③選手情報入力!$C$34)","v":""},null,null,null,null,null,null,null,null,null,{"$f":"IF(③選手情報入力!$B$34=\"\",\"\",③選手情報入力!$B$34)","v":""},null,"氏 名",{"$f":"IF(③選手情報入力!$C$34=\"\",\"\",③選手情報入力!$C$34)","v":""}]
[]
["出場資格\n取得大会","大　会　名",null,null,null,"加入団体名",null,{"$f":"②団体情報入力!$D$5","v":""},null,null,null,null,null,"出場資格\n取得大会","大　会　名",null,null,null,"加入団体名",null,{"$f":"②団体情報入力!$D$5","v":""}]
[null,null,null,null,null,"年.月.日","順 位",null,"記　録",null,"場  所",null,null,null,null,null,null,null,"年.月.日","順 位",null,"記　録",null,"場  所"]
[null,null,null,null,null,null,null,null,{"$f":"IF(③選手情報入力!I34=\"\",\"\",③選手情報入力!I34)","v":""},null,null,null,null,null,null,null,null,null,null,null,null,{"$f":"IF(③選手情報入力!M34=\"\",\"\",③選手情報入力!M34)","v":""}]
[]
["本 年 度",null,null,null,null,null,null,null,{"$f":"IF(③選手情報入力!J34=\"\",\"同上\",③選手情報入力!J34)","v":"同上"},null,null,null,null,"本 年 度",null,null,null,null,null,null,null,{"$f":"IF(③選手情報入力!N34=\"\",\"同上\",③選手情報入力!N34)","v":"同上"}]
["最高記録",null,null,null,null,null,null,null,null,null,null,null,null,"最高記録"]
["備　  考","※記入不要",null,null,null,null,null,null,null,null,null,null,null,"備　  考","※記入不要"]
[]
["※標準記録突破大会は、公認大会で、記録会は正式名称を記入。",null,null,null,null,null,null,null,null,null,"女子は",null,null,"※標準記録突破大会は、公認大会で、記録会は正式名称を記入。",null,null,null,null,null,null,null,null,null,"女子は"]
["※参加資格・記録等記入不備の場合、審査の対象としない。",null,null,null,null,null,null,null,null,null,"ここを",null,null,"※参加資格・記録等記入不備の場合、審査の対象としない。",null,null,null,null,null,null,null,null,null,"ここを"]
["※申込締切期日厳守。",null,null,null,null,null,null,null,null,null,"切り取る",null,null,"※申込締切期日厳守。",null,null,null,null,null,null,null,null,null,"切り取る"]
[]
[]
[{"$f":"A1","v":"第77回愛知陸上競技選手権大会　個人申込票"},null,null,null,null,null,null,null,null,null,null,26,null,{"$f":"A1","v":"第77回愛知陸上競技選手権大会　個人申込票"},null,null,null,null,null,null,null,null,null,null,26]
[null,null,null,"",null,null,null,null,null,"資格審査用",null,null,null,null,null,null,"",null,null,null,null,null,"資格審査用"]
[null,"性　　別",null,{"$f":"IF(③選手情報入力!H35=\"\",\"\",③選手情報入力!H35)","v":""},null,null,null,{"$f":"IF(③選手情報入力!K35=\"\",\"\",③選手情報入力!K35)","v":""},null,null,null,null,null,null,"性　　別",null,{"$f":"IF(③選手情報入力!L35=\"\",\"\",③選手情報入力!L35)","v":""},null,null,null,{"$f":"IF(③選手情報入力!O35=\"\",\"\",③選手情報入力!O35)","v":""}]
["種  目",{"$f":"IF(③選手情報入力!$F$35=\"\",\"\",③選手情報入力!$F$35)","v":""},null,null,null,null,null,null,null,null,null,null,null,"種  目",{"$f":"IF(③選手情報入力!$F$35=\"\",\"\",③選手情報入力!$F$35)","v":""}]
[]
["ナンバー",null,"ﾌ ﾘ ｶﾞﾅ",{"$f":"IF(③選手情報入力!$D$35=\"\",\"\",③選手情報入力!$D$35)","v":""},null,null,null,null,null,null,null,null,null,"ナンバー",null,"ﾌ ﾘ ｶﾞﾅ",{"$f":"IF(③選手情報入力!$D$35=\"\",\"\",③選手情報入力!$D$35)","v":""}]
[{"$f":"IF(③選手情報入力!$B$35=\"\",\"\",③選手情報入力!$B$35)","v":""},null,"氏 名",{"$f":"IF(③選手情報入力!$C$35=\"\",\"\",③選手情報入力!$C$35)","v":""},null,null,null,null,null,null,null,null,null,{"$f":"IF(③選手情報入力!$B$35=\"\",\"\",③選手情報入力!$B$35)","v":""},null,"氏 名",{"$f":"IF(③選手情報入力!$C$35=\"\",\"\",③選手情報入力!$C$35)","v":""}]
[]
["出場資格\n取得大会","大　会　名",null,null,null,"加入団体名",null,{"$f":"②団体情報入力!$D$5","v":""},null,null,null,null,null,"出場資格\n取得大会","大　会　名",null,null,null,"加入団体名",null,{"$f":"②団体情報入力!$D$5","v":""}]
[null,null,null,null,null,"年.月.日","順 位",null,"記　録",null,"場  所",null,null,null,null,null,null,null,"年.月.日","順 位",null,"記　録",null,"場  所"]
[null,null,null,null,null,null,null,null,{"$f":"IF(③選手情報入力!I35=\"\",\"\",③選手情報入力!I35)","v":""},null,null,null,null,null,null,null,null,null,null,null,null,{"$f":"IF(③選手情報入力!M35=\"\",\"\",③選手情報入力!M35)","v":""}]
[]
["本 年 度",null,null,null,null,null,null,null,{"$f":"IF(③選手情報入力!J35=\"\",\"同上\",③選手情報入力!J35)","v":"同上"},null,null,null,null,"本 年 度",null,null,null,null,null,null,null,{"$f":"IF(③選手情報入力!N35=\"\",\"同上\",③選手情報入力!N35)","v":"同上"}]
["最高記録",null,null,null,null,null,null,null,null,null,null,null,null,"最高記録"]
["備　  考","※記入不要",null,null,null,null,null,null,null,null,null,null,null,"備　  考","※記入不要"]
[]
["※標準記録突破大会は、公認大会で、記録会は正式名称を記入。",null,null,null,null,null,null,null,null,null,"女子は",null,null,"※標準記録突破大会は、公認大会で、記録会は正式名称を記入。",null,null,null,null,null,null,null,null,null,"女子は"]
["※参加資格・記録等記入不備の場合、審査の対象としない。",null,null,null,null,null,null,null,null,null,"ここを",null,null,"※参加資格・記録等記入不備の場合、審査の対象としない。",null,null,null,null,null,null,null,null,null,"ここを"]
["※申込締切期日厳守。",null,null,null,null,null,null,null,null,null,"切り取る",null,null,"※申込締切期日厳守。",null,null,null,null,null,null,null,null,null,"切り取る"]
[]
[]
[{"$f":"A1","v":"第77回愛知陸上競技選手権大会　個人申込票"},null,null,null,null,null,null,null,null,null,null,27,null,{"$f":"A1","v":"第77回愛知陸上競技選手権大会　個人申込票"},null,null,null,null,null,null,null,null,null,null,27]
[null,null,null,"",null,null,null,null,null,"資格審査用",null,null,null,null,null,null,"",null,null,null,null,null,"資格審査用"]
[null,"性　　別",null,{"$f":"IF(③選手情報入力!H36=\"\",\"\",③選手情報入力!H36)","v":""},null,null,null,{"$f":"IF(③選手情報入力!K36=\"\",\"\",③選手情報入力!K36)","v":""},null,null,null,null,null,null,"性　　別",null,{"$f":"IF(③選手情報入力!L36=\"\",\"\",③選手情報入力!L36)","v":""},null,null,null,{"$f":"IF(③選手情報入力!O36=\"\",\"\",③選手情報入力!O36)","v":""}]
["種  目",{"$f":"IF(③選手情報入力!$F$36=\"\",\"\",③選手情報入力!$F$36)","v":""},null,null,null,null,null,null,null,null,null,null,null,"種  目",{"$f":"IF(③選手情報入力!$F$36=\"\",\"\",③選手情報入力!$F$36)","v":""}]
[]
["ナンバー",null,"ﾌ ﾘ ｶﾞﾅ",{"$f":"IF(③選手情報入力!$D$36=\"\",\"\",③選手情報入力!$D$36)","v":""},null,null,null,null,null,null,null,null,null,"ナンバー",null,"ﾌ ﾘ ｶﾞﾅ",{"$f":"IF(③選手情報入力!$D$36=\"\",\"\",③選手情報入力!$D$36)","v":""}]
[{"$f":"IF(③選手情報入力!$B$36=\"\",\"\",③選手情報入力!$B$36)","v":""},null,"氏 名",{"$f":"IF(③選手情報入力!$C$36=\"\",\"\",③選手情報入力!$C$36)","v":""},null,null,null,null,null,null,null,null,null,{"$f":"IF(③選手情報入力!$B$36=\"\",\"\",③選手情報入力!$B$36)","v":""},null,"氏 名",{"$f":"IF(③選手情報入力!$C$36=\"\",\"\",③選手情報入力!$C$36)","v":""}]
[]
["出場資格\n取得大会","大　会　名",null,null,null,"加入団体名",null,{"$f":"②団体情報入力!$D$5","v":""},null,null,null,null,null,"出場資格\n取得大会","大　会　名",null,null,null,"加入団体名",null,{"$f":"②団体情報入力!$D$5","v":""}]
[null,null,null,null,null,"年.月.日","順 位",null,"記　録",null,"場  所",null,null,null,null,null,null,null,"年.月.日","順 位",null,"記　録",null,"場  所"]
[null,null,null,null,null,null,null,null,{"$f":"IF(③選手情報入力!I36=\"\",\"\",③選手情報入力!I36)","v":""},null,null,null,null,null,null,null,null,null,null,null,null,{"$f":"IF(③選手情報入力!M36=\"\",\"\",③選手情報入力!M36)","v":""}]
[]
["本 年 度",null,null,null,null,null,null,null,{"$f":"IF(③選手情報入力!J36=\"\",\"同上\",③選手情報入力!J36)","v":"同上"},null,null,null,null,"本 年 度",null,null,null,null,null,null,null,{"$f":"IF(③選手情報入力!N36=\"\",\"同上\",③選手情報入力!N36)","v":"同上"}]
["最高記録",null,null,null,null,null,null,null,null,null,null,null,null,"最高記録"]
["備　  考","※記入不要",null,null,null,null,null,null,null,null,null,null,null,"備　  考","※記入不要"]
[]
["※標準記録突破大会は、公認大会で、記録会は正式名称を記入。",null,null,null,null,null,null,null,null,null,"女子は",null,null,"※標準記録突破大会は、公認大会で、記録会は正式名称を記入。",null,null,null,null,null,null,null,null,null,"女子は"]
["※参加資格・記録等記入不備の場合、審査の対象としない。",null,null,null,null,null,null,null,null,null,"ここを",null,null,"※参加資格・記録等記入不備の場合、審査の対象としない。",null,null,null,null,null,null,null,null,null,"ここを"]
["※申込締切期日厳守。",null,null,null,null,null,null,null,null,null,"切り取る",null,null,"※申込締切期日厳守。",null,null,null,null,null,null,null,null,null,"切り取る"]
[]
[]
[{"$f":"A1","v":"第77回愛知陸上競技選手権大会　個人申込票"},null,null,null,null,null,null,null,null,null,null,28,null,{"$f":"A1","v":"第77回愛知陸上競技選手権大会　個人申込票"},null,null,null,null,null,null,null,null,null,null,28]
[null,null,null,"",null,null,null,null,null,"資格審査用",null,null,null,null,null,null,"",null,null,null,null,null,"資格審査用"]
[null,"性　　別",null,{"$f":"IF(③選手情報入力!H37=\"\",\"\",③選手情報入力!H37)","v":""},null,null,null,{"$f":"IF(③選手情報入力!K37=\"\",\"\",③選手情報入力!K37)","v":""},null,null,null,null,null,null,"性　　別",null,{"$f":"IF(③選手情報入力!L37=\"\",\"\",③選手情報入力!L37)","v":""},null,null,null,{"$f":"IF(③選手情報入力!O37=\"\",\"\",③選手情報入力!O37)","v":""}]
["種  目",{"$f":"IF(③選手情報入力!$F$37=\"\",\"\",③選手情報入力!$F$37)","v":""},null,null,null,null,null,null,null,null,null,null,null,"種  目",{"$f":"IF(③選手情報入力!$F$37=\"\",\"\",③選手情報入力!$F$37)","v":""}]
[]
["ナンバー",null,"ﾌ ﾘ ｶﾞﾅ",{"$f":"IF(③選手情報入力!$D$37=\"\",\"\",③選手情報入力!$D$37)","v":""},null,null,null,null,null,null,null,null,null,"ナンバー",null,"ﾌ ﾘ ｶﾞﾅ",{"$f":"IF(③選手情報入力!$D$37=\"\",\"\",③選手情報入力!$D$37)","v":""}]
[{"$f":"IF(③選手情報入力!$B$37=\"\",\"\",③選手情報入力!$B$37)","v":""},null,"氏 名",{"$f":"IF(③選手情報入力!$C$37=\"\",\"\",③選手情報入力!$C$37)","v":""},null,null,null,null,null,null,null,null,null,{"$f":"IF(③選手情報入力!$B$37=\"\",\"\",③選手情報入力!$B$37)","v":""},null,"氏 名",{"$f":"IF(③選手情報入力!$C$37=\"\",\"\",③選手情報入力!$C$37)","v":""}]
[]
["出場資格\n取得大会","大　会　名",null,null,null,"加入団体名",null,{"$f":"②団体情報入力!$D$5","v":""},null,null,null,null,null,"出場資格\n取得大会","大　会　名",null,null,null,"加入団体名",null,{"$f":"②団体情報入力!$D$5","v":""}]
[null,null,null,null,null,"年.月.日","順 位",null,"記　録",null,"場  所",null,null,null,null,null,null,null,"年.月.日","順 位",null,"記　録",null,"場  所"]
[null,null,null,null,null,null,null,null,{"$f":"IF(③選手情報入力!I37=\"\",\"\",③選手情報入力!I37)","v":""},null,null,null,null,null,null,null,null,null,null,null,null,{"$f":"IF(③選手情報入力!M37=\"\",\"\",③選手情報入力!M37)","v":""}]
[]
["本 年 度",null,null,null,null,null,null,null,{"$f":"IF(③選手情報入力!J37=\"\",\"同上\",③選手情報入力!J37)","v":"同上"},null,null,null,null,"本 年 度",null,null,null,null,null,null,null,{"$f":"IF(③選手情報入力!N37=\"\",\"同上\",③選手情報入力!N37)","v":"同上"}]
["最高記録",null,null,null,null,null,null,null,null,null,null,null,null,"最高記録"]
["備　  考","※記入不要",null,null,null,null,null,null,null,null,null,null,null,"備　  考","※記入不要"]
[]
["※標準記録突破大会は、公認大会で、記録会は正式名称を記入。",null,null,null,null,null,null,null,null,null,"女子は",null,null,"※標準記録突破大会は、公認大会で、記録会は正式名称を記入。",null,null,null,null,null,null,null,null,null,"女子は"]
["※参加資格・記録等記入不備の場合、審査の対象としない。",null,null,null,null,null,null,null,null,null,"ここを",null,null,"※参加資格・記録等記入不備の場合、審査の対象としない。",null,null,null,null,null,null,null,null,null,"ここを"]
["※申込締切期日厳守。",null,null,null,null,null,null,null,null,null,"切り取る",null,null,"※申込締切期日厳守。",null,null,null,null,null,null,null,null,null,"切り取る"]
[]
[]
[{"$f":"A1","v":"第77回愛知陸上競技選手権大会　個人申込票"},null,null,null,null,null,null,null,null,null,null,29,null,{"$f":"A1","v":"第77回愛知陸上競技選手権大会　個人申込票"},null,null,null,null,null,null,null,null,null,null,29]
[null,null,null,"",null,null,null,null,null,"資格審査用",null,null,null,null,null,null,"",null,null,null,null,null,"資格審査用"]
[null,"性　　別",null,{"$f":"IF(③選手情報入力!H38=\"\",\"\",③選手情報入力!H38)","v":""},null,null,null,{"$f":"IF(③選手情報入力!K38=\"\",\"\",③選手情報入力!K38)","v":""},null,null,null,null,null,null,"性　　別",null,{"$f":"IF(③選手情報入力!L38=\"\",\"\",③選手情報入力!L38)","v":""},null,null,null,{"$f":"IF(③選手情報入力!O38=\"\",\"\",③選手情報入力!O38)","v":""}]
["種  目",{"$f":"IF(③選手情報入力!$F$38=\"\",\"\",③選手情報入力!$F$38)","v":""},null,null,null,null,null,null,null,null,null,null,null,"種  目",{"$f":"IF(③選手情報入力!$F$38=\"\",\"\",③選手情報入力!$F$38)","v":""}]
[]
["ナンバー",null,"ﾌ ﾘ ｶﾞﾅ",{"$f":"IF(③選手情報入力!$D$38=\"\",\"\",③選手情報入力!$D$38)","v":""},null,null,null,null,null,null,null,null,null,"ナンバー",null,"ﾌ ﾘ ｶﾞﾅ",{"$f":"IF(③選手情報入力!$D$38=\"\",\"\",③選手情報入力!$D$38)","v":""}]
[{"$f":"IF(③選手情報入力!$B$38=\"\",\"\",③選手情報入力!$B$38)","v":""},null,"氏 名",{"$f":"IF(③選手情報入力!$C$38=\"\",\"\",③選手情報入力!$C$38)","v":""},null,null,null,null,null,null,null,null,null,{"$f":"IF(③選手情報入力!$B$38=\"\",\"\",③選手情報入力!$B$38)","v":""},null,"氏 名",{"$f":"IF(③選手情報入力!$C$38=\"\",\"\",③選手情報入力!$C$38)","v":""}]
[]
["出場資格\n取得大会","大　会　名",null,null,null,"加入団体名",null,{"$f":"②団体情報入力!$D$5","v":""},null,null,null,null,null,"出場資格\n取得大会","大　会　名",null,null,null,"加入団体名",null,{"$f":"②団体情報入力!$D$5","v":""}]
[null,null,null,null,null,"年.月.日","順 位",null,"記　録",null,"場  所",null,null,null,null,null,null,null,"年.月.日","順 位",null,"記　録",null,"場  所"]
[null,null,null,null,null,null,null,null,{"$f":"IF(③選手情報入力!I38=\"\",\"\",③選手情報入力!I38)","v":""},null,null,null,null,null,null,null,null,null,null,null,null,{"$f":"IF(③選手情報入力!M38=\"\",\"\",③選手情報入力!M38)","v":""}]
[]
["本 年 度",null,null,null,null,null,null,null,{"$f":"IF(③選手情報入力!J38=\"\",\"同上\",③選手情報入力!J38)","v":"同上"},null,null,null,null,"本 年 度",null,null,null,null,null,null,null,{"$f":"IF(③選手情報入力!N38=\"\",\"同上\",③選手情報入力!N38)","v":"同上"}]
["最高記録",null,null,null,null,null,null,null,null,null,null,null,null,"最高記録"]
["備　  考","※記入不要",null,null,null,null,null,null,null,null,null,null,null,"備　  考","※記入不要"]
[]
["※標準記録突破大会は、公認大会で、記録会は正式名称を記入。",null,null,null,null,null,null,null,null,null,"女子は",null,null,"※標準記録突破大会は、公認大会で、記録会は正式名称を記入。",null,null,null,null,null,null,null,null,null,"女子は"]
["※参加資格・記録等記入不備の場合、審査の対象としない。",null,null,null,null,null,null,null,null,null,"ここを",null,null,"※参加資格・記録等記入不備の場合、審査の対象としない。",null,null,null,null,null,null,null,null,null,"ここを"]
["※申込締切期日厳守。",null,null,null,null,null,null,null,null,null,"切り取る",null,null,"※申込締切期日厳守。",null,null,null,null,null,null,null,null,null,"切り取る"]
[]
[]
[{"$f":"A1","v":"第77回愛知陸上競技選手権大会　個人申込票"},null,null,null,null,null,null,null,null,null,null,30,null,{"$f":"A1","v":"第77回愛知陸上競技選手権大会　個人申込票"},null,null,null,null,null,null,null,null,null,null,30]
[null,null,null,"",null,null,null,null,null,"資格審査用",null,null,null,null,null,null,"",null,null,null,null,null,"資格審査用"]
[null,"性　　別",null,{"$f":"IF(③選手情報入力!H39=\"\",\"\",③選手情報入力!H39)","v":""},null,null,null,{"$f":"IF(③選手情報入力!K39=\"\",\"\",③選手情報入力!K39)","v":""},null,null,null,null,null,null,"性　　別",null,{"$f":"IF(③選手情報入力!L39=\"\",\"\",③選手情報入力!L39)","v":""},null,null,null,{"$f":"IF(③選手情報入力!O39=\"\",\"\",③選手情報入力!O39)","v":""}]
["種  目",{"$f":"IF(③選手情報入力!$F$39=\"\",\"\",③選手情報入力!$F$39)","v":""},null,null,null,null,null,null,null,null,null,null,null,"種  目",{"$f":"IF(③選手情報入力!$F$39=\"\",\"\",③選手情報入力!$F$39)","v":""}]
[]
["ナンバー",null,"ﾌ ﾘ ｶﾞﾅ",{"$f":"IF(③選手情報入力!$D$39=\"\",\"\",③選手情報入力!$D$39)","v":""},null,null,null,null,null,null,null,null,null,"ナンバー",null,"ﾌ ﾘ ｶﾞﾅ",{"$f":"IF(③選手情報入力!$D$39=\"\",\"\",③選手情報入力!$D$39)","v":""}]
[{"$f":"IF(③選手情報入力!$B$39=\"\",\"\",③選手情報入力!$B$39)","v":""},null,"氏 名",{"$f":"IF(③選手情報入力!$C$39=\"\",\"\",③選手情報入力!$C$39)","v":""},null,null,null,null,null,null,null,null,null,{"$f":"IF(③選手情報入力!$B$39=\"\",\"\",③選手情報入力!$B$39)","v":""},null,"氏 名",{"$f":"IF(③選手情報入力!$C$39=\"\",\"\",③選手情報入力!$C$39)","v":""}]
[]
["出場資格\n取得大会","大　会　名",null,null,null,"加入団体名",null,{"$f":"②団体情報入力!$D$5","v":""},null,null,null,null,null,"出場資格\n取得大会","大　会　名",null,null,null,"加入団体名",null,{"$f":"②団体情報入力!$D$5","v":""}]
[null,null,null,null,null,"年.月.日","順 位",null,"記　録",null,"場  所",null,null,null,null,null,null,null,"年.月.日","順 位",null,"記　録",null,"場  所"]
[null,null,null,null,null,null,null,null,{"$f":"IF(③選手情報入力!I39=\"\",\"\",③選手情報入力!I39)","v":""},null,null,null,null,null,null,null,null,null,null,null,null,{"$f":"IF(③選手情報入力!M39=\"\",\"\",③選手情報入力!M39)","v":""}]
[]
["本 年 度",null,null,null,null,null,null,null,{"$f":"IF(③選手情報入力!J39=\"\",\"同上\",③選手情報入力!J39)","v":"同上"},null,null,null,null,"本 年 度",null,null,null,null,null,null,null,{"$f":"IF(③選手情報入力!N39=\"\",\"同上\",③選手情報入力!N39)","v":"同上"}]
["最高記録",null,null,null,null,null,null,null,null,null,null,null,null,"最高記録"]
["備　  考","※記入不要",null,null,null,null,null,null,null,null,null,null,null,"備　  考","※記入不要"]
[]
["※標準記録突破大会は、公認大会で、記録会は正式名称を記入。",null,null,null,null,null,null,null,null,null,"女子は",null,null,"※標準記録突破大会は、公認大会で、記録会は正式名称を記入。",null,null,null,null,null,null,null,null,null,"女子は"]
["※参加資格・記録等記入不備の場合、審査の対象としない。",null,null,null,null,null,null,null,null,null,"ここを",null,null,"※参加資格・記録等記入不備の場合、審査の対象としない。",null,null,null,null,null,null,null,null,null,"ここを"]
["※申込締切期日厳守。",null,null,null,null,null,null,null,null,null,"切り取る",null,null,"※申込締切期日厳守。",null,null,null,null,null,null,null,null,null,"切り取る"]
[]
[]
[{"$f":"A1","v":"第77回愛知陸上競技選手権大会　個人申込票"},null,null,null,null,null,null,null,null,null,null,31,null,{"$f":"A1","v":"第77回愛知陸上競技選手権大会　個人申込票"},null,null,null,null,null,null,null,null,null,null,31]
[null,null,null,"",null,null,null,null,null,"資格審査用",null,null,null,null,null,null,"",null,null,null,null,null,"資格審査用"]
[null,"性　　別",null,{"$f":"IF(③選手情報入力!H40=\"\",\"\",③選手情報入力!H40)","v":""},null,null,null,{"$f":"IF(③選手情報入力!K40=\"\",\"\",③選手情報入力!K40)","v":""},null,null,null,null,null,null,"性　　別",null,{"$f":"IF(③選手情報入力!L40=\"\",\"\",③選手情報入力!L40)","v":""},null,null,null,{"$f":"IF(③選手情報入力!O40=\"\",\"\",③選手情報入力!O40)","v":""}]
["種  目",{"$f":"IF(③選手情報入力!$F$40=\"\",\"\",③選手情報入力!$F$40)","v":""},null,null,null,null,null,null,null,null,null,null,null,"種  目",{"$f":"IF(③選手情報入力!$F$40=\"\",\"\",③選手情報入力!$F$40)","v":""}]
[]
["ナンバー",null,"ﾌ ﾘ ｶﾞﾅ",{"$f":"IF(③選手情報入力!$D$40=\"\",\"\",③選手情報入力!$D$40)","v":""},null,null,null,null,null,null,null,null,null,"ナンバー",null,"ﾌ ﾘ ｶﾞﾅ",{"$f":"IF(③選手情報入力!$D$40=\"\",\"\",③選手情報入力!$D$40)","v":""}]
[{"$f":"IF(③選手情報入力!$B$40=\"\",\"\",③選手情報入力!$B$40)","v":""},null,"氏 名",{"$f":"IF(③選手情報入力!$C$40=\"\",\"\",③選手情報入力!$C$40)","v":""},null,null,null,null,null,null,null,null,null,{"$f":"IF(③選手情報入力!$B$40=\"\",\"\",③選手情報入力!$B$40)","v":""},null,"氏 名",{"$f":"IF(③選手情報入力!$C$40=\"\",\"\",③選手情報入力!$C$40)","v":""}]
[]
["出場資格\n取得大会","大　会　名",null,null,null,"加入団体名",null,{"$f":"②団体情報入力!$D$5","v":""},null,null,null,null,null,"出場資格\n取得大会","大　会　名",null,null,null,"加入団体名",null,{"$f":"②団体情報入力!$D$5","v":""}]
[null,null,null,null,null,"年.月.日","順 位",null,"記　録",null,"場  所",null,null,null,null,null,null,null,"年.月.日","順 位",null,"記　録",null,"場  所"]
[null,null,null,null,null,null,null,null,{"$f":"IF(③選手情報入力!I40=\"\",\"\",③選手情報入力!I40)","v":""},null,null,null,null,null,null,null,null,null,null,null,null,{"$f":"IF(③選手情報入力!M40=\"\",\"\",③選手情報入力!M40)","v":""}]
[]
["本 年 度",null,null,null,null,null,null,null,{"$f":"IF(③選手情報入力!J40=\"\",\"同上\",③選手情報入力!J40)","v":"同上"},null,null,null,null,"本 年 度",null,null,null,null,null,null,null,{"$f":"IF(③選手情報入力!N40=\"\",\"同上\",③選手情報入力!N40)","v":"同上"}]
["最高記録",null,null,null,null,null,null,null,null,null,null,null,null,"最高記録"]
["備　  考","※記入不要",null,null,null,null,null,null,null,null,null,null,null,"備　  考","※記入不要"]
[]
["※標準記録突破大会は、公認大会で、記録会は正式名称を記入。",null,null,null,null,null,null,null,null,null,"女子は",null,null,"※標準記録突破大会は、公認大会で、記録会は正式名称を記入。",null,null,null,null,null,null,null,null,null,"女子は"]
["※参加資格・記録等記入不備の場合、審査の対象としない。",null,null,null,null,null,null,null,null,null,"ここを",null,null,"※参加資格・記録等記入不備の場合、審査の対象としない。",null,null,null,null,null,null,null,null,null,"ここを"]
["※申込締切期日厳守。",null,null,null,null,null,null,null,null,null,"切り取る",null,null,"※申込締切期日厳守。",null,null,null,null,null,null,null,null,null,"切り取る"]
[]
[]
[{"$f":"A1","v":"第77回愛知陸上競技選手権大会　個人申込票"},null,null,null,null,null,null,null,null,null,null,32,null,{"$f":"A1","v":"第77回愛知陸上競技選手権大会　個人申込票"},null,null,null,null,null,null,null,null,null,null,32]
[null,null,null,"",null,null,null,null,null,"資格審査用",null,null,null,null,null,null,"",null,null,null,null,null,"資格審査用"]
[null,"性　　別",null,{"$f":"IF(③選手情報入力!H41=\"\",\"\",③選手情報入力!H41)","v":""},null,null,null,{"$f":"IF(③選手情報入力!K41=\"\",\"\",③選手情報入力!K41)","v":""},null,null,null,null,null,null,"性　　別",null,{"$f":"IF(③選手情報入力!L41=\"\",\"\",③選手情報入力!L41)","v":""},null,null,null,{"$f":"IF(③選手情報入力!O41=\"\",\"\",③選手情報入力!O41)","v":""}]
["種  目",{"$f":"IF(③選手情報入力!$F$41=\"\",\"\",③選手情報入力!$F$41)","v":""},null,null,null,null,null,null,null,null,null,null,null,"種  目",{"$f":"IF(③選手情報入力!$F$41=\"\",\"\",③選手情報入力!$F$41)","v":""}]
[]
["ナンバー",null,"ﾌ ﾘ ｶﾞﾅ",{"$f":"IF(③選手情報入力!$D$41=\"\",\"\",③選手情報入力!$D$41)","v":""},null,null,null,null,null,null,null,null,null,"ナンバー",null,"ﾌ ﾘ ｶﾞﾅ",{"$f":"IF(③選手情報入力!$D$41=\"\",\"\",③選手情報入力!$D$41)","v":""}]
[{"$f":"IF(③選手情報入力!$B$41=\"\",\"\",③選手情報入力!$B$41)","v":""},null,"氏 名",{"$f":"IF(③選手情報入力!$C$41=\"\",\"\",③選手情報入力!$C$41)","v":""},null,null,null,null,null,null,null,null,null,{"$f":"IF(③選手情報入力!$B$41=\"\",\"\",③選手情報入力!$B$41)","v":""},null,"氏 名",{"$f":"IF(③選手情報入力!$C$41=\"\",\"\",③選手情報入力!$C$41)","v":""}]
[]
["出場資格\n取得大会","大　会　名",null,null,null,"加入団体名",null,{"$f":"②団体情報入力!$D$5","v":""},null,null,null,null,null,"出場資格\n取得大会","大　会　名",null,null,null,"加入団体名",null,{"$f":"②団体情報入力!$D$5","v":""}]
[null,null,null,null,null,"年.月.日","順 位",null,"記　録",null,"場  所",null,null,null,null,null,null,null,"年.月.日","順 位",null,"記　録",null,"場  所"]
[null,null,null,null,null,null,null,null,{"$f":"IF(③選手情報入力!I41=\"\",\"\",③選手情報入力!I41)","v":""},null,null,null,null,null,null,null,null,null,null,null,null,{"$f":"IF(③選手情報入力!M41=\"\",\"\",③選手情報入力!M41)","v":""}]
[]
["本 年 度",null,null,null,null,null,null,null,{"$f":"IF(③選手情報入力!J41=\"\",\"同上\",③選手情報入力!J41)","v":"同上"},null,null,null,null,"本 年 度",null,null,null,null,null,null,null,{"$f":"IF(③選手情報入力!N41=\"\",\"同上\",③選手情報入力!N41)","v":"同上"}]
["最高記録",null,null,null,null,null,null,null,null,null,null,null,null,"最高記録"]
["備　  考","※記入不要",null,null,null,null,null,null,null,null,null,null,null,"備　  考","※記入不要"]
[]
["※標準記録突破大会は、公認大会で、記録会は正式名称を記入。",null,null,null,null,null,null,null,null,null,"女子は",null,null,"※標準記録突破大会は、公認大会で、記録会は正式名称を記入。",null,null,null,null,null,null,null,null,null,"女子は"]
["※参加資格・記録等記入不備の場合、審査の対象としない。",null,null,null,null,null,null,null,null,null,"ここを",null,null,"※参加資格・記録等記入不備の場合、審査の対象としない。",null,null,null,null,null,null,null,null,null,"ここを"]
["※申込締切期日厳守。",null,null,null,null,null,null,null,null,null,"切り取る",null,null,"※申込締切期日厳守。",null,null,null,null,null,null,null,null,null,"切り取る"]
[]
[]
[{"$f":"A1","v":"第77回愛知陸上競技選手権大会　個人申込票"},null,null,null,null,null,null,null,null,null,null,33,null,{"$f":"A1","v":"第77回愛知陸上競技選手権大会　個人申込票"},null,null,null,null,null,null,null,null,null,null,33]
[null,null,null,"",null,null,null,null,null,"資格審査用",null,null,null,null,null,null,"",null,null,null,null,null,"資格審査用"]
[null,"性　　別",null,{"$f":"IF(③選手情報入力!H42=\"\",\"\",③選手情報入力!H42)","v":""},null,null,null,{"$f":"IF(③選手情報入力!K42=\"\",\"\",③選手情報入力!K42)","v":""},null,null,null,null,null,null,"性　　別",null,{"$f":"IF(③選手情報入力!L42=\"\",\"\",③選手情報入力!L42)","v":""},null,null,null,{"$f":"IF(③選手情報入力!O42=\"\",\"\",③選手情報入力!O42)","v":""}]
["種  目",{"$f":"IF(③選手情報入力!$F$42=\"\",\"\",③選手情報入力!$F$42)","v":""},null,null,null,null,null,null,null,null,null,null,null,"種  目",{"$f":"IF(③選手情報入力!$F$42=\"\",\"\",③選手情報入力!$F$42)","v":""}]
[]
["ナンバー",null,"ﾌ ﾘ ｶﾞﾅ",{"$f":"IF(③選手情報入力!$D$42=\"\",\"\",③選手情報入力!$D$42)","v":""},null,null,null,null,null,null,null,null,null,"ナンバー",null,"ﾌ ﾘ ｶﾞﾅ",{"$f":"IF(③選手情報入力!$D$42=\"\",\"\",③選手情報入力!$D$42)","v":""}]
[{"$f":"IF(③選手情報入力!$B$42=\"\",\"\",③選手情報入力!$B$42)","v":""},null,"氏 名",{"$f":"IF(③選手情報入力!$C$42=\"\",\"\",③選手情報入力!$C$42)","v":""},null,null,null,null,null,null,null,null,null,{"$f":"IF(③選手情報入力!$B$42=\"\",\"\",③選手情報入力!$B$42)","v":""},null,"氏 名",{"$f":"IF(③選手情報入力!$C$42=\"\",\"\",③選手情報入力!$C$42)","v":""}]
[]
["出場資格\n取得大会","大　会　名",null,null,null,"加入団体名",null,{"$f":"②団体情報入力!$D$5","v":""},null,null,null,null,null,"出場資格\n取得大会","大　会　名",null,null,null,"加入団体名",null,{"$f":"②団体情報入力!$D$5","v":""}]
[null,null,null,null,null,"年.月.日","順 位",null,"記　録",null,"場  所",null,null,null,null,null,null,null,"年.月.日","順 位",null,"記　録",null,"場  所"]
[null,null,null,null,null,null,null,null,{"$f":"IF(③選手情報入力!I42=\"\",\"\",③選手情報入力!I42)","v":""},null,null,null,null,null,null,null,null,null,null,null,null,{"$f":"IF(③選手情報入力!M42=\"\",\"\",③選手情報入力!M42)","v":""}]
[]
["本 年 度",null,null,null,null,null,null,null,{"$f":"IF(③選手情報入力!J42=\"\",\"同上\",③選手情報入力!J42)","v":"同上"},null,null,null,null,"本 年 度",null,null,null,null,null,null,null,{"$f":"IF(③選手情報入力!N42=\"\",\"同上\",③選手情報入力!N42)","v":"同上"}]
["最高記録",null,null,null,null,null,null,null,null,null,null,null,null,"最高記録"]
["備　  考","※記入不要",null,null,null,null,null,null,null,null,null,null,null,"備　  考","※記入不要"]
[]
["※標準記録突破大会は、公認大会で、記録会は正式名称を記入。",null,null,null,null,null,null,null,null,null,"女子は",null,null,"※標準記録突破大会は、公認大会で、記録会は正式名称を記入。",null,null,null,null,null,null,null,null,null,"女子は"]
["※参加資格・記録等記入不備の場合、審査の対象としない。",null,null,null,null,null,null,null,null,null,"ここを",null,null,"※参加資格・記録等記入不備の場合、審査の対象としない。",null,null,null,null,null,null,null,null,null,"ここを"]
["※申込締切期日厳守。",null,null,null,null,null,null,null,null,null,"切り取る",null,null,"※申込締切期日厳守。",null,null,null,null,null,null,null,null,null,"切り取る"]
[]
[]
[{"$f":"A1","v":"第77回愛知陸上競技選手権大会　個人申込票"},null,null,null,null,null,null,null,null,null,null,34,null,{"$f":"A1","v":"第77回愛知陸上競技選手権大会　個人申込票"},null,null,null,null,null,null,null,null,null,null,34]
[null,null,null,"",null,null,null,null,null,"資格審査用",null,null,null,null,null,null,"",null,null,null,null,null,"資格審査用"]
[null,"性　　別",null,{"$f":"IF(③選手情報入力!H43=\"\",\"\",③選手情報入力!H43)","v":""},null,null,null,{"$f":"IF(③選手情報入力!K43=\"\",\"\",③選手情報入力!K43)","v":""},null,null,null,null,null,null,"性　　別",null,{"$f":"IF(③選手情報入力!L43=\"\",\"\",③選手情報入力!L43)","v":""},null,null,null,{"$f":"IF(③選手情報入力!O43=\"\",\"\",③選手情報入力!O43)","v":""}]
["種  目",{"$f":"IF(③選手情報入力!$F$43=\"\",\"\",③選手情報入力!$F$43)","v":""},null,null,null,null,null,null,null,null,null,null,null,"種  目",{"$f":"IF(③選手情報入力!$F$43=\"\",\"\",③選手情報入力!$F$43)","v":""}]
[]
["ナンバー",null,"ﾌ ﾘ ｶﾞﾅ",{"$f":"IF(③選手情報入力!$D$43=\"\",\"\",③選手情報入力!$D$43)","v":""},null,null,null,null,null,null,null,null,null,"ナンバー",null,"ﾌ ﾘ ｶﾞﾅ",{"$f":"IF(③選手情報入力!$D$43=\"\",\"\",③選手情報入力!$D$43)","v":""}]
[{"$f":"IF(③選手情報入力!$B$43=\"\",\"\",③選手情報入力!$B$43)","v":""},null,"氏 名",{"$f":"IF(③選手情報入力!$C$43=\"\",\"\",③選手情報入力!$C$43)","v":""},null,null,null,null,null,null,null,null,null,{"$f":"IF(③選手情報入力!$B$43=\"\",\"\",③選手情報入力!$B$43)","v":""},null,"氏 名",{"$f":"IF(③選手情報入力!$C$43=\"\",\"\",③選手情報入力!$C$43)","v":""}]
[]
["出場資格\n取得大会","大　会　名",null,null,null,"加入団体名",null,{"$f":"②団体情報入力!$D$5","v":""},null,null,null,null,null,"出場資格\n取得大会","大　会　名",null,null,null,"加入団体名",null,{"$f":"②団体情報入力!$D$5","v":""}]
[null,null,null,null,null,"年.月.日","順 位",null,"記　録",null,"場  所",null,null,null,null,null,null,null,"年.月.日","順 位",null,"記　録",null,"場  所"]
[null,null,null,null,null,null,null,null,{"$f":"IF(③選手情報入力!I43=\"\",\"\",③選手情報入力!I43)","v":""},null,null,null,null,null,null,null,null,null,null,null,null,{"$f":"IF(③選手情報入力!M43=\"\",\"\",③選手情報入力!M43)","v":""}]
[]
["本 年 度",null,null,null,null,null,null,null,{"$f":"IF(③選手情報入力!J43=\"\",\"同上\",③選手情報入力!J43)","v":"同上"},null,null,null,null,"本 年 度",null,null,null,null,null,null,null,{"$f":"IF(③選手情報入力!N43=\"\",\"同上\",③選手情報入力!N43)","v":"同上"}]
["最高記録",null,null,null,null,null,null,null,null,null,null,null,null,"最高記録"]
["備　  考","※記入不要",null,null,null,null,null,null,null,null,null,null,null,"備　  考","※記入不要"]
[]
["※標準記録突破大会は、公認大会で、記録会は正式名称を記入。",null,null,null,null,null,null,null,null,null,"女子は",null,null,"※標準記録突破大会は、公認大会で、記録会は正式名称を記入。",null,null,null,null,null,null,null,null,null,"女子は"]
["※参加資格・記録等記入不備の場合、審査の対象としない。",null,null,null,null,null,null,null,null,null,"ここを",null,null,"※参加資格・記録等記入不備の場合、審査の対象としない。",null,null,null,null,null,null,null,null,null,"ここを"]
["※申込締切期日厳守。",null,null,null,null,null,null,null,null,null,"切り取る",null,null,"※申込締切期日厳守。",null,null,null,null,null,null,null,null,null,"切り取る"]
[]
[]
[{"$f":"A1","v":"第77回愛知陸上競技選手権大会　個人申込票"},null,null,null,null,null,null,null,null,null,null,35,null,{"$f":"A1","v":"第77回愛知陸上競技選手権大会　個人申込票"},null,null,null,null,null,null,null,null,null,null,35]
[null,null,null,"",null,null,null,null,null,"資格審査用",null,null,null,null,null,null,"",null,null,null,null,null,"資格審査用"]
[null,"性　　別",null,{"$f":"IF(③選手情報入力!H44=\"\",\"\",③選手情報入力!H44)","v":""},null,null,null,{"$f":"IF(③選手情報入力!K44=\"\",\"\",③選手情報入力!K44)","v":""},null,null,null,null,null,null,"性　　別",null,{"$f":"IF(③選手情報入力!L44=\"\",\"\",③選手情報入力!L44)","v":""},null,null,null,{"$f":"IF(③選手情報入力!O44=\"\",\"\",③選手情報入力!O44)","v":""}]
["種  目",{"$f":"IF(③選手情報入力!$F$44=\"\",\"\",③選手情報入力!$F$44)","v":""},null,null,null,null,null,null,null,null,null,null,null,"種  目",{"$f":"IF(③選手情報入力!$F$44=\"\",\"\",③選手情報入力!$F$44)","v":""}]
[]
["ナンバー",null,"ﾌ ﾘ ｶﾞﾅ",{"$f":"IF(③選手情報入力!$D$44=\"\",\"\",③選手情報入力!$D$44)","v":""},null,null,null,null,null,null,null,null,null,"ナンバー",null,"ﾌ ﾘ ｶﾞﾅ",{"$f":"IF(③選手情報入力!$D$44=\"\",\"\",③選手情報入力!$D$44)","v":""}]
[{"$f":"IF(③選手情報入力!$B$44=\"\",\"\",③選手情報入力!$B$44)","v":""},null,"氏 名",{"$f":"IF(③選手情報入力!$C$44=\"\",\"\",③選手情報入力!$C$44)","v":""},null,null,null,null,null,null,null,null,null,{"$f":"IF(③選手情報入力!$B$44=\"\",\"\",③選手情報入力!$B$44)","v":""},null,"氏 名",{"$f":"IF(③選手情報入力!$C$44=\"\",\"\",③選手情報入力!$C$44)","v":""}]
[]
["出場資格\n取得大会","大　会　名",null,null,null,"加入団体名",null,{"$f":"②団体情報入力!$D$5","v":""},null,null,null,null,null,"出場資格\n取得大会","大　会　名",null,null,null,"加入団体名",null,{"$f":"②団体情報入力!$D$5","v":""}]
[null,null,null,null,null,"年.月.日","順 位",null,"記　録",null,"場  所",null,null,null,null,null,null,null,"年.月.日","順 位",null,"記　録",null,"場  所"]
[null,null,null,null,null,null,null,null,{"$f":"IF(③選手情報入力!I44=\"\",\"\",③選手情報入力!I44)","v":""},null,null,null,null,null,null,null,null,null,null,null,null,{"$f":"IF(③選手情報入力!M44=\"\",\"\",③選手情報入力!M44)","v":""}]
[]
["本 年 度",null,null,null,null,null,null,null,{"$f":"IF(③選手情報入力!J44=\"\",\"同上\",③選手情報入力!J44)","v":"同上"},null,null,null,null,"本 年 度",null,null,null,null,null,null,null,{"$f":"IF(③選手情報入力!N44=\"\",\"同上\",③選手情報入力!N44)","v":"同上"}]
["最高記録",null,null,null,null,null,null,null,null,null,null,null,null,"最高記録"]
["備　  考","※記入不要",null,null,null,null,null,null,null,null,null,null,null,"備　  考","※記入不要"]
[]
["※標準記録突破大会は、公認大会で、記録会は正式名称を記入。",null,null,null,null,null,null,null,null,null,"女子は",null,null,"※標準記録突破大会は、公認大会で、記録会は正式名称を記入。",null,null,null,null,null,null,null,null,null,"女子は"]
["※参加資格・記録等記入不備の場合、審査の対象としない。",null,null,null,null,null,null,null,null,null,"ここを",null,null,"※参加資格・記録等記入不備の場合、審査の対象としない。",null,null,null,null,null,null,null,null,null,"ここを"]
["※申込締切期日厳守。",null,null,null,null,null,null,null,null,null,"切り取る",null,null,"※申込締切期日厳守。",null,null,null,null,null,null,null,null,null,"切り取る"]
[]
[]
[{"$f":"A1","v":"第77回愛知陸上競技選手権大会　個人申込票"},null,null,null,null,null,null,null,null,null,null,36,null,{"$f":"A1","v":"第77回愛知陸上競技選手権大会　個人申込票"},null,null,null,null,null,null,null,null,null,null,36]
[null,null,null,"",null,null,null,null,null,"資格審査用",null,null,null,null,null,null,"",null,null,null,null,null,"資格審査用"]
[null,"性　　別",null,{"$f":"IF(③選手情報入力!H45=\"\",\"\",③選手情報入力!H45)","v":""},null,null,null,{"$f":"IF(③選手情報入力!K45=\"\",\"\",③選手情報入力!K45)","v":""},null,null,null,null,null,null,"性　　別",null,{"$f":"IF(③選手情報入力!L45=\"\",\"\",③選手情報入力!L45)","v":""},null,null,null,{"$f":"IF(③選手情報入力!O45=\"\",\"\",③選手情報入力!O45)","v":""}]
["種  目",{"$f":"IF(③選手情報入力!$F$45=\"\",\"\",③選手情報入力!$F$45)","v":""},null,null,null,null,null,null,null,null,null,null,null,"種  目",{"$f":"IF(③選手情報入力!$F$45=\"\",\"\",③選手情報入力!$F$45)","v":""}]
[]
["ナンバー",null,"ﾌ ﾘ ｶﾞﾅ",{"$f":"IF(③選手情報入力!$D$45=\"\",\"\",③選手情報入力!$D$45)","v":""},null,null,null,null,null,null,null,null,null,"ナンバー",null,"ﾌ ﾘ ｶﾞﾅ",{"$f":"IF(③選手情報入力!$D$45=\"\",\"\",③選手情報入力!$D$45)","v":""}]
[{"$f":"IF(③選手情報入力!$B$45=\"\",\"\",③選手情報入力!$B$45)","v":""},null,"氏 名",{"$f":"IF(③選手情報入力!$C$45=\"\",\"\",③選手情報入力!$C$45)","v":""},null,null,null,null,null,null,null,null,null,{"$f":"IF(③選手情報入力!$B$45=\"\",\"\",③選手情報入力!$B$45)","v":""},null,"氏 名",{"$f":"IF(③選手情報入力!$C$45=\"\",\"\",③選手情報入力!$C$45)","v":""}]
[]
["出場資格\n取得大会","大　会　名",null,null,null,"加入団体名",null,{"$f":"②団体情報入力!$D$5","v":""},null,null,null,null,null,"出場資格\n取得大会","大　会　名",null,null,null,"加入団体名",null,{"$f":"②団体情報入力!$D$5","v":""}]
[null,null,null,null,null,"年.月.日","順 位",null,"記　録",null,"場  所",null,null,null,null,null,null,null,"年.月.日","順 位",null,"記　録",null,"場  所"]
[null,null,null,null,null,null,null,null,{"$f":"IF(③選手情報入力!I45=\"\",\"\",③選手情報入力!I45)","v":""},null,null,null,null,null,null,null,null,null,null,null,null,{"$f":"IF(③選手情報入力!M45=\"\",\"\",③選手情報入力!M45)","v":""}]
[]
["本 年 度",null,null,null,null,null,null,null,{"$f":"IF(③選手情報入力!J45=\"\",\"同上\",③選手情報入力!J45)","v":"同上"},null,null,null,null,"本 年 度",null,null,null,null,null,null,null,{"$f":"IF(③選手情報入力!N45=\"\",\"同上\",③選手情報入力!N45)","v":"同上"}]
["最高記録",null,null,null,null,null,null,null,null,null,null,null,null,"最高記録"]
["備　  考","※記入不要",null,null,null,null,null,null,null,null,null,null,null,"備　  考","※記入不要"]
[]
["※標準記録突破大会は、公認大会で、記録会は正式名称を記入。",null,null,null,null,null,null,null,null,null,"女子は",null,null,"※標準記録突破大会は、公認大会で、記録会は正式名称を記入。",null,null,null,null,null,null,null,null,null,"女子は"]
["※参加資格・記録等記入不備の場合、審査の対象としない。",null,null,null,null,null,null,null,null,null,"ここを",null,null,"※参加資格・記録等記入不備の場合、審査の対象としない。",null,null,null,null,null,null,null,null,null,"ここを"]
["※申込締切期日厳守。",null,null,null,null,null,null,null,null,null,"切り取る",null,null,"※申込締切期日厳守。",null,null,null,null,null,null,null,null,null,"切り取る"]
[]
[]
[{"$f":"A1","v":"第77回愛知陸上競技選手権大会　個人申込票"},null,null,null,null,null,null,null,null,null,null,37,null,{"$f":"A1","v":"第77回愛知陸上競技選手権大会　個人申込票"},null,null,null,null,null,null,null,null,null,null,37]
[null,null,null,"",null,null,null,null,null,"資格審査用",null,null,null,null,null,null,"",null,null,null,null,null,"資格審査用"]
[null,"性　　別",null,{"$f":"IF(③選手情報入力!H46=\"\",\"\",③選手情報入力!H46)","v":""},null,null,null,{"$f":"IF(③選手情報入力!K46=\"\",\"\",③選手情報入力!K46)","v":""},null,null,null,null,null,null,"性　　別",null,{"$f":"IF(③選手情報入力!L46=\"\",\"\",③選手情報入力!L46)","v":""},null,null,null,{"$f":"IF(③選手情報入力!O46=\"\",\"\",③選手情報入力!O46)","v":""}]
["種  目",{"$f":"IF(③選手情報入力!$F$46=\"\",\"\",③選手情報入力!$F$46)","v":""},null,null,null,null,null,null,null,null,null,null,null,"種  目",{"$f":"IF(③選手情報入力!$F$46=\"\",\"\",③選手情報入力!$F$46)","v":""}]
[]
["ナンバー",null,"ﾌ ﾘ ｶﾞﾅ",{"$f":"IF(③選手情報入力!$D$46=\"\",\"\",③選手情報入力!$D$46)","v":""},null,null,null,null,null,null,null,null,null,"ナンバー",null,"ﾌ ﾘ ｶﾞﾅ",{"$f":"IF(③選手情報入力!$D$46=\"\",\"\",③選手情報入力!$D$46)","v":""}]
[{"$f":"IF(③選手情報入力!$B$46=\"\",\"\",③選手情報入力!$B$46)","v":""},null,"氏 名",{"$f":"IF(③選手情報入力!$C$46=\"\",\"\",③選手情報入力!$C$46)","v":""},null,null,null,null,null,null,null,null,null,{"$f":"IF(③選手情報入力!$B$46=\"\",\"\",③選手情報入力!$B$46)","v":""},null,"氏 名",{"$f":"IF(③選手情報入力!$C$46=\"\",\"\",③選手情報入力!$C$46)","v":""}]
[]
["出場資格\n取得大会","大　会　名",null,null,null,"加入団体名",null,{"$f":"②団体情報入力!$D$5","v":""},null,null,null,null,null,"出場資格\n取得大会","大　会　名",null,null,null,"加入団体名",null,{"$f":"②団体情報入力!$D$5","v":""}]
[null,null,null,null,null,"年.月.日","順 位",null,"記　録",null,"場  所",null,null,null,null,null,null,null,"年.月.日","順 位",null,"記　録",null,"場  所"]
[null,null,null,null,null,null,null,null,{"$f":"IF(③選手情報入力!I46=\"\",\"\",③選手情報入力!I46)","v":""},null,null,null,null,null,null,null,null,null,null,null,null,{"$f":"IF(③選手情報入力!M46=\"\",\"\",③選手情報入力!M46)","v":""}]
[]
["本 年 度",null,null,null,null,null,null,null,{"$f":"IF(③選手情報入力!J46=\"\",\"同上\",③選手情報入力!J46)","v":"同上"},null,null,null,null,"本 年 度",null,null,null,null,null,null,null,{"$f":"IF(③選手情報入力!N46=\"\",\"同上\",③選手情報入力!N46)","v":"同上"}]
["最高記録",null,null,null,null,null,null,null,null,null,null,null,null,"最高記録"]
["備　  考","※記入不要",null,null,null,null,null,null,null,null,null,null,null,"備　  考","※記入不要"]
[]
["※標準記録突破大会は、公認大会で、記録会は正式名称を記入。",null,null,null,null,null,null,null,null,null,"女子は",null,null,"※標準記録突破大会は、公認大会で、記録会は正式名称を記入。",null,null,null,null,null,null,null,null,null,"女子は"]
["※参加資格・記録等記入不備の場合、審査の対象としない。",null,null,null,null,null,null,null,null,null,"ここを",null,null,"※参加資格・記録等記入不備の場合、審査の対象としない。",null,null,null,null,null,null,null,null,null,"ここを"]
["※申込締切期日厳守。",null,null,null,null,null,null,null,null,null,"切り取る",null,null,"※申込締切期日厳守。",null,null,null,null,null,null,null,null,null,"切り取る"]
[]
[]
[{"$f":"A1","v":"第77回愛知陸上競技選手権大会　個人申込票"},null,null,null,null,null,null,null,null,null,null,38,null,{"$f":"A1","v":"第77回愛知陸上競技選手権大会　個人申込票"},null,null,null,null,null,null,null,null,null,null,38]
[null,null,null,"",null,null,null,null,null,"資格審査用",null,null,null,null,null,null,"",null,null,null,null,null,"資格審査用"]
[null,"性　　別",null,{"$f":"IF(③選手情報入力!H47=\"\",\"\",③選手情報入力!H47)","v":""},null,null,null,{"$f":"IF(③選手情報入力!K47=\"\",\"\",③選手情報入力!K47)","v":""},null,null,null,null,null,null,"性　　別",null,{"$f":"IF(③選手情報入力!L47=\"\",\"\",③選手情報入力!L47)","v":""},null,null,null,{"$f":"IF(③選手情報入力!O47=\"\",\"\",③選手情報入力!O47)","v":""}]
["種  目",{"$f":"IF(③選手情報入力!$F$47=\"\",\"\",③選手情報入力!$F$47)","v":""},null,null,null,null,null,null,null,null,null,null,null,"種  目",{"$f":"IF(③選手情報入力!$F$47=\"\",\"\",③選手情報入力!$F$47)","v":""}]
[]
["ナンバー",null,"ﾌ ﾘ ｶﾞﾅ",{"$f":"IF(③選手情報入力!$D$47=\"\",\"\",③選手情報入力!$D$47)","v":""},null,null,null,null,null,null,null,null,null,"ナンバー",null,"ﾌ ﾘ ｶﾞﾅ",{"$f":"IF(③選手情報入力!$D$47=\"\",\"\",③選手情報入力!$D$47)","v":""}]
[{"$f":"IF(③選手情報入力!$B$47=\"\",\"\",③選手情報入力!$B$47)","v":""},null,"氏 名",{"$f":"IF(③選手情報入力!$C$47=\"\",\"\",③選手情報入力!$C$47)","v":""},null,null,null,null,null,null,null,null,null,{"$f":"IF(③選手情報入力!$B$47=\"\",\"\",③選手情報入力!$B$47)","v":""},null,"氏 名",{"$f":"IF(③選手情報入力!$C$47=\"\",\"\",③選手情報入力!$C$47)","v":""}]
[]
["出場資格\n取得大会","大　会　名",null,null,null,"加入団体名",null,{"$f":"②団体情報入力!$D$5","v":""},null,null,null,null,null,"出場資格\n取得大会","大　会　名",null,null,null,"加入団体名",null,{"$f":"②団体情報入力!$D$5","v":""}]
[null,null,null,null,null,"年.月.日","順 位",null,"記　録",null,"場  所",null,null,null,null,null,null,null,"年.月.日","順 位",null,"記　録",null,"場  所"]
[null,null,null,null,null,null,null,null,{"$f":"IF(③選手情報入力!I47=\"\",\"\",③選手情報入力!I47)","v":""},null,null,null,null,null,null,null,null,null,null,null,null,{"$f":"IF(③選手情報入力!M47=\"\",\"\",③選手情報入力!M47)","v":""}]
[]
["本 年 度",null,null,null,null,null,null,null,{"$f":"IF(③選手情報入力!J47=\"\",\"同上\",③選手情報入力!J47)","v":"同上"},null,null,null,null,"本 年 度",null,null,null,null,null,null,null,{"$f":"IF(③選手情報入力!N47=\"\",\"同上\",③選手情報入力!N47)","v":"同上"}]
["最高記録",null,null,null,null,null,null,null,null,null,null,null,null,"最高記録"]
["備　  考","※記入不要",null,null,null,null,null,null,null,null,null,null,null,"備　  考","※記入不要"]
[]
["※標準記録突破大会は、公認大会で、記録会は正式名称を記入。",null,null,null,null,null,null,null,null,null,"女子は",null,null,"※標準記録突破大会は、公認大会で、記録会は正式名称を記入。",null,null,null,null,null,null,null,null,null,"女子は"]
["※参加資格・記録等記入不備の場合、審査の対象としない。",null,null,null,null,null,null,null,null,null,"ここを",null,null,"※参加資格・記録等記入不備の場合、審査の対象としない。",null,null,null,null,null,null,null,null,null,"ここを"]
["※申込締切期日厳守。",null,null,null,null,null,null,null,null,null,"切り取る",null,null,"※申込締切期日厳守。",null,null,null,null,null,null,null,null,null,"切り取る"]
[]
[]
[{"$f":"A1","v":"第77回愛知陸上競技選手権大会　個人申込票"},null,null,null,null,null,null,null,null,null,null,39,null,{"$f":"A1","v":"第77回愛知陸上競技選手権大会　個人申込票"},null,null,null,null,null,null,null,null,null,null,39]
[null,null,null,"",null,null,null,null,null,"資格審査用",null,null,null,null,null,null,"",null,null,null,null,null,"資格審査用"]
[null,"性　　別",null,{"$f":"IF(③選手情報入力!H48=\"\",\"\",③選手情報入力!H48)","v":""},null,null,null,{"$f":"IF(③選手情報入力!K48=\"\",\"\",③選手情報入力!K48)","v":""},null,null,null,null,null,null,"性　　別",null,{"$f":"IF(③選手情報入力!L48=\"\",\"\",③選手情報入力!L48)","v":""},null,null,null,{"$f":"IF(③選手情報入力!O48=\"\",\"\",③選手情報入力!O48)","v":""}]
["種  目",{"$f":"IF(③選手情報入力!$F$48=\"\",\"\",③選手情報入力!$F$48)","v":""},null,null,null,null,null,null,null,null,null,null,null,"種  目",{"$f":"IF(③選手情報入力!$F$48=\"\",\"\",③選手情報入力!$F$48)","v":""}]
[]
["ナンバー",null,"ﾌ ﾘ ｶﾞﾅ",{"$f":"IF(③選手情報入力!$D$48=\"\",\"\",③選手情報入力!$D$48)","v":""},null,null,null,null,null,null,null,null,null,"ナンバー",null,"ﾌ ﾘ ｶﾞﾅ",{"$f":"IF(③選手情報入力!$D$48=\"\",\"\",③選手情報入力!$D$48)","v":""}]
[{"$f":"IF(③選手情報入力!$B$48=\"\",\"\",③選手情報入力!$B$48)","v":""},null,"氏 名",{"$f":"IF(③選手情報入力!$C$48=\"\",\"\",③選手情報入力!$C$48)","v":""},null,null,null,null,null,null,null,null,null,{"$f":"IF(③選手情報入力!$B$48=\"\",\"\",③選手情報入力!$B$48)","v":""},null,"氏 名",{"$f":"IF(③選手情報入力!$C$48=\"\",\"\",③選手情報入力!$C$48)","v":""}]
[]
["出場資格\n取得大会","大　会　名",null,null,null,"加入団体名",null,{"$f":"②団体情報入力!$D$5","v":""},null,null,null,null,null,"出場資格\n取得大会","大　会　名",null,null,null,"加入団体名",null,{"$f":"②団体情報入力!$D$5","v":""}]
[null,null,null,null,null,"年.月.日","順 位",null,"記　録",null,"場  所",null,null,null,null,null,null,null,"年.月.日","順 位",null,"記　録",null,"場  所"]
[null,null,null,null,null,null,null,null,{"$f":"IF(③選手情報入力!I48=\"\",\"\",③選手情報入力!I48)","v":""},null,null,null,null,null,null,null,null,null,null,null,null,{"$f":"IF(③選手情報入力!M48=\"\",\"\",③選手情報入力!M48)","v":""}]
[]
["本 年 度",null,null,null,null,null,null,null,{"$f":"IF(③選手情報入力!J48=\"\",\"同上\",③選手情報入力!J48)","v":"同上"},null,null,null,null,"本 年 度",null,null,null,null,null,null,null,{"$f":"IF(③選手情報入力!N48=\"\",\"同上\",③選手情報入力!N48)","v":"同上"}]
["最高記録",null,null,null,null,null,null,null,null,null,null,null,null,"最高記録"]
["備　  考","※記入不要",null,null,null,null,null,null,null,null,null,null,null,"備　  考","※記入不要"]
[]
["※標準記録突破大会は、公認大会で、記録会は正式名称を記入。",null,null,null,null,null,null,null,null,null,"女子は",null,null,"※標準記録突破大会は、公認大会で、記録会は正式名称を記入。",null,null,null,null,null,null,null,null,null,"女子は"]
["※参加資格・記録等記入不備の場合、審査の対象としない。",null,null,null,null,null,null,null,null,null,"ここを",null,null,"※参加資格・記録等記入不備の場合、審査の対象としない。",null,null,null,null,null,null,null,null,null,"ここを"]
["※申込締切期日厳守。",null,null,null,null,null,null,null,null,null,"切り取る",null,null,"※申込締切期日厳守。",null,null,null,null,null,null,null,null,null,"切り取る"]
[]
[]
[{"$f":"A1","v":"第77回愛知陸上競技選手権大会　個人申込票"},null,null,null,null,null,null,null,null,null,null,40,null,{"$f":"A1","v":"第77回愛知陸上競技選手権大会　個人申込票"},null,null,null,null,null,null,null,null,null,null,40]
[null,null,null,"",null,null,null,null,null,"資格審査用",null,null,null,null,null,null,"",null,null,null,null,null,"資格審査用"]
[null,"性　　別",null,{"$f":"IF(③選手情報入力!H49=\"\",\"\",③選手情報入力!H49)","v":""},null,null,null,{"$f":"IF(③選手情報入力!K49=\"\",\"\",③選手情報入力!K49)","v":""},null,null,null,null,null,null,"性　　別",null,{"$f":"IF(③選手情報入力!L49=\"\",\"\",③選手情報入力!L49)","v":""},null,null,null,{"$f":"IF(③選手情報入力!O49=\"\",\"\",③選手情報入力!O49)","v":""}]
["種  目",{"$f":"IF(③選手情報入力!$F$49=\"\",\"\",③選手情報入力!$F$49)","v":""},null,null,null,null,null,null,null,null,null,null,null,"種  目",{"$f":"IF(③選手情報入力!$F$49=\"\",\"\",③選手情報入力!$F$49)","v":""}]
[]
["ナンバー",null,"ﾌ ﾘ ｶﾞﾅ",{"$f":"IF(③選手情報入力!$D$49=\"\",\"\",③選手情報入力!$D$49)","v":""},null,null,null,null,null,null,null,null,null,"ナンバー",null,"ﾌ ﾘ ｶﾞﾅ",{"$f":"IF(③選手情報入力!$D$49=\"\",\"\",③選手情報入力!$D$49)","v":""}]
[{"$f":"IF(③選手情報入力!$B$49=\"\",\"\",③選手情報入力!$B$49)","v":""},null,"氏 名",{"$f":"IF(③選手情報入力!$C$49=\"\",\"\",③選手情報入力!$C$49)","v":""},null,null,null,null,null,null,null,null,null,{"$f":"IF(③選手情報入力!$B$49=\"\",\"\",③選手情報入力!$B$49)","v":""},null,"氏 名",{"$f":"IF(③選手情報入力!$C$49=\"\",\"\",③選手情報入力!$C$49)","v":""}]
[]
["出場資格\n取得大会","大　会　名",null,null,null,"加入団体名",null,{"$f":"②団体情報入力!$D$5","v":""},null,null,null,null,null,"出場資格\n取得大会","大　会　名",null,null,null,"加入団体名",null,{"$f":"②団体情報入力!$D$5","v":""}]
[null,null,null,null,null,"年.月.日","順 位",null,"記　録",null,"場  所",null,null,null,null,null,null,null,"年.月.日","順 位",null,"記　録",null,"場  所"]
[null,null,null,null,null,null,null,null,{"$f":"IF(③選手情報入力!I49=\"\",\"\",③選手情報入力!I49)","v":""},null,null,null,null,null,null,null,null,null,null,null,null,{"$f":"IF(③選手情報入力!M49=\"\",\"\",③選手情報入力!M49)","v":""}]
[]
["本 年 度",null,null,null,null,null,null,null,{"$f":"IF(③選手情報入力!J49=\"\",\"同上\",③選手情報入力!J49)","v":"同上"},null,null,null,null,"本 年 度",null,null,null,null,null,null,null,{"$f":"IF(③選手情報入力!N49=\"\",\"同上\",③選手情報入力!N49)","v":"同上"}]
["最高記録",null,null,null,null,null,null,null,null,null,null,null,null,"最高記録"]
["備　  考","※記入不要",null,null,null,null,null,null,null,null,null,null,null,"備　  考","※記入不要"]
[]
["※標準記録突破大会は、公認大会で、記録会は正式名称を記入。",null,null,null,null,null,null,null,null,null,"女子は",null,null,"※標準記録突破大会は、公認大会で、記録会は正式名称を記入。",null,null,null,null,null,null,null,null,null,"女子は"]
["※参加資格・記録等記入不備の場合、審査の対象としない。",null,null,null,null,null,null,null,null,null,"ここを",null,null,"※参加資格・記録等記入不備の場合、審査の対象としない。",null,null,null,null,null,null,null,null,null,"ここを"]
["※申込締切期日厳守。",null,null,null,null,null,null,null,null,null,"切り取る",null,null,"※申込締切期日厳守。",null,null,null,null,null,null,null,null,null,"切り取る"]

{"sheet":"　　　　　","index":8,"n_rows":0,"n_cols":0,"rows_kept":0,"cut":false,"hidden":false,"merged":[]}

{"sheet":"種目情報","index":9,"n_rows":47,"n_cols":15,"rows_kept":47,"cut":false,"hidden":false,"merged":[[3,12,28,12],[30,12,50,12],[1,13,1,14],[0,0,0,2],[0,4,0,6],[1,0,2,0],[1,4,2,4]]}
["男子",null,null,null,"女子"]
["種目","種目","記録",null,"種目","種目","記録",null,null,null,null,null,null,"一覧表用　種目名"]
[null,"No","FLAG",null,null,"No","FLAG"]
["男100m",1,2,null,"女100m",18,2,null,null,null,null,null,"男　　　子","男100m","男100m"]
["男200m",2,2,null,"女200m",19,2,null,null,null,null,null,null,"男200m","男200m"]
["男400m",3,2,null,"女400m",20,2,null,null,null,null,null,null,"男400m","男400m"]
["男800m",4,2,null,"女800m",21,2,null,null,null,null,null,null,"男800m","男800m"]
["男1500m",5,2,null,"女1500m",22,2,null,null,null,null,null,null,"男1500m","男1500m"]
["男110mH",6,2,null,"女100mH",23,2,null,null,null,null,null,null,"男110mH","男110mH"]
["男400mH",7,2,null,"女400mH",24,2,null,null,null,null,null,null,"男400mH","男400mH"]
["男3000mSC",8,2,null,"女3000mSC",25,2,null,null,null,null,null,null,"男3000mSC","男3000mSC"]
["男5000mW",9,2,null,"女5000mW",26,2,null,null,null,null,null,null,"男5000mW","男5000mW"]
["男走高跳",10,0,null,"女走高跳",27,0,null,null,null,null,null,null,"男走高跳","男走高跳"]
["男棒高跳",11,0,null,"女棒高跳",28,0,null,null,null,null,null,null,"男棒高跳","男棒高跳"]
["男走幅跳",12,0,null,"女走幅跳",29,0,null,null,null,null,null,null,"男走幅跳","男走幅跳"]
["男三段跳",13,0,null,"女三段跳",30,0,null,null,null,null,null,null,"男三段跳","男三段跳"]
["男砲丸投",14,0,null,"女砲丸投",31,0,null,null,null,null,null,null,"男砲丸投","男砲丸投"]
["男円盤投",15,0,null,"女円盤投",32,0,null,null,null,null,null,null,"男円盤投","男円盤投"]
["男ハンマー投",16,0,null,"女ハンマー投",33,0,null,null,null,null,null,null,"男ハンマー投","男ハンマー投"]
["男やり投",17,0,null,"女やり投",34,0,null,null,null,null,null,null,"男やり投","男やり投"]
[]
[]
[]
[]
[]
[]
[]
[]
[]
[]
[null,null,null,null,null,null,null,null,null,null,null,null,"女　　　子","女100m","女100m"]
[null,null,null,null,null,null,null,null,null,null,null,null,null,"女200m","女200m"]
[null,null,null,null,null,null,null,null,null,null,null,null,null,"女400m","女400m"]
[null,null,null,null,null,null,null,null,null,null,null,null,null,"女800m","女800m"]
[null,null,null,null,null,null,null,null,null,null,null,null,null,"女1500m","女1500m"]
[null,null,null,null,null,null,null,null,null,null,null,null,null,"女100mH","女100mH"]
[null,null,null,null,null,null,null,null,null,null,null,null,null,"女400mH","女400mH"]
[null,null,null,null,null,null,null,null,null,null,null,null,null,"女3000mSC","女3000mSC"]
[null,null,null,null,null,null,null,null,null,null,null,null,null,"女5000mW","女5000mW"]
[null,null,null,null,null,null,null,null,null,null,null,null,null,"女走高跳","女走高跳"]
[null,null,null,null,null,null,null,null,null,null,null,null,null,"女棒高跳","女棒高跳"]
[null,null,null,null,null,null,null,null,null,null,null,null,null,"女走幅跳","女走幅跳"]
[null,null,null,null,null,null,null,null,null,null,null,null,null,"女三段跳","女三段跳"]
[null,null,null,null,null,null,null,null,null,null,null,null,null,"女砲丸投","女砲丸投"]
[null,null,null,null,null,null,null,null,null,null,null,null,null,"女円盤投","女円盤投"]
[null,null,null,null,null,null,null,null,null,null,null,null,null,"女ハンマー投","女ハンマー投"]
[null,null,null,null,null,null,null,null,null,null,null,null,null,"女やり投","女やり投"]

{"sheet":"data_kyogisha","index":10,"n_rows":41,"n_cols":22,"rows_kept":41,"cut":false,"hidden":false,"merged":[]}
["競技者NO","所属コード1","所属コード2","ナンバー","ナンバー2","競技者名","競技者名カナ","競技者名略称","性別","学年","生年","月日","個人所属地名","陸連コード","参加競技-競技コード1","参加競技-自己記録1","参加競技-オープン参加FLG1","参加競技-記録FLG1","参加競技-競技コード2","参加競技-自己記録2","参加競技-オープン参加FLG2","参加競技-記録FLG2"]
[{"$f":"IF(①陸連データ貼り付け!A2=\"\",\"\",①陸連データ貼り付け!A2)","v":""},{"$f":"IF(E2=\"\",\"\",②団体情報入力!$D$3)","v":""},null,{"$f":"IF(③選手情報入力!B10=\"\",\"\",LEFT(③選手情報入力!B10,1))","v":""},{"$f":"IF(③選手情報入力!B10=\"\",\"\",REPLACE(③選手情報入力!B10,1,1,\"\"))","v":""},{"$f":"IF(E2=\"\",\"\",③選手情報入力!C10)","v":""},{"$f":"IF(E2=\"\",\"\",③選手情報入力!D10)","v":""},{"$f":"IF(E2=\"\",\"\",F2)","v":""},{"$f":"IF(E2=\"\",\"\",IF(③選手情報入力!F10=\"男\",1,2))","v":""},{"$f":"IF(E2=\"\",\"\",IF(③選手情報入力!G10=\"\",\"\",③選手情報入力!G10))","v":""},null,{"$f":"IF(E2=\"\",\"\",0)","v":""},{"$f":"IF(E2=\"\",\"\",\"愛知\")","v":""},null,{"$f":"IF(E2=\"\",\"\",IF(③選手情報入力!H10=\"\",\"\",IF(I2=1,VLOOKUP(③選手情報入力!H10,種目情報!$A$4:$B$232,2,FALSE),VLOOKUP(③選手情報入力!H10,種目情報!$E$4:$F$81,2,FALSE))))","v":""},{"$f":"IF(E2=\"\",\"\",③選手情報入力!I10)","v":""},{"$f":"IF(E2=\"\",\"\",IF(③選手情報入力!H10=\"\",\"\",0))","v":""},{"$f":"IF(E2=\"\",\"\",IF(③選手情報入力!H10=\"\",\"\",IF(I2=1,VLOOKUP(③選手情報入力!H10,種目情報!$A$4:$C$22,3,FALSE),VLOOKUP(③選手情報入力!H10,種目情報!$E$4:$G$22,3,FALSE))))","v":""},{"$f":"IF(E2=\"\",\"\",IF(③選手情報入力!L10=\"\",\"\",IF(I2=1,VLOOKUP(③選手情報入力!L10,種目情報!$A$9:$B$242,2,FALSE),VLOOKUP(③選手情報入力!L10,種目情報!$E$8:$F$241,2,FALSE))))","v":""},{"$f":"IF(E2=\"\",\"\",③選手情報入力!M10)","v":""},{"$f":"IF(E2=\"\",\"\",IF(③選手情報入力!L10=\"\",\"\",0))","v":""},{"$f":"IF(E2=\"\",\"\",IF(③選手情報入力!L10=\"\",\"\",IF(I2=1,VLOOKUP(③選手情報入力!L10,種目情報!$A$5:$C$22,3,FALSE),VLOOKUP(③選手情報入力!L10,種目情報!$E$5:$G$22,3,FALSE))))","v":""}]
[{"$f":"IF(①陸連データ貼り付け!A3=\"\",\"\",①陸連データ貼り付け!A3)","v":""},{"$f":"IF(E3=\"\",\"\",②団体情報入力!$D$3)","v":""},null,{"$f":"IF(③選手情報入力!B11=\"\",\"\",LEFT(③選手情報入力!B11,1))","v":""},{"$f":"IF(③選手情報入力!B11=\"\",\"\",REPLACE(③選手情報入力!B11,1,1,\"\"))","v":""},{"$f":"IF(E3=\"\",\"\",③選手情報入力!C11)","v":""},{"$f":"IF(E3=\"\",\"\",③選手情報入力!D11)","v":""},{"$f":"IF(E3=\"\",\"\",F3)","v":""},{"$f":"IF(E3=\"\",\"\",IF(③選手情報入力!F11=\"男\",1,2))","v":""},{"$f":"IF(E3=\"\",\"\",IF(③選手情報入力!G11=\"\",\"\",③選手情報入力!G11))","v":""},null,{"$f":"IF(E3=\"\",\"\",0)","v":""},{"$f":"IF(E3=\"\",\"\",\"愛知\")","v":""},null,{"$f":"IF(E3=\"\",\"\",IF(③選手情報入力!H11=\"\",\"\",IF(I3=1,VLOOKUP(③選手情報入力!H11,種目情報!$A$4:$B$232,2,FALSE),VLOOKUP(③選手情報入力!H11,種目情報!$E$4:$F$81,2,FALSE))))","v":""},{"$f":"IF(E3=\"\",\"\",③選手情報入力!I11)","v":""},{"$f":"IF(E3=\"\",\"\",IF(③選手情報入力!H11=\"\",\"\",0))","v":""},{"$f":"IF(E3=\"\",\"\",IF(③選手情報入力!H11=\"\",\"\",IF(I3=1,VLOOKUP(③選手情報入力!H11,種目情報!$A$4:$C$22,3,FALSE),VLOOKUP(③選手情報入力!H11,種目情報!$E$4:$G$22,3,FALSE))))","v":""},{"$f":"IF(E3=\"\",\"\",IF(③選手情報入力!L11=\"\",\"\",IF(I3=1,VLOOKUP(③選手情報入力!L11,種目情報!$A$9:$B$242,2,FALSE),VLOOKUP(③選手情報入力!L11,種目情報!$E$8:$F$241,2,FALSE))))","v":""},{"$f":"IF(E3=\"\",\"\",③選手情報入力!M11)","v":""},{"$f":"IF(E3=\"\",\"\",IF(③選手情報入力!L11=\"\",\"\",0))","v":""},{"$f":"IF(E3=\"\",\"\",IF(③選手情報入力!L11=\"\",\"\",IF(I3=1,VLOOKUP(③選手情報入力!L11,種目情報!$A$5:$C$22,3,FALSE),VLOOKUP(③選手情報入力!L11,種目情報!$E$5:$G$22,3,FALSE))))","v":""}]
[{"$f":"IF(①陸連データ貼り付け!A4=\"\",\"\",①陸連データ貼り付け!A4)","v":""},{"$f":"IF(E4=\"\",\"\",②団体情報入力!$D$3)","v":""},null,{"$f":"IF(③選手情報入力!B12=\"\",\"\",LEFT(③選手情報入力!B12,1))","v":""},{"$f":"IF(③選手情報入力!B12=\"\",\"\",REPLACE(③選手情報入力!B12,1,1,\"\"))","v":""},{"$f":"IF(E4=\"\",\"\",③選手情報入力!C12)","v":""},{"$f":"IF(E4=\"\",\"\",③選手情報入力!D12)","v":""},"",{"$f":"IF(E4=\"\",\"\",IF(③選手情報入力!F12=\"男\",1,2))","v":""},{"$f":"IF(E4=\"\",\"\",IF(③選手情報入力!G12=\"\",\"\",③選手情報入力!G12))","v":""},null,"","",null,{"$f":"IF(E4=\"\",\"\",IF(③選手情報入力!H12=\"\",\"\",IF(I4=1,VLOOKUP(③選手情報入力!H12,種目情報!$A$4:$B$232,2,FALSE),VLOOKUP(③選手情報入力!H12,種目情報!$E$4:$F$81,2,FALSE))))","v":""},{"$f":"IF(E4=\"\",\"\",③選手情報入力!I12)","v":""},{"$f":"IF(E4=\"\",\"\",IF(③選手情報入力!H12=\"\",\"\",0))","v":""},{"$f":"IF(E4=\"\",\"\",IF(③選手情報入力!H12=\"\",\"\",IF(I4=1,VLOOKUP(③選手情報入力!H12,種目情報!$A$4:$C$22,3,FALSE),VLOOKUP(③選手情報入力!H12,種目情報!$E$4:$G$22,3,FALSE))))","v":""},{"$f":"IF(E4=\"\",\"\",IF(③選手情報入力!L12=\"\",\"\",IF(I4=1,VLOOKUP(③選手情報入力!L12,種目情報!$A$9:$B$242,2,FALSE),VLOOKUP(③選手情報入力!L12,種目情報!$E$8:$F$241,2,FALSE))))","v":""},{"$f":"IF(E4=\"\",\"\",③選手情報入力!M12)","v":""},{"$f":"IF(E4=\"\",\"\",IF(③選手情報入力!L12=\"\",\"\",0))","v":""},{"$f":"IF(E4=\"\",\"\",IF(③選手情報入力!L12=\"\",\"\",IF(I4=1,VLOOKUP(③選手情報入力!L12,種目情報!$A$5:$C$22,3,FALSE),VLOOKUP(③選手情報入力!L12,種目情報!$E$5:$G$22,3,FALSE))))","v":""}]
[{"$f":"IF(①陸連データ貼り付け!A5=\"\",\"\",①陸連データ貼り付け!A5)","v":""},{"$f":"IF(E5=\"\",\"\",②団体情報入力!$D$3)","v":""},null,{"$f":"IF(③選手情報入力!B13=\"\",\"\",LEFT(③選手情報入力!B13,1))","v":""},{"$f":"IF(③選手情報入力!B13=\"\",\"\",REPLACE(③選手情報入力!B13,1,1,\"\"))","v":""},{"$f":"IF(E5=\"\",\"\",③選手情報入力!C13)","v":""},{"$f":"IF(E5=\"\",\"\",③選手情報入力!D13)","v":""},"",{"$f":"IF(E5=\"\",\"\",IF(③選手情報入力!F13=\"男\",1,2))","v":""},{"$f":"IF(E5=\"\",\"\",IF(③選手情報入力!G13=\"\",\"\",③選手情報入力!G13))","v":""},null,"","",null,{"$f":"IF(E5=\"\",\"\",IF(③選手情報入力!H13=\"\",\"\",IF(I5=1,VLOOKUP(③選手情報入力!H13,種目情報!$A$4:$B$232,2,FALSE),VLOOKUP(③選手情報入力!H13,種目情報!$E$4:$F$81,2,FALSE))))","v":""},{"$f":"IF(E5=\"\",\"\",③選手情報入力!I13)","v":""},{"$f":"IF(E5=\"\",\"\",IF(③選手情報入力!H13=\"\",\"\",0))","v":""},{"$f":"IF(E5=\"\",\"\",IF(③選手情報入力!H13=\"\",\"\",IF(I5=1,VLOOKUP(③選手情報入力!H13,種目情報!$A$4:$C$22,3,FALSE),VLOOKUP(③選手情報入力!H13,種目情報!$E$4:$G$22,3,FALSE))))","v":""},{"$f":"IF(E5=\"\",\"\",IF(③選手情報入力!L13=\"\",\"\",IF(I5=1,VLOOKUP(③選手情報入力!L13,種目情報!$A$9:$B$242,2,FALSE),VLOOKUP(③選手情報入力!L13,種目情報!$E$8:$F$241,2,FALSE))))","v":""},{"$f":"IF(E5=\"\",\"\",③選手情報入力!M13)","v":""},{"$f":"IF(E5=\"\",\"\",IF(③選手情報入力!L13=\"\",\"\",0))","v":""},{"$f":"IF(E5=\"\",\"\",IF(③選手情報入力!L13=\"\",\"\",IF(I5=1,VLOOKUP(③選手情報入力!L13,種目情報!$A$5:$C$22,3,FALSE),VLOOKUP(③選手情報入力!L13,種目情報!$E$5:$G$22,3,FALSE))))","v":""}]
[{"$f":"IF(①陸連データ貼り付け!A6=\"\",\"\",①陸連データ貼り付け!A6)","v":""},{"$f":"IF(E6=\"\",\"\",②団体情報入力!$D$3)","v":""},null,{"$f":"IF(③選手情報入力!B14=\"\",\"\",LEFT(③選手情報入力!B14,1))","v":""},{"$f":"IF(③選手情報入力!B14=\"\",\"\",REPLACE(③選手情報入力!B14,1,1,\"\"))","v":""},{"$f":"IF(E6=\"\",\"\",③選手情報入力!C14)","v":""},{"$f":"IF(E6=\"\",\"\",③選手情報入力!D14)","v":""},"",{"$f":"IF(E6=\"\",\"\",IF(③選手情報入力!F14=\"男\",1,2))","v":""},{"$f":"IF(E6=\"\",\"\",IF(③選手情報入力!G14=\"\",\"\",③選手情報入力!G14))","v":""},null,"","",null,{"$f":"IF(E6=\"\",\"\",IF(③選手情報入力!H14=\"\",\"\",IF(I6=1,VLOOKUP(③選手情報入力!H14,種目情報!$A$4:$B$232,2,FALSE),VLOOKUP(③選手情報入力!H14,種目情報!$E$4:$F$81,2,FALSE))))","v":""},{"$f":"IF(E6=\"\",\"\",③選手情報入力!I14)","v":""},{"$f":"IF(E6=\"\",\"\",IF(③選手情報入力!H14=\"\",\"\",0))","v":""},{"$f":"IF(E6=\"\",\"\",IF(③選手情報入力!H14=\"\",\"\",IF(I6=1,VLOOKUP(③選手情報入力!H14,種目情報!$A$4:$C$22,3,FALSE),VLOOKUP(③選手情報入力!H14,種目情報!$E$4:$G$22,3,FALSE))))","v":""},{"$f":"IF(E6=\"\",\"\",IF(③選手情報入力!L14=\"\",\"\",IF(I6=1,VLOOKUP(③選手情報入力!L14,種目情報!$A$9:$B$242,2,FALSE),VLOOKUP(③選手情報入力!L14,種目情報!$E$8:$F$241,2,FALSE))))","v":""},{"$f":"IF(E6=\"\",\"\",③選手情報入力!M14)","v":""},{"$f":"IF(E6=\"\",\"\",IF(③選手情報入力!L14=\"\",\"\",0))","v":""},{"$f":"IF(E6=\"\",\"\",IF(③選手情報入力!L14=\"\",\"\",IF(I6=1,VLOOKUP(③選手情報入力!L14,種目情報!$A$5:$C$22,3,FALSE),VLOOKUP(③選手情報入力!L14,種目情報!$E$5:$G$22,3,FALSE))))","v":""}]
[{"$f":"IF(①陸連データ貼り付け!A7=\"\",\"\",①陸連データ貼り付け!A7)","v":""},{"$f":"IF(E7=\"\",\"\",②団体情報入力!$D$3)","v":""},null,{"$f":"IF(③選手情報入力!B15=\"\",\"\",LEFT(③選手情報入力!B15,1))","v":""},{"$f":"IF(③選手情報入力!B15=\"\",\"\",REPLACE(③選手情報入力!B15,1,1,\"\"))","v":""},{"$f":"IF(E7=\"\",\"\",③選手情報入力!C15)","v":""},{"$f":"IF(E7=\"\",\"\",③選手情報入力!D15)","v":""},"",{"$f":"IF(E7=\"\",\"\",IF(③選手情報入力!F15=\"男\",1,2))","v":""},{"$f":"IF(E7=\"\",\"\",IF(③選手情報入力!G15=\"\",\"\",③選手情報入力!G15))","v":""},null,"","",null,{"$f":"IF(E7=\"\",\"\",IF(③選手情報入力!H15=\"\",\"\",IF(I7=1,VLOOKUP(③選手情報入力!H15,種目情報!$A$4:$B$232,2,FALSE),VLOOKUP(③選手情報入力!H15,種目情報!$E$4:$F$81,2,FALSE))))","v":""},{"$f":"IF(E7=\"\",\"\",③選手情報入力!I15)","v":""},{"$f":"IF(E7=\"\",\"\",IF(③選手情報入力!H15=\"\",\"\",0))","v":""},{"$f":"IF(E7=\"\",\"\",IF(③選手情報入力!H15=\"\",\"\",IF(I7=1,VLOOKUP(③選手情報入力!H15,種目情報!$A$4:$C$22,3,FALSE),VLOOKUP(③選手情報入力!H15,種目情報!$E$4:$G$22,3,FALSE))))","v":""},{"$f":"IF(E7=\"\",\"\",IF(③選手情報入力!L15=\"\",\"\",IF(I7=1,VLOOKUP(③選手情報入力!L15,種目情報!$A$9:$B$242,2,FALSE),VLOOKUP(③選手情報入力!L15,種目情報!$E$8:$F$241,2,FALSE))))","v":""},{"$f":"IF(E7=\"\",\"\",③選手情報入力!M15)","v":""},{"$f":"IF(E7=\"\",\"\",IF(③選手情報入力!L15=\"\",\"\",0))","v":""},{"$f":"IF(E7=\"\",\"\",IF(③選手情報入力!L15=\"\",\"\",IF(I7=1,VLOOKUP(③選手情報入力!L15,種目情報!$A$5:$C$22,3,FALSE),VLOOKUP(③選手情報入力!L15,種目情報!$E$5:$G$22,3,FALSE))))","v":""}]
[{"$f":"IF(①陸連データ貼り付け!A8=\"\",\"\",①陸連データ貼り付け!A8)","v":""},{"$f":"IF(E8=\"\",\"\",②団体情報入力!$D$3)","v":""},null,{"$f":"IF(③選手情報入力!B16=\"\",\"\",LEFT(③選手情報入力!B16,1))","v":""},{"$f":"IF(③選手情報入力!B16=\"\",\"\",REPLACE(③選手情報入力!B16,1,1,\"\"))","v":""},{"$f":"IF(E8=\"\",\"\",③選手情報入力!C16)","v":""},{"$f":"IF(E8=\"\",\"\",③選手情報入力!D16)","v":""},"",{"$f":"IF(E8=\"\",\"\",IF(③選手情報入力!F16=\"男\",1,2))","v":""},{"$f":"IF(E8=\"\",\"\",IF(③選手情報入力!G16=\"\",\"\",③選手情報入力!G16))","v":""},null,"","",null,{"$f":"IF(E8=\"\",\"\",IF(③選手情報入力!H16=\"\",\"\",IF(I8=1,VLOOKUP(③選手情報入力!H16,種目情報!$A$4:$B$232,2,FALSE),VLOOKUP(③選手情報入力!H16,種目情報!$E$4:$F$81,2,FALSE))))","v":""},{"$f":"IF(E8=\"\",\"\",③選手情報入力!I16)","v":""},{"$f":"IF(E8=\"\",\"\",IF(③選手情報入力!H16=\"\",\"\",0))","v":""},{"$f":"IF(E8=\"\",\"\",IF(③選手情報入力!H16=\"\",\"\",IF(I8=1,VLOOKUP(③選手情報入力!H16,種目情報!$A$4:$C$22,3,FALSE),VLOOKUP(③選手情報入力!H16,種目情報!$E$4:$G$22,3,FALSE))))","v":""},{"$f":"IF(E8=\"\",\"\",IF(③選手情報入力!L16=\"\",\"\",IF(I8=1,VLOOKUP(③選手情報入力!L16,種目情報!$A$9:$B$242,2,FALSE),VLOOKUP(③選手情報入力!L16,種目情報!$E$8:$F$241,2,FALSE))))","v":""},{"$f":"IF(E8=\"\",\"\",③選手情報入力!M16)","v":""},{"$f":"IF(E8=\"\",\"\",IF(③選手情報入力!L16=\"\",\"\",0))","v":""},{"$f":"IF(E8=\"\",\"\",IF(③選手情報入力!L16=\"\",\"\",IF(I8=1,VLOOKUP(③選手情報入力!L16,種目情報!$A$5:$C$22,3,FALSE),VLOOKUP(③選手情報入力!L16,種目情報!$E$5:$G$22,3,FALSE))))","v":""}]
[{"$f":"IF(①陸連データ貼り付け!A9=\"\",\"\",①陸連データ貼り付け!A9)","v":""},{"$f":"IF(E9=\"\",\"\",②団体情報入力!$D$3)","v":""},null,{"$f":"IF(③選手情報入力!B17=\"\",\"\",LEFT(③選手情報入力!B17,1))","v":""},{"$f":"IF(③選手情報入力!B17=\"\",\"\",REPLACE(③選手情報入力!B17,1,1,\"\"))","v":""},{"$f":"IF(E9=\"\",\"\",③選手情報入力!C17)","v":""},{"$f":"IF(E9=\"\",\"\",③選手情報入力!D17)","v":""},"",{"$f":"IF(E9=\"\",\"\",IF(③選手情報入力!F17=\"男\",1,2))","v":""},{"$f":"IF(E9=\"\",\"\",IF(③選手情報入力!G17=\"\",\"\",③選手情報入力!G17))","v":""},null,"","",null,{"$f":"IF(E9=\"\",\"\",IF(③選手情報入力!H17=\"\",\"\",IF(I9=1,VLOOKUP(③選手情報入力!H17,種目情報!$A$4:$B$232,2,FALSE),VLOOKUP(③選手情報入力!H17,種目情報!$E$4:$F$81,2,FALSE))))","v":""},{"$f":"IF(E9=\"\",\"\",③選手情報入力!I17)","v":""},{"$f":"IF(E9=\"\",\"\",IF(③選手情報入力!H17=\"\",\"\",0))","v":""},{"$f":"IF(E9=\"\",\"\",IF(③選手情報入力!H17=\"\",\"\",IF(I9=1,VLOOKUP(③選手情報入力!H17,種目情報!$A$4:$C$22,3,FALSE),VLOOKUP(③選手情報入力!H17,種目情報!$E$4:$G$22,3,FALSE))))","v":""},{"$f":"IF(E9=\"\",\"\",IF(③選手情報入力!L17=\"\",\"\",IF(I9=1,VLOOKUP(③選手情報入力!L17,種目情報!$A$9:$B$242,2,FALSE),VLOOKUP(③選手情報入力!L17,種目情報!$E$8:$F$241,2,FALSE))))","v":""},{"$f":"IF(E9=\"\",\"\",③選手情報入力!M17)","v":""},{"$f":"IF(E9=\"\",\"\",IF(③選手情報入力!L17=\"\",\"\",0))","v":""},{"$f":"IF(E9=\"\",\"\",IF(③選手情報入力!L17=\"\",\"\",IF(I9=1,VLOOKUP(③選手情報入力!L17,種目情報!$A$5:$C$22,3,FALSE),VLOOKUP(③選手情報入力!L17,種目情報!$E$5:$G$22,3,FALSE))))","v":""}]
[{"$f":"IF(①陸連データ貼り付け!A10=\"\",\"\",①陸連データ貼り付け!A10)","v":""},{"$f":"IF(E10=\"\",\"\",②団体情報入力!$D$3)","v":""},null,{"$f":"IF(③選手情報入力!B18=\"\",\"\",LEFT(③選手情報入力!B18,1))","v":""},{"$f":"IF(③選手情報入力!B18=\"\",\"\",REPLACE(③選手情報入力!B18,1,1,\"\"))","v":""},{"$f":"IF(E10=\"\",\"\",③選手情報入力!C18)","v":""},{"$f":"IF(E10=\"\",\"\",③選手情報入力!D18)","v":""},"",{"$f":"IF(E10=\"\",\"\",IF(③選手情報入力!F18=\"男\",1,2))","v":""},{"$f":"IF(E10=\"\",\"\",IF(③選手情報入力!G18=\"\",\"\",③選手情報入力!G18))","v":""},null,"","",null,{"$f":"IF(E10=\"\",\"\",IF(③選手情報入力!H18=\"\",\"\",IF(I10=1,VLOOKUP(③選手情報入力!H18,種目情報!$A$4:$B$232,2,FALSE),VLOOKUP(③選手情報入力!H18,種目情報!$E$4:$F$81,2,FALSE))))","v":""},{"$f":"IF(E10=\"\",\"\",③選手情報入力!I18)","v":""},{"$f":"IF(E10=\"\",\"\",IF(③選手情報入力!H18=\"\",\"\",0))","v":""},{"$f":"IF(E10=\"\",\"\",IF(③選手情報入力!H18=\"\",\"\",IF(I10=1,VLOOKUP(③選手情報入力!H18,種目情報!$A$4:$C$22,3,FALSE),VLOOKUP(③選手情報入力!H18,種目情報!$E$4:$G$22,3,FALSE))))","v":""},{"$f":"IF(E10=\"\",\"\",IF(③選手情報入力!L18=\"\",\"\",IF(I10=1,VLOOKUP(③選手情報入力!L18,種目情報!$A$9:$B$242,2,FALSE),VLOOKUP(③選手情報入力!L18,種目情報!$E$8:$F$241,2,FALSE))))","v":""},{"$f":"IF(E10=\"\",\"\",③選手情報入力!M18)","v":""},{"$f":"IF(E10=\"\",\"\",IF(③選手情報入力!L18=\"\",\"\",0))","v":""},{"$f":"IF(E10=\"\",\"\",IF(③選手情報入力!L18=\"\",\"\",IF(I10=1,VLOOKUP(③選手情報入力!L18,種目情報!$A$5:$C$22,3,FALSE),VLOOKUP(③選手情報入力!L18,種目情報!$E$5:$G$22,3,FALSE))))","v":""}]
[{"$f":"IF(①陸連データ貼り付け!A11=\"\",\"\",①陸連データ貼り付け!A11)","v":""},{"$f":"IF(E11=\"\",\"\",②団体情報入力!$D$3)","v":""},null,{"$f":"IF(③選手情報入力!B19=\"\",\"\",LEFT(③選手情報入力!B19,1))","v":""},{"$f":"IF(③選手情報入力!B19=\"\",\"\",REPLACE(③選手情報入力!B19,1,1,\"\"))","v":""},{"$f":"IF(E11=\"\",\"\",③選手情報入力!C19)","v":""},{"$f":"IF(E11=\"\",\"\",③選手情報入力!D19)","v":""},"",{"$f":"IF(E11=\"\",\"\",IF(③選手情報入力!F19=\"男\",1,2))","v":""},{"$f":"IF(E11=\"\",\"\",IF(③選手情報入力!G19=\"\",\"\",③選手情報入力!G19))","v":""},null,"","",null,{"$f":"IF(E11=\"\",\"\",IF(③選手情報入力!H19=\"\",\"\",IF(I11=1,VLOOKUP(③選手情報入力!H19,種目情報!$A$4:$B$232,2,FALSE),VLOOKUP(③選手情報入力!H19,種目情報!$E$4:$F$81,2,FALSE))))","v":""},{"$f":"IF(E11=\"\",\"\",③選手情報入力!I19)","v":""},{"$f":"IF(E11=\"\",\"\",IF(③選手情報入力!H19=\"\",\"\",0))","v":""},{"$f":"IF(E11=\"\",\"\",IF(③選手情報入力!H19=\"\",\"\",IF(I11=1,VLOOKUP(③選手情報入力!H19,種目情報!$A$4:$C$22,3,FALSE),VLOOKUP(③選手情報入力!H19,種目情報!$E$4:$G$22,3,FALSE))))","v":""},{"$f":"IF(E11=\"\",\"\",IF(③選手情報入力!L19=\"\",\"\",IF(I11=1,VLOOKUP(③選手情報入力!L19,種目情報!$A$9:$B$242,2,FALSE),VLOOKUP(③選手情報入力!L19,種目情報!$E$8:$F$241,2,FALSE))))","v":""},{"$f":"IF(E11=\"\",\"\",③選手情報入力!M19)","v":""},{"$f":"IF(E11=\"\",\"\",IF(③選手情報入力!L19=\"\",\"\",0))","v":""},{"$f":"IF(E11=\"\",\"\",IF(③選手情報入力!L19=\"\",\"\",IF(I11=1,VLOOKUP(③選手情報入力!L19,種目情報!$A$5:$C$22,3,FALSE),VLOOKUP(③選手情報入力!L19,種目情報!$E$5:$G$22,3,FALSE))))","v":""}]
[{"$f":"IF(①陸連データ貼り付け!A12=\"\",\"\",①陸連データ貼り付け!A12)","v":""},{"$f":"IF(E12=\"\",\"\",②団体情報入力!$D$3)","v":""},null,{"$f":"IF(③選手情報入力!B20=\"\",\"\",LEFT(③選手情報入力!B20,1))","v":""},{"$f":"IF(③選手情報入力!B20=\"\",\"\",REPLACE(③選手情報入力!B20,1,1,\"\"))","v":""},{"$f":"IF(E12=\"\",\"\",③選手情報入力!C20)","v":""},{"$f":"IF(E12=\"\",\"\",③選手情報入力!D20)","v":""},"",{"$f":"IF(E12=\"\",\"\",IF(③選手情報入力!F20=\"男\",1,2))","v":""},{"$f":"IF(E12=\"\",\"\",IF(③選手情報入力!G20=\"\",\"\",③選手情報入力!G20))","v":""},null,"","",null,{"$f":"IF(E12=\"\",\"\",IF(③選手情報入力!H20=\"\",\"\",IF(I12=1,VLOOKUP(③選手情報入力!H20,種目情報!$A$4:$B$232,2,FALSE),VLOOKUP(③選手情報入力!H20,種目情報!$E$4:$F$81,2,FALSE))))","v":""},{"$f":"IF(E12=\"\",\"\",③選手情報入力!I20)","v":""},{"$f":"IF(E12=\"\",\"\",IF(③選手情報入力!H20=\"\",\"\",0))","v":""},{"$f":"IF(E12=\"\",\"\",IF(③選手情報入力!H20=\"\",\"\",IF(I12=1,VLOOKUP(③選手情報入力!H20,種目情報!$A$4:$C$22,3,FALSE),VLOOKUP(③選手情報入力!H20,種目情報!$E$4:$G$22,3,FALSE))))","v":""},{"$f":"IF(E12=\"\",\"\",IF(③選手情報入力!L20=\"\",\"\",IF(I12=1,VLOOKUP(③選手情報入力!L20,種目情報!$A$9:$B$242,2,FALSE),VLOOKUP(③選手情報入力!L20,種目情報!$E$8:$F$241,2,FALSE))))","v":""},{"$f":"IF(E12=\"\",\"\",③選手情報入力!M20)","v":""},{"$f":"IF(E12=\"\",\"\",IF(③選手情報入力!L20=\"\",\"\",0))","v":""},{"$f":"IF(E12=\"\",\"\",IF(③選手情報入力!L20=\"\",\"\",IF(I12=1,VLOOKUP(③選手情報入力!L20,種目情報!$A$5:$C$22,3,FALSE),VLOOKUP(③選手情報入力!L20,種目情報!$E$5:$G$22,3,FALSE))))","v":""}]
[{"$f":"IF(①陸連データ貼り付け!A13=\"\",\"\",①陸連データ貼り付け!A13)","v":""},{"$f":"IF(E13=\"\",\"\",②団体情報入力!$D$3)","v":""},null,{"$f":"IF(③選手情報入力!B21=\"\",\"\",LEFT(③選手情報入力!B21,1))","v":""},{"$f":"IF(③選手情報入力!B21=\"\",\"\",REPLACE(③選手情報入力!B21,1,1,\"\"))","v":""},{"$f":"IF(E13=\"\",\"\",③選手情報入力!C21)","v":""},{"$f":"IF(E13=\"\",\"\",③選手情報入力!D21)","v":""},"",{"$f":"IF(E13=\"\",\"\",IF(③選手情報入力!F21=\"男\",1,2))","v":""},{"$f":"IF(E13=\"\",\"\",IF(③選手情報入力!G21=\"\",\"\",③選手情報入力!G21))","v":""},null,"","",null,{"$f":"IF(E13=\"\",\"\",IF(③選手情報入力!H21=\"\",\"\",IF(I13=1,VLOOKUP(③選手情報入力!H21,種目情報!$A$4:$B$232,2,FALSE),VLOOKUP(③選手情報入力!H21,種目情報!$E$4:$F$81,2,FALSE))))","v":""},{"$f":"IF(E13=\"\",\"\",③選手情報入力!I21)","v":""},{"$f":"IF(E13=\"\",\"\",IF(③選手情報入力!H21=\"\",\"\",0))","v":""},{"$f":"IF(E13=\"\",\"\",IF(③選手情報入力!H21=\"\",\"\",IF(I13=1,VLOOKUP(③選手情報入力!H21,種目情報!$A$4:$C$22,3,FALSE),VLOOKUP(③選手情報入力!H21,種目情報!$E$4:$G$22,3,FALSE))))","v":""},{"$f":"IF(E13=\"\",\"\",IF(③選手情報入力!L21=\"\",\"\",IF(I13=1,VLOOKUP(③選手情報入力!L21,種目情報!$A$9:$B$242,2,FALSE),VLOOKUP(③選手情報入力!L21,種目情報!$E$8:$F$241,2,FALSE))))","v":""},{"$f":"IF(E13=\"\",\"\",③選手情報入力!M21)","v":""},{"$f":"IF(E13=\"\",\"\",IF(③選手情報入力!L21=\"\",\"\",0))","v":""},{"$f":"IF(E13=\"\",\"\",IF(③選手情報入力!L21=\"\",\"\",IF(I13=1,VLOOKUP(③選手情報入力!L21,種目情報!$A$5:$C$22,3,FALSE),VLOOKUP(③選手情報入力!L21,種目情報!$E$5:$G$22,3,FALSE))))","v":""}]
[{"$f":"IF(①陸連データ貼り付け!A14=\"\",\"\",①陸連データ貼り付け!A14)","v":""},{"$f":"IF(E14=\"\",\"\",②団体情報入力!$D$3)","v":""},null,{"$f":"IF(③選手情報入力!B22=\"\",\"\",LEFT(③選手情報入力!B22,1))","v":""},{"$f":"IF(③選手情報入力!B22=\"\",\"\",REPLACE(③選手情報入力!B22,1,1,\"\"))","v":""},{"$f":"IF(E14=\"\",\"\",③選手情報入力!C22)","v":""},{"$f":"IF(E14=\"\",\"\",③選手情報入力!D22)","v":""},"",{"$f":"IF(E14=\"\",\"\",IF(③選手情報入力!F22=\"男\",1,2))","v":""},{"$f":"IF(E14=\"\",\"\",IF(③選手情報入力!G22=\"\",\"\",③選手情報入力!G22))","v":""},null,"","",null,{"$f":"IF(E14=\"\",\"\",IF(③選手情報入力!H22=\"\",\"\",IF(I14=1,VLOOKUP(③選手情報入力!H22,種目情報!$A$4:$B$232,2,FALSE),VLOOKUP(③選手情報入力!H22,種目情報!$E$4:$F$81,2,FALSE))))","v":""},{"$f":"IF(E14=\"\",\"\",③選手情報入力!I22)","v":""},{"$f":"IF(E14=\"\",\"\",IF(③選手情報入力!H22=\"\",\"\",0))","v":""},{"$f":"IF(E14=\"\",\"\",IF(③選手情報入力!H22=\"\",\"\",IF(I14=1,VLOOKUP(③選手情報入力!H22,種目情報!$A$4:$C$22,3,FALSE),VLOOKUP(③選手情報入力!H22,種目情報!$E$4:$G$22,3,FALSE))))","v":""},{"$f":"IF(E14=\"\",\"\",IF(③選手情報入力!L22=\"\",\"\",IF(I14=1,VLOOKUP(③選手情報入力!L22,種目情報!$A$9:$B$242,2,FALSE),VLOOKUP(③選手情報入力!L22,種目情報!$E$8:$F$241,2,FALSE))))","v":""},{"$f":"IF(E14=\"\",\"\",③選手情報入力!M22)","v":""},{"$f":"IF(E14=\"\",\"\",IF(③選手情報入力!L22=\"\",\"\",0))","v":""},{"$f":"IF(E14=\"\",\"\",IF(③選手情報入力!L22=\"\",\"\",IF(I14=1,VLOOKUP(③選手情報入力!L22,種目情報!$A$5:$C$22,3,FALSE),VLOOKUP(③選手情報入力!L22,種目情報!$E$5:$G$22,3,FALSE))))","v":""}]
[{"$f":"IF(①陸連データ貼り付け!A15=\"\",\"\",①陸連データ貼り付け!A15)","v":""},{"$f":"IF(E15=\"\",\"\",②団体情報入力!$D$3)","v":""},null,{"$f":"IF(③選手情報入力!B23=\"\",\"\",LEFT(③選手情報入力!B23,1))","v":""},{"$f":"IF(③選手情報入力!B23=\"\",\"\",REPLACE(③選手情報入力!B23,1,1,\"\"))","v":""},{"$f":"IF(E15=\"\",\"\",③選手情報入力!C23)","v":""},{"$f":"IF(E15=\"\",\"\",③選手情報入力!D23)","v":""},"",{"$f":"IF(E15=\"\",\"\",IF(③選手情報入力!F23=\"男\",1,2))","v":""},{"$f":"IF(E15=\"\",\"\",IF(③選手情報入力!G23=\"\",\"\",③選手情報入力!G23))","v":""},null,"","",null,{"$f":"IF(E15=\"\",\"\",IF(③選手情報入力!H23=\"\",\"\",IF(I15=1,VLOOKUP(③選手情報入力!H23,種目情報!$A$4:$B$232,2,FALSE),VLOOKUP(③選手情報入力!H23,種目情報!$E$4:$F$81,2,FALSE))))","v":""},{"$f":"IF(E15=\"\",\"\",③選手情報入力!I23)","v":""},{"$f":"IF(E15=\"\",\"\",IF(③選手情報入力!H23=\"\",\"\",0))","v":""},{"$f":"IF(E15=\"\",\"\",IF(③選手情報入力!H23=\"\",\"\",IF(I15=1,VLOOKUP(③選手情報入力!H23,種目情報!$A$4:$C$22,3,FALSE),VLOOKUP(③選手情報入力!H23,種目情報!$E$4:$G$22,3,FALSE))))","v":""},{"$f":"IF(E15=\"\",\"\",IF(③選手情報入力!L23=\"\",\"\",IF(I15=1,VLOOKUP(③選手情報入力!L23,種目情報!$A$9:$B$242,2,FALSE),VLOOKUP(③選手情報入力!L23,種目情報!$E$8:$F$241,2,FALSE))))","v":""},{"$f":"IF(E15=\"\",\"\",③選手情報入力!M23)","v":""},{"$f":"IF(E15=\"\",\"\",IF(③選手情報入力!L23=\"\",\"\",0))","v":""},{"$f":"IF(E15=\"\",\"\",IF(③選手情報入力!L23=\"\",\"\",IF(I15=1,VLOOKUP(③選手情報入力!L23,種目情報!$A$5:$C$22,3,FALSE),VLOOKUP(③選手情報入力!L23,種目情報!$E$5:$G$22,3,FALSE))))","v":""}]
[{"$f":"IF(①陸連データ貼り付け!A16=\"\",\"\",①陸連データ貼り付け!A16)","v":""},{"$f":"IF(E16=\"\",\"\",②団体情報入力!$D$3)","v":""},null,{"$f":"IF(③選手情報入力!B24=\"\",\"\",LEFT(③選手情報入力!B24,1))","v":""},{"$f":"IF(③選手情報入力!B24=\"\",\"\",REPLACE(③選手情報入力!B24,1,1,\"\"))","v":""},{"$f":"IF(E16=\"\",\"\",③選手情報入力!C24)","v":""},{"$f":"IF(E16=\"\",\"\",③選手情報入力!D24)","v":""},"",{"$f":"IF(E16=\"\",\"\",IF(③選手情報入力!F24=\"男\",1,2))","v":""},{"$f":"IF(E16=\"\",\"\",IF(③選手情報入力!G24=\"\",\"\",③選手情報入力!G24))","v":""},null,"","",null,{"$f":"IF(E16=\"\",\"\",IF(③選手情報入力!H24=\"\",\"\",IF(I16=1,VLOOKUP(③選手情報入力!H24,種目情報!$A$4:$B$232,2,FALSE),VLOOKUP(③選手情報入力!H24,種目情報!$E$4:$F$81,2,FALSE))))","v":""},{"$f":"IF(E16=\"\",\"\",③選手情報入力!I24)","v":""},{"$f":"IF(E16=\"\",\"\",IF(③選手情報入力!H24=\"\",\"\",0))","v":""},{"$f":"IF(E16=\"\",\"\",IF(③選手情報入力!H24=\"\",\"\",IF(I16=1,VLOOKUP(③選手情報入力!H24,種目情報!$A$4:$C$22,3,FALSE),VLOOKUP(③選手情報入力!H24,種目情報!$E$4:$G$22,3,FALSE))))","v":""},{"$f":"IF(E16=\"\",\"\",IF(③選手情報入力!L24=\"\",\"\",IF(I16=1,VLOOKUP(③選手情報入力!L24,種目情報!$A$9:$B$242,2,FALSE),VLOOKUP(③選手情報入力!L24,種目情報!$E$8:$F$241,2,FALSE))))","v":""},{"$f":"IF(E16=\"\",\"\",③選手情報入力!M24)","v":""},{"$f":"IF(E16=\"\",\"\",IF(③選手情報入力!L24=\"\",\"\",0))","v":""},{"$f":"IF(E16=\"\",\"\",IF(③選手情報入力!L24=\"\",\"\",IF(I16=1,VLOOKUP(③選手情報入力!L24,種目情報!$A$5:$C$22,3,FALSE),VLOOKUP(③選手情報入力!L24,種目情報!$E$5:$G$22,3,FALSE))))","v":""}]
[{"$f":"IF(①陸連データ貼り付け!A17=\"\",\"\",①陸連データ貼り付け!A17)","v":""},{"$f":"IF(E17=\"\",\"\",②団体情報入力!$D$3)","v":""},null,{"$f":"IF(③選手情報入力!B25=\"\",\"\",LEFT(③選手情報入力!B25,1))","v":""},{"$f":"IF(③選手情報入力!B25=\"\",\"\",REPLACE(③選手情報入力!B25,1,1,\"\"))","v":""},{"$f":"IF(E17=\"\",\"\",③選手情報入力!C25)","v":""},{"$f":"IF(E17=\"\",\"\",③選手情報入力!D25)","v":""},"",{"$f":"IF(E17=\"\",\"\",IF(③選手情報入力!F25=\"男\",1,2))","v":""},{"$f":"IF(E17=\"\",\"\",IF(③選手情報入力!G25=\"\",\"\",③選手情報入力!G25))","v":""},null,"","",null,{"$f":"IF(E17=\"\",\"\",IF(③選手情報入力!H25=\"\",\"\",IF(I17=1,VLOOKUP(③選手情報入力!H25,種目情報!$A$4:$B$232,2,FALSE),VLOOKUP(③選手情報入力!H25,種目情報!$E$4:$F$81,2,FALSE))))","v":""},{"$f":"IF(E17=\"\",\"\",③選手情報入力!I25)","v":""},{"$f":"IF(E17=\"\",\"\",IF(③選手情報入力!H25=\"\",\"\",0))","v":""},{"$f":"IF(E17=\"\",\"\",IF(③選手情報入力!H25=\"\",\"\",IF(I17=1,VLOOKUP(③選手情報入力!H25,種目情報!$A$4:$C$22,3,FALSE),VLOOKUP(③選手情報入力!H25,種目情報!$E$4:$G$22,3,FALSE))))","v":""},{"$f":"IF(E17=\"\",\"\",IF(③選手情報入力!L25=\"\",\"\",IF(I17=1,VLOOKUP(③選手情報入力!L25,種目情報!$A$9:$B$242,2,FALSE),VLOOKUP(③選手情報入力!L25,種目情報!$E$8:$F$241,2,FALSE))))","v":""},{"$f":"IF(E17=\"\",\"\",③選手情報入力!M25)","v":""},{"$f":"IF(E17=\"\",\"\",IF(③選手情報入力!L25=\"\",\"\",0))","v":""},{"$f":"IF(E17=\"\",\"\",IF(③選手情報入力!L25=\"\",\"\",IF(I17=1,VLOOKUP(③選手情報入力!L25,種目情報!$A$5:$C$22,3,FALSE),VLOOKUP(③選手情報入力!L25,種目情報!$E$5:$G$22,3,FALSE))))","v":""}]
[{"$f":"IF(①陸連データ貼り付け!A18=\"\",\"\",①陸連データ貼り付け!A18)","v":""},{"$f":"IF(E18=\"\",\"\",②団体情報入力!$D$3)","v":""},null,{"$f":"IF(③選手情報入力!B26=\"\",\"\",LEFT(③選手情報入力!B26,1))","v":""},{"$f":"IF(③選手情報入力!B26=\"\",\"\",REPLACE(③選手情報入力!B26,1,1,\"\"))","v":""},{"$f":"IF(E18=\"\",\"\",③選手情報入力!C26)","v":""},{"$f":"IF(E18=\"\",\"\",③選手情報入力!D26)","v":""},"",{"$f":"IF(E18=\"\",\"\",IF(③選手情報入力!F26=\"男\",1,2))","v":""},{"$f":"IF(E18=\"\",\"\",IF(③選手情報入力!G26=\"\",\"\",③選手情報入力!G26))","v":""},null,"","",null,{"$f":"IF(E18=\"\",\"\",IF(③選手情報入力!H26=\"\",\"\",IF(I18=1,VLOOKUP(③選手情報入力!H26,種目情報!$A$4:$B$232,2,FALSE),VLOOKUP(③選手情報入力!H26,種目情報!$E$4:$F$81,2,FALSE))))","v":""},{"$f":"IF(E18=\"\",\"\",③選手情報入力!I26)","v":""},{"$f":"IF(E18=\"\",\"\",IF(③選手情報入力!H26=\"\",\"\",0))","v":""},{"$f":"IF(E18=\"\",\"\",IF(③選手情報入力!H26=\"\",\"\",IF(I18=1,VLOOKUP(③選手情報入力!H26,種目情報!$A$4:$C$22,3,FALSE),VLOOKUP(③選手情報入力!H26,種目情報!$E$4:$G$22,3,FALSE))))","v":""},{"$f":"IF(E18=\"\",\"\",IF(③選手情報入力!L26=\"\",\"\",IF(I18=1,VLOOKUP(③選手情報入力!L26,種目情報!$A$9:$B$242,2,FALSE),VLOOKUP(③選手情報入力!L26,種目情報!$E$8:$F$241,2,FALSE))))","v":""},{"$f":"IF(E18=\"\",\"\",③選手情報入力!M26)","v":""},{"$f":"IF(E18=\"\",\"\",IF(③選手情報入力!L26=\"\",\"\",0))","v":""},{"$f":"IF(E18=\"\",\"\",IF(③選手情報入力!L26=\"\",\"\",IF(I18=1,VLOOKUP(③選手情報入力!L26,種目情報!$A$5:$C$22,3,FALSE),VLOOKUP(③選手情報入力!L26,種目情報!$E$5:$G$22,3,FALSE))))","v":""}]
[{"$f":"IF(①陸連データ貼り付け!A19=\"\",\"\",①陸連データ貼り付け!A19)","v":""},{"$f":"IF(E19=\"\",\"\",②団体情報入力!$D$3)","v":""},null,{"$f":"IF(③選手情報入力!B27=\"\",\"\",LEFT(③選手情報入力!B27,1))","v":""},{"$f":"IF(③選手情報入力!B27=\"\",\"\",REPLACE(③選手情報入力!B27,1,1,\"\"))","v":""},{"$f":"IF(E19=\"\",\"\",③選手情報入力!C27)","v":""},{"$f":"IF(E19=\"\",\"\",③選手情報入力!D27)","v":""},"",{"$f":"IF(E19=\"\",\"\",IF(③選手情報入力!F27=\"男\",1,2))","v":""},{"$f":"IF(E19=\"\",\"\",IF(③選手情報入力!G27=\"\",\"\",③選手情報入力!G27))","v":""},null,"","",null,{"$f":"IF(E19=\"\",\"\",IF(③選手情報入力!H27=\"\",\"\",IF(I19=1,VLOOKUP(③選手情報入力!H27,種目情報!$A$4:$B$232,2,FALSE),VLOOKUP(③選手情報入力!H27,種目情報!$E$4:$F$81,2,FALSE))))","v":""},{"$f":"IF(E19=\"\",\"\",③選手情報入力!I27)","v":""},{"$f":"IF(E19=\"\",\"\",IF(③選手情報入力!H27=\"\",\"\",0))","v":""},{"$f":"IF(E19=\"\",\"\",IF(③選手情報入力!H27=\"\",\"\",IF(I19=1,VLOOKUP(③選手情報入力!H27,種目情報!$A$4:$C$22,3,FALSE),VLOOKUP(③選手情報入力!H27,種目情報!$E$4:$G$22,3,FALSE))))","v":""},{"$f":"IF(E19=\"\",\"\",IF(③選手情報入力!L27=\"\",\"\",IF(I19=1,VLOOKUP(③選手情報入力!L27,種目情報!$A$9:$B$242,2,FALSE),VLOOKUP(③選手情報入力!L27,種目情報!$E$8:$F$241,2,FALSE))))","v":""},{"$f":"IF(E19=\"\",\"\",③選手情報入力!M27)","v":""},{"$f":"IF(E19=\"\",\"\",IF(③選手情報入力!L27=\"\",\"\",0))","v":""},{"$f":"IF(E19=\"\",\"\",IF(③選手情報入力!L27=\"\",\"\",IF(I19=1,VLOOKUP(③選手情報入力!L27,種目情報!$A$5:$C$22,3,FALSE),VLOOKUP(③選手情報入力!L27,種目情報!$E$5:$G$22,3,FALSE))))","v":""}]
[{"$f":"IF(①陸連データ貼り付け!A20=\"\",\"\",①陸連データ貼り付け!A20)","v":""},{"$f":"IF(E20=\"\",\"\",②団体情報入力!$D$3)","v":""},null,{"$f":"IF(③選手情報入力!B28=\"\",\"\",LEFT(③選手情報入力!B28,1))","v":""},{"$f":"IF(③選手情報入力!B28=\"\",\"\",REPLACE(③選手情報入力!B28,1,1,\"\"))","v":""},{"$f":"IF(E20=\"\",\"\",③選手情報入力!C28)","v":""},{"$f":"IF(E20=\"\",\"\",③選手情報入力!D28)","v":""},"",{"$f":"IF(E20=\"\",\"\",IF(③選手情報入力!F28=\"男\",1,2))","v":""},{"$f":"IF(E20=\"\",\"\",IF(③選手情報入力!G28=\"\",\"\",③選手情報入力!G28))","v":""},null,"","",null,{"$f":"IF(E20=\"\",\"\",IF(③選手情報入力!H28=\"\",\"\",IF(I20=1,VLOOKUP(③選手情報入力!H28,種目情報!$A$4:$B$232,2,FALSE),VLOOKUP(③選手情報入力!H28,種目情報!$E$4:$F$81,2,FALSE))))","v":""},{"$f":"IF(E20=\"\",\"\",③選手情報入力!I28)","v":""},{"$f":"IF(E20=\"\",\"\",IF(③選手情報入力!H28=\"\",\"\",0))","v":""},{"$f":"IF(E20=\"\",\"\",IF(③選手情報入力!H28=\"\",\"\",IF(I20=1,VLOOKUP(③選手情報入力!H28,種目情報!$A$4:$C$22,3,FALSE),VLOOKUP(③選手情報入力!H28,種目情報!$E$4:$G$22,3,FALSE))))","v":""},{"$f":"IF(E20=\"\",\"\",IF(③選手情報入力!L28=\"\",\"\",IF(I20=1,VLOOKUP(③選手情報入力!L28,種目情報!$A$9:$B$242,2,FALSE),VLOOKUP(③選手情報入力!L28,種目情報!$E$8:$F$241,2,FALSE))))","v":""},{"$f":"IF(E20=\"\",\"\",③選手情報入力!M28)","v":""},{"$f":"IF(E20=\"\",\"\",IF(③選手情報入力!L28=\"\",\"\",0))","v":""},{"$f":"IF(E20=\"\",\"\",IF(③選手情報入力!L28=\"\",\"\",IF(I20=1,VLOOKUP(③選手情報入力!L28,種目情報!$A$5:$C$22,3,FALSE),VLOOKUP(③選手情報入力!L28,種目情報!$E$5:$G$22,3,FALSE))))","v":""}]
[{"$f":"IF(①陸連データ貼り付け!A21=\"\",\"\",①陸連データ貼り付け!A21)","v":""},{"$f":"IF(E21=\"\",\"\",②団体情報入力!$D$3)","v":""},null,{"$f":"IF(③選手情報入力!B29=\"\",\"\",LEFT(③選手情報入力!B29,1))","v":""},{"$f":"IF(③選手情報入力!B29=\"\",\"\",REPLACE(③選手情報入力!B29,1,1,\"\"))","v":""},{"$f":"IF(E21=\"\",\"\",③選手情報入力!C29)","v":""},{"$f":"IF(E21=\"\",\"\",③選手情報入力!D29)","v":""},"",{"$f":"IF(E21=\"\",\"\",IF(③選手情報入力!F29=\"男\",1,2))","v":""},{"$f":"IF(E21=\"\",\"\",IF(③選手情報入力!G29=\"\",\"\",③選手情報入力!G29))","v":""},null,"","",null,{"$f":"IF(E21=\"\",\"\",IF(③選手情報入力!H29=\"\",\"\",IF(I21=1,VLOOKUP(③選手情報入力!H29,種目情報!$A$4:$B$232,2,FALSE),VLOOKUP(③選手情報入力!H29,種目情報!$E$4:$F$81,2,FALSE))))","v":""},{"$f":"IF(E21=\"\",\"\",③選手情報入力!I29)","v":""},{"$f":"IF(E21=\"\",\"\",IF(③選手情報入力!H29=\"\",\"\",0))","v":""},{"$f":"IF(E21=\"\",\"\",IF(③選手情報入力!H29=\"\",\"\",IF(I21=1,VLOOKUP(③選手情報入力!H29,種目情報!$A$4:$C$22,3,FALSE),VLOOKUP(③選手情報入力!H29,種目情報!$E$4:$G$22,3,FALSE))))","v":""},{"$f":"IF(E21=\"\",\"\",IF(③選手情報入力!L29=\"\",\"\",IF(I21=1,VLOOKUP(③選手情報入力!L29,種目情報!$A$9:$B$242,2,FALSE),VLOOKUP(③選手情報入力!L29,種目情報!$E$8:$F$241,2,FALSE))))","v":""},{"$f":"IF(E21=\"\",\"\",③選手情報入力!M29)","v":""},{"$f":"IF(E21=\"\",\"\",IF(③選手情報入力!L29=\"\",\"\",0))","v":""},{"$f":"IF(E21=\"\",\"\",IF(③選手情報入力!L29=\"\",\"\",IF(I21=1,VLOOKUP(③選手情報入力!L29,種目情報!$A$5:$C$22,3,FALSE),VLOOKUP(③選手情報入力!L29,種目情報!$E$5:$G$22,3,FALSE))))","v":""}]
[{"$f":"IF(①陸連データ貼り付け!A22=\"\",\"\",①陸連データ貼り付け!A22)","v":""},{"$f":"IF(E22=\"\",\"\",②団体情報入力!$D$3)","v":""},null,{"$f":"IF(③選手情報入力!B30=\"\",\"\",LEFT(③選手情報入力!B30,1))","v":""},{"$f":"IF(③選手情報入力!B30=\"\",\"\",REPLACE(③選手情報入力!B30,1,1,\"\"))","v":""},{"$f":"IF(E22=\"\",\"\",③選手情報入力!C30)","v":""},{"$f":"IF(E22=\"\",\"\",③選手情報入力!D30)","v":""},"",{"$f":"IF(E22=\"\",\"\",IF(③選手情報入力!F30=\"男\",1,2))","v":""},{"$f":"IF(E22=\"\",\"\",IF(③選手情報入力!G30=\"\",\"\",③選手情報入力!G30))","v":""},null,"","",null,{"$f":"IF(E22=\"\",\"\",IF(③選手情報入力!H30=\"\",\"\",IF(I22=1,VLOOKUP(③選手情報入力!H30,種目情報!$A$4:$B$232,2,FALSE),VLOOKUP(③選手情報入力!H30,種目情報!$E$4:$F$81,2,FALSE))))","v":""},{"$f":"IF(E22=\"\",\"\",③選手情報入力!I30)","v":""},{"$f":"IF(E22=\"\",\"\",IF(③選手情報入力!H30=\"\",\"\",0))","v":""},{"$f":"IF(E22=\"\",\"\",IF(③選手情報入力!H30=\"\",\"\",IF(I22=1,VLOOKUP(③選手情報入力!H30,種目情報!$A$4:$C$22,3,FALSE),VLOOKUP(③選手情報入力!H30,種目情報!$E$4:$G$22,3,FALSE))))","v":""},{"$f":"IF(E22=\"\",\"\",IF(③選手情報入力!L30=\"\",\"\",IF(I22=1,VLOOKUP(③選手情報入力!L30,種目情報!$A$9:$B$242,2,FALSE),VLOOKUP(③選手情報入力!L30,種目情報!$E$8:$F$241,2,FALSE))))","v":""},{"$f":"IF(E22=\"\",\"\",③選手情報入力!M30)","v":""},{"$f":"IF(E22=\"\",\"\",IF(③選手情報入力!L30=\"\",\"\",0))","v":""},{"$f":"IF(E22=\"\",\"\",IF(③選手情報入力!L30=\"\",\"\",IF(I22=1,VLOOKUP(③選手情報入力!L30,種目情報!$A$5:$C$22,3,FALSE),VLOOKUP(③選手情報入力!L30,種目情報!$E$5:$G$22,3,FALSE))))","v":""}]
[{"$f":"IF(①陸連データ貼り付け!A23=\"\",\"\",①陸連データ貼り付け!A23)","v":""},{"$f":"IF(E23=\"\",\"\",②団体情報入力!$D$3)","v":""},null,{"$f":"IF(③選手情報入力!B31=\"\",\"\",LEFT(③選手情報入力!B31,1))","v":""},{"$f":"IF(③選手情報入力!B31=\"\",\"\",REPLACE(③選手情報入力!B31,1,1,\"\"))","v":""},{"$f":"IF(E23=\"\",\"\",③選手情報入力!C31)","v":""},{"$f":"IF(E23=\"\",\"\",③選手情報入力!D31)","v":""},"",{"$f":"IF(E23=\"\",\"\",IF(③選手情報入力!F31=\"男\",1,2))","v":""},{"$f":"IF(E23=\"\",\"\",IF(③選手情報入力!G31=\"\",\"\",③選手情報入力!G31))","v":""},null,"","",null,{"$f":"IF(E23=\"\",\"\",IF(③選手情報入力!H31=\"\",\"\",IF(I23=1,VLOOKUP(③選手情報入力!H31,種目情報!$A$4:$B$232,2,FALSE),VLOOKUP(③選手情報入力!H31,種目情報!$E$4:$F$81,2,FALSE))))","v":""},{"$f":"IF(E23=\"\",\"\",③選手情報入力!I31)","v":""},{"$f":"IF(E23=\"\",\"\",IF(③選手情報入力!H31=\"\",\"\",0))","v":""},{"$f":"IF(E23=\"\",\"\",IF(③選手情報入力!H31=\"\",\"\",IF(I23=1,VLOOKUP(③選手情報入力!H31,種目情報!$A$4:$C$22,3,FALSE),VLOOKUP(③選手情報入力!H31,種目情報!$E$4:$G$22,3,FALSE))))","v":""},{"$f":"IF(E23=\"\",\"\",IF(③選手情報入力!L31=\"\",\"\",IF(I23=1,VLOOKUP(③選手情報入力!L31,種目情報!$A$9:$B$242,2,FALSE),VLOOKUP(③選手情報入力!L31,種目情報!$E$8:$F$241,2,FALSE))))","v":""},{"$f":"IF(E23=\"\",\"\",③選手情報入力!M31)","v":""},{"$f":"IF(E23=\"\",\"\",IF(③選手情報入力!L31=\"\",\"\",0))","v":""},{"$f":"IF(E23=\"\",\"\",IF(③選手情報入力!L31=\"\",\"\",IF(I23=1,VLOOKUP(③選手情報入力!L31,種目情報!$A$5:$C$22,3,FALSE),VLOOKUP(③選手情報入力!L31,種目情報!$E$5:$G$22,3,FALSE))))","v":""}]
[{"$f":"IF(①陸連データ貼り付け!A24=\"\",\"\",①陸連データ貼り付け!A24)","v":""},{"$f":"IF(E24=\"\",\"\",②団体情報入力!$D$3)","v":""},null,{"$f":"IF(③選手情報入力!B32=\"\",\"\",LEFT(③選手情報入力!B32,1))","v":""},{"$f":"IF(③選手情報入力!B32=\"\",\"\",REPLACE(③選手情報入力!B32,1,1,\"\"))","v":""},{"$f":"IF(E24=\"\",\"\",③選手情報入力!C32)","v":""},{"$f":"IF(E24=\"\",\"\",③選手情報入力!D32)","v":""},"",{"$f":"IF(E24=\"\",\"\",IF(③選手情報入力!F32=\"男\",1,2))","v":""},{"$f":"IF(E24=\"\",\"\",IF(③選手情報入力!G32=\"\",\"\",③選手情報入力!G32))","v":""},null,"","",null,{"$f":"IF(E24=\"\",\"\",IF(③選手情報入力!H32=\"\",\"\",IF(I24=1,VLOOKUP(③選手情報入力!H32,種目情報!$A$4:$B$232,2,FALSE),VLOOKUP(③選手情報入力!H32,種目情報!$E$4:$F$81,2,FALSE))))","v":""},{"$f":"IF(E24=\"\",\"\",③選手情報入力!I32)","v":""},{"$f":"IF(E24=\"\",\"\",IF(③選手情報入力!H32=\"\",\"\",0))","v":""},{"$f":"IF(E24=\"\",\"\",IF(③選手情報入力!H32=\"\",\"\",IF(I24=1,VLOOKUP(③選手情報入力!H32,種目情報!$A$4:$C$22,3,FALSE),VLOOKUP(③選手情報入力!H32,種目情報!$E$4:$G$22,3,FALSE))))","v":""},{"$f":"IF(E24=\"\",\"\",IF(③選手情報入力!L32=\"\",\"\",IF(I24=1,VLOOKUP(③選手情報入力!L32,種目情報!$A$9:$B$242,2,FALSE),VLOOKUP(③選手情報入力!L32,種目情報!$E$8:$F$241,2,FALSE))))","v":""},{"$f":"IF(E24=\"\",\"\",③選手情報入力!M32)","v":""},{"$f":"IF(E24=\"\",\"\",IF(③選手情報入力!L32=\"\",\"\",0))","v":""},{"$f":"IF(E24=\"\",\"\",IF(③選手情報入力!L32=\"\",\"\",IF(I24=1,VLOOKUP(③選手情報入力!L32,種目情報!$A$5:$C$22,3,FALSE),VLOOKUP(③選手情報入力!L32,種目情報!$E$5:$G$22,3,FALSE))))","v":""}]
[{"$f":"IF(①陸連データ貼り付け!A25=\"\",\"\",①陸連データ貼り付け!A25)","v":""},{"$f":"IF(E25=\"\",\"\",②団体情報入力!$D$3)","v":""},null,{"$f":"IF(③選手情報入力!B33=\"\",\"\",LEFT(③選手情報入力!B33,1))","v":""},{"$f":"IF(③選手情報入力!B33=\"\",\"\",REPLACE(③選手情報入力!B33,1,1,\"\"))","v":""},{"$f":"IF(E25=\"\",\"\",③選手情報入力!C33)","v":""},{"$f":"IF(E25=\"\",\"\",③選手情報入力!D33)","v":""},"",{"$f":"IF(E25=\"\",\"\",IF(③選手情報入力!F33=\"男\",1,2))","v":""},{"$f":"IF(E25=\"\",\"\",IF(③選手情報入力!G33=\"\",\"\",③選手情報入力!G33))","v":""},null,"","",null,{"$f":"IF(E25=\"\",\"\",IF(③選手情報入力!H33=\"\",\"\",IF(I25=1,VLOOKUP(③選手情報入力!H33,種目情報!$A$4:$B$232,2,FALSE),VLOOKUP(③選手情報入力!H33,種目情報!$E$4:$F$81,2,FALSE))))","v":""},{"$f":"IF(E25=\"\",\"\",③選手情報入力!I33)","v":""},{"$f":"IF(E25=\"\",\"\",IF(③選手情報入力!H33=\"\",\"\",0))","v":""},{"$f":"IF(E25=\"\",\"\",IF(③選手情報入力!H33=\"\",\"\",IF(I25=1,VLOOKUP(③選手情報入力!H33,種目情報!$A$4:$C$22,3,FALSE),VLOOKUP(③選手情報入力!H33,種目情報!$E$4:$G$22,3,FALSE))))","v":""},{"$f":"IF(E25=\"\",\"\",IF(③選手情報入力!L33=\"\",\"\",IF(I25=1,VLOOKUP(③選手情報入力!L33,種目情報!$A$9:$B$242,2,FALSE),VLOOKUP(③選手情報入力!L33,種目情報!$E$8:$F$241,2,FALSE))))","v":""},{"$f":"IF(E25=\"\",\"\",③選手情報入力!M33)","v":""},{"$f":"IF(E25=\"\",\"\",IF(③選手情報入力!L33=\"\",\"\",0))","v":""},{"$f":"IF(E25=\"\",\"\",IF(③選手情報入力!L33=\"\",\"\",IF(I25=1,VLOOKUP(③選手情報入力!L33,種目情報!$A$5:$C$22,3,FALSE),VLOOKUP(③選手情報入力!L33,種目情報!$E$5:$G$22,3,FALSE))))","v":""}]
[{"$f":"IF(①陸連データ貼り付け!A26=\"\",\"\",①陸連データ貼り付け!A26)","v":""},{"$f":"IF(E26=\"\",\"\",②団体情報入力!$D$3)","v":""},null,{"$f":"IF(③選手情報入力!B34=\"\",\"\",LEFT(③選手情報入力!B34,1))","v":""},{"$f":"IF(③選手情報入力!B34=\"\",\"\",REPLACE(③選手情報入力!B34,1,1,\"\"))","v":""},{"$f":"IF(E26=\"\",\"\",③選手情報入力!C34)","v":""},{"$f":"IF(E26=\"\",\"\",③選手情報入力!D34)","v":""},"",{"$f":"IF(E26=\"\",\"\",IF(③選手情報入力!F34=\"男\",1,2))","v":""},{"$f":"IF(E26=\"\",\"\",IF(③選手情報入力!G34=\"\",\"\",③選手情報入力!G34))","v":""},null,"","",null,{"$f":"IF(E26=\"\",\"\",IF(③選手情報入力!H34=\"\",\"\",IF(I26=1,VLOOKUP(③選手情報入力!H34,種目情報!$A$4:$B$232,2,FALSE),VLOOKUP(③選手情報入力!H34,種目情報!$E$4:$F$81,2,FALSE))))","v":""},{"$f":"IF(E26=\"\",\"\",③選手情報入力!I34)","v":""},{"$f":"IF(E26=\"\",\"\",IF(③選手情報入力!H34=\"\",\"\",0))","v":""},{"$f":"IF(E26=\"\",\"\",IF(③選手情報入力!H34=\"\",\"\",IF(I26=1,VLOOKUP(③選手情報入力!H34,種目情報!$A$4:$C$22,3,FALSE),VLOOKUP(③選手情報入力!H34,種目情報!$E$4:$G$22,3,FALSE))))","v":""},{"$f":"IF(E26=\"\",\"\",IF(③選手情報入力!L34=\"\",\"\",IF(I26=1,VLOOKUP(③選手情報入力!L34,種目情報!$A$9:$B$242,2,FALSE),VLOOKUP(③選手情報入力!L34,種目情報!$E$8:$F$241,2,FALSE))))","v":""},{"$f":"IF(E26=\"\",\"\",③選手情報入力!M34)","v":""},{"$f":"IF(E26=\"\",\"\",IF(③選手情報入力!L34=\"\",\"\",0))","v":""},{"$f":"IF(E26=\"\",\"\",IF(③選手情報入力!L34=\"\",\"\",IF(I26=1,VLOOKUP(③選手情報入力!L34,種目情報!$A$5:$C$22,3,FALSE),VLOOKUP(③選手情報入力!L34,種目情報!$E$5:$G$22,3,FALSE))))","v":""}]
[{"$f":"IF(①陸連データ貼り付け!A27=\"\",\"\",①陸連データ貼り付け!A27)","v":""},{"$f":"IF(E27=\"\",\"\",②団体情報入力!$D$3)","v":""},null,{"$f":"IF(③選手情報入力!B35=\"\",\"\",LEFT(③選手情報入力!B35,1))","v":""},{"$f":"IF(③選手情報入力!B35=\"\",\"\",REPLACE(③選手情報入力!B35,1,1,\"\"))","v":""},{"$f":"IF(E27=\"\",\"\",③選手情報入力!C35)","v":""},{"$f":"IF(E27=\"\",\"\",③選手情報入力!D35)","v":""},"",{"$f":"IF(E27=\"\",\"\",IF(③選手情報入力!F35=\"男\",1,2))","v":""},{"$f":"IF(E27=\"\",\"\",IF(③選手情報入力!G35=\"\",\"\",③選手情報入力!G35))","v":""},null,"","",null,{"$f":"IF(E27=\"\",\"\",IF(③選手情報入力!H35=\"\",\"\",IF(I27=1,VLOOKUP(③選手情報入力!H35,種目情報!$A$4:$B$232,2,FALSE),VLOOKUP(③選手情報入力!H35,種目情報!$E$4:$F$81,2,FALSE))))","v":""},{"$f":"IF(E27=\"\",\"\",③選手情報入力!I35)","v":""},{"$f":"IF(E27=\"\",\"\",IF(③選手情報入力!H35=\"\",\"\",0))","v":""},{"$f":"IF(E27=\"\",\"\",IF(③選手情報入力!H35=\"\",\"\",IF(I27=1,VLOOKUP(③選手情報入力!H35,種目情報!$A$4:$C$22,3,FALSE),VLOOKUP(③選手情報入力!H35,種目情報!$E$4:$G$22,3,FALSE))))","v":""},{"$f":"IF(E27=\"\",\"\",IF(③選手情報入力!L35=\"\",\"\",IF(I27=1,VLOOKUP(③選手情報入力!L35,種目情報!$A$9:$B$242,2,FALSE),VLOOKUP(③選手情報入力!L35,種目情報!$E$8:$F$241,2,FALSE))))","v":""},{"$f":"IF(E27=\"\",\"\",③選手情報入力!M35)","v":""},{"$f":"IF(E27=\"\",\"\",IF(③選手情報入力!L35=\"\",\"\",0))","v":""},{"$f":"IF(E27=\"\",\"\",IF(③選手情報入力!L35=\"\",\"\",IF(I27=1,VLOOKUP(③選手情報入力!L35,種目情報!$A$5:$C$22,3,FALSE),VLOOKUP(③選手情報入力!L35,種目情報!$E$5:$G$22,3,FALSE))))","v":""}]
[{"$f":"IF(①陸連データ貼り付け!A28=\"\",\"\",①陸連データ貼り付け!A28)","v":""},{"$f":"IF(E28=\"\",\"\",②団体情報入力!$D$3)","v":""},null,{"$f":"IF(③選手情報入力!B36=\"\",\"\",LEFT(③選手情報入力!B36,1))","v":""},{"$f":"IF(③選手情報入力!B36=\"\",\"\",REPLACE(③選手情報入力!B36,1,1,\"\"))","v":""},{"$f":"IF(E28=\"\",\"\",③選手情報入力!C36)","v":""},{"$f":"IF(E28=\"\",\"\",③選手情報入力!D36)","v":""},"",{"$f":"IF(E28=\"\",\"\",IF(③選手情報入力!F36=\"男\",1,2))","v":""},{"$f":"IF(E28=\"\",\"\",IF(③選手情報入力!G36=\"\",\"\",③選手情報入力!G36))","v":""},null,"","",null,{"$f":"IF(E28=\"\",\"\",IF(③選手情報入力!H36=\"\",\"\",IF(I28=1,VLOOKUP(③選手情報入力!H36,種目情報!$A$4:$B$232,2,FALSE),VLOOKUP(③選手情報入力!H36,種目情報!$E$4:$F$81,2,FALSE))))","v":""},{"$f":"IF(E28=\"\",\"\",③選手情報入力!I36)","v":""},{"$f":"IF(E28=\"\",\"\",IF(③選手情報入力!H36=\"\",\"\",0))","v":""},{"$f":"IF(E28=\"\",\"\",IF(③選手情報入力!H36=\"\",\"\",IF(I28=1,VLOOKUP(③選手情報入力!H36,種目情報!$A$4:$C$22,3,FALSE),VLOOKUP(③選手情報入力!H36,種目情報!$E$4:$G$22,3,FALSE))))","v":""},{"$f":"IF(E28=\"\",\"\",IF(③選手情報入力!L36=\"\",\"\",IF(I28=1,VLOOKUP(③選手情報入力!L36,種目情報!$A$9:$B$242,2,FALSE),VLOOKUP(③選手情報入力!L36,種目情報!$E$8:$F$241,2,FALSE))))","v":""},{"$f":"IF(E28=\"\",\"\",③選手情報入力!M36)","v":""},{"$f":"IF(E28=\"\",\"\",IF(③選手情報入力!L36=\"\",\"\",0))","v":""},{"$f":"IF(E28=\"\",\"\",IF(③選手情報入力!L36=\"\",\"\",IF(I28=1,VLOOKUP(③選手情報入力!L36,種目情報!$A$5:$C$22,3,FALSE),VLOOKUP(③選手情報入力!L36,種目情報!$E$5:$G$22,3,FALSE))))","v":""}]
[{"$f":"IF(①陸連データ貼り付け!A29=\"\",\"\",①陸連データ貼り付け!A29)","v":""},{"$f":"IF(E29=\"\",\"\",②団体情報入力!$D$3)","v":""},null,{"$f":"IF(③選手情報入力!B37=\"\",\"\",LEFT(③選手情報入力!B37,1))","v":""},{"$f":"IF(③選手情報入力!B37=\"\",\"\",REPLACE(③選手情報入力!B37,1,1,\"\"))","v":""},{"$f":"IF(E29=\"\",\"\",③選手情報入力!C37)","v":""},{"$f":"IF(E29=\"\",\"\",③選手情報入力!D37)","v":""},"",{"$f":"IF(E29=\"\",\"\",IF(③選手情報入力!F37=\"男\",1,2))","v":""},{"$f":"IF(E29=\"\",\"\",IF(③選手情報入力!G37=\"\",\"\",③選手情報入力!G37))","v":""},null,"","",null,{"$f":"IF(E29=\"\",\"\",IF(③選手情報入力!H37=\"\",\"\",IF(I29=1,VLOOKUP(③選手情報入力!H37,種目情報!$A$4:$B$232,2,FALSE),VLOOKUP(③選手情報入力!H37,種目情報!$E$4:$F$81,2,FALSE))))","v":""},{"$f":"IF(E29=\"\",\"\",③選手情報入力!I37)","v":""},{"$f":"IF(E29=\"\",\"\",IF(③選手情報入力!H37=\"\",\"\",0))","v":""},{"$f":"IF(E29=\"\",\"\",IF(③選手情報入力!H37=\"\",\"\",IF(I29=1,VLOOKUP(③選手情報入力!H37,種目情報!$A$4:$C$22,3,FALSE),VLOOKUP(③選手情報入力!H37,種目情報!$E$4:$G$22,3,FALSE))))","v":""},{"$f":"IF(E29=\"\",\"\",IF(③選手情報入力!L37=\"\",\"\",IF(I29=1,VLOOKUP(③選手情報入力!L37,種目情報!$A$9:$B$242,2,FALSE),VLOOKUP(③選手情報入力!L37,種目情報!$E$8:$F$241,2,FALSE))))","v":""},{"$f":"IF(E29=\"\",\"\",③選手情報入力!M37)","v":""},{"$f":"IF(E29=\"\",\"\",IF(③選手情報入力!L37=\"\",\"\",0))","v":""},{"$f":"IF(E29=\"\",\"\",IF(③選手情報入力!L37=\"\",\"\",IF(I29=1,VLOOKUP(③選手情報入力!L37,種目情報!$A$5:$C$22,3,FALSE),VLOOKUP(③選手情報入力!L37,種目情報!$E$5:$G$22,3,FALSE))))","v":""}]
[{"$f":"IF(①陸連データ貼り付け!A30=\"\",\"\",①陸連データ貼り付け!A30)","v":""},{"$f":"IF(E30=\"\",\"\",②団体情報入力!$D$3)","v":""},null,{"$f":"IF(③選手情報入力!B38=\"\",\"\",LEFT(③選手情報入力!B38,1))","v":""},{"$f":"IF(③選手情報入力!B38=\"\",\"\",REPLACE(③選手情報入力!B38,1,1,\"\"))","v":""},{"$f":"IF(E30=\"\",\"\",③選手情報入力!C38)","v":""},{"$f":"IF(E30=\"\",\"\",③選手情報入力!D38)","v":""},"",{"$f":"IF(E30=\"\",\"\",IF(③選手情報入力!F38=\"男\",1,2))","v":""},{"$f":"IF(E30=\"\",\"\",IF(③選手情報入力!G38=\"\",\"\",③選手情報入力!G38))","v":""},null,"","",null,{"$f":"IF(E30=\"\",\"\",IF(③選手情報入力!H38=\"\",\"\",IF(I30=1,VLOOKUP(③選手情報入力!H38,種目情報!$A$4:$B$232,2,FALSE),VLOOKUP(③選手情報入力!H38,種目情報!$E$4:$F$81,2,FALSE))))","v":""},{"$f":"IF(E30=\"\",\"\",③選手情報入力!I38)","v":""},{"$f":"IF(E30=\"\",\"\",IF(③選手情報入力!H38=\"\",\"\",0))","v":""},{"$f":"IF(E30=\"\",\"\",IF(③選手情報入力!H38=\"\",\"\",IF(I30=1,VLOOKUP(③選手情報入力!H38,種目情報!$A$4:$C$22,3,FALSE),VLOOKUP(③選手情報入力!H38,種目情報!$E$4:$G$22,3,FALSE))))","v":""},{"$f":"IF(E30=\"\",\"\",IF(③選手情報入力!L38=\"\",\"\",IF(I30=1,VLOOKUP(③選手情報入力!L38,種目情報!$A$9:$B$242,2,FALSE),VLOOKUP(③選手情報入力!L38,種目情報!$E$8:$F$241,2,FALSE))))","v":""},{"$f":"IF(E30=\"\",\"\",③選手情報入力!M38)","v":""},{"$f":"IF(E30=\"\",\"\",IF(③選手情報入力!L38=\"\",\"\",0))","v":""},{"$f":"IF(E30=\"\",\"\",IF(③選手情報入力!L38=\"\",\"\",IF(I30=1,VLOOKUP(③選手情報入力!L38,種目情報!$A$5:$C$22,3,FALSE),VLOOKUP(③選手情報入力!L38,種目情報!$E$5:$G$22,3,FALSE))))","v":""}]
[{"$f":"IF(①陸連データ貼り付け!A31=\"\",\"\",①陸連データ貼り付け!A31)","v":""},{"$f":"IF(E31=\"\",\"\",②団体情報入力!$D$3)","v":""},null,{"$f":"IF(③選手情報入力!B39=\"\",\"\",LEFT(③選手情報入力!B39,1))","v":""},{"$f":"IF(③選手情報入力!B39=\"\",\"\",REPLACE(③選手情報入力!B39,1,1,\"\"))","v":""},{"$f":"IF(E31=\"\",\"\",③選手情報入力!C39)","v":""},{"$f":"IF(E31=\"\",\"\",③選手情報入力!D39)","v":""},"",{"$f":"IF(E31=\"\",\"\",IF(③選手情報入力!F39=\"男\",1,2))","v":""},{"$f":"IF(E31=\"\",\"\",IF(③選手情報入力!G39=\"\",\"\",③選手情報入力!G39))","v":""},null,"","",null,{"$f":"IF(E31=\"\",\"\",IF(③選手情報入力!H39=\"\",\"\",IF(I31=1,VLOOKUP(③選手情報入力!H39,種目情報!$A$4:$B$232,2,FALSE),VLOOKUP(③選手情報入力!H39,種目情報!$E$4:$F$81,2,FALSE))))","v":""},{"$f":"IF(E31=\"\",\"\",③選手情報入力!I39)","v":""},{"$f":"IF(E31=\"\",\"\",IF(③選手情報入力!H39=\"\",\"\",0))","v":""},{"$f":"IF(E31=\"\",\"\",IF(③選手情報入力!H39=\"\",\"\",IF(I31=1,VLOOKUP(③選手情報入力!H39,種目情報!$A$4:$C$22,3,FALSE),VLOOKUP(③選手情報入力!H39,種目情報!$E$4:$G$22,3,FALSE))))","v":""},{"$f":"IF(E31=\"\",\"\",IF(③選手情報入力!L39=\"\",\"\",IF(I31=1,VLOOKUP(③選手情報入力!L39,種目情報!$A$9:$B$242,2,FALSE),VLOOKUP(③選手情報入力!L39,種目情報!$E$8:$F$241,2,FALSE))))","v":""},{"$f":"IF(E31=\"\",\"\",③選手情報入力!M39)","v":""},{"$f":"IF(E31=\"\",\"\",IF(③選手情報入力!L39=\"\",\"\",0))","v":""},{"$f":"IF(E31=\"\",\"\",IF(③選手情報入力!L39=\"\",\"\",IF(I31=1,VLOOKUP(③選手情報入力!L39,種目情報!$A$5:$C$22,3,FALSE),VLOOKUP(③選手情報入力!L39,種目情報!$E$5:$G$22,3,FALSE))))","v":""}]
[{"$f":"IF(①陸連データ貼り付け!A32=\"\",\"\",①陸連データ貼り付け!A32)","v":""},{"$f":"IF(E32=\"\",\"\",②団体情報入力!$D$3)","v":""},null,{"$f":"IF(③選手情報入力!B40=\"\",\"\",LEFT(③選手情報入力!B40,1))","v":""},{"$f":"IF(③選手情報入力!B40=\"\",\"\",REPLACE(③選手情報入力!B40,1,1,\"\"))","v":""},{"$f":"IF(E32=\"\",\"\",③選手情報入力!C40)","v":""},{"$f":"IF(E32=\"\",\"\",③選手情報入力!D40)","v":""},"",{"$f":"IF(E32=\"\",\"\",IF(③選手情報入力!F40=\"男\",1,2))","v":""},{"$f":"IF(E32=\"\",\"\",IF(③選手情報入力!G40=\"\",\"\",③選手情報入力!G40))","v":""},null,"","",null,{"$f":"IF(E32=\"\",\"\",IF(③選手情報入力!H40=\"\",\"\",IF(I32=1,VLOOKUP(③選手情報入力!H40,種目情報!$A$4:$B$232,2,FALSE),VLOOKUP(③選手情報入力!H40,種目情報!$E$4:$F$81,2,FALSE))))","v":""},{"$f":"IF(E32=\"\",\"\",③選手情報入力!I40)","v":""},{"$f":"IF(E32=\"\",\"\",IF(③選手情報入力!H40=\"\",\"\",0))","v":""},{"$f":"IF(E32=\"\",\"\",IF(③選手情報入力!H40=\"\",\"\",IF(I32=1,VLOOKUP(③選手情報入力!H40,種目情報!$A$4:$C$22,3,FALSE),VLOOKUP(③選手情報入力!H40,種目情報!$E$4:$G$22,3,FALSE))))","v":""},{"$f":"IF(E32=\"\",\"\",IF(③選手情報入力!L40=\"\",\"\",IF(I32=1,VLOOKUP(③選手情報入力!L40,種目情報!$A$9:$B$242,2,FALSE),VLOOKUP(③選手情報入力!L40,種目情報!$E$8:$F$241,2,FALSE))))","v":""},{"$f":"IF(E32=\"\",\"\",③選手情報入力!M40)","v":""},{"$f":"IF(E32=\"\",\"\",IF(③選手情報入力!L40=\"\",\"\",0))","v":""},{"$f":"IF(E32=\"\",\"\",IF(③選手情報入力!L40=\"\",\"\",IF(I32=1,VLOOKUP(③選手情報入力!L40,種目情報!$A$5:$C$22,3,FALSE),VLOOKUP(③選手情報入力!L40,種目情報!$E$5:$G$22,3,FALSE))))","v":""}]
[{"$f":"IF(①陸連データ貼り付け!A33=\"\",\"\",①陸連データ貼り付け!A33)","v":""},{"$f":"IF(E33=\"\",\"\",②団体情報入力!$D$3)","v":""},null,{"$f":"IF(③選手情報入力!B41=\"\",\"\",LEFT(③選手情報入力!B41,1))","v":""},{"$f":"IF(③選手情報入力!B41=\"\",\"\",REPLACE(③選手情報入力!B41,1,1,\"\"))","v":""},{"$f":"IF(E33=\"\",\"\",③選手情報入力!C41)","v":""},{"$f":"IF(E33=\"\",\"\",③選手情報入力!D41)","v":""},"",{"$f":"IF(E33=\"\",\"\",IF(③選手情報入力!F41=\"男\",1,2))","v":""},{"$f":"IF(E33=\"\",\"\",IF(③選手情報入力!G41=\"\",\"\",③選手情報入力!G41))","v":""},null,"","",null,{"$f":"IF(E33=\"\",\"\",IF(③選手情報入力!H41=\"\",\"\",IF(I33=1,VLOOKUP(③選手情報入力!H41,種目情報!$A$4:$B$232,2,FALSE),VLOOKUP(③選手情報入力!H41,種目情報!$E$4:$F$81,2,FALSE))))","v":""},{"$f":"IF(E33=\"\",\"\",③選手情報入力!I41)","v":""},{"$f":"IF(E33=\"\",\"\",IF(③選手情報入力!H41=\"\",\"\",0))","v":""},{"$f":"IF(E33=\"\",\"\",IF(③選手情報入力!H41=\"\",\"\",IF(I33=1,VLOOKUP(③選手情報入力!H41,種目情報!$A$4:$C$22,3,FALSE),VLOOKUP(③選手情報入力!H41,種目情報!$E$4:$G$22,3,FALSE))))","v":""},{"$f":"IF(E33=\"\",\"\",IF(③選手情報入力!L41=\"\",\"\",IF(I33=1,VLOOKUP(③選手情報入力!L41,種目情報!$A$9:$B$242,2,FALSE),VLOOKUP(③選手情報入力!L41,種目情報!$E$8:$F$241,2,FALSE))))","v":""},{"$f":"IF(E33=\"\",\"\",③選手情報入力!M41)","v":""},{"$f":"IF(E33=\"\",\"\",IF(③選手情報入力!L41=\"\",\"\",0))","v":""},{"$f":"IF(E33=\"\",\"\",IF(③選手情報入力!L41=\"\",\"\",IF(I33=1,VLOOKUP(③選手情報入力!L41,種目情報!$A$5:$C$22,3,FALSE),VLOOKUP(③選手情報入力!L41,種目情報!$E$5:$G$22,3,FALSE))))","v":""}]
[{"$f":"IF(①陸連データ貼り付け!A34=\"\",\"\",①陸連データ貼り付け!A34)","v":""},{"$f":"IF(E34=\"\",\"\",②団体情報入力!$D$3)","v":""},null,{"$f":"IF(③選手情報入力!B42=\"\",\"\",LEFT(③選手情報入力!B42,1))","v":""},{"$f":"IF(③選手情報入力!B42=\"\",\"\",REPLACE(③選手情報入力!B42,1,1,\"\"))","v":""},{"$f":"IF(E34=\"\",\"\",③選手情報入力!C42)","v":""},{"$f":"IF(E34=\"\",\"\",③選手情報入力!D42)","v":""},"",{"$f":"IF(E34=\"\",\"\",IF(③選手情報入力!F42=\"男\",1,2))","v":""},{"$f":"IF(E34=\"\",\"\",IF(③選手情報入力!G42=\"\",\"\",③選手情報入力!G42))","v":""},null,"","",null,{"$f":"IF(E34=\"\",\"\",IF(③選手情報入力!H42=\"\",\"\",IF(I34=1,VLOOKUP(③選手情報入力!H42,種目情報!$A$4:$B$232,2,FALSE),VLOOKUP(③選手情報入力!H42,種目情報!$E$4:$F$81,2,FALSE))))","v":""},{"$f":"IF(E34=\"\",\"\",③選手情報入力!I42)","v":""},{"$f":"IF(E34=\"\",\"\",IF(③選手情報入力!H42=\"\",\"\",0))","v":""},{"$f":"IF(E34=\"\",\"\",IF(③選手情報入力!H42=\"\",\"\",IF(I34=1,VLOOKUP(③選手情報入力!H42,種目情報!$A$4:$C$22,3,FALSE),VLOOKUP(③選手情報入力!H42,種目情報!$E$4:$G$22,3,FALSE))))","v":""},{"$f":"IF(E34=\"\",\"\",IF(③選手情報入力!L42=\"\",\"\",IF(I34=1,VLOOKUP(③選手情報入力!L42,種目情報!$A$9:$B$242,2,FALSE),VLOOKUP(③選手情報入力!L42,種目情報!$E$8:$F$241,2,FALSE))))","v":""},{"$f":"IF(E34=\"\",\"\",③選手情報入力!M42)","v":""},{"$f":"IF(E34=\"\",\"\",IF(③選手情報入力!L42=\"\",\"\",0))","v":""},{"$f":"IF(E34=\"\",\"\",IF(③選手情報入力!L42=\"\",\"\",IF(I34=1,VLOOKUP(③選手情報入力!L42,種目情報!$A$5:$C$22,3,FALSE),VLOOKUP(③選手情報入力!L42,種目情報!$E$5:$G$22,3,FALSE))))","v":""}]
[{"$f":"IF(①陸連データ貼り付け!A35=\"\",\"\",①陸連データ貼り付け!A35)","v":""},{"$f":"IF(E35=\"\",\"\",②団体情報入力!$D$3)","v":""},null,{"$f":"IF(③選手情報入力!B43=\"\",\"\",LEFT(③選手情報入力!B43,1))","v":""},{"$f":"IF(③選手情報入力!B43=\"\",\"\",REPLACE(③選手情報入力!B43,1,1,\"\"))","v":""},{"$f":"IF(E35=\"\",\"\",③選手情報入力!C43)","v":""},{"$f":"IF(E35=\"\",\"\",③選手情報入力!D43)","v":""},"",{"$f":"IF(E35=\"\",\"\",IF(③選手情報入力!F43=\"男\",1,2))","v":""},{"$f":"IF(E35=\"\",\"\",IF(③選手情報入力!G43=\"\",\"\",③選手情報入力!G43))","v":""},null,"","",null,{"$f":"IF(E35=\"\",\"\",IF(③選手情報入力!H43=\"\",\"\",IF(I35=1,VLOOKUP(③選手情報入力!H43,種目情報!$A$4:$B$232,2,FALSE),VLOOKUP(③選手情報入力!H43,種目情報!$E$4:$F$81,2,FALSE))))","v":""},{"$f":"IF(E35=\"\",\"\",③選手情報入力!I43)","v":""},{"$f":"IF(E35=\"\",\"\",IF(③選手情報入力!H43=\"\",\"\",0))","v":""},{"$f":"IF(E35=\"\",\"\",IF(③選手情報入力!H43=\"\",\"\",IF(I35=1,VLOOKUP(③選手情報入力!H43,種目情報!$A$4:$C$22,3,FALSE),VLOOKUP(③選手情報入力!H43,種目情報!$E$4:$G$22,3,FALSE))))","v":""},{"$f":"IF(E35=\"\",\"\",IF(③選手情報入力!L43=\"\",\"\",IF(I35=1,VLOOKUP(③選手情報入力!L43,種目情報!$A$9:$B$242,2,FALSE),VLOOKUP(③選手情報入力!L43,種目情報!$E$8:$F$241,2,FALSE))))","v":""},{"$f":"IF(E35=\"\",\"\",③選手情報入力!M43)","v":""},{"$f":"IF(E35=\"\",\"\",IF(③選手情報入力!L43=\"\",\"\",0))","v":""},{"$f":"IF(E35=\"\",\"\",IF(③選手情報入力!L43=\"\",\"\",IF(I35=1,VLOOKUP(③選手情報入力!L43,種目情報!$A$5:$C$22,3,FALSE),VLOOKUP(③選手情報入力!L43,種目情報!$E$5:$G$22,3,FALSE))))","v":""}]
[{"$f":"IF(①陸連データ貼り付け!A36=\"\",\"\",①陸連データ貼り付け!A36)","v":""},{"$f":"IF(E36=\"\",\"\",②団体情報入力!$D$3)","v":""},null,{"$f":"IF(③選手情報入力!B44=\"\",\"\",LEFT(③選手情報入力!B44,1))","v":""},{"$f":"IF(③選手情報入力!B44=\"\",\"\",REPLACE(③選手情報入力!B44,1,1,\"\"))","v":""},{"$f":"IF(E36=\"\",\"\",③選手情報入力!C44)","v":""},{"$f":"IF(E36=\"\",\"\",③選手情報入力!D44)","v":""},"",{"$f":"IF(E36=\"\",\"\",IF(③選手情報入力!F44=\"男\",1,2))","v":""},{"$f":"IF(E36=\"\",\"\",IF(③選手情報入力!G44=\"\",\"\",③選手情報入力!G44))","v":""},null,"","",null,{"$f":"IF(E36=\"\",\"\",IF(③選手情報入力!H44=\"\",\"\",IF(I36=1,VLOOKUP(③選手情報入力!H44,種目情報!$A$4:$B$232,2,FALSE),VLOOKUP(③選手情報入力!H44,種目情報!$E$4:$F$81,2,FALSE))))","v":""},{"$f":"IF(E36=\"\",\"\",③選手情報入力!I44)","v":""},{"$f":"IF(E36=\"\",\"\",IF(③選手情報入力!H44=\"\",\"\",0))","v":""},{"$f":"IF(E36=\"\",\"\",IF(③選手情報入力!H44=\"\",\"\",IF(I36=1,VLOOKUP(③選手情報入力!H44,種目情報!$A$4:$C$22,3,FALSE),VLOOKUP(③選手情報入力!H44,種目情報!$E$4:$G$22,3,FALSE))))","v":""},{"$f":"IF(E36=\"\",\"\",IF(③選手情報入力!L44=\"\",\"\",IF(I36=1,VLOOKUP(③選手情報入力!L44,種目情報!$A$9:$B$242,2,FALSE),VLOOKUP(③選手情報入力!L44,種目情報!$E$8:$F$241,2,FALSE))))","v":""},{"$f":"IF(E36=\"\",\"\",③選手情報入力!M44)","v":""},{"$f":"IF(E36=\"\",\"\",IF(③選手情報入力!L44=\"\",\"\",0))","v":""},{"$f":"IF(E36=\"\",\"\",IF(③選手情報入力!L44=\"\",\"\",IF(I36=1,VLOOKUP(③選手情報入力!L44,種目情報!$A$5:$C$22,3,FALSE),VLOOKUP(③選手情報入力!L44,種目情報!$E$5:$G$22,3,FALSE))))","v":""}]
[{"$f":"IF(①陸連データ貼り付け!A37=\"\",\"\",①陸連データ貼り付け!A37)","v":""},{"$f":"IF(E37=\"\",\"\",②団体情報入力!$D$3)","v":""},null,{"$f":"IF(③選手情報入力!B45=\"\",\"\",LEFT(③選手情報入力!B45,1))","v":""},{"$f":"IF(③選手情報入力!B45=\"\",\"\",REPLACE(③選手情報入力!B45,1,1,\"\"))","v":""},{"$f":"IF(E37=\"\",\"\",③選手情報入力!C45)","v":""},{"$f":"IF(E37=\"\",\"\",③選手情報入力!D45)","v":""},"",{"$f":"IF(E37=\"\",\"\",IF(③選手情報入力!F45=\"男\",1,2))","v":""},{"$f":"IF(E37=\"\",\"\",IF(③選手情報入力!G45=\"\",\"\",③選手情報入力!G45))","v":""},null,"","",null,{"$f":"IF(E37=\"\",\"\",IF(③選手情報入力!H45=\"\",\"\",IF(I37=1,VLOOKUP(③選手情報入力!H45,種目情報!$A$4:$B$232,2,FALSE),VLOOKUP(③選手情報入力!H45,種目情報!$E$4:$F$81,2,FALSE))))","v":""},{"$f":"IF(E37=\"\",\"\",③選手情報入力!I45)","v":""},{"$f":"IF(E37=\"\",\"\",IF(③選手情報入力!H45=\"\",\"\",0))","v":""},{"$f":"IF(E37=\"\",\"\",IF(③選手情報入力!H45=\"\",\"\",IF(I37=1,VLOOKUP(③選手情報入力!H45,種目情報!$A$4:$C$22,3,FALSE),VLOOKUP(③選手情報入力!H45,種目情報!$E$4:$G$22,3,FALSE))))","v":""},{"$f":"IF(E37=\"\",\"\",IF(③選手情報入力!L45=\"\",\"\",IF(I37=1,VLOOKUP(③選手情報入力!L45,種目情報!$A$9:$B$242,2,FALSE),VLOOKUP(③選手情報入力!L45,種目情報!$E$8:$F$241,2,FALSE))))","v":""},{"$f":"IF(E37=\"\",\"\",③選手情報入力!M45)","v":""},{"$f":"IF(E37=\"\",\"\",IF(③選手情報入力!L45=\"\",\"\",0))","v":""},{"$f":"IF(E37=\"\",\"\",IF(③選手情報入力!L45=\"\",\"\",IF(I37=1,VLOOKUP(③選手情報入力!L45,種目情報!$A$5:$C$22,3,FALSE),VLOOKUP(③選手情報入力!L45,種目情報!$E$5:$G$22,3,FALSE))))","v":""}]
[{"$f":"IF(①陸連データ貼り付け!A38=\"\",\"\",①陸連データ貼り付け!A38)","v":""},{"$f":"IF(E38=\"\",\"\",②団体情報入力!$D$3)","v":""},null,{"$f":"IF(③選手情報入力!B46=\"\",\"\",LEFT(③選手情報入力!B46,1))","v":""},{"$f":"IF(③選手情報入力!B46=\"\",\"\",REPLACE(③選手情報入力!B46,1,1,\"\"))","v":""},{"$f":"IF(E38=\"\",\"\",③選手情報入力!C46)","v":""},{"$f":"IF(E38=\"\",\"\",③選手情報入力!D46)","v":""},"",{"$f":"IF(E38=\"\",\"\",IF(③選手情報入力!F46=\"男\",1,2))","v":""},{"$f":"IF(E38=\"\",\"\",IF(③選手情報入力!G46=\"\",\"\",③選手情報入力!G46))","v":""},null,"","",null,{"$f":"IF(E38=\"\",\"\",IF(③選手情報入力!H46=\"\",\"\",IF(I38=1,VLOOKUP(③選手情報入力!H46,種目情報!$A$4:$B$232,2,FALSE),VLOOKUP(③選手情報入力!H46,種目情報!$E$4:$F$81,2,FALSE))))","v":""},{"$f":"IF(E38=\"\",\"\",③選手情報入力!I46)","v":""},{"$f":"IF(E38=\"\",\"\",IF(③選手情報入力!H46=\"\",\"\",0))","v":""},{"$f":"IF(E38=\"\",\"\",IF(③選手情報入力!H46=\"\",\"\",IF(I38=1,VLOOKUP(③選手情報入力!H46,種目情報!$A$4:$C$22,3,FALSE),VLOOKUP(③選手情報入力!H46,種目情報!$E$4:$G$22,3,FALSE))))","v":""},{"$f":"IF(E38=\"\",\"\",IF(③選手情報入力!L46=\"\",\"\",IF(I38=1,VLOOKUP(③選手情報入力!L46,種目情報!$A$9:$B$242,2,FALSE),VLOOKUP(③選手情報入力!L46,種目情報!$E$8:$F$241,2,FALSE))))","v":""},{"$f":"IF(E38=\"\",\"\",③選手情報入力!M46)","v":""},{"$f":"IF(E38=\"\",\"\",IF(③選手情報入力!L46=\"\",\"\",0))","v":""},{"$f":"IF(E38=\"\",\"\",IF(③選手情報入力!L46=\"\",\"\",IF(I38=1,VLOOKUP(③選手情報入力!L46,種目情報!$A$5:$C$22,3,FALSE),VLOOKUP(③選手情報入力!L46,種目情報!$E$5:$G$22,3,FALSE))))","v":""}]
[{"$f":"IF(①陸連データ貼り付け!A39=\"\",\"\",①陸連データ貼り付け!A39)","v":""},{"$f":"IF(E39=\"\",\"\",②団体情報入力!$D$3)","v":""},null,{"$f":"IF(③選手情報入力!B47=\"\",\"\",LEFT(③選手情報入力!B47,1))","v":""},{"$f":"IF(③選手情報入力!B47=\"\",\"\",REPLACE(③選手情報入力!B47,1,1,\"\"))","v":""},{"$f":"IF(E39=\"\",\"\",③選手情報入力!C47)","v":""},{"$f":"IF(E39=\"\",\"\",③選手情報入力!D47)","v":""},"",{"$f":"IF(E39=\"\",\"\",IF(③選手情報入力!F47=\"男\",1,2))","v":""},{"$f":"IF(E39=\"\",\"\",IF(③選手情報入力!G47=\"\",\"\",③選手情報入力!G47))","v":""},null,"","",null,{"$f":"IF(E39=\"\",\"\",IF(③選手情報入力!H47=\"\",\"\",IF(I39=1,VLOOKUP(③選手情報入力!H47,種目情報!$A$4:$B$232,2,FALSE),VLOOKUP(③選手情報入力!H47,種目情報!$E$4:$F$81,2,FALSE))))","v":""},{"$f":"IF(E39=\"\",\"\",③選手情報入力!I47)","v":""},{"$f":"IF(E39=\"\",\"\",IF(③選手情報入力!H47=\"\",\"\",0))","v":""},{"$f":"IF(E39=\"\",\"\",IF(③選手情報入力!H47=\"\",\"\",IF(I39=1,VLOOKUP(③選手情報入力!H47,種目情報!$A$4:$C$22,3,FALSE),VLOOKUP(③選手情報入力!H47,種目情報!$E$4:$G$22,3,FALSE))))","v":""},{"$f":"IF(E39=\"\",\"\",IF(③選手情報入力!L47=\"\",\"\",IF(I39=1,VLOOKUP(③選手情報入力!L47,種目情報!$A$9:$B$242,2,FALSE),VLOOKUP(③選手情報入力!L47,種目情報!$E$8:$F$241,2,FALSE))))","v":""},{"$f":"IF(E39=\"\",\"\",③選手情報入力!M47)","v":""},{"$f":"IF(E39=\"\",\"\",IF(③選手情報入力!L47=\"\",\"\",0))","v":""},{"$f":"IF(E39=\"\",\"\",IF(③選手情報入力!L47=\"\",\"\",IF(I39=1,VLOOKUP(③選手情報入力!L47,種目情報!$A$5:$C$22,3,FALSE),VLOOKUP(③選手情報入力!L47,種目情報!$E$5:$G$22,3,FALSE))))","v":""}]
[{"$f":"IF(①陸連データ貼り付け!A40=\"\",\"\",①陸連データ貼り付け!A40)","v":""},{"$f":"IF(E40=\"\",\"\",②団体情報入力!$D$3)","v":""},null,{"$f":"IF(③選手情報入力!B48=\"\",\"\",LEFT(③選手情報入力!B48,1))","v":""},{"$f":"IF(③選手情報入力!B48=\"\",\"\",REPLACE(③選手情報入力!B48,1,1,\"\"))","v":""},{"$f":"IF(E40=\"\",\"\",③選手情報入力!C48)","v":""},{"$f":"IF(E40=\"\",\"\",③選手情報入力!D48)","v":""},"",{"$f":"IF(E40=\"\",\"\",IF(③選手情報入力!F48=\"男\",1,2))","v":""},{"$f":"IF(E40=\"\",\"\",IF(③選手情報入力!G48=\"\",\"\",③選手情報入力!G48))","v":""},null,"","",null,{"$f":"IF(E40=\"\",\"\",IF(③選手情報入力!H48=\"\",\"\",IF(I40=1,VLOOKUP(③選手情報入力!H48,種目情報!$A$4:$B$232,2,FALSE),VLOOKUP(③選手情報入力!H48,種目情報!$E$4:$F$81,2,FALSE))))","v":""},{"$f":"IF(E40=\"\",\"\",③選手情報入力!I48)","v":""},{"$f":"IF(E40=\"\",\"\",IF(③選手情報入力!H48=\"\",\"\",0))","v":""},{"$f":"IF(E40=\"\",\"\",IF(③選手情報入力!H48=\"\",\"\",IF(I40=1,VLOOKUP(③選手情報入力!H48,種目情報!$A$4:$C$22,3,FALSE),VLOOKUP(③選手情報入力!H48,種目情報!$E$4:$G$22,3,FALSE))))","v":""},{"$f":"IF(E40=\"\",\"\",IF(③選手情報入力!L48=\"\",\"\",IF(I40=1,VLOOKUP(③選手情報入力!L48,種目情報!$A$9:$B$242,2,FALSE),VLOOKUP(③選手情報入力!L48,種目情報!$E$8:$F$241,2,FALSE))))","v":""},{"$f":"IF(E40=\"\",\"\",③選手情報入力!M48)","v":""},{"$f":"IF(E40=\"\",\"\",IF(③選手情報入力!L48=\"\",\"\",0))","v":""},{"$f":"IF(E40=\"\",\"\",IF(③選手情報入力!L48=\"\",\"\",IF(I40=1,VLOOKUP(③選手情報入力!L48,種目情報!$A$5:$C$22,3,FALSE),VLOOKUP(③選手情報入力!L48,種目情報!$E$5:$G$22,3,FALSE))))","v":""}]
[{"$f":"IF(①陸連データ貼り付け!A41=\"\",\"\",①陸連データ貼り付け!A41)","v":""},{"$f":"IF(E41=\"\",\"\",②団体情報入力!$D$3)","v":""},null,{"$f":"IF(③選手情報入力!B49=\"\",\"\",LEFT(③選手情報入力!B49,1))","v":""},{"$f":"IF(③選手情報入力!B49=\"\",\"\",REPLACE(③選手情報入力!B49,1,1,\"\"))","v":""},{"$f":"IF(E41=\"\",\"\",③選手情報入力!C49)","v":""},{"$f":"IF(E41=\"\",\"\",③選手情報入力!D49)","v":""},"",{"$f":"IF(E41=\"\",\"\",IF(③選手情報入力!F49=\"男\",1,2))","v":""},{"$f":"IF(E41=\"\",\"\",IF(③選手情報入力!G49=\"\",\"\",③選手情報入力!G49))","v":""},null,"","",null,{"$f":"IF(E41=\"\",\"\",IF(③選手情報入力!H49=\"\",\"\",IF(I41=1,VLOOKUP(③選手情報入力!H49,種目情報!$A$4:$B$232,2,FALSE),VLOOKUP(③選手情報入力!H49,種目情報!$E$4:$F$81,2,FALSE))))","v":""},{"$f":"IF(E41=\"\",\"\",③選手情報入力!I49)","v":""},{"$f":"IF(E41=\"\",\"\",IF(③選手情報入力!H49=\"\",\"\",0))","v":""},{"$f":"IF(E41=\"\",\"\",IF(③選手情報入力!H49=\"\",\"\",IF(I41=1,VLOOKUP(③選手情報入力!H49,種目情報!$A$4:$C$22,3,FALSE),VLOOKUP(③選手情報入力!H49,種目情報!$E$4:$G$22,3,FALSE))))","v":""},{"$f":"IF(E41=\"\",\"\",IF(③選手情報入力!L49=\"\",\"\",IF(I41=1,VLOOKUP(③選手情報入力!L49,種目情報!$A$9:$B$242,2,FALSE),VLOOKUP(③選手情報入力!L49,種目情報!$E$8:$F$241,2,FALSE))))","v":""},{"$f":"IF(E41=\"\",\"\",③選手情報入力!M49)","v":""},{"$f":"IF(E41=\"\",\"\",IF(③選手情報入力!L49=\"\",\"\",0))","v":""},{"$f":"IF(E41=\"\",\"\",IF(③選手情報入力!L49=\"\",\"\",IF(I41=1,VLOOKUP(③選手情報入力!L49,種目情報!$A$5:$C$22,3,FALSE),VLOOKUP(③選手情報入力!L49,種目情報!$E$5:$G$22,3,FALSE))))","v":""}]

{"sheet":"MC","index":11,"n_rows":2,"n_cols":6,"rows_kept":2,"cut":false,"hidden":false,"merged":[]}
["所属コード","所属地コード","所属名","所属名カナ","所属名略称","所属名正式名称"]
[{"$f":"②団体情報入力!D3","v":""},22,{"$f":"②団体情報入力!D4","v":""},{"$f":"②団体情報入力!D6","v":""},{"$f":"②団体情報入力!D4","v":""},{"$f":"②団体情報入力!D4","v":""}]

{"sheet":"Sheet1","index":12,"n_rows":501,"n_cols":5,"rows_kept":501,"cut":false,"hidden":false,"merged":[]}
[{"$f":"①陸連データ貼り付け!L1","v":"都道府県(学連)登録番号"},{"$f":"①陸連データ貼り付け!B1","v":"会員名"},{"$f":"①陸連データ貼り付け!C1","v":"会員名カナ"},{"$f":"①陸連データ貼り付け!D1","v":"性別"},"学年"]
[{"$f":"①陸連データ貼り付け!L2","v":0},{"$f":"①陸連データ貼り付け!B2","v":0},{"$f":"①陸連データ貼り付け!C2","v":0},{"$f":"①陸連データ貼り付け!D2","v":0},{"$f":"①陸連データ貼り付け!O2","v":0}]
[{"$f":"①陸連データ貼り付け!L3","v":0},{"$f":"①陸連データ貼り付け!B3","v":0},{"$f":"①陸連データ貼り付け!C3","v":0},{"$f":"①陸連データ貼り付け!D3","v":0},{"$f":"①陸連データ貼り付け!O3","v":0}]
[{"$f":"①陸連データ貼り付け!L4","v":0},{"$f":"①陸連データ貼り付け!B4","v":0},{"$f":"①陸連データ貼り付け!C4","v":0},{"$f":"①陸連データ貼り付け!D4","v":0},{"$f":"①陸連データ貼り付け!O4","v":0}]
[{"$f":"①陸連データ貼り付け!L5","v":0},{"$f":"①陸連データ貼り付け!B5","v":0},{"$f":"①陸連データ貼り付け!C5","v":0},{"$f":"①陸連データ貼り付け!D5","v":0},{"$f":"①陸連データ貼り付け!O5","v":0}]
[{"$f":"①陸連データ貼り付け!L6","v":0},{"$f":"①陸連データ貼り付け!B6","v":0},{"$f":"①陸連データ貼り付け!C6","v":0},{"$f":"①陸連データ貼り付け!D6","v":0},{"$f":"①陸連データ貼り付け!O6","v":0}]
[{"$f":"①陸連データ貼り付け!L7","v":0},{"$f":"①陸連データ貼り付け!B7","v":0},{"$f":"①陸連データ貼り付け!C7","v":0},{"$f":"①陸連データ貼り付け!D7","v":0},{"$f":"①陸連データ貼り付け!O7","v":0}]
[{"$f":"①陸連データ貼り付け!L8","v":0},{"$f":"①陸連データ貼り付け!B8","v":0},{"$f":"①陸連データ貼り付け!C8","v":0},{"$f":"①陸連データ貼り付け!D8","v":0},{"$f":"①陸連データ貼り付け!O8","v":0}]
[{"$f":"①陸連データ貼り付け!L9","v":0},{"$f":"①陸連データ貼り付け!B9","v":0},{"$f":"①陸連データ貼り付け!C9","v":0},{"$f":"①陸連データ貼り付け!D9","v":0},{"$f":"①陸連データ貼り付け!O9","v":0}]
[{"$f":"①陸連データ貼り付け!L10","v":0},{"$f":"①陸連データ貼り付け!B10","v":0},{"$f":"①陸連データ貼り付け!C10","v":0},{"$f":"①陸連データ貼り付け!D10","v":0},{"$f":"①陸連データ貼り付け!O10","v":0}]
[{"$f":"①陸連データ貼り付け!L11","v":0},{"$f":"①陸連データ貼り付け!B11","v":0},{"$f":"①陸連データ貼り付け!C11","v":0},{"$f":"①陸連データ貼り付け!D11","v":0},{"$f":"①陸連データ貼り付け!O11","v":0}]
[{"$f":"①陸連データ貼り付け!L12","v":0},{"$f":"①陸連データ貼り付け!B12","v":0},{"$f":"①陸連データ貼り付け!C12","v":0},{"$f":"①陸連データ貼り付け!D12","v":0},{"$f":"①陸連データ貼り付け!O12","v":0}]
[{"$f":"①陸連データ貼り付け!L13","v":0},{"$f":"①陸連データ貼り付け!B13","v":0},{"$f":"①陸連データ貼り付け!C13","v":0},{"$f":"①陸連データ貼り付け!D13","v":0},{"$f":"①陸連データ貼り付け!O13","v":0}]
[{"$f":"①陸連データ貼り付け!L14","v":0},{"$f":"①陸連データ貼り付け!B14","v":0},{"$f":"①陸連データ貼り付け!C14","v":0},{"$f":"①陸連データ貼り付け!D14","v":0},{"$f":"①陸連データ貼り付け!O14","v":0}]
[{"$f":"①陸連データ貼り付け!L15","v":0},{"$f":"①陸連データ貼り付け!B15","v":0},{"$f":"①陸連データ貼り付け!C15","v":0},{"$f":"①陸連データ貼り付け!D15","v":0},{"$f":"①陸連データ貼り付け!O15","v":0}]
[{"$f":"①陸連データ貼り付け!L16","v":0},{"$f":"①陸連データ貼り付け!B16","v":0},{"$f":"①陸連データ貼り付け!C16","v":0},{"$f":"①陸連データ貼り付け!D16","v":0},{"$f":"①陸連データ貼り付け!O16","v":0}]
[{"$f":"①陸連データ貼り付け!L17","v":0},{"$f":"①陸連データ貼り付け!B17","v":0},{"$f":"①陸連データ貼り付け!C17","v":0},{"$f":"①陸連データ貼り付け!D17","v":0},{"$f":"①陸連データ貼り付け!O17","v":0}]
[{"$f":"①陸連データ貼り付け!L18","v":0},{"$f":"①陸連データ貼り付け!B18","v":0},{"$f":"①陸連データ貼り付け!C18","v":0},{"$f":"①陸連データ貼り付け!D18","v":0},{"$f":"①陸連データ貼り付け!O18","v":0}]
[{"$f":"①陸連データ貼り付け!L19","v":0},{"$f":"①陸連データ貼り付け!B19","v":0},{"$f":"①陸連データ貼り付け!C19","v":0},{"$f":"①陸連データ貼り付け!D19","v":0},{"$f":"①陸連データ貼り付け!O19","v":0}]
[{"$f":"①陸連データ貼り付け!L20","v":0},{"$f":"①陸連データ貼り付け!B20","v":0},{"$f":"①陸連データ貼り付け!C20","v":0},{"$f":"①陸連データ貼り付け!D20","v":0},{"$f":"①陸連データ貼り付け!O20","v":0}]
[{"$f":"①陸連データ貼り付け!L21","v":0},{"$f":"①陸連データ貼り付け!B21","v":0},{"$f":"①陸連データ貼り付け!C21","v":0},{"$f":"①陸連データ貼り付け!D21","v":0},{"$f":"①陸連データ貼り付け!O21","v":0}]
[{"$f":"①陸連データ貼り付け!L22","v":0},{"$f":"①陸連データ貼り付け!B22","v":0},{"$f":"①陸連データ貼り付け!C22","v":0},{"$f":"①陸連データ貼り付け!D22","v":0},{"$f":"①陸連データ貼り付け!O22","v":0}]
[{"$f":"①陸連データ貼り付け!L23","v":0},{"$f":"①陸連データ貼り付け!B23","v":0},{"$f":"①陸連データ貼り付け!C23","v":0},{"$f":"①陸連データ貼り付け!D23","v":0},{"$f":"①陸連データ貼り付け!O23","v":0}]
[{"$f":"①陸連データ貼り付け!L24","v":0},{"$f":"①陸連データ貼り付け!B24","v":0},{"$f":"①陸連データ貼り付け!C24","v":0},{"$f":"①陸連データ貼り付け!D24","v":0},{"$f":"①陸連データ貼り付け!O24","v":0}]
[{"$f":"①陸連データ貼り付け!L25","v":0},{"$f":"①陸連データ貼り付け!B25","v":0},{"$f":"①陸連データ貼り付け!C25","v":0},{"$f":"①陸連データ貼り付け!D25","v":0},{"$f":"①陸連データ貼り付け!O25","v":0}]
[{"$f":"①陸連データ貼り付け!L26","v":0},{"$f":"①陸連データ貼り付け!B26","v":0},{"$f":"①陸連データ貼り付け!C26","v":0},{"$f":"①陸連データ貼り付け!D26","v":0},{"$f":"①陸連データ貼り付け!O26","v":0}]
[{"$f":"①陸連データ貼り付け!L27","v":0},{"$f":"①陸連データ貼り付け!B27","v":0},{"$f":"①陸連データ貼り付け!C27","v":0},{"$f":"①陸連データ貼り付け!D27","v":0},{"$f":"①陸連データ貼り付け!O27","v":0}]
[{"$f":"①陸連データ貼り付け!L28","v":0},{"$f":"①陸連データ貼り付け!B28","v":0},{"$f":"①陸連データ貼り付け!C28","v":0},{"$f":"①陸連データ貼り付け!D28","v":0},{"$f":"①陸連データ貼り付け!O28","v":0}]
[{"$f":"①陸連データ貼り付け!L29","v":0},{"$f":"①陸連データ貼り付け!B29","v":0},{"$f":"①陸連データ貼り付け!C29","v":0},{"$f":"①陸連データ貼り付け!D29","v":0},{"$f":"①陸連データ貼り付け!O29","v":0}]
[{"$f":"①陸連データ貼り付け!L30","v":0},{"$f":"①陸連データ貼り付け!B30","v":0},{"$f":"①陸連データ貼り付け!C30","v":0},{"$f":"①陸連データ貼り付け!D30","v":0},{"$f":"①陸連データ貼り付け!O30","v":0}]
[{"$f":"①陸連データ貼り付け!L31","v":0},{"$f":"①陸連データ貼り付け!B31","v":0},{"$f":"①陸連データ貼り付け!C31","v":0},{"$f":"①陸連データ貼り付け!D31","v":0},{"$f":"①陸連データ貼り付け!O31","v":0}]
[{"$f":"①陸連データ貼り付け!L32","v":0},{"$f":"①陸連データ貼り付け!B32","v":0},{"$f":"①陸連データ貼り付け!C32","v":0},{"$f":"①陸連データ貼り付け!D32","v":0},{"$f":"①陸連データ貼り付け!O32","v":0}]
[{"$f":"①陸連データ貼り付け!L33","v":0},{"$f":"①陸連データ貼り付け!B33","v":0},{"$f":"①陸連データ貼り付け!C33","v":0},{"$f":"①陸連データ貼り付け!D33","v":0},{"$f":"①陸連データ貼り付け!O33","v":0}]
[{"$f":"①陸連データ貼り付け!L34","v":0},{"$f":"①陸連データ貼り付け!B34","v":0},{"$f":"①陸連データ貼り付け!C34","v":0},{"$f":"①陸連データ貼り付け!D34","v":0},{"$f":"①陸連データ貼り付け!O34","v":0}]
[{"$f":"①陸連データ貼り付け!L35","v":0},{"$f":"①陸連データ貼り付け!B35","v":0},{"$f":"①陸連データ貼り付け!C35","v":0},{"$f":"①陸連データ貼り付け!D35","v":0},{"$f":"①陸連データ貼り付け!O35","v":0}]
[{"$f":"①陸連データ貼り付け!L36","v":0},{"$f":"①陸連データ貼り付け!B36","v":0},{"$f":"①陸連データ貼り付け!C36","v":0},{"$f":"①陸連データ貼り付け!D36","v":0},{"$f":"①陸連データ貼り付け!O36","v":0}]
[{"$f":"①陸連データ貼り付け!L37","v":0},{"$f":"①陸連データ貼り付け!B37","v":0},{"$f":"①陸連データ貼り付け!C37","v":0},{"$f":"①陸連データ貼り付け!D37","v":0},{"$f":"①陸連データ貼り付け!O37","v":0}]
[{"$f":"①陸連データ貼り付け!L38","v":0},{"$f":"①陸連データ貼り付け!B38","v":0},{"$f":"①陸連データ貼り付け!C38","v":0},{"$f":"①陸連データ貼り付け!D38","v":0},{"$f":"①陸連データ貼り付け!O38","v":0}]
[{"$f":"①陸連データ貼り付け!L39","v":0},{"$f":"①陸連データ貼り付け!B39","v":0},{"$f":"①陸連データ貼り付け!C39","v":0},{"$f":"①陸連データ貼り付け!D39","v":0},{"$f":"①陸連データ貼り付け!O39","v":0}]
[{"$f":"①陸連データ貼り付け!L40","v":0},{"$f":"①陸連データ貼り付け!B40","v":0},{"$f":"①陸連データ貼り付け!C40","v":0},{"$f":"①陸連データ貼り付け!D40","v":0},{"$f":"①陸連データ貼り付け!O40","v":0}]
[{"$f":"①陸連データ貼り付け!L41","v":0},{"$f":"①陸連データ貼り付け!B41","v":0},{"$f":"①陸連データ貼り付け!C41","v":0},{"$f":"①陸連データ貼り付け!D41","v":0},{"$f":"①陸連データ貼り付け!O41","v":0}]
[{"$f":"①陸連データ貼り付け!L42","v":0},{"$f":"①陸連データ貼り付け!B42","v":0},{"$f":"①陸連データ貼り付け!C42","v":0},{"$f":"①陸連データ貼り付け!D42","v":0},{"$f":"①陸連データ貼り付け!O42","v":0}]
[{"$f":"①陸連データ貼り付け!L43","v":0},{"$f":"①陸連データ貼り付け!B43","v":0},{"$f":"①陸連データ貼り付け!C43","v":0},{"$f":"①陸連データ貼り付け!D43","v":0},{"$f":"①陸連データ貼り付け!O43","v":0}]
[{"$f":"①陸連データ貼り付け!L44","v":0},{"$f":"①陸連データ貼り付け!B44","v":0},{"$f":"①陸連データ貼り付け!C44","v":0},{"$f":"①陸連データ貼り付け!D44","v":0},{"$f":"①陸連データ貼り付け!O44","v":0}]
[{"$f":"①陸連データ貼り付け!L45","v":0},{"$f":"①陸連データ貼り付け!B45","v":0},{"$f":"①陸連データ貼り付け!C45","v":0},{"$f":"①陸連データ貼り付け!D45","v":0},{"$f":"①陸連データ貼り付け!O45","v":0}]
[{"$f":"①陸連データ貼り付け!L46","v":0},{"$f":"①陸連データ貼り付け!B46","v":0},{"$f":"①陸連データ貼り付け!C46","v":0},{"$f":"①陸連データ貼り付け!D46","v":0},{"$f":"①陸連データ貼り付け!O46","v":0}]
[{"$f":"①陸連データ貼り付け!L47","v":0},{"$f":"①陸連データ貼り付け!B47","v":0},{"$f":"①陸連データ貼り付け!C47","v":0},{"$f":"①陸連データ貼り付け!D47","v":0},{"$f":"①陸連データ貼り付け!O47","v":0}]
[{"$f":"①陸連データ貼り付け!L48","v":0},{"$f":"①陸連データ貼り付け!B48","v":0},{"$f":"①陸連データ貼り付け!C48","v":0},{"$f":"①陸連データ貼り付け!D48","v":0},{"$f":"①陸連データ貼り付け!O48","v":0}]
[{"$f":"①陸連データ貼り付け!L49","v":0},{"$f":"①陸連データ貼り付け!B49","v":0},{"$f":"①陸連データ貼り付け!C49","v":0},{"$f":"①陸連データ貼り付け!D49","v":0},{"$f":"①陸連データ貼り付け!O49","v":0}]
[{"$f":"①陸連データ貼り付け!L50","v":0},{"$f":"①陸連データ貼り付け!B50","v":0},{"$f":"①陸連データ貼り付け!C50","v":0},{"$f":"①陸連データ貼り付け!D50","v":0},{"$f":"①陸連データ貼り付け!O50","v":0}]
[{"$f":"①陸連データ貼り付け!L51","v":0},{"$f":"①陸連データ貼り付け!B51","v":0},{"$f":"①陸連データ貼り付け!C51","v":0},{"$f":"①陸連データ貼り付け!D51","v":0},{"$f":"①陸連データ貼り付け!O51","v":0}]
[{"$f":"①陸連データ貼り付け!L52","v":0},{"$f":"①陸連データ貼り付け!B52","v":0},{"$f":"①陸連データ貼り付け!C52","v":0},{"$f":"①陸連データ貼り付け!D52","v":0},{"$f":"①陸連データ貼り付け!O52","v":0}]
[{"$f":"①陸連データ貼り付け!L53","v":0},{"$f":"①陸連データ貼り付け!B53","v":0},{"$f":"①陸連データ貼り付け!C53","v":0},{"$f":"①陸連データ貼り付け!D53","v":0},{"$f":"①陸連データ貼り付け!O53","v":0}]
[{"$f":"①陸連データ貼り付け!L54","v":0},{"$f":"①陸連データ貼り付け!B54","v":0},{"$f":"①陸連データ貼り付け!C54","v":0},{"$f":"①陸連データ貼り付け!D54","v":0},{"$f":"①陸連データ貼り付け!O54","v":0}]
[{"$f":"①陸連データ貼り付け!L55","v":0},{"$f":"①陸連データ貼り付け!B55","v":0},{"$f":"①陸連データ貼り付け!C55","v":0},{"$f":"①陸連データ貼り付け!D55","v":0},{"$f":"①陸連データ貼り付け!O55","v":0}]
[{"$f":"①陸連データ貼り付け!L56","v":0},{"$f":"①陸連データ貼り付け!B56","v":0},{"$f":"①陸連データ貼り付け!C56","v":0},{"$f":"①陸連データ貼り付け!D56","v":0},{"$f":"①陸連データ貼り付け!O56","v":0}]
[{"$f":"①陸連データ貼り付け!L57","v":0},{"$f":"①陸連データ貼り付け!B57","v":0},{"$f":"①陸連データ貼り付け!C57","v":0},{"$f":"①陸連データ貼り付け!D57","v":0},{"$f":"①陸連データ貼り付け!O57","v":0}]
[{"$f":"①陸連データ貼り付け!L58","v":0},{"$f":"①陸連データ貼り付け!B58","v":0},{"$f":"①陸連データ貼り付け!C58","v":0},{"$f":"①陸連データ貼り付け!D58","v":0},{"$f":"①陸連データ貼り付け!O58","v":0}]
[{"$f":"①陸連データ貼り付け!L59","v":0},{"$f":"①陸連データ貼り付け!B59","v":0},{"$f":"①陸連データ貼り付け!C59","v":0},{"$f":"①陸連データ貼り付け!D59","v":0},{"$f":"①陸連データ貼り付け!O59","v":0}]
[{"$f":"①陸連データ貼り付け!L60","v":0},{"$f":"①陸連データ貼り付け!B60","v":0},{"$f":"①陸連データ貼り付け!C60","v":0},{"$f":"①陸連データ貼り付け!D60","v":0},{"$f":"①陸連データ貼り付け!O60","v":0}]
[{"$f":"①陸連データ貼り付け!L61","v":0},{"$f":"①陸連データ貼り付け!B61","v":0},{"$f":"①陸連データ貼り付け!C61","v":0},{"$f":"①陸連データ貼り付け!D61","v":0},{"$f":"①陸連データ貼り付け!O61","v":0}]
[{"$f":"①陸連データ貼り付け!L62","v":0},{"$f":"①陸連データ貼り付け!B62","v":0},{"$f":"①陸連データ貼り付け!C62","v":0},{"$f":"①陸連データ貼り付け!D62","v":0},{"$f":"①陸連データ貼り付け!O62","v":0}]
[{"$f":"①陸連データ貼り付け!L63","v":0},{"$f":"①陸連データ貼り付け!B63","v":0},{"$f":"①陸連データ貼り付け!C63","v":0},{"$f":"①陸連データ貼り付け!D63","v":0},{"$f":"①陸連データ貼り付け!O63","v":0}]
[{"$f":"①陸連データ貼り付け!L64","v":0},{"$f":"①陸連データ貼り付け!B64","v":0},{"$f":"①陸連データ貼り付け!C64","v":0},{"$f":"①陸連データ貼り付け!D64","v":0},{"$f":"①陸連データ貼り付け!O64","v":0}]
[{"$f":"①陸連データ貼り付け!L65","v":0},{"$f":"①陸連データ貼り付け!B65","v":0},{"$f":"①陸連データ貼り付け!C65","v":0},{"$f":"①陸連データ貼り付け!D65","v":0},{"$f":"①陸連データ貼り付け!O65","v":0}]
[{"$f":"①陸連データ貼り付け!L66","v":0},{"$f":"①陸連データ貼り付け!B66","v":0},{"$f":"①陸連データ貼り付け!C66","v":0},{"$f":"①陸連データ貼り付け!D66","v":0},{"$f":"①陸連データ貼り付け!O66","v":0}]
[{"$f":"①陸連データ貼り付け!L67","v":0},{"$f":"①陸連データ貼り付け!B67","v":0},{"$f":"①陸連データ貼り付け!C67","v":0},{"$f":"①陸連データ貼り付け!D67","v":0},{"$f":"①陸連データ貼り付け!O67","v":0}]
[{"$f":"①陸連データ貼り付け!L68","v":0},{"$f":"①陸連データ貼り付け!B68","v":0},{"$f":"①陸連データ貼り付け!C68","v":0},{"$f":"①陸連データ貼り付け!D68","v":0},{"$f":"①陸連データ貼り付け!O68","v":0}]
[{"$f":"①陸連データ貼り付け!L69","v":0},{"$f":"①陸連データ貼り付け!B69","v":0},{"$f":"①陸連データ貼り付け!C69","v":0},{"$f":"①陸連データ貼り付け!D69","v":0},{"$f":"①陸連データ貼り付け!O69","v":0}]
[{"$f":"①陸連データ貼り付け!L70","v":0},{"$f":"①陸連データ貼り付け!B70","v":0},{"$f":"①陸連データ貼り付け!C70","v":0},{"$f":"①陸連データ貼り付け!D70","v":0},{"$f":"①陸連データ貼り付け!O70","v":0}]
[{"$f":"①陸連データ貼り付け!L71","v":0},{"$f":"①陸連データ貼り付け!B71","v":0},{"$f":"①陸連データ貼り付け!C71","v":0},{"$f":"①陸連データ貼り付け!D71","v":0},{"$f":"①陸連データ貼り付け!O71","v":0}]
[{"$f":"①陸連データ貼り付け!L72","v":0},{"$f":"①陸連データ貼り付け!B72","v":0},{"$f":"①陸連データ貼り付け!C72","v":0},{"$f":"①陸連データ貼り付け!D72","v":0},{"$f":"①陸連データ貼り付け!O72","v":0}]
[{"$f":"①陸連データ貼り付け!L73","v":0},{"$f":"①陸連データ貼り付け!B73","v":0},{"$f":"①陸連データ貼り付け!C73","v":0},{"$f":"①陸連データ貼り付け!D73","v":0},{"$f":"①陸連データ貼り付け!O73","v":0}]
[{"$f":"①陸連データ貼り付け!L74","v":0},{"$f":"①陸連データ貼り付け!B74","v":0},{"$f":"①陸連データ貼り付け!C74","v":0},{"$f":"①陸連データ貼り付け!D74","v":0},{"$f":"①陸連データ貼り付け!O74","v":0}]
[{"$f":"①陸連データ貼り付け!L75","v":0},{"$f":"①陸連データ貼り付け!B75","v":0},{"$f":"①陸連データ貼り付け!C75","v":0},{"$f":"①陸連データ貼り付け!D75","v":0},{"$f":"①陸連データ貼り付け!O75","v":0}]
[{"$f":"①陸連データ貼り付け!L76","v":0},{"$f":"①陸連データ貼り付け!B76","v":0},{"$f":"①陸連データ貼り付け!C76","v":0},{"$f":"①陸連データ貼り付け!D76","v":0},{"$f":"①陸連データ貼り付け!O76","v":0}]
[{"$f":"①陸連データ貼り付け!L77","v":0},{"$f":"①陸連データ貼り付け!B77","v":0},{"$f":"①陸連データ貼り付け!C77","v":0},{"$f":"①陸連データ貼り付け!D77","v":0},{"$f":"①陸連データ貼り付け!O77","v":0}]
[{"$f":"①陸連データ貼り付け!L78","v":0},{"$f":"①陸連データ貼り付け!B78","v":0},{"$f":"①陸連データ貼り付け!C78","v":0},{"$f":"①陸連データ貼り付け!D78","v":0},{"$f":"①陸連データ貼り付け!O78","v":0}]
[{"$f":"①陸連データ貼り付け!L79","v":0},{"$f":"①陸連データ貼り付け!B79","v":0},{"$f":"①陸連データ貼り付け!C79","v":0},{"$f":"①陸連データ貼り付け!D79","v":0},{"$f":"①陸連データ貼り付け!O79","v":0}]
[{"$f":"①陸連データ貼り付け!L80","v":0},{"$f":"①陸連データ貼り付け!B80","v":0},{"$f":"①陸連データ貼り付け!C80","v":0},{"$f":"①陸連データ貼り付け!D80","v":0},{"$f":"①陸連データ貼り付け!O80","v":0}]
[{"$f":"①陸連データ貼り付け!L81","v":0},{"$f":"①陸連データ貼り付け!B81","v":0},{"$f":"①陸連データ貼り付け!C81","v":0},{"$f":"①陸連データ貼り付け!D81","v":0},{"$f":"①陸連データ貼り付け!O81","v":0}]
[{"$f":"①陸連データ貼り付け!L82","v":0},{"$f":"①陸連データ貼り付け!B82","v":0},{"$f":"①陸連データ貼り付け!C82","v":0},{"$f":"①陸連データ貼り付け!D82","v":0},{"$f":"①陸連データ貼り付け!O82","v":0}]
[{"$f":"①陸連データ貼り付け!L83","v":0},{"$f":"①陸連データ貼り付け!B83","v":0},{"$f":"①陸連データ貼り付け!C83","v":0},{"$f":"①陸連データ貼り付け!D83","v":0},{"$f":"①陸連データ貼り付け!O83","v":0}]
[{"$f":"①陸連データ貼り付け!L84","v":0},{"$f":"①陸連データ貼り付け!B84","v":0},{"$f":"①陸連データ貼り付け!C84","v":0},{"$f":"①陸連データ貼り付け!D84","v":0},{"$f":"①陸連データ貼り付け!O84","v":0}]
[{"$f":"①陸連データ貼り付け!L85","v":0},{"$f":"①陸連データ貼り付け!B85","v":0},{"$f":"①陸連データ貼り付け!C85","v":0},{"$f":"①陸連データ貼り付け!D85","v":0},{"$f":"①陸連データ貼り付け!O85","v":0}]
[{"$f":"①陸連データ貼り付け!L86","v":0},{"$f":"①陸連データ貼り付け!B86","v":0},{"$f":"①陸連データ貼り付け!C86","v":0},{"$f":"①陸連データ貼り付け!D86","v":0},{"$f":"①陸連データ貼り付け!O86","v":0}]
[{"$f":"①陸連データ貼り付け!L87","v":0},{"$f":"①陸連データ貼り付け!B87","v":0},{"$f":"①陸連データ貼り付け!C87","v":0},{"$f":"①陸連データ貼り付け!D87","v":0},{"$f":"①陸連データ貼り付け!O87","v":0}]
[{"$f":"①陸連データ貼り付け!L88","v":0},{"$f":"①陸連データ貼り付け!B88","v":0},{"$f":"①陸連データ貼り付け!C88","v":0},{"$f":"①陸連データ貼り付け!D88","v":0},{"$f":"①陸連データ貼り付け!O88","v":0}]
[{"$f":"①陸連データ貼り付け!L89","v":0},{"$f":"①陸連データ貼り付け!B89","v":0},{"$f":"①陸連データ貼り付け!C89","v":0},{"$f":"①陸連データ貼り付け!D89","v":0},{"$f":"①陸連データ貼り付け!O89","v":0}]
[{"$f":"①陸連データ貼り付け!L90","v":0},{"$f":"①陸連データ貼り付け!B90","v":0},{"$f":"①陸連データ貼り付け!C90","v":0},{"$f":"①陸連データ貼り付け!D90","v":0},{"$f":"①陸連データ貼り付け!O90","v":0}]
[{"$f":"①陸連データ貼り付け!L91","v":0},{"$f":"①陸連データ貼り付け!B91","v":0},{"$f":"①陸連データ貼り付け!C91","v":0},{"$f":"①陸連データ貼り付け!D91","v":0},{"$f":"①陸連データ貼り付け!O91","v":0}]
[{"$f":"①陸連データ貼り付け!L92","v":0},{"$f":"①陸連データ貼り付け!B92","v":0},{"$f":"①陸連データ貼り付け!C92","v":0},{"$f":"①陸連データ貼り付け!D92","v":0},{"$f":"①陸連データ貼り付け!O92","v":0}]
[{"$f":"①陸連データ貼り付け!L93","v":0},{"$f":"①陸連データ貼り付け!B93","v":0},{"$f":"①陸連データ貼り付け!C93","v":0},{"$f":"①陸連データ貼り付け!D93","v":0},{"$f":"①陸連データ貼り付け!O93","v":0}]
[{"$f":"①陸連データ貼り付け!L94","v":0},{"$f":"①陸連データ貼り付け!B94","v":0},{"$f":"①陸連データ貼り付け!C94","v":0},{"$f":"①陸連データ貼り付け!D94","v":0},{"$f":"①陸連データ貼り付け!O94","v":0}]
[{"$f":"①陸連データ貼り付け!L95","v":0},{"$f":"①陸連データ貼り付け!B95","v":0},{"$f":"①陸連データ貼り付け!C95","v":0},{"$f":"①陸連データ貼り付け!D95","v":0},{"$f":"①陸連データ貼り付け!O95","v":0}]
[{"$f":"①陸連データ貼り付け!L96","v":0},{"$f":"①陸連データ貼り付け!B96","v":0},{"$f":"①陸連データ貼り付け!C96","v":0},{"$f":"①陸連データ貼り付け!D96","v":0},{"$f":"①陸連データ貼り付け!O96","v":0}]
[{"$f":"①陸連データ貼り付け!L97","v":0},{"$f":"①陸連データ貼り付け!B97","v":0},{"$f":"①陸連データ貼り付け!C97","v":0},{"$f":"①陸連データ貼り付け!D97","v":0},{"$f":"①陸連データ貼り付け!O97","v":0}]
[{"$f":"①陸連データ貼り付け!L98","v":0},{"$f":"①陸連データ貼り付け!B98","v":0},{"$f":"①陸連データ貼り付け!C98","v":0},{"$f":"①陸連データ貼り付け!D98","v":0},{"$f":"①陸連データ貼り付け!O98","v":0}]
[{"$f":"①陸連データ貼り付け!L99","v":0},{"$f":"①陸連データ貼り付け!B99","v":0},{"$f":"①陸連データ貼り付け!C99","v":0},{"$f":"①陸連データ貼り付け!D99","v":0},{"$f":"①陸連データ貼り付け!O99","v":0}]
[{"$f":"①陸連データ貼り付け!L100","v":0},{"$f":"①陸連データ貼り付け!B100","v":0},{"$f":"①陸連データ貼り付け!C100","v":0},{"$f":"①陸連データ貼り付け!D100","v":0},{"$f":"①陸連データ貼り付け!O100","v":0}]
[{"$f":"①陸連データ貼り付け!L101","v":0},{"$f":"①陸連データ貼り付け!B101","v":0},{"$f":"①陸連データ貼り付け!C101","v":0},{"$f":"①陸連データ貼り付け!D101","v":0},{"$f":"①陸連データ貼り付け!O101","v":0}]
[{"$f":"①陸連データ貼り付け!L102","v":0},{"$f":"①陸連データ貼り付け!B102","v":0},{"$f":"①陸連データ貼り付け!C102","v":0},{"$f":"①陸連データ貼り付け!D102","v":0},{"$f":"①陸連データ貼り付け!O102","v":0}]
[{"$f":"①陸連データ貼り付け!L103","v":0},{"$f":"①陸連データ貼り付け!B103","v":0},{"$f":"①陸連データ貼り付け!C103","v":0},{"$f":"①陸連データ貼り付け!D103","v":0},{"$f":"①陸連データ貼り付け!O103","v":0}]
[{"$f":"①陸連データ貼り付け!L104","v":0},{"$f":"①陸連データ貼り付け!B104","v":0},{"$f":"①陸連データ貼り付け!C104","v":0},{"$f":"①陸連データ貼り付け!D104","v":0},{"$f":"①陸連データ貼り付け!O104","v":0}]
[{"$f":"①陸連データ貼り付け!L105","v":0},{"$f":"①陸連データ貼り付け!B105","v":0},{"$f":"①陸連データ貼り付け!C105","v":0},{"$f":"①陸連データ貼り付け!D105","v":0},{"$f":"①陸連データ貼り付け!O105","v":0}]
[{"$f":"①陸連データ貼り付け!L106","v":0},{"$f":"①陸連データ貼り付け!B106","v":0},{"$f":"①陸連データ貼り付け!C106","v":0},{"$f":"①陸連データ貼り付け!D106","v":0},{"$f":"①陸連データ貼り付け!O106","v":0}]
[{"$f":"①陸連データ貼り付け!L107","v":0},{"$f":"①陸連データ貼り付け!B107","v":0},{"$f":"①陸連データ貼り付け!C107","v":0},{"$f":"①陸連データ貼り付け!D107","v":0},{"$f":"①陸連データ貼り付け!O107","v":0}]
[{"$f":"①陸連データ貼り付け!L108","v":0},{"$f":"①陸連データ貼り付け!B108","v":0},{"$f":"①陸連データ貼り付け!C108","v":0},{"$f":"①陸連データ貼り付け!D108","v":0},{"$f":"①陸連データ貼り付け!O108","v":0}]
[{"$f":"①陸連データ貼り付け!L109","v":0},{"$f":"①陸連データ貼り付け!B109","v":0},{"$f":"①陸連データ貼り付け!C109","v":0},{"$f":"①陸連データ貼り付け!D109","v":0},{"$f":"①陸連データ貼り付け!O109","v":0}]
[{"$f":"①陸連データ貼り付け!L110","v":0},{"$f":"①陸連データ貼り付け!B110","v":0},{"$f":"①陸連データ貼り付け!C110","v":0},{"$f":"①陸連データ貼り付け!D110","v":0},{"$f":"①陸連データ貼り付け!O110","v":0}]
[{"$f":"①陸連データ貼り付け!L111","v":0},{"$f":"①陸連データ貼り付け!B111","v":0},{"$f":"①陸連データ貼り付け!C111","v":0},{"$f":"①陸連データ貼り付け!D111","v":0},{"$f":"①陸連データ貼り付け!O111","v":0}]
[{"$f":"①陸連データ貼り付け!L112","v":0},{"$f":"①陸連データ貼り付け!B112","v":0},{"$f":"①陸連データ貼り付け!C112","v":0},{"$f":"①陸連データ貼り付け!D112","v":0},{"$f":"①陸連データ貼り付け!O112","v":0}]
[{"$f":"①陸連データ貼り付け!L113","v":0},{"$f":"①陸連データ貼り付け!B113","v":0},{"$f":"①陸連データ貼り付け!C113","v":0},{"$f":"①陸連データ貼り付け!D113","v":0},{"$f":"①陸連データ貼り付け!O113","v":0}]
[{"$f":"①陸連データ貼り付け!L114","v":0},{"$f":"①陸連データ貼り付け!B114","v":0},{"$f":"①陸連データ貼り付け!C114","v":0},{"$f":"①陸連データ貼り付け!D114","v":0},{"$f":"①陸連データ貼り付け!O114","v":0}]
[{"$f":"①陸連データ貼り付け!L115","v":0},{"$f":"①陸連データ貼り付け!B115","v":0},{"$f":"①陸連データ貼り付け!C115","v":0},{"$f":"①陸連データ貼り付け!D115","v":0},{"$f":"①陸連データ貼り付け!O115","v":0}]
[{"$f":"①陸連データ貼り付け!L116","v":0},{"$f":"①陸連データ貼り付け!B116","v":0},{"$f":"①陸連データ貼り付け!C116","v":0},{"$f":"①陸連データ貼り付け!D116","v":0},{"$f":"①陸連データ貼り付け!O116","v":0}]
[{"$f":"①陸連データ貼り付け!L117","v":0},{"$f":"①陸連データ貼り付け!B117","v":0},{"$f":"①陸連データ貼り付け!C117","v":0},{"$f":"①陸連データ貼り付け!D117","v":0},{"$f":"①陸連データ貼り付け!O117","v":0}]
[{"$f":"①陸連データ貼り付け!L118","v":0},{"$f":"①陸連データ貼り付け!B118","v":0},{"$f":"①陸連データ貼り付け!C118","v":0},{"$f":"①陸連データ貼り付け!D118","v":0},{"$f":"①陸連データ貼り付け!O118","v":0}]
[{"$f":"①陸連データ貼り付け!L119","v":0},{"$f":"①陸連データ貼り付け!B119","v":0},{"$f":"①陸連データ貼り付け!C119","v":0},{"$f":"①陸連データ貼り付け!D119","v":0},{"$f":"①陸連データ貼り付け!O119","v":0}]
[{"$f":"①陸連データ貼り付け!L120","v":0},{"$f":"①陸連データ貼り付け!B120","v":0},{"$f":"①陸連データ貼り付け!C120","v":0},{"$f":"①陸連データ貼り付け!D120","v":0},{"$f":"①陸連データ貼り付け!O120","v":0}]
[{"$f":"①陸連データ貼り付け!L121","v":0},{"$f":"①陸連データ貼り付け!B121","v":0},{"$f":"①陸連データ貼り付け!C121","v":0},{"$f":"①陸連データ貼り付け!D121","v":0},{"$f":"①陸連データ貼り付け!O121","v":0}]
[{"$f":"①陸連データ貼り付け!L122","v":0},{"$f":"①陸連データ貼り付け!B122","v":0},{"$f":"①陸連データ貼り付け!C122","v":0},{"$f":"①陸連データ貼り付け!D122","v":0},{"$f":"①陸連データ貼り付け!O122","v":0}]
[{"$f":"①陸連データ貼り付け!L123","v":0},{"$f":"①陸連データ貼り付け!B123","v":0},{"$f":"①陸連データ貼り付け!C123","v":0},{"$f":"①陸連データ貼り付け!D123","v":0},{"$f":"①陸連データ貼り付け!O123","v":0}]
[{"$f":"①陸連データ貼り付け!L124","v":0},{"$f":"①陸連データ貼り付け!B124","v":0},{"$f":"①陸連データ貼り付け!C124","v":0},{"$f":"①陸連データ貼り付け!D124","v":0},{"$f":"①陸連データ貼り付け!O124","v":0}]
[{"$f":"①陸連データ貼り付け!L125","v":0},{"$f":"①陸連データ貼り付け!B125","v":0},{"$f":"①陸連データ貼り付け!C125","v":0},{"$f":"①陸連データ貼り付け!D125","v":0},{"$f":"①陸連データ貼り付け!O125","v":0}]
[{"$f":"①陸連データ貼り付け!L126","v":0},{"$f":"①陸連データ貼り付け!B126","v":0},{"$f":"①陸連データ貼り付け!C126","v":0},{"$f":"①陸連データ貼り付け!D126","v":0},{"$f":"①陸連データ貼り付け!O126","v":0}]
[{"$f":"①陸連データ貼り付け!L127","v":0},{"$f":"①陸連データ貼り付け!B127","v":0},{"$f":"①陸連データ貼り付け!C127","v":0},{"$f":"①陸連データ貼り付け!D127","v":0},{"$f":"①陸連データ貼り付け!O127","v":0}]
[{"$f":"①陸連データ貼り付け!L128","v":0},{"$f":"①陸連データ貼り付け!B128","v":0},{"$f":"①陸連データ貼り付け!C128","v":0},{"$f":"①陸連データ貼り付け!D128","v":0},{"$f":"①陸連データ貼り付け!O128","v":0}]
[{"$f":"①陸連データ貼り付け!L129","v":0},{"$f":"①陸連データ貼り付け!B129","v":0},{"$f":"①陸連データ貼り付け!C129","v":0},{"$f":"①陸連データ貼り付け!D129","v":0},{"$f":"①陸連データ貼り付け!O129","v":0}]
[{"$f":"①陸連データ貼り付け!L130","v":0},{"$f":"①陸連データ貼り付け!B130","v":0},{"$f":"①陸連データ貼り付け!C130","v":0},{"$f":"①陸連データ貼り付け!D130","v":0},{"$f":"①陸連データ貼り付け!O130","v":0}]
[{"$f":"①陸連データ貼り付け!L131","v":0},{"$f":"①陸連データ貼り付け!B131","v":0},{"$f":"①陸連データ貼り付け!C131","v":0},{"$f":"①陸連データ貼り付け!D131","v":0},{"$f":"①陸連データ貼り付け!O131","v":0}]
[{"$f":"①陸連データ貼り付け!L132","v":0},{"$f":"①陸連データ貼り付け!B132","v":0},{"$f":"①陸連データ貼り付け!C132","v":0},{"$f":"①陸連データ貼り付け!D132","v":0},{"$f":"①陸連データ貼り付け!O132","v":0}]
[{"$f":"①陸連データ貼り付け!L133","v":0},{"$f":"①陸連データ貼り付け!B133","v":0},{"$f":"①陸連データ貼り付け!C133","v":0},{"$f":"①陸連データ貼り付け!D133","v":0},{"$f":"①陸連データ貼り付け!O133","v":0}]
[{"$f":"①陸連データ貼り付け!L134","v":0},{"$f":"①陸連データ貼り付け!B134","v":0},{"$f":"①陸連データ貼り付け!C134","v":0},{"$f":"①陸連データ貼り付け!D134","v":0},{"$f":"①陸連データ貼り付け!O134","v":0}]
[{"$f":"①陸連データ貼り付け!L135","v":0},{"$f":"①陸連データ貼り付け!B135","v":0},{"$f":"①陸連データ貼り付け!C135","v":0},{"$f":"①陸連データ貼り付け!D135","v":0},{"$f":"①陸連データ貼り付け!O135","v":0}]
[{"$f":"①陸連データ貼り付け!L136","v":0},{"$f":"①陸連データ貼り付け!B136","v":0},{"$f":"①陸連データ貼り付け!C136","v":0},{"$f":"①陸連データ貼り付け!D136","v":0},{"$f":"①陸連データ貼り付け!O136","v":0}]
[{"$f":"①陸連データ貼り付け!L137","v":0},{"$f":"①陸連データ貼り付け!B137","v":0},{"$f":"①陸連データ貼り付け!C137","v":0},{"$f":"①陸連データ貼り付け!D137","v":0},{"$f":"①陸連データ貼り付け!O137","v":0}]
[{"$f":"①陸連データ貼り付け!L138","v":0},{"$f":"①陸連データ貼り付け!B138","v":0},{"$f":"①陸連データ貼り付け!C138","v":0},{"$f":"①陸連データ貼り付け!D138","v":0},{"$f":"①陸連データ貼り付け!O138","v":0}]
[{"$f":"①陸連データ貼り付け!L139","v":0},{"$f":"①陸連データ貼り付け!B139","v":0},{"$f":"①陸連データ貼り付け!C139","v":0},{"$f":"①陸連データ貼り付け!D139","v":0},{"$f":"①陸連データ貼り付け!O139","v":0}]
[{"$f":"①陸連データ貼り付け!L140","v":0},{"$f":"①陸連データ貼り付け!B140","v":0},{"$f":"①陸連データ貼り付け!C140","v":0},{"$f":"①陸連データ貼り付け!D140","v":0},{"$f":"①陸連データ貼り付け!O140","v":0}]
[{"$f":"①陸連データ貼り付け!L141","v":0},{"$f":"①陸連データ貼り付け!B141","v":0},{"$f":"①陸連データ貼り付け!C141","v":0},{"$f":"①陸連データ貼り付け!D141","v":0},{"$f":"①陸連データ貼り付け!O141","v":0}]
[{"$f":"①陸連データ貼り付け!L142","v":0},{"$f":"①陸連データ貼り付け!B142","v":0},{"$f":"①陸連データ貼り付け!C142","v":0},{"$f":"①陸連データ貼り付け!D142","v":0},{"$f":"①陸連データ貼り付け!O142","v":0}]
[{"$f":"①陸連データ貼り付け!L143","v":0},{"$f":"①陸連データ貼り付け!B143","v":0},{"$f":"①陸連データ貼り付け!C143","v":0},{"$f":"①陸連データ貼り付け!D143","v":0},{"$f":"①陸連データ貼り付け!O143","v":0}]
[{"$f":"①陸連データ貼り付け!L144","v":0},{"$f":"①陸連データ貼り付け!B144","v":0},{"$f":"①陸連データ貼り付け!C144","v":0},{"$f":"①陸連データ貼り付け!D144","v":0},{"$f":"①陸連データ貼り付け!O144","v":0}]
[{"$f":"①陸連データ貼り付け!L145","v":0},{"$f":"①陸連データ貼り付け!B145","v":0},{"$f":"①陸連データ貼り付け!C145","v":0},{"$f":"①陸連データ貼り付け!D145","v":0},{"$f":"①陸連データ貼り付け!O145","v":0}]
[{"$f":"①陸連データ貼り付け!L146","v":0},{"$f":"①陸連データ貼り付け!B146","v":0},{"$f":"①陸連データ貼り付け!C146","v":0},{"$f":"①陸連データ貼り付け!D146","v":0},{"$f":"①陸連データ貼り付け!O146","v":0}]
[{"$f":"①陸連データ貼り付け!L147","v":0},{"$f":"①陸連データ貼り付け!B147","v":0},{"$f":"①陸連データ貼り付け!C147","v":0},{"$f":"①陸連データ貼り付け!D147","v":0},{"$f":"①陸連データ貼り付け!O147","v":0}]
[{"$f":"①陸連データ貼り付け!L148","v":0},{"$f":"①陸連データ貼り付け!B148","v":0},{"$f":"①陸連データ貼り付け!C148","v":0},{"$f":"①陸連データ貼り付け!D148","v":0},{"$f":"①陸連データ貼り付け!O148","v":0}]
[{"$f":"①陸連データ貼り付け!L149","v":0},{"$f":"①陸連データ貼り付け!B149","v":0},{"$f":"①陸連データ貼り付け!C149","v":0},{"$f":"①陸連データ貼り付け!D149","v":0},{"$f":"①陸連データ貼り付け!O149","v":0}]
[{"$f":"①陸連データ貼り付け!L150","v":0},{"$f":"①陸連データ貼り付け!B150","v":0},{"$f":"①陸連データ貼り付け!C150","v":0},{"$f":"①陸連データ貼り付け!D150","v":0},{"$f":"①陸連データ貼り付け!O150","v":0}]
[{"$f":"①陸連データ貼り付け!L151","v":0},{"$f":"①陸連データ貼り付け!B151","v":0},{"$f":"①陸連データ貼り付け!C151","v":0},{"$f":"①陸連データ貼り付け!D151","v":0},{"$f":"①陸連データ貼り付け!O151","v":0}]
[{"$f":"①陸連データ貼り付け!L152","v":0},{"$f":"①陸連データ貼り付け!B152","v":0},{"$f":"①陸連データ貼り付け!C152","v":0},{"$f":"①陸連データ貼り付け!D152","v":0},{"$f":"①陸連データ貼り付け!O152","v":0}]
[{"$f":"①陸連データ貼り付け!L153","v":0},{"$f":"①陸連データ貼り付け!B153","v":0},{"$f":"①陸連データ貼り付け!C153","v":0},{"$f":"①陸連データ貼り付け!D153","v":0},{"$f":"①陸連データ貼り付け!O153","v":0}]
[{"$f":"①陸連データ貼り付け!L154","v":0},{"$f":"①陸連データ貼り付け!B154","v":0},{"$f":"①陸連データ貼り付け!C154","v":0},{"$f":"①陸連データ貼り付け!D154","v":0},{"$f":"①陸連データ貼り付け!O154","v":0}]
[{"$f":"①陸連データ貼り付け!L155","v":0},{"$f":"①陸連データ貼り付け!B155","v":0},{"$f":"①陸連データ貼り付け!C155","v":0},{"$f":"①陸連データ貼り付け!D155","v":0},{"$f":"①陸連データ貼り付け!O155","v":0}]
[{"$f":"①陸連データ貼り付け!L156","v":0},{"$f":"①陸連データ貼り付け!B156","v":0},{"$f":"①陸連データ貼り付け!C156","v":0},{"$f":"①陸連データ貼り付け!D156","v":0},{"$f":"①陸連データ貼り付け!O156","v":0}]
[{"$f":"①陸連データ貼り付け!L157","v":0},{"$f":"①陸連データ貼り付け!B157","v":0},{"$f":"①陸連データ貼り付け!C157","v":0},{"$f":"①陸連データ貼り付け!D157","v":0},{"$f":"①陸連データ貼り付け!O157","v":0}]
[{"$f":"①陸連データ貼り付け!L158","v":0},{"$f":"①陸連データ貼り付け!B158","v":0},{"$f":"①陸連データ貼り付け!C158","v":0},{"$f":"①陸連データ貼り付け!D158","v":0},{"$f":"①陸連データ貼り付け!O158","v":0}]
[{"$f":"①陸連データ貼り付け!L159","v":0},{"$f":"①陸連データ貼り付け!B159","v":0},{"$f":"①陸連データ貼り付け!C159","v":0},{"$f":"①陸連データ貼り付け!D159","v":0},{"$f":"①陸連データ貼り付け!O159","v":0}]
[{"$f":"①陸連データ貼り付け!L160","v":0},{"$f":"①陸連データ貼り付け!B160","v":0},{"$f":"①陸連データ貼り付け!C160","v":0},{"$f":"①陸連データ貼り付け!D160","v":0},{"$f":"①陸連データ貼り付け!O160","v":0}]
[{"$f":"①陸連データ貼り付け!L161","v":0},{"$f":"①陸連データ貼り付け!B161","v":0},{"$f":"①陸連データ貼り付け!C161","v":0},{"$f":"①陸連データ貼り付け!D161","v":0},{"$f":"①陸連データ貼り付け!O161","v":0}]
[{"$f":"①陸連データ貼り付け!L162","v":0},{"$f":"①陸連データ貼り付け!B162","v":0},{"$f":"①陸連データ貼り付け!C162","v":0},{"$f":"①陸連データ貼り付け!D162","v":0},{"$f":"①陸連データ貼り付け!O162","v":0}]
[{"$f":"①陸連データ貼り付け!L163","v":0},{"$f":"①陸連データ貼り付け!B163","v":0},{"$f":"①陸連データ貼り付け!C163","v":0},{"$f":"①陸連データ貼り付け!D163","v":0},{"$f":"①陸連データ貼り付け!O163","v":0}]
[{"$f":"①陸連データ貼り付け!L164","v":0},{"$f":"①陸連データ貼り付け!B164","v":0},{"$f":"①陸連データ貼り付け!C164","v":0},{"$f":"①陸連データ貼り付け!D164","v":0},{"$f":"①陸連データ貼り付け!O164","v":0}]
[{"$f":"①陸連データ貼り付け!L165","v":0},{"$f":"①陸連データ貼り付け!B165","v":0},{"$f":"①陸連データ貼り付け!C165","v":0},{"$f":"①陸連データ貼り付け!D165","v":0},{"$f":"①陸連データ貼り付け!O165","v":0}]
[{"$f":"①陸連データ貼り付け!L166","v":0},{"$f":"①陸連データ貼り付け!B166","v":0},{"$f":"①陸連データ貼り付け!C166","v":0},{"$f":"①陸連データ貼り付け!D166","v":0},{"$f":"①陸連データ貼り付け!O166","v":0}]
[{"$f":"①陸連データ貼り付け!L167","v":0},{"$f":"①陸連データ貼り付け!B167","v":0},{"$f":"①陸連データ貼り付け!C167","v":0},{"$f":"①陸連データ貼り付け!D167","v":0},{"$f":"①陸連データ貼り付け!O167","v":0}]
[{"$f":"①陸連データ貼り付け!L168","v":0},{"$f":"①陸連データ貼り付け!B168","v":0},{"$f":"①陸連データ貼り付け!C168","v":0},{"$f":"①陸連データ貼り付け!D168","v":0},{"$f":"①陸連データ貼り付け!O168","v":0}]
[{"$f":"①陸連データ貼り付け!L169","v":0},{"$f":"①陸連データ貼り付け!B169","v":0},{"$f":"①陸連データ貼り付け!C169","v":0},{"$f":"①陸連データ貼り付け!D169","v":0},{"$f":"①陸連データ貼り付け!O169","v":0}]
[{"$f":"①陸連データ貼り付け!L170","v":0},{"$f":"①陸連データ貼り付け!B170","v":0},{"$f":"①陸連データ貼り付け!C170","v":0},{"$f":"①陸連データ貼り付け!D170","v":0},{"$f":"①陸連データ貼り付け!O170","v":0}]
[{"$f":"①陸連データ貼り付け!L171","v":0},{"$f":"①陸連データ貼り付け!B171","v":0},{"$f":"①陸連データ貼り付け!C171","v":0},{"$f":"①陸連データ貼り付け!D171","v":0},{"$f":"①陸連データ貼り付け!O171","v":0}]
[{"$f":"①陸連データ貼り付け!L172","v":0},{"$f":"①陸連データ貼り付け!B172","v":0},{"$f":"①陸連データ貼り付け!C172","v":0},{"$f":"①陸連データ貼り付け!D172","v":0},{"$f":"①陸連データ貼り付け!O172","v":0}]
[{"$f":"①陸連データ貼り付け!L173","v":0},{"$f":"①陸連データ貼り付け!B173","v":0},{"$f":"①陸連データ貼り付け!C173","v":0},{"$f":"①陸連データ貼り付け!D173","v":0},{"$f":"①陸連データ貼り付け!O173","v":0}]
[{"$f":"①陸連データ貼り付け!L174","v":0},{"$f":"①陸連データ貼り付け!B174","v":0},{"$f":"①陸連データ貼り付け!C174","v":0},{"$f":"①陸連データ貼り付け!D174","v":0},{"$f":"①陸連データ貼り付け!O174","v":0}]
[{"$f":"①陸連データ貼り付け!L175","v":0},{"$f":"①陸連データ貼り付け!B175","v":0},{"$f":"①陸連データ貼り付け!C175","v":0},{"$f":"①陸連データ貼り付け!D175","v":0},{"$f":"①陸連データ貼り付け!O175","v":0}]
[{"$f":"①陸連データ貼り付け!L176","v":0},{"$f":"①陸連データ貼り付け!B176","v":0},{"$f":"①陸連データ貼り付け!C176","v":0},{"$f":"①陸連データ貼り付け!D176","v":0},{"$f":"①陸連データ貼り付け!O176","v":0}]
[{"$f":"①陸連データ貼り付け!L177","v":0},{"$f":"①陸連データ貼り付け!B177","v":0},{"$f":"①陸連データ貼り付け!C177","v":0},{"$f":"①陸連データ貼り付け!D177","v":0},{"$f":"①陸連データ貼り付け!O177","v":0}]
[{"$f":"①陸連データ貼り付け!L178","v":0},{"$f":"①陸連データ貼り付け!B178","v":0},{"$f":"①陸連データ貼り付け!C178","v":0},{"$f":"①陸連データ貼り付け!D178","v":0},{"$f":"①陸連データ貼り付け!O178","v":0}]
[{"$f":"①陸連データ貼り付け!L179","v":0},{"$f":"①陸連データ貼り付け!B179","v":0},{"$f":"①陸連データ貼り付け!C179","v":0},{"$f":"①陸連データ貼り付け!D179","v":0},{"$f":"①陸連データ貼り付け!O179","v":0}]
[{"$f":"①陸連データ貼り付け!L180","v":0},{"$f":"①陸連データ貼り付け!B180","v":0},{"$f":"①陸連データ貼り付け!C180","v":0},{"$f":"①陸連データ貼り付け!D180","v":0},{"$f":"①陸連データ貼り付け!O180","v":0}]
[{"$f":"①陸連データ貼り付け!L181","v":0},{"$f":"①陸連データ貼り付け!B181","v":0},{"$f":"①陸連データ貼り付け!C181","v":0},{"$f":"①陸連データ貼り付け!D181","v":0},{"$f":"①陸連データ貼り付け!O181","v":0}]
[{"$f":"①陸連データ貼り付け!L182","v":0},{"$f":"①陸連データ貼り付け!B182","v":0},{"$f":"①陸連データ貼り付け!C182","v":0},{"$f":"①陸連データ貼り付け!D182","v":0},{"$f":"①陸連データ貼り付け!O182","v":0}]
[{"$f":"①陸連データ貼り付け!L183","v":0},{"$f":"①陸連データ貼り付け!B183","v":0},{"$f":"①陸連データ貼り付け!C183","v":0},{"$f":"①陸連データ貼り付け!D183","v":0},{"$f":"①陸連データ貼り付け!O183","v":0}]
[{"$f":"①陸連データ貼り付け!L184","v":0},{"$f":"①陸連データ貼り付け!B184","v":0},{"$f":"①陸連データ貼り付け!C184","v":0},{"$f":"①陸連データ貼り付け!D184","v":0},{"$f":"①陸連データ貼り付け!O184","v":0}]
[{"$f":"①陸連データ貼り付け!L185","v":0},{"$f":"①陸連データ貼り付け!B185","v":0},{"$f":"①陸連データ貼り付け!C185","v":0},{"$f":"①陸連データ貼り付け!D185","v":0},{"$f":"①陸連データ貼り付け!O185","v":0}]
[{"$f":"①陸連データ貼り付け!L186","v":0},{"$f":"①陸連データ貼り付け!B186","v":0},{"$f":"①陸連データ貼り付け!C186","v":0},{"$f":"①陸連データ貼り付け!D186","v":0},{"$f":"①陸連データ貼り付け!O186","v":0}]
[{"$f":"①陸連データ貼り付け!L187","v":0},{"$f":"①陸連データ貼り付け!B187","v":0},{"$f":"①陸連データ貼り付け!C187","v":0},{"$f":"①陸連データ貼り付け!D187","v":0},{"$f":"①陸連データ貼り付け!O187","v":0}]
[{"$f":"①陸連データ貼り付け!L188","v":0},{"$f":"①陸連データ貼り付け!B188","v":0},{"$f":"①陸連データ貼り付け!C188","v":0},{"$f":"①陸連データ貼り付け!D188","v":0},{"$f":"①陸連データ貼り付け!O188","v":0}]
[{"$f":"①陸連データ貼り付け!L189","v":0},{"$f":"①陸連データ貼り付け!B189","v":0},{"$f":"①陸連データ貼り付け!C189","v":0},{"$f":"①陸連データ貼り付け!D189","v":0},{"$f":"①陸連データ貼り付け!O189","v":0}]
[{"$f":"①陸連データ貼り付け!L190","v":0},{"$f":"①陸連データ貼り付け!B190","v":0},{"$f":"①陸連データ貼り付け!C190","v":0},{"$f":"①陸連データ貼り付け!D190","v":0},{"$f":"①陸連データ貼り付け!O190","v":0}]
[{"$f":"①陸連データ貼り付け!L191","v":0},{"$f":"①陸連データ貼り付け!B191","v":0},{"$f":"①陸連データ貼り付け!C191","v":0},{"$f":"①陸連データ貼り付け!D191","v":0},{"$f":"①陸連データ貼り付け!O191","v":0}]
[{"$f":"①陸連データ貼り付け!L192","v":0},{"$f":"①陸連データ貼り付け!B192","v":0},{"$f":"①陸連データ貼り付け!C192","v":0},{"$f":"①陸連データ貼り付け!D192","v":0},{"$f":"①陸連データ貼り付け!O192","v":0}]
[{"$f":"①陸連データ貼り付け!L193","v":0},{"$f":"①陸連データ貼り付け!B193","v":0},{"$f":"①陸連データ貼り付け!C193","v":0},{"$f":"①陸連データ貼り付け!D193","v":0},{"$f":"①陸連データ貼り付け!O193","v":0}]
[{"$f":"①陸連データ貼り付け!L194","v":0},{"$f":"①陸連データ貼り付け!B194","v":0},{"$f":"①陸連データ貼り付け!C194","v":0},{"$f":"①陸連データ貼り付け!D194","v":0},{"$f":"①陸連データ貼り付け!O194","v":0}]
[{"$f":"①陸連データ貼り付け!L195","v":0},{"$f":"①陸連データ貼り付け!B195","v":0},{"$f":"①陸連データ貼り付け!C195","v":0},{"$f":"①陸連データ貼り付け!D195","v":0},{"$f":"①陸連データ貼り付け!O195","v":0}]
[{"$f":"①陸連データ貼り付け!L196","v":0},{"$f":"①陸連データ貼り付け!B196","v":0},{"$f":"①陸連データ貼り付け!C196","v":0},{"$f":"①陸連データ貼り付け!D196","v":0},{"$f":"①陸連データ貼り付け!O196","v":0}]
[{"$f":"①陸連データ貼り付け!L197","v":0},{"$f":"①陸連データ貼り付け!B197","v":0},{"$f":"①陸連データ貼り付け!C197","v":0},{"$f":"①陸連データ貼り付け!D197","v":0},{"$f":"①陸連データ貼り付け!O197","v":0}]
[{"$f":"①陸連データ貼り付け!L198","v":0},{"$f":"①陸連データ貼り付け!B198","v":0},{"$f":"①陸連データ貼り付け!C198","v":0},{"$f":"①陸連データ貼り付け!D198","v":0},{"$f":"①陸連データ貼り付け!O198","v":0}]
[{"$f":"①陸連データ貼り付け!L199","v":0},{"$f":"①陸連データ貼り付け!B199","v":0},{"$f":"①陸連データ貼り付け!C199","v":0},{"$f":"①陸連データ貼り付け!D199","v":0},{"$f":"①陸連データ貼り付け!O199","v":0}]
[{"$f":"①陸連データ貼り付け!L200","v":0},{"$f":"①陸連データ貼り付け!B200","v":0},{"$f":"①陸連データ貼り付け!C200","v":0},{"$f":"①陸連データ貼り付け!D200","v":0},{"$f":"①陸連データ貼り付け!O200","v":0}]
[{"$f":"①陸連データ貼り付け!L201","v":0},{"$f":"①陸連データ貼り付け!B201","v":0},{"$f":"①陸連データ貼り付け!C201","v":0},{"$f":"①陸連データ貼り付け!D201","v":0},{"$f":"①陸連データ貼り付け!O201","v":0}]
[{"$f":"①陸連データ貼り付け!L202","v":0},{"$f":"①陸連データ貼り付け!B202","v":0},{"$f":"①陸連データ貼り付け!C202","v":0},{"$f":"①陸連データ貼り付け!D202","v":0},{"$f":"①陸連データ貼り付け!O202","v":0}]
[{"$f":"①陸連データ貼り付け!L203","v":0},{"$f":"①陸連データ貼り付け!B203","v":0},{"$f":"①陸連データ貼り付け!C203","v":0},{"$f":"①陸連データ貼り付け!D203","v":0},{"$f":"①陸連データ貼り付け!O203","v":0}]
[{"$f":"①陸連データ貼り付け!L204","v":0},{"$f":"①陸連データ貼り付け!B204","v":0},{"$f":"①陸連データ貼り付け!C204","v":0},{"$f":"①陸連データ貼り付け!D204","v":0},{"$f":"①陸連データ貼り付け!O204","v":0}]
[{"$f":"①陸連データ貼り付け!L205","v":0},{"$f":"①陸連データ貼り付け!B205","v":0},{"$f":"①陸連データ貼り付け!C205","v":0},{"$f":"①陸連データ貼り付け!D205","v":0},{"$f":"①陸連データ貼り付け!O205","v":0}]
[{"$f":"①陸連データ貼り付け!L206","v":0},{"$f":"①陸連データ貼り付け!B206","v":0},{"$f":"①陸連データ貼り付け!C206","v":0},{"$f":"①陸連データ貼り付け!D206","v":0},{"$f":"①陸連データ貼り付け!O206","v":0}]
[{"$f":"①陸連データ貼り付け!L207","v":0},{"$f":"①陸連データ貼り付け!B207","v":0},{"$f":"①陸連データ貼り付け!C207","v":0},{"$f":"①陸連データ貼り付け!D207","v":0},{"$f":"①陸連データ貼り付け!O207","v":0}]
[{"$f":"①陸連データ貼り付け!L208","v":0},{"$f":"①陸連データ貼り付け!B208","v":0},{"$f":"①陸連データ貼り付け!C208","v":0},{"$f":"①陸連データ貼り付け!D208","v":0},{"$f":"①陸連データ貼り付け!O208","v":0}]
[{"$f":"①陸連データ貼り付け!L209","v":0},{"$f":"①陸連データ貼り付け!B209","v":0},{"$f":"①陸連データ貼り付け!C209","v":0},{"$f":"①陸連データ貼り付け!D209","v":0},{"$f":"①陸連データ貼り付け!O209","v":0}]
[{"$f":"①陸連データ貼り付け!L210","v":0},{"$f":"①陸連データ貼り付け!B210","v":0},{"$f":"①陸連データ貼り付け!C210","v":0},{"$f":"①陸連データ貼り付け!D210","v":0},{"$f":"①陸連データ貼り付け!O210","v":0}]
[{"$f":"①陸連データ貼り付け!L211","v":0},{"$f":"①陸連データ貼り付け!B211","v":0},{"$f":"①陸連データ貼り付け!C211","v":0},{"$f":"①陸連データ貼り付け!D211","v":0},{"$f":"①陸連データ貼り付け!O211","v":0}]
[{"$f":"①陸連データ貼り付け!L212","v":0},{"$f":"①陸連データ貼り付け!B212","v":0},{"$f":"①陸連データ貼り付け!C212","v":0},{"$f":"①陸連データ貼り付け!D212","v":0},{"$f":"①陸連データ貼り付け!O212","v":0}]
[{"$f":"①陸連データ貼り付け!L213","v":0},{"$f":"①陸連データ貼り付け!B213","v":0},{"$f":"①陸連データ貼り付け!C213","v":0},{"$f":"①陸連データ貼り付け!D213","v":0},{"$f":"①陸連データ貼り付け!O213","v":0}]
[{"$f":"①陸連データ貼り付け!L214","v":0},{"$f":"①陸連データ貼り付け!B214","v":0},{"$f":"①陸連データ貼り付け!C214","v":0},{"$f":"①陸連データ貼り付け!D214","v":0},{"$f":"①陸連データ貼り付け!O214","v":0}]
[{"$f":"①陸連データ貼り付け!L215","v":0},{"$f":"①陸連データ貼り付け!B215","v":0},{"$f":"①陸連データ貼り付け!C215","v":0},{"$f":"①陸連データ貼り付け!D215","v":0},{"$f":"①陸連データ貼り付け!O215","v":0}]
[{"$f":"①陸連データ貼り付け!L216","v":0},{"$f":"①陸連データ貼り付け!B216","v":0},{"$f":"①陸連データ貼り付け!C216","v":0},{"$f":"①陸連データ貼り付け!D216","v":0},{"$f":"①陸連データ貼り付け!O216","v":0}]
[{"$f":"①陸連データ貼り付け!L217","v":0},{"$f":"①陸連データ貼り付け!B217","v":0},{"$f":"①陸連データ貼り付け!C217","v":0},{"$f":"①陸連データ貼り付け!D217","v":0},{"$f":"①陸連データ貼り付け!O217","v":0}]
[{"$f":"①陸連データ貼り付け!L218","v":0},{"$f":"①陸連データ貼り付け!B218","v":0},{"$f":"①陸連データ貼り付け!C218","v":0},{"$f":"①陸連データ貼り付け!D218","v":0},{"$f":"①陸連データ貼り付け!O218","v":0}]
[{"$f":"①陸連データ貼り付け!L219","v":0},{"$f":"①陸連データ貼り付け!B219","v":0},{"$f":"①陸連データ貼り付け!C219","v":0},{"$f":"①陸連データ貼り付け!D219","v":0},{"$f":"①陸連データ貼り付け!O219","v":0}]
[{"$f":"①陸連データ貼り付け!L220","v":0},{"$f":"①陸連データ貼り付け!B220","v":0},{"$f":"①陸連データ貼り付け!C220","v":0},{"$f":"①陸連データ貼り付け!D220","v":0},{"$f":"①陸連データ貼り付け!O220","v":0}]
[{"$f":"①陸連データ貼り付け!L221","v":0},{"$f":"①陸連データ貼り付け!B221","v":0},{"$f":"①陸連データ貼り付け!C221","v":0},{"$f":"①陸連データ貼り付け!D221","v":0},{"$f":"①陸連データ貼り付け!O221","v":0}]
[{"$f":"①陸連データ貼り付け!L222","v":0},{"$f":"①陸連データ貼り付け!B222","v":0},{"$f":"①陸連データ貼り付け!C222","v":0},{"$f":"①陸連データ貼り付け!D222","v":0},{"$f":"①陸連データ貼り付け!O222","v":0}]
[{"$f":"①陸連データ貼り付け!L223","v":0},{"$f":"①陸連データ貼り付け!B223","v":0},{"$f":"①陸連データ貼り付け!C223","v":0},{"$f":"①陸連データ貼り付け!D223","v":0},{"$f":"①陸連データ貼り付け!O223","v":0}]
[{"$f":"①陸連データ貼り付け!L224","v":0},{"$f":"①陸連データ貼り付け!B224","v":0},{"$f":"①陸連データ貼り付け!C224","v":0},{"$f":"①陸連データ貼り付け!D224","v":0},{"$f":"①陸連データ貼り付け!O224","v":0}]
[{"$f":"①陸連データ貼り付け!L225","v":0},{"$f":"①陸連データ貼り付け!B225","v":0},{"$f":"①陸連データ貼り付け!C225","v":0},{"$f":"①陸連データ貼り付け!D225","v":0},{"$f":"①陸連データ貼り付け!O225","v":0}]
[{"$f":"①陸連データ貼り付け!L226","v":0},{"$f":"①陸連データ貼り付け!B226","v":0},{"$f":"①陸連データ貼り付け!C226","v":0},{"$f":"①陸連データ貼り付け!D226","v":0},{"$f":"①陸連データ貼り付け!O226","v":0}]
[{"$f":"①陸連データ貼り付け!L227","v":0},{"$f":"①陸連データ貼り付け!B227","v":0},{"$f":"①陸連データ貼り付け!C227","v":0},{"$f":"①陸連データ貼り付け!D227","v":0},{"$f":"①陸連データ貼り付け!O227","v":0}]
[{"$f":"①陸連データ貼り付け!L228","v":0},{"$f":"①陸連データ貼り付け!B228","v":0},{"$f":"①陸連データ貼り付け!C228","v":0},{"$f":"①陸連データ貼り付け!D228","v":0},{"$f":"①陸連データ貼り付け!O228","v":0}]
[{"$f":"①陸連データ貼り付け!L229","v":0},{"$f":"①陸連データ貼り付け!B229","v":0},{"$f":"①陸連データ貼り付け!C229","v":0},{"$f":"①陸連データ貼り付け!D229","v":0},{"$f":"①陸連データ貼り付け!O229","v":0}]
[{"$f":"①陸連データ貼り付け!L230","v":0},{"$f":"①陸連データ貼り付け!B230","v":0},{"$f":"①陸連データ貼り付け!C230","v":0},{"$f":"①陸連データ貼り付け!D230","v":0},{"$f":"①陸連データ貼り付け!O230","v":0}]
[{"$f":"①陸連データ貼り付け!L231","v":0},{"$f":"①陸連データ貼り付け!B231","v":0},{"$f":"①陸連データ貼り付け!C231","v":0},{"$f":"①陸連データ貼り付け!D231","v":0},{"$f":"①陸連データ貼り付け!O231","v":0}]
[{"$f":"①陸連データ貼り付け!L232","v":0},{"$f":"①陸連データ貼り付け!B232","v":0},{"$f":"①陸連データ貼り付け!C232","v":0},{"$f":"①陸連データ貼り付け!D232","v":0},{"$f":"①陸連データ貼り付け!O232","v":0}]
[{"$f":"①陸連データ貼り付け!L233","v":0},{"$f":"①陸連データ貼り付け!B233","v":0},{"$f":"①陸連データ貼り付け!C233","v":0},{"$f":"①陸連データ貼り付け!D233","v":0},{"$f":"①陸連データ貼り付け!O233","v":0}]
[{"$f":"①陸連データ貼り付け!L234","v":0},{"$f":"①陸連データ貼り付け!B234","v":0},{"$f":"①陸連データ貼り付け!C234","v":0},{"$f":"①陸連データ貼り付け!D234","v":0},{"$f":"①陸連データ貼り付け!O234","v":0}]
[{"$f":"①陸連データ貼り付け!L235","v":0},{"$f":"①陸連データ貼り付け!B235","v":0},{"$f":"①陸連データ貼り付け!C235","v":0},{"$f":"①陸連データ貼り付け!D235","v":0},{"$f":"①陸連データ貼り付け!O235","v":0}]
[{"$f":"①陸連データ貼り付け!L236","v":0},{"$f":"①陸連データ貼り付け!B236","v":0},{"$f":"①陸連データ貼り付け!C236","v":0},{"$f":"①陸連データ貼り付け!D236","v":0},{"$f":"①陸連データ貼り付け!O236","v":0}]
[{"$f":"①陸連データ貼り付け!L237","v":0},{"$f":"①陸連データ貼り付け!B237","v":0},{"$f":"①陸連データ貼り付け!C237","v":0},{"$f":"①陸連データ貼り付け!D237","v":0},{"$f":"①陸連データ貼り付け!O237","v":0}]
[{"$f":"①陸連データ貼り付け!L238","v":0},{"$f":"①陸連データ貼り付け!B238","v":0},{"$f":"①陸連データ貼り付け!C238","v":0},{"$f":"①陸連データ貼り付け!D238","v":0},{"$f":"①陸連データ貼り付け!O238","v":0}]
[{"$f":"①陸連データ貼り付け!L239","v":0},{"$f":"①陸連データ貼り付け!B239","v":0},{"$f":"①陸連データ貼り付け!C239","v":0},{"$f":"①陸連データ貼り付け!D239","v":0},{"$f":"①陸連データ貼り付け!O239","v":0}]
[{"$f":"①陸連データ貼り付け!L240","v":0},{"$f":"①陸連データ貼り付け!B240","v":0},{"$f":"①陸連データ貼り付け!C240","v":0},{"$f":"①陸連データ貼り付け!D240","v":0},{"$f":"①陸連データ貼り付け!O240","v":0}]
[{"$f":"①陸連データ貼り付け!L241","v":0},{"$f":"①陸連データ貼り付け!B241","v":0},{"$f":"①陸連データ貼り付け!C241","v":0},{"$f":"①陸連データ貼り付け!D241","v":0},{"$f":"①陸連データ貼り付け!O241","v":0}]
[{"$f":"①陸連データ貼り付け!L242","v":0},{"$f":"①陸連データ貼り付け!B242","v":0},{"$f":"①陸連データ貼り付け!C242","v":0},{"$f":"①陸連データ貼り付け!D242","v":0},{"$f":"①陸連データ貼り付け!O242","v":0}]
[{"$f":"①陸連データ貼り付け!L243","v":0},{"$f":"①陸連データ貼り付け!B243","v":0},{"$f":"①陸連データ貼り付け!C243","v":0},{"$f":"①陸連データ貼り付け!D243","v":0},{"$f":"①陸連データ貼り付け!O243","v":0}]
[{"$f":"①陸連データ貼り付け!L244","v":0},{"$f":"①陸連データ貼り付け!B244","v":0},{"$f":"①陸連データ貼り付け!C244","v":0},{"$f":"①陸連データ貼り付け!D244","v":0},{"$f":"①陸連データ貼り付け!O244","v":0}]
[{"$f":"①陸連データ貼り付け!L245","v":0},{"$f":"①陸連データ貼り付け!B245","v":0},{"$f":"①陸連データ貼り付け!C245","v":0},{"$f":"①陸連データ貼り付け!D245","v":0},{"$f":"①陸連データ貼り付け!O245","v":0}]
[{"$f":"①陸連データ貼り付け!L246","v":0},{"$f":"①陸連データ貼り付け!B246","v":0},{"$f":"①陸連データ貼り付け!C246","v":0},{"$f":"①陸連データ貼り付け!D246","v":0},{"$f":"①陸連データ貼り付け!O246","v":0}]
[{"$f":"①陸連データ貼り付け!L247","v":0},{"$f":"①陸連データ貼り付け!B247","v":0},{"$f":"①陸連データ貼り付け!C247","v":0},{"$f":"①陸連データ貼り付け!D247","v":0},{"$f":"①陸連データ貼り付け!O247","v":0}]
[{"$f":"①陸連データ貼り付け!L248","v":0},{"$f":"①陸連データ貼り付け!B248","v":0},{"$f":"①陸連データ貼り付け!C248","v":0},{"$f":"①陸連データ貼り付け!D248","v":0},{"$f":"①陸連データ貼り付け!O248","v":0}]
[{"$f":"①陸連データ貼り付け!L249","v":0},{"$f":"①陸連データ貼り付け!B249","v":0},{"$f":"①陸連データ貼り付け!C249","v":0},{"$f":"①陸連データ貼り付け!D249","v":0},{"$f":"①陸連データ貼り付け!O249","v":0}]
[{"$f":"①陸連データ貼り付け!L250","v":0},{"$f":"①陸連データ貼り付け!B250","v":0},{"$f":"①陸連データ貼り付け!C250","v":0},{"$f":"①陸連データ貼り付け!D250","v":0},{"$f":"①陸連データ貼り付け!O250","v":0}]
[{"$f":"①陸連データ貼り付け!L251","v":0},{"$f":"①陸連データ貼り付け!B251","v":0},{"$f":"①陸連データ貼り付け!C251","v":0},{"$f":"①陸連データ貼り付け!D251","v":0},{"$f":"①陸連データ貼り付け!O251","v":0}]
[{"$f":"①陸連データ貼り付け!L252","v":0},{"$f":"①陸連データ貼り付け!B252","v":0},{"$f":"①陸連データ貼り付け!C252","v":0},{"$f":"①陸連データ貼り付け!D252","v":0},{"$f":"①陸連データ貼り付け!O252","v":0}]
[{"$f":"①陸連データ貼り付け!L253","v":0},{"$f":"①陸連データ貼り付け!B253","v":0},{"$f":"①陸連データ貼り付け!C253","v":0},{"$f":"①陸連データ貼り付け!D253","v":0},{"$f":"①陸連データ貼り付け!O253","v":0}]
[{"$f":"①陸連データ貼り付け!L254","v":0},{"$f":"①陸連データ貼り付け!B254","v":0},{"$f":"①陸連データ貼り付け!C254","v":0},{"$f":"①陸連データ貼り付け!D254","v":0},{"$f":"①陸連データ貼り付け!O254","v":0}]
[{"$f":"①陸連データ貼り付け!L255","v":0},{"$f":"①陸連データ貼り付け!B255","v":0},{"$f":"①陸連データ貼り付け!C255","v":0},{"$f":"①陸連データ貼り付け!D255","v":0},{"$f":"①陸連データ貼り付け!O255","v":0}]
[{"$f":"①陸連データ貼り付け!L256","v":0},{"$f":"①陸連データ貼り付け!B256","v":0},{"$f":"①陸連データ貼り付け!C256","v":0},{"$f":"①陸連データ貼り付け!D256","v":0},{"$f":"①陸連データ貼り付け!O256","v":0}]
[{"$f":"①陸連データ貼り付け!L257","v":0},{"$f":"①陸連データ貼り付け!B257","v":0},{"$f":"①陸連データ貼り付け!C257","v":0},{"$f":"①陸連データ貼り付け!D257","v":0},{"$f":"①陸連データ貼り付け!O257","v":0}]
[{"$f":"①陸連データ貼り付け!L258","v":0},{"$f":"①陸連データ貼り付け!B258","v":0},{"$f":"①陸連データ貼り付け!C258","v":0},{"$f":"①陸連データ貼り付け!D258","v":0},{"$f":"①陸連データ貼り付け!O258","v":0}]
[{"$f":"①陸連データ貼り付け!L259","v":0},{"$f":"①陸連データ貼り付け!B259","v":0},{"$f":"①陸連データ貼り付け!C259","v":0},{"$f":"①陸連データ貼り付け!D259","v":0},{"$f":"①陸連データ貼り付け!O259","v":0}]
[{"$f":"①陸連データ貼り付け!L260","v":0},{"$f":"①陸連データ貼り付け!B260","v":0},{"$f":"①陸連データ貼り付け!C260","v":0},{"$f":"①陸連データ貼り付け!D260","v":0},{"$f":"①陸連データ貼り付け!O260","v":0}]
[{"$f":"①陸連データ貼り付け!L261","v":0},{"$f":"①陸連データ貼り付け!B261","v":0},{"$f":"①陸連データ貼り付け!C261","v":0},{"$f":"①陸連データ貼り付け!D261","v":0},{"$f":"①陸連データ貼り付け!O261","v":0}]
[{"$f":"①陸連データ貼り付け!L262","v":0},{"$f":"①陸連データ貼り付け!B262","v":0},{"$f":"①陸連データ貼り付け!C262","v":0},{"$f":"①陸連データ貼り付け!D262","v":0},{"$f":"①陸連データ貼り付け!O262","v":0}]
[{"$f":"①陸連データ貼り付け!L263","v":0},{"$f":"①陸連データ貼り付け!B263","v":0},{"$f":"①陸連データ貼り付け!C263","v":0},{"$f":"①陸連データ貼り付け!D263","v":0},{"$f":"①陸連データ貼り付け!O263","v":0}]
[{"$f":"①陸連データ貼り付け!L264","v":0},{"$f":"①陸連データ貼り付け!B264","v":0},{"$f":"①陸連データ貼り付け!C264","v":0},{"$f":"①陸連データ貼り付け!D264","v":0},{"$f":"①陸連データ貼り付け!O264","v":0}]
[{"$f":"①陸連データ貼り付け!L265","v":0},{"$f":"①陸連データ貼り付け!B265","v":0},{"$f":"①陸連データ貼り付け!C265","v":0},{"$f":"①陸連データ貼り付け!D265","v":0},{"$f":"①陸連データ貼り付け!O265","v":0}]
[{"$f":"①陸連データ貼り付け!L266","v":0},{"$f":"①陸連データ貼り付け!B266","v":0},{"$f":"①陸連データ貼り付け!C266","v":0},{"$f":"①陸連データ貼り付け!D266","v":0},{"$f":"①陸連データ貼り付け!O266","v":0}]
[{"$f":"①陸連データ貼り付け!L267","v":0},{"$f":"①陸連データ貼り付け!B267","v":0},{"$f":"①陸連データ貼り付け!C267","v":0},{"$f":"①陸連データ貼り付け!D267","v":0},{"$f":"①陸連データ貼り付け!O267","v":0}]
[{"$f":"①陸連データ貼り付け!L268","v":0},{"$f":"①陸連データ貼り付け!B268","v":0},{"$f":"①陸連データ貼り付け!C268","v":0},{"$f":"①陸連データ貼り付け!D268","v":0},{"$f":"①陸連データ貼り付け!O268","v":0}]
[{"$f":"①陸連データ貼り付け!L269","v":0},{"$f":"①陸連データ貼り付け!B269","v":0},{"$f":"①陸連データ貼り付け!C269","v":0},{"$f":"①陸連データ貼り付け!D269","v":0},{"$f":"①陸連データ貼り付け!O269","v":0}]
[{"$f":"①陸連データ貼り付け!L270","v":0},{"$f":"①陸連データ貼り付け!B270","v":0},{"$f":"①陸連データ貼り付け!C270","v":0},{"$f":"①陸連データ貼り付け!D270","v":0},{"$f":"①陸連データ貼り付け!O270","v":0}]
[{"$f":"①陸連データ貼り付け!L271","v":0},{"$f":"①陸連データ貼り付け!B271","v":0},{"$f":"①陸連データ貼り付け!C271","v":0},{"$f":"①陸連データ貼り付け!D271","v":0},{"$f":"①陸連データ貼り付け!O271","v":0}]
[{"$f":"①陸連データ貼り付け!L272","v":0},{"$f":"①陸連データ貼り付け!B272","v":0},{"$f":"①陸連データ貼り付け!C272","v":0},{"$f":"①陸連データ貼り付け!D272","v":0},{"$f":"①陸連データ貼り付け!O272","v":0}]
[{"$f":"①陸連データ貼り付け!L273","v":0},{"$f":"①陸連データ貼り付け!B273","v":0},{"$f":"①陸連データ貼り付け!C273","v":0},{"$f":"①陸連データ貼り付け!D273","v":0},{"$f":"①陸連データ貼り付け!O273","v":0}]
[{"$f":"①陸連データ貼り付け!L274","v":0},{"$f":"①陸連データ貼り付け!B274","v":0},{"$f":"①陸連データ貼り付け!C274","v":0},{"$f":"①陸連データ貼り付け!D274","v":0},{"$f":"①陸連データ貼り付け!O274","v":0}]
[{"$f":"①陸連データ貼り付け!L275","v":0},{"$f":"①陸連データ貼り付け!B275","v":0},{"$f":"①陸連データ貼り付け!C275","v":0},{"$f":"①陸連データ貼り付け!D275","v":0},{"$f":"①陸連データ貼り付け!O275","v":0}]
[{"$f":"①陸連データ貼り付け!L276","v":0},{"$f":"①陸連データ貼り付け!B276","v":0},{"$f":"①陸連データ貼り付け!C276","v":0},{"$f":"①陸連データ貼り付け!D276","v":0},{"$f":"①陸連データ貼り付け!O276","v":0}]
[{"$f":"①陸連データ貼り付け!L277","v":0},{"$f":"①陸連データ貼り付け!B277","v":0},{"$f":"①陸連データ貼り付け!C277","v":0},{"$f":"①陸連データ貼り付け!D277","v":0},{"$f":"①陸連データ貼り付け!O277","v":0}]
[{"$f":"①陸連データ貼り付け!L278","v":0},{"$f":"①陸連データ貼り付け!B278","v":0},{"$f":"①陸連データ貼り付け!C278","v":0},{"$f":"①陸連データ貼り付け!D278","v":0},{"$f":"①陸連データ貼り付け!O278","v":0}]
[{"$f":"①陸連データ貼り付け!L279","v":0},{"$f":"①陸連データ貼り付け!B279","v":0},{"$f":"①陸連データ貼り付け!C279","v":0},{"$f":"①陸連データ貼り付け!D279","v":0},{"$f":"①陸連データ貼り付け!O279","v":0}]
[{"$f":"①陸連データ貼り付け!L280","v":0},{"$f":"①陸連データ貼り付け!B280","v":0},{"$f":"①陸連データ貼り付け!C280","v":0},{"$f":"①陸連データ貼り付け!D280","v":0},{"$f":"①陸連データ貼り付け!O280","v":0}]
[{"$f":"①陸連データ貼り付け!L281","v":0},{"$f":"①陸連データ貼り付け!B281","v":0},{"$f":"①陸連データ貼り付け!C281","v":0},{"$f":"①陸連データ貼り付け!D281","v":0},{"$f":"①陸連データ貼り付け!O281","v":0}]
[{"$f":"①陸連データ貼り付け!L282","v":0},{"$f":"①陸連データ貼り付け!B282","v":0},{"$f":"①陸連データ貼り付け!C282","v":0},{"$f":"①陸連データ貼り付け!D282","v":0},{"$f":"①陸連データ貼り付け!O282","v":0}]
[{"$f":"①陸連データ貼り付け!L283","v":0},{"$f":"①陸連データ貼り付け!B283","v":0},{"$f":"①陸連データ貼り付け!C283","v":0},{"$f":"①陸連データ貼り付け!D283","v":0},{"$f":"①陸連データ貼り付け!O283","v":0}]
[{"$f":"①陸連データ貼り付け!L284","v":0},{"$f":"①陸連データ貼り付け!B284","v":0},{"$f":"①陸連データ貼り付け!C284","v":0},{"$f":"①陸連データ貼り付け!D284","v":0},{"$f":"①陸連データ貼り付け!O284","v":0}]
[{"$f":"①陸連データ貼り付け!L285","v":0},{"$f":"①陸連データ貼り付け!B285","v":0},{"$f":"①陸連データ貼り付け!C285","v":0},{"$f":"①陸連データ貼り付け!D285","v":0},{"$f":"①陸連データ貼り付け!O285","v":0}]
[{"$f":"①陸連データ貼り付け!L286","v":0},{"$f":"①陸連データ貼り付け!B286","v":0},{"$f":"①陸連データ貼り付け!C286","v":0},{"$f":"①陸連データ貼り付け!D286","v":0},{"$f":"①陸連データ貼り付け!O286","v":0}]
[{"$f":"①陸連データ貼り付け!L287","v":0},{"$f":"①陸連データ貼り付け!B287","v":0},{"$f":"①陸連データ貼り付け!C287","v":0},{"$f":"①陸連データ貼り付け!D287","v":0},{"$f":"①陸連データ貼り付け!O287","v":0}]
[{"$f":"①陸連データ貼り付け!L288","v":0},{"$f":"①陸連データ貼り付け!B288","v":0},{"$f":"①陸連データ貼り付け!C288","v":0},{"$f":"①陸連データ貼り付け!D288","v":0},{"$f":"①陸連データ貼り付け!O288","v":0}]
[{"$f":"①陸連データ貼り付け!L289","v":0},{"$f":"①陸連データ貼り付け!B289","v":0},{"$f":"①陸連データ貼り付け!C289","v":0},{"$f":"①陸連データ貼り付け!D289","v":0},{"$f":"①陸連データ貼り付け!O289","v":0}]
[{"$f":"①陸連データ貼り付け!L290","v":0},{"$f":"①陸連データ貼り付け!B290","v":0},{"$f":"①陸連データ貼り付け!C290","v":0},{"$f":"①陸連データ貼り付け!D290","v":0},{"$f":"①陸連データ貼り付け!O290","v":0}]
[{"$f":"①陸連データ貼り付け!L291","v":0},{"$f":"①陸連データ貼り付け!B291","v":0},{"$f":"①陸連データ貼り付け!C291","v":0},{"$f":"①陸連データ貼り付け!D291","v":0},{"$f":"①陸連データ貼り付け!O291","v":0}]
[{"$f":"①陸連データ貼り付け!L292","v":0},{"$f":"①陸連データ貼り付け!B292","v":0},{"$f":"①陸連データ貼り付け!C292","v":0},{"$f":"①陸連データ貼り付け!D292","v":0},{"$f":"①陸連データ貼り付け!O292","v":0}]
[{"$f":"①陸連データ貼り付け!L293","v":0},{"$f":"①陸連データ貼り付け!B293","v":0},{"$f":"①陸連データ貼り付け!C293","v":0},{"$f":"①陸連データ貼り付け!D293","v":0},{"$f":"①陸連データ貼り付け!O293","v":0}]
[{"$f":"①陸連データ貼り付け!L294","v":0},{"$f":"①陸連データ貼り付け!B294","v":0},{"$f":"①陸連データ貼り付け!C294","v":0},{"$f":"①陸連データ貼り付け!D294","v":0},{"$f":"①陸連データ貼り付け!O294","v":0}]
[{"$f":"①陸連データ貼り付け!L295","v":0},{"$f":"①陸連データ貼り付け!B295","v":0},{"$f":"①陸連データ貼り付け!C295","v":0},{"$f":"①陸連データ貼り付け!D295","v":0},{"$f":"①陸連データ貼り付け!O295","v":0}]
[{"$f":"①陸連データ貼り付け!L296","v":0},{"$f":"①陸連データ貼り付け!B296","v":0},{"$f":"①陸連データ貼り付け!C296","v":0},{"$f":"①陸連データ貼り付け!D296","v":0},{"$f":"①陸連データ貼り付け!O296","v":0}]
[{"$f":"①陸連データ貼り付け!L297","v":0},{"$f":"①陸連データ貼り付け!B297","v":0},{"$f":"①陸連データ貼り付け!C297","v":0},{"$f":"①陸連データ貼り付け!D297","v":0},{"$f":"①陸連データ貼り付け!O297","v":0}]
[{"$f":"①陸連データ貼り付け!L298","v":0},{"$f":"①陸連データ貼り付け!B298","v":0},{"$f":"①陸連データ貼り付け!C298","v":0},{"$f":"①陸連データ貼り付け!D298","v":0},{"$f":"①陸連データ貼り付け!O298","v":0}]
[{"$f":"①陸連データ貼り付け!L299","v":0},{"$f":"①陸連データ貼り付け!B299","v":0},{"$f":"①陸連データ貼り付け!C299","v":0},{"$f":"①陸連データ貼り付け!D299","v":0},{"$f":"①陸連データ貼り付け!O299","v":0}]
[{"$f":"①陸連データ貼り付け!L300","v":0},{"$f":"①陸連データ貼り付け!B300","v":0},{"$f":"①陸連データ貼り付け!C300","v":0},{"$f":"①陸連データ貼り付け!D300","v":0},{"$f":"①陸連データ貼り付け!O300","v":0}]
[{"$f":"①陸連データ貼り付け!L301","v":0},{"$f":"①陸連データ貼り付け!B301","v":0},{"$f":"①陸連データ貼り付け!C301","v":0},{"$f":"①陸連データ貼り付け!D301","v":0},{"$f":"①陸連データ貼り付け!O301","v":0}]
[{"$f":"①陸連データ貼り付け!L302","v":0},{"$f":"①陸連データ貼り付け!B302","v":0},{"$f":"①陸連データ貼り付け!C302","v":0},{"$f":"①陸連データ貼り付け!D302","v":0},{"$f":"①陸連データ貼り付け!O302","v":0}]
[{"$f":"①陸連データ貼り付け!L303","v":0},{"$f":"①陸連データ貼り付け!B303","v":0},{"$f":"①陸連データ貼り付け!C303","v":0},{"$f":"①陸連データ貼り付け!D303","v":0},{"$f":"①陸連データ貼り付け!O303","v":0}]
[{"$f":"①陸連データ貼り付け!L304","v":0},{"$f":"①陸連データ貼り付け!B304","v":0},{"$f":"①陸連データ貼り付け!C304","v":0},{"$f":"①陸連データ貼り付け!D304","v":0},{"$f":"①陸連データ貼り付け!O304","v":0}]
[{"$f":"①陸連データ貼り付け!L305","v":0},{"$f":"①陸連データ貼り付け!B305","v":0},{"$f":"①陸連データ貼り付け!C305","v":0},{"$f":"①陸連データ貼り付け!D305","v":0},{"$f":"①陸連データ貼り付け!O305","v":0}]
[{"$f":"①陸連データ貼り付け!L306","v":0},{"$f":"①陸連データ貼り付け!B306","v":0},{"$f":"①陸連データ貼り付け!C306","v":0},{"$f":"①陸連データ貼り付け!D306","v":0},{"$f":"①陸連データ貼り付け!O306","v":0}]
[{"$f":"①陸連データ貼り付け!L307","v":0},{"$f":"①陸連データ貼り付け!B307","v":0},{"$f":"①陸連データ貼り付け!C307","v":0},{"$f":"①陸連データ貼り付け!D307","v":0},{"$f":"①陸連データ貼り付け!O307","v":0}]
[{"$f":"①陸連データ貼り付け!L308","v":0},{"$f":"①陸連データ貼り付け!B308","v":0},{"$f":"①陸連データ貼り付け!C308","v":0},{"$f":"①陸連データ貼り付け!D308","v":0},{"$f":"①陸連データ貼り付け!O308","v":0}]
[{"$f":"①陸連データ貼り付け!L309","v":0},{"$f":"①陸連データ貼り付け!B309","v":0},{"$f":"①陸連データ貼り付け!C309","v":0},{"$f":"①陸連データ貼り付け!D309","v":0},{"$f":"①陸連データ貼り付け!O309","v":0}]
[{"$f":"①陸連データ貼り付け!L310","v":0},{"$f":"①陸連データ貼り付け!B310","v":0},{"$f":"①陸連データ貼り付け!C310","v":0},{"$f":"①陸連データ貼り付け!D310","v":0},{"$f":"①陸連データ貼り付け!O310","v":0}]
[{"$f":"①陸連データ貼り付け!L311","v":0},{"$f":"①陸連データ貼り付け!B311","v":0},{"$f":"①陸連データ貼り付け!C311","v":0},{"$f":"①陸連データ貼り付け!D311","v":0},{"$f":"①陸連データ貼り付け!O311","v":0}]
[{"$f":"①陸連データ貼り付け!L312","v":0},{"$f":"①陸連データ貼り付け!B312","v":0},{"$f":"①陸連データ貼り付け!C312","v":0},{"$f":"①陸連データ貼り付け!D312","v":0},{"$f":"①陸連データ貼り付け!O312","v":0}]
[{"$f":"①陸連データ貼り付け!L313","v":0},{"$f":"①陸連データ貼り付け!B313","v":0},{"$f":"①陸連データ貼り付け!C313","v":0},{"$f":"①陸連データ貼り付け!D313","v":0},{"$f":"①陸連データ貼り付け!O313","v":0}]
[{"$f":"①陸連データ貼り付け!L314","v":0},{"$f":"①陸連データ貼り付け!B314","v":0},{"$f":"①陸連データ貼り付け!C314","v":0},{"$f":"①陸連データ貼り付け!D314","v":0},{"$f":"①陸連データ貼り付け!O314","v":0}]
[{"$f":"①陸連データ貼り付け!L315","v":0},{"$f":"①陸連データ貼り付け!B315","v":0},{"$f":"①陸連データ貼り付け!C315","v":0},{"$f":"①陸連データ貼り付け!D315","v":0},{"$f":"①陸連データ貼り付け!O315","v":0}]
[{"$f":"①陸連データ貼り付け!L316","v":0},{"$f":"①陸連データ貼り付け!B316","v":0},{"$f":"①陸連データ貼り付け!C316","v":0},{"$f":"①陸連データ貼り付け!D316","v":0},{"$f":"①陸連データ貼り付け!O316","v":0}]
[{"$f":"①陸連データ貼り付け!L317","v":0},{"$f":"①陸連データ貼り付け!B317","v":0},{"$f":"①陸連データ貼り付け!C317","v":0},{"$f":"①陸連データ貼り付け!D317","v":0},{"$f":"①陸連データ貼り付け!O317","v":0}]
[{"$f":"①陸連データ貼り付け!L318","v":0},{"$f":"①陸連データ貼り付け!B318","v":0},{"$f":"①陸連データ貼り付け!C318","v":0},{"$f":"①陸連データ貼り付け!D318","v":0},{"$f":"①陸連データ貼り付け!O318","v":0}]
[{"$f":"①陸連データ貼り付け!L319","v":0},{"$f":"①陸連データ貼り付け!B319","v":0},{"$f":"①陸連データ貼り付け!C319","v":0},{"$f":"①陸連データ貼り付け!D319","v":0},{"$f":"①陸連データ貼り付け!O319","v":0}]
[{"$f":"①陸連データ貼り付け!L320","v":0},{"$f":"①陸連データ貼り付け!B320","v":0},{"$f":"①陸連データ貼り付け!C320","v":0},{"$f":"①陸連データ貼り付け!D320","v":0},{"$f":"①陸連データ貼り付け!O320","v":0}]
[{"$f":"①陸連データ貼り付け!L321","v":0},{"$f":"①陸連データ貼り付け!B321","v":0},{"$f":"①陸連データ貼り付け!C321","v":0},{"$f":"①陸連データ貼り付け!D321","v":0},{"$f":"①陸連データ貼り付け!O321","v":0}]
[{"$f":"①陸連データ貼り付け!L322","v":0},{"$f":"①陸連データ貼り付け!B322","v":0},{"$f":"①陸連データ貼り付け!C322","v":0},{"$f":"①陸連データ貼り付け!D322","v":0},{"$f":"①陸連データ貼り付け!O322","v":0}]
[{"$f":"①陸連データ貼り付け!L323","v":0},{"$f":"①陸連データ貼り付け!B323","v":0},{"$f":"①陸連データ貼り付け!C323","v":0},{"$f":"①陸連データ貼り付け!D323","v":0},{"$f":"①陸連データ貼り付け!O323","v":0}]
[{"$f":"①陸連データ貼り付け!L324","v":0},{"$f":"①陸連データ貼り付け!B324","v":0},{"$f":"①陸連データ貼り付け!C324","v":0},{"$f":"①陸連データ貼り付け!D324","v":0},{"$f":"①陸連データ貼り付け!O324","v":0}]
[{"$f":"①陸連データ貼り付け!L325","v":0},{"$f":"①陸連データ貼り付け!B325","v":0},{"$f":"①陸連データ貼り付け!C325","v":0},{"$f":"①陸連データ貼り付け!D325","v":0},{"$f":"①陸連データ貼り付け!O325","v":0}]
[{"$f":"①陸連データ貼り付け!L326","v":0},{"$f":"①陸連データ貼り付け!B326","v":0},{"$f":"①陸連データ貼り付け!C326","v":0},{"$f":"①陸連データ貼り付け!D326","v":0},{"$f":"①陸連データ貼り付け!O326","v":0}]
[{"$f":"①陸連データ貼り付け!L327","v":0},{"$f":"①陸連データ貼り付け!B327","v":0},{"$f":"①陸連データ貼り付け!C327","v":0},{"$f":"①陸連データ貼り付け!D327","v":0},{"$f":"①陸連データ貼り付け!O327","v":0}]
[{"$f":"①陸連データ貼り付け!L328","v":0},{"$f":"①陸連データ貼り付け!B328","v":0},{"$f":"①陸連データ貼り付け!C328","v":0},{"$f":"①陸連データ貼り付け!D328","v":0},{"$f":"①陸連データ貼り付け!O328","v":0}]
[{"$f":"①陸連データ貼り付け!L329","v":0},{"$f":"①陸連データ貼り付け!B329","v":0},{"$f":"①陸連データ貼り付け!C329","v":0},{"$f":"①陸連データ貼り付け!D329","v":0},{"$f":"①陸連データ貼り付け!O329","v":0}]
[{"$f":"①陸連データ貼り付け!L330","v":0},{"$f":"①陸連データ貼り付け!B330","v":0},{"$f":"①陸連データ貼り付け!C330","v":0},{"$f":"①陸連データ貼り付け!D330","v":0},{"$f":"①陸連データ貼り付け!O330","v":0}]
[{"$f":"①陸連データ貼り付け!L331","v":0},{"$f":"①陸連データ貼り付け!B331","v":0},{"$f":"①陸連データ貼り付け!C331","v":0},{"$f":"①陸連データ貼り付け!D331","v":0},{"$f":"①陸連データ貼り付け!O331","v":0}]
[{"$f":"①陸連データ貼り付け!L332","v":0},{"$f":"①陸連データ貼り付け!B332","v":0},{"$f":"①陸連データ貼り付け!C332","v":0},{"$f":"①陸連データ貼り付け!D332","v":0},{"$f":"①陸連データ貼り付け!O332","v":0}]
[{"$f":"①陸連データ貼り付け!L333","v":0},{"$f":"①陸連データ貼り付け!B333","v":0},{"$f":"①陸連データ貼り付け!C333","v":0},{"$f":"①陸連データ貼り付け!D333","v":0},{"$f":"①陸連データ貼り付け!O333","v":0}]
[{"$f":"①陸連データ貼り付け!L334","v":0},{"$f":"①陸連データ貼り付け!B334","v":0},{"$f":"①陸連データ貼り付け!C334","v":0},{"$f":"①陸連データ貼り付け!D334","v":0},{"$f":"①陸連データ貼り付け!O334","v":0}]
[{"$f":"①陸連データ貼り付け!L335","v":0},{"$f":"①陸連データ貼り付け!B335","v":0},{"$f":"①陸連データ貼り付け!C335","v":0},{"$f":"①陸連データ貼り付け!D335","v":0},{"$f":"①陸連データ貼り付け!O335","v":0}]
[{"$f":"①陸連データ貼り付け!L336","v":0},{"$f":"①陸連データ貼り付け!B336","v":0},{"$f":"①陸連データ貼り付け!C336","v":0},{"$f":"①陸連データ貼り付け!D336","v":0},{"$f":"①陸連データ貼り付け!O336","v":0}]
[{"$f":"①陸連データ貼り付け!L337","v":0},{"$f":"①陸連データ貼り付け!B337","v":0},{"$f":"①陸連データ貼り付け!C337","v":0},{"$f":"①陸連データ貼り付け!D337","v":0},{"$f":"①陸連データ貼り付け!O337","v":0}]
[{"$f":"①陸連データ貼り付け!L338","v":0},{"$f":"①陸連データ貼り付け!B338","v":0},{"$f":"①陸連データ貼り付け!C338","v":0},{"$f":"①陸連データ貼り付け!D338","v":0},{"$f":"①陸連データ貼り付け!O338","v":0}]
[{"$f":"①陸連データ貼り付け!L339","v":0},{"$f":"①陸連データ貼り付け!B339","v":0},{"$f":"①陸連データ貼り付け!C339","v":0},{"$f":"①陸連データ貼り付け!D339","v":0},{"$f":"①陸連データ貼り付け!O339","v":0}]
[{"$f":"①陸連データ貼り付け!L340","v":0},{"$f":"①陸連データ貼り付け!B340","v":0},{"$f":"①陸連データ貼り付け!C340","v":0},{"$f":"①陸連データ貼り付け!D340","v":0},{"$f":"①陸連データ貼り付け!O340","v":0}]
[{"$f":"①陸連データ貼り付け!L341","v":0},{"$f":"①陸連データ貼り付け!B341","v":0},{"$f":"①陸連データ貼り付け!C341","v":0},{"$f":"①陸連データ貼り付け!D341","v":0},{"$f":"①陸連データ貼り付け!O341","v":0}]
[{"$f":"①陸連データ貼り付け!L342","v":0},{"$f":"①陸連データ貼り付け!B342","v":0},{"$f":"①陸連データ貼り付け!C342","v":0},{"$f":"①陸連データ貼り付け!D342","v":0},{"$f":"①陸連データ貼り付け!O342","v":0}]
[{"$f":"①陸連データ貼り付け!L343","v":0},{"$f":"①陸連データ貼り付け!B343","v":0},{"$f":"①陸連データ貼り付け!C343","v":0},{"$f":"①陸連データ貼り付け!D343","v":0},{"$f":"①陸連データ貼り付け!O343","v":0}]
[{"$f":"①陸連データ貼り付け!L344","v":0},{"$f":"①陸連データ貼り付け!B344","v":0},{"$f":"①陸連データ貼り付け!C344","v":0},{"$f":"①陸連データ貼り付け!D344","v":0},{"$f":"①陸連データ貼り付け!O344","v":0}]
[{"$f":"①陸連データ貼り付け!L345","v":0},{"$f":"①陸連データ貼り付け!B345","v":0},{"$f":"①陸連データ貼り付け!C345","v":0},{"$f":"①陸連データ貼り付け!D345","v":0},{"$f":"①陸連データ貼り付け!O345","v":0}]
[{"$f":"①陸連データ貼り付け!L346","v":0},{"$f":"①陸連データ貼り付け!B346","v":0},{"$f":"①陸連データ貼り付け!C346","v":0},{"$f":"①陸連データ貼り付け!D346","v":0},{"$f":"①陸連データ貼り付け!O346","v":0}]
[{"$f":"①陸連データ貼り付け!L347","v":0},{"$f":"①陸連データ貼り付け!B347","v":0},{"$f":"①陸連データ貼り付け!C347","v":0},{"$f":"①陸連データ貼り付け!D347","v":0},{"$f":"①陸連データ貼り付け!O347","v":0}]
[{"$f":"①陸連データ貼り付け!L348","v":0},{"$f":"①陸連データ貼り付け!B348","v":0},{"$f":"①陸連データ貼り付け!C348","v":0},{"$f":"①陸連データ貼り付け!D348","v":0},{"$f":"①陸連データ貼り付け!O348","v":0}]
[{"$f":"①陸連データ貼り付け!L349","v":0},{"$f":"①陸連データ貼り付け!B349","v":0},{"$f":"①陸連データ貼り付け!C349","v":0},{"$f":"①陸連データ貼り付け!D349","v":0},{"$f":"①陸連データ貼り付け!O349","v":0}]
[{"$f":"①陸連データ貼り付け!L350","v":0},{"$f":"①陸連データ貼り付け!B350","v":0},{"$f":"①陸連データ貼り付け!C350","v":0},{"$f":"①陸連データ貼り付け!D350","v":0},{"$f":"①陸連データ貼り付け!O350","v":0}]
[{"$f":"①陸連データ貼り付け!L351","v":0},{"$f":"①陸連データ貼り付け!B351","v":0},{"$f":"①陸連データ貼り付け!C351","v":0},{"$f":"①陸連データ貼り付け!D351","v":0},{"$f":"①陸連データ貼り付け!O351","v":0}]
[{"$f":"①陸連データ貼り付け!L352","v":0},{"$f":"①陸連データ貼り付け!B352","v":0},{"$f":"①陸連データ貼り付け!C352","v":0},{"$f":"①陸連データ貼り付け!D352","v":0},{"$f":"①陸連データ貼り付け!O352","v":0}]
[{"$f":"①陸連データ貼り付け!L353","v":0},{"$f":"①陸連データ貼り付け!B353","v":0},{"$f":"①陸連データ貼り付け!C353","v":0},{"$f":"①陸連データ貼り付け!D353","v":0},{"$f":"①陸連データ貼り付け!O353","v":0}]
[{"$f":"①陸連データ貼り付け!L354","v":0},{"$f":"①陸連データ貼り付け!B354","v":0},{"$f":"①陸連データ貼り付け!C354","v":0},{"$f":"①陸連データ貼り付け!D354","v":0},{"$f":"①陸連データ貼り付け!O354","v":0}]
[{"$f":"①陸連データ貼り付け!L355","v":0},{"$f":"①陸連データ貼り付け!B355","v":0},{"$f":"①陸連データ貼り付け!C355","v":0},{"$f":"①陸連データ貼り付け!D355","v":0},{"$f":"①陸連データ貼り付け!O355","v":0}]
[{"$f":"①陸連データ貼り付け!L356","v":0},{"$f":"①陸連データ貼り付け!B356","v":0},{"$f":"①陸連データ貼り付け!C356","v":0},{"$f":"①陸連データ貼り付け!D356","v":0},{"$f":"①陸連データ貼り付け!O356","v":0}]
[{"$f":"①陸連データ貼り付け!L357","v":0},{"$f":"①陸連データ貼り付け!B357","v":0},{"$f":"①陸連データ貼り付け!C357","v":0},{"$f":"①陸連データ貼り付け!D357","v":0},{"$f":"①陸連データ貼り付け!O357","v":0}]
[{"$f":"①陸連データ貼り付け!L358","v":0},{"$f":"①陸連データ貼り付け!B358","v":0},{"$f":"①陸連データ貼り付け!C358","v":0},{"$f":"①陸連データ貼り付け!D358","v":0},{"$f":"①陸連データ貼り付け!O358","v":0}]
[{"$f":"①陸連データ貼り付け!L359","v":0},{"$f":"①陸連データ貼り付け!B359","v":0},{"$f":"①陸連データ貼り付け!C359","v":0},{"$f":"①陸連データ貼り付け!D359","v":0},{"$f":"①陸連データ貼り付け!O359","v":0}]
[{"$f":"①陸連データ貼り付け!L360","v":0},{"$f":"①陸連データ貼り付け!B360","v":0},{"$f":"①陸連データ貼り付け!C360","v":0},{"$f":"①陸連データ貼り付け!D360","v":0},{"$f":"①陸連データ貼り付け!O360","v":0}]
[{"$f":"①陸連データ貼り付け!L361","v":0},{"$f":"①陸連データ貼り付け!B361","v":0},{"$f":"①陸連データ貼り付け!C361","v":0},{"$f":"①陸連データ貼り付け!D361","v":0},{"$f":"①陸連データ貼り付け!O361","v":0}]
[{"$f":"①陸連データ貼り付け!L362","v":0},{"$f":"①陸連データ貼り付け!B362","v":0},{"$f":"①陸連データ貼り付け!C362","v":0},{"$f":"①陸連データ貼り付け!D362","v":0},{"$f":"①陸連データ貼り付け!O362","v":0}]
[{"$f":"①陸連データ貼り付け!L363","v":0},{"$f":"①陸連データ貼り付け!B363","v":0},{"$f":"①陸連データ貼り付け!C363","v":0},{"$f":"①陸連データ貼り付け!D363","v":0},{"$f":"①陸連データ貼り付け!O363","v":0}]
[{"$f":"①陸連データ貼り付け!L364","v":0},{"$f":"①陸連データ貼り付け!B364","v":0},{"$f":"①陸連データ貼り付け!C364","v":0},{"$f":"①陸連データ貼り付け!D364","v":0},{"$f":"①陸連データ貼り付け!O364","v":0}]
[{"$f":"①陸連データ貼り付け!L365","v":0},{"$f":"①陸連データ貼り付け!B365","v":0},{"$f":"①陸連データ貼り付け!C365","v":0},{"$f":"①陸連データ貼り付け!D365","v":0},{"$f":"①陸連データ貼り付け!O365","v":0}]
[{"$f":"①陸連データ貼り付け!L366","v":0},{"$f":"①陸連データ貼り付け!B366","v":0},{"$f":"①陸連データ貼り付け!C366","v":0},{"$f":"①陸連データ貼り付け!D366","v":0},{"$f":"①陸連データ貼り付け!O366","v":0}]
[{"$f":"①陸連データ貼り付け!L367","v":0},{"$f":"①陸連データ貼り付け!B367","v":0},{"$f":"①陸連データ貼り付け!C367","v":0},{"$f":"①陸連データ貼り付け!D367","v":0},{"$f":"①陸連データ貼り付け!O367","v":0}]
[{"$f":"①陸連データ貼り付け!L368","v":0},{"$f":"①陸連データ貼り付け!B368","v":0},{"$f":"①陸連データ貼り付け!C368","v":0},{"$f":"①陸連データ貼り付け!D368","v":0},{"$f":"①陸連データ貼り付け!O368","v":0}]
[{"$f":"①陸連データ貼り付け!L369","v":0},{"$f":"①陸連データ貼り付け!B369","v":0},{"$f":"①陸連データ貼り付け!C369","v":0},{"$f":"①陸連データ貼り付け!D369","v":0},{"$f":"①陸連データ貼り付け!O369","v":0}]
[{"$f":"①陸連データ貼り付け!L370","v":0},{"$f":"①陸連データ貼り付け!B370","v":0},{"$f":"①陸連データ貼り付け!C370","v":0},{"$f":"①陸連データ貼り付け!D370","v":0},{"$f":"①陸連データ貼り付け!O370","v":0}]
[{"$f":"①陸連データ貼り付け!L371","v":0},{"$f":"①陸連データ貼り付け!B371","v":0},{"$f":"①陸連データ貼り付け!C371","v":0},{"$f":"①陸連データ貼り付け!D371","v":0},{"$f":"①陸連データ貼り付け!O371","v":0}]
[{"$f":"①陸連データ貼り付け!L372","v":0},{"$f":"①陸連データ貼り付け!B372","v":0},{"$f":"①陸連データ貼り付け!C372","v":0},{"$f":"①陸連データ貼り付け!D372","v":0},{"$f":"①陸連データ貼り付け!O372","v":0}]
[{"$f":"①陸連データ貼り付け!L373","v":0},{"$f":"①陸連データ貼り付け!B373","v":0},{"$f":"①陸連データ貼り付け!C373","v":0},{"$f":"①陸連データ貼り付け!D373","v":0},{"$f":"①陸連データ貼り付け!O373","v":0}]
[{"$f":"①陸連データ貼り付け!L374","v":0},{"$f":"①陸連データ貼り付け!B374","v":0},{"$f":"①陸連データ貼り付け!C374","v":0},{"$f":"①陸連データ貼り付け!D374","v":0},{"$f":"①陸連データ貼り付け!O374","v":0}]
[{"$f":"①陸連データ貼り付け!L375","v":0},{"$f":"①陸連データ貼り付け!B375","v":0},{"$f":"①陸連データ貼り付け!C375","v":0},{"$f":"①陸連データ貼り付け!D375","v":0},{"$f":"①陸連データ貼り付け!O375","v":0}]
[{"$f":"①陸連データ貼り付け!L376","v":0},{"$f":"①陸連データ貼り付け!B376","v":0},{"$f":"①陸連データ貼り付け!C376","v":0},{"$f":"①陸連データ貼り付け!D376","v":0},{"$f":"①陸連データ貼り付け!O376","v":0}]
[{"$f":"①陸連データ貼り付け!L377","v":0},{"$f":"①陸連データ貼り付け!B377","v":0},{"$f":"①陸連データ貼り付け!C377","v":0},{"$f":"①陸連データ貼り付け!D377","v":0},{"$f":"①陸連データ貼り付け!O377","v":0}]
[{"$f":"①陸連データ貼り付け!L378","v":0},{"$f":"①陸連データ貼り付け!B378","v":0},{"$f":"①陸連データ貼り付け!C378","v":0},{"$f":"①陸連データ貼り付け!D378","v":0},{"$f":"①陸連データ貼り付け!O378","v":0}]
[{"$f":"①陸連データ貼り付け!L379","v":0},{"$f":"①陸連データ貼り付け!B379","v":0},{"$f":"①陸連データ貼り付け!C379","v":0},{"$f":"①陸連データ貼り付け!D379","v":0},{"$f":"①陸連データ貼り付け!O379","v":0}]
[{"$f":"①陸連データ貼り付け!L380","v":0},{"$f":"①陸連データ貼り付け!B380","v":0},{"$f":"①陸連データ貼り付け!C380","v":0},{"$f":"①陸連データ貼り付け!D380","v":0},{"$f":"①陸連データ貼り付け!O380","v":0}]
[{"$f":"①陸連データ貼り付け!L381","v":0},{"$f":"①陸連データ貼り付け!B381","v":0},{"$f":"①陸連データ貼り付け!C381","v":0},{"$f":"①陸連データ貼り付け!D381","v":0},{"$f":"①陸連データ貼り付け!O381","v":0}]
[{"$f":"①陸連データ貼り付け!L382","v":0},{"$f":"①陸連データ貼り付け!B382","v":0},{"$f":"①陸連データ貼り付け!C382","v":0},{"$f":"①陸連データ貼り付け!D382","v":0},{"$f":"①陸連データ貼り付け!O382","v":0}]
[{"$f":"①陸連データ貼り付け!L383","v":0},{"$f":"①陸連データ貼り付け!B383","v":0},{"$f":"①陸連データ貼り付け!C383","v":0},{"$f":"①陸連データ貼り付け!D383","v":0},{"$f":"①陸連データ貼り付け!O383","v":0}]
[{"$f":"①陸連データ貼り付け!L384","v":0},{"$f":"①陸連データ貼り付け!B384","v":0},{"$f":"①陸連データ貼り付け!C384","v":0},{"$f":"①陸連データ貼り付け!D384","v":0},{"$f":"①陸連データ貼り付け!O384","v":0}]
[{"$f":"①陸連データ貼り付け!L385","v":0},{"$f":"①陸連データ貼り付け!B385","v":0},{"$f":"①陸連データ貼り付け!C385","v":0},{"$f":"①陸連データ貼り付け!D385","v":0},{"$f":"①陸連データ貼り付け!O385","v":0}]
[{"$f":"①陸連データ貼り付け!L386","v":0},{"$f":"①陸連データ貼り付け!B386","v":0},{"$f":"①陸連データ貼り付け!C386","v":0},{"$f":"①陸連データ貼り付け!D386","v":0},{"$f":"①陸連データ貼り付け!O386","v":0}]
[{"$f":"①陸連データ貼り付け!L387","v":0},{"$f":"①陸連データ貼り付け!B387","v":0},{"$f":"①陸連データ貼り付け!C387","v":0},{"$f":"①陸連データ貼り付け!D387","v":0},{"$f":"①陸連データ貼り付け!O387","v":0}]
[{"$f":"①陸連データ貼り付け!L388","v":0},{"$f":"①陸連データ貼り付け!B388","v":0},{"$f":"①陸連データ貼り付け!C388","v":0},{"$f":"①陸連データ貼り付け!D388","v":0},{"$f":"①陸連データ貼り付け!O388","v":0}]
[{"$f":"①陸連データ貼り付け!L389","v":0},{"$f":"①陸連データ貼り付け!B389","v":0},{"$f":"①陸連データ貼り付け!C389","v":0},{"$f":"①陸連データ貼り付け!D389","v":0},{"$f":"①陸連データ貼り付け!O389","v":0}]
[{"$f":"①陸連データ貼り付け!L390","v":0},{"$f":"①陸連データ貼り付け!B390","v":0},{"$f":"①陸連データ貼り付け!C390","v":0},{"$f":"①陸連データ貼り付け!D390","v":0},{"$f":"①陸連データ貼り付け!O390","v":0}]
[{"$f":"①陸連データ貼り付け!L391","v":0},{"$f":"①陸連データ貼り付け!B391","v":0},{"$f":"①陸連データ貼り付け!C391","v":0},{"$f":"①陸連データ貼り付け!D391","v":0},{"$f":"①陸連データ貼り付け!O391","v":0}]
[{"$f":"①陸連データ貼り付け!L392","v":0},{"$f":"①陸連データ貼り付け!B392","v":0},{"$f":"①陸連データ貼り付け!C392","v":0},{"$f":"①陸連データ貼り付け!D392","v":0},{"$f":"①陸連データ貼り付け!O392","v":0}]
[{"$f":"①陸連データ貼り付け!L393","v":0},{"$f":"①陸連データ貼り付け!B393","v":0},{"$f":"①陸連データ貼り付け!C393","v":0},{"$f":"①陸連データ貼り付け!D393","v":0},{"$f":"①陸連データ貼り付け!O393","v":0}]
[{"$f":"①陸連データ貼り付け!L394","v":0},{"$f":"①陸連データ貼り付け!B394","v":0},{"$f":"①陸連データ貼り付け!C394","v":0},{"$f":"①陸連データ貼り付け!D394","v":0},{"$f":"①陸連データ貼り付け!O394","v":0}]
[{"$f":"①陸連データ貼り付け!L395","v":0},{"$f":"①陸連データ貼り付け!B395","v":0},{"$f":"①陸連データ貼り付け!C395","v":0},{"$f":"①陸連データ貼り付け!D395","v":0},{"$f":"①陸連データ貼り付け!O395","v":0}]
[{"$f":"①陸連データ貼り付け!L396","v":0},{"$f":"①陸連データ貼り付け!B396","v":0},{"$f":"①陸連データ貼り付け!C396","v":0},{"$f":"①陸連データ貼り付け!D396","v":0},{"$f":"①陸連データ貼り付け!O396","v":0}]
[{"$f":"①陸連データ貼り付け!L397","v":0},{"$f":"①陸連データ貼り付け!B397","v":0},{"$f":"①陸連データ貼り付け!C397","v":0},{"$f":"①陸連データ貼り付け!D397","v":0},{"$f":"①陸連データ貼り付け!O397","v":0}]
[{"$f":"①陸連データ貼り付け!L398","v":0},{"$f":"①陸連データ貼り付け!B398","v":0},{"$f":"①陸連データ貼り付け!C398","v":0},{"$f":"①陸連データ貼り付け!D398","v":0},{"$f":"①陸連データ貼り付け!O398","v":0}]
[{"$f":"①陸連データ貼り付け!L399","v":0},{"$f":"①陸連データ貼り付け!B399","v":0},{"$f":"①陸連データ貼り付け!C399","v":0},{"$f":"①陸連データ貼り付け!D399","v":0},{"$f":"①陸連データ貼り付け!O399","v":0}]
[{"$f":"①陸連データ貼り付け!L400","v":0},{"$f":"①陸連データ貼り付け!B400","v":0},{"$f":"①陸連データ貼り付け!C400","v":0},{"$f":"①陸連データ貼り付け!D400","v":0},{"$f":"①陸連データ貼り付け!O400","v":0}]
[{"$f":"①陸連データ貼り付け!L401","v":0},{"$f":"①陸連データ貼り付け!B401","v":0},{"$f":"①陸連データ貼り付け!C401","v":0},{"$f":"①陸連データ貼り付け!D401","v":0},{"$f":"①陸連データ貼り付け!O401","v":0}]
[{"$f":"①陸連データ貼り付け!L402","v":0},{"$f":"①陸連データ貼り付け!B402","v":0},{"$f":"①陸連データ貼り付け!C402","v":0},{"$f":"①陸連データ貼り付け!D402","v":0},{"$f":"①陸連データ貼り付け!O402","v":0}]
[{"$f":"①陸連データ貼り付け!L403","v":0},{"$f":"①陸連データ貼り付け!B403","v":0},{"$f":"①陸連データ貼り付け!C403","v":0},{"$f":"①陸連データ貼り付け!D403","v":0},{"$f":"①陸連データ貼り付け!O403","v":0}]
[{"$f":"①陸連データ貼り付け!L404","v":0},{"$f":"①陸連データ貼り付け!B404","v":0},{"$f":"①陸連データ貼り付け!C404","v":0},{"$f":"①陸連データ貼り付け!D404","v":0},{"$f":"①陸連データ貼り付け!O404","v":0}]
[{"$f":"①陸連データ貼り付け!L405","v":0},{"$f":"①陸連データ貼り付け!B405","v":0},{"$f":"①陸連データ貼り付け!C405","v":0},{"$f":"①陸連データ貼り付け!D405","v":0},{"$f":"①陸連データ貼り付け!O405","v":0}]
[{"$f":"①陸連データ貼り付け!L406","v":0},{"$f":"①陸連データ貼り付け!B406","v":0},{"$f":"①陸連データ貼り付け!C406","v":0},{"$f":"①陸連データ貼り付け!D406","v":0},{"$f":"①陸連データ貼り付け!O406","v":0}]
[{"$f":"①陸連データ貼り付け!L407","v":0},{"$f":"①陸連データ貼り付け!B407","v":0},{"$f":"①陸連データ貼り付け!C407","v":0},{"$f":"①陸連データ貼り付け!D407","v":0},{"$f":"①陸連データ貼り付け!O407","v":0}]
[{"$f":"①陸連データ貼り付け!L408","v":0},{"$f":"①陸連データ貼り付け!B408","v":0},{"$f":"①陸連データ貼り付け!C408","v":0},{"$f":"①陸連データ貼り付け!D408","v":0},{"$f":"①陸連データ貼り付け!O408","v":0}]
[{"$f":"①陸連データ貼り付け!L409","v":0},{"$f":"①陸連データ貼り付け!B409","v":0},{"$f":"①陸連データ貼り付け!C409","v":0},{"$f":"①陸連データ貼り付け!D409","v":0},{"$f":"①陸連データ貼り付け!O409","v":0}]
[{"$f":"①陸連データ貼り付け!L410","v":0},{"$f":"①陸連データ貼り付け!B410","v":0},{"$f":"①陸連データ貼り付け!C410","v":0},{"$f":"①陸連データ貼り付け!D410","v":0},{"$f":"①陸連データ貼り付け!O410","v":0}]
[{"$f":"①陸連データ貼り付け!L411","v":0},{"$f":"①陸連データ貼り付け!B411","v":0},{"$f":"①陸連データ貼り付け!C411","v":0},{"$f":"①陸連データ貼り付け!D411","v":0},{"$f":"①陸連データ貼り付け!O411","v":0}]
[{"$f":"①陸連データ貼り付け!L412","v":0},{"$f":"①陸連データ貼り付け!B412","v":0},{"$f":"①陸連データ貼り付け!C412","v":0},{"$f":"①陸連データ貼り付け!D412","v":0},{"$f":"①陸連データ貼り付け!O412","v":0}]
[{"$f":"①陸連データ貼り付け!L413","v":0},{"$f":"①陸連データ貼り付け!B413","v":0},{"$f":"①陸連データ貼り付け!C413","v":0},{"$f":"①陸連データ貼り付け!D413","v":0},{"$f":"①陸連データ貼り付け!O413","v":0}]
[{"$f":"①陸連データ貼り付け!L414","v":0},{"$f":"①陸連データ貼り付け!B414","v":0},{"$f":"①陸連データ貼り付け!C414","v":0},{"$f":"①陸連データ貼り付け!D414","v":0},{"$f":"①陸連データ貼り付け!O414","v":0}]
[{"$f":"①陸連データ貼り付け!L415","v":0},{"$f":"①陸連データ貼り付け!B415","v":0},{"$f":"①陸連データ貼り付け!C415","v":0},{"$f":"①陸連データ貼り付け!D415","v":0},{"$f":"①陸連データ貼り付け!O415","v":0}]
[{"$f":"①陸連データ貼り付け!L416","v":0},{"$f":"①陸連データ貼り付け!B416","v":0},{"$f":"①陸連データ貼り付け!C416","v":0},{"$f":"①陸連データ貼り付け!D416","v":0},{"$f":"①陸連データ貼り付け!O416","v":0}]
[{"$f":"①陸連データ貼り付け!L417","v":0},{"$f":"①陸連データ貼り付け!B417","v":0},{"$f":"①陸連データ貼り付け!C417","v":0},{"$f":"①陸連データ貼り付け!D417","v":0},{"$f":"①陸連データ貼り付け!O417","v":0}]
[{"$f":"①陸連データ貼り付け!L418","v":0},{"$f":"①陸連データ貼り付け!B418","v":0},{"$f":"①陸連データ貼り付け!C418","v":0},{"$f":"①陸連データ貼り付け!D418","v":0},{"$f":"①陸連データ貼り付け!O418","v":0}]
[{"$f":"①陸連データ貼り付け!L419","v":0},{"$f":"①陸連データ貼り付け!B419","v":0},{"$f":"①陸連データ貼り付け!C419","v":0},{"$f":"①陸連データ貼り付け!D419","v":0},{"$f":"①陸連データ貼り付け!O419","v":0}]
[{"$f":"①陸連データ貼り付け!L420","v":0},{"$f":"①陸連データ貼り付け!B420","v":0},{"$f":"①陸連データ貼り付け!C420","v":0},{"$f":"①陸連データ貼り付け!D420","v":0},{"$f":"①陸連データ貼り付け!O420","v":0}]
[{"$f":"①陸連データ貼り付け!L421","v":0},{"$f":"①陸連データ貼り付け!B421","v":0},{"$f":"①陸連データ貼り付け!C421","v":0},{"$f":"①陸連データ貼り付け!D421","v":0},{"$f":"①陸連データ貼り付け!O421","v":0}]
[{"$f":"①陸連データ貼り付け!L422","v":0},{"$f":"①陸連データ貼り付け!B422","v":0},{"$f":"①陸連データ貼り付け!C422","v":0},{"$f":"①陸連データ貼り付け!D422","v":0},{"$f":"①陸連データ貼り付け!O422","v":0}]
[{"$f":"①陸連データ貼り付け!L423","v":0},{"$f":"①陸連データ貼り付け!B423","v":0},{"$f":"①陸連データ貼り付け!C423","v":0},{"$f":"①陸連データ貼り付け!D423","v":0},{"$f":"①陸連データ貼り付け!O423","v":0}]
[{"$f":"①陸連データ貼り付け!L424","v":0},{"$f":"①陸連データ貼り付け!B424","v":0},{"$f":"①陸連データ貼り付け!C424","v":0},{"$f":"①陸連データ貼り付け!D424","v":0},{"$f":"①陸連データ貼り付け!O424","v":0}]
[{"$f":"①陸連データ貼り付け!L425","v":0},{"$f":"①陸連データ貼り付け!B425","v":0},{"$f":"①陸連データ貼り付け!C425","v":0},{"$f":"①陸連データ貼り付け!D425","v":0},{"$f":"①陸連データ貼り付け!O425","v":0}]
[{"$f":"①陸連データ貼り付け!L426","v":0},{"$f":"①陸連データ貼り付け!B426","v":0},{"$f":"①陸連データ貼り付け!C426","v":0},{"$f":"①陸連データ貼り付け!D426","v":0},{"$f":"①陸連データ貼り付け!O426","v":0}]
[{"$f":"①陸連データ貼り付け!L427","v":0},{"$f":"①陸連データ貼り付け!B427","v":0},{"$f":"①陸連データ貼り付け!C427","v":0},{"$f":"①陸連データ貼り付け!D427","v":0},{"$f":"①陸連データ貼り付け!O427","v":0}]
[{"$f":"①陸連データ貼り付け!L428","v":0},{"$f":"①陸連データ貼り付け!B428","v":0},{"$f":"①陸連データ貼り付け!C428","v":0},{"$f":"①陸連データ貼り付け!D428","v":0},{"$f":"①陸連データ貼り付け!O428","v":0}]
[{"$f":"①陸連データ貼り付け!L429","v":0},{"$f":"①陸連データ貼り付け!B429","v":0},{"$f":"①陸連データ貼り付け!C429","v":0},{"$f":"①陸連データ貼り付け!D429","v":0},{"$f":"①陸連データ貼り付け!O429","v":0}]
[{"$f":"①陸連データ貼り付け!L430","v":0},{"$f":"①陸連データ貼り付け!B430","v":0},{"$f":"①陸連データ貼り付け!C430","v":0},{"$f":"①陸連データ貼り付け!D430","v":0},{"$f":"①陸連データ貼り付け!O430","v":0}]
[{"$f":"①陸連データ貼り付け!L431","v":0},{"$f":"①陸連データ貼り付け!B431","v":0},{"$f":"①陸連データ貼り付け!C431","v":0},{"$f":"①陸連データ貼り付け!D431","v":0},{"$f":"①陸連データ貼り付け!O431","v":0}]
[{"$f":"①陸連データ貼り付け!L432","v":0},{"$f":"①陸連データ貼り付け!B432","v":0},{"$f":"①陸連データ貼り付け!C432","v":0},{"$f":"①陸連データ貼り付け!D432","v":0},{"$f":"①陸連データ貼り付け!O432","v":0}]
[{"$f":"①陸連データ貼り付け!L433","v":0},{"$f":"①陸連データ貼り付け!B433","v":0},{"$f":"①陸連データ貼り付け!C433","v":0},{"$f":"①陸連データ貼り付け!D433","v":0},{"$f":"①陸連データ貼り付け!O433","v":0}]
[{"$f":"①陸連データ貼り付け!L434","v":0},{"$f":"①陸連データ貼り付け!B434","v":0},{"$f":"①陸連データ貼り付け!C434","v":0},{"$f":"①陸連データ貼り付け!D434","v":0},{"$f":"①陸連データ貼り付け!O434","v":0}]
[{"$f":"①陸連データ貼り付け!L435","v":0},{"$f":"①陸連データ貼り付け!B435","v":0},{"$f":"①陸連データ貼り付け!C435","v":0},{"$f":"①陸連データ貼り付け!D435","v":0},{"$f":"①陸連データ貼り付け!O435","v":0}]
[{"$f":"①陸連データ貼り付け!L436","v":0},{"$f":"①陸連データ貼り付け!B436","v":0},{"$f":"①陸連データ貼り付け!C436","v":0},{"$f":"①陸連データ貼り付け!D436","v":0},{"$f":"①陸連データ貼り付け!O436","v":0}]
[{"$f":"①陸連データ貼り付け!L437","v":0},{"$f":"①陸連データ貼り付け!B437","v":0},{"$f":"①陸連データ貼り付け!C437","v":0},{"$f":"①陸連データ貼り付け!D437","v":0},{"$f":"①陸連データ貼り付け!O437","v":0}]
[{"$f":"①陸連データ貼り付け!L438","v":0},{"$f":"①陸連データ貼り付け!B438","v":0},{"$f":"①陸連データ貼り付け!C438","v":0},{"$f":"①陸連データ貼り付け!D438","v":0},{"$f":"①陸連データ貼り付け!O438","v":0}]
[{"$f":"①陸連データ貼り付け!L439","v":0},{"$f":"①陸連データ貼り付け!B439","v":0},{"$f":"①陸連データ貼り付け!C439","v":0},{"$f":"①陸連データ貼り付け!D439","v":0},{"$f":"①陸連データ貼り付け!O439","v":0}]
[{"$f":"①陸連データ貼り付け!L440","v":0},{"$f":"①陸連データ貼り付け!B440","v":0},{"$f":"①陸連データ貼り付け!C440","v":0},{"$f":"①陸連データ貼り付け!D440","v":0},{"$f":"①陸連データ貼り付け!O440","v":0}]
[{"$f":"①陸連データ貼り付け!L441","v":0},{"$f":"①陸連データ貼り付け!B441","v":0},{"$f":"①陸連データ貼り付け!C441","v":0},{"$f":"①陸連データ貼り付け!D441","v":0},{"$f":"①陸連データ貼り付け!O441","v":0}]
[{"$f":"①陸連データ貼り付け!L442","v":0},{"$f":"①陸連データ貼り付け!B442","v":0},{"$f":"①陸連データ貼り付け!C442","v":0},{"$f":"①陸連データ貼り付け!D442","v":0},{"$f":"①陸連データ貼り付け!O442","v":0}]
[{"$f":"①陸連データ貼り付け!L443","v":0},{"$f":"①陸連データ貼り付け!B443","v":0},{"$f":"①陸連データ貼り付け!C443","v":0},{"$f":"①陸連データ貼り付け!D443","v":0},{"$f":"①陸連データ貼り付け!O443","v":0}]
[{"$f":"①陸連データ貼り付け!L444","v":0},{"$f":"①陸連データ貼り付け!B444","v":0},{"$f":"①陸連データ貼り付け!C444","v":0},{"$f":"①陸連データ貼り付け!D444","v":0},{"$f":"①陸連データ貼り付け!O444","v":0}]
[{"$f":"①陸連データ貼り付け!L445","v":0},{"$f":"①陸連データ貼り付け!B445","v":0},{"$f":"①陸連データ貼り付け!C445","v":0},{"$f":"①陸連データ貼り付け!D445","v":0},{"$f":"①陸連データ貼り付け!O445","v":0}]
[{"$f":"①陸連データ貼り付け!L446","v":0},{"$f":"①陸連データ貼り付け!B446","v":0},{"$f":"①陸連データ貼り付け!C446","v":0},{"$f":"①陸連データ貼り付け!D446","v":0},{"$f":"①陸連データ貼り付け!O446","v":0}]
[{"$f":"①陸連データ貼り付け!L447","v":0},{"$f":"①陸連データ貼り付け!B447","v":0},{"$f":"①陸連データ貼り付け!C447","v":0},{"$f":"①陸連データ貼り付け!D447","v":0},{"$f":"①陸連データ貼り付け!O447","v":0}]
[{"$f":"①陸連データ貼り付け!L448","v":0},{"$f":"①陸連データ貼り付け!B448","v":0},{"$f":"①陸連データ貼り付け!C448","v":0},{"$f":"①陸連データ貼り付け!D448","v":0},{"$f":"①陸連データ貼り付け!O448","v":0}]
[{"$f":"①陸連データ貼り付け!L449","v":0},{"$f":"①陸連データ貼り付け!B449","v":0},{"$f":"①陸連データ貼り付け!C449","v":0},{"$f":"①陸連データ貼り付け!D449","v":0},{"$f":"①陸連データ貼り付け!O449","v":0}]
[{"$f":"①陸連データ貼り付け!L450","v":0},{"$f":"①陸連データ貼り付け!B450","v":0},{"$f":"①陸連データ貼り付け!C450","v":0},{"$f":"①陸連データ貼り付け!D450","v":0},{"$f":"①陸連データ貼り付け!O450","v":0}]
[{"$f":"①陸連データ貼り付け!L451","v":0},{"$f":"①陸連データ貼り付け!B451","v":0},{"$f":"①陸連データ貼り付け!C451","v":0},{"$f":"①陸連データ貼り付け!D451","v":0},{"$f":"①陸連データ貼り付け!O451","v":0}]
[{"$f":"①陸連データ貼り付け!L452","v":0},{"$f":"①陸連データ貼り付け!B452","v":0},{"$f":"①陸連データ貼り付け!C452","v":0},{"$f":"①陸連データ貼り付け!D452","v":0},{"$f":"①陸連データ貼り付け!O452","v":0}]
[{"$f":"①陸連データ貼り付け!L453","v":0},{"$f":"①陸連データ貼り付け!B453","v":0},{"$f":"①陸連データ貼り付け!C453","v":0},{"$f":"①陸連データ貼り付け!D453","v":0},{"$f":"①陸連データ貼り付け!O453","v":0}]
[{"$f":"①陸連データ貼り付け!L454","v":0},{"$f":"①陸連データ貼り付け!B454","v":0},{"$f":"①陸連データ貼り付け!C454","v":0},{"$f":"①陸連データ貼り付け!D454","v":0},{"$f":"①陸連データ貼り付け!O454","v":0}]
[{"$f":"①陸連データ貼り付け!L455","v":0},{"$f":"①陸連データ貼り付け!B455","v":0},{"$f":"①陸連データ貼り付け!C455","v":0},{"$f":"①陸連データ貼り付け!D455","v":0},{"$f":"①陸連データ貼り付け!O455","v":0}]
[{"$f":"①陸連データ貼り付け!L456","v":0},{"$f":"①陸連データ貼り付け!B456","v":0},{"$f":"①陸連データ貼り付け!C456","v":0},{"$f":"①陸連データ貼り付け!D456","v":0},{"$f":"①陸連データ貼り付け!O456","v":0}]
[{"$f":"①陸連データ貼り付け!L457","v":0},{"$f":"①陸連データ貼り付け!B457","v":0},{"$f":"①陸連データ貼り付け!C457","v":0},{"$f":"①陸連データ貼り付け!D457","v":0},{"$f":"①陸連データ貼り付け!O457","v":0}]
[{"$f":"①陸連データ貼り付け!L458","v":0},{"$f":"①陸連データ貼り付け!B458","v":0},{"$f":"①陸連データ貼り付け!C458","v":0},{"$f":"①陸連データ貼り付け!D458","v":0},{"$f":"①陸連データ貼り付け!O458","v":0}]
[{"$f":"①陸連データ貼り付け!L459","v":0},{"$f":"①陸連データ貼り付け!B459","v":0},{"$f":"①陸連データ貼り付け!C459","v":0},{"$f":"①陸連データ貼り付け!D459","v":0},{"$f":"①陸連データ貼り付け!O459","v":0}]
[{"$f":"①陸連データ貼り付け!L460","v":0},{"$f":"①陸連データ貼り付け!B460","v":0},{"$f":"①陸連データ貼り付け!C460","v":0},{"$f":"①陸連データ貼り付け!D460","v":0},{"$f":"①陸連データ貼り付け!O460","v":0}]
[{"$f":"①陸連データ貼り付け!L461","v":0},{"$f":"①陸連データ貼り付け!B461","v":0},{"$f":"①陸連データ貼り付け!C461","v":0},{"$f":"①陸連データ貼り付け!D461","v":0},{"$f":"①陸連データ貼り付け!O461","v":0}]
[{"$f":"①陸連データ貼り付け!L462","v":0},{"$f":"①陸連データ貼り付け!B462","v":0},{"$f":"①陸連データ貼り付け!C462","v":0},{"$f":"①陸連データ貼り付け!D462","v":0},{"$f":"①陸連データ貼り付け!O462","v":0}]
[{"$f":"①陸連データ貼り付け!L463","v":0},{"$f":"①陸連データ貼り付け!B463","v":0},{"$f":"①陸連データ貼り付け!C463","v":0},{"$f":"①陸連データ貼り付け!D463","v":0},{"$f":"①陸連データ貼り付け!O463","v":0}]
[{"$f":"①陸連データ貼り付け!L464","v":0},{"$f":"①陸連データ貼り付け!B464","v":0},{"$f":"①陸連データ貼り付け!C464","v":0},{"$f":"①陸連データ貼り付け!D464","v":0},{"$f":"①陸連データ貼り付け!O464","v":0}]
[{"$f":"①陸連データ貼り付け!L465","v":0},{"$f":"①陸連データ貼り付け!B465","v":0},{"$f":"①陸連データ貼り付け!C465","v":0},{"$f":"①陸連データ貼り付け!D465","v":0},{"$f":"①陸連データ貼り付け!O465","v":0}]
[{"$f":"①陸連データ貼り付け!L466","v":0},{"$f":"①陸連データ貼り付け!B466","v":0},{"$f":"①陸連データ貼り付け!C466","v":0},{"$f":"①陸連データ貼り付け!D466","v":0},{"$f":"①陸連データ貼り付け!O466","v":0}]
[{"$f":"①陸連データ貼り付け!L467","v":0},{"$f":"①陸連データ貼り付け!B467","v":0},{"$f":"①陸連データ貼り付け!C467","v":0},{"$f":"①陸連データ貼り付け!D467","v":0},{"$f":"①陸連データ貼り付け!O467","v":0}]
[{"$f":"①陸連データ貼り付け!L468","v":0},{"$f":"①陸連データ貼り付け!B468","v":0},{"$f":"①陸連データ貼り付け!C468","v":0},{"$f":"①陸連データ貼り付け!D468","v":0},{"$f":"①陸連データ貼り付け!O468","v":0}]
[{"$f":"①陸連データ貼り付け!L469","v":0},{"$f":"①陸連データ貼り付け!B469","v":0},{"$f":"①陸連データ貼り付け!C469","v":0},{"$f":"①陸連データ貼り付け!D469","v":0},{"$f":"①陸連データ貼り付け!O469","v":0}]
[{"$f":"①陸連データ貼り付け!L470","v":0},{"$f":"①陸連データ貼り付け!B470","v":0},{"$f":"①陸連データ貼り付け!C470","v":0},{"$f":"①陸連データ貼り付け!D470","v":0},{"$f":"①陸連データ貼り付け!O470","v":0}]
[{"$f":"①陸連データ貼り付け!L471","v":0},{"$f":"①陸連データ貼り付け!B471","v":0},{"$f":"①陸連データ貼り付け!C471","v":0},{"$f":"①陸連データ貼り付け!D471","v":0},{"$f":"①陸連データ貼り付け!O471","v":0}]
[{"$f":"①陸連データ貼り付け!L472","v":0},{"$f":"①陸連データ貼り付け!B472","v":0},{"$f":"①陸連データ貼り付け!C472","v":0},{"$f":"①陸連データ貼り付け!D472","v":0},{"$f":"①陸連データ貼り付け!O472","v":0}]
[{"$f":"①陸連データ貼り付け!L473","v":0},{"$f":"①陸連データ貼り付け!B473","v":0},{"$f":"①陸連データ貼り付け!C473","v":0},{"$f":"①陸連データ貼り付け!D473","v":0},{"$f":"①陸連データ貼り付け!O473","v":0}]
[{"$f":"①陸連データ貼り付け!L474","v":0},{"$f":"①陸連データ貼り付け!B474","v":0},{"$f":"①陸連データ貼り付け!C474","v":0},{"$f":"①陸連データ貼り付け!D474","v":0},{"$f":"①陸連データ貼り付け!O474","v":0}]
[{"$f":"①陸連データ貼り付け!L475","v":0},{"$f":"①陸連データ貼り付け!B475","v":0},{"$f":"①陸連データ貼り付け!C475","v":0},{"$f":"①陸連データ貼り付け!D475","v":0},{"$f":"①陸連データ貼り付け!O475","v":0}]
[{"$f":"①陸連データ貼り付け!L476","v":0},{"$f":"①陸連データ貼り付け!B476","v":0},{"$f":"①陸連データ貼り付け!C476","v":0},{"$f":"①陸連データ貼り付け!D476","v":0},{"$f":"①陸連データ貼り付け!O476","v":0}]
[{"$f":"①陸連データ貼り付け!L477","v":0},{"$f":"①陸連データ貼り付け!B477","v":0},{"$f":"①陸連データ貼り付け!C477","v":0},{"$f":"①陸連データ貼り付け!D477","v":0},{"$f":"①陸連データ貼り付け!O477","v":0}]
[{"$f":"①陸連データ貼り付け!L478","v":0},{"$f":"①陸連データ貼り付け!B478","v":0},{"$f":"①陸連データ貼り付け!C478","v":0},{"$f":"①陸連データ貼り付け!D478","v":0},{"$f":"①陸連データ貼り付け!O478","v":0}]
[{"$f":"①陸連データ貼り付け!L479","v":0},{"$f":"①陸連データ貼り付け!B479","v":0},{"$f":"①陸連データ貼り付け!C479","v":0},{"$f":"①陸連データ貼り付け!D479","v":0},{"$f":"①陸連データ貼り付け!O479","v":0}]
[{"$f":"①陸連データ貼り付け!L480","v":0},{"$f":"①陸連データ貼り付け!B480","v":0},{"$f":"①陸連データ貼り付け!C480","v":0},{"$f":"①陸連データ貼り付け!D480","v":0},{"$f":"①陸連データ貼り付け!O480","v":0}]
[{"$f":"①陸連データ貼り付け!L481","v":0},{"$f":"①陸連データ貼り付け!B481","v":0},{"$f":"①陸連データ貼り付け!C481","v":0},{"$f":"①陸連データ貼り付け!D481","v":0},{"$f":"①陸連データ貼り付け!O481","v":0}]
[{"$f":"①陸連データ貼り付け!L482","v":0},{"$f":"①陸連データ貼り付け!B482","v":0},{"$f":"①陸連データ貼り付け!C482","v":0},{"$f":"①陸連データ貼り付け!D482","v":0},{"$f":"①陸連データ貼り付け!O482","v":0}]
[{"$f":"①陸連データ貼り付け!L483","v":0},{"$f":"①陸連データ貼り付け!B483","v":0},{"$f":"①陸連データ貼り付け!C483","v":0},{"$f":"①陸連データ貼り付け!D483","v":0},{"$f":"①陸連データ貼り付け!O483","v":0}]
[{"$f":"①陸連データ貼り付け!L484","v":0},{"$f":"①陸連データ貼り付け!B484","v":0},{"$f":"①陸連データ貼り付け!C484","v":0},{"$f":"①陸連データ貼り付け!D484","v":0},{"$f":"①陸連データ貼り付け!O484","v":0}]
[{"$f":"①陸連データ貼り付け!L485","v":0},{"$f":"①陸連データ貼り付け!B485","v":0},{"$f":"①陸連データ貼り付け!C485","v":0},{"$f":"①陸連データ貼り付け!D485","v":0},{"$f":"①陸連データ貼り付け!O485","v":0}]
[{"$f":"①陸連データ貼り付け!L486","v":0},{"$f":"①陸連データ貼り付け!B486","v":0},{"$f":"①陸連データ貼り付け!C486","v":0},{"$f":"①陸連データ貼り付け!D486","v":0},{"$f":"①陸連データ貼り付け!O486","v":0}]
[{"$f":"①陸連データ貼り付け!L487","v":0},{"$f":"①陸連データ貼り付け!B487","v":0},{"$f":"①陸連データ貼り付け!C487","v":0},{"$f":"①陸連データ貼り付け!D487","v":0},{"$f":"①陸連データ貼り付け!O487","v":0}]
[{"$f":"①陸連データ貼り付け!L488","v":0},{"$f":"①陸連データ貼り付け!B488","v":0},{"$f":"①陸連データ貼り付け!C488","v":0},{"$f":"①陸連データ貼り付け!D488","v":0},{"$f":"①陸連データ貼り付け!O488","v":0}]
[{"$f":"①陸連データ貼り付け!L489","v":0},{"$f":"①陸連データ貼り付け!B489","v":0},{"$f":"①陸連データ貼り付け!C489","v":0},{"$f":"①陸連データ貼り付け!D489","v":0},{"$f":"①陸連データ貼り付け!O489","v":0}]
[{"$f":"①陸連データ貼り付け!L490","v":0},{"$f":"①陸連データ貼り付け!B490","v":0},{"$f":"①陸連データ貼り付け!C490","v":0},{"$f":"①陸連データ貼り付け!D490","v":0},{"$f":"①陸連データ貼り付け!O490","v":0}]
[{"$f":"①陸連データ貼り付け!L491","v":0},{"$f":"①陸連データ貼り付け!B491","v":0},{"$f":"①陸連データ貼り付け!C491","v":0},{"$f":"①陸連データ貼り付け!D491","v":0},{"$f":"①陸連データ貼り付け!O491","v":0}]
[{"$f":"①陸連データ貼り付け!L492","v":0},{"$f":"①陸連データ貼り付け!B492","v":0},{"$f":"①陸連データ貼り付け!C492","v":0},{"$f":"①陸連データ貼り付け!D492","v":0},{"$f":"①陸連データ貼り付け!O492","v":0}]
[{"$f":"①陸連データ貼り付け!L493","v":0},{"$f":"①陸連データ貼り付け!B493","v":0},{"$f":"①陸連データ貼り付け!C493","v":0},{"$f":"①陸連データ貼り付け!D493","v":0},{"$f":"①陸連データ貼り付け!O493","v":0}]
[{"$f":"①陸連データ貼り付け!L494","v":0},{"$f":"①陸連データ貼り付け!B494","v":0},{"$f":"①陸連データ貼り付け!C494","v":0},{"$f":"①陸連データ貼り付け!D494","v":0},{"$f":"①陸連データ貼り付け!O494","v":0}]
[{"$f":"①陸連データ貼り付け!L495","v":0},{"$f":"①陸連データ貼り付け!B495","v":0},{"$f":"①陸連データ貼り付け!C495","v":0},{"$f":"①陸連データ貼り付け!D495","v":0},{"$f":"①陸連データ貼り付け!O495","v":0}]
[{"$f":"①陸連データ貼り付け!L496","v":0},{"$f":"①陸連データ貼り付け!B496","v":0},{"$f":"①陸連データ貼り付け!C496","v":0},{"$f":"①陸連データ貼り付け!D496","v":0},{"$f":"①陸連データ貼り付け!O496","v":0}]
[{"$f":"①陸連データ貼り付け!L497","v":0},{"$f":"①陸連データ貼り付け!B497","v":0},{"$f":"①陸連データ貼り付け!C497","v":0},{"$f":"①陸連データ貼り付け!D497","v":0},{"$f":"①陸連データ貼り付け!O497","v":0}]
[{"$f":"①陸連データ貼り付け!L498","v":0},{"$f":"①陸連データ貼り付け!B498","v":0},{"$f":"①陸連データ貼り付け!C498","v":0},{"$f":"①陸連データ貼り付け!D498","v":0},{"$f":"①陸連データ貼り付け!O498","v":0}]
[{"$f":"①陸連データ貼り付け!L499","v":0},{"$f":"①陸連データ貼り付け!B499","v":0},{"$f":"①陸連データ貼り付け!C499","v":0},{"$f":"①陸連データ貼り付け!D499","v":0},{"$f":"①陸連データ貼り付け!O499","v":0}]
[{"$f":"①陸連データ貼り付け!L500","v":0},{"$f":"①陸連データ貼り付け!B500","v":0},{"$f":"①陸連データ貼り付け!C500","v":0},{"$f":"①陸連データ貼り付け!D500","v":0},{"$f":"①陸連データ貼り付け!O500","v":0}]
[{"$f":"①陸連データ貼り付け!L501","v":0},{"$f":"①陸連データ貼り付け!B501","v":0},{"$f":"①陸連データ貼り付け!C501","v":0},{"$f":"①陸連データ貼り付け!D501","v":0},{"$f":"①陸連データ貼り付け!O501","v":0}]