{"text_format":"1","workbook":"xlsx","n_sheets":12,"sheets":["注意事項","①団体情報入力","②選手情報入力","③リレー情報確認","④種目別人数","⑤申込一覧表","⑥個票","⑦リレー個票","　　　　　","種目情報","data_kyogisha","data_team"],"not_rendered":{"charts":0,"images":2,"macros":1,"external_links":2,"defined_names":13,"comments":0,"pivot_tables":0},"unopened":[],"bounds":{"document_bytes":16777216,"sheet_cells":100000,"rows_first":2000,"rows_last":500,"rows_between":2000,"halvings":0,"cell_chars":16384,"cell_head_chars":4096},"cells_cut":0,"cells_raw":0,"read":"whole","date_system":"1900"}

{"sheet":"注意事項","index":0,"n_rows":92,"n_cols":11,"rows_kept":92,"cut":false,"hidden":false,"merged":[[90,3,90,7],[6,1,6,2],[82,2,82,8],[83,2,83,8],[6,3,6,9],[3,2,3,7],[4,2,4,7],[2,9,4,11],[2,2,2,7],[69,7,69,10],[6,10,6,12]]}
[]
[]
[null,"大会名","2017愛知レディース陸上競技大会",null,null,null,null,null,null,"共通"]
[null,"期　日","平成２９年７月１日（土）、２日(日）"]
[null,"会　場","パロマ瑞穂スタジアム"]
[]
[null,"申込期間",null,"平成29年5月29日(月)～6月5日(月)",null,null,null,null,null,null,"振り込みも同様です。"]
[null,null,"※メール送信を完了してください！"]
["　＜注意事項等＞"]
["１ ","このファイルは申込人数４８名まで入力できます。４８名を超える場合は別ファイルを作成してください。"]
["２ ","大会要項（出場制限等）をよく読んで入力してください。"]
["３ ","ナンバー・氏名・種目等、入力間違いのないようにお願いします。"]
["４ ","コピーしたデータを貼り付ける場合は、「形式を選択して貼り付け」から「値」を選択して貼り付けてください。"]
["５ ","入力したデータを削除・修正する場合は、必ず「Delete」キーで処理してください。※行削除はしないでください！"]
["６ ","申込は、メール送信と書類提出の両方が必要になりますので、お忘れのないようにお願いします。"]
[null,null,"※メールの送信を最優先してください。"]
["７ ","このファイルの内容は、プログラム編成及び作成、記録処理、その他競技会運営の目的で使用します。"]
["８ ","このファイルには、印刷ボタンにマクロを使用しています。エクセルの設定をマクロ有効にしてください。"]
["９ ","クラブチーム等で、一般、高校、中学が混在しても構いません。"]
["１０","このブックにパスワード保護をしないでください。"]
[null,"パスワード保護をしても、mailにパスワードを記載したら保護している意味がありません。"]
["　★作業の流れは次のとおりです。"]
["　　①団体情報の入力"]
["↓"]
["↓","　・必要事項を入力してください。"]
["↓"]
["　　②選手情報の入力"]
["↓"]
["↓","　・参加選手のナンバー、氏名、性別、学年、申込種目、記録を入力してください。"]
["↓","　　※ナンバーは、アルファベットと数字を分けて入力してください。"]
["↓","　　※入力は、男子を先に入力し、続けて女子を入力してください。"]
["↓","　　※氏名については、姓と名の間に全角スペースを１つ入れてください。"]
["↓","　　※ﾌﾘｶﾞﾅについては、姓と名の間に半角スペースを１つ入れてください。"]
["↓","　　※記録は、次のとおり入力してください。"]
["↓",null,"◎トラック種目・・・・分秒をドット「．」で区切り、100分の1秒まで入力"]
["↓",null,"例１",null,"54秒23","⇒",54.23]
["↓",null,"例２",null,"4分07秒00","⇒","4.07.00"]
["↓",null,null,"　 ※記録が１分未満で、10分の1以下が「00」"]
["↓",null,null,"　　 のときは整数で表示されます。"]
["↓",null,null,"例","12秒00","⇒",12]
["↓",null,"◎フィールド種目・・・メートルを「m」で区切り、cm単位まで入力（「cm」の文字は入れない）"]
["↓",null,"例３",null,"20m","⇒","20m00"]
["↓",null,"★参加資格を取得した記録を入力してください。→資格審査に使用します。"]
["↓","　　※リレーに出場する選手は、リレー種目の欄へ「○」を入力してください。"]
["↓"]
["　　③リレー情報の確認"]
["↓"]
["↓","　・リレーにエントリーをする選手のナンバーと、チームの記録を確認してください。"]
["↓","　　修正がある場合は、「②選手情報入力」で修正してください。"]
["↓"]
["　　④種目別人数の確認"]
["↓"]
["↓","　・種目ごとの申込人数と申込金額を確認してください。"]
["↓","　・プログラム購入部数を入力後、合計金額を確認してください。"]
["↓"]
["　　⑤申込一覧表の確認"]
["↓"]
["↓","　・入力漏れや入力間違い等がないかを確認してください。"]
["↓","　・30名ごとにＡ４用紙１枚で出力されます。"]
["　　⑥種目別人数表・申込一覧表・個票の印刷"]
["↓","　・「④種目別人数表」にある、帳票印刷ボタンをクリックして印刷を行ってください。"]
["↓"]
["↓"]
["　　⑦ファイルの保存"]
["↓"]
["↓","　・ファイル名を団体名（例：○○○）に変更し保存してください。メールに添付するときは、ファイル名が団体名に"]
["↓","　　なっていることを確認してください。"]
["↓"]
["　　⑧メール送信"]
["↓",null,null,null,null,null,"E-mail：","aichiwemen@gmail.com"]
["↓","　・入力したファイルを送信してください。"]
["↓","　・メールの件名に「大会名」と「団体名」を入力してください。"]
["↓","　・正しく送信されれば、受信した旨の返信が届きます。"]
["　　⑨参加料の振込"]
["↓"]
["↓","　・参加料を振り込み、明細書のコピーを「種目別人数一覧」の裏面に添付してください。"]
["↓"]
["　　⑨郵送",null,"締め切りは6月6日（火）必着です。"]
["↓","　・「④種目別一覧表」「⑤申込一覧表」を郵送してください。"]
["↓","　・「種目別人数一覧」の裏面には振込明細書のコピーを添付してください。"]
["↓"]
["↓",null,"送付先"]
["↓",null,"〒460-0012　名古屋市中区千代田２－19－16　千代田ビル７Ｆ"]
["↓",null," （財） 愛知陸上競技協会　　愛知レディース陸上　宛"]
["↓"]
["↓"]
["　　⑩申込完了"]
[]
[null,"　★問い合わせ先"]
[]
[null,null,"mail：","toiawase.aichi@gmail.com"]
[null,null,"勝見　昌弘　宛"]

{"sheet":"①団体情報入力","index":1,"n_rows":9,"n_cols":7,"rows_kept":9,"cut":false,"hidden":false,"merged":[[8,1,8,2],[7,3,7,5],[2,3,2,5],[4,1,4,2],[3,3,3,5],[5,3,5,5],[6,3,6,5],[5,1,5,2],[6,1,6,2],[7,1,7,2],[2,1,2,2],[3,1,3,2],[4,3,4,5]]}
["①団体情報入力"]
[]
[null,"団体コード",null,null,null,null,"←入力不要です"]
[null,"団体名",null,null,null,null,"←入力(正式名称ですが、国立大学法人などは省いてください)"]
[null,"略称団体名",null,null,null,null,"←入力(全角６文字以内です。大学は\"大\"を入れて６文字以内です。)"]
[null,"略称ヨミガナ",null,null,null,null,"←入力 略称に対する読みを半角カタカナで入力してください。"]
[null,"申込責任者",null,null,null,null,"←入力"]
[null,"連絡先電話番号",null,null,null,null,"←入力(ハイフンを入れる)　※緊急時に連絡がとれる番号"]
[null,"プログラム購入部数"]

{"sheet":"②選手情報入力","index":2,"n_rows":61,"n_cols":44,"rows_kept":61,"cut":false,"hidden":false,"merged":[[2,13,2,15]]}
["②選手情報入力",null,null,null,{"$f":"IF(①団体情報入力!D5=\"\",\"\",①団体情報入力!D5)","v":""}]
["※クラブチームのリレーは、同じ種別の方で編成してください。混合は認めません。"]
["※必要事項を全て入力してください。",null,null,null,null,null,null,null,null,null,null,null,null,"リレー記録"]
["※リレー種目にエントリーをする場合は○を選択し、「③リレー情報確認」でメンバーを確認してください。",null,null,null,null,null,null,null,null,null,null,null,null,null,"メドレーＲ","4X400mR"]
["※コピーしたデータを貼り付ける場合は、「形式を選択して貼り付け」から「値」で貼り付けてください。"]
["※データを修正する場合は、必ず「Delete」キーを使用してください。",null,null,null,null,null,null,null,null,null,null,null,null,"女子"]
[]
[null,"ﾅﾝﾊﾞｰ1","ﾅﾝﾊﾞｰ2","氏　名\n姓と名の間に\n全角ｽﾍﾟｰｽ1つ","ﾌﾘｶﾞﾅ\n姓と名の間に\n半角ｽﾍﾟｰｽ1つ",null,"種別","学年","種目１","記録１",null,null,null,null,"メドレーＲ","4X400mR"]
["例","A",1001,"西三　晴子","ｾｲｻﾝ ﾊﾙｺ",null,"一般",2,"L100m",12.53,null,null,null,null,"○","○",null,null,null,null,null,null,null,null,"ﾅﾝﾊﾞｰ","氏　名","ﾌﾘｶﾞﾅ","性別","学年","競技者NO","ﾅﾝﾊﾞｰ","氏　名","ﾌﾘｶﾞﾅ","性別","学年","競技者NO","男400R",{"$f":"COUNT(AL10:AL57)","v":0},"男1600R",{"$f":"COUNT(AN10:AN57)","v":0},"400R",{"$f":"COUNT(AP10:AP57)","v":0},"女1600R",{"$f":"COUNT(AR10:AR57)","v":0}]
[1,null,null,null,null,null,null,null,null,null,null,null,null,null,null,null,null,{"$f":"IF(G10=\"\",\"\",IF(G10=\"中学\",500,IF(G10=\"高校\",800,IF(G10=\"一般\",1000,0))))","v":""},{"$f":"IF(I10=\"\",\"\",R10)","v":""},null,null,null,null,null,{"$f":"IF(G10=\"男\",C10,\"\")","v":""},{"$f":"IF(G10=\"男\",D10,\"\")","v":""},{"$f":"IF(G10=\"男\",E10,\"\")","v":""},{"$f":"IF(G10=\"男\",G10,\"\")","v":""},{"$f":"IF(G10=\"男\",IF(H10=\"\",\"\",H10),\"\")","v":""},{"$f":"IF(G10=\"男\",data_kyogisha!A2,\"\")","v":""},{"$f":"IF(C10=\"\",\"\",C10)","v":""},{"$f":"IF(C10=\"\",\"\",D10)","v":""},{"$f":"IF(C10=\"\",\"\",E10)","v":""},{"$f":"IF(C10=\"\",\"\",\"女\")","v":""},{"$f":"IF(G10=\"女\",IF(H10=\"\",\"\",H10),\"\")","v":""},{"$f":"IF(C10=\"\",\"\",data_kyogisha!A2)","v":""},{"$f":"IF(AND(G10=\"男\",O10=\"○\"),1,0)","v":0},{"$f":"IF(AND(G10=\"男\",O10=\"○\"),C10,\"\")","v":""},{"$f":"IF(AND(G10=\"男\",P10=\"○\"),1,0)","v":0},{"$f":"IF(AND(G10=\"男\",P10=\"○\"),C10,\"\")","v":""},{"$f":"IF(AND(G10=\"一般\",O10=\"○\"),1,IF(AND(G10=\"中学\",O10=\"○\"),1,IF(AND(G10=\"高校\",O10=\"○\"),1,0)))","v":0},{"$f":"IF(AND(G10=\"一般\",O10=\"○\"),C10,IF(AND(G10=\"中学\",O10=\"○\"),C10,IF(AND(G10=\"高校\",O10=\"○\"),C10,\"\")))","v":""},{"$f":"IF(AND(G10=\"女\",P10=\"○\"),1,0)","v":0},{"$f":"IF(AND(G10=\"女\",P10=\"○\"),C10,\"\")","v":""}]
[2,null,null,null,null,null,null,null,null,null,null,null,null,null,null,null,null,{"$f":"IF(G11=\"\",\"\",IF(G11=\"中学\",500,IF(G11=\"高校\",800,IF(G11=\"一般\",1000,0))))","v":""},{"$f":"IF(I11=\"\",\"\",R11)","v":""},null,"一般","100m",{"$f":"IF(種目情報!E4=\"\",\"\",種目情報!E4)","v":"100m"},"○","","","","","",{"$f":"IF(G11=\"男\",data_kyogisha!A3,\"\")","v":""},"","","","","",{"$f":"IF(C11=\"\",\"\",data_kyogisha!A3)","v":""},{"$f":"IF(AND(G11=\"男\",O11=\"○\"),AK10+1,AK10)","v":0},"",{"$f":"IF(AND(G11=\"男\",P11=\"○\"),AM10+1,AM10)","v":0},"",{"$f":"IF(AND(G11=\"一般\",O11=\"○\"),AO10+1,IF(AND(G11=\"中学\",O11=\"○\"),AO10+1,IF(AND(G11=\"高校\",O11=\"○\"),AO10+1,AO10)))","v":0},"",{"$f":"IF(AND(G11=\"女\",P11=\"○\"),AQ10+1,AQ10)","v":0},{"$f":"IF(AND(G11=\"女\",P11=\"○\"),C11,\"\")","v":""}]
[3,null,null,null,null,null,null,null,null,null,null,null,null,null,null,null,null,"","",null,"高校","200m",{"$f":"IF(種目情報!E5=\"\",\"\",種目情報!E5)","v":"200m"},null,"","","","","",{"$f":"IF(G12=\"男\",data_kyogisha!A4,\"\")","v":""},"","","","","",{"$f":"IF(C12=\"\",\"\",data_kyogisha!A4)","v":""},0,"",0,"",0,"",0,{"$f":"IF(AND(G12=\"女\",P12=\"○\"),C12,\"\")","v":""}]
[4,null,null,null,null,null,null,null,null,null,null,null,null,null,null,null,null,"","",null,"中学","400m",{"$f":"IF(種目情報!E6=\"\",\"\",種目情報!E6)","v":"400m"},null,"","","","","",{"$f":"IF(G13=\"男\",data_kyogisha!A5,\"\")","v":""},"","","","","",{"$f":"IF(C13=\"\",\"\",data_kyogisha!A5)","v":""},0,"",0,"",0,"",0,""]
[5,null,null,null,null,null,null,null,null,null,null,null,null,null,null,null,null,"","",null,null,"800m",{"$f":"IF(種目情報!E7=\"\",\"\",種目情報!E7)","v":"800m"},null,"","","","","",{"$f":"IF(G14=\"男\",data_kyogisha!A6,\"\")","v":""},"","","","","",{"$f":"IF(C14=\"\",\"\",data_kyogisha!A6)","v":""},0,"",0,"",0,"",0,""]
[6,null,null,null,null,null,null,null,null,null,null,null,null,null,null,null,null,"","",null,null,"1500m",{"$f":"IF(種目情報!E8=\"\",\"\",種目情報!E8)","v":"1500m"},null,"","","","","",{"$f":"IF(G15=\"男\",data_kyogisha!A7,\"\")","v":""},"","","","","",{"$f":"IF(C15=\"\",\"\",data_kyogisha!A7)","v":""},0,"",0,"",0,"",0,""]
[7,null,null,null,null,null,null,null,null,null,null,null,null,null,null,null,null,"","",null,null,"100mH(0.838m)",{"$f":"IF(種目情報!E9=\"\",\"\",種目情報!E9)","v":"100mH(0.838m)"},null,"","","","","",{"$f":"IF(G16=\"男\",data_kyogisha!A8,\"\")","v":""},"","","","","",{"$f":"IF(C16=\"\",\"\",data_kyogisha!A8)","v":""},0,"",0,"",0,"",0,""]
[8,null,null,null,null,null,null,null,null,null,null,null,null,null,null,null,null,"","",null,null,"400mH(0.762m)",{"$f":"IF(種目情報!E10=\"\",\"\",種目情報!E10)","v":"400mH(0.762m)"},null,"","","","","",{"$f":"IF(G17=\"男\",data_kyogisha!A9,\"\")","v":""},"","","","","",{"$f":"IF(C17=\"\",\"\",data_kyogisha!A9)","v":""},0,"",0,"",0,"",0,""]
[9,null,null,null,null,null,null,null,null,null,null,null,null,null,null,null,null,"","",null,null,"3000mSC(0.762m)",{"$f":"IF(種目情報!E11=\"\",\"\",種目情報!E11)","v":"3000mSC(0.762m)"},null,"","","","","",{"$f":"IF(G18=\"男\",data_kyogisha!A10,\"\")","v":""},"","","","","",{"$f":"IF(C18=\"\",\"\",data_kyogisha!A10)","v":""},0,"",0,"",0,"",0,""]
[10,null,null,null,null,null,null,null,null,null,null,null,null,null,null,null,null,"","",null,null,"走高跳",{"$f":"IF(種目情報!E12=\"\",\"\",種目情報!E12)","v":"走高跳"},null,"","","","","",{"$f":"IF(G19=\"男\",data_kyogisha!A11,\"\")","v":""},"","","","","",{"$f":"IF(C19=\"\",\"\",data_kyogisha!A11)","v":""},0,"",0,"",0,"",0,""]
[11,null,null,null,null,null,null,null,null,null,null,null,null,null,null,null,null,"","",null,null,"走幅跳",{"$f":"IF(種目情報!E13=\"\",\"\",種目情報!E13)","v":"走幅跳"},null,"","","","","",{"$f":"IF(G20=\"男\",data_kyogisha!A12,\"\")","v":""},"","","","","",{"$f":"IF(C20=\"\",\"\",data_kyogisha!A12)","v":""},0,"",0,"",0,"",0,""]
[12,null,null,null,null,null,null,null,null,null,null,null,null,null,null,null,null,"","",null,null,"三段跳",{"$f":"IF(種目情報!E14=\"\",\"\",種目情報!E14)","v":"三段跳"},null,"","","","","",{"$f":"IF(G21=\"男\",data_kyogisha!A13,\"\")","v":""},"","","","","",{"$f":"IF(C21=\"\",\"\",data_kyogisha!A13)","v":""},0,"",0,"",0,"",0,""]
[13,null,null,null,null,null,null,null,null,null,null,null,null,null,null,null,null,"","",null,null,"砲丸投(4.000kg)",{"$f":"IF(種目情報!E15=\"\",\"\",種目情報!E15)","v":"砲丸投(4.000kg)"},null,"","","","","",{"$f":"IF(G22=\"男\",data_kyogisha!A14,\"\")","v":""},"","","","","",{"$f":"IF(C22=\"\",\"\",data_kyogisha!A14)","v":""},0,"",0,"",0,"",0,""]
[14,null,null,null,null,null,null,null,null,null,null,null,null,null,null,null,null,"","",null,null,"円盤投(1.000kg)",{"$f":"IF(種目情報!E16=\"\",\"\",種目情報!E16)","v":"円盤投(1.000kg)"},null,"","","","","",{"$f":"IF(G23=\"男\",data_kyogisha!A15,\"\")","v":""},"","","","","",{"$f":"IF(C23=\"\",\"\",data_kyogisha!A15)","v":""},0,"",0,"",0,"",0,""]
[15,null,null,null,null,null,null,null,null,null,null,null,null,null,null,null,null,"","",null,null,"やり投(600g)",{"$f":"IF(種目情報!E17=\"\",\"\",種目情報!E17)","v":"やり投(600g)"},null,"","","","","",{"$f":"IF(G24=\"男\",data_kyogisha!A16,\"\")","v":""},"","","","","",{"$f":"IF(C24=\"\",\"\",data_kyogisha!A16)","v":""},0,"",0,"",0,"",0,""]
[16,null,null,null,null,null,null,null,null,null,null,null,null,null,null,null,null,"","",null,null,"共通棒高跳",{"$f":"IF(種目情報!$E$18=\"\",\"\",種目情報!$E$18)","v":"共通棒高跳"},null,"","","","","",{"$f":"IF(G25=\"男\",data_kyogisha!A17,\"\")","v":""},"","","","","",{"$f":"IF(C25=\"\",\"\",data_kyogisha!A17)","v":""},0,"",0,"",0,"",0,""]
[17,null,null,null,null,null,null,null,null,null,null,null,null,null,null,null,null,"","",null,null,null,null,null,"","","","","",{"$f":"IF(G26=\"男\",data_kyogisha!A18,\"\")","v":""},"","","","","",{"$f":"IF(C26=\"\",\"\",data_kyogisha!A18)","v":""},0,"",0,"",0,"",0,""]
[18,null,null,null,null,null,null,null,null,null,null,null,null,null,null,null,null,"","",null,null,"中学100m",{"$f":"IF(種目情報!E20=\"\",\"\",種目情報!E20)","v":"中学100m"},null,"","","","","",{"$f":"IF(G27=\"男\",data_kyogisha!A19,\"\")","v":""},"","","","","",{"$f":"IF(C27=\"\",\"\",data_kyogisha!A19)","v":""},0,"",0,"",0,"",0,""]
[19,null,null,null,null,null,null,null,null,null,null,null,null,null,null,null,null,"","",null,null,"中学200m",{"$f":"IF(種目情報!E21=\"\",\"\",種目情報!E21)","v":"中学200m"},null,"","","","","",{"$f":"IF(G28=\"男\",data_kyogisha!A20,\"\")","v":""},"","","","","",{"$f":"IF(C28=\"\",\"\",data_kyogisha!A20)","v":""},0,"",0,"",0,"",0,""]
[20,null,null,null,null,null,null,null,null,null,null,null,null,null,null,null,null,"","",null,null,"中学800m",{"$f":"IF(種目情報!E22=\"\",\"\",種目情報!E22)","v":"中学800m"},null,"","","","","",{"$f":"IF(G29=\"男\",data_kyogisha!A21,\"\")","v":""},"","","","","",{"$f":"IF(C29=\"\",\"\",data_kyogisha!A21)","v":""},0,"",0,"",0,"",0,""]
[21,null,null,null,null,null,null,null,null,null,null,null,null,null,null,null,null,"","",null,null,"中学1500m",{"$f":"IF(種目情報!E23=\"\",\"\",種目情報!E23)","v":"中学1500m"},null,"","","","","",{"$f":"IF(G30=\"男\",data_kyogisha!A22,\"\")","v":""},"","","","","",{"$f":"IF(C30=\"\",\"\",data_kyogisha!A22)","v":""},0,"",0,"",0,"",0,""]
[22,null,null,null,null,null,null,null,null,null,null,null,null,null,null,null,null,"","",null,null,"中学100mH(0.762/8.0m)",{"$f":"IF(種目情報!E24=\"\",\"\",種目情報!E24)","v":"中学100mH(0.762/8.0m)"},null,"","","","","",{"$f":"IF(G31=\"男\",data_kyogisha!A23,\"\")","v":""},"","","","","",{"$f":"IF(C31=\"\",\"\",data_kyogisha!A23)","v":""},0,"",0,"",0,"",0,""]
[23,null,null,null,null,null,null,null,null,null,null,null,null,null,null,null,null,"","",null,null,"中学走高跳",{"$f":"IF(種目情報!E25=\"\",\"\",種目情報!E25)","v":"中学走高跳"},null,"","","","","",{"$f":"IF(G32=\"男\",data_kyogisha!A24,\"\")","v":""},"","","","","",{"$f":"IF(C32=\"\",\"\",data_kyogisha!A24)","v":""},0,"",0,"",0,"",0,""]
[24,null,null,null,null,null,null,null,null,null,null,null,null,null,null,null,null,"","",null,null,"中学走幅跳",{"$f":"IF(種目情報!E26=\"\",\"\",種目情報!E26)","v":"中学走幅跳"},null,"","","","","",{"$f":"IF(G33=\"男\",data_kyogisha!A25,\"\")","v":""},"","","","","",{"$f":"IF(C33=\"\",\"\",data_kyogisha!A25)","v":""},0,"",0,"",0,"",0,""]
[25,null,null,null,null,null,null,null,null,null,null,null,null,null,null,null,null,"","",null,null,"中学砲丸投(2.721kg)",{"$f":"IF(種目情報!E27=\"\",\"\",種目情報!E27)","v":"中学砲丸投(2.721kg)"},null,"","","","","",{"$f":"IF(G34=\"男\",data_kyogisha!A26,\"\")","v":""},"","","","","",{"$f":"IF(C34=\"\",\"\",data_kyogisha!A26)","v":""},0,"",0,"",0,"",0,""]
[26,null,null,null,null,null,null,null,null,null,null,null,null,null,null,null,null,"","",null,null,"中学円盤投(1.000kg)",{"$f":"IF(種目情報!E28=\"\",\"\",種目情報!E28)","v":""},null,"","","","","",{"$f":"IF(G35=\"男\",data_kyogisha!A27,\"\")","v":""},"","","","","",{"$f":"IF(C35=\"\",\"\",data_kyogisha!A27)","v":""},0,"",0,"",0,"",0,""]
[27,null,null,null,null,null,null,null,null,null,null,null,null,null,null,null,null,"","",null,null,"共通棒高跳",{"$f":"IF(種目情報!E29=\"\",\"\",種目情報!E29)","v":"共通棒高跳"},null,"","","","","",{"$f":"IF(G36=\"男\",data_kyogisha!A28,\"\")","v":""},"","","","","",{"$f":"IF(C36=\"\",\"\",data_kyogisha!A28)","v":""},0,"",0,"",0,"",0,""]
[28,null,null,null,null,null,null,null,null,null,null,null,null,null,null,null,null,"","",null,null,{"$f":"IF(種目情報!A22=\"\",\"\",種目情報!A22)","v":""},null,null,"","","","","",{"$f":"IF(G37=\"男\",data_kyogisha!A29,\"\")","v":""},"","","","","",{"$f":"IF(C37=\"\",\"\",data_kyogisha!A29)","v":""},0,"",0,"",0,"",0,""]
[29,null,null,null,null,null,null,null,null,null,null,null,null,null,null,null,null,"","",null,null,{"$f":"IF(種目情報!A23=\"\",\"\",種目情報!A23)","v":""},null,null,"","","","","",{"$f":"IF(G38=\"男\",data_kyogisha!A30,\"\")","v":""},"","","","","",{"$f":"IF(C38=\"\",\"\",data_kyogisha!A30)","v":""},0,"",0,"",0,"",0,""]
[30,null,null,null,null,null,null,null,null,null,null,null,null,null,null,null,null,"","",null,null,null,null,null,"","","","","",{"$f":"IF(G39=\"男\",data_kyogisha!A31,\"\")","v":""},"","","","","",{"$f":"IF(C39=\"\",\"\",data_kyogisha!A31)","v":""},0,"",0,"",0,"",0,""]
[31,null,null,null,null,null,null,null,null,null,null,null,null,null,null,null,null,"","",null,null,null,null,null,"","","","","",{"$f":"IF(G40=\"男\",data_kyogisha!A32,\"\")","v":""},"","","","","",{"$f":"IF(C40=\"\",\"\",data_kyogisha!A32)","v":""},0,"",0,"",0,"",0,""]
[32,null,null,null,null,null,null,null,null,null,null,null,null,null,null,null,null,"","",null,null,null,null,null,"","","","","",{"$f":"IF(G41=\"男\",data_kyogisha!A33,\"\")","v":""},"","","","","",{"$f":"IF(C41=\"\",\"\",data_kyogisha!A33)","v":""},0,"",0,"",0,"",0,""]
[33,null,null,null,null,null,null,null,null,null,null,null,null,null,null,null,null,"","",null,null,null,null,null,{"$f":"IF(G42=\"男\",C42,\"\")","v":""},{"$f":"IF(G42=\"男\",D42,\"\")","v":""},{"$f":"IF(G42=\"男\",E42,\"\")","v":""},{"$f":"IF(G42=\"男\",G42,\"\")","v":""},{"$f":"IF(G42=\"男\",IF(H42=\"\",\"\",H42),\"\")","v":""},{"$f":"IF(G42=\"男\",data_kyogisha!A34,\"\")","v":""},"","","","",{"$f":"IF(G42=\"女\",IF(H42=\"\",\"\",H42),\"\")","v":""},{"$f":"IF(C42=\"\",\"\",data_kyogisha!A34)","v":""},0,"",0,"",0,"",0,""]
[34,null,null,null,null,null,null,null,null,null,null,null,null,null,null,null,null,"","",null,null,null,null,null,"","","","","",{"$f":"IF(G43=\"男\",data_kyogisha!A35,\"\")","v":""},"","","","","",{"$f":"IF(C43=\"\",\"\",data_kyogisha!A35)","v":""},0,"",0,"",0,"",0,""]
[35,null,null,null,null,null,null,null,null,null,null,null,null,null,null,null,null,"","",null,null,null,null,null,"","","","","",{"$f":"IF(G44=\"男\",data_kyogisha!A36,\"\")","v":""},"","","","","",{"$f":"IF(C44=\"\",\"\",data_kyogisha!A36)","v":""},0,"",0,"",0,"",0,""]
[36,null,null,null,null,null,null,null,null,null,null,null,null,null,null,null,null,"","",null,null,null,null,null,"","","","","",{"$f":"IF(G45=\"男\",data_kyogisha!A37,\"\")","v":""},"","","","","",{"$f":"IF(C45=\"\",\"\",data_kyogisha!A37)","v":""},0,"",0,"",0,"",0,""]
[37,null,null,null,null,null,null,null,null,null,null,null,null,null,null,null,null,"","",null,null,null,null,null,"","","","","",{"$f":"IF(G46=\"男\",data_kyogisha!A38,\"\")","v":""},"","","","","",{"$f":"IF(C46=\"\",\"\",data_kyogisha!A38)","v":""},0,"",0,"",0,"",0,""]
[38,null,null,null,null,null,null,null,null,null,null,null,null,null,null,null,null,"","",null,null,null,null,null,"","","","","",{"$f":"IF(G47=\"男\",data_kyogisha!A39,\"\")","v":""},"","","","","",{"$f":"IF(C47=\"\",\"\",data_kyogisha!A39)","v":""},0,"",0,"",0,"",0,""]
[39,null,null,null,null,null,null,null,null,null,null,null,null,null,null,null,null,"","",null,null,null,null,null,"","","","","",{"$f":"IF(G48=\"男\",data_kyogisha!A40,\"\")","v":""},"","","","","",{"$f":"IF(C48=\"\",\"\",data_kyogisha!A40)","v":""},0,"",0,"",0,"",0,""]
[40,null,null,null,null,null,null,null,null,null,null,null,null,null,null,null,null,"","",null,null,null,null,null,"","","","","",{"$f":"IF(G49=\"男\",data_kyogisha!A41,\"\")","v":""},"","","","","",{"$f":"IF(C49=\"\",\"\",data_kyogisha!A41)","v":""},0,"",0,"",0,"",0,""]
[41,null,null,null,null,null,null,null,null,null,null,null,null,null,null,null,null,"","",null,null,null,null,null,"","","","","",{"$f":"IF(G50=\"男\",data_kyogisha!A42,\"\")","v":""},"","","","","",{"$f":"IF(C50=\"\",\"\",data_kyogisha!A42)","v":""},0,"",0,"",0,"",0,""]
[42,null,null,null,null,null,null,null,null,null,null,null,null,null,null,null,null,"","",null,null,null,null,null,"","","","","",{"$f":"IF(G51=\"男\",data_kyogisha!A43,\"\")","v":""},"","","","","",{"$f":"IF(C51=\"\",\"\",data_kyogisha!A43)","v":""},0,"",0,"",0,"",0,""]
[43,null,null,null,null,null,null,null,null,null,null,null,null,null,null,null,null,"","",null,null,null,null,null,"","","","","",{"$f":"IF(G52=\"男\",data_kyogisha!A44,\"\")","v":""},"","","","","",{"$f":"IF(C52=\"\",\"\",data_kyogisha!A44)","v":""},0,"",0,"",0,"",0,""]
[44,null,null,null,null,null,null,null,null,null,null,null,null,null,null,null,null,"","",null,null,null,null,null,"","","","","",{"$f":"IF(G53=\"男\",data_kyogisha!A45,\"\")","v":""},"","","","","",{"$f":"IF(C53=\"\",\"\",data_kyogisha!A45)","v":""},0,"",0,"",0,"",0,""]
[45,null,null,null,null,null,null,null,null,null,null,null,null,null,null,null,null,"","",null,null,null,null,null,"","","","","",{"$f":"IF(G54=\"男\",data_kyogisha!A46,\"\")","v":""},"","","","","",{"$f":"IF(C54=\"\",\"\",data_kyogisha!A46)","v":""},0,"",0,"",0,"",0,""]
[46,null,null,null,null,null,null,null,null,null,null,null,null,null,null,null,null,"","",null,null,null,null,null,"","","","","",{"$f":"IF(G55=\"男\",data_kyogisha!A47,\"\")","v":""},"","","","","",{"$f":"IF(C55=\"\",\"\",data_kyogisha!A47)","v":""},0,"",0,"",0,"",0,""]
[47,null,null,null,null,null,null,null,null,null,null,null,null,null,null,null,null,"","",null,null,null,null,null,"","","","","",{"$f":"IF(G56=\"男\",data_kyogisha!A48,\"\")","v":""},"","","","","",{"$f":"IF(C56=\"\",\"\",data_kyogisha!A48)","v":""},0,"",0,"",0,"",0,""]
[48,null,null,null,null,null,null,null,null,null,null,null,null,null,null,null,null,"","",null,null,null,null,null,"","","","","",{"$f":"IF(G57=\"男\",data_kyogisha!A49,\"\")","v":""},"","","","","",{"$f":"IF(C57=\"\",\"\",data_kyogisha!A49)","v":""},0,"",0,"",0,"",0,""]
[null,null,null,null,null,"種目計",{"$f":"SUM(I58:M58)","v":0},null,{"$f":"COUNTA(I10:I57)","v":0},null,{"$f":"COUNTA(K10:K57)","v":0},null,{"$f":"COUNTA(M10:M57)","v":0},null,null,null,null,{"$f":"SUM(R10:R57)","v":0}]
[null,null,null,null,null,"リレー計",{"$f":"③リレー情報確認!F14+③リレー情報確認!L14+③リレー情報確認!R14+③リレー情報確認!X14","v":0},null,null,null,null,null,null,null,null,null,null,null,{"$f":"COUNTIF(S10:S57,1000)","v":0},"一般"]
[null,null,null,null,null,"男",{"$f":"COUNTIF(G10:G57,\"男\")","v":0},null,null,null,null,null,null,null,null,null,null,null,{"$f":"COUNTIF(S10:S57,800)","v":0},"高校"]
[null,null,null,null,null,"女",{"$f":"COUNTA(G10:G57)","v":0},null,null,null,null,null,null,null,null,null,null,null,{"$f":"COUNTIF(S10:S57,500)","v":0},"中学"]

{"sheet":"③リレー情報確認","index":3,"n_rows":14,"n_cols":24,"rows_kept":14,"cut":false,"hidden":false,"merged":[[0,9,0,11],[7,17,12,17],[7,5,12,5],[5,1,5,5],[7,23,12,23],[5,13,5,17],[5,19,5,23],[5,7,5,11],[7,11,12,11],[0,15,0,17]]}
["③リレー情報確認",null,null,null,null,null,null,null,"チーム名 ",{"$f":"IF(①団体情報入力!D5=\"\",\"\",①団体情報入力!D5)","v":""},null,null,null,null,"ｶﾅ",{"$f":"IF(①団体情報入力!D6=\"\",\"\",①団体情報入力!D6)","v":""}]
[]
[null,null,"※リレーにエントリーをする選手とチームの記録を確認してください。"]
[null,null,"※修正をする場合は「②選手情報入力」で修正してください。"]
[]
[null,null,null,null,null,null,null,null,null,null,null,null,null,"メドレーR"]
[null,"Ord","ﾅﾝﾊﾞｰ","氏　名","競技者NO","記録",null,"Ord","ﾅﾝﾊﾞｰ","氏　名","競技者NO","記録",null,"Ord","ﾅﾝﾊﾞｰ","氏　名","競技者NO","記録",null,"Ord","ﾅﾝﾊﾞｰ","氏　名","競技者NO","記録"]
[null,1,{"$f":"IF(②選手情報入力!$AL$9<1,\"\",VLOOKUP(B8,②選手情報入力!$AK$10:$AL$57,2,FALSE))","v":""},{"$f":"IF(C8=\"\",\"\",VLOOKUP(C8,②選手情報入力!$Y$10:$Z$57,2,FALSE))","v":""},{"$f":"IF(C8=\"\",\"\",VLOOKUP(C8,②選手情報入力!$Y$10:$AE$57,6,FALSE))","v":""},{"$f":"IF(②選手情報入力!O5=\"\",\"\",②選手情報入力!O5)","v":""},null,1,{"$f":"IF(②選手情報入力!$AN$9<1,\"\",VLOOKUP(H8,②選手情報入力!$AM$10:$AN$57,2,FALSE))","v":""},{"$f":"IF(I8=\"\",\"\",VLOOKUP(I8,②選手情報入力!$Y$10:$Z$57,2,FALSE))","v":""},{"$f":"IF(I8=\"\",\"\",VLOOKUP(I8,②選手情報入力!$Y$10:$AE$57,6,FALSE))","v":""},{"$f":"IF(②選手情報入力!P5=\"\",\"\",②選手情報入力!P5)","v":""},null,1,{"$f":"IF(②選手情報入力!$AP$9<1,\"\",VLOOKUP(N8,②選手情報入力!$AO$10:$AP$57,2,FALSE))","v":""},{"$f":"IF(O8=\"\",\"\",VLOOKUP(O8,②選手情報入力!$AE$10:$AF$57,2,FALSE))","v":""},{"$f":"IF(O8=\"\",\"\",VLOOKUP(O8,②選手情報入力!$AE$10:$AL$57,6,FALSE))","v":""},{"$f":"IF(②選手情報入力!O6=\"\",\"\",②選手情報入力!O6)","v":""},null,1,{"$f":"IF(②選手情報入力!$AR$9<1,\"\",VLOOKUP(T8,②選手情報入力!$AQ$10:$AR$57,2,FALSE))","v":""},{"$f":"IF(U8=\"\",\"\",VLOOKUP(U8,②選手情報入力!$AE$10:$AF$57,2,FALSE))","v":""},{"$f":"IF(U8=\"\",\"\",VLOOKUP(U8,②選手情報入力!$AE$10:$AL$57,6,FALSE))","v":""},{"$f":"IF(②選手情報入力!P6=\"\",\"\",②選手情報入力!P6)","v":""}]
[null,2,{"$f":"IF(②選手情報入力!$AL$9<2,\"\",VLOOKUP(B9,②選手情報入力!$AK$10:$AL$57,2,FALSE))","v":""},{"$f":"IF(C9=\"\",\"\",VLOOKUP(C9,②選手情報入力!$Y$10:$Z$57,2,FALSE))","v":""},{"$f":"IF(C9=\"\",\"\",VLOOKUP(C9,②選手情報入力!$Y$10:$AE$57,6,FALSE))","v":""},null,null,2,{"$f":"IF(②選手情報入力!$AN$9<2,\"\",VLOOKUP(H9,②選手情報入力!$AM$10:$AN$57,2,FALSE))","v":""},{"$f":"IF(I9=\"\",\"\",VLOOKUP(I9,②選手情報入力!$Y$10:$Z$57,2,FALSE))","v":""},{"$f":"IF(I9=\"\",\"\",VLOOKUP(I9,②選手情報入力!$Y$10:$AE$57,6,FALSE))","v":""},null,null,2,{"$f":"IF(②選手情報入力!$AP$9<2,\"\",VLOOKUP(N9,②選手情報入力!$AO$10:$AP$57,2,FALSE))","v":""},{"$f":"IF(O9=\"\",\"\",VLOOKUP(O9,②選手情報入力!$AE$10:$AF$57,2,FALSE))","v":""},{"$f":"IF(O9=\"\",\"\",VLOOKUP(O9,②選手情報入力!$AE$10:$AL$57,6,FALSE))","v":""},null,null,2,{"$f":"IF(②選手情報入力!$AR$9<2,\"\",VLOOKUP(T9,②選手情報入力!$AQ$10:$AR$57,2,FALSE))","v":""},{"$f":"IF(U9=\"\",\"\",VLOOKUP(U9,②選手情報入力!$AE$10:$AF$57,2,FALSE))","v":""},{"$f":"IF(U9=\"\",\"\",VLOOKUP(U9,②選手情報入力!$AE$10:$AL$57,6,FALSE))","v":""}]
[null,3,{"$f":"IF(②選手情報入力!$AL$9<3,\"\",VLOOKUP(B10,②選手情報入力!$AK$10:$AL$57,2,FALSE))","v":""},{"$f":"IF(C10=\"\",\"\",VLOOKUP(C10,②選手情報入力!$Y$10:$Z$57,2,FALSE))","v":""},{"$f":"IF(C10=\"\",\"\",VLOOKUP(C10,②選手情報入力!$Y$10:$AE$57,6,FALSE))","v":""},null,null,3,{"$f":"IF(②選手情報入力!$AN$9<3,\"\",VLOOKUP(H10,②選手情報入力!$AM$10:$AN$57,2,FALSE))","v":""},{"$f":"IF(I10=\"\",\"\",VLOOKUP(I10,②選手情報入力!$Y$10:$Z$57,2,FALSE))","v":""},{"$f":"IF(I10=\"\",\"\",VLOOKUP(I10,②選手情報入力!$Y$10:$AE$57,6,FALSE))","v":""},null,null,3,{"$f":"IF(②選手情報入力!$AP$9<3,\"\",VLOOKUP(N10,②選手情報入力!$AO$10:$AP$57,2,FALSE))","v":""},{"$f":"IF(O10=\"\",\"\",VLOOKUP(O10,②選手情報入力!$AE$10:$AF$57,2,FALSE))","v":""},{"$f":"IF(O10=\"\",\"\",VLOOKUP(O10,②選手情報入力!$AE$10:$AL$57,6,FALSE))","v":""},null,null,3,{"$f":"IF(②選手情報入力!$AR$9<3,\"\",VLOOKUP(T10,②選手情報入力!$AQ$10:$AR$57,2,FALSE))","v":""},{"$f":"IF(U10=\"\",\"\",VLOOKUP(U10,②選手情報入力!$AE$10:$AF$57,2,FALSE))","v":""},{"$f":"IF(U10=\"\",\"\",VLOOKUP(U10,②選手情報入力!$AE$10:$AL$57,6,FALSE))","v":""}]
[null,4,{"$f":"IF(②選手情報入力!$AL$9<4,\"\",VLOOKUP(B11,②選手情報入力!$AK$10:$AL$57,2,FALSE))","v":""},{"$f":"IF(C11=\"\",\"\",VLOOKUP(C11,②選手情報入力!$Y$10:$Z$57,2,FALSE))","v":""},{"$f":"IF(C11=\"\",\"\",VLOOKUP(C11,②選手情報入力!$Y$10:$AE$57,6,FALSE))","v":""},null,null,4,{"$f":"IF(②選手情報入力!$AN$9<4,\"\",VLOOKUP(H11,②選手情報入力!$AM$10:$AN$57,2,FALSE))","v":""},{"$f":"IF(I11=\"\",\"\",VLOOKUP(I11,②選手情報入力!$Y$10:$Z$57,2,FALSE))","v":""},{"$f":"IF(I11=\"\",\"\",VLOOKUP(I11,②選手情報入力!$Y$10:$AE$57,6,FALSE))","v":""},null,null,4,{"$f":"IF(②選手情報入力!$AP$9<4,\"\",VLOOKUP(N11,②選手情報入力!$AO$10:$AP$57,2,FALSE))","v":""},{"$f":"IF(O11=\"\",\"\",VLOOKUP(O11,②選手情報入力!$AE$10:$AF$57,2,FALSE))","v":""},{"$f":"IF(O11=\"\",\"\",VLOOKUP(O11,②選手情報入力!$AE$10:$AL$57,6,FALSE))","v":""},null,null,4,{"$f":"IF(②選手情報入力!$AR$9<4,\"\",VLOOKUP(T11,②選手情報入力!$AQ$10:$AR$57,2,FALSE))","v":""},{"$f":"IF(U11=\"\",\"\",VLOOKUP(U11,②選手情報入力!$AE$10:$AF$57,2,FALSE))","v":""},{"$f":"IF(U11=\"\",\"\",VLOOKUP(U11,②選手情報入力!$AE$10:$AL$57,6,FALSE))","v":""}]
[null,5,{"$f":"IF(②選手情報入力!$AL$9<5,\"\",VLOOKUP(B12,②選手情報入力!$AK$10:$AL$57,2,FALSE))","v":""},{"$f":"IF(C12=\"\",\"\",VLOOKUP(C12,②選手情報入力!$Y$10:$Z$57,2,FALSE))","v":""},{"$f":"IF(C12=\"\",\"\",VLOOKUP(C12,②選手情報入力!$Y$10:$AE$57,6,FALSE))","v":""},null,null,5,{"$f":"IF(②選手情報入力!$AN$9<5,\"\",VLOOKUP(H12,②選手情報入力!$AM$10:$AN$57,2,FALSE))","v":""},{"$f":"IF(I12=\"\",\"\",VLOOKUP(I12,②選手情報入力!$Y$10:$Z$57,2,FALSE))","v":""},{"$f":"IF(I12=\"\",\"\",VLOOKUP(I12,②選手情報入力!$Y$10:$AE$57,6,FALSE))","v":""},null,null,5,{"$f":"IF(②選手情報入力!$AP$9<5,\"\",VLOOKUP(N12,②選手情報入力!$AO$10:$AP$57,2,FALSE))","v":""},{"$f":"IF(O12=\"\",\"\",VLOOKUP(O12,②選手情報入力!$AE$10:$AF$57,2,FALSE))","v":""},{"$f":"IF(O12=\"\",\"\",VLOOKUP(O12,②選手情報入力!$AE$10:$AL$57,6,FALSE))","v":""},null,null,5,{"$f":"IF(②選手情報入力!$AR$9<5,\"\",VLOOKUP(T12,②選手情報入力!$AQ$10:$AR$57,2,FALSE))","v":""},{"$f":"IF(U12=\"\",\"\",VLOOKUP(U12,②選手情報入力!$AE$10:$AF$57,2,FALSE))","v":""},{"$f":"IF(U12=\"\",\"\",VLOOKUP(U12,②選手情報入力!$AE$10:$AL$57,6,FALSE))","v":""}]
[null,6,{"$f":"IF(②選手情報入力!$AL$9<6,\"\",VLOOKUP(B13,②選手情報入力!$AK$10:$AL$57,2,FALSE))","v":""},{"$f":"IF(C13=\"\",\"\",VLOOKUP(C13,②選手情報入力!$Y$10:$Z$57,2,FALSE))","v":""},{"$f":"IF(C13=\"\",\"\",VLOOKUP(C13,②選手情報入力!$Y$10:$AE$57,6,FALSE))","v":""},null,null,6,{"$f":"IF(②選手情報入力!$AN$9<6,\"\",VLOOKUP(H13,②選手情報入力!$AM$10:$AN$57,2,FALSE))","v":""},{"$f":"IF(I13=\"\",\"\",VLOOKUP(I13,②選手情報入力!$Y$10:$Z$57,2,FALSE))","v":""},{"$f":"IF(I13=\"\",\"\",VLOOKUP(I13,②選手情報入力!$Y$10:$AE$57,6,FALSE))","v":""},null,null,6,{"$f":"IF(②選手情報入力!$AP$9<6,\"\",VLOOKUP(N13,②選手情報入力!$AO$10:$AP$57,2,FALSE))","v":""},{"$f":"IF(O13=\"\",\"\",VLOOKUP(O13,②選手情報入力!$AE$10:$AF$57,2,FALSE))","v":""},{"$f":"IF(O13=\"\",\"\",VLOOKUP(O13,②選手情報入力!$AE$10:$AL$57,6,FALSE))","v":""},null,null,6,{"$f":"IF(②選手情報入力!$AR$9<6,\"\",VLOOKUP(T13,②選手情報入力!$AQ$10:$AR$57,2,FALSE))","v":""},{"$f":"IF(U13=\"\",\"\",VLOOKUP(U13,②選手情報入力!$AE$10:$AF$57,2,FALSE))","v":""},{"$f":"IF(U13=\"\",\"\",VLOOKUP(U13,②選手情報入力!$AE$10:$AL$57,6,FALSE))","v":""}]
[null,null,null,"申込チーム数",null,{"$f":"IF(②選手情報入力!AL9>=4,1,0)","v":0},null,null,null,"申込チーム数",null,{"$f":"IF(②選手情報入力!AN9>=4,1,0)","v":0},null,null,null,"申込チーム数",null,{"$f":"IF(②選手情報入力!AP9>=4,1,0)","v":0},null,null,null,"申込チーム数",null,{"$f":"IF(②選手情報入力!AR9>=4,1,0)","v":0}]

{"sheet":"④種目別人数","index":4,"n_rows":40,"n_cols":14,"rows_kept":40,"cut":false,"hidden":false,"merged":[[21,6,21,7],[22,6,22,7],[16,6,16,7],[17,6,17,7],[18,6,18,7],[19,6,19,7],[20,6,20,7],[11,6,11,7],[12,6,12,7],[13,6,13,7],[14,6,14,7],[15,6,15,7],[6,6,6,7],[7,6,7,7],[8,6,8,7],[9,6,9,7],[10,6,10,7],[8,2,8,3],[9,2,9,3],[10,2,10,3],[11,2,11,3],[26,2,26,3],[25,2,25,3],[24,2,24,3],[16,1,16,3],[19,2,19,3],[20,2,20,3],[21,2,21,3],[22,2,22,3],[18,2,18,3],[5,3,5,7],[25,5,25,6],[23,2,23,3],[1,0,1,7],[3,0,3,7],[2,0,2,4],[4,2,4,5],[2,6,2,7],[4,6,4,7],[6,2,6,3],[17,1,17,3],[12,2,12,3],[13,2,13,3],[14,2,14,3],[15,2,15,3],[7,2,7,3]]}
["④種目別人数一覧表",null,"※種目数・参加料等を確認してから印刷をしてください。"]
["　　　帳票印刷ボタンをクリックして印刷を行ってください。↓　　"]
[{"$f":"注意事項!C3","v":"2017愛知レディース陸上競技大会"},null,null,null,null,null,{"$f":"IF(①団体情報入力!D3=\"\",\"\",①団体情報入力!D3)","v":""}]
["種目別申込人数一覧表"]
[null,"申込責任者",{"$f":"IF(①団体情報入力!D8=\"\",\"\",①団体情報入力!D8)","v":""},null,null,null,"A4サイズ"]
[null,{"$f":"IF(①団体情報入力!D7=\"\",\"\",①団体情報入力!D7)","v":""},"団体名",{"$f":"IF(①団体情報入力!D5=\"\",\"\",①団体情報入力!D5)","v":""}]
[null,"種　　　目","申込数",null,null,"種　　　目","申込数",null,null,null,null,"男種目",null,"女種目"]
[null,"中学100m",{"$f":"IF(N24=0,\"\",N24)","v":""},null,null,"100m",{"$f":"IF(N8=0,\"\",N8)","v":""},null,null,null,{"$f":"種目情報!A4","v":0},{"$f":"COUNTIF(②選手情報入力!$I$10:$N$57,K8)","v":0},{"$f":"種目情報!E4","v":"100m"},{"$f":"COUNTIF(②選手情報入力!$I$10:$N$57,M8)","v":0}]
[null,"中学200m","",null,null,"200m",{"$f":"IF(N9=0,\"\",N9)","v":""},null,null,null,{"$f":"種目情報!A5","v":0},{"$f":"COUNTIF(②選手情報入力!$I$10:$N$57,K9)","v":0},{"$f":"種目情報!E5","v":"200m"},{"$f":"COUNTIF(②選手情報入力!$I$10:$N$57,M9)","v":0}]
[null,"中学800m","",null,null,"400m","",null,null,null,{"$f":"種目情報!A6","v":0},{"$f":"COUNTIF(②選手情報入力!$I$10:$N$57,K10)","v":0},{"$f":"種目情報!E6","v":"400m"},{"$f":"COUNTIF(②選手情報入力!$I$10:$N$57,M10)","v":0}]
[null,"中学1500m","",null,null,"800m","",null,null,null,{"$f":"種目情報!A7","v":0},{"$f":"COUNTIF(②選手情報入力!$I$10:$N$57,K11)","v":0},{"$f":"種目情報!E7","v":"800m"},{"$f":"COUNTIF(②選手情報入力!$I$10:$N$57,M11)","v":0}]
[null,"中学100mH(0.762/8.0m)","",null,null,"1500m","",null,null,null,{"$f":"種目情報!A8","v":0},{"$f":"COUNTIF(②選手情報入力!$I$10:$N$57,K12)","v":0},{"$f":"種目情報!E8","v":"1500m"},{"$f":"COUNTIF(②選手情報入力!$I$10:$N$57,M12)","v":0}]
[null,"中学走高跳","",null,null,"100mH(0.838m)","",null,null,null,{"$f":"種目情報!A9","v":0},{"$f":"COUNTIF(②選手情報入力!$I$10:$N$57,K13)","v":0},{"$f":"種目情報!E9","v":"100mH(0.838m)"},{"$f":"COUNTIF(②選手情報入力!$I$10:$N$57,M13)","v":0}]
[null,"中学走幅跳","",null,null,"400mH(0.762m)","",null,null,null,{"$f":"種目情報!A10","v":0},{"$f":"COUNTIF(②選手情報入力!$I$10:$N$57,K14)","v":0},{"$f":"種目情報!E10","v":"400mH(0.762m)"},{"$f":"COUNTIF(②選手情報入力!$I$10:$N$57,M14)","v":0}]
[null,"中学砲丸投(2.721kg)","",null,null,"3000mSC(0.762m)","",null,null,null,{"$f":"種目情報!A11","v":0},{"$f":"COUNTIF(②選手情報入力!$I$10:$N$57,K15)","v":0},{"$f":"種目情報!E11","v":"3000mSC(0.762m)"},{"$f":"COUNTIF(②選手情報入力!$I$10:$N$57,M15)","v":0}]
[null,null,"",null,null,"走高跳","",null,null,null,{"$f":"種目情報!A12","v":0},{"$f":"COUNTIF(②選手情報入力!$I$10:$N$57,K16)","v":0},{"$f":"種目情報!E12","v":"走高跳"},{"$f":"COUNTIF(②選手情報入力!$I$10:$N$57,M16)","v":0}]
[null,"参　　加　　料",null,null,null,"走幅跳","",null,null,null,{"$f":"種目情報!A13","v":0},{"$f":"COUNTIF(②選手情報入力!$I$10:$N$57,K17)","v":0},{"$f":"種目情報!E13","v":"走幅跳"},{"$f":"COUNTIF(②選手情報入力!$I$10:$N$57,M17)","v":0}]
[null,"種目種別数",null,null,null,"三段跳","",null,null,null,{"$f":"種目情報!A14","v":0},{"$f":"COUNTIF(②選手情報入力!$I$10:$N$57,K18)","v":0},{"$f":"種目情報!E14","v":"三段跳"},{"$f":"COUNTIF(②選手情報入力!$I$10:$N$57,M18)","v":0}]
[null,"一般",{"$f":"②選手情報入力!S59","v":0},null,null,"砲丸投(4.000kg)","",null,null,null,{"$f":"種目情報!A15","v":0},{"$f":"COUNTIF(②選手情報入力!$I$10:$N$57,K19)","v":0},{"$f":"種目情報!E15","v":"砲丸投(4.000kg)"},{"$f":"COUNTIF(②選手情報入力!$I$10:$N$57,M19)","v":0}]
[null,"高校",{"$f":"②選手情報入力!S60","v":0},null,null,"円盤投(1.000kg)","",null,null,null,{"$f":"種目情報!A16","v":0},{"$f":"COUNTIF(②選手情報入力!$I$10:$N$57,K20)","v":0},{"$f":"種目情報!E16","v":"円盤投(1.000kg)"},{"$f":"COUNTIF(②選手情報入力!$I$10:$N$57,M20)","v":0}]
[null,"中学",{"$f":"②選手情報入力!S61","v":0},null,null,"やり投(600g)","",null,null,null,{"$f":"種目情報!A17","v":0},{"$f":"COUNTIF(②選手情報入力!$I$10:$N$57,K21)","v":0},{"$f":"種目情報!E17","v":"やり投(600g)"},{"$f":"COUNTIF(②選手情報入力!$I$10:$N$57,M21)","v":0}]
[null,"一般1000円✕種目数",{"$f":"C19*1000","v":0},null,null,"共通棒高跳","",null,null,null,{"$f":"種目情報!A18","v":0},{"$f":"COUNTIF(②選手情報入力!$I$10:$N$57,K22)","v":0},{"$f":"種目情報!E18","v":"共通棒高跳"},{"$f":"COUNTIF(②選手情報入力!$I$10:$N$57,M22)","v":0}]
[null,"高校800円✕種目数",{"$f":"C20*800","v":0},null,null,"メドレーＲ",{"$f":"IF(③リレー情報確認!R14=0,\"\",③リレー情報確認!R14)","v":""},null,null,null,{"$f":"種目情報!A19","v":0},{"$f":"COUNTIF(②選手情報入力!$I$10:$N$57,K23)","v":0},{"$f":"種目情報!E19","v":0},{"$f":"COUNTIF(②選手情報入力!$I$10:$N$57,M23)","v":0}]
[null,"中学500円✕種目数",{"$f":"C21*500","v":0},null,null,null,null,null,null,null,{"$f":"種目情報!A20","v":0},{"$f":"COUNTIF(②選手情報入力!$I$10:$N$57,K24)","v":0},{"$f":"種目情報!E20","v":"中学100m"},{"$f":"COUNTIF(②選手情報入力!$I$10:$N$57,M24)","v":0}]
[null,"リレー参加数✕2000円",{"$f":"IF(G23=\"\",0,G23*2000)","v":0},null,null,"プログラム購入部数",{"$f":"IF(①団体情報入力!D9=\"\",0,①団体情報入力!D9)","v":0},"部",null,null,{"$f":"種目情報!A21","v":0},{"$f":"COUNTIF(②選手情報入力!$I$10:$N$57,K25)","v":0},{"$f":"種目情報!E21","v":"中学200m"},{"$f":"COUNTIF(②選手情報入力!$I$10:$N$57,M25)","v":0}]
[null,"プログラム部数✕1000円",{"$f":"G25*1000","v":0},null,null,{"$f":"TODAY()","v":"2017-05-29"},null,null,null,null,{"$f":"種目情報!A22","v":0},{"$f":"COUNTIF(②選手情報入力!$I$10:$N$57,K26)","v":0},{"$f":"種目情報!E22","v":"中学800m"},{"$f":"COUNTIF(②選手情報入力!$I$10:$N$57,M26)","v":0}]
[null,"支払金額",{"$f":"SUM(C22:D26)","v":0},null,null,null,null,null,null,null,{"$f":"種目情報!A23","v":0},{"$f":"COUNTIF(②選手情報入力!$I$10:$N$57,K27)","v":0},{"$f":"種目情報!E23","v":"中学1500m"},{"$f":"COUNTIF(②選手情報入力!$I$10:$N$57,M27)","v":0}]
[null,null,null,null,null,"振込明細書のコピーを下部に添付してください",null,null,null,null,{"$f":"種目情報!A24","v":0},{"$f":"COUNTIF(②選手情報入力!$I$10:$N$57,K28)","v":0},{"$f":"種目情報!E24","v":"中学100mH(0.762/8.0m)"},{"$f":"COUNTIF(②選手情報入力!$I$10:$N$57,M28)","v":0}]
[null,null,null,null,null,null,null,null,null,null,{"$f":"種目情報!A25","v":0},{"$f":"COUNTIF(②選手情報入力!$I$10:$N$57,K29)","v":0},{"$f":"種目情報!E25","v":"中学走高跳"},{"$f":"COUNTIF(②選手情報入力!$I$10:$N$57,M29)","v":0}]
[null,null,null,null,null,null,null,null,null,null,{"$f":"種目情報!A26","v":0},{"$f":"COUNTIF(②選手情報入力!$I$10:$N$57,K30)","v":0},{"$f":"種目情報!E26","v":"中学走幅跳"},{"$f":"COUNTIF(②選手情報入力!$I$10:$N$57,M30)","v":0}]
[null,null,null,null,null,null,null,null,null,null,{"$f":"種目情報!A27","v":0},{"$f":"COUNTIF(②選手情報入力!$I$10:$N$57,K31)","v":0},{"$f":"種目情報!E27","v":"中学砲丸投(2.721kg)"},{"$f":"COUNTIF(②選手情報入力!$I$10:$N$57,M31)","v":0}]
[null,null,null,null,null,null,null,null,null,null,{"$f":"種目情報!A28","v":0},{"$f":"COUNTIF(②選手情報入力!$I$10:$N$57,K32)","v":0},{"$f":"種目情報!E28","v":0},{"$f":"COUNTIF(②選手情報入力!$I$10:$N$57,M32)","v":0}]
[null,null,null,null,null,null,null,null,null,null,{"$f":"種目情報!A29","v":0},{"$f":"COUNTIF(②選手情報入力!$I$10:$N$57,K33)","v":0}]
[null,null,null,null,null,null,null,null,null,null,{"$f":"種目情報!A30","v":0},{"$f":"COUNTIF(②選手情報入力!$I$10:$N$57,K34)","v":0},{"$f":"種目情報!E30","v":0},{"$f":"COUNTIF(②選手情報入力!$I$10:$N$57,M34)","v":0}]
[null,null,null,null,null,null,null,null,null,null,{"$f":"種目情報!A31","v":0},null,{"$f":"種目情報!E31","v":0},{"$f":"COUNTIF(②選手情報入力!$I$10:$N$57,M35)","v":0}]
[null,null,null,null,null,null,null,null,null,null,{"$f":"種目情報!A33","v":0},{"$f":"COUNTIF(②選手情報入力!$I$10:$N$57,K36)","v":0},null,{"$f":"COUNTIF(②選手情報入力!$I$10:$N$57,M36)","v":0}]
[null,null,null,null,null,null,null,null,null,null,{"$f":"種目情報!A34","v":0},null,null,{"$f":"COUNTIF(②選手情報入力!$I$10:$N$57,M37)","v":0}]
[null,null,null,null,null,null,null,null,null,null,{"$f":"種目情報!A35","v":0},null,null,{"$f":"COUNTIF(②選手情報入力!$I$10:$N$57,M38)","v":0}]
[null,null,null,null,null,null,null,null,null,null,null,null,null,{"$f":"COUNTIF(②選手情報入力!$I$10:$N$57,M39)","v":0}]
[null,null,null,null,null,null,null,null,null,null,null,null,null,{"$f":"COUNTIF(②選手情報入力!$I$10:$N$57,M40)","v":0}]

{"sheet":"⑤申込一覧表","index":5,"n_rows":55,"n_cols":13,"rows_kept":55,"cut":false,"hidden":false,"merged":[[3,1,4,1],[3,3,3,4],[4,3,4,4],[1,4,1,7]]}
["　⑤申込一覧表"]
[null,null,null,"大会名",{"$f":"注意事項!C3&注意事項!F3","v":"2017愛知レディース陸上競技大会"}]
[null,null,null,null,null,"団体名",{"$f":"IF(①団体情報入力!D5=\"\",\"\",①団体情報入力!D5)","v":""},{"$f":"IF(①団体情報入力!D3=\"\",\"\",①団体情報入力!D3)","v":""}]
[null,"人数","男　　子",{"$f":"②選手情報入力!G60","v":0}]
[null,null,"女　　子",{"$f":"②選手情報入力!G61","v":0},null,"メドレーＲ",{"$f":"IF(③リレー情報確認!R8=\"\",\"\",③リレー情報確認!R8)","v":""},null,null,null,{"$f":"IF(③リレー情報確認!X8=\"\",\"\",③リレー情報確認!X8)","v":""}]
[]
[null,"ﾅﾝﾊﾞｰ","氏　名","種別","学年","種目１","記録１",null,null,null,null,"R","16R"]
[1,{"$f":"IF(②選手情報入力!C10=\"\",\"\",②選手情報入力!B10&②選手情報入力!C10)","v":""},{"$f":"IF(②選手情報入力!D10=\"\",\"\",②選手情報入力!D10)","v":""},{"$f":"IF(②選手情報入力!G10=\"\",\"\",②選手情報入力!G10)","v":""},{"$f":"IF(②選手情報入力!H10=\"\",\"\",②選手情報入力!H10)","v":""},{"$f":"IF(②選手情報入力!I10=\"\",\"\",②選手情報入力!I10)","v":""},{"$f":"IF(②選手情報入力!J10=\"\",\"\",②選手情報入力!J10)","v":""},null,null,null,null,{"$f":"IF(②選手情報入力!O10=\"\",\"\",②選手情報入力!O10)","v":""},{"$f":"IF(②選手情報入力!P10=\"\",\"\",②選手情報入力!P10)","v":""}]
[2,{"$f":"IF(②選手情報入力!C11=\"\",\"\",②選手情報入力!B11&②選手情報入力!C11)","v":""},{"$f":"IF(②選手情報入力!D11=\"\",\"\",②選手情報入力!D11)","v":""},{"$f":"IF(②選手情報入力!G11=\"\",\"\",②選手情報入力!G11)","v":""},{"$f":"IF(②選手情報入力!H11=\"\",\"\",②選手情報入力!H11)","v":""},{"$f":"IF(②選手情報入力!I11=\"\",\"\",②選手情報入力!I11)","v":""},{"$f":"IF(②選手情報入力!J11=\"\",\"\",②選手情報入力!J11)","v":""},null,null,null,null,{"$f":"IF(②選手情報入力!O11=\"\",\"\",②選手情報入力!O11)","v":""},{"$f":"IF(②選手情報入力!P11=\"\",\"\",②選手情報入力!P11)","v":""}]
[3,{"$f":"IF(②選手情報入力!C12=\"\",\"\",②選手情報入力!B12&②選手情報入力!C12)","v":""},{"$f":"IF(②選手情報入力!D12=\"\",\"\",②選手情報入力!D12)","v":""},{"$f":"IF(②選手情報入力!G12=\"\",\"\",②選手情報入力!G12)","v":""},{"$f":"IF(②選手情報入力!H12=\"\",\"\",②選手情報入力!H12)","v":""},{"$f":"IF(②選手情報入力!I12=\"\",\"\",②選手情報入力!I12)","v":""},{"$f":"IF(②選手情報入力!J12=\"\",\"\",②選手情報入力!J12)","v":""},null,null,null,null,{"$f":"IF(②選手情報入力!O12=\"\",\"\",②選手情報入力!O12)","v":""},{"$f":"IF(②選手情報入力!P12=\"\",\"\",②選手情報入力!P12)","v":""}]
[4,{"$f":"IF(②選手情報入力!C13=\"\",\"\",②選手情報入力!B13&②選手情報入力!C13)","v":""},{"$f":"IF(②選手情報入力!D13=\"\",\"\",②選手情報入力!D13)","v":""},{"$f":"IF(②選手情報入力!G13=\"\",\"\",②選手情報入力!G13)","v":""},{"$f":"IF(②選手情報入力!H13=\"\",\"\",②選手情報入力!H13)","v":""},{"$f":"IF(②選手情報入力!I13=\"\",\"\",②選手情報入力!I13)","v":""},{"$f":"IF(②選手情報入力!J13=\"\",\"\",②選手情報入力!J13)","v":""},null,null,null,null,{"$f":"IF(②選手情報入力!O13=\"\",\"\",②選手情報入力!O13)","v":""},{"$f":"IF(②選手情報入力!P13=\"\",\"\",②選手情報入力!P13)","v":""}]
[5,{"$f":"IF(②選手情報入力!C14=\"\",\"\",②選手情報入力!B14&②選手情報入力!C14)","v":""},{"$f":"IF(②選手情報入力!D14=\"\",\"\",②選手情報入力!D14)","v":""},{"$f":"IF(②選手情報入力!G14=\"\",\"\",②選手情報入力!G14)","v":""},{"$f":"IF(②選手情報入力!H14=\"\",\"\",②選手情報入力!H14)","v":""},{"$f":"IF(②選手情報入力!I14=\"\",\"\",②選手情報入力!I14)","v":""},{"$f":"IF(②選手情報入力!J14=\"\",\"\",②選手情報入力!J14)","v":""},null,null,null,null,{"$f":"IF(②選手情報入力!O14=\"\",\"\",②選手情報入力!O14)","v":""},{"$f":"IF(②選手情報入力!P14=\"\",\"\",②選手情報入力!P14)","v":""}]
[6,{"$f":"IF(②選手情報入力!C15=\"\",\"\",②選手情報入力!B15&②選手情報入力!C15)","v":""},{"$f":"IF(②選手情報入力!D15=\"\",\"\",②選手情報入力!D15)","v":""},{"$f":"IF(②選手情報入力!G15=\"\",\"\",②選手情報入力!G15)","v":""},{"$f":"IF(②選手情報入力!H15=\"\",\"\",②選手情報入力!H15)","v":""},{"$f":"IF(②選手情報入力!I15=\"\",\"\",②選手情報入力!I15)","v":""},{"$f":"IF(②選手情報入力!J15=\"\",\"\",②選手情報入力!J15)","v":""},null,null,null,null,{"$f":"IF(②選手情報入力!O15=\"\",\"\",②選手情報入力!O15)","v":""},{"$f":"IF(②選手情報入力!P15=\"\",\"\",②選手情報入力!P15)","v":""}]
[7,{"$f":"IF(②選手情報入力!C16=\"\",\"\",②選手情報入力!B16&②選手情報入力!C16)","v":""},{"$f":"IF(②選手情報入力!D16=\"\",\"\",②選手情報入力!D16)","v":""},{"$f":"IF(②選手情報入力!G16=\"\",\"\",②選手情報入力!G16)","v":""},{"$f":"IF(②選手情報入力!H16=\"\",\"\",②選手情報入力!H16)","v":""},{"$f":"IF(②選手情報入力!I16=\"\",\"\",②選手情報入力!I16)","v":""},{"$f":"IF(②選手情報入力!J16=\"\",\"\",②選手情報入力!J16)","v":""},null,null,null,null,{"$f":"IF(②選手情報入力!O16=\"\",\"\",②選手情報入力!O16)","v":""},{"$f":"IF(②選手情報入力!P16=\"\",\"\",②選手情報入力!P16)","v":""}]
[8,{"$f":"IF(②選手情報入力!C17=\"\",\"\",②選手情報入力!B17&②選手情報入力!C17)","v":""},{"$f":"IF(②選手情報入力!D17=\"\",\"\",②選手情報入力!D17)","v":""},{"$f":"IF(②選手情報入力!G17=\"\",\"\",②選手情報入力!G17)","v":""},{"$f":"IF(②選手情報入力!H17=\"\",\"\",②選手情報入力!H17)","v":""},{"$f":"IF(②選手情報入力!I17=\"\",\"\",②選手情報入力!I17)","v":""},{"$f":"IF(②選手情報入力!J17=\"\",\"\",②選手情報入力!J17)","v":""},null,null,null,null,{"$f":"IF(②選手情報入力!O17=\"\",\"\",②選手情報入力!O17)","v":""},{"$f":"IF(②選手情報入力!P17=\"\",\"\",②選手情報入力!P17)","v":""}]
[9,{"$f":"IF(②選手情報入力!C18=\"\",\"\",②選手情報入力!B18&②選手情報入力!C18)","v":""},{"$f":"IF(②選手情報入力!D18=\"\",\"\",②選手情報入力!D18)","v":""},{"$f":"IF(②選手情報入力!G18=\"\",\"\",②選手情報入力!G18)","v":""},{"$f":"IF(②選手情報入力!H18=\"\",\"\",②選手情報入力!H18)","v":""},{"$f":"IF(②選手情報入力!I18=\"\",\"\",②選手情報入力!I18)","v":""},{"$f":"IF(②選手情報入力!J18=\"\",\"\",②選手情報入力!J18)","v":""},null,null,null,null,{"$f":"IF(②選手情報入力!O18=\"\",\"\",②選手情報入力!O18)","v":""},{"$f":"IF(②選手情報入力!P18=\"\",\"\",②選手情報入力!P18)","v":""}]
[10,{"$f":"IF(②選手情報入力!C19=\"\",\"\",②選手情報入力!B19&②選手情報入力!C19)","v":""},{"$f":"IF(②選手情報入力!D19=\"\",\"\",②選手情報入力!D19)","v":""},{"$f":"IF(②選手情報入力!G19=\"\",\"\",②選手情報入力!G19)","v":""},{"$f":"IF(②選手情報入力!H19=\"\",\"\",②選手情報入力!H19)","v":""},{"$f":"IF(②選手情報入力!I19=\"\",\"\",②選手情報入力!I19)","v":""},{"$f":"IF(②選手情報入力!J19=\"\",\"\",②選手情報入力!J19)","v":""},null,null,null,null,{"$f":"IF(②選手情報入力!O19=\"\",\"\",②選手情報入力!O19)","v":""},{"$f":"IF(②選手情報入力!P19=\"\",\"\",②選手情報入力!P19)","v":""}]
[11,{"$f":"IF(②選手情報入力!C20=\"\",\"\",②選手情報入力!B20&②選手情報入力!C20)","v":""},{"$f":"IF(②選手情報入力!D20=\"\",\"\",②選手情報入力!D20)","v":""},{"$f":"IF(②選手情報入力!G20=\"\",\"\",②選手情報入力!G20)","v":""},{"$f":"IF(②選手情報入力!H20=\"\",\"\",②選手情報入力!H20)","v":""},{"$f":"IF(②選手情報入力!I20=\"\",\"\",②選手情報入力!I20)","v":""},{"$f":"IF(②選手情報入力!J20=\"\",\"\",②選手情報入力!J20)","v":""},null,null,null,null,{"$f":"IF(②選手情報入力!O20=\"\",\"\",②選手情報入力!O20)","v":""},{"$f":"IF(②選手情報入力!P20=\"\",\"\",②選手情報入力!P20)","v":""}]
[12,{"$f":"IF(②選手情報入力!C21=\"\",\"\",②選手情報入力!B21&②選手情報入力!C21)","v":""},{"$f":"IF(②選手情報入力!D21=\"\",\"\",②選手情報入力!D21)","v":""},{"$f":"IF(②選手情報入力!G21=\"\",\"\",②選手情報入力!G21)","v":""},{"$f":"IF(②選手情報入力!H21=\"\",\"\",②選手情報入力!H21)","v":""},{"$f":"IF(②選手情報入力!I21=\"\",\"\",②選手情報入力!I21)","v":""},{"$f":"IF(②選手情報入力!J21=\"\",\"\",②選手情報入力!J21)","v":""},null,null,null,null,{"$f":"IF(②選手情報入力!O21=\"\",\"\",②選手情報入力!O21)","v":""},{"$f":"IF(②選手情報入力!P21=\"\",\"\",②選手情報入力!P21)","v":""}]
[13,{"$f":"IF(②選手情報入力!C22=\"\",\"\",②選手情報入力!B22&②選手情報入力!C22)","v":""},{"$f":"IF(②選手情報入力!D22=\"\",\"\",②選手情報入力!D22)","v":""},{"$f":"IF(②選手情報入力!G22=\"\",\"\",②選手情報入力!G22)","v":""},{"$f":"IF(②選手情報入力!H22=\"\",\"\",②選手情報入力!H22)","v":""},{"$f":"IF(②選手情報入力!I22=\"\",\"\",②選手情報入力!I22)","v":""},{"$f":"IF(②選手情報入力!J22=\"\",\"\",②選手情報入力!J22)","v":""},null,null,null,null,{"$f":"IF(②選手情報入力!O22=\"\",\"\",②選手情報入力!O22)","v":""},{"$f":"IF(②選手情報入力!P22=\"\",\"\",②選手情報入力!P22)","v":""}]
[14,{"$f":"IF(②選手情報入力!C23=\"\",\"\",②選手情報入力!B23&②選手情報入力!C23)","v":""},{"$f":"IF(②選手情報入力!D23=\"\",\"\",②選手情報入力!D23)","v":""},{"$f":"IF(②選手情報入力!G23=\"\",\"\",②選手情報入力!G23)","v":""},{"$f":"IF(②選手情報入力!H23=\"\",\"\",②選手情報入力!H23)","v":""},{"$f":"IF(②選手情報入力!I23=\"\",\"\",②選手情報入力!I23)","v":""},{"$f":"IF(②選手情報入力!J23=\"\",\"\",②選手情報入力!J23)","v":""},null,null,null,null,{"$f":"IF(②選手情報入力!O23=\"\",\"\",②選手情報入力!O23)","v":""},{"$f":"IF(②選手情報入力!P23=\"\",\"\",②選手情報入力!P23)","v":""}]
[15,{"$f":"IF(②選手情報入力!C24=\"\",\"\",②選手情報入力!B24&②選手情報入力!C24)","v":""},{"$f":"IF(②選手情報入力!D24=\"\",\"\",②選手情報入力!D24)","v":""},{"$f":"IF(②選手情報入力!G24=\"\",\"\",②選手情報入力!G24)","v":""},{"$f":"IF(②選手情報入力!H24=\"\",\"\",②選手情報入力!H24)","v":""},{"$f":"IF(②選手情報入力!I24=\"\",\"\",②選手情報入力!I24)","v":""},{"$f":"IF(②選手情報入力!J24=\"\",\"\",②選手情報入力!J24)","v":""},null,null,null,null,{"$f":"IF(②選手情報入力!O24=\"\",\"\",②選手情報入力!O24)","v":""},{"$f":"IF(②選手情報入力!P24=\"\",\"\",②選手情報入力!P24)","v":""}]
[16,{"$f":"IF(②選手情報入力!C25=\"\",\"\",②選手情報入力!B25&②選手情報入力!C25)","v":""},{"$f":"IF(②選手情報入力!D25=\"\",\"\",②選手情報入力!D25)","v":""},{"$f":"IF(②選手情報入力!G25=\"\",\"\",②選手情報入力!G25)","v":""},{"$f":"IF(②選手情報入力!H25=\"\",\"\",②選手情報入力!H25)","v":""},{"$f":"IF(②選手情報入力!I25=\"\",\"\",②選手情報入力!I25)","v":""},{"$f":"IF(②選手情報入力!J25=\"\",\"\",②選手情報入力!J25)","v":""},null,null,null,null,{"$f":"IF(②選手情報入力!O25=\"\",\"\",②選手情報入力!O25)","v":""},{"$f":"IF(②選手情報入力!P25=\"\",\"\",②選手情報入力!P25)","v":""}]
[17,{"$f":"IF(②選手情報入力!C26=\"\",\"\",②選手情報入力!B26&②選手情報入力!C26)","v":""},{"$f":"IF(②選手情報入力!D26=\"\",\"\",②選手情報入力!D26)","v":""},{"$f":"IF(②選手情報入力!G26=\"\",\"\",②選手情報入力!G26)","v":""},{"$f":"IF(②選手情報入力!H26=\"\",\"\",②選手情報入力!H26)","v":""},{"$f":"IF(②選手情報入力!I26=\"\",\"\",②選手情報入力!I26)","v":""},{"$f":"IF(②選手情報入力!J26=\"\",\"\",②選手情報入力!J26)","v":""},null,null,null,null,{"$f":"IF(②選手情報入力!O26=\"\",\"\",②選手情報入力!O26)","v":""},{"$f":"IF(②選手情報入力!P26=\"\",\"\",②選手情報入力!P26)","v":""}]
[18,{"$f":"IF(②選手情報入力!C27=\"\",\"\",②選手情報入力!B27&②選手情報入力!C27)","v":""},{"$f":"IF(②選手情報入力!D27=\"\",\"\",②選手情報入力!D27)","v":""},{"$f":"IF(②選手情報入力!G27=\"\",\"\",②選手情報入力!G27)","v":""},{"$f":"IF(②選手情報入力!H27=\"\",\"\",②選手情報入力!H27)","v":""},{"$f":"IF(②選手情報入力!I27=\"\",\"\",②選手情報入力!I27)","v":""},{"$f":"IF(②選手情報入力!J27=\"\",\"\",②選手情報入力!J27)","v":""},null,null,null,null,{"$f":"IF(②選手情報入力!O27=\"\",\"\",②選手情報入力!O27)","v":""},{"$f":"IF(②選手情報入力!P27=\"\",\"\",②選手情報入力!P27)","v":""}]
[19,{"$f":"IF(②選手情報入力!C28=\"\",\"\",②選手情報入力!B28&②選手情報入力!C28)","v":""},{"$f":"IF(②選手情報入力!D28=\"\",\"\",②選手情報入力!D28)","v":""},{"$f":"IF(②選手情報入力!G28=\"\",\"\",②選手情報入力!G28)","v":""},{"$f":"IF(②選手情報入力!H28=\"\",\"\",②選手情報入力!H28)","v":""},{"$f":"IF(②選手情報入力!I28=\"\",\"\",②選手情報入力!I28)","v":""},{"$f":"IF(②選手情報入力!J28=\"\",\"\",②選手情報入力!J28)","v":""},null,null,null,null,{"$f":"IF(②選手情報入力!O28=\"\",\"\",②選手情報入力!O28)","v":""},{"$f":"IF(②選手情報入力!P28=\"\",\"\",②選手情報入力!P28)","v":""}]
[20,{"$f":"IF(②選手情報入力!C29=\"\",\"\",②選手情報入力!B29&②選手情報入力!C29)","v":""},{"$f":"IF(②選手情報入力!D29=\"\",\"\",②選手情報入力!D29)","v":""},{"$f":"IF(②選手情報入力!G29=\"\",\"\",②選手情報入力!G29)","v":""},{"$f":"IF(②選手情報入力!H29=\"\",\"\",②選手情報入力!H29)","v":""},{"$f":"IF(②選手情報入力!I29=\"\",\"\",②選手情報入力!I29)","v":""},{"$f":"IF(②選手情報入力!J29=\"\",\"\",②選手情報入力!J29)","v":""},null,null,null,null,{"$f":"IF(②選手情報入力!O29=\"\",\"\",②選手情報入力!O29)","v":""},{"$f":"IF(②選手情報入力!P29=\"\",\"\",②選手情報入力!P29)","v":""}]
[21,{"$f":"IF(②選手情報入力!C30=\"\",\"\",②選手情報入力!B30&②選手情報入力!C30)","v":""},{"$f":"IF(②選手情報入力!D30=\"\",\"\",②選手情報入力!D30)","v":""},{"$f":"IF(②選手情報入力!G30=\"\",\"\",②選手情報入力!G30)","v":""},{"$f":"IF(②選手情報入力!H30=\"\",\"\",②選手情報入力!H30)","v":""},{"$f":"IF(②選手情報入力!I30=\"\",\"\",②選手情報入力!I30)","v":""},{"$f":"IF(②選手情報入力!J30=\"\",\"\",②選手情報入力!J30)","v":""},null,null,null,null,{"$f":"IF(②選手情報入力!O30=\"\",\"\",②選手情報入力!O30)","v":""},{"$f":"IF(②選手情報入力!P30=\"\",\"\",②選手情報入力!P30)","v":""}]
[22,{"$f":"IF(②選手情報入力!C31=\"\",\"\",②選手情報入力!B31&②選手情報入力!C31)","v":""},{"$f":"IF(②選手情報入力!D31=\"\",\"\",②選手情報入力!D31)","v":""},{"$f":"IF(②選手情報入力!G31=\"\",\"\",②選手情報入力!G31)","v":""},{"$f":"IF(②選手情報入力!H31=\"\",\"\",②選手情報入力!H31)","v":""},{"$f":"IF(②選手情報入力!I31=\"\",\"\",②選手情報入力!I31)","v":""},{"$f":"IF(②選手情報入力!J31=\"\",\"\",②選手情報入力!J31)","v":""},null,null,null,null,{"$f":"IF(②選手情報入力!O31=\"\",\"\",②選手情報入力!O31)","v":""},{"$f":"IF(②選手情報入力!P31=\"\",\"\",②選手情報入力!P31)","v":""}]
[23,{"$f":"IF(②選手情報入力!C32=\"\",\"\",②選手情報入力!B32&②選手情報入力!C32)","v":""},{"$f":"IF(②選手情報入力!D32=\"\",\"\",②選手情報入力!D32)","v":""},{"$f":"IF(②選手情報入力!G32=\"\",\"\",②選手情報入力!G32)","v":""},{"$f":"IF(②選手情報入力!H32=\"\",\"\",②選手情報入力!H32)","v":""},{"$f":"IF(②選手情報入力!I32=\"\",\"\",②選手情報入力!I32)","v":""},{"$f":"IF(②選手情報入力!J32=\"\",\"\",②選手情報入力!J32)","v":""},null,null,null,null,{"$f":"IF(②選手情報入力!O32=\"\",\"\",②選手情報入力!O32)","v":""},{"$f":"IF(②選手情報入力!P32=\"\",\"\",②選手情報入力!P32)","v":""}]
[24,{"$f":"IF(②選手情報入力!C33=\"\",\"\",②選手情報入力!B33&②選手情報入力!C33)","v":""},{"$f":"IF(②選手情報入力!D33=\"\",\"\",②選手情報入力!D33)","v":""},{"$f":"IF(②選手情報入力!G33=\"\",\"\",②選手情報入力!G33)","v":""},{"$f":"IF(②選手情報入力!H33=\"\",\"\",②選手情報入力!H33)","v":""},{"$f":"IF(②選手情報入力!I33=\"\",\"\",②選手情報入力!I33)","v":""},{"$f":"IF(②選手情報入力!J33=\"\",\"\",②選手情報入力!J33)","v":""},null,null,null,null,{"$f":"IF(②選手情報入力!O33=\"\",\"\",②選手情報入力!O33)","v":""},{"$f":"IF(②選手情報入力!P33=\"\",\"\",②選手情報入力!P33)","v":""}]
[25,{"$f":"IF(②選手情報入力!C34=\"\",\"\",②選手情報入力!B34&②選手情報入力!C34)","v":""},{"$f":"IF(②選手情報入力!D34=\"\",\"\",②選手情報入力!D34)","v":""},{"$f":"IF(②選手情報入力!G34=\"\",\"\",②選手情報入力!G34)","v":""},{"$f":"IF(②選手情報入力!H34=\"\",\"\",②選手情報入力!H34)","v":""},{"$f":"IF(②選手情報入力!I34=\"\",\"\",②選手情報入力!I34)","v":""},{"$f":"IF(②選手情報入力!J34=\"\",\"\",②選手情報入力!J34)","v":""},null,null,null,null,{"$f":"IF(②選手情報入力!O34=\"\",\"\",②選手情報入力!O34)","v":""},{"$f":"IF(②選手情報入力!P34=\"\",\"\",②選手情報入力!P34)","v":""}]
[26,{"$f":"IF(②選手情報入力!C35=\"\",\"\",②選手情報入力!B35&②選手情報入力!C35)","v":""},{"$f":"IF(②選手情報入力!D35=\"\",\"\",②選手情報入力!D35)","v":""},{"$f":"IF(②選手情報入力!G35=\"\",\"\",②選手情報入力!G35)","v":""},{"$f":"IF(②選手情報入力!H35=\"\",\"\",②選手情報入力!H35)","v":""},{"$f":"IF(②選手情報入力!I35=\"\",\"\",②選手情報入力!I35)","v":""},{"$f":"IF(②選手情報入力!J35=\"\",\"\",②選手情報入力!J35)","v":""},null,null,null,null,{"$f":"IF(②選手情報入力!O35=\"\",\"\",②選手情報入力!O35)","v":""},{"$f":"IF(②選手情報入力!P35=\"\",\"\",②選手情報入力!P35)","v":""}]
[27,{"$f":"IF(②選手情報入力!C36=\"\",\"\",②選手情報入力!B36&②選手情報入力!C36)","v":""},{"$f":"IF(②選手情報入力!D36=\"\",\"\",②選手情報入力!D36)","v":""},{"$f":"IF(②選手情報入力!G36=\"\",\"\",②選手情報入力!G36)","v":""},{"$f":"IF(②選手情報入力!H36=\"\",\"\",②選手情報入力!H36)","v":""},{"$f":"IF(②選手情報入力!I36=\"\",\"\",②選手情報入力!I36)","v":""},{"$f":"IF(②選手情報入力!J36=\"\",\"\",②選手情報入力!J36)","v":""},null,null,null,null,{"$f":"IF(②選手情報入力!O36=\"\",\"\",②選手情報入力!O36)","v":""},{"$f":"IF(②選手情報入力!P36=\"\",\"\",②選手情報入力!P36)","v":""}]
[28,{"$f":"IF(②選手情報入力!C37=\"\",\"\",②選手情報入力!B37&②選手情報入力!C37)","v":""},{"$f":"IF(②選手情報入力!D37=\"\",\"\",②選手情報入力!D37)","v":""},{"$f":"IF(②選手情報入力!G37=\"\",\"\",②選手情報入力!G37)","v":""},{"$f":"IF(②選手情報入力!H37=\"\",\"\",②選手情報入力!H37)","v":""},{"$f":"IF(②選手情報入力!I37=\"\",\"\",②選手情報入力!I37)","v":""},{"$f":"IF(②選手情報入力!J37=\"\",\"\",②選手情報入力!J37)","v":""},null,null,null,null,{"$f":"IF(②選手情報入力!O37=\"\",\"\",②選手情報入力!O37)","v":""},{"$f":"IF(②選手情報入力!P37=\"\",\"\",②選手情報入力!P37)","v":""}]
[29,{"$f":"IF(②選手情報入力!C38=\"\",\"\",②選手情報入力!B38&②選手情報入力!C38)","v":""},{"$f":"IF(②選手情報入力!D38=\"\",\"\",②選手情報入力!D38)","v":""},{"$f":"IF(②選手情報入力!G38=\"\",\"\",②選手情報入力!G38)","v":""},{"$f":"IF(②選手情報入力!H38=\"\",\"\",②選手情報入力!H38)","v":""},{"$f":"IF(②選手情報入力!I38=\"\",\"\",②選手情報入力!I38)","v":""},{"$f":"IF(②選手情報入力!J38=\"\",\"\",②選手情報入力!J38)","v":""},null,null,null,null,{"$f":"IF(②選手情報入力!O38=\"\",\"\",②選手情報入力!O38)","v":""},{"$f":"IF(②選手情報入力!P38=\"\",\"\",②選手情報入力!P38)","v":""}]
[30,{"$f":"IF(②選手情報入力!C39=\"\",\"\",②選手情報入力!B39&②選手情報入力!C39)","v":""},{"$f":"IF(②選手情報入力!D39=\"\",\"\",②選手情報入力!D39)","v":""},{"$f":"IF(②選手情報入力!G39=\"\",\"\",②選手情報入力!G39)","v":""},{"$f":"IF(②選手情報入力!H39=\"\",\"\",②選手情報入力!H39)","v":""},{"$f":"IF(②選手情報入力!I39=\"\",\"\",②選手情報入力!I39)","v":""},{"$f":"IF(②選手情報入力!J39=\"\",\"\",②選手情報入力!J39)","v":""},null,null,null,null,{"$f":"IF(②選手情報入力!O39=\"\",\"\",②選手情報入力!O39)","v":""},{"$f":"IF(②選手情報入力!P39=\"\",\"\",②選手情報入力!P39)","v":""}]
[31,{"$f":"IF(②選手情報入力!C40=\"\",\"\",②選手情報入力!B40&②選手情報入力!C40)","v":""},{"$f":"IF(②選手情報入力!D40=\"\",\"\",②選手情報入力!D40)","v":""},{"$f":"IF(②選手情報入力!G40=\"\",\"\",②選手情報入力!G40)","v":""},{"$f":"IF(②選手情報入力!H40=\"\",\"\",②選手情報入力!H40)","v":""},{"$f":"IF(②選手情報入力!I40=\"\",\"\",②選手情報入力!I40)","v":""},{"$f":"IF(②選手情報入力!J40=\"\",\"\",②選手情報入力!J40)","v":""},null,null,null,null,{"$f":"IF(②選手情報入力!O40=\"\",\"\",②選手情報入力!O40)","v":""},{"$f":"IF(②選手情報入力!P40=\"\",\"\",②選手情報入力!P40)","v":""}]
[32,{"$f":"IF(②選手情報入力!C41=\"\",\"\",②選手情報入力!B41&②選手情報入力!C41)","v":""},{"$f":"IF(②選手情報入力!D41=\"\",\"\",②選手情報入力!D41)","v":""},{"$f":"IF(②選手情報入力!G41=\"\",\"\",②選手情報入力!G41)","v":""},{"$f":"IF(②選手情報入力!H41=\"\",\"\",②選手情報入力!H41)","v":""},{"$f":"IF(②選手情報入力!I41=\"\",\"\",②選手情報入力!I41)","v":""},{"$f":"IF(②選手情報入力!J41=\"\",\"\",②選手情報入力!J41)","v":""},null,null,null,null,{"$f":"IF(②選手情報入力!O41=\"\",\"\",②選手情報入力!O41)","v":""},{"$f":"IF(②選手情報入力!P41=\"\",\"\",②選手情報入力!P41)","v":""}]
[33,{"$f":"IF(②選手情報入力!C42=\"\",\"\",②選手情報入力!B42&②選手情報入力!C42)","v":""},{"$f":"IF(②選手情報入力!D42=\"\",\"\",②選手情報入力!D42)","v":""},{"$f":"IF(②選手情報入力!G42=\"\",\"\",②選手情報入力!G42)","v":""},{"$f":"IF(②選手情報入力!H42=\"\",\"\",②選手情報入力!H42)","v":""},{"$f":"IF(②選手情報入力!I42=\"\",\"\",②選手情報入力!I42)","v":""},{"$f":"IF(②選手情報入力!J42=\"\",\"\",②選手情報入力!J42)","v":""},null,null,null,null,{"$f":"IF(②選手情報入力!O42=\"\",\"\",②選手情報入力!O42)","v":""},{"$f":"IF(②選手情報入力!P42=\"\",\"\",②選手情報入力!P42)","v":""}]
[34,{"$f":"IF(②選手情報入力!C43=\"\",\"\",②選手情報入力!B43&②選手情報入力!C43)","v":""},{"$f":"IF(②選手情報入力!D43=\"\",\"\",②選手情報入力!D43)","v":""},{"$f":"IF(②選手情報入力!G43=\"\",\"\",②選手情報入力!G43)","v":""},{"$f":"IF(②選手情報入力!H43=\"\",\"\",②選手情報入力!H43)","v":""},{"$f":"IF(②選手情報入力!I43=\"\",\"\",②選手情報入力!I43)","v":""},{"$f":"IF(②選手情報入力!J43=\"\",\"\",②選手情報入力!J43)","v":""},null,null,null,null,{"$f":"IF(②選手情報入力!O43=\"\",\"\",②選手情報入力!O43)","v":""},{"$f":"IF(②選手情報入力!P43=\"\",\"\",②選手情報入力!P43)","v":""}]
[35,{"$f":"IF(②選手情報入力!C44=\"\",\"\",②選手情報入力!B44&②選手情報入力!C44)","v":""},{"$f":"IF(②選手情報入力!D44=\"\",\"\",②選手情報入力!D44)","v":""},{"$f":"IF(②選手情報入力!G44=\"\",\"\",②選手情報入力!G44)","v":""},{"$f":"IF(②選手情報入力!H44=\"\",\"\",②選手情報入力!H44)","v":""},{"$f":"IF(②選手情報入力!I44=\"\",\"\",②選手情報入力!I44)","v":""},{"$f":"IF(②選手情報入力!J44=\"\",\"\",②選手情報入力!J44)","v":""},null,null,null,null,{"$f":"IF(②選手情報入力!O44=\"\",\"\",②選手情報入力!O44)","v":""},{"$f":"IF(②選手情報入力!P44=\"\",\"\",②選手情報入力!P44)","v":""}]
[36,{"$f":"IF(②選手情報入力!C45=\"\",\"\",②選手情報入力!B45&②選手情報入力!C45)","v":""},{"$f":"IF(②選手情報入力!D45=\"\",\"\",②選手情報入力!D45)","v":""},{"$f":"IF(②選手情報入力!G45=\"\",\"\",②選手情報入力!G45)","v":""},{"$f":"IF(②選手情報入力!H45=\"\",\"\",②選手情報入力!H45)","v":""},{"$f":"IF(②選手情報入力!I45=\"\",\"\",②選手情報入力!I45)","v":""},{"$f":"IF(②選手情報入力!J45=\"\",\"\",②選手情報入力!J45)","v":""},null,null,null,null,{"$f":"IF(②選手情報入力!O45=\"\",\"\",②選手情報入力!O45)","v":""},{"$f":"IF(②選手情報入力!P45=\"\",\"\",②選手情報入力!P45)","v":""}]
[37,{"$f":"IF(②選手情報入力!C46=\"\",\"\",②選手情報入力!B46&②選手情報入力!C46)","v":""},{"$f":"IF(②選手情報入力!D46=\"\",\"\",②選手情報入力!D46)","v":""},{"$f":"IF(②選手情報入力!G46=\"\",\"\",②選手情報入力!G46)","v":""},{"$f":"IF(②選手情報入力!H46=\"\",\"\",②選手情報入力!H46)","v":""},{"$f":"IF(②選手情報入力!I46=\"\",\"\",②選手情報入力!I46)","v":""},{"$f":"IF(②選手情報入力!J46=\"\",\"\",②選手情報入力!J46)","v":""},null,null,null,null,{"$f":"IF(②選手情報入力!O46=\"\",\"\",②選手情報入力!O46)","v":""},{"$f":"IF(②選手情報入力!P46=\"\",\"\",②選手情報入力!P46)","v":""}]
[38,{"$f":"IF(②選手情報入力!C47=\"\",\"\",②選手情報入力!B47&②選手情報入力!C47)","v":""},{"$f":"IF(②選手情報入力!D47=\"\",\"\",②選手情報入力!D47)","v":""},{"$f":"IF(②選手情報入力!G47=\"\",\"\",②選手情報入力!G47)","v":""},{"$f":"IF(②選手情報入力!H47=\"\",\"\",②選手情報入力!H47)","v":""},{"$f":"IF(②選手情報入力!I47=\"\",\"\",②選手情報入力!I47)","v":""},{"$f":"IF(②選手情報入力!J47=\"\",\"\",②選手情報入力!J47)","v":""},null,null,null,null,{"$f":"IF(②選手情報入力!O47=\"\",\"\",②選手情報入力!O47)","v":""},{"$f":"IF(②選手情報入力!P47=\"\",\"\",②選手情報入力!P47)","v":""}]
[39,{"$f":"IF(②選手情報入力!C48=\"\",\"\",②選手情報入力!B48&②選手情報入力!C48)","v":""},{"$f":"IF(②選手情報入力!D48=\"\",\"\",②選手情報入力!D48)","v":""},{"$f":"IF(②選手情報入力!G48=\"\",\"\",②選手情報入力!G48)","v":""},{"$f":"IF(②選手情報入力!H48=\"\",\"\",②選手情報入力!H48)","v":""},{"$f":"IF(②選手情報入力!I48=\"\",\"\",②選手情報入力!I48)","v":""},{"$f":"IF(②選手情報入力!J48=\"\",\"\",②選手情報入力!J48)","v":""},null,null,null,null,{"$f":"IF(②選手情報入力!O48=\"\",\"\",②選手情報入力!O48)","v":""},{"$f":"IF(②選手情報入力!P48=\"\",\"\",②選手情報入力!P48)","v":""}]
[40,{"$f":"IF(②選手情報入力!C49=\"\",\"\",②選手情報入力!B49&②選手情報入力!C49)","v":""},{"$f":"IF(②選手情報入力!D49=\"\",\"\",②選手情報入力!D49)","v":""},{"$f":"IF(②選手情報入力!G49=\"\",\"\",②選手情報入力!G49)","v":""},{"$f":"IF(②選手情報入力!H49=\"\",\"\",②選手情報入力!H49)","v":""},{"$f":"IF(②選手情報入力!I49=\"\",\"\",②選手情報入力!I49)","v":""},{"$f":"IF(②選手情報入力!J49=\"\",\"\",②選手情報入力!J49)","v":""},null,null,null,null,{"$f":"IF(②選手情報入力!O49=\"\",\"\",②選手情報入力!O49)","v":""},{"$f":"IF(②選手情報入力!P49=\"\",\"\",②選手情報入力!P49)","v":""}]
[41,{"$f":"IF(②選手情報入力!C50=\"\",\"\",②選手情報入力!B50&②選手情報入力!C50)","v":""},{"$f":"IF(②選手情報入力!D50=\"\",\"\",②選手情報入力!D50)","v":""},{"$f":"IF(②選手情報入力!G50=\"\",\"\",②選手情報入力!G50)","v":""},{"$f":"IF(②選手情報入力!H50=\"\",\"\",②選手情報入力!H50)","v":""},{"$f":"IF(②選手情報入力!I50=\"\",\"\",②選手情報入力!I50)","v":""},{"$f":"IF(②選手情報入力!J50=\"\",\"\",②選手情報入力!J50)","v":""},null,null,null,null,{"$f":"IF(②選手情報入力!O50=\"\",\"\",②選手情報入力!O50)","v":""},{"$f":"IF(②選手情報入力!P50=\"\",\"\",②選手情報入力!P50)","v":""}]
[42,{"$f":"IF(②選手情報入力!C51=\"\",\"\",②選手情報入力!B51&②選手情報入力!C51)","v":""},{"$f":"IF(②選手情報入力!D51=\"\",\"\",②選手情報入力!D51)","v":""},{"$f":"IF(②選手情報入力!G51=\"\",\"\",②選手情報入力!G51)","v":""},{"$f":"IF(②選手情報入力!H51=\"\",\"\",②選手情報入力!H51)","v":""},{"$f":"IF(②選手情報入力!I51=\"\",\"\",②選手情報入力!I51)","v":""},{"$f":"IF(②選手情報入力!J51=\"\",\"\",②選手情報入力!J51)","v":""},null,null,null,null,{"$f":"IF(②選手情報入力!O51=\"\",\"\",②選手情報入力!O51)","v":""},{"$f":"IF(②選手情報入力!P51=\"\",\"\",②選手情報入力!P51)","v":""}]
[43,{"$f":"IF(②選手情報入力!C52=\"\",\"\",②選手情報入力!B52&②選手情報入力!C52)","v":""},{"$f":"IF(②選手情報入力!D52=\"\",\"\",②選手情報入力!D52)","v":""},{"$f":"IF(②選手情報入力!G52=\"\",\"\",②選手情報入力!G52)","v":""},{"$f":"IF(②選手情報入力!H52=\"\",\"\",②選手情報入力!H52)","v":""},{"$f":"IF(②選手情報入力!I52=\"\",\"\",②選手情報入力!I52)","v":""},{"$f":"IF(②選手情報入力!J52=\"\",\"\",②選手情報入力!J52)","v":""},null,null,null,null,{"$f":"IF(②選手情報入力!O52=\"\",\"\",②選手情報入力!O52)","v":""},{"$f":"IF(②選手情報入力!P52=\"\",\"\",②選手情報入力!P52)","v":""}]
[44,{"$f":"IF(②選手情報入力!C53=\"\",\"\",②選手情報入力!B53&②選手情報入力!C53)","v":""},{"$f":"IF(②選手情報入力!D53=\"\",\"\",②選手情報入力!D53)","v":""},{"$f":"IF(②選手情報入力!G53=\"\",\"\",②選手情報入力!G53)","v":""},{"$f":"IF(②選手情報入力!H53=\"\",\"\",②選手情報入力!H53)","v":""},{"$f":"IF(②選手情報入力!I53=\"\",\"\",②選手情報入力!I53)","v":""},{"$f":"IF(②選手情報入力!J53=\"\",\"\",②選手情報入力!J53)","v":""},null,null,null,null,{"$f":"IF(②選手情報入力!O53=\"\",\"\",②選手情報入力!O53)","v":""},{"$f":"IF(②選手情報入力!P53=\"\",\"\",②選手情報入力!P53)","v":""}]
[45,{"$f":"IF(②選手情報入力!C54=\"\",\"\",②選手情報入力!B54&②選手情報入力!C54)","v":""},{"$f":"IF(②選手情報入力!D54=\"\",\"\",②選手情報入力!D54)","v":""},{"$f":"IF(②選手情報入力!G54=\"\",\"\",②選手情報入力!G54)","v":""},{"$f":"IF(②選手情報入力!H54=\"\",\"\",②選手情報入力!H54)","v":""},{"$f":"IF(②選手情報入力!I54=\"\",\"\",②選手情報入力!I54)","v":""},{"$f":"IF(②選手情報入力!J54=\"\",\"\",②選手情報入力!J54)","v":""},null,null,null,null,{"$f":"IF(②選手情報入力!O54=\"\",\"\",②選手情報入力!O54)","v":""},{"$f":"IF(②選手情報入力!P54=\"\",\"\",②選手情報入力!P54)","v":""}]
[46,{"$f":"IF(②選手情報入力!C55=\"\",\"\",②選手情報入力!B55&②選手情報入力!C55)","v":""},{"$f":"IF(②選手情報入力!D55=\"\",\"\",②選手情報入力!D55)","v":""},{"$f":"IF(②選手情報入力!G55=\"\",\"\",②選手情報入力!G55)","v":""},{"$f":"IF(②選手情報入力!H55=\"\",\"\",②選手情報入力!H55)","v":""},{"$f":"IF(②選手情報入力!I55=\"\",\"\",②選手情報入力!I55)","v":""},{"$f":"IF(②選手情報入力!J55=\"\",\"\",②選手情報入力!J55)","v":""},null,null,null,null,{"$f":"IF(②選手情報入力!O55=\"\",\"\",②選手情報入力!O55)","v":""},{"$f":"IF(②選手情報入力!P55=\"\",\"\",②選手情報入力!P55)","v":""}]
[47,{"$f":"IF(②選手情報入力!C56=\"\",\"\",②選手情報入力!B56&②選手情報入力!C56)","v":""},{"$f":"IF(②選手情報入力!D56=\"\",\"\",②選手情報入力!D56)","v":""},{"$f":"IF(②選手情報入力!G56=\"\",\"\",②選手情報入力!G56)","v":""},{"$f":"IF(②選手情報入力!H56=\"\",\"\",②選手情報入力!H56)","v":""},{"$f":"IF(②選手情報入力!I56=\"\",\"\",②選手情報入力!I56)","v":""},{"$f":"IF(②選手情報入力!J56=\"\",\"\",②選手情報入力!J56)","v":""},null,null,null,null,{"$f":"IF(②選手情報入力!O56=\"\",\"\",②選手情報入力!O56)","v":""},{"$f":"IF(②選手情報入力!P56=\"\",\"\",②選手情報入力!P56)","v":""}]
[48,{"$f":"IF(②選手情報入力!C57=\"\",\"\",②選手情報入力!B57&②選手情報入力!C57)","v":""},{"$f":"IF(②選手情報入力!D57=\"\",\"\",②選手情報入力!D57)","v":""},{"$f":"IF(②選手情報入力!G57=\"\",\"\",②選手情報入力!G57)","v":""},{"$f":"IF(②選手情報入力!H57=\"\",\"\",②選手情報入力!H57)","v":""},{"$f":"IF(②選手情報入力!I57=\"\",\"\",②選手情報入力!I57)","v":""},{"$f":"IF(②選手情報入力!J57=\"\",\"\",②選手情報入力!J57)","v":""},null,null,null,null,{"$f":"IF(②選手情報入力!O57=\"\",\"\",②選手情報入力!O57)","v":""},{"$f":"IF(②選手情報入力!P57=\"\",\"\",②選手情報入力!P57)","v":""}]

{"sheet":"⑥個票","index":6,"n_rows":288,"n_cols":19,"rows_kept":288,"cut":false,"hidden":false,"merged":[[253,2,253,6],[253,12,253,16],[254,2,254,8],[254,12,254,18],[255,3,255,5],[255,13,255,15],[244,6,244,8],[244,13,244,15],[244,16,244,18],[246,2,247,3],[246,4,247,4],[246,5,247,5],[246,6,246,7],[246,8,247,8],[246,12,247,13],[246,14,247,14],[246,15,247,15],[246,16,246,17],[246,18,247,18],[247,16,247,17],[247,6,247,7],[244,3,244,5],[255,6,255,8],[255,16,255,18],[222,12,223,13],[223,16,223,17],[220,3,220,5],[241,2,241,6],[241,12,241,16],[242,2,242,8],[242,12,242,18],[234,14,235,14],[234,15,235,15],[234,16,234,17],[234,18,235,18],[235,6,235,7],[235,16,235,17],[234,2,235,3],[234,4,235,4],[234,5,235,5],[234,6,234,7],[234,8,235,8],[234,12,235,13],[230,12,230,18],[220,6,220,8],[220,13,220,15],[220,16,220,18],[222,2,223,3],[208,3,208,5],[208,6,208,8],[208,13,208,15],[208,16,208,18],[210,2,211,3],[210,4,211,4],[210,5,211,5],[210,6,210,7],[210,8,211,8],[210,12,211,13],[217,2,217,6],[217,12,217,16],[218,2,218,8],[218,12,218,18],[210,14,211,14],[210,15,211,15],[210,16,210,17],[210,18,211,18],[211,6,211,7],[211,16,211,17],[196,3,196,5],[196,6,196,8],[196,13,196,15],[196,16,196,18],[198,2,199,3],[198,4,199,4],[198,5,199,5],[198,6,198,7],[198,8,199,8],[198,12,199,13],[205,2,205,6],[205,12,205,16],[206,2,206,8],[206,12,206,18],[207,3,207,5],[207,13,207,15],[198,16,198,17],[198,18,199,18],[199,6,199,7],[199,16,199,17],[207,6,207,8],[207,16,207,18],[193,2,193,6],[193,12,193,16],[194,2,194,8],[194,12,194,18],[195,3,195,5],[195,13,195,15],[186,16,186,17],[186,18,187,18],[187,6,187,7],[187,16,187,17],[186,5,187,5],[186,6,186,7],[186,8,187,8],[186,12,187,13],[186,14,187,14],[186,15,187,15],[186,2,187,3],[186,4,187,4],[195,6,195,8],[195,16,195,18],[172,3,172,5],[172,6,172,8],[172,13,172,15],[172,16,172,18],[174,2,175,3],[174,4,175,4],[174,5,175,5],[174,8,175,8],[174,12,175,13],[174,14,175,14],[174,16,174,17],[174,18,175,18],[174,6,174,7],[183,3,183,5],[183,13,183,15],[184,3,184,5],[184,6,184,8],[184,13,184,15],[184,16,184,18],[175,16,175,17],[181,2,181,6],[181,12,181,16],[182,2,182,8],[182,12,182,18],[174,15,175,15],[175,6,175,7],[183,6,183,8],[183,16,183,18],[160,3,160,5],[160,6,160,8],[160,13,160,15],[160,16,160,18],[162,2,163,3],[162,4,163,4],[162,5,163,5],[162,6,162,7],[162,8,163,8],[162,12,163,13],[169,2,169,6],[169,12,169,16],[170,2,170,8],[170,12,170,18],[162,14,163,14],[162,15,163,15],[162,16,162,17],[162,18,163,18],[163,6,163,7],[163,16,163,17],[148,3,148,5],[148,6,148,8],[148,13,148,15],[148,16,148,18],[150,2,151,3],[150,4,151,4],[150,5,151,5],[150,6,150,7],[150,8,151,8],[150,12,151,13],[157,2,157,6],[157,12,157,16],[158,2,158,8],[158,12,158,18],[150,14,151,14],[150,15,151,15],[150,16,150,17],[150,18,151,18],[151,6,151,7],[151,16,151,17],[136,3,136,5],[136,6,136,8],[136,13,136,15],[136,16,136,18],[138,2,139,3],[138,4,139,4],[138,5,139,5],[138,6,138,7],[138,8,139,8],[138,12,139,13],[145,2,145,6],[145,12,145,16],[146,2,146,8],[146,12,146,18],[147,3,147,5],[147,13,147,15],[138,16,138,17],[138,18,139,18],[139,6,139,7],[139,16,139,17],[147,16,147,18],[147,6,147,8],[138,15,139,15],[133,2,133,6],[133,12,133,16],[134,2,134,8],[134,12,134,18],[135,3,135,5],[135,13,135,15],[126,16,126,17],[126,18,127,18],[127,6,127,7],[127,16,127,17],[126,5,127,5],[126,6,126,7],[126,8,127,8],[126,12,127,13],[126,14,127,14],[126,15,127,15],[135,16,135,18],[126,2,127,3],[126,4,127,4],[114,2,115,3],[114,4,115,4],[114,5,115,5],[114,8,115,8],[114,12,115,13],[114,14,115,14],[114,16,114,17],[114,18,115,18],[123,3,123,5],[123,13,123,15],[114,6,114,7],[114,15,115,15],[115,6,115,7],[123,6,123,8],[87,13,87,15],[76,13,76,15],[76,16,76,18],[78,12,79,13],[102,16,102,17],[102,18,103,18],[103,6,103,7],[103,16,103,17],[102,2,103,3],[102,4,103,4],[102,5,103,5],[102,6,102,7],[102,8,103,8],[102,12,103,13],[90,15,91,15],[90,16,90,17],[90,18,91,18],[85,2,85,6],[85,12,85,16],[86,2,86,8],[66,16,66,17],[78,16,78,17],[78,18,79,18],[79,16,79,17],[78,15,79,15],[79,6,79,7],[78,2,79,3],[78,4,79,4],[78,5,79,5],[78,6,78,7],[78,8,79,8],[66,18,67,18],[67,6,67,7],[67,16,67,17],[73,2,73,6],[73,12,73,16],[66,8,67,8],[66,12,67,13],[66,14,67,14],[66,15,67,15],[42,6,42,7],[42,8,43,8],[42,12,43,13],[54,18,55,18],[55,16,55,17],[54,4,55,4],[54,5,55,5],[54,6,54,7],[54,8,55,8],[54,12,55,13],[54,14,55,14],[54,15,55,15],[51,6,51,8],[51,16,51,18],[42,16,42,17],[42,18,43,18],[43,6,43,7],[43,16,43,17],[51,3,51,5],[51,13,51,15],[49,2,49,6],[49,12,49,16],[50,2,50,8],[50,12,50,18],[39,3,39,5],[39,13,39,15],[27,3,27,5],[27,6,27,8],[27,13,27,15],[27,16,27,18],[30,14,31,14],[30,15,31,15],[30,16,30,17],[30,18,31,18],[31,6,31,7],[31,16,31,17],[30,2,31,3],[30,4,31,4],[30,5,31,5],[30,6,30,7],[39,6,39,8],[39,16,39,18],[38,2,38,8],[37,2,37,6],[37,12,37,16],[38,12,38,18],[18,4,19,4],[18,5,19,5],[18,6,18,7],[18,8,19,8],[18,12,19,13],[15,6,15,8],[15,16,15,18],[28,13,28,15],[28,16,28,18],[25,2,25,6],[25,12,25,16],[26,2,26,8],[26,12,26,18],[16,13,16,15],[16,16,16,18],[28,3,28,5],[28,6,28,8],[42,2,43,3],[42,4,43,4],[42,5,43,5],[6,14,7,14],[6,15,7,15],[6,16,6,17],[6,18,7,18],[7,6,7,7],[7,16,7,17],[6,2,7,3],[6,4,7,4],[30,8,31,8],[30,12,31,13],[18,14,19,14],[18,15,19,15],[18,16,18,17],[18,18,19,18],[19,6,19,7],[19,16,19,17],[18,2,19,3],[15,3,15,5],[15,13,15,15],[16,3,16,5],[16,6,16,8],[62,2,62,8],[62,12,62,18],[52,6,52,8],[52,13,52,15],[52,16,52,18],[54,2,55,3],[54,16,54,17],[61,2,61,6],[61,12,61,16],[55,6,55,7],[52,3,52,5],[1,2,1,6],[1,12,1,16],[13,2,13,6],[13,12,13,16],[14,2,14,8],[14,12,14,18],[2,2,2,8],[2,12,2,18],[3,3,3,5],[3,13,3,15],[4,3,4,5],[4,6,4,8],[4,13,4,15],[4,16,4,18],[3,6,3,8],[3,16,3,18],[6,5,7,5],[6,6,6,7],[6,8,7,8],[6,12,7,13],[124,6,124,8],[124,13,124,15],[88,13,88,15],[86,12,86,18],[171,13,171,15],[159,13,159,15],[159,6,159,8],[135,6,135,8],[88,3,88,5],[100,16,100,18],[99,3,99,5],[100,3,100,5],[112,3,112,5],[112,6,112,8],[112,13,112,15],[112,16,112,18],[124,16,124,18],[115,16,115,17],[121,2,121,6],[121,12,121,16],[122,2,122,8],[122,12,122,18],[123,16,123,18],[87,3,87,5],[63,3,63,5],[63,13,63,15],[64,3,64,5],[64,6,64,8],[64,13,64,15],[78,14,79,14],[102,14,103,14],[102,15,103,15],[74,2,74,8],[75,3,75,5],[76,3,76,5],[76,6,76,8],[74,12,74,18],[75,13,75,15],[66,2,67,3],[66,4,67,4],[66,5,67,5],[66,6,66,7],[64,16,64,18],[88,16,88,18],[98,2,98,8],[88,6,88,8],[63,6,63,8],[63,16,63,18],[159,16,159,18],[171,6,171,8],[171,16,171,18],[91,6,91,7],[91,16,91,17],[90,2,91,3],[90,4,91,4],[90,5,91,5],[90,6,90,7],[90,8,91,8],[90,12,91,13],[109,2,109,6],[109,12,109,16],[110,2,110,8],[110,12,110,18],[159,3,159,5],[138,14,139,14],[111,13,111,15],[99,13,99,15],[100,6,100,8],[100,13,100,15],[171,3,171,5],[111,3,111,5],[124,3,124,5],[40,3,40,5],[40,6,40,8],[40,13,40,15],[40,16,40,18],[42,14,43,14],[42,15,43,15],[280,3,280,5],[280,6,280,8],[280,13,280,15],[280,16,280,18],[75,6,75,8],[75,16,75,18],[87,6,87,8],[87,16,87,18],[99,6,99,8],[99,16,99,18],[111,6,111,8],[111,16,111,18],[198,14,199,14],[198,15,199,15],[98,12,98,18],[97,2,97,6],[97,12,97,16],[90,14,91,14],[277,2,277,6],[277,12,277,16],[278,2,278,8],[278,12,278,18],[258,16,258,17],[258,18,259,18],[259,6,259,7],[259,16,259,17],[256,3,256,5],[256,6,256,8],[270,8,271,8],[270,12,271,13],[256,13,256,15],[256,16,256,18],[258,2,259,3],[258,4,259,4],[258,5,259,5],[258,6,258,7],[258,8,259,8],[258,12,259,13],[258,14,259,14],[258,15,259,15],[267,6,267,8],[267,16,267,18],[243,3,243,5],[243,13,243,15],[219,13,219,15],[219,3,219,5],[222,14,223,14],[222,15,223,15],[222,16,222,17],[222,18,223,18],[223,6,223,7],[219,16,219,18],[231,6,231,8],[231,16,231,18],[243,6,243,8],[243,16,243,18],[231,3,231,5],[231,13,231,15],[232,3,232,5],[232,6,232,8],[232,13,232,15],[232,16,232,18],[229,2,229,6],[229,12,229,16],[219,6,219,8],[230,2,230,8],[267,3,267,5],[267,13,267,15],[270,14,271,14],[270,15,271,15],[270,16,270,17],[270,18,271,18],[271,6,271,7],[271,16,271,17],[268,3,268,5],[268,6,268,8],[268,13,268,15],[268,16,268,18],[270,2,271,3],[270,4,271,4],[270,5,271,5],[270,6,270,7],[222,4,223,4],[222,5,223,5],[222,6,222,7],[222,8,223,8],[282,18,283,18],[283,6,283,7],[283,16,283,17],[282,2,283,3],[282,4,283,4],[282,5,283,5],[282,6,282,7],[282,8,283,8],[282,12,283,13],[282,14,283,14],[282,15,283,15],[282,16,282,17],[279,3,279,5],[279,6,279,8],[279,13,279,15],[279,16,279,18],[265,2,265,6],[265,12,265,16],[266,2,266,8],[266,12,266,18]]}
[]
[null,"１","2017レディース陸上個人申込票",null,null,null,null,null,"資格審査用",null,null,"２","2017レディース陸上個人申込票",null,null,null,null,null,"資格審査用"]
[null,"種別種目",{"$f":"IF(②選手情報入力!I10=\"\",\"\",②選手情報入力!I10)","v":""},null,null,null,null,null,null,null,null,"種別種目",{"$f":"IF(②選手情報入力!$I$11=\"\",\"\",②選手情報入力!$I$11)","v":""}]
[null,"ナンバー","ﾌ ﾘ ｶﾞﾅ",{"$f":"IF(②選手情報入力!$E$10=\"\",\"\",②選手情報入力!$E$10)","v":""},null,null,"団体名",null,null,null,null,"ナンバー","ﾌ ﾘ ｶﾞﾅ",{"$f":"IF(②選手情報入力!$E$11=\"\",\"\",②選手情報入力!$E$11)","v":""},null,null,"団体名"]
[null,{"$f":"IF(②選手情報入力!$C$10=\"\",\"\",②選手情報入力!$C$10)","v":""},"氏  名",{"$f":"IF(②選手情報入力!$D$10=\"\",\"\",②選手情報入力!$D$10)","v":""},null,null,{"$f":"IF(①団体情報入力!$D$5=\"\",\"\",①団体情報入力!$D$5)","v":""},null,null,null,null,{"$f":"IF(②選手情報入力!$C$11=\"\",\"\",②選手情報入力!$C$11)","v":""},"氏  名",{"$f":"IF(②選手情報入力!$D$11=\"\",\"\",②選手情報入力!$D$11)","v":""},null,null,{"$f":"IF(①団体情報入力!$D$5=\"\",\"\",①団体情報入力!$D$5)","v":""}]
[null,null,"大　会　名",null,"年月日(yy/mm/dd)","順位","記　録",null,"場  所",null,null,null,"大　会　名",null,"年月日(yy/mm/dd)","順位","記　録",null,"場  所"]
[null,"出場資格",null,null,null,null," ＋ ･ －(   .  )",null,null,null,null,"出場資格",null,null,null,null," ＋ ･ －(   .  )"]
[null,"取得大会",null,null,null,null,{"$f":"IF(②選手情報入力!J10=\"\",\"\",②選手情報入力!J10)","v":""},null,null,null,null,"取得大会",null,null,null,null,{"$f":"IF(②選手情報入力!$J$11=\"\",\"\",②選手情報入力!$J$11)","v":""}]
[null,"※標準記録突破大会は、公認大会で、記録会は正式名称を記入。",null,null,null,null,null,null,null,null,null,"※標準記録突破大会は、公認大会で、記録会は正式名称を記入。"]
[null,"※記載等不備・不正で、審査の結果返却した場合、再受付はしない。",null,null,null,null,null,null,null,null,null,"※記載等不備・不正で、審査の結果返却した場合、再受付はしない。"]
[null,"※風の記入が必要な種目は、必ず記入。（無記入は無効）",null,null,null,null,null,null,null,null,null,"※風の記入が必要な種目は、必ず記入。（無記入は無効）"]
[null,"※2017年度登録ナンバーで申し込むこと。",null,null,null,null,null,null,null,null,null,"※2017年度登録ナンバーで申し込むこと。"]
[]
[null,"3","2017レディース陸上個人申込票",null,null,null,null,null,"資格審査用",null,null,"4","2017レディース陸上個人申込票",null,null,null,null,null,"資格審査用"]
[null,"種別種目",{"$f":"IF(②選手情報入力!$I$12=\"\",\"\",②選手情報入力!$I$12)","v":""},null,null,null,null,null,null,null,null,"種別種目",{"$f":"IF(②選手情報入力!$I$13=\"\",\"\",②選手情報入力!$I$13)","v":""}]
[null,"ナンバー","ﾌ ﾘ ｶﾞﾅ",{"$f":"IF(②選手情報入力!$E$12=\"\",\"\",②選手情報入力!$E$12)","v":""},null,null,"団体名",null,null,null,null,"ナンバー","ﾌ ﾘ ｶﾞﾅ",{"$f":"IF(②選手情報入力!$E$13=\"\",\"\",②選手情報入力!$E$13)","v":""},null,null,"団体名"]
[null,{"$f":"IF(②選手情報入力!$C$12=\"\",\"\",②選手情報入力!$C$12)","v":""},"氏  名",{"$f":"IF(②選手情報入力!$D$12=\"\",\"\",②選手情報入力!$D$12)","v":""},null,null,{"$f":"IF(①団体情報入力!$D$5=\"\",\"\",①団体情報入力!$D$5)","v":""},null,null,null,null,{"$f":"IF(②選手情報入力!$C$13=\"\",\"\",②選手情報入力!$C$13)","v":""},"氏  名",{"$f":"IF(②選手情報入力!$D$13=\"\",\"\",②選手情報入力!$D$13)","v":""},null,null,{"$f":"IF(①団体情報入力!$D$5=\"\",\"\",①団体情報入力!$D$5)","v":""}]
[null,null,"大　会　名",null,"年月日(yy/mm/dd)","順位","記　録",null,"場  所",null,null,null,"大　会　名",null,"年月日(yy/mm/dd)","順位","記　録",null,"場  所"]
[null,"出場資格",null,null,null,null," ＋ ･ －(   .  )",null,null,null,null,"出場資格",null,null,null,null," ＋ ･ －(   .  )"]
[null,"取得大会",null,null,null,null,{"$f":"IF(②選手情報入力!$J$12=\"\",\"\",②選手情報入力!$J$12)","v":""},null,null,null,null,"取得大会",null,null,null,null,{"$f":"IF(②選手情報入力!J13=\"\",\"\",②選手情報入力!J13)","v":""}]
[null,"※標準記録突破大会は、公認大会で、記録会は正式名称を記入。",null,null,null,null,null,null,null,null,null,"※標準記録突破大会は、公認大会で、記録会は正式名称を記入。"]
[null,"※記載等不備・不正で、審査の結果返却した場合、再受付はしない。",null,null,null,null,null,null,null,null,null,"※記載等不備・不正で、審査の結果返却した場合、再受付はしない。"]
[null,"※風の記入が必要な種目は、必ず記入。（無記入は無効）",null,null,null,null,null,null,null,null,null,"※風の記入が必要な種目は、必ず記入。（無記入は無効）"]
[null,"※2017年度登録ナンバーで申し込むこと。",null,null,null,null,null,null,null,null,null,"※2017年度登録ナンバーで申し込むこと。"]
[]
[null,"5","2017レディース陸上個人申込票",null,null,null,null,null,"資格審査用",null,null,"6","2017レディース陸上個人申込票",null,null,null,null,null,"資格審査用"]
[null,"種別種目",{"$f":"IF(②選手情報入力!I14=\"\",\"\",②選手情報入力!I14)","v":""},null,null,null,null,null,null,null,null,"種別種目",{"$f":"IF(②選手情報入力!I15=\"\",\"\",②選手情報入力!I15)","v":""}]
[null,"ナンバー","ﾌ ﾘ ｶﾞﾅ",{"$f":"IF(②選手情報入力!$E$14=\"\",\"\",②選手情報入力!$E$14)","v":""},null,null,"団体名",null,null,null,null,"ナンバー","ﾌ ﾘ ｶﾞﾅ",{"$f":"IF(②選手情報入力!$E$15=\"\",\"\",②選手情報入力!$E$15)","v":""},null,null,"団体名"]
[null,{"$f":"IF(②選手情報入力!$C$14=\"\",\"\",②選手情報入力!$C$14)","v":""},"氏  名",{"$f":"IF(②選手情報入力!$D$14=\"\",\"\",②選手情報入力!$D$14)","v":""},null,null,{"$f":"IF(①団体情報入力!$D$5=\"\",\"\",①団体情報入力!$D$5)","v":""},null,null,null,null,{"$f":"IF(②選手情報入力!$C$15=\"\",\"\",②選手情報入力!$C$15)","v":""},"氏  名",{"$f":"IF(②選手情報入力!$D$15=\"\",\"\",②選手情報入力!$D$15)","v":""},null,null,{"$f":"IF(①団体情報入力!$D$5=\"\",\"\",①団体情報入力!$D$5)","v":""}]
[null,null,"大　会　名",null,"年月日(yy/mm/dd)","順位","記　録",null,"場  所",null,null,null,"大　会　名",null,"年月日(yy/mm/dd)","順位","記　録",null,"場  所"]
[null,"出場資格",null,null,null,null," ＋ ･ －(   .  )",null,null,null,null,"出場資格",null,null,null,null," ＋ ･ －(   .  )"]
[null,"取得大会",null,null,null,null,{"$f":"IF(②選手情報入力!J14=\"\",\"\",②選手情報入力!J14)","v":""},null,null,null,null,"取得大会",null,null,null,null,{"$f":"IF(②選手情報入力!J15=\"\",\"\",②選手情報入力!J15)","v":""}]
[null,"※標準記録突破大会は、公認大会で、記録会は正式名称を記入。",null,null,null,null,null,null,null,null,null,"※標準記録突破大会は、公認大会で、記録会は正式名称を記入。"]
[null,"※記載等不備・不正で、審査の結果返却した場合、再受付はしない。",null,null,null,null,null,null,null,null,null,"※記載等不備・不正で、審査の結果返却した場合、再受付はしない。"]
[null,"※風の記入が必要な種目は、必ず記入。（無記入は無効）",null,null,null,null,null,null,null,null,null,"※風の記入が必要な種目は、必ず記入。（無記入は無効）"]
[null,"※2017年度登録ナンバーで申し込むこと。",null,null,null,null,null,null,null,null,null,"※2017年度登録ナンバーで申し込むこと。"]
[]
[null,"7","2017レディース陸上個人申込票",null,null,null,null,null,"資格審査用",null,null,"8","2017レディース陸上個人申込票",null,null,null,null,null,"資格審査用"]
[null,"種別種目",{"$f":"IF(②選手情報入力!I16=\"\",\"\",②選手情報入力!I16)","v":""},null,null,null,null,null,null,null,null,"種別種目",{"$f":"IF(②選手情報入力!I17=\"\",\"\",②選手情報入力!I17)","v":""}]
[null,"ナンバー","ﾌ ﾘ ｶﾞﾅ",{"$f":"IF(②選手情報入力!$E$16=\"\",\"\",②選手情報入力!$E$16)","v":""},null,null,"団体名",null,null,null,null,"ナンバー","ﾌ ﾘ ｶﾞﾅ",{"$f":"IF(②選手情報入力!$E$17=\"\",\"\",②選手情報入力!$E$17)","v":""},null,null,"団体名"]
[null,{"$f":"IF(②選手情報入力!$C$16=\"\",\"\",②選手情報入力!$C$16)","v":""},"氏  名",{"$f":"IF(②選手情報入力!$D$16=\"\",\"\",②選手情報入力!$D$16)","v":""},null,null,{"$f":"IF(①団体情報入力!$D$5=\"\",\"\",①団体情報入力!$D$5)","v":""},null,null,null,null,{"$f":"IF(②選手情報入力!$C$17=\"\",\"\",②選手情報入力!$C$17)","v":""},"氏  名",{"$f":"IF(②選手情報入力!$D$17=\"\",\"\",②選手情報入力!$D$17)","v":""},null,null,{"$f":"IF(①団体情報入力!$D$5=\"\",\"\",①団体情報入力!$D$5)","v":""}]
[null,null,"大　会　名",null,"年月日(yy/mm/dd)","順位","記　録",null,"場  所",null,null,null,"大　会　名",null,"年月日(yy/mm/dd)","順位","記　録",null,"場  所"]
[null,"出場資格",null,null,null,null," ＋ ･ －(   .  )",null,null,null,null,"出場資格",null,null,null,null," ＋ ･ －(   .  )"]
[null,"取得大会",null,null,null,null,{"$f":"IF(②選手情報入力!J16=\"\",\"\",②選手情報入力!J16)","v":""},null,null,null,null,"取得大会",null,null,null,null,{"$f":"IF(②選手情報入力!J17=\"\",\"\",②選手情報入力!J17)","v":""}]
[null,"※標準記録突破大会は、公認大会で、記録会は正式名称を記入。",null,null,null,null,null,null,null,null,null,"※標準記録突破大会は、公認大会で、記録会は正式名称を記入。"]
[null,"※記載等不備・不正で、審査の結果返却した場合、再受付はしない。",null,null,null,null,null,null,null,null,null,"※記載等不備・不正で、審査の結果返却した場合、再受付はしない。"]
[null,"※風の記入が必要な種目は、必ず記入。（無記入は無効）",null,null,null,null,null,null,null,null,null,"※風の記入が必要な種目は、必ず記入。（無記入は無効）"]
[null,"※2017年度登録ナンバーで申し込むこと。",null,null,null,null,null,null,null,null,null,"※2017年度登録ナンバーで申し込むこと。"]
[]
[null,"9","2017レディース陸上個人申込票",null,null,null,null,null,"資格審査用",null,null,"10","2017レディース陸上個人申込票",null,null,null,null,null,"資格審査用"]
[null,"種別種目",{"$f":"IF(②選手情報入力!I18=\"\",\"\",②選手情報入力!I18)","v":""},null,null,null,null,null,null,null,null,"種別種目",{"$f":"IF(②選手情報入力!I19=\"\",\"\",②選手情報入力!I19)","v":""}]
[null,"ナンバー","ﾌ ﾘ ｶﾞﾅ",{"$f":"IF(②選手情報入力!$E$18=\"\",\"\",②選手情報入力!$E$18)","v":""},null,null,"団体名",null,null,null,null,"ナンバー","ﾌ ﾘ ｶﾞﾅ",{"$f":"IF(②選手情報入力!$E$19=\"\",\"\",②選手情報入力!$E$19)","v":""},null,null,"団体名"]
[null,{"$f":"IF(②選手情報入力!$C$18=\"\",\"\",②選手情報入力!$C$18)","v":""},"氏  名",{"$f":"IF(②選手情報入力!$D$18=\"\",\"\",②選手情報入力!$D$18)","v":""},null,null,{"$f":"IF(①団体情報入力!$D$5=\"\",\"\",①団体情報入力!$D$5)","v":""},null,null,null,null,{"$f":"IF(②選手情報入力!$C$19=\"\",\"\",②選手情報入力!$C$19)","v":""},"氏  名",{"$f":"IF(②選手情報入力!$D$19=\"\",\"\",②選手情報入力!$D$19)","v":""},null,null,{"$f":"IF(①団体情報入力!$D$5=\"\",\"\",①団体情報入力!$D$5)","v":""}]
[null,null,"大　会　名",null,"年月日(yy/mm/dd)","順位","記　録",null,"場  所",null,null,null,"大　会　名",null,"年月日(yy/mm/dd)","順位","記　録",null,"場  所"]
[null,"出場資格",null,null,null,null," ＋ ･ －(   .  )",null,null,null,null,"出場資格",null,null,null,null," ＋ ･ －(   .  )"]
[null,"取得大会",null,null,null,null,{"$f":"IF(②選手情報入力!J18=\"\",\"\",②選手情報入力!J18)","v":""},null,null,null,null,"取得大会",null,null,null,null,{"$f":"IF(②選手情報入力!J19=\"\",\"\",②選手情報入力!J19)","v":""}]
[null,"※標準記録突破大会は、公認大会で、記録会は正式名称を記入。",null,null,null,null,null,null,null,null,null,"※標準記録突破大会は、公認大会で、記録会は正式名称を記入。"]
[null,"※記載等不備・不正で、審査の結果返却した場合、再受付はしない。",null,null,null,null,null,null,null,null,null,"※記載等不備・不正で、審査の結果返却した場合、再受付はしない。"]
[null,"※風の記入が必要な種目は、必ず記入。（無記入は無効）",null,null,null,null,null,null,null,null,null,"※風の記入が必要な種目は、必ず記入。（無記入は無効）"]
[null,"※2017年度登録ナンバーで申し込むこと。",null,null,null,null,null,null,null,null,null,"※2017年度登録ナンバーで申し込むこと。"]
[]
[null,"11","2017レディース陸上個人申込票",null,null,null,null,null,"資格審査用",null,null,"12","2017レディース陸上個人申込票",null,null,null,null,null,"資格審査用"]
[null,"種別種目",{"$f":"IF(②選手情報入力!I20=\"\",\"\",②選手情報入力!I20)","v":""},null,null,null,null,null,null,null,null,"種別種目",{"$f":"IF(②選手情報入力!I21=\"\",\"\",②選手情報入力!I21)","v":""}]
[null,"ナンバー","ﾌ ﾘ ｶﾞﾅ",{"$f":"IF(②選手情報入力!$E$20=\"\",\"\",②選手情報入力!$E$20)","v":""},null,null,"団体名",null,null,null,null,"ナンバー","ﾌ ﾘ ｶﾞﾅ",{"$f":"IF(②選手情報入力!$E$21=\"\",\"\",②選手情報入力!$E$21)","v":""},null,null,"団体名"]
[null,{"$f":"IF(②選手情報入力!$C$20=\"\",\"\",②選手情報入力!$C$20)","v":""},"氏  名",{"$f":"IF(②選手情報入力!$D$20=\"\",\"\",②選手情報入力!$D$20)","v":""},null,null,{"$f":"IF(①団体情報入力!$D$5=\"\",\"\",①団体情報入力!$D$5)","v":""},null,null,null,null,{"$f":"IF(②選手情報入力!$C$21=\"\",\"\",②選手情報入力!$C$21)","v":""},"氏  名",{"$f":"IF(②選手情報入力!$D$21=\"\",\"\",②選手情報入力!$D$21)","v":""},null,null,{"$f":"IF(①団体情報入力!$D$5=\"\",\"\",①団体情報入力!$D$5)","v":""}]
[null,null,"大　会　名",null,"年月日(yy/mm/dd)","順位","記　録",null,"場  所",null,null,null,"大　会　名",null,"年月日(yy/mm/dd)","順位","記　録",null,"場  所"]
[null,"出場資格",null,null,null,null," ＋ ･ －(   .  )",null,null,null,null,"出場資格",null,null,null,null," ＋ ･ －(   .  )"]
[null,"取得大会",null,null,null,null,{"$f":"IF(②選手情報入力!J20=\"\",\"\",②選手情報入力!J20)","v":""},null,null,null,null,"取得大会",null,null,null,null,{"$f":"IF(②選手情報入力!J21=\"\",\"\",②選手情報入力!J21)","v":""}]
[null,"※標準記録突破大会は、公認大会で、記録会は正式名称を記入。",null,null,null,null,null,null,null,null,null,"※標準記録突破大会は、公認大会で、記録会は正式名称を記入。"]
[null,"※記載等不備・不正で、審査の結果返却した場合、再受付はしない。",null,null,null,null,null,null,null,null,null,"※記載等不備・不正で、審査の結果返却した場合、再受付はしない。"]
[null,"※風の記入が必要な種目は、必ず記入。（無記入は無効）",null,null,null,null,null,null,null,null,null,"※風の記入が必要な種目は、必ず記入。（無記入は無効）"]
[null,"※2017年度登録ナンバーで申し込むこと。",null,null,null,null,null,null,null,null,null,"※2017年度登録ナンバーで申し込むこと。"]
[]
[null,"13","2017レディース陸上個人申込票",null,null,null,null,null,"資格審査用",null,null,"14","2017レディース陸上個人申込票",null,null,null,null,null,"資格審査用"]
[null,"種別種目",{"$f":"IF(②選手情報入力!I22=\"\",\"\",②選手情報入力!I22)","v":""},null,null,null,null,null,null,null,null,"種別種目",{"$f":"IF(②選手情報入力!I23=\"\",\"\",②選手情報入力!I23)","v":""}]
[null,"ナンバー","ﾌ ﾘ ｶﾞﾅ",{"$f":"IF(②選手情報入力!$E$22=\"\",\"\",②選手情報入力!$E$22)","v":""},null,null,"団体名",null,null,null,null,"ナンバー","ﾌ ﾘ ｶﾞﾅ",{"$f":"IF(②選手情報入力!$E$23=\"\",\"\",②選手情報入力!$E$23)","v":""},null,null,"団体名"]
[null,{"$f":"IF(②選手情報入力!$C$22=\"\",\"\",②選手情報入力!$C$22)","v":""},"氏  名",{"$f":"IF(②選手情報入力!$D$22=\"\",\"\",②選手情報入力!$D$22)","v":""},null,null,{"$f":"IF(①団体情報入力!$D$5=\"\",\"\",①団体情報入力!$D$5)","v":""},null,null,null,null,{"$f":"IF(②選手情報入力!$C$23=\"\",\"\",②選手情報入力!$C$23)","v":""},"氏  名",{"$f":"IF(②選手情報入力!$D$23=\"\",\"\",②選手情報入力!$D$23)","v":""},null,null,{"$f":"IF(①団体情報入力!$D$5=\"\",\"\",①団体情報入力!$D$5)","v":""}]
[null,null,"大　会　名",null,"年月日(yy/mm/dd)","順位","記　録",null,"場  所",null,null,null,"大　会　名",null,"年月日(yy/mm/dd)","順位","記　録",null,"場  所"]
[null,"出場資格",null,null,null,null," ＋ ･ －(   .  )",null,null,null,null,"出場資格",null,null,null,null," ＋ ･ －(   .  )"]
[null,"取得大会",null,null,null,null,{"$f":"IF(②選手情報入力!J22=\"\",\"\",②選手情報入力!J22)","v":""},null,null,null,null,"取得大会",null,null,null,null,{"$f":"IF(②選手情報入力!J23=\"\",\"\",②選手情報入力!J23)","v":""}]
[null,"※標準記録突破大会は、公認大会で、記録会は正式名称を記入。",null,null,null,null,null,null,null,null,null,"※標準記録突破大会は、公認大会で、記録会は正式名称を記入。"]
[null,"※記載等不備・不正で、審査の結果返却した場合、再受付はしない。",null,null,null,null,null,null,null,null,null,"※記載等不備・不正で、審査の結果返却した場合、再受付はしない。"]
[null,"※風の記入が必要な種目は、必ず記入。（無記入は無効）",null,null,null,null,null,null,null,null,null,"※風の記入が必要な種目は、必ず記入。（無記入は無効）"]
[null,"※2017年度登録ナンバーで申し込むこと。",null,null,null,null,null,null,null,null,null,"※2017年度登録ナンバーで申し込むこと。"]
[]
[null,"15","2017レディース陸上個人申込票",null,null,null,null,null,"資格審査用",null,null,"16","2017レディース陸上個人申込票",null,null,null,null,null,"資格審査用"]
[null,"種別種目",{"$f":"IF(②選手情報入力!I24=\"\",\"\",②選手情報入力!I24)","v":""},null,null,null,null,null,null,null,null,"種別種目",{"$f":"IF(②選手情報入力!I25=\"\",\"\",②選手情報入力!I25)","v":""}]
[null,"ナンバー","ﾌ ﾘ ｶﾞﾅ",{"$f":"IF(②選手情報入力!$E$24=\"\",\"\",②選手情報入力!$E$24)","v":""},null,null,"団体名",null,null,null,null,"ナンバー","ﾌ ﾘ ｶﾞﾅ",{"$f":"IF(②選手情報入力!$E$25=\"\",\"\",②選手情報入力!$E$25)","v":""},null,null,"団体名"]
[null,{"$f":"IF(②選手情報入力!$C$24=\"\",\"\",②選手情報入力!$C$24)","v":""},"氏  名",{"$f":"IF(②選手情報入力!$D$24=\"\",\"\",②選手情報入力!$D$24)","v":""},null,null,{"$f":"IF(①団体情報入力!$D$5=\"\",\"\",①団体情報入力!$D$5)","v":""},null,null,null,null,{"$f":"IF(②選手情報入力!$C$25=\"\",\"\",②選手情報入力!$C$25)","v":""},"氏  名",{"$f":"IF(②選手情報入力!$D$25=\"\",\"\",②選手情報入力!$D$25)","v":""},null,null,{"$f":"IF(①団体情報入力!$D$5=\"\",\"\",①団体情報入力!$D$5)","v":""}]
[null,null,"大　会　名",null,"年月日(yy/mm/dd)","順位","記　録",null,"場  所",null,null,null,"大　会　名",null,"年月日(yy/mm/dd)","順位","記　録",null,"場  所"]
[null,"出場資格",null,null,null,null," ＋ ･ －(   .  )",null,null,null,null,"出場資格",null,null,null,null," ＋ ･ －(   .  )"]
[null,"取得大会",null,null,null,null,{"$f":"IF(②選手情報入力!J24=\"\",\"\",②選手情報入力!J24)","v":""},null,null,null,null,"取得大会",null,null,null,null,{"$f":"IF(②選手情報入力!J25=\"\",\"\",②選手情報入力!J25)","v":""}]
[null,"※標準記録突破大会は、公認大会で、記録会は正式名称を記入。",null,null,null,null,null,null,null,null,null,"※標準記録突破大会は、公認大会で、記録会は正式名称を記入。"]
[null,"※記載等不備・不正で、審査の結果返却した場合、再受付はしない。",null,null,null,null,null,null,null,null,null,"※記載等不備・不正で、審査の結果返却した場合、再受付はしない。"]
[null,"※風の記入が必要な種目は、必ず記入。（無記入は無効）",null,null,null,null,null,null,null,null,null,"※風の記入が必要な種目は、必ず記入。（無記入は無効）"]
[null,"※2017年度登録ナンバーで申し込むこと。",null,null,null,null,null,null,null,null,null,"※2017年度登録ナンバーで申し込むこと。"]
[]
[null,"17","2017レディース陸上個人申込票",null,null,null,null,null,"資格審査用",null,null,"18","2017レディース陸上個人申込票",null,null,null,null,null,"資格審査用"]
[null,"種別種目",{"$f":"IF(②選手情報入力!I26=\"\",\"\",②選手情報入力!I26)","v":""},null,null,null,null,null,null,null,null,"種別種目",{"$f":"IF(②選手情報入力!I27=\"\",\"\",②選手情報入力!I27)","v":""}]
[null,"ナンバー","ﾌ ﾘ ｶﾞﾅ",{"$f":"IF(②選手情報入力!$E$26=\"\",\"\",②選手情報入力!$E$26)","v":""},null,null,"団体名",null,null,null,null,"ナンバー","ﾌ ﾘ ｶﾞﾅ",{"$f":"IF(②選手情報入力!$E$27=\"\",\"\",②選手情報入力!$E$27)","v":""},null,null,"団体名"]
[null,{"$f":"IF(②選手情報入力!$C$26=\"\",\"\",②選手情報入力!$C$26)","v":""},"氏  名",{"$f":"IF(②選手情報入力!$D$26=\"\",\"\",②選手情報入力!$D$26)","v":""},null,null,{"$f":"IF(①団体情報入力!$D$5=\"\",\"\",①団体情報入力!$D$5)","v":""},null,null,null,null,{"$f":"IF(②選手情報入力!$C$27=\"\",\"\",②選手情報入力!$C$27)","v":""},"氏  名",{"$f":"IF(②選手情報入力!$D$27=\"\",\"\",②選手情報入力!$D$27)","v":""},null,null,{"$f":"IF(①団体情報入力!$D$5=\"\",\"\",①団体情報入力!$D$5)","v":""}]
[null,null,"大　会　名",null,"年月日(yy/mm/dd)","順位","記　録",null,"場  所",null,null,null,"大　会　名",null,"年月日(yy/mm/dd)","順位","記　録",null,"場  所"]
[null,"出場資格",null,null,null,null," ＋ ･ －(   .  )",null,null,null,null,"出場資格",null,null,null,null," ＋ ･ －(   .  )"]
[null,"取得大会",null,null,null,null,{"$f":"IF(②選手情報入力!J26=\"\",\"\",②選手情報入力!J26)","v":""},null,null,null,null,"取得大会",null,null,null,null,{"$f":"IF(②選手情報入力!J27=\"\",\"\",②選手情報入力!J27)","v":""}]
[null,"※標準記録突破大会は、公認大会で、記録会は正式名称を記入。",null,null,null,null,null,null,null,null,null,"※標準記録突破大会は、公認大会で、記録会は正式名称を記入。"]
[null,"※記載等不備・不正で、審査の結果返却した場合、再受付はしない。",null,null,null,null,null,null,null,null,null,"※記載等不備・不正で、審査の結果返却した場合、再受付はしない。"]
[null,"※風の記入が必要な種目は、必ず記入。（無記入は無効）",null,null,null,null,null,null,null,null,null,"※風の記入が必要な種目は、必ず記入。（無記入は無効）"]
[null,"※2017年度登録ナンバーで申し込むこと。",null,null,null,null,null,null,null,null,null,"※2017年度登録ナンバーで申し込むこと。"]
[]
[null,"19","2017レディース陸上個人申込票",null,null,null,null,null,"資格審査用",null,null,"20","2017レディース陸上個人申込票",null,null,null,null,null,"資格審査用"]
[null,"種別種目",{"$f":"IF(②選手情報入力!I28=\"\",\"\",②選手情報入力!I28)","v":""},null,null,null,null,null,null,null,null,"種別種目",{"$f":"IF(②選手情報入力!I29=\"\",\"\",②選手情報入力!I29)","v":""}]
[null,"ナンバー","ﾌ ﾘ ｶﾞﾅ",{"$f":"IF(②選手情報入力!$E$28=\"\",\"\",②選手情報入力!$E$28)","v":""},null,null,"団体名",null,null,null,null,"ナンバー","ﾌ ﾘ ｶﾞﾅ",{"$f":"IF(②選手情報入力!$E$29=\"\",\"\",②選手情報入力!$E$29)","v":""},null,null,"団体名"]
[null,{"$f":"IF(②選手情報入力!$C$28=\"\",\"\",②選手情報入力!$C$28)","v":""},"氏  名",{"$f":"IF(②選手情報入力!$D$28=\"\",\"\",②選手情報入力!$D$28)","v":""},null,null,{"$f":"IF(①団体情報入力!$D$5=\"\",\"\",①団体情報入力!$D$5)","v":""},null,null,null,null,{"$f":"IF(②選手情報入力!$C$29=\"\",\"\",②選手情報入力!$C$29)","v":""},"氏  名",{"$f":"IF(②選手情報入力!$D$29=\"\",\"\",②選手情報入力!$D$29)","v":""},null,null,{"$f":"IF(①団体情報入力!$D$5=\"\",\"\",①団体情報入力!$D$5)","v":""}]
[null,null,"大　会　名",null,"年月日(yy/mm/dd)","順位","記　録",null,"場  所",null,null,null,"大　会　名",null,"年月日(yy/mm/dd)","順位","記　録",null,"場  所"]
[null,"出場資格",null,null,null,null," ＋ ･ －(   .  )",null,null,null,null,"出場資格",null,null,null,null," ＋ ･ －(   .  )"]
[null,"取得大会",null,null,null,null,{"$f":"IF(②選手情報入力!J28=\"\",\"\",②選手情報入力!J28)","v":""},null,null,null,null,"取得大会",null,null,null,null,{"$f":"IF(②選手情報入力!J29=\"\",\"\",②選手情報入力!J29)","v":""}]
[null,"※標準記録突破大会は、公認大会で、記録会は正式名称を記入。",null,null,null,null,null,null,null,null,null,"※標準記録突破大会は、公認大会で、記録会は正式名称を記入。"]
[null,"※記載等不備・不正で、審査の結果返却した場合、再受付はしない。",null,null,null,null,null,null,null,null,null,"※記載等不備・不正で、審査の結果返却した場合、再受付はしない。"]
[null,"※風の記入が必要な種目は、必ず記入。（無記入は無効）",null,null,null,null,null,null,null,null,null,"※風の記入が必要な種目は、必ず記入。（無記入は無効）"]
[null,"※2017年度登録ナンバーで申し込むこと。",null,null,null,null,null,null,null,null,null,"※2017年度登録ナンバーで申し込むこと。"]
[]
[null,"21","2017レディース陸上個人申込票",null,null,null,null,null,"資格審査用",null,null,"22","2017レディース陸上個人申込票",null,null,null,null,null,"資格審査用"]
[null,"種別種目",{"$f":"IF(②選手情報入力!I30=\"\",\"\",②選手情報入力!I30)","v":""},null,null,null,null,null,null,null,null,"種別種目",{"$f":"IF(②選手情報入力!I31=\"\",\"\",②選手情報入力!I31)","v":""}]
[null,"ナンバー","ﾌ ﾘ ｶﾞﾅ",{"$f":"IF(②選手情報入力!$E$30=\"\",\"\",②選手情報入力!$E$30)","v":""},null,null,"団体名",null,null,null,null,"ナンバー","ﾌ ﾘ ｶﾞﾅ",{"$f":"IF(②選手情報入力!$E$31=\"\",\"\",②選手情報入力!$E$31)","v":""},null,null,"団体名"]
[null,{"$f":"IF(②選手情報入力!$C$30=\"\",\"\",②選手情報入力!$C$30)","v":""},"氏  名",{"$f":"IF(②選手情報入力!$D$30=\"\",\"\",②選手情報入力!$D$30)","v":""},null,null,{"$f":"IF(①団体情報入力!$D$5=\"\",\"\",①団体情報入力!$D$5)","v":""},null,null,null,null,{"$f":"IF(②選手情報入力!$C$31=\"\",\"\",②選手情報入力!$C$31)","v":""},"氏  名",{"$f":"IF(②選手情報入力!$D$31=\"\",\"\",②選手情報入力!$D$31)","v":""},null,null,{"$f":"IF(①団体情報入力!$D$5=\"\",\"\",①団体情報入力!$D$5)","v":""}]
[null,null,"大　会　名",null,"年月日(yy/mm/dd)","順位","記　録",null,"場  所",null,null,null,"大　会　名",null,"年月日(yy/mm/dd)","順位","記　録",null,"場  所"]
[null,"出場資格",null,null,null,null," ＋ ･ －(   .  )",null,null,null,null,"出場資格",null,null,null,null," ＋ ･ －(   .  )"]
[null,"取得大会",null,null,null,null,{"$f":"IF(②選手情報入力!J30=\"\",\"\",②選手情報入力!J30)","v":""},null,null,null,null,"取得大会",null,null,null,null,{"$f":"IF(②選手情報入力!J31=\"\",\"\",②選手情報入力!J31)","v":""}]
[null,"※標準記録突破大会は、公認大会で、記録会は正式名称を記入。",null,null,null,null,null,null,null,null,null,"※標準記録突破大会は、公認大会で、記録会は正式名称を記入。"]
[null,"※記載等不備・不正で、審査の結果返却した場合、再受付はしない。",null,null,null,null,null,null,null,null,null,"※記載等不備・不正で、審査の結果返却した場合、再受付はしない。"]
[null,"※風の記入が必要な種目は、必ず記入。（無記入は無効）",null,null,null,null,null,null,null,null,null,"※風の記入が必要な種目は、必ず記入。（無記入は無効）"]
[null,"※2017年度登録ナンバーで申し込むこと。",null,null,null,null,null,null,null,null,null,"※2017年度登録ナンバーで申し込むこと。"]
[]
[null,"23","2017レディース陸上個人申込票",null,null,null,null,null,"資格審査用",null,null,"24","2017レディース陸上個人申込票",null,null,null,null,null,"資格審査用"]
[null,"種別種目",{"$f":"IF(②選手情報入力!I32=\"\",\"\",②選手情報入力!I32)","v":""},null,null,null,null,null,null,null,null,"種別種目",{"$f":"IF(②選手情報入力!I33=\"\",\"\",②選手情報入力!I33)","v":""}]
[null,"ナンバー","ﾌ ﾘ ｶﾞﾅ",{"$f":"IF(②選手情報入力!$E$32=\"\",\"\",②選手情報入力!$E$32)","v":""},null,null,"団体名",null,null,null,null,"ナンバー","ﾌ ﾘ ｶﾞﾅ",{"$f":"IF(②選手情報入力!$E$33=\"\",\"\",②選手情報入力!$E$33)","v":""},null,null,"団体名"]
[null,{"$f":"IF(②選手情報入力!$C$32=\"\",\"\",②選手情報入力!$C$32)","v":""},"氏  名",{"$f":"IF(②選手情報入力!$D$32=\"\",\"\",②選手情報入力!$D$32)","v":""},null,null,{"$f":"IF(①団体情報入力!$D$5=\"\",\"\",①団体情報入力!$D$5)","v":""},null,null,null,null,{"$f":"IF(②選手情報入力!$C$33=\"\",\"\",②選手情報入力!$C$33)","v":""},"氏  名",{"$f":"IF(②選手情報入力!$D$33=\"\",\"\",②選手情報入力!$D$33)","v":""},null,null,{"$f":"IF(①団体情報入力!$D$5=\"\",\"\",①団体情報入力!$D$5)","v":""}]
[null,null,"大　会　名",null,"年月日(yy/mm/dd)","順位","記　録",null,"場  所",null,null,null,"大　会　名",null,"年月日(yy/mm/dd)","順位","記　録",null,"場  所"]
[null,"出場資格",null,null,null,null," ＋ ･ －(   .  )",null,null,null,null,"出場資格",null,null,null,null," ＋ ･ －(   .  )"]
[null,"取得大会",null,null,null,null,{"$f":"IF(②選手情報入力!J32=\"\",\"\",②選手情報入力!J32)","v":""},null,null,null,null,"取得大会",null,null,null,null,{"$f":"IF(②選手情報入力!J33=\"\",\"\",②選手情報入力!J33)","v":""}]
[null,"※標準記録突破大会は、公認大会で、記録会は正式名称を記入。",null,null,null,null,null,null,null,null,null,"※標準記録突破大会は、公認大会で、記録会は正式名称を記入。"]
[null,"※記載等不備・不正で、審査の結果返却した場合、再受付はしない。",null,null,null,null,null,null,null,null,null,"※記載等不備・不正で、審査の結果返却した場合、再受付はしない。"]
[null,"※風の記入が必要な種目は、必ず記入。（無記入は無効）",null,null,null,null,null,null,null,null,null,"※風の記入が必要な種目は、必ず記入。（無記入は無効）"]
[null,"※2017年度登録ナンバーで申し込むこと。",null,null,null,null,null,null,null,null,null,"※2017年度登録ナンバーで申し込むこと。"]
[]
[null,"25","2017レディース陸上個人申込票",null,null,null,null,null,"資格審査用",null,null,"26","2017レディース陸上個人申込票",null,null,null,null,null,"資格審査用"]
[null,"種別種目",{"$f":"IF(②選手情報入力!I34=\"\",\"\",②選手情報入力!I34)","v":""},null,null,null,null,null,null,null,null,"種別種目",{"$f":"IF(②選手情報入力!I35=\"\",\"\",②選手情報入力!I35)","v":""}]
[null,"ナンバー","ﾌ ﾘ ｶﾞﾅ",{"$f":"IF(②選手情報入力!$E$34=\"\",\"\",②選手情報入力!$E$34)","v":""},null,null,"団体名",null,null,null,null,"ナンバー","ﾌ ﾘ ｶﾞﾅ",{"$f":"IF(②選手情報入力!$E$35=\"\",\"\",②選手情報入力!$E$35)","v":""},null,null,"団体名"]
[null,{"$f":"IF(②選手情報入力!$C$34=\"\",\"\",②選手情報入力!$C$34)","v":""},"氏  名",{"$f":"IF(②選手情報入力!$D$34=\"\",\"\",②選手情報入力!$D$34)","v":""},null,null,{"$f":"IF(①団体情報入力!$D$5=\"\",\"\",①団体情報入力!$D$5)","v":""},null,null,null,null,{"$f":"IF(②選手情報入力!$C$35=\"\",\"\",②選手情報入力!$C$35)","v":""},"氏  名",{"$f":"IF(②選手情報入力!$D$35=\"\",\"\",②選手情報入力!$D$35)","v":""},null,null,{"$f":"IF(①団体情報入力!$D$5=\"\",\"\",①団体情報入力!$D$5)","v":""}]
[null,null,"大　会　名",null,"年月日(yy/mm/dd)","順位","記　録",null,"場  所",null,null,null,"大　会　名",null,"年月日(yy/mm/dd)","順位","記　録",null,"場  所"]
[null,"出場資格",null,null,null,null," ＋ ･ －(   .  )",null,null,null,null,"出場資格",null,null,null,null," ＋ ･ －(   .  )"]
[null,"取得大会",null,null,null,null,{"$f":"IF(②選手情報入力!J34=\"\",\"\",②選手情報入力!J34)","v":""},null,null,null,null,"取得大会",null,null,null,null,{"$f":"IF(②選手情報入力!J35=\"\",\"\",②選手情報入力!J35)","v":""}]
[null,"※標準記録突破大会は、公認大会で、記録会は正式名称を記入。",null,null,null,null,null,null,null,null,null,"※標準記録突破大会は、公認大会で、記録会は正式名称を記入。"]
[null,"※記載等不備・不正で、審査の結果返却した場合、再受付はしない。",null,null,null,null,null,null,null,null,null,"※記載等不備・不正で、審査の結果返却した場合、再受付はしない。"]
[null,"※風の記入が必要な種目は、必ず記入。（無記入は無効）",null,null,null,null,null,null,null,null,null,"※風の記入が必要な種目は、必ず記入。（無記入は無効）"]
[null,"※2017年度登録ナンバーで申し込むこと。",null,null,null,null,null,null,null,null,null,"※2017年度登録ナンバーで申し込むこと。"]
[]
[null,"27","2017レディース陸上個人申込票",null,null,null,null,null,"資格審査用",null,null,"28","2017レディース陸上個人申込票",null,null,null,null,null,"資格審査用"]
[null,"種別種目",{"$f":"IF(②選手情報入力!I36=\"\",\"\",②選手情報入力!I36)","v":""},null,null,null,null,null,null,null,null,"種別種目",{"$f":"IF(②選手情報入力!I37=\"\",\"\",②選手情報入力!I37)","v":""}]
[null,"ナンバー","ﾌ ﾘ ｶﾞﾅ",{"$f":"IF(②選手情報入力!$E$36=\"\",\"\",②選手情報入力!$E$36)","v":""},null,null,"団体名",null,null,null,null,"ナンバー","ﾌ ﾘ ｶﾞﾅ",{"$f":"IF(②選手情報入力!$E$37=\"\",\"\",②選手情報入力!$E$37)","v":""},null,null,"団体名"]
[null,{"$f":"IF(②選手情報入力!$C$36=\"\",\"\",②選手情報入力!$C$36)","v":""},"氏  名",{"$f":"IF(②選手情報入力!$D$36=\"\",\"\",②選手情報入力!$D$36)","v":""},null,null,{"$f":"IF(①団体情報入力!$D$5=\"\",\"\",①団体情報入力!$D$5)","v":""},null,null,null,null,{"$f":"IF(②選手情報入力!$C$37=\"\",\"\",②選手情報入力!$C$37)","v":""},"氏  名",{"$f":"IF(②選手情報入力!$D$37=\"\",\"\",②選手情報入力!$D$37)","v":""},null,null,{"$f":"IF(①団体情報入力!$D$5=\"\",\"\",①団体情報入力!$D$5)","v":""}]
[null,null,"大　会　名",null,"年月日(yy/mm/dd)","順位","記　録",null,"場  所",null,null,null,"大　会　名",null,"年月日(yy/mm/dd)","順位","記　録",null,"場  所"]
[null,"出場資格",null,null,null,null," ＋ ･ －(   .  )",null,null,null,null,"出場資格",null,null,null,null," ＋ ･ －(   .  )"]
[null,"取得大会",null,null,null,null,{"$f":"IF(②選手情報入力!J36=\"\",\"\",②選手情報入力!J36)","v":""},null,null,null,null,"取得大会",null,null,null,null,{"$f":"IF(②選手情報入力!J37=\"\",\"\",②選手情報入力!J37)","v":""}]
[null,"※標準記録突破大会は、公認大会で、記録会は正式名称を記入。",null,null,null,null,null,null,null,null,null,"※標準記録突破大会は、公認大会で、記録会は正式名称を記入。"]
[null,"※記載等不備・不正で、審査の結果返却した場合、再受付はしない。",null,null,null,null,null,null,null,null,null,"※記載等不備・不正で、審査の結果返却した場合、再受付はしない。"]
[null,"※風の記入が必要な種目は、必ず記入。（無記入は無効）",null,null,null,null,null,null,null,null,null,"※風の記入が必要な種目は、必ず記入。（無記入は無効）"]
[null,"※2017年度登録ナンバーで申し込むこと。",null,null,null,null,null,null,null,null,null,"※2017年度登録ナンバーで申し込むこと。"]
[]
[null,"29","2017レディース陸上個人申込票",null,null,null,null,null,"資格審査用",null,null,"30","2017レディース陸上個人申込票",null,null,null,null,null,"資格審査用"]
[null,"種別種目",{"$f":"IF(②選手情報入力!I38=\"\",\"\",②選手情報入力!I38)","v":""},null,null,null,null,null,null,null,null,"種別種目",{"$f":"IF(②選手情報入力!I39=\"\",\"\",②選手情報入力!I39)","v":""}]
[null,"ナンバー","ﾌ ﾘ ｶﾞﾅ",{"$f":"IF(②選手情報入力!$E$38=\"\",\"\",②選手情報入力!$E$38)","v":""},null,null,"団体名",null,null,null,null,"ナンバー","ﾌ ﾘ ｶﾞﾅ",{"$f":"IF(②選手情報入力!$E$39=\"\",\"\",②選手情報入力!$E$39)","v":""},null,null,"団体名"]
[null,{"$f":"IF(②選手情報入力!$C$38=\"\",\"\",②選手情報入力!$C$38)","v":""},"氏  名",{"$f":"IF(②選手情報入力!$D$38=\"\",\"\",②選手情報入力!$D$38)","v":""},null,null,{"$f":"IF(①団体情報入力!$D$5=\"\",\"\",①団体情報入力!$D$5)","v":""},null,null,null,null,{"$f":"IF(②選手情報入力!$C$39=\"\",\"\",②選手情報入力!$C$39)","v":""},"氏  名",{"$f":"IF(②選手情報入力!$D$39=\"\",\"\",②選手情報入力!$D$39)","v":""},null,null,{"$f":"IF(①団体情報入力!$D$5=\"\",\"\",①団体情報入力!$D$5)","v":""}]
[null,null,"大　会　名",null,"年月日(yy/mm/dd)","順位","記　録",null,"場  所",null,null,null,"大　会　名",null,"年月日(yy/mm/dd)","順位","記　録",null,"場  所"]
[null,"出場資格",null,null,null,null," ＋ ･ －(   .  )",null,null,null,null,"出場資格",null,null,null,null," ＋ ･ －(   .  )"]
[null,"取得大会",null,null,null,null,{"$f":"IF(②選手情報入力!J38=\"\",\"\",②選手情報入力!J38)","v":""},null,null,null,null,"取得大会",null,null,null,null,{"$f":"IF(②選手情報入力!J39=\"\",\"\",②選手情報入力!J39)","v":""}]
[null,"※標準記録突破大会は、公認大会で、記録会は正式名称を記入。",null,null,null,null,null,null,null,null,null,"※標準記録突破大会は、公認大会で、記録会は正式名称を記入。"]
[null,"※記載等不備・不正で、審査の結果返却した場合、再受付はしない。",null,null,null,null,null,null,null,null,null,"※記載等不備・不正で、審査の結果返却した場合、再受付はしない。"]
[null,"※風の記入が必要な種目は、必ず記入。（無記入は無効）",null,null,null,null,null,null,null,null,null,"※風の記入が必要な種目は、必ず記入。（無記入は無効）"]
[null,"※2017年度登録ナンバーで申し込むこと。",null,null,null,null,null,null,null,null,null,"※2017年度登録ナンバーで申し込むこと。"]
[]
[null,"31","2017レディース陸上個人申込票",null,null,null,null,null,"資格審査用",null,null,"32","2017レディース陸上個人申込票",null,null,null,null,null,"資格審査用"]
[null,"種別種目",{"$f":"IF(②選手情報入力!I40=\"\",\"\",②選手情報入力!I40)","v":""},null,null,null,null,null,null,null,null,"種別種目",{"$f":"IF(②選手情報入力!I41=\"\",\"\",②選手情報入力!I41)","v":""}]
[null,"ナンバー","ﾌ ﾘ ｶﾞﾅ",{"$f":"IF(②選手情報入力!$E$40=\"\",\"\",②選手情報入力!$E$40)","v":""},null,null,"団体名",null,null,null,null,"ナンバー","ﾌ ﾘ ｶﾞﾅ",{"$f":"IF(②選手情報入力!$E$41=\"\",\"\",②選手情報入力!$E$41)","v":""},null,null,"団体名"]
[null,{"$f":"IF(②選手情報入力!$C$40=\"\",\"\",②選手情報入力!$C$40)","v":""},"氏  名",{"$f":"IF(②選手情報入力!$D$40=\"\",\"\",②選手情報入力!$D$40)","v":""},null,null,{"$f":"IF(①団体情報入力!$D$5=\"\",\"\",①団体情報入力!$D$5)","v":""},null,null,null,null,{"$f":"IF(②選手情報入力!$C$41=\"\",\"\",②選手情報入力!$C$41)","v":""},"氏  名",{"$f":"IF(②選手情報入力!$D$41=\"\",\"\",②選手情報入力!$D$41)","v":""},null,null,{"$f":"IF(①団体情報入力!$D$5=\"\",\"\",①団体情報入力!$D$5)","v":""}]
[null,null,"大　会　名",null,"年月日(yy/mm/dd)","順位","記　録",null,"場  所",null,null,null,"大　会　名",null,"年月日(yy/mm/dd)","順位","記　録",null,"場  所"]
[null,"出場資格",null,null,null,null," ＋ ･ －(   .  )",null,null,null,null,"出場資格",null,null,null,null," ＋ ･ －(   .  )"]
[null,"取得大会",null,null,null,null,{"$f":"IF(②選手情報入力!J40=\"\",\"\",②選手情報入力!J40)","v":""},null,null,null,null,"取得大会",null,null,null,null,{"$f":"IF(②選手情報入力!J41=\"\",\"\",②選手情報入力!J41)","v":""}]
[null,"※標準記録突破大会は、公認大会で、記録会は正式名称を記入。",null,null,null,null,null,null,null,null,null,"※標準記録突破大会は、公認大会で、記録会は正式名称を記入。"]
[null,"※記載等不備・不正で、審査の結果返却した場合、再受付はしない。",null,null,null,null,null,null,null,null,null,"※記載等不備・不正で、審査の結果返却した場合、再受付はしない。"]
[null,"※風の記入が必要な種目は、必ず記入。（無記入は無効）",null,null,null,null,null,null,null,null,null,"※風の記入が必要な種目は、必ず記入。（無記入は無効）"]
[null,"※2017年度登録ナンバーで申し込むこと。",null,null,null,null,null,null,null,null,null,"※2017年度登録ナンバーで申し込むこと。"]
[]
[null,"33","2017レディース陸上個人申込票",null,null,null,null,null,"資格審査用",null,null,"34","2017レディース陸上個人申込票",null,null,null,null,null,"資格審査用"]
[null,"種別種目",{"$f":"IF(②選手情報入力!I42=\"\",\"\",②選手情報入力!I42)","v":""},null,null,null,null,null,null,null,null,"種別種目",{"$f":"IF(②選手情報入力!I43=\"\",\"\",②選手情報入力!I43)","v":""}]
[null,"ナンバー","ﾌ ﾘ ｶﾞﾅ",{"$f":"IF(②選手情報入力!$E$42=\"\",\"\",②選手情報入力!$E$42)","v":""},null,null,"団体名",null,null,null,null,"ナンバー","ﾌ ﾘ ｶﾞﾅ",{"$f":"IF(②選手情報入力!$E$43=\"\",\"\",②選手情報入力!$E$43)","v":""},null,null,"団体名"]
[null,{"$f":"IF(②選手情報入力!$C$42=\"\",\"\",②選手情報入力!$C$42)","v":""},"氏  名",{"$f":"IF(②選手情報入力!$D$42=\"\",\"\",②選手情報入力!$D$42)","v":""},null,null,{"$f":"IF(①団体情報入力!$D$5=\"\",\"\",①団体情報入力!$D$5)","v":""},null,null,null,null,{"$f":"IF(②選手情報入力!$C$43=\"\",\"\",②選手情報入力!$C$43)","v":""},"氏  名",{"$f":"IF(②選手情報入力!$D$43=\"\",\"\",②選手情報入力!$D$43)","v":""},null,null,{"$f":"IF(①団体情報入力!$D$5=\"\",\"\",①団体情報入力!$D$5)","v":""}]
[null,null,"大　会　名",null,"年月日(yy/mm/dd)","順位","記　録",null,"場  所",null,null,null,"大　会　名",null,"年月日(yy/mm/dd)","順位","記　録",null,"場  所"]
[null,"出場資格",null,null,null,null," ＋ ･ －(   .  )",null,null,null,null,"出場資格",null,null,null,null," ＋ ･ －(   .  )"]
[null,"取得大会",null,null,null,null,{"$f":"IF(②選手情報入力!J42=\"\",\"\",②選手情報入力!J42)","v":""},null,null,null,null,"取得大会",null,null,null,null,{"$f":"IF(②選手情報入力!J43=\"\",\"\",②選手情報入力!J43)","v":""}]
[null,"※標準記録突破大会は、公認大会で、記録会は正式名称を記入。",null,null,null,null,null,null,null,null,null,"※標準記録突破大会は、公認大会で、記録会は正式名称を記入。"]
[null,"※記載等不備・不正で、審査の結果返却した場合、再受付はしない。",null,null,null,null,null,null,null,null,null,"※記載等不備・不正で、審査の結果返却した場合、再受付はしない。"]
[null,"※風の記入が必要な種目は、必ず記入。（無記入は無効）",null,null,null,null,null,null,null,null,null,"※風の記入が必要な種目は、必ず記入。（無記入は無効）"]
[null,"※2017年度登録ナンバーで申し込むこと。",null,null,null,null,null,null,null,null,null,"※2017年度登録ナンバーで申し込むこと。"]
[]
[null,"35","2017レディース陸上個人申込票",null,null,null,null,null,"資格審査用",null,null,"36","2017レディース陸上個人申込票",null,null,null,null,null,"資格審査用"]
[null,"種別種目",{"$f":"IF(②選手情報入力!I44=\"\",\"\",②選手情報入力!I44)","v":""},null,null,null,null,null,null,null,null,"種別種目",{"$f":"IF(②選手情報入力!I45=\"\",\"\",②選手情報入力!I45)","v":""}]
[null,"ナンバー","ﾌ ﾘ ｶﾞﾅ",{"$f":"IF(②選手情報入力!$E$44=\"\",\"\",②選手情報入力!$E$44)","v":""},null,null,"団体名",null,null,null,null,"ナンバー","ﾌ ﾘ ｶﾞﾅ",{"$f":"IF(②選手情報入力!$E$45=\"\",\"\",②選手情報入力!$E$45)","v":""},null,null,"団体名"]
[null,{"$f":"IF(②選手情報入力!$C$44=\"\",\"\",②選手情報入力!$C$44)","v":""},"氏  名",{"$f":"IF(②選手情報入力!$D$44=\"\",\"\",②選手情報入力!$D$44)","v":""},null,null,{"$f":"IF(①団体情報入力!$D$5=\"\",\"\",①団体情報入力!$D$5)","v":""},null,null,null,null,{"$f":"IF(②選手情報入力!$C$45=\"\",\"\",②選手情報入力!$C$45)","v":""},"氏  名",{"$f":"IF(②選手情報入力!$D$45=\"\",\"\",②選手情報入力!$D$45)","v":""},null,null,{"$f":"IF(①団体情報入力!$D$5=\"\",\"\",①団体情報入力!$D$5)","v":""}]
[null,null,"大　会　名",null,"年月日(yy/mm/dd)","順位","記　録",null,"場  所",null,null,null,"大　会　名",null,"年月日(yy/mm/dd)","順位","記　録",null,"場  所"]
[null,"出場資格",null,null,null,null," ＋ ･ －(   .  )",null,null,null,null,"出場資格",null,null,null,null," ＋ ･ －(   .  )"]
[null,"取得大会",null,null,null,null,{"$f":"IF(②選手情報入力!J44=\"\",\"\",②選手情報入力!J44)","v":""},null,null,null,null,"取得大会",null,null,null,null,{"$f":"IF(②選手情報入力!J45=\"\",\"\",②選手情報入力!J45)","v":""}]
[null,"※標準記録突破大会は、公認大会で、記録会は正式名称を記入。",null,null,null,null,null,null,null,null,null,"※標準記録突破大会は、公認大会で、記録会は正式名称を記入。"]
[null,"※記載等不備・不正で、審査の結果返却した場合、再受付はしない。",null,null,null,null,null,null,null,null,null,"※記載等不備・不正で、審査の結果返却した場合、再受付はしない。"]
[null,"※風の記入が必要な種目は、必ず記入。（無記入は無効）",null,null,null,null,null,null,null,null,null,"※風の記入が必要な種目は、必ず記入。（無記入は無効）"]
[null,"※2017年度登録ナンバーで申し込むこと。",null,null,null,null,null,null,null,null,null,"※2017年度登録ナンバーで申し込むこと。"]
[]
[null,"37","2017レディース陸上個人申込票",null,null,null,null,null,"資格審査用",null,null,"38","2017レディース陸上個人申込票",null,null,null,null,null,"資格審査用"]
[null,"種別種目",{"$f":"IF(②選手情報入力!I46=\"\",\"\",②選手情報入力!I46)","v":""},null,null,null,null,null,null,null,null,"種別種目",{"$f":"IF(②選手情報入力!I47=\"\",\"\",②選手情報入力!I47)","v":""}]
[null,"ナンバー","ﾌ ﾘ ｶﾞﾅ",{"$f":"IF(②選手情報入力!$E$46=\"\",\"\",②選手情報入力!$E$46)","v":""},null,null,"団体名",null,null,null,null,"ナンバー","ﾌ ﾘ ｶﾞﾅ",{"$f":"IF(②選手情報入力!$E$47=\"\",\"\",②選手情報入力!$E$47)","v":""},null,null,"団体名"]
[null,{"$f":"IF(②選手情報入力!$C$46=\"\",\"\",②選手情報入力!$C$46)","v":""},"氏  名",{"$f":"IF(②選手情報入力!$D$46=\"\",\"\",②選手情報入力!$D$46)","v":""},null,null,{"$f":"IF(①団体情報入力!$D$5=\"\",\"\",①団体情報入力!$D$5)","v":""},null,null,null,null,{"$f":"IF(②選手情報入力!$C$47=\"\",\"\",②選手情報入力!$C$47)","v":""},"氏  名",{"$f":"IF(②選手情報入力!$D$47=\"\",\"\",②選手情報入力!$D$47)","v":""},null,null,{"$f":"IF(①団体情報入力!$D$5=\"\",\"\",①団体情報入力!$D$5)","v":""}]
[null,null,"大　会　名",null,"年月日(yy/mm/dd)","順位","記　録",null,"場  所",null,null,null,"大　会　名",null,"年月日(yy/mm/dd)","順位","記　録",null,"場  所"]
[null,"出場資格",null,null,null,null," ＋ ･ －(   .  )",null,null,null,null,"出場資格",null,null,null,null," ＋ ･ －(   .  )"]
[null,"取得大会",null,null,null,null,{"$f":"IF(②選手情報入力!J46=\"\",\"\",②選手情報入力!J46)","v":""},null,null,null,null,"取得大会",null,null,null,null,{"$f":"IF(②選手情報入力!J47=\"\",\"\",②選手情報入力!J47)","v":""}]
[null,"※標準記録突破大会は、公認大会で、記録会は正式名称を記入。",null,null,null,null,null,null,null,null,null,"※標準記録突破大会は、公認大会で、記録会は正式名称を記入。"]
[null,"※記載等不備・不正で、審査の結果返却した場合、再受付はしない。",null,null,null,null,null,null,null,null,null,"※記載等不備・不正で、審査の結果返却した場合、再受付はしない。"]
[null,"※風の記入が必要な種目は、必ず記入。（無記入は無効）",null,null,null,null,null,null,null,null,null,"※風の記入が必要な種目は、必ず記入。（無記入は無効）"]
[null,"※2017年度登録ナンバーで申し込むこと。",null,null,null,null,null,null,null,null,null,"※2017年度登録ナンバーで申し込むこと。"]
[]
[null,"39","2017レディース陸上個人申込票",null,null,null,null,null,"資格審査用",null,null,"40","2017レディース陸上個人申込票",null,null,null,null,null,"資格審査用"]
[null,"種別種目",{"$f":"IF(②選手情報入力!I48=\"\",\"\",②選手情報入力!I48)","v":""},null,null,null,null,null,null,null,null,"種別種目",{"$f":"IF(②選手情報入力!I49=\"\",\"\",②選手情報入力!I49)","v":""}]
[null,"ナンバー","ﾌ ﾘ ｶﾞﾅ",{"$f":"IF(②選手情報入力!$E$48=\"\",\"\",②選手情報入力!$E$48)","v":""},null,null,"団体名",null,null,null,null,"ナンバー","ﾌ ﾘ ｶﾞﾅ",{"$f":"IF(②選手情報入力!$E$49=\"\",\"\",②選手情報入力!$E$49)","v":""},null,null,"団体名"]
[null,{"$f":"IF(②選手情報入力!$C$48=\"\",\"\",②選手情報入力!$C$48)","v":""},"氏  名",{"$f":"IF(②選手情報入力!$D$48=\"\",\"\",②選手情報入力!$D$48)","v":""},null,null,{"$f":"IF(①団体情報入力!$D$5=\"\",\"\",①団体情報入力!$D$5)","v":""},null,null,null,null,{"$f":"IF(②選手情報入力!$C$49=\"\",\"\",②選手情報入力!$C$49)","v":""},"氏  名",{"$f":"IF(②選手情報入力!$D$49=\"\",\"\",②選手情報入力!$D$49)","v":""},null,null,{"$f":"IF(①団体情報入力!$D$5=\"\",\"\",①団体情報入力!$D$5)","v":""}]
[null,null,"大　会　名",null,"年月日(yy/mm/dd)","順位","記　録",null,"場  所",null,null,null,"大　会　名",null,"年月日(yy/mm/dd)","順位","記　録",null,"場  所"]
[null,"出場資格",null,null,null,null," ＋ ･ －(   .  )",null,null,null,null,"出場資格",null,null,null,null," ＋ ･ －(   .  )"]
[null,"取得大会",null,null,null,null,{"$f":"IF(②選手情報入力!J48=\"\",\"\",②選手情報入力!J48)","v":""},null,null,null,null,"取得大会",null,null,null,null,{"$f":"IF(②選手情報入力!J49=\"\",\"\",②選手情報入力!J49)","v":""}]
[null,"※標準記録突破大会は、公認大会で、記録会は正式名称を記入。",null,null,null,null,null,null,null,null,null,"※標準記録突破大会は、公認大会で、記録会は正式名称を記入。"]
[null,"※記載等不備・不正で、審査の結果返却した場合、再受付はしない。",null,null,null,null,null,null,null,null,null,"※記載等不備・不正で、審査の結果返却した場合、再受付はしない。"]
[null,"※風の記入が必要な種目は、必ず記入。（無記入は無効）",null,null,null,null,null,null,null,null,null,"※風の記入が必要な種目は、必ず記入。（無記入は無効）"]
[null,"※2017年度登録ナンバーで申し込むこと。",null,null,null,null,null,null,null,null,null,"※2017年度登録ナンバーで申し込むこと。"]
[]
[null,"41","2017レディース陸上個人申込票",null,null,null,null,null,"資格審査用",null,null,"42","2017レディース陸上個人申込票",null,null,null,null,null,"資格審査用"]
[null,"種別種目",{"$f":"IF(②選手情報入力!I50=\"\",\"\",②選手情報入力!I50)","v":""},null,null,null,null,null,null,null,null,"種別種目",{"$f":"IF(②選手情報入力!I51=\"\",\"\",②選手情報入力!I51)","v":""}]
[null,"ナンバー","ﾌ ﾘ ｶﾞﾅ",{"$f":"IF(②選手情報入力!$E$50=\"\",\"\",②選手情報入力!$E$50)","v":""},null,null,"団体名",null,null,null,null,"ナンバー","ﾌ ﾘ ｶﾞﾅ",{"$f":"IF(②選手情報入力!$E$51=\"\",\"\",②選手情報入力!$E$51)","v":""},null,null,"団体名"]
[null,{"$f":"IF(②選手情報入力!$C$50=\"\",\"\",②選手情報入力!$C$50)","v":""},"氏  名",{"$f":"IF(②選手情報入力!$D$50=\"\",\"\",②選手情報入力!$D$50)","v":""},null,null,{"$f":"IF(①団体情報入力!$D$5=\"\",\"\",①団体情報入力!$D$5)","v":""},null,null,null,null,{"$f":"IF(②選手情報入力!$C$51=\"\",\"\",②選手情報入力!$C$51)","v":""},"氏  名",{"$f":"IF(②選手情報入力!$D$51=\"\",\"\",②選手情報入力!$D$51)","v":""},null,null,{"$f":"IF(①団体情報入力!$D$5=\"\",\"\",①団体情報入力!$D$5)","v":""}]
[null,null,"大　会　名",null,"年月日(yy/mm/dd)","順位","記　録",null,"場  所",null,null,null,"大　会　名",null,"年月日(yy/mm/dd)","順位","記　録",null,"場  所"]
[null,"出場資格",null,null,null,null," ＋ ･ －(   .  )",null,null,null,null,"出場資格",null,null,null,null," ＋ ･ －(   .  )"]
[null,"取得大会",null,null,null,null,{"$f":"IF(②選手情報入力!J50=\"\",\"\",②選手情報入力!J50)","v":""},null,null,null,null,"取得大会",null,null,null,null,{"$f":"IF(②選手情報入力!J51=\"\",\"\",②選手情報入力!J51)","v":""}]
[null,"※標準記録突破大会は、公認大会で、記録会は正式名称を記入。",null,null,null,null,null,null,null,null,null,"※標準記録突破大会は、公認大会で、記録会は正式名称を記入。"]
[null,"※記載等不備・不正で、審査の結果返却した場合、再受付はしない。",null,null,null,null,null,null,null,null,null,"※記載等不備・不正で、審査の結果返却した場合、再受付はしない。"]
[null,"※風の記入が必要な種目は、必ず記入。（無記入は無効）",null,null,null,null,null,null,null,null,null,"※風の記入が必要な種目は、必ず記入。（無記入は無効）"]
[null,"※2017年度登録ナンバーで申し込むこと。",null,null,null,null,null,null,null,null,null,"※2017年度登録ナンバーで申し込むこと。"]
[]
[null,"43","2017レディース陸上個人申込票",null,null,null,null,null,"資格審査用",null,null,"44","2017レディース陸上個人申込票",null,null,null,null,null,"資格審査用"]
[null,"種別種目",{"$f":"IF(②選手情報入力!I52=\"\",\"\",②選手情報入力!I52)","v":""},null,null,null,null,null,null,null,null,"種別種目",{"$f":"IF(②選手情報入力!I53=\"\",\"\",②選手情報入力!I53)","v":""}]
[null,"ナンバー","ﾌ ﾘ ｶﾞﾅ",{"$f":"IF(②選手情報入力!$E$52=\"\",\"\",②選手情報入力!$E$52)","v":""},null,null,"団体名",null,null,null,null,"ナンバー","ﾌ ﾘ ｶﾞﾅ",{"$f":"IF(②選手情報入力!$E$53=\"\",\"\",②選手情報入力!$E$53)","v":""},null,null,"団体名"]
[null,{"$f":"IF(②選手情報入力!$C$52=\"\",\"\",②選手情報入力!$C$52)","v":""},"氏  名",{"$f":"IF(②選手情報入力!$D$52=\"\",\"\",②選手情報入力!$D$52)","v":""},null,null,{"$f":"IF(①団体情報入力!$D$5=\"\",\"\",①団体情報入力!$D$5)","v":""},null,null,null,null,{"$f":"IF(②選手情報入力!$C$53=\"\",\"\",②選手情報入力!$C$53)","v":""},"氏  名",{"$f":"IF(②選手情報入力!$D$53=\"\",\"\",②選手情報入力!$D$53)","v":""},null,null,{"$f":"IF(①団体情報入力!$D$5=\"\",\"\",①団体情報入力!$D$5)","v":""}]
[null,null,"大　会　名",null,"年月日(yy/mm/dd)","順位","記　録",null,"場  所",null,null,null,"大　会　名",null,"年月日(yy/mm/dd)","順位","記　録",null,"場  所"]
[null,"出場資格",null,null,null,null," ＋ ･ －(   .  )",null,null,null,null,"出場資格",null,null,null,null," ＋ ･ －(   .  )"]
[null,"取得大会",null,null,null,null,{"$f":"IF(②選手情報入力!J52=\"\",\"\",②選手情報入力!J52)","v":""},null,null,null,null,"取得大会",null,null,null,null,{"$f":"IF(②選手情報入力!J53=\"\",\"\",②選手情報入力!J53)","v":""}]
[null,"※標準記録突破大会は、公認大会で、記録会は正式名称を記入。",null,null,null,null,null,null,null,null,null,"※標準記録突破大会は、公認大会で、記録会は正式名称を記入。"]
[null,"※記載等不備・不正で、審査の結果返却した場合、再受付はしない。",null,null,null,null,null,null,null,null,null,"※記載等不備・不正で、審査の結果返却した場合、再受付はしない。"]
[null,"※風の記入が必要な種目は、必ず記入。（無記入は無効）",null,null,null,null,null,null,null,null,null,"※風の記入が必要な種目は、必ず記入。（無記入は無効）"]
[null,"※2017年度登録ナンバーで申し込むこと。",null,null,null,null,null,null,null,null,null,"※2017年度登録ナンバーで申し込むこと。"]
[]
[null,"45","2017レディース陸上個人申込票",null,null,null,null,null,"資格審査用",null,null,"46","2017レディース陸上個人申込票",null,null,null,null,null,"資格審査用"]
[null,"種別種目",{"$f":"IF(②選手情報入力!I54=\"\",\"\",②選手情報入力!I54)","v":""},null,null,null,null,null,null,null,null,"種別種目",{"$f":"IF(②選手情報入力!I55=\"\",\"\",②選手情報入力!I55)","v":""}]
[null,"ナンバー","ﾌ ﾘ ｶﾞﾅ",{"$f":"IF(②選手情報入力!$E$54=\"\",\"\",②選手情報入力!$E$54)","v":""},null,null,"団体名",null,null,null,null,"ナンバー","ﾌ ﾘ ｶﾞﾅ",{"$f":"IF(②選手情報入力!$E$55=\"\",\"\",②選手情報入力!$E$55)","v":""},null,null,"団体名"]
[null,{"$f":"IF(②選手情報入力!$C$54=\"\",\"\",②選手情報入力!$C$54)","v":""},"氏  名",{"$f":"IF(②選手情報入力!$D$54=\"\",\"\",②選手情報入力!$D$54)","v":""},null,null,{"$f":"IF(①団体情報入力!$D$5=\"\",\"\",①団体情報入力!$D$5)","v":""},null,null,null,null,{"$f":"IF(②選手情報入力!$C$55=\"\",\"\",②選手情報入力!$C$55)","v":""},"氏  名",{"$f":"IF(②選手情報入力!$D$55=\"\",\"\",②選手情報入力!$D$55)","v":""},null,null,{"$f":"IF(①団体情報入力!$D$5=\"\",\"\",①団体情報入力!$D$5)","v":""}]
[null,null,"大　会　名",null,"年月日(yy/mm/dd)","順位","記　録",null,"場  所",null,null,null,"大　会　名",null,"年月日(yy/mm/dd)","順位","記　録",null,"場  所"]
[null,"出場資格",null,null,null,null," ＋ ･ －(   .  )",null,null,null,null,"出場資格",null,null,null,null," ＋ ･ －(   .  )"]
[null,"取得大会",null,null,null,null,{"$f":"IF(②選手情報入力!J54=\"\",\"\",②選手情報入力!J54)","v":""},null,null,null,null,"取得大会",null,null,null,null,{"$f":"IF(②選手情報入力!J55=\"\",\"\",②選手情報入力!J55)","v":""}]
[null,"※標準記録突破大会は、公認大会で、記録会は正式名称を記入。",null,null,null,null,null,null,null,null,null,"※標準記録突破大会は、公認大会で、記録会は正式名称を記入。"]
[null,"※記載等不備・不正で、審査の結果返却した場合、再受付はしない。",null,null,null,null,null,null,null,null,null,"※記載等不備・不正で、審査の結果返却した場合、再受付はしない。"]
[null,"※風の記入が必要な種目は、必ず記入。（無記入は無効）",null,null,null,null,null,null,null,null,null,"※風の記入が必要な種目は、必ず記入。（無記入は無効）"]
[null,"※2017年度登録ナンバーで申し込むこと。",null,null,null,null,null,null,null,null,null,"※2017年度登録ナンバーで申し込むこと。"]
[]
[null,"47","2017レディース陸上個人申込票",null,null,null,null,null,"資格審査用",null,null,"48","2017レディース陸上個人申込票",null,null,null,null,null,"資格審査用"]
[null,"種別種目",{"$f":"IF(②選手情報入力!I56=\"\",\"\",②選手情報入力!I56)","v":""},null,null,null,null,null,null,null,null,"種別種目",{"$f":"IF(②選手情報入力!I57=\"\",\"\",②選手情報入力!I57)","v":""}]
[null,"ナンバー","ﾌ ﾘ ｶﾞﾅ",{"$f":"IF(②選手情報入力!$E$56=\"\",\"\",②選手情報入力!$E$56)","v":""},null,null,"団体名",null,null,null,null,"ナンバー","ﾌ ﾘ ｶﾞﾅ",{"$f":"IF(②選手情報入力!$E$57=\"\",\"\",②選手情報入力!$E$57)","v":""},null,null,"団体名"]
[null,{"$f":"IF(②選手情報入力!$C$56=\"\",\"\",②選手情報入力!$C$56)","v":""},"氏  名",{"$f":"IF(②選手情報入力!$D$56=\"\",\"\",②選手情報入力!$D$56)","v":""},null,null,{"$f":"IF(①団体情報入力!$D$5=\"\",\"\",①団体情報入力!$D$5)","v":""},null,null,null,null,{"$f":"IF(②選手情報入力!$C$57=\"\",\"\",②選手情報入力!$C$57)","v":""},"氏  名",{"$f":"IF(②選手情報入力!$D$57=\"\",\"\",②選手情報入力!$D$57)","v":""},null,null,{"$f":"IF(①団体情報入力!$D$5=\"\",\"\",①団体情報入力!$D$5)","v":""}]
[null,null,"大　会　名",null,"年月日(yy/mm/dd)","順位","記　録",null,"場  所",null,null,null,"大　会　名",null,"年月日(yy/mm/dd)","順位","記　録",null,"場  所"]
[null,"出場資格",null,null,null,null," ＋ ･ －(   .  )",null,null,null,null,"出場資格",null,null,null,null," ＋ ･ －(   .  )"]
[null,"取得大会",null,null,null,null,{"$f":"IF(②選手情報入力!J56=\"\",\"\",②選手情報入力!J56)","v":""},null,null,null,null,"取得大会",null,null,null,null,{"$f":"IF(②選手情報入力!J57=\"\",\"\",②選手情報入力!J57)","v":""}]
[null,"※標準記録突破大会は、公認大会で、記録会は正式名称を記入。",null,null,null,null,null,null,null,null,null,"※標準記録突破大会は、公認大会で、記録会は正式名称を記入。"]
[null,"※記載等不備・不正で、審査の結果返却した場合、再受付はしない。",null,null,null,null,null,null,null,null,null,"※記載等不備・不正で、審査の結果返却した場合、再受付はしない。"]
[null,"※風の記入が必要な種目は、必ず記入。（無記入は無効）",null,null,null,null,null,null,null,null,null,"※風の記入が必要な種目は、必ず記入。（無記入は無効）"]
[null,"※2017年度登録ナンバーで申し込むこと。",null,null,null,null,null,null,null,null,null,"※2017年度登録ナンバーで申し込むこと。"]

{"sheet":"⑦リレー個票","index":7,"n_rows":17,"n_cols":6,"rows_kept":17,"cut":false,"hidden":false,"merged":[[16,2,16,4],[16,5,16,6],[13,2,13,4],[13,5,13,6],[14,2,14,4],[14,5,14,6],[7,1,9,6],[4,5,4,6],[3,1,3,6],[15,2,15,4],[15,5,15,6],[11,2,11,4],[11,5,11,6],[12,2,12,4],[12,5,12,6],[4,2,6,4],[5,5,6,6]]}
[]
[]
[]
[null,"2017愛知レディース陸上    リレー申込票"]
[null,null,"メドレーＲ",null,null,"記 　録"]
[null,"種  目",null,null,null,{"$f":"IF(③リレー情報確認!R14=0,\"\",③リレー情報確認!R8)","v":""}]
[]
[null,{"$f":"IF(③リレー情報確認!R14=0,\"\",③リレー情報確認!J1)","v":""}]
[]
[]
[null,"ナンバー","氏　　　名",null,null,"ﾌ ﾘ ｶﾞﾅ"]
[null,{"$f":"IF(③リレー情報確認!O8=\"\",\"\",③リレー情報確認!O8)","v":""},{"$f":"IF(③リレー情報確認!P8=\"\",\"\",③リレー情報確認!P8)","v":""},null,null,{"$f":"IF(C12=\"\",\"\",VLOOKUP(⑦リレー個票!B12,②選手情報入力!C:E,3,0))","v":""}]
[null,{"$f":"IF(③リレー情報確認!O9=\"\",\"\",③リレー情報確認!O9)","v":""},{"$f":"IF(③リレー情報確認!P9=\"\",\"\",③リレー情報確認!P9)","v":""},null,null,{"$f":"IF(C13=\"\",\"\",VLOOKUP(⑦リレー個票!B13,②選手情報入力!C:E,3,0))","v":""}]
[null,{"$f":"IF(③リレー情報確認!O10=\"\",\"\",③リレー情報確認!O10)","v":""},{"$f":"IF(③リレー情報確認!P10=\"\",\"\",③リレー情報確認!P10)","v":""},null,null,{"$f":"IF(C14=\"\",\"\",VLOOKUP(⑦リレー個票!B14,②選手情報入力!C:E,3,0))","v":""}]
[null,{"$f":"IF(③リレー情報確認!O11=\"\",\"\",③リレー情報確認!O11)","v":""},{"$f":"IF(③リレー情報確認!P11=\"\",\"\",③リレー情報確認!P11)","v":""},null,null,{"$f":"IF(C15=\"\",\"\",VLOOKUP(⑦リレー個票!B15,②選手情報入力!C:E,3,0))","v":""}]
[null,{"$f":"IF(③リレー情報確認!O12=\"\",\"\",③リレー情報確認!O12)","v":""},{"$f":"IF(③リレー情報確認!P12=\"\",\"\",③リレー情報確認!P12)","v":""},null,null,{"$f":"IF(C16=\"\",\"\",VLOOKUP(⑦リレー個票!B16,②選手情報入力!C:E,3,0))","v":""}]
[null,{"$f":"IF(③リレー情報確認!O13=\"\",\"\",③リレー情報確認!O13)","v":""},{"$f":"IF(③リレー情報確認!P13=\"\",\"\",③リレー情報確認!P13)","v":""},null,null,{"$f":"IF(C17=\"\",\"\",VLOOKUP(⑦リレー個票!B17,②選手情報入力!C:E,3,0))","v":""}]

{"sheet":"　　　　　","index":8,"n_rows":0,"n_cols":0,"rows_kept":0,"cut":false,"hidden":false,"merged":[]}

{"sheet":"種目情報","index":9,"n_rows":55,"n_cols":15,"rows_kept":55,"cut":false,"hidden":false,"merged":[[3,12,28,12],[30,12,50,12],[1,13,1,14],[0,0,0,2],[0,4,0,6],[0,8,0,10],[1,0,2,0],[1,4,2,4],[1,8,2,8]]}
["男子",null,null,null,"女子",null,null,null,"リレー"]
["種目","種目","記録",null,"種目","種目","記録",null,"種目","種目","記録",null,null,"一覧表用　種目名"]
[null,"No","FLAG",null,null,"No","FLAG",null,null,"No","FLAG"]
[null,null,null,null,"100m",10,2,null,null,null,2,null,"男　　　子","100m","100m"]
[null,null,null,null,"200m",11,2,null,null,null,2,null,null,"200m","200m"]
[null,null,null,null,"400m",12,2,null,"共通メドレーＲ",25,2,null,null,"400m","400m"]
[null,null,null,null,"800m",13,2,null,null,null,2,null,null,"800m","800m"]
[null,null,null,null,"1500m",14,2,null,null,null,null,null,null,"1500m","1500m"]
[null,null,null,null,"100mH(0.838m)",15,2,null,null,null,null,null,null,"100mH(0.838m)","100mH(0.838m)"]
[null,null,null,null,"400mH(0.762m)",16,2,null,null,null,null,null,null,"400mH(0.762m)","400mH(0.762m)"]
[null,null,null,null,"3000mSC(0.762m)",17,2,null,null,null,null,null,null,"3000mSC(0.762m)","3000mSC(0.762m)"]
[null,null,null,null,"走高跳",18,0,null,null,null,null,null,null,"走高跳","走高跳"]
[null,null,null,null,"走幅跳",19,0,null,null,null,null,null,null,"走幅跳","走幅跳"]
[null,null,null,null,"三段跳",20,0,null,null,null,null,null,null,"三段跳","三段跳"]
[null,null,null,null,"砲丸投(4.000kg)",21,0,null,null,null,null,null,null,"砲丸投(4.000kg)","砲丸投(4.000kg)"]
[null,null,null,null,"円盤投(1.000kg)",22,0,null,null,null,null,null,null,"円盤投(1.000kg)","円盤投(1.000kg)"]
[null,null,null,null,"やり投(600g)",23,0,null,null,null,null,null,null,"やり投(600g)","やり投(600g)"]
[null,null,null,null,"共通棒高跳",24,0,null,null,null,null,null,null,"共通棒高跳","共通棒高跳"]
[]
[null,null,null,null,"中学100m",1]
[null,null,null,null,"中学200m",2]
[null,null,null,null,"中学800m",3]
[null,null,null,null,"中学1500m",4]
[null,null,null,null,"中学100mH(0.762/8.0m)",5]
[null,null,null,null,"中学走高跳",6]
[null,null,null,null,"中学走幅跳",7]
[null,null,null,null,"中学砲丸投(2.721kg)",8]
[null,null,null,null,null,9]
[null,null,null,null,"共通棒高跳",24]
[]
[null,null,null,null,null,null,null,null,null,null,null,null,"女　　　子","100m","100m"]
[null,null,null,null,null,null,null,null,null,null,null,null,null,"200m","200m"]
[null,null,null,null,null,null,null,null,null,null,null,null,null,"400m","400m"]
[null,null,null,null,null,null,null,null,null,null,null,null,null,"800m","800m"]
[null,null,null,null,null,null,null,null,null,null,null,null,null,"1500m","1500m"]
[null,null,null,null,null,null,null,null,null,null,null,null,null,"100mH(0.838m)","100mH(0.838m)"]
[null,null,null,null,null,null,null,null,null,null,null,null,null,"400mH(0.762m)","400mH(0.762m)"]
[null,null,null,null,null,null,null,null,null,null,null,null,null,"3000mSC(0.762m)","3000mSC(0.762m)"]
[null,null,null,null,null,null,null,null,null,null,null,null,null,"走高跳","走高跳"]
[null,null,null,null,null,null,null,null,null,null,null,null,null,"走幅跳","走幅跳"]
[null,null,null,null,null,null,null,null,null,null,null,null,null,"三段跳","三段跳"]
[null,null,null,null,null,null,null,null,null,null,null,null,null,"砲丸投(4.000kg)","砲丸投(4.000kg)"]
[null,null,null,null,null,null,null,null,null,null,null,null,null,"円盤投(1.000kg)","円盤投(1.000kg)"]
[null,null,null,null,null,null,null,null,null,null,null,null,null,"やり投(600g)","やり投(600g)"]
[null,null,null,null,null,null,null,null,null,null,null,null,null,"共通棒高跳","共通棒高跳"]
[null,null,null,null,null,null,null,null,null,null,null,null,null,"中学100m","中学100m"]
[null,null,null,null,null,null,null,null,null,null,null,null,null,"中学200m","中学200m"]
[null,null,null,null,null,null,null,null,null,null,null,null,null,"中学800m","中学800m"]
[null,null,null,null,null,null,null,null,null,null,null,null,null,"中学1500m","中学1500m"]
[null,null,null,null,null,null,null,null,null,null,null,null,null,"中学100mH(0.762/8.0m)","中学100mH(0.762/8.0m)"]
[null,null,null,null,null,null,null,null,null,null,null,null,null,"中学走高跳","中学走高跳"]
[null,null,null,null,null,null,null,null,null,null,null,null,null,"中学走幅跳","中学走幅跳"]
[null,null,null,null,null,null,null,null,null,null,null,null,null,"中学砲丸投(2.721kg)","中学砲丸投(2.721kg)"]
[]
[null,null,null,null,null,null,null,null,null,null,null,null,null,"L共通棒高跳","L共通棒高跳"]

{"sheet":"data_kyogisha","index":10,"n_rows":49,"n_cols":34,"rows_kept":49,"cut":false,"hidden":false,"merged":[]}
["競技者NO","所属コード1","所属コード2","ナンバー","ナンバー2","競技者名","競技者名カナ","競技者名略称","性別","学年","生年","月日","個人所属地名","陸連コード","参加競技-競技コード1","参加競技-自己記録1","参加競技-オープン参加FLG1","参加競技-記録FLG1","参加競技-競技コード2","参加競技-自己記録2","参加競技-オープン参加FLG2","参加競技-記録FLG2","参加競技-競技コード3","参加競技-自己記録3","参加競技-オープン参加FLG3","参加競技-記録FLG3","参加競技-競技コード4","参加競技-自己記録4","参加競技-オープン参加FLG4","参加競技-記録FLG4","参加競技-競技コード5","参加競技-自己記録5","参加競技-オープン参加FLG5","参加競技-記録FLG5"]
[{"$f":"IF(E2=\"\",\"\",I2*1000000+①団体情報入力!$D$3*1000+②選手情報入力!A10)","v":""},{"$f":"IF(E2=\"\",\"\",①団体情報入力!$D$3)","v":""},null,{"$f":"IF(②選手情報入力!B10=\"\",\"\",②選手情報入力!B10)","v":""},{"$f":"IF(②選手情報入力!C10=\"\",\"\",②選手情報入力!C10)","v":""},{"$f":"IF(E2=\"\",\"\",②選手情報入力!D10)","v":""},{"$f":"IF(E2=\"\",\"\",②選手情報入力!E10)","v":""},{"$f":"IF(E2=\"\",\"\",F2)","v":""},{"$f":"IF(E2=\"\",\"\",IF(②選手情報入力!G10=\"男\",1,2))","v":""},{"$f":"IF(E2=\"\",\"\",IF(②選手情報入力!H10=\"\",\"\",②選手情報入力!H10))","v":""},null,{"$f":"IF(E2=\"\",\"\",0)","v":""},{"$f":"IF(E2=\"\",\"\",\"愛知\")","v":""},null,{"$f":"IF(E2=\"\",\"\",IF(②選手情報入力!I10=\"\",\"\",IF(I2=1,VLOOKUP(②選手情報入力!I10,種目情報!$A$4:$B$221,2,FALSE),VLOOKUP(②選手情報入力!I10,種目情報!$E$4:$F$221,2,FALSE))))","v":""},{"$f":"IF(E2=\"\",\"\",IF(②選手情報入力!J10=\"\",\"\",②選手情報入力!J10))","v":""},{"$f":"IF(E2=\"\",\"\",IF(②選手情報入力!I10=\"\",\"\",0))","v":""},{"$f":"IF(E2=\"\",\"\",IF(②選手情報入力!I10=\"\",\"\",IF(I2=1,VLOOKUP(②選手情報入力!I10,種目情報!$A$4:$C$21,3,FALSE),VLOOKUP(②選手情報入力!I10,種目情報!$E$4:$G$251,3,FALSE))))","v":""},null,null,null,null,null,null,null,null,{"$f":"IF(E2=\"\",\"\",IF(②選手情報入力!O10=\"\",\"\",IF(I2=1,種目情報!$J$4,種目情報!$J$6)))","v":""},{"$f":"IF(E2=\"\",\"\",IF(②選手情報入力!O10=\"\",\"\",IF(I2=1,IF(②選手情報入力!$O$5=\"\",\"\",②選手情報入力!$O$5),IF(②選手情報入力!$O$6=\"\",\"\",②選手情報入力!$O$6))))","v":""},{"$f":"IF(E2=\"\",\"\",IF(②選手情報入力!O10=\"\",\"\",0))","v":""},{"$f":"IF(E2=\"\",\"\",IF(②選手情報入力!O10=\"\",\"\",2))","v":""}]
[{"$f":"IF(E3=\"\",\"\",I3*1000000+①団体情報入力!$D$3*1000+②選手情報入力!A11)","v":""},{"$f":"IF(E3=\"\",\"\",①団体情報入力!$D$3)","v":""},null,{"$f":"IF(②選手情報入力!B11=\"\",\"\",②選手情報入力!B11)","v":""},{"$f":"IF(②選手情報入力!C11=\"\",\"\",②選手情報入力!C11)","v":""},{"$f":"IF(E3=\"\",\"\",②選手情報入力!D11)","v":""},{"$f":"IF(E3=\"\",\"\",②選手情報入力!E11)","v":""},{"$f":"IF(E3=\"\",\"\",F3)","v":""},{"$f":"IF(E3=\"\",\"\",IF(②選手情報入力!G11=\"男\",1,2))","v":""},{"$f":"IF(E3=\"\",\"\",IF(②選手情報入力!H11=\"\",\"\",②選手情報入力!H11))","v":""},null,{"$f":"IF(E3=\"\",\"\",0)","v":""},{"$f":"IF(E3=\"\",\"\",\"愛知\")","v":""},null,{"$f":"IF(E3=\"\",\"\",IF(②選手情報入力!I11=\"\",\"\",IF(I3=1,VLOOKUP(②選手情報入力!I11,種目情報!$A$4:$B$221,2,FALSE),VLOOKUP(②選手情報入力!I11,種目情報!$E$4:$F$221,2,FALSE))))","v":""},{"$f":"IF(E3=\"\",\"\",IF(②選手情報入力!J11=\"\",\"\",②選手情報入力!J11))","v":""},{"$f":"IF(E3=\"\",\"\",IF(②選手情報入力!I11=\"\",\"\",0))","v":""},{"$f":"IF(E3=\"\",\"\",IF(②選手情報入力!I11=\"\",\"\",IF(I3=1,VLOOKUP(②選手情報入力!I11,種目情報!$A$4:$C$21,3,FALSE),VLOOKUP(②選手情報入力!I11,種目情報!$E$4:$G$251,3,FALSE))))","v":""},null,null,null,null,null,null,null,null,{"$f":"IF(E3=\"\",\"\",IF(②選手情報入力!O11=\"\",\"\",IF(I3=1,種目情報!$J$4,種目情報!$J$6)))","v":""},{"$f":"IF(E3=\"\",\"\",IF(②選手情報入力!O11=\"\",\"\",IF(I3=1,IF(②選手情報入力!$O$5=\"\",\"\",②選手情報入力!$O$5),IF(②選手情報入力!$O$6=\"\",\"\",②選手情報入力!$O$6))))","v":""},{"$f":"IF(E3=\"\",\"\",IF(②選手情報入力!O11=\"\",\"\",0))","v":""},{"$f":"IF(E3=\"\",\"\",IF(②選手情報入力!O11=\"\",\"\",2))","v":""}]
[{"$f":"IF(E4=\"\",\"\",I4*1000000+①団体情報入力!$D$3*1000+②選手情報入力!A12)","v":""},{"$f":"IF(E4=\"\",\"\",①団体情報入力!$D$3)","v":""},null,{"$f":"IF(②選手情報入力!B12=\"\",\"\",②選手情報入力!B12)","v":""},{"$f":"IF(②選手情報入力!C12=\"\",\"\",②選手情報入力!C12)","v":""},{"$f":"IF(E4=\"\",\"\",②選手情報入力!D12)","v":""},{"$f":"IF(E4=\"\",\"\",②選手情報入力!E12)","v":""},"",{"$f":"IF(E4=\"\",\"\",IF(②選手情報入力!G12=\"男\",1,2))","v":""},{"$f":"IF(E4=\"\",\"\",IF(②選手情報入力!H12=\"\",\"\",②選手情報入力!H12))","v":""},null,"","",null,{"$f":"IF(E4=\"\",\"\",IF(②選手情報入力!I12=\"\",\"\",IF(I4=1,VLOOKUP(②選手情報入力!I12,種目情報!$A$4:$B$221,2,FALSE),VLOOKUP(②選手情報入力!I12,種目情報!$E$4:$F$221,2,FALSE))))","v":""},{"$f":"IF(E4=\"\",\"\",IF(②選手情報入力!J12=\"\",\"\",②選手情報入力!J12))","v":""},{"$f":"IF(E4=\"\",\"\",IF(②選手情報入力!I12=\"\",\"\",0))","v":""},{"$f":"IF(E4=\"\",\"\",IF(②選手情報入力!I12=\"\",\"\",IF(I4=1,VLOOKUP(②選手情報入力!I12,種目情報!$A$4:$C$21,3,FALSE),VLOOKUP(②選手情報入力!I12,種目情報!$E$4:$G$251,3,FALSE))))","v":""},null,null,null,null,null,null,null,null,{"$f":"IF(E4=\"\",\"\",IF(②選手情報入力!O12=\"\",\"\",IF(I4=1,種目情報!$J$4,種目情報!$J$6)))","v":""},{"$f":"IF(E4=\"\",\"\",IF(②選手情報入力!O12=\"\",\"\",IF(I4=1,IF(②選手情報入力!$O$5=\"\",\"\",②選手情報入力!$O$5),IF(②選手情報入力!$O$6=\"\",\"\",②選手情報入力!$O$6))))","v":""},{"$f":"IF(E4=\"\",\"\",IF(②選手情報入力!O12=\"\",\"\",0))","v":""},{"$f":"IF(E4=\"\",\"\",IF(②選手情報入力!O12=\"\",\"\",2))","v":""}]
[{"$f":"IF(E5=\"\",\"\",I5*1000000+①団体情報入力!$D$3*1000+②選手情報入力!A13)","v":""},{"$f":"IF(E5=\"\",\"\",①団体情報入力!$D$3)","v":""},null,{"$f":"IF(②選手情報入力!B13=\"\",\"\",②選手情報入力!B13)","v":""},{"$f":"IF(②選手情報入力!C13=\"\",\"\",②選手情報入力!C13)","v":""},{"$f":"IF(E5=\"\",\"\",②選手情報入力!D13)","v":""},{"$f":"IF(E5=\"\",\"\",②選手情報入力!E13)","v":""},"",{"$f":"IF(E5=\"\",\"\",IF(②選手情報入力!G13=\"男\",1,2))","v":""},{"$f":"IF(E5=\"\",\"\",IF(②選手情報入力!H13=\"\",\"\",②選手情報入力!H13))","v":""},null,"","",null,{"$f":"IF(E5=\"\",\"\",IF(②選手情報入力!I13=\"\",\"\",IF(I5=1,VLOOKUP(②選手情報入力!I13,種目情報!$A$4:$B$221,2,FALSE),VLOOKUP(②選手情報入力!I13,種目情報!$E$4:$F$221,2,FALSE))))","v":""},{"$f":"IF(E5=\"\",\"\",IF(②選手情報入力!J13=\"\",\"\",②選手情報入力!J13))","v":""},{"$f":"IF(E5=\"\",\"\",IF(②選手情報入力!I13=\"\",\"\",0))","v":""},{"$f":"IF(E5=\"\",\"\",IF(②選手情報入力!I13=\"\",\"\",IF(I5=1,VLOOKUP(②選手情報入力!I13,種目情報!$A$4:$C$21,3,FALSE),VLOOKUP(②選手情報入力!I13,種目情報!$E$4:$G$251,3,FALSE))))","v":""},null,null,null,null,null,null,null,null,{"$f":"IF(E5=\"\",\"\",IF(②選手情報入力!O13=\"\",\"\",IF(I5=1,種目情報!$J$4,種目情報!$J$6)))","v":""},{"$f":"IF(E5=\"\",\"\",IF(②選手情報入力!O13=\"\",\"\",IF(I5=1,IF(②選手情報入力!$O$5=\"\",\"\",②選手情報入力!$O$5),IF(②選手情報入力!$O$6=\"\",\"\",②選手情報入力!$O$6))))","v":""},{"$f":"IF(E5=\"\",\"\",IF(②選手情報入力!O13=\"\",\"\",0))","v":""},{"$f":"IF(E5=\"\",\"\",IF(②選手情報入力!O13=\"\",\"\",2))","v":""}]
[{"$f":"IF(E6=\"\",\"\",I6*1000000+①団体情報入力!$D$3*1000+②選手情報入力!A14)","v":""},{"$f":"IF(E6=\"\",\"\",①団体情報入力!$D$3)","v":""},null,{"$f":"IF(②選手情報入力!B14=\"\",\"\",②選手情報入力!B14)","v":""},{"$f":"IF(②選手情報入力!C14=\"\",\"\",②選手情報入力!C14)","v":""},{"$f":"IF(E6=\"\",\"\",②選手情報入力!D14)","v":""},{"$f":"IF(E6=\"\",\"\",②選手情報入力!E14)","v":""},"",{"$f":"IF(E6=\"\",\"\",IF(②選手情報入力!G14=\"男\",1,2))","v":""},{"$f":"IF(E6=\"\",\"\",IF(②選手情報入力!H14=\"\",\"\",②選手情報入力!H14))","v":""},null,"","",null,{"$f":"IF(E6=\"\",\"\",IF(②選手情報入力!I14=\"\",\"\",IF(I6=1,VLOOKUP(②選手情報入力!I14,種目情報!$A$4:$B$221,2,FALSE),VLOOKUP(②選手情報入力!I14,種目情報!$E$4:$F$221,2,FALSE))))","v":""},{"$f":"IF(E6=\"\",\"\",IF(②選手情報入力!J14=\"\",\"\",②選手情報入力!J14))","v":""},{"$f":"IF(E6=\"\",\"\",IF(②選手情報入力!I14=\"\",\"\",0))","v":""},{"$f":"IF(E6=\"\",\"\",IF(②選手情報入力!I14=\"\",\"\",IF(I6=1,VLOOKUP(②選手情報入力!I14,種目情報!$A$4:$C$21,3,FALSE),VLOOKUP(②選手情報入力!I14,種目情報!$E$4:$G$251,3,FALSE))))","v":""},null,null,null,null,null,null,null,null,{"$f":"IF(E6=\"\",\"\",IF(②選手情報入力!O14=\"\",\"\",IF(I6=1,種目情報!$J$4,種目情報!$J$6)))","v":""},{"$f":"IF(E6=\"\",\"\",IF(②選手情報入力!O14=\"\",\"\",IF(I6=1,IF(②選手情報入力!$O$5=\"\",\"\",②選手情報入力!$O$5),IF(②選手情報入力!$O$6=\"\",\"\",②選手情報入力!$O$6))))","v":""},{"$f":"IF(E6=\"\",\"\",IF(②選手情報入力!O14=\"\",\"\",0))","v":""},{"$f":"IF(E6=\"\",\"\",IF(②選手情報入力!O14=\"\",\"\",2))","v":""}]
[{"$f":"IF(E7=\"\",\"\",I7*1000000+①団体情報入力!$D$3*1000+②選手情報入力!A15)","v":""},{"$f":"IF(E7=\"\",\"\",①団体情報入力!$D$3)","v":""},null,{"$f":"IF(②選手情報入力!B15=\"\",\"\",②選手情報入力!B15)","v":""},{"$f":"IF(②選手情報入力!C15=\"\",\"\",②選手情報入力!C15)","v":""},{"$f":"IF(E7=\"\",\"\",②選手情報入力!D15)","v":""},{"$f":"IF(E7=\"\",\"\",②選手情報入力!E15)","v":""},"",{"$f":"IF(E7=\"\",\"\",IF(②選手情報入力!G15=\"男\",1,2))","v":""},{"$f":"IF(E7=\"\",\"\",IF(②選手情報入力!H15=\"\",\"\",②選手情報入力!H15))","v":""},null,"","",null,{"$f":"IF(E7=\"\",\"\",IF(②選手情報入力!I15=\"\",\"\",IF(I7=1,VLOOKUP(②選手情報入力!I15,種目情報!$A$4:$B$221,2,FALSE),VLOOKUP(②選手情報入力!I15,種目情報!$E$4:$F$221,2,FALSE))))","v":""},{"$f":"IF(E7=\"\",\"\",IF(②選手情報入力!J15=\"\",\"\",②選手情報入力!J15))","v":""},{"$f":"IF(E7=\"\",\"\",IF(②選手情報入力!I15=\"\",\"\",0))","v":""},{"$f":"IF(E7=\"\",\"\",IF(②選手情報入力!I15=\"\",\"\",IF(I7=1,VLOOKUP(②選手情報入力!I15,種目情報!$A$4:$C$21,3,FALSE),VLOOKUP(②選手情報入力!I15,種目情報!$E$4:$G$251,3,FALSE))))","v":""},null,null,null,null,null,null,null,null,{"$f":"IF(E7=\"\",\"\",IF(②選手情報入力!O15=\"\",\"\",IF(I7=1,種目情報!$J$4,種目情報!$J$6)))","v":""},{"$f":"IF(E7=\"\",\"\",IF(②選手情報入力!O15=\"\",\"\",IF(I7=1,IF(②選手情報入力!$O$5=\"\",\"\",②選手情報入力!$O$5),IF(②選手情報入力!$O$6=\"\",\"\",②選手情報入力!$O$6))))","v":""},{"$f":"IF(E7=\"\",\"\",IF(②選手情報入力!O15=\"\",\"\",0))","v":""},{"$f":"IF(E7=\"\",\"\",IF(②選手情報入力!O15=\"\",\"\",2))","v":""}]
[{"$f":"IF(E8=\"\",\"\",I8*1000000+①団体情報入力!$D$3*1000+②選手情報入力!A16)","v":""},{"$f":"IF(E8=\"\",\"\",①団体情報入力!$D$3)","v":""},null,{"$f":"IF(②選手情報入力!B16=\"\",\"\",②選手情報入力!B16)","v":""},{"$f":"IF(②選手情報入力!C16=\"\",\"\",②選手情報入力!C16)","v":""},{"$f":"IF(E8=\"\",\"\",②選手情報入力!D16)","v":""},{"$f":"IF(E8=\"\",\"\",②選手情報入力!E16)","v":""},"",{"$f":"IF(E8=\"\",\"\",IF(②選手情報入力!G16=\"男\",1,2))","v":""},{"$f":"IF(E8=\"\",\"\",IF(②選手情報入力!H16=\"\",\"\",②選手情報入力!H16))","v":""},null,"","",null,{"$f":"IF(E8=\"\",\"\",IF(②選手情報入力!I16=\"\",\"\",IF(I8=1,VLOOKUP(②選手情報入力!I16,種目情報!$A$4:$B$221,2,FALSE),VLOOKUP(②選手情報入力!I16,種目情報!$E$4:$F$221,2,FALSE))))","v":""},{"$f":"IF(E8=\"\",\"\",IF(②選手情報入力!J16=\"\",\"\",②選手情報入力!J16))","v":""},{"$f":"IF(E8=\"\",\"\",IF(②選手情報入力!I16=\"\",\"\",0))","v":""},{"$f":"IF(E8=\"\",\"\",IF(②選手情報入力!I16=\"\",\"\",IF(I8=1,VLOOKUP(②選手情報入力!I16,種目情報!$A$4:$C$21,3,FALSE),VLOOKUP(②選手情報入力!I16,種目情報!$E$4:$G$251,3,FALSE))))","v":""},null,null,null,null,null,null,null,null,{"$f":"IF(E8=\"\",\"\",IF(②選手情報入力!O16=\"\",\"\",IF(I8=1,種目情報!$J$4,種目情報!$J$6)))","v":""},{"$f":"IF(E8=\"\",\"\",IF(②選手情報入力!O16=\"\",\"\",IF(I8=1,IF(②選手情報入力!$O$5=\"\",\"\",②選手情報入力!$O$5),IF(②選手情報入力!$O$6=\"\",\"\",②選手情報入力!$O$6))))","v":""},{"$f":"IF(E8=\"\",\"\",IF(②選手情報入力!O16=\"\",\"\",0))","v":""},{"$f":"IF(E8=\"\",\"\",IF(②選手情報入力!O16=\"\",\"\",2))","v":""}]
[{"$f":"IF(E9=\"\",\"\",I9*1000000+①団体情報入力!$D$3*1000+②選手情報入力!A17)","v":""},{"$f":"IF(E9=\"\",\"\",①団体情報入力!$D$3)","v":""},null,{"$f":"IF(②選手情報入力!B17=\"\",\"\",②選手情報入力!B17)","v":""},{"$f":"IF(②選手情報入力!C17=\"\",\"\",②選手情報入力!C17)","v":""},{"$f":"IF(E9=\"\",\"\",②選手情報入力!D17)","v":""},{"$f":"IF(E9=\"\",\"\",②選手情報入力!E17)","v":""},"",{"$f":"IF(E9=\"\",\"\",IF(②選手情報入力!G17=\"男\",1,2))","v":""},{"$f":"IF(E9=\"\",\"\",IF(②選手情報入力!H17=\"\",\"\",②選手情報入力!H17))","v":""},null,"","",null,{"$f":"IF(E9=\"\",\"\",IF(②選手情報入力!I17=\"\",\"\",IF(I9=1,VLOOKUP(②選手情報入力!I17,種目情報!$A$4:$B$221,2,FALSE),VLOOKUP(②選手情報入力!I17,種目情報!$E$4:$F$221,2,FALSE))))","v":""},{"$f":"IF(E9=\"\",\"\",IF(②選手情報入力!J17=\"\",\"\",②選手情報入力!J17))","v":""},{"$f":"IF(E9=\"\",\"\",IF(②選手情報入力!I17=\"\",\"\",0))","v":""},{"$f":"IF(E9=\"\",\"\",IF(②選手情報入力!I17=\"\",\"\",IF(I9=1,VLOOKUP(②選手情報入力!I17,種目情報!$A$4:$C$21,3,FALSE),VLOOKUP(②選手情報入力!I17,種目情報!$E$4:$G$251,3,FALSE))))","v":""},null,null,null,null,null,null,null,null,{"$f":"IF(E9=\"\",\"\",IF(②選手情報入力!O17=\"\",\"\",IF(I9=1,種目情報!$J$4,種目情報!$J$6)))","v":""},{"$f":"IF(E9=\"\",\"\",IF(②選手情報入力!O17=\"\",\"\",IF(I9=1,IF(②選手情報入力!$O$5=\"\",\"\",②選手情報入力!$O$5),IF(②選手情報入力!$O$6=\"\",\"\",②選手情報入力!$O$6))))","v":""},{"$f":"IF(E9=\"\",\"\",IF(②選手情報入力!O17=\"\",\"\",0))","v":""},{"$f":"IF(E9=\"\",\"\",IF(②選手情報入力!O17=\"\",\"\",2))","v":""}]
[{"$f":"IF(E10=\"\",\"\",I10*1000000+①団体情報入力!$D$3*1000+②選手情報入力!A18)","v":""},{"$f":"IF(E10=\"\",\"\",①団体情報入力!$D$3)","v":""},null,{"$f":"IF(②選手情報入力!B18=\"\",\"\",②選手情報入力!B18)","v":""},{"$f":"IF(②選手情報入力!C18=\"\",\"\",②選手情報入力!C18)","v":""},{"$f":"IF(E10=\"\",\"\",②選手情報入力!D18)","v":""},{"$f":"IF(E10=\"\",\"\",②選手情報入力!E18)","v":""},"",{"$f":"IF(E10=\"\",\"\",IF(②選手情報入力!G18=\"男\",1,2))","v":""},{"$f":"IF(E10=\"\",\"\",IF(②選手情報入力!H18=\"\",\"\",②選手情報入力!H18))","v":""},null,"","",null,{"$f":"IF(E10=\"\",\"\",IF(②選手情報入力!I18=\"\",\"\",IF(I10=1,VLOOKUP(②選手情報入力!I18,種目情報!$A$4:$B$221,2,FALSE),VLOOKUP(②選手情報入力!I18,種目情報!$E$4:$F$221,2,FALSE))))","v":""},{"$f":"IF(E10=\"\",\"\",IF(②選手情報入力!J18=\"\",\"\",②選手情報入力!J18))","v":""},{"$f":"IF(E10=\"\",\"\",IF(②選手情報入力!I18=\"\",\"\",0))","v":""},{"$f":"IF(E10=\"\",\"\",IF(②選手情報入力!I18=\"\",\"\",IF(I10=1,VLOOKUP(②選手情報入力!I18,種目情報!$A$4:$C$21,3,FALSE),VLOOKUP(②選手情報入力!I18,種目情報!$E$4:$G$251,3,FALSE))))","v":""},null,null,null,null,null,null,null,null,{"$f":"IF(E10=\"\",\"\",IF(②選手情報入力!O18=\"\",\"\",IF(I10=1,種目情報!$J$4,種目情報!$J$6)))","v":""},{"$f":"IF(E10=\"\",\"\",IF(②選手情報入力!O18=\"\",\"\",IF(I10=1,IF(②選手情報入力!$O$5=\"\",\"\",②選手情報入力!$O$5),IF(②選手情報入力!$O$6=\"\",\"\",②選手情報入力!$O$6))))","v":""},{"$f":"IF(E10=\"\",\"\",IF(②選手情報入力!O18=\"\",\"\",0))","v":""},{"$f":"IF(E10=\"\",\"\",IF(②選手情報入力!O18=\"\",\"\",2))","v":""}]
[{"$f":"IF(E11=\"\",\"\",I11*1000000+①団体情報入力!$D$3*1000+②選手情報入力!A19)","v":""},{"$f":"IF(E11=\"\",\"\",①団体情報入力!$D$3)","v":""},null,{"$f":"IF(②選手情報入力!B19=\"\",\"\",②選手情報入力!B19)","v":""},{"$f":"IF(②選手情報入力!C19=\"\",\"\",②選手情報入力!C19)","v":""},{"$f":"IF(E11=\"\",\"\",②選手情報入力!D19)","v":""},{"$f":"IF(E11=\"\",\"\",②選手情報入力!E19)","v":""},"",{"$f":"IF(E11=\"\",\"\",IF(②選手情報入力!G19=\"男\",1,2))","v":""},{"$f":"IF(E11=\"\",\"\",IF(②選手情報入力!H19=\"\",\"\",②選手情報入力!H19))","v":""},null,"","",null,{"$f":"IF(E11=\"\",\"\",IF(②選手情報入力!I19=\"\",\"\",IF(I11=1,VLOOKUP(②選手情報入力!I19,種目情報!$A$4:$B$221,2,FALSE),VLOOKUP(②選手情報入力!I19,種目情報!$E$4:$F$221,2,FALSE))))","v":""},{"$f":"IF(E11=\"\",\"\",IF(②選手情報入力!J19=\"\",\"\",②選手情報入力!J19))","v":""},{"$f":"IF(E11=\"\",\"\",IF(②選手情報入力!I19=\"\",\"\",0))","v":""},{"$f":"IF(E11=\"\",\"\",IF(②選手情報入力!I19=\"\",\"\",IF(I11=1,VLOOKUP(②選手情報入力!I19,種目情報!$A$4:$C$21,3,FALSE),VLOOKUP(②選手情報入力!I19,種目情報!$E$4:$G$251,3,FALSE))))","v":""},null,null,null,null,null,null,null,null,{"$f":"IF(E11=\"\",\"\",IF(②選手情報入力!O19=\"\",\"\",IF(I11=1,種目情報!$J$4,種目情報!$J$6)))","v":""},{"$f":"IF(E11=\"\",\"\",IF(②選手情報入力!O19=\"\",\"\",IF(I11=1,IF(②選手情報入力!$O$5=\"\",\"\",②選手情報入力!$O$5),IF(②選手情報入力!$O$6=\"\",\"\",②選手情報入力!$O$6))))","v":""},{"$f":"IF(E11=\"\",\"\",IF(②選手情報入力!O19=\"\",\"\",0))","v":""},{"$f":"IF(E11=\"\",\"\",IF(②選手情報入力!O19=\"\",\"\",2))","v":""}]
[{"$f":"IF(E12=\"\",\"\",I12*1000000+①団体情報入力!$D$3*1000+②選手情報入力!A20)","v":""},{"$f":"IF(E12=\"\",\"\",①団体情報入力!$D$3)","v":""},null,{"$f":"IF(②選手情報入力!B20=\"\",\"\",②選手情報入力!B20)","v":""},{"$f":"IF(②選手情報入力!C20=\"\",\"\",②選手情報入力!C20)","v":""},{"$f":"IF(E12=\"\",\"\",②選手情報入力!D20)","v":""},{"$f":"IF(E12=\"\",\"\",②選手情報入力!E20)","v":""},"",{"$f":"IF(E12=\"\",\"\",IF(②選手情報入力!G20=\"男\",1,2))","v":""},{"$f":"IF(E12=\"\",\"\",IF(②選手情報入力!H20=\"\",\"\",②選手情報入力!H20))","v":""},null,"","",null,{"$f":"IF(E12=\"\",\"\",IF(②選手情報入力!I20=\"\",\"\",IF(I12=1,VLOOKUP(②選手情報入力!I20,種目情報!$A$4:$B$221,2,FALSE),VLOOKUP(②選手情報入力!I20,種目情報!$E$4:$F$221,2,FALSE))))","v":""},{"$f":"IF(E12=\"\",\"\",IF(②選手情報入力!J20=\"\",\"\",②選手情報入力!J20))","v":""},{"$f":"IF(E12=\"\",\"\",IF(②選手情報入力!I20=\"\",\"\",0))","v":""},{"$f":"IF(E12=\"\",\"\",IF(②選手情報入力!I20=\"\",\"\",IF(I12=1,VLOOKUP(②選手情報入力!I20,種目情報!$A$4:$C$21,3,FALSE),VLOOKUP(②選手情報入力!I20,種目情報!$E$4:$G$251,3,FALSE))))","v":""},null,null,null,null,null,null,null,null,{"$f":"IF(E12=\"\",\"\",IF(②選手情報入力!O20=\"\",\"\",IF(I12=1,種目情報!$J$4,種目情報!$J$6)))","v":""},{"$f":"IF(E12=\"\",\"\",IF(②選手情報入力!O20=\"\",\"\",IF(I12=1,IF(②選手情報入力!$O$5=\"\",\"\",②選手情報入力!$O$5),IF(②選手情報入力!$O$6=\"\",\"\",②選手情報入力!$O$6))))","v":""},{"$f":"IF(E12=\"\",\"\",IF(②選手情報入力!O20=\"\",\"\",0))","v":""},{"$f":"IF(E12=\"\",\"\",IF(②選手情報入力!O20=\"\",\"\",2))","v":""}]
[{"$f":"IF(E13=\"\",\"\",I13*1000000+①団体情報入力!$D$3*1000+②選手情報入力!A21)","v":""},{"$f":"IF(E13=\"\",\"\",①団体情報入力!$D$3)","v":""},null,{"$f":"IF(②選手情報入力!B21=\"\",\"\",②選手情報入力!B21)","v":""},{"$f":"IF(②選手情報入力!C21=\"\",\"\",②選手情報入力!C21)","v":""},{"$f":"IF(E13=\"\",\"\",②選手情報入力!D21)","v":""},{"$f":"IF(E13=\"\",\"\",②選手情報入力!E21)","v":""},"",{"$f":"IF(E13=\"\",\"\",IF(②選手情報入力!G21=\"男\",1,2))","v":""},{"$f":"IF(E13=\"\",\"\",IF(②選手情報入力!H21=\"\",\"\",②選手情報入力!H21))","v":""},null,"","",null,{"$f":"IF(E13=\"\",\"\",IF(②選手情報入力!I21=\"\",\"\",IF(I13=1,VLOOKUP(②選手情報入力!I21,種目情報!$A$4:$B$221,2,FALSE),VLOOKUP(②選手情報入力!I21,種目情報!$E$4:$F$221,2,FALSE))))","v":""},{"$f":"IF(E13=\"\",\"\",IF(②選手情報入力!J21=\"\",\"\",②選手情報入力!J21))","v":""},{"$f":"IF(E13=\"\",\"\",IF(②選手情報入力!I21=\"\",\"\",0))","v":""},{"$f":"IF(E13=\"\",\"\",IF(②選手情報入力!I21=\"\",\"\",IF(I13=1,VLOOKUP(②選手情報入力!I21,種目情報!$A$4:$C$21,3,FALSE),VLOOKUP(②選手情報入力!I21,種目情報!$E$4:$G$251,3,FALSE))))","v":""},null,null,null,null,null,null,null,null,{"$f":"IF(E13=\"\",\"\",IF(②選手情報入力!O21=\"\",\"\",IF(I13=1,種目情報!$J$4,種目情報!$J$6)))","v":""},{"$f":"IF(E13=\"\",\"\",IF(②選手情報入力!O21=\"\",\"\",IF(I13=1,IF(②選手情報入力!$O$5=\"\",\"\",②選手情報入力!$O$5),IF(②選手情報入力!$O$6=\"\",\"\",②選手情報入力!$O$6))))","v":""},{"$f":"IF(E13=\"\",\"\",IF(②選手情報入力!O21=\"\",\"\",0))","v":""},{"$f":"IF(E13=\"\",\"\",IF(②選手情報入力!O21=\"\",\"\",2))","v":""}]
[{"$f":"IF(E14=\"\",\"\",I14*1000000+①団体情報入力!$D$3*1000+②選手情報入力!A22)","v":""},{"$f":"IF(E14=\"\",\"\",①団体情報入力!$D$3)","v":""},null,{"$f":"IF(②選手情報入力!B22=\"\",\"\",②選手情報入力!B22)","v":""},{"$f":"IF(②選手情報入力!C22=\"\",\"\",②選手情報入力!C22)","v":""},{"$f":"IF(E14=\"\",\"\",②選手情報入力!D22)","v":""},{"$f":"IF(E14=\"\",\"\",②選手情報入力!E22)","v":""},"",{"$f":"IF(E14=\"\",\"\",IF(②選手情報入力!G22=\"男\",1,2))","v":""},{"$f":"IF(E14=\"\",\"\",IF(②選手情報入力!H22=\"\",\"\",②選手情報入力!H22))","v":""},null,"","",null,{"$f":"IF(E14=\"\",\"\",IF(②選手情報入力!I22=\"\",\"\",IF(I14=1,VLOOKUP(②選手情報入力!I22,種目情報!$A$4:$B$221,2,FALSE),VLOOKUP(②選手情報入力!I22,種目情報!$E$4:$F$221,2,FALSE))))","v":""},{"$f":"IF(E14=\"\",\"\",IF(②選手情報入力!J22=\"\",\"\",②選手情報入力!J22))","v":""},{"$f":"IF(E14=\"\",\"\",IF(②選手情報入力!I22=\"\",\"\",0))","v":""},{"$f":"IF(E14=\"\",\"\",IF(②選手情報入力!I22=\"\",\"\",IF(I14=1,VLOOKUP(②選手情報入力!I22,種目情報!$A$4:$C$21,3,FALSE),VLOOKUP(②選手情報入力!I22,種目情報!$E$4:$G$251,3,FALSE))))","v":""},null,null,null,null,null,null,null,null,{"$f":"IF(E14=\"\",\"\",IF(②選手情報入力!O22=\"\",\"\",IF(I14=1,種目情報!$J$4,種目情報!$J$6)))","v":""},{"$f":"IF(E14=\"\",\"\",IF(②選手情報入力!O22=\"\",\"\",IF(I14=1,IF(②選手情報入力!$O$5=\"\",\"\",②選手情報入力!$O$5),IF(②選手情報入力!$O$6=\"\",\"\",②選手情報入力!$O$6))))","v":""},{"$f":"IF(E14=\"\",\"\",IF(②選手情報入力!O22=\"\",\"\",0))","v":""},{"$f":"IF(E14=\"\",\"\",IF(②選手情報入力!O22=\"\",\"\",2))","v":""}]
[{"$f":"IF(E15=\"\",\"\",I15*1000000+①団体情報入力!$D$3*1000+②選手情報入力!A23)","v":""},{"$f":"IF(E15=\"\",\"\",①団体情報入力!$D$3)","v":""},null,{"$f":"IF(②選手情報入力!B23=\"\",\"\",②選手情報入力!B23)","v":""},{"$f":"IF(②選手情報入力!C23=\"\",\"\",②選手情報入力!C23)","v":""},{"$f":"IF(E15=\"\",\"\",②選手情報入力!D23)","v":""},{"$f":"IF(E15=\"\",\"\",②選手情報入力!E23)","v":""},"",{"$f":"IF(E15=\"\",\"\",IF(②選手情報入力!G23=\"男\",1,2))","v":""},{"$f":"IF(E15=\"\",\"\",IF(②選手情報入力!H23=\"\",\"\",②選手情報入力!H23))","v":""},null,"","",null,{"$f":"IF(E15=\"\",\"\",IF(②選手情報入力!I23=\"\",\"\",IF(I15=1,VLOOKUP(②選手情報入力!I23,種目情報!$A$4:$B$221,2,FALSE),VLOOKUP(②選手情報入力!I23,種目情報!$E$4:$F$221,2,FALSE))))","v":""},{"$f":"IF(E15=\"\",\"\",IF(②選手情報入力!J23=\"\",\"\",②選手情報入力!J23))","v":""},{"$f":"IF(E15=\"\",\"\",IF(②選手情報入力!I23=\"\",\"\",0))","v":""},{"$f":"IF(E15=\"\",\"\",IF(②選手情報入力!I23=\"\",\"\",IF(I15=1,VLOOKUP(②選手情報入力!I23,種目情報!$A$4:$C$21,3,FALSE),VLOOKUP(②選手情報入力!I23,種目情報!$E$4:$G$251,3,FALSE))))","v":""},null,null,null,null,null,null,null,null,{"$f":"IF(E15=\"\",\"\",IF(②選手情報入力!O23=\"\",\"\",IF(I15=1,種目情報!$J$4,種目情報!$J$6)))","v":""},{"$f":"IF(E15=\"\",\"\",IF(②選手情報入力!O23=\"\",\"\",IF(I15=1,IF(②選手情報入力!$O$5=\"\",\"\",②選手情報入力!$O$5),IF(②選手情報入力!$O$6=\"\",\"\",②選手情報入力!$O$6))))","v":""},{"$f":"IF(E15=\"\",\"\",IF(②選手情報入力!O23=\"\",\"\",0))","v":""},{"$f":"IF(E15=\"\",\"\",IF(②選手情報入力!O23=\"\",\"\",2))","v":""}]
[{"$f":"IF(E16=\"\",\"\",I16*1000000+①団体情報入力!$D$3*1000+②選手情報入力!A24)","v":""},{"$f":"IF(E16=\"\",\"\",①団体情報入力!$D$3)","v":""},null,{"$f":"IF(②選手情報入力!B24=\"\",\"\",②選手情報入力!B24)","v":""},{"$f":"IF(②選手情報入力!C24=\"\",\"\",②選手情報入力!C24)","v":""},{"$f":"IF(E16=\"\",\"\",②選手情報入力!D24)","v":""},{"$f":"IF(E16=\"\",\"\",②選手情報入力!E24)","v":""},"",{"$f":"IF(E16=\"\",\"\",IF(②選手情報入力!G24=\"男\",1,2))","v":""},{"$f":"IF(E16=\"\",\"\",IF(②選手情報入力!H24=\"\",\"\",②選手情報入力!H24))","v":""},null,"","",null,{"$f":"IF(E16=\"\",\"\",IF(②選手情報入力!I24=\"\",\"\",IF(I16=1,VLOOKUP(②選手情報入力!I24,種目情報!$A$4:$B$221,2,FALSE),VLOOKUP(②選手情報入力!I24,種目情報!$E$4:$F$221,2,FALSE))))","v":""},{"$f":"IF(E16=\"\",\"\",IF(②選手情報入力!J24=\"\",\"\",②選手情報入力!J24))","v":""},{"$f":"IF(E16=\"\",\"\",IF(②選手情報入力!I24=\"\",\"\",0))","v":""},{"$f":"IF(E16=\"\",\"\",IF(②選手情報入力!I24=\"\",\"\",IF(I16=1,VLOOKUP(②選手情報入力!I24,種目情報!$A$4:$C$21,3,FALSE),VLOOKUP(②選手情報入力!I24,種目情報!$E$4:$G$251,3,FALSE))))","v":""},null,null,null,null,null,null,null,null,{"$f":"IF(E16=\"\",\"\",IF(②選手情報入力!O24=\"\",\"\",IF(I16=1,種目情報!$J$4,種目情報!$J$6)))","v":""},{"$f":"IF(E16=\"\",\"\",IF(②選手情報入力!O24=\"\",\"\",IF(I16=1,IF(②選手情報入力!$O$5=\"\",\"\",②選手情報入力!$O$5),IF(②選手情報入力!$O$6=\"\",\"\",②選手情報入力!$O$6))))","v":""},{"$f":"IF(E16=\"\",\"\",IF(②選手情報入力!O24=\"\",\"\",0))","v":""},{"$f":"IF(E16=\"\",\"\",IF(②選手情報入力!O24=\"\",\"\",2))","v":""}]
[{"$f":"IF(E17=\"\",\"\",I17*1000000+①団体情報入力!$D$3*1000+②選手情報入力!A25)","v":""},{"$f":"IF(E17=\"\",\"\",①団体情報入力!$D$3)","v":""},null,{"$f":"IF(②選手情報入力!B25=\"\",\"\",②選手情報入力!B25)","v":""},{"$f":"IF(②選手情報入力!C25=\"\",\"\",②選手情報入力!C25)","v":""},{"$f":"IF(E17=\"\",\"\",②選手情報入力!D25)","v":""},{"$f":"IF(E17=\"\",\"\",②選手情報入力!E25)","v":""},"",{"$f":"IF(E17=\"\",\"\",IF(②選手情報入力!G25=\"男\",1,2))","v":""},{"$f":"IF(E17=\"\",\"\",IF(②選手情報入力!H25=\"\",\"\",②選手情報入力!H25))","v":""},null,"","",null,{"$f":"IF(E17=\"\",\"\",IF(②選手情報入力!I25=\"\",\"\",IF(I17=1,VLOOKUP(②選手情報入力!I25,種目情報!$A$4:$B$221,2,FALSE),VLOOKUP(②選手情報入力!I25,種目情報!$E$4:$F$221,2,FALSE))))","v":""},{"$f":"IF(E17=\"\",\"\",IF(②選手情報入力!J25=\"\",\"\",②選手情報入力!J25))","v":""},{"$f":"IF(E17=\"\",\"\",IF(②選手情報入力!I25=\"\",\"\",0))","v":""},{"$f":"IF(E17=\"\",\"\",IF(②選手情報入力!I25=\"\",\"\",IF(I17=1,VLOOKUP(②選手情報入力!I25,種目情報!$A$4:$C$21,3,FALSE),VLOOKUP(②選手情報入力!I25,種目情報!$E$4:$G$251,3,FALSE))))","v":""},null,null,null,null,null,null,null,null,{"$f":"IF(E17=\"\",\"\",IF(②選手情報入力!O25=\"\",\"\",IF(I17=1,種目情報!$J$4,種目情報!$J$6)))","v":""},{"$f":"IF(E17=\"\",\"\",IF(②選手情報入力!O25=\"\",\"\",IF(I17=1,IF(②選手情報入力!$O$5=\"\",\"\",②選手情報入力!$O$5),IF(②選手情報入力!$O$6=\"\",\"\",②選手情報入力!$O$6))))","v":""},{"$f":"IF(E17=\"\",\"\",IF(②選手情報入力!O25=\"\",\"\",0))","v":""},{"$f":"IF(E17=\"\",\"\",IF(②選手情報入力!O25=\"\",\"\",2))","v":""}]
[{"$f":"IF(E18=\"\",\"\",I18*1000000+①団体情報入力!$D$3*1000+②選手情報入力!A26)","v":""},{"$f":"IF(E18=\"\",\"\",①団体情報入力!$D$3)","v":""},null,{"$f":"IF(②選手情報入力!B26=\"\",\"\",②選手情報入力!B26)","v":""},{"$f":"IF(②選手情報入力!C26=\"\",\"\",②選手情報入力!C26)","v":""},{"$f":"IF(E18=\"\",\"\",②選手情報入力!D26)","v":""},{"$f":"IF(E18=\"\",\"\",②選手情報入力!E26)","v":""},"",{"$f":"IF(E18=\"\",\"\",IF(②選手情報入力!G26=\"男\",1,2))","v":""},{"$f":"IF(E18=\"\",\"\",IF(②選手情報入力!H26=\"\",\"\",②選手情報入力!H26))","v":""},null,"","",null,{"$f":"IF(E18=\"\",\"\",IF(②選手情報入力!I26=\"\",\"\",IF(I18=1,VLOOKUP(②選手情報入力!I26,種目情報!$A$4:$B$221,2,FALSE),VLOOKUP(②選手情報入力!I26,種目情報!$E$4:$F$221,2,FALSE))))","v":""},{"$f":"IF(E18=\"\",\"\",IF(②選手情報入力!J26=\"\",\"\",②選手情報入力!J26))","v":""},{"$f":"IF(E18=\"\",\"\",IF(②選手情報入力!I26=\"\",\"\",0))","v":""},{"$f":"IF(E18=\"\",\"\",IF(②選手情報入力!I26=\"\",\"\",IF(I18=1,VLOOKUP(②選手情報入力!I26,種目情報!$A$4:$C$21,3,FALSE),VLOOKUP(②選手情報入力!I26,種目情報!$E$4:$G$251,3,FALSE))))","v":""},null,null,null,null,null,null,null,null,{"$f":"IF(E18=\"\",\"\",IF(②選手情報入力!O26=\"\",\"\",IF(I18=1,種目情報!$J$4,種目情報!$J$6)))","v":""},{"$f":"IF(E18=\"\",\"\",IF(②選手情報入力!O26=\"\",\"\",IF(I18=1,IF(②選手情報入力!$O$5=\"\",\"\",②選手情報入力!$O$5),IF(②選手情報入力!$O$6=\"\",\"\",②選手情報入力!$O$6))))","v":""},{"$f":"IF(E18=\"\",\"\",IF(②選手情報入力!O26=\"\",\"\",0))","v":""},{"$f":"IF(E18=\"\",\"\",IF(②選手情報入力!O26=\"\",\"\",2))","v":""}]
[{"$f":"IF(E19=\"\",\"\",I19*1000000+①団体情報入力!$D$3*1000+②選手情報入力!A27)","v":""},{"$f":"IF(E19=\"\",\"\",①団体情報入力!$D$3)","v":""},null,{"$f":"IF(②選手情報入力!B27=\"\",\"\",②選手情報入力!B27)","v":""},{"$f":"IF(②選手情報入力!C27=\"\",\"\",②選手情報入力!C27)","v":""},{"$f":"IF(E19=\"\",\"\",②選手情報入力!D27)","v":""},{"$f":"IF(E19=\"\",\"\",②選手情報入力!E27)","v":""},"",{"$f":"IF(E19=\"\",\"\",IF(②選手情報入力!G27=\"男\",1,2))","v":""},{"$f":"IF(E19=\"\",\"\",IF(②選手情報入力!H27=\"\",\"\",②選手情報入力!H27))","v":""},null,"","",null,{"$f":"IF(E19=\"\",\"\",IF(②選手情報入力!I27=\"\",\"\",IF(I19=1,VLOOKUP(②選手情報入力!I27,種目情報!$A$4:$B$221,2,FALSE),VLOOKUP(②選手情報入力!I27,種目情報!$E$4:$F$221,2,FALSE))))","v":""},{"$f":"IF(E19=\"\",\"\",IF(②選手情報入力!J27=\"\",\"\",②選手情報入力!J27))","v":""},{"$f":"IF(E19=\"\",\"\",IF(②選手情報入力!I27=\"\",\"\",0))","v":""},{"$f":"IF(E19=\"\",\"\",IF(②選手情報入力!I27=\"\",\"\",IF(I19=1,VLOOKUP(②選手情報入力!I27,種目情報!$A$4:$C$21,3,FALSE),VLOOKUP(②選手情報入力!I27,種目情報!$E$4:$G$251,3,FALSE))))","v":""},null,null,null,null,null,null,null,null,{"$f":"IF(E19=\"\",\"\",IF(②選手情報入力!O27=\"\",\"\",IF(I19=1,種目情報!$J$4,種目情報!$J$6)))","v":""},{"$f":"IF(E19=\"\",\"\",IF(②選手情報入力!O27=\"\",\"\",IF(I19=1,IF(②選手情報入力!$O$5=\"\",\"\",②選手情報入力!$O$5),IF(②選手情報入力!$O$6=\"\",\"\",②選手情報入力!$O$6))))","v":""},{"$f":"IF(E19=\"\",\"\",IF(②選手情報入力!O27=\"\",\"\",0))","v":""},{"$f":"IF(E19=\"\",\"\",IF(②選手情報入力!O27=\"\",\"\",2))","v":""}]
[{"$f":"IF(E20=\"\",\"\",I20*1000000+①団体情報入力!$D$3*1000+②選手情報入力!A28)","v":""},{"$f":"IF(E20=\"\",\"\",①団体情報入力!$D$3)","v":""},null,{"$f":"IF(②選手情報入力!B28=\"\",\"\",②選手情報入力!B28)","v":""},{"$f":"IF(②選手情報入力!C28=\"\",\"\",②選手情報入力!C28)","v":""},{"$f":"IF(E20=\"\",\"\",②選手情報入力!D28)","v":""},{"$f":"IF(E20=\"\",\"\",②選手情報入力!E28)","v":""},"",{"$f":"IF(E20=\"\",\"\",IF(②選手情報入力!G28=\"男\",1,2))","v":""},{"$f":"IF(E20=\"\",\"\",IF(②選手情報入力!H28=\"\",\"\",②選手情報入力!H28))","v":""},null,"","",null,{"$f":"IF(E20=\"\",\"\",IF(②選手情報入力!I28=\"\",\"\",IF(I20=1,VLOOKUP(②選手情報入力!I28,種目情報!$A$4:$B$221,2,FALSE),VLOOKUP(②選手情報入力!I28,種目情報!$E$4:$F$221,2,FALSE))))","v":""},{"$f":"IF(E20=\"\",\"\",IF(②選手情報入力!J28=\"\",\"\",②選手情報入力!J28))","v":""},{"$f":"IF(E20=\"\",\"\",IF(②選手情報入力!I28=\"\",\"\",0))","v":""},{"$f":"IF(E20=\"\",\"\",IF(②選手情報入力!I28=\"\",\"\",IF(I20=1,VLOOKUP(②選手情報入力!I28,種目情報!$A$4:$C$21,3,FALSE),VLOOKUP(②選手情報入力!I28,種目情報!$E$4:$G$251,3,FALSE))))","v":""},null,null,null,null,null,null,null,null,{"$f":"IF(E20=\"\",\"\",IF(②選手情報入力!O28=\"\",\"\",IF(I20=1,種目情報!$J$4,種目情報!$J$6)))","v":""},{"$f":"IF(E20=\"\",\"\",IF(②選手情報入力!O28=\"\",\"\",IF(I20=1,IF(②選手情報入力!$O$5=\"\",\"\",②選手情報入力!$O$5),IF(②選手情報入力!$O$6=\"\",\"\",②選手情報入力!$O$6))))","v":""},{"$f":"IF(E20=\"\",\"\",IF(②選手情報入力!O28=\"\",\"\",0))","v":""},{"$f":"IF(E20=\"\",\"\",IF(②選手情報入力!O28=\"\",\"\",2))","v":""}]
[{"$f":"IF(E21=\"\",\"\",I21*1000000+①団体情報入力!$D$3*1000+②選手情報入力!A29)","v":""},{"$f":"IF(E21=\"\",\"\",①団体情報入力!$D$3)","v":""},null,{"$f":"IF(②選手情報入力!B29=\"\",\"\",②選手情報入力!B29)","v":""},{"$f":"IF(②選手情報入力!C29=\"\",\"\",②選手情報入力!C29)","v":""},{"$f":"IF(E21=\"\",\"\",②選手情報入力!D29)","v":""},{"$f":"IF(E21=\"\",\"\",②選手情報入力!E29)","v":""},"",{"$f":"IF(E21=\"\",\"\",IF(②選手情報入力!G29=\"男\",1,2))","v":""},{"$f":"IF(E21=\"\",\"\",IF(②選手情報入力!H29=\"\",\"\",②選手情報入力!H29))","v":""},null,"","",null,{"$f":"IF(E21=\"\",\"\",IF(②選手情報入力!I29=\"\",\"\",IF(I21=1,VLOOKUP(②選手情報入力!I29,種目情報!$A$4:$B$221,2,FALSE),VLOOKUP(②選手情報入力!I29,種目情報!$E$4:$F$221,2,FALSE))))","v":""},{"$f":"IF(E21=\"\",\"\",IF(②選手情報入力!J29=\"\",\"\",②選手情報入力!J29))","v":""},{"$f":"IF(E21=\"\",\"\",IF(②選手情報入力!I29=\"\",\"\",0))","v":""},{"$f":"IF(E21=\"\",\"\",IF(②選手情報入力!I29=\"\",\"\",IF(I21=1,VLOOKUP(②選手情報入力!I29,種目情報!$A$4:$C$21,3,FALSE),VLOOKUP(②選手情報入力!I29,種目情報!$E$4:$G$251,3,FALSE))))","v":""},null,null,null,null,null,null,null,null,{"$f":"IF(E21=\"\",\"\",IF(②選手情報入力!O29=\"\",\"\",IF(I21=1,種目情報!$J$4,種目情報!$J$6)))","v":""},{"$f":"IF(E21=\"\",\"\",IF(②選手情報入力!O29=\"\",\"\",IF(I21=1,IF(②選手情報入力!$O$5=\"\",\"\",②選手情報入力!$O$5),IF(②選手情報入力!$O$6=\"\",\"\",②選手情報入力!$O$6))))","v":""},{"$f":"IF(E21=\"\",\"\",IF(②選手情報入力!O29=\"\",\"\",0))","v":""},{"$f":"IF(E21=\"\",\"\",IF(②選手情報入力!O29=\"\",\"\",2))","v":""}]
[{"$f":"IF(E22=\"\",\"\",I22*1000000+①団体情報入力!$D$3*1000+②選手情報入力!A30)","v":""},{"$f":"IF(E22=\"\",\"\",①団体情報入力!$D$3)","v":""},null,{"$f":"IF(②選手情報入力!B30=\"\",\"\",②選手情報入力!B30)","v":""},{"$f":"IF(②選手情報入力!C30=\"\",\"\",②選手情報入力!C30)","v":""},{"$f":"IF(E22=\"\",\"\",②選手情報入力!D30)","v":""},{"$f":"IF(E22=\"\",\"\",②選手情報入力!E30)","v":""},"",{"$f":"IF(E22=\"\",\"\",IF(②選手情報入力!G30=\"男\",1,2))","v":""},{"$f":"IF(E22=\"\",\"\",IF(②選手情報入力!H30=\"\",\"\",②選手情報入力!H30))","v":""},null,"","",null,{"$f":"IF(E22=\"\",\"\",IF(②選手情報入力!I30=\"\",\"\",IF(I22=1,VLOOKUP(②選手情報入力!I30,種目情報!$A$4:$B$221,2,FALSE),VLOOKUP(②選手情報入力!I30,種目情報!$E$4:$F$221,2,FALSE))))","v":""},{"$f":"IF(E22=\"\",\"\",IF(②選手情報入力!J30=\"\",\"\",②選手情報入力!J30))","v":""},{"$f":"IF(E22=\"\",\"\",IF(②選手情報入力!I30=\"\",\"\",0))","v":""},{"$f":"IF(E22=\"\",\"\",IF(②選手情報入力!I30=\"\",\"\",IF(I22=1,VLOOKUP(②選手情報入力!I30,種目情報!$A$4:$C$21,3,FALSE),VLOOKUP(②選手情報入力!I30,種目情報!$E$4:$G$251,3,FALSE))))","v":""},null,null,null,null,null,null,null,null,{"$f":"IF(E22=\"\",\"\",IF(②選手情報入力!O30=\"\",\"\",IF(I22=1,種目情報!$J$4,種目情報!$J$6)))","v":""},{"$f":"IF(E22=\"\",\"\",IF(②選手情報入力!O30=\"\",\"\",IF(I22=1,IF(②選手情報入力!$O$5=\"\",\"\",②選手情報入力!$O$5),IF(②選手情報入力!$O$6=\"\",\"\",②選手情報入力!$O$6))))","v":""},{"$f":"IF(E22=\"\",\"\",IF(②選手情報入力!O30=\"\",\"\",0))","v":""},{"$f":"IF(E22=\"\",\"\",IF(②選手情報入力!O30=\"\",\"\",2))","v":""}]
[{"$f":"IF(E23=\"\",\"\",I23*1000000+①団体情報入力!$D$3*1000+②選手情報入力!A31)","v":""},{"$f":"IF(E23=\"\",\"\",①団体情報入力!$D$3)","v":""},null,{"$f":"IF(②選手情報入力!B31=\"\",\"\",②選手情報入力!B31)","v":""},{"$f":"IF(②選手情報入力!C31=\"\",\"\",②選手情報入力!C31)","v":""},{"$f":"IF(E23=\"\",\"\",②選手情報入力!D31)","v":""},{"$f":"IF(E23=\"\",\"\",②選手情報入力!E31)","v":""},"",{"$f":"IF(E23=\"\",\"\",IF(②選手情報入力!G31=\"男\",1,2))","v":""},{"$f":"IF(E23=\"\",\"\",IF(②選手情報入力!H31=\"\",\"\",②選手情報入力!H31))","v":""},null,"","",null,{"$f":"IF(E23=\"\",\"\",IF(②選手情報入力!I31=\"\",\"\",IF(I23=1,VLOOKUP(②選手情報入力!I31,種目情報!$A$4:$B$221,2,FALSE),VLOOKUP(②選手情報入力!I31,種目情報!$E$4:$F$221,2,FALSE))))","v":""},{"$f":"IF(E23=\"\",\"\",IF(②選手情報入力!J31=\"\",\"\",②選手情報入力!J31))","v":""},{"$f":"IF(E23=\"\",\"\",IF(②選手情報入力!I31=\"\",\"\",0))","v":""},{"$f":"IF(E23=\"\",\"\",IF(②選手情報入力!I31=\"\",\"\",IF(I23=1,VLOOKUP(②選手情報入力!I31,種目情報!$A$4:$C$21,3,FALSE),VLOOKUP(②選手情報入力!I31,種目情報!$E$4:$G$251,3,FALSE))))","v":""},null,null,null,null,null,null,null,null,{"$f":"IF(E23=\"\",\"\",IF(②選手情報入力!O31=\"\",\"\",IF(I23=1,種目情報!$J$4,種目情報!$J$6)))","v":""},{"$f":"IF(E23=\"\",\"\",IF(②選手情報入力!O31=\"\",\"\",IF(I23=1,IF(②選手情報入力!$O$5=\"\",\"\",②選手情報入力!$O$5),IF(②選手情報入力!$O$6=\"\",\"\",②選手情報入力!$O$6))))","v":""},{"$f":"IF(E23=\"\",\"\",IF(②選手情報入力!O31=\"\",\"\",0))","v":""},{"$f":"IF(E23=\"\",\"\",IF(②選手情報入力!O31=\"\",\"\",2))","v":""}]
[{"$f":"IF(E24=\"\",\"\",I24*1000000+①団体情報入力!$D$3*1000+②選手情報入力!A32)","v":""},{"$f":"IF(E24=\"\",\"\",①団体情報入力!$D$3)","v":""},null,{"$f":"IF(②選手情報入力!B32=\"\",\"\",②選手情報入力!B32)","v":""},{"$f":"IF(②選手情報入力!C32=\"\",\"\",②選手情報入力!C32)","v":""},{"$f":"IF(E24=\"\",\"\",②選手情報入力!D32)","v":""},{"$f":"IF(E24=\"\",\"\",②選手情報入力!E32)","v":""},"",{"$f":"IF(E24=\"\",\"\",IF(②選手情報入力!G32=\"男\",1,2))","v":""},{"$f":"IF(E24=\"\",\"\",IF(②選手情報入力!H32=\"\",\"\",②選手情報入力!H32))","v":""},null,"","",null,{"$f":"IF(E24=\"\",\"\",IF(②選手情報入力!I32=\"\",\"\",IF(I24=1,VLOOKUP(②選手情報入力!I32,種目情報!$A$4:$B$221,2,FALSE),VLOOKUP(②選手情報入力!I32,種目情報!$E$4:$F$221,2,FALSE))))","v":""},{"$f":"IF(E24=\"\",\"\",IF(②選手情報入力!J32=\"\",\"\",②選手情報入力!J32))","v":""},{"$f":"IF(E24=\"\",\"\",IF(②選手情報入力!I32=\"\",\"\",0))","v":""},{"$f":"IF(E24=\"\",\"\",IF(②選手情報入力!I32=\"\",\"\",IF(I24=1,VLOOKUP(②選手情報入力!I32,種目情報!$A$4:$C$21,3,FALSE),VLOOKUP(②選手情報入力!I32,種目情報!$E$4:$G$251,3,FALSE))))","v":""},null,null,null,null,null,null,null,null,{"$f":"IF(E24=\"\",\"\",IF(②選手情報入力!O32=\"\",\"\",IF(I24=1,種目情報!$J$4,種目情報!$J$6)))","v":""},{"$f":"IF(E24=\"\",\"\",IF(②選手情報入力!O32=\"\",\"\",IF(I24=1,IF(②選手情報入力!$O$5=\"\",\"\",②選手情報入力!$O$5),IF(②選手情報入力!$O$6=\"\",\"\",②選手情報入力!$O$6))))","v":""},{"$f":"IF(E24=\"\",\"\",IF(②選手情報入力!O32=\"\",\"\",0))","v":""},{"$f":"IF(E24=\"\",\"\",IF(②選手情報入力!O32=\"\",\"\",2))","v":""}]
[{"$f":"IF(E25=\"\",\"\",I25*1000000+①団体情報入力!$D$3*1000+②選手情報入力!A33)","v":""},{"$f":"IF(E25=\"\",\"\",①団体情報入力!$D$3)","v":""},null,{"$f":"IF(②選手情報入力!B33=\"\",\"\",②選手情報入力!B33)","v":""},{"$f":"IF(②選手情報入力!C33=\"\",\"\",②選手情報入力!C33)","v":""},{"$f":"IF(E25=\"\",\"\",②選手情報入力!D33)","v":""},{"$f":"IF(E25=\"\",\"\",②選手情報入力!E33)","v":""},"",{"$f":"IF(E25=\"\",\"\",IF(②選手情報入力!G33=\"男\",1,2))","v":""},{"$f":"IF(E25=\"\",\"\",IF(②選手情報入力!H33=\"\",\"\",②選手情報入力!H33))","v":""},null,"","",null,{"$f":"IF(E25=\"\",\"\",IF(②選手情報入力!I33=\"\",\"\",IF(I25=1,VLOOKUP(②選手情報入力!I33,種目情報!$A$4:$B$221,2,FALSE),VLOOKUP(②選手情報入力!I33,種目情報!$E$4:$F$221,2,FALSE))))","v":""},{"$f":"IF(E25=\"\",\"\",IF(②選手情報入力!J33=\"\",\"\",②選手情報入力!J33))","v":""},{"$f":"IF(E25=\"\",\"\",IF(②選手情報入力!I33=\"\",\"\",0))","v":""},{"$f":"IF(E25=\"\",\"\",IF(②選手情報入力!I33=\"\",\"\",IF(I25=1,VLOOKUP(②選手情報入力!I33,種目情報!$A$4:$C$21,3,FALSE),VLOOKUP(②選手情報入力!I33,種目情報!$E$4:$G$251,3,FALSE))))","v":""},null,null,null,null,null,null,null,null,{"$f":"IF(E25=\"\",\"\",IF(②選手情報入力!O33=\"\",\"\",IF(I25=1,種目情報!$J$4,種目情報!$J$6)))","v":""},{"$f":"IF(E25=\"\",\"\",IF(②選手情報入力!O33=\"\",\"\",IF(I25=1,IF(②選手情報入力!$O$5=\"\",\"\",②選手情報入力!$O$5),IF(②選手情報入力!$O$6=\"\",\"\",②選手情報入力!$O$6))))","v":""},{"$f":"IF(E25=\"\",\"\",IF(②選手情報入力!O33=\"\",\"\",0))","v":""},{"$f":"IF(E25=\"\",\"\",IF(②選手情報入力!O33=\"\",\"\",2))","v":""}]
[{"$f":"IF(E26=\"\",\"\",I26*1000000+①団体情報入力!$D$3*1000+②選手情報入力!A34)","v":""},{"$f":"IF(E26=\"\",\"\",①団体情報入力!$D$3)","v":""},null,{"$f":"IF(②選手情報入力!B34=\"\",\"\",②選手情報入力!B34)","v":""},{"$f":"IF(②選手情報入力!C34=\"\",\"\",②選手情報入力!C34)","v":""},{"$f":"IF(E26=\"\",\"\",②選手情報入力!D34)","v":""},{"$f":"IF(E26=\"\",\"\",②選手情報入力!E34)","v":""},"",{"$f":"IF(E26=\"\",\"\",IF(②選手情報入力!G34=\"男\",1,2))","v":""},{"$f":"IF(E26=\"\",\"\",IF(②選手情報入力!H34=\"\",\"\",②選手情報入力!H34))","v":""},null,"","",null,{"$f":"IF(E26=\"\",\"\",IF(②選手情報入力!I34=\"\",\"\",IF(I26=1,VLOOKUP(②選手情報入力!I34,種目情報!$A$4:$B$221,2,FALSE),VLOOKUP(②選手情報入力!I34,種目情報!$E$4:$F$221,2,FALSE))))","v":""},{"$f":"IF(E26=\"\",\"\",IF(②選手情報入力!J34=\"\",\"\",②選手情報入力!J34))","v":""},{"$f":"IF(E26=\"\",\"\",IF(②選手情報入力!I34=\"\",\"\",0))","v":""},{"$f":"IF(E26=\"\",\"\",IF(②選手情報入力!I34=\"\",\"\",IF(I26=1,VLOOKUP(②選手情報入力!I34,種目情報!$A$4:$C$21,3,FALSE),VLOOKUP(②選手情報入力!I34,種目情報!$E$4:$G$251,3,FALSE))))","v":""},null,null,null,null,null,null,null,null,{"$f":"IF(E26=\"\",\"\",IF(②選手情報入力!O34=\"\",\"\",IF(I26=1,種目情報!$J$4,種目情報!$J$6)))","v":""},{"$f":"IF(E26=\"\",\"\",IF(②選手情報入力!O34=\"\",\"\",IF(I26=1,IF(②選手情報入力!$O$5=\"\",\"\",②選手情報入力!$O$5),IF(②選手情報入力!$O$6=\"\",\"\",②選手情報入力!$O$6))))","v":""},{"$f":"IF(E26=\"\",\"\",IF(②選手情報入力!O34=\"\",\"\",0))","v":""},{"$f":"IF(E26=\"\",\"\",IF(②選手情報入力!O34=\"\",\"\",2))","v":""}]
[{"$f":"IF(E27=\"\",\"\",I27*1000000+①団体情報入力!$D$3*1000+②選手情報入力!A35)","v":""},{"$f":"IF(E27=\"\",\"\",①団体情報入力!$D$3)","v":""},null,{"$f":"IF(②選手情報入力!B35=\"\",\"\",②選手情報入力!B35)","v":""},{"$f":"IF(②選手情報入力!C35=\"\",\"\",②選手情報入力!C35)","v":""},{"$f":"IF(E27=\"\",\"\",②選手情報入力!D35)","v":""},{"$f":"IF(E27=\"\",\"\",②選手情報入力!E35)","v":""},"",{"$f":"IF(E27=\"\",\"\",IF(②選手情報入力!G35=\"男\",1,2))","v":""},{"$f":"IF(E27=\"\",\"\",IF(②選手情報入力!H35=\"\",\"\",②選手情報入力!H35))","v":""},null,"","",null,{"$f":"IF(E27=\"\",\"\",IF(②選手情報入力!I35=\"\",\"\",IF(I27=1,VLOOKUP(②選手情報入力!I35,種目情報!$A$4:$B$221,2,FALSE),VLOOKUP(②選手情報入力!I35,種目情報!$E$4:$F$221,2,FALSE))))","v":""},{"$f":"IF(E27=\"\",\"\",IF(②選手情報入力!J35=\"\",\"\",②選手情報入力!J35))","v":""},{"$f":"IF(E27=\"\",\"\",IF(②選手情報入力!I35=\"\",\"\",0))","v":""},{"$f":"IF(E27=\"\",\"\",IF(②選手情報入力!I35=\"\",\"\",IF(I27=1,VLOOKUP(②選手情報入力!I35,種目情報!$A$4:$C$21,3,FALSE),VLOOKUP(②選手情報入力!I35,種目情報!$E$4:$G$251,3,FALSE))))","v":""},null,null,null,null,null,null,null,null,{"$f":"IF(E27=\"\",\"\",IF(②選手情報入力!O35=\"\",\"\",IF(I27=1,種目情報!$J$4,種目情報!$J$6)))","v":""},{"$f":"IF(E27=\"\",\"\",IF(②選手情報入力!O35=\"\",\"\",IF(I27=1,IF(②選手情報入力!$O$5=\"\",\"\",②選手情報入力!$O$5),IF(②選手情報入力!$O$6=\"\",\"\",②選手情報入力!$O$6))))","v":""},{"$f":"IF(E27=\"\",\"\",IF(②選手情報入力!O35=\"\",\"\",0))","v":""},{"$f":"IF(E27=\"\",\"\",IF(②選手情報入力!O35=\"\",\"\",2))","v":""}]
[{"$f":"IF(E28=\"\",\"\",I28*1000000+①団体情報入力!$D$3*1000+②選手情報入力!A36)","v":""},{"$f":"IF(E28=\"\",\"\",①団体情報入力!$D$3)","v":""},null,{"$f":"IF(②選手情報入力!B36=\"\",\"\",②選手情報入力!B36)","v":""},{"$f":"IF(②選手情報入力!C36=\"\",\"\",②選手情報入力!C36)","v":""},{"$f":"IF(E28=\"\",\"\",②選手情報入力!D36)","v":""},{"$f":"IF(E28=\"\",\"\",②選手情報入力!E36)","v":""},"",{"$f":"IF(E28=\"\",\"\",IF(②選手情報入力!G36=\"男\",1,2))","v":""},{"$f":"IF(E28=\"\",\"\",IF(②選手情報入力!H36=\"\",\"\",②選手情報入力!H36))","v":""},null,"","",null,{"$f":"IF(E28=\"\",\"\",IF(②選手情報入力!I36=\"\",\"\",IF(I28=1,VLOOKUP(②選手情報入力!I36,種目情報!$A$4:$B$221,2,FALSE),VLOOKUP(②選手情報入力!I36,種目情報!$E$4:$F$221,2,FALSE))))","v":""},{"$f":"IF(E28=\"\",\"\",IF(②選手情報入力!J36=\"\",\"\",②選手情報入力!J36))","v":""},{"$f":"IF(E28=\"\",\"\",IF(②選手情報入力!I36=\"\",\"\",0))","v":""},{"$f":"IF(E28=\"\",\"\",IF(②選手情報入力!I36=\"\",\"\",IF(I28=1,VLOOKUP(②選手情報入力!I36,種目情報!$A$4:$C$21,3,FALSE),VLOOKUP(②選手情報入力!I36,種目情報!$E$4:$G$251,3,FALSE))))","v":""},null,null,null,null,null,null,null,null,{"$f":"IF(E28=\"\",\"\",IF(②選手情報入力!O36=\"\",\"\",IF(I28=1,種目情報!$J$4,種目情報!$J$6)))","v":""},{"$f":"IF(E28=\"\",\"\",IF(②選手情報入力!O36=\"\",\"\",IF(I28=1,IF(②選手情報入力!$O$5=\"\",\"\",②選手情報入力!$O$5),IF(②選手情報入力!$O$6=\"\",\"\",②選手情報入力!$O$6))))","v":""},{"$f":"IF(E28=\"\",\"\",IF(②選手情報入力!O36=\"\",\"\",0))","v":""},{"$f":"IF(E28=\"\",\"\",IF(②選手情報入力!O36=\"\",\"\",2))","v":""}]
[{"$f":"IF(E29=\"\",\"\",I29*1000000+①団体情報入力!$D$3*1000+②選手情報入力!A37)","v":""},{"$f":"IF(E29=\"\",\"\",①団体情報入力!$D$3)","v":""},null,{"$f":"IF(②選手情報入力!B37=\"\",\"\",②選手情報入力!B37)","v":""},{"$f":"IF(②選手情報入力!C37=\"\",\"\",②選手情報入力!C37)","v":""},{"$f":"IF(E29=\"\",\"\",②選手情報入力!D37)","v":""},{"$f":"IF(E29=\"\",\"\",②選手情報入力!E37)","v":""},"",{"$f":"IF(E29=\"\",\"\",IF(②選手情報入力!G37=\"男\",1,2))","v":""},{"$f":"IF(E29=\"\",\"\",IF(②選手情報入力!H37=\"\",\"\",②選手情報入力!H37))","v":""},null,"","",null,{"$f":"IF(E29=\"\",\"\",IF(②選手情報入力!I37=\"\",\"\",IF(I29=1,VLOOKUP(②選手情報入力!I37,種目情報!$A$4:$B$221,2,FALSE),VLOOKUP(②選手情報入力!I37,種目情報!$E$4:$F$221,2,FALSE))))","v":""},{"$f":"IF(E29=\"\",\"\",IF(②選手情報入力!J37=\"\",\"\",②選手情報入力!J37))","v":""},{"$f":"IF(E29=\"\",\"\",IF(②選手情報入力!I37=\"\",\"\",0))","v":""},{"$f":"IF(E29=\"\",\"\",IF(②選手情報入力!I37=\"\",\"\",IF(I29=1,VLOOKUP(②選手情報入力!I37,種目情報!$A$4:$C$21,3,FALSE),VLOOKUP(②選手情報入力!I37,種目情報!$E$4:$G$251,3,FALSE))))","v":""},null,null,null,null,null,null,null,null,{"$f":"IF(E29=\"\",\"\",IF(②選手情報入力!O37=\"\",\"\",IF(I29=1,種目情報!$J$4,種目情報!$J$6)))","v":""},{"$f":"IF(E29=\"\",\"\",IF(②選手情報入力!O37=\"\",\"\",IF(I29=1,IF(②選手情報入力!$O$5=\"\",\"\",②選手情報入力!$O$5),IF(②選手情報入力!$O$6=\"\",\"\",②選手情報入力!$O$6))))","v":""},{"$f":"IF(E29=\"\",\"\",IF(②選手情報入力!O37=\"\",\"\",0))","v":""},{"$f":"IF(E29=\"\",\"\",IF(②選手情報入力!O37=\"\",\"\",2))","v":""}]
[{"$f":"IF(E30=\"\",\"\",I30*1000000+①団体情報入力!$D$3*1000+②選手情報入力!A38)","v":""},{"$f":"IF(E30=\"\",\"\",①団体情報入力!$D$3)","v":""},null,{"$f":"IF(②選手情報入力!B38=\"\",\"\",②選手情報入力!B38)","v":""},{"$f":"IF(②選手情報入力!C38=\"\",\"\",②選手情報入力!C38)","v":""},{"$f":"IF(E30=\"\",\"\",②選手情報入力!D38)","v":""},{"$f":"IF(E30=\"\",\"\",②選手情報入力!E38)","v":""},"",{"$f":"IF(E30=\"\",\"\",IF(②選手情報入力!G38=\"男\",1,2))","v":""},{"$f":"IF(E30=\"\",\"\",IF(②選手情報入力!H38=\"\",\"\",②選手情報入力!H38))","v":""},null,"","",null,{"$f":"IF(E30=\"\",\"\",IF(②選手情報入力!I38=\"\",\"\",IF(I30=1,VLOOKUP(②選手情報入力!I38,種目情報!$A$4:$B$221,2,FALSE),VLOOKUP(②選手情報入力!I38,種目情報!$E$4:$F$221,2,FALSE))))","v":""},{"$f":"IF(E30=\"\",\"\",IF(②選手情報入力!J38=\"\",\"\",②選手情報入力!J38))","v":""},{"$f":"IF(E30=\"\",\"\",IF(②選手情報入力!I38=\"\",\"\",0))","v":""},{"$f":"IF(E30=\"\",\"\",IF(②選手情報入力!I38=\"\",\"\",IF(I30=1,VLOOKUP(②選手情報入力!I38,種目情報!$A$4:$C$21,3,FALSE),VLOOKUP(②選手情報入力!I38,種目情報!$E$4:$G$251,3,FALSE))))","v":""},null,null,null,null,null,null,null,null,{"$f":"IF(E30=\"\",\"\",IF(②選手情報入力!O38=\"\",\"\",IF(I30=1,種目情報!$J$4,種目情報!$J$6)))","v":""},{"$f":"IF(E30=\"\",\"\",IF(②選手情報入力!O38=\"\",\"\",IF(I30=1,IF(②選手情報入力!$O$5=\"\",\"\",②選手情報入力!$O$5),IF(②選手情報入力!$O$6=\"\",\"\",②選手情報入力!$O$6))))","v":""},{"$f":"IF(E30=\"\",\"\",IF(②選手情報入力!O38=\"\",\"\",0))","v":""},{"$f":"IF(E30=\"\",\"\",IF(②選手情報入力!O38=\"\",\"\",2))","v":""}]
[{"$f":"IF(E31=\"\",\"\",I31*1000000+①団体情報入力!$D$3*1000+②選手情報入力!A39)","v":""},{"$f":"IF(E31=\"\",\"\",①団体情報入力!$D$3)","v":""},null,{"$f":"IF(②選手情報入力!B39=\"\",\"\",②選手情報入力!B39)","v":""},{"$f":"IF(②選手情報入力!C39=\"\",\"\",②選手情報入力!C39)","v":""},{"$f":"IF(E31=\"\",\"\",②選手情報入力!D39)","v":""},{"$f":"IF(E31=\"\",\"\",②選手情報入力!E39)","v":""},"",{"$f":"IF(E31=\"\",\"\",IF(②選手情報入力!G39=\"男\",1,2))","v":""},{"$f":"IF(E31=\"\",\"\",IF(②選手情報入力!H39=\"\",\"\",②選手情報入力!H39))","v":""},null,"","",null,{"$f":"IF(E31=\"\",\"\",IF(②選手情報入力!I39=\"\",\"\",IF(I31=1,VLOOKUP(②選手情報入力!I39,種目情報!$A$4:$B$221,2,FALSE),VLOOKUP(②選手情報入力!I39,種目情報!$E$4:$F$221,2,FALSE))))","v":""},{"$f":"IF(E31=\"\",\"\",IF(②選手情報入力!J39=\"\",\"\",②選手情報入力!J39))","v":""},{"$f":"IF(E31=\"\",\"\",IF(②選手情報入力!I39=\"\",\"\",0))","v":""},{"$f":"IF(E31=\"\",\"\",IF(②選手情報入力!I39=\"\",\"\",IF(I31=1,VLOOKUP(②選手情報入力!I39,種目情報!$A$4:$C$21,3,FALSE),VLOOKUP(②選手情報入力!I39,種目情報!$E$4:$G$251,3,FALSE))))","v":""},null,null,null,null,null,null,null,null,{"$f":"IF(E31=\"\",\"\",IF(②選手情報入力!O39=\"\",\"\",IF(I31=1,種目情報!$J$4,種目情報!$J$6)))","v":""},{"$f":"IF(E31=\"\",\"\",IF(②選手情報入力!O39=\"\",\"\",IF(I31=1,IF(②選手情報入力!$O$5=\"\",\"\",②選手情報入力!$O$5),IF(②選手情報入力!$O$6=\"\",\"\",②選手情報入力!$O$6))))","v":""},{"$f":"IF(E31=\"\",\"\",IF(②選手情報入力!O39=\"\",\"\",0))","v":""},{"$f":"IF(E31=\"\",\"\",IF(②選手情報入力!O39=\"\",\"\",2))","v":""}]
[{"$f":"IF(E32=\"\",\"\",I32*1000000+①団体情報入力!$D$3*1000+②選手情報入力!A40)","v":""},{"$f":"IF(E32=\"\",\"\",①団体情報入力!$D$3)","v":""},null,{"$f":"IF(②選手情報入力!B40=\"\",\"\",②選手情報入力!B40)","v":""},{"$f":"IF(②選手情報入力!C40=\"\",\"\",②選手情報入力!C40)","v":""},{"$f":"IF(E32=\"\",\"\",②選手情報入力!D40)","v":""},{"$f":"IF(E32=\"\",\"\",②選手情報入力!E40)","v":""},"",{"$f":"IF(E32=\"\",\"\",IF(②選手情報入力!G40=\"男\",1,2))","v":""},{"$f":"IF(E32=\"\",\"\",IF(②選手情報入力!H40=\"\",\"\",②選手情報入力!H40))","v":""},null,"","",null,{"$f":"IF(E32=\"\",\"\",IF(②選手情報入力!I40=\"\",\"\",IF(I32=1,VLOOKUP(②選手情報入力!I40,種目情報!$A$4:$B$221,2,FALSE),VLOOKUP(②選手情報入力!I40,種目情報!$E$4:$F$221,2,FALSE))))","v":""},{"$f":"IF(E32=\"\",\"\",IF(②選手情報入力!J40=\"\",\"\",②選手情報入力!J40))","v":""},{"$f":"IF(E32=\"\",\"\",IF(②選手情報入力!I40=\"\",\"\",0))","v":""},{"$f":"IF(E32=\"\",\"\",IF(②選手情報入力!I40=\"\",\"\",IF(I32=1,VLOOKUP(②選手情報入力!I40,種目情報!$A$4:$C$21,3,FALSE),VLOOKUP(②選手情報入力!I40,種目情報!$E$4:$G$251,3,FALSE))))","v":""},null,null,null,null,null,null,null,null,{"$f":"IF(E32=\"\",\"\",IF(②選手情報入力!O40=\"\",\"\",IF(I32=1,種目情報!$J$4,種目情報!$J$6)))","v":""},{"$f":"IF(E32=\"\",\"\",IF(②選手情報入力!O40=\"\",\"\",IF(I32=1,IF(②選手情報入力!$O$5=\"\",\"\",②選手情報入力!$O$5),IF(②選手情報入力!$O$6=\"\",\"\",②選手情報入力!$O$6))))","v":""},{"$f":"IF(E32=\"\",\"\",IF(②選手情報入力!O40=\"\",\"\",0))","v":""},{"$f":"IF(E32=\"\",\"\",IF(②選手情報入力!O40=\"\",\"\",2))","v":""}]
[{"$f":"IF(E33=\"\",\"\",I33*1000000+①団体情報入力!$D$3*1000+②選手情報入力!A41)","v":""},{"$f":"IF(E33=\"\",\"\",①団体情報入力!$D$3)","v":""},null,{"$f":"IF(②選手情報入力!B41=\"\",\"\",②選手情報入力!B41)","v":""},{"$f":"IF(②選手情報入力!C41=\"\",\"\",②選手情報入力!C41)","v":""},{"$f":"IF(E33=\"\",\"\",②選手情報入力!D41)","v":""},{"$f":"IF(E33=\"\",\"\",②選手情報入力!E41)","v":""},"",{"$f":"IF(E33=\"\",\"\",IF(②選手情報入力!G41=\"男\",1,2))","v":""},{"$f":"IF(E33=\"\",\"\",IF(②選手情報入力!H41=\"\",\"\",②選手情報入力!H41))","v":""},null,"","",null,{"$f":"IF(E33=\"\",\"\",IF(②選手情報入力!I41=\"\",\"\",IF(I33=1,VLOOKUP(②選手情報入力!I41,種目情報!$A$4:$B$221,2,FALSE),VLOOKUP(②選手情報入力!I41,種目情報!$E$4:$F$221,2,FALSE))))","v":""},{"$f":"IF(E33=\"\",\"\",IF(②選手情報入力!J41=\"\",\"\",②選手情報入力!J41))","v":""},{"$f":"IF(E33=\"\",\"\",IF(②選手情報入力!I41=\"\",\"\",0))","v":""},{"$f":"IF(E33=\"\",\"\",IF(②選手情報入力!I41=\"\",\"\",IF(I33=1,VLOOKUP(②選手情報入力!I41,種目情報!$A$4:$C$21,3,FALSE),VLOOKUP(②選手情報入力!I41,種目情報!$E$4:$G$251,3,FALSE))))","v":""},null,null,null,null,null,null,null,null,{"$f":"IF(E33=\"\",\"\",IF(②選手情報入力!O41=\"\",\"\",IF(I33=1,種目情報!$J$4,種目情報!$J$6)))","v":""},{"$f":"IF(E33=\"\",\"\",IF(②選手情報入力!O41=\"\",\"\",IF(I33=1,IF(②選手情報入力!$O$5=\"\",\"\",②選手情報入力!$O$5),IF(②選手情報入力!$O$6=\"\",\"\",②選手情報入力!$O$6))))","v":""},{"$f":"IF(E33=\"\",\"\",IF(②選手情報入力!O41=\"\",\"\",0))","v":""},{"$f":"IF(E33=\"\",\"\",IF(②選手情報入力!O41=\"\",\"\",2))","v":""}]
[{"$f":"IF(E34=\"\",\"\",I34*1000000+①団体情報入力!$D$3*1000+②選手情報入力!A42)","v":""},{"$f":"IF(E34=\"\",\"\",①団体情報入力!$D$3)","v":""},null,{"$f":"IF(②選手情報入力!B42=\"\",\"\",②選手情報入力!B42)","v":""},{"$f":"IF(②選手情報入力!C42=\"\",\"\",②選手情報入力!C42)","v":""},{"$f":"IF(E34=\"\",\"\",②選手情報入力!D42)","v":""},{"$f":"IF(E34=\"\",\"\",②選手情報入力!E42)","v":""},"",{"$f":"IF(E34=\"\",\"\",IF(②選手情報入力!G42=\"男\",1,2))","v":""},{"$f":"IF(E34=\"\",\"\",IF(②選手情報入力!H42=\"\",\"\",②選手情報入力!H42))","v":""},null,"","",null,{"$f":"IF(E34=\"\",\"\",IF(②選手情報入力!I42=\"\",\"\",IF(I34=1,VLOOKUP(②選手情報入力!I42,種目情報!$A$4:$B$221,2,FALSE),VLOOKUP(②選手情報入力!I42,種目情報!$E$4:$F$221,2,FALSE))))","v":""},{"$f":"IF(E34=\"\",\"\",IF(②選手情報入力!J42=\"\",\"\",②選手情報入力!J42))","v":""},{"$f":"IF(E34=\"\",\"\",IF(②選手情報入力!I42=\"\",\"\",0))","v":""},{"$f":"IF(E34=\"\",\"\",IF(②選手情報入力!I42=\"\",\"\",IF(I34=1,VLOOKUP(②選手情報入力!I42,種目情報!$A$4:$C$21,3,FALSE),VLOOKUP(②選手情報入力!I42,種目情報!$E$4:$G$251,3,FALSE))))","v":""},null,null,null,null,null,null,null,null,{"$f":"IF(E34=\"\",\"\",IF(②選手情報入力!O42=\"\",\"\",IF(I34=1,種目情報!$J$4,種目情報!$J$6)))","v":""},{"$f":"IF(E34=\"\",\"\",IF(②選手情報入力!O42=\"\",\"\",IF(I34=1,IF(②選手情報入力!$O$5=\"\",\"\",②選手情報入力!$O$5),IF(②選手情報入力!$O$6=\"\",\"\",②選手情報入力!$O$6))))","v":""},{"$f":"IF(E34=\"\",\"\",IF(②選手情報入力!O42=\"\",\"\",0))","v":""},{"$f":"IF(E34=\"\",\"\",IF(②選手情報入力!O42=\"\",\"\",2))","v":""}]
[{"$f":"IF(E35=\"\",\"\",I35*1000000+①団体情報入力!$D$3*1000+②選手情報入力!A43)","v":""},{"$f":"IF(E35=\"\",\"\",①団体情報入力!$D$3)","v":""},null,{"$f":"IF(②選手情報入力!B43=\"\",\"\",②選手情報入力!B43)","v":""},{"$f":"IF(②選手情報入力!C43=\"\",\"\",②選手情報入力!C43)","v":""},{"$f":"IF(E35=\"\",\"\",②選手情報入力!D43)","v":""},{"$f":"IF(E35=\"\",\"\",②選手情報入力!E43)","v":""},"",{"$f":"IF(E35=\"\",\"\",IF(②選手情報入力!G43=\"男\",1,2))","v":""},{"$f":"IF(E35=\"\",\"\",IF(②選手情報入力!H43=\"\",\"\",②選手情報入力!H43))","v":""},null,"","",null,{"$f":"IF(E35=\"\",\"\",IF(②選手情報入力!I43=\"\",\"\",IF(I35=1,VLOOKUP(②選手情報入力!I43,種目情報!$A$4:$B$221,2,FALSE),VLOOKUP(②選手情報入力!I43,種目情報!$E$4:$F$221,2,FALSE))))","v":""},{"$f":"IF(E35=\"\",\"\",IF(②選手情報入力!J43=\"\",\"\",②選手情報入力!J43))","v":""},{"$f":"IF(E35=\"\",\"\",IF(②選手情報入力!I43=\"\",\"\",0))","v":""},{"$f":"IF(E35=\"\",\"\",IF(②選手情報入力!I43=\"\",\"\",IF(I35=1,VLOOKUP(②選手情報入力!I43,種目情報!$A$4:$C$21,3,FALSE),VLOOKUP(②選手情報入力!I43,種目情報!$E$4:$G$251,3,FALSE))))","v":""},null,null,null,null,null,null,null,null,{"$f":"IF(E35=\"\",\"\",IF(②選手情報入力!O43=\"\",\"\",IF(I35=1,種目情報!$J$4,種目情報!$J$6)))","v":""},{"$f":"IF(E35=\"\",\"\",IF(②選手情報入力!O43=\"\",\"\",IF(I35=1,IF(②選手情報入力!$O$5=\"\",\"\",②選手情報入力!$O$5),IF(②選手情報入力!$O$6=\"\",\"\",②選手情報入力!$O$6))))","v":""},{"$f":"IF(E35=\"\",\"\",IF(②選手情報入力!O43=\"\",\"\",0))","v":""},{"$f":"IF(E35=\"\",\"\",IF(②選手情報入力!O43=\"\",\"\",2))","v":""}]
[{"$f":"IF(E36=\"\",\"\",I36*1000000+①団体情報入力!$D$3*1000+②選手情報入力!A44)","v":""},{"$f":"IF(E36=\"\",\"\",①団体情報入力!$D$3)","v":""},null,{"$f":"IF(②選手情報入力!B44=\"\",\"\",②選手情報入力!B44)","v":""},{"$f":"IF(②選手情報入力!C44=\"\",\"\",②選手情報入力!C44)","v":""},{"$f":"IF(E36=\"\",\"\",②選手情報入力!D44)","v":""},{"$f":"IF(E36=\"\",\"\",②選手情報入力!E44)","v":""},"",{"$f":"IF(E36=\"\",\"\",IF(②選手情報入力!G44=\"男\",1,2))","v":""},{"$f":"IF(E36=\"\",\"\",IF(②選手情報入力!H44=\"\",\"\",②選手情報入力!H44))","v":""},null,"","",null,{"$f":"IF(E36=\"\",\"\",IF(②選手情報入力!I44=\"\",\"\",IF(I36=1,VLOOKUP(②選手情報入力!I44,種目情報!$A$4:$B$221,2,FALSE),VLOOKUP(②選手情報入力!I44,種目情報!$E$4:$F$221,2,FALSE))))","v":""},{"$f":"IF(E36=\"\",\"\",IF(②選手情報入力!J44=\"\",\"\",②選手情報入力!J44))","v":""},{"$f":"IF(E36=\"\",\"\",IF(②選手情報入力!I44=\"\",\"\",0))","v":""},{"$f":"IF(E36=\"\",\"\",IF(②選手情報入力!I44=\"\",\"\",IF(I36=1,VLOOKUP(②選手情報入力!I44,種目情報!$A$4:$C$21,3,FALSE),VLOOKUP(②選手情報入力!I44,種目情報!$E$4:$G$251,3,FALSE))))","v":""},null,null,null,null,null,null,null,null,{"$f":"IF(E36=\"\",\"\",IF(②選手情報入力!O44=\"\",\"\",IF(I36=1,種目情報!$J$4,種目情報!$J$6)))","v":""},{"$f":"IF(E36=\"\",\"\",IF(②選手情報入力!O44=\"\",\"\",IF(I36=1,IF(②選手情報入力!$O$5=\"\",\"\",②選手情報入力!$O$5),IF(②選手情報入力!$O$6=\"\",\"\",②選手情報入力!$O$6))))","v":""},{"$f":"IF(E36=\"\",\"\",IF(②選手情報入力!O44=\"\",\"\",0))","v":""},{"$f":"IF(E36=\"\",\"\",IF(②選手情報入力!O44=\"\",\"\",2))","v":""}]
[{"$f":"IF(E37=\"\",\"\",I37*1000000+①団体情報入力!$D$3*1000+②選手情報入力!A45)","v":""},{"$f":"IF(E37=\"\",\"\",①団体情報入力!$D$3)","v":""},null,{"$f":"IF(②選手情報入力!B45=\"\",\"\",②選手情報入力!B45)","v":""},{"$f":"IF(②選手情報入力!C45=\"\",\"\",②選手情報入力!C45)","v":""},{"$f":"IF(E37=\"\",\"\",②選手情報入力!D45)","v":""},{"$f":"IF(E37=\"\",\"\",②選手情報入力!E45)","v":""},"",{"$f":"IF(E37=\"\",\"\",IF(②選手情報入力!G45=\"男\",1,2))","v":""},{"$f":"IF(E37=\"\",\"\",IF(②選手情報入力!H45=\"\",\"\",②選手情報入力!H45))","v":""},null,"","",null,{"$f":"IF(E37=\"\",\"\",IF(②選手情報入力!I45=\"\",\"\",IF(I37=1,VLOOKUP(②選手情報入力!I45,種目情報!$A$4:$B$221,2,FALSE),VLOOKUP(②選手情報入力!I45,種目情報!$E$4:$F$221,2,FALSE))))","v":""},{"$f":"IF(E37=\"\",\"\",IF(②選手情報入力!J45=\"\",\"\",②選手情報入力!J45))","v":""},{"$f":"IF(E37=\"\",\"\",IF(②選手情報入力!I45=\"\",\"\",0))","v":""},{"$f":"IF(E37=\"\",\"\",IF(②選手情報入力!I45=\"\",\"\",IF(I37=1,VLOOKUP(②選手情報入力!I45,種目情報!$A$4:$C$21,3,FALSE),VLOOKUP(②選手情報入力!I45,種目情報!$E$4:$G$251,3,FALSE))))","v":""},null,null,null,null,null,null,null,null,{"$f":"IF(E37=\"\",\"\",IF(②選手情報入力!O45=\"\",\"\",IF(I37=1,種目情報!$J$4,種目情報!$J$6)))","v":""},{"$f":"IF(E37=\"\",\"\",IF(②選手情報入力!O45=\"\",\"\",IF(I37=1,IF(②選手情報入力!$O$5=\"\",\"\",②選手情報入力!$O$5),IF(②選手情報入力!$O$6=\"\",\"\",②選手情報入力!$O$6))))","v":""},{"$f":"IF(E37=\"\",\"\",IF(②選手情報入力!O45=\"\",\"\",0))","v":""},{"$f":"IF(E37=\"\",\"\",IF(②選手情報入力!O45=\"\",\"\",2))","v":""}]
[{"$f":"IF(E38=\"\",\"\",I38*1000000+①団体情報入力!$D$3*1000+②選手情報入力!A46)","v":""},{"$f":"IF(E38=\"\",\"\",①団体情報入力!$D$3)","v":""},null,{"$f":"IF(②選手情報入力!B46=\"\",\"\",②選手情報入力!B46)","v":""},{"$f":"IF(②選手情報入力!C46=\"\",\"\",②選手情報入力!C46)","v":""},{"$f":"IF(E38=\"\",\"\",②選手情報入力!D46)","v":""},{"$f":"IF(E38=\"\",\"\",②選手情報入力!E46)","v":""},"",{"$f":"IF(E38=\"\",\"\",IF(②選手情報入力!G46=\"男\",1,2))","v":""},{"$f":"IF(E38=\"\",\"\",IF(②選手情報入力!H46=\"\",\"\",②選手情報入力!H46))","v":""},null,"","",null,{"$f":"IF(E38=\"\",\"\",IF(②選手情報入力!I46=\"\",\"\",IF(I38=1,VLOOKUP(②選手情報入力!I46,種目情報!$A$4:$B$221,2,FALSE),VLOOKUP(②選手情報入力!I46,種目情報!$E$4:$F$221,2,FALSE))))","v":""},{"$f":"IF(E38=\"\",\"\",IF(②選手情報入力!J46=\"\",\"\",②選手情報入力!J46))","v":""},{"$f":"IF(E38=\"\",\"\",IF(②選手情報入力!I46=\"\",\"\",0))","v":""},{"$f":"IF(E38=\"\",\"\",IF(②選手情報入力!I46=\"\",\"\",IF(I38=1,VLOOKUP(②選手情報入力!I46,種目情報!$A$4:$C$21,3,FALSE),VLOOKUP(②選手情報入力!I46,種目情報!$E$4:$G$251,3,FALSE))))","v":""},null,null,null,null,null,null,null,null,{"$f":"IF(E38=\"\",\"\",IF(②選手情報入力!O46=\"\",\"\",IF(I38=1,種目情報!$J$4,種目情報!$J$6)))","v":""},{"$f":"IF(E38=\"\",\"\",IF(②選手情報入力!O46=\"\",\"\",IF(I38=1,IF(②選手情報入力!$O$5=\"\",\"\",②選手情報入力!$O$5),IF(②選手情報入力!$O$6=\"\",\"\",②選手情報入力!$O$6))))","v":""},{"$f":"IF(E38=\"\",\"\",IF(②選手情報入力!O46=\"\",\"\",0))","v":""},{"$f":"IF(E38=\"\",\"\",IF(②選手情報入力!O46=\"\",\"\",2))","v":""}]
[{"$f":"IF(E39=\"\",\"\",I39*1000000+①団体情報入力!$D$3*1000+②選手情報入力!A47)","v":""},{"$f":"IF(E39=\"\",\"\",①団体情報入力!$D$3)","v":""},null,{"$f":"IF(②選手情報入力!B47=\"\",\"\",②選手情報入力!B47)","v":""},{"$f":"IF(②選手情報入力!C47=\"\",\"\",②選手情報入力!C47)","v":""},{"$f":"IF(E39=\"\",\"\",②選手情報入力!D47)","v":""},{"$f":"IF(E39=\"\",\"\",②選手情報入力!E47)","v":""},"",{"$f":"IF(E39=\"\",\"\",IF(②選手情報入力!G47=\"男\",1,2))","v":""},{"$f":"IF(E39=\"\",\"\",IF(②選手情報入力!H47=\"\",\"\",②選手情報入力!H47))","v":""},null,"","",null,{"$f":"IF(E39=\"\",\"\",IF(②選手情報入力!I47=\"\",\"\",IF(I39=1,VLOOKUP(②選手情報入力!I47,種目情報!$A$4:$B$221,2,FALSE),VLOOKUP(②選手情報入力!I47,種目情報!$E$4:$F$221,2,FALSE))))","v":""},{"$f":"IF(E39=\"\",\"\",IF(②選手情報入力!J47=\"\",\"\",②選手情報入力!J47))","v":""},{"$f":"IF(E39=\"\",\"\",IF(②選手情報入力!I47=\"\",\"\",0))","v":""},{"$f":"IF(E39=\"\",\"\",IF(②選手情報入力!I47=\"\",\"\",IF(I39=1,VLOOKUP(②選手情報入力!I47,種目情報!$A$4:$C$21,3,FALSE),VLOOKUP(②選手情報入力!I47,種目情報!$E$4:$G$251,3,FALSE))))","v":""},null,null,null,null,null,null,null,null,{"$f":"IF(E39=\"\",\"\",IF(②選手情報入力!O47=\"\",\"\",IF(I39=1,種目情報!$J$4,種目情報!$J$6)))","v":""},{"$f":"IF(E39=\"\",\"\",IF(②選手情報入力!O47=\"\",\"\",IF(I39=1,IF(②選手情報入力!$O$5=\"\",\"\",②選手情報入力!$O$5),IF(②選手情報入力!$O$6=\"\",\"\",②選手情報入力!$O$6))))","v":""},{"$f":"IF(E39=\"\",\"\",IF(②選手情報入力!O47=\"\",\"\",0))","v":""},{"$f":"IF(E39=\"\",\"\",IF(②選手情報入力!O47=\"\",\"\",2))","v":""}]
[{"$f":"IF(E40=\"\",\"\",I40*1000000+①団体情報入力!$D$3*1000+②選手情報入力!A48)","v":""},{"$f":"IF(E40=\"\",\"\",①団体情報入力!$D$3)","v":""},null,{"$f":"IF(②選手情報入力!B48=\"\",\"\",②選手情報入力!B48)","v":""},{"$f":"IF(②選手情報入力!C48=\"\",\"\",②選手情報入力!C48)","v":""},{"$f":"IF(E40=\"\",\"\",②選手情報入力!D48)","v":""},{"$f":"IF(E40=\"\",\"\",②選手情報入力!E48)","v":""},"",{"$f":"IF(E40=\"\",\"\",IF(②選手情報入力!G48=\"男\",1,2))","v":""},{"$f":"IF(E40=\"\",\"\",IF(②選手情報入力!H48=\"\",\"\",②選手情報入力!H48))","v":""},null,"","",null,{"$f":"IF(E40=\"\",\"\",IF(②選手情報入力!I48=\"\",\"\",IF(I40=1,VLOOKUP(②選手情報入力!I48,種目情報!$A$4:$B$221,2,FALSE),VLOOKUP(②選手情報入力!I48,種目情報!$E$4:$F$221,2,FALSE))))","v":""},{"$f":"IF(E40=\"\",\"\",IF(②選手情報入力!J48=\"\",\"\",②選手情報入力!J48))","v":""},{"$f":"IF(E40=\"\",\"\",IF(②選手情報入力!I48=\"\",\"\",0))","v":""},{"$f":"IF(E40=\"\",\"\",IF(②選手情報入力!I48=\"\",\"\",IF(I40=1,VLOOKUP(②選手情報入力!I48,種目情報!$A$4:$C$21,3,FALSE),VLOOKUP(②選手情報入力!I48,種目情報!$E$4:$G$251,3,FALSE))))","v":""},null,null,null,null,null,null,null,null,{"$f":"IF(E40=\"\",\"\",IF(②選手情報入力!O48=\"\",\"\",IF(I40=1,種目情報!$J$4,種目情報!$J$6)))","v":""},{"$f":"IF(E40=\"\",\"\",IF(②選手情報入力!O48=\"\",\"\",IF(I40=1,IF(②選手情報入力!$O$5=\"\",\"\",②選手情報入力!$O$5),IF(②選手情報入力!$O$6=\"\",\"\",②選手情報入力!$O$6))))","v":""},{"$f":"IF(E40=\"\",\"\",IF(②選手情報入力!O48=\"\",\"\",0))","v":""},{"$f":"IF(E40=\"\",\"\",IF(②選手情報入力!O48=\"\",\"\",2))","v":""}]
[{"$f":"IF(E41=\"\",\"\",I41*1000000+①団体情報入力!$D$3*1000+②選手情報入力!A49)","v":""},{"$f":"IF(E41=\"\",\"\",①団体情報入力!$D$3)","v":""},null,{"$f":"IF(②選手情報入力!B49=\"\",\"\",②選手情報入力!B49)","v":""},{"$f":"IF(②選手情報入力!C49=\"\",\"\",②選手情報入力!C49)","v":""},{"$f":"IF(E41=\"\",\"\",②選手情報入力!D49)","v":""},{"$f":"IF(E41=\"\",\"\",②選手情報入力!E49)","v":""},"",{"$f":"IF(E41=\"\",\"\",IF(②選手情報入力!G49=\"男\",1,2))","v":""},{"$f":"IF(E41=\"\",\"\",IF(②選手情報入力!H49=\"\",\"\",②選手情報入力!H49))","v":""},null,"","",null,{"$f":"IF(E41=\"\",\"\",IF(②選手情報入力!I49=\"\",\"\",IF(I41=1,VLOOKUP(②選手情報入力!I49,種目情報!$A$4:$B$221,2,FALSE),VLOOKUP(②選手情報入力!I49,種目情報!$E$4:$F$221,2,FALSE))))","v":""},{"$f":"IF(E41=\"\",\"\",IF(②選手情報入力!J49=\"\",\"\",②選手情報入力!J49))","v":""},{"$f":"IF(E41=\"\",\"\",IF(②選手情報入力!I49=\"\",\"\",0))","v":""},{"$f":"IF(E41=\"\",\"\",IF(②選手情報入力!I49=\"\",\"\",IF(I41=1,VLOOKUP(②選手情報入力!I49,種目情報!$A$4:$C$21,3,FALSE),VLOOKUP(②選手情報入力!I49,種目情報!$E$4:$G$251,3,FALSE))))","v":""},null,null,null,null,null,null,null,null,{"$f":"IF(E41=\"\",\"\",IF(②選手情報入力!O49=\"\",\"\",IF(I41=1,種目情報!$J$4,種目情報!$J$6)))","v":""},{"$f":"IF(E41=\"\",\"\",IF(②選手情報入力!O49=\"\",\"\",IF(I41=1,IF(②選手情報入力!$O$5=\"\",\"\",②選手情報入力!$O$5),IF(②選手情報入力!$O$6=\"\",\"\",②選手情報入力!$O$6))))","v":""},{"$f":"IF(E41=\"\",\"\",IF(②選手情報入力!O49=\"\",\"\",0))","v":""},{"$f":"IF(E41=\"\",\"\",IF(②選手情報入力!O49=\"\",\"\",2))","v":""}]
[{"$f":"IF(E42=\"\",\"\",I42*1000000+①団体情報入力!$D$3*1000+②選手情報入力!A50)","v":""},{"$f":"IF(E42=\"\",\"\",①団体情報入力!$D$3)","v":""},null,{"$f":"IF(②選手情報入力!B50=\"\",\"\",②選手情報入力!B50)","v":""},{"$f":"IF(②選手情報入力!C50=\"\",\"\",②選手情報入力!C50)","v":""},{"$f":"IF(E42=\"\",\"\",②選手情報入力!D50)","v":""},{"$f":"IF(E42=\"\",\"\",②選手情報入力!E50)","v":""},"",{"$f":"IF(E42=\"\",\"\",IF(②選手情報入力!G50=\"男\",1,2))","v":""},{"$f":"IF(E42=\"\",\"\",IF(②選手情報入力!H50=\"\",\"\",②選手情報入力!H50))","v":""},null,"","",null,{"$f":"IF(E42=\"\",\"\",IF(②選手情報入力!I50=\"\",\"\",IF(I42=1,VLOOKUP(②選手情報入力!I50,種目情報!$A$4:$B$221,2,FALSE),VLOOKUP(②選手情報入力!I50,種目情報!$E$4:$F$221,2,FALSE))))","v":""},{"$f":"IF(E42=\"\",\"\",IF(②選手情報入力!J50=\"\",\"\",②選手情報入力!J50))","v":""},{"$f":"IF(E42=\"\",\"\",IF(②選手情報入力!I50=\"\",\"\",0))","v":""},{"$f":"IF(E42=\"\",\"\",IF(②選手情報入力!I50=\"\",\"\",IF(I42=1,VLOOKUP(②選手情報入力!I50,種目情報!$A$4:$C$21,3,FALSE),VLOOKUP(②選手情報入力!I50,種目情報!$E$4:$G$251,3,FALSE))))","v":""},null,null,null,null,null,null,null,null,{"$f":"IF(E42=\"\",\"\",IF(②選手情報入力!O50=\"\",\"\",IF(I42=1,種目情報!$J$4,種目情報!$J$6)))","v":""},{"$f":"IF(E42=\"\",\"\",IF(②選手情報入力!O50=\"\",\"\",IF(I42=1,IF(②選手情報入力!$O$5=\"\",\"\",②選手情報入力!$O$5),IF(②選手情報入力!$O$6=\"\",\"\",②選手情報入力!$O$6))))","v":""},{"$f":"IF(E42=\"\",\"\",IF(②選手情報入力!O50=\"\",\"\",0))","v":""},{"$f":"IF(E42=\"\",\"\",IF(②選手情報入力!O50=\"\",\"\",2))","v":""}]
[{"$f":"IF(E43=\"\",\"\",I43*1000000+①団体情報入力!$D$3*1000+②選手情報入力!A51)","v":""},{"$f":"IF(E43=\"\",\"\",①団体情報入力!$D$3)","v":""},null,{"$f":"IF(②選手情報入力!B51=\"\",\"\",②選手情報入力!B51)","v":""},{"$f":"IF(②選手情報入力!C51=\"\",\"\",②選手情報入力!C51)","v":""},{"$f":"IF(E43=\"\",\"\",②選手情報入力!D51)","v":""},{"$f":"IF(E43=\"\",\"\",②選手情報入力!E51)","v":""},"",{"$f":"IF(E43=\"\",\"\",IF(②選手情報入力!G51=\"男\",1,2))","v":""},{"$f":"IF(E43=\"\",\"\",IF(②選手情報入力!H51=\"\",\"\",②選手情報入力!H51))","v":""},null,"","",null,{"$f":"IF(E43=\"\",\"\",IF(②選手情報入力!I51=\"\",\"\",IF(I43=1,VLOOKUP(②選手情報入力!I51,種目情報!$A$4:$B$221,2,FALSE),VLOOKUP(②選手情報入力!I51,種目情報!$E$4:$F$221,2,FALSE))))","v":""},{"$f":"IF(E43=\"\",\"\",IF(②選手情報入力!J51=\"\",\"\",②選手情報入力!J51))","v":""},{"$f":"IF(E43=\"\",\"\",IF(②選手情報入力!I51=\"\",\"\",0))","v":""},{"$f":"IF(E43=\"\",\"\",IF(②選手情報入力!I51=\"\",\"\",IF(I43=1,VLOOKUP(②選手情報入力!I51,種目情報!$A$4:$C$21,3,FALSE),VLOOKUP(②選手情報入力!I51,種目情報!$E$4:$G$251,3,FALSE))))","v":""},null,null,null,null,null,null,null,null,{"$f":"IF(E43=\"\",\"\",IF(②選手情報入力!O51=\"\",\"\",IF(I43=1,種目情報!$J$4,種目情報!$J$6)))","v":""},{"$f":"IF(E43=\"\",\"\",IF(②選手情報入力!O51=\"\",\"\",IF(I43=1,IF(②選手情報入力!$O$5=\"\",\"\",②選手情報入力!$O$5),IF(②選手情報入力!$O$6=\"\",\"\",②選手情報入力!$O$6))))","v":""},{"$f":"IF(E43=\"\",\"\",IF(②選手情報入力!O51=\"\",\"\",0))","v":""},{"$f":"IF(E43=\"\",\"\",IF(②選手情報入力!O51=\"\",\"\",2))","v":""}]
[{"$f":"IF(E44=\"\",\"\",I44*1000000+①団体情報入力!$D$3*1000+②選手情報入力!A52)","v":""},{"$f":"IF(E44=\"\",\"\",①団体情報入力!$D$3)","v":""},null,{"$f":"IF(②選手情報入力!B52=\"\",\"\",②選手情報入力!B52)","v":""},{"$f":"IF(②選手情報入力!C52=\"\",\"\",②選手情報入力!C52)","v":""},{"$f":"IF(E44=\"\",\"\",②選手情報入力!D52)","v":""},{"$f":"IF(E44=\"\",\"\",②選手情報入力!E52)","v":""},"",{"$f":"IF(E44=\"\",\"\",IF(②選手情報入力!G52=\"男\",1,2))","v":""},{"$f":"IF(E44=\"\",\"\",IF(②選手情報入力!H52=\"\",\"\",②選手情報入力!H52))","v":""},null,"","",null,{"$f":"IF(E44=\"\",\"\",IF(②選手情報入力!I52=\"\",\"\",IF(I44=1,VLOOKUP(②選手情報入力!I52,種目情報!$A$4:$B$221,2,FALSE),VLOOKUP(②選手情報入力!I52,種目情報!$E$4:$F$221,2,FALSE))))","v":""},{"$f":"IF(E44=\"\",\"\",IF(②選手情報入力!J52=\"\",\"\",②選手情報入力!J52))","v":""},{"$f":"IF(E44=\"\",\"\",IF(②選手情報入力!I52=\"\",\"\",0))","v":""},{"$f":"IF(E44=\"\",\"\",IF(②選手情報入力!I52=\"\",\"\",IF(I44=1,VLOOKUP(②選手情報入力!I52,種目情報!$A$4:$C$21,3,FALSE),VLOOKUP(②選手情報入力!I52,種目情報!$E$4:$G$251,3,FALSE))))","v":""},null,null,null,null,null,null,null,null,{"$f":"IF(E44=\"\",\"\",IF(②選手情報入力!O52=\"\",\"\",IF(I44=1,種目情報!$J$4,種目情報!$J$6)))","v":""},{"$f":"IF(E44=\"\",\"\",IF(②選手情報入力!O52=\"\",\"\",IF(I44=1,IF(②選手情報入力!$O$5=\"\",\"\",②選手情報入力!$O$5),IF(②選手情報入力!$O$6=\"\",\"\",②選手情報入力!$O$6))))","v":""},{"$f":"IF(E44=\"\",\"\",IF(②選手情報入力!O52=\"\",\"\",0))","v":""},{"$f":"IF(E44=\"\",\"\",IF(②選手情報入力!O52=\"\",\"\",2))","v":""}]
[{"$f":"IF(E45=\"\",\"\",I45*1000000+①団体情報入力!$D$3*1000+②選手情報入力!A53)","v":""},{"$f":"IF(E45=\"\",\"\",①団体情報入力!$D$3)","v":""},null,{"$f":"IF(②選手情報入力!B53=\"\",\"\",②選手情報入力!B53)","v":""},{"$f":"IF(②選手情報入力!C53=\"\",\"\",②選手情報入力!C53)","v":""},{"$f":"IF(E45=\"\",\"\",②選手情報入力!D53)","v":""},{"$f":"IF(E45=\"\",\"\",②選手情報入力!E53)","v":""},"",{"$f":"IF(E45=\"\",\"\",IF(②選手情報入力!G53=\"男\",1,2))","v":""},{"$f":"IF(E45=\"\",\"\",IF(②選手情報入力!H53=\"\",\"\",②選手情報入力!H53))","v":""},null,"","",null,{"$f":"IF(E45=\"\",\"\",IF(②選手情報入力!I53=\"\",\"\",IF(I45=1,VLOOKUP(②選手情報入力!I53,種目情報!$A$4:$B$221,2,FALSE),VLOOKUP(②選手情報入力!I53,種目情報!$E$4:$F$221,2,FALSE))))","v":""},{"$f":"IF(E45=\"\",\"\",IF(②選手情報入力!J53=\"\",\"\",②選手情報入力!J53))","v":""},{"$f":"IF(E45=\"\",\"\",IF(②選手情報入力!I53=\"\",\"\",0))","v":""},{"$f":"IF(E45=\"\",\"\",IF(②選手情報入力!I53=\"\",\"\",IF(I45=1,VLOOKUP(②選手情報入力!I53,種目情報!$A$4:$C$21,3,FALSE),VLOOKUP(②選手情報入力!I53,種目情報!$E$4:$G$251,3,FALSE))))","v":""},null,null,null,null,null,null,null,null,{"$f":"IF(E45=\"\",\"\",IF(②選手情報入力!O53=\"\",\"\",IF(I45=1,種目情報!$J$4,種目情報!$J$6)))","v":""},{"$f":"IF(E45=\"\",\"\",IF(②選手情報入力!O53=\"\",\"\",IF(I45=1,IF(②選手情報入力!$O$5=\"\",\"\",②選手情報入力!$O$5),IF(②選手情報入力!$O$6=\"\",\"\",②選手情報入力!$O$6))))","v":""},{"$f":"IF(E45=\"\",\"\",IF(②選手情報入力!O53=\"\",\"\",0))","v":""},{"$f":"IF(E45=\"\",\"\",IF(②選手情報入力!O53=\"\",\"\",2))","v":""}]
[{"$f":"IF(E46=\"\",\"\",I46*1000000+①団体情報入力!$D$3*1000+②選手情報入力!A54)","v":""},{"$f":"IF(E46=\"\",\"\",①団体情報入力!$D$3)","v":""},null,{"$f":"IF(②選手情報入力!B54=\"\",\"\",②選手情報入力!B54)","v":""},{"$f":"IF(②選手情報入力!C54=\"\",\"\",②選手情報入力!C54)","v":""},{"$f":"IF(E46=\"\",\"\",②選手情報入力!D54)","v":""},{"$f":"IF(E46=\"\",\"\",②選手情報入力!E54)","v":""},"",{"$f":"IF(E46=\"\",\"\",IF(②選手情報入力!G54=\"男\",1,2))","v":""},{"$f":"IF(E46=\"\",\"\",IF(②選手情報入力!H54=\"\",\"\",②選手情報入力!H54))","v":""},null,"","",null,{"$f":"IF(E46=\"\",\"\",IF(②選手情報入力!I54=\"\",\"\",IF(I46=1,VLOOKUP(②選手情報入力!I54,種目情報!$A$4:$B$221,2,FALSE),VLOOKUP(②選手情報入力!I54,種目情報!$E$4:$F$221,2,FALSE))))","v":""},{"$f":"IF(E46=\"\",\"\",IF(②選手情報入力!J54=\"\",\"\",②選手情報入力!J54))","v":""},{"$f":"IF(E46=\"\",\"\",IF(②選手情報入力!I54=\"\",\"\",0))","v":""},{"$f":"IF(E46=\"\",\"\",IF(②選手情報入力!I54=\"\",\"\",IF(I46=1,VLOOKUP(②選手情報入力!I54,種目情報!$A$4:$C$21,3,FALSE),VLOOKUP(②選手情報入力!I54,種目情報!$E$4:$G$251,3,FALSE))))","v":""},null,null,null,null,null,null,null,null,{"$f":"IF(E46=\"\",\"\",IF(②選手情報入力!O54=\"\",\"\",IF(I46=1,種目情報!$J$4,種目情報!$J$6)))","v":""},{"$f":"IF(E46=\"\",\"\",IF(②選手情報入力!O54=\"\",\"\",IF(I46=1,IF(②選手情報入力!$O$5=\"\",\"\",②選手情報入力!$O$5),IF(②選手情報入力!$O$6=\"\",\"\",②選手情報入力!$O$6))))","v":""},{"$f":"IF(E46=\"\",\"\",IF(②選手情報入力!O54=\"\",\"\",0))","v":""},{"$f":"IF(E46=\"\",\"\",IF(②選手情報入力!O54=\"\",\"\",2))","v":""}]
[{"$f":"IF(E47=\"\",\"\",I47*1000000+①団体情報入力!$D$3*1000+②選手情報入力!A55)","v":""},{"$f":"IF(E47=\"\",\"\",①団体情報入力!$D$3)","v":""},null,{"$f":"IF(②選手情報入力!B55=\"\",\"\",②選手情報入力!B55)","v":""},{"$f":"IF(②選手情報入力!C55=\"\",\"\",②選手情報入力!C55)","v":""},{"$f":"IF(E47=\"\",\"\",②選手情報入力!D55)","v":""},{"$f":"IF(E47=\"\",\"\",②選手情報入力!E55)","v":""},"",{"$f":"IF(E47=\"\",\"\",IF(②選手情報入力!G55=\"男\",1,2))","v":""},{"$f":"IF(E47=\"\",\"\",IF(②選手情報入力!H55=\"\",\"\",②選手情報入力!H55))","v":""},null,"","",null,{"$f":"IF(E47=\"\",\"\",IF(②選手情報入力!I55=\"\",\"\",IF(I47=1,VLOOKUP(②選手情報入力!I55,種目情報!$A$4:$B$221,2,FALSE),VLOOKUP(②選手情報入力!I55,種目情報!$E$4:$F$221,2,FALSE))))","v":""},{"$f":"IF(E47=\"\",\"\",IF(②選手情報入力!J55=\"\",\"\",②選手情報入力!J55))","v":""},{"$f":"IF(E47=\"\",\"\",IF(②選手情報入力!I55=\"\",\"\",0))","v":""},{"$f":"IF(E47=\"\",\"\",IF(②選手情報入力!I55=\"\",\"\",IF(I47=1,VLOOKUP(②選手情報入力!I55,種目情報!$A$4:$C$21,3,FALSE),VLOOKUP(②選手情報入力!I55,種目情報!$E$4:$G$251,3,FALSE))))","v":""},null,null,null,null,null,null,null,null,{"$f":"IF(E47=\"\",\"\",IF(②選手情報入力!O55=\"\",\"\",IF(I47=1,種目情報!$J$4,種目情報!#REF!)))","v":""},{"$f":"IF(E47=\"\",\"\",IF(②選手情報入力!O55=\"\",\"\",IF(I47=1,IF(②選手情報入力!$O$5=\"\",\"\",②選手情報入力!$O$5),IF(②選手情報入力!$O$6=\"\",\"\",②選手情報入力!$O$6))))","v":""},{"$f":"IF(E47=\"\",\"\",IF(②選手情報入力!O55=\"\",\"\",0))","v":""},{"$f":"IF(E47=\"\",\"\",IF(②選手情報入力!O55=\"\",\"\",2))","v":""}]
[{"$f":"IF(E48=\"\",\"\",I48*1000000+①団体情報入力!$D$3*1000+②選手情報入力!A56)","v":""},{"$f":"IF(E48=\"\",\"\",①団体情報入力!$D$3)","v":""},null,{"$f":"IF(②選手情報入力!B56=\"\",\"\",②選手情報入力!B56)","v":""},{"$f":"IF(②選手情報入力!C56=\"\",\"\",②選手情報入力!C56)","v":""},{"$f":"IF(E48=\"\",\"\",②選手情報入力!D56)","v":""},{"$f":"IF(E48=\"\",\"\",②選手情報入力!E56)","v":""},"",{"$f":"IF(E48=\"\",\"\",IF(②選手情報入力!G56=\"男\",1,2))","v":""},{"$f":"IF(E48=\"\",\"\",IF(②選手情報入力!H56=\"\",\"\",②選手情報入力!H56))","v":""},null,"","",null,{"$f":"IF(E48=\"\",\"\",IF(②選手情報入力!I56=\"\",\"\",IF(I48=1,VLOOKUP(②選手情報入力!I56,種目情報!$A$4:$B$221,2,FALSE),VLOOKUP(②選手情報入力!I56,種目情報!$E$4:$F$221,2,FALSE))))","v":""},{"$f":"IF(E48=\"\",\"\",IF(②選手情報入力!J56=\"\",\"\",②選手情報入力!J56))","v":""},{"$f":"IF(E48=\"\",\"\",IF(②選手情報入力!I56=\"\",\"\",0))","v":""},{"$f":"IF(E48=\"\",\"\",IF(②選手情報入力!I56=\"\",\"\",IF(I48=1,VLOOKUP(②選手情報入力!I56,種目情報!$A$4:$C$21,3,FALSE),VLOOKUP(②選手情報入力!I56,種目情報!$E$4:$G$251,3,FALSE))))","v":""},null,null,null,null,null,null,null,null,{"$f":"IF(E48=\"\",\"\",IF(②選手情報入力!O56=\"\",\"\",IF(I48=1,種目情報!$J$4,種目情報!#REF!)))","v":""},{"$f":"IF(E48=\"\",\"\",IF(②選手情報入力!O56=\"\",\"\",IF(I48=1,IF(②選手情報入力!$O$5=\"\",\"\",②選手情報入力!$O$5),IF(②選手情報入力!$O$6=\"\",\"\",②選手情報入力!$O$6))))","v":""},{"$f":"IF(E48=\"\",\"\",IF(②選手情報入力!O56=\"\",\"\",0))","v":""},{"$f":"IF(E48=\"\",\"\",IF(②選手情報入力!O56=\"\",\"\",2))","v":""}]
[{"$f":"IF(E49=\"\",\"\",I49*1000000+①団体情報入力!$D$3*1000+②選手情報入力!A57)","v":""},{"$f":"IF(E49=\"\",\"\",①団体情報入力!$D$3)","v":""},null,{"$f":"IF(②選手情報入力!B57=\"\",\"\",②選手情報入力!B57)","v":""},{"$f":"IF(②選手情報入力!C57=\"\",\"\",②選手情報入力!C57)","v":""},{"$f":"IF(E49=\"\",\"\",②選手情報入力!D57)","v":""},{"$f":"IF(E49=\"\",\"\",②選手情報入力!E57)","v":""},"",{"$f":"IF(E49=\"\",\"\",IF(②選手情報入力!G57=\"男\",1,2))","v":""},{"$f":"IF(E49=\"\",\"\",IF(②選手情報入力!H57=\"\",\"\",②選手情報入力!H57))","v":""},null,"","",null,{"$f":"IF(E49=\"\",\"\",IF(②選手情報入力!I57=\"\",\"\",IF(I49=1,VLOOKUP(②選手情報入力!I57,種目情報!$A$4:$B$221,2,FALSE),VLOOKUP(②選手情報入力!I57,種目情報!$E$4:$F$221,2,FALSE))))","v":""},{"$f":"IF(E49=\"\",\"\",IF(②選手情報入力!J57=\"\",\"\",②選手情報入力!J57))","v":""},{"$f":"IF(E49=\"\",\"\",IF(②選手情報入力!I57=\"\",\"\",0))","v":""},{"$f":"IF(E49=\"\",\"\",IF(②選手情報入力!I57=\"\",\"\",IF(I49=1,VLOOKUP(②選手情報入力!I57,種目情報!$A$4:$C$21,3,FALSE),VLOOKUP(②選手情報入力!I57,種目情報!$E$4:$G$251,3,FALSE))))","v":""},null,null,null,null,null,null,null,null,{"$f":"IF(E49=\"\",\"\",IF(②選手情報入力!O57=\"\",\"\",IF(I49=1,種目情報!$J$4,種目情報!#REF!)))","v":""},{"$f":"IF(E49=\"\",\"\",IF(②選手情報入力!O57=\"\",\"\",IF(I49=1,IF(②選手情報入力!$O$5=\"\",\"\",②選手情報入力!$O$5),IF(②選手情報入力!$O$6=\"\",\"\",②選手情報入力!$O$6))))","v":""},{"$f":"IF(E49=\"\",\"\",IF(②選手情報入力!O57=\"\",\"\",0))","v":""},{"$f":"IF(E49=\"\",\"\",IF(②選手情報入力!O57=\"\",\"\",2))","v":""}]

{"sheet":"data_team","index":11,"n_rows":7,"n_cols":13,"rows_kept":7,"cut":false,"hidden":false,"merged":[]}
["チームNO","所属コード","チーム名","チーム名カナ","チーム名略称","チーム正式名称","ID","競技者NO","競技者名","参加競技-競技コード","参加競技-自己記録","参加競技-オープン参加FLG","参加競技-記録FLG"]
[{"$f":"IF(③リレー情報確認!O8=\"\",\"\",920000+①団体情報入力!$D$3*10)","v":""},{"$f":"IF(A2=\"\",\"\",①団体情報入力!$D$3)","v":""},{"$f":"IF(A2=\"\",\"\",③リレー情報確認!$J$1)","v":""},{"$f":"IF(A2=\"\",\"\",③リレー情報確認!$P$1)","v":""},null,null,1,{"$f":"IF(A2=\"\",\"\",③リレー情報確認!Q8)","v":""},{"$f":"IF(A2=\"\",\"\",③リレー情報確認!P8)","v":""},{"$f":"IF(A2=\"\",\"\",種目情報!$J$6)","v":""},{"$f":"IF(A2=\"\",\"\",③リレー情報確認!$R$8)","v":""},{"$f":"IF(A2=\"\",\"\",0)","v":""},{"$f":"IF(A2=\"\",\"\",種目情報!$K$6)","v":""}]
[{"$f":"IF(③リレー情報確認!O9=\"\",\"\",920000+①団体情報入力!$D$3*10)","v":""},{"$f":"IF(A3=\"\",\"\",①団体情報入力!$D$3)","v":""},{"$f":"IF(A3=\"\",\"\",③リレー情報確認!$J$1)","v":""},{"$f":"IF(A3=\"\",\"\",③リレー情報確認!$P$1)","v":""},null,null,2,{"$f":"IF(A3=\"\",\"\",③リレー情報確認!Q9)","v":""},{"$f":"IF(A3=\"\",\"\",③リレー情報確認!P9)","v":""},{"$f":"IF(A3=\"\",\"\",種目情報!$J$6)","v":""},{"$f":"IF(A3=\"\",\"\",③リレー情報確認!$R$8)","v":""},{"$f":"IF(A3=\"\",\"\",0)","v":""},{"$f":"IF(A3=\"\",\"\",種目情報!$K$6)","v":""}]
[{"$f":"IF(③リレー情報確認!O10=\"\",\"\",920000+①団体情報入力!$D$3*10)","v":""},{"$f":"IF(A4=\"\",\"\",①団体情報入力!$D$3)","v":""},{"$f":"IF(A4=\"\",\"\",③リレー情報確認!$J$1)","v":""},{"$f":"IF(A4=\"\",\"\",③リレー情報確認!$P$1)","v":""},null,null,3,{"$f":"IF(A4=\"\",\"\",③リレー情報確認!Q10)","v":""},{"$f":"IF(A4=\"\",\"\",③リレー情報確認!P10)","v":""},{"$f":"IF(A4=\"\",\"\",種目情報!$J$6)","v":""},{"$f":"IF(A4=\"\",\"\",③リレー情報確認!$R$8)","v":""},"",{"$f":"IF(A4=\"\",\"\",種目情報!$K$6)","v":""}]
[{"$f":"IF(③リレー情報確認!O11=\"\",\"\",920000+①団体情報入力!$D$3*10)","v":""},{"$f":"IF(A5=\"\",\"\",①団体情報入力!$D$3)","v":""},{"$f":"IF(A5=\"\",\"\",③リレー情報確認!$J$1)","v":""},{"$f":"IF(A5=\"\",\"\",③リレー情報確認!$P$1)","v":""},null,null,4,{"$f":"IF(A5=\"\",\"\",③リレー情報確認!Q11)","v":""},{"$f":"IF(A5=\"\",\"\",③リレー情報確認!P11)","v":""},{"$f":"IF(A5=\"\",\"\",種目情報!$J$6)","v":""},{"$f":"IF(A5=\"\",\"\",③リレー情報確認!$R$8)","v":""},"",{"$f":"IF(A5=\"\",\"\",種目情報!$K$6)","v":""}]
[{"$f":"IF(③リレー情報確認!O12=\"\",\"\",920000+①団体情報入力!$D$3*10)","v":""},{"$f":"IF(A6=\"\",\"\",①団体情報入力!$D$3)","v":""},{"$f":"IF(A6=\"\",\"\",③リレー情報確認!$J$1)","v":""},{"$f":"IF(A6=\"\",\"\",③リレー情報確認!$P$1)","v":""},null,null,5,{"$f":"IF(A6=\"\",\"\",③リレー情報確認!Q12)","v":""},{"$f":"IF(A6=\"\",\"\",③リレー情報確認!P12)","v":""},{"$f":"IF(A6=\"\",\"\",種目情報!$J$6)","v":""},{"$f":"IF(A6=\"\",\"\",③リレー情報確認!$R$8)","v":""},"",{"$f":"IF(A6=\"\",\"\",種目情報!$K$6)","v":""}]
[{"$f":"IF(③リレー情報確認!O13=\"\",\"\",920000+①団体情報入力!$D$3*10)","v":""},{"$f":"IF(A7=\"\",\"\",①団体情報入力!$D$3)","v":""},{"$f":"IF(A7=\"\",\"\",③リレー情報確認!$J$1)","v":""},{"$f":"IF(A7=\"\",\"\",③リレー情報確認!$P$1)","v":""},null,null,6,{"$f":"IF(A7=\"\",\"\",③リレー情報確認!Q13)","v":""},{"$f":"IF(A7=\"\",\"\",③リレー情報確認!P13)","v":""},{"$f":"IF(A7=\"\",\"\",種目情報!$J$6)","v":""},{"$f":"IF(A7=\"\",\"\",③リレー情報確認!$R$8)","v":""},"",{"$f":"IF(A7=\"\",\"\",種目情報!$K$6)","v":""}]