{"text_format":"1","workbook":"xlsx","n_sheets":13,"sheets":["注意事項","①データ貼付け","②団体情報入力","③選手情報入力","④リレー情報確認","⑤種目別人数","⑥申込一覧表","　　　　　","data_kyogisha","data_team","種目情報","Sheet2","Sheet1"],"not_rendered":{"charts":0,"images":2,"macros":1,"external_links":2,"defined_names":8,"comments":3,"pivot_tables":0},"unopened":[],"bounds":{"document_bytes":16777216,"sheet_cells":100000,"rows_first":2000,"rows_last":500,"rows_between":2000,"halvings":0,"cell_chars":16384,"cell_head_chars":4096},"cells_cut":0,"cells_raw":0,"read":"whole","date_system":"1900"}

{"sheet":"注意事項","index":0,"n_rows":83,"n_cols":10,"rows_kept":83,"cut":false,"hidden":false,"merged":[[65,4,65,7],[81,3,81,7],[0,0,0,13],[6,1,6,2],[6,3,6,7],[7,1,7,7],[3,2,3,7],[4,2,4,7],[2,9,4,11],[2,2,2,7],[8,1,8,2],[8,3,8,5]]}
["　★データ入力前にこのページの内容を必ずお読みください。"]
[]
[null,"大会名","第76回愛知陸上競技選手権 名古屋地区予選会",null,null,null,null,null,null,"大学用"]
[null,"期　日","平成２８年６月４日（土）、５日(日）"]
[null,"会　場","パロマ瑞穂スタジアム・パロマ瑞穂北陸上競技場"]
[]
[null,"メール送信期限",null,"平成28年5月16日(月)　19:00"]
[null,"※メール送信を完了してください！"]
[null,"振り込み郵送期限",null,"2016-05-18"]
["　＜注意事項等＞"]
["１ ","このファイルは申込人数90名まで入力できます。男女合わせて90名を超える場合は、男女別で作成してください。"]
["２ ","大会要項（出場制限等）をよく読んで入力してください。"]
["３ ","ナンバー・氏名・種目等、入力間違いのないようにお願いします。"]
["４ ","コピーしたデータを貼り付ける場合は、「形式を選択して貼り付け」から「値」を選択して貼り付けてください。"]
["５ ","入力したデータを削除・修正する場合は、必ず「Delete」キーで処理してください。※行削除はしないでください！"]
["６ ","申込は、メール送信と書類提出の両方が必要になりますので、お忘れのないようにお願いします。"]
["７ ","このファイルの内容は、プログラム編成及び作成、記録処理、その他競技会運営の目的で使用します。"]
["８ ","このファイルには、印刷ボタンにマクロを使用しています。エクセルの設定をマクロ有効にしてください。"]
["　　 ９ ","②団体情報、③選手情報の各シートに上書きをすると式が消えます。"]
["１０","４種目以上エントリーする場合は２行使用して、どちらにもﾅﾝﾊﾞｰ･氏名等を入力してください。"]
[]
["　★作業の流れは次のとおりです。"]
["　　①陸連登録データの貼り付け"]
[null,"東海学連から、ナンバーが記載されたてきたデータを①データ貼付けシートに貼りつけてください。"]
[null,"手順","１ 団体データのシートのすべてを選択してコピーしてください。"]
[null,null,"２ ①陸連データ貼付けシートのA1セルに値で貼り付けてください。"]
[]
[]
["　　②団体情報の入力"]
["↓"]
["↓","　・必要事項を入力してください。"]
["　　③選手情報の入力"]
["↓"]
["↓","　・登録データが貼り付けてあれば、ナンバーを入力すれば、氏名、フリガナ、性別、学年は自動で入力されます。"]
["↓","　　入力を確認して、申込種目、記録を入力してください。"]
["↓","　　※ナンバーは、アルファベットと数字を分けて入力してください。"]
["↓","　　※入力は、男子を先に入力し、続けて女子を入力してください。絶対に行を空けないでください。"]
["↓","　　※氏名については、姓と名の間に全角スペースを１つ入れてください。"]
["↓","　　※ﾌﾘｶﾞﾅについては、姓と名の間に半角スペースを１つ入れてください。"]
["↓","　　※記録は、次のとおり入力してください。"]
["↓",null,"◎トラック種目・・・・分秒をドット「．」で区切り、100分の1秒まで入力"]
["↓",null,"例１",null,"54秒23","⇒",54.23]
["↓",null,"例２",null,"4分07秒00","⇒","4.07.00 ○",null,"4.7 X"]
["↓",null,null,"　 ※記録が１分未満で、10分の1以下が「00」"]
["↓",null,null,"　　 のときは整数で表示されます。"]
["↓",null,null,"例","12秒00","⇒",12]
["↓",null,"◎フィールド種目・・・メートルを「m」で区切り、cm単位まで入力（「cm」の文字は入れない）"]
["↓",null,"例３",null,"20m","⇒","20m00"]
["↓",null,"★記録がない場合は空欄にしてください。"]
["↓","　　※リレーに出場する選手は、リレー種目の欄へ「○」を入力してください。"]
["↓"]
["　　④リレー情報の確認"]
["↓","　・リレーにエントリーをする選手のナンバーと、チームの記録を確認してください。"]
["↓","　　修正がある場合は、「②選手情報入力」で修正してください。"]
["　　⑤種目別人数の確認"]
["↓","　・種目ごとの申込人数と申込金額を確認してください。"]
["↓","　・プログラム購入部数、合計金額を確認してください。"]
["　　⑥申込一覧表の確認"]
["↓","　・入力漏れや入力間違い等がないかを確認してください。"]
["　　⑦種目別人数表と申込一覧表の印刷"]
["↓","　・「④種目別人数表」にある、帳票印刷ボタンをクリックして印刷を行ってください。"]
["　　⑧ファイルの保存"]
["↓","　・ファイル名を学校名（例：○○○）に変更し保存してください。メールに添付するときは、ファイル名が団体名に"]
["↓","　　なっていることを確認してください。"]
["↓"]
["　　⑨メール送信",null,null,"E-mail：","nagoya.yosen@gmail.com "]
["↓","　・入力したファイルを送信してください。"]
["↓","　・メールの件名に「大会名」と「団体名」を入力してください。"]
["↓","　・正しく送信されれば、受信した旨の返信が届きます。"]
["　　⑩参加料の振込"]
["↓","　・参加料を振り込み、明細書のコピーを「種目別人数一覧」の裏面に添付してください。"]
["　　⑪郵送"]
["↓","　・「④種目別一覧表」「⑤申込一覧表」を郵送してください。"]
["↓","　・「種目別人数一覧」の裏面には振込明細書のコピーを添付してください。"]
["↓"]
["↓",null,"送付先"]
["↓",null,"〒463-8799　守山郵便局　私書箱１４号　名古屋地区陸上競技協会"]
["　　⑫申込完了"]
[]
[null,"　★問い合わせ先"]
[]
[null,null,"mail：","toiawase.nagoya@gmail.com"]
[null,null,"勝見　昌弘　宛",null,"こちらには、データを送信しないで下さい。"]

{"sheet":"①データ貼付け","index":1,"n_rows":1,"n_cols":8,"rows_kept":1,"cut":false,"hidden":false,"merged":[]}
["性別","団体名","登　録\nの種類","登録番号","氏名","カナ氏名","学年","陸協"]

{"sheet":"②団体情報入力","index":2,"n_rows":10,"n_cols":11,"rows_kept":10,"cut":false,"hidden":false,"merged":[[8,1,8,2],[9,1,9,8],[10,1,10,4],[10,5,10,8],[11,1,11,4],[11,5,11,8],[3,10,5,12],[7,3,7,5],[2,3,2,5],[4,1,4,2],[3,3,3,5],[5,3,5,5],[6,3,6,5],[5,1,5,2],[6,1,6,2],[7,1,7,2],[2,1,2,2],[3,1,3,2],[4,3,4,5]]}
[null,"②団体情報入力",null,"１～４は、団体データを貼り付ければ入力不要です。"]
[]
[1,"団体コード",null,null,null,null,"←49で始まる団体番号を入力してください。"]
[2,"団体名",null,{"$f":"IF(D3=\"\",\"\",VLOOKUP(②団体情報入力!D3,Sheet1!A:D,4,0))","v":""},null,null,"←団体コードを入力すれば、自動で入ります",null,null,null,"データの貼り付けを行わない場合は、お手数ですが手入力をお願いします。"]
[3,"略称団体名",null,{"$f":"IF(D4=\"\",\"\",D4)","v":""},null,null,"←団体コードを入力すれば、自動で入ります"]
[4,"略称ヨミガナ",null,{"$f":"IF(D3=\"\",\"\",VLOOKUP(②団体情報入力!D3,Sheet1!A:B,2,0))","v":""},null,null,"←団体コードを入力すれば、自動で入ります"]
[null,"申込責任者",null,null,null,null,"←入力"]
[null,"連絡先電話番号",null,null,null,null,"←入力(ハイフンを入れる)　※緊急時に連絡がとれる番号"]
[null,"プログラム購入部数",null,null,"部"]
[null,"役員のできる方のお名前を入力してください"]

{"sheet":"③選手情報入力","index":3,"n_rows":105,"n_cols":46,"rows_kept":105,"cut":false,"hidden":false,"merged":[[95,18,95,19],[96,18,96,19],[97,18,97,19],[98,18,98,19],[99,18,99,19],[90,18,90,19],[91,18,91,19],[92,18,92,19],[93,18,93,19],[94,18,94,19],[85,18,85,19],[86,18,86,19],[87,18,87,19],[88,18,88,19],[89,18,89,19],[80,18,80,19],[81,18,81,19],[82,18,82,19],[83,18,83,19],[84,18,84,19],[75,18,75,19],[76,18,76,19],[77,18,77,19],[78,18,78,19],[79,18,79,19],[70,18,70,19],[71,18,71,19],[72,18,72,19],[73,18,73,19],[74,18,74,19],[65,18,65,19],[66,18,66,19],[67,18,67,19],[68,18,68,19],[69,18,69,19],[60,18,60,19],[61,18,61,19],[62,18,62,19],[63,18,63,19],[64,18,64,19],[55,18,55,19],[56,18,56,19],[57,18,57,19],[58,18,58,19],[59,18,59,19],[50,18,50,19],[51,18,51,19],[52,18,52,19],[53,18,53,19],[54,18,54,19],[45,18,45,19],[46,18,46,19],[47,18,47,19],[48,18,48,19],[49,18,49,19],[40,18,40,19],[41,18,41,19],[42,18,42,19],[43,18,43,19],[44,18,44,19],[35,18,35,19],[36,18,36,19],[37,18,37,19],[38,18,38,19],[39,18,39,19],[30,18,30,19],[31,18,31,19],[32,18,32,19],[33,18,33,19],[34,18,34,19],[25,18,25,19],[26,18,26,19],[27,18,27,19],[28,18,28,19],[29,18,29,19],[20,18,20,19],[21,18,21,19],[22,18,22,19],[23,18,23,19],[24,18,24,19],[97,16,97,17],[98,16,98,17],[99,16,99,17],[3,16,3,17],[8,18,8,19],[9,18,9,19],[10,18,10,19],[11,18,11,19],[12,18,12,19],[13,18,13,19],[14,18,14,19],[15,18,15,19],[16,18,16,19],[17,18,17,19],[18,18,18,19],[19,18,19,19],[92,16,92,17],[93,16,93,17],[94,16,94,17],[95,16,95,17],[96,16,96,17],[87,16,87,17],[88,16,88,17],[89,16,89,17],[90,16,90,17],[91,16,91,17],[82,16,82,17],[83,16,83,17],[84,16,84,17],[85,16,85,17],[86,16,86,17],[77,16,77,17],[78,16,78,17],[79,16,79,17],[80,16,80,17],[81,16,81,17],[72,16,72,17],[73,16,73,17],[74,16,74,17],[75,16,75,17],[76,16,76,17],[67,16,67,17],[68,16,68,17],[69,16,69,17],[70,16,70,17],[71,16,71,17],[62,16,62,17],[63,16,63,17],[64,16,64,17],[65,16,65,17],[66,16,66,17],[57,16,57,17],[58,16,58,17],[59,16,59,17],[60,16,60,17],[61,16,61,17],[52,16,52,17],[53,16,53,17],[54,16,54,17],[55,16,55,17],[56,16,56,17],[47,16,47,17],[48,16,48,17],[49,16,49,17],[50,16,50,17],[51,16,51,17],[42,16,42,17],[43,16,43,17],[44,16,44,17],[45,16,45,17],[46,16,46,17],[37,16,37,17],[38,16,38,17],[39,16,39,17],[40,16,40,17],[41,16,41,17],[32,16,32,17],[33,16,33,17],[34,16,34,17],[35,16,35,17],[36,16,36,17],[27,16,27,17],[28,16,28,17],[29,16,29,17],[30,16,30,17],[31,16,31,17],[22,16,22,17],[23,16,23,17],[24,16,24,17],[25,16,25,17],[26,16,26,17],[17,16,17,17],[18,16,18,17],[19,16,19,17],[20,16,20,17],[21,16,21,17],[12,16,12,17],[13,16,13,17],[14,16,14,17],[15,16,15,17],[16,16,16,17],[2,15,2,19],[8,16,8,17],[9,16,9,17],[10,16,10,17],[11,16,11,17],[3,18,3,19],[3,15,4,15]]}
["③選手情報入力",null,null,{"$f":"IF(②団体情報入力!D5=\"\",\"\",②団体情報入力!D5)","v":""}]
[null,"絶対に、行を空けて入力しないでください。"]
[null,"※必要事項を全て入力してください。",null,null,null,null,null,null,null,null,null,null,null,null,null,"リレー記録"]
[null,"※リレー種目にエントリーをする場合は○を選択し、「③リレー情報確認」でメンバーを確認してください。",null,null,null,null,null,null,null,null,null,null,null,null,null,null,"4X100mR",null,"4X400mR"]
[null,"※コピーしたデータを貼り付ける場合は、「形式を選択して貼り付け」から「値」で貼り付けてください。",null,null,null,null,null,null,null,null,null,null,null,null,null,null,"OP","記録","OP","記録"]
[null,"※データを修正する場合は、必ず「Delete」キーを使用してください。",null,null,null,null,null,null,null,null,null,null,null,null,null,"男子"]
[null,null,null,null,null,null,null,null,null,null,null,null,null,null,null,"女子"]
[]
[null,"ﾅﾝﾊﾞｰ","氏　名\n姓と名の間に\n全角ｽﾍﾟｰｽ1つ","ﾌﾘｶﾞﾅ\n姓と名の間に\n半角ｽﾍﾟｰｽ1つ",null,"性別","学年","OP1","種目１","記録１","OP2","種目２","記録２","OP3","種目３","記録３","4X100mR",null,"4X400mR"]
["例","A","西三　太郎","ｾｲｻﾝ ﾀﾛｳ",null,"男",2,null,"男100m",12.53,null,"男砲丸投","12m00",null,"男1500m","4.07.00","○",null,"○",null,null,null,null,null,null,null,"ﾅﾝﾊﾞｰ","氏　名","ﾌﾘｶﾞﾅ","性別","学年","競技者NO","ﾅﾝﾊﾞｰ","氏　名","ﾌﾘｶﾞﾅ","性別","学年","競技者NO","男400R",{"$f":"COUNTIF(AN11:AN100,\"<>0\")","v":0},"男1600R",{"$f":"COUNTIF(AP11:AP100,\"<>0\")","v":0},"女400R",{"$f":"COUNTIF(AR11:AR100,\"<>0\")","v":0},"女1600R",{"$f":"COUNTIF(AT11:AT100,\"<>0\")","v":0}]
[1,null,{"$f":"IF(B11=\"\",\"\",VLOOKUP(③選手情報入力!B11,①データ貼付け!D:F,2,0))","v":""},{"$f":"IF(B11=\"\",\"\",VLOOKUP(B11,①データ貼付け!D:F,3,0))","v":""},null,{"$f":"IF(B11=\"\",\"\",VLOOKUP(B11,Sheet2!A:H,2,0))","v":""},{"$f":"IF(B11=\"\",\"\",VLOOKUP(B11,Sheet2!A:H,8,0))","v":""},null,null,null,null,null,null,null,null,null,null,null,null,null,null,null,null,null,null,null,{"$f":"IF(F11=\"男\",B11,\"\")","v":""},{"$f":"IF(F11=\"男\",C11,\"\")","v":""},{"$f":"IF(F11=\"男\",D11,\"\")","v":""},{"$f":"IF(F11=\"男\",F11,\"\")","v":""},{"$f":"IF(F11=\"男\",IF(G11=\"\",\"\",G11),\"\")","v":""},{"$f":"IF(F11=\"男\",data_kyogisha!A2,\"\")","v":""},{"$f":"IF(F11=\"女\",B11,\"\")","v":""},{"$f":"IF(F11=\"女\",C11,\"\")","v":""},{"$f":"IF(F11=\"女\",D11,\"\")","v":""},{"$f":"IF(F11=\"女\",F11,\"\")","v":""},{"$f":"IF(F11=\"女\",IF(G11=\"\",\"\",G11),\"\")","v":""},{"$f":"IF(F11=\"女\",data_kyogisha!A2,\"\")","v":""},{"$f":"IF(AND(F11=\"男\",Q11=\"○\"),1,0)","v":0},{"$f":"IF(AND(F11=\"男\",Q11=\"○\"),③選手情報入力!B11,0)","v":0},{"$f":"IF(AND(F11=\"男\",S11=\"○\"),1,0)","v":0},{"$f":"IF(AND(F11=\"男\",S11=\"○\"),③選手情報入力!B11,0)","v":0},{"$f":"IF(AND(F11=\"女\",Q11=\"○\"),1,0)","v":0},{"$f":"IF(AND(F11=\"女\",Q11=\"○\"),B11,0)","v":0},{"$f":"IF(AND(F11=\"女\",S11=\"○\"),1,0)","v":0},{"$f":"IF(AND(F11=\"女\",S11=\"○\"),B11,0)","v":0}]
[2,null,{"$f":"IF(B12=\"\",\"\",VLOOKUP(③選手情報入力!B12,①データ貼付け!D:F,2,0))","v":""},{"$f":"IF(B12=\"\",\"\",VLOOKUP(B12,①データ貼付け!D:F,3,0))","v":""},null,{"$f":"IF(B12=\"\",\"\",VLOOKUP(B12,Sheet2!A:H,2,0))","v":""},{"$f":"IF(B12=\"\",\"\",VLOOKUP(B12,Sheet2!A:H,8,0))","v":""},null,null,null,null,null,null,null,null,null,null,null,null,null,null,null,"男",{"$f":"IF(種目情報!A4=\"\",\"\",種目情報!A4)","v":"男100m"},{"$f":"IF(種目情報!E4=\"\",\"\",種目情報!E4)","v":"女100m"},"○",{"$f":"IF(F12=\"男\",B12,\"\")","v":""},"","","","",{"$f":"IF(F12=\"男\",data_kyogisha!A3,\"\")","v":""},"","","","","",{"$f":"IF(F12=\"女\",data_kyogisha!A3,\"\")","v":""},{"$f":"IF(AND(F12=\"男\",Q12=\"○\"),AM11+1,AM11)","v":0},{"$f":"IF(AND(F12=\"男\",Q12=\"○\"),③選手情報入力!B12,0)","v":0},{"$f":"IF(AND(F12=\"男\",S12=\"○\"),AO11+1,AO11)","v":0},{"$f":"IF(AND(F12=\"男\",S12=\"○\"),③選手情報入力!B12,0)","v":0},{"$f":"IF(AND(F12=\"女\",Q12=\"○\"),AQ11+1,AQ11)","v":0},{"$f":"IF(AND(F12=\"女\",Q12=\"○\"),B12,0)","v":0},{"$f":"IF(AND(F12=\"女\",S12=\"○\"),AS11+1,AS11)","v":0},{"$f":"IF(AND(F12=\"女\",S12=\"○\"),B12,0)","v":0}]
[3,null,{"$f":"IF(B13=\"\",\"\",VLOOKUP(③選手情報入力!B13,①データ貼付け!D:F,2,0))","v":""},{"$f":"IF(B13=\"\",\"\",VLOOKUP(B13,①データ貼付け!D:F,3,0))","v":""},null,{"$f":"IF(B13=\"\",\"\",VLOOKUP(B13,Sheet2!A:H,2,0))","v":""},{"$f":"IF(B13=\"\",\"\",VLOOKUP(B13,Sheet2!A:H,8,0))","v":""},null,null,null,null,null,null,null,null,null,null,null,null,null,null,null,"女",{"$f":"IF(種目情報!A5=\"\",\"\",種目情報!A5)","v":"男200m"},{"$f":"IF(種目情報!E5=\"\",\"\",種目情報!E5)","v":"女200m"},null,"","","","","",{"$f":"IF(F13=\"男\",data_kyogisha!A4,\"\")","v":""},"","","","","",{"$f":"IF(F13=\"女\",data_kyogisha!A4,\"\")","v":""},{"$f":"IF(AND(F13=\"男\",Q13=\"○\"),AM12+1,AM12)","v":0},{"$f":"IF(AND(F13=\"男\",Q13=\"○\"),③選手情報入力!B13,0)","v":0},0,{"$f":"IF(AND(F13=\"男\",S13=\"○\"),③選手情報入力!B13,0)","v":0},{"$f":"IF(AND(F13=\"女\",Q13=\"○\"),AQ12+1,AQ12)","v":0},0,0,0]
[4,null,{"$f":"IF(B14=\"\",\"\",VLOOKUP(③選手情報入力!B14,①データ貼付け!D:F,2,0))","v":""},{"$f":"IF(B14=\"\",\"\",VLOOKUP(B14,①データ貼付け!D:F,3,0))","v":""},null,{"$f":"IF(B14=\"\",\"\",VLOOKUP(B14,Sheet2!A:H,2,0))","v":""},{"$f":"IF(B14=\"\",\"\",VLOOKUP(B14,Sheet2!A:H,8,0))","v":""},null,null,null,null,null,null,null,null,null,null,null,null,null,null,null,null,{"$f":"IF(種目情報!A6=\"\",\"\",種目情報!A6)","v":"男400m"},{"$f":"IF(種目情報!E6=\"\",\"\",種目情報!E6)","v":"女400m"},null,"","","","","",{"$f":"IF(F14=\"男\",data_kyogisha!A5,\"\")","v":""},"","","","","",{"$f":"IF(F14=\"女\",data_kyogisha!A5,\"\")","v":""},0,{"$f":"IF(AND(F14=\"男\",Q14=\"○\"),③選手情報入力!B14,0)","v":0},0,{"$f":"IF(AND(F14=\"男\",S14=\"○\"),③選手情報入力!B14,0)","v":0},0,0,0,0]
[5,null,{"$f":"IF(B15=\"\",\"\",VLOOKUP(③選手情報入力!B15,①データ貼付け!D:F,2,0))","v":""},{"$f":"IF(B15=\"\",\"\",VLOOKUP(B15,①データ貼付け!D:F,3,0))","v":""},null,{"$f":"IF(B15=\"\",\"\",VLOOKUP(B15,Sheet2!A:H,2,0))","v":""},{"$f":"IF(B15=\"\",\"\",VLOOKUP(B15,Sheet2!A:H,8,0))","v":""},null,null,null,null,null,null,null,null,null,null,null,null,null,null,null,null,{"$f":"IF(種目情報!A7=\"\",\"\",種目情報!A7)","v":"男800m"},{"$f":"IF(種目情報!E7=\"\",\"\",種目情報!E7)","v":"女800m"},null,"","","","","",{"$f":"IF(F15=\"男\",data_kyogisha!A6,\"\")","v":""},"","","","","",{"$f":"IF(F15=\"女\",data_kyogisha!A6,\"\")","v":""},0,{"$f":"IF(AND(F15=\"男\",Q15=\"○\"),③選手情報入力!B15,0)","v":0},0,{"$f":"IF(AND(F15=\"男\",S15=\"○\"),③選手情報入力!B15,0)","v":0},0,0,0,0]
[6,null,{"$f":"IF(B16=\"\",\"\",VLOOKUP(③選手情報入力!B16,①データ貼付け!D:F,2,0))","v":""},{"$f":"IF(B16=\"\",\"\",VLOOKUP(B16,①データ貼付け!D:F,3,0))","v":""},null,{"$f":"IF(B16=\"\",\"\",VLOOKUP(B16,Sheet2!A:H,2,0))","v":""},{"$f":"IF(B16=\"\",\"\",VLOOKUP(B16,Sheet2!A:H,8,0))","v":""},null,null,null,null,null,null,null,null,null,null,null,null,null,null,null,null,{"$f":"IF(種目情報!A8=\"\",\"\",種目情報!A8)","v":"男1500m"},{"$f":"IF(種目情報!E8=\"\",\"\",種目情報!E8)","v":"女1500m"},null,"","","","","",{"$f":"IF(F16=\"男\",data_kyogisha!A7,\"\")","v":""},"","","","","",{"$f":"IF(F16=\"女\",data_kyogisha!A7,\"\")","v":""},0,{"$f":"IF(AND(F16=\"男\",Q16=\"○\"),③選手情報入力!B16,0)","v":0},0,{"$f":"IF(AND(F16=\"男\",S16=\"○\"),③選手情報入力!B16,0)","v":0},0,0,0,0]
[7,null,{"$f":"IF(B17=\"\",\"\",VLOOKUP(③選手情報入力!B17,①データ貼付け!D:F,2,0))","v":""},{"$f":"IF(B17=\"\",\"\",VLOOKUP(B17,①データ貼付け!D:F,3,0))","v":""},null,{"$f":"IF(B17=\"\",\"\",VLOOKUP(B17,Sheet2!A:H,2,0))","v":""},{"$f":"IF(B17=\"\",\"\",VLOOKUP(B17,Sheet2!A:H,8,0))","v":""},null,null,null,null,null,null,null,null,null,null,null,null,null,null,null,null,{"$f":"IF(種目情報!A9=\"\",\"\",種目情報!A9)","v":"男5000m"},{"$f":"IF(種目情報!E9=\"\",\"\",種目情報!E9)","v":"女5000m"},null,"","","","","",{"$f":"IF(F17=\"男\",data_kyogisha!A8,\"\")","v":""},{"$f":"IF(F17=\"女\",B17,\"\")","v":""},"","","","",{"$f":"IF(F17=\"女\",data_kyogisha!A8,\"\")","v":""},0,{"$f":"IF(AND(F17=\"男\",Q17=\"○\"),③選手情報入力!B17,0)","v":0},0,{"$f":"IF(AND(F17=\"男\",S17=\"○\"),③選手情報入力!B17,0)","v":0},0,0,0,0]
[8,null,{"$f":"IF(B18=\"\",\"\",VLOOKUP(③選手情報入力!B18,①データ貼付け!D:F,2,0))","v":""},{"$f":"IF(B18=\"\",\"\",VLOOKUP(B18,①データ貼付け!D:F,3,0))","v":""},null,{"$f":"IF(B18=\"\",\"\",VLOOKUP(B18,Sheet2!A:H,2,0))","v":""},{"$f":"IF(B18=\"\",\"\",VLOOKUP(B18,Sheet2!A:H,8,0))","v":""},null,null,null,null,null,null,null,null,null,null,null,null,null,null,null,null,{"$f":"IF(種目情報!A10=\"\",\"\",種目情報!A10)","v":"男10000m"},{"$f":"IF(種目情報!E10=\"\",\"\",種目情報!E10)","v":"女100mH"},null,"","","","","",{"$f":"IF(F18=\"男\",data_kyogisha!A9,\"\")","v":""},"","","","","",{"$f":"IF(F18=\"女\",data_kyogisha!A9,\"\")","v":""},0,{"$f":"IF(AND(F18=\"男\",Q18=\"○\"),③選手情報入力!B18,0)","v":0},0,{"$f":"IF(AND(F18=\"男\",S18=\"○\"),③選手情報入力!B18,0)","v":0},0,0,0,0]
[9,null,{"$f":"IF(B19=\"\",\"\",VLOOKUP(③選手情報入力!B19,①データ貼付け!D:F,2,0))","v":""},{"$f":"IF(B19=\"\",\"\",VLOOKUP(B19,①データ貼付け!D:F,3,0))","v":""},null,{"$f":"IF(B19=\"\",\"\",VLOOKUP(B19,Sheet2!A:H,2,0))","v":""},{"$f":"IF(B19=\"\",\"\",VLOOKUP(B19,Sheet2!A:H,8,0))","v":""},null,null,null,null,null,null,null,null,null,null,null,null,null,null,null,null,{"$f":"IF(種目情報!A11=\"\",\"\",種目情報!A11)","v":"男110mH"},{"$f":"IF(種目情報!E11=\"\",\"\",種目情報!E11)","v":"女400mH"},null,"","","","","",{"$f":"IF(F19=\"男\",data_kyogisha!A10,\"\")","v":""},"","","","","",{"$f":"IF(F19=\"女\",data_kyogisha!A10,\"\")","v":""},0,{"$f":"IF(AND(F19=\"男\",Q19=\"○\"),③選手情報入力!B19,0)","v":0},0,{"$f":"IF(AND(F19=\"男\",S19=\"○\"),③選手情報入力!B19,0)","v":0},0,0,0,0]
[10,null,{"$f":"IF(B20=\"\",\"\",VLOOKUP(③選手情報入力!B20,①データ貼付け!D:F,2,0))","v":""},{"$f":"IF(B20=\"\",\"\",VLOOKUP(B20,①データ貼付け!D:F,3,0))","v":""},null,{"$f":"IF(B20=\"\",\"\",VLOOKUP(B20,Sheet2!A:H,2,0))","v":""},{"$f":"IF(B20=\"\",\"\",VLOOKUP(B20,Sheet2!A:H,8,0))","v":""},null,null,null,null,null,null,null,null,null,null,null,null,null,null,null,null,{"$f":"IF(種目情報!A12=\"\",\"\",種目情報!A12)","v":"男400mH"},{"$f":"IF(種目情報!E12=\"\",\"\",種目情報!E12)","v":"女5000mW"},null,"","","","","",{"$f":"IF(F20=\"男\",data_kyogisha!A11,\"\")","v":""},"","","","","",{"$f":"IF(F20=\"女\",data_kyogisha!A11,\"\")","v":""},0,{"$f":"IF(AND(F20=\"男\",Q20=\"○\"),③選手情報入力!B20,0)","v":0},0,{"$f":"IF(AND(F20=\"男\",S20=\"○\"),③選手情報入力!B20,0)","v":0},0,0,0,0]
[11,null,{"$f":"IF(B21=\"\",\"\",VLOOKUP(③選手情報入力!B21,①データ貼付け!D:F,2,0))","v":""},{"$f":"IF(B21=\"\",\"\",VLOOKUP(B21,①データ貼付け!D:F,3,0))","v":""},null,{"$f":"IF(B21=\"\",\"\",VLOOKUP(B21,Sheet2!A:H,2,0))","v":""},{"$f":"IF(B21=\"\",\"\",VLOOKUP(B21,Sheet2!A:H,8,0))","v":""},null,null,null,null,null,null,null,null,null,null,null,null,null,null,null,null,{"$f":"IF(種目情報!A13=\"\",\"\",種目情報!A13)","v":"男3000mSC"},{"$f":"IF(種目情報!E13=\"\",\"\",種目情報!E13)","v":"女走高跳"},null,"","","","","",{"$f":"IF(F21=\"男\",data_kyogisha!A12,\"\")","v":""},"","","","","",{"$f":"IF(F21=\"女\",data_kyogisha!A12,\"\")","v":""},0,{"$f":"IF(AND(F21=\"男\",Q21=\"○\"),③選手情報入力!B21,0)","v":0},0,{"$f":"IF(AND(F21=\"男\",S21=\"○\"),③選手情報入力!B21,0)","v":0},0,0,0,0]
[12,null,{"$f":"IF(B22=\"\",\"\",VLOOKUP(③選手情報入力!B22,①データ貼付け!D:F,2,0))","v":""},{"$f":"IF(B22=\"\",\"\",VLOOKUP(B22,①データ貼付け!D:F,3,0))","v":""},null,{"$f":"IF(B22=\"\",\"\",VLOOKUP(B22,Sheet2!A:H,2,0))","v":""},{"$f":"IF(B22=\"\",\"\",VLOOKUP(B22,Sheet2!A:H,8,0))","v":""},null,null,null,null,null,null,null,null,null,null,null,null,null,null,null,null,{"$f":"IF(種目情報!A14=\"\",\"\",種目情報!A14)","v":"男5000mW"},{"$f":"IF(種目情報!E14=\"\",\"\",種目情報!E14)","v":"女棒高跳"},null,"","","","","",{"$f":"IF(F22=\"男\",data_kyogisha!A13,\"\")","v":""},"","","","","",{"$f":"IF(F22=\"女\",data_kyogisha!A13,\"\")","v":""},0,{"$f":"IF(AND(F22=\"男\",Q22=\"○\"),③選手情報入力!B22,0)","v":0},0,{"$f":"IF(AND(F22=\"男\",S22=\"○\"),③選手情報入力!B22,0)","v":0},0,0,0,0]
[13,null,{"$f":"IF(B23=\"\",\"\",VLOOKUP(③選手情報入力!B23,①データ貼付け!D:F,2,0))","v":""},{"$f":"IF(B23=\"\",\"\",VLOOKUP(B23,①データ貼付け!D:F,3,0))","v":""},null,{"$f":"IF(B23=\"\",\"\",VLOOKUP(B23,Sheet2!A:H,2,0))","v":""},{"$f":"IF(B23=\"\",\"\",VLOOKUP(B23,Sheet2!A:H,8,0))","v":""},null,null,null,null,null,null,null,null,null,null,null,null,null,null,null,null,{"$f":"IF(種目情報!A15=\"\",\"\",種目情報!A15)","v":"男走高跳"},{"$f":"IF(種目情報!E15=\"\",\"\",種目情報!E15)","v":"女走幅跳"},null,"","","","","",{"$f":"IF(F23=\"男\",data_kyogisha!A14,\"\")","v":""},"","","","","",{"$f":"IF(F23=\"女\",data_kyogisha!A14,\"\")","v":""},0,{"$f":"IF(AND(F23=\"男\",Q23=\"○\"),③選手情報入力!B23,0)","v":0},0,{"$f":"IF(AND(F23=\"男\",S23=\"○\"),③選手情報入力!B23,0)","v":0},0,0,0,0]
[14,null,{"$f":"IF(B24=\"\",\"\",VLOOKUP(③選手情報入力!B24,①データ貼付け!D:F,2,0))","v":""},{"$f":"IF(B24=\"\",\"\",VLOOKUP(B24,①データ貼付け!D:F,3,0))","v":""},null,{"$f":"IF(B24=\"\",\"\",VLOOKUP(B24,Sheet2!A:H,2,0))","v":""},{"$f":"IF(B24=\"\",\"\",VLOOKUP(B24,Sheet2!A:H,8,0))","v":""},null,null,null,null,null,null,null,null,null,null,null,null,null,null,null,null,{"$f":"IF(種目情報!A16=\"\",\"\",種目情報!A16)","v":"男棒高跳"},{"$f":"IF(種目情報!E16=\"\",\"\",種目情報!E16)","v":"女三段跳"},null,"","","","","",{"$f":"IF(F24=\"男\",data_kyogisha!A15,\"\")","v":""},"","","","","",{"$f":"IF(F24=\"女\",data_kyogisha!A15,\"\")","v":""},0,{"$f":"IF(AND(F24=\"男\",Q24=\"○\"),③選手情報入力!B24,0)","v":0},0,{"$f":"IF(AND(F24=\"男\",S24=\"○\"),③選手情報入力!B24,0)","v":0},0,0,0,0]
[15,null,{"$f":"IF(B25=\"\",\"\",VLOOKUP(③選手情報入力!B25,①データ貼付け!D:F,2,0))","v":""},{"$f":"IF(B25=\"\",\"\",VLOOKUP(B25,①データ貼付け!D:F,3,0))","v":""},null,{"$f":"IF(B25=\"\",\"\",VLOOKUP(B25,Sheet2!A:H,2,0))","v":""},{"$f":"IF(B25=\"\",\"\",VLOOKUP(B25,Sheet2!A:H,8,0))","v":""},null,null,null,null,null,null,null,null,null,null,null,null,null,null,null,null,{"$f":"IF(種目情報!A17=\"\",\"\",種目情報!A17)","v":"男走幅跳"},{"$f":"IF(種目情報!E17=\"\",\"\",種目情報!E17)","v":"女砲丸投"},null,"","","","","",{"$f":"IF(F25=\"男\",data_kyogisha!A16,\"\")","v":""},"","","","","",{"$f":"IF(F25=\"女\",data_kyogisha!A16,\"\")","v":""},0,{"$f":"IF(AND(F25=\"男\",Q25=\"○\"),③選手情報入力!B25,0)","v":0},0,{"$f":"IF(AND(F25=\"男\",S25=\"○\"),③選手情報入力!B25,0)","v":0},0,0,0,0]
[16,null,{"$f":"IF(B26=\"\",\"\",VLOOKUP(③選手情報入力!B26,①データ貼付け!D:F,2,0))","v":""},{"$f":"IF(B26=\"\",\"\",VLOOKUP(B26,①データ貼付け!D:F,3,0))","v":""},null,{"$f":"IF(B26=\"\",\"\",VLOOKUP(B26,Sheet2!A:H,2,0))","v":""},{"$f":"IF(B26=\"\",\"\",VLOOKUP(B26,Sheet2!A:H,8,0))","v":""},null,null,null,null,null,null,null,null,null,null,null,null,null,null,null,null,{"$f":"IF(種目情報!A18=\"\",\"\",種目情報!A18)","v":"男三段跳"},{"$f":"IF(種目情報!E18=\"\",\"\",種目情報!E18)","v":"女円盤投"},null,"","","","","",{"$f":"IF(F26=\"男\",data_kyogisha!A17,\"\")","v":""},"","","","","",{"$f":"IF(F26=\"女\",data_kyogisha!A17,\"\")","v":""},0,{"$f":"IF(AND(F26=\"男\",Q26=\"○\"),③選手情報入力!B26,0)","v":0},0,{"$f":"IF(AND(F26=\"男\",S26=\"○\"),③選手情報入力!B26,0)","v":0},0,0,0,0]
[17,null,{"$f":"IF(B27=\"\",\"\",VLOOKUP(③選手情報入力!B27,①データ貼付け!D:F,2,0))","v":""},{"$f":"IF(B27=\"\",\"\",VLOOKUP(B27,①データ貼付け!D:F,3,0))","v":""},null,{"$f":"IF(B27=\"\",\"\",VLOOKUP(B27,Sheet2!A:H,2,0))","v":""},{"$f":"IF(B27=\"\",\"\",VLOOKUP(B27,Sheet2!A:H,8,0))","v":""},null,null,null,null,null,null,null,null,null,null,null,null,null,null,null,null,{"$f":"IF(種目情報!A19=\"\",\"\",種目情報!A19)","v":"男砲丸投"},{"$f":"IF(種目情報!E19=\"\",\"\",種目情報!E19)","v":"女ﾊﾝﾏｰ投"},null,"","","","","",{"$f":"IF(F27=\"男\",data_kyogisha!A18,\"\")","v":""},"","","","","",{"$f":"IF(F27=\"女\",data_kyogisha!A18,\"\")","v":""},0,{"$f":"IF(AND(F27=\"男\",Q27=\"○\"),③選手情報入力!B27,0)","v":0},0,{"$f":"IF(AND(F27=\"男\",S27=\"○\"),③選手情報入力!B27,0)","v":0},0,0,0,0]
[18,null,{"$f":"IF(B28=\"\",\"\",VLOOKUP(③選手情報入力!B28,①データ貼付け!D:F,2,0))","v":""},{"$f":"IF(B28=\"\",\"\",VLOOKUP(B28,①データ貼付け!D:F,3,0))","v":""},null,{"$f":"IF(B28=\"\",\"\",VLOOKUP(B28,Sheet2!A:H,2,0))","v":""},{"$f":"IF(B28=\"\",\"\",VLOOKUP(B28,Sheet2!A:H,8,0))","v":""},null,null,null,null,null,null,null,null,null,null,null,null,null,null,null,null,{"$f":"IF(種目情報!A20=\"\",\"\",種目情報!A20)","v":"男円盤投"},{"$f":"IF(種目情報!E20=\"\",\"\",種目情報!E20)","v":"女やり投"},null,"","","","","",{"$f":"IF(F28=\"男\",data_kyogisha!A19,\"\")","v":""},"","","","","",{"$f":"IF(F28=\"女\",data_kyogisha!A19,\"\")","v":""},0,{"$f":"IF(AND(F28=\"男\",Q28=\"○\"),③選手情報入力!B28,0)","v":0},0,{"$f":"IF(AND(F28=\"男\",S28=\"○\"),③選手情報入力!B28,0)","v":0},0,0,0,0]
[19,null,{"$f":"IF(B29=\"\",\"\",VLOOKUP(③選手情報入力!B29,①データ貼付け!D:F,2,0))","v":""},{"$f":"IF(B29=\"\",\"\",VLOOKUP(B29,①データ貼付け!D:F,3,0))","v":""},null,{"$f":"IF(B29=\"\",\"\",VLOOKUP(B29,Sheet2!A:H,2,0))","v":""},{"$f":"IF(B29=\"\",\"\",VLOOKUP(B29,Sheet2!A:H,8,0))","v":""},null,null,null,null,null,null,null,null,null,null,null,null,null,null,null,null,{"$f":"IF(種目情報!A21=\"\",\"\",種目情報!A21)","v":"男ﾊﾝﾏｰ投"},null,null,"","","","","",{"$f":"IF(F29=\"男\",data_kyogisha!A20,\"\")","v":""},"","","","","",{"$f":"IF(F29=\"女\",data_kyogisha!A20,\"\")","v":""},0,{"$f":"IF(AND(F29=\"男\",Q29=\"○\"),③選手情報入力!B29,0)","v":0},0,{"$f":"IF(AND(F29=\"男\",S29=\"○\"),③選手情報入力!B29,0)","v":0},0,0,0,0]
[20,null,{"$f":"IF(B30=\"\",\"\",VLOOKUP(③選手情報入力!B30,①データ貼付け!D:F,2,0))","v":""},{"$f":"IF(B30=\"\",\"\",VLOOKUP(B30,①データ貼付け!D:F,3,0))","v":""},null,{"$f":"IF(B30=\"\",\"\",VLOOKUP(B30,Sheet2!A:H,2,0))","v":""},{"$f":"IF(B30=\"\",\"\",VLOOKUP(B30,Sheet2!A:H,8,0))","v":""},null,null,null,null,null,null,null,null,null,null,null,null,null,null,null,null,{"$f":"IF(種目情報!A22=\"\",\"\",種目情報!A22)","v":"男やり投"},null,null,"","","","","",{"$f":"IF(F30=\"男\",data_kyogisha!A21,\"\")","v":""},"","","","","",{"$f":"IF(F30=\"女\",data_kyogisha!A21,\"\")","v":""},0,{"$f":"IF(AND(F30=\"男\",Q30=\"○\"),③選手情報入力!B30,0)","v":0},0,{"$f":"IF(AND(F30=\"男\",S30=\"○\"),③選手情報入力!B30,0)","v":0},0,0,0,0]
[21,null,{"$f":"IF(B31=\"\",\"\",VLOOKUP(③選手情報入力!B31,①データ貼付け!D:F,2,0))","v":""},{"$f":"IF(B31=\"\",\"\",VLOOKUP(B31,①データ貼付け!D:F,3,0))","v":""},null,{"$f":"IF(B31=\"\",\"\",VLOOKUP(B31,Sheet2!A:H,2,0))","v":""},{"$f":"IF(B31=\"\",\"\",VLOOKUP(B31,Sheet2!A:H,8,0))","v":""},null,null,null,null,null,null,null,null,null,null,null,null,null,null,null,null,null,null,null,"","","","","",{"$f":"IF(F31=\"男\",data_kyogisha!A22,\"\")","v":""},"","","","","",{"$f":"IF(F31=\"女\",data_kyogisha!A22,\"\")","v":""},0,{"$f":"IF(AND(F31=\"男\",Q31=\"○\"),③選手情報入力!B31,0)","v":0},0,{"$f":"IF(AND(F31=\"男\",S31=\"○\"),③選手情報入力!B31,0)","v":0},0,0,0,0]
[22,null,{"$f":"IF(B32=\"\",\"\",VLOOKUP(③選手情報入力!B32,①データ貼付け!D:F,2,0))","v":""},{"$f":"IF(B32=\"\",\"\",VLOOKUP(B32,①データ貼付け!D:F,3,0))","v":""},null,{"$f":"IF(B32=\"\",\"\",VLOOKUP(B32,Sheet2!A:H,2,0))","v":""},{"$f":"IF(B32=\"\",\"\",VLOOKUP(B32,Sheet2!A:H,8,0))","v":""},null,null,null,null,null,null,null,null,null,null,null,null,null,null,null,null,null,null,null,"","","","","",{"$f":"IF(F32=\"男\",data_kyogisha!A23,\"\")","v":""},"","","","","",{"$f":"IF(F32=\"女\",data_kyogisha!A23,\"\")","v":""},0,{"$f":"IF(AND(F32=\"男\",Q32=\"○\"),③選手情報入力!B32,0)","v":0},0,{"$f":"IF(AND(F32=\"男\",S32=\"○\"),③選手情報入力!B32,0)","v":0},0,0,0,0]
[23,null,{"$f":"IF(B33=\"\",\"\",VLOOKUP(③選手情報入力!B33,①データ貼付け!D:F,2,0))","v":""},{"$f":"IF(B33=\"\",\"\",VLOOKUP(B33,①データ貼付け!D:F,3,0))","v":""},null,{"$f":"IF(B33=\"\",\"\",VLOOKUP(B33,Sheet2!A:H,2,0))","v":""},{"$f":"IF(B33=\"\",\"\",VLOOKUP(B33,Sheet2!A:H,8,0))","v":""},null,null,null,null,null,null,null,null,null,null,null,null,null,null,null,null,null,null,null,"","","","","",{"$f":"IF(F33=\"男\",data_kyogisha!A24,\"\")","v":""},"","","","","",{"$f":"IF(F33=\"女\",data_kyogisha!A24,\"\")","v":""},0,{"$f":"IF(AND(F33=\"男\",Q33=\"○\"),③選手情報入力!B33,0)","v":0},0,{"$f":"IF(AND(F33=\"男\",S33=\"○\"),③選手情報入力!B33,0)","v":0},0,0,0,0]
[24,null,{"$f":"IF(B34=\"\",\"\",VLOOKUP(③選手情報入力!B34,①データ貼付け!D:F,2,0))","v":""},{"$f":"IF(B34=\"\",\"\",VLOOKUP(B34,①データ貼付け!D:F,3,0))","v":""},null,{"$f":"IF(B34=\"\",\"\",VLOOKUP(B34,Sheet2!A:H,2,0))","v":""},{"$f":"IF(B34=\"\",\"\",VLOOKUP(B34,Sheet2!A:H,8,0))","v":""},null,null,null,null,null,null,null,null,null,null,null,null,null,null,null,null,null,null,null,"","","","","",{"$f":"IF(F34=\"男\",data_kyogisha!A25,\"\")","v":""},"","","","","",{"$f":"IF(F34=\"女\",data_kyogisha!A25,\"\")","v":""},0,{"$f":"IF(AND(F34=\"男\",Q34=\"○\"),③選手情報入力!B34,0)","v":0},0,{"$f":"IF(AND(F34=\"男\",S34=\"○\"),③選手情報入力!B34,0)","v":0},0,0,0,0]
[25,null,{"$f":"IF(B35=\"\",\"\",VLOOKUP(③選手情報入力!B35,①データ貼付け!D:F,2,0))","v":""},{"$f":"IF(B35=\"\",\"\",VLOOKUP(B35,①データ貼付け!D:F,3,0))","v":""},null,{"$f":"IF(B35=\"\",\"\",VLOOKUP(B35,Sheet2!A:H,2,0))","v":""},{"$f":"IF(B35=\"\",\"\",VLOOKUP(B35,Sheet2!A:H,8,0))","v":""},null,null,null,null,null,null,null,null,null,null,null,null,null,null,null,null,null,null,null,"","","","","",{"$f":"IF(F35=\"男\",data_kyogisha!A26,\"\")","v":""},"","","","","",{"$f":"IF(F35=\"女\",data_kyogisha!A26,\"\")","v":""},0,{"$f":"IF(AND(F35=\"男\",Q35=\"○\"),③選手情報入力!B35,0)","v":0},0,{"$f":"IF(AND(F35=\"男\",S35=\"○\"),③選手情報入力!B35,0)","v":0},0,0,0,0]
[26,null,{"$f":"IF(B36=\"\",\"\",VLOOKUP(③選手情報入力!B36,①データ貼付け!D:F,2,0))","v":""},{"$f":"IF(B36=\"\",\"\",VLOOKUP(B36,①データ貼付け!D:F,3,0))","v":""},null,{"$f":"IF(B36=\"\",\"\",VLOOKUP(B36,Sheet2!A:H,2,0))","v":""},{"$f":"IF(B36=\"\",\"\",VLOOKUP(B36,Sheet2!A:H,8,0))","v":""},null,null,null,null,null,null,null,null,null,null,null,null,null,null,null,null,null,null,null,"","","","","",{"$f":"IF(F36=\"男\",data_kyogisha!A27,\"\")","v":""},"","","","","",{"$f":"IF(F36=\"女\",data_kyogisha!A27,\"\")","v":""},0,{"$f":"IF(AND(F36=\"男\",Q36=\"○\"),③選手情報入力!B36,0)","v":0},0,{"$f":"IF(AND(F36=\"男\",S36=\"○\"),③選手情報入力!B36,0)","v":0},0,0,0,0]
[27,null,{"$f":"IF(B37=\"\",\"\",VLOOKUP(③選手情報入力!B37,①データ貼付け!D:F,2,0))","v":""},{"$f":"IF(B37=\"\",\"\",VLOOKUP(B37,①データ貼付け!D:F,3,0))","v":""},null,{"$f":"IF(B37=\"\",\"\",VLOOKUP(B37,Sheet2!A:H,2,0))","v":""},{"$f":"IF(B37=\"\",\"\",VLOOKUP(B37,Sheet2!A:H,8,0))","v":""},null,null,null,null,null,null,null,null,null,null,null,null,null,null,null,null,null,null,null,"","","","","",{"$f":"IF(F37=\"男\",data_kyogisha!A28,\"\")","v":""},"","","","","",{"$f":"IF(F37=\"女\",data_kyogisha!A28,\"\")","v":""},0,{"$f":"IF(AND(F37=\"男\",Q37=\"○\"),③選手情報入力!B37,0)","v":0},0,{"$f":"IF(AND(F37=\"男\",S37=\"○\"),③選手情報入力!B37,0)","v":0},0,0,0,0]
[28,null,{"$f":"IF(B38=\"\",\"\",VLOOKUP(③選手情報入力!B38,①データ貼付け!D:F,2,0))","v":""},{"$f":"IF(B38=\"\",\"\",VLOOKUP(B38,①データ貼付け!D:F,3,0))","v":""},null,{"$f":"IF(B38=\"\",\"\",VLOOKUP(B38,Sheet2!A:H,2,0))","v":""},{"$f":"IF(B38=\"\",\"\",VLOOKUP(B38,Sheet2!A:H,8,0))","v":""},null,null,null,null,null,null,null,null,null,null,null,null,null,null,null,null,null,null,null,"","","","","",{"$f":"IF(F38=\"男\",data_kyogisha!A29,\"\")","v":""},"","","","","",{"$f":"IF(F38=\"女\",data_kyogisha!A29,\"\")","v":""},0,{"$f":"IF(AND(F38=\"男\",Q38=\"○\"),③選手情報入力!B38,0)","v":0},0,{"$f":"IF(AND(F38=\"男\",S38=\"○\"),③選手情報入力!B38,0)","v":0},0,0,0,0]
[29,null,{"$f":"IF(B39=\"\",\"\",VLOOKUP(③選手情報入力!B39,①データ貼付け!D:F,2,0))","v":""},{"$f":"IF(B39=\"\",\"\",VLOOKUP(B39,①データ貼付け!D:F,3,0))","v":""},null,{"$f":"IF(B39=\"\",\"\",VLOOKUP(B39,Sheet2!A:H,2,0))","v":""},{"$f":"IF(B39=\"\",\"\",VLOOKUP(B39,Sheet2!A:H,8,0))","v":""},null,null,null,null,null,null,null,null,null,null,null,null,null,null,null,null,null,null,null,"","","","","",{"$f":"IF(F39=\"男\",data_kyogisha!A30,\"\")","v":""},"","","","","",{"$f":"IF(F39=\"女\",data_kyogisha!A30,\"\")","v":""},0,{"$f":"IF(AND(F39=\"男\",Q39=\"○\"),③選手情報入力!B39,0)","v":0},0,{"$f":"IF(AND(F39=\"男\",S39=\"○\"),③選手情報入力!B39,0)","v":0},0,0,0,0]
[30,null,{"$f":"IF(B40=\"\",\"\",VLOOKUP(③選手情報入力!B40,①データ貼付け!D:F,2,0))","v":""},{"$f":"IF(B40=\"\",\"\",VLOOKUP(B40,①データ貼付け!D:F,3,0))","v":""},null,{"$f":"IF(B40=\"\",\"\",VLOOKUP(B40,Sheet2!A:H,2,0))","v":""},{"$f":"IF(B40=\"\",\"\",VLOOKUP(B40,Sheet2!A:H,8,0))","v":""},null,null,null,null,null,null,null,null,null,null,null,null,null,null,null,null,null,null,null,"","","","","",{"$f":"IF(F40=\"男\",data_kyogisha!A31,\"\")","v":""},"","","","","",{"$f":"IF(F40=\"女\",data_kyogisha!A31,\"\")","v":""},0,{"$f":"IF(AND(F40=\"男\",Q40=\"○\"),③選手情報入力!B40,0)","v":0},0,{"$f":"IF(AND(F40=\"男\",S40=\"○\"),③選手情報入力!B40,0)","v":0},0,0,0,0]
[31,null,{"$f":"IF(B41=\"\",\"\",VLOOKUP(③選手情報入力!B41,①データ貼付け!D:F,2,0))","v":""},{"$f":"IF(B41=\"\",\"\",VLOOKUP(B41,①データ貼付け!D:F,3,0))","v":""},null,{"$f":"IF(B41=\"\",\"\",VLOOKUP(B41,Sheet2!A:H,2,0))","v":""},{"$f":"IF(B41=\"\",\"\",VLOOKUP(B41,Sheet2!A:H,8,0))","v":""},null,null,null,null,null,null,null,null,null,null,null,null,null,null,null,null,null,null,null,"","","","","",{"$f":"IF(F41=\"男\",data_kyogisha!A32,\"\")","v":""},"","","","","",{"$f":"IF(F41=\"女\",data_kyogisha!A32,\"\")","v":""},0,{"$f":"IF(AND(F41=\"男\",Q41=\"○\"),③選手情報入力!B41,0)","v":0},0,{"$f":"IF(AND(F41=\"男\",S41=\"○\"),③選手情報入力!B41,0)","v":0},0,0,0,0]
[32,null,{"$f":"IF(B42=\"\",\"\",VLOOKUP(③選手情報入力!B42,①データ貼付け!D:F,2,0))","v":""},{"$f":"IF(B42=\"\",\"\",VLOOKUP(B42,①データ貼付け!D:F,3,0))","v":""},null,{"$f":"IF(B42=\"\",\"\",VLOOKUP(B42,Sheet2!A:H,2,0))","v":""},{"$f":"IF(B42=\"\",\"\",VLOOKUP(B42,Sheet2!A:H,8,0))","v":""},null,null,null,null,null,null,null,null,null,null,null,null,null,null,null,null,null,null,null,"","","","","",{"$f":"IF(F42=\"男\",data_kyogisha!A33,\"\")","v":""},"","","","","",{"$f":"IF(F42=\"女\",data_kyogisha!A33,\"\")","v":""},0,{"$f":"IF(AND(F42=\"男\",Q42=\"○\"),③選手情報入力!B42,0)","v":0},0,{"$f":"IF(AND(F42=\"男\",S42=\"○\"),③選手情報入力!B42,0)","v":0},0,0,0,0]
[33,null,{"$f":"IF(B43=\"\",\"\",VLOOKUP(③選手情報入力!B43,①データ貼付け!D:F,2,0))","v":""},{"$f":"IF(B43=\"\",\"\",VLOOKUP(B43,①データ貼付け!D:F,3,0))","v":""},null,{"$f":"IF(B43=\"\",\"\",VLOOKUP(B43,Sheet2!A:H,2,0))","v":""},{"$f":"IF(B43=\"\",\"\",VLOOKUP(B43,Sheet2!A:H,8,0))","v":""},null,null,null,null,null,null,null,null,null,null,null,null,null,null,null,null,null,null,null,"",{"$f":"IF(F43=\"男\",C43,\"\")","v":""},{"$f":"IF(F43=\"男\",D43,\"\")","v":""},{"$f":"IF(F43=\"男\",F43,\"\")","v":""},{"$f":"IF(F43=\"男\",IF(G43=\"\",\"\",G43),\"\")","v":""},{"$f":"IF(F43=\"男\",data_kyogisha!A34,\"\")","v":""},"",{"$f":"IF(F43=\"女\",C43,\"\")","v":""},{"$f":"IF(F43=\"女\",D43,\"\")","v":""},{"$f":"IF(F43=\"女\",F43,\"\")","v":""},{"$f":"IF(F43=\"女\",IF(G43=\"\",\"\",G43),\"\")","v":""},{"$f":"IF(F43=\"女\",data_kyogisha!A34,\"\")","v":""},0,{"$f":"IF(AND(F43=\"男\",Q43=\"○\"),③選手情報入力!B43,0)","v":0},0,{"$f":"IF(AND(F43=\"男\",S43=\"○\"),③選手情報入力!B43,0)","v":0},0,0,0,0]
[34,null,{"$f":"IF(B44=\"\",\"\",VLOOKUP(③選手情報入力!B44,①データ貼付け!D:F,2,0))","v":""},{"$f":"IF(B44=\"\",\"\",VLOOKUP(B44,①データ貼付け!D:F,3,0))","v":""},null,{"$f":"IF(B44=\"\",\"\",VLOOKUP(B44,Sheet2!A:H,2,0))","v":""},{"$f":"IF(B44=\"\",\"\",VLOOKUP(B44,Sheet2!A:H,8,0))","v":""},null,null,null,null,null,null,null,null,null,null,null,null,null,null,null,null,null,null,null,"","","","","",{"$f":"IF(F44=\"男\",data_kyogisha!A35,\"\")","v":""},"","","","","",{"$f":"IF(F44=\"女\",data_kyogisha!A35,\"\")","v":""},0,{"$f":"IF(AND(F44=\"男\",Q44=\"○\"),③選手情報入力!B44,0)","v":0},{"$f":"IF(AND(F44=\"男\",S44=\"○\"),AO43+1,AO43)","v":0},{"$f":"IF(AND(F44=\"男\",S44=\"○\"),③選手情報入力!B44,0)","v":0},0,0,{"$f":"IF(AND(F44=\"女\",S44=\"○\"),AS43+1,AS43)","v":0},0]
[35,null,{"$f":"IF(B45=\"\",\"\",VLOOKUP(③選手情報入力!B45,①データ貼付け!D:F,2,0))","v":""},{"$f":"IF(B45=\"\",\"\",VLOOKUP(B45,①データ貼付け!D:F,3,0))","v":""},null,{"$f":"IF(B45=\"\",\"\",VLOOKUP(B45,Sheet2!A:H,2,0))","v":""},{"$f":"IF(B45=\"\",\"\",VLOOKUP(B45,Sheet2!A:H,8,0))","v":""},null,null,null,null,null,null,null,null,null,null,null,null,null,null,null,null,null,null,null,"","","","","",{"$f":"IF(F45=\"男\",data_kyogisha!A36,\"\")","v":""},"","","","","",{"$f":"IF(F45=\"女\",data_kyogisha!A36,\"\")","v":""},0,{"$f":"IF(AND(F45=\"男\",Q45=\"○\"),③選手情報入力!B45,0)","v":0},0,{"$f":"IF(AND(F45=\"男\",S45=\"○\"),③選手情報入力!B45,0)","v":0},0,0,0,0]
[36,null,{"$f":"IF(B46=\"\",\"\",VLOOKUP(③選手情報入力!B46,①データ貼付け!D:F,2,0))","v":""},{"$f":"IF(B46=\"\",\"\",VLOOKUP(B46,①データ貼付け!D:F,3,0))","v":""},null,{"$f":"IF(B46=\"\",\"\",VLOOKUP(B46,Sheet2!A:H,2,0))","v":""},{"$f":"IF(B46=\"\",\"\",VLOOKUP(B46,Sheet2!A:H,8,0))","v":""},null,null,null,null,null,null,null,null,null,null,null,null,null,null,null,null,null,null,null,"","","","","",{"$f":"IF(F46=\"男\",data_kyogisha!A37,\"\")","v":""},"","","","","",{"$f":"IF(F46=\"女\",data_kyogisha!A37,\"\")","v":""},0,{"$f":"IF(AND(F46=\"男\",Q46=\"○\"),③選手情報入力!B46,0)","v":0},0,{"$f":"IF(AND(F46=\"男\",S46=\"○\"),③選手情報入力!B46,0)","v":0},0,0,0,0]
[37,null,{"$f":"IF(B47=\"\",\"\",VLOOKUP(③選手情報入力!B47,①データ貼付け!D:F,2,0))","v":""},{"$f":"IF(B47=\"\",\"\",VLOOKUP(B47,①データ貼付け!D:F,3,0))","v":""},null,{"$f":"IF(B47=\"\",\"\",VLOOKUP(B47,Sheet2!A:H,2,0))","v":""},{"$f":"IF(B47=\"\",\"\",VLOOKUP(B47,Sheet2!A:H,8,0))","v":""},null,null,null,null,null,null,null,null,null,null,null,null,null,null,null,null,null,null,null,"","","","","",{"$f":"IF(F47=\"男\",data_kyogisha!A38,\"\")","v":""},"","","","","",{"$f":"IF(F47=\"女\",data_kyogisha!A38,\"\")","v":""},0,{"$f":"IF(AND(F47=\"男\",Q47=\"○\"),③選手情報入力!B47,0)","v":0},0,{"$f":"IF(AND(F47=\"男\",S47=\"○\"),③選手情報入力!B47,0)","v":0},0,0,0,0]
[38,null,{"$f":"IF(B48=\"\",\"\",VLOOKUP(③選手情報入力!B48,①データ貼付け!D:F,2,0))","v":""},{"$f":"IF(B48=\"\",\"\",VLOOKUP(B48,①データ貼付け!D:F,3,0))","v":""},null,{"$f":"IF(B48=\"\",\"\",VLOOKUP(B48,Sheet2!A:H,2,0))","v":""},{"$f":"IF(B48=\"\",\"\",VLOOKUP(B48,Sheet2!A:H,8,0))","v":""},null,null,null,null,null,null,null,null,null,null,null,null,null,null,null,null,null,null,null,"","","","","",{"$f":"IF(F48=\"男\",data_kyogisha!A39,\"\")","v":""},"","","","","",{"$f":"IF(F48=\"女\",data_kyogisha!A39,\"\")","v":""},0,{"$f":"IF(AND(F48=\"男\",Q48=\"○\"),③選手情報入力!B48,0)","v":0},0,{"$f":"IF(AND(F48=\"男\",S48=\"○\"),③選手情報入力!B48,0)","v":0},0,0,0,0]
[39,null,{"$f":"IF(B49=\"\",\"\",VLOOKUP(③選手情報入力!B49,①データ貼付け!D:F,2,0))","v":""},{"$f":"IF(B49=\"\",\"\",VLOOKUP(B49,①データ貼付け!D:F,3,0))","v":""},null,{"$f":"IF(B49=\"\",\"\",VLOOKUP(B49,Sheet2!A:H,2,0))","v":""},{"$f":"IF(B49=\"\",\"\",VLOOKUP(B49,Sheet2!A:H,8,0))","v":""},null,null,null,null,null,null,null,null,null,null,null,null,null,null,null,null,null,null,null,"","","","","",{"$f":"IF(F49=\"男\",data_kyogisha!A40,\"\")","v":""},"","","","","",{"$f":"IF(F49=\"女\",data_kyogisha!A40,\"\")","v":""},0,{"$f":"IF(AND(F49=\"男\",Q49=\"○\"),③選手情報入力!B49,0)","v":0},0,{"$f":"IF(AND(F49=\"男\",S49=\"○\"),③選手情報入力!B49,0)","v":0},0,0,0,0]
[40,null,{"$f":"IF(B50=\"\",\"\",VLOOKUP(③選手情報入力!B50,①データ貼付け!D:F,2,0))","v":""},{"$f":"IF(B50=\"\",\"\",VLOOKUP(B50,①データ貼付け!D:F,3,0))","v":""},null,{"$f":"IF(B50=\"\",\"\",VLOOKUP(B50,Sheet2!A:H,2,0))","v":""},{"$f":"IF(B50=\"\",\"\",VLOOKUP(B50,Sheet2!A:H,8,0))","v":""},null,null,null,null,null,null,null,null,null,null,null,null,null,null,null,null,null,null,null,"","","","","",{"$f":"IF(F50=\"男\",data_kyogisha!A41,\"\")","v":""},"","","","","",{"$f":"IF(F50=\"女\",data_kyogisha!A41,\"\")","v":""},0,{"$f":"IF(AND(F50=\"男\",Q50=\"○\"),③選手情報入力!B50,0)","v":0},0,{"$f":"IF(AND(F50=\"男\",S50=\"○\"),③選手情報入力!B50,0)","v":0},0,0,0,0]
[41,null,{"$f":"IF(B51=\"\",\"\",VLOOKUP(③選手情報入力!B51,①データ貼付け!D:F,2,0))","v":""},{"$f":"IF(B51=\"\",\"\",VLOOKUP(B51,①データ貼付け!D:F,3,0))","v":""},null,{"$f":"IF(B51=\"\",\"\",VLOOKUP(B51,Sheet2!A:H,2,0))","v":""},{"$f":"IF(B51=\"\",\"\",VLOOKUP(B51,Sheet2!A:H,8,0))","v":""},null,null,null,null,null,null,null,null,null,null,null,null,null,null,null,null,null,null,null,"","","","","",{"$f":"IF(F51=\"男\",data_kyogisha!A42,\"\")","v":""},"","","","","",{"$f":"IF(F51=\"女\",data_kyogisha!A42,\"\")","v":""},0,{"$f":"IF(AND(F51=\"男\",Q51=\"○\"),③選手情報入力!B51,0)","v":0},0,{"$f":"IF(AND(F51=\"男\",S51=\"○\"),③選手情報入力!B51,0)","v":0},0,0,0,0]
[42,null,{"$f":"IF(B52=\"\",\"\",VLOOKUP(③選手情報入力!B52,①データ貼付け!D:F,2,0))","v":""},{"$f":"IF(B52=\"\",\"\",VLOOKUP(B52,①データ貼付け!D:F,3,0))","v":""},null,{"$f":"IF(B52=\"\",\"\",VLOOKUP(B52,Sheet2!A:H,2,0))","v":""},{"$f":"IF(B52=\"\",\"\",VLOOKUP(B52,Sheet2!A:H,8,0))","v":""},null,null,null,null,null,null,null,null,null,null,null,null,null,null,null,null,null,null,null,"","","","","",{"$f":"IF(F52=\"男\",data_kyogisha!A43,\"\")","v":""},"","","","","",{"$f":"IF(F52=\"女\",data_kyogisha!A43,\"\")","v":""},0,{"$f":"IF(AND(F52=\"男\",Q52=\"○\"),③選手情報入力!B52,0)","v":0},0,{"$f":"IF(AND(F52=\"男\",S52=\"○\"),③選手情報入力!B52,0)","v":0},0,0,0,0]
[43,null,{"$f":"IF(B53=\"\",\"\",VLOOKUP(③選手情報入力!B53,①データ貼付け!D:F,2,0))","v":""},{"$f":"IF(B53=\"\",\"\",VLOOKUP(B53,①データ貼付け!D:F,3,0))","v":""},null,{"$f":"IF(B53=\"\",\"\",VLOOKUP(B53,Sheet2!A:H,2,0))","v":""},{"$f":"IF(B53=\"\",\"\",VLOOKUP(B53,Sheet2!A:H,8,0))","v":""},null,null,null,null,null,null,null,null,null,null,null,null,null,null,null,null,null,null,null,"","","","","",{"$f":"IF(F53=\"男\",data_kyogisha!A44,\"\")","v":""},"","","","","",{"$f":"IF(F53=\"女\",data_kyogisha!A44,\"\")","v":""},0,{"$f":"IF(AND(F53=\"男\",Q53=\"○\"),③選手情報入力!B53,0)","v":0},0,{"$f":"IF(AND(F53=\"男\",S53=\"○\"),③選手情報入力!B53,0)","v":0},0,0,0,0]
[44,null,{"$f":"IF(B54=\"\",\"\",VLOOKUP(③選手情報入力!B54,①データ貼付け!D:F,2,0))","v":""},{"$f":"IF(B54=\"\",\"\",VLOOKUP(B54,①データ貼付け!D:F,3,0))","v":""},null,{"$f":"IF(B54=\"\",\"\",VLOOKUP(B54,Sheet2!A:H,2,0))","v":""},{"$f":"IF(B54=\"\",\"\",VLOOKUP(B54,Sheet2!A:H,8,0))","v":""},null,null,null,null,null,null,null,null,null,null,null,null,null,null,null,null,null,null,null,"","","","","",{"$f":"IF(F54=\"男\",data_kyogisha!A45,\"\")","v":""},"","","","","",{"$f":"IF(F54=\"女\",data_kyogisha!A45,\"\")","v":""},0,{"$f":"IF(AND(F54=\"男\",Q54=\"○\"),③選手情報入力!B54,0)","v":0},0,{"$f":"IF(AND(F54=\"男\",S54=\"○\"),③選手情報入力!B54,0)","v":0},0,0,0,0]
[45,null,{"$f":"IF(B55=\"\",\"\",VLOOKUP(③選手情報入力!B55,①データ貼付け!D:F,2,0))","v":""},{"$f":"IF(B55=\"\",\"\",VLOOKUP(B55,①データ貼付け!D:F,3,0))","v":""},null,{"$f":"IF(B55=\"\",\"\",VLOOKUP(B55,Sheet2!A:H,2,0))","v":""},{"$f":"IF(B55=\"\",\"\",VLOOKUP(B55,Sheet2!A:H,8,0))","v":""},null,null,null,null,null,null,null,null,null,null,null,null,null,null,null,null,null,null,null,"","","","","",{"$f":"IF(F55=\"男\",data_kyogisha!A46,\"\")","v":""},"","","","","",{"$f":"IF(F55=\"女\",data_kyogisha!A46,\"\")","v":""},0,{"$f":"IF(AND(F55=\"男\",Q55=\"○\"),③選手情報入力!B55,0)","v":0},0,{"$f":"IF(AND(F55=\"男\",S55=\"○\"),③選手情報入力!B55,0)","v":0},0,0,0,0]
[46,null,{"$f":"IF(B56=\"\",\"\",VLOOKUP(③選手情報入力!B56,①データ貼付け!D:F,2,0))","v":""},{"$f":"IF(B56=\"\",\"\",VLOOKUP(B56,①データ貼付け!D:F,3,0))","v":""},null,{"$f":"IF(B56=\"\",\"\",VLOOKUP(B56,Sheet2!A:H,2,0))","v":""},{"$f":"IF(B56=\"\",\"\",VLOOKUP(B56,Sheet2!A:H,8,0))","v":""},null,null,null,null,null,null,null,null,null,null,null,null,null,null,null,null,null,null,null,"","","","","",{"$f":"IF(F56=\"男\",data_kyogisha!A47,\"\")","v":""},"","","","","",{"$f":"IF(F56=\"女\",data_kyogisha!A47,\"\")","v":""},0,{"$f":"IF(AND(F56=\"男\",Q56=\"○\"),③選手情報入力!B56,0)","v":0},0,{"$f":"IF(AND(F56=\"男\",S56=\"○\"),③選手情報入力!B56,0)","v":0},0,0,0,0]
[47,null,{"$f":"IF(B57=\"\",\"\",VLOOKUP(③選手情報入力!B57,①データ貼付け!D:F,2,0))","v":""},{"$f":"IF(B57=\"\",\"\",VLOOKUP(B57,①データ貼付け!D:F,3,0))","v":""},null,{"$f":"IF(B57=\"\",\"\",VLOOKUP(B57,Sheet2!A:H,2,0))","v":""},{"$f":"IF(B57=\"\",\"\",VLOOKUP(B57,Sheet2!A:H,8,0))","v":""},null,null,null,null,null,null,null,null,null,null,null,null,null,null,null,null,null,null,null,"","","","","",{"$f":"IF(F57=\"男\",data_kyogisha!A48,\"\")","v":""},"","","","","",{"$f":"IF(F57=\"女\",data_kyogisha!A48,\"\")","v":""},0,{"$f":"IF(AND(F57=\"男\",Q57=\"○\"),③選手情報入力!B57,0)","v":0},0,{"$f":"IF(AND(F57=\"男\",S57=\"○\"),③選手情報入力!B57,0)","v":0},0,0,0,0]
[48,null,{"$f":"IF(B58=\"\",\"\",VLOOKUP(③選手情報入力!B58,①データ貼付け!D:F,2,0))","v":""},{"$f":"IF(B58=\"\",\"\",VLOOKUP(B58,①データ貼付け!D:F,3,0))","v":""},null,{"$f":"IF(B58=\"\",\"\",VLOOKUP(B58,Sheet2!A:H,2,0))","v":""},{"$f":"IF(B58=\"\",\"\",VLOOKUP(B58,Sheet2!A:H,8,0))","v":""},null,null,null,null,null,null,null,null,null,null,null,null,null,null,null,null,null,null,null,"","","","","",{"$f":"IF(F58=\"男\",data_kyogisha!A49,\"\")","v":""},"","","","","",{"$f":"IF(F58=\"女\",data_kyogisha!A49,\"\")","v":""},0,{"$f":"IF(AND(F58=\"男\",Q58=\"○\"),③選手情報入力!B58,0)","v":0},0,{"$f":"IF(AND(F58=\"男\",S58=\"○\"),③選手情報入力!B58,0)","v":0},0,0,0,0]
[49,null,{"$f":"IF(B59=\"\",\"\",VLOOKUP(③選手情報入力!B59,①データ貼付け!D:F,2,0))","v":""},{"$f":"IF(B59=\"\",\"\",VLOOKUP(B59,①データ貼付け!D:F,3,0))","v":""},null,{"$f":"IF(B59=\"\",\"\",VLOOKUP(B59,Sheet2!A:H,2,0))","v":""},{"$f":"IF(B59=\"\",\"\",VLOOKUP(B59,Sheet2!A:H,8,0))","v":""},null,null,null,null,null,null,null,null,null,null,null,null,null,null,null,null,null,null,null,"","","","","",{"$f":"IF(F59=\"男\",data_kyogisha!A50,\"\")","v":""},"","","","","",{"$f":"IF(F59=\"女\",data_kyogisha!A50,\"\")","v":""},0,{"$f":"IF(AND(F59=\"男\",Q59=\"○\"),③選手情報入力!B59,0)","v":0},0,{"$f":"IF(AND(F59=\"男\",S59=\"○\"),③選手情報入力!B59,0)","v":0},0,0,0,0]
[50,null,{"$f":"IF(B60=\"\",\"\",VLOOKUP(③選手情報入力!B60,①データ貼付け!D:F,2,0))","v":""},{"$f":"IF(B60=\"\",\"\",VLOOKUP(B60,①データ貼付け!D:F,3,0))","v":""},null,{"$f":"IF(B60=\"\",\"\",VLOOKUP(B60,Sheet2!A:H,2,0))","v":""},{"$f":"IF(B60=\"\",\"\",VLOOKUP(B60,Sheet2!A:H,8,0))","v":""},null,null,null,null,null,null,null,null,null,null,null,null,null,null,null,null,null,null,null,"","","","","",{"$f":"IF(F60=\"男\",data_kyogisha!A51,\"\")","v":""},"","","","","",{"$f":"IF(F60=\"女\",data_kyogisha!A51,\"\")","v":""},0,{"$f":"IF(AND(F60=\"男\",Q60=\"○\"),③選手情報入力!B60,0)","v":0},0,{"$f":"IF(AND(F60=\"男\",S60=\"○\"),③選手情報入力!B60,0)","v":0},0,0,0,0]
[51,null,{"$f":"IF(B61=\"\",\"\",VLOOKUP(③選手情報入力!B61,①データ貼付け!D:F,2,0))","v":""},{"$f":"IF(B61=\"\",\"\",VLOOKUP(B61,①データ貼付け!D:F,3,0))","v":""},null,{"$f":"IF(B61=\"\",\"\",VLOOKUP(B61,Sheet2!A:H,2,0))","v":""},{"$f":"IF(B61=\"\",\"\",VLOOKUP(B61,Sheet2!A:H,8,0))","v":""},null,null,null,null,null,null,null,null,null,null,null,null,null,null,null,null,null,null,null,"","","","","",{"$f":"IF(F61=\"男\",data_kyogisha!A52,\"\")","v":""},"","","","","",{"$f":"IF(F61=\"女\",data_kyogisha!A52,\"\")","v":""},0,{"$f":"IF(AND(F61=\"男\",Q61=\"○\"),③選手情報入力!B61,0)","v":0},0,{"$f":"IF(AND(F61=\"男\",S61=\"○\"),③選手情報入力!B61,0)","v":0},0,0,0,0]
[52,null,{"$f":"IF(B62=\"\",\"\",VLOOKUP(③選手情報入力!B62,①データ貼付け!D:F,2,0))","v":""},{"$f":"IF(B62=\"\",\"\",VLOOKUP(B62,①データ貼付け!D:F,3,0))","v":""},null,{"$f":"IF(B62=\"\",\"\",VLOOKUP(B62,Sheet2!A:H,2,0))","v":""},{"$f":"IF(B62=\"\",\"\",VLOOKUP(B62,Sheet2!A:H,8,0))","v":""},null,null,null,null,null,null,null,null,null,null,null,null,null,null,null,null,null,null,null,"","","","","",{"$f":"IF(F62=\"男\",data_kyogisha!A53,\"\")","v":""},"","","","","",{"$f":"IF(F62=\"女\",data_kyogisha!A53,\"\")","v":""},0,{"$f":"IF(AND(F62=\"男\",Q62=\"○\"),③選手情報入力!B62,0)","v":0},0,{"$f":"IF(AND(F62=\"男\",S62=\"○\"),③選手情報入力!B62,0)","v":0},0,0,0,0]
[53,null,{"$f":"IF(B63=\"\",\"\",VLOOKUP(③選手情報入力!B63,①データ貼付け!D:F,2,0))","v":""},{"$f":"IF(B63=\"\",\"\",VLOOKUP(B63,①データ貼付け!D:F,3,0))","v":""},null,{"$f":"IF(B63=\"\",\"\",VLOOKUP(B63,Sheet2!A:H,2,0))","v":""},{"$f":"IF(B63=\"\",\"\",VLOOKUP(B63,Sheet2!A:H,8,0))","v":""},null,null,null,null,null,null,null,null,null,null,null,null,null,null,null,null,null,null,null,"","","","","",{"$f":"IF(F63=\"男\",data_kyogisha!A54,\"\")","v":""},"","","","","",{"$f":"IF(F63=\"女\",data_kyogisha!A54,\"\")","v":""},0,{"$f":"IF(AND(F63=\"男\",Q63=\"○\"),③選手情報入力!B63,0)","v":0},0,{"$f":"IF(AND(F63=\"男\",S63=\"○\"),③選手情報入力!B63,0)","v":0},0,0,0,0]
[54,null,{"$f":"IF(B64=\"\",\"\",VLOOKUP(③選手情報入力!B64,①データ貼付け!D:F,2,0))","v":""},{"$f":"IF(B64=\"\",\"\",VLOOKUP(B64,①データ貼付け!D:F,3,0))","v":""},null,{"$f":"IF(B64=\"\",\"\",VLOOKUP(B64,Sheet2!A:H,2,0))","v":""},{"$f":"IF(B64=\"\",\"\",VLOOKUP(B64,Sheet2!A:H,8,0))","v":""},null,null,null,null,null,null,null,null,null,null,null,null,null,null,null,null,null,null,null,"","","","","",{"$f":"IF(F64=\"男\",data_kyogisha!A55,\"\")","v":""},"","","","","",{"$f":"IF(F64=\"女\",data_kyogisha!A55,\"\")","v":""},0,{"$f":"IF(AND(F64=\"男\",Q64=\"○\"),③選手情報入力!B64,0)","v":0},0,{"$f":"IF(AND(F64=\"男\",S64=\"○\"),③選手情報入力!B64,0)","v":0},0,0,0,0]
[55,null,{"$f":"IF(B65=\"\",\"\",VLOOKUP(③選手情報入力!B65,①データ貼付け!D:F,2,0))","v":""},{"$f":"IF(B65=\"\",\"\",VLOOKUP(B65,①データ貼付け!D:F,3,0))","v":""},null,{"$f":"IF(B65=\"\",\"\",VLOOKUP(B65,Sheet2!A:H,2,0))","v":""},{"$f":"IF(B65=\"\",\"\",VLOOKUP(B65,Sheet2!A:H,8,0))","v":""},null,null,null,null,null,null,null,null,null,null,null,null,null,null,null,null,null,null,null,"","","","","",{"$f":"IF(F65=\"男\",data_kyogisha!A56,\"\")","v":""},"","","","","",{"$f":"IF(F65=\"女\",data_kyogisha!A56,\"\")","v":""},0,{"$f":"IF(AND(F65=\"男\",Q65=\"○\"),③選手情報入力!B65,0)","v":0},0,{"$f":"IF(AND(F65=\"男\",S65=\"○\"),③選手情報入力!B65,0)","v":0},0,0,0,0]
[56,null,{"$f":"IF(B66=\"\",\"\",VLOOKUP(③選手情報入力!B66,①データ貼付け!D:F,2,0))","v":""},{"$f":"IF(B66=\"\",\"\",VLOOKUP(B66,①データ貼付け!D:F,3,0))","v":""},null,{"$f":"IF(B66=\"\",\"\",VLOOKUP(B66,Sheet2!A:H,2,0))","v":""},{"$f":"IF(B66=\"\",\"\",VLOOKUP(B66,Sheet2!A:H,8,0))","v":""},null,null,null,null,null,null,null,null,null,null,null,null,null,null,null,null,null,null,null,"","","","","",{"$f":"IF(F66=\"男\",data_kyogisha!A57,\"\")","v":""},"","","","","",{"$f":"IF(F66=\"女\",data_kyogisha!A57,\"\")","v":""},0,{"$f":"IF(AND(F66=\"男\",Q66=\"○\"),③選手情報入力!B66,0)","v":0},0,{"$f":"IF(AND(F66=\"男\",S66=\"○\"),③選手情報入力!B66,0)","v":0},0,0,0,0]
[57,null,{"$f":"IF(B67=\"\",\"\",VLOOKUP(③選手情報入力!B67,①データ貼付け!D:F,2,0))","v":""},{"$f":"IF(B67=\"\",\"\",VLOOKUP(B67,①データ貼付け!D:F,3,0))","v":""},null,{"$f":"IF(B67=\"\",\"\",VLOOKUP(B67,Sheet2!A:H,2,0))","v":""},{"$f":"IF(B67=\"\",\"\",VLOOKUP(B67,Sheet2!A:H,8,0))","v":""},null,null,null,null,null,null,null,null,null,null,null,null,null,null,null,null,null,null,null,"","","","","",{"$f":"IF(F67=\"男\",data_kyogisha!A58,\"\")","v":""},"","","","","",{"$f":"IF(F67=\"女\",data_kyogisha!A58,\"\")","v":""},0,{"$f":"IF(AND(F67=\"男\",Q67=\"○\"),③選手情報入力!B67,0)","v":0},0,{"$f":"IF(AND(F67=\"男\",S67=\"○\"),③選手情報入力!B67,0)","v":0},0,0,0,0]
[58,null,{"$f":"IF(B68=\"\",\"\",VLOOKUP(③選手情報入力!B68,①データ貼付け!D:F,2,0))","v":""},{"$f":"IF(B68=\"\",\"\",VLOOKUP(B68,①データ貼付け!D:F,3,0))","v":""},null,{"$f":"IF(B68=\"\",\"\",VLOOKUP(B68,Sheet2!A:H,2,0))","v":""},{"$f":"IF(B68=\"\",\"\",VLOOKUP(B68,Sheet2!A:H,8,0))","v":""},null,null,null,null,null,null,null,null,null,null,null,null,null,null,null,null,null,null,null,"","","","","",{"$f":"IF(F68=\"男\",data_kyogisha!A59,\"\")","v":""},"","","","","",{"$f":"IF(F68=\"女\",data_kyogisha!A59,\"\")","v":""},0,{"$f":"IF(AND(F68=\"男\",Q68=\"○\"),③選手情報入力!B68,0)","v":0},0,{"$f":"IF(AND(F68=\"男\",S68=\"○\"),③選手情報入力!B68,0)","v":0},0,0,0,0]
[59,null,{"$f":"IF(B69=\"\",\"\",VLOOKUP(③選手情報入力!B69,①データ貼付け!D:F,2,0))","v":""},{"$f":"IF(B69=\"\",\"\",VLOOKUP(B69,①データ貼付け!D:F,3,0))","v":""},null,{"$f":"IF(B69=\"\",\"\",VLOOKUP(B69,Sheet2!A:H,2,0))","v":""},{"$f":"IF(B69=\"\",\"\",VLOOKUP(B69,Sheet2!A:H,8,0))","v":""},null,null,null,null,null,null,null,null,null,null,null,null,null,null,null,null,null,null,null,"","","","","",{"$f":"IF(F69=\"男\",data_kyogisha!A60,\"\")","v":""},"","","","","",{"$f":"IF(F69=\"女\",data_kyogisha!A60,\"\")","v":""},0,{"$f":"IF(AND(F69=\"男\",Q69=\"○\"),③選手情報入力!B69,0)","v":0},0,{"$f":"IF(AND(F69=\"男\",S69=\"○\"),③選手情報入力!B69,0)","v":0},0,0,0,0]
[60,null,{"$f":"IF(B70=\"\",\"\",VLOOKUP(③選手情報入力!B70,①データ貼付け!D:F,2,0))","v":""},{"$f":"IF(B70=\"\",\"\",VLOOKUP(B70,①データ貼付け!D:F,3,0))","v":""},null,{"$f":"IF(B70=\"\",\"\",VLOOKUP(B70,Sheet2!A:H,2,0))","v":""},{"$f":"IF(B70=\"\",\"\",VLOOKUP(B70,Sheet2!A:H,8,0))","v":""},null,null,null,null,null,null,null,null,null,null,null,null,null,null,null,null,null,null,null,"","","","","",{"$f":"IF(F70=\"男\",data_kyogisha!A61,\"\")","v":""},"","","","","",{"$f":"IF(F70=\"女\",data_kyogisha!A61,\"\")","v":""},0,{"$f":"IF(AND(F70=\"男\",Q70=\"○\"),③選手情報入力!B70,0)","v":0},0,{"$f":"IF(AND(F70=\"男\",S70=\"○\"),③選手情報入力!B70,0)","v":0},0,0,0,0]
[61,null,{"$f":"IF(B71=\"\",\"\",VLOOKUP(③選手情報入力!B71,①データ貼付け!D:F,2,0))","v":""},{"$f":"IF(B71=\"\",\"\",VLOOKUP(B71,①データ貼付け!D:F,3,0))","v":""},null,{"$f":"IF(B71=\"\",\"\",VLOOKUP(B71,Sheet2!A:H,2,0))","v":""},{"$f":"IF(B71=\"\",\"\",VLOOKUP(B71,Sheet2!A:H,8,0))","v":""},null,null,null,null,null,null,null,null,null,null,null,null,null,null,null,null,null,null,null,"","","","","",{"$f":"IF(F71=\"男\",data_kyogisha!A62,\"\")","v":""},"","","","","",{"$f":"IF(F71=\"女\",data_kyogisha!A62,\"\")","v":""},0,{"$f":"IF(AND(F71=\"男\",Q71=\"○\"),③選手情報入力!B71,0)","v":0},0,{"$f":"IF(AND(F71=\"男\",S71=\"○\"),③選手情報入力!B71,0)","v":0},0,0,0,0]
[62,null,{"$f":"IF(B72=\"\",\"\",VLOOKUP(③選手情報入力!B72,①データ貼付け!D:F,2,0))","v":""},{"$f":"IF(B72=\"\",\"\",VLOOKUP(B72,①データ貼付け!D:F,3,0))","v":""},null,{"$f":"IF(B72=\"\",\"\",VLOOKUP(B72,Sheet2!A:H,2,0))","v":""},{"$f":"IF(B72=\"\",\"\",VLOOKUP(B72,Sheet2!A:H,8,0))","v":""},null,null,null,null,null,null,null,null,null,null,null,null,null,null,null,null,null,null,null,"","","","","",{"$f":"IF(F72=\"男\",data_kyogisha!A63,\"\")","v":""},"","","","","",{"$f":"IF(F72=\"女\",data_kyogisha!A63,\"\")","v":""},0,{"$f":"IF(AND(F72=\"男\",Q72=\"○\"),③選手情報入力!B72,0)","v":0},0,{"$f":"IF(AND(F72=\"男\",S72=\"○\"),③選手情報入力!B72,0)","v":0},0,0,0,0]
[63,null,{"$f":"IF(B73=\"\",\"\",VLOOKUP(③選手情報入力!B73,①データ貼付け!D:F,2,0))","v":""},{"$f":"IF(B73=\"\",\"\",VLOOKUP(B73,①データ貼付け!D:F,3,0))","v":""},null,{"$f":"IF(B73=\"\",\"\",VLOOKUP(B73,Sheet2!A:H,2,0))","v":""},{"$f":"IF(B73=\"\",\"\",VLOOKUP(B73,Sheet2!A:H,8,0))","v":""},null,null,null,null,null,null,null,null,null,null,null,null,null,null,null,null,null,null,null,"","","","","",{"$f":"IF(F73=\"男\",data_kyogisha!A64,\"\")","v":""},"","","","","",{"$f":"IF(F73=\"女\",data_kyogisha!A64,\"\")","v":""},0,{"$f":"IF(AND(F73=\"男\",Q73=\"○\"),③選手情報入力!B73,0)","v":0},0,{"$f":"IF(AND(F73=\"男\",S73=\"○\"),③選手情報入力!B73,0)","v":0},0,0,0,0]
[64,null,{"$f":"IF(B74=\"\",\"\",VLOOKUP(③選手情報入力!B74,①データ貼付け!D:F,2,0))","v":""},{"$f":"IF(B74=\"\",\"\",VLOOKUP(B74,①データ貼付け!D:F,3,0))","v":""},null,{"$f":"IF(B74=\"\",\"\",VLOOKUP(B74,Sheet2!A:H,2,0))","v":""},{"$f":"IF(B74=\"\",\"\",VLOOKUP(B74,Sheet2!A:H,8,0))","v":""},null,null,null,null,null,null,null,null,null,null,null,null,null,null,null,null,null,null,null,"","","","","",{"$f":"IF(F74=\"男\",data_kyogisha!A65,\"\")","v":""},"","","","","",{"$f":"IF(F74=\"女\",data_kyogisha!A65,\"\")","v":""},0,{"$f":"IF(AND(F74=\"男\",Q74=\"○\"),③選手情報入力!B74,0)","v":0},0,{"$f":"IF(AND(F74=\"男\",S74=\"○\"),③選手情報入力!B74,0)","v":0},0,0,0,0]
[65,null,{"$f":"IF(B75=\"\",\"\",VLOOKUP(③選手情報入力!B75,①データ貼付け!D:F,2,0))","v":""},{"$f":"IF(B75=\"\",\"\",VLOOKUP(B75,①データ貼付け!D:F,3,0))","v":""},null,{"$f":"IF(B75=\"\",\"\",VLOOKUP(B75,Sheet2!A:H,2,0))","v":""},{"$f":"IF(B75=\"\",\"\",VLOOKUP(B75,Sheet2!A:H,8,0))","v":""},null,null,null,null,null,null,null,null,null,null,null,null,null,null,null,null,null,null,null,"","","","","",{"$f":"IF(F75=\"男\",data_kyogisha!A66,\"\")","v":""},{"$f":"IF(F75=\"女\",B75,\"\")","v":""},{"$f":"IF(F75=\"女\",C75,\"\")","v":""},"",{"$f":"IF(F75=\"女\",F75,\"\")","v":""},"",{"$f":"IF(F75=\"女\",data_kyogisha!A66,\"\")","v":""},0,{"$f":"IF(AND(F75=\"男\",Q75=\"○\"),③選手情報入力!B75,0)","v":0},0,{"$f":"IF(AND(F75=\"男\",S75=\"○\"),③選手情報入力!B75,0)","v":0},0,0,0,0]
[66,null,{"$f":"IF(B76=\"\",\"\",VLOOKUP(③選手情報入力!B76,①データ貼付け!D:F,2,0))","v":""},{"$f":"IF(B76=\"\",\"\",VLOOKUP(B76,①データ貼付け!D:F,3,0))","v":""},null,{"$f":"IF(B76=\"\",\"\",VLOOKUP(B76,Sheet2!A:H,2,0))","v":""},{"$f":"IF(B76=\"\",\"\",VLOOKUP(B76,Sheet2!A:H,8,0))","v":""},null,null,null,null,null,null,null,null,null,null,null,null,null,null,null,null,null,null,null,{"$f":"IF(F76=\"男\",B76,\"\")","v":""},{"$f":"IF(F76=\"男\",C76,\"\")","v":""},{"$f":"IF(F76=\"男\",D76,\"\")","v":""},{"$f":"IF(F76=\"男\",F76,\"\")","v":""},{"$f":"IF(F76=\"男\",IF(G76=\"\",\"\",G76),\"\")","v":""},{"$f":"IF(F76=\"男\",data_kyogisha!A67,\"\")","v":""},"","",{"$f":"IF(F76=\"女\",D76,\"\")","v":""},"",{"$f":"IF(F76=\"女\",IF(G76=\"\",\"\",G76),\"\")","v":""},{"$f":"IF(F76=\"女\",data_kyogisha!A67,\"\")","v":""},0,{"$f":"IF(AND(F76=\"男\",Q76=\"○\"),③選手情報入力!B76,0)","v":0},{"$f":"IF(AND(F76=\"男\",S76=\"○\"),AO75+1,AO75)","v":0},{"$f":"IF(AND(F76=\"男\",S76=\"○\"),③選手情報入力!B76,0)","v":0},0,{"$f":"IF(AND(F76=\"女\",Q76=\"○\"),B76,0)","v":0},{"$f":"IF(AND(F76=\"女\",S76=\"○\"),AS75+1,AS75)","v":0},{"$f":"IF(AND(F76=\"女\",S76=\"○\"),B76,0)","v":0}]
[67,null,{"$f":"IF(B77=\"\",\"\",VLOOKUP(③選手情報入力!B77,①データ貼付け!D:F,2,0))","v":""},{"$f":"IF(B77=\"\",\"\",VLOOKUP(B77,①データ貼付け!D:F,3,0))","v":""},null,{"$f":"IF(B77=\"\",\"\",VLOOKUP(B77,Sheet2!A:H,2,0))","v":""},{"$f":"IF(B77=\"\",\"\",VLOOKUP(B77,Sheet2!A:H,8,0))","v":""},null,null,null,null,null,null,null,null,null,null,null,null,null,null,null,null,null,null,null,"","","","","",{"$f":"IF(F77=\"男\",data_kyogisha!A68,\"\")","v":""},"","","","","",{"$f":"IF(F77=\"女\",data_kyogisha!A68,\"\")","v":""},{"$f":"IF(AND(F77=\"男\",Q77=\"○\"),AM76+1,AM76)","v":0},{"$f":"IF(AND(F77=\"男\",Q77=\"○\"),③選手情報入力!B77,0)","v":0},0,{"$f":"IF(AND(F77=\"男\",S77=\"○\"),③選手情報入力!B77,0)","v":0},{"$f":"IF(AND(F77=\"女\",Q77=\"○\"),AQ76+1,AQ76)","v":0},0,0,0]
[68,null,{"$f":"IF(B78=\"\",\"\",VLOOKUP(③選手情報入力!B78,①データ貼付け!D:F,2,0))","v":""},{"$f":"IF(B78=\"\",\"\",VLOOKUP(B78,①データ貼付け!D:F,3,0))","v":""},null,{"$f":"IF(B78=\"\",\"\",VLOOKUP(B78,Sheet2!A:H,2,0))","v":""},{"$f":"IF(B78=\"\",\"\",VLOOKUP(B78,Sheet2!A:H,8,0))","v":""},null,null,null,null,null,null,null,null,null,null,null,null,null,null,null,null,null,null,null,"","","","","",{"$f":"IF(F78=\"男\",data_kyogisha!A69,\"\")","v":""},"","","","","",{"$f":"IF(F78=\"女\",data_kyogisha!A69,\"\")","v":""},0,{"$f":"IF(AND(F78=\"男\",Q78=\"○\"),③選手情報入力!B78,0)","v":0},0,{"$f":"IF(AND(F78=\"男\",S78=\"○\"),③選手情報入力!B78,0)","v":0},0,0,0,0]
[69,null,{"$f":"IF(B79=\"\",\"\",VLOOKUP(③選手情報入力!B79,①データ貼付け!D:F,2,0))","v":""},{"$f":"IF(B79=\"\",\"\",VLOOKUP(B79,①データ貼付け!D:F,3,0))","v":""},null,{"$f":"IF(B79=\"\",\"\",VLOOKUP(B79,Sheet2!A:H,2,0))","v":""},{"$f":"IF(B79=\"\",\"\",VLOOKUP(B79,Sheet2!A:H,8,0))","v":""},null,null,null,null,null,null,null,null,null,null,null,null,null,null,null,null,null,null,null,"","","","","",{"$f":"IF(F79=\"男\",data_kyogisha!A70,\"\")","v":""},"","","","","",{"$f":"IF(F79=\"女\",data_kyogisha!A70,\"\")","v":""},0,{"$f":"IF(AND(F79=\"男\",Q79=\"○\"),③選手情報入力!B79,0)","v":0},0,{"$f":"IF(AND(F79=\"男\",S79=\"○\"),③選手情報入力!B79,0)","v":0},0,0,0,0]
[70,null,{"$f":"IF(B80=\"\",\"\",VLOOKUP(③選手情報入力!B80,①データ貼付け!D:F,2,0))","v":""},{"$f":"IF(B80=\"\",\"\",VLOOKUP(B80,①データ貼付け!D:F,3,0))","v":""},null,{"$f":"IF(B80=\"\",\"\",VLOOKUP(B80,Sheet2!A:H,2,0))","v":""},{"$f":"IF(B80=\"\",\"\",VLOOKUP(B80,Sheet2!A:H,8,0))","v":""},null,null,null,null,null,null,null,null,null,null,null,null,null,null,null,null,null,null,null,"","","","","",{"$f":"IF(F80=\"男\",data_kyogisha!A71,\"\")","v":""},"","","","","",{"$f":"IF(F80=\"女\",data_kyogisha!A71,\"\")","v":""},0,{"$f":"IF(AND(F80=\"男\",Q80=\"○\"),③選手情報入力!B80,0)","v":0},0,{"$f":"IF(AND(F80=\"男\",S80=\"○\"),③選手情報入力!B80,0)","v":0},0,0,0,0]
[71,null,{"$f":"IF(B81=\"\",\"\",VLOOKUP(③選手情報入力!B81,①データ貼付け!D:F,2,0))","v":""},{"$f":"IF(B81=\"\",\"\",VLOOKUP(B81,①データ貼付け!D:F,3,0))","v":""},null,{"$f":"IF(B81=\"\",\"\",VLOOKUP(B81,Sheet2!A:H,2,0))","v":""},{"$f":"IF(B81=\"\",\"\",VLOOKUP(B81,Sheet2!A:H,8,0))","v":""},null,null,null,null,null,null,null,null,null,null,null,null,null,null,null,null,null,null,null,"","","","","",{"$f":"IF(F81=\"男\",data_kyogisha!A72,\"\")","v":""},"","","","","",{"$f":"IF(F81=\"女\",data_kyogisha!A72,\"\")","v":""},0,{"$f":"IF(AND(F81=\"男\",Q81=\"○\"),③選手情報入力!B81,0)","v":0},0,{"$f":"IF(AND(F81=\"男\",S81=\"○\"),③選手情報入力!B81,0)","v":0},0,0,0,0]
[72,null,{"$f":"IF(B82=\"\",\"\",VLOOKUP(③選手情報入力!B82,①データ貼付け!D:F,2,0))","v":""},{"$f":"IF(B82=\"\",\"\",VLOOKUP(B82,①データ貼付け!D:F,3,0))","v":""},null,{"$f":"IF(B82=\"\",\"\",VLOOKUP(B82,Sheet2!A:H,2,0))","v":""},{"$f":"IF(B82=\"\",\"\",VLOOKUP(B82,Sheet2!A:H,8,0))","v":""},null,null,null,null,null,null,null,null,null,null,null,null,null,null,null,null,null,null,null,"","","","","",{"$f":"IF(F82=\"男\",data_kyogisha!A73,\"\")","v":""},"","","","","",{"$f":"IF(F82=\"女\",data_kyogisha!A73,\"\")","v":""},0,{"$f":"IF(AND(F82=\"男\",Q82=\"○\"),③選手情報入力!B82,0)","v":0},0,{"$f":"IF(AND(F82=\"男\",S82=\"○\"),③選手情報入力!B82,0)","v":0},0,0,0,0]
[73,null,{"$f":"IF(B83=\"\",\"\",VLOOKUP(③選手情報入力!B83,①データ貼付け!D:F,2,0))","v":""},{"$f":"IF(B83=\"\",\"\",VLOOKUP(B83,①データ貼付け!D:F,3,0))","v":""},null,{"$f":"IF(B83=\"\",\"\",VLOOKUP(B83,Sheet2!A:H,2,0))","v":""},{"$f":"IF(B83=\"\",\"\",VLOOKUP(B83,Sheet2!A:H,8,0))","v":""},null,null,null,null,null,null,null,null,null,null,null,null,null,null,null,null,null,null,null,"","","","","",{"$f":"IF(F83=\"男\",data_kyogisha!A74,\"\")","v":""},"","","","","",{"$f":"IF(F83=\"女\",data_kyogisha!A74,\"\")","v":""},0,{"$f":"IF(AND(F83=\"男\",Q83=\"○\"),③選手情報入力!B83,0)","v":0},0,{"$f":"IF(AND(F83=\"男\",S83=\"○\"),③選手情報入力!B83,0)","v":0},0,0,0,0]
[74,null,{"$f":"IF(B84=\"\",\"\",VLOOKUP(③選手情報入力!B84,①データ貼付け!D:F,2,0))","v":""},{"$f":"IF(B84=\"\",\"\",VLOOKUP(B84,①データ貼付け!D:F,3,0))","v":""},null,{"$f":"IF(B84=\"\",\"\",VLOOKUP(B84,Sheet2!A:H,2,0))","v":""},{"$f":"IF(B84=\"\",\"\",VLOOKUP(B84,Sheet2!A:H,8,0))","v":""},null,null,null,null,null,null,null,null,null,null,null,null,null,null,null,null,null,null,null,"","","","","",{"$f":"IF(F84=\"男\",data_kyogisha!A75,\"\")","v":""},"","","","","",{"$f":"IF(F84=\"女\",data_kyogisha!A75,\"\")","v":""},0,{"$f":"IF(AND(F84=\"男\",Q84=\"○\"),③選手情報入力!B84,0)","v":0},0,{"$f":"IF(AND(F84=\"男\",S84=\"○\"),③選手情報入力!B84,0)","v":0},0,0,0,0]
[75,null,{"$f":"IF(B85=\"\",\"\",VLOOKUP(③選手情報入力!B85,①データ貼付け!D:F,2,0))","v":""},{"$f":"IF(B85=\"\",\"\",VLOOKUP(B85,①データ貼付け!D:F,3,0))","v":""},null,{"$f":"IF(B85=\"\",\"\",VLOOKUP(B85,Sheet2!A:H,2,0))","v":""},{"$f":"IF(B85=\"\",\"\",VLOOKUP(B85,Sheet2!A:H,8,0))","v":""},null,null,null,null,null,null,null,null,null,null,null,null,null,null,null,null,null,null,null,"","","","","",{"$f":"IF(F85=\"男\",data_kyogisha!A76,\"\")","v":""},"","","","","",{"$f":"IF(F85=\"女\",data_kyogisha!A76,\"\")","v":""},0,{"$f":"IF(AND(F85=\"男\",Q85=\"○\"),③選手情報入力!B85,0)","v":0},0,{"$f":"IF(AND(F85=\"男\",S85=\"○\"),③選手情報入力!B85,0)","v":0},0,0,0,0]
[76,null,{"$f":"IF(B86=\"\",\"\",VLOOKUP(③選手情報入力!B86,①データ貼付け!D:F,2,0))","v":""},{"$f":"IF(B86=\"\",\"\",VLOOKUP(B86,①データ貼付け!D:F,3,0))","v":""},null,{"$f":"IF(B86=\"\",\"\",VLOOKUP(B86,Sheet2!A:H,2,0))","v":""},{"$f":"IF(B86=\"\",\"\",VLOOKUP(B86,Sheet2!A:H,8,0))","v":""},null,null,null,null,null,null,null,null,null,null,null,null,null,null,null,null,null,null,null,"","","","","",{"$f":"IF(F86=\"男\",data_kyogisha!A77,\"\")","v":""},"","","","","",{"$f":"IF(F86=\"女\",data_kyogisha!A77,\"\")","v":""},0,{"$f":"IF(AND(F86=\"男\",Q86=\"○\"),③選手情報入力!B86,0)","v":0},0,{"$f":"IF(AND(F86=\"男\",S86=\"○\"),③選手情報入力!B86,0)","v":0},0,0,0,0]
[77,null,{"$f":"IF(B87=\"\",\"\",VLOOKUP(③選手情報入力!B87,①データ貼付け!D:F,2,0))","v":""},{"$f":"IF(B87=\"\",\"\",VLOOKUP(B87,①データ貼付け!D:F,3,0))","v":""},null,{"$f":"IF(B87=\"\",\"\",VLOOKUP(B87,Sheet2!A:H,2,0))","v":""},{"$f":"IF(B87=\"\",\"\",VLOOKUP(B87,Sheet2!A:H,8,0))","v":""},null,null,null,null,null,null,null,null,null,null,null,null,null,null,null,null,null,null,null,"","","","","",{"$f":"IF(F87=\"男\",data_kyogisha!A78,\"\")","v":""},"","","","","",{"$f":"IF(F87=\"女\",data_kyogisha!A78,\"\")","v":""},0,{"$f":"IF(AND(F87=\"男\",Q87=\"○\"),③選手情報入力!B87,0)","v":0},0,{"$f":"IF(AND(F87=\"男\",S87=\"○\"),③選手情報入力!B87,0)","v":0},0,0,0,0]
[78,null,{"$f":"IF(B88=\"\",\"\",VLOOKUP(③選手情報入力!B88,①データ貼付け!D:F,2,0))","v":""},{"$f":"IF(B88=\"\",\"\",VLOOKUP(B88,①データ貼付け!D:F,3,0))","v":""},null,{"$f":"IF(B88=\"\",\"\",VLOOKUP(B88,Sheet2!A:H,2,0))","v":""},{"$f":"IF(B88=\"\",\"\",VLOOKUP(B88,Sheet2!A:H,8,0))","v":""},null,null,null,null,null,null,null,null,null,null,null,null,null,null,null,null,null,null,null,"","","","","",{"$f":"IF(F88=\"男\",data_kyogisha!A79,\"\")","v":""},"","","","","",{"$f":"IF(F88=\"女\",data_kyogisha!A79,\"\")","v":""},0,{"$f":"IF(AND(F88=\"男\",Q88=\"○\"),③選手情報入力!B88,0)","v":0},0,{"$f":"IF(AND(F88=\"男\",S88=\"○\"),③選手情報入力!B88,0)","v":0},0,0,0,0]
[79,null,{"$f":"IF(B89=\"\",\"\",VLOOKUP(③選手情報入力!B89,①データ貼付け!D:F,2,0))","v":""},{"$f":"IF(B89=\"\",\"\",VLOOKUP(B89,①データ貼付け!D:F,3,0))","v":""},null,{"$f":"IF(B89=\"\",\"\",VLOOKUP(B89,Sheet2!A:H,2,0))","v":""},{"$f":"IF(B89=\"\",\"\",VLOOKUP(B89,Sheet2!A:H,8,0))","v":""},null,null,null,null,null,null,null,null,null,null,null,null,null,null,null,null,null,null,null,"","","","","",{"$f":"IF(F89=\"男\",data_kyogisha!A80,\"\")","v":""},"","","","","",{"$f":"IF(F89=\"女\",data_kyogisha!A80,\"\")","v":""},0,{"$f":"IF(AND(F89=\"男\",Q89=\"○\"),③選手情報入力!B89,0)","v":0},0,{"$f":"IF(AND(F89=\"男\",S89=\"○\"),③選手情報入力!B89,0)","v":0},0,0,0,0]
[80,null,{"$f":"IF(B90=\"\",\"\",VLOOKUP(③選手情報入力!B90,①データ貼付け!D:F,2,0))","v":""},{"$f":"IF(B90=\"\",\"\",VLOOKUP(B90,①データ貼付け!D:F,3,0))","v":""},null,{"$f":"IF(B90=\"\",\"\",VLOOKUP(B90,Sheet2!A:H,2,0))","v":""},{"$f":"IF(B90=\"\",\"\",VLOOKUP(B90,Sheet2!A:H,8,0))","v":""},null,null,null,null,null,null,null,null,null,null,null,null,null,null,null,null,null,null,null,"","","","","",{"$f":"IF(F90=\"男\",data_kyogisha!A81,\"\")","v":""},"","","","","",{"$f":"IF(F90=\"女\",data_kyogisha!A81,\"\")","v":""},0,{"$f":"IF(AND(F90=\"男\",Q90=\"○\"),③選手情報入力!B90,0)","v":0},0,{"$f":"IF(AND(F90=\"男\",S90=\"○\"),③選手情報入力!B90,0)","v":0},0,0,0,0]
[81,null,{"$f":"IF(B91=\"\",\"\",VLOOKUP(③選手情報入力!B91,①データ貼付け!D:F,2,0))","v":""},{"$f":"IF(B91=\"\",\"\",VLOOKUP(B91,①データ貼付け!D:F,3,0))","v":""},null,{"$f":"IF(B91=\"\",\"\",VLOOKUP(B91,Sheet2!A:H,2,0))","v":""},{"$f":"IF(B91=\"\",\"\",VLOOKUP(B91,Sheet2!A:H,8,0))","v":""},null,null,null,null,null,null,null,null,null,null,null,null,null,null,null,null,null,null,null,"","","","","",{"$f":"IF(F91=\"男\",data_kyogisha!A82,\"\")","v":""},"","","","","",{"$f":"IF(F91=\"女\",data_kyogisha!A82,\"\")","v":""},0,{"$f":"IF(AND(F91=\"男\",Q91=\"○\"),③選手情報入力!B91,0)","v":0},0,{"$f":"IF(AND(F91=\"男\",S91=\"○\"),③選手情報入力!B91,0)","v":0},0,0,0,0]
[82,null,{"$f":"IF(B92=\"\",\"\",VLOOKUP(③選手情報入力!B92,①データ貼付け!D:F,2,0))","v":""},{"$f":"IF(B92=\"\",\"\",VLOOKUP(B92,①データ貼付け!D:F,3,0))","v":""},null,{"$f":"IF(B92=\"\",\"\",VLOOKUP(B92,Sheet2!A:H,2,0))","v":""},{"$f":"IF(B92=\"\",\"\",VLOOKUP(B92,Sheet2!A:H,8,0))","v":""},null,null,null,null,null,null,null,null,null,null,null,null,null,null,null,null,null,null,null,"","","","","",{"$f":"IF(F92=\"男\",data_kyogisha!A83,\"\")","v":""},"","","","","",{"$f":"IF(F92=\"女\",data_kyogisha!A83,\"\")","v":""},0,{"$f":"IF(AND(F92=\"男\",Q92=\"○\"),③選手情報入力!B92,0)","v":0},0,{"$f":"IF(AND(F92=\"男\",S92=\"○\"),③選手情報入力!B92,0)","v":0},0,0,0,0]
[83,null,{"$f":"IF(B93=\"\",\"\",VLOOKUP(③選手情報入力!B93,①データ貼付け!D:F,2,0))","v":""},{"$f":"IF(B93=\"\",\"\",VLOOKUP(B93,①データ貼付け!D:F,3,0))","v":""},null,{"$f":"IF(B93=\"\",\"\",VLOOKUP(B93,Sheet2!A:H,2,0))","v":""},{"$f":"IF(B93=\"\",\"\",VLOOKUP(B93,Sheet2!A:H,8,0))","v":""},null,null,null,null,null,null,null,null,null,null,null,null,null,null,null,null,null,null,null,"","","","","",{"$f":"IF(F93=\"男\",data_kyogisha!A84,\"\")","v":""},"","","","","",{"$f":"IF(F93=\"女\",data_kyogisha!A84,\"\")","v":""},0,{"$f":"IF(AND(F93=\"男\",Q93=\"○\"),③選手情報入力!B93,0)","v":0},0,{"$f":"IF(AND(F93=\"男\",S93=\"○\"),③選手情報入力!B93,0)","v":0},0,0,0,0]
[84,null,{"$f":"IF(B94=\"\",\"\",VLOOKUP(③選手情報入力!B94,①データ貼付け!D:F,2,0))","v":""},{"$f":"IF(B94=\"\",\"\",VLOOKUP(B94,①データ貼付け!D:F,3,0))","v":""},null,{"$f":"IF(B94=\"\",\"\",VLOOKUP(B94,Sheet2!A:H,2,0))","v":""},{"$f":"IF(B94=\"\",\"\",VLOOKUP(B94,Sheet2!A:H,8,0))","v":""},null,null,null,null,null,null,null,null,null,null,null,null,null,null,null,null,null,null,null,"","","","","",{"$f":"IF(F94=\"男\",data_kyogisha!A85,\"\")","v":""},"","","","","",{"$f":"IF(F94=\"女\",data_kyogisha!A85,\"\")","v":""},0,{"$f":"IF(AND(F94=\"男\",Q94=\"○\"),③選手情報入力!B94,0)","v":0},0,{"$f":"IF(AND(F94=\"男\",S94=\"○\"),③選手情報入力!B94,0)","v":0},0,0,0,0]
[85,null,{"$f":"IF(B95=\"\",\"\",VLOOKUP(③選手情報入力!B95,①データ貼付け!D:F,2,0))","v":""},{"$f":"IF(B95=\"\",\"\",VLOOKUP(B95,①データ貼付け!D:F,3,0))","v":""},null,{"$f":"IF(B95=\"\",\"\",VLOOKUP(B95,Sheet2!A:H,2,0))","v":""},{"$f":"IF(B95=\"\",\"\",VLOOKUP(B95,Sheet2!A:H,8,0))","v":""},null,null,null,null,null,null,null,null,null,null,null,null,null,null,null,null,null,null,null,"","","","","",{"$f":"IF(F95=\"男\",data_kyogisha!A86,\"\")","v":""},"","","","","",{"$f":"IF(F95=\"女\",data_kyogisha!A86,\"\")","v":""},0,{"$f":"IF(AND(F95=\"男\",Q95=\"○\"),③選手情報入力!B95,0)","v":0},0,{"$f":"IF(AND(F95=\"男\",S95=\"○\"),③選手情報入力!B95,0)","v":0},0,0,0,0]
[86,null,{"$f":"IF(B96=\"\",\"\",VLOOKUP(③選手情報入力!B96,①データ貼付け!D:F,2,0))","v":""},{"$f":"IF(B96=\"\",\"\",VLOOKUP(B96,①データ貼付け!D:F,3,0))","v":""},null,{"$f":"IF(B96=\"\",\"\",VLOOKUP(B96,Sheet2!A:H,2,0))","v":""},{"$f":"IF(B96=\"\",\"\",VLOOKUP(B96,Sheet2!A:H,8,0))","v":""},null,null,null,null,null,null,null,null,null,null,null,null,null,null,null,null,null,null,null,"","","","","",{"$f":"IF(F96=\"男\",data_kyogisha!A87,\"\")","v":""},"","","","","",{"$f":"IF(F96=\"女\",data_kyogisha!A87,\"\")","v":""},0,{"$f":"IF(AND(F96=\"男\",Q96=\"○\"),③選手情報入力!B96,0)","v":0},0,{"$f":"IF(AND(F96=\"男\",S96=\"○\"),③選手情報入力!B96,0)","v":0},0,0,0,0]
[87,null,{"$f":"IF(B97=\"\",\"\",VLOOKUP(③選手情報入力!B97,①データ貼付け!D:F,2,0))","v":""},{"$f":"IF(B97=\"\",\"\",VLOOKUP(B97,①データ貼付け!D:F,3,0))","v":""},null,{"$f":"IF(B97=\"\",\"\",VLOOKUP(B97,Sheet2!A:H,2,0))","v":""},{"$f":"IF(B97=\"\",\"\",VLOOKUP(B97,Sheet2!A:H,8,0))","v":""},null,null,null,null,null,null,null,null,null,null,null,null,null,null,null,null,null,null,null,"","","","","",{"$f":"IF(F97=\"男\",data_kyogisha!A88,\"\")","v":""},"","","","","",{"$f":"IF(F97=\"女\",data_kyogisha!A88,\"\")","v":""},0,{"$f":"IF(AND(F97=\"男\",Q97=\"○\"),③選手情報入力!B97,0)","v":0},0,{"$f":"IF(AND(F97=\"男\",S97=\"○\"),③選手情報入力!B97,0)","v":0},0,0,0,0]
[88,null,{"$f":"IF(B98=\"\",\"\",VLOOKUP(③選手情報入力!B98,①データ貼付け!D:F,2,0))","v":""},{"$f":"IF(B98=\"\",\"\",VLOOKUP(B98,①データ貼付け!D:F,3,0))","v":""},null,{"$f":"IF(B98=\"\",\"\",VLOOKUP(B98,Sheet2!A:H,2,0))","v":""},{"$f":"IF(B98=\"\",\"\",VLOOKUP(B98,Sheet2!A:H,8,0))","v":""},null,null,null,null,null,null,null,null,null,null,null,null,null,null,null,null,null,null,null,"","","","","",{"$f":"IF(F98=\"男\",data_kyogisha!A89,\"\")","v":""},"","","","","",{"$f":"IF(F98=\"女\",data_kyogisha!A89,\"\")","v":""},0,{"$f":"IF(AND(F98=\"男\",Q98=\"○\"),③選手情報入力!B98,0)","v":0},0,{"$f":"IF(AND(F98=\"男\",S98=\"○\"),③選手情報入力!B98,0)","v":0},0,0,0,0]
[89,null,{"$f":"IF(B99=\"\",\"\",VLOOKUP(③選手情報入力!B99,①データ貼付け!D:F,2,0))","v":""},{"$f":"IF(B99=\"\",\"\",VLOOKUP(B99,①データ貼付け!D:F,3,0))","v":""},null,{"$f":"IF(B99=\"\",\"\",VLOOKUP(B99,Sheet2!A:H,2,0))","v":""},{"$f":"IF(B99=\"\",\"\",VLOOKUP(B99,Sheet2!A:H,8,0))","v":""},null,null,null,null,null,null,null,null,null,null,null,null,null,null,null,null,null,null,null,"","","","","",{"$f":"IF(F99=\"男\",data_kyogisha!A90,\"\")","v":""},"","","","","",{"$f":"IF(F99=\"女\",data_kyogisha!A90,\"\")","v":""},0,{"$f":"IF(AND(F99=\"男\",Q99=\"○\"),③選手情報入力!B99,0)","v":0},0,{"$f":"IF(AND(F99=\"男\",S99=\"○\"),③選手情報入力!B99,0)","v":0},0,0,0,0]
[90,null,{"$f":"IF(B100=\"\",\"\",VLOOKUP(③選手情報入力!B100,①データ貼付け!D:F,2,0))","v":""},{"$f":"IF(B100=\"\",\"\",VLOOKUP(B100,①データ貼付け!D:F,3,0))","v":""},null,{"$f":"IF(B100=\"\",\"\",VLOOKUP(B100,Sheet2!A:H,2,0))","v":""},{"$f":"IF(B100=\"\",\"\",VLOOKUP(B100,Sheet2!A:H,8,0))","v":""},null,null,null,null,null,null,null,null,null,null,null,null,null,null,null,null,null,null,null,"","","","","",{"$f":"IF(F100=\"男\",data_kyogisha!A91,\"\")","v":""},"","","","","",{"$f":"IF(F100=\"女\",data_kyogisha!A91,\"\")","v":""},0,{"$f":"IF(AND(F100=\"男\",Q100=\"○\"),③選手情報入力!B100,0)","v":0},0,{"$f":"IF(AND(F100=\"男\",S100=\"○\"),③選手情報入力!B100,0)","v":0},0,0,0,0]
[null,null,null,null,"種目計",{"$f":"SUM(I101:O101)","v":0},null,null,{"$f":"COUNTA(I11:I100)","v":0},null,null,{"$f":"COUNTA(L11:L100)","v":0},null,null,{"$f":"COUNTA(O11:O100)","v":0}]
[null,null,null,null,"リレー計",{"$f":"④リレー情報確認!F14+④リレー情報確認!L14+④リレー情報確認!R14+④リレー情報確認!X14","v":0}]
[null,null,null,null,"男",{"$f":"COUNTIF(F11:F100,\"男\")","v":0}]
[null,null,null,null,"女",{"$f":"COUNTIF(F11:F100,\"女\")","v":0}]
[null,null,null,null,"男女計",{"$f":"SUM(F103:F104)","v":0}]

{"sheet":"④リレー情報確認","index":4,"n_rows":14,"n_cols":24,"rows_kept":14,"cut":false,"hidden":false,"merged":[[0,9,0,11],[7,17,12,17],[7,5,12,5],[5,1,5,5],[7,23,12,23],[5,13,5,17],[5,19,5,23],[5,7,5,11],[7,11,12,11],[0,15,0,17]]}
["④リレー情報確認",null,null,null,null,null,null,null,"チーム名 ",{"$f":"IF(②団体情報入力!D5=\"\",\"\",②団体情報入力!D5)","v":""},null,null,null,null,"ｶﾅ",{"$f":"IF(②団体情報入力!D6=\"\",\"\",②団体情報入力!D6)","v":""}]
[]
[null,null,"※リレーにエントリーをする選手とチームの記録を確認してください。"]
[null,null,"※修正をする場合は「②選手情報入力」で修正してください。"]
[]
[null,"男4X100mR",null,null,null,null,null,"男4X400mR",null,null,null,null,null,"女4X100mR",null,null,null,null,null,"女4X400mR"]
[null,"Ord","ﾅﾝﾊﾞｰ","氏　名","競技者NO","記録",null,"Ord","ﾅﾝﾊﾞｰ","氏　名","競技者NO","記録",null,"Ord","ﾅﾝﾊﾞｰ","氏　名","競技者NO","記録",null,"Ord","ﾅﾝﾊﾞｰ","氏　名","競技者NO","記録"]
[null,1,{"$f":"IF(③選手情報入力!$AN$10<1,\"\",VLOOKUP(B8,③選手情報入力!$AM$11:$AN$100,2,FALSE))","v":""},{"$f":"IF(C8=\"\",\"\",VLOOKUP(C8,③選手情報入力!$AA$11:$AB$100,2,FALSE))","v":""},{"$f":"IF(C8=\"\",\"\",VLOOKUP(C8,③選手情報入力!$AA$11:$AG$100,6,FALSE))","v":""},{"$f":"IF(③選手情報入力!R6=\"\",\"\",③選手情報入力!R6)","v":""},null,1,{"$f":"IF(③選手情報入力!$AP$10<1,\"\",VLOOKUP(H8,③選手情報入力!$AO$11:$AP$100,2,FALSE))","v":""},{"$f":"IF(I8=\"\",\"\",VLOOKUP(I8,③選手情報入力!$AA$11:$AB$100,2,FALSE))","v":""},{"$f":"IF(I8=\"\",\"\",VLOOKUP(I8,③選手情報入力!$AA$11:$AG$100,6,FALSE))","v":""},{"$f":"IF(③選手情報入力!T6=\"\",\"\",③選手情報入力!T6)","v":""},null,1,{"$f":"IF(③選手情報入力!$AR$10<1,\"\",VLOOKUP(N8,③選手情報入力!$AQ$11:$AR$100,2,FALSE))","v":""},{"$f":"IF(O8=\"\",\"\",VLOOKUP(O8,③選手情報入力!$AG$11:$AH$100,2,FALSE))","v":""},{"$f":"IF(O8=\"\",\"\",VLOOKUP(O8,③選手情報入力!$AG$11:$AN$100,6,FALSE))","v":""},{"$f":"IF(③選手情報入力!R7=\"\",\"\",③選手情報入力!R7)","v":""},null,1,{"$f":"IF(③選手情報入力!$AT$10<1,\"\",VLOOKUP(T8,③選手情報入力!$AS$11:$AT$100,2,FALSE))","v":""},{"$f":"IF(U8=\"\",\"\",VLOOKUP(U8,③選手情報入力!$AG$11:$AH$100,2,FALSE))","v":""},{"$f":"IF(U8=\"\",\"\",VLOOKUP(U8,③選手情報入力!$AG$11:$AN$100,6,FALSE))","v":""},{"$f":"IF(③選手情報入力!T7=\"\",\"\",③選手情報入力!T7)","v":""}]
[null,2,{"$f":"IF(③選手情報入力!$AN$10<1,\"\",VLOOKUP(B9,③選手情報入力!$AM$11:$AN$100,2,FALSE))","v":""},{"$f":"IF(C9=\"\",\"\",VLOOKUP(C9,③選手情報入力!$AA$11:$AB$100,2,FALSE))","v":""},{"$f":"IF(C9=\"\",\"\",VLOOKUP(C9,③選手情報入力!$AA$11:$AG$100,6,FALSE))","v":""},null,null,2,{"$f":"IF(③選手情報入力!$AP$10<2,\"\",VLOOKUP(H9,③選手情報入力!$AO$11:$AP$100,2,FALSE))","v":""},{"$f":"IF(I9=\"\",\"\",VLOOKUP(I9,③選手情報入力!$AA$11:$AB$100,2,FALSE))","v":""},{"$f":"IF(I9=\"\",\"\",VLOOKUP(I9,③選手情報入力!$AA$11:$AG$100,6,FALSE))","v":""},null,null,2,{"$f":"IF(③選手情報入力!$AR$10<2,\"\",VLOOKUP(N9,③選手情報入力!$AQ$11:$AR$100,2,FALSE))","v":""},{"$f":"IF(O9=\"\",\"\",VLOOKUP(O9,③選手情報入力!$AG$11:$AH$100,2,FALSE))","v":""},{"$f":"IF(O9=\"\",\"\",VLOOKUP(O9,③選手情報入力!$AG$11:$AN$100,6,FALSE))","v":""},null,null,2,{"$f":"IF(③選手情報入力!$AT$10<2,\"\",VLOOKUP(T9,③選手情報入力!$AS$11:$AT$100,2,FALSE))","v":""},{"$f":"IF(U9=\"\",\"\",VLOOKUP(U9,③選手情報入力!$AG$11:$AH$100,2,FALSE))","v":""},{"$f":"IF(U9=\"\",\"\",VLOOKUP(U9,③選手情報入力!$AG$11:$AN$100,6,FALSE))","v":""}]
[null,3,{"$f":"IF(③選手情報入力!$AN$10<1,\"\",VLOOKUP(B10,③選手情報入力!$AM$11:$AN$100,2,FALSE))","v":""},{"$f":"IF(C10=\"\",\"\",VLOOKUP(C10,③選手情報入力!$AA$11:$AB$100,2,FALSE))","v":""},{"$f":"IF(C10=\"\",\"\",VLOOKUP(C10,③選手情報入力!$AA$11:$AG$100,6,FALSE))","v":""},null,null,3,{"$f":"IF(③選手情報入力!$AP$10<3,\"\",VLOOKUP(H10,③選手情報入力!$AO$11:$AP$100,2,FALSE))","v":""},{"$f":"IF(I10=\"\",\"\",VLOOKUP(I10,③選手情報入力!$AA$11:$AB$100,2,FALSE))","v":""},{"$f":"IF(I10=\"\",\"\",VLOOKUP(I10,③選手情報入力!$AA$11:$AG$100,6,FALSE))","v":""},null,null,3,{"$f":"IF(③選手情報入力!$AR$10<3,\"\",VLOOKUP(N10,③選手情報入力!$AQ$11:$AR$100,2,FALSE))","v":""},{"$f":"IF(O10=\"\",\"\",VLOOKUP(O10,③選手情報入力!$AG$11:$AH$100,2,FALSE))","v":""},{"$f":"IF(O10=\"\",\"\",VLOOKUP(O10,③選手情報入力!$AG$11:$AN$100,6,FALSE))","v":""},null,null,3,{"$f":"IF(③選手情報入力!$AT$10<3,\"\",VLOOKUP(T10,③選手情報入力!$AS$11:$AT$100,2,FALSE))","v":""},{"$f":"IF(U10=\"\",\"\",VLOOKUP(U10,③選手情報入力!$AG$11:$AH$100,2,FALSE))","v":""},{"$f":"IF(U10=\"\",\"\",VLOOKUP(U10,③選手情報入力!$AG$11:$AN$100,6,FALSE))","v":""}]
[null,4,{"$f":"IF(③選手情報入力!$AN$10<1,\"\",VLOOKUP(B11,③選手情報入力!$AM$11:$AN$100,2,FALSE))","v":""},{"$f":"IF(C11=\"\",\"\",VLOOKUP(C11,③選手情報入力!$AA$11:$AB$100,2,FALSE))","v":""},{"$f":"IF(C11=\"\",\"\",VLOOKUP(C11,③選手情報入力!$AA$11:$AG$100,6,FALSE))","v":""},null,null,4,{"$f":"IF(③選手情報入力!$AP$10<4,\"\",VLOOKUP(H11,③選手情報入力!$AO$11:$AP$100,2,FALSE))","v":""},{"$f":"IF(I11=\"\",\"\",VLOOKUP(I11,③選手情報入力!$AA$11:$AB$100,2,FALSE))","v":""},{"$f":"IF(I11=\"\",\"\",VLOOKUP(I11,③選手情報入力!$AA$11:$AG$100,6,FALSE))","v":""},null,null,4,{"$f":"IF(③選手情報入力!$AR$10<4,\"\",VLOOKUP(N11,③選手情報入力!$AQ$11:$AR$100,2,FALSE))","v":""},{"$f":"IF(O11=\"\",\"\",VLOOKUP(O11,③選手情報入力!$AG$11:$AH$100,2,FALSE))","v":""},{"$f":"IF(O11=\"\",\"\",VLOOKUP(O11,③選手情報入力!$AG$11:$AN$100,6,FALSE))","v":""},null,null,4,{"$f":"IF(③選手情報入力!$AT$10<4,\"\",VLOOKUP(T11,③選手情報入力!$AS$11:$AT$100,2,FALSE))","v":""},{"$f":"IF(U11=\"\",\"\",VLOOKUP(U11,③選手情報入力!$AG$11:$AH$100,2,FALSE))","v":""},{"$f":"IF(U11=\"\",\"\",VLOOKUP(U11,③選手情報入力!$AG$11:$AN$100,6,FALSE))","v":""}]
[null,5,{"$f":"IF(③選手情報入力!$AN$10<1,\"\",VLOOKUP(B12,③選手情報入力!$AM$11:$AN$100,2,FALSE))","v":""},{"$f":"IF(C12=\"\",\"\",VLOOKUP(C12,③選手情報入力!$AA$11:$AB$100,2,FALSE))","v":""},{"$f":"IF(C12=\"\",\"\",VLOOKUP(C12,③選手情報入力!$AA$11:$AG$100,6,FALSE))","v":""},null,null,5,{"$f":"IF(③選手情報入力!$AP$10<5,\"\",VLOOKUP(H12,③選手情報入力!$AO$11:$AP$100,2,FALSE))","v":""},{"$f":"IF(I12=\"\",\"\",VLOOKUP(I12,③選手情報入力!$AA$11:$AB$100,2,FALSE))","v":""},{"$f":"IF(I12=\"\",\"\",VLOOKUP(I12,③選手情報入力!$AA$11:$AG$100,6,FALSE))","v":""},null,null,5,{"$f":"IF(③選手情報入力!$AR$10<5,\"\",VLOOKUP(N12,③選手情報入力!$AQ$11:$AR$100,2,FALSE))","v":""},{"$f":"IF(O12=\"\",\"\",VLOOKUP(O12,③選手情報入力!$AG$11:$AH$100,2,FALSE))","v":""},{"$f":"IF(O12=\"\",\"\",VLOOKUP(O12,③選手情報入力!$AG$11:$AN$100,6,FALSE))","v":""},null,null,5,{"$f":"IF(③選手情報入力!$AT$10<5,\"\",VLOOKUP(T12,③選手情報入力!$AS$11:$AT$100,2,FALSE))","v":""},{"$f":"IF(U12=\"\",\"\",VLOOKUP(U12,③選手情報入力!$AG$11:$AH$100,2,FALSE))","v":""},{"$f":"IF(U12=\"\",\"\",VLOOKUP(U12,③選手情報入力!$AG$11:$AN$100,6,FALSE))","v":""}]
[null,6,{"$f":"IF(③選手情報入力!$AN$10<1,\"\",VLOOKUP(B13,③選手情報入力!$AM$11:$AN$100,2,FALSE))","v":""},{"$f":"IF(C13=\"\",\"\",VLOOKUP(C13,③選手情報入力!$AA$11:$AB$100,2,FALSE))","v":""},{"$f":"IF(C13=\"\",\"\",VLOOKUP(C13,③選手情報入力!$AA$11:$AG$100,6,FALSE))","v":""},null,null,6,{"$f":"IF(③選手情報入力!$AP$10<6,\"\",VLOOKUP(H13,③選手情報入力!$AO$11:$AP$100,2,FALSE))","v":""},{"$f":"IF(I13=\"\",\"\",VLOOKUP(I13,③選手情報入力!$AA$11:$AB$100,2,FALSE))","v":""},{"$f":"IF(I13=\"\",\"\",VLOOKUP(I13,③選手情報入力!$AA$11:$AG$100,6,FALSE))","v":""},null,null,6,{"$f":"IF(③選手情報入力!$AR$10<6,\"\",VLOOKUP(N13,③選手情報入力!$AQ$11:$AR$100,2,FALSE))","v":""},{"$f":"IF(O13=\"\",\"\",VLOOKUP(O13,③選手情報入力!$AG$11:$AH$100,2,FALSE))","v":""},{"$f":"IF(O13=\"\",\"\",VLOOKUP(O13,③選手情報入力!$AG$11:$AN$100,6,FALSE))","v":""},null,null,6,{"$f":"IF(③選手情報入力!$AT$10<6,\"\",VLOOKUP(T13,③選手情報入力!$AS$11:$AT$100,2,FALSE))","v":""},{"$f":"IF(U13=\"\",\"\",VLOOKUP(U13,③選手情報入力!$AG$11:$AH$100,2,FALSE))","v":""},{"$f":"IF(U13=\"\",\"\",VLOOKUP(U13,③選手情報入力!$AG$11:$AN$100,6,FALSE))","v":""}]
[null,null,null,"申込チーム数",null,{"$f":"IF(③選手情報入力!AN10>=4,1,0)","v":0},null,null,null,"申込チーム数",null,{"$f":"IF(③選手情報入力!AP10>=4,1,0)","v":0},null,null,null,"申込チーム数",null,{"$f":"IF(③選手情報入力!AR10>=4,1,0)","v":0},null,null,null,"申込チーム数",null,{"$f":"IF(③選手情報入力!AT10>=4,1,0)","v":0}]

{"sheet":"⑤種目別人数","index":5,"n_rows":44,"n_cols":14,"rows_kept":44,"cut":false,"hidden":false,"merged":[[32,2,32,3],[23,2,23,3],[24,2,24,3],[41,1,41,4],[38,2,38,3],[35,2,35,3],[34,2,34,3],[21,2,21,3],[22,2,22,3],[43,5,43,6],[36,1,36,2],[36,5,36,6],[26,2,26,3],[27,2,27,3],[28,2,28,3],[29,2,29,3],[25,2,25,3],[30,2,30,3],[31,2,31,3],[43,2,43,4],[37,2,37,3],[42,2,42,4],[33,2,33,3],[12,2,12,3],[13,2,13,3],[14,2,14,3],[15,2,15,3],[16,2,16,3],[19,2,19,3],[20,2,20,3],[1,0,1,7],[3,0,3,7],[6,1,6,2],[6,5,6,6],[2,0,2,4],[5,3,5,6],[4,2,4,5],[17,2,17,3],[18,2,18,3],[7,2,7,3],[8,2,8,3],[9,2,9,3],[10,2,10,3],[11,2,11,3]]}
["⑤種目別人数一覧表",null,"※種目数・参加料等を確認してから印刷をしてください。"]
["　　　帳票印刷ボタンをクリックして印刷を行ってください。↓　　"]
[{"$f":"注意事項!C3","v":"第76回愛知陸上競技選手権 名古屋地区予選会"},null,null,null,null,null,{"$f":"IF(②団体情報入力!D3=\"\",\"\",②団体情報入力!D3)","v":""}]
["種目別申込人数一覧表"]
[null,"申込責任者",{"$f":"IF(②団体情報入力!D8=\"\",\"\",②団体情報入力!D8)","v":""},null,null,null,"A4サイズ"]
[null,{"$f":"IF(②団体情報入力!D7=\"\",\"\",②団体情報入力!D7)","v":""},"学校名",{"$f":"IF(②団体情報入力!D5=\"\",\"\",②団体情報入力!D5)","v":""}]
[null,"男　　　子",null,null,"Ver2","女　　　子"]
[null,"種　　目","申込数",null,null,"種　　　目","申込数",null,null,null,null,"男種目",null,"女種目"]
[null,"男100m",{"$f":"IF(L9=0,0,L9)","v":0},null,null,"女100m",{"$f":"IF(N9=0,0,N9)","v":0},null,null,null,{"$f":"種目情報!A4","v":"男100m"},{"$f":"COUNTIF(③選手情報入力!$I$11:$P$100,K9)","v":0},{"$f":"種目情報!E4","v":"女100m"},{"$f":"COUNTIF(③選手情報入力!$I$11:$P$100,M9)","v":0}]
[null,"男200m",{"$f":"IF(L10=0,0,L10)","v":0},null,null,"女200m",{"$f":"IF(N10=0,0,N10)","v":0},null,null,null,{"$f":"種目情報!A5","v":"男200m"},{"$f":"COUNTIF(③選手情報入力!$I$11:$P$100,K10)","v":0},{"$f":"種目情報!E5","v":"女200m"},{"$f":"COUNTIF(③選手情報入力!$I$11:$P$100,M10)","v":0}]
[null,"男400m",0,null,null,"女400m",0,null,null,null,{"$f":"種目情報!A6","v":"男400m"},{"$f":"COUNTIF(③選手情報入力!$I$11:$P$100,K11)","v":0},{"$f":"種目情報!E6","v":"女400m"},{"$f":"COUNTIF(③選手情報入力!$I$11:$P$100,M11)","v":0}]
[null,"男800m",0,null,null,"女800m",0,null,null,null,{"$f":"種目情報!A7","v":"男800m"},{"$f":"COUNTIF(③選手情報入力!$I$11:$P$100,K12)","v":0},{"$f":"種目情報!E7","v":"女800m"},{"$f":"COUNTIF(③選手情報入力!$I$11:$P$100,M12)","v":0}]
[null,"男1500m",0,null,null,"女1500m",0,null,null,null,{"$f":"種目情報!A8","v":"男1500m"},{"$f":"COUNTIF(③選手情報入力!$I$11:$P$100,K13)","v":0},{"$f":"種目情報!E8","v":"女1500m"},{"$f":"COUNTIF(③選手情報入力!$I$11:$P$100,M13)","v":0}]
[null,"男5000m",0,null,null,"女5000m",0,null,null,null,{"$f":"種目情報!A9","v":"男5000m"},{"$f":"COUNTIF(③選手情報入力!$I$11:$P$100,K14)","v":0},{"$f":"種目情報!E9","v":"女5000m"},{"$f":"COUNTIF(③選手情報入力!$I$11:$P$100,M14)","v":0}]
[null,"男10000m",0,null,null,"女100mH",0,null,null,null,{"$f":"種目情報!A10","v":"男10000m"},{"$f":"COUNTIF(③選手情報入力!$I$11:$P$100,K15)","v":0},{"$f":"種目情報!E10","v":"女100mH"},{"$f":"COUNTIF(③選手情報入力!$I$11:$P$100,M15)","v":0}]
[null,"男110mH",0,null,null,"女400mH",0,null,null,null,{"$f":"種目情報!A11","v":"男110mH"},{"$f":"COUNTIF(③選手情報入力!$I$11:$P$100,K16)","v":0},{"$f":"種目情報!E11","v":"女400mH"},{"$f":"COUNTIF(③選手情報入力!$I$11:$P$100,M16)","v":0}]
[null,"男400mH",0,null,null,"女5000mW",0,null,null,null,{"$f":"種目情報!A12","v":"男400mH"},{"$f":"COUNTIF(③選手情報入力!$I$11:$P$100,K17)","v":0},{"$f":"種目情報!E12","v":"女5000mW"},{"$f":"COUNTIF(③選手情報入力!$I$11:$P$100,M17)","v":0}]
[null,"男3000mSC",0,null,null,"女走高跳",0,null,null,null,{"$f":"種目情報!A13","v":"男3000mSC"},{"$f":"COUNTIF(③選手情報入力!$I$11:$P$100,K18)","v":0},{"$f":"種目情報!E13","v":"女走高跳"},{"$f":"COUNTIF(③選手情報入力!$I$11:$P$100,M18)","v":0}]
[null,"男5000mW",0,null,null,"女棒高跳",0,null,null,null,{"$f":"種目情報!A14","v":"男5000mW"},{"$f":"COUNTIF(③選手情報入力!$I$11:$P$100,K19)","v":0},{"$f":"種目情報!E14","v":"女棒高跳"},{"$f":"COUNTIF(③選手情報入力!$I$11:$P$100,M19)","v":0}]
[null,"男走高跳",0,null,null,"女走幅跳",0,null,null,null,{"$f":"種目情報!A15","v":"男走高跳"},{"$f":"COUNTIF(③選手情報入力!$I$11:$P$100,K20)","v":0},{"$f":"種目情報!E15","v":"女走幅跳"},{"$f":"COUNTIF(③選手情報入力!$I$11:$P$100,M20)","v":0}]
[null,"男棒高跳",0,null,null,"女三段跳",0,null,null,null,{"$f":"種目情報!A16","v":"男棒高跳"},{"$f":"COUNTIF(③選手情報入力!$I$11:$P$100,K21)","v":0},{"$f":"種目情報!E16","v":"女三段跳"},{"$f":"COUNTIF(③選手情報入力!$I$11:$P$100,M21)","v":0}]
[null,"男走幅跳",0,null,null,"女砲丸投",0,null,null,null,{"$f":"種目情報!A17","v":"男走幅跳"},{"$f":"COUNTIF(③選手情報入力!$I$11:$P$100,K22)","v":0},{"$f":"種目情報!E17","v":"女砲丸投"},{"$f":"COUNTIF(③選手情報入力!$I$11:$P$100,M22)","v":0}]
[null,"男三段跳",0,null,null,"女中学砲丸投",null,null,null,null,{"$f":"種目情報!A18","v":"男三段跳"},{"$f":"COUNTIF(③選手情報入力!$I$11:$P$100,K23)","v":0},{"$f":"種目情報!E18","v":"女円盤投"},{"$f":"COUNTIF(③選手情報入力!$I$11:$P$100,M23)","v":0}]
[null,"男砲丸投",0,null,null,"女円盤投",{"$f":"IF(N23=0,0,N23)","v":0},null,null,null,{"$f":"種目情報!A19","v":"男砲丸投"},{"$f":"COUNTIF(③選手情報入力!$I$11:$P$100,K24)","v":0},{"$f":"種目情報!E19","v":"女ﾊﾝﾏｰ投"},{"$f":"COUNTIF(③選手情報入力!$I$11:$P$100,M24)","v":0}]
[null,"男高校砲丸投",null,null,null,"女ﾊﾝﾏｰ投",{"$f":"IF(N24=0,0,N24)","v":0},null,null,null,{"$f":"種目情報!A20","v":"男円盤投"},{"$f":"COUNTIF(③選手情報入力!$I$11:$P$100,K25)","v":0},{"$f":"種目情報!E20","v":"女やり投"},{"$f":"COUNTIF(③選手情報入力!$I$11:$P$100,M25)","v":0}]
[null,"男中学砲丸投",null,null,null,"女やり投",0,null,null,null,{"$f":"種目情報!A21","v":"男ﾊﾝﾏｰ投"},{"$f":"COUNTIF(③選手情報入力!$I$11:$P$100,K26)","v":0},{"$f":"種目情報!E21","v":0},{"$f":"COUNTIF(③選手情報入力!$I$11:$P$100,M26)","v":0}]
[null,"男円盤投",{"$f":"IF(L25=0,0,L25)","v":0},null,null,null,null,null,null,null,{"$f":"種目情報!A22","v":"男やり投"},{"$f":"COUNTIF(③選手情報入力!$I$11:$P$100,K27)","v":0},{"$f":"種目情報!E22","v":0},{"$f":"COUNTIF(③選手情報入力!$I$11:$P$100,M27)","v":0}]
[null,"男高校円盤投",null,null,null,null,null,null,null,null,{"$f":"種目情報!A23","v":0},{"$f":"COUNTIF(③選手情報入力!$I$11:$P$100,K28)","v":0},{"$f":"種目情報!E23","v":0},{"$f":"COUNTIF(③選手情報入力!$I$11:$P$100,M28)","v":0}]
[null,"男中学円盤投",null,null,null,null,null,null,null,null,{"$f":"種目情報!A24","v":0},{"$f":"COUNTIF(③選手情報入力!$I$11:$P$100,K29)","v":0},{"$f":"種目情報!E24","v":0},{"$f":"COUNTIF(③選手情報入力!$I$11:$P$100,M29)","v":0}]
[null,"男ﾊﾝﾏｰ投",{"$f":"IF(L26=0,0,L26)","v":0},null,null,null,null,null,null,null,{"$f":"種目情報!A25","v":0},{"$f":"COUNTIF(③選手情報入力!$I$11:$P$100,K30)","v":0},{"$f":"種目情報!E24","v":0},{"$f":"COUNTIF(③選手情報入力!$I$11:$P$100,M30)","v":0}]
[null,"男やり投",{"$f":"IF(L27=0,0,L27)","v":0},null,null,null,null,null,null,null,{"$f":"種目情報!A26","v":0},{"$f":"COUNTIF(③選手情報入力!$I$11:$P$100,K31)","v":0},{"$f":"種目情報!E25","v":0},{"$f":"COUNTIF(③選手情報入力!$I$11:$P$100,M31)","v":0}]
[null,null,null,null,null,null,null,null,null,null,{"$f":"種目情報!A27","v":0},{"$f":"COUNTIF(③選手情報入力!$I$11:$P$100,K32)","v":0},{"$f":"種目情報!E23","v":0},{"$f":"COUNTIF(③選手情報入力!$I$11:$P$100,M32)","v":0}]
[null,null,null,null,null,null,null,null,null,null,{"$f":"種目情報!A24","v":0},{"$f":"COUNTIF(③選手情報入力!$I$11:$P$100,K33)","v":0},{"$f":"種目情報!E24","v":0},{"$f":"COUNTIF(③選手情報入力!$I$11:$P$100,M33)","v":0}]
[null,null,null,null,null,null,{"$f":"IF(N27=0,\"\",N27)","v":""},null,null,null,{"$f":"種目情報!A25","v":0},{"$f":"COUNTIF(③選手情報入力!$I$11:$P$100,K34)","v":0},{"$f":"種目情報!E25","v":0},{"$f":"COUNTIF(③選手情報入力!$I$11:$P$100,M34)","v":0}]
[null,"４×１００ｍＲ",{"$f":"IF(④リレー情報確認!F14=0,\"\",④リレー情報確認!F14)","v":""},null,null,"４×１００ｍＲ",{"$f":"IF(④リレー情報確認!R14=0,\"\",④リレー情報確認!R14)","v":""},null,null,null,{"$f":"種目情報!A26","v":0},{"$f":"COUNTIF(③選手情報入力!$I$11:$P$100,K35)","v":0},{"$f":"種目情報!E26","v":0},{"$f":"COUNTIF(③選手情報入力!$I$11:$P$100,M35)","v":0}]
[null,"４×４００ｍＲ",{"$f":"IF(④リレー情報確認!L14=0,\"\",④リレー情報確認!L14)","v":""},null,null,"４×４００ｍＲ",{"$f":"IF(④リレー情報確認!X14=0,\"\",④リレー情報確認!X14)","v":""},null,null,null,{"$f":"種目情報!A27","v":0}]
[null,"種　目　数",null,null,null,"参　　加　　料",null,null,null,null,{"$f":"種目情報!A29","v":0},{"$f":"COUNTIF(③選手情報入力!$I$11:$P$100,K37)","v":0},{"$f":"種目情報!E28","v":0},{"$f":"COUNTIF(③選手情報入力!$I$11:$P$100,M37)","v":0}]
[null,"種目数",{"$f":"③選手情報入力!F101","v":0},null,null,"種目数×700円",{"$f":"C38*700","v":0},null,null,null,{"$f":"種目情報!A30","v":0}]
[null,"リレー",{"$f":"③選手情報入力!F102","v":0},null,null,"リレー参加数✕1000円",{"$f":"C39*1000","v":0},null,null,null,{"$f":"種目情報!A31","v":0}]
[null,"プログラム購入部数",{"$f":"IF(②団体情報入力!D9=\"\",0,②団体情報入力!D9)","v":0},"部",null,"プログラム部数✕600円",{"$f":"C40*600","v":0}]
[null,null,null,null,null,"支払金額",{"$f":"SUM(G38:G40)","v":0}]
[null,"役員のできる方のお名前",null,null,null,"参加人数",{"$f":"IF(③選手情報入力!F105=0,\"\",③選手情報入力!F105)","v":""}]
[null,{"$f":"IF(②団体情報入力!B11=\"\",\"\",②団体情報入力!B11)","v":""},{"$f":"IF(②団体情報入力!F11=\"\",\"\",②団体情報入力!F11)","v":""},null,null,"振込明細書のコピーを裏面に添付してください"]
[null,{"$f":"IF(②団体情報入力!B12=\"\",\"\",②団体情報入力!B12)","v":""},{"$f":"IF(②団体情報入力!F12=\"\",\"\",②団体情報入力!F12)","v":""},null,null,{"$f":"TODAY()","v":"2016-04-28"}]

{"sheet":"⑥申込一覧表","index":6,"n_rows":97,"n_cols":13,"rows_kept":97,"cut":false,"hidden":false,"merged":[[1,3,1,7],[4,1,5,1],[4,6,5,6],[4,3,4,4],[5,3,5,4],[3,1,3,2],[3,3,3,5],[3,6,3,8]]}
["⑥申込一覧表"]
[null,null,"大会名",{"$f":"注意事項!C3&注意事項!F3","v":"第76回愛知陸上競技選手権 名古屋地区予選会"},null,null,null,null,"学校名",{"$f":"IF(②団体情報入力!D5=\"\",\"\",②団体情報入力!D5)","v":""},{"$f":"IF(②団体情報入力!D3=\"\",\"\",②団体情報入力!D3)","v":""}]
[]
[null,"申込責任者",null,{"$f":"②団体情報入力!D7","v":0},null,null,{"$f":"②団体情報入力!D8","v":0}]
[null,"人数","男　　子",{"$f":"③選手情報入力!F103","v":0},null,null,"リレー","男4X100mR",{"$f":"IF(④リレー情報確認!F8=\"\",\"\",④リレー情報確認!F8)","v":""},"男4X400mR",{"$f":"IF(④リレー情報確認!L8=\"\",\"\",④リレー情報確認!L8)","v":""}]
[null,null,"女　　子",{"$f":"③選手情報入力!F104","v":0},null,null,null,"女4X100mR",{"$f":"IF(④リレー情報確認!R8=\"\",\"\",④リレー情報確認!R8)","v":""},"女4X400mR",{"$f":"IF(④リレー情報確認!X8=\"\",\"\",④リレー情報確認!X8)","v":""}]
[null,"ﾅﾝﾊﾞｰ","氏　名","性","年","種目１","記録１","種目２","記録２","種目３","記録３","4R","16R"]
[1,{"$f":"IF(③選手情報入力!B11=\"\",\"\",③選手情報入力!B11)","v":""},{"$f":"IF(③選手情報入力!C11=\"\",\"\",③選手情報入力!C11)","v":""},{"$f":"IF(③選手情報入力!F11=\"\",\"\",③選手情報入力!F11)","v":""},{"$f":"IF(③選手情報入力!G11=\"\",\"\",③選手情報入力!G11)","v":""},{"$f":"IF(③選手情報入力!I11=\"\",\"\",IF(③選手情報入力!H11=\"\",③選手情報入力!I11,③選手情報入力!H11&③選手情報入力!I11))","v":""},{"$f":"IF(③選手情報入力!J11=\"\",\"\",③選手情報入力!J11)","v":""},{"$f":"IF(③選手情報入力!L11=\"\",\"\",IF(③選手情報入力!K11=\"\",③選手情報入力!L11,③選手情報入力!K11&③選手情報入力!L11))","v":""},{"$f":"IF(③選手情報入力!M11=\"\",\"\",③選手情報入力!M11)","v":""},{"$f":"IF(③選手情報入力!O11=\"\",\"\",IF(③選手情報入力!N11=\"\",③選手情報入力!O11,③選手情報入力!N11&③選手情報入力!O11))","v":""},{"$f":"IF(③選手情報入力!P11=\"\",\"\",③選手情報入力!P11)","v":""},{"$f":"IF(③選手情報入力!R11=\"\",\"\",③選手情報入力!R11)","v":""},{"$f":"IF(③選手情報入力!T11=\"\",\"\",③選手情報入力!T11)","v":""}]
[2,{"$f":"IF(③選手情報入力!B12=\"\",\"\",③選手情報入力!B12)","v":""},{"$f":"IF(③選手情報入力!C12=\"\",\"\",③選手情報入力!C12)","v":""},{"$f":"IF(③選手情報入力!F12=\"\",\"\",③選手情報入力!F12)","v":""},{"$f":"IF(③選手情報入力!G12=\"\",\"\",③選手情報入力!G12)","v":""},{"$f":"IF(③選手情報入力!I12=\"\",\"\",IF(③選手情報入力!H12=\"\",③選手情報入力!I12,③選手情報入力!H12&③選手情報入力!I12))","v":""},{"$f":"IF(③選手情報入力!J12=\"\",\"\",③選手情報入力!J12)","v":""},{"$f":"IF(③選手情報入力!L12=\"\",\"\",IF(③選手情報入力!K12=\"\",③選手情報入力!L12,③選手情報入力!K12&③選手情報入力!L12))","v":""},{"$f":"IF(③選手情報入力!M12=\"\",\"\",③選手情報入力!M12)","v":""},{"$f":"IF(③選手情報入力!O12=\"\",\"\",IF(③選手情報入力!N12=\"\",③選手情報入力!O12,③選手情報入力!N12&③選手情報入力!O12))","v":""},{"$f":"IF(③選手情報入力!P12=\"\",\"\",③選手情報入力!P12)","v":""},{"$f":"IF(③選手情報入力!R12=\"\",\"\",③選手情報入力!R12)","v":""},{"$f":"IF(③選手情報入力!T12=\"\",\"\",③選手情報入力!T12)","v":""}]
[3,{"$f":"IF(③選手情報入力!B13=\"\",\"\",③選手情報入力!B13)","v":""},{"$f":"IF(③選手情報入力!C13=\"\",\"\",③選手情報入力!C13)","v":""},{"$f":"IF(③選手情報入力!F13=\"\",\"\",③選手情報入力!F13)","v":""},{"$f":"IF(③選手情報入力!G13=\"\",\"\",③選手情報入力!G13)","v":""},{"$f":"IF(③選手情報入力!I13=\"\",\"\",IF(③選手情報入力!H13=\"\",③選手情報入力!I13,③選手情報入力!H13&③選手情報入力!I13))","v":""},{"$f":"IF(③選手情報入力!J13=\"\",\"\",③選手情報入力!J13)","v":""},{"$f":"IF(③選手情報入力!L13=\"\",\"\",IF(③選手情報入力!K13=\"\",③選手情報入力!L13,③選手情報入力!K13&③選手情報入力!L13))","v":""},{"$f":"IF(③選手情報入力!M13=\"\",\"\",③選手情報入力!M13)","v":""},{"$f":"IF(③選手情報入力!O13=\"\",\"\",IF(③選手情報入力!N13=\"\",③選手情報入力!O13,③選手情報入力!N13&③選手情報入力!O13))","v":""},{"$f":"IF(③選手情報入力!P13=\"\",\"\",③選手情報入力!P13)","v":""},{"$f":"IF(③選手情報入力!R13=\"\",\"\",③選手情報入力!R13)","v":""},{"$f":"IF(③選手情報入力!T13=\"\",\"\",③選手情報入力!T13)","v":""}]
[4,{"$f":"IF(③選手情報入力!B14=\"\",\"\",③選手情報入力!B14)","v":""},{"$f":"IF(③選手情報入力!C14=\"\",\"\",③選手情報入力!C14)","v":""},{"$f":"IF(③選手情報入力!F14=\"\",\"\",③選手情報入力!F14)","v":""},{"$f":"IF(③選手情報入力!G14=\"\",\"\",③選手情報入力!G14)","v":""},{"$f":"IF(③選手情報入力!I14=\"\",\"\",IF(③選手情報入力!H14=\"\",③選手情報入力!I14,③選手情報入力!H14&③選手情報入力!I14))","v":""},{"$f":"IF(③選手情報入力!J14=\"\",\"\",③選手情報入力!J14)","v":""},{"$f":"IF(③選手情報入力!L14=\"\",\"\",IF(③選手情報入力!K14=\"\",③選手情報入力!L14,③選手情報入力!K14&③選手情報入力!L14))","v":""},{"$f":"IF(③選手情報入力!M14=\"\",\"\",③選手情報入力!M14)","v":""},{"$f":"IF(③選手情報入力!O14=\"\",\"\",IF(③選手情報入力!N14=\"\",③選手情報入力!O14,③選手情報入力!N14&③選手情報入力!O14))","v":""},{"$f":"IF(③選手情報入力!P14=\"\",\"\",③選手情報入力!P14)","v":""},{"$f":"IF(③選手情報入力!R14=\"\",\"\",③選手情報入力!R14)","v":""},{"$f":"IF(③選手情報入力!T14=\"\",\"\",③選手情報入力!T14)","v":""}]
[5,{"$f":"IF(③選手情報入力!B15=\"\",\"\",③選手情報入力!B15)","v":""},{"$f":"IF(③選手情報入力!C15=\"\",\"\",③選手情報入力!C15)","v":""},{"$f":"IF(③選手情報入力!F15=\"\",\"\",③選手情報入力!F15)","v":""},{"$f":"IF(③選手情報入力!G15=\"\",\"\",③選手情報入力!G15)","v":""},{"$f":"IF(③選手情報入力!I15=\"\",\"\",IF(③選手情報入力!H15=\"\",③選手情報入力!I15,③選手情報入力!H15&③選手情報入力!I15))","v":""},{"$f":"IF(③選手情報入力!J15=\"\",\"\",③選手情報入力!J15)","v":""},{"$f":"IF(③選手情報入力!L15=\"\",\"\",IF(③選手情報入力!K15=\"\",③選手情報入力!L15,③選手情報入力!K15&③選手情報入力!L15))","v":""},{"$f":"IF(③選手情報入力!M15=\"\",\"\",③選手情報入力!M15)","v":""},{"$f":"IF(③選手情報入力!O15=\"\",\"\",IF(③選手情報入力!N15=\"\",③選手情報入力!O15,③選手情報入力!N15&③選手情報入力!O15))","v":""},{"$f":"IF(③選手情報入力!P15=\"\",\"\",③選手情報入力!P15)","v":""},{"$f":"IF(③選手情報入力!R15=\"\",\"\",③選手情報入力!R15)","v":""},{"$f":"IF(③選手情報入力!T15=\"\",\"\",③選手情報入力!T15)","v":""}]
[6,{"$f":"IF(③選手情報入力!B16=\"\",\"\",③選手情報入力!B16)","v":""},{"$f":"IF(③選手情報入力!C16=\"\",\"\",③選手情報入力!C16)","v":""},{"$f":"IF(③選手情報入力!F16=\"\",\"\",③選手情報入力!F16)","v":""},{"$f":"IF(③選手情報入力!G16=\"\",\"\",③選手情報入力!G16)","v":""},{"$f":"IF(③選手情報入力!I16=\"\",\"\",IF(③選手情報入力!H16=\"\",③選手情報入力!I16,③選手情報入力!H16&③選手情報入力!I16))","v":""},{"$f":"IF(③選手情報入力!J16=\"\",\"\",③選手情報入力!J16)","v":""},{"$f":"IF(③選手情報入力!L16=\"\",\"\",IF(③選手情報入力!K16=\"\",③選手情報入力!L16,③選手情報入力!K16&③選手情報入力!L16))","v":""},{"$f":"IF(③選手情報入力!M16=\"\",\"\",③選手情報入力!M16)","v":""},{"$f":"IF(③選手情報入力!O16=\"\",\"\",IF(③選手情報入力!N16=\"\",③選手情報入力!O16,③選手情報入力!N16&③選手情報入力!O16))","v":""},{"$f":"IF(③選手情報入力!P16=\"\",\"\",③選手情報入力!P16)","v":""},{"$f":"IF(③選手情報入力!R16=\"\",\"\",③選手情報入力!R16)","v":""},{"$f":"IF(③選手情報入力!T16=\"\",\"\",③選手情報入力!T16)","v":""}]
[7,{"$f":"IF(③選手情報入力!B17=\"\",\"\",③選手情報入力!B17)","v":""},{"$f":"IF(③選手情報入力!C17=\"\",\"\",③選手情報入力!C17)","v":""},{"$f":"IF(③選手情報入力!F17=\"\",\"\",③選手情報入力!F17)","v":""},{"$f":"IF(③選手情報入力!G17=\"\",\"\",③選手情報入力!G17)","v":""},{"$f":"IF(③選手情報入力!I17=\"\",\"\",IF(③選手情報入力!H17=\"\",③選手情報入力!I17,③選手情報入力!H17&③選手情報入力!I17))","v":""},{"$f":"IF(③選手情報入力!J17=\"\",\"\",③選手情報入力!J17)","v":""},{"$f":"IF(③選手情報入力!L17=\"\",\"\",IF(③選手情報入力!K17=\"\",③選手情報入力!L17,③選手情報入力!K17&③選手情報入力!L17))","v":""},{"$f":"IF(③選手情報入力!M17=\"\",\"\",③選手情報入力!M17)","v":""},{"$f":"IF(③選手情報入力!O17=\"\",\"\",IF(③選手情報入力!N17=\"\",③選手情報入力!O17,③選手情報入力!N17&③選手情報入力!O17))","v":""},{"$f":"IF(③選手情報入力!P17=\"\",\"\",③選手情報入力!P17)","v":""},{"$f":"IF(③選手情報入力!R17=\"\",\"\",③選手情報入力!R17)","v":""},{"$f":"IF(③選手情報入力!T17=\"\",\"\",③選手情報入力!T17)","v":""}]
[8,{"$f":"IF(③選手情報入力!B18=\"\",\"\",③選手情報入力!B18)","v":""},{"$f":"IF(③選手情報入力!C18=\"\",\"\",③選手情報入力!C18)","v":""},{"$f":"IF(③選手情報入力!F18=\"\",\"\",③選手情報入力!F18)","v":""},{"$f":"IF(③選手情報入力!G18=\"\",\"\",③選手情報入力!G18)","v":""},{"$f":"IF(③選手情報入力!I18=\"\",\"\",IF(③選手情報入力!H18=\"\",③選手情報入力!I18,③選手情報入力!H18&③選手情報入力!I18))","v":""},{"$f":"IF(③選手情報入力!J18=\"\",\"\",③選手情報入力!J18)","v":""},{"$f":"IF(③選手情報入力!L18=\"\",\"\",IF(③選手情報入力!K18=\"\",③選手情報入力!L18,③選手情報入力!K18&③選手情報入力!L18))","v":""},{"$f":"IF(③選手情報入力!M18=\"\",\"\",③選手情報入力!M18)","v":""},{"$f":"IF(③選手情報入力!O18=\"\",\"\",IF(③選手情報入力!N18=\"\",③選手情報入力!O18,③選手情報入力!N18&③選手情報入力!O18))","v":""},{"$f":"IF(③選手情報入力!P18=\"\",\"\",③選手情報入力!P18)","v":""},{"$f":"IF(③選手情報入力!R18=\"\",\"\",③選手情報入力!R18)","v":""},{"$f":"IF(③選手情報入力!T18=\"\",\"\",③選手情報入力!T18)","v":""}]
[9,{"$f":"IF(③選手情報入力!B19=\"\",\"\",③選手情報入力!B19)","v":""},{"$f":"IF(③選手情報入力!C19=\"\",\"\",③選手情報入力!C19)","v":""},{"$f":"IF(③選手情報入力!F19=\"\",\"\",③選手情報入力!F19)","v":""},{"$f":"IF(③選手情報入力!G19=\"\",\"\",③選手情報入力!G19)","v":""},{"$f":"IF(③選手情報入力!I19=\"\",\"\",IF(③選手情報入力!H19=\"\",③選手情報入力!I19,③選手情報入力!H19&③選手情報入力!I19))","v":""},{"$f":"IF(③選手情報入力!J19=\"\",\"\",③選手情報入力!J19)","v":""},{"$f":"IF(③選手情報入力!L19=\"\",\"\",IF(③選手情報入力!K19=\"\",③選手情報入力!L19,③選手情報入力!K19&③選手情報入力!L19))","v":""},{"$f":"IF(③選手情報入力!M19=\"\",\"\",③選手情報入力!M19)","v":""},{"$f":"IF(③選手情報入力!O19=\"\",\"\",IF(③選手情報入力!N19=\"\",③選手情報入力!O19,③選手情報入力!N19&③選手情報入力!O19))","v":""},{"$f":"IF(③選手情報入力!P19=\"\",\"\",③選手情報入力!P19)","v":""},{"$f":"IF(③選手情報入力!R19=\"\",\"\",③選手情報入力!R19)","v":""},{"$f":"IF(③選手情報入力!T19=\"\",\"\",③選手情報入力!T19)","v":""}]
[10,{"$f":"IF(③選手情報入力!B20=\"\",\"\",③選手情報入力!B20)","v":""},{"$f":"IF(③選手情報入力!C20=\"\",\"\",③選手情報入力!C20)","v":""},{"$f":"IF(③選手情報入力!F20=\"\",\"\",③選手情報入力!F20)","v":""},{"$f":"IF(③選手情報入力!G20=\"\",\"\",③選手情報入力!G20)","v":""},{"$f":"IF(③選手情報入力!I20=\"\",\"\",IF(③選手情報入力!H20=\"\",③選手情報入力!I20,③選手情報入力!H20&③選手情報入力!I20))","v":""},{"$f":"IF(③選手情報入力!J20=\"\",\"\",③選手情報入力!J20)","v":""},{"$f":"IF(③選手情報入力!L20=\"\",\"\",IF(③選手情報入力!K20=\"\",③選手情報入力!L20,③選手情報入力!K20&③選手情報入力!L20))","v":""},{"$f":"IF(③選手情報入力!M20=\"\",\"\",③選手情報入力!M20)","v":""},{"$f":"IF(③選手情報入力!O20=\"\",\"\",IF(③選手情報入力!N20=\"\",③選手情報入力!O20,③選手情報入力!N20&③選手情報入力!O20))","v":""},{"$f":"IF(③選手情報入力!P20=\"\",\"\",③選手情報入力!P20)","v":""},{"$f":"IF(③選手情報入力!R20=\"\",\"\",③選手情報入力!R20)","v":""},{"$f":"IF(③選手情報入力!T20=\"\",\"\",③選手情報入力!T20)","v":""}]
[11,{"$f":"IF(③選手情報入力!B21=\"\",\"\",③選手情報入力!B21)","v":""},{"$f":"IF(③選手情報入力!C21=\"\",\"\",③選手情報入力!C21)","v":""},{"$f":"IF(③選手情報入力!F21=\"\",\"\",③選手情報入力!F21)","v":""},{"$f":"IF(③選手情報入力!G21=\"\",\"\",③選手情報入力!G21)","v":""},{"$f":"IF(③選手情報入力!I21=\"\",\"\",IF(③選手情報入力!H21=\"\",③選手情報入力!I21,③選手情報入力!H21&③選手情報入力!I21))","v":""},{"$f":"IF(③選手情報入力!J21=\"\",\"\",③選手情報入力!J21)","v":""},{"$f":"IF(③選手情報入力!L21=\"\",\"\",IF(③選手情報入力!K21=\"\",③選手情報入力!L21,③選手情報入力!K21&③選手情報入力!L21))","v":""},{"$f":"IF(③選手情報入力!M21=\"\",\"\",③選手情報入力!M21)","v":""},{"$f":"IF(③選手情報入力!O21=\"\",\"\",IF(③選手情報入力!N21=\"\",③選手情報入力!O21,③選手情報入力!N21&③選手情報入力!O21))","v":""},{"$f":"IF(③選手情報入力!P21=\"\",\"\",③選手情報入力!P21)","v":""},{"$f":"IF(③選手情報入力!R21=\"\",\"\",③選手情報入力!R21)","v":""},{"$f":"IF(③選手情報入力!T21=\"\",\"\",③選手情報入力!T21)","v":""}]
[12,{"$f":"IF(③選手情報入力!B22=\"\",\"\",③選手情報入力!B22)","v":""},{"$f":"IF(③選手情報入力!C22=\"\",\"\",③選手情報入力!C22)","v":""},{"$f":"IF(③選手情報入力!F22=\"\",\"\",③選手情報入力!F22)","v":""},{"$f":"IF(③選手情報入力!G22=\"\",\"\",③選手情報入力!G22)","v":""},{"$f":"IF(③選手情報入力!I22=\"\",\"\",IF(③選手情報入力!H22=\"\",③選手情報入力!I22,③選手情報入力!H22&③選手情報入力!I22))","v":""},{"$f":"IF(③選手情報入力!J22=\"\",\"\",③選手情報入力!J22)","v":""},{"$f":"IF(③選手情報入力!L22=\"\",\"\",IF(③選手情報入力!K22=\"\",③選手情報入力!L22,③選手情報入力!K22&③選手情報入力!L22))","v":""},{"$f":"IF(③選手情報入力!M22=\"\",\"\",③選手情報入力!M22)","v":""},{"$f":"IF(③選手情報入力!O22=\"\",\"\",IF(③選手情報入力!N22=\"\",③選手情報入力!O22,③選手情報入力!N22&③選手情報入力!O22))","v":""},{"$f":"IF(③選手情報入力!P22=\"\",\"\",③選手情報入力!P22)","v":""},{"$f":"IF(③選手情報入力!R22=\"\",\"\",③選手情報入力!R22)","v":""},{"$f":"IF(③選手情報入力!T22=\"\",\"\",③選手情報入力!T22)","v":""}]
[13,{"$f":"IF(③選手情報入力!B23=\"\",\"\",③選手情報入力!B23)","v":""},{"$f":"IF(③選手情報入力!C23=\"\",\"\",③選手情報入力!C23)","v":""},{"$f":"IF(③選手情報入力!F23=\"\",\"\",③選手情報入力!F23)","v":""},{"$f":"IF(③選手情報入力!G23=\"\",\"\",③選手情報入力!G23)","v":""},{"$f":"IF(③選手情報入力!I23=\"\",\"\",IF(③選手情報入力!H23=\"\",③選手情報入力!I23,③選手情報入力!H23&③選手情報入力!I23))","v":""},{"$f":"IF(③選手情報入力!J23=\"\",\"\",③選手情報入力!J23)","v":""},{"$f":"IF(③選手情報入力!L23=\"\",\"\",IF(③選手情報入力!K23=\"\",③選手情報入力!L23,③選手情報入力!K23&③選手情報入力!L23))","v":""},{"$f":"IF(③選手情報入力!M23=\"\",\"\",③選手情報入力!M23)","v":""},{"$f":"IF(③選手情報入力!O23=\"\",\"\",IF(③選手情報入力!N23=\"\",③選手情報入力!O23,③選手情報入力!N23&③選手情報入力!O23))","v":""},{"$f":"IF(③選手情報入力!P23=\"\",\"\",③選手情報入力!P23)","v":""},{"$f":"IF(③選手情報入力!R23=\"\",\"\",③選手情報入力!R23)","v":""},{"$f":"IF(③選手情報入力!T23=\"\",\"\",③選手情報入力!T23)","v":""}]
[14,{"$f":"IF(③選手情報入力!B24=\"\",\"\",③選手情報入力!B24)","v":""},{"$f":"IF(③選手情報入力!C24=\"\",\"\",③選手情報入力!C24)","v":""},{"$f":"IF(③選手情報入力!F24=\"\",\"\",③選手情報入力!F24)","v":""},{"$f":"IF(③選手情報入力!G24=\"\",\"\",③選手情報入力!G24)","v":""},{"$f":"IF(③選手情報入力!I24=\"\",\"\",IF(③選手情報入力!H24=\"\",③選手情報入力!I24,③選手情報入力!H24&③選手情報入力!I24))","v":""},{"$f":"IF(③選手情報入力!J24=\"\",\"\",③選手情報入力!J24)","v":""},{"$f":"IF(③選手情報入力!L24=\"\",\"\",IF(③選手情報入力!K24=\"\",③選手情報入力!L24,③選手情報入力!K24&③選手情報入力!L24))","v":""},{"$f":"IF(③選手情報入力!M24=\"\",\"\",③選手情報入力!M24)","v":""},{"$f":"IF(③選手情報入力!O24=\"\",\"\",IF(③選手情報入力!N24=\"\",③選手情報入力!O24,③選手情報入力!N24&③選手情報入力!O24))","v":""},{"$f":"IF(③選手情報入力!P24=\"\",\"\",③選手情報入力!P24)","v":""},{"$f":"IF(③選手情報入力!R24=\"\",\"\",③選手情報入力!R24)","v":""},{"$f":"IF(③選手情報入力!T24=\"\",\"\",③選手情報入力!T24)","v":""}]
[15,{"$f":"IF(③選手情報入力!B25=\"\",\"\",③選手情報入力!B25)","v":""},{"$f":"IF(③選手情報入力!C25=\"\",\"\",③選手情報入力!C25)","v":""},{"$f":"IF(③選手情報入力!F25=\"\",\"\",③選手情報入力!F25)","v":""},{"$f":"IF(③選手情報入力!G25=\"\",\"\",③選手情報入力!G25)","v":""},{"$f":"IF(③選手情報入力!I25=\"\",\"\",IF(③選手情報入力!H25=\"\",③選手情報入力!I25,③選手情報入力!H25&③選手情報入力!I25))","v":""},{"$f":"IF(③選手情報入力!J25=\"\",\"\",③選手情報入力!J25)","v":""},{"$f":"IF(③選手情報入力!L25=\"\",\"\",IF(③選手情報入力!K25=\"\",③選手情報入力!L25,③選手情報入力!K25&③選手情報入力!L25))","v":""},{"$f":"IF(③選手情報入力!M25=\"\",\"\",③選手情報入力!M25)","v":""},{"$f":"IF(③選手情報入力!O25=\"\",\"\",IF(③選手情報入力!N25=\"\",③選手情報入力!O25,③選手情報入力!N25&③選手情報入力!O25))","v":""},{"$f":"IF(③選手情報入力!P25=\"\",\"\",③選手情報入力!P25)","v":""},{"$f":"IF(③選手情報入力!R25=\"\",\"\",③選手情報入力!R25)","v":""},{"$f":"IF(③選手情報入力!T25=\"\",\"\",③選手情報入力!T25)","v":""}]
[16,{"$f":"IF(③選手情報入力!B26=\"\",\"\",③選手情報入力!B26)","v":""},{"$f":"IF(③選手情報入力!C26=\"\",\"\",③選手情報入力!C26)","v":""},{"$f":"IF(③選手情報入力!F26=\"\",\"\",③選手情報入力!F26)","v":""},{"$f":"IF(③選手情報入力!G26=\"\",\"\",③選手情報入力!G26)","v":""},{"$f":"IF(③選手情報入力!I26=\"\",\"\",IF(③選手情報入力!H26=\"\",③選手情報入力!I26,③選手情報入力!H26&③選手情報入力!I26))","v":""},{"$f":"IF(③選手情報入力!J26=\"\",\"\",③選手情報入力!J26)","v":""},{"$f":"IF(③選手情報入力!L26=\"\",\"\",IF(③選手情報入力!K26=\"\",③選手情報入力!L26,③選手情報入力!K26&③選手情報入力!L26))","v":""},{"$f":"IF(③選手情報入力!M26=\"\",\"\",③選手情報入力!M26)","v":""},{"$f":"IF(③選手情報入力!O26=\"\",\"\",IF(③選手情報入力!N26=\"\",③選手情報入力!O26,③選手情報入力!N26&③選手情報入力!O26))","v":""},{"$f":"IF(③選手情報入力!P26=\"\",\"\",③選手情報入力!P26)","v":""},{"$f":"IF(③選手情報入力!R26=\"\",\"\",③選手情報入力!R26)","v":""},{"$f":"IF(③選手情報入力!T26=\"\",\"\",③選手情報入力!T26)","v":""}]
[17,{"$f":"IF(③選手情報入力!B27=\"\",\"\",③選手情報入力!B27)","v":""},{"$f":"IF(③選手情報入力!C27=\"\",\"\",③選手情報入力!C27)","v":""},{"$f":"IF(③選手情報入力!F27=\"\",\"\",③選手情報入力!F27)","v":""},{"$f":"IF(③選手情報入力!G27=\"\",\"\",③選手情報入力!G27)","v":""},{"$f":"IF(③選手情報入力!I27=\"\",\"\",IF(③選手情報入力!H27=\"\",③選手情報入力!I27,③選手情報入力!H27&③選手情報入力!I27))","v":""},{"$f":"IF(③選手情報入力!J27=\"\",\"\",③選手情報入力!J27)","v":""},{"$f":"IF(③選手情報入力!L27=\"\",\"\",IF(③選手情報入力!K27=\"\",③選手情報入力!L27,③選手情報入力!K27&③選手情報入力!L27))","v":""},{"$f":"IF(③選手情報入力!M27=\"\",\"\",③選手情報入力!M27)","v":""},{"$f":"IF(③選手情報入力!O27=\"\",\"\",IF(③選手情報入力!N27=\"\",③選手情報入力!O27,③選手情報入力!N27&③選手情報入力!O27))","v":""},{"$f":"IF(③選手情報入力!P27=\"\",\"\",③選手情報入力!P27)","v":""},{"$f":"IF(③選手情報入力!R27=\"\",\"\",③選手情報入力!R27)","v":""},{"$f":"IF(③選手情報入力!T27=\"\",\"\",③選手情報入力!T27)","v":""}]
[18,{"$f":"IF(③選手情報入力!B28=\"\",\"\",③選手情報入力!B28)","v":""},{"$f":"IF(③選手情報入力!C28=\"\",\"\",③選手情報入力!C28)","v":""},{"$f":"IF(③選手情報入力!F28=\"\",\"\",③選手情報入力!F28)","v":""},{"$f":"IF(③選手情報入力!G28=\"\",\"\",③選手情報入力!G28)","v":""},{"$f":"IF(③選手情報入力!I28=\"\",\"\",IF(③選手情報入力!H28=\"\",③選手情報入力!I28,③選手情報入力!H28&③選手情報入力!I28))","v":""},{"$f":"IF(③選手情報入力!J28=\"\",\"\",③選手情報入力!J28)","v":""},{"$f":"IF(③選手情報入力!L28=\"\",\"\",IF(③選手情報入力!K28=\"\",③選手情報入力!L28,③選手情報入力!K28&③選手情報入力!L28))","v":""},{"$f":"IF(③選手情報入力!M28=\"\",\"\",③選手情報入力!M28)","v":""},{"$f":"IF(③選手情報入力!O28=\"\",\"\",IF(③選手情報入力!N28=\"\",③選手情報入力!O28,③選手情報入力!N28&③選手情報入力!O28))","v":""},{"$f":"IF(③選手情報入力!P28=\"\",\"\",③選手情報入力!P28)","v":""},{"$f":"IF(③選手情報入力!R28=\"\",\"\",③選手情報入力!R28)","v":""},{"$f":"IF(③選手情報入力!T28=\"\",\"\",③選手情報入力!T28)","v":""}]
[19,{"$f":"IF(③選手情報入力!B29=\"\",\"\",③選手情報入力!B29)","v":""},{"$f":"IF(③選手情報入力!C29=\"\",\"\",③選手情報入力!C29)","v":""},{"$f":"IF(③選手情報入力!F29=\"\",\"\",③選手情報入力!F29)","v":""},{"$f":"IF(③選手情報入力!G29=\"\",\"\",③選手情報入力!G29)","v":""},{"$f":"IF(③選手情報入力!I29=\"\",\"\",IF(③選手情報入力!H29=\"\",③選手情報入力!I29,③選手情報入力!H29&③選手情報入力!I29))","v":""},{"$f":"IF(③選手情報入力!J29=\"\",\"\",③選手情報入力!J29)","v":""},{"$f":"IF(③選手情報入力!L29=\"\",\"\",IF(③選手情報入力!K29=\"\",③選手情報入力!L29,③選手情報入力!K29&③選手情報入力!L29))","v":""},{"$f":"IF(③選手情報入力!M29=\"\",\"\",③選手情報入力!M29)","v":""},{"$f":"IF(③選手情報入力!O29=\"\",\"\",IF(③選手情報入力!N29=\"\",③選手情報入力!O29,③選手情報入力!N29&③選手情報入力!O29))","v":""},{"$f":"IF(③選手情報入力!P29=\"\",\"\",③選手情報入力!P29)","v":""},{"$f":"IF(③選手情報入力!R29=\"\",\"\",③選手情報入力!R29)","v":""},{"$f":"IF(③選手情報入力!T29=\"\",\"\",③選手情報入力!T29)","v":""}]
[20,{"$f":"IF(③選手情報入力!B30=\"\",\"\",③選手情報入力!B30)","v":""},{"$f":"IF(③選手情報入力!C30=\"\",\"\",③選手情報入力!C30)","v":""},{"$f":"IF(③選手情報入力!F30=\"\",\"\",③選手情報入力!F30)","v":""},{"$f":"IF(③選手情報入力!G30=\"\",\"\",③選手情報入力!G30)","v":""},{"$f":"IF(③選手情報入力!I30=\"\",\"\",IF(③選手情報入力!H30=\"\",③選手情報入力!I30,③選手情報入力!H30&③選手情報入力!I30))","v":""},{"$f":"IF(③選手情報入力!J30=\"\",\"\",③選手情報入力!J30)","v":""},{"$f":"IF(③選手情報入力!L30=\"\",\"\",IF(③選手情報入力!K30=\"\",③選手情報入力!L30,③選手情報入力!K30&③選手情報入力!L30))","v":""},{"$f":"IF(③選手情報入力!M30=\"\",\"\",③選手情報入力!M30)","v":""},{"$f":"IF(③選手情報入力!O30=\"\",\"\",IF(③選手情報入力!N30=\"\",③選手情報入力!O30,③選手情報入力!N30&③選手情報入力!O30))","v":""},{"$f":"IF(③選手情報入力!P30=\"\",\"\",③選手情報入力!P30)","v":""},{"$f":"IF(③選手情報入力!R30=\"\",\"\",③選手情報入力!R30)","v":""},{"$f":"IF(③選手情報入力!T30=\"\",\"\",③選手情報入力!T30)","v":""}]
[21,{"$f":"IF(③選手情報入力!B31=\"\",\"\",③選手情報入力!B31)","v":""},{"$f":"IF(③選手情報入力!C31=\"\",\"\",③選手情報入力!C31)","v":""},{"$f":"IF(③選手情報入力!F31=\"\",\"\",③選手情報入力!F31)","v":""},{"$f":"IF(③選手情報入力!G31=\"\",\"\",③選手情報入力!G31)","v":""},{"$f":"IF(③選手情報入力!I31=\"\",\"\",IF(③選手情報入力!H31=\"\",③選手情報入力!I31,③選手情報入力!H31&③選手情報入力!I31))","v":""},{"$f":"IF(③選手情報入力!J31=\"\",\"\",③選手情報入力!J31)","v":""},{"$f":"IF(③選手情報入力!L31=\"\",\"\",IF(③選手情報入力!K31=\"\",③選手情報入力!L31,③選手情報入力!K31&③選手情報入力!L31))","v":""},{"$f":"IF(③選手情報入力!M31=\"\",\"\",③選手情報入力!M31)","v":""},{"$f":"IF(③選手情報入力!O31=\"\",\"\",IF(③選手情報入力!N31=\"\",③選手情報入力!O31,③選手情報入力!N31&③選手情報入力!O31))","v":""},{"$f":"IF(③選手情報入力!P31=\"\",\"\",③選手情報入力!P31)","v":""},{"$f":"IF(③選手情報入力!R31=\"\",\"\",③選手情報入力!R31)","v":""},{"$f":"IF(③選手情報入力!T31=\"\",\"\",③選手情報入力!T31)","v":""}]
[22,{"$f":"IF(③選手情報入力!B32=\"\",\"\",③選手情報入力!B32)","v":""},{"$f":"IF(③選手情報入力!C32=\"\",\"\",③選手情報入力!C32)","v":""},{"$f":"IF(③選手情報入力!F32=\"\",\"\",③選手情報入力!F32)","v":""},{"$f":"IF(③選手情報入力!G32=\"\",\"\",③選手情報入力!G32)","v":""},{"$f":"IF(③選手情報入力!I32=\"\",\"\",IF(③選手情報入力!H32=\"\",③選手情報入力!I32,③選手情報入力!H32&③選手情報入力!I32))","v":""},{"$f":"IF(③選手情報入力!J32=\"\",\"\",③選手情報入力!J32)","v":""},{"$f":"IF(③選手情報入力!L32=\"\",\"\",IF(③選手情報入力!K32=\"\",③選手情報入力!L32,③選手情報入力!K32&③選手情報入力!L32))","v":""},{"$f":"IF(③選手情報入力!M32=\"\",\"\",③選手情報入力!M32)","v":""},{"$f":"IF(③選手情報入力!O32=\"\",\"\",IF(③選手情報入力!N32=\"\",③選手情報入力!O32,③選手情報入力!N32&③選手情報入力!O32))","v":""},{"$f":"IF(③選手情報入力!P32=\"\",\"\",③選手情報入力!P32)","v":""},{"$f":"IF(③選手情報入力!R32=\"\",\"\",③選手情報入力!R32)","v":""},{"$f":"IF(③選手情報入力!T32=\"\",\"\",③選手情報入力!T32)","v":""}]
[23,{"$f":"IF(③選手情報入力!B33=\"\",\"\",③選手情報入力!B33)","v":""},{"$f":"IF(③選手情報入力!C33=\"\",\"\",③選手情報入力!C33)","v":""},{"$f":"IF(③選手情報入力!F33=\"\",\"\",③選手情報入力!F33)","v":""},{"$f":"IF(③選手情報入力!G33=\"\",\"\",③選手情報入力!G33)","v":""},{"$f":"IF(③選手情報入力!I33=\"\",\"\",IF(③選手情報入力!H33=\"\",③選手情報入力!I33,③選手情報入力!H33&③選手情報入力!I33))","v":""},{"$f":"IF(③選手情報入力!J33=\"\",\"\",③選手情報入力!J33)","v":""},{"$f":"IF(③選手情報入力!L33=\"\",\"\",IF(③選手情報入力!K33=\"\",③選手情報入力!L33,③選手情報入力!K33&③選手情報入力!L33))","v":""},{"$f":"IF(③選手情報入力!M33=\"\",\"\",③選手情報入力!M33)","v":""},{"$f":"IF(③選手情報入力!O33=\"\",\"\",IF(③選手情報入力!N33=\"\",③選手情報入力!O33,③選手情報入力!N33&③選手情報入力!O33))","v":""},{"$f":"IF(③選手情報入力!P33=\"\",\"\",③選手情報入力!P33)","v":""},{"$f":"IF(③選手情報入力!R33=\"\",\"\",③選手情報入力!R33)","v":""},{"$f":"IF(③選手情報入力!T33=\"\",\"\",③選手情報入力!T33)","v":""}]
[24,{"$f":"IF(③選手情報入力!B34=\"\",\"\",③選手情報入力!B34)","v":""},{"$f":"IF(③選手情報入力!C34=\"\",\"\",③選手情報入力!C34)","v":""},{"$f":"IF(③選手情報入力!F34=\"\",\"\",③選手情報入力!F34)","v":""},{"$f":"IF(③選手情報入力!G34=\"\",\"\",③選手情報入力!G34)","v":""},{"$f":"IF(③選手情報入力!I34=\"\",\"\",IF(③選手情報入力!H34=\"\",③選手情報入力!I34,③選手情報入力!H34&③選手情報入力!I34))","v":""},{"$f":"IF(③選手情報入力!J34=\"\",\"\",③選手情報入力!J34)","v":""},{"$f":"IF(③選手情報入力!L34=\"\",\"\",IF(③選手情報入力!K34=\"\",③選手情報入力!L34,③選手情報入力!K34&③選手情報入力!L34))","v":""},{"$f":"IF(③選手情報入力!M34=\"\",\"\",③選手情報入力!M34)","v":""},{"$f":"IF(③選手情報入力!O34=\"\",\"\",IF(③選手情報入力!N34=\"\",③選手情報入力!O34,③選手情報入力!N34&③選手情報入力!O34))","v":""},{"$f":"IF(③選手情報入力!P34=\"\",\"\",③選手情報入力!P34)","v":""},{"$f":"IF(③選手情報入力!R34=\"\",\"\",③選手情報入力!R34)","v":""},{"$f":"IF(③選手情報入力!T34=\"\",\"\",③選手情報入力!T34)","v":""}]
[25,{"$f":"IF(③選手情報入力!B35=\"\",\"\",③選手情報入力!B35)","v":""},{"$f":"IF(③選手情報入力!C35=\"\",\"\",③選手情報入力!C35)","v":""},{"$f":"IF(③選手情報入力!F35=\"\",\"\",③選手情報入力!F35)","v":""},{"$f":"IF(③選手情報入力!G35=\"\",\"\",③選手情報入力!G35)","v":""},{"$f":"IF(③選手情報入力!I35=\"\",\"\",IF(③選手情報入力!H35=\"\",③選手情報入力!I35,③選手情報入力!H35&③選手情報入力!I35))","v":""},{"$f":"IF(③選手情報入力!J35=\"\",\"\",③選手情報入力!J35)","v":""},{"$f":"IF(③選手情報入力!L35=\"\",\"\",IF(③選手情報入力!K35=\"\",③選手情報入力!L35,③選手情報入力!K35&③選手情報入力!L35))","v":""},{"$f":"IF(③選手情報入力!M35=\"\",\"\",③選手情報入力!M35)","v":""},{"$f":"IF(③選手情報入力!O35=\"\",\"\",IF(③選手情報入力!N35=\"\",③選手情報入力!O35,③選手情報入力!N35&③選手情報入力!O35))","v":""},{"$f":"IF(③選手情報入力!P35=\"\",\"\",③選手情報入力!P35)","v":""},{"$f":"IF(③選手情報入力!R35=\"\",\"\",③選手情報入力!R35)","v":""},{"$f":"IF(③選手情報入力!T35=\"\",\"\",③選手情報入力!T35)","v":""}]
[26,{"$f":"IF(③選手情報入力!B36=\"\",\"\",③選手情報入力!B36)","v":""},{"$f":"IF(③選手情報入力!C36=\"\",\"\",③選手情報入力!C36)","v":""},{"$f":"IF(③選手情報入力!F36=\"\",\"\",③選手情報入力!F36)","v":""},{"$f":"IF(③選手情報入力!G36=\"\",\"\",③選手情報入力!G36)","v":""},{"$f":"IF(③選手情報入力!I36=\"\",\"\",IF(③選手情報入力!H36=\"\",③選手情報入力!I36,③選手情報入力!H36&③選手情報入力!I36))","v":""},{"$f":"IF(③選手情報入力!J36=\"\",\"\",③選手情報入力!J36)","v":""},{"$f":"IF(③選手情報入力!L36=\"\",\"\",IF(③選手情報入力!K36=\"\",③選手情報入力!L36,③選手情報入力!K36&③選手情報入力!L36))","v":""},{"$f":"IF(③選手情報入力!M36=\"\",\"\",③選手情報入力!M36)","v":""},{"$f":"IF(③選手情報入力!O36=\"\",\"\",IF(③選手情報入力!N36=\"\",③選手情報入力!O36,③選手情報入力!N36&③選手情報入力!O36))","v":""},{"$f":"IF(③選手情報入力!P36=\"\",\"\",③選手情報入力!P36)","v":""},{"$f":"IF(③選手情報入力!R36=\"\",\"\",③選手情報入力!R36)","v":""},{"$f":"IF(③選手情報入力!T36=\"\",\"\",③選手情報入力!T36)","v":""}]
[27,{"$f":"IF(③選手情報入力!B37=\"\",\"\",③選手情報入力!B37)","v":""},{"$f":"IF(③選手情報入力!C37=\"\",\"\",③選手情報入力!C37)","v":""},{"$f":"IF(③選手情報入力!F37=\"\",\"\",③選手情報入力!F37)","v":""},{"$f":"IF(③選手情報入力!G37=\"\",\"\",③選手情報入力!G37)","v":""},{"$f":"IF(③選手情報入力!I37=\"\",\"\",IF(③選手情報入力!H37=\"\",③選手情報入力!I37,③選手情報入力!H37&③選手情報入力!I37))","v":""},{"$f":"IF(③選手情報入力!J37=\"\",\"\",③選手情報入力!J37)","v":""},{"$f":"IF(③選手情報入力!L37=\"\",\"\",IF(③選手情報入力!K37=\"\",③選手情報入力!L37,③選手情報入力!K37&③選手情報入力!L37))","v":""},{"$f":"IF(③選手情報入力!M37=\"\",\"\",③選手情報入力!M37)","v":""},{"$f":"IF(③選手情報入力!O37=\"\",\"\",IF(③選手情報入力!N37=\"\",③選手情報入力!O37,③選手情報入力!N37&③選手情報入力!O37))","v":""},{"$f":"IF(③選手情報入力!P37=\"\",\"\",③選手情報入力!P37)","v":""},{"$f":"IF(③選手情報入力!R37=\"\",\"\",③選手情報入力!R37)","v":""},{"$f":"IF(③選手情報入力!T37=\"\",\"\",③選手情報入力!T37)","v":""}]
[28,{"$f":"IF(③選手情報入力!B38=\"\",\"\",③選手情報入力!B38)","v":""},{"$f":"IF(③選手情報入力!C38=\"\",\"\",③選手情報入力!C38)","v":""},{"$f":"IF(③選手情報入力!F38=\"\",\"\",③選手情報入力!F38)","v":""},{"$f":"IF(③選手情報入力!G38=\"\",\"\",③選手情報入力!G38)","v":""},{"$f":"IF(③選手情報入力!I38=\"\",\"\",IF(③選手情報入力!H38=\"\",③選手情報入力!I38,③選手情報入力!H38&③選手情報入力!I38))","v":""},{"$f":"IF(③選手情報入力!J38=\"\",\"\",③選手情報入力!J38)","v":""},{"$f":"IF(③選手情報入力!L38=\"\",\"\",IF(③選手情報入力!K38=\"\",③選手情報入力!L38,③選手情報入力!K38&③選手情報入力!L38))","v":""},{"$f":"IF(③選手情報入力!M38=\"\",\"\",③選手情報入力!M38)","v":""},{"$f":"IF(③選手情報入力!O38=\"\",\"\",IF(③選手情報入力!N38=\"\",③選手情報入力!O38,③選手情報入力!N38&③選手情報入力!O38))","v":""},{"$f":"IF(③選手情報入力!P38=\"\",\"\",③選手情報入力!P38)","v":""},{"$f":"IF(③選手情報入力!R38=\"\",\"\",③選手情報入力!R38)","v":""},{"$f":"IF(③選手情報入力!T38=\"\",\"\",③選手情報入力!T38)","v":""}]
[29,{"$f":"IF(③選手情報入力!B39=\"\",\"\",③選手情報入力!B39)","v":""},{"$f":"IF(③選手情報入力!C39=\"\",\"\",③選手情報入力!C39)","v":""},{"$f":"IF(③選手情報入力!F39=\"\",\"\",③選手情報入力!F39)","v":""},{"$f":"IF(③選手情報入力!G39=\"\",\"\",③選手情報入力!G39)","v":""},{"$f":"IF(③選手情報入力!I39=\"\",\"\",IF(③選手情報入力!H39=\"\",③選手情報入力!I39,③選手情報入力!H39&③選手情報入力!I39))","v":""},{"$f":"IF(③選手情報入力!J39=\"\",\"\",③選手情報入力!J39)","v":""},{"$f":"IF(③選手情報入力!L39=\"\",\"\",IF(③選手情報入力!K39=\"\",③選手情報入力!L39,③選手情報入力!K39&③選手情報入力!L39))","v":""},{"$f":"IF(③選手情報入力!M39=\"\",\"\",③選手情報入力!M39)","v":""},{"$f":"IF(③選手情報入力!O39=\"\",\"\",IF(③選手情報入力!N39=\"\",③選手情報入力!O39,③選手情報入力!N39&③選手情報入力!O39))","v":""},{"$f":"IF(③選手情報入力!P39=\"\",\"\",③選手情報入力!P39)","v":""},{"$f":"IF(③選手情報入力!R39=\"\",\"\",③選手情報入力!R39)","v":""},{"$f":"IF(③選手情報入力!T39=\"\",\"\",③選手情報入力!T39)","v":""}]
[30,{"$f":"IF(③選手情報入力!B40=\"\",\"\",③選手情報入力!B40)","v":""},{"$f":"IF(③選手情報入力!C40=\"\",\"\",③選手情報入力!C40)","v":""},{"$f":"IF(③選手情報入力!F40=\"\",\"\",③選手情報入力!F40)","v":""},{"$f":"IF(③選手情報入力!G40=\"\",\"\",③選手情報入力!G40)","v":""},{"$f":"IF(③選手情報入力!I40=\"\",\"\",IF(③選手情報入力!H40=\"\",③選手情報入力!I40,③選手情報入力!H40&③選手情報入力!I40))","v":""},{"$f":"IF(③選手情報入力!J40=\"\",\"\",③選手情報入力!J40)","v":""},{"$f":"IF(③選手情報入力!L40=\"\",\"\",IF(③選手情報入力!K40=\"\",③選手情報入力!L40,③選手情報入力!K40&③選手情報入力!L40))","v":""},{"$f":"IF(③選手情報入力!M40=\"\",\"\",③選手情報入力!M40)","v":""},{"$f":"IF(③選手情報入力!O40=\"\",\"\",IF(③選手情報入力!N40=\"\",③選手情報入力!O40,③選手情報入力!N40&③選手情報入力!O40))","v":""},{"$f":"IF(③選手情報入力!P40=\"\",\"\",③選手情報入力!P40)","v":""},{"$f":"IF(③選手情報入力!R40=\"\",\"\",③選手情報入力!R40)","v":""},{"$f":"IF(③選手情報入力!T40=\"\",\"\",③選手情報入力!T40)","v":""}]
[31,{"$f":"IF(③選手情報入力!B41=\"\",\"\",③選手情報入力!B41)","v":""},{"$f":"IF(③選手情報入力!C41=\"\",\"\",③選手情報入力!C41)","v":""},{"$f":"IF(③選手情報入力!F41=\"\",\"\",③選手情報入力!F41)","v":""},{"$f":"IF(③選手情報入力!G41=\"\",\"\",③選手情報入力!G41)","v":""},{"$f":"IF(③選手情報入力!I41=\"\",\"\",IF(③選手情報入力!H41=\"\",③選手情報入力!I41,③選手情報入力!H41&③選手情報入力!I41))","v":""},{"$f":"IF(③選手情報入力!J41=\"\",\"\",③選手情報入力!J41)","v":""},{"$f":"IF(③選手情報入力!L41=\"\",\"\",IF(③選手情報入力!K41=\"\",③選手情報入力!L41,③選手情報入力!K41&③選手情報入力!L41))","v":""},{"$f":"IF(③選手情報入力!M41=\"\",\"\",③選手情報入力!M41)","v":""},{"$f":"IF(③選手情報入力!O41=\"\",\"\",IF(③選手情報入力!N41=\"\",③選手情報入力!O41,③選手情報入力!N41&③選手情報入力!O41))","v":""},{"$f":"IF(③選手情報入力!P41=\"\",\"\",③選手情報入力!P41)","v":""},{"$f":"IF(③選手情報入力!R41=\"\",\"\",③選手情報入力!R41)","v":""},{"$f":"IF(③選手情報入力!T41=\"\",\"\",③選手情報入力!T41)","v":""}]
[32,{"$f":"IF(③選手情報入力!B42=\"\",\"\",③選手情報入力!B42)","v":""},{"$f":"IF(③選手情報入力!C42=\"\",\"\",③選手情報入力!C42)","v":""},{"$f":"IF(③選手情報入力!F42=\"\",\"\",③選手情報入力!F42)","v":""},{"$f":"IF(③選手情報入力!G42=\"\",\"\",③選手情報入力!G42)","v":""},{"$f":"IF(③選手情報入力!I42=\"\",\"\",IF(③選手情報入力!H42=\"\",③選手情報入力!I42,③選手情報入力!H42&③選手情報入力!I42))","v":""},{"$f":"IF(③選手情報入力!J42=\"\",\"\",③選手情報入力!J42)","v":""},{"$f":"IF(③選手情報入力!L42=\"\",\"\",IF(③選手情報入力!K42=\"\",③選手情報入力!L42,③選手情報入力!K42&③選手情報入力!L42))","v":""},{"$f":"IF(③選手情報入力!M42=\"\",\"\",③選手情報入力!M42)","v":""},{"$f":"IF(③選手情報入力!O42=\"\",\"\",IF(③選手情報入力!N42=\"\",③選手情報入力!O42,③選手情報入力!N42&③選手情報入力!O42))","v":""},{"$f":"IF(③選手情報入力!P42=\"\",\"\",③選手情報入力!P42)","v":""},{"$f":"IF(③選手情報入力!R42=\"\",\"\",③選手情報入力!R42)","v":""},{"$f":"IF(③選手情報入力!T42=\"\",\"\",③選手情報入力!T42)","v":""}]
[33,{"$f":"IF(③選手情報入力!B43=\"\",\"\",③選手情報入力!B43)","v":""},{"$f":"IF(③選手情報入力!C43=\"\",\"\",③選手情報入力!C43)","v":""},{"$f":"IF(③選手情報入力!F43=\"\",\"\",③選手情報入力!F43)","v":""},{"$f":"IF(③選手情報入力!G43=\"\",\"\",③選手情報入力!G43)","v":""},{"$f":"IF(③選手情報入力!I43=\"\",\"\",IF(③選手情報入力!H43=\"\",③選手情報入力!I43,③選手情報入力!H43&③選手情報入力!I43))","v":""},{"$f":"IF(③選手情報入力!J43=\"\",\"\",③選手情報入力!J43)","v":""},{"$f":"IF(③選手情報入力!L43=\"\",\"\",IF(③選手情報入力!K43=\"\",③選手情報入力!L43,③選手情報入力!K43&③選手情報入力!L43))","v":""},{"$f":"IF(③選手情報入力!M43=\"\",\"\",③選手情報入力!M43)","v":""},{"$f":"IF(③選手情報入力!O43=\"\",\"\",IF(③選手情報入力!N43=\"\",③選手情報入力!O43,③選手情報入力!N43&③選手情報入力!O43))","v":""},{"$f":"IF(③選手情報入力!P43=\"\",\"\",③選手情報入力!P43)","v":""},{"$f":"IF(③選手情報入力!R43=\"\",\"\",③選手情報入力!R43)","v":""},{"$f":"IF(③選手情報入力!T43=\"\",\"\",③選手情報入力!T43)","v":""}]
[34,{"$f":"IF(③選手情報入力!B44=\"\",\"\",③選手情報入力!B44)","v":""},{"$f":"IF(③選手情報入力!C44=\"\",\"\",③選手情報入力!C44)","v":""},{"$f":"IF(③選手情報入力!F44=\"\",\"\",③選手情報入力!F44)","v":""},{"$f":"IF(③選手情報入力!G44=\"\",\"\",③選手情報入力!G44)","v":""},{"$f":"IF(③選手情報入力!I44=\"\",\"\",IF(③選手情報入力!H44=\"\",③選手情報入力!I44,③選手情報入力!H44&③選手情報入力!I44))","v":""},{"$f":"IF(③選手情報入力!J44=\"\",\"\",③選手情報入力!J44)","v":""},{"$f":"IF(③選手情報入力!L44=\"\",\"\",IF(③選手情報入力!K44=\"\",③選手情報入力!L44,③選手情報入力!K44&③選手情報入力!L44))","v":""},{"$f":"IF(③選手情報入力!M44=\"\",\"\",③選手情報入力!M44)","v":""},{"$f":"IF(③選手情報入力!O44=\"\",\"\",IF(③選手情報入力!N44=\"\",③選手情報入力!O44,③選手情報入力!N44&③選手情報入力!O44))","v":""},{"$f":"IF(③選手情報入力!P44=\"\",\"\",③選手情報入力!P44)","v":""},{"$f":"IF(③選手情報入力!R44=\"\",\"\",③選手情報入力!R44)","v":""},{"$f":"IF(③選手情報入力!T44=\"\",\"\",③選手情報入力!T44)","v":""}]
[35,{"$f":"IF(③選手情報入力!B45=\"\",\"\",③選手情報入力!B45)","v":""},{"$f":"IF(③選手情報入力!C45=\"\",\"\",③選手情報入力!C45)","v":""},{"$f":"IF(③選手情報入力!F45=\"\",\"\",③選手情報入力!F45)","v":""},{"$f":"IF(③選手情報入力!G45=\"\",\"\",③選手情報入力!G45)","v":""},{"$f":"IF(③選手情報入力!I45=\"\",\"\",IF(③選手情報入力!H45=\"\",③選手情報入力!I45,③選手情報入力!H45&③選手情報入力!I45))","v":""},{"$f":"IF(③選手情報入力!J45=\"\",\"\",③選手情報入力!J45)","v":""},{"$f":"IF(③選手情報入力!L45=\"\",\"\",IF(③選手情報入力!K45=\"\",③選手情報入力!L45,③選手情報入力!K45&③選手情報入力!L45))","v":""},{"$f":"IF(③選手情報入力!M45=\"\",\"\",③選手情報入力!M45)","v":""},{"$f":"IF(③選手情報入力!O45=\"\",\"\",IF(③選手情報入力!N45=\"\",③選手情報入力!O45,③選手情報入力!N45&③選手情報入力!O45))","v":""},{"$f":"IF(③選手情報入力!P45=\"\",\"\",③選手情報入力!P45)","v":""},{"$f":"IF(③選手情報入力!R45=\"\",\"\",③選手情報入力!R45)","v":""},{"$f":"IF(③選手情報入力!T45=\"\",\"\",③選手情報入力!T45)","v":""}]
[36,{"$f":"IF(③選手情報入力!B46=\"\",\"\",③選手情報入力!B46)","v":""},{"$f":"IF(③選手情報入力!C46=\"\",\"\",③選手情報入力!C46)","v":""},{"$f":"IF(③選手情報入力!F46=\"\",\"\",③選手情報入力!F46)","v":""},{"$f":"IF(③選手情報入力!G46=\"\",\"\",③選手情報入力!G46)","v":""},{"$f":"IF(③選手情報入力!I46=\"\",\"\",IF(③選手情報入力!H46=\"\",③選手情報入力!I46,③選手情報入力!H46&③選手情報入力!I46))","v":""},{"$f":"IF(③選手情報入力!J46=\"\",\"\",③選手情報入力!J46)","v":""},{"$f":"IF(③選手情報入力!L46=\"\",\"\",IF(③選手情報入力!K46=\"\",③選手情報入力!L46,③選手情報入力!K46&③選手情報入力!L46))","v":""},{"$f":"IF(③選手情報入力!M46=\"\",\"\",③選手情報入力!M46)","v":""},{"$f":"IF(③選手情報入力!O46=\"\",\"\",IF(③選手情報入力!N46=\"\",③選手情報入力!O46,③選手情報入力!N46&③選手情報入力!O46))","v":""},{"$f":"IF(③選手情報入力!P46=\"\",\"\",③選手情報入力!P46)","v":""},{"$f":"IF(③選手情報入力!R46=\"\",\"\",③選手情報入力!R46)","v":""},{"$f":"IF(③選手情報入力!T46=\"\",\"\",③選手情報入力!T46)","v":""}]
[37,{"$f":"IF(③選手情報入力!B47=\"\",\"\",③選手情報入力!B47)","v":""},{"$f":"IF(③選手情報入力!C47=\"\",\"\",③選手情報入力!C47)","v":""},{"$f":"IF(③選手情報入力!F47=\"\",\"\",③選手情報入力!F47)","v":""},{"$f":"IF(③選手情報入力!G47=\"\",\"\",③選手情報入力!G47)","v":""},{"$f":"IF(③選手情報入力!I47=\"\",\"\",IF(③選手情報入力!H47=\"\",③選手情報入力!I47,③選手情報入力!H47&③選手情報入力!I47))","v":""},{"$f":"IF(③選手情報入力!J47=\"\",\"\",③選手情報入力!J47)","v":""},{"$f":"IF(③選手情報入力!L47=\"\",\"\",IF(③選手情報入力!K47=\"\",③選手情報入力!L47,③選手情報入力!K47&③選手情報入力!L47))","v":""},{"$f":"IF(③選手情報入力!M47=\"\",\"\",③選手情報入力!M47)","v":""},{"$f":"IF(③選手情報入力!O47=\"\",\"\",IF(③選手情報入力!N47=\"\",③選手情報入力!O47,③選手情報入力!N47&③選手情報入力!O47))","v":""},{"$f":"IF(③選手情報入力!P47=\"\",\"\",③選手情報入力!P47)","v":""},{"$f":"IF(③選手情報入力!R47=\"\",\"\",③選手情報入力!R47)","v":""},{"$f":"IF(③選手情報入力!T47=\"\",\"\",③選手情報入力!T47)","v":""}]
[38,{"$f":"IF(③選手情報入力!B48=\"\",\"\",③選手情報入力!B48)","v":""},{"$f":"IF(③選手情報入力!C48=\"\",\"\",③選手情報入力!C48)","v":""},{"$f":"IF(③選手情報入力!F48=\"\",\"\",③選手情報入力!F48)","v":""},{"$f":"IF(③選手情報入力!G48=\"\",\"\",③選手情報入力!G48)","v":""},{"$f":"IF(③選手情報入力!I48=\"\",\"\",IF(③選手情報入力!H48=\"\",③選手情報入力!I48,③選手情報入力!H48&③選手情報入力!I48))","v":""},{"$f":"IF(③選手情報入力!J48=\"\",\"\",③選手情報入力!J48)","v":""},{"$f":"IF(③選手情報入力!L48=\"\",\"\",IF(③選手情報入力!K48=\"\",③選手情報入力!L48,③選手情報入力!K48&③選手情報入力!L48))","v":""},{"$f":"IF(③選手情報入力!M48=\"\",\"\",③選手情報入力!M48)","v":""},{"$f":"IF(③選手情報入力!O48=\"\",\"\",IF(③選手情報入力!N48=\"\",③選手情報入力!O48,③選手情報入力!N48&③選手情報入力!O48))","v":""},{"$f":"IF(③選手情報入力!P48=\"\",\"\",③選手情報入力!P48)","v":""},{"$f":"IF(③選手情報入力!R48=\"\",\"\",③選手情報入力!R48)","v":""},{"$f":"IF(③選手情報入力!T48=\"\",\"\",③選手情報入力!T48)","v":""}]
[39,{"$f":"IF(③選手情報入力!B49=\"\",\"\",③選手情報入力!B49)","v":""},{"$f":"IF(③選手情報入力!C49=\"\",\"\",③選手情報入力!C49)","v":""},{"$f":"IF(③選手情報入力!F49=\"\",\"\",③選手情報入力!F49)","v":""},{"$f":"IF(③選手情報入力!G49=\"\",\"\",③選手情報入力!G49)","v":""},{"$f":"IF(③選手情報入力!I49=\"\",\"\",IF(③選手情報入力!H49=\"\",③選手情報入力!I49,③選手情報入力!H49&③選手情報入力!I49))","v":""},{"$f":"IF(③選手情報入力!J49=\"\",\"\",③選手情報入力!J49)","v":""},{"$f":"IF(③選手情報入力!L49=\"\",\"\",IF(③選手情報入力!K49=\"\",③選手情報入力!L49,③選手情報入力!K49&③選手情報入力!L49))","v":""},{"$f":"IF(③選手情報入力!M49=\"\",\"\",③選手情報入力!M49)","v":""},{"$f":"IF(③選手情報入力!O49=\"\",\"\",IF(③選手情報入力!N49=\"\",③選手情報入力!O49,③選手情報入力!N49&③選手情報入力!O49))","v":""},{"$f":"IF(③選手情報入力!P49=\"\",\"\",③選手情報入力!P49)","v":""},{"$f":"IF(③選手情報入力!R49=\"\",\"\",③選手情報入力!R49)","v":""},{"$f":"IF(③選手情報入力!T49=\"\",\"\",③選手情報入力!T49)","v":""}]
[40,{"$f":"IF(③選手情報入力!B50=\"\",\"\",③選手情報入力!B50)","v":""},{"$f":"IF(③選手情報入力!C50=\"\",\"\",③選手情報入力!C50)","v":""},{"$f":"IF(③選手情報入力!F50=\"\",\"\",③選手情報入力!F50)","v":""},{"$f":"IF(③選手情報入力!G50=\"\",\"\",③選手情報入力!G50)","v":""},{"$f":"IF(③選手情報入力!I50=\"\",\"\",IF(③選手情報入力!H50=\"\",③選手情報入力!I50,③選手情報入力!H50&③選手情報入力!I50))","v":""},{"$f":"IF(③選手情報入力!J50=\"\",\"\",③選手情報入力!J50)","v":""},{"$f":"IF(③選手情報入力!L50=\"\",\"\",IF(③選手情報入力!K50=\"\",③選手情報入力!L50,③選手情報入力!K50&③選手情報入力!L50))","v":""},{"$f":"IF(③選手情報入力!M50=\"\",\"\",③選手情報入力!M50)","v":""},{"$f":"IF(③選手情報入力!O50=\"\",\"\",IF(③選手情報入力!N50=\"\",③選手情報入力!O50,③選手情報入力!N50&③選手情報入力!O50))","v":""},{"$f":"IF(③選手情報入力!P50=\"\",\"\",③選手情報入力!P50)","v":""},{"$f":"IF(③選手情報入力!R50=\"\",\"\",③選手情報入力!R50)","v":""},{"$f":"IF(③選手情報入力!T50=\"\",\"\",③選手情報入力!T50)","v":""}]
[41,{"$f":"IF(③選手情報入力!B51=\"\",\"\",③選手情報入力!B51)","v":""},{"$f":"IF(③選手情報入力!C51=\"\",\"\",③選手情報入力!C51)","v":""},{"$f":"IF(③選手情報入力!F51=\"\",\"\",③選手情報入力!F51)","v":""},{"$f":"IF(③選手情報入力!G51=\"\",\"\",③選手情報入力!G51)","v":""},{"$f":"IF(③選手情報入力!I51=\"\",\"\",IF(③選手情報入力!H51=\"\",③選手情報入力!I51,③選手情報入力!H51&③選手情報入力!I51))","v":""},{"$f":"IF(③選手情報入力!J51=\"\",\"\",③選手情報入力!J51)","v":""},{"$f":"IF(③選手情報入力!L51=\"\",\"\",IF(③選手情報入力!K51=\"\",③選手情報入力!L51,③選手情報入力!K51&③選手情報入力!L51))","v":""},{"$f":"IF(③選手情報入力!M51=\"\",\"\",③選手情報入力!M51)","v":""},{"$f":"IF(③選手情報入力!O51=\"\",\"\",IF(③選手情報入力!N51=\"\",③選手情報入力!O51,③選手情報入力!N51&③選手情報入力!O51))","v":""},{"$f":"IF(③選手情報入力!P51=\"\",\"\",③選手情報入力!P51)","v":""},{"$f":"IF(③選手情報入力!R51=\"\",\"\",③選手情報入力!R51)","v":""},{"$f":"IF(③選手情報入力!T51=\"\",\"\",③選手情報入力!T51)","v":""}]
[42,{"$f":"IF(③選手情報入力!B52=\"\",\"\",③選手情報入力!B52)","v":""},{"$f":"IF(③選手情報入力!C52=\"\",\"\",③選手情報入力!C52)","v":""},{"$f":"IF(③選手情報入力!F52=\"\",\"\",③選手情報入力!F52)","v":""},{"$f":"IF(③選手情報入力!G52=\"\",\"\",③選手情報入力!G52)","v":""},{"$f":"IF(③選手情報入力!I52=\"\",\"\",IF(③選手情報入力!H52=\"\",③選手情報入力!I52,③選手情報入力!H52&③選手情報入力!I52))","v":""},{"$f":"IF(③選手情報入力!J52=\"\",\"\",③選手情報入力!J52)","v":""},{"$f":"IF(③選手情報入力!L52=\"\",\"\",IF(③選手情報入力!K52=\"\",③選手情報入力!L52,③選手情報入力!K52&③選手情報入力!L52))","v":""},{"$f":"IF(③選手情報入力!M52=\"\",\"\",③選手情報入力!M52)","v":""},{"$f":"IF(③選手情報入力!O52=\"\",\"\",IF(③選手情報入力!N52=\"\",③選手情報入力!O52,③選手情報入力!N52&③選手情報入力!O52))","v":""},{"$f":"IF(③選手情報入力!P52=\"\",\"\",③選手情報入力!P52)","v":""},{"$f":"IF(③選手情報入力!R52=\"\",\"\",③選手情報入力!R52)","v":""},{"$f":"IF(③選手情報入力!T52=\"\",\"\",③選手情報入力!T52)","v":""}]
[43,{"$f":"IF(③選手情報入力!B53=\"\",\"\",③選手情報入力!B53)","v":""},{"$f":"IF(③選手情報入力!C53=\"\",\"\",③選手情報入力!C53)","v":""},{"$f":"IF(③選手情報入力!F53=\"\",\"\",③選手情報入力!F53)","v":""},{"$f":"IF(③選手情報入力!G53=\"\",\"\",③選手情報入力!G53)","v":""},{"$f":"IF(③選手情報入力!I53=\"\",\"\",IF(③選手情報入力!H53=\"\",③選手情報入力!I53,③選手情報入力!H53&③選手情報入力!I53))","v":""},{"$f":"IF(③選手情報入力!J53=\"\",\"\",③選手情報入力!J53)","v":""},{"$f":"IF(③選手情報入力!L53=\"\",\"\",IF(③選手情報入力!K53=\"\",③選手情報入力!L53,③選手情報入力!K53&③選手情報入力!L53))","v":""},{"$f":"IF(③選手情報入力!M53=\"\",\"\",③選手情報入力!M53)","v":""},{"$f":"IF(③選手情報入力!O53=\"\",\"\",IF(③選手情報入力!N53=\"\",③選手情報入力!O53,③選手情報入力!N53&③選手情報入力!O53))","v":""},{"$f":"IF(③選手情報入力!P53=\"\",\"\",③選手情報入力!P53)","v":""},{"$f":"IF(③選手情報入力!R53=\"\",\"\",③選手情報入力!R53)","v":""},{"$f":"IF(③選手情報入力!T53=\"\",\"\",③選手情報入力!T53)","v":""}]
[44,{"$f":"IF(③選手情報入力!B54=\"\",\"\",③選手情報入力!B54)","v":""},{"$f":"IF(③選手情報入力!C54=\"\",\"\",③選手情報入力!C54)","v":""},{"$f":"IF(③選手情報入力!F54=\"\",\"\",③選手情報入力!F54)","v":""},{"$f":"IF(③選手情報入力!G54=\"\",\"\",③選手情報入力!G54)","v":""},{"$f":"IF(③選手情報入力!I54=\"\",\"\",IF(③選手情報入力!H54=\"\",③選手情報入力!I54,③選手情報入力!H54&③選手情報入力!I54))","v":""},{"$f":"IF(③選手情報入力!J54=\"\",\"\",③選手情報入力!J54)","v":""},{"$f":"IF(③選手情報入力!L54=\"\",\"\",IF(③選手情報入力!K54=\"\",③選手情報入力!L54,③選手情報入力!K54&③選手情報入力!L54))","v":""},{"$f":"IF(③選手情報入力!M54=\"\",\"\",③選手情報入力!M54)","v":""},{"$f":"IF(③選手情報入力!O54=\"\",\"\",IF(③選手情報入力!N54=\"\",③選手情報入力!O54,③選手情報入力!N54&③選手情報入力!O54))","v":""},{"$f":"IF(③選手情報入力!P54=\"\",\"\",③選手情報入力!P54)","v":""},{"$f":"IF(③選手情報入力!R54=\"\",\"\",③選手情報入力!R54)","v":""},{"$f":"IF(③選手情報入力!T54=\"\",\"\",③選手情報入力!T54)","v":""}]
[45,{"$f":"IF(③選手情報入力!B55=\"\",\"\",③選手情報入力!B55)","v":""},{"$f":"IF(③選手情報入力!C55=\"\",\"\",③選手情報入力!C55)","v":""},{"$f":"IF(③選手情報入力!F55=\"\",\"\",③選手情報入力!F55)","v":""},{"$f":"IF(③選手情報入力!G55=\"\",\"\",③選手情報入力!G55)","v":""},{"$f":"IF(③選手情報入力!I55=\"\",\"\",IF(③選手情報入力!H55=\"\",③選手情報入力!I55,③選手情報入力!H55&③選手情報入力!I55))","v":""},{"$f":"IF(③選手情報入力!J55=\"\",\"\",③選手情報入力!J55)","v":""},{"$f":"IF(③選手情報入力!L55=\"\",\"\",IF(③選手情報入力!K55=\"\",③選手情報入力!L55,③選手情報入力!K55&③選手情報入力!L55))","v":""},{"$f":"IF(③選手情報入力!M55=\"\",\"\",③選手情報入力!M55)","v":""},{"$f":"IF(③選手情報入力!O55=\"\",\"\",IF(③選手情報入力!N55=\"\",③選手情報入力!O55,③選手情報入力!N55&③選手情報入力!O55))","v":""},{"$f":"IF(③選手情報入力!P55=\"\",\"\",③選手情報入力!P55)","v":""},{"$f":"IF(③選手情報入力!R55=\"\",\"\",③選手情報入力!R55)","v":""},{"$f":"IF(③選手情報入力!T55=\"\",\"\",③選手情報入力!T55)","v":""}]
[46,{"$f":"IF(③選手情報入力!B56=\"\",\"\",③選手情報入力!B56)","v":""},{"$f":"IF(③選手情報入力!C56=\"\",\"\",③選手情報入力!C56)","v":""},{"$f":"IF(③選手情報入力!F56=\"\",\"\",③選手情報入力!F56)","v":""},{"$f":"IF(③選手情報入力!G56=\"\",\"\",③選手情報入力!G56)","v":""},{"$f":"IF(③選手情報入力!I56=\"\",\"\",IF(③選手情報入力!H56=\"\",③選手情報入力!I56,③選手情報入力!H56&③選手情報入力!I56))","v":""},{"$f":"IF(③選手情報入力!J56=\"\",\"\",③選手情報入力!J56)","v":""},{"$f":"IF(③選手情報入力!L56=\"\",\"\",IF(③選手情報入力!K56=\"\",③選手情報入力!L56,③選手情報入力!K56&③選手情報入力!L56))","v":""},{"$f":"IF(③選手情報入力!M56=\"\",\"\",③選手情報入力!M56)","v":""},{"$f":"IF(③選手情報入力!O56=\"\",\"\",IF(③選手情報入力!N56=\"\",③選手情報入力!O56,③選手情報入力!N56&③選手情報入力!O56))","v":""},{"$f":"IF(③選手情報入力!P56=\"\",\"\",③選手情報入力!P56)","v":""},{"$f":"IF(③選手情報入力!R56=\"\",\"\",③選手情報入力!R56)","v":""},{"$f":"IF(③選手情報入力!T56=\"\",\"\",③選手情報入力!T56)","v":""}]
[47,{"$f":"IF(③選手情報入力!B57=\"\",\"\",③選手情報入力!B57)","v":""},{"$f":"IF(③選手情報入力!C57=\"\",\"\",③選手情報入力!C57)","v":""},{"$f":"IF(③選手情報入力!F57=\"\",\"\",③選手情報入力!F57)","v":""},{"$f":"IF(③選手情報入力!G57=\"\",\"\",③選手情報入力!G57)","v":""},{"$f":"IF(③選手情報入力!I57=\"\",\"\",IF(③選手情報入力!H57=\"\",③選手情報入力!I57,③選手情報入力!H57&③選手情報入力!I57))","v":""},{"$f":"IF(③選手情報入力!J57=\"\",\"\",③選手情報入力!J57)","v":""},{"$f":"IF(③選手情報入力!L57=\"\",\"\",IF(③選手情報入力!K57=\"\",③選手情報入力!L57,③選手情報入力!K57&③選手情報入力!L57))","v":""},{"$f":"IF(③選手情報入力!M57=\"\",\"\",③選手情報入力!M57)","v":""},{"$f":"IF(③選手情報入力!O57=\"\",\"\",IF(③選手情報入力!N57=\"\",③選手情報入力!O57,③選手情報入力!N57&③選手情報入力!O57))","v":""},{"$f":"IF(③選手情報入力!P57=\"\",\"\",③選手情報入力!P57)","v":""},{"$f":"IF(③選手情報入力!R57=\"\",\"\",③選手情報入力!R57)","v":""},{"$f":"IF(③選手情報入力!T57=\"\",\"\",③選手情報入力!T57)","v":""}]
[48,{"$f":"IF(③選手情報入力!B58=\"\",\"\",③選手情報入力!B58)","v":""},{"$f":"IF(③選手情報入力!C58=\"\",\"\",③選手情報入力!C58)","v":""},{"$f":"IF(③選手情報入力!F58=\"\",\"\",③選手情報入力!F58)","v":""},{"$f":"IF(③選手情報入力!G58=\"\",\"\",③選手情報入力!G58)","v":""},{"$f":"IF(③選手情報入力!I58=\"\",\"\",IF(③選手情報入力!H58=\"\",③選手情報入力!I58,③選手情報入力!H58&③選手情報入力!I58))","v":""},{"$f":"IF(③選手情報入力!J58=\"\",\"\",③選手情報入力!J58)","v":""},{"$f":"IF(③選手情報入力!L58=\"\",\"\",IF(③選手情報入力!K58=\"\",③選手情報入力!L58,③選手情報入力!K58&③選手情報入力!L58))","v":""},{"$f":"IF(③選手情報入力!M58=\"\",\"\",③選手情報入力!M58)","v":""},{"$f":"IF(③選手情報入力!O58=\"\",\"\",IF(③選手情報入力!N58=\"\",③選手情報入力!O58,③選手情報入力!N58&③選手情報入力!O58))","v":""},{"$f":"IF(③選手情報入力!P58=\"\",\"\",③選手情報入力!P58)","v":""},{"$f":"IF(③選手情報入力!R58=\"\",\"\",③選手情報入力!R58)","v":""},{"$f":"IF(③選手情報入力!T58=\"\",\"\",③選手情報入力!T58)","v":""}]
[49,{"$f":"IF(③選手情報入力!B59=\"\",\"\",③選手情報入力!B59)","v":""},{"$f":"IF(③選手情報入力!C59=\"\",\"\",③選手情報入力!C59)","v":""},{"$f":"IF(③選手情報入力!F59=\"\",\"\",③選手情報入力!F59)","v":""},{"$f":"IF(③選手情報入力!G59=\"\",\"\",③選手情報入力!G59)","v":""},{"$f":"IF(③選手情報入力!I59=\"\",\"\",IF(③選手情報入力!H59=\"\",③選手情報入力!I59,③選手情報入力!H59&③選手情報入力!I59))","v":""},{"$f":"IF(③選手情報入力!J59=\"\",\"\",③選手情報入力!J59)","v":""},{"$f":"IF(③選手情報入力!L59=\"\",\"\",IF(③選手情報入力!K59=\"\",③選手情報入力!L59,③選手情報入力!K59&③選手情報入力!L59))","v":""},{"$f":"IF(③選手情報入力!M59=\"\",\"\",③選手情報入力!M59)","v":""},{"$f":"IF(③選手情報入力!O59=\"\",\"\",IF(③選手情報入力!N59=\"\",③選手情報入力!O59,③選手情報入力!N59&③選手情報入力!O59))","v":""},{"$f":"IF(③選手情報入力!P59=\"\",\"\",③選手情報入力!P59)","v":""},{"$f":"IF(③選手情報入力!R59=\"\",\"\",③選手情報入力!R59)","v":""},{"$f":"IF(③選手情報入力!T59=\"\",\"\",③選手情報入力!T59)","v":""}]
[50,{"$f":"IF(③選手情報入力!B60=\"\",\"\",③選手情報入力!B60)","v":""},{"$f":"IF(③選手情報入力!C60=\"\",\"\",③選手情報入力!C60)","v":""},{"$f":"IF(③選手情報入力!F60=\"\",\"\",③選手情報入力!F60)","v":""},{"$f":"IF(③選手情報入力!G60=\"\",\"\",③選手情報入力!G60)","v":""},{"$f":"IF(③選手情報入力!I60=\"\",\"\",IF(③選手情報入力!H60=\"\",③選手情報入力!I60,③選手情報入力!H60&③選手情報入力!I60))","v":""},{"$f":"IF(③選手情報入力!J60=\"\",\"\",③選手情報入力!J60)","v":""},{"$f":"IF(③選手情報入力!L60=\"\",\"\",IF(③選手情報入力!K60=\"\",③選手情報入力!L60,③選手情報入力!K60&③選手情報入力!L60))","v":""},{"$f":"IF(③選手情報入力!M60=\"\",\"\",③選手情報入力!M60)","v":""},{"$f":"IF(③選手情報入力!O60=\"\",\"\",IF(③選手情報入力!N60=\"\",③選手情報入力!O60,③選手情報入力!N60&③選手情報入力!O60))","v":""},{"$f":"IF(③選手情報入力!P60=\"\",\"\",③選手情報入力!P60)","v":""},{"$f":"IF(③選手情報入力!R60=\"\",\"\",③選手情報入力!R60)","v":""},{"$f":"IF(③選手情報入力!T60=\"\",\"\",③選手情報入力!T60)","v":""}]
[51,{"$f":"IF(③選手情報入力!B61=\"\",\"\",③選手情報入力!B61)","v":""},{"$f":"IF(③選手情報入力!C61=\"\",\"\",③選手情報入力!C61)","v":""},{"$f":"IF(③選手情報入力!F61=\"\",\"\",③選手情報入力!F61)","v":""},{"$f":"IF(③選手情報入力!G61=\"\",\"\",③選手情報入力!G61)","v":""},{"$f":"IF(③選手情報入力!I61=\"\",\"\",IF(③選手情報入力!H61=\"\",③選手情報入力!I61,③選手情報入力!H61&③選手情報入力!I61))","v":""},{"$f":"IF(③選手情報入力!J61=\"\",\"\",③選手情報入力!J61)","v":""},{"$f":"IF(③選手情報入力!L61=\"\",\"\",IF(③選手情報入力!K61=\"\",③選手情報入力!L61,③選手情報入力!K61&③選手情報入力!L61))","v":""},{"$f":"IF(③選手情報入力!M61=\"\",\"\",③選手情報入力!M61)","v":""},{"$f":"IF(③選手情報入力!O61=\"\",\"\",IF(③選手情報入力!N61=\"\",③選手情報入力!O61,③選手情報入力!N61&③選手情報入力!O61))","v":""},{"$f":"IF(③選手情報入力!P61=\"\",\"\",③選手情報入力!P61)","v":""},{"$f":"IF(③選手情報入力!R61=\"\",\"\",③選手情報入力!R61)","v":""},{"$f":"IF(③選手情報入力!T61=\"\",\"\",③選手情報入力!T61)","v":""}]
[52,{"$f":"IF(③選手情報入力!B62=\"\",\"\",③選手情報入力!B62)","v":""},{"$f":"IF(③選手情報入力!C62=\"\",\"\",③選手情報入力!C62)","v":""},{"$f":"IF(③選手情報入力!F62=\"\",\"\",③選手情報入力!F62)","v":""},{"$f":"IF(③選手情報入力!G62=\"\",\"\",③選手情報入力!G62)","v":""},{"$f":"IF(③選手情報入力!I62=\"\",\"\",IF(③選手情報入力!H62=\"\",③選手情報入力!I62,③選手情報入力!H62&③選手情報入力!I62))","v":""},{"$f":"IF(③選手情報入力!J62=\"\",\"\",③選手情報入力!J62)","v":""},{"$f":"IF(③選手情報入力!L62=\"\",\"\",IF(③選手情報入力!K62=\"\",③選手情報入力!L62,③選手情報入力!K62&③選手情報入力!L62))","v":""},{"$f":"IF(③選手情報入力!M62=\"\",\"\",③選手情報入力!M62)","v":""},{"$f":"IF(③選手情報入力!O62=\"\",\"\",IF(③選手情報入力!N62=\"\",③選手情報入力!O62,③選手情報入力!N62&③選手情報入力!O62))","v":""},{"$f":"IF(③選手情報入力!P62=\"\",\"\",③選手情報入力!P62)","v":""},{"$f":"IF(③選手情報入力!R62=\"\",\"\",③選手情報入力!R62)","v":""},{"$f":"IF(③選手情報入力!T62=\"\",\"\",③選手情報入力!T62)","v":""}]
[53,{"$f":"IF(③選手情報入力!B63=\"\",\"\",③選手情報入力!B63)","v":""},{"$f":"IF(③選手情報入力!C63=\"\",\"\",③選手情報入力!C63)","v":""},{"$f":"IF(③選手情報入力!F63=\"\",\"\",③選手情報入力!F63)","v":""},{"$f":"IF(③選手情報入力!G63=\"\",\"\",③選手情報入力!G63)","v":""},{"$f":"IF(③選手情報入力!I63=\"\",\"\",IF(③選手情報入力!H63=\"\",③選手情報入力!I63,③選手情報入力!H63&③選手情報入力!I63))","v":""},{"$f":"IF(③選手情報入力!J63=\"\",\"\",③選手情報入力!J63)","v":""},{"$f":"IF(③選手情報入力!L63=\"\",\"\",IF(③選手情報入力!K63=\"\",③選手情報入力!L63,③選手情報入力!K63&③選手情報入力!L63))","v":""},{"$f":"IF(③選手情報入力!M63=\"\",\"\",③選手情報入力!M63)","v":""},{"$f":"IF(③選手情報入力!O63=\"\",\"\",IF(③選手情報入力!N63=\"\",③選手情報入力!O63,③選手情報入力!N63&③選手情報入力!O63))","v":""},{"$f":"IF(③選手情報入力!P63=\"\",\"\",③選手情報入力!P63)","v":""},{"$f":"IF(③選手情報入力!R63=\"\",\"\",③選手情報入力!R63)","v":""},{"$f":"IF(③選手情報入力!T63=\"\",\"\",③選手情報入力!T63)","v":""}]
[54,{"$f":"IF(③選手情報入力!B64=\"\",\"\",③選手情報入力!B64)","v":""},{"$f":"IF(③選手情報入力!C64=\"\",\"\",③選手情報入力!C64)","v":""},{"$f":"IF(③選手情報入力!F64=\"\",\"\",③選手情報入力!F64)","v":""},{"$f":"IF(③選手情報入力!G64=\"\",\"\",③選手情報入力!G64)","v":""},{"$f":"IF(③選手情報入力!I64=\"\",\"\",IF(③選手情報入力!H64=\"\",③選手情報入力!I64,③選手情報入力!H64&③選手情報入力!I64))","v":""},{"$f":"IF(③選手情報入力!J64=\"\",\"\",③選手情報入力!J64)","v":""},{"$f":"IF(③選手情報入力!L64=\"\",\"\",IF(③選手情報入力!K64=\"\",③選手情報入力!L64,③選手情報入力!K64&③選手情報入力!L64))","v":""},{"$f":"IF(③選手情報入力!M64=\"\",\"\",③選手情報入力!M64)","v":""},{"$f":"IF(③選手情報入力!O64=\"\",\"\",IF(③選手情報入力!N64=\"\",③選手情報入力!O64,③選手情報入力!N64&③選手情報入力!O64))","v":""},{"$f":"IF(③選手情報入力!P64=\"\",\"\",③選手情報入力!P64)","v":""},{"$f":"IF(③選手情報入力!R64=\"\",\"\",③選手情報入力!R64)","v":""},{"$f":"IF(③選手情報入力!T64=\"\",\"\",③選手情報入力!T64)","v":""}]
[55,{"$f":"IF(③選手情報入力!B65=\"\",\"\",③選手情報入力!B65)","v":""},{"$f":"IF(③選手情報入力!C65=\"\",\"\",③選手情報入力!C65)","v":""},{"$f":"IF(③選手情報入力!F65=\"\",\"\",③選手情報入力!F65)","v":""},{"$f":"IF(③選手情報入力!G65=\"\",\"\",③選手情報入力!G65)","v":""},{"$f":"IF(③選手情報入力!I65=\"\",\"\",IF(③選手情報入力!H65=\"\",③選手情報入力!I65,③選手情報入力!H65&③選手情報入力!I65))","v":""},{"$f":"IF(③選手情報入力!J65=\"\",\"\",③選手情報入力!J65)","v":""},{"$f":"IF(③選手情報入力!L65=\"\",\"\",IF(③選手情報入力!K65=\"\",③選手情報入力!L65,③選手情報入力!K65&③選手情報入力!L65))","v":""},{"$f":"IF(③選手情報入力!M65=\"\",\"\",③選手情報入力!M65)","v":""},{"$f":"IF(③選手情報入力!O65=\"\",\"\",IF(③選手情報入力!N65=\"\",③選手情報入力!O65,③選手情報入力!N65&③選手情報入力!O65))","v":""},{"$f":"IF(③選手情報入力!P65=\"\",\"\",③選手情報入力!P65)","v":""},{"$f":"IF(③選手情報入力!R65=\"\",\"\",③選手情報入力!R65)","v":""},{"$f":"IF(③選手情報入力!T65=\"\",\"\",③選手情報入力!T65)","v":""}]
[56,{"$f":"IF(③選手情報入力!B66=\"\",\"\",③選手情報入力!B66)","v":""},{"$f":"IF(③選手情報入力!C66=\"\",\"\",③選手情報入力!C66)","v":""},{"$f":"IF(③選手情報入力!F66=\"\",\"\",③選手情報入力!F66)","v":""},{"$f":"IF(③選手情報入力!G66=\"\",\"\",③選手情報入力!G66)","v":""},{"$f":"IF(③選手情報入力!I66=\"\",\"\",IF(③選手情報入力!H66=\"\",③選手情報入力!I66,③選手情報入力!H66&③選手情報入力!I66))","v":""},{"$f":"IF(③選手情報入力!J66=\"\",\"\",③選手情報入力!J66)","v":""},{"$f":"IF(③選手情報入力!L66=\"\",\"\",IF(③選手情報入力!K66=\"\",③選手情報入力!L66,③選手情報入力!K66&③選手情報入力!L66))","v":""},{"$f":"IF(③選手情報入力!M66=\"\",\"\",③選手情報入力!M66)","v":""},{"$f":"IF(③選手情報入力!O66=\"\",\"\",IF(③選手情報入力!N66=\"\",③選手情報入力!O66,③選手情報入力!N66&③選手情報入力!O66))","v":""},{"$f":"IF(③選手情報入力!P66=\"\",\"\",③選手情報入力!P66)","v":""},{"$f":"IF(③選手情報入力!R66=\"\",\"\",③選手情報入力!R66)","v":""},{"$f":"IF(③選手情報入力!T66=\"\",\"\",③選手情報入力!T66)","v":""}]
[57,{"$f":"IF(③選手情報入力!B67=\"\",\"\",③選手情報入力!B67)","v":""},{"$f":"IF(③選手情報入力!C67=\"\",\"\",③選手情報入力!C67)","v":""},{"$f":"IF(③選手情報入力!F67=\"\",\"\",③選手情報入力!F67)","v":""},{"$f":"IF(③選手情報入力!G67=\"\",\"\",③選手情報入力!G67)","v":""},{"$f":"IF(③選手情報入力!I67=\"\",\"\",IF(③選手情報入力!H67=\"\",③選手情報入力!I67,③選手情報入力!H67&③選手情報入力!I67))","v":""},{"$f":"IF(③選手情報入力!J67=\"\",\"\",③選手情報入力!J67)","v":""},{"$f":"IF(③選手情報入力!L67=\"\",\"\",IF(③選手情報入力!K67=\"\",③選手情報入力!L67,③選手情報入力!K67&③選手情報入力!L67))","v":""},{"$f":"IF(③選手情報入力!M67=\"\",\"\",③選手情報入力!M67)","v":""},{"$f":"IF(③選手情報入力!O67=\"\",\"\",IF(③選手情報入力!N67=\"\",③選手情報入力!O67,③選手情報入力!N67&③選手情報入力!O67))","v":""},{"$f":"IF(③選手情報入力!P67=\"\",\"\",③選手情報入力!P67)","v":""},{"$f":"IF(③選手情報入力!R67=\"\",\"\",③選手情報入力!R67)","v":""},{"$f":"IF(③選手情報入力!T67=\"\",\"\",③選手情報入力!T67)","v":""}]
[58,{"$f":"IF(③選手情報入力!B68=\"\",\"\",③選手情報入力!B68)","v":""},{"$f":"IF(③選手情報入力!C68=\"\",\"\",③選手情報入力!C68)","v":""},{"$f":"IF(③選手情報入力!F68=\"\",\"\",③選手情報入力!F68)","v":""},{"$f":"IF(③選手情報入力!G68=\"\",\"\",③選手情報入力!G68)","v":""},{"$f":"IF(③選手情報入力!I68=\"\",\"\",IF(③選手情報入力!H68=\"\",③選手情報入力!I68,③選手情報入力!H68&③選手情報入力!I68))","v":""},{"$f":"IF(③選手情報入力!J68=\"\",\"\",③選手情報入力!J68)","v":""},{"$f":"IF(③選手情報入力!L68=\"\",\"\",IF(③選手情報入力!K68=\"\",③選手情報入力!L68,③選手情報入力!K68&③選手情報入力!L68))","v":""},{"$f":"IF(③選手情報入力!M68=\"\",\"\",③選手情報入力!M68)","v":""},{"$f":"IF(③選手情報入力!O68=\"\",\"\",IF(③選手情報入力!N68=\"\",③選手情報入力!O68,③選手情報入力!N68&③選手情報入力!O68))","v":""},{"$f":"IF(③選手情報入力!P68=\"\",\"\",③選手情報入力!P68)","v":""},{"$f":"IF(③選手情報入力!R68=\"\",\"\",③選手情報入力!R68)","v":""},{"$f":"IF(③選手情報入力!T68=\"\",\"\",③選手情報入力!T68)","v":""}]
[59,{"$f":"IF(③選手情報入力!B69=\"\",\"\",③選手情報入力!B69)","v":""},{"$f":"IF(③選手情報入力!C69=\"\",\"\",③選手情報入力!C69)","v":""},{"$f":"IF(③選手情報入力!F69=\"\",\"\",③選手情報入力!F69)","v":""},{"$f":"IF(③選手情報入力!G69=\"\",\"\",③選手情報入力!G69)","v":""},{"$f":"IF(③選手情報入力!I69=\"\",\"\",IF(③選手情報入力!H69=\"\",③選手情報入力!I69,③選手情報入力!H69&③選手情報入力!I69))","v":""},{"$f":"IF(③選手情報入力!J69=\"\",\"\",③選手情報入力!J69)","v":""},{"$f":"IF(③選手情報入力!L69=\"\",\"\",IF(③選手情報入力!K69=\"\",③選手情報入力!L69,③選手情報入力!K69&③選手情報入力!L69))","v":""},{"$f":"IF(③選手情報入力!M69=\"\",\"\",③選手情報入力!M69)","v":""},{"$f":"IF(③選手情報入力!O69=\"\",\"\",IF(③選手情報入力!N69=\"\",③選手情報入力!O69,③選手情報入力!N69&③選手情報入力!O69))","v":""},{"$f":"IF(③選手情報入力!P69=\"\",\"\",③選手情報入力!P69)","v":""},{"$f":"IF(③選手情報入力!R69=\"\",\"\",③選手情報入力!R69)","v":""},{"$f":"IF(③選手情報入力!T69=\"\",\"\",③選手情報入力!T69)","v":""}]
[60,{"$f":"IF(③選手情報入力!B70=\"\",\"\",③選手情報入力!B70)","v":""},{"$f":"IF(③選手情報入力!C70=\"\",\"\",③選手情報入力!C70)","v":""},{"$f":"IF(③選手情報入力!F70=\"\",\"\",③選手情報入力!F70)","v":""},{"$f":"IF(③選手情報入力!G70=\"\",\"\",③選手情報入力!G70)","v":""},{"$f":"IF(③選手情報入力!I70=\"\",\"\",IF(③選手情報入力!H70=\"\",③選手情報入力!I70,③選手情報入力!H70&③選手情報入力!I70))","v":""},{"$f":"IF(③選手情報入力!J70=\"\",\"\",③選手情報入力!J70)","v":""},{"$f":"IF(③選手情報入力!L70=\"\",\"\",IF(③選手情報入力!K70=\"\",③選手情報入力!L70,③選手情報入力!K70&③選手情報入力!L70))","v":""},{"$f":"IF(③選手情報入力!M70=\"\",\"\",③選手情報入力!M70)","v":""},{"$f":"IF(③選手情報入力!O70=\"\",\"\",IF(③選手情報入力!N70=\"\",③選手情報入力!O70,③選手情報入力!N70&③選手情報入力!O70))","v":""},{"$f":"IF(③選手情報入力!P70=\"\",\"\",③選手情報入力!P70)","v":""},{"$f":"IF(③選手情報入力!R70=\"\",\"\",③選手情報入力!R70)","v":""},{"$f":"IF(③選手情報入力!T70=\"\",\"\",③選手情報入力!T70)","v":""}]
[61,{"$f":"IF(③選手情報入力!B71=\"\",\"\",③選手情報入力!B71)","v":""},{"$f":"IF(③選手情報入力!C71=\"\",\"\",③選手情報入力!C71)","v":""},{"$f":"IF(③選手情報入力!F71=\"\",\"\",③選手情報入力!F71)","v":""},{"$f":"IF(③選手情報入力!G71=\"\",\"\",③選手情報入力!G71)","v":""},{"$f":"IF(③選手情報入力!I71=\"\",\"\",IF(③選手情報入力!H71=\"\",③選手情報入力!I71,③選手情報入力!H71&③選手情報入力!I71))","v":""},{"$f":"IF(③選手情報入力!J71=\"\",\"\",③選手情報入力!J71)","v":""},{"$f":"IF(③選手情報入力!L71=\"\",\"\",IF(③選手情報入力!K71=\"\",③選手情報入力!L71,③選手情報入力!K71&③選手情報入力!L71))","v":""},{"$f":"IF(③選手情報入力!M71=\"\",\"\",③選手情報入力!M71)","v":""},{"$f":"IF(③選手情報入力!O71=\"\",\"\",IF(③選手情報入力!N71=\"\",③選手情報入力!O71,③選手情報入力!N71&③選手情報入力!O71))","v":""},{"$f":"IF(③選手情報入力!P71=\"\",\"\",③選手情報入力!P71)","v":""},{"$f":"IF(③選手情報入力!R71=\"\",\"\",③選手情報入力!R71)","v":""},{"$f":"IF(③選手情報入力!T71=\"\",\"\",③選手情報入力!T71)","v":""}]
[62,{"$f":"IF(③選手情報入力!B72=\"\",\"\",③選手情報入力!B72)","v":""},{"$f":"IF(③選手情報入力!C72=\"\",\"\",③選手情報入力!C72)","v":""},{"$f":"IF(③選手情報入力!F72=\"\",\"\",③選手情報入力!F72)","v":""},{"$f":"IF(③選手情報入力!G72=\"\",\"\",③選手情報入力!G72)","v":""},{"$f":"IF(③選手情報入力!I72=\"\",\"\",IF(③選手情報入力!H72=\"\",③選手情報入力!I72,③選手情報入力!H72&③選手情報入力!I72))","v":""},{"$f":"IF(③選手情報入力!J72=\"\",\"\",③選手情報入力!J72)","v":""},{"$f":"IF(③選手情報入力!L72=\"\",\"\",IF(③選手情報入力!K72=\"\",③選手情報入力!L72,③選手情報入力!K72&③選手情報入力!L72))","v":""},{"$f":"IF(③選手情報入力!M72=\"\",\"\",③選手情報入力!M72)","v":""},{"$f":"IF(③選手情報入力!O72=\"\",\"\",IF(③選手情報入力!N72=\"\",③選手情報入力!O72,③選手情報入力!N72&③選手情報入力!O72))","v":""},{"$f":"IF(③選手情報入力!P72=\"\",\"\",③選手情報入力!P72)","v":""},{"$f":"IF(③選手情報入力!R72=\"\",\"\",③選手情報入力!R72)","v":""},{"$f":"IF(③選手情報入力!T72=\"\",\"\",③選手情報入力!T72)","v":""}]
[63,{"$f":"IF(③選手情報入力!B73=\"\",\"\",③選手情報入力!B73)","v":""},{"$f":"IF(③選手情報入力!C73=\"\",\"\",③選手情報入力!C73)","v":""},{"$f":"IF(③選手情報入力!F73=\"\",\"\",③選手情報入力!F73)","v":""},{"$f":"IF(③選手情報入力!G73=\"\",\"\",③選手情報入力!G73)","v":""},{"$f":"IF(③選手情報入力!I73=\"\",\"\",IF(③選手情報入力!H73=\"\",③選手情報入力!I73,③選手情報入力!H73&③選手情報入力!I73))","v":""},{"$f":"IF(③選手情報入力!J73=\"\",\"\",③選手情報入力!J73)","v":""},{"$f":"IF(③選手情報入力!L73=\"\",\"\",IF(③選手情報入力!K73=\"\",③選手情報入力!L73,③選手情報入力!K73&③選手情報入力!L73))","v":""},{"$f":"IF(③選手情報入力!M73=\"\",\"\",③選手情報入力!M73)","v":""},{"$f":"IF(③選手情報入力!O73=\"\",\"\",IF(③選手情報入力!N73=\"\",③選手情報入力!O73,③選手情報入力!N73&③選手情報入力!O73))","v":""},{"$f":"IF(③選手情報入力!P73=\"\",\"\",③選手情報入力!P73)","v":""},{"$f":"IF(③選手情報入力!R73=\"\",\"\",③選手情報入力!R73)","v":""},{"$f":"IF(③選手情報入力!T73=\"\",\"\",③選手情報入力!T73)","v":""}]
[64,{"$f":"IF(③選手情報入力!B74=\"\",\"\",③選手情報入力!B74)","v":""},{"$f":"IF(③選手情報入力!C74=\"\",\"\",③選手情報入力!C74)","v":""},{"$f":"IF(③選手情報入力!F74=\"\",\"\",③選手情報入力!F74)","v":""},{"$f":"IF(③選手情報入力!G74=\"\",\"\",③選手情報入力!G74)","v":""},{"$f":"IF(③選手情報入力!I74=\"\",\"\",IF(③選手情報入力!H74=\"\",③選手情報入力!I74,③選手情報入力!H74&③選手情報入力!I74))","v":""},{"$f":"IF(③選手情報入力!J74=\"\",\"\",③選手情報入力!J74)","v":""},{"$f":"IF(③選手情報入力!L74=\"\",\"\",IF(③選手情報入力!K74=\"\",③選手情報入力!L74,③選手情報入力!K74&③選手情報入力!L74))","v":""},{"$f":"IF(③選手情報入力!M74=\"\",\"\",③選手情報入力!M74)","v":""},{"$f":"IF(③選手情報入力!O74=\"\",\"\",IF(③選手情報入力!N74=\"\",③選手情報入力!O74,③選手情報入力!N74&③選手情報入力!O74))","v":""},{"$f":"IF(③選手情報入力!P74=\"\",\"\",③選手情報入力!P74)","v":""},{"$f":"IF(③選手情報入力!R74=\"\",\"\",③選手情報入力!R74)","v":""},{"$f":"IF(③選手情報入力!T74=\"\",\"\",③選手情報入力!T74)","v":""}]
[65,{"$f":"IF(③選手情報入力!B75=\"\",\"\",③選手情報入力!B75)","v":""},{"$f":"IF(③選手情報入力!C75=\"\",\"\",③選手情報入力!C75)","v":""},{"$f":"IF(③選手情報入力!F75=\"\",\"\",③選手情報入力!F75)","v":""},{"$f":"IF(③選手情報入力!G75=\"\",\"\",③選手情報入力!G75)","v":""},{"$f":"IF(③選手情報入力!I75=\"\",\"\",IF(③選手情報入力!H75=\"\",③選手情報入力!I75,③選手情報入力!H75&③選手情報入力!I75))","v":""},{"$f":"IF(③選手情報入力!J75=\"\",\"\",③選手情報入力!J75)","v":""},{"$f":"IF(③選手情報入力!L75=\"\",\"\",IF(③選手情報入力!K75=\"\",③選手情報入力!L75,③選手情報入力!K75&③選手情報入力!L75))","v":""},{"$f":"IF(③選手情報入力!M75=\"\",\"\",③選手情報入力!M75)","v":""},{"$f":"IF(③選手情報入力!O75=\"\",\"\",IF(③選手情報入力!N75=\"\",③選手情報入力!O75,③選手情報入力!N75&③選手情報入力!O75))","v":""},{"$f":"IF(③選手情報入力!P75=\"\",\"\",③選手情報入力!P75)","v":""},{"$f":"IF(③選手情報入力!R75=\"\",\"\",③選手情報入力!R75)","v":""},{"$f":"IF(③選手情報入力!T75=\"\",\"\",③選手情報入力!T75)","v":""}]
[66,{"$f":"IF(③選手情報入力!B76=\"\",\"\",③選手情報入力!B76)","v":""},{"$f":"IF(③選手情報入力!C76=\"\",\"\",③選手情報入力!C76)","v":""},{"$f":"IF(③選手情報入力!F76=\"\",\"\",③選手情報入力!F76)","v":""},{"$f":"IF(③選手情報入力!G76=\"\",\"\",③選手情報入力!G76)","v":""},{"$f":"IF(③選手情報入力!I76=\"\",\"\",IF(③選手情報入力!H76=\"\",③選手情報入力!I76,③選手情報入力!H76&③選手情報入力!I76))","v":""},{"$f":"IF(③選手情報入力!J76=\"\",\"\",③選手情報入力!J76)","v":""},{"$f":"IF(③選手情報入力!L76=\"\",\"\",IF(③選手情報入力!K76=\"\",③選手情報入力!L76,③選手情報入力!K76&③選手情報入力!L76))","v":""},{"$f":"IF(③選手情報入力!M76=\"\",\"\",③選手情報入力!M76)","v":""},{"$f":"IF(③選手情報入力!O76=\"\",\"\",IF(③選手情報入力!N76=\"\",③選手情報入力!O76,③選手情報入力!N76&③選手情報入力!O76))","v":""},{"$f":"IF(③選手情報入力!P76=\"\",\"\",③選手情報入力!P76)","v":""},{"$f":"IF(③選手情報入力!R76=\"\",\"\",③選手情報入力!R76)","v":""},{"$f":"IF(③選手情報入力!T76=\"\",\"\",③選手情報入力!T76)","v":""}]
[67,{"$f":"IF(③選手情報入力!B77=\"\",\"\",③選手情報入力!B77)","v":""},{"$f":"IF(③選手情報入力!C77=\"\",\"\",③選手情報入力!C77)","v":""},{"$f":"IF(③選手情報入力!F77=\"\",\"\",③選手情報入力!F77)","v":""},{"$f":"IF(③選手情報入力!G77=\"\",\"\",③選手情報入力!G77)","v":""},{"$f":"IF(③選手情報入力!I77=\"\",\"\",IF(③選手情報入力!H77=\"\",③選手情報入力!I77,③選手情報入力!H77&③選手情報入力!I77))","v":""},{"$f":"IF(③選手情報入力!J77=\"\",\"\",③選手情報入力!J77)","v":""},{"$f":"IF(③選手情報入力!L77=\"\",\"\",IF(③選手情報入力!K77=\"\",③選手情報入力!L77,③選手情報入力!K77&③選手情報入力!L77))","v":""},{"$f":"IF(③選手情報入力!M77=\"\",\"\",③選手情報入力!M77)","v":""},{"$f":"IF(③選手情報入力!O77=\"\",\"\",IF(③選手情報入力!N77=\"\",③選手情報入力!O77,③選手情報入力!N77&③選手情報入力!O77))","v":""},{"$f":"IF(③選手情報入力!P77=\"\",\"\",③選手情報入力!P77)","v":""},{"$f":"IF(③選手情報入力!R77=\"\",\"\",③選手情報入力!R77)","v":""},{"$f":"IF(③選手情報入力!T77=\"\",\"\",③選手情報入力!T77)","v":""}]
[68,{"$f":"IF(③選手情報入力!B78=\"\",\"\",③選手情報入力!B78)","v":""},{"$f":"IF(③選手情報入力!C78=\"\",\"\",③選手情報入力!C78)","v":""},{"$f":"IF(③選手情報入力!F78=\"\",\"\",③選手情報入力!F78)","v":""},{"$f":"IF(③選手情報入力!G78=\"\",\"\",③選手情報入力!G78)","v":""},{"$f":"IF(③選手情報入力!I78=\"\",\"\",IF(③選手情報入力!H78=\"\",③選手情報入力!I78,③選手情報入力!H78&③選手情報入力!I78))","v":""},{"$f":"IF(③選手情報入力!J78=\"\",\"\",③選手情報入力!J78)","v":""},{"$f":"IF(③選手情報入力!L78=\"\",\"\",IF(③選手情報入力!K78=\"\",③選手情報入力!L78,③選手情報入力!K78&③選手情報入力!L78))","v":""},{"$f":"IF(③選手情報入力!M78=\"\",\"\",③選手情報入力!M78)","v":""},{"$f":"IF(③選手情報入力!O78=\"\",\"\",IF(③選手情報入力!N78=\"\",③選手情報入力!O78,③選手情報入力!N78&③選手情報入力!O78))","v":""},{"$f":"IF(③選手情報入力!P78=\"\",\"\",③選手情報入力!P78)","v":""},{"$f":"IF(③選手情報入力!R78=\"\",\"\",③選手情報入力!R78)","v":""},{"$f":"IF(③選手情報入力!T78=\"\",\"\",③選手情報入力!T78)","v":""}]
[69,{"$f":"IF(③選手情報入力!B79=\"\",\"\",③選手情報入力!B79)","v":""},{"$f":"IF(③選手情報入力!C79=\"\",\"\",③選手情報入力!C79)","v":""},{"$f":"IF(③選手情報入力!F79=\"\",\"\",③選手情報入力!F79)","v":""},{"$f":"IF(③選手情報入力!G79=\"\",\"\",③選手情報入力!G79)","v":""},{"$f":"IF(③選手情報入力!I79=\"\",\"\",IF(③選手情報入力!H79=\"\",③選手情報入力!I79,③選手情報入力!H79&③選手情報入力!I79))","v":""},{"$f":"IF(③選手情報入力!J79=\"\",\"\",③選手情報入力!J79)","v":""},{"$f":"IF(③選手情報入力!L79=\"\",\"\",IF(③選手情報入力!K79=\"\",③選手情報入力!L79,③選手情報入力!K79&③選手情報入力!L79))","v":""},{"$f":"IF(③選手情報入力!M79=\"\",\"\",③選手情報入力!M79)","v":""},{"$f":"IF(③選手情報入力!O79=\"\",\"\",IF(③選手情報入力!N79=\"\",③選手情報入力!O79,③選手情報入力!N79&③選手情報入力!O79))","v":""},{"$f":"IF(③選手情報入力!P79=\"\",\"\",③選手情報入力!P79)","v":""},{"$f":"IF(③選手情報入力!R79=\"\",\"\",③選手情報入力!R79)","v":""},{"$f":"IF(③選手情報入力!T79=\"\",\"\",③選手情報入力!T79)","v":""}]
[70,{"$f":"IF(③選手情報入力!B80=\"\",\"\",③選手情報入力!B80)","v":""},{"$f":"IF(③選手情報入力!C80=\"\",\"\",③選手情報入力!C80)","v":""},{"$f":"IF(③選手情報入力!F80=\"\",\"\",③選手情報入力!F80)","v":""},{"$f":"IF(③選手情報入力!G80=\"\",\"\",③選手情報入力!G80)","v":""},{"$f":"IF(③選手情報入力!I80=\"\",\"\",IF(③選手情報入力!H80=\"\",③選手情報入力!I80,③選手情報入力!H80&③選手情報入力!I80))","v":""},{"$f":"IF(③選手情報入力!J80=\"\",\"\",③選手情報入力!J80)","v":""},{"$f":"IF(③選手情報入力!L80=\"\",\"\",IF(③選手情報入力!K80=\"\",③選手情報入力!L80,③選手情報入力!K80&③選手情報入力!L80))","v":""},{"$f":"IF(③選手情報入力!M80=\"\",\"\",③選手情報入力!M80)","v":""},{"$f":"IF(③選手情報入力!O80=\"\",\"\",IF(③選手情報入力!N80=\"\",③選手情報入力!O80,③選手情報入力!N80&③選手情報入力!O80))","v":""},{"$f":"IF(③選手情報入力!P80=\"\",\"\",③選手情報入力!P80)","v":""},{"$f":"IF(③選手情報入力!R80=\"\",\"\",③選手情報入力!R80)","v":""},{"$f":"IF(③選手情報入力!T80=\"\",\"\",③選手情報入力!T80)","v":""}]
[71,{"$f":"IF(③選手情報入力!B81=\"\",\"\",③選手情報入力!B81)","v":""},{"$f":"IF(③選手情報入力!C81=\"\",\"\",③選手情報入力!C81)","v":""},{"$f":"IF(③選手情報入力!F81=\"\",\"\",③選手情報入力!F81)","v":""},{"$f":"IF(③選手情報入力!G81=\"\",\"\",③選手情報入力!G81)","v":""},{"$f":"IF(③選手情報入力!I81=\"\",\"\",IF(③選手情報入力!H81=\"\",③選手情報入力!I81,③選手情報入力!H81&③選手情報入力!I81))","v":""},{"$f":"IF(③選手情報入力!J81=\"\",\"\",③選手情報入力!J81)","v":""},{"$f":"IF(③選手情報入力!L81=\"\",\"\",IF(③選手情報入力!K81=\"\",③選手情報入力!L81,③選手情報入力!K81&③選手情報入力!L81))","v":""},{"$f":"IF(③選手情報入力!M81=\"\",\"\",③選手情報入力!M81)","v":""},{"$f":"IF(③選手情報入力!O81=\"\",\"\",IF(③選手情報入力!N81=\"\",③選手情報入力!O81,③選手情報入力!N81&③選手情報入力!O81))","v":""},{"$f":"IF(③選手情報入力!P81=\"\",\"\",③選手情報入力!P81)","v":""},{"$f":"IF(③選手情報入力!R81=\"\",\"\",③選手情報入力!R81)","v":""},{"$f":"IF(③選手情報入力!T81=\"\",\"\",③選手情報入力!T81)","v":""}]
[72,{"$f":"IF(③選手情報入力!B82=\"\",\"\",③選手情報入力!B82)","v":""},{"$f":"IF(③選手情報入力!C82=\"\",\"\",③選手情報入力!C82)","v":""},{"$f":"IF(③選手情報入力!F82=\"\",\"\",③選手情報入力!F82)","v":""},{"$f":"IF(③選手情報入力!G82=\"\",\"\",③選手情報入力!G82)","v":""},{"$f":"IF(③選手情報入力!I82=\"\",\"\",IF(③選手情報入力!H82=\"\",③選手情報入力!I82,③選手情報入力!H82&③選手情報入力!I82))","v":""},{"$f":"IF(③選手情報入力!J82=\"\",\"\",③選手情報入力!J82)","v":""},{"$f":"IF(③選手情報入力!L82=\"\",\"\",IF(③選手情報入力!K82=\"\",③選手情報入力!L82,③選手情報入力!K82&③選手情報入力!L82))","v":""},{"$f":"IF(③選手情報入力!M82=\"\",\"\",③選手情報入力!M82)","v":""},{"$f":"IF(③選手情報入力!O82=\"\",\"\",IF(③選手情報入力!N82=\"\",③選手情報入力!O82,③選手情報入力!N82&③選手情報入力!O82))","v":""},{"$f":"IF(③選手情報入力!P82=\"\",\"\",③選手情報入力!P82)","v":""},{"$f":"IF(③選手情報入力!R82=\"\",\"\",③選手情報入力!R82)","v":""},{"$f":"IF(③選手情報入力!T82=\"\",\"\",③選手情報入力!T82)","v":""}]
[73,{"$f":"IF(③選手情報入力!B83=\"\",\"\",③選手情報入力!B83)","v":""},{"$f":"IF(③選手情報入力!C83=\"\",\"\",③選手情報入力!C83)","v":""},{"$f":"IF(③選手情報入力!F83=\"\",\"\",③選手情報入力!F83)","v":""},{"$f":"IF(③選手情報入力!G83=\"\",\"\",③選手情報入力!G83)","v":""},{"$f":"IF(③選手情報入力!I83=\"\",\"\",IF(③選手情報入力!H83=\"\",③選手情報入力!I83,③選手情報入力!H83&③選手情報入力!I83))","v":""},{"$f":"IF(③選手情報入力!J83=\"\",\"\",③選手情報入力!J83)","v":""},{"$f":"IF(③選手情報入力!L83=\"\",\"\",IF(③選手情報入力!K83=\"\",③選手情報入力!L83,③選手情報入力!K83&③選手情報入力!L83))","v":""},{"$f":"IF(③選手情報入力!M83=\"\",\"\",③選手情報入力!M83)","v":""},{"$f":"IF(③選手情報入力!O83=\"\",\"\",IF(③選手情報入力!N83=\"\",③選手情報入力!O83,③選手情報入力!N83&③選手情報入力!O83))","v":""},{"$f":"IF(③選手情報入力!P83=\"\",\"\",③選手情報入力!P83)","v":""},{"$f":"IF(③選手情報入力!R83=\"\",\"\",③選手情報入力!R83)","v":""},{"$f":"IF(③選手情報入力!T83=\"\",\"\",③選手情報入力!T83)","v":""}]
[74,{"$f":"IF(③選手情報入力!B84=\"\",\"\",③選手情報入力!B84)","v":""},{"$f":"IF(③選手情報入力!C84=\"\",\"\",③選手情報入力!C84)","v":""},{"$f":"IF(③選手情報入力!F84=\"\",\"\",③選手情報入力!F84)","v":""},{"$f":"IF(③選手情報入力!G84=\"\",\"\",③選手情報入力!G84)","v":""},{"$f":"IF(③選手情報入力!I84=\"\",\"\",IF(③選手情報入力!H84=\"\",③選手情報入力!I84,③選手情報入力!H84&③選手情報入力!I84))","v":""},{"$f":"IF(③選手情報入力!J84=\"\",\"\",③選手情報入力!J84)","v":""},{"$f":"IF(③選手情報入力!L84=\"\",\"\",IF(③選手情報入力!K84=\"\",③選手情報入力!L84,③選手情報入力!K84&③選手情報入力!L84))","v":""},{"$f":"IF(③選手情報入力!M84=\"\",\"\",③選手情報入力!M84)","v":""},{"$f":"IF(③選手情報入力!O84=\"\",\"\",IF(③選手情報入力!N84=\"\",③選手情報入力!O84,③選手情報入力!N84&③選手情報入力!O84))","v":""},{"$f":"IF(③選手情報入力!P84=\"\",\"\",③選手情報入力!P84)","v":""},{"$f":"IF(③選手情報入力!R84=\"\",\"\",③選手情報入力!R84)","v":""},{"$f":"IF(③選手情報入力!T84=\"\",\"\",③選手情報入力!T84)","v":""}]
[75,{"$f":"IF(③選手情報入力!B85=\"\",\"\",③選手情報入力!B85)","v":""},{"$f":"IF(③選手情報入力!C85=\"\",\"\",③選手情報入力!C85)","v":""},{"$f":"IF(③選手情報入力!F85=\"\",\"\",③選手情報入力!F85)","v":""},{"$f":"IF(③選手情報入力!G85=\"\",\"\",③選手情報入力!G85)","v":""},{"$f":"IF(③選手情報入力!I85=\"\",\"\",IF(③選手情報入力!H85=\"\",③選手情報入力!I85,③選手情報入力!H85&③選手情報入力!I85))","v":""},{"$f":"IF(③選手情報入力!J85=\"\",\"\",③選手情報入力!J85)","v":""},{"$f":"IF(③選手情報入力!L85=\"\",\"\",IF(③選手情報入力!K85=\"\",③選手情報入力!L85,③選手情報入力!K85&③選手情報入力!L85))","v":""},{"$f":"IF(③選手情報入力!M85=\"\",\"\",③選手情報入力!M85)","v":""},{"$f":"IF(③選手情報入力!O85=\"\",\"\",IF(③選手情報入力!N85=\"\",③選手情報入力!O85,③選手情報入力!N85&③選手情報入力!O85))","v":""},{"$f":"IF(③選手情報入力!P85=\"\",\"\",③選手情報入力!P85)","v":""},{"$f":"IF(③選手情報入力!R85=\"\",\"\",③選手情報入力!R85)","v":""},{"$f":"IF(③選手情報入力!T85=\"\",\"\",③選手情報入力!T85)","v":""}]
[76,{"$f":"IF(③選手情報入力!B86=\"\",\"\",③選手情報入力!B86)","v":""},{"$f":"IF(③選手情報入力!C86=\"\",\"\",③選手情報入力!C86)","v":""},{"$f":"IF(③選手情報入力!F86=\"\",\"\",③選手情報入力!F86)","v":""},{"$f":"IF(③選手情報入力!G86=\"\",\"\",③選手情報入力!G86)","v":""},{"$f":"IF(③選手情報入力!I86=\"\",\"\",IF(③選手情報入力!H86=\"\",③選手情報入力!I86,③選手情報入力!H86&③選手情報入力!I86))","v":""},{"$f":"IF(③選手情報入力!J86=\"\",\"\",③選手情報入力!J86)","v":""},{"$f":"IF(③選手情報入力!L86=\"\",\"\",IF(③選手情報入力!K86=\"\",③選手情報入力!L86,③選手情報入力!K86&③選手情報入力!L86))","v":""},{"$f":"IF(③選手情報入力!M86=\"\",\"\",③選手情報入力!M86)","v":""},{"$f":"IF(③選手情報入力!O86=\"\",\"\",IF(③選手情報入力!N86=\"\",③選手情報入力!O86,③選手情報入力!N86&③選手情報入力!O86))","v":""},{"$f":"IF(③選手情報入力!P86=\"\",\"\",③選手情報入力!P86)","v":""},{"$f":"IF(③選手情報入力!R86=\"\",\"\",③選手情報入力!R86)","v":""},{"$f":"IF(③選手情報入力!T86=\"\",\"\",③選手情報入力!T86)","v":""}]
[77,{"$f":"IF(③選手情報入力!B87=\"\",\"\",③選手情報入力!B87)","v":""},{"$f":"IF(③選手情報入力!C87=\"\",\"\",③選手情報入力!C87)","v":""},{"$f":"IF(③選手情報入力!F87=\"\",\"\",③選手情報入力!F87)","v":""},{"$f":"IF(③選手情報入力!G87=\"\",\"\",③選手情報入力!G87)","v":""},{"$f":"IF(③選手情報入力!I87=\"\",\"\",IF(③選手情報入力!H87=\"\",③選手情報入力!I87,③選手情報入力!H87&③選手情報入力!I87))","v":""},{"$f":"IF(③選手情報入力!J87=\"\",\"\",③選手情報入力!J87)","v":""},{"$f":"IF(③選手情報入力!L87=\"\",\"\",IF(③選手情報入力!K87=\"\",③選手情報入力!L87,③選手情報入力!K87&③選手情報入力!L87))","v":""},{"$f":"IF(③選手情報入力!M87=\"\",\"\",③選手情報入力!M87)","v":""},{"$f":"IF(③選手情報入力!O87=\"\",\"\",IF(③選手情報入力!N87=\"\",③選手情報入力!O87,③選手情報入力!N87&③選手情報入力!O87))","v":""},{"$f":"IF(③選手情報入力!P87=\"\",\"\",③選手情報入力!P87)","v":""},{"$f":"IF(③選手情報入力!R87=\"\",\"\",③選手情報入力!R87)","v":""},{"$f":"IF(③選手情報入力!T87=\"\",\"\",③選手情報入力!T87)","v":""}]
[78,{"$f":"IF(③選手情報入力!B88=\"\",\"\",③選手情報入力!B88)","v":""},{"$f":"IF(③選手情報入力!C88=\"\",\"\",③選手情報入力!C88)","v":""},{"$f":"IF(③選手情報入力!F88=\"\",\"\",③選手情報入力!F88)","v":""},{"$f":"IF(③選手情報入力!G88=\"\",\"\",③選手情報入力!G88)","v":""},{"$f":"IF(③選手情報入力!I88=\"\",\"\",IF(③選手情報入力!H88=\"\",③選手情報入力!I88,③選手情報入力!H88&③選手情報入力!I88))","v":""},{"$f":"IF(③選手情報入力!J88=\"\",\"\",③選手情報入力!J88)","v":""},{"$f":"IF(③選手情報入力!L88=\"\",\"\",IF(③選手情報入力!K88=\"\",③選手情報入力!L88,③選手情報入力!K88&③選手情報入力!L88))","v":""},{"$f":"IF(③選手情報入力!M88=\"\",\"\",③選手情報入力!M88)","v":""},{"$f":"IF(③選手情報入力!O88=\"\",\"\",IF(③選手情報入力!N88=\"\",③選手情報入力!O88,③選手情報入力!N88&③選手情報入力!O88))","v":""},{"$f":"IF(③選手情報入力!P88=\"\",\"\",③選手情報入力!P88)","v":""},{"$f":"IF(③選手情報入力!R88=\"\",\"\",③選手情報入力!R88)","v":""},{"$f":"IF(③選手情報入力!T88=\"\",\"\",③選手情報入力!T88)","v":""}]
[79,{"$f":"IF(③選手情報入力!B89=\"\",\"\",③選手情報入力!B89)","v":""},{"$f":"IF(③選手情報入力!C89=\"\",\"\",③選手情報入力!C89)","v":""},{"$f":"IF(③選手情報入力!F89=\"\",\"\",③選手情報入力!F89)","v":""},{"$f":"IF(③選手情報入力!G89=\"\",\"\",③選手情報入力!G89)","v":""},{"$f":"IF(③選手情報入力!I89=\"\",\"\",IF(③選手情報入力!H89=\"\",③選手情報入力!I89,③選手情報入力!H89&③選手情報入力!I89))","v":""},{"$f":"IF(③選手情報入力!J89=\"\",\"\",③選手情報入力!J89)","v":""},{"$f":"IF(③選手情報入力!L89=\"\",\"\",IF(③選手情報入力!K89=\"\",③選手情報入力!L89,③選手情報入力!K89&③選手情報入力!L89))","v":""},{"$f":"IF(③選手情報入力!M89=\"\",\"\",③選手情報入力!M89)","v":""},{"$f":"IF(③選手情報入力!O89=\"\",\"\",IF(③選手情報入力!N89=\"\",③選手情報入力!O89,③選手情報入力!N89&③選手情報入力!O89))","v":""},{"$f":"IF(③選手情報入力!P89=\"\",\"\",③選手情報入力!P89)","v":""},{"$f":"IF(③選手情報入力!R89=\"\",\"\",③選手情報入力!R89)","v":""},{"$f":"IF(③選手情報入力!T89=\"\",\"\",③選手情報入力!T89)","v":""}]
[80,{"$f":"IF(③選手情報入力!B90=\"\",\"\",③選手情報入力!B90)","v":""},{"$f":"IF(③選手情報入力!C90=\"\",\"\",③選手情報入力!C90)","v":""},{"$f":"IF(③選手情報入力!F90=\"\",\"\",③選手情報入力!F90)","v":""},{"$f":"IF(③選手情報入力!G90=\"\",\"\",③選手情報入力!G90)","v":""},{"$f":"IF(③選手情報入力!I90=\"\",\"\",IF(③選手情報入力!H90=\"\",③選手情報入力!I90,③選手情報入力!H90&③選手情報入力!I90))","v":""},{"$f":"IF(③選手情報入力!J90=\"\",\"\",③選手情報入力!J90)","v":""},{"$f":"IF(③選手情報入力!L90=\"\",\"\",IF(③選手情報入力!K90=\"\",③選手情報入力!L90,③選手情報入力!K90&③選手情報入力!L90))","v":""},{"$f":"IF(③選手情報入力!M90=\"\",\"\",③選手情報入力!M90)","v":""},{"$f":"IF(③選手情報入力!O90=\"\",\"\",IF(③選手情報入力!N90=\"\",③選手情報入力!O90,③選手情報入力!N90&③選手情報入力!O90))","v":""},{"$f":"IF(③選手情報入力!P90=\"\",\"\",③選手情報入力!P90)","v":""},{"$f":"IF(③選手情報入力!R90=\"\",\"\",③選手情報入力!R90)","v":""},{"$f":"IF(③選手情報入力!T90=\"\",\"\",③選手情報入力!T90)","v":""}]
[81,{"$f":"IF(③選手情報入力!B91=\"\",\"\",③選手情報入力!B91)","v":""},{"$f":"IF(③選手情報入力!C91=\"\",\"\",③選手情報入力!C91)","v":""},{"$f":"IF(③選手情報入力!F91=\"\",\"\",③選手情報入力!F91)","v":""},{"$f":"IF(③選手情報入力!G91=\"\",\"\",③選手情報入力!G91)","v":""},{"$f":"IF(③選手情報入力!I91=\"\",\"\",IF(③選手情報入力!H91=\"\",③選手情報入力!I91,③選手情報入力!H91&③選手情報入力!I91))","v":""},{"$f":"IF(③選手情報入力!J91=\"\",\"\",③選手情報入力!J91)","v":""},{"$f":"IF(③選手情報入力!L91=\"\",\"\",IF(③選手情報入力!K91=\"\",③選手情報入力!L91,③選手情報入力!K91&③選手情報入力!L91))","v":""},{"$f":"IF(③選手情報入力!M91=\"\",\"\",③選手情報入力!M91)","v":""},{"$f":"IF(③選手情報入力!O91=\"\",\"\",IF(③選手情報入力!N91=\"\",③選手情報入力!O91,③選手情報入力!N91&③選手情報入力!O91))","v":""},{"$f":"IF(③選手情報入力!P91=\"\",\"\",③選手情報入力!P91)","v":""},{"$f":"IF(③選手情報入力!R91=\"\",\"\",③選手情報入力!R91)","v":""},{"$f":"IF(③選手情報入力!T91=\"\",\"\",③選手情報入力!T91)","v":""}]
[82,{"$f":"IF(③選手情報入力!B92=\"\",\"\",③選手情報入力!B92)","v":""},{"$f":"IF(③選手情報入力!C92=\"\",\"\",③選手情報入力!C92)","v":""},{"$f":"IF(③選手情報入力!F92=\"\",\"\",③選手情報入力!F92)","v":""},{"$f":"IF(③選手情報入力!G92=\"\",\"\",③選手情報入力!G92)","v":""},{"$f":"IF(③選手情報入力!I92=\"\",\"\",IF(③選手情報入力!H92=\"\",③選手情報入力!I92,③選手情報入力!H92&③選手情報入力!I92))","v":""},{"$f":"IF(③選手情報入力!J92=\"\",\"\",③選手情報入力!J92)","v":""},{"$f":"IF(③選手情報入力!L92=\"\",\"\",IF(③選手情報入力!K92=\"\",③選手情報入力!L92,③選手情報入力!K92&③選手情報入力!L92))","v":""},{"$f":"IF(③選手情報入力!M92=\"\",\"\",③選手情報入力!M92)","v":""},{"$f":"IF(③選手情報入力!O92=\"\",\"\",IF(③選手情報入力!N92=\"\",③選手情報入力!O92,③選手情報入力!N92&③選手情報入力!O92))","v":""},{"$f":"IF(③選手情報入力!P92=\"\",\"\",③選手情報入力!P92)","v":""},{"$f":"IF(③選手情報入力!R92=\"\",\"\",③選手情報入力!R92)","v":""},{"$f":"IF(③選手情報入力!T92=\"\",\"\",③選手情報入力!T92)","v":""}]
[83,{"$f":"IF(③選手情報入力!B93=\"\",\"\",③選手情報入力!B93)","v":""},{"$f":"IF(③選手情報入力!C93=\"\",\"\",③選手情報入力!C93)","v":""},{"$f":"IF(③選手情報入力!F93=\"\",\"\",③選手情報入力!F93)","v":""},{"$f":"IF(③選手情報入力!G93=\"\",\"\",③選手情報入力!G93)","v":""},{"$f":"IF(③選手情報入力!I93=\"\",\"\",IF(③選手情報入力!H93=\"\",③選手情報入力!I93,③選手情報入力!H93&③選手情報入力!I93))","v":""},{"$f":"IF(③選手情報入力!J93=\"\",\"\",③選手情報入力!J93)","v":""},{"$f":"IF(③選手情報入力!L93=\"\",\"\",IF(③選手情報入力!K93=\"\",③選手情報入力!L93,③選手情報入力!K93&③選手情報入力!L93))","v":""},{"$f":"IF(③選手情報入力!M93=\"\",\"\",③選手情報入力!M93)","v":""},{"$f":"IF(③選手情報入力!O93=\"\",\"\",IF(③選手情報入力!N93=\"\",③選手情報入力!O93,③選手情報入力!N93&③選手情報入力!O93))","v":""},{"$f":"IF(③選手情報入力!P93=\"\",\"\",③選手情報入力!P93)","v":""},{"$f":"IF(③選手情報入力!R93=\"\",\"\",③選手情報入力!R93)","v":""},{"$f":"IF(③選手情報入力!T93=\"\",\"\",③選手情報入力!T93)","v":""}]
[84,{"$f":"IF(③選手情報入力!B94=\"\",\"\",③選手情報入力!B94)","v":""},{"$f":"IF(③選手情報入力!C94=\"\",\"\",③選手情報入力!C94)","v":""},{"$f":"IF(③選手情報入力!F94=\"\",\"\",③選手情報入力!F94)","v":""},{"$f":"IF(③選手情報入力!G94=\"\",\"\",③選手情報入力!G94)","v":""},{"$f":"IF(③選手情報入力!I94=\"\",\"\",IF(③選手情報入力!H94=\"\",③選手情報入力!I94,③選手情報入力!H94&③選手情報入力!I94))","v":""},{"$f":"IF(③選手情報入力!J94=\"\",\"\",③選手情報入力!J94)","v":""},{"$f":"IF(③選手情報入力!L94=\"\",\"\",IF(③選手情報入力!K94=\"\",③選手情報入力!L94,③選手情報入力!K94&③選手情報入力!L94))","v":""},{"$f":"IF(③選手情報入力!M94=\"\",\"\",③選手情報入力!M94)","v":""},{"$f":"IF(③選手情報入力!O94=\"\",\"\",IF(③選手情報入力!N94=\"\",③選手情報入力!O94,③選手情報入力!N94&③選手情報入力!O94))","v":""},{"$f":"IF(③選手情報入力!P94=\"\",\"\",③選手情報入力!P94)","v":""},{"$f":"IF(③選手情報入力!R94=\"\",\"\",③選手情報入力!R94)","v":""},{"$f":"IF(③選手情報入力!T94=\"\",\"\",③選手情報入力!T94)","v":""}]
[85,{"$f":"IF(③選手情報入力!B95=\"\",\"\",③選手情報入力!B95)","v":""},{"$f":"IF(③選手情報入力!C95=\"\",\"\",③選手情報入力!C95)","v":""},{"$f":"IF(③選手情報入力!F95=\"\",\"\",③選手情報入力!F95)","v":""},{"$f":"IF(③選手情報入力!G95=\"\",\"\",③選手情報入力!G95)","v":""},{"$f":"IF(③選手情報入力!I95=\"\",\"\",IF(③選手情報入力!H95=\"\",③選手情報入力!I95,③選手情報入力!H95&③選手情報入力!I95))","v":""},{"$f":"IF(③選手情報入力!J95=\"\",\"\",③選手情報入力!J95)","v":""},{"$f":"IF(③選手情報入力!L95=\"\",\"\",IF(③選手情報入力!K95=\"\",③選手情報入力!L95,③選手情報入力!K95&③選手情報入力!L95))","v":""},{"$f":"IF(③選手情報入力!M95=\"\",\"\",③選手情報入力!M95)","v":""},{"$f":"IF(③選手情報入力!O95=\"\",\"\",IF(③選手情報入力!N95=\"\",③選手情報入力!O95,③選手情報入力!N95&③選手情報入力!O95))","v":""},{"$f":"IF(③選手情報入力!P95=\"\",\"\",③選手情報入力!P95)","v":""},{"$f":"IF(③選手情報入力!R95=\"\",\"\",③選手情報入力!R95)","v":""},{"$f":"IF(③選手情報入力!T95=\"\",\"\",③選手情報入力!T95)","v":""}]
[86,{"$f":"IF(③選手情報入力!B96=\"\",\"\",③選手情報入力!B96)","v":""},{"$f":"IF(③選手情報入力!C96=\"\",\"\",③選手情報入力!C96)","v":""},{"$f":"IF(③選手情報入力!F96=\"\",\"\",③選手情報入力!F96)","v":""},{"$f":"IF(③選手情報入力!G96=\"\",\"\",③選手情報入力!G96)","v":""},{"$f":"IF(③選手情報入力!I96=\"\",\"\",IF(③選手情報入力!H96=\"\",③選手情報入力!I96,③選手情報入力!H96&③選手情報入力!I96))","v":""},{"$f":"IF(③選手情報入力!J96=\"\",\"\",③選手情報入力!J96)","v":""},{"$f":"IF(③選手情報入力!L96=\"\",\"\",IF(③選手情報入力!K96=\"\",③選手情報入力!L96,③選手情報入力!K96&③選手情報入力!L96))","v":""},{"$f":"IF(③選手情報入力!M96=\"\",\"\",③選手情報入力!M96)","v":""},{"$f":"IF(③選手情報入力!O96=\"\",\"\",IF(③選手情報入力!N96=\"\",③選手情報入力!O96,③選手情報入力!N96&③選手情報入力!O96))","v":""},{"$f":"IF(③選手情報入力!P96=\"\",\"\",③選手情報入力!P96)","v":""},{"$f":"IF(③選手情報入力!R96=\"\",\"\",③選手情報入力!R96)","v":""},{"$f":"IF(③選手情報入力!T96=\"\",\"\",③選手情報入力!T96)","v":""}]
[87,{"$f":"IF(③選手情報入力!B97=\"\",\"\",③選手情報入力!B97)","v":""},{"$f":"IF(③選手情報入力!C97=\"\",\"\",③選手情報入力!C97)","v":""},{"$f":"IF(③選手情報入力!F97=\"\",\"\",③選手情報入力!F97)","v":""},{"$f":"IF(③選手情報入力!G97=\"\",\"\",③選手情報入力!G97)","v":""},{"$f":"IF(③選手情報入力!I97=\"\",\"\",IF(③選手情報入力!H97=\"\",③選手情報入力!I97,③選手情報入力!H97&③選手情報入力!I97))","v":""},{"$f":"IF(③選手情報入力!J97=\"\",\"\",③選手情報入力!J97)","v":""},{"$f":"IF(③選手情報入力!L97=\"\",\"\",IF(③選手情報入力!K97=\"\",③選手情報入力!L97,③選手情報入力!K97&③選手情報入力!L97))","v":""},{"$f":"IF(③選手情報入力!M97=\"\",\"\",③選手情報入力!M97)","v":""},{"$f":"IF(③選手情報入力!O97=\"\",\"\",IF(③選手情報入力!N97=\"\",③選手情報入力!O97,③選手情報入力!N97&③選手情報入力!O97))","v":""},{"$f":"IF(③選手情報入力!P97=\"\",\"\",③選手情報入力!P97)","v":""},{"$f":"IF(③選手情報入力!R97=\"\",\"\",③選手情報入力!R97)","v":""},{"$f":"IF(③選手情報入力!T97=\"\",\"\",③選手情報入力!T97)","v":""}]
[88,{"$f":"IF(③選手情報入力!B98=\"\",\"\",③選手情報入力!B98)","v":""},{"$f":"IF(③選手情報入力!C98=\"\",\"\",③選手情報入力!C98)","v":""},{"$f":"IF(③選手情報入力!F98=\"\",\"\",③選手情報入力!F98)","v":""},{"$f":"IF(③選手情報入力!G98=\"\",\"\",③選手情報入力!G98)","v":""},{"$f":"IF(③選手情報入力!I98=\"\",\"\",IF(③選手情報入力!H98=\"\",③選手情報入力!I98,③選手情報入力!H98&③選手情報入力!I98))","v":""},{"$f":"IF(③選手情報入力!J98=\"\",\"\",③選手情報入力!J98)","v":""},{"$f":"IF(③選手情報入力!L98=\"\",\"\",IF(③選手情報入力!K98=\"\",③選手情報入力!L98,③選手情報入力!K98&③選手情報入力!L98))","v":""},{"$f":"IF(③選手情報入力!M98=\"\",\"\",③選手情報入力!M98)","v":""},{"$f":"IF(③選手情報入力!O98=\"\",\"\",IF(③選手情報入力!N98=\"\",③選手情報入力!O98,③選手情報入力!N98&③選手情報入力!O98))","v":""},{"$f":"IF(③選手情報入力!P98=\"\",\"\",③選手情報入力!P98)","v":""},{"$f":"IF(③選手情報入力!R98=\"\",\"\",③選手情報入力!R98)","v":""},{"$f":"IF(③選手情報入力!T98=\"\",\"\",③選手情報入力!T98)","v":""}]
[89,{"$f":"IF(③選手情報入力!B99=\"\",\"\",③選手情報入力!B99)","v":""},{"$f":"IF(③選手情報入力!C99=\"\",\"\",③選手情報入力!C99)","v":""},{"$f":"IF(③選手情報入力!F99=\"\",\"\",③選手情報入力!F99)","v":""},{"$f":"IF(③選手情報入力!G99=\"\",\"\",③選手情報入力!G99)","v":""},{"$f":"IF(③選手情報入力!I99=\"\",\"\",IF(③選手情報入力!H99=\"\",③選手情報入力!I99,③選手情報入力!H99&③選手情報入力!I99))","v":""},{"$f":"IF(③選手情報入力!J99=\"\",\"\",③選手情報入力!J99)","v":""},{"$f":"IF(③選手情報入力!L99=\"\",\"\",IF(③選手情報入力!K99=\"\",③選手情報入力!L99,③選手情報入力!K99&③選手情報入力!L99))","v":""},{"$f":"IF(③選手情報入力!M99=\"\",\"\",③選手情報入力!M99)","v":""},{"$f":"IF(③選手情報入力!O99=\"\",\"\",IF(③選手情報入力!N99=\"\",③選手情報入力!O99,③選手情報入力!N99&③選手情報入力!O99))","v":""},{"$f":"IF(③選手情報入力!P99=\"\",\"\",③選手情報入力!P99)","v":""},{"$f":"IF(③選手情報入力!R99=\"\",\"\",③選手情報入力!R99)","v":""},{"$f":"IF(③選手情報入力!T99=\"\",\"\",③選手情報入力!T99)","v":""}]
[90,{"$f":"IF(③選手情報入力!B100=\"\",\"\",③選手情報入力!B100)","v":""},{"$f":"IF(③選手情報入力!C100=\"\",\"\",③選手情報入力!C100)","v":""},{"$f":"IF(③選手情報入力!F100=\"\",\"\",③選手情報入力!F100)","v":""},{"$f":"IF(③選手情報入力!G100=\"\",\"\",③選手情報入力!G100)","v":""},{"$f":"IF(③選手情報入力!I100=\"\",\"\",IF(③選手情報入力!H100=\"\",③選手情報入力!I100,③選手情報入力!H100&③選手情報入力!I100))","v":""},{"$f":"IF(③選手情報入力!J100=\"\",\"\",③選手情報入力!J100)","v":""},{"$f":"IF(③選手情報入力!L100=\"\",\"\",IF(③選手情報入力!K100=\"\",③選手情報入力!L100,③選手情報入力!K100&③選手情報入力!L100))","v":""},{"$f":"IF(③選手情報入力!M100=\"\",\"\",③選手情報入力!M100)","v":""},{"$f":"IF(③選手情報入力!O100=\"\",\"\",IF(③選手情報入力!N100=\"\",③選手情報入力!O100,③選手情報入力!N100&③選手情報入力!O100))","v":""},{"$f":"IF(③選手情報入力!P100=\"\",\"\",③選手情報入力!P100)","v":""},{"$f":"IF(③選手情報入力!R100=\"\",\"\",③選手情報入力!R100)","v":""},{"$f":"IF(③選手情報入力!T100=\"\",\"\",③選手情報入力!T100)","v":""}]

{"sheet":"　　　　　","index":7,"n_rows":0,"n_cols":0,"rows_kept":0,"cut":false,"hidden":false,"merged":[]}

{"sheet":"data_kyogisha","index":8,"n_rows":91,"n_cols":34,"rows_kept":91,"cut":false,"hidden":false,"merged":[]}
["競技者NO","所属コード1","所属コード2","ナンバー","ナンバー2","競技者名","競技者名カナ","競技者名略称","性別","学年","生年","月日","個人所属地名","陸連コード","参加競技-競技コード1","参加競技-自己記録1","参加競技-オープン参加FLG1","参加競技-記録FLG1","参加競技-競技コード2","参加競技-自己記録2","参加競技-オープン参加FLG2","参加競技-記録FLG2","参加競技-競技コード3","参加競技-自己記録3","参加競技-オープン参加FLG3","参加競技-記録FLG3","参加競技-競技コード4","参加競技-自己記録4","参加競技-オープン参加FLG4","参加競技-記録FLG4","参加競技-競技コード5","参加競技-自己記録5","参加競技-オープン参加FLG5","参加競技-記録FLG5"]
[{"$f":"IF(E2=\"\",\"\",IF(①データ貼付け!B2=\"\",I3*1000000+②団体情報入力!$D$3*1000+③選手情報入力!A11,①データ貼付け!B2))","v":""},{"$f":"IF(E2=\"\",\"\",②団体情報入力!$D$3)","v":""},null,{"$f":"IF(③選手情報入力!B11=\"\",\"\",LEFT(Sheet2!B2,2))","v":""},{"$f":"IF(③選手情報入力!B11=\"\",\"\",REPLACE(Sheet2!B2,1,2,\"\"))","v":""},{"$f":"IF(E2=\"\",\"\",③選手情報入力!C11)","v":""},{"$f":"IF(E2=\"\",\"\",③選手情報入力!D11)","v":""},{"$f":"IF(E2=\"\",\"\",F2)","v":""},{"$f":"IF(E2=\"\",\"\",IF(③選手情報入力!F11=\"男\",1,2))","v":""},{"$f":"IF(E2=\"\",\"\",IF(③選手情報入力!G11=\"\",\"\",③選手情報入力!G11))","v":""},null,{"$f":"IF(E2=\"\",\"\",0)","v":""},{"$f":"IF(E2=\"\",\"\",\"愛知\")","v":""},null,{"$f":"IF(E2=\"\",\"\",IF(③選手情報入力!I11=\"\",\"\",IF(I2=1,VLOOKUP(③選手情報入力!I11,種目情報!$A$4:$B$35,2,FALSE),VLOOKUP(③選手情報入力!I11,種目情報!$E$4:$F$35,2,FALSE))))","v":""},{"$f":"IF(E2=\"\",\"\",IF(③選手情報入力!J11=\"\",\"\",③選手情報入力!J11))","v":""},{"$f":"IF(E2=\"\",\"\",IF(③選手情報入力!H11=\"\",0,1))","v":""},{"$f":"IF(E2=\"\",\"\",IF(③選手情報入力!I11=\"\",\"\",IF(I2=1,VLOOKUP(③選手情報入力!I11,種目情報!$A$4:$C$39,3,FALSE),VLOOKUP(③選手情報入力!I11,種目情報!$E$4:$G$40,3,FALSE))))","v":""},{"$f":"IF(E2=\"\",\"\",IF(③選手情報入力!L11=\"\",\"\",IF(I2=1,VLOOKUP(③選手情報入力!L11,種目情報!$A$4:$B$39,2,FALSE),VLOOKUP(③選手情報入力!L11,種目情報!$E$4:$F$40,2,FALSE))))","v":""},{"$f":"IF(E2=\"\",\"\",IF(③選手情報入力!M11=\"\",\"\",③選手情報入力!M11))","v":""},{"$f":"IF(E2=\"\",\"\",IF(③選手情報入力!K11=\"\",0,1))","v":""},{"$f":"IF(E2=\"\",\"\",IF(③選手情報入力!L11=\"\",\"\",IF(I2=1,VLOOKUP(③選手情報入力!L11,種目情報!$A$4:$C$39,3,FALSE),VLOOKUP(③選手情報入力!L11,種目情報!$E$4:$G$40,3,FALSE))))","v":""},{"$f":"IF(E2=\"\",\"\",IF(③選手情報入力!O11=\"\",\"\",IF(I2=1,VLOOKUP(③選手情報入力!O11,種目情報!$A$4:$B$39,2,FALSE),VLOOKUP(③選手情報入力!O11,種目情報!$E$4:$F$40,2,FALSE))))","v":""},{"$f":"IF(E2=\"\",\"\",IF(③選手情報入力!P11=\"\",\"\",③選手情報入力!P11))","v":""},{"$f":"IF(E2=\"\",\"\",IF(③選手情報入力!N11=\"\",0,1))","v":""},{"$f":"IF(E2=\"\",\"\",IF(③選手情報入力!O11=\"\",\"\",IF(I2=1,VLOOKUP(③選手情報入力!O11,種目情報!$A$4:$C$39,3,FALSE),VLOOKUP(③選手情報入力!O11,種目情報!$E$4:$G$40,3,FALSE))))","v":""},{"$f":"IF(E2=\"\",\"\",IF(③選手情報入力!Q11=\"\",\"\",IF(I2=1,種目情報!$J$4,種目情報!$J$6)))","v":""},{"$f":"IF(E2=\"\",\"\",IF(③選手情報入力!Q11=\"\",\"\",IF(I2=1,IF(③選手情報入力!$R$6=\"\",\"\",③選手情報入力!$R$6),IF(③選手情報入力!$R$7=\"\",\"\",③選手情報入力!$R$7))))","v":""},{"$f":"IF(E2=\"\",\"\",IF(③選手情報入力!Q11=\"\",\"\",IF(I2=1,IF(③選手情報入力!$Q$6=\"\",0,1),IF(③選手情報入力!$Q$7=\"\",0,1))))","v":""},{"$f":"IF(E2=\"\",\"\",IF(③選手情報入力!Q11=\"\",\"\",2))","v":""},{"$f":"IF(E2=\"\",\"\",IF(③選手情報入力!S11=\"\",\"\",IF(I2=1,種目情報!$J$5,種目情報!$J$7)))","v":""},{"$f":"IF(E2=\"\",\"\",IF(③選手情報入力!S11=\"\",\"\",IF(I2=1,IF(③選手情報入力!$T$6=\"\",\"\",③選手情報入力!$T$6),IF(③選手情報入力!$T$7=\"\",\"\",③選手情報入力!$T$7))))","v":""},{"$f":"IF(E2=\"\",\"\",IF(③選手情報入力!S11=\"\",\"\",IF(I2=1,IF(③選手情報入力!$S$6=\"\",0,1),IF(③選手情報入力!$S$7=\"\",0,1))))","v":""},{"$f":"IF(E2=\"\",\"\",IF(③選手情報入力!S11=\"\",\"\",2))","v":""}]
[{"$f":"IF(E3=\"\",\"\",IF(①データ貼付け!B3=\"\",I4*1000000+②団体情報入力!$D$3*1000+③選手情報入力!A12,①データ貼付け!B3))","v":""},{"$f":"IF(E3=\"\",\"\",②団体情報入力!$D$3)","v":""},null,{"$f":"IF(③選手情報入力!B12=\"\",\"\",LEFT(Sheet2!B3,2))","v":""},{"$f":"IF(③選手情報入力!B12=\"\",\"\",REPLACE(Sheet2!B3,1,2,\"\"))","v":""},{"$f":"IF(E3=\"\",\"\",③選手情報入力!C12)","v":""},{"$f":"IF(E3=\"\",\"\",③選手情報入力!D12)","v":""},{"$f":"IF(E3=\"\",\"\",F3)","v":""},{"$f":"IF(E3=\"\",\"\",IF(③選手情報入力!F12=\"男\",1,2))","v":""},{"$f":"IF(E3=\"\",\"\",IF(③選手情報入力!G12=\"\",\"\",③選手情報入力!G12))","v":""},null,{"$f":"IF(E3=\"\",\"\",0)","v":""},{"$f":"IF(E3=\"\",\"\",\"愛知\")","v":""},null,{"$f":"IF(E3=\"\",\"\",IF(③選手情報入力!I12=\"\",\"\",IF(I3=1,VLOOKUP(③選手情報入力!I12,種目情報!$A$4:$B$35,2,FALSE),VLOOKUP(③選手情報入力!I12,種目情報!$E$4:$F$35,2,FALSE))))","v":""},{"$f":"IF(E3=\"\",\"\",IF(③選手情報入力!J12=\"\",\"\",③選手情報入力!J12))","v":""},{"$f":"IF(E3=\"\",\"\",IF(③選手情報入力!H12=\"\",0,1))","v":""},{"$f":"IF(E3=\"\",\"\",IF(③選手情報入力!I12=\"\",\"\",IF(I3=1,VLOOKUP(③選手情報入力!I12,種目情報!$A$4:$C$39,3,FALSE),VLOOKUP(③選手情報入力!I12,種目情報!$E$4:$G$40,3,FALSE))))","v":""},{"$f":"IF(E3=\"\",\"\",IF(③選手情報入力!L12=\"\",\"\",IF(I3=1,VLOOKUP(③選手情報入力!L12,種目情報!$A$4:$B$39,2,FALSE),VLOOKUP(③選手情報入力!L12,種目情報!$E$4:$F$40,2,FALSE))))","v":""},{"$f":"IF(E3=\"\",\"\",IF(③選手情報入力!M12=\"\",\"\",③選手情報入力!M12))","v":""},{"$f":"IF(E3=\"\",\"\",IF(③選手情報入力!K12=\"\",0,1))","v":""},{"$f":"IF(E3=\"\",\"\",IF(③選手情報入力!L12=\"\",\"\",IF(I3=1,VLOOKUP(③選手情報入力!L12,種目情報!$A$4:$C$39,3,FALSE),VLOOKUP(③選手情報入力!L12,種目情報!$E$4:$G$40,3,FALSE))))","v":""},{"$f":"IF(E3=\"\",\"\",IF(③選手情報入力!O12=\"\",\"\",IF(I3=1,VLOOKUP(③選手情報入力!O12,種目情報!$A$4:$B$39,2,FALSE),VLOOKUP(③選手情報入力!O12,種目情報!$E$4:$F$40,2,FALSE))))","v":""},{"$f":"IF(E3=\"\",\"\",IF(③選手情報入力!P12=\"\",\"\",③選手情報入力!P12))","v":""},{"$f":"IF(E3=\"\",\"\",IF(③選手情報入力!N12=\"\",0,1))","v":""},{"$f":"IF(E3=\"\",\"\",IF(③選手情報入力!O12=\"\",\"\",IF(I3=1,VLOOKUP(③選手情報入力!O12,種目情報!$A$4:$C$39,3,FALSE),VLOOKUP(③選手情報入力!O12,種目情報!$E$4:$G$40,3,FALSE))))","v":""},{"$f":"IF(E3=\"\",\"\",IF(③選手情報入力!Q12=\"\",\"\",IF(I3=1,種目情報!$J$4,種目情報!$J$6)))","v":""},{"$f":"IF(E3=\"\",\"\",IF(③選手情報入力!Q12=\"\",\"\",IF(I3=1,IF(③選手情報入力!$R$6=\"\",\"\",③選手情報入力!$R$6),IF(③選手情報入力!$R$7=\"\",\"\",③選手情報入力!$R$7))))","v":""},{"$f":"IF(E3=\"\",\"\",IF(③選手情報入力!Q12=\"\",\"\",IF(I3=1,IF(③選手情報入力!$Q$6=\"\",0,1),IF(③選手情報入力!$Q$7=\"\",0,1))))","v":""},{"$f":"IF(E3=\"\",\"\",IF(③選手情報入力!Q12=\"\",\"\",2))","v":""},{"$f":"IF(E3=\"\",\"\",IF(③選手情報入力!S12=\"\",\"\",IF(I3=1,種目情報!$J$5,種目情報!$J$7)))","v":""},{"$f":"IF(E3=\"\",\"\",IF(③選手情報入力!S12=\"\",\"\",IF(I3=1,IF(③選手情報入力!$T$6=\"\",\"\",③選手情報入力!$T$6),IF(③選手情報入力!$T$7=\"\",\"\",③選手情報入力!$T$7))))","v":""},{"$f":"IF(E3=\"\",\"\",IF(③選手情報入力!S12=\"\",\"\",IF(I3=1,IF(③選手情報入力!$S$6=\"\",0,1),IF(③選手情報入力!$S$7=\"\",0,1))))","v":""},{"$f":"IF(E3=\"\",\"\",IF(③選手情報入力!S12=\"\",\"\",2))","v":""}]
[{"$f":"IF(E4=\"\",\"\",IF(①データ貼付け!B4=\"\",I5*1000000+②団体情報入力!$D$3*1000+③選手情報入力!A13,①データ貼付け!B4))","v":""},{"$f":"IF(E4=\"\",\"\",②団体情報入力!$D$3)","v":""},null,{"$f":"IF(③選手情報入力!B13=\"\",\"\",LEFT(Sheet2!B4,2))","v":""},{"$f":"IF(③選手情報入力!B13=\"\",\"\",REPLACE(Sheet2!B4,1,2,\"\"))","v":""},{"$f":"IF(E4=\"\",\"\",③選手情報入力!C13)","v":""},{"$f":"IF(E4=\"\",\"\",③選手情報入力!D13)","v":""},"",{"$f":"IF(E4=\"\",\"\",IF(③選手情報入力!F13=\"男\",1,2))","v":""},{"$f":"IF(E4=\"\",\"\",IF(③選手情報入力!G13=\"\",\"\",③選手情報入力!G13))","v":""},null,"","",null,{"$f":"IF(E4=\"\",\"\",IF(③選手情報入力!I13=\"\",\"\",IF(I4=1,VLOOKUP(③選手情報入力!I13,種目情報!$A$4:$B$35,2,FALSE),VLOOKUP(③選手情報入力!I13,種目情報!$E$4:$F$35,2,FALSE))))","v":""},{"$f":"IF(E4=\"\",\"\",IF(③選手情報入力!J13=\"\",\"\",③選手情報入力!J13))","v":""},{"$f":"IF(E4=\"\",\"\",IF(③選手情報入力!H13=\"\",0,1))","v":""},{"$f":"IF(E4=\"\",\"\",IF(③選手情報入力!I13=\"\",\"\",IF(I4=1,VLOOKUP(③選手情報入力!I13,種目情報!$A$4:$C$39,3,FALSE),VLOOKUP(③選手情報入力!I13,種目情報!$E$4:$G$40,3,FALSE))))","v":""},{"$f":"IF(E4=\"\",\"\",IF(③選手情報入力!L13=\"\",\"\",IF(I4=1,VLOOKUP(③選手情報入力!L13,種目情報!$A$4:$B$39,2,FALSE),VLOOKUP(③選手情報入力!L13,種目情報!$E$4:$F$40,2,FALSE))))","v":""},{"$f":"IF(E4=\"\",\"\",IF(③選手情報入力!M13=\"\",\"\",③選手情報入力!M13))","v":""},{"$f":"IF(E4=\"\",\"\",IF(③選手情報入力!K13=\"\",0,1))","v":""},{"$f":"IF(E4=\"\",\"\",IF(③選手情報入力!L13=\"\",\"\",IF(I4=1,VLOOKUP(③選手情報入力!L13,種目情報!$A$4:$C$39,3,FALSE),VLOOKUP(③選手情報入力!L13,種目情報!$E$4:$G$40,3,FALSE))))","v":""},{"$f":"IF(E4=\"\",\"\",IF(③選手情報入力!O13=\"\",\"\",IF(I4=1,VLOOKUP(③選手情報入力!O13,種目情報!$A$4:$B$39,2,FALSE),VLOOKUP(③選手情報入力!O13,種目情報!$E$4:$F$40,2,FALSE))))","v":""},{"$f":"IF(E4=\"\",\"\",IF(③選手情報入力!P13=\"\",\"\",③選手情報入力!P13))","v":""},{"$f":"IF(E4=\"\",\"\",IF(③選手情報入力!N13=\"\",0,1))","v":""},{"$f":"IF(E4=\"\",\"\",IF(③選手情報入力!O13=\"\",\"\",IF(I4=1,VLOOKUP(③選手情報入力!O13,種目情報!$A$4:$C$39,3,FALSE),VLOOKUP(③選手情報入力!O13,種目情報!$E$4:$G$40,3,FALSE))))","v":""},{"$f":"IF(E4=\"\",\"\",IF(③選手情報入力!Q13=\"\",\"\",IF(I4=1,種目情報!$J$4,種目情報!$J$6)))","v":""},{"$f":"IF(E4=\"\",\"\",IF(③選手情報入力!Q13=\"\",\"\",IF(I4=1,IF(③選手情報入力!$R$6=\"\",\"\",③選手情報入力!$R$6),IF(③選手情報入力!$R$7=\"\",\"\",③選手情報入力!$R$7))))","v":""},{"$f":"IF(E4=\"\",\"\",IF(③選手情報入力!Q13=\"\",\"\",IF(I4=1,IF(③選手情報入力!$Q$6=\"\",0,1),IF(③選手情報入力!$Q$7=\"\",0,1))))","v":""},{"$f":"IF(E4=\"\",\"\",IF(③選手情報入力!Q13=\"\",\"\",2))","v":""},{"$f":"IF(E4=\"\",\"\",IF(③選手情報入力!S13=\"\",\"\",IF(I4=1,種目情報!$J$5,種目情報!$J$7)))","v":""},{"$f":"IF(E4=\"\",\"\",IF(③選手情報入力!S13=\"\",\"\",IF(I4=1,IF(③選手情報入力!$T$6=\"\",\"\",③選手情報入力!$T$6),IF(③選手情報入力!$T$7=\"\",\"\",③選手情報入力!$T$7))))","v":""},{"$f":"IF(E4=\"\",\"\",IF(③選手情報入力!S13=\"\",\"\",IF(I4=1,IF(③選手情報入力!$S$6=\"\",0,1),IF(③選手情報入力!$S$7=\"\",0,1))))","v":""},{"$f":"IF(E4=\"\",\"\",IF(③選手情報入力!S13=\"\",\"\",2))","v":""}]
[{"$f":"IF(E5=\"\",\"\",IF(①データ貼付け!B5=\"\",I6*1000000+②団体情報入力!$D$3*1000+③選手情報入力!A14,①データ貼付け!B5))","v":""},{"$f":"IF(E5=\"\",\"\",②団体情報入力!$D$3)","v":""},null,{"$f":"IF(③選手情報入力!B14=\"\",\"\",LEFT(Sheet2!B5,2))","v":""},{"$f":"IF(③選手情報入力!B14=\"\",\"\",REPLACE(Sheet2!B5,1,2,\"\"))","v":""},{"$f":"IF(E5=\"\",\"\",③選手情報入力!C14)","v":""},{"$f":"IF(E5=\"\",\"\",③選手情報入力!D14)","v":""},"",{"$f":"IF(E5=\"\",\"\",IF(③選手情報入力!F14=\"男\",1,2))","v":""},{"$f":"IF(E5=\"\",\"\",IF(③選手情報入力!G14=\"\",\"\",③選手情報入力!G14))","v":""},null,"","",null,{"$f":"IF(E5=\"\",\"\",IF(③選手情報入力!I14=\"\",\"\",IF(I5=1,VLOOKUP(③選手情報入力!I14,種目情報!$A$4:$B$35,2,FALSE),VLOOKUP(③選手情報入力!I14,種目情報!$E$4:$F$35,2,FALSE))))","v":""},{"$f":"IF(E5=\"\",\"\",IF(③選手情報入力!J14=\"\",\"\",③選手情報入力!J14))","v":""},{"$f":"IF(E5=\"\",\"\",IF(③選手情報入力!H14=\"\",0,1))","v":""},{"$f":"IF(E5=\"\",\"\",IF(③選手情報入力!I14=\"\",\"\",IF(I5=1,VLOOKUP(③選手情報入力!I14,種目情報!$A$4:$C$39,3,FALSE),VLOOKUP(③選手情報入力!I14,種目情報!$E$4:$G$40,3,FALSE))))","v":""},{"$f":"IF(E5=\"\",\"\",IF(③選手情報入力!L14=\"\",\"\",IF(I5=1,VLOOKUP(③選手情報入力!L14,種目情報!$A$4:$B$39,2,FALSE),VLOOKUP(③選手情報入力!L14,種目情報!$E$4:$F$40,2,FALSE))))","v":""},{"$f":"IF(E5=\"\",\"\",IF(③選手情報入力!M14=\"\",\"\",③選手情報入力!M14))","v":""},{"$f":"IF(E5=\"\",\"\",IF(③選手情報入力!K14=\"\",0,1))","v":""},{"$f":"IF(E5=\"\",\"\",IF(③選手情報入力!L14=\"\",\"\",IF(I5=1,VLOOKUP(③選手情報入力!L14,種目情報!$A$4:$C$39,3,FALSE),VLOOKUP(③選手情報入力!L14,種目情報!$E$4:$G$40,3,FALSE))))","v":""},{"$f":"IF(E5=\"\",\"\",IF(③選手情報入力!O14=\"\",\"\",IF(I5=1,VLOOKUP(③選手情報入力!O14,種目情報!$A$4:$B$39,2,FALSE),VLOOKUP(③選手情報入力!O14,種目情報!$E$4:$F$40,2,FALSE))))","v":""},{"$f":"IF(E5=\"\",\"\",IF(③選手情報入力!P14=\"\",\"\",③選手情報入力!P14))","v":""},{"$f":"IF(E5=\"\",\"\",IF(③選手情報入力!N14=\"\",0,1))","v":""},{"$f":"IF(E5=\"\",\"\",IF(③選手情報入力!O14=\"\",\"\",IF(I5=1,VLOOKUP(③選手情報入力!O14,種目情報!$A$4:$C$39,3,FALSE),VLOOKUP(③選手情報入力!O14,種目情報!$E$4:$G$40,3,FALSE))))","v":""},{"$f":"IF(E5=\"\",\"\",IF(③選手情報入力!Q14=\"\",\"\",IF(I5=1,種目情報!$J$4,種目情報!$J$6)))","v":""},{"$f":"IF(E5=\"\",\"\",IF(③選手情報入力!Q14=\"\",\"\",IF(I5=1,IF(③選手情報入力!$R$6=\"\",\"\",③選手情報入力!$R$6),IF(③選手情報入力!$R$7=\"\",\"\",③選手情報入力!$R$7))))","v":""},{"$f":"IF(E5=\"\",\"\",IF(③選手情報入力!Q14=\"\",\"\",IF(I5=1,IF(③選手情報入力!$Q$6=\"\",0,1),IF(③選手情報入力!$Q$7=\"\",0,1))))","v":""},{"$f":"IF(E5=\"\",\"\",IF(③選手情報入力!Q14=\"\",\"\",2))","v":""},{"$f":"IF(E5=\"\",\"\",IF(③選手情報入力!S14=\"\",\"\",IF(I5=1,種目情報!$J$5,種目情報!$J$7)))","v":""},{"$f":"IF(E5=\"\",\"\",IF(③選手情報入力!S14=\"\",\"\",IF(I5=1,IF(③選手情報入力!$T$6=\"\",\"\",③選手情報入力!$T$6),IF(③選手情報入力!$T$7=\"\",\"\",③選手情報入力!$T$7))))","v":""},{"$f":"IF(E5=\"\",\"\",IF(③選手情報入力!S14=\"\",\"\",IF(I5=1,IF(③選手情報入力!$S$6=\"\",0,1),IF(③選手情報入力!$S$7=\"\",0,1))))","v":""},{"$f":"IF(E5=\"\",\"\",IF(③選手情報入力!S14=\"\",\"\",2))","v":""}]
[{"$f":"IF(E6=\"\",\"\",IF(①データ貼付け!B6=\"\",I7*1000000+②団体情報入力!$D$3*1000+③選手情報入力!A15,①データ貼付け!B6))","v":""},{"$f":"IF(E6=\"\",\"\",②団体情報入力!$D$3)","v":""},null,{"$f":"IF(③選手情報入力!B15=\"\",\"\",LEFT(Sheet2!B6,2))","v":""},{"$f":"IF(③選手情報入力!B15=\"\",\"\",REPLACE(Sheet2!B6,1,2,\"\"))","v":""},{"$f":"IF(E6=\"\",\"\",③選手情報入力!C15)","v":""},{"$f":"IF(E6=\"\",\"\",③選手情報入力!D15)","v":""},"",{"$f":"IF(E6=\"\",\"\",IF(③選手情報入力!F15=\"男\",1,2))","v":""},{"$f":"IF(E6=\"\",\"\",IF(③選手情報入力!G15=\"\",\"\",③選手情報入力!G15))","v":""},null,"","",null,{"$f":"IF(E6=\"\",\"\",IF(③選手情報入力!I15=\"\",\"\",IF(I6=1,VLOOKUP(③選手情報入力!I15,種目情報!$A$4:$B$35,2,FALSE),VLOOKUP(③選手情報入力!I15,種目情報!$E$4:$F$35,2,FALSE))))","v":""},{"$f":"IF(E6=\"\",\"\",IF(③選手情報入力!J15=\"\",\"\",③選手情報入力!J15))","v":""},{"$f":"IF(E6=\"\",\"\",IF(③選手情報入力!H15=\"\",0,1))","v":""},{"$f":"IF(E6=\"\",\"\",IF(③選手情報入力!I15=\"\",\"\",IF(I6=1,VLOOKUP(③選手情報入力!I15,種目情報!$A$4:$C$39,3,FALSE),VLOOKUP(③選手情報入力!I15,種目情報!$E$4:$G$40,3,FALSE))))","v":""},{"$f":"IF(E6=\"\",\"\",IF(③選手情報入力!L15=\"\",\"\",IF(I6=1,VLOOKUP(③選手情報入力!L15,種目情報!$A$4:$B$39,2,FALSE),VLOOKUP(③選手情報入力!L15,種目情報!$E$4:$F$40,2,FALSE))))","v":""},{"$f":"IF(E6=\"\",\"\",IF(③選手情報入力!M15=\"\",\"\",③選手情報入力!M15))","v":""},{"$f":"IF(E6=\"\",\"\",IF(③選手情報入力!K15=\"\",0,1))","v":""},{"$f":"IF(E6=\"\",\"\",IF(③選手情報入力!L15=\"\",\"\",IF(I6=1,VLOOKUP(③選手情報入力!L15,種目情報!$A$4:$C$39,3,FALSE),VLOOKUP(③選手情報入力!L15,種目情報!$E$4:$G$40,3,FALSE))))","v":""},{"$f":"IF(E6=\"\",\"\",IF(③選手情報入力!O15=\"\",\"\",IF(I6=1,VLOOKUP(③選手情報入力!O15,種目情報!$A$4:$B$39,2,FALSE),VLOOKUP(③選手情報入力!O15,種目情報!$E$4:$F$40,2,FALSE))))","v":""},{"$f":"IF(E6=\"\",\"\",IF(③選手情報入力!P15=\"\",\"\",③選手情報入力!P15))","v":""},{"$f":"IF(E6=\"\",\"\",IF(③選手情報入力!N15=\"\",0,1))","v":""},{"$f":"IF(E6=\"\",\"\",IF(③選手情報入力!O15=\"\",\"\",IF(I6=1,VLOOKUP(③選手情報入力!O15,種目情報!$A$4:$C$39,3,FALSE),VLOOKUP(③選手情報入力!O15,種目情報!$E$4:$G$40,3,FALSE))))","v":""},{"$f":"IF(E6=\"\",\"\",IF(③選手情報入力!Q15=\"\",\"\",IF(I6=1,種目情報!$J$4,種目情報!$J$6)))","v":""},{"$f":"IF(E6=\"\",\"\",IF(③選手情報入力!Q15=\"\",\"\",IF(I6=1,IF(③選手情報入力!$R$6=\"\",\"\",③選手情報入力!$R$6),IF(③選手情報入力!$R$7=\"\",\"\",③選手情報入力!$R$7))))","v":""},{"$f":"IF(E6=\"\",\"\",IF(③選手情報入力!Q15=\"\",\"\",IF(I6=1,IF(③選手情報入力!$Q$6=\"\",0,1),IF(③選手情報入力!$Q$7=\"\",0,1))))","v":""},{"$f":"IF(E6=\"\",\"\",IF(③選手情報入力!Q15=\"\",\"\",2))","v":""},{"$f":"IF(E6=\"\",\"\",IF(③選手情報入力!S15=\"\",\"\",IF(I6=1,種目情報!$J$5,種目情報!$J$7)))","v":""},{"$f":"IF(E6=\"\",\"\",IF(③選手情報入力!S15=\"\",\"\",IF(I6=1,IF(③選手情報入力!$T$6=\"\",\"\",③選手情報入力!$T$6),IF(③選手情報入力!$T$7=\"\",\"\",③選手情報入力!$T$7))))","v":""},{"$f":"IF(E6=\"\",\"\",IF(③選手情報入力!S15=\"\",\"\",IF(I6=1,IF(③選手情報入力!$S$6=\"\",0,1),IF(③選手情報入力!$S$7=\"\",0,1))))","v":""},{"$f":"IF(E6=\"\",\"\",IF(③選手情報入力!S15=\"\",\"\",2))","v":""}]
[{"$f":"IF(E7=\"\",\"\",IF(①データ貼付け!B7=\"\",I8*1000000+②団体情報入力!$D$3*1000+③選手情報入力!A16,①データ貼付け!B7))","v":""},{"$f":"IF(E7=\"\",\"\",②団体情報入力!$D$3)","v":""},null,{"$f":"IF(③選手情報入力!B16=\"\",\"\",LEFT(Sheet2!B7,2))","v":""},{"$f":"IF(③選手情報入力!B16=\"\",\"\",REPLACE(Sheet2!B7,1,2,\"\"))","v":""},{"$f":"IF(E7=\"\",\"\",③選手情報入力!C16)","v":""},{"$f":"IF(E7=\"\",\"\",③選手情報入力!D16)","v":""},"",{"$f":"IF(E7=\"\",\"\",IF(③選手情報入力!F16=\"男\",1,2))","v":""},{"$f":"IF(E7=\"\",\"\",IF(③選手情報入力!G16=\"\",\"\",③選手情報入力!G16))","v":""},null,"","",null,{"$f":"IF(E7=\"\",\"\",IF(③選手情報入力!I16=\"\",\"\",IF(I7=1,VLOOKUP(③選手情報入力!I16,種目情報!$A$4:$B$35,2,FALSE),VLOOKUP(③選手情報入力!I16,種目情報!$E$4:$F$35,2,FALSE))))","v":""},{"$f":"IF(E7=\"\",\"\",IF(③選手情報入力!J16=\"\",\"\",③選手情報入力!J16))","v":""},{"$f":"IF(E7=\"\",\"\",IF(③選手情報入力!H16=\"\",0,1))","v":""},{"$f":"IF(E7=\"\",\"\",IF(③選手情報入力!I16=\"\",\"\",IF(I7=1,VLOOKUP(③選手情報入力!I16,種目情報!$A$4:$C$39,3,FALSE),VLOOKUP(③選手情報入力!I16,種目情報!$E$4:$G$40,3,FALSE))))","v":""},{"$f":"IF(E7=\"\",\"\",IF(③選手情報入力!L16=\"\",\"\",IF(I7=1,VLOOKUP(③選手情報入力!L16,種目情報!$A$4:$B$39,2,FALSE),VLOOKUP(③選手情報入力!L16,種目情報!$E$4:$F$40,2,FALSE))))","v":""},{"$f":"IF(E7=\"\",\"\",IF(③選手情報入力!M16=\"\",\"\",③選手情報入力!M16))","v":""},{"$f":"IF(E7=\"\",\"\",IF(③選手情報入力!K16=\"\",0,1))","v":""},{"$f":"IF(E7=\"\",\"\",IF(③選手情報入力!L16=\"\",\"\",IF(I7=1,VLOOKUP(③選手情報入力!L16,種目情報!$A$4:$C$39,3,FALSE),VLOOKUP(③選手情報入力!L16,種目情報!$E$4:$G$40,3,FALSE))))","v":""},{"$f":"IF(E7=\"\",\"\",IF(③選手情報入力!O16=\"\",\"\",IF(I7=1,VLOOKUP(③選手情報入力!O16,種目情報!$A$4:$B$39,2,FALSE),VLOOKUP(③選手情報入力!O16,種目情報!$E$4:$F$40,2,FALSE))))","v":""},{"$f":"IF(E7=\"\",\"\",IF(③選手情報入力!P16=\"\",\"\",③選手情報入力!P16))","v":""},{"$f":"IF(E7=\"\",\"\",IF(③選手情報入力!N16=\"\",0,1))","v":""},{"$f":"IF(E7=\"\",\"\",IF(③選手情報入力!O16=\"\",\"\",IF(I7=1,VLOOKUP(③選手情報入力!O16,種目情報!$A$4:$C$39,3,FALSE),VLOOKUP(③選手情報入力!O16,種目情報!$E$4:$G$40,3,FALSE))))","v":""},{"$f":"IF(E7=\"\",\"\",IF(③選手情報入力!Q16=\"\",\"\",IF(I7=1,種目情報!$J$4,種目情報!$J$6)))","v":""},{"$f":"IF(E7=\"\",\"\",IF(③選手情報入力!Q16=\"\",\"\",IF(I7=1,IF(③選手情報入力!$R$6=\"\",\"\",③選手情報入力!$R$6),IF(③選手情報入力!$R$7=\"\",\"\",③選手情報入力!$R$7))))","v":""},{"$f":"IF(E7=\"\",\"\",IF(③選手情報入力!Q16=\"\",\"\",IF(I7=1,IF(③選手情報入力!$Q$6=\"\",0,1),IF(③選手情報入力!$Q$7=\"\",0,1))))","v":""},{"$f":"IF(E7=\"\",\"\",IF(③選手情報入力!Q16=\"\",\"\",2))","v":""},{"$f":"IF(E7=\"\",\"\",IF(③選手情報入力!S16=\"\",\"\",IF(I7=1,種目情報!$J$5,種目情報!$J$7)))","v":""},{"$f":"IF(E7=\"\",\"\",IF(③選手情報入力!S16=\"\",\"\",IF(I7=1,IF(③選手情報入力!$T$6=\"\",\"\",③選手情報入力!$T$6),IF(③選手情報入力!$T$7=\"\",\"\",③選手情報入力!$T$7))))","v":""},{"$f":"IF(E7=\"\",\"\",IF(③選手情報入力!S16=\"\",\"\",IF(I7=1,IF(③選手情報入力!$S$6=\"\",0,1),IF(③選手情報入力!$S$7=\"\",0,1))))","v":""},{"$f":"IF(E7=\"\",\"\",IF(③選手情報入力!S16=\"\",\"\",2))","v":""}]
[{"$f":"IF(E8=\"\",\"\",IF(①データ貼付け!B8=\"\",I9*1000000+②団体情報入力!$D$3*1000+③選手情報入力!A17,①データ貼付け!B8))","v":""},{"$f":"IF(E8=\"\",\"\",②団体情報入力!$D$3)","v":""},null,{"$f":"IF(③選手情報入力!B17=\"\",\"\",LEFT(Sheet2!B8,2))","v":""},{"$f":"IF(③選手情報入力!B17=\"\",\"\",REPLACE(Sheet2!B8,1,2,\"\"))","v":""},{"$f":"IF(E8=\"\",\"\",③選手情報入力!C17)","v":""},{"$f":"IF(E8=\"\",\"\",③選手情報入力!D17)","v":""},"",{"$f":"IF(E8=\"\",\"\",IF(③選手情報入力!F17=\"男\",1,2))","v":""},{"$f":"IF(E8=\"\",\"\",IF(③選手情報入力!G17=\"\",\"\",③選手情報入力!G17))","v":""},null,"","",null,{"$f":"IF(E8=\"\",\"\",IF(③選手情報入力!I17=\"\",\"\",IF(I8=1,VLOOKUP(③選手情報入力!I17,種目情報!$A$4:$B$35,2,FALSE),VLOOKUP(③選手情報入力!I17,種目情報!$E$4:$F$35,2,FALSE))))","v":""},{"$f":"IF(E8=\"\",\"\",IF(③選手情報入力!J17=\"\",\"\",③選手情報入力!J17))","v":""},{"$f":"IF(E8=\"\",\"\",IF(③選手情報入力!H17=\"\",0,1))","v":""},{"$f":"IF(E8=\"\",\"\",IF(③選手情報入力!I17=\"\",\"\",IF(I8=1,VLOOKUP(③選手情報入力!I17,種目情報!$A$4:$C$39,3,FALSE),VLOOKUP(③選手情報入力!I17,種目情報!$E$4:$G$40,3,FALSE))))","v":""},{"$f":"IF(E8=\"\",\"\",IF(③選手情報入力!L17=\"\",\"\",IF(I8=1,VLOOKUP(③選手情報入力!L17,種目情報!$A$4:$B$39,2,FALSE),VLOOKUP(③選手情報入力!L17,種目情報!$E$4:$F$40,2,FALSE))))","v":""},{"$f":"IF(E8=\"\",\"\",IF(③選手情報入力!M17=\"\",\"\",③選手情報入力!M17))","v":""},{"$f":"IF(E8=\"\",\"\",IF(③選手情報入力!K17=\"\",0,1))","v":""},{"$f":"IF(E8=\"\",\"\",IF(③選手情報入力!L17=\"\",\"\",IF(I8=1,VLOOKUP(③選手情報入力!L17,種目情報!$A$4:$C$39,3,FALSE),VLOOKUP(③選手情報入力!L17,種目情報!$E$4:$G$40,3,FALSE))))","v":""},{"$f":"IF(E8=\"\",\"\",IF(③選手情報入力!O17=\"\",\"\",IF(I8=1,VLOOKUP(③選手情報入力!O17,種目情報!$A$4:$B$39,2,FALSE),VLOOKUP(③選手情報入力!O17,種目情報!$E$4:$F$40,2,FALSE))))","v":""},{"$f":"IF(E8=\"\",\"\",IF(③選手情報入力!P17=\"\",\"\",③選手情報入力!P17))","v":""},{"$f":"IF(E8=\"\",\"\",IF(③選手情報入力!N17=\"\",0,1))","v":""},{"$f":"IF(E8=\"\",\"\",IF(③選手情報入力!O17=\"\",\"\",IF(I8=1,VLOOKUP(③選手情報入力!O17,種目情報!$A$4:$C$39,3,FALSE),VLOOKUP(③選手情報入力!O17,種目情報!$E$4:$G$40,3,FALSE))))","v":""},{"$f":"IF(E8=\"\",\"\",IF(③選手情報入力!Q17=\"\",\"\",IF(I8=1,種目情報!$J$4,種目情報!$J$6)))","v":""},{"$f":"IF(E8=\"\",\"\",IF(③選手情報入力!Q17=\"\",\"\",IF(I8=1,IF(③選手情報入力!$R$6=\"\",\"\",③選手情報入力!$R$6),IF(③選手情報入力!$R$7=\"\",\"\",③選手情報入力!$R$7))))","v":""},{"$f":"IF(E8=\"\",\"\",IF(③選手情報入力!Q17=\"\",\"\",IF(I8=1,IF(③選手情報入力!$Q$6=\"\",0,1),IF(③選手情報入力!$Q$7=\"\",0,1))))","v":""},{"$f":"IF(E8=\"\",\"\",IF(③選手情報入力!Q17=\"\",\"\",2))","v":""},{"$f":"IF(E8=\"\",\"\",IF(③選手情報入力!S17=\"\",\"\",IF(I8=1,種目情報!$J$5,種目情報!$J$7)))","v":""},{"$f":"IF(E8=\"\",\"\",IF(③選手情報入力!S17=\"\",\"\",IF(I8=1,IF(③選手情報入力!$T$6=\"\",\"\",③選手情報入力!$T$6),IF(③選手情報入力!$T$7=\"\",\"\",③選手情報入力!$T$7))))","v":""},{"$f":"IF(E8=\"\",\"\",IF(③選手情報入力!S17=\"\",\"\",IF(I8=1,IF(③選手情報入力!$S$6=\"\",0,1),IF(③選手情報入力!$S$7=\"\",0,1))))","v":""},{"$f":"IF(E8=\"\",\"\",IF(③選手情報入力!S17=\"\",\"\",2))","v":""}]
[{"$f":"IF(E9=\"\",\"\",IF(①データ貼付け!B9=\"\",I10*1000000+②団体情報入力!$D$3*1000+③選手情報入力!A18,①データ貼付け!B9))","v":""},{"$f":"IF(E9=\"\",\"\",②団体情報入力!$D$3)","v":""},null,{"$f":"IF(③選手情報入力!B18=\"\",\"\",LEFT(Sheet2!B9,2))","v":""},{"$f":"IF(③選手情報入力!B18=\"\",\"\",REPLACE(Sheet2!B9,1,2,\"\"))","v":""},{"$f":"IF(E9=\"\",\"\",③選手情報入力!C18)","v":""},{"$f":"IF(E9=\"\",\"\",③選手情報入力!D18)","v":""},"",{"$f":"IF(E9=\"\",\"\",IF(③選手情報入力!F18=\"男\",1,2))","v":""},{"$f":"IF(E9=\"\",\"\",IF(③選手情報入力!G18=\"\",\"\",③選手情報入力!G18))","v":""},null,"","",null,{"$f":"IF(E9=\"\",\"\",IF(③選手情報入力!I18=\"\",\"\",IF(I9=1,VLOOKUP(③選手情報入力!I18,種目情報!$A$4:$B$35,2,FALSE),VLOOKUP(③選手情報入力!I18,種目情報!$E$4:$F$35,2,FALSE))))","v":""},{"$f":"IF(E9=\"\",\"\",IF(③選手情報入力!J18=\"\",\"\",③選手情報入力!J18))","v":""},{"$f":"IF(E9=\"\",\"\",IF(③選手情報入力!H18=\"\",0,1))","v":""},{"$f":"IF(E9=\"\",\"\",IF(③選手情報入力!I18=\"\",\"\",IF(I9=1,VLOOKUP(③選手情報入力!I18,種目情報!$A$4:$C$39,3,FALSE),VLOOKUP(③選手情報入力!I18,種目情報!$E$4:$G$40,3,FALSE))))","v":""},{"$f":"IF(E9=\"\",\"\",IF(③選手情報入力!L18=\"\",\"\",IF(I9=1,VLOOKUP(③選手情報入力!L18,種目情報!$A$4:$B$39,2,FALSE),VLOOKUP(③選手情報入力!L18,種目情報!$E$4:$F$40,2,FALSE))))","v":""},{"$f":"IF(E9=\"\",\"\",IF(③選手情報入力!M18=\"\",\"\",③選手情報入力!M18))","v":""},{"$f":"IF(E9=\"\",\"\",IF(③選手情報入力!K18=\"\",0,1))","v":""},{"$f":"IF(E9=\"\",\"\",IF(③選手情報入力!L18=\"\",\"\",IF(I9=1,VLOOKUP(③選手情報入力!L18,種目情報!$A$4:$C$39,3,FALSE),VLOOKUP(③選手情報入力!L18,種目情報!$E$4:$G$40,3,FALSE))))","v":""},{"$f":"IF(E9=\"\",\"\",IF(③選手情報入力!O18=\"\",\"\",IF(I9=1,VLOOKUP(③選手情報入力!O18,種目情報!$A$4:$B$39,2,FALSE),VLOOKUP(③選手情報入力!O18,種目情報!$E$4:$F$40,2,FALSE))))","v":""},{"$f":"IF(E9=\"\",\"\",IF(③選手情報入力!P18=\"\",\"\",③選手情報入力!P18))","v":""},{"$f":"IF(E9=\"\",\"\",IF(③選手情報入力!N18=\"\",0,1))","v":""},{"$f":"IF(E9=\"\",\"\",IF(③選手情報入力!O18=\"\",\"\",IF(I9=1,VLOOKUP(③選手情報入力!O18,種目情報!$A$4:$C$39,3,FALSE),VLOOKUP(③選手情報入力!O18,種目情報!$E$4:$G$40,3,FALSE))))","v":""},{"$f":"IF(E9=\"\",\"\",IF(③選手情報入力!Q18=\"\",\"\",IF(I9=1,種目情報!$J$4,種目情報!$J$6)))","v":""},{"$f":"IF(E9=\"\",\"\",IF(③選手情報入力!Q18=\"\",\"\",IF(I9=1,IF(③選手情報入力!$R$6=\"\",\"\",③選手情報入力!$R$6),IF(③選手情報入力!$R$7=\"\",\"\",③選手情報入力!$R$7))))","v":""},{"$f":"IF(E9=\"\",\"\",IF(③選手情報入力!Q18=\"\",\"\",IF(I9=1,IF(③選手情報入力!$Q$6=\"\",0,1),IF(③選手情報入力!$Q$7=\"\",0,1))))","v":""},{"$f":"IF(E9=\"\",\"\",IF(③選手情報入力!Q18=\"\",\"\",2))","v":""},{"$f":"IF(E9=\"\",\"\",IF(③選手情報入力!S18=\"\",\"\",IF(I9=1,種目情報!$J$5,種目情報!$J$7)))","v":""},{"$f":"IF(E9=\"\",\"\",IF(③選手情報入力!S18=\"\",\"\",IF(I9=1,IF(③選手情報入力!$T$6=\"\",\"\",③選手情報入力!$T$6),IF(③選手情報入力!$T$7=\"\",\"\",③選手情報入力!$T$7))))","v":""},{"$f":"IF(E9=\"\",\"\",IF(③選手情報入力!S18=\"\",\"\",IF(I9=1,IF(③選手情報入力!$S$6=\"\",0,1),IF(③選手情報入力!$S$7=\"\",0,1))))","v":""},{"$f":"IF(E9=\"\",\"\",IF(③選手情報入力!S18=\"\",\"\",2))","v":""}]
[{"$f":"IF(E10=\"\",\"\",IF(①データ貼付け!B10=\"\",I11*1000000+②団体情報入力!$D$3*1000+③選手情報入力!A19,①データ貼付け!B10))","v":""},{"$f":"IF(E10=\"\",\"\",②団体情報入力!$D$3)","v":""},null,{"$f":"IF(③選手情報入力!B19=\"\",\"\",LEFT(Sheet2!B10,2))","v":""},{"$f":"IF(③選手情報入力!B19=\"\",\"\",REPLACE(Sheet2!B10,1,2,\"\"))","v":""},{"$f":"IF(E10=\"\",\"\",③選手情報入力!C19)","v":""},{"$f":"IF(E10=\"\",\"\",③選手情報入力!D19)","v":""},"",{"$f":"IF(E10=\"\",\"\",IF(③選手情報入力!F19=\"男\",1,2))","v":""},{"$f":"IF(E10=\"\",\"\",IF(③選手情報入力!G19=\"\",\"\",③選手情報入力!G19))","v":""},null,"","",null,{"$f":"IF(E10=\"\",\"\",IF(③選手情報入力!I19=\"\",\"\",IF(I10=1,VLOOKUP(③選手情報入力!I19,種目情報!$A$4:$B$35,2,FALSE),VLOOKUP(③選手情報入力!I19,種目情報!$E$4:$F$35,2,FALSE))))","v":""},{"$f":"IF(E10=\"\",\"\",IF(③選手情報入力!J19=\"\",\"\",③選手情報入力!J19))","v":""},{"$f":"IF(E10=\"\",\"\",IF(③選手情報入力!H19=\"\",0,1))","v":""},{"$f":"IF(E10=\"\",\"\",IF(③選手情報入力!I19=\"\",\"\",IF(I10=1,VLOOKUP(③選手情報入力!I19,種目情報!$A$4:$C$39,3,FALSE),VLOOKUP(③選手情報入力!I19,種目情報!$E$4:$G$40,3,FALSE))))","v":""},{"$f":"IF(E10=\"\",\"\",IF(③選手情報入力!L19=\"\",\"\",IF(I10=1,VLOOKUP(③選手情報入力!L19,種目情報!$A$4:$B$39,2,FALSE),VLOOKUP(③選手情報入力!L19,種目情報!$E$4:$F$40,2,FALSE))))","v":""},{"$f":"IF(E10=\"\",\"\",IF(③選手情報入力!M19=\"\",\"\",③選手情報入力!M19))","v":""},{"$f":"IF(E10=\"\",\"\",IF(③選手情報入力!K19=\"\",0,1))","v":""},{"$f":"IF(E10=\"\",\"\",IF(③選手情報入力!L19=\"\",\"\",IF(I10=1,VLOOKUP(③選手情報入力!L19,種目情報!$A$4:$C$39,3,FALSE),VLOOKUP(③選手情報入力!L19,種目情報!$E$4:$G$40,3,FALSE))))","v":""},{"$f":"IF(E10=\"\",\"\",IF(③選手情報入力!O19=\"\",\"\",IF(I10=1,VLOOKUP(③選手情報入力!O19,種目情報!$A$4:$B$39,2,FALSE),VLOOKUP(③選手情報入力!O19,種目情報!$E$4:$F$40,2,FALSE))))","v":""},{"$f":"IF(E10=\"\",\"\",IF(③選手情報入力!P19=\"\",\"\",③選手情報入力!P19))","v":""},{"$f":"IF(E10=\"\",\"\",IF(③選手情報入力!N19=\"\",0,1))","v":""},{"$f":"IF(E10=\"\",\"\",IF(③選手情報入力!O19=\"\",\"\",IF(I10=1,VLOOKUP(③選手情報入力!O19,種目情報!$A$4:$C$39,3,FALSE),VLOOKUP(③選手情報入力!O19,種目情報!$E$4:$G$40,3,FALSE))))","v":""},{"$f":"IF(E10=\"\",\"\",IF(③選手情報入力!Q19=\"\",\"\",IF(I10=1,種目情報!$J$4,種目情報!$J$6)))","v":""},{"$f":"IF(E10=\"\",\"\",IF(③選手情報入力!Q19=\"\",\"\",IF(I10=1,IF(③選手情報入力!$R$6=\"\",\"\",③選手情報入力!$R$6),IF(③選手情報入力!$R$7=\"\",\"\",③選手情報入力!$R$7))))","v":""},{"$f":"IF(E10=\"\",\"\",IF(③選手情報入力!Q19=\"\",\"\",IF(I10=1,IF(③選手情報入力!$Q$6=\"\",0,1),IF(③選手情報入力!$Q$7=\"\",0,1))))","v":""},{"$f":"IF(E10=\"\",\"\",IF(③選手情報入力!Q19=\"\",\"\",2))","v":""},{"$f":"IF(E10=\"\",\"\",IF(③選手情報入力!S19=\"\",\"\",IF(I10=1,種目情報!$J$5,種目情報!$J$7)))","v":""},{"$f":"IF(E10=\"\",\"\",IF(③選手情報入力!S19=\"\",\"\",IF(I10=1,IF(③選手情報入力!$T$6=\"\",\"\",③選手情報入力!$T$6),IF(③選手情報入力!$T$7=\"\",\"\",③選手情報入力!$T$7))))","v":""},{"$f":"IF(E10=\"\",\"\",IF(③選手情報入力!S19=\"\",\"\",IF(I10=1,IF(③選手情報入力!$S$6=\"\",0,1),IF(③選手情報入力!$S$7=\"\",0,1))))","v":""},{"$f":"IF(E10=\"\",\"\",IF(③選手情報入力!S19=\"\",\"\",2))","v":""}]
[{"$f":"IF(E11=\"\",\"\",IF(①データ貼付け!B11=\"\",I12*1000000+②団体情報入力!$D$3*1000+③選手情報入力!A20,①データ貼付け!B11))","v":""},{"$f":"IF(E11=\"\",\"\",②団体情報入力!$D$3)","v":""},null,{"$f":"IF(③選手情報入力!B20=\"\",\"\",LEFT(Sheet2!B11,2))","v":""},{"$f":"IF(③選手情報入力!B20=\"\",\"\",REPLACE(Sheet2!B11,1,2,\"\"))","v":""},{"$f":"IF(E11=\"\",\"\",③選手情報入力!C20)","v":""},{"$f":"IF(E11=\"\",\"\",③選手情報入力!D20)","v":""},"",{"$f":"IF(E11=\"\",\"\",IF(③選手情報入力!F20=\"男\",1,2))","v":""},{"$f":"IF(E11=\"\",\"\",IF(③選手情報入力!G20=\"\",\"\",③選手情報入力!G20))","v":""},null,"","",null,{"$f":"IF(E11=\"\",\"\",IF(③選手情報入力!I20=\"\",\"\",IF(I11=1,VLOOKUP(③選手情報入力!I20,種目情報!$A$4:$B$35,2,FALSE),VLOOKUP(③選手情報入力!I20,種目情報!$E$4:$F$35,2,FALSE))))","v":""},{"$f":"IF(E11=\"\",\"\",IF(③選手情報入力!J20=\"\",\"\",③選手情報入力!J20))","v":""},{"$f":"IF(E11=\"\",\"\",IF(③選手情報入力!H20=\"\",0,1))","v":""},{"$f":"IF(E11=\"\",\"\",IF(③選手情報入力!I20=\"\",\"\",IF(I11=1,VLOOKUP(③選手情報入力!I20,種目情報!$A$4:$C$39,3,FALSE),VLOOKUP(③選手情報入力!I20,種目情報!$E$4:$G$40,3,FALSE))))","v":""},{"$f":"IF(E11=\"\",\"\",IF(③選手情報入力!L20=\"\",\"\",IF(I11=1,VLOOKUP(③選手情報入力!L20,種目情報!$A$4:$B$39,2,FALSE),VLOOKUP(③選手情報入力!L20,種目情報!$E$4:$F$40,2,FALSE))))","v":""},{"$f":"IF(E11=\"\",\"\",IF(③選手情報入力!M20=\"\",\"\",③選手情報入力!M20))","v":""},{"$f":"IF(E11=\"\",\"\",IF(③選手情報入力!K20=\"\",0,1))","v":""},{"$f":"IF(E11=\"\",\"\",IF(③選手情報入力!L20=\"\",\"\",IF(I11=1,VLOOKUP(③選手情報入力!L20,種目情報!$A$4:$C$39,3,FALSE),VLOOKUP(③選手情報入力!L20,種目情報!$E$4:$G$40,3,FALSE))))","v":""},{"$f":"IF(E11=\"\",\"\",IF(③選手情報入力!O20=\"\",\"\",IF(I11=1,VLOOKUP(③選手情報入力!O20,種目情報!$A$4:$B$39,2,FALSE),VLOOKUP(③選手情報入力!O20,種目情報!$E$4:$F$40,2,FALSE))))","v":""},{"$f":"IF(E11=\"\",\"\",IF(③選手情報入力!P20=\"\",\"\",③選手情報入力!P20))","v":""},{"$f":"IF(E11=\"\",\"\",IF(③選手情報入力!N20=\"\",0,1))","v":""},{"$f":"IF(E11=\"\",\"\",IF(③選手情報入力!O20=\"\",\"\",IF(I11=1,VLOOKUP(③選手情報入力!O20,種目情報!$A$4:$C$39,3,FALSE),VLOOKUP(③選手情報入力!O20,種目情報!$E$4:$G$40,3,FALSE))))","v":""},{"$f":"IF(E11=\"\",\"\",IF(③選手情報入力!Q20=\"\",\"\",IF(I11=1,種目情報!$J$4,種目情報!$J$6)))","v":""},{"$f":"IF(E11=\"\",\"\",IF(③選手情報入力!Q20=\"\",\"\",IF(I11=1,IF(③選手情報入力!$R$6=\"\",\"\",③選手情報入力!$R$6),IF(③選手情報入力!$R$7=\"\",\"\",③選手情報入力!$R$7))))","v":""},{"$f":"IF(E11=\"\",\"\",IF(③選手情報入力!Q20=\"\",\"\",IF(I11=1,IF(③選手情報入力!$Q$6=\"\",0,1),IF(③選手情報入力!$Q$7=\"\",0,1))))","v":""},{"$f":"IF(E11=\"\",\"\",IF(③選手情報入力!Q20=\"\",\"\",2))","v":""},{"$f":"IF(E11=\"\",\"\",IF(③選手情報入力!S20=\"\",\"\",IF(I11=1,種目情報!$J$5,種目情報!$J$7)))","v":""},{"$f":"IF(E11=\"\",\"\",IF(③選手情報入力!S20=\"\",\"\",IF(I11=1,IF(③選手情報入力!$T$6=\"\",\"\",③選手情報入力!$T$6),IF(③選手情報入力!$T$7=\"\",\"\",③選手情報入力!$T$7))))","v":""},{"$f":"IF(E11=\"\",\"\",IF(③選手情報入力!S20=\"\",\"\",IF(I11=1,IF(③選手情報入力!$S$6=\"\",0,1),IF(③選手情報入力!$S$7=\"\",0,1))))","v":""},{"$f":"IF(E11=\"\",\"\",IF(③選手情報入力!S20=\"\",\"\",2))","v":""}]
[{"$f":"IF(E12=\"\",\"\",IF(①データ貼付け!B12=\"\",I13*1000000+②団体情報入力!$D$3*1000+③選手情報入力!A21,①データ貼付け!B12))","v":""},{"$f":"IF(E12=\"\",\"\",②団体情報入力!$D$3)","v":""},null,{"$f":"IF(③選手情報入力!B21=\"\",\"\",LEFT(Sheet2!B12,2))","v":""},{"$f":"IF(③選手情報入力!B21=\"\",\"\",REPLACE(Sheet2!B12,1,2,\"\"))","v":""},{"$f":"IF(E12=\"\",\"\",③選手情報入力!C21)","v":""},{"$f":"IF(E12=\"\",\"\",③選手情報入力!D21)","v":""},"",{"$f":"IF(E12=\"\",\"\",IF(③選手情報入力!F21=\"男\",1,2))","v":""},{"$f":"IF(E12=\"\",\"\",IF(③選手情報入力!G21=\"\",\"\",③選手情報入力!G21))","v":""},null,"","",null,{"$f":"IF(E12=\"\",\"\",IF(③選手情報入力!I21=\"\",\"\",IF(I12=1,VLOOKUP(③選手情報入力!I21,種目情報!$A$4:$B$35,2,FALSE),VLOOKUP(③選手情報入力!I21,種目情報!$E$4:$F$35,2,FALSE))))","v":""},{"$f":"IF(E12=\"\",\"\",IF(③選手情報入力!J21=\"\",\"\",③選手情報入力!J21))","v":""},{"$f":"IF(E12=\"\",\"\",IF(③選手情報入力!H21=\"\",0,1))","v":""},{"$f":"IF(E12=\"\",\"\",IF(③選手情報入力!I21=\"\",\"\",IF(I12=1,VLOOKUP(③選手情報入力!I21,種目情報!$A$4:$C$39,3,FALSE),VLOOKUP(③選手情報入力!I21,種目情報!$E$4:$G$40,3,FALSE))))","v":""},{"$f":"IF(E12=\"\",\"\",IF(③選手情報入力!L21=\"\",\"\",IF(I12=1,VLOOKUP(③選手情報入力!L21,種目情報!$A$4:$B$39,2,FALSE),VLOOKUP(③選手情報入力!L21,種目情報!$E$4:$F$40,2,FALSE))))","v":""},{"$f":"IF(E12=\"\",\"\",IF(③選手情報入力!M21=\"\",\"\",③選手情報入力!M21))","v":""},{"$f":"IF(E12=\"\",\"\",IF(③選手情報入力!K21=\"\",0,1))","v":""},{"$f":"IF(E12=\"\",\"\",IF(③選手情報入力!L21=\"\",\"\",IF(I12=1,VLOOKUP(③選手情報入力!L21,種目情報!$A$4:$C$39,3,FALSE),VLOOKUP(③選手情報入力!L21,種目情報!$E$4:$G$40,3,FALSE))))","v":""},{"$f":"IF(E12=\"\",\"\",IF(③選手情報入力!O21=\"\",\"\",IF(I12=1,VLOOKUP(③選手情報入力!O21,種目情報!$A$4:$B$39,2,FALSE),VLOOKUP(③選手情報入力!O21,種目情報!$E$4:$F$40,2,FALSE))))","v":""},{"$f":"IF(E12=\"\",\"\",IF(③選手情報入力!P21=\"\",\"\",③選手情報入力!P21))","v":""},{"$f":"IF(E12=\"\",\"\",IF(③選手情報入力!N21=\"\",0,1))","v":""},{"$f":"IF(E12=\"\",\"\",IF(③選手情報入力!O21=\"\",\"\",IF(I12=1,VLOOKUP(③選手情報入力!O21,種目情報!$A$4:$C$39,3,FALSE),VLOOKUP(③選手情報入力!O21,種目情報!$E$4:$G$40,3,FALSE))))","v":""},{"$f":"IF(E12=\"\",\"\",IF(③選手情報入力!Q21=\"\",\"\",IF(I12=1,種目情報!$J$4,種目情報!$J$6)))","v":""},{"$f":"IF(E12=\"\",\"\",IF(③選手情報入力!Q21=\"\",\"\",IF(I12=1,IF(③選手情報入力!$R$6=\"\",\"\",③選手情報入力!$R$6),IF(③選手情報入力!$R$7=\"\",\"\",③選手情報入力!$R$7))))","v":""},{"$f":"IF(E12=\"\",\"\",IF(③選手情報入力!Q21=\"\",\"\",IF(I12=1,IF(③選手情報入力!$Q$6=\"\",0,1),IF(③選手情報入力!$Q$7=\"\",0,1))))","v":""},{"$f":"IF(E12=\"\",\"\",IF(③選手情報入力!Q21=\"\",\"\",2))","v":""},{"$f":"IF(E12=\"\",\"\",IF(③選手情報入力!S21=\"\",\"\",IF(I12=1,種目情報!$J$5,種目情報!$J$7)))","v":""},{"$f":"IF(E12=\"\",\"\",IF(③選手情報入力!S21=\"\",\"\",IF(I12=1,IF(③選手情報入力!$T$6=\"\",\"\",③選手情報入力!$T$6),IF(③選手情報入力!$T$7=\"\",\"\",③選手情報入力!$T$7))))","v":""},{"$f":"IF(E12=\"\",\"\",IF(③選手情報入力!S21=\"\",\"\",IF(I12=1,IF(③選手情報入力!$S$6=\"\",0,1),IF(③選手情報入力!$S$7=\"\",0,1))))","v":""},{"$f":"IF(E12=\"\",\"\",IF(③選手情報入力!S21=\"\",\"\",2))","v":""}]
[{"$f":"IF(E13=\"\",\"\",IF(①データ貼付け!B13=\"\",I14*1000000+②団体情報入力!$D$3*1000+③選手情報入力!A22,①データ貼付け!B13))","v":""},{"$f":"IF(E13=\"\",\"\",②団体情報入力!$D$3)","v":""},null,{"$f":"IF(③選手情報入力!B22=\"\",\"\",LEFT(Sheet2!B13,2))","v":""},{"$f":"IF(③選手情報入力!B22=\"\",\"\",REPLACE(Sheet2!B13,1,2,\"\"))","v":""},{"$f":"IF(E13=\"\",\"\",③選手情報入力!C22)","v":""},{"$f":"IF(E13=\"\",\"\",③選手情報入力!D22)","v":""},"",{"$f":"IF(E13=\"\",\"\",IF(③選手情報入力!F22=\"男\",1,2))","v":""},{"$f":"IF(E13=\"\",\"\",IF(③選手情報入力!G22=\"\",\"\",③選手情報入力!G22))","v":""},null,"","",null,{"$f":"IF(E13=\"\",\"\",IF(③選手情報入力!I22=\"\",\"\",IF(I13=1,VLOOKUP(③選手情報入力!I22,種目情報!$A$4:$B$35,2,FALSE),VLOOKUP(③選手情報入力!I22,種目情報!$E$4:$F$35,2,FALSE))))","v":""},{"$f":"IF(E13=\"\",\"\",IF(③選手情報入力!J22=\"\",\"\",③選手情報入力!J22))","v":""},{"$f":"IF(E13=\"\",\"\",IF(③選手情報入力!H22=\"\",0,1))","v":""},{"$f":"IF(E13=\"\",\"\",IF(③選手情報入力!I22=\"\",\"\",IF(I13=1,VLOOKUP(③選手情報入力!I22,種目情報!$A$4:$C$39,3,FALSE),VLOOKUP(③選手情報入力!I22,種目情報!$E$4:$G$40,3,FALSE))))","v":""},{"$f":"IF(E13=\"\",\"\",IF(③選手情報入力!L22=\"\",\"\",IF(I13=1,VLOOKUP(③選手情報入力!L22,種目情報!$A$4:$B$39,2,FALSE),VLOOKUP(③選手情報入力!L22,種目情報!$E$4:$F$40,2,FALSE))))","v":""},{"$f":"IF(E13=\"\",\"\",IF(③選手情報入力!M22=\"\",\"\",③選手情報入力!M22))","v":""},{"$f":"IF(E13=\"\",\"\",IF(③選手情報入力!K22=\"\",0,1))","v":""},{"$f":"IF(E13=\"\",\"\",IF(③選手情報入力!L22=\"\",\"\",IF(I13=1,VLOOKUP(③選手情報入力!L22,種目情報!$A$4:$C$39,3,FALSE),VLOOKUP(③選手情報入力!L22,種目情報!$E$4:$G$40,3,FALSE))))","v":""},{"$f":"IF(E13=\"\",\"\",IF(③選手情報入力!O22=\"\",\"\",IF(I13=1,VLOOKUP(③選手情報入力!O22,種目情報!$A$4:$B$39,2,FALSE),VLOOKUP(③選手情報入力!O22,種目情報!$E$4:$F$40,2,FALSE))))","v":""},{"$f":"IF(E13=\"\",\"\",IF(③選手情報入力!P22=\"\",\"\",③選手情報入力!P22))","v":""},{"$f":"IF(E13=\"\",\"\",IF(③選手情報入力!N22=\"\",0,1))","v":""},{"$f":"IF(E13=\"\",\"\",IF(③選手情報入力!O22=\"\",\"\",IF(I13=1,VLOOKUP(③選手情報入力!O22,種目情報!$A$4:$C$39,3,FALSE),VLOOKUP(③選手情報入力!O22,種目情報!$E$4:$G$40,3,FALSE))))","v":""},{"$f":"IF(E13=\"\",\"\",IF(③選手情報入力!Q22=\"\",\"\",IF(I13=1,種目情報!$J$4,種目情報!$J$6)))","v":""},{"$f":"IF(E13=\"\",\"\",IF(③選手情報入力!Q22=\"\",\"\",IF(I13=1,IF(③選手情報入力!$R$6=\"\",\"\",③選手情報入力!$R$6),IF(③選手情報入力!$R$7=\"\",\"\",③選手情報入力!$R$7))))","v":""},{"$f":"IF(E13=\"\",\"\",IF(③選手情報入力!Q22=\"\",\"\",IF(I13=1,IF(③選手情報入力!$Q$6=\"\",0,1),IF(③選手情報入力!$Q$7=\"\",0,1))))","v":""},{"$f":"IF(E13=\"\",\"\",IF(③選手情報入力!Q22=\"\",\"\",2))","v":""},{"$f":"IF(E13=\"\",\"\",IF(③選手情報入力!S22=\"\",\"\",IF(I13=1,種目情報!$J$5,種目情報!$J$7)))","v":""},{"$f":"IF(E13=\"\",\"\",IF(③選手情報入力!S22=\"\",\"\",IF(I13=1,IF(③選手情報入力!$T$6=\"\",\"\",③選手情報入力!$T$6),IF(③選手情報入力!$T$7=\"\",\"\",③選手情報入力!$T$7))))","v":""},{"$f":"IF(E13=\"\",\"\",IF(③選手情報入力!S22=\"\",\"\",IF(I13=1,IF(③選手情報入力!$S$6=\"\",0,1),IF(③選手情報入力!$S$7=\"\",0,1))))","v":""},{"$f":"IF(E13=\"\",\"\",IF(③選手情報入力!S22=\"\",\"\",2))","v":""}]
[{"$f":"IF(E14=\"\",\"\",IF(①データ貼付け!B14=\"\",I15*1000000+②団体情報入力!$D$3*1000+③選手情報入力!A23,①データ貼付け!B14))","v":""},{"$f":"IF(E14=\"\",\"\",②団体情報入力!$D$3)","v":""},null,{"$f":"IF(③選手情報入力!B23=\"\",\"\",LEFT(Sheet2!B14,2))","v":""},{"$f":"IF(③選手情報入力!B23=\"\",\"\",REPLACE(Sheet2!B14,1,2,\"\"))","v":""},{"$f":"IF(E14=\"\",\"\",③選手情報入力!C23)","v":""},{"$f":"IF(E14=\"\",\"\",③選手情報入力!D23)","v":""},"",{"$f":"IF(E14=\"\",\"\",IF(③選手情報入力!F23=\"男\",1,2))","v":""},{"$f":"IF(E14=\"\",\"\",IF(③選手情報入力!G23=\"\",\"\",③選手情報入力!G23))","v":""},null,"","",null,{"$f":"IF(E14=\"\",\"\",IF(③選手情報入力!I23=\"\",\"\",IF(I14=1,VLOOKUP(③選手情報入力!I23,種目情報!$A$4:$B$35,2,FALSE),VLOOKUP(③選手情報入力!I23,種目情報!$E$4:$F$35,2,FALSE))))","v":""},{"$f":"IF(E14=\"\",\"\",IF(③選手情報入力!J23=\"\",\"\",③選手情報入力!J23))","v":""},{"$f":"IF(E14=\"\",\"\",IF(③選手情報入力!H23=\"\",0,1))","v":""},{"$f":"IF(E14=\"\",\"\",IF(③選手情報入力!I23=\"\",\"\",IF(I14=1,VLOOKUP(③選手情報入力!I23,種目情報!$A$4:$C$39,3,FALSE),VLOOKUP(③選手情報入力!I23,種目情報!$E$4:$G$40,3,FALSE))))","v":""},{"$f":"IF(E14=\"\",\"\",IF(③選手情報入力!L23=\"\",\"\",IF(I14=1,VLOOKUP(③選手情報入力!L23,種目情報!$A$4:$B$39,2,FALSE),VLOOKUP(③選手情報入力!L23,種目情報!$E$4:$F$40,2,FALSE))))","v":""},{"$f":"IF(E14=\"\",\"\",IF(③選手情報入力!M23=\"\",\"\",③選手情報入力!M23))","v":""},{"$f":"IF(E14=\"\",\"\",IF(③選手情報入力!K23=\"\",0,1))","v":""},{"$f":"IF(E14=\"\",\"\",IF(③選手情報入力!L23=\"\",\"\",IF(I14=1,VLOOKUP(③選手情報入力!L23,種目情報!$A$4:$C$39,3,FALSE),VLOOKUP(③選手情報入力!L23,種目情報!$E$4:$G$40,3,FALSE))))","v":""},{"$f":"IF(E14=\"\",\"\",IF(③選手情報入力!O23=\"\",\"\",IF(I14=1,VLOOKUP(③選手情報入力!O23,種目情報!$A$4:$B$39,2,FALSE),VLOOKUP(③選手情報入力!O23,種目情報!$E$4:$F$40,2,FALSE))))","v":""},{"$f":"IF(E14=\"\",\"\",IF(③選手情報入力!P23=\"\",\"\",③選手情報入力!P23))","v":""},{"$f":"IF(E14=\"\",\"\",IF(③選手情報入力!N23=\"\",0,1))","v":""},{"$f":"IF(E14=\"\",\"\",IF(③選手情報入力!O23=\"\",\"\",IF(I14=1,VLOOKUP(③選手情報入力!O23,種目情報!$A$4:$C$39,3,FALSE),VLOOKUP(③選手情報入力!O23,種目情報!$E$4:$G$40,3,FALSE))))","v":""},{"$f":"IF(E14=\"\",\"\",IF(③選手情報入力!Q23=\"\",\"\",IF(I14=1,種目情報!$J$4,種目情報!$J$6)))","v":""},{"$f":"IF(E14=\"\",\"\",IF(③選手情報入力!Q23=\"\",\"\",IF(I14=1,IF(③選手情報入力!$R$6=\"\",\"\",③選手情報入力!$R$6),IF(③選手情報入力!$R$7=\"\",\"\",③選手情報入力!$R$7))))","v":""},{"$f":"IF(E14=\"\",\"\",IF(③選手情報入力!Q23=\"\",\"\",IF(I14=1,IF(③選手情報入力!$Q$6=\"\",0,1),IF(③選手情報入力!$Q$7=\"\",0,1))))","v":""},{"$f":"IF(E14=\"\",\"\",IF(③選手情報入力!Q23=\"\",\"\",2))","v":""},{"$f":"IF(E14=\"\",\"\",IF(③選手情報入力!S23=\"\",\"\",IF(I14=1,種目情報!$J$5,種目情報!$J$7)))","v":""},{"$f":"IF(E14=\"\",\"\",IF(③選手情報入力!S23=\"\",\"\",IF(I14=1,IF(③選手情報入力!$T$6=\"\",\"\",③選手情報入力!$T$6),IF(③選手情報入力!$T$7=\"\",\"\",③選手情報入力!$T$7))))","v":""},{"$f":"IF(E14=\"\",\"\",IF(③選手情報入力!S23=\"\",\"\",IF(I14=1,IF(③選手情報入力!$S$6=\"\",0,1),IF(③選手情報入力!$S$7=\"\",0,1))))","v":""},{"$f":"IF(E14=\"\",\"\",IF(③選手情報入力!S23=\"\",\"\",2))","v":""}]
[{"$f":"IF(E15=\"\",\"\",IF(①データ貼付け!B15=\"\",I16*1000000+②団体情報入力!$D$3*1000+③選手情報入力!A24,①データ貼付け!B15))","v":""},{"$f":"IF(E15=\"\",\"\",②団体情報入力!$D$3)","v":""},null,{"$f":"IF(③選手情報入力!B24=\"\",\"\",LEFT(Sheet2!B15,2))","v":""},{"$f":"IF(③選手情報入力!B24=\"\",\"\",REPLACE(Sheet2!B15,1,2,\"\"))","v":""},{"$f":"IF(E15=\"\",\"\",③選手情報入力!C24)","v":""},{"$f":"IF(E15=\"\",\"\",③選手情報入力!D24)","v":""},"",{"$f":"IF(E15=\"\",\"\",IF(③選手情報入力!F24=\"男\",1,2))","v":""},{"$f":"IF(E15=\"\",\"\",IF(③選手情報入力!G24=\"\",\"\",③選手情報入力!G24))","v":""},null,"","",null,{"$f":"IF(E15=\"\",\"\",IF(③選手情報入力!I24=\"\",\"\",IF(I15=1,VLOOKUP(③選手情報入力!I24,種目情報!$A$4:$B$35,2,FALSE),VLOOKUP(③選手情報入力!I24,種目情報!$E$4:$F$35,2,FALSE))))","v":""},{"$f":"IF(E15=\"\",\"\",IF(③選手情報入力!J24=\"\",\"\",③選手情報入力!J24))","v":""},{"$f":"IF(E15=\"\",\"\",IF(③選手情報入力!H24=\"\",0,1))","v":""},{"$f":"IF(E15=\"\",\"\",IF(③選手情報入力!I24=\"\",\"\",IF(I15=1,VLOOKUP(③選手情報入力!I24,種目情報!$A$4:$C$39,3,FALSE),VLOOKUP(③選手情報入力!I24,種目情報!$E$4:$G$40,3,FALSE))))","v":""},{"$f":"IF(E15=\"\",\"\",IF(③選手情報入力!L24=\"\",\"\",IF(I15=1,VLOOKUP(③選手情報入力!L24,種目情報!$A$4:$B$39,2,FALSE),VLOOKUP(③選手情報入力!L24,種目情報!$E$4:$F$40,2,FALSE))))","v":""},{"$f":"IF(E15=\"\",\"\",IF(③選手情報入力!M24=\"\",\"\",③選手情報入力!M24))","v":""},{"$f":"IF(E15=\"\",\"\",IF(③選手情報入力!K24=\"\",0,1))","v":""},{"$f":"IF(E15=\"\",\"\",IF(③選手情報入力!L24=\"\",\"\",IF(I15=1,VLOOKUP(③選手情報入力!L24,種目情報!$A$4:$C$39,3,FALSE),VLOOKUP(③選手情報入力!L24,種目情報!$E$4:$G$40,3,FALSE))))","v":""},{"$f":"IF(E15=\"\",\"\",IF(③選手情報入力!O24=\"\",\"\",IF(I15=1,VLOOKUP(③選手情報入力!O24,種目情報!$A$4:$B$39,2,FALSE),VLOOKUP(③選手情報入力!O24,種目情報!$E$4:$F$40,2,FALSE))))","v":""},{"$f":"IF(E15=\"\",\"\",IF(③選手情報入力!P24=\"\",\"\",③選手情報入力!P24))","v":""},{"$f":"IF(E15=\"\",\"\",IF(③選手情報入力!N24=\"\",0,1))","v":""},{"$f":"IF(E15=\"\",\"\",IF(③選手情報入力!O24=\"\",\"\",IF(I15=1,VLOOKUP(③選手情報入力!O24,種目情報!$A$4:$C$39,3,FALSE),VLOOKUP(③選手情報入力!O24,種目情報!$E$4:$G$40,3,FALSE))))","v":""},{"$f":"IF(E15=\"\",\"\",IF(③選手情報入力!Q24=\"\",\"\",IF(I15=1,種目情報!$J$4,種目情報!$J$6)))","v":""},{"$f":"IF(E15=\"\",\"\",IF(③選手情報入力!Q24=\"\",\"\",IF(I15=1,IF(③選手情報入力!$R$6=\"\",\"\",③選手情報入力!$R$6),IF(③選手情報入力!$R$7=\"\",\"\",③選手情報入力!$R$7))))","v":""},{"$f":"IF(E15=\"\",\"\",IF(③選手情報入力!Q24=\"\",\"\",IF(I15=1,IF(③選手情報入力!$Q$6=\"\",0,1),IF(③選手情報入力!$Q$7=\"\",0,1))))","v":""},{"$f":"IF(E15=\"\",\"\",IF(③選手情報入力!Q24=\"\",\"\",2))","v":""},{"$f":"IF(E15=\"\",\"\",IF(③選手情報入力!S24=\"\",\"\",IF(I15=1,種目情報!$J$5,種目情報!$J$7)))","v":""},{"$f":"IF(E15=\"\",\"\",IF(③選手情報入力!S24=\"\",\"\",IF(I15=1,IF(③選手情報入力!$T$6=\"\",\"\",③選手情報入力!$T$6),IF(③選手情報入力!$T$7=\"\",\"\",③選手情報入力!$T$7))))","v":""},{"$f":"IF(E15=\"\",\"\",IF(③選手情報入力!S24=\"\",\"\",IF(I15=1,IF(③選手情報入力!$S$6=\"\",0,1),IF(③選手情報入力!$S$7=\"\",0,1))))","v":""},{"$f":"IF(E15=\"\",\"\",IF(③選手情報入力!S24=\"\",\"\",2))","v":""}]
[{"$f":"IF(E16=\"\",\"\",IF(①データ貼付け!B16=\"\",I17*1000000+②団体情報入力!$D$3*1000+③選手情報入力!A25,①データ貼付け!B16))","v":""},{"$f":"IF(E16=\"\",\"\",②団体情報入力!$D$3)","v":""},null,{"$f":"IF(③選手情報入力!B25=\"\",\"\",LEFT(Sheet2!B16,2))","v":""},{"$f":"IF(③選手情報入力!B25=\"\",\"\",REPLACE(Sheet2!B16,1,2,\"\"))","v":""},{"$f":"IF(E16=\"\",\"\",③選手情報入力!C25)","v":""},{"$f":"IF(E16=\"\",\"\",③選手情報入力!D25)","v":""},"",{"$f":"IF(E16=\"\",\"\",IF(③選手情報入力!F25=\"男\",1,2))","v":""},{"$f":"IF(E16=\"\",\"\",IF(③選手情報入力!G25=\"\",\"\",③選手情報入力!G25))","v":""},null,"","",null,{"$f":"IF(E16=\"\",\"\",IF(③選手情報入力!I25=\"\",\"\",IF(I16=1,VLOOKUP(③選手情報入力!I25,種目情報!$A$4:$B$35,2,FALSE),VLOOKUP(③選手情報入力!I25,種目情報!$E$4:$F$35,2,FALSE))))","v":""},{"$f":"IF(E16=\"\",\"\",IF(③選手情報入力!J25=\"\",\"\",③選手情報入力!J25))","v":""},{"$f":"IF(E16=\"\",\"\",IF(③選手情報入力!H25=\"\",0,1))","v":""},{"$f":"IF(E16=\"\",\"\",IF(③選手情報入力!I25=\"\",\"\",IF(I16=1,VLOOKUP(③選手情報入力!I25,種目情報!$A$4:$C$39,3,FALSE),VLOOKUP(③選手情報入力!I25,種目情報!$E$4:$G$40,3,FALSE))))","v":""},{"$f":"IF(E16=\"\",\"\",IF(③選手情報入力!L25=\"\",\"\",IF(I16=1,VLOOKUP(③選手情報入力!L25,種目情報!$A$4:$B$39,2,FALSE),VLOOKUP(③選手情報入力!L25,種目情報!$E$4:$F$40,2,FALSE))))","v":""},{"$f":"IF(E16=\"\",\"\",IF(③選手情報入力!M25=\"\",\"\",③選手情報入力!M25))","v":""},{"$f":"IF(E16=\"\",\"\",IF(③選手情報入力!K25=\"\",0,1))","v":""},{"$f":"IF(E16=\"\",\"\",IF(③選手情報入力!L25=\"\",\"\",IF(I16=1,VLOOKUP(③選手情報入力!L25,種目情報!$A$4:$C$39,3,FALSE),VLOOKUP(③選手情報入力!L25,種目情報!$E$4:$G$40,3,FALSE))))","v":""},{"$f":"IF(E16=\"\",\"\",IF(③選手情報入力!O25=\"\",\"\",IF(I16=1,VLOOKUP(③選手情報入力!O25,種目情報!$A$4:$B$39,2,FALSE),VLOOKUP(③選手情報入力!O25,種目情報!$E$4:$F$40,2,FALSE))))","v":""},{"$f":"IF(E16=\"\",\"\",IF(③選手情報入力!P25=\"\",\"\",③選手情報入力!P25))","v":""},{"$f":"IF(E16=\"\",\"\",IF(③選手情報入力!N25=\"\",0,1))","v":""},{"$f":"IF(E16=\"\",\"\",IF(③選手情報入力!O25=\"\",\"\",IF(I16=1,VLOOKUP(③選手情報入力!O25,種目情報!$A$4:$C$39,3,FALSE),VLOOKUP(③選手情報入力!O25,種目情報!$E$4:$G$40,3,FALSE))))","v":""},{"$f":"IF(E16=\"\",\"\",IF(③選手情報入力!Q25=\"\",\"\",IF(I16=1,種目情報!$J$4,種目情報!$J$6)))","v":""},{"$f":"IF(E16=\"\",\"\",IF(③選手情報入力!Q25=\"\",\"\",IF(I16=1,IF(③選手情報入力!$R$6=\"\",\"\",③選手情報入力!$R$6),IF(③選手情報入力!$R$7=\"\",\"\",③選手情報入力!$R$7))))","v":""},{"$f":"IF(E16=\"\",\"\",IF(③選手情報入力!Q25=\"\",\"\",IF(I16=1,IF(③選手情報入力!$Q$6=\"\",0,1),IF(③選手情報入力!$Q$7=\"\",0,1))))","v":""},{"$f":"IF(E16=\"\",\"\",IF(③選手情報入力!Q25=\"\",\"\",2))","v":""},{"$f":"IF(E16=\"\",\"\",IF(③選手情報入力!S25=\"\",\"\",IF(I16=1,種目情報!$J$5,種目情報!$J$7)))","v":""},{"$f":"IF(E16=\"\",\"\",IF(③選手情報入力!S25=\"\",\"\",IF(I16=1,IF(③選手情報入力!$T$6=\"\",\"\",③選手情報入力!$T$6),IF(③選手情報入力!$T$7=\"\",\"\",③選手情報入力!$T$7))))","v":""},{"$f":"IF(E16=\"\",\"\",IF(③選手情報入力!S25=\"\",\"\",IF(I16=1,IF(③選手情報入力!$S$6=\"\",0,1),IF(③選手情報入力!$S$7=\"\",0,1))))","v":""},{"$f":"IF(E16=\"\",\"\",IF(③選手情報入力!S25=\"\",\"\",2))","v":""}]
[{"$f":"IF(E17=\"\",\"\",IF(①データ貼付け!B17=\"\",I18*1000000+②団体情報入力!$D$3*1000+③選手情報入力!A26,①データ貼付け!B17))","v":""},{"$f":"IF(E17=\"\",\"\",②団体情報入力!$D$3)","v":""},null,{"$f":"IF(③選手情報入力!B26=\"\",\"\",LEFT(Sheet2!B17,2))","v":""},{"$f":"IF(③選手情報入力!B26=\"\",\"\",REPLACE(Sheet2!B17,1,2,\"\"))","v":""},{"$f":"IF(E17=\"\",\"\",③選手情報入力!C26)","v":""},{"$f":"IF(E17=\"\",\"\",③選手情報入力!D26)","v":""},"",{"$f":"IF(E17=\"\",\"\",IF(③選手情報入力!F26=\"男\",1,2))","v":""},{"$f":"IF(E17=\"\",\"\",IF(③選手情報入力!G26=\"\",\"\",③選手情報入力!G26))","v":""},null,"","",null,{"$f":"IF(E17=\"\",\"\",IF(③選手情報入力!I26=\"\",\"\",IF(I17=1,VLOOKUP(③選手情報入力!I26,種目情報!$A$4:$B$35,2,FALSE),VLOOKUP(③選手情報入力!I26,種目情報!$E$4:$F$35,2,FALSE))))","v":""},{"$f":"IF(E17=\"\",\"\",IF(③選手情報入力!J26=\"\",\"\",③選手情報入力!J26))","v":""},{"$f":"IF(E17=\"\",\"\",IF(③選手情報入力!H26=\"\",0,1))","v":""},{"$f":"IF(E17=\"\",\"\",IF(③選手情報入力!I26=\"\",\"\",IF(I17=1,VLOOKUP(③選手情報入力!I26,種目情報!$A$4:$C$39,3,FALSE),VLOOKUP(③選手情報入力!I26,種目情報!$E$4:$G$40,3,FALSE))))","v":""},{"$f":"IF(E17=\"\",\"\",IF(③選手情報入力!L26=\"\",\"\",IF(I17=1,VLOOKUP(③選手情報入力!L26,種目情報!$A$4:$B$39,2,FALSE),VLOOKUP(③選手情報入力!L26,種目情報!$E$4:$F$40,2,FALSE))))","v":""},{"$f":"IF(E17=\"\",\"\",IF(③選手情報入力!M26=\"\",\"\",③選手情報入力!M26))","v":""},{"$f":"IF(E17=\"\",\"\",IF(③選手情報入力!K26=\"\",0,1))","v":""},{"$f":"IF(E17=\"\",\"\",IF(③選手情報入力!L26=\"\",\"\",IF(I17=1,VLOOKUP(③選手情報入力!L26,種目情報!$A$4:$C$39,3,FALSE),VLOOKUP(③選手情報入力!L26,種目情報!$E$4:$G$40,3,FALSE))))","v":""},{"$f":"IF(E17=\"\",\"\",IF(③選手情報入力!O26=\"\",\"\",IF(I17=1,VLOOKUP(③選手情報入力!O26,種目情報!$A$4:$B$39,2,FALSE),VLOOKUP(③選手情報入力!O26,種目情報!$E$4:$F$40,2,FALSE))))","v":""},{"$f":"IF(E17=\"\",\"\",IF(③選手情報入力!P26=\"\",\"\",③選手情報入力!P26))","v":""},{"$f":"IF(E17=\"\",\"\",IF(③選手情報入力!N26=\"\",0,1))","v":""},{"$f":"IF(E17=\"\",\"\",IF(③選手情報入力!O26=\"\",\"\",IF(I17=1,VLOOKUP(③選手情報入力!O26,種目情報!$A$4:$C$39,3,FALSE),VLOOKUP(③選手情報入力!O26,種目情報!$E$4:$G$40,3,FALSE))))","v":""},{"$f":"IF(E17=\"\",\"\",IF(③選手情報入力!Q26=\"\",\"\",IF(I17=1,種目情報!$J$4,種目情報!$J$6)))","v":""},{"$f":"IF(E17=\"\",\"\",IF(③選手情報入力!Q26=\"\",\"\",IF(I17=1,IF(③選手情報入力!$R$6=\"\",\"\",③選手情報入力!$R$6),IF(③選手情報入力!$R$7=\"\",\"\",③選手情報入力!$R$7))))","v":""},{"$f":"IF(E17=\"\",\"\",IF(③選手情報入力!Q26=\"\",\"\",IF(I17=1,IF(③選手情報入力!$Q$6=\"\",0,1),IF(③選手情報入力!$Q$7=\"\",0,1))))","v":""},{"$f":"IF(E17=\"\",\"\",IF(③選手情報入力!Q26=\"\",\"\",2))","v":""},{"$f":"IF(E17=\"\",\"\",IF(③選手情報入力!S26=\"\",\"\",IF(I17=1,種目情報!$J$5,種目情報!$J$7)))","v":""},{"$f":"IF(E17=\"\",\"\",IF(③選手情報入力!S26=\"\",\"\",IF(I17=1,IF(③選手情報入力!$T$6=\"\",\"\",③選手情報入力!$T$6),IF(③選手情報入力!$T$7=\"\",\"\",③選手情報入力!$T$7))))","v":""},{"$f":"IF(E17=\"\",\"\",IF(③選手情報入力!S26=\"\",\"\",IF(I17=1,IF(③選手情報入力!$S$6=\"\",0,1),IF(③選手情報入力!$S$7=\"\",0,1))))","v":""},{"$f":"IF(E17=\"\",\"\",IF(③選手情報入力!S26=\"\",\"\",2))","v":""}]
[{"$f":"IF(E18=\"\",\"\",IF(①データ貼付け!B18=\"\",I19*1000000+②団体情報入力!$D$3*1000+③選手情報入力!A27,①データ貼付け!B18))","v":""},{"$f":"IF(E18=\"\",\"\",②団体情報入力!$D$3)","v":""},null,{"$f":"IF(③選手情報入力!B27=\"\",\"\",LEFT(Sheet2!B18,2))","v":""},{"$f":"IF(③選手情報入力!B27=\"\",\"\",REPLACE(Sheet2!B18,1,2,\"\"))","v":""},{"$f":"IF(E18=\"\",\"\",③選手情報入力!C27)","v":""},{"$f":"IF(E18=\"\",\"\",③選手情報入力!D27)","v":""},"",{"$f":"IF(E18=\"\",\"\",IF(③選手情報入力!F27=\"男\",1,2))","v":""},{"$f":"IF(E18=\"\",\"\",IF(③選手情報入力!G27=\"\",\"\",③選手情報入力!G27))","v":""},null,"","",null,{"$f":"IF(E18=\"\",\"\",IF(③選手情報入力!I27=\"\",\"\",IF(I18=1,VLOOKUP(③選手情報入力!I27,種目情報!$A$4:$B$35,2,FALSE),VLOOKUP(③選手情報入力!I27,種目情報!$E$4:$F$35,2,FALSE))))","v":""},{"$f":"IF(E18=\"\",\"\",IF(③選手情報入力!J27=\"\",\"\",③選手情報入力!J27))","v":""},{"$f":"IF(E18=\"\",\"\",IF(③選手情報入力!H27=\"\",0,1))","v":""},{"$f":"IF(E18=\"\",\"\",IF(③選手情報入力!I27=\"\",\"\",IF(I18=1,VLOOKUP(③選手情報入力!I27,種目情報!$A$4:$C$39,3,FALSE),VLOOKUP(③選手情報入力!I27,種目情報!$E$4:$G$40,3,FALSE))))","v":""},{"$f":"IF(E18=\"\",\"\",IF(③選手情報入力!L27=\"\",\"\",IF(I18=1,VLOOKUP(③選手情報入力!L27,種目情報!$A$4:$B$39,2,FALSE),VLOOKUP(③選手情報入力!L27,種目情報!$E$4:$F$40,2,FALSE))))","v":""},{"$f":"IF(E18=\"\",\"\",IF(③選手情報入力!M27=\"\",\"\",③選手情報入力!M27))","v":""},{"$f":"IF(E18=\"\",\"\",IF(③選手情報入力!K27=\"\",0,1))","v":""},{"$f":"IF(E18=\"\",\"\",IF(③選手情報入力!L27=\"\",\"\",IF(I18=1,VLOOKUP(③選手情報入力!L27,種目情報!$A$4:$C$39,3,FALSE),VLOOKUP(③選手情報入力!L27,種目情報!$E$4:$G$40,3,FALSE))))","v":""},{"$f":"IF(E18=\"\",\"\",IF(③選手情報入力!O27=\"\",\"\",IF(I18=1,VLOOKUP(③選手情報入力!O27,種目情報!$A$4:$B$39,2,FALSE),VLOOKUP(③選手情報入力!O27,種目情報!$E$4:$F$40,2,FALSE))))","v":""},{"$f":"IF(E18=\"\",\"\",IF(③選手情報入力!P27=\"\",\"\",③選手情報入力!P27))","v":""},{"$f":"IF(E18=\"\",\"\",IF(③選手情報入力!N27=\"\",0,1))","v":""},{"$f":"IF(E18=\"\",\"\",IF(③選手情報入力!O27=\"\",\"\",IF(I18=1,VLOOKUP(③選手情報入力!O27,種目情報!$A$4:$C$39,3,FALSE),VLOOKUP(③選手情報入力!O27,種目情報!$E$4:$G$40,3,FALSE))))","v":""},{"$f":"IF(E18=\"\",\"\",IF(③選手情報入力!Q27=\"\",\"\",IF(I18=1,種目情報!$J$4,種目情報!$J$6)))","v":""},{"$f":"IF(E18=\"\",\"\",IF(③選手情報入力!Q27=\"\",\"\",IF(I18=1,IF(③選手情報入力!$R$6=\"\",\"\",③選手情報入力!$R$6),IF(③選手情報入力!$R$7=\"\",\"\",③選手情報入力!$R$7))))","v":""},{"$f":"IF(E18=\"\",\"\",IF(③選手情報入力!Q27=\"\",\"\",IF(I18=1,IF(③選手情報入力!$Q$6=\"\",0,1),IF(③選手情報入力!$Q$7=\"\",0,1))))","v":""},{"$f":"IF(E18=\"\",\"\",IF(③選手情報入力!Q27=\"\",\"\",2))","v":""},{"$f":"IF(E18=\"\",\"\",IF(③選手情報入力!S27=\"\",\"\",IF(I18=1,種目情報!$J$5,種目情報!$J$7)))","v":""},{"$f":"IF(E18=\"\",\"\",IF(③選手情報入力!S27=\"\",\"\",IF(I18=1,IF(③選手情報入力!$T$6=\"\",\"\",③選手情報入力!$T$6),IF(③選手情報入力!$T$7=\"\",\"\",③選手情報入力!$T$7))))","v":""},{"$f":"IF(E18=\"\",\"\",IF(③選手情報入力!S27=\"\",\"\",IF(I18=1,IF(③選手情報入力!$S$6=\"\",0,1),IF(③選手情報入力!$S$7=\"\",0,1))))","v":""},{"$f":"IF(E18=\"\",\"\",IF(③選手情報入力!S27=\"\",\"\",2))","v":""}]
[{"$f":"IF(E19=\"\",\"\",IF(①データ貼付け!B19=\"\",I20*1000000+②団体情報入力!$D$3*1000+③選手情報入力!A28,①データ貼付け!B19))","v":""},{"$f":"IF(E19=\"\",\"\",②団体情報入力!$D$3)","v":""},null,{"$f":"IF(③選手情報入力!B28=\"\",\"\",LEFT(Sheet2!B19,2))","v":""},{"$f":"IF(③選手情報入力!B28=\"\",\"\",REPLACE(Sheet2!B19,1,2,\"\"))","v":""},{"$f":"IF(E19=\"\",\"\",③選手情報入力!C28)","v":""},{"$f":"IF(E19=\"\",\"\",③選手情報入力!D28)","v":""},"",{"$f":"IF(E19=\"\",\"\",IF(③選手情報入力!F28=\"男\",1,2))","v":""},{"$f":"IF(E19=\"\",\"\",IF(③選手情報入力!G28=\"\",\"\",③選手情報入力!G28))","v":""},null,"","",null,{"$f":"IF(E19=\"\",\"\",IF(③選手情報入力!I28=\"\",\"\",IF(I19=1,VLOOKUP(③選手情報入力!I28,種目情報!$A$4:$B$35,2,FALSE),VLOOKUP(③選手情報入力!I28,種目情報!$E$4:$F$35,2,FALSE))))","v":""},{"$f":"IF(E19=\"\",\"\",IF(③選手情報入力!J28=\"\",\"\",③選手情報入力!J28))","v":""},{"$f":"IF(E19=\"\",\"\",IF(③選手情報入力!H28=\"\",0,1))","v":""},{"$f":"IF(E19=\"\",\"\",IF(③選手情報入力!I28=\"\",\"\",IF(I19=1,VLOOKUP(③選手情報入力!I28,種目情報!$A$4:$C$39,3,FALSE),VLOOKUP(③選手情報入力!I28,種目情報!$E$4:$G$40,3,FALSE))))","v":""},{"$f":"IF(E19=\"\",\"\",IF(③選手情報入力!L28=\"\",\"\",IF(I19=1,VLOOKUP(③選手情報入力!L28,種目情報!$A$4:$B$39,2,FALSE),VLOOKUP(③選手情報入力!L28,種目情報!$E$4:$F$40,2,FALSE))))","v":""},{"$f":"IF(E19=\"\",\"\",IF(③選手情報入力!M28=\"\",\"\",③選手情報入力!M28))","v":""},{"$f":"IF(E19=\"\",\"\",IF(③選手情報入力!K28=\"\",0,1))","v":""},{"$f":"IF(E19=\"\",\"\",IF(③選手情報入力!L28=\"\",\"\",IF(I19=1,VLOOKUP(③選手情報入力!L28,種目情報!$A$4:$C$39,3,FALSE),VLOOKUP(③選手情報入力!L28,種目情報!$E$4:$G$40,3,FALSE))))","v":""},{"$f":"IF(E19=\"\",\"\",IF(③選手情報入力!O28=\"\",\"\",IF(I19=1,VLOOKUP(③選手情報入力!O28,種目情報!$A$4:$B$39,2,FALSE),VLOOKUP(③選手情報入力!O28,種目情報!$E$4:$F$40,2,FALSE))))","v":""},{"$f":"IF(E19=\"\",\"\",IF(③選手情報入力!P28=\"\",\"\",③選手情報入力!P28))","v":""},{"$f":"IF(E19=\"\",\"\",IF(③選手情報入力!N28=\"\",0,1))","v":""},{"$f":"IF(E19=\"\",\"\",IF(③選手情報入力!O28=\"\",\"\",IF(I19=1,VLOOKUP(③選手情報入力!O28,種目情報!$A$4:$C$39,3,FALSE),VLOOKUP(③選手情報入力!O28,種目情報!$E$4:$G$40,3,FALSE))))","v":""},{"$f":"IF(E19=\"\",\"\",IF(③選手情報入力!Q28=\"\",\"\",IF(I19=1,種目情報!$J$4,種目情報!$J$6)))","v":""},{"$f":"IF(E19=\"\",\"\",IF(③選手情報入力!Q28=\"\",\"\",IF(I19=1,IF(③選手情報入力!$R$6=\"\",\"\",③選手情報入力!$R$6),IF(③選手情報入力!$R$7=\"\",\"\",③選手情報入力!$R$7))))","v":""},{"$f":"IF(E19=\"\",\"\",IF(③選手情報入力!Q28=\"\",\"\",IF(I19=1,IF(③選手情報入力!$Q$6=\"\",0,1),IF(③選手情報入力!$Q$7=\"\",0,1))))","v":""},{"$f":"IF(E19=\"\",\"\",IF(③選手情報入力!Q28=\"\",\"\",2))","v":""},{"$f":"IF(E19=\"\",\"\",IF(③選手情報入力!S28=\"\",\"\",IF(I19=1,種目情報!$J$5,種目情報!$J$7)))","v":""},{"$f":"IF(E19=\"\",\"\",IF(③選手情報入力!S28=\"\",\"\",IF(I19=1,IF(③選手情報入力!$T$6=\"\",\"\",③選手情報入力!$T$6),IF(③選手情報入力!$T$7=\"\",\"\",③選手情報入力!$T$7))))","v":""},{"$f":"IF(E19=\"\",\"\",IF(③選手情報入力!S28=\"\",\"\",IF(I19=1,IF(③選手情報入力!$S$6=\"\",0,1),IF(③選手情報入力!$S$7=\"\",0,1))))","v":""},{"$f":"IF(E19=\"\",\"\",IF(③選手情報入力!S28=\"\",\"\",2))","v":""}]
[{"$f":"IF(E20=\"\",\"\",IF(①データ貼付け!B20=\"\",I21*1000000+②団体情報入力!$D$3*1000+③選手情報入力!A29,①データ貼付け!B20))","v":""},{"$f":"IF(E20=\"\",\"\",②団体情報入力!$D$3)","v":""},null,{"$f":"IF(③選手情報入力!B29=\"\",\"\",LEFT(Sheet2!B20,2))","v":""},{"$f":"IF(③選手情報入力!B29=\"\",\"\",REPLACE(Sheet2!B20,1,2,\"\"))","v":""},{"$f":"IF(E20=\"\",\"\",③選手情報入力!C29)","v":""},{"$f":"IF(E20=\"\",\"\",③選手情報入力!D29)","v":""},"",{"$f":"IF(E20=\"\",\"\",IF(③選手情報入力!F29=\"男\",1,2))","v":""},{"$f":"IF(E20=\"\",\"\",IF(③選手情報入力!G29=\"\",\"\",③選手情報入力!G29))","v":""},null,"","",null,{"$f":"IF(E20=\"\",\"\",IF(③選手情報入力!I29=\"\",\"\",IF(I20=1,VLOOKUP(③選手情報入力!I29,種目情報!$A$4:$B$35,2,FALSE),VLOOKUP(③選手情報入力!I29,種目情報!$E$4:$F$35,2,FALSE))))","v":""},{"$f":"IF(E20=\"\",\"\",IF(③選手情報入力!J29=\"\",\"\",③選手情報入力!J29))","v":""},{"$f":"IF(E20=\"\",\"\",IF(③選手情報入力!H29=\"\",0,1))","v":""},{"$f":"IF(E20=\"\",\"\",IF(③選手情報入力!I29=\"\",\"\",IF(I20=1,VLOOKUP(③選手情報入力!I29,種目情報!$A$4:$C$39,3,FALSE),VLOOKUP(③選手情報入力!I29,種目情報!$E$4:$G$40,3,FALSE))))","v":""},{"$f":"IF(E20=\"\",\"\",IF(③選手情報入力!L29=\"\",\"\",IF(I20=1,VLOOKUP(③選手情報入力!L29,種目情報!$A$4:$B$39,2,FALSE),VLOOKUP(③選手情報入力!L29,種目情報!$E$4:$F$40,2,FALSE))))","v":""},{"$f":"IF(E20=\"\",\"\",IF(③選手情報入力!M29=\"\",\"\",③選手情報入力!M29))","v":""},{"$f":"IF(E20=\"\",\"\",IF(③選手情報入力!K29=\"\",0,1))","v":""},{"$f":"IF(E20=\"\",\"\",IF(③選手情報入力!L29=\"\",\"\",IF(I20=1,VLOOKUP(③選手情報入力!L29,種目情報!$A$4:$C$39,3,FALSE),VLOOKUP(③選手情報入力!L29,種目情報!$E$4:$G$40,3,FALSE))))","v":""},{"$f":"IF(E20=\"\",\"\",IF(③選手情報入力!O29=\"\",\"\",IF(I20=1,VLOOKUP(③選手情報入力!O29,種目情報!$A$4:$B$39,2,FALSE),VLOOKUP(③選手情報入力!O29,種目情報!$E$4:$F$40,2,FALSE))))","v":""},{"$f":"IF(E20=\"\",\"\",IF(③選手情報入力!P29=\"\",\"\",③選手情報入力!P29))","v":""},{"$f":"IF(E20=\"\",\"\",IF(③選手情報入力!N29=\"\",0,1))","v":""},{"$f":"IF(E20=\"\",\"\",IF(③選手情報入力!O29=\"\",\"\",IF(I20=1,VLOOKUP(③選手情報入力!O29,種目情報!$A$4:$C$39,3,FALSE),VLOOKUP(③選手情報入力!O29,種目情報!$E$4:$G$40,3,FALSE))))","v":""},{"$f":"IF(E20=\"\",\"\",IF(③選手情報入力!Q29=\"\",\"\",IF(I20=1,種目情報!$J$4,種目情報!$J$6)))","v":""},{"$f":"IF(E20=\"\",\"\",IF(③選手情報入力!Q29=\"\",\"\",IF(I20=1,IF(③選手情報入力!$R$6=\"\",\"\",③選手情報入力!$R$6),IF(③選手情報入力!$R$7=\"\",\"\",③選手情報入力!$R$7))))","v":""},{"$f":"IF(E20=\"\",\"\",IF(③選手情報入力!Q29=\"\",\"\",IF(I20=1,IF(③選手情報入力!$Q$6=\"\",0,1),IF(③選手情報入力!$Q$7=\"\",0,1))))","v":""},{"$f":"IF(E20=\"\",\"\",IF(③選手情報入力!Q29=\"\",\"\",2))","v":""},{"$f":"IF(E20=\"\",\"\",IF(③選手情報入力!S29=\"\",\"\",IF(I20=1,種目情報!$J$5,種目情報!$J$7)))","v":""},{"$f":"IF(E20=\"\",\"\",IF(③選手情報入力!S29=\"\",\"\",IF(I20=1,IF(③選手情報入力!$T$6=\"\",\"\",③選手情報入力!$T$6),IF(③選手情報入力!$T$7=\"\",\"\",③選手情報入力!$T$7))))","v":""},{"$f":"IF(E20=\"\",\"\",IF(③選手情報入力!S29=\"\",\"\",IF(I20=1,IF(③選手情報入力!$S$6=\"\",0,1),IF(③選手情報入力!$S$7=\"\",0,1))))","v":""},{"$f":"IF(E20=\"\",\"\",IF(③選手情報入力!S29=\"\",\"\",2))","v":""}]
[{"$f":"IF(E21=\"\",\"\",IF(①データ貼付け!B21=\"\",I22*1000000+②団体情報入力!$D$3*1000+③選手情報入力!A30,①データ貼付け!B21))","v":""},{"$f":"IF(E21=\"\",\"\",②団体情報入力!$D$3)","v":""},null,{"$f":"IF(③選手情報入力!B30=\"\",\"\",LEFT(Sheet2!B21,2))","v":""},{"$f":"IF(③選手情報入力!B30=\"\",\"\",REPLACE(Sheet2!B21,1,2,\"\"))","v":""},{"$f":"IF(E21=\"\",\"\",③選手情報入力!C30)","v":""},{"$f":"IF(E21=\"\",\"\",③選手情報入力!D30)","v":""},"",{"$f":"IF(E21=\"\",\"\",IF(③選手情報入力!F30=\"男\",1,2))","v":""},{"$f":"IF(E21=\"\",\"\",IF(③選手情報入力!G30=\"\",\"\",③選手情報入力!G30))","v":""},null,"","",null,{"$f":"IF(E21=\"\",\"\",IF(③選手情報入力!I30=\"\",\"\",IF(I21=1,VLOOKUP(③選手情報入力!I30,種目情報!$A$4:$B$35,2,FALSE),VLOOKUP(③選手情報入力!I30,種目情報!$E$4:$F$35,2,FALSE))))","v":""},{"$f":"IF(E21=\"\",\"\",IF(③選手情報入力!J30=\"\",\"\",③選手情報入力!J30))","v":""},{"$f":"IF(E21=\"\",\"\",IF(③選手情報入力!H30=\"\",0,1))","v":""},{"$f":"IF(E21=\"\",\"\",IF(③選手情報入力!I30=\"\",\"\",IF(I21=1,VLOOKUP(③選手情報入力!I30,種目情報!$A$4:$C$39,3,FALSE),VLOOKUP(③選手情報入力!I30,種目情報!$E$4:$G$40,3,FALSE))))","v":""},{"$f":"IF(E21=\"\",\"\",IF(③選手情報入力!L30=\"\",\"\",IF(I21=1,VLOOKUP(③選手情報入力!L30,種目情報!$A$4:$B$39,2,FALSE),VLOOKUP(③選手情報入力!L30,種目情報!$E$4:$F$40,2,FALSE))))","v":""},{"$f":"IF(E21=\"\",\"\",IF(③選手情報入力!M30=\"\",\"\",③選手情報入力!M30))","v":""},{"$f":"IF(E21=\"\",\"\",IF(③選手情報入力!K30=\"\",0,1))","v":""},{"$f":"IF(E21=\"\",\"\",IF(③選手情報入力!L30=\"\",\"\",IF(I21=1,VLOOKUP(③選手情報入力!L30,種目情報!$A$4:$C$39,3,FALSE),VLOOKUP(③選手情報入力!L30,種目情報!$E$4:$G$40,3,FALSE))))","v":""},{"$f":"IF(E21=\"\",\"\",IF(③選手情報入力!O30=\"\",\"\",IF(I21=1,VLOOKUP(③選手情報入力!O30,種目情報!$A$4:$B$39,2,FALSE),VLOOKUP(③選手情報入力!O30,種目情報!$E$4:$F$40,2,FALSE))))","v":""},{"$f":"IF(E21=\"\",\"\",IF(③選手情報入力!P30=\"\",\"\",③選手情報入力!P30))","v":""},{"$f":"IF(E21=\"\",\"\",IF(③選手情報入力!N30=\"\",0,1))","v":""},{"$f":"IF(E21=\"\",\"\",IF(③選手情報入力!O30=\"\",\"\",IF(I21=1,VLOOKUP(③選手情報入力!O30,種目情報!$A$4:$C$39,3,FALSE),VLOOKUP(③選手情報入力!O30,種目情報!$E$4:$G$40,3,FALSE))))","v":""},{"$f":"IF(E21=\"\",\"\",IF(③選手情報入力!Q30=\"\",\"\",IF(I21=1,種目情報!$J$4,種目情報!$J$6)))","v":""},{"$f":"IF(E21=\"\",\"\",IF(③選手情報入力!Q30=\"\",\"\",IF(I21=1,IF(③選手情報入力!$R$6=\"\",\"\",③選手情報入力!$R$6),IF(③選手情報入力!$R$7=\"\",\"\",③選手情報入力!$R$7))))","v":""},{"$f":"IF(E21=\"\",\"\",IF(③選手情報入力!Q30=\"\",\"\",IF(I21=1,IF(③選手情報入力!$Q$6=\"\",0,1),IF(③選手情報入力!$Q$7=\"\",0,1))))","v":""},{"$f":"IF(E21=\"\",\"\",IF(③選手情報入力!Q30=\"\",\"\",2))","v":""},{"$f":"IF(E21=\"\",\"\",IF(③選手情報入力!S30=\"\",\"\",IF(I21=1,種目情報!$J$5,種目情報!$J$7)))","v":""},{"$f":"IF(E21=\"\",\"\",IF(③選手情報入力!S30=\"\",\"\",IF(I21=1,IF(③選手情報入力!$T$6=\"\",\"\",③選手情報入力!$T$6),IF(③選手情報入力!$T$7=\"\",\"\",③選手情報入力!$T$7))))","v":""},{"$f":"IF(E21=\"\",\"\",IF(③選手情報入力!S30=\"\",\"\",IF(I21=1,IF(③選手情報入力!$S$6=\"\",0,1),IF(③選手情報入力!$S$7=\"\",0,1))))","v":""},{"$f":"IF(E21=\"\",\"\",IF(③選手情報入力!S30=\"\",\"\",2))","v":""}]
[{"$f":"IF(E22=\"\",\"\",IF(①データ貼付け!B22=\"\",I23*1000000+②団体情報入力!$D$3*1000+③選手情報入力!A31,①データ貼付け!B22))","v":""},{"$f":"IF(E22=\"\",\"\",②団体情報入力!$D$3)","v":""},null,{"$f":"IF(③選手情報入力!B31=\"\",\"\",LEFT(Sheet2!B22,2))","v":""},{"$f":"IF(③選手情報入力!B31=\"\",\"\",REPLACE(Sheet2!B22,1,2,\"\"))","v":""},{"$f":"IF(E22=\"\",\"\",③選手情報入力!C31)","v":""},{"$f":"IF(E22=\"\",\"\",③選手情報入力!D31)","v":""},"",{"$f":"IF(E22=\"\",\"\",IF(③選手情報入力!F31=\"男\",1,2))","v":""},{"$f":"IF(E22=\"\",\"\",IF(③選手情報入力!G31=\"\",\"\",③選手情報入力!G31))","v":""},null,"","",null,{"$f":"IF(E22=\"\",\"\",IF(③選手情報入力!I31=\"\",\"\",IF(I22=1,VLOOKUP(③選手情報入力!I31,種目情報!$A$4:$B$35,2,FALSE),VLOOKUP(③選手情報入力!I31,種目情報!$E$4:$F$35,2,FALSE))))","v":""},{"$f":"IF(E22=\"\",\"\",IF(③選手情報入力!J31=\"\",\"\",③選手情報入力!J31))","v":""},{"$f":"IF(E22=\"\",\"\",IF(③選手情報入力!H31=\"\",0,1))","v":""},{"$f":"IF(E22=\"\",\"\",IF(③選手情報入力!I31=\"\",\"\",IF(I22=1,VLOOKUP(③選手情報入力!I31,種目情報!$A$4:$C$39,3,FALSE),VLOOKUP(③選手情報入力!I31,種目情報!$E$4:$G$40,3,FALSE))))","v":""},{"$f":"IF(E22=\"\",\"\",IF(③選手情報入力!L31=\"\",\"\",IF(I22=1,VLOOKUP(③選手情報入力!L31,種目情報!$A$4:$B$39,2,FALSE),VLOOKUP(③選手情報入力!L31,種目情報!$E$4:$F$40,2,FALSE))))","v":""},{"$f":"IF(E22=\"\",\"\",IF(③選手情報入力!M31=\"\",\"\",③選手情報入力!M31))","v":""},{"$f":"IF(E22=\"\",\"\",IF(③選手情報入力!K31=\"\",0,1))","v":""},{"$f":"IF(E22=\"\",\"\",IF(③選手情報入力!L31=\"\",\"\",IF(I22=1,VLOOKUP(③選手情報入力!L31,種目情報!$A$4:$C$39,3,FALSE),VLOOKUP(③選手情報入力!L31,種目情報!$E$4:$G$40,3,FALSE))))","v":""},{"$f":"IF(E22=\"\",\"\",IF(③選手情報入力!O31=\"\",\"\",IF(I22=1,VLOOKUP(③選手情報入力!O31,種目情報!$A$4:$B$39,2,FALSE),VLOOKUP(③選手情報入力!O31,種目情報!$E$4:$F$40,2,FALSE))))","v":""},{"$f":"IF(E22=\"\",\"\",IF(③選手情報入力!P31=\"\",\"\",③選手情報入力!P31))","v":""},{"$f":"IF(E22=\"\",\"\",IF(③選手情報入力!N31=\"\",0,1))","v":""},{"$f":"IF(E22=\"\",\"\",IF(③選手情報入力!O31=\"\",\"\",IF(I22=1,VLOOKUP(③選手情報入力!O31,種目情報!$A$4:$C$39,3,FALSE),VLOOKUP(③選手情報入力!O31,種目情報!$E$4:$G$40,3,FALSE))))","v":""},{"$f":"IF(E22=\"\",\"\",IF(③選手情報入力!Q31=\"\",\"\",IF(I22=1,種目情報!$J$4,種目情報!$J$6)))","v":""},{"$f":"IF(E22=\"\",\"\",IF(③選手情報入力!Q31=\"\",\"\",IF(I22=1,IF(③選手情報入力!$R$6=\"\",\"\",③選手情報入力!$R$6),IF(③選手情報入力!$R$7=\"\",\"\",③選手情報入力!$R$7))))","v":""},{"$f":"IF(E22=\"\",\"\",IF(③選手情報入力!Q31=\"\",\"\",IF(I22=1,IF(③選手情報入力!$Q$6=\"\",0,1),IF(③選手情報入力!$Q$7=\"\",0,1))))","v":""},{"$f":"IF(E22=\"\",\"\",IF(③選手情報入力!Q31=\"\",\"\",2))","v":""},{"$f":"IF(E22=\"\",\"\",IF(③選手情報入力!S31=\"\",\"\",IF(I22=1,種目情報!$J$5,種目情報!$J$7)))","v":""},{"$f":"IF(E22=\"\",\"\",IF(③選手情報入力!S31=\"\",\"\",IF(I22=1,IF(③選手情報入力!$T$6=\"\",\"\",③選手情報入力!$T$6),IF(③選手情報入力!$T$7=\"\",\"\",③選手情報入力!$T$7))))","v":""},{"$f":"IF(E22=\"\",\"\",IF(③選手情報入力!S31=\"\",\"\",IF(I22=1,IF(③選手情報入力!$S$6=\"\",0,1),IF(③選手情報入力!$S$7=\"\",0,1))))","v":""},{"$f":"IF(E22=\"\",\"\",IF(③選手情報入力!S31=\"\",\"\",2))","v":""}]
[{"$f":"IF(E23=\"\",\"\",IF(①データ貼付け!B23=\"\",I24*1000000+②団体情報入力!$D$3*1000+③選手情報入力!A32,①データ貼付け!B23))","v":""},{"$f":"IF(E23=\"\",\"\",②団体情報入力!$D$3)","v":""},null,{"$f":"IF(③選手情報入力!B32=\"\",\"\",LEFT(Sheet2!B23,2))","v":""},{"$f":"IF(③選手情報入力!B32=\"\",\"\",REPLACE(Sheet2!B23,1,2,\"\"))","v":""},{"$f":"IF(E23=\"\",\"\",③選手情報入力!C32)","v":""},{"$f":"IF(E23=\"\",\"\",③選手情報入力!D32)","v":""},"",{"$f":"IF(E23=\"\",\"\",IF(③選手情報入力!F32=\"男\",1,2))","v":""},{"$f":"IF(E23=\"\",\"\",IF(③選手情報入力!G32=\"\",\"\",③選手情報入力!G32))","v":""},null,"","",null,{"$f":"IF(E23=\"\",\"\",IF(③選手情報入力!I32=\"\",\"\",IF(I23=1,VLOOKUP(③選手情報入力!I32,種目情報!$A$4:$B$35,2,FALSE),VLOOKUP(③選手情報入力!I32,種目情報!$E$4:$F$35,2,FALSE))))","v":""},{"$f":"IF(E23=\"\",\"\",IF(③選手情報入力!J32=\"\",\"\",③選手情報入力!J32))","v":""},{"$f":"IF(E23=\"\",\"\",IF(③選手情報入力!H32=\"\",0,1))","v":""},{"$f":"IF(E23=\"\",\"\",IF(③選手情報入力!I32=\"\",\"\",IF(I23=1,VLOOKUP(③選手情報入力!I32,種目情報!$A$4:$C$39,3,FALSE),VLOOKUP(③選手情報入力!I32,種目情報!$E$4:$G$40,3,FALSE))))","v":""},{"$f":"IF(E23=\"\",\"\",IF(③選手情報入力!L32=\"\",\"\",IF(I23=1,VLOOKUP(③選手情報入力!L32,種目情報!$A$4:$B$39,2,FALSE),VLOOKUP(③選手情報入力!L32,種目情報!$E$4:$F$40,2,FALSE))))","v":""},{"$f":"IF(E23=\"\",\"\",IF(③選手情報入力!M32=\"\",\"\",③選手情報入力!M32))","v":""},{"$f":"IF(E23=\"\",\"\",IF(③選手情報入力!K32=\"\",0,1))","v":""},{"$f":"IF(E23=\"\",\"\",IF(③選手情報入力!L32=\"\",\"\",IF(I23=1,VLOOKUP(③選手情報入力!L32,種目情報!$A$4:$C$39,3,FALSE),VLOOKUP(③選手情報入力!L32,種目情報!$E$4:$G$40,3,FALSE))))","v":""},{"$f":"IF(E23=\"\",\"\",IF(③選手情報入力!O32=\"\",\"\",IF(I23=1,VLOOKUP(③選手情報入力!O32,種目情報!$A$4:$B$39,2,FALSE),VLOOKUP(③選手情報入力!O32,種目情報!$E$4:$F$40,2,FALSE))))","v":""},{"$f":"IF(E23=\"\",\"\",IF(③選手情報入力!P32=\"\",\"\",③選手情報入力!P32))","v":""},{"$f":"IF(E23=\"\",\"\",IF(③選手情報入力!N32=\"\",0,1))","v":""},{"$f":"IF(E23=\"\",\"\",IF(③選手情報入力!O32=\"\",\"\",IF(I23=1,VLOOKUP(③選手情報入力!O32,種目情報!$A$4:$C$39,3,FALSE),VLOOKUP(③選手情報入力!O32,種目情報!$E$4:$G$40,3,FALSE))))","v":""},{"$f":"IF(E23=\"\",\"\",IF(③選手情報入力!Q32=\"\",\"\",IF(I23=1,種目情報!$J$4,種目情報!$J$6)))","v":""},{"$f":"IF(E23=\"\",\"\",IF(③選手情報入力!Q32=\"\",\"\",IF(I23=1,IF(③選手情報入力!$R$6=\"\",\"\",③選手情報入力!$R$6),IF(③選手情報入力!$R$7=\"\",\"\",③選手情報入力!$R$7))))","v":""},{"$f":"IF(E23=\"\",\"\",IF(③選手情報入力!Q32=\"\",\"\",IF(I23=1,IF(③選手情報入力!$Q$6=\"\",0,1),IF(③選手情報入力!$Q$7=\"\",0,1))))","v":""},{"$f":"IF(E23=\"\",\"\",IF(③選手情報入力!Q32=\"\",\"\",2))","v":""},{"$f":"IF(E23=\"\",\"\",IF(③選手情報入力!S32=\"\",\"\",IF(I23=1,種目情報!$J$5,種目情報!$J$7)))","v":""},{"$f":"IF(E23=\"\",\"\",IF(③選手情報入力!S32=\"\",\"\",IF(I23=1,IF(③選手情報入力!$T$6=\"\",\"\",③選手情報入力!$T$6),IF(③選手情報入力!$T$7=\"\",\"\",③選手情報入力!$T$7))))","v":""},{"$f":"IF(E23=\"\",\"\",IF(③選手情報入力!S32=\"\",\"\",IF(I23=1,IF(③選手情報入力!$S$6=\"\",0,1),IF(③選手情報入力!$S$7=\"\",0,1))))","v":""},{"$f":"IF(E23=\"\",\"\",IF(③選手情報入力!S32=\"\",\"\",2))","v":""}]
[{"$f":"IF(E24=\"\",\"\",IF(①データ貼付け!B24=\"\",I25*1000000+②団体情報入力!$D$3*1000+③選手情報入力!A33,①データ貼付け!B24))","v":""},{"$f":"IF(E24=\"\",\"\",②団体情報入力!$D$3)","v":""},null,{"$f":"IF(③選手情報入力!B33=\"\",\"\",LEFT(Sheet2!B24,2))","v":""},{"$f":"IF(③選手情報入力!B33=\"\",\"\",REPLACE(Sheet2!B24,1,2,\"\"))","v":""},{"$f":"IF(E24=\"\",\"\",③選手情報入力!C33)","v":""},{"$f":"IF(E24=\"\",\"\",③選手情報入力!D33)","v":""},"",{"$f":"IF(E24=\"\",\"\",IF(③選手情報入力!F33=\"男\",1,2))","v":""},{"$f":"IF(E24=\"\",\"\",IF(③選手情報入力!G33=\"\",\"\",③選手情報入力!G33))","v":""},null,"","",null,{"$f":"IF(E24=\"\",\"\",IF(③選手情報入力!I33=\"\",\"\",IF(I24=1,VLOOKUP(③選手情報入力!I33,種目情報!$A$4:$B$35,2,FALSE),VLOOKUP(③選手情報入力!I33,種目情報!$E$4:$F$35,2,FALSE))))","v":""},{"$f":"IF(E24=\"\",\"\",IF(③選手情報入力!J33=\"\",\"\",③選手情報入力!J33))","v":""},{"$f":"IF(E24=\"\",\"\",IF(③選手情報入力!H33=\"\",0,1))","v":""},{"$f":"IF(E24=\"\",\"\",IF(③選手情報入力!I33=\"\",\"\",IF(I24=1,VLOOKUP(③選手情報入力!I33,種目情報!$A$4:$C$39,3,FALSE),VLOOKUP(③選手情報入力!I33,種目情報!$E$4:$G$40,3,FALSE))))","v":""},{"$f":"IF(E24=\"\",\"\",IF(③選手情報入力!L33=\"\",\"\",IF(I24=1,VLOOKUP(③選手情報入力!L33,種目情報!$A$4:$B$39,2,FALSE),VLOOKUP(③選手情報入力!L33,種目情報!$E$4:$F$40,2,FALSE))))","v":""},{"$f":"IF(E24=\"\",\"\",IF(③選手情報入力!M33=\"\",\"\",③選手情報入力!M33))","v":""},{"$f":"IF(E24=\"\",\"\",IF(③選手情報入力!K33=\"\",0,1))","v":""},{"$f":"IF(E24=\"\",\"\",IF(③選手情報入力!L33=\"\",\"\",IF(I24=1,VLOOKUP(③選手情報入力!L33,種目情報!$A$4:$C$39,3,FALSE),VLOOKUP(③選手情報入力!L33,種目情報!$E$4:$G$40,3,FALSE))))","v":""},{"$f":"IF(E24=\"\",\"\",IF(③選手情報入力!O33=\"\",\"\",IF(I24=1,VLOOKUP(③選手情報入力!O33,種目情報!$A$4:$B$39,2,FALSE),VLOOKUP(③選手情報入力!O33,種目情報!$E$4:$F$40,2,FALSE))))","v":""},{"$f":"IF(E24=\"\",\"\",IF(③選手情報入力!P33=\"\",\"\",③選手情報入力!P33))","v":""},{"$f":"IF(E24=\"\",\"\",IF(③選手情報入力!N33=\"\",0,1))","v":""},{"$f":"IF(E24=\"\",\"\",IF(③選手情報入力!O33=\"\",\"\",IF(I24=1,VLOOKUP(③選手情報入力!O33,種目情報!$A$4:$C$39,3,FALSE),VLOOKUP(③選手情報入力!O33,種目情報!$E$4:$G$40,3,FALSE))))","v":""},{"$f":"IF(E24=\"\",\"\",IF(③選手情報入力!Q33=\"\",\"\",IF(I24=1,種目情報!$J$4,種目情報!$J$6)))","v":""},{"$f":"IF(E24=\"\",\"\",IF(③選手情報入力!Q33=\"\",\"\",IF(I24=1,IF(③選手情報入力!$R$6=\"\",\"\",③選手情報入力!$R$6),IF(③選手情報入力!$R$7=\"\",\"\",③選手情報入力!$R$7))))","v":""},{"$f":"IF(E24=\"\",\"\",IF(③選手情報入力!Q33=\"\",\"\",IF(I24=1,IF(③選手情報入力!$Q$6=\"\",0,1),IF(③選手情報入力!$Q$7=\"\",0,1))))","v":""},{"$f":"IF(E24=\"\",\"\",IF(③選手情報入力!Q33=\"\",\"\",2))","v":""},{"$f":"IF(E24=\"\",\"\",IF(③選手情報入力!S33=\"\",\"\",IF(I24=1,種目情報!$J$5,種目情報!$J$7)))","v":""},{"$f":"IF(E24=\"\",\"\",IF(③選手情報入力!S33=\"\",\"\",IF(I24=1,IF(③選手情報入力!$T$6=\"\",\"\",③選手情報入力!$T$6),IF(③選手情報入力!$T$7=\"\",\"\",③選手情報入力!$T$7))))","v":""},{"$f":"IF(E24=\"\",\"\",IF(③選手情報入力!S33=\"\",\"\",IF(I24=1,IF(③選手情報入力!$S$6=\"\",0,1),IF(③選手情報入力!$S$7=\"\",0,1))))","v":""},{"$f":"IF(E24=\"\",\"\",IF(③選手情報入力!S33=\"\",\"\",2))","v":""}]
[{"$f":"IF(E25=\"\",\"\",IF(①データ貼付け!B25=\"\",I26*1000000+②団体情報入力!$D$3*1000+③選手情報入力!A34,①データ貼付け!B25))","v":""},{"$f":"IF(E25=\"\",\"\",②団体情報入力!$D$3)","v":""},null,{"$f":"IF(③選手情報入力!B34=\"\",\"\",LEFT(Sheet2!B25,2))","v":""},{"$f":"IF(③選手情報入力!B34=\"\",\"\",REPLACE(Sheet2!B25,1,2,\"\"))","v":""},{"$f":"IF(E25=\"\",\"\",③選手情報入力!C34)","v":""},{"$f":"IF(E25=\"\",\"\",③選手情報入力!D34)","v":""},"",{"$f":"IF(E25=\"\",\"\",IF(③選手情報入力!F34=\"男\",1,2))","v":""},{"$f":"IF(E25=\"\",\"\",IF(③選手情報入力!G34=\"\",\"\",③選手情報入力!G34))","v":""},null,"","",null,{"$f":"IF(E25=\"\",\"\",IF(③選手情報入力!I34=\"\",\"\",IF(I25=1,VLOOKUP(③選手情報入力!I34,種目情報!$A$4:$B$35,2,FALSE),VLOOKUP(③選手情報入力!I34,種目情報!$E$4:$F$35,2,FALSE))))","v":""},{"$f":"IF(E25=\"\",\"\",IF(③選手情報入力!J34=\"\",\"\",③選手情報入力!J34))","v":""},{"$f":"IF(E25=\"\",\"\",IF(③選手情報入力!H34=\"\",0,1))","v":""},{"$f":"IF(E25=\"\",\"\",IF(③選手情報入力!I34=\"\",\"\",IF(I25=1,VLOOKUP(③選手情報入力!I34,種目情報!$A$4:$C$39,3,FALSE),VLOOKUP(③選手情報入力!I34,種目情報!$E$4:$G$40,3,FALSE))))","v":""},{"$f":"IF(E25=\"\",\"\",IF(③選手情報入力!L34=\"\",\"\",IF(I25=1,VLOOKUP(③選手情報入力!L34,種目情報!$A$4:$B$39,2,FALSE),VLOOKUP(③選手情報入力!L34,種目情報!$E$4:$F$40,2,FALSE))))","v":""},{"$f":"IF(E25=\"\",\"\",IF(③選手情報入力!M34=\"\",\"\",③選手情報入力!M34))","v":""},{"$f":"IF(E25=\"\",\"\",IF(③選手情報入力!K34=\"\",0,1))","v":""},{"$f":"IF(E25=\"\",\"\",IF(③選手情報入力!L34=\"\",\"\",IF(I25=1,VLOOKUP(③選手情報入力!L34,種目情報!$A$4:$C$39,3,FALSE),VLOOKUP(③選手情報入力!L34,種目情報!$E$4:$G$40,3,FALSE))))","v":""},{"$f":"IF(E25=\"\",\"\",IF(③選手情報入力!O34=\"\",\"\",IF(I25=1,VLOOKUP(③選手情報入力!O34,種目情報!$A$4:$B$39,2,FALSE),VLOOKUP(③選手情報入力!O34,種目情報!$E$4:$F$40,2,FALSE))))","v":""},{"$f":"IF(E25=\"\",\"\",IF(③選手情報入力!P34=\"\",\"\",③選手情報入力!P34))","v":""},{"$f":"IF(E25=\"\",\"\",IF(③選手情報入力!N34=\"\",0,1))","v":""},{"$f":"IF(E25=\"\",\"\",IF(③選手情報入力!O34=\"\",\"\",IF(I25=1,VLOOKUP(③選手情報入力!O34,種目情報!$A$4:$C$39,3,FALSE),VLOOKUP(③選手情報入力!O34,種目情報!$E$4:$G$40,3,FALSE))))","v":""},{"$f":"IF(E25=\"\",\"\",IF(③選手情報入力!Q34=\"\",\"\",IF(I25=1,種目情報!$J$4,種目情報!$J$6)))","v":""},{"$f":"IF(E25=\"\",\"\",IF(③選手情報入力!Q34=\"\",\"\",IF(I25=1,IF(③選手情報入力!$R$6=\"\",\"\",③選手情報入力!$R$6),IF(③選手情報入力!$R$7=\"\",\"\",③選手情報入力!$R$7))))","v":""},{"$f":"IF(E25=\"\",\"\",IF(③選手情報入力!Q34=\"\",\"\",IF(I25=1,IF(③選手情報入力!$Q$6=\"\",0,1),IF(③選手情報入力!$Q$7=\"\",0,1))))","v":""},{"$f":"IF(E25=\"\",\"\",IF(③選手情報入力!Q34=\"\",\"\",2))","v":""},{"$f":"IF(E25=\"\",\"\",IF(③選手情報入力!S34=\"\",\"\",IF(I25=1,種目情報!$J$5,種目情報!$J$7)))","v":""},{"$f":"IF(E25=\"\",\"\",IF(③選手情報入力!S34=\"\",\"\",IF(I25=1,IF(③選手情報入力!$T$6=\"\",\"\",③選手情報入力!$T$6),IF(③選手情報入力!$T$7=\"\",\"\",③選手情報入力!$T$7))))","v":""},{"$f":"IF(E25=\"\",\"\",IF(③選手情報入力!S34=\"\",\"\",IF(I25=1,IF(③選手情報入力!$S$6=\"\",0,1),IF(③選手情報入力!$S$7=\"\",0,1))))","v":""},{"$f":"IF(E25=\"\",\"\",IF(③選手情報入力!S34=\"\",\"\",2))","v":""}]
[{"$f":"IF(E26=\"\",\"\",IF(①データ貼付け!B26=\"\",I27*1000000+②団体情報入力!$D$3*1000+③選手情報入力!A35,①データ貼付け!B26))","v":""},{"$f":"IF(E26=\"\",\"\",②団体情報入力!$D$3)","v":""},null,{"$f":"IF(③選手情報入力!B35=\"\",\"\",LEFT(Sheet2!B26,2))","v":""},{"$f":"IF(③選手情報入力!B35=\"\",\"\",REPLACE(Sheet2!B26,1,2,\"\"))","v":""},{"$f":"IF(E26=\"\",\"\",③選手情報入力!C35)","v":""},{"$f":"IF(E26=\"\",\"\",③選手情報入力!D35)","v":""},"",{"$f":"IF(E26=\"\",\"\",IF(③選手情報入力!F35=\"男\",1,2))","v":""},{"$f":"IF(E26=\"\",\"\",IF(③選手情報入力!G35=\"\",\"\",③選手情報入力!G35))","v":""},null,"","",null,{"$f":"IF(E26=\"\",\"\",IF(③選手情報入力!I35=\"\",\"\",IF(I26=1,VLOOKUP(③選手情報入力!I35,種目情報!$A$4:$B$35,2,FALSE),VLOOKUP(③選手情報入力!I35,種目情報!$E$4:$F$35,2,FALSE))))","v":""},{"$f":"IF(E26=\"\",\"\",IF(③選手情報入力!J35=\"\",\"\",③選手情報入力!J35))","v":""},{"$f":"IF(E26=\"\",\"\",IF(③選手情報入力!H35=\"\",0,1))","v":""},{"$f":"IF(E26=\"\",\"\",IF(③選手情報入力!I35=\"\",\"\",IF(I26=1,VLOOKUP(③選手情報入力!I35,種目情報!$A$4:$C$39,3,FALSE),VLOOKUP(③選手情報入力!I35,種目情報!$E$4:$G$40,3,FALSE))))","v":""},{"$f":"IF(E26=\"\",\"\",IF(③選手情報入力!L35=\"\",\"\",IF(I26=1,VLOOKUP(③選手情報入力!L35,種目情報!$A$4:$B$39,2,FALSE),VLOOKUP(③選手情報入力!L35,種目情報!$E$4:$F$40,2,FALSE))))","v":""},{"$f":"IF(E26=\"\",\"\",IF(③選手情報入力!M35=\"\",\"\",③選手情報入力!M35))","v":""},{"$f":"IF(E26=\"\",\"\",IF(③選手情報入力!K35=\"\",0,1))","v":""},{"$f":"IF(E26=\"\",\"\",IF(③選手情報入力!L35=\"\",\"\",IF(I26=1,VLOOKUP(③選手情報入力!L35,種目情報!$A$4:$C$39,3,FALSE),VLOOKUP(③選手情報入力!L35,種目情報!$E$4:$G$40,3,FALSE))))","v":""},{"$f":"IF(E26=\"\",\"\",IF(③選手情報入力!O35=\"\",\"\",IF(I26=1,VLOOKUP(③選手情報入力!O35,種目情報!$A$4:$B$39,2,FALSE),VLOOKUP(③選手情報入力!O35,種目情報!$E$4:$F$40,2,FALSE))))","v":""},{"$f":"IF(E26=\"\",\"\",IF(③選手情報入力!P35=\"\",\"\",③選手情報入力!P35))","v":""},{"$f":"IF(E26=\"\",\"\",IF(③選手情報入力!N35=\"\",0,1))","v":""},{"$f":"IF(E26=\"\",\"\",IF(③選手情報入力!O35=\"\",\"\",IF(I26=1,VLOOKUP(③選手情報入力!O35,種目情報!$A$4:$C$39,3,FALSE),VLOOKUP(③選手情報入力!O35,種目情報!$E$4:$G$40,3,FALSE))))","v":""},{"$f":"IF(E26=\"\",\"\",IF(③選手情報入力!Q35=\"\",\"\",IF(I26=1,種目情報!$J$4,種目情報!$J$6)))","v":""},{"$f":"IF(E26=\"\",\"\",IF(③選手情報入力!Q35=\"\",\"\",IF(I26=1,IF(③選手情報入力!$R$6=\"\",\"\",③選手情報入力!$R$6),IF(③選手情報入力!$R$7=\"\",\"\",③選手情報入力!$R$7))))","v":""},{"$f":"IF(E26=\"\",\"\",IF(③選手情報入力!Q35=\"\",\"\",IF(I26=1,IF(③選手情報入力!$Q$6=\"\",0,1),IF(③選手情報入力!$Q$7=\"\",0,1))))","v":""},{"$f":"IF(E26=\"\",\"\",IF(③選手情報入力!Q35=\"\",\"\",2))","v":""},{"$f":"IF(E26=\"\",\"\",IF(③選手情報入力!S35=\"\",\"\",IF(I26=1,種目情報!$J$5,種目情報!$J$7)))","v":""},{"$f":"IF(E26=\"\",\"\",IF(③選手情報入力!S35=\"\",\"\",IF(I26=1,IF(③選手情報入力!$T$6=\"\",\"\",③選手情報入力!$T$6),IF(③選手情報入力!$T$7=\"\",\"\",③選手情報入力!$T$7))))","v":""},{"$f":"IF(E26=\"\",\"\",IF(③選手情報入力!S35=\"\",\"\",IF(I26=1,IF(③選手情報入力!$S$6=\"\",0,1),IF(③選手情報入力!$S$7=\"\",0,1))))","v":""},{"$f":"IF(E26=\"\",\"\",IF(③選手情報入力!S35=\"\",\"\",2))","v":""}]
[{"$f":"IF(E27=\"\",\"\",IF(①データ貼付け!B27=\"\",I28*1000000+②団体情報入力!$D$3*1000+③選手情報入力!A36,①データ貼付け!B27))","v":""},{"$f":"IF(E27=\"\",\"\",②団体情報入力!$D$3)","v":""},null,{"$f":"IF(③選手情報入力!B36=\"\",\"\",LEFT(Sheet2!B27,2))","v":""},{"$f":"IF(③選手情報入力!B36=\"\",\"\",REPLACE(Sheet2!B27,1,2,\"\"))","v":""},{"$f":"IF(E27=\"\",\"\",③選手情報入力!C36)","v":""},{"$f":"IF(E27=\"\",\"\",③選手情報入力!D36)","v":""},"",{"$f":"IF(E27=\"\",\"\",IF(③選手情報入力!F36=\"男\",1,2))","v":""},{"$f":"IF(E27=\"\",\"\",IF(③選手情報入力!G36=\"\",\"\",③選手情報入力!G36))","v":""},null,"","",null,{"$f":"IF(E27=\"\",\"\",IF(③選手情報入力!I36=\"\",\"\",IF(I27=1,VLOOKUP(③選手情報入力!I36,種目情報!$A$4:$B$35,2,FALSE),VLOOKUP(③選手情報入力!I36,種目情報!$E$4:$F$35,2,FALSE))))","v":""},{"$f":"IF(E27=\"\",\"\",IF(③選手情報入力!J36=\"\",\"\",③選手情報入力!J36))","v":""},{"$f":"IF(E27=\"\",\"\",IF(③選手情報入力!H36=\"\",0,1))","v":""},{"$f":"IF(E27=\"\",\"\",IF(③選手情報入力!I36=\"\",\"\",IF(I27=1,VLOOKUP(③選手情報入力!I36,種目情報!$A$4:$C$39,3,FALSE),VLOOKUP(③選手情報入力!I36,種目情報!$E$4:$G$40,3,FALSE))))","v":""},{"$f":"IF(E27=\"\",\"\",IF(③選手情報入力!L36=\"\",\"\",IF(I27=1,VLOOKUP(③選手情報入力!L36,種目情報!$A$4:$B$39,2,FALSE),VLOOKUP(③選手情報入力!L36,種目情報!$E$4:$F$40,2,FALSE))))","v":""},{"$f":"IF(E27=\"\",\"\",IF(③選手情報入力!M36=\"\",\"\",③選手情報入力!M36))","v":""},{"$f":"IF(E27=\"\",\"\",IF(③選手情報入力!K36=\"\",0,1))","v":""},{"$f":"IF(E27=\"\",\"\",IF(③選手情報入力!L36=\"\",\"\",IF(I27=1,VLOOKUP(③選手情報入力!L36,種目情報!$A$4:$C$39,3,FALSE),VLOOKUP(③選手情報入力!L36,種目情報!$E$4:$G$40,3,FALSE))))","v":""},{"$f":"IF(E27=\"\",\"\",IF(③選手情報入力!O36=\"\",\"\",IF(I27=1,VLOOKUP(③選手情報入力!O36,種目情報!$A$4:$B$39,2,FALSE),VLOOKUP(③選手情報入力!O36,種目情報!$E$4:$F$40,2,FALSE))))","v":""},{"$f":"IF(E27=\"\",\"\",IF(③選手情報入力!P36=\"\",\"\",③選手情報入力!P36))","v":""},{"$f":"IF(E27=\"\",\"\",IF(③選手情報入力!N36=\"\",0,1))","v":""},{"$f":"IF(E27=\"\",\"\",IF(③選手情報入力!O36=\"\",\"\",IF(I27=1,VLOOKUP(③選手情報入力!O36,種目情報!$A$4:$C$39,3,FALSE),VLOOKUP(③選手情報入力!O36,種目情報!$E$4:$G$40,3,FALSE))))","v":""},{"$f":"IF(E27=\"\",\"\",IF(③選手情報入力!Q36=\"\",\"\",IF(I27=1,種目情報!$J$4,種目情報!$J$6)))","v":""},{"$f":"IF(E27=\"\",\"\",IF(③選手情報入力!Q36=\"\",\"\",IF(I27=1,IF(③選手情報入力!$R$6=\"\",\"\",③選手情報入力!$R$6),IF(③選手情報入力!$R$7=\"\",\"\",③選手情報入力!$R$7))))","v":""},{"$f":"IF(E27=\"\",\"\",IF(③選手情報入力!Q36=\"\",\"\",IF(I27=1,IF(③選手情報入力!$Q$6=\"\",0,1),IF(③選手情報入力!$Q$7=\"\",0,1))))","v":""},{"$f":"IF(E27=\"\",\"\",IF(③選手情報入力!Q36=\"\",\"\",2))","v":""},{"$f":"IF(E27=\"\",\"\",IF(③選手情報入力!S36=\"\",\"\",IF(I27=1,種目情報!$J$5,種目情報!$J$7)))","v":""},{"$f":"IF(E27=\"\",\"\",IF(③選手情報入力!S36=\"\",\"\",IF(I27=1,IF(③選手情報入力!$T$6=\"\",\"\",③選手情報入力!$T$6),IF(③選手情報入力!$T$7=\"\",\"\",③選手情報入力!$T$7))))","v":""},{"$f":"IF(E27=\"\",\"\",IF(③選手情報入力!S36=\"\",\"\",IF(I27=1,IF(③選手情報入力!$S$6=\"\",0,1),IF(③選手情報入力!$S$7=\"\",0,1))))","v":""},{"$f":"IF(E27=\"\",\"\",IF(③選手情報入力!S36=\"\",\"\",2))","v":""}]
[{"$f":"IF(E28=\"\",\"\",IF(①データ貼付け!B28=\"\",I29*1000000+②団体情報入力!$D$3*1000+③選手情報入力!A37,①データ貼付け!B28))","v":""},{"$f":"IF(E28=\"\",\"\",②団体情報入力!$D$3)","v":""},null,{"$f":"IF(③選手情報入力!B37=\"\",\"\",LEFT(Sheet2!B28,2))","v":""},{"$f":"IF(③選手情報入力!B37=\"\",\"\",REPLACE(Sheet2!B28,1,2,\"\"))","v":""},{"$f":"IF(E28=\"\",\"\",③選手情報入力!C37)","v":""},{"$f":"IF(E28=\"\",\"\",③選手情報入力!D37)","v":""},"",{"$f":"IF(E28=\"\",\"\",IF(③選手情報入力!F37=\"男\",1,2))","v":""},{"$f":"IF(E28=\"\",\"\",IF(③選手情報入力!G37=\"\",\"\",③選手情報入力!G37))","v":""},null,"","",null,{"$f":"IF(E28=\"\",\"\",IF(③選手情報入力!I37=\"\",\"\",IF(I28=1,VLOOKUP(③選手情報入力!I37,種目情報!$A$4:$B$35,2,FALSE),VLOOKUP(③選手情報入力!I37,種目情報!$E$4:$F$35,2,FALSE))))","v":""},{"$f":"IF(E28=\"\",\"\",IF(③選手情報入力!J37=\"\",\"\",③選手情報入力!J37))","v":""},{"$f":"IF(E28=\"\",\"\",IF(③選手情報入力!H37=\"\",0,1))","v":""},{"$f":"IF(E28=\"\",\"\",IF(③選手情報入力!I37=\"\",\"\",IF(I28=1,VLOOKUP(③選手情報入力!I37,種目情報!$A$4:$C$39,3,FALSE),VLOOKUP(③選手情報入力!I37,種目情報!$E$4:$G$40,3,FALSE))))","v":""},{"$f":"IF(E28=\"\",\"\",IF(③選手情報入力!L37=\"\",\"\",IF(I28=1,VLOOKUP(③選手情報入力!L37,種目情報!$A$4:$B$39,2,FALSE),VLOOKUP(③選手情報入力!L37,種目情報!$E$4:$F$40,2,FALSE))))","v":""},{"$f":"IF(E28=\"\",\"\",IF(③選手情報入力!M37=\"\",\"\",③選手情報入力!M37))","v":""},{"$f":"IF(E28=\"\",\"\",IF(③選手情報入力!K37=\"\",0,1))","v":""},{"$f":"IF(E28=\"\",\"\",IF(③選手情報入力!L37=\"\",\"\",IF(I28=1,VLOOKUP(③選手情報入力!L37,種目情報!$A$4:$C$39,3,FALSE),VLOOKUP(③選手情報入力!L37,種目情報!$E$4:$G$40,3,FALSE))))","v":""},{"$f":"IF(E28=\"\",\"\",IF(③選手情報入力!O37=\"\",\"\",IF(I28=1,VLOOKUP(③選手情報入力!O37,種目情報!$A$4:$B$39,2,FALSE),VLOOKUP(③選手情報入力!O37,種目情報!$E$4:$F$40,2,FALSE))))","v":""},{"$f":"IF(E28=\"\",\"\",IF(③選手情報入力!P37=\"\",\"\",③選手情報入力!P37))","v":""},{"$f":"IF(E28=\"\",\"\",IF(③選手情報入力!N37=\"\",0,1))","v":""},{"$f":"IF(E28=\"\",\"\",IF(③選手情報入力!O37=\"\",\"\",IF(I28=1,VLOOKUP(③選手情報入力!O37,種目情報!$A$4:$C$39,3,FALSE),VLOOKUP(③選手情報入力!O37,種目情報!$E$4:$G$40,3,FALSE))))","v":""},{"$f":"IF(E28=\"\",\"\",IF(③選手情報入力!Q37=\"\",\"\",IF(I28=1,種目情報!$J$4,種目情報!$J$6)))","v":""},{"$f":"IF(E28=\"\",\"\",IF(③選手情報入力!Q37=\"\",\"\",IF(I28=1,IF(③選手情報入力!$R$6=\"\",\"\",③選手情報入力!$R$6),IF(③選手情報入力!$R$7=\"\",\"\",③選手情報入力!$R$7))))","v":""},{"$f":"IF(E28=\"\",\"\",IF(③選手情報入力!Q37=\"\",\"\",IF(I28=1,IF(③選手情報入力!$Q$6=\"\",0,1),IF(③選手情報入力!$Q$7=\"\",0,1))))","v":""},{"$f":"IF(E28=\"\",\"\",IF(③選手情報入力!Q37=\"\",\"\",2))","v":""},{"$f":"IF(E28=\"\",\"\",IF(③選手情報入力!S37=\"\",\"\",IF(I28=1,種目情報!$J$5,種目情報!$J$7)))","v":""},{"$f":"IF(E28=\"\",\"\",IF(③選手情報入力!S37=\"\",\"\",IF(I28=1,IF(③選手情報入力!$T$6=\"\",\"\",③選手情報入力!$T$6),IF(③選手情報入力!$T$7=\"\",\"\",③選手情報入力!$T$7))))","v":""},{"$f":"IF(E28=\"\",\"\",IF(③選手情報入力!S37=\"\",\"\",IF(I28=1,IF(③選手情報入力!$S$6=\"\",0,1),IF(③選手情報入力!$S$7=\"\",0,1))))","v":""},{"$f":"IF(E28=\"\",\"\",IF(③選手情報入力!S37=\"\",\"\",2))","v":""}]
[{"$f":"IF(E29=\"\",\"\",IF(①データ貼付け!B29=\"\",I30*1000000+②団体情報入力!$D$3*1000+③選手情報入力!A38,①データ貼付け!B29))","v":""},{"$f":"IF(E29=\"\",\"\",②団体情報入力!$D$3)","v":""},null,{"$f":"IF(③選手情報入力!B38=\"\",\"\",LEFT(Sheet2!B29,2))","v":""},{"$f":"IF(③選手情報入力!B38=\"\",\"\",REPLACE(Sheet2!B29,1,2,\"\"))","v":""},{"$f":"IF(E29=\"\",\"\",③選手情報入力!C38)","v":""},{"$f":"IF(E29=\"\",\"\",③選手情報入力!D38)","v":""},"",{"$f":"IF(E29=\"\",\"\",IF(③選手情報入力!F38=\"男\",1,2))","v":""},{"$f":"IF(E29=\"\",\"\",IF(③選手情報入力!G38=\"\",\"\",③選手情報入力!G38))","v":""},null,"","",null,{"$f":"IF(E29=\"\",\"\",IF(③選手情報入力!I38=\"\",\"\",IF(I29=1,VLOOKUP(③選手情報入力!I38,種目情報!$A$4:$B$35,2,FALSE),VLOOKUP(③選手情報入力!I38,種目情報!$E$4:$F$35,2,FALSE))))","v":""},{"$f":"IF(E29=\"\",\"\",IF(③選手情報入力!J38=\"\",\"\",③選手情報入力!J38))","v":""},{"$f":"IF(E29=\"\",\"\",IF(③選手情報入力!H38=\"\",0,1))","v":""},{"$f":"IF(E29=\"\",\"\",IF(③選手情報入力!I38=\"\",\"\",IF(I29=1,VLOOKUP(③選手情報入力!I38,種目情報!$A$4:$C$39,3,FALSE),VLOOKUP(③選手情報入力!I38,種目情報!$E$4:$G$40,3,FALSE))))","v":""},{"$f":"IF(E29=\"\",\"\",IF(③選手情報入力!L38=\"\",\"\",IF(I29=1,VLOOKUP(③選手情報入力!L38,種目情報!$A$4:$B$39,2,FALSE),VLOOKUP(③選手情報入力!L38,種目情報!$E$4:$F$40,2,FALSE))))","v":""},{"$f":"IF(E29=\"\",\"\",IF(③選手情報入力!M38=\"\",\"\",③選手情報入力!M38))","v":""},{"$f":"IF(E29=\"\",\"\",IF(③選手情報入力!K38=\"\",0,1))","v":""},{"$f":"IF(E29=\"\",\"\",IF(③選手情報入力!L38=\"\",\"\",IF(I29=1,VLOOKUP(③選手情報入力!L38,種目情報!$A$4:$C$39,3,FALSE),VLOOKUP(③選手情報入力!L38,種目情報!$E$4:$G$40,3,FALSE))))","v":""},{"$f":"IF(E29=\"\",\"\",IF(③選手情報入力!O38=\"\",\"\",IF(I29=1,VLOOKUP(③選手情報入力!O38,種目情報!$A$4:$B$39,2,FALSE),VLOOKUP(③選手情報入力!O38,種目情報!$E$4:$F$40,2,FALSE))))","v":""},{"$f":"IF(E29=\"\",\"\",IF(③選手情報入力!P38=\"\",\"\",③選手情報入力!P38))","v":""},{"$f":"IF(E29=\"\",\"\",IF(③選手情報入力!N38=\"\",0,1))","v":""},{"$f":"IF(E29=\"\",\"\",IF(③選手情報入力!O38=\"\",\"\",IF(I29=1,VLOOKUP(③選手情報入力!O38,種目情報!$A$4:$C$39,3,FALSE),VLOOKUP(③選手情報入力!O38,種目情報!$E$4:$G$40,3,FALSE))))","v":""},{"$f":"IF(E29=\"\",\"\",IF(③選手情報入力!Q38=\"\",\"\",IF(I29=1,種目情報!$J$4,種目情報!$J$6)))","v":""},{"$f":"IF(E29=\"\",\"\",IF(③選手情報入力!Q38=\"\",\"\",IF(I29=1,IF(③選手情報入力!$R$6=\"\",\"\",③選手情報入力!$R$6),IF(③選手情報入力!$R$7=\"\",\"\",③選手情報入力!$R$7))))","v":""},{"$f":"IF(E29=\"\",\"\",IF(③選手情報入力!Q38=\"\",\"\",IF(I29=1,IF(③選手情報入力!$Q$6=\"\",0,1),IF(③選手情報入力!$Q$7=\"\",0,1))))","v":""},{"$f":"IF(E29=\"\",\"\",IF(③選手情報入力!Q38=\"\",\"\",2))","v":""},{"$f":"IF(E29=\"\",\"\",IF(③選手情報入力!S38=\"\",\"\",IF(I29=1,種目情報!$J$5,種目情報!$J$7)))","v":""},{"$f":"IF(E29=\"\",\"\",IF(③選手情報入力!S38=\"\",\"\",IF(I29=1,IF(③選手情報入力!$T$6=\"\",\"\",③選手情報入力!$T$6),IF(③選手情報入力!$T$7=\"\",\"\",③選手情報入力!$T$7))))","v":""},{"$f":"IF(E29=\"\",\"\",IF(③選手情報入力!S38=\"\",\"\",IF(I29=1,IF(③選手情報入力!$S$6=\"\",0,1),IF(③選手情報入力!$S$7=\"\",0,1))))","v":""},{"$f":"IF(E29=\"\",\"\",IF(③選手情報入力!S38=\"\",\"\",2))","v":""}]
[{"$f":"IF(E30=\"\",\"\",IF(①データ貼付け!B30=\"\",I31*1000000+②団体情報入力!$D$3*1000+③選手情報入力!A39,①データ貼付け!B30))","v":""},{"$f":"IF(E30=\"\",\"\",②団体情報入力!$D$3)","v":""},null,{"$f":"IF(③選手情報入力!B39=\"\",\"\",LEFT(Sheet2!B30,2))","v":""},{"$f":"IF(③選手情報入力!B39=\"\",\"\",REPLACE(Sheet2!B30,1,2,\"\"))","v":""},{"$f":"IF(E30=\"\",\"\",③選手情報入力!C39)","v":""},{"$f":"IF(E30=\"\",\"\",③選手情報入力!D39)","v":""},"",{"$f":"IF(E30=\"\",\"\",IF(③選手情報入力!F39=\"男\",1,2))","v":""},{"$f":"IF(E30=\"\",\"\",IF(③選手情報入力!G39=\"\",\"\",③選手情報入力!G39))","v":""},null,"","",null,{"$f":"IF(E30=\"\",\"\",IF(③選手情報入力!I39=\"\",\"\",IF(I30=1,VLOOKUP(③選手情報入力!I39,種目情報!$A$4:$B$35,2,FALSE),VLOOKUP(③選手情報入力!I39,種目情報!$E$4:$F$35,2,FALSE))))","v":""},{"$f":"IF(E30=\"\",\"\",IF(③選手情報入力!J39=\"\",\"\",③選手情報入力!J39))","v":""},{"$f":"IF(E30=\"\",\"\",IF(③選手情報入力!H39=\"\",0,1))","v":""},{"$f":"IF(E30=\"\",\"\",IF(③選手情報入力!I39=\"\",\"\",IF(I30=1,VLOOKUP(③選手情報入力!I39,種目情報!$A$4:$C$39,3,FALSE),VLOOKUP(③選手情報入力!I39,種目情報!$E$4:$G$40,3,FALSE))))","v":""},{"$f":"IF(E30=\"\",\"\",IF(③選手情報入力!L39=\"\",\"\",IF(I30=1,VLOOKUP(③選手情報入力!L39,種目情報!$A$4:$B$39,2,FALSE),VLOOKUP(③選手情報入力!L39,種目情報!$E$4:$F$40,2,FALSE))))","v":""},{"$f":"IF(E30=\"\",\"\",IF(③選手情報入力!M39=\"\",\"\",③選手情報入力!M39))","v":""},{"$f":"IF(E30=\"\",\"\",IF(③選手情報入力!K39=\"\",0,1))","v":""},{"$f":"IF(E30=\"\",\"\",IF(③選手情報入力!L39=\"\",\"\",IF(I30=1,VLOOKUP(③選手情報入力!L39,種目情報!$A$4:$C$39,3,FALSE),VLOOKUP(③選手情報入力!L39,種目情報!$E$4:$G$40,3,FALSE))))","v":""},{"$f":"IF(E30=\"\",\"\",IF(③選手情報入力!O39=\"\",\"\",IF(I30=1,VLOOKUP(③選手情報入力!O39,種目情報!$A$4:$B$39,2,FALSE),VLOOKUP(③選手情報入力!O39,種目情報!$E$4:$F$40,2,FALSE))))","v":""},{"$f":"IF(E30=\"\",\"\",IF(③選手情報入力!P39=\"\",\"\",③選手情報入力!P39))","v":""},{"$f":"IF(E30=\"\",\"\",IF(③選手情報入力!N39=\"\",0,1))","v":""},{"$f":"IF(E30=\"\",\"\",IF(③選手情報入力!O39=\"\",\"\",IF(I30=1,VLOOKUP(③選手情報入力!O39,種目情報!$A$4:$C$39,3,FALSE),VLOOKUP(③選手情報入力!O39,種目情報!$E$4:$G$40,3,FALSE))))","v":""},{"$f":"IF(E30=\"\",\"\",IF(③選手情報入力!Q39=\"\",\"\",IF(I30=1,種目情報!$J$4,種目情報!$J$6)))","v":""},{"$f":"IF(E30=\"\",\"\",IF(③選手情報入力!Q39=\"\",\"\",IF(I30=1,IF(③選手情報入力!$R$6=\"\",\"\",③選手情報入力!$R$6),IF(③選手情報入力!$R$7=\"\",\"\",③選手情報入力!$R$7))))","v":""},{"$f":"IF(E30=\"\",\"\",IF(③選手情報入力!Q39=\"\",\"\",IF(I30=1,IF(③選手情報入力!$Q$6=\"\",0,1),IF(③選手情報入力!$Q$7=\"\",0,1))))","v":""},{"$f":"IF(E30=\"\",\"\",IF(③選手情報入力!Q39=\"\",\"\",2))","v":""},{"$f":"IF(E30=\"\",\"\",IF(③選手情報入力!S39=\"\",\"\",IF(I30=1,種目情報!$J$5,種目情報!$J$7)))","v":""},{"$f":"IF(E30=\"\",\"\",IF(③選手情報入力!S39=\"\",\"\",IF(I30=1,IF(③選手情報入力!$T$6=\"\",\"\",③選手情報入力!$T$6),IF(③選手情報入力!$T$7=\"\",\"\",③選手情報入力!$T$7))))","v":""},{"$f":"IF(E30=\"\",\"\",IF(③選手情報入力!S39=\"\",\"\",IF(I30=1,IF(③選手情報入力!$S$6=\"\",0,1),IF(③選手情報入力!$S$7=\"\",0,1))))","v":""},{"$f":"IF(E30=\"\",\"\",IF(③選手情報入力!S39=\"\",\"\",2))","v":""}]
[{"$f":"IF(E31=\"\",\"\",IF(①データ貼付け!B31=\"\",I32*1000000+②団体情報入力!$D$3*1000+③選手情報入力!A40,①データ貼付け!B31))","v":""},{"$f":"IF(E31=\"\",\"\",②団体情報入力!$D$3)","v":""},null,{"$f":"IF(③選手情報入力!B40=\"\",\"\",LEFT(Sheet2!B31,2))","v":""},{"$f":"IF(③選手情報入力!B40=\"\",\"\",REPLACE(Sheet2!B31,1,2,\"\"))","v":""},{"$f":"IF(E31=\"\",\"\",③選手情報入力!C40)","v":""},{"$f":"IF(E31=\"\",\"\",③選手情報入力!D40)","v":""},"",{"$f":"IF(E31=\"\",\"\",IF(③選手情報入力!F40=\"男\",1,2))","v":""},{"$f":"IF(E31=\"\",\"\",IF(③選手情報入力!G40=\"\",\"\",③選手情報入力!G40))","v":""},null,"","",null,{"$f":"IF(E31=\"\",\"\",IF(③選手情報入力!I40=\"\",\"\",IF(I31=1,VLOOKUP(③選手情報入力!I40,種目情報!$A$4:$B$35,2,FALSE),VLOOKUP(③選手情報入力!I40,種目情報!$E$4:$F$35,2,FALSE))))","v":""},{"$f":"IF(E31=\"\",\"\",IF(③選手情報入力!J40=\"\",\"\",③選手情報入力!J40))","v":""},{"$f":"IF(E31=\"\",\"\",IF(③選手情報入力!H40=\"\",0,1))","v":""},{"$f":"IF(E31=\"\",\"\",IF(③選手情報入力!I40=\"\",\"\",IF(I31=1,VLOOKUP(③選手情報入力!I40,種目情報!$A$4:$C$39,3,FALSE),VLOOKUP(③選手情報入力!I40,種目情報!$E$4:$G$40,3,FALSE))))","v":""},{"$f":"IF(E31=\"\",\"\",IF(③選手情報入力!L40=\"\",\"\",IF(I31=1,VLOOKUP(③選手情報入力!L40,種目情報!$A$4:$B$39,2,FALSE),VLOOKUP(③選手情報入力!L40,種目情報!$E$4:$F$40,2,FALSE))))","v":""},{"$f":"IF(E31=\"\",\"\",IF(③選手情報入力!M40=\"\",\"\",③選手情報入力!M40))","v":""},{"$f":"IF(E31=\"\",\"\",IF(③選手情報入力!K40=\"\",0,1))","v":""},{"$f":"IF(E31=\"\",\"\",IF(③選手情報入力!L40=\"\",\"\",IF(I31=1,VLOOKUP(③選手情報入力!L40,種目情報!$A$4:$C$39,3,FALSE),VLOOKUP(③選手情報入力!L40,種目情報!$E$4:$G$40,3,FALSE))))","v":""},{"$f":"IF(E31=\"\",\"\",IF(③選手情報入力!O40=\"\",\"\",IF(I31=1,VLOOKUP(③選手情報入力!O40,種目情報!$A$4:$B$39,2,FALSE),VLOOKUP(③選手情報入力!O40,種目情報!$E$4:$F$40,2,FALSE))))","v":""},{"$f":"IF(E31=\"\",\"\",IF(③選手情報入力!P40=\"\",\"\",③選手情報入力!P40))","v":""},{"$f":"IF(E31=\"\",\"\",IF(③選手情報入力!N40=\"\",0,1))","v":""},{"$f":"IF(E31=\"\",\"\",IF(③選手情報入力!O40=\"\",\"\",IF(I31=1,VLOOKUP(③選手情報入力!O40,種目情報!$A$4:$C$39,3,FALSE),VLOOKUP(③選手情報入力!O40,種目情報!$E$4:$G$40,3,FALSE))))","v":""},{"$f":"IF(E31=\"\",\"\",IF(③選手情報入力!Q40=\"\",\"\",IF(I31=1,種目情報!$J$4,種目情報!$J$6)))","v":""},{"$f":"IF(E31=\"\",\"\",IF(③選手情報入力!Q40=\"\",\"\",IF(I31=1,IF(③選手情報入力!$R$6=\"\",\"\",③選手情報入力!$R$6),IF(③選手情報入力!$R$7=\"\",\"\",③選手情報入力!$R$7))))","v":""},{"$f":"IF(E31=\"\",\"\",IF(③選手情報入力!Q40=\"\",\"\",IF(I31=1,IF(③選手情報入力!$Q$6=\"\",0,1),IF(③選手情報入力!$Q$7=\"\",0,1))))","v":""},{"$f":"IF(E31=\"\",\"\",IF(③選手情報入力!Q40=\"\",\"\",2))","v":""},{"$f":"IF(E31=\"\",\"\",IF(③選手情報入力!S40=\"\",\"\",IF(I31=1,種目情報!$J$5,種目情報!$J$7)))","v":""},{"$f":"IF(E31=\"\",\"\",IF(③選手情報入力!S40=\"\",\"\",IF(I31=1,IF(③選手情報入力!$T$6=\"\",\"\",③選手情報入力!$T$6),IF(③選手情報入力!$T$7=\"\",\"\",③選手情報入力!$T$7))))","v":""},{"$f":"IF(E31=\"\",\"\",IF(③選手情報入力!S40=\"\",\"\",IF(I31=1,IF(③選手情報入力!$S$6=\"\",0,1),IF(③選手情報入力!$S$7=\"\",0,1))))","v":""},{"$f":"IF(E31=\"\",\"\",IF(③選手情報入力!S40=\"\",\"\",2))","v":""}]
[{"$f":"IF(E32=\"\",\"\",IF(①データ貼付け!B32=\"\",I33*1000000+②団体情報入力!$D$3*1000+③選手情報入力!A41,①データ貼付け!B32))","v":""},{"$f":"IF(E32=\"\",\"\",②団体情報入力!$D$3)","v":""},null,{"$f":"IF(③選手情報入力!B41=\"\",\"\",LEFT(Sheet2!B32,2))","v":""},{"$f":"IF(③選手情報入力!B41=\"\",\"\",REPLACE(Sheet2!B32,1,2,\"\"))","v":""},{"$f":"IF(E32=\"\",\"\",③選手情報入力!C41)","v":""},{"$f":"IF(E32=\"\",\"\",③選手情報入力!D41)","v":""},"",{"$f":"IF(E32=\"\",\"\",IF(③選手情報入力!F41=\"男\",1,2))","v":""},{"$f":"IF(E32=\"\",\"\",IF(③選手情報入力!G41=\"\",\"\",③選手情報入力!G41))","v":""},null,"","",null,{"$f":"IF(E32=\"\",\"\",IF(③選手情報入力!I41=\"\",\"\",IF(I32=1,VLOOKUP(③選手情報入力!I41,種目情報!$A$4:$B$35,2,FALSE),VLOOKUP(③選手情報入力!I41,種目情報!$E$4:$F$35,2,FALSE))))","v":""},{"$f":"IF(E32=\"\",\"\",IF(③選手情報入力!J41=\"\",\"\",③選手情報入力!J41))","v":""},{"$f":"IF(E32=\"\",\"\",IF(③選手情報入力!H41=\"\",0,1))","v":""},{"$f":"IF(E32=\"\",\"\",IF(③選手情報入力!I41=\"\",\"\",IF(I32=1,VLOOKUP(③選手情報入力!I41,種目情報!$A$4:$C$39,3,FALSE),VLOOKUP(③選手情報入力!I41,種目情報!$E$4:$G$40,3,FALSE))))","v":""},{"$f":"IF(E32=\"\",\"\",IF(③選手情報入力!L41=\"\",\"\",IF(I32=1,VLOOKUP(③選手情報入力!L41,種目情報!$A$4:$B$39,2,FALSE),VLOOKUP(③選手情報入力!L41,種目情報!$E$4:$F$40,2,FALSE))))","v":""},{"$f":"IF(E32=\"\",\"\",IF(③選手情報入力!M41=\"\",\"\",③選手情報入力!M41))","v":""},{"$f":"IF(E32=\"\",\"\",IF(③選手情報入力!K41=\"\",0,1))","v":""},{"$f":"IF(E32=\"\",\"\",IF(③選手情報入力!L41=\"\",\"\",IF(I32=1,VLOOKUP(③選手情報入力!L41,種目情報!$A$4:$C$39,3,FALSE),VLOOKUP(③選手情報入力!L41,種目情報!$E$4:$G$40,3,FALSE))))","v":""},{"$f":"IF(E32=\"\",\"\",IF(③選手情報入力!O41=\"\",\"\",IF(I32=1,VLOOKUP(③選手情報入力!O41,種目情報!$A$4:$B$39,2,FALSE),VLOOKUP(③選手情報入力!O41,種目情報!$E$4:$F$40,2,FALSE))))","v":""},{"$f":"IF(E32=\"\",\"\",IF(③選手情報入力!P41=\"\",\"\",③選手情報入力!P41))","v":""},{"$f":"IF(E32=\"\",\"\",IF(③選手情報入力!N41=\"\",0,1))","v":""},{"$f":"IF(E32=\"\",\"\",IF(③選手情報入力!O41=\"\",\"\",IF(I32=1,VLOOKUP(③選手情報入力!O41,種目情報!$A$4:$C$39,3,FALSE),VLOOKUP(③選手情報入力!O41,種目情報!$E$4:$G$40,3,FALSE))))","v":""},{"$f":"IF(E32=\"\",\"\",IF(③選手情報入力!Q41=\"\",\"\",IF(I32=1,種目情報!$J$4,種目情報!$J$6)))","v":""},{"$f":"IF(E32=\"\",\"\",IF(③選手情報入力!Q41=\"\",\"\",IF(I32=1,IF(③選手情報入力!$R$6=\"\",\"\",③選手情報入力!$R$6),IF(③選手情報入力!$R$7=\"\",\"\",③選手情報入力!$R$7))))","v":""},{"$f":"IF(E32=\"\",\"\",IF(③選手情報入力!Q41=\"\",\"\",IF(I32=1,IF(③選手情報入力!$Q$6=\"\",0,1),IF(③選手情報入力!$Q$7=\"\",0,1))))","v":""},{"$f":"IF(E32=\"\",\"\",IF(③選手情報入力!Q41=\"\",\"\",2))","v":""},{"$f":"IF(E32=\"\",\"\",IF(③選手情報入力!S41=\"\",\"\",IF(I32=1,種目情報!$J$5,種目情報!$J$7)))","v":""},{"$f":"IF(E32=\"\",\"\",IF(③選手情報入力!S41=\"\",\"\",IF(I32=1,IF(③選手情報入力!$T$6=\"\",\"\",③選手情報入力!$T$6),IF(③選手情報入力!$T$7=\"\",\"\",③選手情報入力!$T$7))))","v":""},{"$f":"IF(E32=\"\",\"\",IF(③選手情報入力!S41=\"\",\"\",IF(I32=1,IF(③選手情報入力!$S$6=\"\",0,1),IF(③選手情報入力!$S$7=\"\",0,1))))","v":""},{"$f":"IF(E32=\"\",\"\",IF(③選手情報入力!S41=\"\",\"\",2))","v":""}]
[{"$f":"IF(E33=\"\",\"\",IF(①データ貼付け!B33=\"\",I34*1000000+②団体情報入力!$D$3*1000+③選手情報入力!A42,①データ貼付け!B33))","v":""},{"$f":"IF(E33=\"\",\"\",②団体情報入力!$D$3)","v":""},null,{"$f":"IF(③選手情報入力!B42=\"\",\"\",LEFT(Sheet2!B33,2))","v":""},{"$f":"IF(③選手情報入力!B42=\"\",\"\",REPLACE(Sheet2!B33,1,2,\"\"))","v":""},{"$f":"IF(E33=\"\",\"\",③選手情報入力!C42)","v":""},{"$f":"IF(E33=\"\",\"\",③選手情報入力!D42)","v":""},"",{"$f":"IF(E33=\"\",\"\",IF(③選手情報入力!F42=\"男\",1,2))","v":""},{"$f":"IF(E33=\"\",\"\",IF(③選手情報入力!G42=\"\",\"\",③選手情報入力!G42))","v":""},null,"","",null,{"$f":"IF(E33=\"\",\"\",IF(③選手情報入力!I42=\"\",\"\",IF(I33=1,VLOOKUP(③選手情報入力!I42,種目情報!$A$4:$B$35,2,FALSE),VLOOKUP(③選手情報入力!I42,種目情報!$E$4:$F$35,2,FALSE))))","v":""},{"$f":"IF(E33=\"\",\"\",IF(③選手情報入力!J42=\"\",\"\",③選手情報入力!J42))","v":""},{"$f":"IF(E33=\"\",\"\",IF(③選手情報入力!H42=\"\",0,1))","v":""},{"$f":"IF(E33=\"\",\"\",IF(③選手情報入力!I42=\"\",\"\",IF(I33=1,VLOOKUP(③選手情報入力!I42,種目情報!$A$4:$C$39,3,FALSE),VLOOKUP(③選手情報入力!I42,種目情報!$E$4:$G$40,3,FALSE))))","v":""},{"$f":"IF(E33=\"\",\"\",IF(③選手情報入力!L42=\"\",\"\",IF(I33=1,VLOOKUP(③選手情報入力!L42,種目情報!$A$4:$B$39,2,FALSE),VLOOKUP(③選手情報入力!L42,種目情報!$E$4:$F$40,2,FALSE))))","v":""},{"$f":"IF(E33=\"\",\"\",IF(③選手情報入力!M42=\"\",\"\",③選手情報入力!M42))","v":""},{"$f":"IF(E33=\"\",\"\",IF(③選手情報入力!K42=\"\",0,1))","v":""},{"$f":"IF(E33=\"\",\"\",IF(③選手情報入力!L42=\"\",\"\",IF(I33=1,VLOOKUP(③選手情報入力!L42,種目情報!$A$4:$C$39,3,FALSE),VLOOKUP(③選手情報入力!L42,種目情報!$E$4:$G$40,3,FALSE))))","v":""},{"$f":"IF(E33=\"\",\"\",IF(③選手情報入力!O42=\"\",\"\",IF(I33=1,VLOOKUP(③選手情報入力!O42,種目情報!$A$4:$B$39,2,FALSE),VLOOKUP(③選手情報入力!O42,種目情報!$E$4:$F$40,2,FALSE))))","v":""},{"$f":"IF(E33=\"\",\"\",IF(③選手情報入力!P42=\"\",\"\",③選手情報入力!P42))","v":""},{"$f":"IF(E33=\"\",\"\",IF(③選手情報入力!N42=\"\",0,1))","v":""},{"$f":"IF(E33=\"\",\"\",IF(③選手情報入力!O42=\"\",\"\",IF(I33=1,VLOOKUP(③選手情報入力!O42,種目情報!$A$4:$C$39,3,FALSE),VLOOKUP(③選手情報入力!O42,種目情報!$E$4:$G$40,3,FALSE))))","v":""},{"$f":"IF(E33=\"\",\"\",IF(③選手情報入力!Q42=\"\",\"\",IF(I33=1,種目情報!$J$4,種目情報!$J$6)))","v":""},{"$f":"IF(E33=\"\",\"\",IF(③選手情報入力!Q42=\"\",\"\",IF(I33=1,IF(③選手情報入力!$R$6=\"\",\"\",③選手情報入力!$R$6),IF(③選手情報入力!$R$7=\"\",\"\",③選手情報入力!$R$7))))","v":""},{"$f":"IF(E33=\"\",\"\",IF(③選手情報入力!Q42=\"\",\"\",IF(I33=1,IF(③選手情報入力!$Q$6=\"\",0,1),IF(③選手情報入力!$Q$7=\"\",0,1))))","v":""},{"$f":"IF(E33=\"\",\"\",IF(③選手情報入力!Q42=\"\",\"\",2))","v":""},{"$f":"IF(E33=\"\",\"\",IF(③選手情報入力!S42=\"\",\"\",IF(I33=1,種目情報!$J$5,種目情報!$J$7)))","v":""},{"$f":"IF(E33=\"\",\"\",IF(③選手情報入力!S42=\"\",\"\",IF(I33=1,IF(③選手情報入力!$T$6=\"\",\"\",③選手情報入力!$T$6),IF(③選手情報入力!$T$7=\"\",\"\",③選手情報入力!$T$7))))","v":""},{"$f":"IF(E33=\"\",\"\",IF(③選手情報入力!S42=\"\",\"\",IF(I33=1,IF(③選手情報入力!$S$6=\"\",0,1),IF(③選手情報入力!$S$7=\"\",0,1))))","v":""},{"$f":"IF(E33=\"\",\"\",IF(③選手情報入力!S42=\"\",\"\",2))","v":""}]
[{"$f":"IF(E34=\"\",\"\",IF(①データ貼付け!B34=\"\",I35*1000000+②団体情報入力!$D$3*1000+③選手情報入力!A43,①データ貼付け!B34))","v":""},{"$f":"IF(E34=\"\",\"\",②団体情報入力!$D$3)","v":""},null,{"$f":"IF(③選手情報入力!B43=\"\",\"\",LEFT(Sheet2!B34,2))","v":""},{"$f":"IF(③選手情報入力!B43=\"\",\"\",REPLACE(Sheet2!B34,1,2,\"\"))","v":""},{"$f":"IF(E34=\"\",\"\",③選手情報入力!C43)","v":""},{"$f":"IF(E34=\"\",\"\",③選手情報入力!D43)","v":""},"",{"$f":"IF(E34=\"\",\"\",IF(③選手情報入力!F43=\"男\",1,2))","v":""},{"$f":"IF(E34=\"\",\"\",IF(③選手情報入力!G43=\"\",\"\",③選手情報入力!G43))","v":""},null,"","",null,{"$f":"IF(E34=\"\",\"\",IF(③選手情報入力!I43=\"\",\"\",IF(I34=1,VLOOKUP(③選手情報入力!I43,種目情報!$A$4:$B$35,2,FALSE),VLOOKUP(③選手情報入力!I43,種目情報!$E$4:$F$35,2,FALSE))))","v":""},{"$f":"IF(E34=\"\",\"\",IF(③選手情報入力!J43=\"\",\"\",③選手情報入力!J43))","v":""},{"$f":"IF(E34=\"\",\"\",IF(③選手情報入力!H43=\"\",0,1))","v":""},{"$f":"IF(E34=\"\",\"\",IF(③選手情報入力!I43=\"\",\"\",IF(I34=1,VLOOKUP(③選手情報入力!I43,種目情報!$A$4:$C$39,3,FALSE),VLOOKUP(③選手情報入力!I43,種目情報!$E$4:$G$40,3,FALSE))))","v":""},{"$f":"IF(E34=\"\",\"\",IF(③選手情報入力!L43=\"\",\"\",IF(I34=1,VLOOKUP(③選手情報入力!L43,種目情報!$A$4:$B$39,2,FALSE),VLOOKUP(③選手情報入力!L43,種目情報!$E$4:$F$40,2,FALSE))))","v":""},{"$f":"IF(E34=\"\",\"\",IF(③選手情報入力!M43=\"\",\"\",③選手情報入力!M43))","v":""},{"$f":"IF(E34=\"\",\"\",IF(③選手情報入力!K43=\"\",0,1))","v":""},{"$f":"IF(E34=\"\",\"\",IF(③選手情報入力!L43=\"\",\"\",IF(I34=1,VLOOKUP(③選手情報入力!L43,種目情報!$A$4:$C$39,3,FALSE),VLOOKUP(③選手情報入力!L43,種目情報!$E$4:$G$40,3,FALSE))))","v":""},{"$f":"IF(E34=\"\",\"\",IF(③選手情報入力!O43=\"\",\"\",IF(I34=1,VLOOKUP(③選手情報入力!O43,種目情報!$A$4:$B$39,2,FALSE),VLOOKUP(③選手情報入力!O43,種目情報!$E$4:$F$40,2,FALSE))))","v":""},{"$f":"IF(E34=\"\",\"\",IF(③選手情報入力!P43=\"\",\"\",③選手情報入力!P43))","v":""},{"$f":"IF(E34=\"\",\"\",IF(③選手情報入力!N43=\"\",0,1))","v":""},{"$f":"IF(E34=\"\",\"\",IF(③選手情報入力!O43=\"\",\"\",IF(I34=1,VLOOKUP(③選手情報入力!O43,種目情報!$A$4:$C$39,3,FALSE),VLOOKUP(③選手情報入力!O43,種目情報!$E$4:$G$40,3,FALSE))))","v":""},{"$f":"IF(E34=\"\",\"\",IF(③選手情報入力!Q43=\"\",\"\",IF(I34=1,種目情報!$J$4,種目情報!$J$6)))","v":""},{"$f":"IF(E34=\"\",\"\",IF(③選手情報入力!Q43=\"\",\"\",IF(I34=1,IF(③選手情報入力!$R$6=\"\",\"\",③選手情報入力!$R$6),IF(③選手情報入力!$R$7=\"\",\"\",③選手情報入力!$R$7))))","v":""},{"$f":"IF(E34=\"\",\"\",IF(③選手情報入力!Q43=\"\",\"\",IF(I34=1,IF(③選手情報入力!$Q$6=\"\",0,1),IF(③選手情報入力!$Q$7=\"\",0,1))))","v":""},{"$f":"IF(E34=\"\",\"\",IF(③選手情報入力!Q43=\"\",\"\",2))","v":""},{"$f":"IF(E34=\"\",\"\",IF(③選手情報入力!S43=\"\",\"\",IF(I34=1,種目情報!$J$5,種目情報!$J$7)))","v":""},{"$f":"IF(E34=\"\",\"\",IF(③選手情報入力!S43=\"\",\"\",IF(I34=1,IF(③選手情報入力!$T$6=\"\",\"\",③選手情報入力!$T$6),IF(③選手情報入力!$T$7=\"\",\"\",③選手情報入力!$T$7))))","v":""},{"$f":"IF(E34=\"\",\"\",IF(③選手情報入力!S43=\"\",\"\",IF(I34=1,IF(③選手情報入力!$S$6=\"\",0,1),IF(③選手情報入力!$S$7=\"\",0,1))))","v":""},{"$f":"IF(E34=\"\",\"\",IF(③選手情報入力!S43=\"\",\"\",2))","v":""}]
[{"$f":"IF(E35=\"\",\"\",IF(①データ貼付け!B35=\"\",I36*1000000+②団体情報入力!$D$3*1000+③選手情報入力!A44,①データ貼付け!B35))","v":""},{"$f":"IF(E35=\"\",\"\",②団体情報入力!$D$3)","v":""},null,{"$f":"IF(③選手情報入力!B44=\"\",\"\",LEFT(Sheet2!B35,2))","v":""},{"$f":"IF(③選手情報入力!B44=\"\",\"\",REPLACE(Sheet2!B35,1,2,\"\"))","v":""},{"$f":"IF(E35=\"\",\"\",③選手情報入力!C44)","v":""},{"$f":"IF(E35=\"\",\"\",③選手情報入力!D44)","v":""},"",{"$f":"IF(E35=\"\",\"\",IF(③選手情報入力!F44=\"男\",1,2))","v":""},{"$f":"IF(E35=\"\",\"\",IF(③選手情報入力!G44=\"\",\"\",③選手情報入力!G44))","v":""},null,"","",null,{"$f":"IF(E35=\"\",\"\",IF(③選手情報入力!I44=\"\",\"\",IF(I35=1,VLOOKUP(③選手情報入力!I44,種目情報!$A$4:$B$35,2,FALSE),VLOOKUP(③選手情報入力!I44,種目情報!$E$4:$F$35,2,FALSE))))","v":""},{"$f":"IF(E35=\"\",\"\",IF(③選手情報入力!J44=\"\",\"\",③選手情報入力!J44))","v":""},{"$f":"IF(E35=\"\",\"\",IF(③選手情報入力!H44=\"\",0,1))","v":""},{"$f":"IF(E35=\"\",\"\",IF(③選手情報入力!I44=\"\",\"\",IF(I35=1,VLOOKUP(③選手情報入力!I44,種目情報!$A$4:$C$39,3,FALSE),VLOOKUP(③選手情報入力!I44,種目情報!$E$4:$G$40,3,FALSE))))","v":""},{"$f":"IF(E35=\"\",\"\",IF(③選手情報入力!L44=\"\",\"\",IF(I35=1,VLOOKUP(③選手情報入力!L44,種目情報!$A$4:$B$39,2,FALSE),VLOOKUP(③選手情報入力!L44,種目情報!$E$4:$F$40,2,FALSE))))","v":""},{"$f":"IF(E35=\"\",\"\",IF(③選手情報入力!M44=\"\",\"\",③選手情報入力!M44))","v":""},{"$f":"IF(E35=\"\",\"\",IF(③選手情報入力!K44=\"\",0,1))","v":""},{"$f":"IF(E35=\"\",\"\",IF(③選手情報入力!L44=\"\",\"\",IF(I35=1,VLOOKUP(③選手情報入力!L44,種目情報!$A$4:$C$39,3,FALSE),VLOOKUP(③選手情報入力!L44,種目情報!$E$4:$G$40,3,FALSE))))","v":""},{"$f":"IF(E35=\"\",\"\",IF(③選手情報入力!O44=\"\",\"\",IF(I35=1,VLOOKUP(③選手情報入力!O44,種目情報!$A$4:$B$39,2,FALSE),VLOOKUP(③選手情報入力!O44,種目情報!$E$4:$F$40,2,FALSE))))","v":""},{"$f":"IF(E35=\"\",\"\",IF(③選手情報入力!P44=\"\",\"\",③選手情報入力!P44))","v":""},{"$f":"IF(E35=\"\",\"\",IF(③選手情報入力!N44=\"\",0,1))","v":""},{"$f":"IF(E35=\"\",\"\",IF(③選手情報入力!O44=\"\",\"\",IF(I35=1,VLOOKUP(③選手情報入力!O44,種目情報!$A$4:$C$39,3,FALSE),VLOOKUP(③選手情報入力!O44,種目情報!$E$4:$G$40,3,FALSE))))","v":""},{"$f":"IF(E35=\"\",\"\",IF(③選手情報入力!Q44=\"\",\"\",IF(I35=1,種目情報!$J$4,種目情報!$J$6)))","v":""},{"$f":"IF(E35=\"\",\"\",IF(③選手情報入力!Q44=\"\",\"\",IF(I35=1,IF(③選手情報入力!$R$6=\"\",\"\",③選手情報入力!$R$6),IF(③選手情報入力!$R$7=\"\",\"\",③選手情報入力!$R$7))))","v":""},{"$f":"IF(E35=\"\",\"\",IF(③選手情報入力!Q44=\"\",\"\",IF(I35=1,IF(③選手情報入力!$Q$6=\"\",0,1),IF(③選手情報入力!$Q$7=\"\",0,1))))","v":""},{"$f":"IF(E35=\"\",\"\",IF(③選手情報入力!Q44=\"\",\"\",2))","v":""},{"$f":"IF(E35=\"\",\"\",IF(③選手情報入力!S44=\"\",\"\",IF(I35=1,種目情報!$J$5,種目情報!$J$7)))","v":""},{"$f":"IF(E35=\"\",\"\",IF(③選手情報入力!S44=\"\",\"\",IF(I35=1,IF(③選手情報入力!$T$6=\"\",\"\",③選手情報入力!$T$6),IF(③選手情報入力!$T$7=\"\",\"\",③選手情報入力!$T$7))))","v":""},{"$f":"IF(E35=\"\",\"\",IF(③選手情報入力!S44=\"\",\"\",IF(I35=1,IF(③選手情報入力!$S$6=\"\",0,1),IF(③選手情報入力!$S$7=\"\",0,1))))","v":""},{"$f":"IF(E35=\"\",\"\",IF(③選手情報入力!S44=\"\",\"\",2))","v":""}]
[{"$f":"IF(E36=\"\",\"\",IF(①データ貼付け!B36=\"\",I37*1000000+②団体情報入力!$D$3*1000+③選手情報入力!A45,①データ貼付け!B36))","v":""},{"$f":"IF(E36=\"\",\"\",②団体情報入力!$D$3)","v":""},null,{"$f":"IF(③選手情報入力!B45=\"\",\"\",LEFT(Sheet2!B36,2))","v":""},{"$f":"IF(③選手情報入力!B45=\"\",\"\",REPLACE(Sheet2!B36,1,2,\"\"))","v":""},{"$f":"IF(E36=\"\",\"\",③選手情報入力!C45)","v":""},{"$f":"IF(E36=\"\",\"\",③選手情報入力!D45)","v":""},"",{"$f":"IF(E36=\"\",\"\",IF(③選手情報入力!F45=\"男\",1,2))","v":""},{"$f":"IF(E36=\"\",\"\",IF(③選手情報入力!G45=\"\",\"\",③選手情報入力!G45))","v":""},null,"","",null,{"$f":"IF(E36=\"\",\"\",IF(③選手情報入力!I45=\"\",\"\",IF(I36=1,VLOOKUP(③選手情報入力!I45,種目情報!$A$4:$B$35,2,FALSE),VLOOKUP(③選手情報入力!I45,種目情報!$E$4:$F$35,2,FALSE))))","v":""},{"$f":"IF(E36=\"\",\"\",IF(③選手情報入力!J45=\"\",\"\",③選手情報入力!J45))","v":""},{"$f":"IF(E36=\"\",\"\",IF(③選手情報入力!H45=\"\",0,1))","v":""},{"$f":"IF(E36=\"\",\"\",IF(③選手情報入力!I45=\"\",\"\",IF(I36=1,VLOOKUP(③選手情報入力!I45,種目情報!$A$4:$C$39,3,FALSE),VLOOKUP(③選手情報入力!I45,種目情報!$E$4:$G$40,3,FALSE))))","v":""},{"$f":"IF(E36=\"\",\"\",IF(③選手情報入力!L45=\"\",\"\",IF(I36=1,VLOOKUP(③選手情報入力!L45,種目情報!$A$4:$B$39,2,FALSE),VLOOKUP(③選手情報入力!L45,種目情報!$E$4:$F$40,2,FALSE))))","v":""},{"$f":"IF(E36=\"\",\"\",IF(③選手情報入力!M45=\"\",\"\",③選手情報入力!M45))","v":""},{"$f":"IF(E36=\"\",\"\",IF(③選手情報入力!K45=\"\",0,1))","v":""},{"$f":"IF(E36=\"\",\"\",IF(③選手情報入力!L45=\"\",\"\",IF(I36=1,VLOOKUP(③選手情報入力!L45,種目情報!$A$4:$C$39,3,FALSE),VLOOKUP(③選手情報入力!L45,種目情報!$E$4:$G$40,3,FALSE))))","v":""},{"$f":"IF(E36=\"\",\"\",IF(③選手情報入力!O45=\"\",\"\",IF(I36=1,VLOOKUP(③選手情報入力!O45,種目情報!$A$4:$B$39,2,FALSE),VLOOKUP(③選手情報入力!O45,種目情報!$E$4:$F$40,2,FALSE))))","v":""},{"$f":"IF(E36=\"\",\"\",IF(③選手情報入力!P45=\"\",\"\",③選手情報入力!P45))","v":""},{"$f":"IF(E36=\"\",\"\",IF(③選手情報入力!N45=\"\",0,1))","v":""},{"$f":"IF(E36=\"\",\"\",IF(③選手情報入力!O45=\"\",\"\",IF(I36=1,VLOOKUP(③選手情報入力!O45,種目情報!$A$4:$C$39,3,FALSE),VLOOKUP(③選手情報入力!O45,種目情報!$E$4:$G$40,3,FALSE))))","v":""},{"$f":"IF(E36=\"\",\"\",IF(③選手情報入力!Q45=\"\",\"\",IF(I36=1,種目情報!$J$4,種目情報!$J$6)))","v":""},{"$f":"IF(E36=\"\",\"\",IF(③選手情報入力!Q45=\"\",\"\",IF(I36=1,IF(③選手情報入力!$R$6=\"\",\"\",③選手情報入力!$R$6),IF(③選手情報入力!$R$7=\"\",\"\",③選手情報入力!$R$7))))","v":""},{"$f":"IF(E36=\"\",\"\",IF(③選手情報入力!Q45=\"\",\"\",IF(I36=1,IF(③選手情報入力!$Q$6=\"\",0,1),IF(③選手情報入力!$Q$7=\"\",0,1))))","v":""},{"$f":"IF(E36=\"\",\"\",IF(③選手情報入力!Q45=\"\",\"\",2))","v":""},{"$f":"IF(E36=\"\",\"\",IF(③選手情報入力!S45=\"\",\"\",IF(I36=1,種目情報!$J$5,種目情報!$J$7)))","v":""},{"$f":"IF(E36=\"\",\"\",IF(③選手情報入力!S45=\"\",\"\",IF(I36=1,IF(③選手情報入力!$T$6=\"\",\"\",③選手情報入力!$T$6),IF(③選手情報入力!$T$7=\"\",\"\",③選手情報入力!$T$7))))","v":""},{"$f":"IF(E36=\"\",\"\",IF(③選手情報入力!S45=\"\",\"\",IF(I36=1,IF(③選手情報入力!$S$6=\"\",0,1),IF(③選手情報入力!$S$7=\"\",0,1))))","v":""},{"$f":"IF(E36=\"\",\"\",IF(③選手情報入力!S45=\"\",\"\",2))","v":""}]
[{"$f":"IF(E37=\"\",\"\",IF(①データ貼付け!B37=\"\",I38*1000000+②団体情報入力!$D$3*1000+③選手情報入力!A46,①データ貼付け!B37))","v":""},{"$f":"IF(E37=\"\",\"\",②団体情報入力!$D$3)","v":""},null,{"$f":"IF(③選手情報入力!B46=\"\",\"\",LEFT(Sheet2!B37,2))","v":""},{"$f":"IF(③選手情報入力!B46=\"\",\"\",REPLACE(Sheet2!B37,1,2,\"\"))","v":""},{"$f":"IF(E37=\"\",\"\",③選手情報入力!C46)","v":""},{"$f":"IF(E37=\"\",\"\",③選手情報入力!D46)","v":""},"",{"$f":"IF(E37=\"\",\"\",IF(③選手情報入力!F46=\"男\",1,2))","v":""},{"$f":"IF(E37=\"\",\"\",IF(③選手情報入力!G46=\"\",\"\",③選手情報入力!G46))","v":""},null,"","",null,{"$f":"IF(E37=\"\",\"\",IF(③選手情報入力!I46=\"\",\"\",IF(I37=1,VLOOKUP(③選手情報入力!I46,種目情報!$A$4:$B$35,2,FALSE),VLOOKUP(③選手情報入力!I46,種目情報!$E$4:$F$35,2,FALSE))))","v":""},{"$f":"IF(E37=\"\",\"\",IF(③選手情報入力!J46=\"\",\"\",③選手情報入力!J46))","v":""},{"$f":"IF(E37=\"\",\"\",IF(③選手情報入力!H46=\"\",0,1))","v":""},{"$f":"IF(E37=\"\",\"\",IF(③選手情報入力!I46=\"\",\"\",IF(I37=1,VLOOKUP(③選手情報入力!I46,種目情報!$A$4:$C$39,3,FALSE),VLOOKUP(③選手情報入力!I46,種目情報!$E$4:$G$40,3,FALSE))))","v":""},{"$f":"IF(E37=\"\",\"\",IF(③選手情報入力!L46=\"\",\"\",IF(I37=1,VLOOKUP(③選手情報入力!L46,種目情報!$A$4:$B$39,2,FALSE),VLOOKUP(③選手情報入力!L46,種目情報!$E$4:$F$40,2,FALSE))))","v":""},{"$f":"IF(E37=\"\",\"\",IF(③選手情報入力!M46=\"\",\"\",③選手情報入力!M46))","v":""},{"$f":"IF(E37=\"\",\"\",IF(③選手情報入力!K46=\"\",0,1))","v":""},{"$f":"IF(E37=\"\",\"\",IF(③選手情報入力!L46=\"\",\"\",IF(I37=1,VLOOKUP(③選手情報入力!L46,種目情報!$A$4:$C$39,3,FALSE),VLOOKUP(③選手情報入力!L46,種目情報!$E$4:$G$40,3,FALSE))))","v":""},{"$f":"IF(E37=\"\",\"\",IF(③選手情報入力!O46=\"\",\"\",IF(I37=1,VLOOKUP(③選手情報入力!O46,種目情報!$A$4:$B$39,2,FALSE),VLOOKUP(③選手情報入力!O46,種目情報!$E$4:$F$40,2,FALSE))))","v":""},{"$f":"IF(E37=\"\",\"\",IF(③選手情報入力!P46=\"\",\"\",③選手情報入力!P46))","v":""},{"$f":"IF(E37=\"\",\"\",IF(③選手情報入力!N46=\"\",0,1))","v":""},{"$f":"IF(E37=\"\",\"\",IF(③選手情報入力!O46=\"\",\"\",IF(I37=1,VLOOKUP(③選手情報入力!O46,種目情報!$A$4:$C$39,3,FALSE),VLOOKUP(③選手情報入力!O46,種目情報!$E$4:$G$40,3,FALSE))))","v":""},{"$f":"IF(E37=\"\",\"\",IF(③選手情報入力!Q46=\"\",\"\",IF(I37=1,種目情報!$J$4,種目情報!$J$6)))","v":""},{"$f":"IF(E37=\"\",\"\",IF(③選手情報入力!Q46=\"\",\"\",IF(I37=1,IF(③選手情報入力!$R$6=\"\",\"\",③選手情報入力!$R$6),IF(③選手情報入力!$R$7=\"\",\"\",③選手情報入力!$R$7))))","v":""},{"$f":"IF(E37=\"\",\"\",IF(③選手情報入力!Q46=\"\",\"\",IF(I37=1,IF(③選手情報入力!$Q$6=\"\",0,1),IF(③選手情報入力!$Q$7=\"\",0,1))))","v":""},{"$f":"IF(E37=\"\",\"\",IF(③選手情報入力!Q46=\"\",\"\",2))","v":""},{"$f":"IF(E37=\"\",\"\",IF(③選手情報入力!S46=\"\",\"\",IF(I37=1,種目情報!$J$5,種目情報!$J$7)))","v":""},{"$f":"IF(E37=\"\",\"\",IF(③選手情報入力!S46=\"\",\"\",IF(I37=1,IF(③選手情報入力!$T$6=\"\",\"\",③選手情報入力!$T$6),IF(③選手情報入力!$T$7=\"\",\"\",③選手情報入力!$T$7))))","v":""},{"$f":"IF(E37=\"\",\"\",IF(③選手情報入力!S46=\"\",\"\",IF(I37=1,IF(③選手情報入力!$S$6=\"\",0,1),IF(③選手情報入力!$S$7=\"\",0,1))))","v":""},{"$f":"IF(E37=\"\",\"\",IF(③選手情報入力!S46=\"\",\"\",2))","v":""}]
[{"$f":"IF(E38=\"\",\"\",IF(①データ貼付け!B38=\"\",I39*1000000+②団体情報入力!$D$3*1000+③選手情報入力!A47,①データ貼付け!B38))","v":""},{"$f":"IF(E38=\"\",\"\",②団体情報入力!$D$3)","v":""},null,{"$f":"IF(③選手情報入力!B47=\"\",\"\",LEFT(Sheet2!B38,2))","v":""},{"$f":"IF(③選手情報入力!B47=\"\",\"\",REPLACE(Sheet2!B38,1,2,\"\"))","v":""},{"$f":"IF(E38=\"\",\"\",③選手情報入力!C47)","v":""},{"$f":"IF(E38=\"\",\"\",③選手情報入力!D47)","v":""},"",{"$f":"IF(E38=\"\",\"\",IF(③選手情報入力!F47=\"男\",1,2))","v":""},{"$f":"IF(E38=\"\",\"\",IF(③選手情報入力!G47=\"\",\"\",③選手情報入力!G47))","v":""},null,"","",null,{"$f":"IF(E38=\"\",\"\",IF(③選手情報入力!I47=\"\",\"\",IF(I38=1,VLOOKUP(③選手情報入力!I47,種目情報!$A$4:$B$35,2,FALSE),VLOOKUP(③選手情報入力!I47,種目情報!$E$4:$F$35,2,FALSE))))","v":""},{"$f":"IF(E38=\"\",\"\",IF(③選手情報入力!J47=\"\",\"\",③選手情報入力!J47))","v":""},{"$f":"IF(E38=\"\",\"\",IF(③選手情報入力!H47=\"\",0,1))","v":""},{"$f":"IF(E38=\"\",\"\",IF(③選手情報入力!I47=\"\",\"\",IF(I38=1,VLOOKUP(③選手情報入力!I47,種目情報!$A$4:$C$39,3,FALSE),VLOOKUP(③選手情報入力!I47,種目情報!$E$4:$G$40,3,FALSE))))","v":""},{"$f":"IF(E38=\"\",\"\",IF(③選手情報入力!L47=\"\",\"\",IF(I38=1,VLOOKUP(③選手情報入力!L47,種目情報!$A$4:$B$39,2,FALSE),VLOOKUP(③選手情報入力!L47,種目情報!$E$4:$F$40,2,FALSE))))","v":""},{"$f":"IF(E38=\"\",\"\",IF(③選手情報入力!M47=\"\",\"\",③選手情報入力!M47))","v":""},{"$f":"IF(E38=\"\",\"\",IF(③選手情報入力!K47=\"\",0,1))","v":""},{"$f":"IF(E38=\"\",\"\",IF(③選手情報入力!L47=\"\",\"\",IF(I38=1,VLOOKUP(③選手情報入力!L47,種目情報!$A$4:$C$39,3,FALSE),VLOOKUP(③選手情報入力!L47,種目情報!$E$4:$G$40,3,FALSE))))","v":""},{"$f":"IF(E38=\"\",\"\",IF(③選手情報入力!O47=\"\",\"\",IF(I38=1,VLOOKUP(③選手情報入力!O47,種目情報!$A$4:$B$39,2,FALSE),VLOOKUP(③選手情報入力!O47,種目情報!$E$4:$F$40,2,FALSE))))","v":""},{"$f":"IF(E38=\"\",\"\",IF(③選手情報入力!P47=\"\",\"\",③選手情報入力!P47))","v":""},{"$f":"IF(E38=\"\",\"\",IF(③選手情報入力!N47=\"\",0,1))","v":""},{"$f":"IF(E38=\"\",\"\",IF(③選手情報入力!O47=\"\",\"\",IF(I38=1,VLOOKUP(③選手情報入力!O47,種目情報!$A$4:$C$39,3,FALSE),VLOOKUP(③選手情報入力!O47,種目情報!$E$4:$G$40,3,FALSE))))","v":""},{"$f":"IF(E38=\"\",\"\",IF(③選手情報入力!Q47=\"\",\"\",IF(I38=1,種目情報!$J$4,種目情報!$J$6)))","v":""},{"$f":"IF(E38=\"\",\"\",IF(③選手情報入力!Q47=\"\",\"\",IF(I38=1,IF(③選手情報入力!$R$6=\"\",\"\",③選手情報入力!$R$6),IF(③選手情報入力!$R$7=\"\",\"\",③選手情報入力!$R$7))))","v":""},{"$f":"IF(E38=\"\",\"\",IF(③選手情報入力!Q47=\"\",\"\",IF(I38=1,IF(③選手情報入力!$Q$6=\"\",0,1),IF(③選手情報入力!$Q$7=\"\",0,1))))","v":""},{"$f":"IF(E38=\"\",\"\",IF(③選手情報入力!Q47=\"\",\"\",2))","v":""},{"$f":"IF(E38=\"\",\"\",IF(③選手情報入力!S47=\"\",\"\",IF(I38=1,種目情報!$J$5,種目情報!$J$7)))","v":""},{"$f":"IF(E38=\"\",\"\",IF(③選手情報入力!S47=\"\",\"\",IF(I38=1,IF(③選手情報入力!$T$6=\"\",\"\",③選手情報入力!$T$6),IF(③選手情報入力!$T$7=\"\",\"\",③選手情報入力!$T$7))))","v":""},{"$f":"IF(E38=\"\",\"\",IF(③選手情報入力!S47=\"\",\"\",IF(I38=1,IF(③選手情報入力!$S$6=\"\",0,1),IF(③選手情報入力!$S$7=\"\",0,1))))","v":""},{"$f":"IF(E38=\"\",\"\",IF(③選手情報入力!S47=\"\",\"\",2))","v":""}]
[{"$f":"IF(E39=\"\",\"\",IF(①データ貼付け!B39=\"\",I40*1000000+②団体情報入力!$D$3*1000+③選手情報入力!A48,①データ貼付け!B39))","v":""},{"$f":"IF(E39=\"\",\"\",②団体情報入力!$D$3)","v":""},null,{"$f":"IF(③選手情報入力!B48=\"\",\"\",LEFT(Sheet2!B39,2))","v":""},{"$f":"IF(③選手情報入力!B48=\"\",\"\",REPLACE(Sheet2!B39,1,2,\"\"))","v":""},{"$f":"IF(E39=\"\",\"\",③選手情報入力!C48)","v":""},{"$f":"IF(E39=\"\",\"\",③選手情報入力!D48)","v":""},"",{"$f":"IF(E39=\"\",\"\",IF(③選手情報入力!F48=\"男\",1,2))","v":""},{"$f":"IF(E39=\"\",\"\",IF(③選手情報入力!G48=\"\",\"\",③選手情報入力!G48))","v":""},null,"","",null,{"$f":"IF(E39=\"\",\"\",IF(③選手情報入力!I48=\"\",\"\",IF(I39=1,VLOOKUP(③選手情報入力!I48,種目情報!$A$4:$B$35,2,FALSE),VLOOKUP(③選手情報入力!I48,種目情報!$E$4:$F$35,2,FALSE))))","v":""},{"$f":"IF(E39=\"\",\"\",IF(③選手情報入力!J48=\"\",\"\",③選手情報入力!J48))","v":""},{"$f":"IF(E39=\"\",\"\",IF(③選手情報入力!H48=\"\",0,1))","v":""},{"$f":"IF(E39=\"\",\"\",IF(③選手情報入力!I48=\"\",\"\",IF(I39=1,VLOOKUP(③選手情報入力!I48,種目情報!$A$4:$C$39,3,FALSE),VLOOKUP(③選手情報入力!I48,種目情報!$E$4:$G$40,3,FALSE))))","v":""},{"$f":"IF(E39=\"\",\"\",IF(③選手情報入力!L48=\"\",\"\",IF(I39=1,VLOOKUP(③選手情報入力!L48,種目情報!$A$4:$B$39,2,FALSE),VLOOKUP(③選手情報入力!L48,種目情報!$E$4:$F$40,2,FALSE))))","v":""},{"$f":"IF(E39=\"\",\"\",IF(③選手情報入力!M48=\"\",\"\",③選手情報入力!M48))","v":""},{"$f":"IF(E39=\"\",\"\",IF(③選手情報入力!K48=\"\",0,1))","v":""},{"$f":"IF(E39=\"\",\"\",IF(③選手情報入力!L48=\"\",\"\",IF(I39=1,VLOOKUP(③選手情報入力!L48,種目情報!$A$4:$C$39,3,FALSE),VLOOKUP(③選手情報入力!L48,種目情報!$E$4:$G$40,3,FALSE))))","v":""},{"$f":"IF(E39=\"\",\"\",IF(③選手情報入力!O48=\"\",\"\",IF(I39=1,VLOOKUP(③選手情報入力!O48,種目情報!$A$4:$B$39,2,FALSE),VLOOKUP(③選手情報入力!O48,種目情報!$E$4:$F$40,2,FALSE))))","v":""},{"$f":"IF(E39=\"\",\"\",IF(③選手情報入力!P48=\"\",\"\",③選手情報入力!P48))","v":""},{"$f":"IF(E39=\"\",\"\",IF(③選手情報入力!N48=\"\",0,1))","v":""},{"$f":"IF(E39=\"\",\"\",IF(③選手情報入力!O48=\"\",\"\",IF(I39=1,VLOOKUP(③選手情報入力!O48,種目情報!$A$4:$C$39,3,FALSE),VLOOKUP(③選手情報入力!O48,種目情報!$E$4:$G$40,3,FALSE))))","v":""},{"$f":"IF(E39=\"\",\"\",IF(③選手情報入力!Q48=\"\",\"\",IF(I39=1,種目情報!$J$4,種目情報!$J$6)))","v":""},{"$f":"IF(E39=\"\",\"\",IF(③選手情報入力!Q48=\"\",\"\",IF(I39=1,IF(③選手情報入力!$R$6=\"\",\"\",③選手情報入力!$R$6),IF(③選手情報入力!$R$7=\"\",\"\",③選手情報入力!$R$7))))","v":""},{"$f":"IF(E39=\"\",\"\",IF(③選手情報入力!Q48=\"\",\"\",IF(I39=1,IF(③選手情報入力!$Q$6=\"\",0,1),IF(③選手情報入力!$Q$7=\"\",0,1))))","v":""},{"$f":"IF(E39=\"\",\"\",IF(③選手情報入力!Q48=\"\",\"\",2))","v":""},{"$f":"IF(E39=\"\",\"\",IF(③選手情報入力!S48=\"\",\"\",IF(I39=1,種目情報!$J$5,種目情報!$J$7)))","v":""},{"$f":"IF(E39=\"\",\"\",IF(③選手情報入力!S48=\"\",\"\",IF(I39=1,IF(③選手情報入力!$T$6=\"\",\"\",③選手情報入力!$T$6),IF(③選手情報入力!$T$7=\"\",\"\",③選手情報入力!$T$7))))","v":""},{"$f":"IF(E39=\"\",\"\",IF(③選手情報入力!S48=\"\",\"\",IF(I39=1,IF(③選手情報入力!$S$6=\"\",0,1),IF(③選手情報入力!$S$7=\"\",0,1))))","v":""},{"$f":"IF(E39=\"\",\"\",IF(③選手情報入力!S48=\"\",\"\",2))","v":""}]
[{"$f":"IF(E40=\"\",\"\",IF(①データ貼付け!B40=\"\",I41*1000000+②団体情報入力!$D$3*1000+③選手情報入力!A49,①データ貼付け!B40))","v":""},{"$f":"IF(E40=\"\",\"\",②団体情報入力!$D$3)","v":""},null,{"$f":"IF(③選手情報入力!B49=\"\",\"\",LEFT(Sheet2!B40,2))","v":""},{"$f":"IF(③選手情報入力!B49=\"\",\"\",REPLACE(Sheet2!B40,1,2,\"\"))","v":""},{"$f":"IF(E40=\"\",\"\",③選手情報入力!C49)","v":""},{"$f":"IF(E40=\"\",\"\",③選手情報入力!D49)","v":""},"",{"$f":"IF(E40=\"\",\"\",IF(③選手情報入力!F49=\"男\",1,2))","v":""},{"$f":"IF(E40=\"\",\"\",IF(③選手情報入力!G49=\"\",\"\",③選手情報入力!G49))","v":""},null,"","",null,{"$f":"IF(E40=\"\",\"\",IF(③選手情報入力!I49=\"\",\"\",IF(I40=1,VLOOKUP(③選手情報入力!I49,種目情報!$A$4:$B$35,2,FALSE),VLOOKUP(③選手情報入力!I49,種目情報!$E$4:$F$35,2,FALSE))))","v":""},{"$f":"IF(E40=\"\",\"\",IF(③選手情報入力!J49=\"\",\"\",③選手情報入力!J49))","v":""},{"$f":"IF(E40=\"\",\"\",IF(③選手情報入力!H49=\"\",0,1))","v":""},{"$f":"IF(E40=\"\",\"\",IF(③選手情報入力!I49=\"\",\"\",IF(I40=1,VLOOKUP(③選手情報入力!I49,種目情報!$A$4:$C$39,3,FALSE),VLOOKUP(③選手情報入力!I49,種目情報!$E$4:$G$40,3,FALSE))))","v":""},{"$f":"IF(E40=\"\",\"\",IF(③選手情報入力!L49=\"\",\"\",IF(I40=1,VLOOKUP(③選手情報入力!L49,種目情報!$A$4:$B$39,2,FALSE),VLOOKUP(③選手情報入力!L49,種目情報!$E$4:$F$40,2,FALSE))))","v":""},{"$f":"IF(E40=\"\",\"\",IF(③選手情報入力!M49=\"\",\"\",③選手情報入力!M49))","v":""},{"$f":"IF(E40=\"\",\"\",IF(③選手情報入力!K49=\"\",0,1))","v":""},{"$f":"IF(E40=\"\",\"\",IF(③選手情報入力!L49=\"\",\"\",IF(I40=1,VLOOKUP(③選手情報入力!L49,種目情報!$A$4:$C$39,3,FALSE),VLOOKUP(③選手情報入力!L49,種目情報!$E$4:$G$40,3,FALSE))))","v":""},{"$f":"IF(E40=\"\",\"\",IF(③選手情報入力!O49=\"\",\"\",IF(I40=1,VLOOKUP(③選手情報入力!O49,種目情報!$A$4:$B$39,2,FALSE),VLOOKUP(③選手情報入力!O49,種目情報!$E$4:$F$40,2,FALSE))))","v":""},{"$f":"IF(E40=\"\",\"\",IF(③選手情報入力!P49=\"\",\"\",③選手情報入力!P49))","v":""},{"$f":"IF(E40=\"\",\"\",IF(③選手情報入力!N49=\"\",0,1))","v":""},{"$f":"IF(E40=\"\",\"\",IF(③選手情報入力!O49=\"\",\"\",IF(I40=1,VLOOKUP(③選手情報入力!O49,種目情報!$A$4:$C$39,3,FALSE),VLOOKUP(③選手情報入力!O49,種目情報!$E$4:$G$40,3,FALSE))))","v":""},{"$f":"IF(E40=\"\",\"\",IF(③選手情報入力!Q49=\"\",\"\",IF(I40=1,種目情報!$J$4,種目情報!$J$6)))","v":""},{"$f":"IF(E40=\"\",\"\",IF(③選手情報入力!Q49=\"\",\"\",IF(I40=1,IF(③選手情報入力!$R$6=\"\",\"\",③選手情報入力!$R$6),IF(③選手情報入力!$R$7=\"\",\"\",③選手情報入力!$R$7))))","v":""},{"$f":"IF(E40=\"\",\"\",IF(③選手情報入力!Q49=\"\",\"\",IF(I40=1,IF(③選手情報入力!$Q$6=\"\",0,1),IF(③選手情報入力!$Q$7=\"\",0,1))))","v":""},{"$f":"IF(E40=\"\",\"\",IF(③選手情報入力!Q49=\"\",\"\",2))","v":""},{"$f":"IF(E40=\"\",\"\",IF(③選手情報入力!S49=\"\",\"\",IF(I40=1,種目情報!$J$5,種目情報!$J$7)))","v":""},{"$f":"IF(E40=\"\",\"\",IF(③選手情報入力!S49=\"\",\"\",IF(I40=1,IF(③選手情報入力!$T$6=\"\",\"\",③選手情報入力!$T$6),IF(③選手情報入力!$T$7=\"\",\"\",③選手情報入力!$T$7))))","v":""},{"$f":"IF(E40=\"\",\"\",IF(③選手情報入力!S49=\"\",\"\",IF(I40=1,IF(③選手情報入力!$S$6=\"\",0,1),IF(③選手情報入力!$S$7=\"\",0,1))))","v":""},{"$f":"IF(E40=\"\",\"\",IF(③選手情報入力!S49=\"\",\"\",2))","v":""}]
[{"$f":"IF(E41=\"\",\"\",IF(①データ貼付け!B41=\"\",I42*1000000+②団体情報入力!$D$3*1000+③選手情報入力!A50,①データ貼付け!B41))","v":""},{"$f":"IF(E41=\"\",\"\",②団体情報入力!$D$3)","v":""},null,{"$f":"IF(③選手情報入力!B50=\"\",\"\",LEFT(Sheet2!B41,2))","v":""},{"$f":"IF(③選手情報入力!B50=\"\",\"\",REPLACE(Sheet2!B41,1,2,\"\"))","v":""},{"$f":"IF(E41=\"\",\"\",③選手情報入力!C50)","v":""},{"$f":"IF(E41=\"\",\"\",③選手情報入力!D50)","v":""},"",{"$f":"IF(E41=\"\",\"\",IF(③選手情報入力!F50=\"男\",1,2))","v":""},{"$f":"IF(E41=\"\",\"\",IF(③選手情報入力!G50=\"\",\"\",③選手情報入力!G50))","v":""},null,"","",null,{"$f":"IF(E41=\"\",\"\",IF(③選手情報入力!I50=\"\",\"\",IF(I41=1,VLOOKUP(③選手情報入力!I50,種目情報!$A$4:$B$35,2,FALSE),VLOOKUP(③選手情報入力!I50,種目情報!$E$4:$F$35,2,FALSE))))","v":""},{"$f":"IF(E41=\"\",\"\",IF(③選手情報入力!J50=\"\",\"\",③選手情報入力!J50))","v":""},{"$f":"IF(E41=\"\",\"\",IF(③選手情報入力!H50=\"\",0,1))","v":""},{"$f":"IF(E41=\"\",\"\",IF(③選手情報入力!I50=\"\",\"\",IF(I41=1,VLOOKUP(③選手情報入力!I50,種目情報!$A$4:$C$39,3,FALSE),VLOOKUP(③選手情報入力!I50,種目情報!$E$4:$G$40,3,FALSE))))","v":""},{"$f":"IF(E41=\"\",\"\",IF(③選手情報入力!L50=\"\",\"\",IF(I41=1,VLOOKUP(③選手情報入力!L50,種目情報!$A$4:$B$39,2,FALSE),VLOOKUP(③選手情報入力!L50,種目情報!$E$4:$F$40,2,FALSE))))","v":""},{"$f":"IF(E41=\"\",\"\",IF(③選手情報入力!M50=\"\",\"\",③選手情報入力!M50))","v":""},{"$f":"IF(E41=\"\",\"\",IF(③選手情報入力!K50=\"\",0,1))","v":""},{"$f":"IF(E41=\"\",\"\",IF(③選手情報入力!L50=\"\",\"\",IF(I41=1,VLOOKUP(③選手情報入力!L50,種目情報!$A$4:$C$39,3,FALSE),VLOOKUP(③選手情報入力!L50,種目情報!$E$4:$G$40,3,FALSE))))","v":""},{"$f":"IF(E41=\"\",\"\",IF(③選手情報入力!O50=\"\",\"\",IF(I41=1,VLOOKUP(③選手情報入力!O50,種目情報!$A$4:$B$39,2,FALSE),VLOOKUP(③選手情報入力!O50,種目情報!$E$4:$F$40,2,FALSE))))","v":""},{"$f":"IF(E41=\"\",\"\",IF(③選手情報入力!P50=\"\",\"\",③選手情報入力!P50))","v":""},{"$f":"IF(E41=\"\",\"\",IF(③選手情報入力!N50=\"\",0,1))","v":""},{"$f":"IF(E41=\"\",\"\",IF(③選手情報入力!O50=\"\",\"\",IF(I41=1,VLOOKUP(③選手情報入力!O50,種目情報!$A$4:$C$39,3,FALSE),VLOOKUP(③選手情報入力!O50,種目情報!$E$4:$G$40,3,FALSE))))","v":""},{"$f":"IF(E41=\"\",\"\",IF(③選手情報入力!Q50=\"\",\"\",IF(I41=1,種目情報!$J$4,種目情報!$J$6)))","v":""},{"$f":"IF(E41=\"\",\"\",IF(③選手情報入力!Q50=\"\",\"\",IF(I41=1,IF(③選手情報入力!$R$6=\"\",\"\",③選手情報入力!$R$6),IF(③選手情報入力!$R$7=\"\",\"\",③選手情報入力!$R$7))))","v":""},{"$f":"IF(E41=\"\",\"\",IF(③選手情報入力!Q50=\"\",\"\",IF(I41=1,IF(③選手情報入力!$Q$6=\"\",0,1),IF(③選手情報入力!$Q$7=\"\",0,1))))","v":""},{"$f":"IF(E41=\"\",\"\",IF(③選手情報入力!Q50=\"\",\"\",2))","v":""},{"$f":"IF(E41=\"\",\"\",IF(③選手情報入力!S50=\"\",\"\",IF(I41=1,種目情報!$J$5,種目情報!$J$7)))","v":""},{"$f":"IF(E41=\"\",\"\",IF(③選手情報入力!S50=\"\",\"\",IF(I41=1,IF(③選手情報入力!$T$6=\"\",\"\",③選手情報入力!$T$6),IF(③選手情報入力!$T$7=\"\",\"\",③選手情報入力!$T$7))))","v":""},{"$f":"IF(E41=\"\",\"\",IF(③選手情報入力!S50=\"\",\"\",IF(I41=1,IF(③選手情報入力!$S$6=\"\",0,1),IF(③選手情報入力!$S$7=\"\",0,1))))","v":""},{"$f":"IF(E41=\"\",\"\",IF(③選手情報入力!S50=\"\",\"\",2))","v":""}]
[{"$f":"IF(E42=\"\",\"\",IF(①データ貼付け!B42=\"\",I43*1000000+②団体情報入力!$D$3*1000+③選手情報入力!A51,①データ貼付け!B42))","v":""},{"$f":"IF(E42=\"\",\"\",②団体情報入力!$D$3)","v":""},null,{"$f":"IF(③選手情報入力!B51=\"\",\"\",LEFT(Sheet2!B42,2))","v":""},{"$f":"IF(③選手情報入力!B51=\"\",\"\",REPLACE(Sheet2!B42,1,2,\"\"))","v":""},{"$f":"IF(E42=\"\",\"\",③選手情報入力!C51)","v":""},{"$f":"IF(E42=\"\",\"\",③選手情報入力!D51)","v":""},"",{"$f":"IF(E42=\"\",\"\",IF(③選手情報入力!F51=\"男\",1,2))","v":""},{"$f":"IF(E42=\"\",\"\",IF(③選手情報入力!G51=\"\",\"\",③選手情報入力!G51))","v":""},null,"","",null,{"$f":"IF(E42=\"\",\"\",IF(③選手情報入力!I51=\"\",\"\",IF(I42=1,VLOOKUP(③選手情報入力!I51,種目情報!$A$4:$B$35,2,FALSE),VLOOKUP(③選手情報入力!I51,種目情報!$E$4:$F$35,2,FALSE))))","v":""},{"$f":"IF(E42=\"\",\"\",IF(③選手情報入力!J51=\"\",\"\",③選手情報入力!J51))","v":""},{"$f":"IF(E42=\"\",\"\",IF(③選手情報入力!H51=\"\",0,1))","v":""},{"$f":"IF(E42=\"\",\"\",IF(③選手情報入力!I51=\"\",\"\",IF(I42=1,VLOOKUP(③選手情報入力!I51,種目情報!$A$4:$C$39,3,FALSE),VLOOKUP(③選手情報入力!I51,種目情報!$E$4:$G$40,3,FALSE))))","v":""},{"$f":"IF(E42=\"\",\"\",IF(③選手情報入力!L51=\"\",\"\",IF(I42=1,VLOOKUP(③選手情報入力!L51,種目情報!$A$4:$B$39,2,FALSE),VLOOKUP(③選手情報入力!L51,種目情報!$E$4:$F$40,2,FALSE))))","v":""},{"$f":"IF(E42=\"\",\"\",IF(③選手情報入力!M51=\"\",\"\",③選手情報入力!M51))","v":""},{"$f":"IF(E42=\"\",\"\",IF(③選手情報入力!K51=\"\",0,1))","v":""},{"$f":"IF(E42=\"\",\"\",IF(③選手情報入力!L51=\"\",\"\",IF(I42=1,VLOOKUP(③選手情報入力!L51,種目情報!$A$4:$C$39,3,FALSE),VLOOKUP(③選手情報入力!L51,種目情報!$E$4:$G$40,3,FALSE))))","v":""},{"$f":"IF(E42=\"\",\"\",IF(③選手情報入力!O51=\"\",\"\",IF(I42=1,VLOOKUP(③選手情報入力!O51,種目情報!$A$4:$B$39,2,FALSE),VLOOKUP(③選手情報入力!O51,種目情報!$E$4:$F$40,2,FALSE))))","v":""},{"$f":"IF(E42=\"\",\"\",IF(③選手情報入力!P51=\"\",\"\",③選手情報入力!P51))","v":""},{"$f":"IF(E42=\"\",\"\",IF(③選手情報入力!N51=\"\",0,1))","v":""},{"$f":"IF(E42=\"\",\"\",IF(③選手情報入力!O51=\"\",\"\",IF(I42=1,VLOOKUP(③選手情報入力!O51,種目情報!$A$4:$C$39,3,FALSE),VLOOKUP(③選手情報入力!O51,種目情報!$E$4:$G$40,3,FALSE))))","v":""},{"$f":"IF(E42=\"\",\"\",IF(③選手情報入力!Q51=\"\",\"\",IF(I42=1,種目情報!$J$4,種目情報!$J$6)))","v":""},{"$f":"IF(E42=\"\",\"\",IF(③選手情報入力!Q51=\"\",\"\",IF(I42=1,IF(③選手情報入力!$R$6=\"\",\"\",③選手情報入力!$R$6),IF(③選手情報入力!$R$7=\"\",\"\",③選手情報入力!$R$7))))","v":""},{"$f":"IF(E42=\"\",\"\",IF(③選手情報入力!Q51=\"\",\"\",IF(I42=1,IF(③選手情報入力!$Q$6=\"\",0,1),IF(③選手情報入力!$Q$7=\"\",0,1))))","v":""},{"$f":"IF(E42=\"\",\"\",IF(③選手情報入力!Q51=\"\",\"\",2))","v":""},{"$f":"IF(E42=\"\",\"\",IF(③選手情報入力!S51=\"\",\"\",IF(I42=1,種目情報!$J$5,種目情報!$J$7)))","v":""},{"$f":"IF(E42=\"\",\"\",IF(③選手情報入力!S51=\"\",\"\",IF(I42=1,IF(③選手情報入力!$T$6=\"\",\"\",③選手情報入力!$T$6),IF(③選手情報入力!$T$7=\"\",\"\",③選手情報入力!$T$7))))","v":""},{"$f":"IF(E42=\"\",\"\",IF(③選手情報入力!S51=\"\",\"\",IF(I42=1,IF(③選手情報入力!$S$6=\"\",0,1),IF(③選手情報入力!$S$7=\"\",0,1))))","v":""},{"$f":"IF(E42=\"\",\"\",IF(③選手情報入力!S51=\"\",\"\",2))","v":""}]
[{"$f":"IF(E43=\"\",\"\",IF(①データ貼付け!B43=\"\",I44*1000000+②団体情報入力!$D$3*1000+③選手情報入力!A52,①データ貼付け!B43))","v":""},{"$f":"IF(E43=\"\",\"\",②団体情報入力!$D$3)","v":""},null,{"$f":"IF(③選手情報入力!B52=\"\",\"\",LEFT(Sheet2!B43,2))","v":""},{"$f":"IF(③選手情報入力!B52=\"\",\"\",REPLACE(Sheet2!B43,1,2,\"\"))","v":""},{"$f":"IF(E43=\"\",\"\",③選手情報入力!C52)","v":""},{"$f":"IF(E43=\"\",\"\",③選手情報入力!D52)","v":""},"",{"$f":"IF(E43=\"\",\"\",IF(③選手情報入力!F52=\"男\",1,2))","v":""},{"$f":"IF(E43=\"\",\"\",IF(③選手情報入力!G52=\"\",\"\",③選手情報入力!G52))","v":""},null,"","",null,{"$f":"IF(E43=\"\",\"\",IF(③選手情報入力!I52=\"\",\"\",IF(I43=1,VLOOKUP(③選手情報入力!I52,種目情報!$A$4:$B$35,2,FALSE),VLOOKUP(③選手情報入力!I52,種目情報!$E$4:$F$35,2,FALSE))))","v":""},{"$f":"IF(E43=\"\",\"\",IF(③選手情報入力!J52=\"\",\"\",③選手情報入力!J52))","v":""},{"$f":"IF(E43=\"\",\"\",IF(③選手情報入力!H52=\"\",0,1))","v":""},{"$f":"IF(E43=\"\",\"\",IF(③選手情報入力!I52=\"\",\"\",IF(I43=1,VLOOKUP(③選手情報入力!I52,種目情報!$A$4:$C$39,3,FALSE),VLOOKUP(③選手情報入力!I52,種目情報!$E$4:$G$40,3,FALSE))))","v":""},{"$f":"IF(E43=\"\",\"\",IF(③選手情報入力!L52=\"\",\"\",IF(I43=1,VLOOKUP(③選手情報入力!L52,種目情報!$A$4:$B$39,2,FALSE),VLOOKUP(③選手情報入力!L52,種目情報!$E$4:$F$40,2,FALSE))))","v":""},{"$f":"IF(E43=\"\",\"\",IF(③選手情報入力!M52=\"\",\"\",③選手情報入力!M52))","v":""},{"$f":"IF(E43=\"\",\"\",IF(③選手情報入力!K52=\"\",0,1))","v":""},{"$f":"IF(E43=\"\",\"\",IF(③選手情報入力!L52=\"\",\"\",IF(I43=1,VLOOKUP(③選手情報入力!L52,種目情報!$A$4:$C$39,3,FALSE),VLOOKUP(③選手情報入力!L52,種目情報!$E$4:$G$40,3,FALSE))))","v":""},{"$f":"IF(E43=\"\",\"\",IF(③選手情報入力!O52=\"\",\"\",IF(I43=1,VLOOKUP(③選手情報入力!O52,種目情報!$A$4:$B$39,2,FALSE),VLOOKUP(③選手情報入力!O52,種目情報!$E$4:$F$40,2,FALSE))))","v":""},{"$f":"IF(E43=\"\",\"\",IF(③選手情報入力!P52=\"\",\"\",③選手情報入力!P52))","v":""},{"$f":"IF(E43=\"\",\"\",IF(③選手情報入力!N52=\"\",0,1))","v":""},{"$f":"IF(E43=\"\",\"\",IF(③選手情報入力!O52=\"\",\"\",IF(I43=1,VLOOKUP(③選手情報入力!O52,種目情報!$A$4:$C$39,3,FALSE),VLOOKUP(③選手情報入力!O52,種目情報!$E$4:$G$40,3,FALSE))))","v":""},{"$f":"IF(E43=\"\",\"\",IF(③選手情報入力!Q52=\"\",\"\",IF(I43=1,種目情報!$J$4,種目情報!$J$6)))","v":""},{"$f":"IF(E43=\"\",\"\",IF(③選手情報入力!Q52=\"\",\"\",IF(I43=1,IF(③選手情報入力!$R$6=\"\",\"\",③選手情報入力!$R$6),IF(③選手情報入力!$R$7=\"\",\"\",③選手情報入力!$R$7))))","v":""},{"$f":"IF(E43=\"\",\"\",IF(③選手情報入力!Q52=\"\",\"\",IF(I43=1,IF(③選手情報入力!$Q$6=\"\",0,1),IF(③選手情報入力!$Q$7=\"\",0,1))))","v":""},{"$f":"IF(E43=\"\",\"\",IF(③選手情報入力!Q52=\"\",\"\",2))","v":""},{"$f":"IF(E43=\"\",\"\",IF(③選手情報入力!S52=\"\",\"\",IF(I43=1,種目情報!$J$5,種目情報!$J$7)))","v":""},{"$f":"IF(E43=\"\",\"\",IF(③選手情報入力!S52=\"\",\"\",IF(I43=1,IF(③選手情報入力!$T$6=\"\",\"\",③選手情報入力!$T$6),IF(③選手情報入力!$T$7=\"\",\"\",③選手情報入力!$T$7))))","v":""},{"$f":"IF(E43=\"\",\"\",IF(③選手情報入力!S52=\"\",\"\",IF(I43=1,IF(③選手情報入力!$S$6=\"\",0,1),IF(③選手情報入力!$S$7=\"\",0,1))))","v":""},{"$f":"IF(E43=\"\",\"\",IF(③選手情報入力!S52=\"\",\"\",2))","v":""}]
[{"$f":"IF(E44=\"\",\"\",IF(①データ貼付け!B44=\"\",I45*1000000+②団体情報入力!$D$3*1000+③選手情報入力!A53,①データ貼付け!B44))","v":""},{"$f":"IF(E44=\"\",\"\",②団体情報入力!$D$3)","v":""},null,{"$f":"IF(③選手情報入力!B53=\"\",\"\",LEFT(Sheet2!B44,2))","v":""},{"$f":"IF(③選手情報入力!B53=\"\",\"\",REPLACE(Sheet2!B44,1,2,\"\"))","v":""},{"$f":"IF(E44=\"\",\"\",③選手情報入力!C53)","v":""},{"$f":"IF(E44=\"\",\"\",③選手情報入力!D53)","v":""},"",{"$f":"IF(E44=\"\",\"\",IF(③選手情報入力!F53=\"男\",1,2))","v":""},{"$f":"IF(E44=\"\",\"\",IF(③選手情報入力!G53=\"\",\"\",③選手情報入力!G53))","v":""},null,"","",null,{"$f":"IF(E44=\"\",\"\",IF(③選手情報入力!I53=\"\",\"\",IF(I44=1,VLOOKUP(③選手情報入力!I53,種目情報!$A$4:$B$35,2,FALSE),VLOOKUP(③選手情報入力!I53,種目情報!$E$4:$F$35,2,FALSE))))","v":""},{"$f":"IF(E44=\"\",\"\",IF(③選手情報入力!J53=\"\",\"\",③選手情報入力!J53))","v":""},{"$f":"IF(E44=\"\",\"\",IF(③選手情報入力!H53=\"\",0,1))","v":""},{"$f":"IF(E44=\"\",\"\",IF(③選手情報入力!I53=\"\",\"\",IF(I44=1,VLOOKUP(③選手情報入力!I53,種目情報!$A$4:$C$39,3,FALSE),VLOOKUP(③選手情報入力!I53,種目情報!$E$4:$G$40,3,FALSE))))","v":""},{"$f":"IF(E44=\"\",\"\",IF(③選手情報入力!L53=\"\",\"\",IF(I44=1,VLOOKUP(③選手情報入力!L53,種目情報!$A$4:$B$39,2,FALSE),VLOOKUP(③選手情報入力!L53,種目情報!$E$4:$F$40,2,FALSE))))","v":""},{"$f":"IF(E44=\"\",\"\",IF(③選手情報入力!M53=\"\",\"\",③選手情報入力!M53))","v":""},{"$f":"IF(E44=\"\",\"\",IF(③選手情報入力!K53=\"\",0,1))","v":""},{"$f":"IF(E44=\"\",\"\",IF(③選手情報入力!L53=\"\",\"\",IF(I44=1,VLOOKUP(③選手情報入力!L53,種目情報!$A$4:$C$39,3,FALSE),VLOOKUP(③選手情報入力!L53,種目情報!$E$4:$G$40,3,FALSE))))","v":""},{"$f":"IF(E44=\"\",\"\",IF(③選手情報入力!O53=\"\",\"\",IF(I44=1,VLOOKUP(③選手情報入力!O53,種目情報!$A$4:$B$39,2,FALSE),VLOOKUP(③選手情報入力!O53,種目情報!$E$4:$F$40,2,FALSE))))","v":""},{"$f":"IF(E44=\"\",\"\",IF(③選手情報入力!P53=\"\",\"\",③選手情報入力!P53))","v":""},{"$f":"IF(E44=\"\",\"\",IF(③選手情報入力!N53=\"\",0,1))","v":""},{"$f":"IF(E44=\"\",\"\",IF(③選手情報入力!O53=\"\",\"\",IF(I44=1,VLOOKUP(③選手情報入力!O53,種目情報!$A$4:$C$39,3,FALSE),VLOOKUP(③選手情報入力!O53,種目情報!$E$4:$G$40,3,FALSE))))","v":""},{"$f":"IF(E44=\"\",\"\",IF(③選手情報入力!Q53=\"\",\"\",IF(I44=1,種目情報!$J$4,種目情報!$J$6)))","v":""},{"$f":"IF(E44=\"\",\"\",IF(③選手情報入力!Q53=\"\",\"\",IF(I44=1,IF(③選手情報入力!$R$6=\"\",\"\",③選手情報入力!$R$6),IF(③選手情報入力!$R$7=\"\",\"\",③選手情報入力!$R$7))))","v":""},{"$f":"IF(E44=\"\",\"\",IF(③選手情報入力!Q53=\"\",\"\",IF(I44=1,IF(③選手情報入力!$Q$6=\"\",0,1),IF(③選手情報入力!$Q$7=\"\",0,1))))","v":""},{"$f":"IF(E44=\"\",\"\",IF(③選手情報入力!Q53=\"\",\"\",2))","v":""},{"$f":"IF(E44=\"\",\"\",IF(③選手情報入力!S53=\"\",\"\",IF(I44=1,種目情報!$J$5,種目情報!$J$7)))","v":""},{"$f":"IF(E44=\"\",\"\",IF(③選手情報入力!S53=\"\",\"\",IF(I44=1,IF(③選手情報入力!$T$6=\"\",\"\",③選手情報入力!$T$6),IF(③選手情報入力!$T$7=\"\",\"\",③選手情報入力!$T$7))))","v":""},{"$f":"IF(E44=\"\",\"\",IF(③選手情報入力!S53=\"\",\"\",IF(I44=1,IF(③選手情報入力!$S$6=\"\",0,1),IF(③選手情報入力!$S$7=\"\",0,1))))","v":""},{"$f":"IF(E44=\"\",\"\",IF(③選手情報入力!S53=\"\",\"\",2))","v":""}]
[{"$f":"IF(E45=\"\",\"\",IF(①データ貼付け!B45=\"\",I46*1000000+②団体情報入力!$D$3*1000+③選手情報入力!A54,①データ貼付け!B45))","v":""},{"$f":"IF(E45=\"\",\"\",②団体情報入力!$D$3)","v":""},null,{"$f":"IF(③選手情報入力!B54=\"\",\"\",LEFT(Sheet2!B45,2))","v":""},{"$f":"IF(③選手情報入力!B54=\"\",\"\",REPLACE(Sheet2!B45,1,2,\"\"))","v":""},{"$f":"IF(E45=\"\",\"\",③選手情報入力!C54)","v":""},{"$f":"IF(E45=\"\",\"\",③選手情報入力!D54)","v":""},"",{"$f":"IF(E45=\"\",\"\",IF(③選手情報入力!F54=\"男\",1,2))","v":""},{"$f":"IF(E45=\"\",\"\",IF(③選手情報入力!G54=\"\",\"\",③選手情報入力!G54))","v":""},null,"","",null,{"$f":"IF(E45=\"\",\"\",IF(③選手情報入力!I54=\"\",\"\",IF(I45=1,VLOOKUP(③選手情報入力!I54,種目情報!$A$4:$B$35,2,FALSE),VLOOKUP(③選手情報入力!I54,種目情報!$E$4:$F$35,2,FALSE))))","v":""},{"$f":"IF(E45=\"\",\"\",IF(③選手情報入力!J54=\"\",\"\",③選手情報入力!J54))","v":""},{"$f":"IF(E45=\"\",\"\",IF(③選手情報入力!H54=\"\",0,1))","v":""},{"$f":"IF(E45=\"\",\"\",IF(③選手情報入力!I54=\"\",\"\",IF(I45=1,VLOOKUP(③選手情報入力!I54,種目情報!$A$4:$C$39,3,FALSE),VLOOKUP(③選手情報入力!I54,種目情報!$E$4:$G$40,3,FALSE))))","v":""},{"$f":"IF(E45=\"\",\"\",IF(③選手情報入力!L54=\"\",\"\",IF(I45=1,VLOOKUP(③選手情報入力!L54,種目情報!$A$4:$B$39,2,FALSE),VLOOKUP(③選手情報入力!L54,種目情報!$E$4:$F$40,2,FALSE))))","v":""},{"$f":"IF(E45=\"\",\"\",IF(③選手情報入力!M54=\"\",\"\",③選手情報入力!M54))","v":""},{"$f":"IF(E45=\"\",\"\",IF(③選手情報入力!K54=\"\",0,1))","v":""},{"$f":"IF(E45=\"\",\"\",IF(③選手情報入力!L54=\"\",\"\",IF(I45=1,VLOOKUP(③選手情報入力!L54,種目情報!$A$4:$C$39,3,FALSE),VLOOKUP(③選手情報入力!L54,種目情報!$E$4:$G$40,3,FALSE))))","v":""},{"$f":"IF(E45=\"\",\"\",IF(③選手情報入力!O54=\"\",\"\",IF(I45=1,VLOOKUP(③選手情報入力!O54,種目情報!$A$4:$B$39,2,FALSE),VLOOKUP(③選手情報入力!O54,種目情報!$E$4:$F$40,2,FALSE))))","v":""},{"$f":"IF(E45=\"\",\"\",IF(③選手情報入力!P54=\"\",\"\",③選手情報入力!P54))","v":""},{"$f":"IF(E45=\"\",\"\",IF(③選手情報入力!N54=\"\",0,1))","v":""},{"$f":"IF(E45=\"\",\"\",IF(③選手情報入力!O54=\"\",\"\",IF(I45=1,VLOOKUP(③選手情報入力!O54,種目情報!$A$4:$C$39,3,FALSE),VLOOKUP(③選手情報入力!O54,種目情報!$E$4:$G$40,3,FALSE))))","v":""},{"$f":"IF(E45=\"\",\"\",IF(③選手情報入力!Q54=\"\",\"\",IF(I45=1,種目情報!$J$4,種目情報!$J$6)))","v":""},{"$f":"IF(E45=\"\",\"\",IF(③選手情報入力!Q54=\"\",\"\",IF(I45=1,IF(③選手情報入力!$R$6=\"\",\"\",③選手情報入力!$R$6),IF(③選手情報入力!$R$7=\"\",\"\",③選手情報入力!$R$7))))","v":""},{"$f":"IF(E45=\"\",\"\",IF(③選手情報入力!Q54=\"\",\"\",IF(I45=1,IF(③選手情報入力!$Q$6=\"\",0,1),IF(③選手情報入力!$Q$7=\"\",0,1))))","v":""},{"$f":"IF(E45=\"\",\"\",IF(③選手情報入力!Q54=\"\",\"\",2))","v":""},{"$f":"IF(E45=\"\",\"\",IF(③選手情報入力!S54=\"\",\"\",IF(I45=1,種目情報!$J$5,種目情報!$J$7)))","v":""},{"$f":"IF(E45=\"\",\"\",IF(③選手情報入力!S54=\"\",\"\",IF(I45=1,IF(③選手情報入力!$T$6=\"\",\"\",③選手情報入力!$T$6),IF(③選手情報入力!$T$7=\"\",\"\",③選手情報入力!$T$7))))","v":""},{"$f":"IF(E45=\"\",\"\",IF(③選手情報入力!S54=\"\",\"\",IF(I45=1,IF(③選手情報入力!$S$6=\"\",0,1),IF(③選手情報入力!$S$7=\"\",0,1))))","v":""},{"$f":"IF(E45=\"\",\"\",IF(③選手情報入力!S54=\"\",\"\",2))","v":""}]
[{"$f":"IF(E46=\"\",\"\",IF(①データ貼付け!B46=\"\",I47*1000000+②団体情報入力!$D$3*1000+③選手情報入力!A55,①データ貼付け!B46))","v":""},{"$f":"IF(E46=\"\",\"\",②団体情報入力!$D$3)","v":""},null,{"$f":"IF(③選手情報入力!B55=\"\",\"\",LEFT(Sheet2!B46,2))","v":""},{"$f":"IF(③選手情報入力!B55=\"\",\"\",REPLACE(Sheet2!B46,1,2,\"\"))","v":""},{"$f":"IF(E46=\"\",\"\",③選手情報入力!C55)","v":""},{"$f":"IF(E46=\"\",\"\",③選手情報入力!D55)","v":""},"",{"$f":"IF(E46=\"\",\"\",IF(③選手情報入力!F55=\"男\",1,2))","v":""},{"$f":"IF(E46=\"\",\"\",IF(③選手情報入力!G55=\"\",\"\",③選手情報入力!G55))","v":""},null,"","",null,{"$f":"IF(E46=\"\",\"\",IF(③選手情報入力!I55=\"\",\"\",IF(I46=1,VLOOKUP(③選手情報入力!I55,種目情報!$A$4:$B$35,2,FALSE),VLOOKUP(③選手情報入力!I55,種目情報!$E$4:$F$35,2,FALSE))))","v":""},{"$f":"IF(E46=\"\",\"\",IF(③選手情報入力!J55=\"\",\"\",③選手情報入力!J55))","v":""},{"$f":"IF(E46=\"\",\"\",IF(③選手情報入力!H55=\"\",0,1))","v":""},{"$f":"IF(E46=\"\",\"\",IF(③選手情報入力!I55=\"\",\"\",IF(I46=1,VLOOKUP(③選手情報入力!I55,種目情報!$A$4:$C$39,3,FALSE),VLOOKUP(③選手情報入力!I55,種目情報!$E$4:$G$40,3,FALSE))))","v":""},{"$f":"IF(E46=\"\",\"\",IF(③選手情報入力!L55=\"\",\"\",IF(I46=1,VLOOKUP(③選手情報入力!L55,種目情報!$A$4:$B$39,2,FALSE),VLOOKUP(③選手情報入力!L55,種目情報!$E$4:$F$40,2,FALSE))))","v":""},{"$f":"IF(E46=\"\",\"\",IF(③選手情報入力!M55=\"\",\"\",③選手情報入力!M55))","v":""},{"$f":"IF(E46=\"\",\"\",IF(③選手情報入力!K55=\"\",0,1))","v":""},{"$f":"IF(E46=\"\",\"\",IF(③選手情報入力!L55=\"\",\"\",IF(I46=1,VLOOKUP(③選手情報入力!L55,種目情報!$A$4:$C$39,3,FALSE),VLOOKUP(③選手情報入力!L55,種目情報!$E$4:$G$40,3,FALSE))))","v":""},{"$f":"IF(E46=\"\",\"\",IF(③選手情報入力!O55=\"\",\"\",IF(I46=1,VLOOKUP(③選手情報入力!O55,種目情報!$A$4:$B$39,2,FALSE),VLOOKUP(③選手情報入力!O55,種目情報!$E$4:$F$40,2,FALSE))))","v":""},{"$f":"IF(E46=\"\",\"\",IF(③選手情報入力!P55=\"\",\"\",③選手情報入力!P55))","v":""},{"$f":"IF(E46=\"\",\"\",IF(③選手情報入力!N55=\"\",0,1))","v":""},{"$f":"IF(E46=\"\",\"\",IF(③選手情報入力!O55=\"\",\"\",IF(I46=1,VLOOKUP(③選手情報入力!O55,種目情報!$A$4:$C$39,3,FALSE),VLOOKUP(③選手情報入力!O55,種目情報!$E$4:$G$40,3,FALSE))))","v":""},{"$f":"IF(E46=\"\",\"\",IF(③選手情報入力!Q55=\"\",\"\",IF(I46=1,種目情報!$J$4,種目情報!$J$6)))","v":""},{"$f":"IF(E46=\"\",\"\",IF(③選手情報入力!Q55=\"\",\"\",IF(I46=1,IF(③選手情報入力!$R$6=\"\",\"\",③選手情報入力!$R$6),IF(③選手情報入力!$R$7=\"\",\"\",③選手情報入力!$R$7))))","v":""},{"$f":"IF(E46=\"\",\"\",IF(③選手情報入力!Q55=\"\",\"\",IF(I46=1,IF(③選手情報入力!$Q$6=\"\",0,1),IF(③選手情報入力!$Q$7=\"\",0,1))))","v":""},{"$f":"IF(E46=\"\",\"\",IF(③選手情報入力!Q55=\"\",\"\",2))","v":""},{"$f":"IF(E46=\"\",\"\",IF(③選手情報入力!S55=\"\",\"\",IF(I46=1,種目情報!$J$5,種目情報!$J$7)))","v":""},{"$f":"IF(E46=\"\",\"\",IF(③選手情報入力!S55=\"\",\"\",IF(I46=1,IF(③選手情報入力!$T$6=\"\",\"\",③選手情報入力!$T$6),IF(③選手情報入力!$T$7=\"\",\"\",③選手情報入力!$T$7))))","v":""},{"$f":"IF(E46=\"\",\"\",IF(③選手情報入力!S55=\"\",\"\",IF(I46=1,IF(③選手情報入力!$S$6=\"\",0,1),IF(③選手情報入力!$S$7=\"\",0,1))))","v":""},{"$f":"IF(E46=\"\",\"\",IF(③選手情報入力!S55=\"\",\"\",2))","v":""}]
[{"$f":"IF(E47=\"\",\"\",IF(①データ貼付け!B47=\"\",I48*1000000+②団体情報入力!$D$3*1000+③選手情報入力!A56,①データ貼付け!B47))","v":""},{"$f":"IF(E47=\"\",\"\",②団体情報入力!$D$3)","v":""},null,{"$f":"IF(③選手情報入力!B56=\"\",\"\",LEFT(Sheet2!B47,2))","v":""},{"$f":"IF(③選手情報入力!B56=\"\",\"\",REPLACE(Sheet2!B47,1,2,\"\"))","v":""},{"$f":"IF(E47=\"\",\"\",③選手情報入力!C56)","v":""},{"$f":"IF(E47=\"\",\"\",③選手情報入力!D56)","v":""},"",{"$f":"IF(E47=\"\",\"\",IF(③選手情報入力!F56=\"男\",1,2))","v":""},{"$f":"IF(E47=\"\",\"\",IF(③選手情報入力!G56=\"\",\"\",③選手情報入力!G56))","v":""},null,"","",null,{"$f":"IF(E47=\"\",\"\",IF(③選手情報入力!I56=\"\",\"\",IF(I47=1,VLOOKUP(③選手情報入力!I56,種目情報!$A$4:$B$35,2,FALSE),VLOOKUP(③選手情報入力!I56,種目情報!$E$4:$F$35,2,FALSE))))","v":""},{"$f":"IF(E47=\"\",\"\",IF(③選手情報入力!J56=\"\",\"\",③選手情報入力!J56))","v":""},{"$f":"IF(E47=\"\",\"\",IF(③選手情報入力!H56=\"\",0,1))","v":""},{"$f":"IF(E47=\"\",\"\",IF(③選手情報入力!I56=\"\",\"\",IF(I47=1,VLOOKUP(③選手情報入力!I56,種目情報!$A$4:$C$39,3,FALSE),VLOOKUP(③選手情報入力!I56,種目情報!$E$4:$G$40,3,FALSE))))","v":""},{"$f":"IF(E47=\"\",\"\",IF(③選手情報入力!L56=\"\",\"\",IF(I47=1,VLOOKUP(③選手情報入力!L56,種目情報!$A$4:$B$39,2,FALSE),VLOOKUP(③選手情報入力!L56,種目情報!$E$4:$F$40,2,FALSE))))","v":""},{"$f":"IF(E47=\"\",\"\",IF(③選手情報入力!M56=\"\",\"\",③選手情報入力!M56))","v":""},{"$f":"IF(E47=\"\",\"\",IF(③選手情報入力!K56=\"\",0,1))","v":""},{"$f":"IF(E47=\"\",\"\",IF(③選手情報入力!L56=\"\",\"\",IF(I47=1,VLOOKUP(③選手情報入力!L56,種目情報!$A$4:$C$39,3,FALSE),VLOOKUP(③選手情報入力!L56,種目情報!$E$4:$G$40,3,FALSE))))","v":""},{"$f":"IF(E47=\"\",\"\",IF(③選手情報入力!O56=\"\",\"\",IF(I47=1,VLOOKUP(③選手情報入力!O56,種目情報!$A$4:$B$39,2,FALSE),VLOOKUP(③選手情報入力!O56,種目情報!$E$4:$F$40,2,FALSE))))","v":""},{"$f":"IF(E47=\"\",\"\",IF(③選手情報入力!P56=\"\",\"\",③選手情報入力!P56))","v":""},{"$f":"IF(E47=\"\",\"\",IF(③選手情報入力!N56=\"\",0,1))","v":""},{"$f":"IF(E47=\"\",\"\",IF(③選手情報入力!O56=\"\",\"\",IF(I47=1,VLOOKUP(③選手情報入力!O56,種目情報!$A$4:$C$39,3,FALSE),VLOOKUP(③選手情報入力!O56,種目情報!$E$4:$G$40,3,FALSE))))","v":""},{"$f":"IF(E47=\"\",\"\",IF(③選手情報入力!Q56=\"\",\"\",IF(I47=1,種目情報!$J$4,種目情報!$J$6)))","v":""},{"$f":"IF(E47=\"\",\"\",IF(③選手情報入力!Q56=\"\",\"\",IF(I47=1,IF(③選手情報入力!$R$6=\"\",\"\",③選手情報入力!$R$6),IF(③選手情報入力!$R$7=\"\",\"\",③選手情報入力!$R$7))))","v":""},{"$f":"IF(E47=\"\",\"\",IF(③選手情報入力!Q56=\"\",\"\",IF(I47=1,IF(③選手情報入力!$Q$6=\"\",0,1),IF(③選手情報入力!$Q$7=\"\",0,1))))","v":""},{"$f":"IF(E47=\"\",\"\",IF(③選手情報入力!Q56=\"\",\"\",2))","v":""},{"$f":"IF(E47=\"\",\"\",IF(③選手情報入力!S56=\"\",\"\",IF(I47=1,種目情報!$J$5,種目情報!$J$7)))","v":""},{"$f":"IF(E47=\"\",\"\",IF(③選手情報入力!S56=\"\",\"\",IF(I47=1,IF(③選手情報入力!$T$6=\"\",\"\",③選手情報入力!$T$6),IF(③選手情報入力!$T$7=\"\",\"\",③選手情報入力!$T$7))))","v":""},{"$f":"IF(E47=\"\",\"\",IF(③選手情報入力!S56=\"\",\"\",IF(I47=1,IF(③選手情報入力!$S$6=\"\",0,1),IF(③選手情報入力!$S$7=\"\",0,1))))","v":""},{"$f":"IF(E47=\"\",\"\",IF(③選手情報入力!S56=\"\",\"\",2))","v":""}]
[{"$f":"IF(E48=\"\",\"\",IF(①データ貼付け!B48=\"\",I49*1000000+②団体情報入力!$D$3*1000+③選手情報入力!A57,①データ貼付け!B48))","v":""},{"$f":"IF(E48=\"\",\"\",②団体情報入力!$D$3)","v":""},null,{"$f":"IF(③選手情報入力!B57=\"\",\"\",LEFT(Sheet2!B48,2))","v":""},{"$f":"IF(③選手情報入力!B57=\"\",\"\",REPLACE(Sheet2!B48,1,2,\"\"))","v":""},{"$f":"IF(E48=\"\",\"\",③選手情報入力!C57)","v":""},{"$f":"IF(E48=\"\",\"\",③選手情報入力!D57)","v":""},"",{"$f":"IF(E48=\"\",\"\",IF(③選手情報入力!F57=\"男\",1,2))","v":""},{"$f":"IF(E48=\"\",\"\",IF(③選手情報入力!G57=\"\",\"\",③選手情報入力!G57))","v":""},null,"","",null,{"$f":"IF(E48=\"\",\"\",IF(③選手情報入力!I57=\"\",\"\",IF(I48=1,VLOOKUP(③選手情報入力!I57,種目情報!$A$4:$B$35,2,FALSE),VLOOKUP(③選手情報入力!I57,種目情報!$E$4:$F$35,2,FALSE))))","v":""},{"$f":"IF(E48=\"\",\"\",IF(③選手情報入力!J57=\"\",\"\",③選手情報入力!J57))","v":""},{"$f":"IF(E48=\"\",\"\",IF(③選手情報入力!H57=\"\",0,1))","v":""},{"$f":"IF(E48=\"\",\"\",IF(③選手情報入力!I57=\"\",\"\",IF(I48=1,VLOOKUP(③選手情報入力!I57,種目情報!$A$4:$C$39,3,FALSE),VLOOKUP(③選手情報入力!I57,種目情報!$E$4:$G$40,3,FALSE))))","v":""},{"$f":"IF(E48=\"\",\"\",IF(③選手情報入力!L57=\"\",\"\",IF(I48=1,VLOOKUP(③選手情報入力!L57,種目情報!$A$4:$B$39,2,FALSE),VLOOKUP(③選手情報入力!L57,種目情報!$E$4:$F$40,2,FALSE))))","v":""},{"$f":"IF(E48=\"\",\"\",IF(③選手情報入力!M57=\"\",\"\",③選手情報入力!M57))","v":""},{"$f":"IF(E48=\"\",\"\",IF(③選手情報入力!K57=\"\",0,1))","v":""},{"$f":"IF(E48=\"\",\"\",IF(③選手情報入力!L57=\"\",\"\",IF(I48=1,VLOOKUP(③選手情報入力!L57,種目情報!$A$4:$C$39,3,FALSE),VLOOKUP(③選手情報入力!L57,種目情報!$E$4:$G$40,3,FALSE))))","v":""},{"$f":"IF(E48=\"\",\"\",IF(③選手情報入力!O57=\"\",\"\",IF(I48=1,VLOOKUP(③選手情報入力!O57,種目情報!$A$4:$B$39,2,FALSE),VLOOKUP(③選手情報入力!O57,種目情報!$E$4:$F$40,2,FALSE))))","v":""},{"$f":"IF(E48=\"\",\"\",IF(③選手情報入力!P57=\"\",\"\",③選手情報入力!P57))","v":""},{"$f":"IF(E48=\"\",\"\",IF(③選手情報入力!N57=\"\",0,1))","v":""},{"$f":"IF(E48=\"\",\"\",IF(③選手情報入力!O57=\"\",\"\",IF(I48=1,VLOOKUP(③選手情報入力!O57,種目情報!$A$4:$C$39,3,FALSE),VLOOKUP(③選手情報入力!O57,種目情報!$E$4:$G$40,3,FALSE))))","v":""},{"$f":"IF(E48=\"\",\"\",IF(③選手情報入力!Q57=\"\",\"\",IF(I48=1,種目情報!$J$4,種目情報!$J$6)))","v":""},{"$f":"IF(E48=\"\",\"\",IF(③選手情報入力!Q57=\"\",\"\",IF(I48=1,IF(③選手情報入力!$R$6=\"\",\"\",③選手情報入力!$R$6),IF(③選手情報入力!$R$7=\"\",\"\",③選手情報入力!$R$7))))","v":""},{"$f":"IF(E48=\"\",\"\",IF(③選手情報入力!Q57=\"\",\"\",IF(I48=1,IF(③選手情報入力!$Q$6=\"\",0,1),IF(③選手情報入力!$Q$7=\"\",0,1))))","v":""},{"$f":"IF(E48=\"\",\"\",IF(③選手情報入力!Q57=\"\",\"\",2))","v":""},{"$f":"IF(E48=\"\",\"\",IF(③選手情報入力!S57=\"\",\"\",IF(I48=1,種目情報!$J$5,種目情報!$J$7)))","v":""},{"$f":"IF(E48=\"\",\"\",IF(③選手情報入力!S57=\"\",\"\",IF(I48=1,IF(③選手情報入力!$T$6=\"\",\"\",③選手情報入力!$T$6),IF(③選手情報入力!$T$7=\"\",\"\",③選手情報入力!$T$7))))","v":""},{"$f":"IF(E48=\"\",\"\",IF(③選手情報入力!S57=\"\",\"\",IF(I48=1,IF(③選手情報入力!$S$6=\"\",0,1),IF(③選手情報入力!$S$7=\"\",0,1))))","v":""},{"$f":"IF(E48=\"\",\"\",IF(③選手情報入力!S57=\"\",\"\",2))","v":""}]
[{"$f":"IF(E49=\"\",\"\",IF(①データ貼付け!B49=\"\",I50*1000000+②団体情報入力!$D$3*1000+③選手情報入力!A58,①データ貼付け!B49))","v":""},{"$f":"IF(E49=\"\",\"\",②団体情報入力!$D$3)","v":""},null,{"$f":"IF(③選手情報入力!B58=\"\",\"\",LEFT(Sheet2!B49,2))","v":""},{"$f":"IF(③選手情報入力!B58=\"\",\"\",REPLACE(Sheet2!B49,1,2,\"\"))","v":""},{"$f":"IF(E49=\"\",\"\",③選手情報入力!C58)","v":""},{"$f":"IF(E49=\"\",\"\",③選手情報入力!D58)","v":""},"",{"$f":"IF(E49=\"\",\"\",IF(③選手情報入力!F58=\"男\",1,2))","v":""},{"$f":"IF(E49=\"\",\"\",IF(③選手情報入力!G58=\"\",\"\",③選手情報入力!G58))","v":""},null,"","",null,{"$f":"IF(E49=\"\",\"\",IF(③選手情報入力!I58=\"\",\"\",IF(I49=1,VLOOKUP(③選手情報入力!I58,種目情報!$A$4:$B$35,2,FALSE),VLOOKUP(③選手情報入力!I58,種目情報!$E$4:$F$35,2,FALSE))))","v":""},{"$f":"IF(E49=\"\",\"\",IF(③選手情報入力!J58=\"\",\"\",③選手情報入力!J58))","v":""},{"$f":"IF(E49=\"\",\"\",IF(③選手情報入力!H58=\"\",0,1))","v":""},{"$f":"IF(E49=\"\",\"\",IF(③選手情報入力!I58=\"\",\"\",IF(I49=1,VLOOKUP(③選手情報入力!I58,種目情報!$A$4:$C$39,3,FALSE),VLOOKUP(③選手情報入力!I58,種目情報!$E$4:$G$40,3,FALSE))))","v":""},{"$f":"IF(E49=\"\",\"\",IF(③選手情報入力!L58=\"\",\"\",IF(I49=1,VLOOKUP(③選手情報入力!L58,種目情報!$A$4:$B$39,2,FALSE),VLOOKUP(③選手情報入力!L58,種目情報!$E$4:$F$40,2,FALSE))))","v":""},{"$f":"IF(E49=\"\",\"\",IF(③選手情報入力!M58=\"\",\"\",③選手情報入力!M58))","v":""},{"$f":"IF(E49=\"\",\"\",IF(③選手情報入力!K58=\"\",0,1))","v":""},{"$f":"IF(E49=\"\",\"\",IF(③選手情報入力!L58=\"\",\"\",IF(I49=1,VLOOKUP(③選手情報入力!L58,種目情報!$A$4:$C$39,3,FALSE),VLOOKUP(③選手情報入力!L58,種目情報!$E$4:$G$40,3,FALSE))))","v":""},{"$f":"IF(E49=\"\",\"\",IF(③選手情報入力!O58=\"\",\"\",IF(I49=1,VLOOKUP(③選手情報入力!O58,種目情報!$A$4:$B$39,2,FALSE),VLOOKUP(③選手情報入力!O58,種目情報!$E$4:$F$40,2,FALSE))))","v":""},{"$f":"IF(E49=\"\",\"\",IF(③選手情報入力!P58=\"\",\"\",③選手情報入力!P58))","v":""},{"$f":"IF(E49=\"\",\"\",IF(③選手情報入力!N58=\"\",0,1))","v":""},{"$f":"IF(E49=\"\",\"\",IF(③選手情報入力!O58=\"\",\"\",IF(I49=1,VLOOKUP(③選手情報入力!O58,種目情報!$A$4:$C$39,3,FALSE),VLOOKUP(③選手情報入力!O58,種目情報!$E$4:$G$40,3,FALSE))))","v":""},{"$f":"IF(E49=\"\",\"\",IF(③選手情報入力!Q58=\"\",\"\",IF(I49=1,種目情報!$J$4,種目情報!$J$6)))","v":""},{"$f":"IF(E49=\"\",\"\",IF(③選手情報入力!Q58=\"\",\"\",IF(I49=1,IF(③選手情報入力!$R$6=\"\",\"\",③選手情報入力!$R$6),IF(③選手情報入力!$R$7=\"\",\"\",③選手情報入力!$R$7))))","v":""},{"$f":"IF(E49=\"\",\"\",IF(③選手情報入力!Q58=\"\",\"\",IF(I49=1,IF(③選手情報入力!$Q$6=\"\",0,1),IF(③選手情報入力!$Q$7=\"\",0,1))))","v":""},{"$f":"IF(E49=\"\",\"\",IF(③選手情報入力!Q58=\"\",\"\",2))","v":""},{"$f":"IF(E49=\"\",\"\",IF(③選手情報入力!S58=\"\",\"\",IF(I49=1,種目情報!$J$5,種目情報!$J$7)))","v":""},{"$f":"IF(E49=\"\",\"\",IF(③選手情報入力!S58=\"\",\"\",IF(I49=1,IF(③選手情報入力!$T$6=\"\",\"\",③選手情報入力!$T$6),IF(③選手情報入力!$T$7=\"\",\"\",③選手情報入力!$T$7))))","v":""},{"$f":"IF(E49=\"\",\"\",IF(③選手情報入力!S58=\"\",\"\",IF(I49=1,IF(③選手情報入力!$S$6=\"\",0,1),IF(③選手情報入力!$S$7=\"\",0,1))))","v":""},{"$f":"IF(E49=\"\",\"\",IF(③選手情報入力!S58=\"\",\"\",2))","v":""}]
[{"$f":"IF(E50=\"\",\"\",IF(①データ貼付け!B50=\"\",I51*1000000+②団体情報入力!$D$3*1000+③選手情報入力!A59,①データ貼付け!B50))","v":""},{"$f":"IF(E50=\"\",\"\",②団体情報入力!$D$3)","v":""},null,{"$f":"IF(③選手情報入力!B59=\"\",\"\",LEFT(Sheet2!B50,2))","v":""},{"$f":"IF(③選手情報入力!B59=\"\",\"\",REPLACE(Sheet2!B50,1,2,\"\"))","v":""},{"$f":"IF(E50=\"\",\"\",③選手情報入力!C59)","v":""},{"$f":"IF(E50=\"\",\"\",③選手情報入力!D59)","v":""},"",{"$f":"IF(E50=\"\",\"\",IF(③選手情報入力!F59=\"男\",1,2))","v":""},{"$f":"IF(E50=\"\",\"\",IF(③選手情報入力!G59=\"\",\"\",③選手情報入力!G59))","v":""},null,"","",null,{"$f":"IF(E50=\"\",\"\",IF(③選手情報入力!I59=\"\",\"\",IF(I50=1,VLOOKUP(③選手情報入力!I59,種目情報!$A$4:$B$35,2,FALSE),VLOOKUP(③選手情報入力!I59,種目情報!$E$4:$F$35,2,FALSE))))","v":""},{"$f":"IF(E50=\"\",\"\",IF(③選手情報入力!J59=\"\",\"\",③選手情報入力!J59))","v":""},{"$f":"IF(E50=\"\",\"\",IF(③選手情報入力!H59=\"\",0,1))","v":""},{"$f":"IF(E50=\"\",\"\",IF(③選手情報入力!I59=\"\",\"\",IF(I50=1,VLOOKUP(③選手情報入力!I59,種目情報!$A$4:$C$39,3,FALSE),VLOOKUP(③選手情報入力!I59,種目情報!$E$4:$G$40,3,FALSE))))","v":""},{"$f":"IF(E50=\"\",\"\",IF(③選手情報入力!L59=\"\",\"\",IF(I50=1,VLOOKUP(③選手情報入力!L59,種目情報!$A$4:$B$39,2,FALSE),VLOOKUP(③選手情報入力!L59,種目情報!$E$4:$F$40,2,FALSE))))","v":""},{"$f":"IF(E50=\"\",\"\",IF(③選手情報入力!M59=\"\",\"\",③選手情報入力!M59))","v":""},{"$f":"IF(E50=\"\",\"\",IF(③選手情報入力!K59=\"\",0,1))","v":""},{"$f":"IF(E50=\"\",\"\",IF(③選手情報入力!L59=\"\",\"\",IF(I50=1,VLOOKUP(③選手情報入力!L59,種目情報!$A$4:$C$39,3,FALSE),VLOOKUP(③選手情報入力!L59,種目情報!$E$4:$G$40,3,FALSE))))","v":""},{"$f":"IF(E50=\"\",\"\",IF(③選手情報入力!O59=\"\",\"\",IF(I50=1,VLOOKUP(③選手情報入力!O59,種目情報!$A$4:$B$39,2,FALSE),VLOOKUP(③選手情報入力!O59,種目情報!$E$4:$F$40,2,FALSE))))","v":""},{"$f":"IF(E50=\"\",\"\",IF(③選手情報入力!P59=\"\",\"\",③選手情報入力!P59))","v":""},{"$f":"IF(E50=\"\",\"\",IF(③選手情報入力!N59=\"\",0,1))","v":""},{"$f":"IF(E50=\"\",\"\",IF(③選手情報入力!O59=\"\",\"\",IF(I50=1,VLOOKUP(③選手情報入力!O59,種目情報!$A$4:$C$39,3,FALSE),VLOOKUP(③選手情報入力!O59,種目情報!$E$4:$G$40,3,FALSE))))","v":""},{"$f":"IF(E50=\"\",\"\",IF(③選手情報入力!Q59=\"\",\"\",IF(I50=1,種目情報!$J$4,種目情報!$J$6)))","v":""},{"$f":"IF(E50=\"\",\"\",IF(③選手情報入力!Q59=\"\",\"\",IF(I50=1,IF(③選手情報入力!$R$6=\"\",\"\",③選手情報入力!$R$6),IF(③選手情報入力!$R$7=\"\",\"\",③選手情報入力!$R$7))))","v":""},{"$f":"IF(E50=\"\",\"\",IF(③選手情報入力!Q59=\"\",\"\",IF(I50=1,IF(③選手情報入力!$Q$6=\"\",0,1),IF(③選手情報入力!$Q$7=\"\",0,1))))","v":""},{"$f":"IF(E50=\"\",\"\",IF(③選手情報入力!Q59=\"\",\"\",2))","v":""},{"$f":"IF(E50=\"\",\"\",IF(③選手情報入力!S59=\"\",\"\",IF(I50=1,種目情報!$J$5,種目情報!$J$7)))","v":""},{"$f":"IF(E50=\"\",\"\",IF(③選手情報入力!S59=\"\",\"\",IF(I50=1,IF(③選手情報入力!$T$6=\"\",\"\",③選手情報入力!$T$6),IF(③選手情報入力!$T$7=\"\",\"\",③選手情報入力!$T$7))))","v":""},{"$f":"IF(E50=\"\",\"\",IF(③選手情報入力!S59=\"\",\"\",IF(I50=1,IF(③選手情報入力!$S$6=\"\",0,1),IF(③選手情報入力!$S$7=\"\",0,1))))","v":""},{"$f":"IF(E50=\"\",\"\",IF(③選手情報入力!S59=\"\",\"\",2))","v":""}]
[{"$f":"IF(E51=\"\",\"\",IF(①データ貼付け!B51=\"\",I52*1000000+②団体情報入力!$D$3*1000+③選手情報入力!A60,①データ貼付け!B51))","v":""},{"$f":"IF(E51=\"\",\"\",②団体情報入力!$D$3)","v":""},null,{"$f":"IF(③選手情報入力!B60=\"\",\"\",LEFT(Sheet2!B51,2))","v":""},{"$f":"IF(③選手情報入力!B60=\"\",\"\",REPLACE(Sheet2!B51,1,2,\"\"))","v":""},{"$f":"IF(E51=\"\",\"\",③選手情報入力!C60)","v":""},{"$f":"IF(E51=\"\",\"\",③選手情報入力!D60)","v":""},"",{"$f":"IF(E51=\"\",\"\",IF(③選手情報入力!F60=\"男\",1,2))","v":""},{"$f":"IF(E51=\"\",\"\",IF(③選手情報入力!G60=\"\",\"\",③選手情報入力!G60))","v":""},null,"","",null,{"$f":"IF(E51=\"\",\"\",IF(③選手情報入力!I60=\"\",\"\",IF(I51=1,VLOOKUP(③選手情報入力!I60,種目情報!$A$4:$B$35,2,FALSE),VLOOKUP(③選手情報入力!I60,種目情報!$E$4:$F$35,2,FALSE))))","v":""},{"$f":"IF(E51=\"\",\"\",IF(③選手情報入力!J60=\"\",\"\",③選手情報入力!J60))","v":""},{"$f":"IF(E51=\"\",\"\",IF(③選手情報入力!H60=\"\",0,1))","v":""},{"$f":"IF(E51=\"\",\"\",IF(③選手情報入力!I60=\"\",\"\",IF(I51=1,VLOOKUP(③選手情報入力!I60,種目情報!$A$4:$C$39,3,FALSE),VLOOKUP(③選手情報入力!I60,種目情報!$E$4:$G$40,3,FALSE))))","v":""},{"$f":"IF(E51=\"\",\"\",IF(③選手情報入力!L60=\"\",\"\",IF(I51=1,VLOOKUP(③選手情報入力!L60,種目情報!$A$4:$B$39,2,FALSE),VLOOKUP(③選手情報入力!L60,種目情報!$E$4:$F$40,2,FALSE))))","v":""},{"$f":"IF(E51=\"\",\"\",IF(③選手情報入力!M60=\"\",\"\",③選手情報入力!M60))","v":""},{"$f":"IF(E51=\"\",\"\",IF(③選手情報入力!K60=\"\",0,1))","v":""},{"$f":"IF(E51=\"\",\"\",IF(③選手情報入力!L60=\"\",\"\",IF(I51=1,VLOOKUP(③選手情報入力!L60,種目情報!$A$4:$C$39,3,FALSE),VLOOKUP(③選手情報入力!L60,種目情報!$E$4:$G$40,3,FALSE))))","v":""},{"$f":"IF(E51=\"\",\"\",IF(③選手情報入力!O60=\"\",\"\",IF(I51=1,VLOOKUP(③選手情報入力!O60,種目情報!$A$4:$B$39,2,FALSE),VLOOKUP(③選手情報入力!O60,種目情報!$E$4:$F$40,2,FALSE))))","v":""},{"$f":"IF(E51=\"\",\"\",IF(③選手情報入力!P60=\"\",\"\",③選手情報入力!P60))","v":""},{"$f":"IF(E51=\"\",\"\",IF(③選手情報入力!N60=\"\",0,1))","v":""},{"$f":"IF(E51=\"\",\"\",IF(③選手情報入力!O60=\"\",\"\",IF(I51=1,VLOOKUP(③選手情報入力!O60,種目情報!$A$4:$C$39,3,FALSE),VLOOKUP(③選手情報入力!O60,種目情報!$E$4:$G$40,3,FALSE))))","v":""},{"$f":"IF(E51=\"\",\"\",IF(③選手情報入力!Q60=\"\",\"\",IF(I51=1,種目情報!$J$4,種目情報!$J$6)))","v":""},{"$f":"IF(E51=\"\",\"\",IF(③選手情報入力!Q60=\"\",\"\",IF(I51=1,IF(③選手情報入力!$R$6=\"\",\"\",③選手情報入力!$R$6),IF(③選手情報入力!$R$7=\"\",\"\",③選手情報入力!$R$7))))","v":""},{"$f":"IF(E51=\"\",\"\",IF(③選手情報入力!Q60=\"\",\"\",IF(I51=1,IF(③選手情報入力!$Q$6=\"\",0,1),IF(③選手情報入力!$Q$7=\"\",0,1))))","v":""},{"$f":"IF(E51=\"\",\"\",IF(③選手情報入力!Q60=\"\",\"\",2))","v":""},{"$f":"IF(E51=\"\",\"\",IF(③選手情報入力!S60=\"\",\"\",IF(I51=1,種目情報!$J$5,種目情報!$J$7)))","v":""},{"$f":"IF(E51=\"\",\"\",IF(③選手情報入力!S60=\"\",\"\",IF(I51=1,IF(③選手情報入力!$T$6=\"\",\"\",③選手情報入力!$T$6),IF(③選手情報入力!$T$7=\"\",\"\",③選手情報入力!$T$7))))","v":""},{"$f":"IF(E51=\"\",\"\",IF(③選手情報入力!S60=\"\",\"\",IF(I51=1,IF(③選手情報入力!$S$6=\"\",0,1),IF(③選手情報入力!$S$7=\"\",0,1))))","v":""},{"$f":"IF(E51=\"\",\"\",IF(③選手情報入力!S60=\"\",\"\",2))","v":""}]
[{"$f":"IF(E52=\"\",\"\",IF(①データ貼付け!B52=\"\",I53*1000000+②団体情報入力!$D$3*1000+③選手情報入力!A61,①データ貼付け!B52))","v":""},{"$f":"IF(E52=\"\",\"\",②団体情報入力!$D$3)","v":""},null,{"$f":"IF(③選手情報入力!B61=\"\",\"\",LEFT(Sheet2!B52,2))","v":""},{"$f":"IF(③選手情報入力!B61=\"\",\"\",REPLACE(Sheet2!B52,1,2,\"\"))","v":""},{"$f":"IF(E52=\"\",\"\",③選手情報入力!C61)","v":""},{"$f":"IF(E52=\"\",\"\",③選手情報入力!D61)","v":""},"",{"$f":"IF(E52=\"\",\"\",IF(③選手情報入力!F61=\"男\",1,2))","v":""},{"$f":"IF(E52=\"\",\"\",IF(③選手情報入力!G61=\"\",\"\",③選手情報入力!G61))","v":""},null,"","",null,{"$f":"IF(E52=\"\",\"\",IF(③選手情報入力!I61=\"\",\"\",IF(I52=1,VLOOKUP(③選手情報入力!I61,種目情報!$A$4:$B$35,2,FALSE),VLOOKUP(③選手情報入力!I61,種目情報!$E$4:$F$35,2,FALSE))))","v":""},{"$f":"IF(E52=\"\",\"\",IF(③選手情報入力!J61=\"\",\"\",③選手情報入力!J61))","v":""},{"$f":"IF(E52=\"\",\"\",IF(③選手情報入力!H61=\"\",0,1))","v":""},{"$f":"IF(E52=\"\",\"\",IF(③選手情報入力!I61=\"\",\"\",IF(I52=1,VLOOKUP(③選手情報入力!I61,種目情報!$A$4:$C$39,3,FALSE),VLOOKUP(③選手情報入力!I61,種目情報!$E$4:$G$40,3,FALSE))))","v":""},{"$f":"IF(E52=\"\",\"\",IF(③選手情報入力!L61=\"\",\"\",IF(I52=1,VLOOKUP(③選手情報入力!L61,種目情報!$A$4:$B$39,2,FALSE),VLOOKUP(③選手情報入力!L61,種目情報!$E$4:$F$40,2,FALSE))))","v":""},{"$f":"IF(E52=\"\",\"\",IF(③選手情報入力!M61=\"\",\"\",③選手情報入力!M61))","v":""},{"$f":"IF(E52=\"\",\"\",IF(③選手情報入力!K61=\"\",0,1))","v":""},{"$f":"IF(E52=\"\",\"\",IF(③選手情報入力!L61=\"\",\"\",IF(I52=1,VLOOKUP(③選手情報入力!L61,種目情報!$A$4:$C$39,3,FALSE),VLOOKUP(③選手情報入力!L61,種目情報!$E$4:$G$40,3,FALSE))))","v":""},{"$f":"IF(E52=\"\",\"\",IF(③選手情報入力!O61=\"\",\"\",IF(I52=1,VLOOKUP(③選手情報入力!O61,種目情報!$A$4:$B$39,2,FALSE),VLOOKUP(③選手情報入力!O61,種目情報!$E$4:$F$40,2,FALSE))))","v":""},{"$f":"IF(E52=\"\",\"\",IF(③選手情報入力!P61=\"\",\"\",③選手情報入力!P61))","v":""},{"$f":"IF(E52=\"\",\"\",IF(③選手情報入力!N61=\"\",0,1))","v":""},{"$f":"IF(E52=\"\",\"\",IF(③選手情報入力!O61=\"\",\"\",IF(I52=1,VLOOKUP(③選手情報入力!O61,種目情報!$A$4:$C$39,3,FALSE),VLOOKUP(③選手情報入力!O61,種目情報!$E$4:$G$40,3,FALSE))))","v":""},{"$f":"IF(E52=\"\",\"\",IF(③選手情報入力!Q61=\"\",\"\",IF(I52=1,種目情報!$J$4,種目情報!$J$6)))","v":""},{"$f":"IF(E52=\"\",\"\",IF(③選手情報入力!Q61=\"\",\"\",IF(I52=1,IF(③選手情報入力!$R$6=\"\",\"\",③選手情報入力!$R$6),IF(③選手情報入力!$R$7=\"\",\"\",③選手情報入力!$R$7))))","v":""},{"$f":"IF(E52=\"\",\"\",IF(③選手情報入力!Q61=\"\",\"\",IF(I52=1,IF(③選手情報入力!$Q$6=\"\",0,1),IF(③選手情報入力!$Q$7=\"\",0,1))))","v":""},{"$f":"IF(E52=\"\",\"\",IF(③選手情報入力!Q61=\"\",\"\",2))","v":""},{"$f":"IF(E52=\"\",\"\",IF(③選手情報入力!S61=\"\",\"\",IF(I52=1,種目情報!$J$5,種目情報!$J$7)))","v":""},{"$f":"IF(E52=\"\",\"\",IF(③選手情報入力!S61=\"\",\"\",IF(I52=1,IF(③選手情報入力!$T$6=\"\",\"\",③選手情報入力!$T$6),IF(③選手情報入力!$T$7=\"\",\"\",③選手情報入力!$T$7))))","v":""},{"$f":"IF(E52=\"\",\"\",IF(③選手情報入力!S61=\"\",\"\",IF(I52=1,IF(③選手情報入力!$S$6=\"\",0,1),IF(③選手情報入力!$S$7=\"\",0,1))))","v":""},{"$f":"IF(E52=\"\",\"\",IF(③選手情報入力!S61=\"\",\"\",2))","v":""}]
[{"$f":"IF(E53=\"\",\"\",IF(①データ貼付け!B53=\"\",I54*1000000+②団体情報入力!$D$3*1000+③選手情報入力!A62,①データ貼付け!B53))","v":""},{"$f":"IF(E53=\"\",\"\",②団体情報入力!$D$3)","v":""},null,{"$f":"IF(③選手情報入力!B62=\"\",\"\",LEFT(Sheet2!B53,2))","v":""},{"$f":"IF(③選手情報入力!B62=\"\",\"\",REPLACE(Sheet2!B53,1,2,\"\"))","v":""},{"$f":"IF(E53=\"\",\"\",③選手情報入力!C62)","v":""},{"$f":"IF(E53=\"\",\"\",③選手情報入力!D62)","v":""},"",{"$f":"IF(E53=\"\",\"\",IF(③選手情報入力!F62=\"男\",1,2))","v":""},{"$f":"IF(E53=\"\",\"\",IF(③選手情報入力!G62=\"\",\"\",③選手情報入力!G62))","v":""},null,"","",null,{"$f":"IF(E53=\"\",\"\",IF(③選手情報入力!I62=\"\",\"\",IF(I53=1,VLOOKUP(③選手情報入力!I62,種目情報!$A$4:$B$35,2,FALSE),VLOOKUP(③選手情報入力!I62,種目情報!$E$4:$F$35,2,FALSE))))","v":""},{"$f":"IF(E53=\"\",\"\",IF(③選手情報入力!J62=\"\",\"\",③選手情報入力!J62))","v":""},{"$f":"IF(E53=\"\",\"\",IF(③選手情報入力!H62=\"\",0,1))","v":""},{"$f":"IF(E53=\"\",\"\",IF(③選手情報入力!I62=\"\",\"\",IF(I53=1,VLOOKUP(③選手情報入力!I62,種目情報!$A$4:$C$39,3,FALSE),VLOOKUP(③選手情報入力!I62,種目情報!$E$4:$G$40,3,FALSE))))","v":""},{"$f":"IF(E53=\"\",\"\",IF(③選手情報入力!L62=\"\",\"\",IF(I53=1,VLOOKUP(③選手情報入力!L62,種目情報!$A$4:$B$39,2,FALSE),VLOOKUP(③選手情報入力!L62,種目情報!$E$4:$F$40,2,FALSE))))","v":""},{"$f":"IF(E53=\"\",\"\",IF(③選手情報入力!M62=\"\",\"\",③選手情報入力!M62))","v":""},{"$f":"IF(E53=\"\",\"\",IF(③選手情報入力!K62=\"\",0,1))","v":""},{"$f":"IF(E53=\"\",\"\",IF(③選手情報入力!L62=\"\",\"\",IF(I53=1,VLOOKUP(③選手情報入力!L62,種目情報!$A$4:$C$39,3,FALSE),VLOOKUP(③選手情報入力!L62,種目情報!$E$4:$G$40,3,FALSE))))","v":""},{"$f":"IF(E53=\"\",\"\",IF(③選手情報入力!O62=\"\",\"\",IF(I53=1,VLOOKUP(③選手情報入力!O62,種目情報!$A$4:$B$39,2,FALSE),VLOOKUP(③選手情報入力!O62,種目情報!$E$4:$F$40,2,FALSE))))","v":""},{"$f":"IF(E53=\"\",\"\",IF(③選手情報入力!P62=\"\",\"\",③選手情報入力!P62))","v":""},{"$f":"IF(E53=\"\",\"\",IF(③選手情報入力!N62=\"\",0,1))","v":""},{"$f":"IF(E53=\"\",\"\",IF(③選手情報入力!O62=\"\",\"\",IF(I53=1,VLOOKUP(③選手情報入力!O62,種目情報!$A$4:$C$39,3,FALSE),VLOOKUP(③選手情報入力!O62,種目情報!$E$4:$G$40,3,FALSE))))","v":""},{"$f":"IF(E53=\"\",\"\",IF(③選手情報入力!Q62=\"\",\"\",IF(I53=1,種目情報!$J$4,種目情報!$J$6)))","v":""},{"$f":"IF(E53=\"\",\"\",IF(③選手情報入力!Q62=\"\",\"\",IF(I53=1,IF(③選手情報入力!$R$6=\"\",\"\",③選手情報入力!$R$6),IF(③選手情報入力!$R$7=\"\",\"\",③選手情報入力!$R$7))))","v":""},{"$f":"IF(E53=\"\",\"\",IF(③選手情報入力!Q62=\"\",\"\",IF(I53=1,IF(③選手情報入力!$Q$6=\"\",0,1),IF(③選手情報入力!$Q$7=\"\",0,1))))","v":""},{"$f":"IF(E53=\"\",\"\",IF(③選手情報入力!Q62=\"\",\"\",2))","v":""},{"$f":"IF(E53=\"\",\"\",IF(③選手情報入力!S62=\"\",\"\",IF(I53=1,種目情報!$J$5,種目情報!$J$7)))","v":""},{"$f":"IF(E53=\"\",\"\",IF(③選手情報入力!S62=\"\",\"\",IF(I53=1,IF(③選手情報入力!$T$6=\"\",\"\",③選手情報入力!$T$6),IF(③選手情報入力!$T$7=\"\",\"\",③選手情報入力!$T$7))))","v":""},{"$f":"IF(E53=\"\",\"\",IF(③選手情報入力!S62=\"\",\"\",IF(I53=1,IF(③選手情報入力!$S$6=\"\",0,1),IF(③選手情報入力!$S$7=\"\",0,1))))","v":""},{"$f":"IF(E53=\"\",\"\",IF(③選手情報入力!S62=\"\",\"\",2))","v":""}]
[{"$f":"IF(E54=\"\",\"\",IF(①データ貼付け!B54=\"\",I55*1000000+②団体情報入力!$D$3*1000+③選手情報入力!A63,①データ貼付け!B54))","v":""},{"$f":"IF(E54=\"\",\"\",②団体情報入力!$D$3)","v":""},null,{"$f":"IF(③選手情報入力!B63=\"\",\"\",LEFT(Sheet2!B54,2))","v":""},{"$f":"IF(③選手情報入力!B63=\"\",\"\",REPLACE(Sheet2!B54,1,2,\"\"))","v":""},{"$f":"IF(E54=\"\",\"\",③選手情報入力!C63)","v":""},{"$f":"IF(E54=\"\",\"\",③選手情報入力!D63)","v":""},"",{"$f":"IF(E54=\"\",\"\",IF(③選手情報入力!F63=\"男\",1,2))","v":""},{"$f":"IF(E54=\"\",\"\",IF(③選手情報入力!G63=\"\",\"\",③選手情報入力!G63))","v":""},null,"","",null,{"$f":"IF(E54=\"\",\"\",IF(③選手情報入力!I63=\"\",\"\",IF(I54=1,VLOOKUP(③選手情報入力!I63,種目情報!$A$4:$B$35,2,FALSE),VLOOKUP(③選手情報入力!I63,種目情報!$E$4:$F$35,2,FALSE))))","v":""},{"$f":"IF(E54=\"\",\"\",IF(③選手情報入力!J63=\"\",\"\",③選手情報入力!J63))","v":""},{"$f":"IF(E54=\"\",\"\",IF(③選手情報入力!H63=\"\",0,1))","v":""},{"$f":"IF(E54=\"\",\"\",IF(③選手情報入力!I63=\"\",\"\",IF(I54=1,VLOOKUP(③選手情報入力!I63,種目情報!$A$4:$C$39,3,FALSE),VLOOKUP(③選手情報入力!I63,種目情報!$E$4:$G$40,3,FALSE))))","v":""},{"$f":"IF(E54=\"\",\"\",IF(③選手情報入力!L63=\"\",\"\",IF(I54=1,VLOOKUP(③選手情報入力!L63,種目情報!$A$4:$B$39,2,FALSE),VLOOKUP(③選手情報入力!L63,種目情報!$E$4:$F$40,2,FALSE))))","v":""},{"$f":"IF(E54=\"\",\"\",IF(③選手情報入力!M63=\"\",\"\",③選手情報入力!M63))","v":""},{"$f":"IF(E54=\"\",\"\",IF(③選手情報入力!K63=\"\",0,1))","v":""},{"$f":"IF(E54=\"\",\"\",IF(③選手情報入力!L63=\"\",\"\",IF(I54=1,VLOOKUP(③選手情報入力!L63,種目情報!$A$4:$C$39,3,FALSE),VLOOKUP(③選手情報入力!L63,種目情報!$E$4:$G$40,3,FALSE))))","v":""},{"$f":"IF(E54=\"\",\"\",IF(③選手情報入力!O63=\"\",\"\",IF(I54=1,VLOOKUP(③選手情報入力!O63,種目情報!$A$4:$B$39,2,FALSE),VLOOKUP(③選手情報入力!O63,種目情報!$E$4:$F$40,2,FALSE))))","v":""},{"$f":"IF(E54=\"\",\"\",IF(③選手情報入力!P63=\"\",\"\",③選手情報入力!P63))","v":""},{"$f":"IF(E54=\"\",\"\",IF(③選手情報入力!N63=\"\",0,1))","v":""},{"$f":"IF(E54=\"\",\"\",IF(③選手情報入力!O63=\"\",\"\",IF(I54=1,VLOOKUP(③選手情報入力!O63,種目情報!$A$4:$C$39,3,FALSE),VLOOKUP(③選手情報入力!O63,種目情報!$E$4:$G$40,3,FALSE))))","v":""},{"$f":"IF(E54=\"\",\"\",IF(③選手情報入力!Q63=\"\",\"\",IF(I54=1,種目情報!$J$4,種目情報!$J$6)))","v":""},{"$f":"IF(E54=\"\",\"\",IF(③選手情報入力!Q63=\"\",\"\",IF(I54=1,IF(③選手情報入力!$R$6=\"\",\"\",③選手情報入力!$R$6),IF(③選手情報入力!$R$7=\"\",\"\",③選手情報入力!$R$7))))","v":""},{"$f":"IF(E54=\"\",\"\",IF(③選手情報入力!Q63=\"\",\"\",IF(I54=1,IF(③選手情報入力!$Q$6=\"\",0,1),IF(③選手情報入力!$Q$7=\"\",0,1))))","v":""},{"$f":"IF(E54=\"\",\"\",IF(③選手情報入力!Q63=\"\",\"\",2))","v":""},{"$f":"IF(E54=\"\",\"\",IF(③選手情報入力!S63=\"\",\"\",IF(I54=1,種目情報!$J$5,種目情報!$J$7)))","v":""},{"$f":"IF(E54=\"\",\"\",IF(③選手情報入力!S63=\"\",\"\",IF(I54=1,IF(③選手情報入力!$T$6=\"\",\"\",③選手情報入力!$T$6),IF(③選手情報入力!$T$7=\"\",\"\",③選手情報入力!$T$7))))","v":""},{"$f":"IF(E54=\"\",\"\",IF(③選手情報入力!S63=\"\",\"\",IF(I54=1,IF(③選手情報入力!$S$6=\"\",0,1),IF(③選手情報入力!$S$7=\"\",0,1))))","v":""},{"$f":"IF(E54=\"\",\"\",IF(③選手情報入力!S63=\"\",\"\",2))","v":""}]
[{"$f":"IF(E55=\"\",\"\",IF(①データ貼付け!B55=\"\",I56*1000000+②団体情報入力!$D$3*1000+③選手情報入力!A64,①データ貼付け!B55))","v":""},{"$f":"IF(E55=\"\",\"\",②団体情報入力!$D$3)","v":""},null,{"$f":"IF(③選手情報入力!B64=\"\",\"\",LEFT(Sheet2!B55,2))","v":""},{"$f":"IF(③選手情報入力!B64=\"\",\"\",REPLACE(Sheet2!B55,1,2,\"\"))","v":""},{"$f":"IF(E55=\"\",\"\",③選手情報入力!C64)","v":""},{"$f":"IF(E55=\"\",\"\",③選手情報入力!D64)","v":""},"",{"$f":"IF(E55=\"\",\"\",IF(③選手情報入力!F64=\"男\",1,2))","v":""},{"$f":"IF(E55=\"\",\"\",IF(③選手情報入力!G64=\"\",\"\",③選手情報入力!G64))","v":""},null,"","",null,{"$f":"IF(E55=\"\",\"\",IF(③選手情報入力!I64=\"\",\"\",IF(I55=1,VLOOKUP(③選手情報入力!I64,種目情報!$A$4:$B$35,2,FALSE),VLOOKUP(③選手情報入力!I64,種目情報!$E$4:$F$35,2,FALSE))))","v":""},{"$f":"IF(E55=\"\",\"\",IF(③選手情報入力!J64=\"\",\"\",③選手情報入力!J64))","v":""},{"$f":"IF(E55=\"\",\"\",IF(③選手情報入力!H64=\"\",0,1))","v":""},{"$f":"IF(E55=\"\",\"\",IF(③選手情報入力!I64=\"\",\"\",IF(I55=1,VLOOKUP(③選手情報入力!I64,種目情報!$A$4:$C$39,3,FALSE),VLOOKUP(③選手情報入力!I64,種目情報!$E$4:$G$40,3,FALSE))))","v":""},{"$f":"IF(E55=\"\",\"\",IF(③選手情報入力!L64=\"\",\"\",IF(I55=1,VLOOKUP(③選手情報入力!L64,種目情報!$A$4:$B$39,2,FALSE),VLOOKUP(③選手情報入力!L64,種目情報!$E$4:$F$40,2,FALSE))))","v":""},{"$f":"IF(E55=\"\",\"\",IF(③選手情報入力!M64=\"\",\"\",③選手情報入力!M64))","v":""},{"$f":"IF(E55=\"\",\"\",IF(③選手情報入力!K64=\"\",0,1))","v":""},{"$f":"IF(E55=\"\",\"\",IF(③選手情報入力!L64=\"\",\"\",IF(I55=1,VLOOKUP(③選手情報入力!L64,種目情報!$A$4:$C$39,3,FALSE),VLOOKUP(③選手情報入力!L64,種目情報!$E$4:$G$40,3,FALSE))))","v":""},{"$f":"IF(E55=\"\",\"\",IF(③選手情報入力!O64=\"\",\"\",IF(I55=1,VLOOKUP(③選手情報入力!O64,種目情報!$A$4:$B$39,2,FALSE),VLOOKUP(③選手情報入力!O64,種目情報!$E$4:$F$40,2,FALSE))))","v":""},{"$f":"IF(E55=\"\",\"\",IF(③選手情報入力!P64=\"\",\"\",③選手情報入力!P64))","v":""},{"$f":"IF(E55=\"\",\"\",IF(③選手情報入力!N64=\"\",0,1))","v":""},{"$f":"IF(E55=\"\",\"\",IF(③選手情報入力!O64=\"\",\"\",IF(I55=1,VLOOKUP(③選手情報入力!O64,種目情報!$A$4:$C$39,3,FALSE),VLOOKUP(③選手情報入力!O64,種目情報!$E$4:$G$40,3,FALSE))))","v":""},{"$f":"IF(E55=\"\",\"\",IF(③選手情報入力!Q64=\"\",\"\",IF(I55=1,種目情報!$J$4,種目情報!$J$6)))","v":""},{"$f":"IF(E55=\"\",\"\",IF(③選手情報入力!Q64=\"\",\"\",IF(I55=1,IF(③選手情報入力!$R$6=\"\",\"\",③選手情報入力!$R$6),IF(③選手情報入力!$R$7=\"\",\"\",③選手情報入力!$R$7))))","v":""},{"$f":"IF(E55=\"\",\"\",IF(③選手情報入力!Q64=\"\",\"\",IF(I55=1,IF(③選手情報入力!$Q$6=\"\",0,1),IF(③選手情報入力!$Q$7=\"\",0,1))))","v":""},{"$f":"IF(E55=\"\",\"\",IF(③選手情報入力!Q64=\"\",\"\",2))","v":""},{"$f":"IF(E55=\"\",\"\",IF(③選手情報入力!S64=\"\",\"\",IF(I55=1,種目情報!$J$5,種目情報!$J$7)))","v":""},{"$f":"IF(E55=\"\",\"\",IF(③選手情報入力!S64=\"\",\"\",IF(I55=1,IF(③選手情報入力!$T$6=\"\",\"\",③選手情報入力!$T$6),IF(③選手情報入力!$T$7=\"\",\"\",③選手情報入力!$T$7))))","v":""},{"$f":"IF(E55=\"\",\"\",IF(③選手情報入力!S64=\"\",\"\",IF(I55=1,IF(③選手情報入力!$S$6=\"\",0,1),IF(③選手情報入力!$S$7=\"\",0,1))))","v":""},{"$f":"IF(E55=\"\",\"\",IF(③選手情報入力!S64=\"\",\"\",2))","v":""}]
[{"$f":"IF(E56=\"\",\"\",IF(①データ貼付け!B56=\"\",I57*1000000+②団体情報入力!$D$3*1000+③選手情報入力!A65,①データ貼付け!B56))","v":""},{"$f":"IF(E56=\"\",\"\",②団体情報入力!$D$3)","v":""},null,{"$f":"IF(③選手情報入力!B65=\"\",\"\",LEFT(Sheet2!B56,2))","v":""},{"$f":"IF(③選手情報入力!B65=\"\",\"\",REPLACE(Sheet2!B56,1,2,\"\"))","v":""},{"$f":"IF(E56=\"\",\"\",③選手情報入力!C65)","v":""},{"$f":"IF(E56=\"\",\"\",③選手情報入力!D65)","v":""},"",{"$f":"IF(E56=\"\",\"\",IF(③選手情報入力!F65=\"男\",1,2))","v":""},{"$f":"IF(E56=\"\",\"\",IF(③選手情報入力!G65=\"\",\"\",③選手情報入力!G65))","v":""},null,"","",null,{"$f":"IF(E56=\"\",\"\",IF(③選手情報入力!I65=\"\",\"\",IF(I56=1,VLOOKUP(③選手情報入力!I65,種目情報!$A$4:$B$35,2,FALSE),VLOOKUP(③選手情報入力!I65,種目情報!$E$4:$F$35,2,FALSE))))","v":""},{"$f":"IF(E56=\"\",\"\",IF(③選手情報入力!J65=\"\",\"\",③選手情報入力!J65))","v":""},{"$f":"IF(E56=\"\",\"\",IF(③選手情報入力!H65=\"\",0,1))","v":""},{"$f":"IF(E56=\"\",\"\",IF(③選手情報入力!I65=\"\",\"\",IF(I56=1,VLOOKUP(③選手情報入力!I65,種目情報!$A$4:$C$39,3,FALSE),VLOOKUP(③選手情報入力!I65,種目情報!$E$4:$G$40,3,FALSE))))","v":""},{"$f":"IF(E56=\"\",\"\",IF(③選手情報入力!L65=\"\",\"\",IF(I56=1,VLOOKUP(③選手情報入力!L65,種目情報!$A$4:$B$39,2,FALSE),VLOOKUP(③選手情報入力!L65,種目情報!$E$4:$F$40,2,FALSE))))","v":""},{"$f":"IF(E56=\"\",\"\",IF(③選手情報入力!M65=\"\",\"\",③選手情報入力!M65))","v":""},{"$f":"IF(E56=\"\",\"\",IF(③選手情報入力!K65=\"\",0,1))","v":""},{"$f":"IF(E56=\"\",\"\",IF(③選手情報入力!L65=\"\",\"\",IF(I56=1,VLOOKUP(③選手情報入力!L65,種目情報!$A$4:$C$39,3,FALSE),VLOOKUP(③選手情報入力!L65,種目情報!$E$4:$G$40,3,FALSE))))","v":""},{"$f":"IF(E56=\"\",\"\",IF(③選手情報入力!O65=\"\",\"\",IF(I56=1,VLOOKUP(③選手情報入力!O65,種目情報!$A$4:$B$39,2,FALSE),VLOOKUP(③選手情報入力!O65,種目情報!$E$4:$F$40,2,FALSE))))","v":""},{"$f":"IF(E56=\"\",\"\",IF(③選手情報入力!P65=\"\",\"\",③選手情報入力!P65))","v":""},{"$f":"IF(E56=\"\",\"\",IF(③選手情報入力!N65=\"\",0,1))","v":""},{"$f":"IF(E56=\"\",\"\",IF(③選手情報入力!O65=\"\",\"\",IF(I56=1,VLOOKUP(③選手情報入力!O65,種目情報!$A$4:$C$39,3,FALSE),VLOOKUP(③選手情報入力!O65,種目情報!$E$4:$G$40,3,FALSE))))","v":""},{"$f":"IF(E56=\"\",\"\",IF(③選手情報入力!Q65=\"\",\"\",IF(I56=1,種目情報!$J$4,種目情報!$J$6)))","v":""},{"$f":"IF(E56=\"\",\"\",IF(③選手情報入力!Q65=\"\",\"\",IF(I56=1,IF(③選手情報入力!$R$6=\"\",\"\",③選手情報入力!$R$6),IF(③選手情報入力!$R$7=\"\",\"\",③選手情報入力!$R$7))))","v":""},{"$f":"IF(E56=\"\",\"\",IF(③選手情報入力!Q65=\"\",\"\",IF(I56=1,IF(③選手情報入力!$Q$6=\"\",0,1),IF(③選手情報入力!$Q$7=\"\",0,1))))","v":""},{"$f":"IF(E56=\"\",\"\",IF(③選手情報入力!Q65=\"\",\"\",2))","v":""},{"$f":"IF(E56=\"\",\"\",IF(③選手情報入力!S65=\"\",\"\",IF(I56=1,種目情報!$J$5,種目情報!$J$7)))","v":""},{"$f":"IF(E56=\"\",\"\",IF(③選手情報入力!S65=\"\",\"\",IF(I56=1,IF(③選手情報入力!$T$6=\"\",\"\",③選手情報入力!$T$6),IF(③選手情報入力!$T$7=\"\",\"\",③選手情報入力!$T$7))))","v":""},{"$f":"IF(E56=\"\",\"\",IF(③選手情報入力!S65=\"\",\"\",IF(I56=1,IF(③選手情報入力!$S$6=\"\",0,1),IF(③選手情報入力!$S$7=\"\",0,1))))","v":""},{"$f":"IF(E56=\"\",\"\",IF(③選手情報入力!S65=\"\",\"\",2))","v":""}]
[{"$f":"IF(E57=\"\",\"\",IF(①データ貼付け!B57=\"\",I58*1000000+②団体情報入力!$D$3*1000+③選手情報入力!A66,①データ貼付け!B57))","v":""},{"$f":"IF(E57=\"\",\"\",②団体情報入力!$D$3)","v":""},null,{"$f":"IF(③選手情報入力!B66=\"\",\"\",LEFT(Sheet2!B57,2))","v":""},{"$f":"IF(③選手情報入力!B66=\"\",\"\",REPLACE(Sheet2!B57,1,2,\"\"))","v":""},{"$f":"IF(E57=\"\",\"\",③選手情報入力!C66)","v":""},{"$f":"IF(E57=\"\",\"\",③選手情報入力!D66)","v":""},"",{"$f":"IF(E57=\"\",\"\",IF(③選手情報入力!F66=\"男\",1,2))","v":""},{"$f":"IF(E57=\"\",\"\",IF(③選手情報入力!G66=\"\",\"\",③選手情報入力!G66))","v":""},null,"","",null,{"$f":"IF(E57=\"\",\"\",IF(③選手情報入力!I66=\"\",\"\",IF(I57=1,VLOOKUP(③選手情報入力!I66,種目情報!$A$4:$B$35,2,FALSE),VLOOKUP(③選手情報入力!I66,種目情報!$E$4:$F$35,2,FALSE))))","v":""},{"$f":"IF(E57=\"\",\"\",IF(③選手情報入力!J66=\"\",\"\",③選手情報入力!J66))","v":""},{"$f":"IF(E57=\"\",\"\",IF(③選手情報入力!H66=\"\",0,1))","v":""},{"$f":"IF(E57=\"\",\"\",IF(③選手情報入力!I66=\"\",\"\",IF(I57=1,VLOOKUP(③選手情報入力!I66,種目情報!$A$4:$C$39,3,FALSE),VLOOKUP(③選手情報入力!I66,種目情報!$E$4:$G$40,3,FALSE))))","v":""},{"$f":"IF(E57=\"\",\"\",IF(③選手情報入力!L66=\"\",\"\",IF(I57=1,VLOOKUP(③選手情報入力!L66,種目情報!$A$4:$B$39,2,FALSE),VLOOKUP(③選手情報入力!L66,種目情報!$E$4:$F$40,2,FALSE))))","v":""},{"$f":"IF(E57=\"\",\"\",IF(③選手情報入力!M66=\"\",\"\",③選手情報入力!M66))","v":""},{"$f":"IF(E57=\"\",\"\",IF(③選手情報入力!K66=\"\",0,1))","v":""},{"$f":"IF(E57=\"\",\"\",IF(③選手情報入力!L66=\"\",\"\",IF(I57=1,VLOOKUP(③選手情報入力!L66,種目情報!$A$4:$C$39,3,FALSE),VLOOKUP(③選手情報入力!L66,種目情報!$E$4:$G$40,3,FALSE))))","v":""},{"$f":"IF(E57=\"\",\"\",IF(③選手情報入力!O66=\"\",\"\",IF(I57=1,VLOOKUP(③選手情報入力!O66,種目情報!$A$4:$B$39,2,FALSE),VLOOKUP(③選手情報入力!O66,種目情報!$E$4:$F$40,2,FALSE))))","v":""},{"$f":"IF(E57=\"\",\"\",IF(③選手情報入力!P66=\"\",\"\",③選手情報入力!P66))","v":""},{"$f":"IF(E57=\"\",\"\",IF(③選手情報入力!N66=\"\",0,1))","v":""},{"$f":"IF(E57=\"\",\"\",IF(③選手情報入力!O66=\"\",\"\",IF(I57=1,VLOOKUP(③選手情報入力!O66,種目情報!$A$4:$C$39,3,FALSE),VLOOKUP(③選手情報入力!O66,種目情報!$E$4:$G$40,3,FALSE))))","v":""},{"$f":"IF(E57=\"\",\"\",IF(③選手情報入力!Q66=\"\",\"\",IF(I57=1,種目情報!$J$4,種目情報!$J$6)))","v":""},{"$f":"IF(E57=\"\",\"\",IF(③選手情報入力!Q66=\"\",\"\",IF(I57=1,IF(③選手情報入力!$R$6=\"\",\"\",③選手情報入力!$R$6),IF(③選手情報入力!$R$7=\"\",\"\",③選手情報入力!$R$7))))","v":""},{"$f":"IF(E57=\"\",\"\",IF(③選手情報入力!Q66=\"\",\"\",IF(I57=1,IF(③選手情報入力!$Q$6=\"\",0,1),IF(③選手情報入力!$Q$7=\"\",0,1))))","v":""},{"$f":"IF(E57=\"\",\"\",IF(③選手情報入力!Q66=\"\",\"\",2))","v":""},{"$f":"IF(E57=\"\",\"\",IF(③選手情報入力!S66=\"\",\"\",IF(I57=1,種目情報!$J$5,種目情報!$J$7)))","v":""},{"$f":"IF(E57=\"\",\"\",IF(③選手情報入力!S66=\"\",\"\",IF(I57=1,IF(③選手情報入力!$T$6=\"\",\"\",③選手情報入力!$T$6),IF(③選手情報入力!$T$7=\"\",\"\",③選手情報入力!$T$7))))","v":""},{"$f":"IF(E57=\"\",\"\",IF(③選手情報入力!S66=\"\",\"\",IF(I57=1,IF(③選手情報入力!$S$6=\"\",0,1),IF(③選手情報入力!$S$7=\"\",0,1))))","v":""},{"$f":"IF(E57=\"\",\"\",IF(③選手情報入力!S66=\"\",\"\",2))","v":""}]
[{"$f":"IF(E58=\"\",\"\",IF(①データ貼付け!B58=\"\",I59*1000000+②団体情報入力!$D$3*1000+③選手情報入力!A67,①データ貼付け!B58))","v":""},{"$f":"IF(E58=\"\",\"\",②団体情報入力!$D$3)","v":""},null,{"$f":"IF(③選手情報入力!B67=\"\",\"\",LEFT(Sheet2!B58,2))","v":""},{"$f":"IF(③選手情報入力!B67=\"\",\"\",REPLACE(Sheet2!B58,1,2,\"\"))","v":""},{"$f":"IF(E58=\"\",\"\",③選手情報入力!C67)","v":""},{"$f":"IF(E58=\"\",\"\",③選手情報入力!D67)","v":""},"",{"$f":"IF(E58=\"\",\"\",IF(③選手情報入力!F67=\"男\",1,2))","v":""},{"$f":"IF(E58=\"\",\"\",IF(③選手情報入力!G67=\"\",\"\",③選手情報入力!G67))","v":""},null,"","",null,{"$f":"IF(E58=\"\",\"\",IF(③選手情報入力!I67=\"\",\"\",IF(I58=1,VLOOKUP(③選手情報入力!I67,種目情報!$A$4:$B$35,2,FALSE),VLOOKUP(③選手情報入力!I67,種目情報!$E$4:$F$35,2,FALSE))))","v":""},{"$f":"IF(E58=\"\",\"\",IF(③選手情報入力!J67=\"\",\"\",③選手情報入力!J67))","v":""},{"$f":"IF(E58=\"\",\"\",IF(③選手情報入力!H67=\"\",0,1))","v":""},{"$f":"IF(E58=\"\",\"\",IF(③選手情報入力!I67=\"\",\"\",IF(I58=1,VLOOKUP(③選手情報入力!I67,種目情報!$A$4:$C$39,3,FALSE),VLOOKUP(③選手情報入力!I67,種目情報!$E$4:$G$40,3,FALSE))))","v":""},{"$f":"IF(E58=\"\",\"\",IF(③選手情報入力!L67=\"\",\"\",IF(I58=1,VLOOKUP(③選手情報入力!L67,種目情報!$A$4:$B$39,2,FALSE),VLOOKUP(③選手情報入力!L67,種目情報!$E$4:$F$40,2,FALSE))))","v":""},{"$f":"IF(E58=\"\",\"\",IF(③選手情報入力!M67=\"\",\"\",③選手情報入力!M67))","v":""},{"$f":"IF(E58=\"\",\"\",IF(③選手情報入力!K67=\"\",0,1))","v":""},{"$f":"IF(E58=\"\",\"\",IF(③選手情報入力!L67=\"\",\"\",IF(I58=1,VLOOKUP(③選手情報入力!L67,種目情報!$A$4:$C$39,3,FALSE),VLOOKUP(③選手情報入力!L67,種目情報!$E$4:$G$40,3,FALSE))))","v":""},{"$f":"IF(E58=\"\",\"\",IF(③選手情報入力!O67=\"\",\"\",IF(I58=1,VLOOKUP(③選手情報入力!O67,種目情報!$A$4:$B$39,2,FALSE),VLOOKUP(③選手情報入力!O67,種目情報!$E$4:$F$40,2,FALSE))))","v":""},{"$f":"IF(E58=\"\",\"\",IF(③選手情報入力!P67=\"\",\"\",③選手情報入力!P67))","v":""},{"$f":"IF(E58=\"\",\"\",IF(③選手情報入力!N67=\"\",0,1))","v":""},{"$f":"IF(E58=\"\",\"\",IF(③選手情報入力!O67=\"\",\"\",IF(I58=1,VLOOKUP(③選手情報入力!O67,種目情報!$A$4:$C$39,3,FALSE),VLOOKUP(③選手情報入力!O67,種目情報!$E$4:$G$40,3,FALSE))))","v":""},{"$f":"IF(E58=\"\",\"\",IF(③選手情報入力!Q67=\"\",\"\",IF(I58=1,種目情報!$J$4,種目情報!$J$6)))","v":""},{"$f":"IF(E58=\"\",\"\",IF(③選手情報入力!Q67=\"\",\"\",IF(I58=1,IF(③選手情報入力!$R$6=\"\",\"\",③選手情報入力!$R$6),IF(③選手情報入力!$R$7=\"\",\"\",③選手情報入力!$R$7))))","v":""},{"$f":"IF(E58=\"\",\"\",IF(③選手情報入力!Q67=\"\",\"\",IF(I58=1,IF(③選手情報入力!$Q$6=\"\",0,1),IF(③選手情報入力!$Q$7=\"\",0,1))))","v":""},{"$f":"IF(E58=\"\",\"\",IF(③選手情報入力!Q67=\"\",\"\",2))","v":""},{"$f":"IF(E58=\"\",\"\",IF(③選手情報入力!S67=\"\",\"\",IF(I58=1,種目情報!$J$5,種目情報!$J$7)))","v":""},{"$f":"IF(E58=\"\",\"\",IF(③選手情報入力!S67=\"\",\"\",IF(I58=1,IF(③選手情報入力!$T$6=\"\",\"\",③選手情報入力!$T$6),IF(③選手情報入力!$T$7=\"\",\"\",③選手情報入力!$T$7))))","v":""},{"$f":"IF(E58=\"\",\"\",IF(③選手情報入力!S67=\"\",\"\",IF(I58=1,IF(③選手情報入力!$S$6=\"\",0,1),IF(③選手情報入力!$S$7=\"\",0,1))))","v":""},{"$f":"IF(E58=\"\",\"\",IF(③選手情報入力!S67=\"\",\"\",2))","v":""}]
[{"$f":"IF(E59=\"\",\"\",IF(①データ貼付け!A59=\"\",I60*1000000+②団体情報入力!$D$3*1000+③選手情報入力!A68,①データ貼付け!A59))","v":""},{"$f":"IF(E59=\"\",\"\",②団体情報入力!$D$3)","v":""},null,{"$f":"IF(③選手情報入力!B68=\"\",\"\",LEFT(Sheet2!B59,2))","v":""},{"$f":"IF(③選手情報入力!B68=\"\",\"\",REPLACE(Sheet2!B59,1,2,\"\"))","v":""},{"$f":"IF(E59=\"\",\"\",③選手情報入力!C68)","v":""},{"$f":"IF(E59=\"\",\"\",③選手情報入力!D68)","v":""},"",{"$f":"IF(E59=\"\",\"\",IF(③選手情報入力!F68=\"男\",1,2))","v":""},{"$f":"IF(E59=\"\",\"\",IF(③選手情報入力!G68=\"\",\"\",③選手情報入力!G68))","v":""},null,"","",null,{"$f":"IF(E59=\"\",\"\",IF(③選手情報入力!I68=\"\",\"\",IF(I59=1,VLOOKUP(③選手情報入力!I68,種目情報!$A$4:$B$35,2,FALSE),VLOOKUP(③選手情報入力!I68,種目情報!$E$4:$F$35,2,FALSE))))","v":""},{"$f":"IF(E59=\"\",\"\",IF(③選手情報入力!J68=\"\",\"\",③選手情報入力!J68))","v":""},{"$f":"IF(E59=\"\",\"\",IF(③選手情報入力!H68=\"\",0,1))","v":""},{"$f":"IF(E59=\"\",\"\",IF(③選手情報入力!I68=\"\",\"\",IF(I59=1,VLOOKUP(③選手情報入力!I68,種目情報!$A$4:$C$39,3,FALSE),VLOOKUP(③選手情報入力!I68,種目情報!$E$4:$G$40,3,FALSE))))","v":""},{"$f":"IF(E59=\"\",\"\",IF(③選手情報入力!L68=\"\",\"\",IF(I59=1,VLOOKUP(③選手情報入力!L68,種目情報!$A$4:$B$39,2,FALSE),VLOOKUP(③選手情報入力!L68,種目情報!$E$4:$F$40,2,FALSE))))","v":""},{"$f":"IF(E59=\"\",\"\",IF(③選手情報入力!M68=\"\",\"\",③選手情報入力!M68))","v":""},{"$f":"IF(E59=\"\",\"\",IF(③選手情報入力!K68=\"\",0,1))","v":""},{"$f":"IF(E59=\"\",\"\",IF(③選手情報入力!L68=\"\",\"\",IF(I59=1,VLOOKUP(③選手情報入力!L68,種目情報!$A$4:$C$39,3,FALSE),VLOOKUP(③選手情報入力!L68,種目情報!$E$4:$G$40,3,FALSE))))","v":""},{"$f":"IF(E59=\"\",\"\",IF(③選手情報入力!O68=\"\",\"\",IF(I59=1,VLOOKUP(③選手情報入力!O68,種目情報!$A$4:$B$39,2,FALSE),VLOOKUP(③選手情報入力!O68,種目情報!$E$4:$F$40,2,FALSE))))","v":""},{"$f":"IF(E59=\"\",\"\",IF(③選手情報入力!P68=\"\",\"\",③選手情報入力!P68))","v":""},{"$f":"IF(E59=\"\",\"\",IF(③選手情報入力!N68=\"\",0,1))","v":""},{"$f":"IF(E59=\"\",\"\",IF(③選手情報入力!O68=\"\",\"\",IF(I59=1,VLOOKUP(③選手情報入力!O68,種目情報!$A$4:$C$39,3,FALSE),VLOOKUP(③選手情報入力!O68,種目情報!$E$4:$G$40,3,FALSE))))","v":""},{"$f":"IF(E59=\"\",\"\",IF(③選手情報入力!Q68=\"\",\"\",IF(I59=1,種目情報!$J$4,種目情報!$J$6)))","v":""},{"$f":"IF(E59=\"\",\"\",IF(③選手情報入力!Q68=\"\",\"\",IF(I59=1,IF(③選手情報入力!$R$6=\"\",\"\",③選手情報入力!$R$6),IF(③選手情報入力!$R$7=\"\",\"\",③選手情報入力!$R$7))))","v":""},{"$f":"IF(E59=\"\",\"\",IF(③選手情報入力!Q68=\"\",\"\",IF(I59=1,IF(③選手情報入力!$Q$6=\"\",0,1),IF(③選手情報入力!$Q$7=\"\",0,1))))","v":""},{"$f":"IF(E59=\"\",\"\",IF(③選手情報入力!Q68=\"\",\"\",2))","v":""},{"$f":"IF(E59=\"\",\"\",IF(③選手情報入力!S68=\"\",\"\",IF(I59=1,種目情報!$J$5,種目情報!$J$7)))","v":""},{"$f":"IF(E59=\"\",\"\",IF(③選手情報入力!S68=\"\",\"\",IF(I59=1,IF(③選手情報入力!$T$6=\"\",\"\",③選手情報入力!$T$6),IF(③選手情報入力!$T$7=\"\",\"\",③選手情報入力!$T$7))))","v":""},{"$f":"IF(E59=\"\",\"\",IF(③選手情報入力!S68=\"\",\"\",IF(I59=1,IF(③選手情報入力!$S$6=\"\",0,1),IF(③選手情報入力!$S$7=\"\",0,1))))","v":""},{"$f":"IF(E59=\"\",\"\",IF(③選手情報入力!S68=\"\",\"\",2))","v":""}]
[{"$f":"IF(E60=\"\",\"\",IF(①データ貼付け!A60=\"\",I61*1000000+②団体情報入力!$D$3*1000+③選手情報入力!A69,①データ貼付け!A60))","v":""},{"$f":"IF(E60=\"\",\"\",②団体情報入力!$D$3)","v":""},null,{"$f":"IF(③選手情報入力!B69=\"\",\"\",LEFT(Sheet2!B60,2))","v":""},{"$f":"IF(③選手情報入力!B69=\"\",\"\",REPLACE(Sheet2!B60,1,2,\"\"))","v":""},{"$f":"IF(E60=\"\",\"\",③選手情報入力!C69)","v":""},{"$f":"IF(E60=\"\",\"\",③選手情報入力!D69)","v":""},"",{"$f":"IF(E60=\"\",\"\",IF(③選手情報入力!F69=\"男\",1,2))","v":""},{"$f":"IF(E60=\"\",\"\",IF(③選手情報入力!G69=\"\",\"\",③選手情報入力!G69))","v":""},null,"","",null,{"$f":"IF(E60=\"\",\"\",IF(③選手情報入力!I69=\"\",\"\",IF(I60=1,VLOOKUP(③選手情報入力!I69,種目情報!$A$4:$B$35,2,FALSE),VLOOKUP(③選手情報入力!I69,種目情報!$E$4:$F$35,2,FALSE))))","v":""},{"$f":"IF(E60=\"\",\"\",IF(③選手情報入力!J69=\"\",\"\",③選手情報入力!J69))","v":""},{"$f":"IF(E60=\"\",\"\",IF(③選手情報入力!H69=\"\",0,1))","v":""},{"$f":"IF(E60=\"\",\"\",IF(③選手情報入力!I69=\"\",\"\",IF(I60=1,VLOOKUP(③選手情報入力!I69,種目情報!$A$4:$C$39,3,FALSE),VLOOKUP(③選手情報入力!I69,種目情報!$E$4:$G$40,3,FALSE))))","v":""},{"$f":"IF(E60=\"\",\"\",IF(③選手情報入力!L69=\"\",\"\",IF(I60=1,VLOOKUP(③選手情報入力!L69,種目情報!$A$4:$B$39,2,FALSE),VLOOKUP(③選手情報入力!L69,種目情報!$E$4:$F$40,2,FALSE))))","v":""},{"$f":"IF(E60=\"\",\"\",IF(③選手情報入力!M69=\"\",\"\",③選手情報入力!M69))","v":""},{"$f":"IF(E60=\"\",\"\",IF(③選手情報入力!K69=\"\",0,1))","v":""},{"$f":"IF(E60=\"\",\"\",IF(③選手情報入力!L69=\"\",\"\",IF(I60=1,VLOOKUP(③選手情報入力!L69,種目情報!$A$4:$C$39,3,FALSE),VLOOKUP(③選手情報入力!L69,種目情報!$E$4:$G$40,3,FALSE))))","v":""},{"$f":"IF(E60=\"\",\"\",IF(③選手情報入力!O69=\"\",\"\",IF(I60=1,VLOOKUP(③選手情報入力!O69,種目情報!$A$4:$B$39,2,FALSE),VLOOKUP(③選手情報入力!O69,種目情報!$E$4:$F$40,2,FALSE))))","v":""},{"$f":"IF(E60=\"\",\"\",IF(③選手情報入力!P69=\"\",\"\",③選手情報入力!P69))","v":""},{"$f":"IF(E60=\"\",\"\",IF(③選手情報入力!N69=\"\",0,1))","v":""},{"$f":"IF(E60=\"\",\"\",IF(③選手情報入力!O69=\"\",\"\",IF(I60=1,VLOOKUP(③選手情報入力!O69,種目情報!$A$4:$C$39,3,FALSE),VLOOKUP(③選手情報入力!O69,種目情報!$E$4:$G$40,3,FALSE))))","v":""},{"$f":"IF(E60=\"\",\"\",IF(③選手情報入力!Q69=\"\",\"\",IF(I60=1,種目情報!$J$4,種目情報!$J$6)))","v":""},{"$f":"IF(E60=\"\",\"\",IF(③選手情報入力!Q69=\"\",\"\",IF(I60=1,IF(③選手情報入力!$R$6=\"\",\"\",③選手情報入力!$R$6),IF(③選手情報入力!$R$7=\"\",\"\",③選手情報入力!$R$7))))","v":""},{"$f":"IF(E60=\"\",\"\",IF(③選手情報入力!Q69=\"\",\"\",IF(I60=1,IF(③選手情報入力!$Q$6=\"\",0,1),IF(③選手情報入力!$Q$7=\"\",0,1))))","v":""},{"$f":"IF(E60=\"\",\"\",IF(③選手情報入力!Q69=\"\",\"\",2))","v":""},{"$f":"IF(E60=\"\",\"\",IF(③選手情報入力!S69=\"\",\"\",IF(I60=1,種目情報!$J$5,種目情報!$J$7)))","v":""},{"$f":"IF(E60=\"\",\"\",IF(③選手情報入力!S69=\"\",\"\",IF(I60=1,IF(③選手情報入力!$T$6=\"\",\"\",③選手情報入力!$T$6),IF(③選手情報入力!$T$7=\"\",\"\",③選手情報入力!$T$7))))","v":""},{"$f":"IF(E60=\"\",\"\",IF(③選手情報入力!S69=\"\",\"\",IF(I60=1,IF(③選手情報入力!$S$6=\"\",0,1),IF(③選手情報入力!$S$7=\"\",0,1))))","v":""},{"$f":"IF(E60=\"\",\"\",IF(③選手情報入力!S69=\"\",\"\",2))","v":""}]
[{"$f":"IF(E61=\"\",\"\",IF(①データ貼付け!A61=\"\",I62*1000000+②団体情報入力!$D$3*1000+③選手情報入力!A70,①データ貼付け!A61))","v":""},{"$f":"IF(E61=\"\",\"\",②団体情報入力!$D$3)","v":""},null,{"$f":"IF(③選手情報入力!B70=\"\",\"\",LEFT(Sheet2!B61,2))","v":""},{"$f":"IF(③選手情報入力!B70=\"\",\"\",REPLACE(Sheet2!B61,1,2,\"\"))","v":""},{"$f":"IF(E61=\"\",\"\",③選手情報入力!C70)","v":""},{"$f":"IF(E61=\"\",\"\",③選手情報入力!D70)","v":""},"",{"$f":"IF(E61=\"\",\"\",IF(③選手情報入力!F70=\"男\",1,2))","v":""},{"$f":"IF(E61=\"\",\"\",IF(③選手情報入力!G70=\"\",\"\",③選手情報入力!G70))","v":""},null,"","",null,{"$f":"IF(E61=\"\",\"\",IF(③選手情報入力!I70=\"\",\"\",IF(I61=1,VLOOKUP(③選手情報入力!I70,種目情報!$A$4:$B$35,2,FALSE),VLOOKUP(③選手情報入力!I70,種目情報!$E$4:$F$35,2,FALSE))))","v":""},{"$f":"IF(E61=\"\",\"\",IF(③選手情報入力!J70=\"\",\"\",③選手情報入力!J70))","v":""},{"$f":"IF(E61=\"\",\"\",IF(③選手情報入力!H70=\"\",0,1))","v":""},{"$f":"IF(E61=\"\",\"\",IF(③選手情報入力!I70=\"\",\"\",IF(I61=1,VLOOKUP(③選手情報入力!I70,種目情報!$A$4:$C$39,3,FALSE),VLOOKUP(③選手情報入力!I70,種目情報!$E$4:$G$40,3,FALSE))))","v":""},{"$f":"IF(E61=\"\",\"\",IF(③選手情報入力!L70=\"\",\"\",IF(I61=1,VLOOKUP(③選手情報入力!L70,種目情報!$A$4:$B$39,2,FALSE),VLOOKUP(③選手情報入力!L70,種目情報!$E$4:$F$40,2,FALSE))))","v":""},{"$f":"IF(E61=\"\",\"\",IF(③選手情報入力!M70=\"\",\"\",③選手情報入力!M70))","v":""},{"$f":"IF(E61=\"\",\"\",IF(③選手情報入力!K70=\"\",0,1))","v":""},{"$f":"IF(E61=\"\",\"\",IF(③選手情報入力!L70=\"\",\"\",IF(I61=1,VLOOKUP(③選手情報入力!L70,種目情報!$A$4:$C$39,3,FALSE),VLOOKUP(③選手情報入力!L70,種目情報!$E$4:$G$40,3,FALSE))))","v":""},{"$f":"IF(E61=\"\",\"\",IF(③選手情報入力!O70=\"\",\"\",IF(I61=1,VLOOKUP(③選手情報入力!O70,種目情報!$A$4:$B$39,2,FALSE),VLOOKUP(③選手情報入力!O70,種目情報!$E$4:$F$40,2,FALSE))))","v":""},{"$f":"IF(E61=\"\",\"\",IF(③選手情報入力!P70=\"\",\"\",③選手情報入力!P70))","v":""},{"$f":"IF(E61=\"\",\"\",IF(③選手情報入力!N70=\"\",0,1))","v":""},{"$f":"IF(E61=\"\",\"\",IF(③選手情報入力!O70=\"\",\"\",IF(I61=1,VLOOKUP(③選手情報入力!O70,種目情報!$A$4:$C$39,3,FALSE),VLOOKUP(③選手情報入力!O70,種目情報!$E$4:$G$40,3,FALSE))))","v":""},{"$f":"IF(E61=\"\",\"\",IF(③選手情報入力!Q70=\"\",\"\",IF(I61=1,種目情報!$J$4,種目情報!$J$6)))","v":""},{"$f":"IF(E61=\"\",\"\",IF(③選手情報入力!Q70=\"\",\"\",IF(I61=1,IF(③選手情報入力!$R$6=\"\",\"\",③選手情報入力!$R$6),IF(③選手情報入力!$R$7=\"\",\"\",③選手情報入力!$R$7))))","v":""},{"$f":"IF(E61=\"\",\"\",IF(③選手情報入力!Q70=\"\",\"\",IF(I61=1,IF(③選手情報入力!$Q$6=\"\",0,1),IF(③選手情報入力!$Q$7=\"\",0,1))))","v":""},{"$f":"IF(E61=\"\",\"\",IF(③選手情報入力!Q70=\"\",\"\",2))","v":""},{"$f":"IF(E61=\"\",\"\",IF(③選手情報入力!S70=\"\",\"\",IF(I61=1,種目情報!$J$5,種目情報!$J$7)))","v":""},{"$f":"IF(E61=\"\",\"\",IF(③選手情報入力!S70=\"\",\"\",IF(I61=1,IF(③選手情報入力!$T$6=\"\",\"\",③選手情報入力!$T$6),IF(③選手情報入力!$T$7=\"\",\"\",③選手情報入力!$T$7))))","v":""},{"$f":"IF(E61=\"\",\"\",IF(③選手情報入力!S70=\"\",\"\",IF(I61=1,IF(③選手情報入力!$S$6=\"\",0,1),IF(③選手情報入力!$S$7=\"\",0,1))))","v":""},{"$f":"IF(E61=\"\",\"\",IF(③選手情報入力!S70=\"\",\"\",2))","v":""}]
[{"$f":"IF(E62=\"\",\"\",IF(①データ貼付け!A62=\"\",I63*1000000+②団体情報入力!$D$3*1000+③選手情報入力!A71,①データ貼付け!A62))","v":""},{"$f":"IF(E62=\"\",\"\",②団体情報入力!$D$3)","v":""},null,{"$f":"IF(③選手情報入力!B71=\"\",\"\",LEFT(Sheet2!B62,2))","v":""},{"$f":"IF(③選手情報入力!B71=\"\",\"\",REPLACE(Sheet2!B62,1,2,\"\"))","v":""},{"$f":"IF(E62=\"\",\"\",③選手情報入力!C71)","v":""},{"$f":"IF(E62=\"\",\"\",③選手情報入力!D71)","v":""},"",{"$f":"IF(E62=\"\",\"\",IF(③選手情報入力!F71=\"男\",1,2))","v":""},{"$f":"IF(E62=\"\",\"\",IF(③選手情報入力!G71=\"\",\"\",③選手情報入力!G71))","v":""},null,"","",null,{"$f":"IF(E62=\"\",\"\",IF(③選手情報入力!I71=\"\",\"\",IF(I62=1,VLOOKUP(③選手情報入力!I71,種目情報!$A$4:$B$35,2,FALSE),VLOOKUP(③選手情報入力!I71,種目情報!$E$4:$F$35,2,FALSE))))","v":""},{"$f":"IF(E62=\"\",\"\",IF(③選手情報入力!J71=\"\",\"\",③選手情報入力!J71))","v":""},{"$f":"IF(E62=\"\",\"\",IF(③選手情報入力!H71=\"\",0,1))","v":""},{"$f":"IF(E62=\"\",\"\",IF(③選手情報入力!I71=\"\",\"\",IF(I62=1,VLOOKUP(③選手情報入力!I71,種目情報!$A$4:$C$39,3,FALSE),VLOOKUP(③選手情報入力!I71,種目情報!$E$4:$G$40,3,FALSE))))","v":""},{"$f":"IF(E62=\"\",\"\",IF(③選手情報入力!L71=\"\",\"\",IF(I62=1,VLOOKUP(③選手情報入力!L71,種目情報!$A$4:$B$39,2,FALSE),VLOOKUP(③選手情報入力!L71,種目情報!$E$4:$F$40,2,FALSE))))","v":""},{"$f":"IF(E62=\"\",\"\",IF(③選手情報入力!M71=\"\",\"\",③選手情報入力!M71))","v":""},{"$f":"IF(E62=\"\",\"\",IF(③選手情報入力!K71=\"\",0,1))","v":""},{"$f":"IF(E62=\"\",\"\",IF(③選手情報入力!L71=\"\",\"\",IF(I62=1,VLOOKUP(③選手情報入力!L71,種目情報!$A$4:$C$39,3,FALSE),VLOOKUP(③選手情報入力!L71,種目情報!$E$4:$G$40,3,FALSE))))","v":""},{"$f":"IF(E62=\"\",\"\",IF(③選手情報入力!O71=\"\",\"\",IF(I62=1,VLOOKUP(③選手情報入力!O71,種目情報!$A$4:$B$39,2,FALSE),VLOOKUP(③選手情報入力!O71,種目情報!$E$4:$F$40,2,FALSE))))","v":""},{"$f":"IF(E62=\"\",\"\",IF(③選手情報入力!P71=\"\",\"\",③選手情報入力!P71))","v":""},{"$f":"IF(E62=\"\",\"\",IF(③選手情報入力!N71=\"\",0,1))","v":""},{"$f":"IF(E62=\"\",\"\",IF(③選手情報入力!O71=\"\",\"\",IF(I62=1,VLOOKUP(③選手情報入力!O71,種目情報!$A$4:$C$39,3,FALSE),VLOOKUP(③選手情報入力!O71,種目情報!$E$4:$G$40,3,FALSE))))","v":""},{"$f":"IF(E62=\"\",\"\",IF(③選手情報入力!Q71=\"\",\"\",IF(I62=1,種目情報!$J$4,種目情報!$J$6)))","v":""},{"$f":"IF(E62=\"\",\"\",IF(③選手情報入力!Q71=\"\",\"\",IF(I62=1,IF(③選手情報入力!$R$6=\"\",\"\",③選手情報入力!$R$6),IF(③選手情報入力!$R$7=\"\",\"\",③選手情報入力!$R$7))))","v":""},{"$f":"IF(E62=\"\",\"\",IF(③選手情報入力!Q71=\"\",\"\",IF(I62=1,IF(③選手情報入力!$Q$6=\"\",0,1),IF(③選手情報入力!$Q$7=\"\",0,1))))","v":""},{"$f":"IF(E62=\"\",\"\",IF(③選手情報入力!Q71=\"\",\"\",2))","v":""},{"$f":"IF(E62=\"\",\"\",IF(③選手情報入力!S71=\"\",\"\",IF(I62=1,種目情報!$J$5,種目情報!$J$7)))","v":""},{"$f":"IF(E62=\"\",\"\",IF(③選手情報入力!S71=\"\",\"\",IF(I62=1,IF(③選手情報入力!$T$6=\"\",\"\",③選手情報入力!$T$6),IF(③選手情報入力!$T$7=\"\",\"\",③選手情報入力!$T$7))))","v":""},{"$f":"IF(E62=\"\",\"\",IF(③選手情報入力!S71=\"\",\"\",IF(I62=1,IF(③選手情報入力!$S$6=\"\",0,1),IF(③選手情報入力!$S$7=\"\",0,1))))","v":""},{"$f":"IF(E62=\"\",\"\",IF(③選手情報入力!S71=\"\",\"\",2))","v":""}]
[{"$f":"IF(E63=\"\",\"\",IF(①データ貼付け!A63=\"\",I64*1000000+②団体情報入力!$D$3*1000+③選手情報入力!A72,①データ貼付け!A63))","v":""},{"$f":"IF(E63=\"\",\"\",②団体情報入力!$D$3)","v":""},null,{"$f":"IF(③選手情報入力!B72=\"\",\"\",LEFT(Sheet2!B63,2))","v":""},{"$f":"IF(③選手情報入力!B72=\"\",\"\",REPLACE(Sheet2!B63,1,2,\"\"))","v":""},{"$f":"IF(E63=\"\",\"\",③選手情報入力!C72)","v":""},{"$f":"IF(E63=\"\",\"\",③選手情報入力!D72)","v":""},"",{"$f":"IF(E63=\"\",\"\",IF(③選手情報入力!F72=\"男\",1,2))","v":""},{"$f":"IF(E63=\"\",\"\",IF(③選手情報入力!G72=\"\",\"\",③選手情報入力!G72))","v":""},null,"","",null,{"$f":"IF(E63=\"\",\"\",IF(③選手情報入力!I72=\"\",\"\",IF(I63=1,VLOOKUP(③選手情報入力!I72,種目情報!$A$4:$B$35,2,FALSE),VLOOKUP(③選手情報入力!I72,種目情報!$E$4:$F$35,2,FALSE))))","v":""},{"$f":"IF(E63=\"\",\"\",IF(③選手情報入力!J72=\"\",\"\",③選手情報入力!J72))","v":""},{"$f":"IF(E63=\"\",\"\",IF(③選手情報入力!H72=\"\",0,1))","v":""},{"$f":"IF(E63=\"\",\"\",IF(③選手情報入力!I72=\"\",\"\",IF(I63=1,VLOOKUP(③選手情報入力!I72,種目情報!$A$4:$C$39,3,FALSE),VLOOKUP(③選手情報入力!I72,種目情報!$E$4:$G$40,3,FALSE))))","v":""},{"$f":"IF(E63=\"\",\"\",IF(③選手情報入力!L72=\"\",\"\",IF(I63=1,VLOOKUP(③選手情報入力!L72,種目情報!$A$4:$B$39,2,FALSE),VLOOKUP(③選手情報入力!L72,種目情報!$E$4:$F$40,2,FALSE))))","v":""},{"$f":"IF(E63=\"\",\"\",IF(③選手情報入力!M72=\"\",\"\",③選手情報入力!M72))","v":""},{"$f":"IF(E63=\"\",\"\",IF(③選手情報入力!K72=\"\",0,1))","v":""},{"$f":"IF(E63=\"\",\"\",IF(③選手情報入力!L72=\"\",\"\",IF(I63=1,VLOOKUP(③選手情報入力!L72,種目情報!$A$4:$C$39,3,FALSE),VLOOKUP(③選手情報入力!L72,種目情報!$E$4:$G$40,3,FALSE))))","v":""},{"$f":"IF(E63=\"\",\"\",IF(③選手情報入力!O72=\"\",\"\",IF(I63=1,VLOOKUP(③選手情報入力!O72,種目情報!$A$4:$B$39,2,FALSE),VLOOKUP(③選手情報入力!O72,種目情報!$E$4:$F$40,2,FALSE))))","v":""},{"$f":"IF(E63=\"\",\"\",IF(③選手情報入力!P72=\"\",\"\",③選手情報入力!P72))","v":""},{"$f":"IF(E63=\"\",\"\",IF(③選手情報入力!N72=\"\",0,1))","v":""},{"$f":"IF(E63=\"\",\"\",IF(③選手情報入力!O72=\"\",\"\",IF(I63=1,VLOOKUP(③選手情報入力!O72,種目情報!$A$4:$C$39,3,FALSE),VLOOKUP(③選手情報入力!O72,種目情報!$E$4:$G$40,3,FALSE))))","v":""},{"$f":"IF(E63=\"\",\"\",IF(③選手情報入力!Q72=\"\",\"\",IF(I63=1,種目情報!$J$4,種目情報!$J$6)))","v":""},{"$f":"IF(E63=\"\",\"\",IF(③選手情報入力!Q72=\"\",\"\",IF(I63=1,IF(③選手情報入力!$R$6=\"\",\"\",③選手情報入力!$R$6),IF(③選手情報入力!$R$7=\"\",\"\",③選手情報入力!$R$7))))","v":""},{"$f":"IF(E63=\"\",\"\",IF(③選手情報入力!Q72=\"\",\"\",IF(I63=1,IF(③選手情報入力!$Q$6=\"\",0,1),IF(③選手情報入力!$Q$7=\"\",0,1))))","v":""},{"$f":"IF(E63=\"\",\"\",IF(③選手情報入力!Q72=\"\",\"\",2))","v":""},{"$f":"IF(E63=\"\",\"\",IF(③選手情報入力!S72=\"\",\"\",IF(I63=1,種目情報!$J$5,種目情報!$J$7)))","v":""},{"$f":"IF(E63=\"\",\"\",IF(③選手情報入力!S72=\"\",\"\",IF(I63=1,IF(③選手情報入力!$T$6=\"\",\"\",③選手情報入力!$T$6),IF(③選手情報入力!$T$7=\"\",\"\",③選手情報入力!$T$7))))","v":""},{"$f":"IF(E63=\"\",\"\",IF(③選手情報入力!S72=\"\",\"\",IF(I63=1,IF(③選手情報入力!$S$6=\"\",0,1),IF(③選手情報入力!$S$7=\"\",0,1))))","v":""},{"$f":"IF(E63=\"\",\"\",IF(③選手情報入力!S72=\"\",\"\",2))","v":""}]
[{"$f":"IF(E64=\"\",\"\",IF(①データ貼付け!A64=\"\",I65*1000000+②団体情報入力!$D$3*1000+③選手情報入力!A73,①データ貼付け!A64))","v":""},{"$f":"IF(E64=\"\",\"\",②団体情報入力!$D$3)","v":""},null,{"$f":"IF(③選手情報入力!B73=\"\",\"\",LEFT(Sheet2!B64,2))","v":""},{"$f":"IF(③選手情報入力!B73=\"\",\"\",REPLACE(Sheet2!B64,1,2,\"\"))","v":""},{"$f":"IF(E64=\"\",\"\",③選手情報入力!C73)","v":""},{"$f":"IF(E64=\"\",\"\",③選手情報入力!D73)","v":""},"",{"$f":"IF(E64=\"\",\"\",IF(③選手情報入力!F73=\"男\",1,2))","v":""},{"$f":"IF(E64=\"\",\"\",IF(③選手情報入力!G73=\"\",\"\",③選手情報入力!G73))","v":""},null,"","",null,{"$f":"IF(E64=\"\",\"\",IF(③選手情報入力!I73=\"\",\"\",IF(I64=1,VLOOKUP(③選手情報入力!I73,種目情報!$A$4:$B$35,2,FALSE),VLOOKUP(③選手情報入力!I73,種目情報!$E$4:$F$35,2,FALSE))))","v":""},{"$f":"IF(E64=\"\",\"\",IF(③選手情報入力!J73=\"\",\"\",③選手情報入力!J73))","v":""},{"$f":"IF(E64=\"\",\"\",IF(③選手情報入力!H73=\"\",0,1))","v":""},{"$f":"IF(E64=\"\",\"\",IF(③選手情報入力!I73=\"\",\"\",IF(I64=1,VLOOKUP(③選手情報入力!I73,種目情報!$A$4:$C$39,3,FALSE),VLOOKUP(③選手情報入力!I73,種目情報!$E$4:$G$40,3,FALSE))))","v":""},{"$f":"IF(E64=\"\",\"\",IF(③選手情報入力!L73=\"\",\"\",IF(I64=1,VLOOKUP(③選手情報入力!L73,種目情報!$A$4:$B$39,2,FALSE),VLOOKUP(③選手情報入力!L73,種目情報!$E$4:$F$40,2,FALSE))))","v":""},{"$f":"IF(E64=\"\",\"\",IF(③選手情報入力!M73=\"\",\"\",③選手情報入力!M73))","v":""},{"$f":"IF(E64=\"\",\"\",IF(③選手情報入力!K73=\"\",0,1))","v":""},{"$f":"IF(E64=\"\",\"\",IF(③選手情報入力!L73=\"\",\"\",IF(I64=1,VLOOKUP(③選手情報入力!L73,種目情報!$A$4:$C$39,3,FALSE),VLOOKUP(③選手情報入力!L73,種目情報!$E$4:$G$40,3,FALSE))))","v":""},{"$f":"IF(E64=\"\",\"\",IF(③選手情報入力!O73=\"\",\"\",IF(I64=1,VLOOKUP(③選手情報入力!O73,種目情報!$A$4:$B$39,2,FALSE),VLOOKUP(③選手情報入力!O73,種目情報!$E$4:$F$40,2,FALSE))))","v":""},{"$f":"IF(E64=\"\",\"\",IF(③選手情報入力!P73=\"\",\"\",③選手情報入力!P73))","v":""},{"$f":"IF(E64=\"\",\"\",IF(③選手情報入力!N73=\"\",0,1))","v":""},{"$f":"IF(E64=\"\",\"\",IF(③選手情報入力!O73=\"\",\"\",IF(I64=1,VLOOKUP(③選手情報入力!O73,種目情報!$A$4:$C$39,3,FALSE),VLOOKUP(③選手情報入力!O73,種目情報!$E$4:$G$40,3,FALSE))))","v":""},{"$f":"IF(E64=\"\",\"\",IF(③選手情報入力!Q73=\"\",\"\",IF(I64=1,種目情報!$J$4,種目情報!$J$6)))","v":""},{"$f":"IF(E64=\"\",\"\",IF(③選手情報入力!Q73=\"\",\"\",IF(I64=1,IF(③選手情報入力!$R$6=\"\",\"\",③選手情報入力!$R$6),IF(③選手情報入力!$R$7=\"\",\"\",③選手情報入力!$R$7))))","v":""},{"$f":"IF(E64=\"\",\"\",IF(③選手情報入力!Q73=\"\",\"\",IF(I64=1,IF(③選手情報入力!$Q$6=\"\",0,1),IF(③選手情報入力!$Q$7=\"\",0,1))))","v":""},{"$f":"IF(E64=\"\",\"\",IF(③選手情報入力!Q73=\"\",\"\",2))","v":""},{"$f":"IF(E64=\"\",\"\",IF(③選手情報入力!S73=\"\",\"\",IF(I64=1,種目情報!$J$5,種目情報!$J$7)))","v":""},{"$f":"IF(E64=\"\",\"\",IF(③選手情報入力!S73=\"\",\"\",IF(I64=1,IF(③選手情報入力!$T$6=\"\",\"\",③選手情報入力!$T$6),IF(③選手情報入力!$T$7=\"\",\"\",③選手情報入力!$T$7))))","v":""},{"$f":"IF(E64=\"\",\"\",IF(③選手情報入力!S73=\"\",\"\",IF(I64=1,IF(③選手情報入力!$S$6=\"\",0,1),IF(③選手情報入力!$S$7=\"\",0,1))))","v":""},{"$f":"IF(E64=\"\",\"\",IF(③選手情報入力!S73=\"\",\"\",2))","v":""}]
[{"$f":"IF(E65=\"\",\"\",IF(①データ貼付け!A65=\"\",I66*1000000+②団体情報入力!$D$3*1000+③選手情報入力!A74,①データ貼付け!A65))","v":""},{"$f":"IF(E65=\"\",\"\",②団体情報入力!$D$3)","v":""},null,{"$f":"IF(③選手情報入力!B74=\"\",\"\",LEFT(Sheet2!B65,2))","v":""},{"$f":"IF(③選手情報入力!B74=\"\",\"\",REPLACE(Sheet2!B65,1,2,\"\"))","v":""},{"$f":"IF(E65=\"\",\"\",③選手情報入力!C74)","v":""},{"$f":"IF(E65=\"\",\"\",③選手情報入力!D74)","v":""},"",{"$f":"IF(E65=\"\",\"\",IF(③選手情報入力!F74=\"男\",1,2))","v":""},{"$f":"IF(E65=\"\",\"\",IF(③選手情報入力!G74=\"\",\"\",③選手情報入力!G74))","v":""},null,"","",null,{"$f":"IF(E65=\"\",\"\",IF(③選手情報入力!I74=\"\",\"\",IF(I65=1,VLOOKUP(③選手情報入力!I74,種目情報!$A$4:$B$35,2,FALSE),VLOOKUP(③選手情報入力!I74,種目情報!$E$4:$F$35,2,FALSE))))","v":""},{"$f":"IF(E65=\"\",\"\",IF(③選手情報入力!J74=\"\",\"\",③選手情報入力!J74))","v":""},{"$f":"IF(E65=\"\",\"\",IF(③選手情報入力!H74=\"\",0,1))","v":""},{"$f":"IF(E65=\"\",\"\",IF(③選手情報入力!I74=\"\",\"\",IF(I65=1,VLOOKUP(③選手情報入力!I74,種目情報!$A$4:$C$39,3,FALSE),VLOOKUP(③選手情報入力!I74,種目情報!$E$4:$G$40,3,FALSE))))","v":""},{"$f":"IF(E65=\"\",\"\",IF(③選手情報入力!L74=\"\",\"\",IF(I65=1,VLOOKUP(③選手情報入力!L74,種目情報!$A$4:$B$39,2,FALSE),VLOOKUP(③選手情報入力!L74,種目情報!$E$4:$F$40,2,FALSE))))","v":""},{"$f":"IF(E65=\"\",\"\",IF(③選手情報入力!M74=\"\",\"\",③選手情報入力!M74))","v":""},{"$f":"IF(E65=\"\",\"\",IF(③選手情報入力!K74=\"\",0,1))","v":""},{"$f":"IF(E65=\"\",\"\",IF(③選手情報入力!L74=\"\",\"\",IF(I65=1,VLOOKUP(③選手情報入力!L74,種目情報!$A$4:$C$39,3,FALSE),VLOOKUP(③選手情報入力!L74,種目情報!$E$4:$G$40,3,FALSE))))","v":""},{"$f":"IF(E65=\"\",\"\",IF(③選手情報入力!O74=\"\",\"\",IF(I65=1,VLOOKUP(③選手情報入力!O74,種目情報!$A$4:$B$39,2,FALSE),VLOOKUP(③選手情報入力!O74,種目情報!$E$4:$F$40,2,FALSE))))","v":""},{"$f":"IF(E65=\"\",\"\",IF(③選手情報入力!P74=\"\",\"\",③選手情報入力!P74))","v":""},{"$f":"IF(E65=\"\",\"\",IF(③選手情報入力!N74=\"\",0,1))","v":""},{"$f":"IF(E65=\"\",\"\",IF(③選手情報入力!O74=\"\",\"\",IF(I65=1,VLOOKUP(③選手情報入力!O74,種目情報!$A$4:$C$39,3,FALSE),VLOOKUP(③選手情報入力!O74,種目情報!$E$4:$G$40,3,FALSE))))","v":""},{"$f":"IF(E65=\"\",\"\",IF(③選手情報入力!Q74=\"\",\"\",IF(I65=1,種目情報!$J$4,種目情報!$J$6)))","v":""},{"$f":"IF(E65=\"\",\"\",IF(③選手情報入力!Q74=\"\",\"\",IF(I65=1,IF(③選手情報入力!$R$6=\"\",\"\",③選手情報入力!$R$6),IF(③選手情報入力!$R$7=\"\",\"\",③選手情報入力!$R$7))))","v":""},{"$f":"IF(E65=\"\",\"\",IF(③選手情報入力!Q74=\"\",\"\",IF(I65=1,IF(③選手情報入力!$Q$6=\"\",0,1),IF(③選手情報入力!$Q$7=\"\",0,1))))","v":""},{"$f":"IF(E65=\"\",\"\",IF(③選手情報入力!Q74=\"\",\"\",2))","v":""},{"$f":"IF(E65=\"\",\"\",IF(③選手情報入力!S74=\"\",\"\",IF(I65=1,種目情報!$J$5,種目情報!$J$7)))","v":""},{"$f":"IF(E65=\"\",\"\",IF(③選手情報入力!S74=\"\",\"\",IF(I65=1,IF(③選手情報入力!$T$6=\"\",\"\",③選手情報入力!$T$6),IF(③選手情報入力!$T$7=\"\",\"\",③選手情報入力!$T$7))))","v":""},{"$f":"IF(E65=\"\",\"\",IF(③選手情報入力!S74=\"\",\"\",IF(I65=1,IF(③選手情報入力!$S$6=\"\",0,1),IF(③選手情報入力!$S$7=\"\",0,1))))","v":""},{"$f":"IF(E65=\"\",\"\",IF(③選手情報入力!S74=\"\",\"\",2))","v":""}]
[{"$f":"IF(E66=\"\",\"\",IF(①データ貼付け!A66=\"\",I67*1000000+②団体情報入力!$D$3*1000+③選手情報入力!A75,①データ貼付け!A66))","v":""},{"$f":"IF(E66=\"\",\"\",②団体情報入力!$D$3)","v":""},null,{"$f":"IF(③選手情報入力!B75=\"\",\"\",LEFT(Sheet2!B66,2))","v":""},{"$f":"IF(③選手情報入力!B75=\"\",\"\",REPLACE(Sheet2!B66,1,2,\"\"))","v":""},{"$f":"IF(E66=\"\",\"\",③選手情報入力!C75)","v":""},{"$f":"IF(E66=\"\",\"\",③選手情報入力!D75)","v":""},"",{"$f":"IF(E66=\"\",\"\",IF(③選手情報入力!F75=\"男\",1,2))","v":""},{"$f":"IF(E66=\"\",\"\",IF(③選手情報入力!G75=\"\",\"\",③選手情報入力!G75))","v":""},null,"","",null,{"$f":"IF(E66=\"\",\"\",IF(③選手情報入力!I75=\"\",\"\",IF(I66=1,VLOOKUP(③選手情報入力!I75,種目情報!$A$4:$B$35,2,FALSE),VLOOKUP(③選手情報入力!I75,種目情報!$E$4:$F$35,2,FALSE))))","v":""},{"$f":"IF(E66=\"\",\"\",IF(③選手情報入力!J75=\"\",\"\",③選手情報入力!J75))","v":""},{"$f":"IF(E66=\"\",\"\",IF(③選手情報入力!H75=\"\",0,1))","v":""},{"$f":"IF(E66=\"\",\"\",IF(③選手情報入力!I75=\"\",\"\",IF(I66=1,VLOOKUP(③選手情報入力!I75,種目情報!$A$4:$C$39,3,FALSE),VLOOKUP(③選手情報入力!I75,種目情報!$E$4:$G$40,3,FALSE))))","v":""},{"$f":"IF(E66=\"\",\"\",IF(③選手情報入力!L75=\"\",\"\",IF(I66=1,VLOOKUP(③選手情報入力!L75,種目情報!$A$4:$B$39,2,FALSE),VLOOKUP(③選手情報入力!L75,種目情報!$E$4:$F$40,2,FALSE))))","v":""},{"$f":"IF(E66=\"\",\"\",IF(③選手情報入力!M75=\"\",\"\",③選手情報入力!M75))","v":""},{"$f":"IF(E66=\"\",\"\",IF(③選手情報入力!K75=\"\",0,1))","v":""},{"$f":"IF(E66=\"\",\"\",IF(③選手情報入力!L75=\"\",\"\",IF(I66=1,VLOOKUP(③選手情報入力!L75,種目情報!$A$4:$C$39,3,FALSE),VLOOKUP(③選手情報入力!L75,種目情報!$E$4:$G$40,3,FALSE))))","v":""},{"$f":"IF(E66=\"\",\"\",IF(③選手情報入力!O75=\"\",\"\",IF(I66=1,VLOOKUP(③選手情報入力!O75,種目情報!$A$4:$B$39,2,FALSE),VLOOKUP(③選手情報入力!O75,種目情報!$E$4:$F$40,2,FALSE))))","v":""},{"$f":"IF(E66=\"\",\"\",IF(③選手情報入力!P75=\"\",\"\",③選手情報入力!P75))","v":""},{"$f":"IF(E66=\"\",\"\",IF(③選手情報入力!N75=\"\",0,1))","v":""},{"$f":"IF(E66=\"\",\"\",IF(③選手情報入力!O75=\"\",\"\",IF(I66=1,VLOOKUP(③選手情報入力!O75,種目情報!$A$4:$C$39,3,FALSE),VLOOKUP(③選手情報入力!O75,種目情報!$E$4:$G$40,3,FALSE))))","v":""},{"$f":"IF(E66=\"\",\"\",IF(③選手情報入力!Q75=\"\",\"\",IF(I66=1,種目情報!$J$4,種目情報!$J$6)))","v":""},{"$f":"IF(E66=\"\",\"\",IF(③選手情報入力!Q75=\"\",\"\",IF(I66=1,IF(③選手情報入力!$R$6=\"\",\"\",③選手情報入力!$R$6),IF(③選手情報入力!$R$7=\"\",\"\",③選手情報入力!$R$7))))","v":""},{"$f":"IF(E66=\"\",\"\",IF(③選手情報入力!Q75=\"\",\"\",IF(I66=1,IF(③選手情報入力!$Q$6=\"\",0,1),IF(③選手情報入力!$Q$7=\"\",0,1))))","v":""},{"$f":"IF(E66=\"\",\"\",IF(③選手情報入力!Q75=\"\",\"\",2))","v":""},{"$f":"IF(E66=\"\",\"\",IF(③選手情報入力!S75=\"\",\"\",IF(I66=1,種目情報!$J$5,種目情報!$J$7)))","v":""},{"$f":"IF(E66=\"\",\"\",IF(③選手情報入力!S75=\"\",\"\",IF(I66=1,IF(③選手情報入力!$T$6=\"\",\"\",③選手情報入力!$T$6),IF(③選手情報入力!$T$7=\"\",\"\",③選手情報入力!$T$7))))","v":""},{"$f":"IF(E66=\"\",\"\",IF(③選手情報入力!S75=\"\",\"\",IF(I66=1,IF(③選手情報入力!$S$6=\"\",0,1),IF(③選手情報入力!$S$7=\"\",0,1))))","v":""},{"$f":"IF(E66=\"\",\"\",IF(③選手情報入力!S75=\"\",\"\",2))","v":""}]
[{"$f":"IF(E67=\"\",\"\",IF(①データ貼付け!A67=\"\",I68*1000000+②団体情報入力!$D$3*1000+③選手情報入力!A76,①データ貼付け!A67))","v":""},{"$f":"IF(E67=\"\",\"\",②団体情報入力!$D$3)","v":""},null,{"$f":"IF(③選手情報入力!B76=\"\",\"\",LEFT(Sheet2!B67,2))","v":""},{"$f":"IF(③選手情報入力!B76=\"\",\"\",REPLACE(Sheet2!B67,1,2,\"\"))","v":""},{"$f":"IF(E67=\"\",\"\",③選手情報入力!C76)","v":""},{"$f":"IF(E67=\"\",\"\",③選手情報入力!D76)","v":""},{"$f":"IF(E67=\"\",\"\",F67)","v":""},{"$f":"IF(E67=\"\",\"\",IF(③選手情報入力!F76=\"男\",1,2))","v":""},{"$f":"IF(E67=\"\",\"\",IF(③選手情報入力!G76=\"\",\"\",③選手情報入力!G76))","v":""},null,{"$f":"IF(E67=\"\",\"\",0)","v":""},{"$f":"IF(E67=\"\",\"\",\"愛知\")","v":""},null,{"$f":"IF(E67=\"\",\"\",IF(③選手情報入力!I76=\"\",\"\",IF(I67=1,VLOOKUP(③選手情報入力!I76,種目情報!$A$4:$B$35,2,FALSE),VLOOKUP(③選手情報入力!I76,種目情報!$E$4:$F$35,2,FALSE))))","v":""},{"$f":"IF(E67=\"\",\"\",IF(③選手情報入力!J76=\"\",\"\",③選手情報入力!J76))","v":""},{"$f":"IF(E67=\"\",\"\",IF(③選手情報入力!H76=\"\",0,1))","v":""},{"$f":"IF(E67=\"\",\"\",IF(③選手情報入力!I76=\"\",\"\",IF(I67=1,VLOOKUP(③選手情報入力!I76,種目情報!$A$4:$C$39,3,FALSE),VLOOKUP(③選手情報入力!I76,種目情報!$E$4:$G$40,3,FALSE))))","v":""},{"$f":"IF(E67=\"\",\"\",IF(③選手情報入力!L76=\"\",\"\",IF(I67=1,VLOOKUP(③選手情報入力!L76,種目情報!$A$4:$B$39,2,FALSE),VLOOKUP(③選手情報入力!L76,種目情報!$E$4:$F$40,2,FALSE))))","v":""},{"$f":"IF(E67=\"\",\"\",IF(③選手情報入力!M76=\"\",\"\",③選手情報入力!M76))","v":""},{"$f":"IF(E67=\"\",\"\",IF(③選手情報入力!K76=\"\",0,1))","v":""},{"$f":"IF(E67=\"\",\"\",IF(③選手情報入力!L76=\"\",\"\",IF(I67=1,VLOOKUP(③選手情報入力!L76,種目情報!$A$4:$C$39,3,FALSE),VLOOKUP(③選手情報入力!L76,種目情報!$E$4:$G$40,3,FALSE))))","v":""},{"$f":"IF(E67=\"\",\"\",IF(③選手情報入力!O76=\"\",\"\",IF(I67=1,VLOOKUP(③選手情報入力!O76,種目情報!$A$4:$B$39,2,FALSE),VLOOKUP(③選手情報入力!O76,種目情報!$E$4:$F$40,2,FALSE))))","v":""},{"$f":"IF(E67=\"\",\"\",IF(③選手情報入力!P76=\"\",\"\",③選手情報入力!P76))","v":""},{"$f":"IF(E67=\"\",\"\",IF(③選手情報入力!N76=\"\",0,1))","v":""},{"$f":"IF(E67=\"\",\"\",IF(③選手情報入力!O76=\"\",\"\",IF(I67=1,VLOOKUP(③選手情報入力!O76,種目情報!$A$4:$C$39,3,FALSE),VLOOKUP(③選手情報入力!O76,種目情報!$E$4:$G$40,3,FALSE))))","v":""},{"$f":"IF(E67=\"\",\"\",IF(③選手情報入力!Q76=\"\",\"\",IF(I67=1,種目情報!$J$4,種目情報!$J$6)))","v":""},{"$f":"IF(E67=\"\",\"\",IF(③選手情報入力!Q76=\"\",\"\",IF(I67=1,IF(③選手情報入力!$R$6=\"\",\"\",③選手情報入力!$R$6),IF(③選手情報入力!$R$7=\"\",\"\",③選手情報入力!$R$7))))","v":""},{"$f":"IF(E67=\"\",\"\",IF(③選手情報入力!Q76=\"\",\"\",IF(I67=1,IF(③選手情報入力!$Q$6=\"\",0,1),IF(③選手情報入力!$Q$7=\"\",0,1))))","v":""},{"$f":"IF(E67=\"\",\"\",IF(③選手情報入力!Q76=\"\",\"\",2))","v":""},{"$f":"IF(E67=\"\",\"\",IF(③選手情報入力!S76=\"\",\"\",IF(I67=1,種目情報!$J$5,種目情報!$J$7)))","v":""},{"$f":"IF(E67=\"\",\"\",IF(③選手情報入力!S76=\"\",\"\",IF(I67=1,IF(③選手情報入力!$T$6=\"\",\"\",③選手情報入力!$T$6),IF(③選手情報入力!$T$7=\"\",\"\",③選手情報入力!$T$7))))","v":""},{"$f":"IF(E67=\"\",\"\",IF(③選手情報入力!S76=\"\",\"\",IF(I67=1,IF(③選手情報入力!$S$6=\"\",0,1),IF(③選手情報入力!$S$7=\"\",0,1))))","v":""},{"$f":"IF(E67=\"\",\"\",IF(③選手情報入力!S76=\"\",\"\",2))","v":""}]
[{"$f":"IF(E68=\"\",\"\",IF(①データ貼付け!A68=\"\",I69*1000000+②団体情報入力!$D$3*1000+③選手情報入力!A77,①データ貼付け!A68))","v":""},{"$f":"IF(E68=\"\",\"\",②団体情報入力!$D$3)","v":""},null,{"$f":"IF(③選手情報入力!B77=\"\",\"\",LEFT(Sheet2!B68,2))","v":""},{"$f":"IF(③選手情報入力!B77=\"\",\"\",REPLACE(Sheet2!B68,1,2,\"\"))","v":""},{"$f":"IF(E68=\"\",\"\",③選手情報入力!C77)","v":""},{"$f":"IF(E68=\"\",\"\",③選手情報入力!D77)","v":""},"",{"$f":"IF(E68=\"\",\"\",IF(③選手情報入力!F77=\"男\",1,2))","v":""},{"$f":"IF(E68=\"\",\"\",IF(③選手情報入力!G77=\"\",\"\",③選手情報入力!G77))","v":""},null,"","",null,{"$f":"IF(E68=\"\",\"\",IF(③選手情報入力!I77=\"\",\"\",IF(I68=1,VLOOKUP(③選手情報入力!I77,種目情報!$A$4:$B$35,2,FALSE),VLOOKUP(③選手情報入力!I77,種目情報!$E$4:$F$35,2,FALSE))))","v":""},{"$f":"IF(E68=\"\",\"\",IF(③選手情報入力!J77=\"\",\"\",③選手情報入力!J77))","v":""},{"$f":"IF(E68=\"\",\"\",IF(③選手情報入力!H77=\"\",0,1))","v":""},{"$f":"IF(E68=\"\",\"\",IF(③選手情報入力!I77=\"\",\"\",IF(I68=1,VLOOKUP(③選手情報入力!I77,種目情報!$A$4:$C$39,3,FALSE),VLOOKUP(③選手情報入力!I77,種目情報!$E$4:$G$40,3,FALSE))))","v":""},{"$f":"IF(E68=\"\",\"\",IF(③選手情報入力!L77=\"\",\"\",IF(I68=1,VLOOKUP(③選手情報入力!L77,種目情報!$A$4:$B$39,2,FALSE),VLOOKUP(③選手情報入力!L77,種目情報!$E$4:$F$40,2,FALSE))))","v":""},{"$f":"IF(E68=\"\",\"\",IF(③選手情報入力!M77=\"\",\"\",③選手情報入力!M77))","v":""},{"$f":"IF(E68=\"\",\"\",IF(③選手情報入力!K77=\"\",0,1))","v":""},{"$f":"IF(E68=\"\",\"\",IF(③選手情報入力!L77=\"\",\"\",IF(I68=1,VLOOKUP(③選手情報入力!L77,種目情報!$A$4:$C$39,3,FALSE),VLOOKUP(③選手情報入力!L77,種目情報!$E$4:$G$40,3,FALSE))))","v":""},{"$f":"IF(E68=\"\",\"\",IF(③選手情報入力!O77=\"\",\"\",IF(I68=1,VLOOKUP(③選手情報入力!O77,種目情報!$A$4:$B$39,2,FALSE),VLOOKUP(③選手情報入力!O77,種目情報!$E$4:$F$40,2,FALSE))))","v":""},{"$f":"IF(E68=\"\",\"\",IF(③選手情報入力!P77=\"\",\"\",③選手情報入力!P77))","v":""},{"$f":"IF(E68=\"\",\"\",IF(③選手情報入力!N77=\"\",0,1))","v":""},{"$f":"IF(E68=\"\",\"\",IF(③選手情報入力!O77=\"\",\"\",IF(I68=1,VLOOKUP(③選手情報入力!O77,種目情報!$A$4:$C$39,3,FALSE),VLOOKUP(③選手情報入力!O77,種目情報!$E$4:$G$40,3,FALSE))))","v":""},{"$f":"IF(E68=\"\",\"\",IF(③選手情報入力!Q77=\"\",\"\",IF(I68=1,種目情報!$J$4,種目情報!$J$6)))","v":""},{"$f":"IF(E68=\"\",\"\",IF(③選手情報入力!Q77=\"\",\"\",IF(I68=1,IF(③選手情報入力!$R$6=\"\",\"\",③選手情報入力!$R$6),IF(③選手情報入力!$R$7=\"\",\"\",③選手情報入力!$R$7))))","v":""},{"$f":"IF(E68=\"\",\"\",IF(③選手情報入力!Q77=\"\",\"\",IF(I68=1,IF(③選手情報入力!$Q$6=\"\",0,1),IF(③選手情報入力!$Q$7=\"\",0,1))))","v":""},{"$f":"IF(E68=\"\",\"\",IF(③選手情報入力!Q77=\"\",\"\",2))","v":""},{"$f":"IF(E68=\"\",\"\",IF(③選手情報入力!S77=\"\",\"\",IF(I68=1,種目情報!$J$5,種目情報!$J$7)))","v":""},{"$f":"IF(E68=\"\",\"\",IF(③選手情報入力!S77=\"\",\"\",IF(I68=1,IF(③選手情報入力!$T$6=\"\",\"\",③選手情報入力!$T$6),IF(③選手情報入力!$T$7=\"\",\"\",③選手情報入力!$T$7))))","v":""},{"$f":"IF(E68=\"\",\"\",IF(③選手情報入力!S77=\"\",\"\",IF(I68=1,IF(③選手情報入力!$S$6=\"\",0,1),IF(③選手情報入力!$S$7=\"\",0,1))))","v":""},{"$f":"IF(E68=\"\",\"\",IF(③選手情報入力!S77=\"\",\"\",2))","v":""}]
[{"$f":"IF(E69=\"\",\"\",IF(①データ貼付け!A69=\"\",I70*1000000+②団体情報入力!$D$3*1000+③選手情報入力!A78,①データ貼付け!A69))","v":""},{"$f":"IF(E69=\"\",\"\",②団体情報入力!$D$3)","v":""},null,{"$f":"IF(③選手情報入力!B78=\"\",\"\",LEFT(Sheet2!B69,2))","v":""},{"$f":"IF(③選手情報入力!B78=\"\",\"\",REPLACE(Sheet2!B69,1,2,\"\"))","v":""},{"$f":"IF(E69=\"\",\"\",③選手情報入力!C78)","v":""},{"$f":"IF(E69=\"\",\"\",③選手情報入力!D78)","v":""},"",{"$f":"IF(E69=\"\",\"\",IF(③選手情報入力!F78=\"男\",1,2))","v":""},{"$f":"IF(E69=\"\",\"\",IF(③選手情報入力!G78=\"\",\"\",③選手情報入力!G78))","v":""},null,"","",null,{"$f":"IF(E69=\"\",\"\",IF(③選手情報入力!I78=\"\",\"\",IF(I69=1,VLOOKUP(③選手情報入力!I78,種目情報!$A$4:$B$35,2,FALSE),VLOOKUP(③選手情報入力!I78,種目情報!$E$4:$F$35,2,FALSE))))","v":""},{"$f":"IF(E69=\"\",\"\",IF(③選手情報入力!J78=\"\",\"\",③選手情報入力!J78))","v":""},{"$f":"IF(E69=\"\",\"\",IF(③選手情報入力!H78=\"\",0,1))","v":""},{"$f":"IF(E69=\"\",\"\",IF(③選手情報入力!I78=\"\",\"\",IF(I69=1,VLOOKUP(③選手情報入力!I78,種目情報!$A$4:$C$39,3,FALSE),VLOOKUP(③選手情報入力!I78,種目情報!$E$4:$G$40,3,FALSE))))","v":""},{"$f":"IF(E69=\"\",\"\",IF(③選手情報入力!L78=\"\",\"\",IF(I69=1,VLOOKUP(③選手情報入力!L78,種目情報!$A$4:$B$39,2,FALSE),VLOOKUP(③選手情報入力!L78,種目情報!$E$4:$F$40,2,FALSE))))","v":""},{"$f":"IF(E69=\"\",\"\",IF(③選手情報入力!M78=\"\",\"\",③選手情報入力!M78))","v":""},{"$f":"IF(E69=\"\",\"\",IF(③選手情報入力!K78=\"\",0,1))","v":""},{"$f":"IF(E69=\"\",\"\",IF(③選手情報入力!L78=\"\",\"\",IF(I69=1,VLOOKUP(③選手情報入力!L78,種目情報!$A$4:$C$39,3,FALSE),VLOOKUP(③選手情報入力!L78,種目情報!$E$4:$G$40,3,FALSE))))","v":""},{"$f":"IF(E69=\"\",\"\",IF(③選手情報入力!O78=\"\",\"\",IF(I69=1,VLOOKUP(③選手情報入力!O78,種目情報!$A$4:$B$39,2,FALSE),VLOOKUP(③選手情報入力!O78,種目情報!$E$4:$F$40,2,FALSE))))","v":""},{"$f":"IF(E69=\"\",\"\",IF(③選手情報入力!P78=\"\",\"\",③選手情報入力!P78))","v":""},{"$f":"IF(E69=\"\",\"\",IF(③選手情報入力!N78=\"\",0,1))","v":""},{"$f":"IF(E69=\"\",\"\",IF(③選手情報入力!O78=\"\",\"\",IF(I69=1,VLOOKUP(③選手情報入力!O78,種目情報!$A$4:$C$39,3,FALSE),VLOOKUP(③選手情報入力!O78,種目情報!$E$4:$G$40,3,FALSE))))","v":""},{"$f":"IF(E69=\"\",\"\",IF(③選手情報入力!Q78=\"\",\"\",IF(I69=1,種目情報!$J$4,種目情報!$J$6)))","v":""},{"$f":"IF(E69=\"\",\"\",IF(③選手情報入力!Q78=\"\",\"\",IF(I69=1,IF(③選手情報入力!$R$6=\"\",\"\",③選手情報入力!$R$6),IF(③選手情報入力!$R$7=\"\",\"\",③選手情報入力!$R$7))))","v":""},{"$f":"IF(E69=\"\",\"\",IF(③選手情報入力!Q78=\"\",\"\",IF(I69=1,IF(③選手情報入力!$Q$6=\"\",0,1),IF(③選手情報入力!$Q$7=\"\",0,1))))","v":""},{"$f":"IF(E69=\"\",\"\",IF(③選手情報入力!Q78=\"\",\"\",2))","v":""},{"$f":"IF(E69=\"\",\"\",IF(③選手情報入力!S78=\"\",\"\",IF(I69=1,種目情報!$J$5,種目情報!$J$7)))","v":""},{"$f":"IF(E69=\"\",\"\",IF(③選手情報入力!S78=\"\",\"\",IF(I69=1,IF(③選手情報入力!$T$6=\"\",\"\",③選手情報入力!$T$6),IF(③選手情報入力!$T$7=\"\",\"\",③選手情報入力!$T$7))))","v":""},{"$f":"IF(E69=\"\",\"\",IF(③選手情報入力!S78=\"\",\"\",IF(I69=1,IF(③選手情報入力!$S$6=\"\",0,1),IF(③選手情報入力!$S$7=\"\",0,1))))","v":""},{"$f":"IF(E69=\"\",\"\",IF(③選手情報入力!S78=\"\",\"\",2))","v":""}]
[{"$f":"IF(E70=\"\",\"\",IF(①データ貼付け!A70=\"\",I71*1000000+②団体情報入力!$D$3*1000+③選手情報入力!A79,①データ貼付け!A70))","v":""},{"$f":"IF(E70=\"\",\"\",②団体情報入力!$D$3)","v":""},null,{"$f":"IF(③選手情報入力!B79=\"\",\"\",LEFT(Sheet2!B70,2))","v":""},{"$f":"IF(③選手情報入力!B79=\"\",\"\",REPLACE(Sheet2!B70,1,2,\"\"))","v":""},{"$f":"IF(E70=\"\",\"\",③選手情報入力!C79)","v":""},{"$f":"IF(E70=\"\",\"\",③選手情報入力!D79)","v":""},"",{"$f":"IF(E70=\"\",\"\",IF(③選手情報入力!F79=\"男\",1,2))","v":""},{"$f":"IF(E70=\"\",\"\",IF(③選手情報入力!G79=\"\",\"\",③選手情報入力!G79))","v":""},null,"","",null,{"$f":"IF(E70=\"\",\"\",IF(③選手情報入力!I79=\"\",\"\",IF(I70=1,VLOOKUP(③選手情報入力!I79,種目情報!$A$4:$B$35,2,FALSE),VLOOKUP(③選手情報入力!I79,種目情報!$E$4:$F$35,2,FALSE))))","v":""},{"$f":"IF(E70=\"\",\"\",IF(③選手情報入力!J79=\"\",\"\",③選手情報入力!J79))","v":""},{"$f":"IF(E70=\"\",\"\",IF(③選手情報入力!H79=\"\",0,1))","v":""},{"$f":"IF(E70=\"\",\"\",IF(③選手情報入力!I79=\"\",\"\",IF(I70=1,VLOOKUP(③選手情報入力!I79,種目情報!$A$4:$C$39,3,FALSE),VLOOKUP(③選手情報入力!I79,種目情報!$E$4:$G$40,3,FALSE))))","v":""},{"$f":"IF(E70=\"\",\"\",IF(③選手情報入力!L79=\"\",\"\",IF(I70=1,VLOOKUP(③選手情報入力!L79,種目情報!$A$4:$B$39,2,FALSE),VLOOKUP(③選手情報入力!L79,種目情報!$E$4:$F$40,2,FALSE))))","v":""},{"$f":"IF(E70=\"\",\"\",IF(③選手情報入力!M79=\"\",\"\",③選手情報入力!M79))","v":""},{"$f":"IF(E70=\"\",\"\",IF(③選手情報入力!K79=\"\",0,1))","v":""},{"$f":"IF(E70=\"\",\"\",IF(③選手情報入力!L79=\"\",\"\",IF(I70=1,VLOOKUP(③選手情報入力!L79,種目情報!$A$4:$C$39,3,FALSE),VLOOKUP(③選手情報入力!L79,種目情報!$E$4:$G$40,3,FALSE))))","v":""},{"$f":"IF(E70=\"\",\"\",IF(③選手情報入力!O79=\"\",\"\",IF(I70=1,VLOOKUP(③選手情報入力!O79,種目情報!$A$4:$B$39,2,FALSE),VLOOKUP(③選手情報入力!O79,種目情報!$E$4:$F$40,2,FALSE))))","v":""},{"$f":"IF(E70=\"\",\"\",IF(③選手情報入力!P79=\"\",\"\",③選手情報入力!P79))","v":""},{"$f":"IF(E70=\"\",\"\",IF(③選手情報入力!N79=\"\",0,1))","v":""},{"$f":"IF(E70=\"\",\"\",IF(③選手情報入力!O79=\"\",\"\",IF(I70=1,VLOOKUP(③選手情報入力!O79,種目情報!$A$4:$C$39,3,FALSE),VLOOKUP(③選手情報入力!O79,種目情報!$E$4:$G$40,3,FALSE))))","v":""},{"$f":"IF(E70=\"\",\"\",IF(③選手情報入力!Q79=\"\",\"\",IF(I70=1,種目情報!$J$4,種目情報!$J$6)))","v":""},{"$f":"IF(E70=\"\",\"\",IF(③選手情報入力!Q79=\"\",\"\",IF(I70=1,IF(③選手情報入力!$R$6=\"\",\"\",③選手情報入力!$R$6),IF(③選手情報入力!$R$7=\"\",\"\",③選手情報入力!$R$7))))","v":""},{"$f":"IF(E70=\"\",\"\",IF(③選手情報入力!Q79=\"\",\"\",IF(I70=1,IF(③選手情報入力!$Q$6=\"\",0,1),IF(③選手情報入力!$Q$7=\"\",0,1))))","v":""},{"$f":"IF(E70=\"\",\"\",IF(③選手情報入力!Q79=\"\",\"\",2))","v":""},{"$f":"IF(E70=\"\",\"\",IF(③選手情報入力!S79=\"\",\"\",IF(I70=1,種目情報!$J$5,種目情報!$J$7)))","v":""},{"$f":"IF(E70=\"\",\"\",IF(③選手情報入力!S79=\"\",\"\",IF(I70=1,IF(③選手情報入力!$T$6=\"\",\"\",③選手情報入力!$T$6),IF(③選手情報入力!$T$7=\"\",\"\",③選手情報入力!$T$7))))","v":""},{"$f":"IF(E70=\"\",\"\",IF(③選手情報入力!S79=\"\",\"\",IF(I70=1,IF(③選手情報入力!$S$6=\"\",0,1),IF(③選手情報入力!$S$7=\"\",0,1))))","v":""},{"$f":"IF(E70=\"\",\"\",IF(③選手情報入力!S79=\"\",\"\",2))","v":""}]
[{"$f":"IF(E71=\"\",\"\",IF(①データ貼付け!A71=\"\",I72*1000000+②団体情報入力!$D$3*1000+③選手情報入力!A80,①データ貼付け!A71))","v":""},{"$f":"IF(E71=\"\",\"\",②団体情報入力!$D$3)","v":""},null,{"$f":"IF(③選手情報入力!B80=\"\",\"\",LEFT(Sheet2!B71,2))","v":""},{"$f":"IF(③選手情報入力!B80=\"\",\"\",REPLACE(Sheet2!B71,1,2,\"\"))","v":""},{"$f":"IF(E71=\"\",\"\",③選手情報入力!C80)","v":""},{"$f":"IF(E71=\"\",\"\",③選手情報入力!D80)","v":""},"",{"$f":"IF(E71=\"\",\"\",IF(③選手情報入力!F80=\"男\",1,2))","v":""},{"$f":"IF(E71=\"\",\"\",IF(③選手情報入力!G80=\"\",\"\",③選手情報入力!G80))","v":""},null,"","",null,{"$f":"IF(E71=\"\",\"\",IF(③選手情報入力!I80=\"\",\"\",IF(I71=1,VLOOKUP(③選手情報入力!I80,種目情報!$A$4:$B$35,2,FALSE),VLOOKUP(③選手情報入力!I80,種目情報!$E$4:$F$35,2,FALSE))))","v":""},{"$f":"IF(E71=\"\",\"\",IF(③選手情報入力!J80=\"\",\"\",③選手情報入力!J80))","v":""},{"$f":"IF(E71=\"\",\"\",IF(③選手情報入力!H80=\"\",0,1))","v":""},{"$f":"IF(E71=\"\",\"\",IF(③選手情報入力!I80=\"\",\"\",IF(I71=1,VLOOKUP(③選手情報入力!I80,種目情報!$A$4:$C$39,3,FALSE),VLOOKUP(③選手情報入力!I80,種目情報!$E$4:$G$40,3,FALSE))))","v":""},{"$f":"IF(E71=\"\",\"\",IF(③選手情報入力!L80=\"\",\"\",IF(I71=1,VLOOKUP(③選手情報入力!L80,種目情報!$A$4:$B$39,2,FALSE),VLOOKUP(③選手情報入力!L80,種目情報!$E$4:$F$40,2,FALSE))))","v":""},{"$f":"IF(E71=\"\",\"\",IF(③選手情報入力!M80=\"\",\"\",③選手情報入力!M80))","v":""},{"$f":"IF(E71=\"\",\"\",IF(③選手情報入力!K80=\"\",0,1))","v":""},{"$f":"IF(E71=\"\",\"\",IF(③選手情報入力!L80=\"\",\"\",IF(I71=1,VLOOKUP(③選手情報入力!L80,種目情報!$A$4:$C$39,3,FALSE),VLOOKUP(③選手情報入力!L80,種目情報!$E$4:$G$40,3,FALSE))))","v":""},{"$f":"IF(E71=\"\",\"\",IF(③選手情報入力!O80=\"\",\"\",IF(I71=1,VLOOKUP(③選手情報入力!O80,種目情報!$A$4:$B$39,2,FALSE),VLOOKUP(③選手情報入力!O80,種目情報!$E$4:$F$40,2,FALSE))))","v":""},{"$f":"IF(E71=\"\",\"\",IF(③選手情報入力!P80=\"\",\"\",③選手情報入力!P80))","v":""},{"$f":"IF(E71=\"\",\"\",IF(③選手情報入力!N80=\"\",0,1))","v":""},{"$f":"IF(E71=\"\",\"\",IF(③選手情報入力!O80=\"\",\"\",IF(I71=1,VLOOKUP(③選手情報入力!O80,種目情報!$A$4:$C$39,3,FALSE),VLOOKUP(③選手情報入力!O80,種目情報!$E$4:$G$40,3,FALSE))))","v":""},{"$f":"IF(E71=\"\",\"\",IF(③選手情報入力!Q80=\"\",\"\",IF(I71=1,種目情報!$J$4,種目情報!$J$6)))","v":""},{"$f":"IF(E71=\"\",\"\",IF(③選手情報入力!Q80=\"\",\"\",IF(I71=1,IF(③選手情報入力!$R$6=\"\",\"\",③選手情報入力!$R$6),IF(③選手情報入力!$R$7=\"\",\"\",③選手情報入力!$R$7))))","v":""},{"$f":"IF(E71=\"\",\"\",IF(③選手情報入力!Q80=\"\",\"\",IF(I71=1,IF(③選手情報入力!$Q$6=\"\",0,1),IF(③選手情報入力!$Q$7=\"\",0,1))))","v":""},{"$f":"IF(E71=\"\",\"\",IF(③選手情報入力!Q80=\"\",\"\",2))","v":""},{"$f":"IF(E71=\"\",\"\",IF(③選手情報入力!S80=\"\",\"\",IF(I71=1,種目情報!$J$5,種目情報!$J$7)))","v":""},{"$f":"IF(E71=\"\",\"\",IF(③選手情報入力!S80=\"\",\"\",IF(I71=1,IF(③選手情報入力!$T$6=\"\",\"\",③選手情報入力!$T$6),IF(③選手情報入力!$T$7=\"\",\"\",③選手情報入力!$T$7))))","v":""},{"$f":"IF(E71=\"\",\"\",IF(③選手情報入力!S80=\"\",\"\",IF(I71=1,IF(③選手情報入力!$S$6=\"\",0,1),IF(③選手情報入力!$S$7=\"\",0,1))))","v":""},{"$f":"IF(E71=\"\",\"\",IF(③選手情報入力!S80=\"\",\"\",2))","v":""}]
[{"$f":"IF(E72=\"\",\"\",IF(①データ貼付け!A72=\"\",I73*1000000+②団体情報入力!$D$3*1000+③選手情報入力!A81,①データ貼付け!A72))","v":""},{"$f":"IF(E72=\"\",\"\",②団体情報入力!$D$3)","v":""},null,{"$f":"IF(③選手情報入力!B81=\"\",\"\",LEFT(Sheet2!B72,2))","v":""},{"$f":"IF(③選手情報入力!B81=\"\",\"\",REPLACE(Sheet2!B72,1,2,\"\"))","v":""},{"$f":"IF(E72=\"\",\"\",③選手情報入力!C81)","v":""},{"$f":"IF(E72=\"\",\"\",③選手情報入力!D81)","v":""},"",{"$f":"IF(E72=\"\",\"\",IF(③選手情報入力!F81=\"男\",1,2))","v":""},{"$f":"IF(E72=\"\",\"\",IF(③選手情報入力!G81=\"\",\"\",③選手情報入力!G81))","v":""},null,"","",null,{"$f":"IF(E72=\"\",\"\",IF(③選手情報入力!I81=\"\",\"\",IF(I72=1,VLOOKUP(③選手情報入力!I81,種目情報!$A$4:$B$35,2,FALSE),VLOOKUP(③選手情報入力!I81,種目情報!$E$4:$F$35,2,FALSE))))","v":""},{"$f":"IF(E72=\"\",\"\",IF(③選手情報入力!J81=\"\",\"\",③選手情報入力!J81))","v":""},{"$f":"IF(E72=\"\",\"\",IF(③選手情報入力!H81=\"\",0,1))","v":""},{"$f":"IF(E72=\"\",\"\",IF(③選手情報入力!I81=\"\",\"\",IF(I72=1,VLOOKUP(③選手情報入力!I81,種目情報!$A$4:$C$39,3,FALSE),VLOOKUP(③選手情報入力!I81,種目情報!$E$4:$G$40,3,FALSE))))","v":""},{"$f":"IF(E72=\"\",\"\",IF(③選手情報入力!L81=\"\",\"\",IF(I72=1,VLOOKUP(③選手情報入力!L81,種目情報!$A$4:$B$39,2,FALSE),VLOOKUP(③選手情報入力!L81,種目情報!$E$4:$F$40,2,FALSE))))","v":""},{"$f":"IF(E72=\"\",\"\",IF(③選手情報入力!M81=\"\",\"\",③選手情報入力!M81))","v":""},{"$f":"IF(E72=\"\",\"\",IF(③選手情報入力!K81=\"\",0,1))","v":""},{"$f":"IF(E72=\"\",\"\",IF(③選手情報入力!L81=\"\",\"\",IF(I72=1,VLOOKUP(③選手情報入力!L81,種目情報!$A$4:$C$39,3,FALSE),VLOOKUP(③選手情報入力!L81,種目情報!$E$4:$G$40,3,FALSE))))","v":""},{"$f":"IF(E72=\"\",\"\",IF(③選手情報入力!O81=\"\",\"\",IF(I72=1,VLOOKUP(③選手情報入力!O81,種目情報!$A$4:$B$39,2,FALSE),VLOOKUP(③選手情報入力!O81,種目情報!$E$4:$F$40,2,FALSE))))","v":""},{"$f":"IF(E72=\"\",\"\",IF(③選手情報入力!P81=\"\",\"\",③選手情報入力!P81))","v":""},{"$f":"IF(E72=\"\",\"\",IF(③選手情報入力!N81=\"\",0,1))","v":""},{"$f":"IF(E72=\"\",\"\",IF(③選手情報入力!O81=\"\",\"\",IF(I72=1,VLOOKUP(③選手情報入力!O81,種目情報!$A$4:$C$39,3,FALSE),VLOOKUP(③選手情報入力!O81,種目情報!$E$4:$G$40,3,FALSE))))","v":""},{"$f":"IF(E72=\"\",\"\",IF(③選手情報入力!Q81=\"\",\"\",IF(I72=1,種目情報!$J$4,種目情報!$J$6)))","v":""},{"$f":"IF(E72=\"\",\"\",IF(③選手情報入力!Q81=\"\",\"\",IF(I72=1,IF(③選手情報入力!$R$6=\"\",\"\",③選手情報入力!$R$6),IF(③選手情報入力!$R$7=\"\",\"\",③選手情報入力!$R$7))))","v":""},{"$f":"IF(E72=\"\",\"\",IF(③選手情報入力!Q81=\"\",\"\",IF(I72=1,IF(③選手情報入力!$Q$6=\"\",0,1),IF(③選手情報入力!$Q$7=\"\",0,1))))","v":""},{"$f":"IF(E72=\"\",\"\",IF(③選手情報入力!Q81=\"\",\"\",2))","v":""},{"$f":"IF(E72=\"\",\"\",IF(③選手情報入力!S81=\"\",\"\",IF(I72=1,種目情報!$J$5,種目情報!$J$7)))","v":""},{"$f":"IF(E72=\"\",\"\",IF(③選手情報入力!S81=\"\",\"\",IF(I72=1,IF(③選手情報入力!$T$6=\"\",\"\",③選手情報入力!$T$6),IF(③選手情報入力!$T$7=\"\",\"\",③選手情報入力!$T$7))))","v":""},{"$f":"IF(E72=\"\",\"\",IF(③選手情報入力!S81=\"\",\"\",IF(I72=1,IF(③選手情報入力!$S$6=\"\",0,1),IF(③選手情報入力!$S$7=\"\",0,1))))","v":""},{"$f":"IF(E72=\"\",\"\",IF(③選手情報入力!S81=\"\",\"\",2))","v":""}]
[{"$f":"IF(E73=\"\",\"\",IF(①データ貼付け!A73=\"\",I74*1000000+②団体情報入力!$D$3*1000+③選手情報入力!A82,①データ貼付け!A73))","v":""},{"$f":"IF(E73=\"\",\"\",②団体情報入力!$D$3)","v":""},null,{"$f":"IF(③選手情報入力!B82=\"\",\"\",LEFT(Sheet2!B73,2))","v":""},{"$f":"IF(③選手情報入力!B82=\"\",\"\",REPLACE(Sheet2!B73,1,2,\"\"))","v":""},{"$f":"IF(E73=\"\",\"\",③選手情報入力!C82)","v":""},{"$f":"IF(E73=\"\",\"\",③選手情報入力!D82)","v":""},"",{"$f":"IF(E73=\"\",\"\",IF(③選手情報入力!F82=\"男\",1,2))","v":""},{"$f":"IF(E73=\"\",\"\",IF(③選手情報入力!G82=\"\",\"\",③選手情報入力!G82))","v":""},null,"","",null,{"$f":"IF(E73=\"\",\"\",IF(③選手情報入力!I82=\"\",\"\",IF(I73=1,VLOOKUP(③選手情報入力!I82,種目情報!$A$4:$B$35,2,FALSE),VLOOKUP(③選手情報入力!I82,種目情報!$E$4:$F$35,2,FALSE))))","v":""},{"$f":"IF(E73=\"\",\"\",IF(③選手情報入力!J82=\"\",\"\",③選手情報入力!J82))","v":""},{"$f":"IF(E73=\"\",\"\",IF(③選手情報入力!H82=\"\",0,1))","v":""},{"$f":"IF(E73=\"\",\"\",IF(③選手情報入力!I82=\"\",\"\",IF(I73=1,VLOOKUP(③選手情報入力!I82,種目情報!$A$4:$C$39,3,FALSE),VLOOKUP(③選手情報入力!I82,種目情報!$E$4:$G$40,3,FALSE))))","v":""},{"$f":"IF(E73=\"\",\"\",IF(③選手情報入力!L82=\"\",\"\",IF(I73=1,VLOOKUP(③選手情報入力!L82,種目情報!$A$4:$B$39,2,FALSE),VLOOKUP(③選手情報入力!L82,種目情報!$E$4:$F$40,2,FALSE))))","v":""},{"$f":"IF(E73=\"\",\"\",IF(③選手情報入力!M82=\"\",\"\",③選手情報入力!M82))","v":""},{"$f":"IF(E73=\"\",\"\",IF(③選手情報入力!K82=\"\",0,1))","v":""},{"$f":"IF(E73=\"\",\"\",IF(③選手情報入力!L82=\"\",\"\",IF(I73=1,VLOOKUP(③選手情報入力!L82,種目情報!$A$4:$C$39,3,FALSE),VLOOKUP(③選手情報入力!L82,種目情報!$E$4:$G$40,3,FALSE))))","v":""},{"$f":"IF(E73=\"\",\"\",IF(③選手情報入力!O82=\"\",\"\",IF(I73=1,VLOOKUP(③選手情報入力!O82,種目情報!$A$4:$B$39,2,FALSE),VLOOKUP(③選手情報入力!O82,種目情報!$E$4:$F$40,2,FALSE))))","v":""},{"$f":"IF(E73=\"\",\"\",IF(③選手情報入力!P82=\"\",\"\",③選手情報入力!P82))","v":""},{"$f":"IF(E73=\"\",\"\",IF(③選手情報入力!N82=\"\",0,1))","v":""},{"$f":"IF(E73=\"\",\"\",IF(③選手情報入力!O82=\"\",\"\",IF(I73=1,VLOOKUP(③選手情報入力!O82,種目情報!$A$4:$C$39,3,FALSE),VLOOKUP(③選手情報入力!O82,種目情報!$E$4:$G$40,3,FALSE))))","v":""},{"$f":"IF(E73=\"\",\"\",IF(③選手情報入力!Q82=\"\",\"\",IF(I73=1,種目情報!$J$4,種目情報!$J$6)))","v":""},{"$f":"IF(E73=\"\",\"\",IF(③選手情報入力!Q82=\"\",\"\",IF(I73=1,IF(③選手情報入力!$R$6=\"\",\"\",③選手情報入力!$R$6),IF(③選手情報入力!$R$7=\"\",\"\",③選手情報入力!$R$7))))","v":""},{"$f":"IF(E73=\"\",\"\",IF(③選手情報入力!Q82=\"\",\"\",IF(I73=1,IF(③選手情報入力!$Q$6=\"\",0,1),IF(③選手情報入力!$Q$7=\"\",0,1))))","v":""},{"$f":"IF(E73=\"\",\"\",IF(③選手情報入力!Q82=\"\",\"\",2))","v":""},{"$f":"IF(E73=\"\",\"\",IF(③選手情報入力!S82=\"\",\"\",IF(I73=1,種目情報!$J$5,種目情報!$J$7)))","v":""},{"$f":"IF(E73=\"\",\"\",IF(③選手情報入力!S82=\"\",\"\",IF(I73=1,IF(③選手情報入力!$T$6=\"\",\"\",③選手情報入力!$T$6),IF(③選手情報入力!$T$7=\"\",\"\",③選手情報入力!$T$7))))","v":""},{"$f":"IF(E73=\"\",\"\",IF(③選手情報入力!S82=\"\",\"\",IF(I73=1,IF(③選手情報入力!$S$6=\"\",0,1),IF(③選手情報入力!$S$7=\"\",0,1))))","v":""},{"$f":"IF(E73=\"\",\"\",IF(③選手情報入力!S82=\"\",\"\",2))","v":""}]
[{"$f":"IF(E74=\"\",\"\",IF(①データ貼付け!A74=\"\",I75*1000000+②団体情報入力!$D$3*1000+③選手情報入力!A83,①データ貼付け!A74))","v":""},{"$f":"IF(E74=\"\",\"\",②団体情報入力!$D$3)","v":""},null,{"$f":"IF(③選手情報入力!B83=\"\",\"\",LEFT(Sheet2!B74,2))","v":""},{"$f":"IF(③選手情報入力!B83=\"\",\"\",REPLACE(Sheet2!B74,1,2,\"\"))","v":""},{"$f":"IF(E74=\"\",\"\",③選手情報入力!C83)","v":""},{"$f":"IF(E74=\"\",\"\",③選手情報入力!D83)","v":""},"",{"$f":"IF(E74=\"\",\"\",IF(③選手情報入力!F83=\"男\",1,2))","v":""},{"$f":"IF(E74=\"\",\"\",IF(③選手情報入力!G83=\"\",\"\",③選手情報入力!G83))","v":""},null,"","",null,{"$f":"IF(E74=\"\",\"\",IF(③選手情報入力!I83=\"\",\"\",IF(I74=1,VLOOKUP(③選手情報入力!I83,種目情報!$A$4:$B$35,2,FALSE),VLOOKUP(③選手情報入力!I83,種目情報!$E$4:$F$35,2,FALSE))))","v":""},{"$f":"IF(E74=\"\",\"\",IF(③選手情報入力!J83=\"\",\"\",③選手情報入力!J83))","v":""},{"$f":"IF(E74=\"\",\"\",IF(③選手情報入力!H83=\"\",0,1))","v":""},{"$f":"IF(E74=\"\",\"\",IF(③選手情報入力!I83=\"\",\"\",IF(I74=1,VLOOKUP(③選手情報入力!I83,種目情報!$A$4:$C$39,3,FALSE),VLOOKUP(③選手情報入力!I83,種目情報!$E$4:$G$40,3,FALSE))))","v":""},{"$f":"IF(E74=\"\",\"\",IF(③選手情報入力!L83=\"\",\"\",IF(I74=1,VLOOKUP(③選手情報入力!L83,種目情報!$A$4:$B$39,2,FALSE),VLOOKUP(③選手情報入力!L83,種目情報!$E$4:$F$40,2,FALSE))))","v":""},{"$f":"IF(E74=\"\",\"\",IF(③選手情報入力!M83=\"\",\"\",③選手情報入力!M83))","v":""},{"$f":"IF(E74=\"\",\"\",IF(③選手情報入力!K83=\"\",0,1))","v":""},{"$f":"IF(E74=\"\",\"\",IF(③選手情報入力!L83=\"\",\"\",IF(I74=1,VLOOKUP(③選手情報入力!L83,種目情報!$A$4:$C$39,3,FALSE),VLOOKUP(③選手情報入力!L83,種目情報!$E$4:$G$40,3,FALSE))))","v":""},{"$f":"IF(E74=\"\",\"\",IF(③選手情報入力!O83=\"\",\"\",IF(I74=1,VLOOKUP(③選手情報入力!O83,種目情報!$A$4:$B$39,2,FALSE),VLOOKUP(③選手情報入力!O83,種目情報!$E$4:$F$40,2,FALSE))))","v":""},{"$f":"IF(E74=\"\",\"\",IF(③選手情報入力!P83=\"\",\"\",③選手情報入力!P83))","v":""},{"$f":"IF(E74=\"\",\"\",IF(③選手情報入力!N83=\"\",0,1))","v":""},{"$f":"IF(E74=\"\",\"\",IF(③選手情報入力!O83=\"\",\"\",IF(I74=1,VLOOKUP(③選手情報入力!O83,種目情報!$A$4:$C$39,3,FALSE),VLOOKUP(③選手情報入力!O83,種目情報!$E$4:$G$40,3,FALSE))))","v":""},{"$f":"IF(E74=\"\",\"\",IF(③選手情報入力!Q83=\"\",\"\",IF(I74=1,種目情報!$J$4,種目情報!$J$6)))","v":""},{"$f":"IF(E74=\"\",\"\",IF(③選手情報入力!Q83=\"\",\"\",IF(I74=1,IF(③選手情報入力!$R$6=\"\",\"\",③選手情報入力!$R$6),IF(③選手情報入力!$R$7=\"\",\"\",③選手情報入力!$R$7))))","v":""},{"$f":"IF(E74=\"\",\"\",IF(③選手情報入力!Q83=\"\",\"\",IF(I74=1,IF(③選手情報入力!$Q$6=\"\",0,1),IF(③選手情報入力!$Q$7=\"\",0,1))))","v":""},{"$f":"IF(E74=\"\",\"\",IF(③選手情報入力!Q83=\"\",\"\",2))","v":""},{"$f":"IF(E74=\"\",\"\",IF(③選手情報入力!S83=\"\",\"\",IF(I74=1,種目情報!$J$5,種目情報!$J$7)))","v":""},{"$f":"IF(E74=\"\",\"\",IF(③選手情報入力!S83=\"\",\"\",IF(I74=1,IF(③選手情報入力!$T$6=\"\",\"\",③選手情報入力!$T$6),IF(③選手情報入力!$T$7=\"\",\"\",③選手情報入力!$T$7))))","v":""},{"$f":"IF(E74=\"\",\"\",IF(③選手情報入力!S83=\"\",\"\",IF(I74=1,IF(③選手情報入力!$S$6=\"\",0,1),IF(③選手情報入力!$S$7=\"\",0,1))))","v":""},{"$f":"IF(E74=\"\",\"\",IF(③選手情報入力!S83=\"\",\"\",2))","v":""}]
[{"$f":"IF(E75=\"\",\"\",IF(①データ貼付け!A75=\"\",I76*1000000+②団体情報入力!$D$3*1000+③選手情報入力!A84,①データ貼付け!A75))","v":""},{"$f":"IF(E75=\"\",\"\",②団体情報入力!$D$3)","v":""},null,{"$f":"IF(③選手情報入力!B84=\"\",\"\",LEFT(Sheet2!B75,2))","v":""},{"$f":"IF(③選手情報入力!B84=\"\",\"\",REPLACE(Sheet2!B75,1,2,\"\"))","v":""},{"$f":"IF(E75=\"\",\"\",③選手情報入力!C84)","v":""},{"$f":"IF(E75=\"\",\"\",③選手情報入力!D84)","v":""},"",{"$f":"IF(E75=\"\",\"\",IF(③選手情報入力!F84=\"男\",1,2))","v":""},{"$f":"IF(E75=\"\",\"\",IF(③選手情報入力!G84=\"\",\"\",③選手情報入力!G84))","v":""},null,"","",null,{"$f":"IF(E75=\"\",\"\",IF(③選手情報入力!I84=\"\",\"\",IF(I75=1,VLOOKUP(③選手情報入力!I84,種目情報!$A$4:$B$35,2,FALSE),VLOOKUP(③選手情報入力!I84,種目情報!$E$4:$F$35,2,FALSE))))","v":""},{"$f":"IF(E75=\"\",\"\",IF(③選手情報入力!J84=\"\",\"\",③選手情報入力!J84))","v":""},{"$f":"IF(E75=\"\",\"\",IF(③選手情報入力!H84=\"\",0,1))","v":""},{"$f":"IF(E75=\"\",\"\",IF(③選手情報入力!I84=\"\",\"\",IF(I75=1,VLOOKUP(③選手情報入力!I84,種目情報!$A$4:$C$39,3,FALSE),VLOOKUP(③選手情報入力!I84,種目情報!$E$4:$G$40,3,FALSE))))","v":""},{"$f":"IF(E75=\"\",\"\",IF(③選手情報入力!L84=\"\",\"\",IF(I75=1,VLOOKUP(③選手情報入力!L84,種目情報!$A$4:$B$39,2,FALSE),VLOOKUP(③選手情報入力!L84,種目情報!$E$4:$F$40,2,FALSE))))","v":""},{"$f":"IF(E75=\"\",\"\",IF(③選手情報入力!M84=\"\",\"\",③選手情報入力!M84))","v":""},{"$f":"IF(E75=\"\",\"\",IF(③選手情報入力!K84=\"\",0,1))","v":""},{"$f":"IF(E75=\"\",\"\",IF(③選手情報入力!L84=\"\",\"\",IF(I75=1,VLOOKUP(③選手情報入力!L84,種目情報!$A$4:$C$39,3,FALSE),VLOOKUP(③選手情報入力!L84,種目情報!$E$4:$G$40,3,FALSE))))","v":""},{"$f":"IF(E75=\"\",\"\",IF(③選手情報入力!O84=\"\",\"\",IF(I75=1,VLOOKUP(③選手情報入力!O84,種目情報!$A$4:$B$39,2,FALSE),VLOOKUP(③選手情報入力!O84,種目情報!$E$4:$F$40,2,FALSE))))","v":""},{"$f":"IF(E75=\"\",\"\",IF(③選手情報入力!P84=\"\",\"\",③選手情報入力!P84))","v":""},{"$f":"IF(E75=\"\",\"\",IF(③選手情報入力!N84=\"\",0,1))","v":""},{"$f":"IF(E75=\"\",\"\",IF(③選手情報入力!O84=\"\",\"\",IF(I75=1,VLOOKUP(③選手情報入力!O84,種目情報!$A$4:$C$39,3,FALSE),VLOOKUP(③選手情報入力!O84,種目情報!$E$4:$G$40,3,FALSE))))","v":""},{"$f":"IF(E75=\"\",\"\",IF(③選手情報入力!Q84=\"\",\"\",IF(I75=1,種目情報!$J$4,種目情報!$J$6)))","v":""},{"$f":"IF(E75=\"\",\"\",IF(③選手情報入力!Q84=\"\",\"\",IF(I75=1,IF(③選手情報入力!$R$6=\"\",\"\",③選手情報入力!$R$6),IF(③選手情報入力!$R$7=\"\",\"\",③選手情報入力!$R$7))))","v":""},{"$f":"IF(E75=\"\",\"\",IF(③選手情報入力!Q84=\"\",\"\",IF(I75=1,IF(③選手情報入力!$Q$6=\"\",0,1),IF(③選手情報入力!$Q$7=\"\",0,1))))","v":""},{"$f":"IF(E75=\"\",\"\",IF(③選手情報入力!Q84=\"\",\"\",2))","v":""},{"$f":"IF(E75=\"\",\"\",IF(③選手情報入力!S84=\"\",\"\",IF(I75=1,種目情報!$J$5,種目情報!$J$7)))","v":""},{"$f":"IF(E75=\"\",\"\",IF(③選手情報入力!S84=\"\",\"\",IF(I75=1,IF(③選手情報入力!$T$6=\"\",\"\",③選手情報入力!$T$6),IF(③選手情報入力!$T$7=\"\",\"\",③選手情報入力!$T$7))))","v":""},{"$f":"IF(E75=\"\",\"\",IF(③選手情報入力!S84=\"\",\"\",IF(I75=1,IF(③選手情報入力!$S$6=\"\",0,1),IF(③選手情報入力!$S$7=\"\",0,1))))","v":""},{"$f":"IF(E75=\"\",\"\",IF(③選手情報入力!S84=\"\",\"\",2))","v":""}]
[{"$f":"IF(E76=\"\",\"\",IF(①データ貼付け!A76=\"\",I77*1000000+②団体情報入力!$D$3*1000+③選手情報入力!A85,①データ貼付け!A76))","v":""},{"$f":"IF(E76=\"\",\"\",②団体情報入力!$D$3)","v":""},null,{"$f":"IF(③選手情報入力!B85=\"\",\"\",LEFT(Sheet2!B76,2))","v":""},{"$f":"IF(③選手情報入力!B85=\"\",\"\",REPLACE(Sheet2!B76,1,2,\"\"))","v":""},{"$f":"IF(E76=\"\",\"\",③選手情報入力!C85)","v":""},{"$f":"IF(E76=\"\",\"\",③選手情報入力!D85)","v":""},"",{"$f":"IF(E76=\"\",\"\",IF(③選手情報入力!F85=\"男\",1,2))","v":""},{"$f":"IF(E76=\"\",\"\",IF(③選手情報入力!G85=\"\",\"\",③選手情報入力!G85))","v":""},null,"","",null,{"$f":"IF(E76=\"\",\"\",IF(③選手情報入力!I85=\"\",\"\",IF(I76=1,VLOOKUP(③選手情報入力!I85,種目情報!$A$4:$B$35,2,FALSE),VLOOKUP(③選手情報入力!I85,種目情報!$E$4:$F$35,2,FALSE))))","v":""},{"$f":"IF(E76=\"\",\"\",IF(③選手情報入力!J85=\"\",\"\",③選手情報入力!J85))","v":""},{"$f":"IF(E76=\"\",\"\",IF(③選手情報入力!H85=\"\",0,1))","v":""},{"$f":"IF(E76=\"\",\"\",IF(③選手情報入力!I85=\"\",\"\",IF(I76=1,VLOOKUP(③選手情報入力!I85,種目情報!$A$4:$C$39,3,FALSE),VLOOKUP(③選手情報入力!I85,種目情報!$E$4:$G$40,3,FALSE))))","v":""},{"$f":"IF(E76=\"\",\"\",IF(③選手情報入力!L85=\"\",\"\",IF(I76=1,VLOOKUP(③選手情報入力!L85,種目情報!$A$4:$B$39,2,FALSE),VLOOKUP(③選手情報入力!L85,種目情報!$E$4:$F$40,2,FALSE))))","v":""},{"$f":"IF(E76=\"\",\"\",IF(③選手情報入力!M85=\"\",\"\",③選手情報入力!M85))","v":""},{"$f":"IF(E76=\"\",\"\",IF(③選手情報入力!K85=\"\",0,1))","v":""},{"$f":"IF(E76=\"\",\"\",IF(③選手情報入力!L85=\"\",\"\",IF(I76=1,VLOOKUP(③選手情報入力!L85,種目情報!$A$4:$C$39,3,FALSE),VLOOKUP(③選手情報入力!L85,種目情報!$E$4:$G$40,3,FALSE))))","v":""},{"$f":"IF(E76=\"\",\"\",IF(③選手情報入力!O85=\"\",\"\",IF(I76=1,VLOOKUP(③選手情報入力!O85,種目情報!$A$4:$B$39,2,FALSE),VLOOKUP(③選手情報入力!O85,種目情報!$E$4:$F$40,2,FALSE))))","v":""},{"$f":"IF(E76=\"\",\"\",IF(③選手情報入力!P85=\"\",\"\",③選手情報入力!P85))","v":""},{"$f":"IF(E76=\"\",\"\",IF(③選手情報入力!N85=\"\",0,1))","v":""},{"$f":"IF(E76=\"\",\"\",IF(③選手情報入力!O85=\"\",\"\",IF(I76=1,VLOOKUP(③選手情報入力!O85,種目情報!$A$4:$C$39,3,FALSE),VLOOKUP(③選手情報入力!O85,種目情報!$E$4:$G$40,3,FALSE))))","v":""},{"$f":"IF(E76=\"\",\"\",IF(③選手情報入力!Q85=\"\",\"\",IF(I76=1,種目情報!$J$4,種目情報!$J$6)))","v":""},{"$f":"IF(E76=\"\",\"\",IF(③選手情報入力!Q85=\"\",\"\",IF(I76=1,IF(③選手情報入力!$R$6=\"\",\"\",③選手情報入力!$R$6),IF(③選手情報入力!$R$7=\"\",\"\",③選手情報入力!$R$7))))","v":""},{"$f":"IF(E76=\"\",\"\",IF(③選手情報入力!Q85=\"\",\"\",IF(I76=1,IF(③選手情報入力!$Q$6=\"\",0,1),IF(③選手情報入力!$Q$7=\"\",0,1))))","v":""},{"$f":"IF(E76=\"\",\"\",IF(③選手情報入力!Q85=\"\",\"\",2))","v":""},{"$f":"IF(E76=\"\",\"\",IF(③選手情報入力!S85=\"\",\"\",IF(I76=1,種目情報!$J$5,種目情報!$J$7)))","v":""},{"$f":"IF(E76=\"\",\"\",IF(③選手情報入力!S85=\"\",\"\",IF(I76=1,IF(③選手情報入力!$T$6=\"\",\"\",③選手情報入力!$T$6),IF(③選手情報入力!$T$7=\"\",\"\",③選手情報入力!$T$7))))","v":""},{"$f":"IF(E76=\"\",\"\",IF(③選手情報入力!S85=\"\",\"\",IF(I76=1,IF(③選手情報入力!$S$6=\"\",0,1),IF(③選手情報入力!$S$7=\"\",0,1))))","v":""},{"$f":"IF(E76=\"\",\"\",IF(③選手情報入力!S85=\"\",\"\",2))","v":""}]
[{"$f":"IF(E77=\"\",\"\",IF(①データ貼付け!A77=\"\",I78*1000000+②団体情報入力!$D$3*1000+③選手情報入力!A86,①データ貼付け!A77))","v":""},{"$f":"IF(E77=\"\",\"\",②団体情報入力!$D$3)","v":""},null,{"$f":"IF(③選手情報入力!B86=\"\",\"\",LEFT(Sheet2!B77,2))","v":""},{"$f":"IF(③選手情報入力!B86=\"\",\"\",REPLACE(Sheet2!B77,1,2,\"\"))","v":""},{"$f":"IF(E77=\"\",\"\",③選手情報入力!C86)","v":""},{"$f":"IF(E77=\"\",\"\",③選手情報入力!D86)","v":""},"",{"$f":"IF(E77=\"\",\"\",IF(③選手情報入力!F86=\"男\",1,2))","v":""},{"$f":"IF(E77=\"\",\"\",IF(③選手情報入力!G86=\"\",\"\",③選手情報入力!G86))","v":""},null,"","",null,{"$f":"IF(E77=\"\",\"\",IF(③選手情報入力!I86=\"\",\"\",IF(I77=1,VLOOKUP(③選手情報入力!I86,種目情報!$A$4:$B$35,2,FALSE),VLOOKUP(③選手情報入力!I86,種目情報!$E$4:$F$35,2,FALSE))))","v":""},{"$f":"IF(E77=\"\",\"\",IF(③選手情報入力!J86=\"\",\"\",③選手情報入力!J86))","v":""},{"$f":"IF(E77=\"\",\"\",IF(③選手情報入力!H86=\"\",0,1))","v":""},{"$f":"IF(E77=\"\",\"\",IF(③選手情報入力!I86=\"\",\"\",IF(I77=1,VLOOKUP(③選手情報入力!I86,種目情報!$A$4:$C$39,3,FALSE),VLOOKUP(③選手情報入力!I86,種目情報!$E$4:$G$40,3,FALSE))))","v":""},{"$f":"IF(E77=\"\",\"\",IF(③選手情報入力!L86=\"\",\"\",IF(I77=1,VLOOKUP(③選手情報入力!L86,種目情報!$A$4:$B$39,2,FALSE),VLOOKUP(③選手情報入力!L86,種目情報!$E$4:$F$40,2,FALSE))))","v":""},{"$f":"IF(E77=\"\",\"\",IF(③選手情報入力!M86=\"\",\"\",③選手情報入力!M86))","v":""},{"$f":"IF(E77=\"\",\"\",IF(③選手情報入力!K86=\"\",0,1))","v":""},{"$f":"IF(E77=\"\",\"\",IF(③選手情報入力!L86=\"\",\"\",IF(I77=1,VLOOKUP(③選手情報入力!L86,種目情報!$A$4:$C$39,3,FALSE),VLOOKUP(③選手情報入力!L86,種目情報!$E$4:$G$40,3,FALSE))))","v":""},{"$f":"IF(E77=\"\",\"\",IF(③選手情報入力!O86=\"\",\"\",IF(I77=1,VLOOKUP(③選手情報入力!O86,種目情報!$A$4:$B$39,2,FALSE),VLOOKUP(③選手情報入力!O86,種目情報!$E$4:$F$40,2,FALSE))))","v":""},{"$f":"IF(E77=\"\",\"\",IF(③選手情報入力!P86=\"\",\"\",③選手情報入力!P86))","v":""},{"$f":"IF(E77=\"\",\"\",IF(③選手情報入力!N86=\"\",0,1))","v":""},{"$f":"IF(E77=\"\",\"\",IF(③選手情報入力!O86=\"\",\"\",IF(I77=1,VLOOKUP(③選手情報入力!O86,種目情報!$A$4:$C$39,3,FALSE),VLOOKUP(③選手情報入力!O86,種目情報!$E$4:$G$40,3,FALSE))))","v":""},{"$f":"IF(E77=\"\",\"\",IF(③選手情報入力!Q86=\"\",\"\",IF(I77=1,種目情報!$J$4,種目情報!$J$6)))","v":""},{"$f":"IF(E77=\"\",\"\",IF(③選手情報入力!Q86=\"\",\"\",IF(I77=1,IF(③選手情報入力!$R$6=\"\",\"\",③選手情報入力!$R$6),IF(③選手情報入力!$R$7=\"\",\"\",③選手情報入力!$R$7))))","v":""},{"$f":"IF(E77=\"\",\"\",IF(③選手情報入力!Q86=\"\",\"\",IF(I77=1,IF(③選手情報入力!$Q$6=\"\",0,1),IF(③選手情報入力!$Q$7=\"\",0,1))))","v":""},{"$f":"IF(E77=\"\",\"\",IF(③選手情報入力!Q86=\"\",\"\",2))","v":""},{"$f":"IF(E77=\"\",\"\",IF(③選手情報入力!S86=\"\",\"\",IF(I77=1,種目情報!$J$5,種目情報!$J$7)))","v":""},{"$f":"IF(E77=\"\",\"\",IF(③選手情報入力!S86=\"\",\"\",IF(I77=1,IF(③選手情報入力!$T$6=\"\",\"\",③選手情報入力!$T$6),IF(③選手情報入力!$T$7=\"\",\"\",③選手情報入力!$T$7))))","v":""},{"$f":"IF(E77=\"\",\"\",IF(③選手情報入力!S86=\"\",\"\",IF(I77=1,IF(③選手情報入力!$S$6=\"\",0,1),IF(③選手情報入力!$S$7=\"\",0,1))))","v":""},{"$f":"IF(E77=\"\",\"\",IF(③選手情報入力!S86=\"\",\"\",2))","v":""}]
[{"$f":"IF(E78=\"\",\"\",IF(①データ貼付け!A78=\"\",I79*1000000+②団体情報入力!$D$3*1000+③選手情報入力!A87,①データ貼付け!A78))","v":""},{"$f":"IF(E78=\"\",\"\",②団体情報入力!$D$3)","v":""},null,{"$f":"IF(③選手情報入力!B87=\"\",\"\",LEFT(Sheet2!B78,2))","v":""},{"$f":"IF(③選手情報入力!B87=\"\",\"\",REPLACE(Sheet2!B78,1,2,\"\"))","v":""},{"$f":"IF(E78=\"\",\"\",③選手情報入力!C87)","v":""},{"$f":"IF(E78=\"\",\"\",③選手情報入力!D87)","v":""},"",{"$f":"IF(E78=\"\",\"\",IF(③選手情報入力!F87=\"男\",1,2))","v":""},{"$f":"IF(E78=\"\",\"\",IF(③選手情報入力!G87=\"\",\"\",③選手情報入力!G87))","v":""},null,"","",null,{"$f":"IF(E78=\"\",\"\",IF(③選手情報入力!I87=\"\",\"\",IF(I78=1,VLOOKUP(③選手情報入力!I87,種目情報!$A$4:$B$35,2,FALSE),VLOOKUP(③選手情報入力!I87,種目情報!$E$4:$F$35,2,FALSE))))","v":""},{"$f":"IF(E78=\"\",\"\",IF(③選手情報入力!J87=\"\",\"\",③選手情報入力!J87))","v":""},{"$f":"IF(E78=\"\",\"\",IF(③選手情報入力!H87=\"\",0,1))","v":""},{"$f":"IF(E78=\"\",\"\",IF(③選手情報入力!I87=\"\",\"\",IF(I78=1,VLOOKUP(③選手情報入力!I87,種目情報!$A$4:$C$39,3,FALSE),VLOOKUP(③選手情報入力!I87,種目情報!$E$4:$G$40,3,FALSE))))","v":""},{"$f":"IF(E78=\"\",\"\",IF(③選手情報入力!L87=\"\",\"\",IF(I78=1,VLOOKUP(③選手情報入力!L87,種目情報!$A$4:$B$39,2,FALSE),VLOOKUP(③選手情報入力!L87,種目情報!$E$4:$F$40,2,FALSE))))","v":""},{"$f":"IF(E78=\"\",\"\",IF(③選手情報入力!M87=\"\",\"\",③選手情報入力!M87))","v":""},{"$f":"IF(E78=\"\",\"\",IF(③選手情報入力!K87=\"\",0,1))","v":""},{"$f":"IF(E78=\"\",\"\",IF(③選手情報入力!L87=\"\",\"\",IF(I78=1,VLOOKUP(③選手情報入力!L87,種目情報!$A$4:$C$39,3,FALSE),VLOOKUP(③選手情報入力!L87,種目情報!$E$4:$G$40,3,FALSE))))","v":""},{"$f":"IF(E78=\"\",\"\",IF(③選手情報入力!O87=\"\",\"\",IF(I78=1,VLOOKUP(③選手情報入力!O87,種目情報!$A$4:$B$39,2,FALSE),VLOOKUP(③選手情報入力!O87,種目情報!$E$4:$F$40,2,FALSE))))","v":""},{"$f":"IF(E78=\"\",\"\",IF(③選手情報入力!P87=\"\",\"\",③選手情報入力!P87))","v":""},{"$f":"IF(E78=\"\",\"\",IF(③選手情報入力!N87=\"\",0,1))","v":""},{"$f":"IF(E78=\"\",\"\",IF(③選手情報入力!O87=\"\",\"\",IF(I78=1,VLOOKUP(③選手情報入力!O87,種目情報!$A$4:$C$39,3,FALSE),VLOOKUP(③選手情報入力!O87,種目情報!$E$4:$G$40,3,FALSE))))","v":""},{"$f":"IF(E78=\"\",\"\",IF(③選手情報入力!Q87=\"\",\"\",IF(I78=1,種目情報!$J$4,種目情報!$J$6)))","v":""},{"$f":"IF(E78=\"\",\"\",IF(③選手情報入力!Q87=\"\",\"\",IF(I78=1,IF(③選手情報入力!$R$6=\"\",\"\",③選手情報入力!$R$6),IF(③選手情報入力!$R$7=\"\",\"\",③選手情報入力!$R$7))))","v":""},{"$f":"IF(E78=\"\",\"\",IF(③選手情報入力!Q87=\"\",\"\",IF(I78=1,IF(③選手情報入力!$Q$6=\"\",0,1),IF(③選手情報入力!$Q$7=\"\",0,1))))","v":""},{"$f":"IF(E78=\"\",\"\",IF(③選手情報入力!Q87=\"\",\"\",2))","v":""},{"$f":"IF(E78=\"\",\"\",IF(③選手情報入力!S87=\"\",\"\",IF(I78=1,種目情報!$J$5,種目情報!$J$7)))","v":""},{"$f":"IF(E78=\"\",\"\",IF(③選手情報入力!S87=\"\",\"\",IF(I78=1,IF(③選手情報入力!$T$6=\"\",\"\",③選手情報入力!$T$6),IF(③選手情報入力!$T$7=\"\",\"\",③選手情報入力!$T$7))))","v":""},{"$f":"IF(E78=\"\",\"\",IF(③選手情報入力!S87=\"\",\"\",IF(I78=1,IF(③選手情報入力!$S$6=\"\",0,1),IF(③選手情報入力!$S$7=\"\",0,1))))","v":""},{"$f":"IF(E78=\"\",\"\",IF(③選手情報入力!S87=\"\",\"\",2))","v":""}]
[{"$f":"IF(E79=\"\",\"\",IF(①データ貼付け!A79=\"\",I80*1000000+②団体情報入力!$D$3*1000+③選手情報入力!A88,①データ貼付け!A79))","v":""},{"$f":"IF(E79=\"\",\"\",②団体情報入力!$D$3)","v":""},null,{"$f":"IF(③選手情報入力!B88=\"\",\"\",LEFT(Sheet2!B79,2))","v":""},{"$f":"IF(③選手情報入力!B88=\"\",\"\",REPLACE(Sheet2!B79,1,2,\"\"))","v":""},{"$f":"IF(E79=\"\",\"\",③選手情報入力!C88)","v":""},{"$f":"IF(E79=\"\",\"\",③選手情報入力!D88)","v":""},"",{"$f":"IF(E79=\"\",\"\",IF(③選手情報入力!F88=\"男\",1,2))","v":""},{"$f":"IF(E79=\"\",\"\",IF(③選手情報入力!G88=\"\",\"\",③選手情報入力!G88))","v":""},null,"","",null,{"$f":"IF(E79=\"\",\"\",IF(③選手情報入力!I88=\"\",\"\",IF(I79=1,VLOOKUP(③選手情報入力!I88,種目情報!$A$4:$B$35,2,FALSE),VLOOKUP(③選手情報入力!I88,種目情報!$E$4:$F$35,2,FALSE))))","v":""},{"$f":"IF(E79=\"\",\"\",IF(③選手情報入力!J88=\"\",\"\",③選手情報入力!J88))","v":""},{"$f":"IF(E79=\"\",\"\",IF(③選手情報入力!H88=\"\",0,1))","v":""},{"$f":"IF(E79=\"\",\"\",IF(③選手情報入力!I88=\"\",\"\",IF(I79=1,VLOOKUP(③選手情報入力!I88,種目情報!$A$4:$C$39,3,FALSE),VLOOKUP(③選手情報入力!I88,種目情報!$E$4:$G$40,3,FALSE))))","v":""},{"$f":"IF(E79=\"\",\"\",IF(③選手情報入力!L88=\"\",\"\",IF(I79=1,VLOOKUP(③選手情報入力!L88,種目情報!$A$4:$B$39,2,FALSE),VLOOKUP(③選手情報入力!L88,種目情報!$E$4:$F$40,2,FALSE))))","v":""},{"$f":"IF(E79=\"\",\"\",IF(③選手情報入力!M88=\"\",\"\",③選手情報入力!M88))","v":""},{"$f":"IF(E79=\"\",\"\",IF(③選手情報入力!K88=\"\",0,1))","v":""},{"$f":"IF(E79=\"\",\"\",IF(③選手情報入力!L88=\"\",\"\",IF(I79=1,VLOOKUP(③選手情報入力!L88,種目情報!$A$4:$C$39,3,FALSE),VLOOKUP(③選手情報入力!L88,種目情報!$E$4:$G$40,3,FALSE))))","v":""},{"$f":"IF(E79=\"\",\"\",IF(③選手情報入力!O88=\"\",\"\",IF(I79=1,VLOOKUP(③選手情報入力!O88,種目情報!$A$4:$B$39,2,FALSE),VLOOKUP(③選手情報入力!O88,種目情報!$E$4:$F$40,2,FALSE))))","v":""},{"$f":"IF(E79=\"\",\"\",IF(③選手情報入力!P88=\"\",\"\",③選手情報入力!P88))","v":""},{"$f":"IF(E79=\"\",\"\",IF(③選手情報入力!N88=\"\",0,1))","v":""},{"$f":"IF(E79=\"\",\"\",IF(③選手情報入力!O88=\"\",\"\",IF(I79=1,VLOOKUP(③選手情報入力!O88,種目情報!$A$4:$C$39,3,FALSE),VLOOKUP(③選手情報入力!O88,種目情報!$E$4:$G$40,3,FALSE))))","v":""},{"$f":"IF(E79=\"\",\"\",IF(③選手情報入力!Q88=\"\",\"\",IF(I79=1,種目情報!$J$4,種目情報!$J$6)))","v":""},{"$f":"IF(E79=\"\",\"\",IF(③選手情報入力!Q88=\"\",\"\",IF(I79=1,IF(③選手情報入力!$R$6=\"\",\"\",③選手情報入力!$R$6),IF(③選手情報入力!$R$7=\"\",\"\",③選手情報入力!$R$7))))","v":""},{"$f":"IF(E79=\"\",\"\",IF(③選手情報入力!Q88=\"\",\"\",IF(I79=1,IF(③選手情報入力!$Q$6=\"\",0,1),IF(③選手情報入力!$Q$7=\"\",0,1))))","v":""},{"$f":"IF(E79=\"\",\"\",IF(③選手情報入力!Q88=\"\",\"\",2))","v":""},{"$f":"IF(E79=\"\",\"\",IF(③選手情報入力!S88=\"\",\"\",IF(I79=1,種目情報!$J$5,種目情報!$J$7)))","v":""},{"$f":"IF(E79=\"\",\"\",IF(③選手情報入力!S88=\"\",\"\",IF(I79=1,IF(③選手情報入力!$T$6=\"\",\"\",③選手情報入力!$T$6),IF(③選手情報入力!$T$7=\"\",\"\",③選手情報入力!$T$7))))","v":""},{"$f":"IF(E79=\"\",\"\",IF(③選手情報入力!S88=\"\",\"\",IF(I79=1,IF(③選手情報入力!$S$6=\"\",0,1),IF(③選手情報入力!$S$7=\"\",0,1))))","v":""},{"$f":"IF(E79=\"\",\"\",IF(③選手情報入力!S88=\"\",\"\",2))","v":""}]
[{"$f":"IF(E80=\"\",\"\",IF(①データ貼付け!A80=\"\",I81*1000000+②団体情報入力!$D$3*1000+③選手情報入力!A89,①データ貼付け!A80))","v":""},{"$f":"IF(E80=\"\",\"\",②団体情報入力!$D$3)","v":""},null,{"$f":"IF(③選手情報入力!B89=\"\",\"\",LEFT(Sheet2!B80,2))","v":""},{"$f":"IF(③選手情報入力!B89=\"\",\"\",REPLACE(Sheet2!B80,1,2,\"\"))","v":""},{"$f":"IF(E80=\"\",\"\",③選手情報入力!C89)","v":""},{"$f":"IF(E80=\"\",\"\",③選手情報入力!D89)","v":""},"",{"$f":"IF(E80=\"\",\"\",IF(③選手情報入力!F89=\"男\",1,2))","v":""},{"$f":"IF(E80=\"\",\"\",IF(③選手情報入力!G89=\"\",\"\",③選手情報入力!G89))","v":""},null,"","",null,{"$f":"IF(E80=\"\",\"\",IF(③選手情報入力!I89=\"\",\"\",IF(I80=1,VLOOKUP(③選手情報入力!I89,種目情報!$A$4:$B$35,2,FALSE),VLOOKUP(③選手情報入力!I89,種目情報!$E$4:$F$35,2,FALSE))))","v":""},{"$f":"IF(E80=\"\",\"\",IF(③選手情報入力!J89=\"\",\"\",③選手情報入力!J89))","v":""},{"$f":"IF(E80=\"\",\"\",IF(③選手情報入力!H89=\"\",0,1))","v":""},{"$f":"IF(E80=\"\",\"\",IF(③選手情報入力!I89=\"\",\"\",IF(I80=1,VLOOKUP(③選手情報入力!I89,種目情報!$A$4:$C$39,3,FALSE),VLOOKUP(③選手情報入力!I89,種目情報!$E$4:$G$40,3,FALSE))))","v":""},{"$f":"IF(E80=\"\",\"\",IF(③選手情報入力!L89=\"\",\"\",IF(I80=1,VLOOKUP(③選手情報入力!L89,種目情報!$A$4:$B$39,2,FALSE),VLOOKUP(③選手情報入力!L89,種目情報!$E$4:$F$40,2,FALSE))))","v":""},{"$f":"IF(E80=\"\",\"\",IF(③選手情報入力!M89=\"\",\"\",③選手情報入力!M89))","v":""},{"$f":"IF(E80=\"\",\"\",IF(③選手情報入力!K89=\"\",0,1))","v":""},{"$f":"IF(E80=\"\",\"\",IF(③選手情報入力!L89=\"\",\"\",IF(I80=1,VLOOKUP(③選手情報入力!L89,種目情報!$A$4:$C$39,3,FALSE),VLOOKUP(③選手情報入力!L89,種目情報!$E$4:$G$40,3,FALSE))))","v":""},{"$f":"IF(E80=\"\",\"\",IF(③選手情報入力!O89=\"\",\"\",IF(I80=1,VLOOKUP(③選手情報入力!O89,種目情報!$A$4:$B$39,2,FALSE),VLOOKUP(③選手情報入力!O89,種目情報!$E$4:$F$40,2,FALSE))))","v":""},{"$f":"IF(E80=\"\",\"\",IF(③選手情報入力!P89=\"\",\"\",③選手情報入力!P89))","v":""},{"$f":"IF(E80=\"\",\"\",IF(③選手情報入力!N89=\"\",0,1))","v":""},{"$f":"IF(E80=\"\",\"\",IF(③選手情報入力!O89=\"\",\"\",IF(I80=1,VLOOKUP(③選手情報入力!O89,種目情報!$A$4:$C$39,3,FALSE),VLOOKUP(③選手情報入力!O89,種目情報!$E$4:$G$40,3,FALSE))))","v":""},{"$f":"IF(E80=\"\",\"\",IF(③選手情報入力!Q89=\"\",\"\",IF(I80=1,種目情報!$J$4,種目情報!$J$6)))","v":""},{"$f":"IF(E80=\"\",\"\",IF(③選手情報入力!Q89=\"\",\"\",IF(I80=1,IF(③選手情報入力!$R$6=\"\",\"\",③選手情報入力!$R$6),IF(③選手情報入力!$R$7=\"\",\"\",③選手情報入力!$R$7))))","v":""},{"$f":"IF(E80=\"\",\"\",IF(③選手情報入力!Q89=\"\",\"\",IF(I80=1,IF(③選手情報入力!$Q$6=\"\",0,1),IF(③選手情報入力!$Q$7=\"\",0,1))))","v":""},{"$f":"IF(E80=\"\",\"\",IF(③選手情報入力!Q89=\"\",\"\",2))","v":""},{"$f":"IF(E80=\"\",\"\",IF(③選手情報入力!S89=\"\",\"\",IF(I80=1,種目情報!$J$5,種目情報!$J$7)))","v":""},{"$f":"IF(E80=\"\",\"\",IF(③選手情報入力!S89=\"\",\"\",IF(I80=1,IF(③選手情報入力!$T$6=\"\",\"\",③選手情報入力!$T$6),IF(③選手情報入力!$T$7=\"\",\"\",③選手情報入力!$T$7))))","v":""},{"$f":"IF(E80=\"\",\"\",IF(③選手情報入力!S89=\"\",\"\",IF(I80=1,IF(③選手情報入力!$S$6=\"\",0,1),IF(③選手情報入力!$S$7=\"\",0,1))))","v":""},{"$f":"IF(E80=\"\",\"\",IF(③選手情報入力!S89=\"\",\"\",2))","v":""}]
[{"$f":"IF(E81=\"\",\"\",IF(①データ貼付け!A81=\"\",I82*1000000+②団体情報入力!$D$3*1000+③選手情報入力!A90,①データ貼付け!A81))","v":""},{"$f":"IF(E81=\"\",\"\",②団体情報入力!$D$3)","v":""},null,{"$f":"IF(③選手情報入力!B90=\"\",\"\",LEFT(Sheet2!B81,2))","v":""},{"$f":"IF(③選手情報入力!B90=\"\",\"\",REPLACE(Sheet2!B81,1,2,\"\"))","v":""},{"$f":"IF(E81=\"\",\"\",③選手情報入力!C90)","v":""},{"$f":"IF(E81=\"\",\"\",③選手情報入力!D90)","v":""},"",{"$f":"IF(E81=\"\",\"\",IF(③選手情報入力!F90=\"男\",1,2))","v":""},{"$f":"IF(E81=\"\",\"\",IF(③選手情報入力!G90=\"\",\"\",③選手情報入力!G90))","v":""},null,"","",null,{"$f":"IF(E81=\"\",\"\",IF(③選手情報入力!I90=\"\",\"\",IF(I81=1,VLOOKUP(③選手情報入力!I90,種目情報!$A$4:$B$35,2,FALSE),VLOOKUP(③選手情報入力!I90,種目情報!$E$4:$F$35,2,FALSE))))","v":""},{"$f":"IF(E81=\"\",\"\",IF(③選手情報入力!J90=\"\",\"\",③選手情報入力!J90))","v":""},{"$f":"IF(E81=\"\",\"\",IF(③選手情報入力!H90=\"\",0,1))","v":""},{"$f":"IF(E81=\"\",\"\",IF(③選手情報入力!I90=\"\",\"\",IF(I81=1,VLOOKUP(③選手情報入力!I90,種目情報!$A$4:$C$39,3,FALSE),VLOOKUP(③選手情報入力!I90,種目情報!$E$4:$G$40,3,FALSE))))","v":""},{"$f":"IF(E81=\"\",\"\",IF(③選手情報入力!L90=\"\",\"\",IF(I81=1,VLOOKUP(③選手情報入力!L90,種目情報!$A$4:$B$39,2,FALSE),VLOOKUP(③選手情報入力!L90,種目情報!$E$4:$F$40,2,FALSE))))","v":""},{"$f":"IF(E81=\"\",\"\",IF(③選手情報入力!M90=\"\",\"\",③選手情報入力!M90))","v":""},{"$f":"IF(E81=\"\",\"\",IF(③選手情報入力!K90=\"\",0,1))","v":""},{"$f":"IF(E81=\"\",\"\",IF(③選手情報入力!L90=\"\",\"\",IF(I81=1,VLOOKUP(③選手情報入力!L90,種目情報!$A$4:$C$39,3,FALSE),VLOOKUP(③選手情報入力!L90,種目情報!$E$4:$G$40,3,FALSE))))","v":""},{"$f":"IF(E81=\"\",\"\",IF(③選手情報入力!O90=\"\",\"\",IF(I81=1,VLOOKUP(③選手情報入力!O90,種目情報!$A$4:$B$39,2,FALSE),VLOOKUP(③選手情報入力!O90,種目情報!$E$4:$F$40,2,FALSE))))","v":""},{"$f":"IF(E81=\"\",\"\",IF(③選手情報入力!P90=\"\",\"\",③選手情報入力!P90))","v":""},{"$f":"IF(E81=\"\",\"\",IF(③選手情報入力!N90=\"\",0,1))","v":""},{"$f":"IF(E81=\"\",\"\",IF(③選手情報入力!O90=\"\",\"\",IF(I81=1,VLOOKUP(③選手情報入力!O90,種目情報!$A$4:$C$39,3,FALSE),VLOOKUP(③選手情報入力!O90,種目情報!$E$4:$G$40,3,FALSE))))","v":""},{"$f":"IF(E81=\"\",\"\",IF(③選手情報入力!Q90=\"\",\"\",IF(I81=1,種目情報!$J$4,種目情報!$J$6)))","v":""},{"$f":"IF(E81=\"\",\"\",IF(③選手情報入力!Q90=\"\",\"\",IF(I81=1,IF(③選手情報入力!$R$6=\"\",\"\",③選手情報入力!$R$6),IF(③選手情報入力!$R$7=\"\",\"\",③選手情報入力!$R$7))))","v":""},{"$f":"IF(E81=\"\",\"\",IF(③選手情報入力!Q90=\"\",\"\",IF(I81=1,IF(③選手情報入力!$Q$6=\"\",0,1),IF(③選手情報入力!$Q$7=\"\",0,1))))","v":""},{"$f":"IF(E81=\"\",\"\",IF(③選手情報入力!Q90=\"\",\"\",2))","v":""},{"$f":"IF(E81=\"\",\"\",IF(③選手情報入力!S90=\"\",\"\",IF(I81=1,種目情報!$J$5,種目情報!$J$7)))","v":""},{"$f":"IF(E81=\"\",\"\",IF(③選手情報入力!S90=\"\",\"\",IF(I81=1,IF(③選手情報入力!$T$6=\"\",\"\",③選手情報入力!$T$6),IF(③選手情報入力!$T$7=\"\",\"\",③選手情報入力!$T$7))))","v":""},{"$f":"IF(E81=\"\",\"\",IF(③選手情報入力!S90=\"\",\"\",IF(I81=1,IF(③選手情報入力!$S$6=\"\",0,1),IF(③選手情報入力!$S$7=\"\",0,1))))","v":""},{"$f":"IF(E81=\"\",\"\",IF(③選手情報入力!S90=\"\",\"\",2))","v":""}]
[{"$f":"IF(E82=\"\",\"\",IF(①データ貼付け!A82=\"\",I83*1000000+②団体情報入力!$D$3*1000+③選手情報入力!A91,①データ貼付け!A82))","v":""},{"$f":"IF(E82=\"\",\"\",②団体情報入力!$D$3)","v":""},null,{"$f":"IF(③選手情報入力!B91=\"\",\"\",LEFT(Sheet2!B82,2))","v":""},{"$f":"IF(③選手情報入力!B91=\"\",\"\",REPLACE(Sheet2!B82,1,2,\"\"))","v":""},{"$f":"IF(E82=\"\",\"\",③選手情報入力!C91)","v":""},{"$f":"IF(E82=\"\",\"\",③選手情報入力!D91)","v":""},"",{"$f":"IF(E82=\"\",\"\",IF(③選手情報入力!F91=\"男\",1,2))","v":""},{"$f":"IF(E82=\"\",\"\",IF(③選手情報入力!G91=\"\",\"\",③選手情報入力!G91))","v":""},null,"","",null,{"$f":"IF(E82=\"\",\"\",IF(③選手情報入力!I91=\"\",\"\",IF(I82=1,VLOOKUP(③選手情報入力!I91,種目情報!$A$4:$B$35,2,FALSE),VLOOKUP(③選手情報入力!I91,種目情報!$E$4:$F$35,2,FALSE))))","v":""},{"$f":"IF(E82=\"\",\"\",IF(③選手情報入力!J91=\"\",\"\",③選手情報入力!J91))","v":""},{"$f":"IF(E82=\"\",\"\",IF(③選手情報入力!H91=\"\",0,1))","v":""},{"$f":"IF(E82=\"\",\"\",IF(③選手情報入力!I91=\"\",\"\",IF(I82=1,VLOOKUP(③選手情報入力!I91,種目情報!$A$4:$C$39,3,FALSE),VLOOKUP(③選手情報入力!I91,種目情報!$E$4:$G$40,3,FALSE))))","v":""},{"$f":"IF(E82=\"\",\"\",IF(③選手情報入力!L91=\"\",\"\",IF(I82=1,VLOOKUP(③選手情報入力!L91,種目情報!$A$4:$B$39,2,FALSE),VLOOKUP(③選手情報入力!L91,種目情報!$E$4:$F$40,2,FALSE))))","v":""},{"$f":"IF(E82=\"\",\"\",IF(③選手情報入力!M91=\"\",\"\",③選手情報入力!M91))","v":""},{"$f":"IF(E82=\"\",\"\",IF(③選手情報入力!K91=\"\",0,1))","v":""},{"$f":"IF(E82=\"\",\"\",IF(③選手情報入力!L91=\"\",\"\",IF(I82=1,VLOOKUP(③選手情報入力!L91,種目情報!$A$4:$C$39,3,FALSE),VLOOKUP(③選手情報入力!L91,種目情報!$E$4:$G$40,3,FALSE))))","v":""},{"$f":"IF(E82=\"\",\"\",IF(③選手情報入力!O91=\"\",\"\",IF(I82=1,VLOOKUP(③選手情報入力!O91,種目情報!$A$4:$B$39,2,FALSE),VLOOKUP(③選手情報入力!O91,種目情報!$E$4:$F$40,2,FALSE))))","v":""},{"$f":"IF(E82=\"\",\"\",IF(③選手情報入力!P91=\"\",\"\",③選手情報入力!P91))","v":""},{"$f":"IF(E82=\"\",\"\",IF(③選手情報入力!N91=\"\",0,1))","v":""},{"$f":"IF(E82=\"\",\"\",IF(③選手情報入力!O91=\"\",\"\",IF(I82=1,VLOOKUP(③選手情報入力!O91,種目情報!$A$4:$C$39,3,FALSE),VLOOKUP(③選手情報入力!O91,種目情報!$E$4:$G$40,3,FALSE))))","v":""},{"$f":"IF(E82=\"\",\"\",IF(③選手情報入力!Q91=\"\",\"\",IF(I82=1,種目情報!$J$4,種目情報!$J$6)))","v":""},{"$f":"IF(E82=\"\",\"\",IF(③選手情報入力!Q91=\"\",\"\",IF(I82=1,IF(③選手情報入力!$R$6=\"\",\"\",③選手情報入力!$R$6),IF(③選手情報入力!$R$7=\"\",\"\",③選手情報入力!$R$7))))","v":""},{"$f":"IF(E82=\"\",\"\",IF(③選手情報入力!Q91=\"\",\"\",IF(I82=1,IF(③選手情報入力!$Q$6=\"\",0,1),IF(③選手情報入力!$Q$7=\"\",0,1))))","v":""},{"$f":"IF(E82=\"\",\"\",IF(③選手情報入力!Q91=\"\",\"\",2))","v":""},{"$f":"IF(E82=\"\",\"\",IF(③選手情報入力!S91=\"\",\"\",IF(I82=1,種目情報!$J$5,種目情報!$J$7)))","v":""},{"$f":"IF(E82=\"\",\"\",IF(③選手情報入力!S91=\"\",\"\",IF(I82=1,IF(③選手情報入力!$T$6=\"\",\"\",③選手情報入力!$T$6),IF(③選手情報入力!$T$7=\"\",\"\",③選手情報入力!$T$7))))","v":""},{"$f":"IF(E82=\"\",\"\",IF(③選手情報入力!S91=\"\",\"\",IF(I82=1,IF(③選手情報入力!$S$6=\"\",0,1),IF(③選手情報入力!$S$7=\"\",0,1))))","v":""},{"$f":"IF(E82=\"\",\"\",IF(③選手情報入力!S91=\"\",\"\",2))","v":""}]
[{"$f":"IF(E83=\"\",\"\",IF(①データ貼付け!A83=\"\",I84*1000000+②団体情報入力!$D$3*1000+③選手情報入力!A92,①データ貼付け!A83))","v":""},{"$f":"IF(E83=\"\",\"\",②団体情報入力!$D$3)","v":""},null,{"$f":"IF(③選手情報入力!B92=\"\",\"\",LEFT(Sheet2!B83,2))","v":""},{"$f":"IF(③選手情報入力!B92=\"\",\"\",REPLACE(Sheet2!B83,1,2,\"\"))","v":""},{"$f":"IF(E83=\"\",\"\",③選手情報入力!C92)","v":""},{"$f":"IF(E83=\"\",\"\",③選手情報入力!D92)","v":""},"",{"$f":"IF(E83=\"\",\"\",IF(③選手情報入力!F92=\"男\",1,2))","v":""},{"$f":"IF(E83=\"\",\"\",IF(③選手情報入力!G92=\"\",\"\",③選手情報入力!G92))","v":""},null,"","",null,{"$f":"IF(E83=\"\",\"\",IF(③選手情報入力!I92=\"\",\"\",IF(I83=1,VLOOKUP(③選手情報入力!I92,種目情報!$A$4:$B$35,2,FALSE),VLOOKUP(③選手情報入力!I92,種目情報!$E$4:$F$35,2,FALSE))))","v":""},{"$f":"IF(E83=\"\",\"\",IF(③選手情報入力!J92=\"\",\"\",③選手情報入力!J92))","v":""},{"$f":"IF(E83=\"\",\"\",IF(③選手情報入力!H92=\"\",0,1))","v":""},{"$f":"IF(E83=\"\",\"\",IF(③選手情報入力!I92=\"\",\"\",IF(I83=1,VLOOKUP(③選手情報入力!I92,種目情報!$A$4:$C$39,3,FALSE),VLOOKUP(③選手情報入力!I92,種目情報!$E$4:$G$40,3,FALSE))))","v":""},{"$f":"IF(E83=\"\",\"\",IF(③選手情報入力!L92=\"\",\"\",IF(I83=1,VLOOKUP(③選手情報入力!L92,種目情報!$A$4:$B$39,2,FALSE),VLOOKUP(③選手情報入力!L92,種目情報!$E$4:$F$40,2,FALSE))))","v":""},{"$f":"IF(E83=\"\",\"\",IF(③選手情報入力!M92=\"\",\"\",③選手情報入力!M92))","v":""},{"$f":"IF(E83=\"\",\"\",IF(③選手情報入力!K92=\"\",0,1))","v":""},{"$f":"IF(E83=\"\",\"\",IF(③選手情報入力!L92=\"\",\"\",IF(I83=1,VLOOKUP(③選手情報入力!L92,種目情報!$A$4:$C$39,3,FALSE),VLOOKUP(③選手情報入力!L92,種目情報!$E$4:$G$40,3,FALSE))))","v":""},{"$f":"IF(E83=\"\",\"\",IF(③選手情報入力!O92=\"\",\"\",IF(I83=1,VLOOKUP(③選手情報入力!O92,種目情報!$A$4:$B$39,2,FALSE),VLOOKUP(③選手情報入力!O92,種目情報!$E$4:$F$40,2,FALSE))))","v":""},{"$f":"IF(E83=\"\",\"\",IF(③選手情報入力!P92=\"\",\"\",③選手情報入力!P92))","v":""},{"$f":"IF(E83=\"\",\"\",IF(③選手情報入力!N92=\"\",0,1))","v":""},{"$f":"IF(E83=\"\",\"\",IF(③選手情報入力!O92=\"\",\"\",IF(I83=1,VLOOKUP(③選手情報入力!O92,種目情報!$A$4:$C$39,3,FALSE),VLOOKUP(③選手情報入力!O92,種目情報!$E$4:$G$40,3,FALSE))))","v":""},{"$f":"IF(E83=\"\",\"\",IF(③選手情報入力!Q92=\"\",\"\",IF(I83=1,種目情報!$J$4,種目情報!$J$6)))","v":""},{"$f":"IF(E83=\"\",\"\",IF(③選手情報入力!Q92=\"\",\"\",IF(I83=1,IF(③選手情報入力!$R$6=\"\",\"\",③選手情報入力!$R$6),IF(③選手情報入力!$R$7=\"\",\"\",③選手情報入力!$R$7))))","v":""},{"$f":"IF(E83=\"\",\"\",IF(③選手情報入力!Q92=\"\",\"\",IF(I83=1,IF(③選手情報入力!$Q$6=\"\",0,1),IF(③選手情報入力!$Q$7=\"\",0,1))))","v":""},{"$f":"IF(E83=\"\",\"\",IF(③選手情報入力!Q92=\"\",\"\",2))","v":""},{"$f":"IF(E83=\"\",\"\",IF(③選手情報入力!S92=\"\",\"\",IF(I83=1,種目情報!$J$5,種目情報!$J$7)))","v":""},{"$f":"IF(E83=\"\",\"\",IF(③選手情報入力!S92=\"\",\"\",IF(I83=1,IF(③選手情報入力!$T$6=\"\",\"\",③選手情報入力!$T$6),IF(③選手情報入力!$T$7=\"\",\"\",③選手情報入力!$T$7))))","v":""},{"$f":"IF(E83=\"\",\"\",IF(③選手情報入力!S92=\"\",\"\",IF(I83=1,IF(③選手情報入力!$S$6=\"\",0,1),IF(③選手情報入力!$S$7=\"\",0,1))))","v":""},{"$f":"IF(E83=\"\",\"\",IF(③選手情報入力!S92=\"\",\"\",2))","v":""}]
[{"$f":"IF(E84=\"\",\"\",IF(①データ貼付け!A84=\"\",I85*1000000+②団体情報入力!$D$3*1000+③選手情報入力!A93,①データ貼付け!A84))","v":""},{"$f":"IF(E84=\"\",\"\",②団体情報入力!$D$3)","v":""},null,{"$f":"IF(③選手情報入力!B93=\"\",\"\",LEFT(Sheet2!B84,2))","v":""},{"$f":"IF(③選手情報入力!B93=\"\",\"\",REPLACE(Sheet2!B84,1,2,\"\"))","v":""},{"$f":"IF(E84=\"\",\"\",③選手情報入力!C93)","v":""},{"$f":"IF(E84=\"\",\"\",③選手情報入力!D93)","v":""},"",{"$f":"IF(E84=\"\",\"\",IF(③選手情報入力!F93=\"男\",1,2))","v":""},{"$f":"IF(E84=\"\",\"\",IF(③選手情報入力!G93=\"\",\"\",③選手情報入力!G93))","v":""},null,"","",null,{"$f":"IF(E84=\"\",\"\",IF(③選手情報入力!I93=\"\",\"\",IF(I84=1,VLOOKUP(③選手情報入力!I93,種目情報!$A$4:$B$35,2,FALSE),VLOOKUP(③選手情報入力!I93,種目情報!$E$4:$F$35,2,FALSE))))","v":""},{"$f":"IF(E84=\"\",\"\",IF(③選手情報入力!J93=\"\",\"\",③選手情報入力!J93))","v":""},{"$f":"IF(E84=\"\",\"\",IF(③選手情報入力!H93=\"\",0,1))","v":""},{"$f":"IF(E84=\"\",\"\",IF(③選手情報入力!I93=\"\",\"\",IF(I84=1,VLOOKUP(③選手情報入力!I93,種目情報!$A$4:$C$39,3,FALSE),VLOOKUP(③選手情報入力!I93,種目情報!$E$4:$G$40,3,FALSE))))","v":""},{"$f":"IF(E84=\"\",\"\",IF(③選手情報入力!L93=\"\",\"\",IF(I84=1,VLOOKUP(③選手情報入力!L93,種目情報!$A$4:$B$39,2,FALSE),VLOOKUP(③選手情報入力!L93,種目情報!$E$4:$F$40,2,FALSE))))","v":""},{"$f":"IF(E84=\"\",\"\",IF(③選手情報入力!M93=\"\",\"\",③選手情報入力!M93))","v":""},{"$f":"IF(E84=\"\",\"\",IF(③選手情報入力!K93=\"\",0,1))","v":""},{"$f":"IF(E84=\"\",\"\",IF(③選手情報入力!L93=\"\",\"\",IF(I84=1,VLOOKUP(③選手情報入力!L93,種目情報!$A$4:$C$39,3,FALSE),VLOOKUP(③選手情報入力!L93,種目情報!$E$4:$G$40,3,FALSE))))","v":""},{"$f":"IF(E84=\"\",\"\",IF(③選手情報入力!O93=\"\",\"\",IF(I84=1,VLOOKUP(③選手情報入力!O93,種目情報!$A$4:$B$39,2,FALSE),VLOOKUP(③選手情報入力!O93,種目情報!$E$4:$F$40,2,FALSE))))","v":""},{"$f":"IF(E84=\"\",\"\",IF(③選手情報入力!P93=\"\",\"\",③選手情報入力!P93))","v":""},{"$f":"IF(E84=\"\",\"\",IF(③選手情報入力!N93=\"\",0,1))","v":""},{"$f":"IF(E84=\"\",\"\",IF(③選手情報入力!O93=\"\",\"\",IF(I84=1,VLOOKUP(③選手情報入力!O93,種目情報!$A$4:$C$39,3,FALSE),VLOOKUP(③選手情報入力!O93,種目情報!$E$4:$G$40,3,FALSE))))","v":""},{"$f":"IF(E84=\"\",\"\",IF(③選手情報入力!Q93=\"\",\"\",IF(I84=1,種目情報!$J$4,種目情報!$J$6)))","v":""},{"$f":"IF(E84=\"\",\"\",IF(③選手情報入力!Q93=\"\",\"\",IF(I84=1,IF(③選手情報入力!$R$6=\"\",\"\",③選手情報入力!$R$6),IF(③選手情報入力!$R$7=\"\",\"\",③選手情報入力!$R$7))))","v":""},{"$f":"IF(E84=\"\",\"\",IF(③選手情報入力!Q93=\"\",\"\",IF(I84=1,IF(③選手情報入力!$Q$6=\"\",0,1),IF(③選手情報入力!$Q$7=\"\",0,1))))","v":""},{"$f":"IF(E84=\"\",\"\",IF(③選手情報入力!Q93=\"\",\"\",2))","v":""},{"$f":"IF(E84=\"\",\"\",IF(③選手情報入力!S93=\"\",\"\",IF(I84=1,種目情報!$J$5,種目情報!$J$7)))","v":""},{"$f":"IF(E84=\"\",\"\",IF(③選手情報入力!S93=\"\",\"\",IF(I84=1,IF(③選手情報入力!$T$6=\"\",\"\",③選手情報入力!$T$6),IF(③選手情報入力!$T$7=\"\",\"\",③選手情報入力!$T$7))))","v":""},{"$f":"IF(E84=\"\",\"\",IF(③選手情報入力!S93=\"\",\"\",IF(I84=1,IF(③選手情報入力!$S$6=\"\",0,1),IF(③選手情報入力!$S$7=\"\",0,1))))","v":""},{"$f":"IF(E84=\"\",\"\",IF(③選手情報入力!S93=\"\",\"\",2))","v":""}]
[{"$f":"IF(E85=\"\",\"\",IF(①データ貼付け!A85=\"\",I86*1000000+②団体情報入力!$D$3*1000+③選手情報入力!A94,①データ貼付け!A85))","v":""},{"$f":"IF(E85=\"\",\"\",②団体情報入力!$D$3)","v":""},null,{"$f":"IF(③選手情報入力!B94=\"\",\"\",LEFT(Sheet2!B85,2))","v":""},{"$f":"IF(③選手情報入力!B94=\"\",\"\",REPLACE(Sheet2!B85,1,2,\"\"))","v":""},{"$f":"IF(E85=\"\",\"\",③選手情報入力!C94)","v":""},{"$f":"IF(E85=\"\",\"\",③選手情報入力!D94)","v":""},"",{"$f":"IF(E85=\"\",\"\",IF(③選手情報入力!F94=\"男\",1,2))","v":""},{"$f":"IF(E85=\"\",\"\",IF(③選手情報入力!G94=\"\",\"\",③選手情報入力!G94))","v":""},null,"","",null,{"$f":"IF(E85=\"\",\"\",IF(③選手情報入力!I94=\"\",\"\",IF(I85=1,VLOOKUP(③選手情報入力!I94,種目情報!$A$4:$B$35,2,FALSE),VLOOKUP(③選手情報入力!I94,種目情報!$E$4:$F$35,2,FALSE))))","v":""},{"$f":"IF(E85=\"\",\"\",IF(③選手情報入力!J94=\"\",\"\",③選手情報入力!J94))","v":""},{"$f":"IF(E85=\"\",\"\",IF(③選手情報入力!H94=\"\",0,1))","v":""},{"$f":"IF(E85=\"\",\"\",IF(③選手情報入力!I94=\"\",\"\",IF(I85=1,VLOOKUP(③選手情報入力!I94,種目情報!$A$4:$C$39,3,FALSE),VLOOKUP(③選手情報入力!I94,種目情報!$E$4:$G$40,3,FALSE))))","v":""},{"$f":"IF(E85=\"\",\"\",IF(③選手情報入力!L94=\"\",\"\",IF(I85=1,VLOOKUP(③選手情報入力!L94,種目情報!$A$4:$B$39,2,FALSE),VLOOKUP(③選手情報入力!L94,種目情報!$E$4:$F$40,2,FALSE))))","v":""},{"$f":"IF(E85=\"\",\"\",IF(③選手情報入力!M94=\"\",\"\",③選手情報入力!M94))","v":""},{"$f":"IF(E85=\"\",\"\",IF(③選手情報入力!K94=\"\",0,1))","v":""},{"$f":"IF(E85=\"\",\"\",IF(③選手情報入力!L94=\"\",\"\",IF(I85=1,VLOOKUP(③選手情報入力!L94,種目情報!$A$4:$C$39,3,FALSE),VLOOKUP(③選手情報入力!L94,種目情報!$E$4:$G$40,3,FALSE))))","v":""},{"$f":"IF(E85=\"\",\"\",IF(③選手情報入力!O94=\"\",\"\",IF(I85=1,VLOOKUP(③選手情報入力!O94,種目情報!$A$4:$B$39,2,FALSE),VLOOKUP(③選手情報入力!O94,種目情報!$E$4:$F$40,2,FALSE))))","v":""},{"$f":"IF(E85=\"\",\"\",IF(③選手情報入力!P94=\"\",\"\",③選手情報入力!P94))","v":""},{"$f":"IF(E85=\"\",\"\",IF(③選手情報入力!N94=\"\",0,1))","v":""},{"$f":"IF(E85=\"\",\"\",IF(③選手情報入力!O94=\"\",\"\",IF(I85=1,VLOOKUP(③選手情報入力!O94,種目情報!$A$4:$C$39,3,FALSE),VLOOKUP(③選手情報入力!O94,種目情報!$E$4:$G$40,3,FALSE))))","v":""},{"$f":"IF(E85=\"\",\"\",IF(③選手情報入力!Q94=\"\",\"\",IF(I85=1,種目情報!$J$4,種目情報!$J$6)))","v":""},{"$f":"IF(E85=\"\",\"\",IF(③選手情報入力!Q94=\"\",\"\",IF(I85=1,IF(③選手情報入力!$R$6=\"\",\"\",③選手情報入力!$R$6),IF(③選手情報入力!$R$7=\"\",\"\",③選手情報入力!$R$7))))","v":""},{"$f":"IF(E85=\"\",\"\",IF(③選手情報入力!Q94=\"\",\"\",IF(I85=1,IF(③選手情報入力!$Q$6=\"\",0,1),IF(③選手情報入力!$Q$7=\"\",0,1))))","v":""},{"$f":"IF(E85=\"\",\"\",IF(③選手情報入力!Q94=\"\",\"\",2))","v":""},{"$f":"IF(E85=\"\",\"\",IF(③選手情報入力!S94=\"\",\"\",IF(I85=1,種目情報!$J$5,種目情報!$J$7)))","v":""},{"$f":"IF(E85=\"\",\"\",IF(③選手情報入力!S94=\"\",\"\",IF(I85=1,IF(③選手情報入力!$T$6=\"\",\"\",③選手情報入力!$T$6),IF(③選手情報入力!$T$7=\"\",\"\",③選手情報入力!$T$7))))","v":""},{"$f":"IF(E85=\"\",\"\",IF(③選手情報入力!S94=\"\",\"\",IF(I85=1,IF(③選手情報入力!$S$6=\"\",0,1),IF(③選手情報入力!$S$7=\"\",0,1))))","v":""},{"$f":"IF(E85=\"\",\"\",IF(③選手情報入力!S94=\"\",\"\",2))","v":""}]
[{"$f":"IF(E86=\"\",\"\",IF(①データ貼付け!A86=\"\",I87*1000000+②団体情報入力!$D$3*1000+③選手情報入力!A95,①データ貼付け!A86))","v":""},{"$f":"IF(E86=\"\",\"\",②団体情報入力!$D$3)","v":""},null,{"$f":"IF(③選手情報入力!B95=\"\",\"\",LEFT(Sheet2!B86,2))","v":""},{"$f":"IF(③選手情報入力!B95=\"\",\"\",REPLACE(Sheet2!B86,1,2,\"\"))","v":""},{"$f":"IF(E86=\"\",\"\",③選手情報入力!C95)","v":""},{"$f":"IF(E86=\"\",\"\",③選手情報入力!D95)","v":""},"",{"$f":"IF(E86=\"\",\"\",IF(③選手情報入力!F95=\"男\",1,2))","v":""},{"$f":"IF(E86=\"\",\"\",IF(③選手情報入力!G95=\"\",\"\",③選手情報入力!G95))","v":""},null,"","",null,{"$f":"IF(E86=\"\",\"\",IF(③選手情報入力!I95=\"\",\"\",IF(I86=1,VLOOKUP(③選手情報入力!I95,種目情報!$A$4:$B$35,2,FALSE),VLOOKUP(③選手情報入力!I95,種目情報!$E$4:$F$35,2,FALSE))))","v":""},{"$f":"IF(E86=\"\",\"\",IF(③選手情報入力!J95=\"\",\"\",③選手情報入力!J95))","v":""},{"$f":"IF(E86=\"\",\"\",IF(③選手情報入力!H95=\"\",0,1))","v":""},{"$f":"IF(E86=\"\",\"\",IF(③選手情報入力!I95=\"\",\"\",IF(I86=1,VLOOKUP(③選手情報入力!I95,種目情報!$A$4:$C$39,3,FALSE),VLOOKUP(③選手情報入力!I95,種目情報!$E$4:$G$40,3,FALSE))))","v":""},{"$f":"IF(E86=\"\",\"\",IF(③選手情報入力!L95=\"\",\"\",IF(I86=1,VLOOKUP(③選手情報入力!L95,種目情報!$A$4:$B$39,2,FALSE),VLOOKUP(③選手情報入力!L95,種目情報!$E$4:$F$40,2,FALSE))))","v":""},{"$f":"IF(E86=\"\",\"\",IF(③選手情報入力!M95=\"\",\"\",③選手情報入力!M95))","v":""},{"$f":"IF(E86=\"\",\"\",IF(③選手情報入力!K95=\"\",0,1))","v":""},{"$f":"IF(E86=\"\",\"\",IF(③選手情報入力!L95=\"\",\"\",IF(I86=1,VLOOKUP(③選手情報入力!L95,種目情報!$A$4:$C$39,3,FALSE),VLOOKUP(③選手情報入力!L95,種目情報!$E$4:$G$40,3,FALSE))))","v":""},{"$f":"IF(E86=\"\",\"\",IF(③選手情報入力!O95=\"\",\"\",IF(I86=1,VLOOKUP(③選手情報入力!O95,種目情報!$A$4:$B$39,2,FALSE),VLOOKUP(③選手情報入力!O95,種目情報!$E$4:$F$40,2,FALSE))))","v":""},{"$f":"IF(E86=\"\",\"\",IF(③選手情報入力!P95=\"\",\"\",③選手情報入力!P95))","v":""},{"$f":"IF(E86=\"\",\"\",IF(③選手情報入力!N95=\"\",0,1))","v":""},{"$f":"IF(E86=\"\",\"\",IF(③選手情報入力!O95=\"\",\"\",IF(I86=1,VLOOKUP(③選手情報入力!O95,種目情報!$A$4:$C$39,3,FALSE),VLOOKUP(③選手情報入力!O95,種目情報!$E$4:$G$40,3,FALSE))))","v":""},{"$f":"IF(E86=\"\",\"\",IF(③選手情報入力!Q95=\"\",\"\",IF(I86=1,種目情報!$J$4,種目情報!$J$6)))","v":""},{"$f":"IF(E86=\"\",\"\",IF(③選手情報入力!Q95=\"\",\"\",IF(I86=1,IF(③選手情報入力!$R$6=\"\",\"\",③選手情報入力!$R$6),IF(③選手情報入力!$R$7=\"\",\"\",③選手情報入力!$R$7))))","v":""},{"$f":"IF(E86=\"\",\"\",IF(③選手情報入力!Q95=\"\",\"\",IF(I86=1,IF(③選手情報入力!$Q$6=\"\",0,1),IF(③選手情報入力!$Q$7=\"\",0,1))))","v":""},{"$f":"IF(E86=\"\",\"\",IF(③選手情報入力!Q95=\"\",\"\",2))","v":""},{"$f":"IF(E86=\"\",\"\",IF(③選手情報入力!S95=\"\",\"\",IF(I86=1,種目情報!$J$5,種目情報!$J$7)))","v":""},{"$f":"IF(E86=\"\",\"\",IF(③選手情報入力!S95=\"\",\"\",IF(I86=1,IF(③選手情報入力!$T$6=\"\",\"\",③選手情報入力!$T$6),IF(③選手情報入力!$T$7=\"\",\"\",③選手情報入力!$T$7))))","v":""},{"$f":"IF(E86=\"\",\"\",IF(③選手情報入力!S95=\"\",\"\",IF(I86=1,IF(③選手情報入力!$S$6=\"\",0,1),IF(③選手情報入力!$S$7=\"\",0,1))))","v":""},{"$f":"IF(E86=\"\",\"\",IF(③選手情報入力!S95=\"\",\"\",2))","v":""}]
[{"$f":"IF(E87=\"\",\"\",IF(①データ貼付け!A87=\"\",I88*1000000+②団体情報入力!$D$3*1000+③選手情報入力!A96,①データ貼付け!A87))","v":""},{"$f":"IF(E87=\"\",\"\",②団体情報入力!$D$3)","v":""},null,{"$f":"IF(③選手情報入力!B96=\"\",\"\",LEFT(Sheet2!B87,2))","v":""},{"$f":"IF(③選手情報入力!B96=\"\",\"\",REPLACE(Sheet2!B87,1,2,\"\"))","v":""},{"$f":"IF(E87=\"\",\"\",③選手情報入力!C96)","v":""},{"$f":"IF(E87=\"\",\"\",③選手情報入力!D96)","v":""},"",{"$f":"IF(E87=\"\",\"\",IF(③選手情報入力!F96=\"男\",1,2))","v":""},{"$f":"IF(E87=\"\",\"\",IF(③選手情報入力!G96=\"\",\"\",③選手情報入力!G96))","v":""},null,"","",null,{"$f":"IF(E87=\"\",\"\",IF(③選手情報入力!I96=\"\",\"\",IF(I87=1,VLOOKUP(③選手情報入力!I96,種目情報!$A$4:$B$35,2,FALSE),VLOOKUP(③選手情報入力!I96,種目情報!$E$4:$F$35,2,FALSE))))","v":""},{"$f":"IF(E87=\"\",\"\",IF(③選手情報入力!J96=\"\",\"\",③選手情報入力!J96))","v":""},{"$f":"IF(E87=\"\",\"\",IF(③選手情報入力!H96=\"\",0,1))","v":""},{"$f":"IF(E87=\"\",\"\",IF(③選手情報入力!I96=\"\",\"\",IF(I87=1,VLOOKUP(③選手情報入力!I96,種目情報!$A$4:$C$39,3,FALSE),VLOOKUP(③選手情報入力!I96,種目情報!$E$4:$G$40,3,FALSE))))","v":""},{"$f":"IF(E87=\"\",\"\",IF(③選手情報入力!L96=\"\",\"\",IF(I87=1,VLOOKUP(③選手情報入力!L96,種目情報!$A$4:$B$39,2,FALSE),VLOOKUP(③選手情報入力!L96,種目情報!$E$4:$F$40,2,FALSE))))","v":""},{"$f":"IF(E87=\"\",\"\",IF(③選手情報入力!M96=\"\",\"\",③選手情報入力!M96))","v":""},{"$f":"IF(E87=\"\",\"\",IF(③選手情報入力!K96=\"\",0,1))","v":""},{"$f":"IF(E87=\"\",\"\",IF(③選手情報入力!L96=\"\",\"\",IF(I87=1,VLOOKUP(③選手情報入力!L96,種目情報!$A$4:$C$39,3,FALSE),VLOOKUP(③選手情報入力!L96,種目情報!$E$4:$G$40,3,FALSE))))","v":""},{"$f":"IF(E87=\"\",\"\",IF(③選手情報入力!O96=\"\",\"\",IF(I87=1,VLOOKUP(③選手情報入力!O96,種目情報!$A$4:$B$39,2,FALSE),VLOOKUP(③選手情報入力!O96,種目情報!$E$4:$F$40,2,FALSE))))","v":""},{"$f":"IF(E87=\"\",\"\",IF(③選手情報入力!P96=\"\",\"\",③選手情報入力!P96))","v":""},{"$f":"IF(E87=\"\",\"\",IF(③選手情報入力!N96=\"\",0,1))","v":""},{"$f":"IF(E87=\"\",\"\",IF(③選手情報入力!O96=\"\",\"\",IF(I87=1,VLOOKUP(③選手情報入力!O96,種目情報!$A$4:$C$39,3,FALSE),VLOOKUP(③選手情報入力!O96,種目情報!$E$4:$G$40,3,FALSE))))","v":""},{"$f":"IF(E87=\"\",\"\",IF(③選手情報入力!Q96=\"\",\"\",IF(I87=1,種目情報!$J$4,種目情報!$J$6)))","v":""},{"$f":"IF(E87=\"\",\"\",IF(③選手情報入力!Q96=\"\",\"\",IF(I87=1,IF(③選手情報入力!$R$6=\"\",\"\",③選手情報入力!$R$6),IF(③選手情報入力!$R$7=\"\",\"\",③選手情報入力!$R$7))))","v":""},{"$f":"IF(E87=\"\",\"\",IF(③選手情報入力!Q96=\"\",\"\",IF(I87=1,IF(③選手情報入力!$Q$6=\"\",0,1),IF(③選手情報入力!$Q$7=\"\",0,1))))","v":""},{"$f":"IF(E87=\"\",\"\",IF(③選手情報入力!Q96=\"\",\"\",2))","v":""},{"$f":"IF(E87=\"\",\"\",IF(③選手情報入力!S96=\"\",\"\",IF(I87=1,種目情報!$J$5,種目情報!$J$7)))","v":""},{"$f":"IF(E87=\"\",\"\",IF(③選手情報入力!S96=\"\",\"\",IF(I87=1,IF(③選手情報入力!$T$6=\"\",\"\",③選手情報入力!$T$6),IF(③選手情報入力!$T$7=\"\",\"\",③選手情報入力!$T$7))))","v":""},{"$f":"IF(E87=\"\",\"\",IF(③選手情報入力!S96=\"\",\"\",IF(I87=1,IF(③選手情報入力!$S$6=\"\",0,1),IF(③選手情報入力!$S$7=\"\",0,1))))","v":""},{"$f":"IF(E87=\"\",\"\",IF(③選手情報入力!S96=\"\",\"\",2))","v":""}]
[{"$f":"IF(E88=\"\",\"\",IF(①データ貼付け!A88=\"\",I89*1000000+②団体情報入力!$D$3*1000+③選手情報入力!A97,①データ貼付け!A88))","v":""},{"$f":"IF(E88=\"\",\"\",②団体情報入力!$D$3)","v":""},null,{"$f":"IF(③選手情報入力!B97=\"\",\"\",LEFT(Sheet2!B88,2))","v":""},{"$f":"IF(③選手情報入力!B97=\"\",\"\",REPLACE(Sheet2!B88,1,2,\"\"))","v":""},{"$f":"IF(E88=\"\",\"\",③選手情報入力!C97)","v":""},{"$f":"IF(E88=\"\",\"\",③選手情報入力!D97)","v":""},"",{"$f":"IF(E88=\"\",\"\",IF(③選手情報入力!F97=\"男\",1,2))","v":""},{"$f":"IF(E88=\"\",\"\",IF(③選手情報入力!G97=\"\",\"\",③選手情報入力!G97))","v":""},null,"","",null,{"$f":"IF(E88=\"\",\"\",IF(③選手情報入力!I97=\"\",\"\",IF(I88=1,VLOOKUP(③選手情報入力!I97,種目情報!$A$4:$B$35,2,FALSE),VLOOKUP(③選手情報入力!I97,種目情報!$E$4:$F$35,2,FALSE))))","v":""},{"$f":"IF(E88=\"\",\"\",IF(③選手情報入力!J97=\"\",\"\",③選手情報入力!J97))","v":""},{"$f":"IF(E88=\"\",\"\",IF(③選手情報入力!H97=\"\",0,1))","v":""},{"$f":"IF(E88=\"\",\"\",IF(③選手情報入力!I97=\"\",\"\",IF(I88=1,VLOOKUP(③選手情報入力!I97,種目情報!$A$4:$C$39,3,FALSE),VLOOKUP(③選手情報入力!I97,種目情報!$E$4:$G$40,3,FALSE))))","v":""},{"$f":"IF(E88=\"\",\"\",IF(③選手情報入力!L97=\"\",\"\",IF(I88=1,VLOOKUP(③選手情報入力!L97,種目情報!$A$4:$B$39,2,FALSE),VLOOKUP(③選手情報入力!L97,種目情報!$E$4:$F$40,2,FALSE))))","v":""},{"$f":"IF(E88=\"\",\"\",IF(③選手情報入力!M97=\"\",\"\",③選手情報入力!M97))","v":""},{"$f":"IF(E88=\"\",\"\",IF(③選手情報入力!K97=\"\",0,1))","v":""},{"$f":"IF(E88=\"\",\"\",IF(③選手情報入力!L97=\"\",\"\",IF(I88=1,VLOOKUP(③選手情報入力!L97,種目情報!$A$4:$C$39,3,FALSE),VLOOKUP(③選手情報入力!L97,種目情報!$E$4:$G$40,3,FALSE))))","v":""},{"$f":"IF(E88=\"\",\"\",IF(③選手情報入力!O97=\"\",\"\",IF(I88=1,VLOOKUP(③選手情報入力!O97,種目情報!$A$4:$B$39,2,FALSE),VLOOKUP(③選手情報入力!O97,種目情報!$E$4:$F$40,2,FALSE))))","v":""},{"$f":"IF(E88=\"\",\"\",IF(③選手情報入力!P97=\"\",\"\",③選手情報入力!P97))","v":""},{"$f":"IF(E88=\"\",\"\",IF(③選手情報入力!N97=\"\",0,1))","v":""},{"$f":"IF(E88=\"\",\"\",IF(③選手情報入力!O97=\"\",\"\",IF(I88=1,VLOOKUP(③選手情報入力!O97,種目情報!$A$4:$C$39,3,FALSE),VLOOKUP(③選手情報入力!O97,種目情報!$E$4:$G$40,3,FALSE))))","v":""},{"$f":"IF(E88=\"\",\"\",IF(③選手情報入力!Q97=\"\",\"\",IF(I88=1,種目情報!$J$4,種目情報!$J$6)))","v":""},{"$f":"IF(E88=\"\",\"\",IF(③選手情報入力!Q97=\"\",\"\",IF(I88=1,IF(③選手情報入力!$R$6=\"\",\"\",③選手情報入力!$R$6),IF(③選手情報入力!$R$7=\"\",\"\",③選手情報入力!$R$7))))","v":""},{"$f":"IF(E88=\"\",\"\",IF(③選手情報入力!Q97=\"\",\"\",IF(I88=1,IF(③選手情報入力!$Q$6=\"\",0,1),IF(③選手情報入力!$Q$7=\"\",0,1))))","v":""},{"$f":"IF(E88=\"\",\"\",IF(③選手情報入力!Q97=\"\",\"\",2))","v":""},{"$f":"IF(E88=\"\",\"\",IF(③選手情報入力!S97=\"\",\"\",IF(I88=1,種目情報!$J$5,種目情報!$J$7)))","v":""},{"$f":"IF(E88=\"\",\"\",IF(③選手情報入力!S97=\"\",\"\",IF(I88=1,IF(③選手情報入力!$T$6=\"\",\"\",③選手情報入力!$T$6),IF(③選手情報入力!$T$7=\"\",\"\",③選手情報入力!$T$7))))","v":""},{"$f":"IF(E88=\"\",\"\",IF(③選手情報入力!S97=\"\",\"\",IF(I88=1,IF(③選手情報入力!$S$6=\"\",0,1),IF(③選手情報入力!$S$7=\"\",0,1))))","v":""},{"$f":"IF(E88=\"\",\"\",IF(③選手情報入力!S97=\"\",\"\",2))","v":""}]
[{"$f":"IF(E89=\"\",\"\",IF(①データ貼付け!A89=\"\",I90*1000000+②団体情報入力!$D$3*1000+③選手情報入力!A98,①データ貼付け!A89))","v":""},{"$f":"IF(E89=\"\",\"\",②団体情報入力!$D$3)","v":""},null,{"$f":"IF(③選手情報入力!B98=\"\",\"\",LEFT(Sheet2!B89,2))","v":""},{"$f":"IF(③選手情報入力!B98=\"\",\"\",REPLACE(Sheet2!B89,1,2,\"\"))","v":""},{"$f":"IF(E89=\"\",\"\",③選手情報入力!C98)","v":""},{"$f":"IF(E89=\"\",\"\",③選手情報入力!D98)","v":""},"",{"$f":"IF(E89=\"\",\"\",IF(③選手情報入力!F98=\"男\",1,2))","v":""},{"$f":"IF(E89=\"\",\"\",IF(③選手情報入力!G98=\"\",\"\",③選手情報入力!G98))","v":""},null,"","",null,{"$f":"IF(E89=\"\",\"\",IF(③選手情報入力!I98=\"\",\"\",IF(I89=1,VLOOKUP(③選手情報入力!I98,種目情報!$A$4:$B$35,2,FALSE),VLOOKUP(③選手情報入力!I98,種目情報!$E$4:$F$35,2,FALSE))))","v":""},{"$f":"IF(E89=\"\",\"\",IF(③選手情報入力!J98=\"\",\"\",③選手情報入力!J98))","v":""},{"$f":"IF(E89=\"\",\"\",IF(③選手情報入力!H98=\"\",0,1))","v":""},{"$f":"IF(E89=\"\",\"\",IF(③選手情報入力!I98=\"\",\"\",IF(I89=1,VLOOKUP(③選手情報入力!I98,種目情報!$A$4:$C$39,3,FALSE),VLOOKUP(③選手情報入力!I98,種目情報!$E$4:$G$40,3,FALSE))))","v":""},{"$f":"IF(E89=\"\",\"\",IF(③選手情報入力!L98=\"\",\"\",IF(I89=1,VLOOKUP(③選手情報入力!L98,種目情報!$A$4:$B$39,2,FALSE),VLOOKUP(③選手情報入力!L98,種目情報!$E$4:$F$40,2,FALSE))))","v":""},{"$f":"IF(E89=\"\",\"\",IF(③選手情報入力!M98=\"\",\"\",③選手情報入力!M98))","v":""},{"$f":"IF(E89=\"\",\"\",IF(③選手情報入力!K98=\"\",0,1))","v":""},{"$f":"IF(E89=\"\",\"\",IF(③選手情報入力!L98=\"\",\"\",IF(I89=1,VLOOKUP(③選手情報入力!L98,種目情報!$A$4:$C$39,3,FALSE),VLOOKUP(③選手情報入力!L98,種目情報!$E$4:$G$40,3,FALSE))))","v":""},{"$f":"IF(E89=\"\",\"\",IF(③選手情報入力!O98=\"\",\"\",IF(I89=1,VLOOKUP(③選手情報入力!O98,種目情報!$A$4:$B$39,2,FALSE),VLOOKUP(③選手情報入力!O98,種目情報!$E$4:$F$40,2,FALSE))))","v":""},{"$f":"IF(E89=\"\",\"\",IF(③選手情報入力!P98=\"\",\"\",③選手情報入力!P98))","v":""},{"$f":"IF(E89=\"\",\"\",IF(③選手情報入力!N98=\"\",0,1))","v":""},{"$f":"IF(E89=\"\",\"\",IF(③選手情報入力!O98=\"\",\"\",IF(I89=1,VLOOKUP(③選手情報入力!O98,種目情報!$A$4:$C$39,3,FALSE),VLOOKUP(③選手情報入力!O98,種目情報!$E$4:$G$40,3,FALSE))))","v":""},{"$f":"IF(E89=\"\",\"\",IF(③選手情報入力!Q98=\"\",\"\",IF(I89=1,種目情報!$J$4,種目情報!$J$6)))","v":""},{"$f":"IF(E89=\"\",\"\",IF(③選手情報入力!Q98=\"\",\"\",IF(I89=1,IF(③選手情報入力!$R$6=\"\",\"\",③選手情報入力!$R$6),IF(③選手情報入力!$R$7=\"\",\"\",③選手情報入力!$R$7))))","v":""},{"$f":"IF(E89=\"\",\"\",IF(③選手情報入力!Q98=\"\",\"\",IF(I89=1,IF(③選手情報入力!$Q$6=\"\",0,1),IF(③選手情報入力!$Q$7=\"\",0,1))))","v":""},{"$f":"IF(E89=\"\",\"\",IF(③選手情報入力!Q98=\"\",\"\",2))","v":""},{"$f":"IF(E89=\"\",\"\",IF(③選手情報入力!S98=\"\",\"\",IF(I89=1,種目情報!$J$5,種目情報!$J$7)))","v":""},{"$f":"IF(E89=\"\",\"\",IF(③選手情報入力!S98=\"\",\"\",IF(I89=1,IF(③選手情報入力!$T$6=\"\",\"\",③選手情報入力!$T$6),IF(③選手情報入力!$T$7=\"\",\"\",③選手情報入力!$T$7))))","v":""},{"$f":"IF(E89=\"\",\"\",IF(③選手情報入力!S98=\"\",\"\",IF(I89=1,IF(③選手情報入力!$S$6=\"\",0,1),IF(③選手情報入力!$S$7=\"\",0,1))))","v":""},{"$f":"IF(E89=\"\",\"\",IF(③選手情報入力!S98=\"\",\"\",2))","v":""}]
[{"$f":"IF(E90=\"\",\"\",IF(①データ貼付け!A90=\"\",I91*1000000+②団体情報入力!$D$3*1000+③選手情報入力!A99,①データ貼付け!A90))","v":""},{"$f":"IF(E90=\"\",\"\",②団体情報入力!$D$3)","v":""},null,{"$f":"IF(③選手情報入力!B99=\"\",\"\",LEFT(Sheet2!B90,2))","v":""},{"$f":"IF(③選手情報入力!B99=\"\",\"\",REPLACE(Sheet2!B90,1,2,\"\"))","v":""},{"$f":"IF(E90=\"\",\"\",③選手情報入力!C99)","v":""},{"$f":"IF(E90=\"\",\"\",③選手情報入力!D99)","v":""},"",{"$f":"IF(E90=\"\",\"\",IF(③選手情報入力!F99=\"男\",1,2))","v":""},{"$f":"IF(E90=\"\",\"\",IF(③選手情報入力!G99=\"\",\"\",③選手情報入力!G99))","v":""},null,"","",null,{"$f":"IF(E90=\"\",\"\",IF(③選手情報入力!I99=\"\",\"\",IF(I90=1,VLOOKUP(③選手情報入力!I99,種目情報!$A$4:$B$35,2,FALSE),VLOOKUP(③選手情報入力!I99,種目情報!$E$4:$F$35,2,FALSE))))","v":""},{"$f":"IF(E90=\"\",\"\",IF(③選手情報入力!J99=\"\",\"\",③選手情報入力!J99))","v":""},{"$f":"IF(E90=\"\",\"\",IF(③選手情報入力!H99=\"\",0,1))","v":""},{"$f":"IF(E90=\"\",\"\",IF(③選手情報入力!I99=\"\",\"\",IF(I90=1,VLOOKUP(③選手情報入力!I99,種目情報!$A$4:$C$39,3,FALSE),VLOOKUP(③選手情報入力!I99,種目情報!$E$4:$G$40,3,FALSE))))","v":""},{"$f":"IF(E90=\"\",\"\",IF(③選手情報入力!L99=\"\",\"\",IF(I90=1,VLOOKUP(③選手情報入力!L99,種目情報!$A$4:$B$39,2,FALSE),VLOOKUP(③選手情報入力!L99,種目情報!$E$4:$F$40,2,FALSE))))","v":""},{"$f":"IF(E90=\"\",\"\",IF(③選手情報入力!M99=\"\",\"\",③選手情報入力!M99))","v":""},{"$f":"IF(E90=\"\",\"\",IF(③選手情報入力!K99=\"\",0,1))","v":""},{"$f":"IF(E90=\"\",\"\",IF(③選手情報入力!L99=\"\",\"\",IF(I90=1,VLOOKUP(③選手情報入力!L99,種目情報!$A$4:$C$39,3,FALSE),VLOOKUP(③選手情報入力!L99,種目情報!$E$4:$G$40,3,FALSE))))","v":""},{"$f":"IF(E90=\"\",\"\",IF(③選手情報入力!O99=\"\",\"\",IF(I90=1,VLOOKUP(③選手情報入力!O99,種目情報!$A$4:$B$39,2,FALSE),VLOOKUP(③選手情報入力!O99,種目情報!$E$4:$F$40,2,FALSE))))","v":""},{"$f":"IF(E90=\"\",\"\",IF(③選手情報入力!P99=\"\",\"\",③選手情報入力!P99))","v":""},{"$f":"IF(E90=\"\",\"\",IF(③選手情報入力!N99=\"\",0,1))","v":""},{"$f":"IF(E90=\"\",\"\",IF(③選手情報入力!O99=\"\",\"\",IF(I90=1,VLOOKUP(③選手情報入力!O99,種目情報!$A$4:$C$39,3,FALSE),VLOOKUP(③選手情報入力!O99,種目情報!$E$4:$G$40,3,FALSE))))","v":""},{"$f":"IF(E90=\"\",\"\",IF(③選手情報入力!Q99=\"\",\"\",IF(I90=1,種目情報!$J$4,種目情報!$J$6)))","v":""},{"$f":"IF(E90=\"\",\"\",IF(③選手情報入力!Q99=\"\",\"\",IF(I90=1,IF(③選手情報入力!$R$6=\"\",\"\",③選手情報入力!$R$6),IF(③選手情報入力!$R$7=\"\",\"\",③選手情報入力!$R$7))))","v":""},{"$f":"IF(E90=\"\",\"\",IF(③選手情報入力!Q99=\"\",\"\",IF(I90=1,IF(③選手情報入力!$Q$6=\"\",0,1),IF(③選手情報入力!$Q$7=\"\",0,1))))","v":""},{"$f":"IF(E90=\"\",\"\",IF(③選手情報入力!Q99=\"\",\"\",2))","v":""},{"$f":"IF(E90=\"\",\"\",IF(③選手情報入力!S99=\"\",\"\",IF(I90=1,種目情報!$J$5,種目情報!$J$7)))","v":""},{"$f":"IF(E90=\"\",\"\",IF(③選手情報入力!S99=\"\",\"\",IF(I90=1,IF(③選手情報入力!$T$6=\"\",\"\",③選手情報入力!$T$6),IF(③選手情報入力!$T$7=\"\",\"\",③選手情報入力!$T$7))))","v":""},{"$f":"IF(E90=\"\",\"\",IF(③選手情報入力!S99=\"\",\"\",IF(I90=1,IF(③選手情報入力!$S$6=\"\",0,1),IF(③選手情報入力!$S$7=\"\",0,1))))","v":""},{"$f":"IF(E90=\"\",\"\",IF(③選手情報入力!S99=\"\",\"\",2))","v":""}]
[{"$f":"IF(E91=\"\",\"\",IF(①データ貼付け!A91=\"\",I92*1000000+②団体情報入力!$D$3*1000+③選手情報入力!A100,①データ貼付け!A91))","v":""},{"$f":"IF(E91=\"\",\"\",②団体情報入力!$D$3)","v":""},null,{"$f":"IF(③選手情報入力!B100=\"\",\"\",LEFT(Sheet2!B91,2))","v":""},{"$f":"IF(③選手情報入力!B100=\"\",\"\",REPLACE(Sheet2!B91,1,2,\"\"))","v":""},{"$f":"IF(E91=\"\",\"\",③選手情報入力!C100)","v":""},{"$f":"IF(E91=\"\",\"\",③選手情報入力!D100)","v":""},"",{"$f":"IF(E91=\"\",\"\",IF(③選手情報入力!F100=\"男\",1,2))","v":""},{"$f":"IF(E91=\"\",\"\",IF(③選手情報入力!G100=\"\",\"\",③選手情報入力!G100))","v":""},null,"","",null,{"$f":"IF(E91=\"\",\"\",IF(③選手情報入力!I100=\"\",\"\",IF(I91=1,VLOOKUP(③選手情報入力!I100,種目情報!$A$4:$B$35,2,FALSE),VLOOKUP(③選手情報入力!I100,種目情報!$E$4:$F$35,2,FALSE))))","v":""},{"$f":"IF(E91=\"\",\"\",IF(③選手情報入力!J100=\"\",\"\",③選手情報入力!J100))","v":""},{"$f":"IF(E91=\"\",\"\",IF(③選手情報入力!H100=\"\",0,1))","v":""},{"$f":"IF(E91=\"\",\"\",IF(③選手情報入力!I100=\"\",\"\",IF(I91=1,VLOOKUP(③選手情報入力!I100,種目情報!$A$4:$C$39,3,FALSE),VLOOKUP(③選手情報入力!I100,種目情報!$E$4:$G$40,3,FALSE))))","v":""},{"$f":"IF(E91=\"\",\"\",IF(③選手情報入力!L100=\"\",\"\",IF(I91=1,VLOOKUP(③選手情報入力!L100,種目情報!$A$4:$B$39,2,FALSE),VLOOKUP(③選手情報入力!L100,種目情報!$E$4:$F$40,2,FALSE))))","v":""},{"$f":"IF(E91=\"\",\"\",IF(③選手情報入力!M100=\"\",\"\",③選手情報入力!M100))","v":""},{"$f":"IF(E91=\"\",\"\",IF(③選手情報入力!K100=\"\",0,1))","v":""},{"$f":"IF(E91=\"\",\"\",IF(③選手情報入力!L100=\"\",\"\",IF(I91=1,VLOOKUP(③選手情報入力!L100,種目情報!$A$4:$C$39,3,FALSE),VLOOKUP(③選手情報入力!L100,種目情報!$E$4:$G$40,3,FALSE))))","v":""},{"$f":"IF(E91=\"\",\"\",IF(③選手情報入力!O100=\"\",\"\",IF(I91=1,VLOOKUP(③選手情報入力!O100,種目情報!$A$4:$B$39,2,FALSE),VLOOKUP(③選手情報入力!O100,種目情報!$E$4:$F$40,2,FALSE))))","v":""},{"$f":"IF(E91=\"\",\"\",IF(③選手情報入力!P100=\"\",\"\",③選手情報入力!P100))","v":""},{"$f":"IF(E91=\"\",\"\",IF(③選手情報入力!N100=\"\",0,1))","v":""},{"$f":"IF(E91=\"\",\"\",IF(③選手情報入力!O100=\"\",\"\",IF(I91=1,VLOOKUP(③選手情報入力!O100,種目情報!$A$4:$C$39,3,FALSE),VLOOKUP(③選手情報入力!O100,種目情報!$E$4:$G$40,3,FALSE))))","v":""},{"$f":"IF(E91=\"\",\"\",IF(③選手情報入力!Q100=\"\",\"\",IF(I91=1,種目情報!$J$4,種目情報!$J$6)))","v":""},{"$f":"IF(E91=\"\",\"\",IF(③選手情報入力!Q100=\"\",\"\",IF(I91=1,IF(③選手情報入力!$R$6=\"\",\"\",③選手情報入力!$R$6),IF(③選手情報入力!$R$7=\"\",\"\",③選手情報入力!$R$7))))","v":""},{"$f":"IF(E91=\"\",\"\",IF(③選手情報入力!Q100=\"\",\"\",IF(I91=1,IF(③選手情報入力!$Q$6=\"\",0,1),IF(③選手情報入力!$Q$7=\"\",0,1))))","v":""},{"$f":"IF(E91=\"\",\"\",IF(③選手情報入力!Q100=\"\",\"\",2))","v":""},{"$f":"IF(E91=\"\",\"\",IF(③選手情報入力!S100=\"\",\"\",IF(I91=1,種目情報!$J$5,種目情報!$J$7)))","v":""},{"$f":"IF(E91=\"\",\"\",IF(③選手情報入力!S100=\"\",\"\",IF(I91=1,IF(③選手情報入力!$T$6=\"\",\"\",③選手情報入力!$T$6),IF(③選手情報入力!$T$7=\"\",\"\",③選手情報入力!$T$7))))","v":""},{"$f":"IF(E91=\"\",\"\",IF(③選手情報入力!S100=\"\",\"\",IF(I91=1,IF(③選手情報入力!$S$6=\"\",0,1),IF(③選手情報入力!$S$7=\"\",0,1))))","v":""},{"$f":"IF(E91=\"\",\"\",IF(③選手情報入力!S100=\"\",\"\",2))","v":""}]

{"sheet":"data_team","index":9,"n_rows":25,"n_cols":13,"rows_kept":25,"cut":false,"hidden":false,"merged":[]}
["チームNO","所属コード","チーム名","チーム名カナ","チーム名略称","チーム正式名称","ID","競技者NO","競技者名","参加競技-競技コード","参加競技-自己記録","参加競技-オープン参加FLG","参加競技-記録FLG"]
[{"$f":"IF(④リレー情報確認!C8=\"\",\"\",410000+②団体情報入力!$D$3*10)","v":""},{"$f":"IF(A2=\"\",\"\",②団体情報入力!$D$3)","v":""},{"$f":"IF(A2=\"\",\"\",④リレー情報確認!$J$1)","v":""},{"$f":"IF(A2=\"\",\"\",④リレー情報確認!$P$1)","v":""},null,null,1,{"$f":"IF(A2=\"\",\"\",④リレー情報確認!E8)","v":""},{"$f":"IF(A2=\"\",\"\",④リレー情報確認!D8)","v":""},{"$f":"IF(A2=\"\",\"\",種目情報!$J$4)","v":""},{"$f":"IF(A2=\"\",\"\",④リレー情報確認!$F$8)","v":""},{"$f":"IF(A2=\"\",\"\",IF(③選手情報入力!$Q$6=\"\",0,1))","v":""},{"$f":"IF(A2=\"\",\"\",種目情報!$K$4)","v":""}]
[{"$f":"IF(④リレー情報確認!C9=\"\",\"\",410000+②団体情報入力!$D$3*10)","v":""},{"$f":"IF(A3=\"\",\"\",②団体情報入力!$D$3)","v":""},{"$f":"IF(A3=\"\",\"\",④リレー情報確認!$J$1)","v":""},{"$f":"IF(A3=\"\",\"\",④リレー情報確認!$P$1)","v":""},null,null,2,{"$f":"IF(A3=\"\",\"\",④リレー情報確認!E9)","v":""},{"$f":"IF(A3=\"\",\"\",④リレー情報確認!D9)","v":""},{"$f":"IF(A3=\"\",\"\",種目情報!$J$4)","v":""},{"$f":"IF(A3=\"\",\"\",④リレー情報確認!$F$8)","v":""},{"$f":"IF(A3=\"\",\"\",IF(③選手情報入力!$Q$6=\"\",0,1))","v":""},{"$f":"IF(A3=\"\",\"\",種目情報!$K$4)","v":""}]
[{"$f":"IF(④リレー情報確認!C10=\"\",\"\",410000+②団体情報入力!$D$3*10)","v":""},{"$f":"IF(A4=\"\",\"\",②団体情報入力!$D$3)","v":""},{"$f":"IF(A4=\"\",\"\",④リレー情報確認!$J$1)","v":""},{"$f":"IF(A4=\"\",\"\",④リレー情報確認!$P$1)","v":""},null,null,3,{"$f":"IF(A4=\"\",\"\",④リレー情報確認!E10)","v":""},{"$f":"IF(A4=\"\",\"\",④リレー情報確認!D10)","v":""},{"$f":"IF(A4=\"\",\"\",種目情報!$J$4)","v":""},{"$f":"IF(A4=\"\",\"\",④リレー情報確認!$F$8)","v":""},{"$f":"IF(A4=\"\",\"\",IF(③選手情報入力!$Q$6=\"\",0,1))","v":""},{"$f":"IF(A4=\"\",\"\",種目情報!$K$4)","v":""}]
[{"$f":"IF(④リレー情報確認!C11=\"\",\"\",410000+②団体情報入力!$D$3*10)","v":""},{"$f":"IF(A5=\"\",\"\",②団体情報入力!$D$3)","v":""},{"$f":"IF(A5=\"\",\"\",④リレー情報確認!$J$1)","v":""},{"$f":"IF(A5=\"\",\"\",④リレー情報確認!$P$1)","v":""},null,null,4,{"$f":"IF(A5=\"\",\"\",④リレー情報確認!E11)","v":""},{"$f":"IF(A5=\"\",\"\",④リレー情報確認!D11)","v":""},{"$f":"IF(A5=\"\",\"\",種目情報!$J$4)","v":""},{"$f":"IF(A5=\"\",\"\",④リレー情報確認!$F$8)","v":""},{"$f":"IF(A5=\"\",\"\",IF(③選手情報入力!$Q$6=\"\",0,1))","v":""},{"$f":"IF(A5=\"\",\"\",種目情報!$K$4)","v":""}]
[{"$f":"IF(④リレー情報確認!C12=\"\",\"\",410000+②団体情報入力!$D$3*10)","v":""},{"$f":"IF(A6=\"\",\"\",②団体情報入力!$D$3)","v":""},{"$f":"IF(A6=\"\",\"\",④リレー情報確認!$J$1)","v":""},{"$f":"IF(A6=\"\",\"\",④リレー情報確認!$P$1)","v":""},null,null,5,{"$f":"IF(A6=\"\",\"\",④リレー情報確認!E12)","v":""},{"$f":"IF(A6=\"\",\"\",④リレー情報確認!D12)","v":""},{"$f":"IF(A6=\"\",\"\",種目情報!$J$4)","v":""},{"$f":"IF(A6=\"\",\"\",④リレー情報確認!$F$8)","v":""},{"$f":"IF(A6=\"\",\"\",IF(③選手情報入力!$Q$6=\"\",0,1))","v":""},{"$f":"IF(A6=\"\",\"\",種目情報!$K$4)","v":""}]
[{"$f":"IF(④リレー情報確認!C13=\"\",\"\",410000+②団体情報入力!$D$3*10)","v":""},{"$f":"IF(A7=\"\",\"\",②団体情報入力!$D$3)","v":""},{"$f":"IF(A7=\"\",\"\",④リレー情報確認!$J$1)","v":""},{"$f":"IF(A7=\"\",\"\",④リレー情報確認!$P$1)","v":""},null,null,6,{"$f":"IF(A7=\"\",\"\",④リレー情報確認!E13)","v":""},{"$f":"IF(A7=\"\",\"\",④リレー情報確認!D13)","v":""},{"$f":"IF(A7=\"\",\"\",種目情報!$J$4)","v":""},{"$f":"IF(A7=\"\",\"\",④リレー情報確認!$F$8)","v":""},{"$f":"IF(A7=\"\",\"\",IF(③選手情報入力!$Q$6=\"\",0,1))","v":""},{"$f":"IF(A7=\"\",\"\",種目情報!$K$4)","v":""}]
[{"$f":"IF(④リレー情報確認!I8=\"\",\"\",1610000+②団体情報入力!$D$3*10)","v":""},{"$f":"IF(A8=\"\",\"\",②団体情報入力!$D$3)","v":""},{"$f":"IF(A8=\"\",\"\",④リレー情報確認!$J$1)","v":""},{"$f":"IF(A8=\"\",\"\",④リレー情報確認!$P$1)","v":""},null,null,1,{"$f":"IF(A8=\"\",\"\",④リレー情報確認!K8)","v":""},{"$f":"IF(A8=\"\",\"\",④リレー情報確認!J8)","v":""},{"$f":"IF(A8=\"\",\"\",種目情報!$J$5)","v":""},{"$f":"IF(A8=\"\",\"\",④リレー情報確認!$L$8)","v":""},{"$f":"IF(A8=\"\",\"\",IF(③選手情報入力!$Q$7=\"\",0,1))","v":""},{"$f":"IF(A8=\"\",\"\",種目情報!$K$5)","v":""}]
[{"$f":"IF(④リレー情報確認!I9=\"\",\"\",1610000+②団体情報入力!$D$3*10)","v":""},{"$f":"IF(A9=\"\",\"\",②団体情報入力!$D$3)","v":""},{"$f":"IF(A9=\"\",\"\",④リレー情報確認!$J$1)","v":""},{"$f":"IF(A9=\"\",\"\",④リレー情報確認!$P$1)","v":""},null,null,2,{"$f":"IF(A9=\"\",\"\",④リレー情報確認!K9)","v":""},{"$f":"IF(A9=\"\",\"\",④リレー情報確認!J9)","v":""},{"$f":"IF(A9=\"\",\"\",種目情報!$J$5)","v":""},{"$f":"IF(A9=\"\",\"\",④リレー情報確認!$L$8)","v":""},{"$f":"IF(A9=\"\",\"\",IF(③選手情報入力!$Q$7=\"\",0,1))","v":""},{"$f":"IF(A9=\"\",\"\",種目情報!$K$5)","v":""}]
[{"$f":"IF(④リレー情報確認!I10=\"\",\"\",1610000+②団体情報入力!$D$3*10)","v":""},{"$f":"IF(A10=\"\",\"\",②団体情報入力!$D$3)","v":""},{"$f":"IF(A10=\"\",\"\",④リレー情報確認!$J$1)","v":""},{"$f":"IF(A10=\"\",\"\",④リレー情報確認!$P$1)","v":""},null,null,3,{"$f":"IF(A10=\"\",\"\",④リレー情報確認!K10)","v":""},{"$f":"IF(A10=\"\",\"\",④リレー情報確認!J10)","v":""},{"$f":"IF(A10=\"\",\"\",種目情報!$J$5)","v":""},{"$f":"IF(A10=\"\",\"\",④リレー情報確認!$L$8)","v":""},{"$f":"IF(A10=\"\",\"\",IF(③選手情報入力!$Q$7=\"\",0,1))","v":""},{"$f":"IF(A10=\"\",\"\",種目情報!$K$5)","v":""}]
[{"$f":"IF(④リレー情報確認!I11=\"\",\"\",1610000+②団体情報入力!$D$3*10)","v":""},{"$f":"IF(A11=\"\",\"\",②団体情報入力!$D$3)","v":""},{"$f":"IF(A11=\"\",\"\",④リレー情報確認!$J$1)","v":""},{"$f":"IF(A11=\"\",\"\",④リレー情報確認!$P$1)","v":""},null,null,4,{"$f":"IF(A11=\"\",\"\",④リレー情報確認!K11)","v":""},{"$f":"IF(A11=\"\",\"\",④リレー情報確認!J11)","v":""},{"$f":"IF(A11=\"\",\"\",種目情報!$J$5)","v":""},{"$f":"IF(A11=\"\",\"\",④リレー情報確認!$L$8)","v":""},{"$f":"IF(A11=\"\",\"\",IF(③選手情報入力!$Q$7=\"\",0,1))","v":""},{"$f":"IF(A11=\"\",\"\",種目情報!$K$5)","v":""}]
[{"$f":"IF(④リレー情報確認!I12=\"\",\"\",1610000+②団体情報入力!$D$3*10)","v":""},{"$f":"IF(A12=\"\",\"\",②団体情報入力!$D$3)","v":""},{"$f":"IF(A12=\"\",\"\",④リレー情報確認!$J$1)","v":""},{"$f":"IF(A12=\"\",\"\",④リレー情報確認!$P$1)","v":""},null,null,5,{"$f":"IF(A12=\"\",\"\",④リレー情報確認!K12)","v":""},{"$f":"IF(A12=\"\",\"\",④リレー情報確認!J12)","v":""},{"$f":"IF(A12=\"\",\"\",種目情報!$J$5)","v":""},{"$f":"IF(A12=\"\",\"\",④リレー情報確認!$L$8)","v":""},{"$f":"IF(A12=\"\",\"\",IF(③選手情報入力!$Q$7=\"\",0,1))","v":""},{"$f":"IF(A12=\"\",\"\",種目情報!$K$5)","v":""}]
[{"$f":"IF(④リレー情報確認!I13=\"\",\"\",1610000+②団体情報入力!$D$3*10)","v":""},{"$f":"IF(A13=\"\",\"\",②団体情報入力!$D$3)","v":""},{"$f":"IF(A13=\"\",\"\",④リレー情報確認!$J$1)","v":""},{"$f":"IF(A13=\"\",\"\",④リレー情報確認!$P$1)","v":""},null,null,6,{"$f":"IF(A13=\"\",\"\",④リレー情報確認!K13)","v":""},{"$f":"IF(A13=\"\",\"\",④リレー情報確認!J13)","v":""},{"$f":"IF(A13=\"\",\"\",種目情報!$J$5)","v":""},{"$f":"IF(A13=\"\",\"\",④リレー情報確認!$L$8)","v":""},{"$f":"IF(A13=\"\",\"\",IF(③選手情報入力!$Q$7=\"\",0,1))","v":""},{"$f":"IF(A13=\"\",\"\",種目情報!$K$5)","v":""}]
[{"$f":"IF(④リレー情報確認!O8=\"\",\"\",420000+②団体情報入力!$D$3*10)","v":""},{"$f":"IF(A14=\"\",\"\",②団体情報入力!$D$3)","v":""},{"$f":"IF(A14=\"\",\"\",④リレー情報確認!$J$1)","v":""},{"$f":"IF(A14=\"\",\"\",④リレー情報確認!$P$1)","v":""},null,null,1,{"$f":"IF(A14=\"\",\"\",④リレー情報確認!Q8)","v":""},{"$f":"IF(A14=\"\",\"\",④リレー情報確認!P8)","v":""},{"$f":"IF(A14=\"\",\"\",種目情報!$J$6)","v":""},{"$f":"IF(A14=\"\",\"\",④リレー情報確認!$R$8)","v":""},{"$f":"IF(A14=\"\",\"\",IF(③選手情報入力!$S$6=\"\",0,1))","v":""},{"$f":"IF(A14=\"\",\"\",種目情報!$K$6)","v":""}]
[{"$f":"IF(④リレー情報確認!O9=\"\",\"\",420000+②団体情報入力!$D$3*10)","v":""},{"$f":"IF(A15=\"\",\"\",②団体情報入力!$D$3)","v":""},{"$f":"IF(A15=\"\",\"\",④リレー情報確認!$J$1)","v":""},{"$f":"IF(A15=\"\",\"\",④リレー情報確認!$P$1)","v":""},null,null,2,{"$f":"IF(A15=\"\",\"\",④リレー情報確認!Q9)","v":""},{"$f":"IF(A15=\"\",\"\",④リレー情報確認!P9)","v":""},{"$f":"IF(A15=\"\",\"\",種目情報!$J$6)","v":""},{"$f":"IF(A15=\"\",\"\",④リレー情報確認!$R$8)","v":""},{"$f":"IF(A15=\"\",\"\",IF(③選手情報入力!$S$6=\"\",0,1))","v":""},{"$f":"IF(A15=\"\",\"\",種目情報!$K$6)","v":""}]
[{"$f":"IF(④リレー情報確認!O10=\"\",\"\",420000+②団体情報入力!$D$3*10)","v":""},{"$f":"IF(A16=\"\",\"\",②団体情報入力!$D$3)","v":""},{"$f":"IF(A16=\"\",\"\",④リレー情報確認!$J$1)","v":""},{"$f":"IF(A16=\"\",\"\",④リレー情報確認!$P$1)","v":""},null,null,3,{"$f":"IF(A16=\"\",\"\",④リレー情報確認!Q10)","v":""},{"$f":"IF(A16=\"\",\"\",④リレー情報確認!P10)","v":""},{"$f":"IF(A16=\"\",\"\",種目情報!$J$6)","v":""},{"$f":"IF(A16=\"\",\"\",④リレー情報確認!$R$8)","v":""},{"$f":"IF(A16=\"\",\"\",IF(③選手情報入力!$S$6=\"\",0,1))","v":""},{"$f":"IF(A16=\"\",\"\",種目情報!$K$6)","v":""}]
[{"$f":"IF(④リレー情報確認!O11=\"\",\"\",420000+②団体情報入力!$D$3*10)","v":""},{"$f":"IF(A17=\"\",\"\",②団体情報入力!$D$3)","v":""},{"$f":"IF(A17=\"\",\"\",④リレー情報確認!$J$1)","v":""},{"$f":"IF(A17=\"\",\"\",④リレー情報確認!$P$1)","v":""},null,null,4,{"$f":"IF(A17=\"\",\"\",④リレー情報確認!Q11)","v":""},{"$f":"IF(A17=\"\",\"\",④リレー情報確認!P11)","v":""},{"$f":"IF(A17=\"\",\"\",種目情報!$J$6)","v":""},{"$f":"IF(A17=\"\",\"\",④リレー情報確認!$R$8)","v":""},{"$f":"IF(A17=\"\",\"\",IF(③選手情報入力!$S$6=\"\",0,1))","v":""},{"$f":"IF(A17=\"\",\"\",種目情報!$K$6)","v":""}]
[{"$f":"IF(④リレー情報確認!O12=\"\",\"\",420000+②団体情報入力!$D$3*10)","v":""},{"$f":"IF(A18=\"\",\"\",②団体情報入力!$D$3)","v":""},{"$f":"IF(A18=\"\",\"\",④リレー情報確認!$J$1)","v":""},{"$f":"IF(A18=\"\",\"\",④リレー情報確認!$P$1)","v":""},null,null,5,{"$f":"IF(A18=\"\",\"\",④リレー情報確認!Q12)","v":""},{"$f":"IF(A18=\"\",\"\",④リレー情報確認!P12)","v":""},{"$f":"IF(A18=\"\",\"\",種目情報!$J$6)","v":""},{"$f":"IF(A18=\"\",\"\",④リレー情報確認!$R$8)","v":""},{"$f":"IF(A18=\"\",\"\",IF(③選手情報入力!$S$6=\"\",0,1))","v":""},{"$f":"IF(A18=\"\",\"\",種目情報!$K$6)","v":""}]
[{"$f":"IF(④リレー情報確認!O13=\"\",\"\",420000+②団体情報入力!$D$3*10)","v":""},{"$f":"IF(A19=\"\",\"\",②団体情報入力!$D$3)","v":""},{"$f":"IF(A19=\"\",\"\",④リレー情報確認!$J$1)","v":""},{"$f":"IF(A19=\"\",\"\",④リレー情報確認!$P$1)","v":""},null,null,6,{"$f":"IF(A19=\"\",\"\",④リレー情報確認!Q13)","v":""},{"$f":"IF(A19=\"\",\"\",④リレー情報確認!P13)","v":""},{"$f":"IF(A19=\"\",\"\",種目情報!$J$6)","v":""},{"$f":"IF(A19=\"\",\"\",④リレー情報確認!$R$8)","v":""},{"$f":"IF(A19=\"\",\"\",IF(③選手情報入力!$S$6=\"\",0,1))","v":""},{"$f":"IF(A19=\"\",\"\",種目情報!$K$6)","v":""}]
[{"$f":"IF(④リレー情報確認!U8=\"\",\"\",1620000+②団体情報入力!$D$3*10)","v":""},{"$f":"IF(A20=\"\",\"\",②団体情報入力!$D$3)","v":""},{"$f":"IF(A20=\"\",\"\",④リレー情報確認!$J$1)","v":""},{"$f":"IF(A20=\"\",\"\",④リレー情報確認!$P$1)","v":""},null,null,1,{"$f":"IF(A20=\"\",\"\",④リレー情報確認!W8)","v":""},{"$f":"IF(A20=\"\",\"\",④リレー情報確認!V8)","v":""},{"$f":"IF(A20=\"\",\"\",種目情報!$J$7)","v":""},{"$f":"IF(A20=\"\",\"\",④リレー情報確認!$X$8)","v":""},{"$f":"IF(A20=\"\",\"\",IF(③選手情報入力!$S$7=\"\",0,1))","v":""},{"$f":"IF(A20=\"\",\"\",種目情報!$K$7)","v":""}]
[{"$f":"IF(④リレー情報確認!U9=\"\",\"\",1620000+②団体情報入力!$D$3*10)","v":""},{"$f":"IF(A21=\"\",\"\",②団体情報入力!$D$3)","v":""},{"$f":"IF(A21=\"\",\"\",④リレー情報確認!$J$1)","v":""},{"$f":"IF(A21=\"\",\"\",④リレー情報確認!$P$1)","v":""},null,null,2,{"$f":"IF(A21=\"\",\"\",④リレー情報確認!W9)","v":""},{"$f":"IF(A21=\"\",\"\",④リレー情報確認!V9)","v":""},{"$f":"IF(A21=\"\",\"\",種目情報!$J$7)","v":""},{"$f":"IF(A21=\"\",\"\",④リレー情報確認!$X$8)","v":""},{"$f":"IF(A21=\"\",\"\",IF(③選手情報入力!$S$7=\"\",0,1))","v":""},{"$f":"IF(A21=\"\",\"\",種目情報!$K$7)","v":""}]
[{"$f":"IF(④リレー情報確認!U10=\"\",\"\",1620000+②団体情報入力!$D$3*10)","v":""},{"$f":"IF(A22=\"\",\"\",②団体情報入力!$D$3)","v":""},{"$f":"IF(A22=\"\",\"\",④リレー情報確認!$J$1)","v":""},{"$f":"IF(A22=\"\",\"\",④リレー情報確認!$P$1)","v":""},null,null,3,{"$f":"IF(A22=\"\",\"\",④リレー情報確認!W10)","v":""},{"$f":"IF(A22=\"\",\"\",④リレー情報確認!V10)","v":""},{"$f":"IF(A22=\"\",\"\",種目情報!$J$7)","v":""},{"$f":"IF(A22=\"\",\"\",④リレー情報確認!$X$8)","v":""},{"$f":"IF(A22=\"\",\"\",IF(③選手情報入力!$S$7=\"\",0,1))","v":""},{"$f":"IF(A22=\"\",\"\",種目情報!$K$7)","v":""}]
[{"$f":"IF(④リレー情報確認!U11=\"\",\"\",1620000+②団体情報入力!$D$3*10)","v":""},{"$f":"IF(A23=\"\",\"\",②団体情報入力!$D$3)","v":""},{"$f":"IF(A23=\"\",\"\",④リレー情報確認!$J$1)","v":""},{"$f":"IF(A23=\"\",\"\",④リレー情報確認!$P$1)","v":""},null,null,4,{"$f":"IF(A23=\"\",\"\",④リレー情報確認!W11)","v":""},{"$f":"IF(A23=\"\",\"\",④リレー情報確認!V11)","v":""},{"$f":"IF(A23=\"\",\"\",種目情報!$J$7)","v":""},{"$f":"IF(A23=\"\",\"\",④リレー情報確認!$X$8)","v":""},{"$f":"IF(A23=\"\",\"\",IF(③選手情報入力!$S$7=\"\",0,1))","v":""},{"$f":"IF(A23=\"\",\"\",種目情報!$K$7)","v":""}]
[{"$f":"IF(④リレー情報確認!U12=\"\",\"\",1620000+②団体情報入力!$D$3*10)","v":""},{"$f":"IF(A24=\"\",\"\",②団体情報入力!$D$3)","v":""},{"$f":"IF(A24=\"\",\"\",④リレー情報確認!$J$1)","v":""},{"$f":"IF(A24=\"\",\"\",④リレー情報確認!$P$1)","v":""},null,null,5,{"$f":"IF(A24=\"\",\"\",④リレー情報確認!W12)","v":""},{"$f":"IF(A24=\"\",\"\",④リレー情報確認!V12)","v":""},{"$f":"IF(A24=\"\",\"\",種目情報!$J$7)","v":""},{"$f":"IF(A24=\"\",\"\",④リレー情報確認!$X$8)","v":""},{"$f":"IF(A24=\"\",\"\",IF(③選手情報入力!$S$7=\"\",0,1))","v":""},{"$f":"IF(A24=\"\",\"\",種目情報!$K$7)","v":""}]
[{"$f":"IF(④リレー情報確認!U13=\"\",\"\",1620000+②団体情報入力!$D$3*10)","v":""},{"$f":"IF(A25=\"\",\"\",②団体情報入力!$D$3)","v":""},{"$f":"IF(A25=\"\",\"\",④リレー情報確認!$J$1)","v":""},{"$f":"IF(A25=\"\",\"\",④リレー情報確認!$P$1)","v":""},null,null,6,{"$f":"IF(A25=\"\",\"\",④リレー情報確認!W13)","v":""},{"$f":"IF(A25=\"\",\"\",④リレー情報確認!V13)","v":""},{"$f":"IF(A25=\"\",\"\",種目情報!$J$7)","v":""},{"$f":"IF(A25=\"\",\"\",④リレー情報確認!$X$8)","v":""},{"$f":"IF(A25=\"\",\"\",IF(③選手情報入力!$S$7=\"\",0,1))","v":""},{"$f":"IF(A25=\"\",\"\",種目情報!$K$7)","v":""}]

{"sheet":"種目情報","index":10,"n_rows":48,"n_cols":15,"rows_kept":48,"cut":false,"hidden":false,"merged":[[3,12,28,12],[30,12,50,12],[1,13,1,14],[0,0,0,2],[0,4,0,6],[0,8,0,10],[1,0,2,0],[1,4,2,4],[1,8,2,8]]}
["男子",null,null,null,"女子",null,null,null,"リレー"]
["種目","種目","記録",null,"種目","種目","記録",null,"種目","種目","記録",null,null,"一覧表用　種目名"]
[null,"No","FLAG",null,null,"No","FLAG",null,null,"No","FLAG"]
["男100m",1,2,null,"女100m",24,2,null,"男子4X100mR",42,2,null,"男　　　子","男100m","男100m"]
["男200m",2,2,null,"女200m",25,2,null,"男子4X400mR",43,2,null,null,"男200m","男200m"]
["男400m",3,2,null,"女400m",26,2,null,"女子4X100mR",44,2,null,null,"男400m","男400m"]
["男800m",4,2,null,"女800m",27,2,null,"女子4X400mR",45,2,null,null,"男800m","男800m"]
["男1500m",5,2,null,"女1500m",28,2,null,null,null,null,null,null,"男1500m","男1500m"]
["男5000m",6,2,null,"女5000m",29,2,null,null,null,null,null,null,"男5000m","男5000m"]
["男10000m",7,2,null,"女100mH",30,2,null,null,null,null,null,null,"男10000m","男10000m"]
["男110mH",8,2,null,"女400mH",31,2,null,null,null,null,null,null,"男110mH","男110mH"]
["男400mH",9,2,null,"女5000mW",32,2,null,null,null,null,null,null,"男400mH","男400mH"]
["男3000mSC",10,2,null,"女走高跳",33,0,null,null,null,null,null,null,"男3000mSC","男3000mSC"]
["男5000mW",11,2,null,"女棒高跳",34,0,null,null,null,null,null,null,"男5000mW","男5000mW"]
["男走高跳",12,0,null,"女走幅跳",35,0,null,null,null,null,null,null,"男走高跳","男走高跳"]
["男棒高跳",13,0,null,"女三段跳",36,0,null,null,null,null,null,null,"男棒高跳","男棒高跳"]
["男走幅跳",14,0,null,"女砲丸投",37,0,null,null,null,null,null,null,"男走幅跳","男走幅跳"]
["男三段跳",15,0,null,"女円盤投",39,0,null,null,null,null,null,null,"男三段跳","男三段跳"]
["男砲丸投",16,0,null,"女ﾊﾝﾏｰ投",40,0,null,null,null,null,null,null,"男砲丸投","男砲丸投"]
["男円盤投",19,0,null,"女やり投",41,0,null,null,null,null,null,null,"男円盤投","男円盤投"]
["男ﾊﾝﾏｰ投",22,0,null,null,null,null,null,null,null,null,null,null,"男ﾊﾝﾏｰ投","男ﾊﾝﾏｰ投"]
["男やり投",23,0,null,null,null,null,null,null,null,null,null,null,"男やり投","男やり投"]
[]
[]
[]
[]
[]
[]
[]
[]
[null,null,null,null,null,null,null,null,null,null,null,null,"女　　　子","女100m","女100m"]
[null,null,null,null,null,null,null,null,null,null,null,null,null,"女200m","女200m"]
[null,null,null,null,null,null,null,null,null,null,null,null,null,"女400m","女400m"]
[null,null,null,null,null,null,null,null,null,null,null,null,null,"女800m","女800m"]
[null,null,null,null,null,null,null,null,null,null,null,null,null,"女1500m","女1500m"]
[null,null,null,null,null,null,null,null,null,null,null,null,null,"女5000m","女5000m"]
[null,null,null,null,null,null,null,null,null,null,null,null,null,"女100mH","女100mH"]
[null,null,null,null,null,null,null,null,null,null,null,null,null,"女400mH","女400mH"]
[null,null,null,null,null,null,null,null,null,null,null,null,null,"女5000mW","女5000mW"]
[null,null,null,null,null,null,null,null,null,null,null,null,null,"女走高跳","女走高跳"]
[null,null,null,null,null,null,null,null,null,null,null,null,null,"女棒高跳","女棒高跳"]
[null,null,null,null,null,null,null,null,null,null,null,null,null,"女走幅跳","女走幅跳"]
[null,null,null,null,null,null,null,null,null,null,null,null,null,"女三段跳","女三段跳"]
[null,null,null,null,null,null,null,null,null,null,null,null,null,"女砲丸投","女砲丸投"]
[null,null,null,null,null,null,null,null,null,null,null,null,null,"女中学砲丸投","女中学砲丸投"]
[null,null,null,null,null,null,null,null,null,null,null,null,null,"女円盤投","女円盤投"]
[null,null,null,null,null,null,null,null,null,null,null,null,null,"女ﾊﾝﾏｰ投","女ﾊﾝﾏｰ投"]
[null,null,null,null,null,null,null,null,null,null,null,null,null,"女やり投","女やり投"]

{"sheet":"Sheet2","index":11,"n_rows":91,"n_cols":8,"rows_kept":91,"cut":false,"hidden":true,"merged":[]}
[null,"性別","団体名","登　録\nの種類","登録番号","氏名","カナ氏名","学年"]
[{"$f":"①データ貼付け!D2","v":0},{"$f":"①データ貼付け!A2","v":0},{"$f":"①データ貼付け!B2","v":0},{"$f":"REPLACE(B2,1,1,\"\")","v":""},{"$f":"ASC(①データ貼付け!D2)","v":""},{"$f":"①データ貼付け!E2","v":0},{"$f":"①データ貼付け!F2","v":0},{"$f":"①データ貼付け!G2","v":0}]
[{"$f":"①データ貼付け!D3","v":0},{"$f":"①データ貼付け!A3","v":0},{"$f":"①データ貼付け!B3","v":0},{"$f":"REPLACE(B3,1,1,\"\")","v":""},{"$f":"ASC(①データ貼付け!D3)","v":""},{"$f":"①データ貼付け!E3","v":0},{"$f":"①データ貼付け!F3","v":0},{"$f":"①データ貼付け!G3","v":0}]
[{"$f":"①データ貼付け!D4","v":0},{"$f":"①データ貼付け!A4","v":0},{"$f":"①データ貼付け!B4","v":0},"",{"$f":"ASC(①データ貼付け!D4)","v":""},{"$f":"①データ貼付け!E4","v":0},{"$f":"①データ貼付け!F4","v":0},{"$f":"①データ貼付け!G4","v":0}]
[{"$f":"①データ貼付け!D5","v":0},{"$f":"①データ貼付け!A5","v":0},{"$f":"①データ貼付け!B5","v":0},"",{"$f":"ASC(①データ貼付け!D5)","v":""},{"$f":"①データ貼付け!E5","v":0},{"$f":"①データ貼付け!F5","v":0},{"$f":"①データ貼付け!G5","v":0}]
[{"$f":"①データ貼付け!D6","v":0},{"$f":"①データ貼付け!A6","v":0},{"$f":"①データ貼付け!B6","v":0},"",{"$f":"ASC(①データ貼付け!D6)","v":""},{"$f":"①データ貼付け!E6","v":0},{"$f":"①データ貼付け!F6","v":0},{"$f":"①データ貼付け!G6","v":0}]
[{"$f":"①データ貼付け!D7","v":0},{"$f":"①データ貼付け!A7","v":0},{"$f":"①データ貼付け!B7","v":0},"",{"$f":"ASC(①データ貼付け!D7)","v":""},{"$f":"①データ貼付け!E7","v":0},{"$f":"①データ貼付け!F7","v":0},{"$f":"①データ貼付け!G7","v":0}]
[{"$f":"①データ貼付け!D8","v":0},{"$f":"①データ貼付け!A8","v":0},{"$f":"①データ貼付け!B8","v":0},"",{"$f":"ASC(①データ貼付け!D8)","v":""},{"$f":"①データ貼付け!E8","v":0},{"$f":"①データ貼付け!F8","v":0},{"$f":"①データ貼付け!G8","v":0}]
[{"$f":"①データ貼付け!D9","v":0},{"$f":"①データ貼付け!A9","v":0},{"$f":"①データ貼付け!B9","v":0},"",{"$f":"ASC(①データ貼付け!D9)","v":""},{"$f":"①データ貼付け!E9","v":0},{"$f":"①データ貼付け!F9","v":0},{"$f":"①データ貼付け!G9","v":0}]
[{"$f":"①データ貼付け!D10","v":0},{"$f":"①データ貼付け!A10","v":0},{"$f":"①データ貼付け!B10","v":0},"",{"$f":"ASC(①データ貼付け!D10)","v":""},{"$f":"①データ貼付け!E10","v":0},{"$f":"①データ貼付け!F10","v":0},{"$f":"①データ貼付け!G10","v":0}]
[{"$f":"①データ貼付け!D11","v":0},{"$f":"①データ貼付け!A11","v":0},{"$f":"①データ貼付け!B11","v":0},"",{"$f":"ASC(①データ貼付け!D11)","v":""},{"$f":"①データ貼付け!E11","v":0},{"$f":"①データ貼付け!F11","v":0},{"$f":"①データ貼付け!G11","v":0}]
[{"$f":"①データ貼付け!D12","v":0},{"$f":"①データ貼付け!A12","v":0},{"$f":"①データ貼付け!B12","v":0},"",{"$f":"ASC(①データ貼付け!D12)","v":""},{"$f":"①データ貼付け!E12","v":0},{"$f":"①データ貼付け!F12","v":0},{"$f":"①データ貼付け!G12","v":0}]
[{"$f":"①データ貼付け!D13","v":0},{"$f":"①データ貼付け!A13","v":0},{"$f":"①データ貼付け!B13","v":0},"",{"$f":"ASC(①データ貼付け!D13)","v":""},{"$f":"①データ貼付け!E13","v":0},{"$f":"①データ貼付け!F13","v":0},{"$f":"①データ貼付け!G13","v":0}]
[{"$f":"①データ貼付け!D14","v":0},{"$f":"①データ貼付け!A14","v":0},{"$f":"①データ貼付け!B14","v":0},"",{"$f":"ASC(①データ貼付け!D14)","v":""},{"$f":"①データ貼付け!E14","v":0},{"$f":"①データ貼付け!F14","v":0},{"$f":"①データ貼付け!G14","v":0}]
[{"$f":"①データ貼付け!D15","v":0},{"$f":"①データ貼付け!A15","v":0},{"$f":"①データ貼付け!B15","v":0},"",{"$f":"ASC(①データ貼付け!D15)","v":""},{"$f":"①データ貼付け!E15","v":0},{"$f":"①データ貼付け!F15","v":0},{"$f":"①データ貼付け!G15","v":0}]
[{"$f":"①データ貼付け!D16","v":0},{"$f":"①データ貼付け!A16","v":0},{"$f":"①データ貼付け!B16","v":0},"",{"$f":"ASC(①データ貼付け!D16)","v":""},{"$f":"①データ貼付け!E16","v":0},{"$f":"①データ貼付け!F16","v":0},{"$f":"①データ貼付け!G16","v":0}]
[{"$f":"①データ貼付け!D17","v":0},{"$f":"①データ貼付け!A17","v":0},{"$f":"①データ貼付け!B17","v":0},"",{"$f":"ASC(①データ貼付け!D17)","v":""},{"$f":"①データ貼付け!E17","v":0},{"$f":"①データ貼付け!F17","v":0},{"$f":"①データ貼付け!G17","v":0}]
[{"$f":"①データ貼付け!D18","v":0},{"$f":"①データ貼付け!A18","v":0},{"$f":"①データ貼付け!B18","v":0},"",{"$f":"ASC(①データ貼付け!D18)","v":""},{"$f":"①データ貼付け!E18","v":0},{"$f":"①データ貼付け!F18","v":0},{"$f":"①データ貼付け!G18","v":0}]
[{"$f":"①データ貼付け!D19","v":0},{"$f":"①データ貼付け!A19","v":0},{"$f":"①データ貼付け!B19","v":0},"",{"$f":"ASC(①データ貼付け!D19)","v":""},{"$f":"①データ貼付け!E19","v":0},{"$f":"①データ貼付け!F19","v":0},{"$f":"①データ貼付け!G19","v":0}]
[{"$f":"①データ貼付け!D20","v":0},{"$f":"①データ貼付け!A20","v":0},{"$f":"①データ貼付け!B20","v":0},"",{"$f":"ASC(①データ貼付け!D20)","v":""},{"$f":"①データ貼付け!E20","v":0},{"$f":"①データ貼付け!F20","v":0},{"$f":"①データ貼付け!G20","v":0}]
[{"$f":"①データ貼付け!D21","v":0},{"$f":"①データ貼付け!A21","v":0},{"$f":"①データ貼付け!B21","v":0},"",{"$f":"ASC(①データ貼付け!D21)","v":""},{"$f":"①データ貼付け!E21","v":0},{"$f":"①データ貼付け!F21","v":0},{"$f":"①データ貼付け!G21","v":0}]
[{"$f":"①データ貼付け!D22","v":0},{"$f":"①データ貼付け!A22","v":0},{"$f":"①データ貼付け!B22","v":0},"",{"$f":"ASC(①データ貼付け!D22)","v":""},{"$f":"①データ貼付け!E22","v":0},{"$f":"①データ貼付け!F22","v":0},{"$f":"①データ貼付け!G22","v":0}]
[{"$f":"①データ貼付け!D23","v":0},{"$f":"①データ貼付け!A23","v":0},{"$f":"①データ貼付け!B23","v":0},"",{"$f":"ASC(①データ貼付け!D23)","v":""},{"$f":"①データ貼付け!E23","v":0},{"$f":"①データ貼付け!F23","v":0},{"$f":"①データ貼付け!G23","v":0}]
[{"$f":"①データ貼付け!D24","v":0},{"$f":"①データ貼付け!A24","v":0},{"$f":"①データ貼付け!B24","v":0},"",{"$f":"ASC(①データ貼付け!D24)","v":""},{"$f":"①データ貼付け!E24","v":0},{"$f":"①データ貼付け!F24","v":0},{"$f":"①データ貼付け!G24","v":0}]
[{"$f":"①データ貼付け!D25","v":0},{"$f":"①データ貼付け!A25","v":0},{"$f":"①データ貼付け!B25","v":0},"",{"$f":"ASC(①データ貼付け!D25)","v":""},{"$f":"①データ貼付け!E25","v":0},{"$f":"①データ貼付け!F25","v":0},{"$f":"①データ貼付け!G25","v":0}]
[{"$f":"①データ貼付け!D26","v":0},{"$f":"①データ貼付け!A26","v":0},{"$f":"①データ貼付け!B26","v":0},"",{"$f":"ASC(①データ貼付け!D26)","v":""},{"$f":"①データ貼付け!E26","v":0},{"$f":"①データ貼付け!F26","v":0},{"$f":"①データ貼付け!G26","v":0}]
[{"$f":"①データ貼付け!D27","v":0},{"$f":"①データ貼付け!A27","v":0},{"$f":"①データ貼付け!B27","v":0},"",{"$f":"ASC(①データ貼付け!D27)","v":""},{"$f":"①データ貼付け!E27","v":0},{"$f":"①データ貼付け!F27","v":0},{"$f":"①データ貼付け!G27","v":0}]
[{"$f":"①データ貼付け!D28","v":0},{"$f":"①データ貼付け!A28","v":0},{"$f":"①データ貼付け!B28","v":0},"",{"$f":"ASC(①データ貼付け!D28)","v":""},{"$f":"①データ貼付け!E28","v":0},{"$f":"①データ貼付け!F28","v":0},{"$f":"①データ貼付け!G28","v":0}]
[{"$f":"①データ貼付け!D29","v":0},{"$f":"①データ貼付け!A29","v":0},{"$f":"①データ貼付け!B29","v":0},"",{"$f":"ASC(①データ貼付け!D29)","v":""},{"$f":"①データ貼付け!E29","v":0},{"$f":"①データ貼付け!F29","v":0},{"$f":"①データ貼付け!G29","v":0}]
[{"$f":"①データ貼付け!D30","v":0},{"$f":"①データ貼付け!A30","v":0},{"$f":"①データ貼付け!B30","v":0},"",{"$f":"ASC(①データ貼付け!D30)","v":""},{"$f":"①データ貼付け!E30","v":0},{"$f":"①データ貼付け!F30","v":0},{"$f":"①データ貼付け!G30","v":0}]
[{"$f":"①データ貼付け!D31","v":0},{"$f":"①データ貼付け!A31","v":0},{"$f":"①データ貼付け!B31","v":0},"",{"$f":"ASC(①データ貼付け!D31)","v":""},{"$f":"①データ貼付け!E31","v":0},{"$f":"①データ貼付け!F31","v":0},{"$f":"①データ貼付け!G31","v":0}]
[{"$f":"①データ貼付け!D32","v":0},{"$f":"①データ貼付け!A32","v":0},{"$f":"①データ貼付け!B32","v":0},"",{"$f":"ASC(①データ貼付け!D32)","v":""},{"$f":"①データ貼付け!E32","v":0},{"$f":"①データ貼付け!F32","v":0},{"$f":"①データ貼付け!G32","v":0}]
[{"$f":"①データ貼付け!D33","v":0},{"$f":"①データ貼付け!A33","v":0},{"$f":"①データ貼付け!B33","v":0},"",{"$f":"ASC(①データ貼付け!D33)","v":""},{"$f":"①データ貼付け!E33","v":0},{"$f":"①データ貼付け!F33","v":0},{"$f":"①データ貼付け!G33","v":0}]
[{"$f":"①データ貼付け!D34","v":0},{"$f":"①データ貼付け!A34","v":0},{"$f":"①データ貼付け!B34","v":0},"",{"$f":"ASC(①データ貼付け!D34)","v":""},{"$f":"①データ貼付け!E34","v":0},{"$f":"①データ貼付け!F34","v":0},{"$f":"①データ貼付け!G34","v":0}]
[{"$f":"①データ貼付け!D35","v":0},{"$f":"①データ貼付け!A35","v":0},{"$f":"①データ貼付け!B35","v":0},"",{"$f":"ASC(①データ貼付け!D35)","v":""},{"$f":"①データ貼付け!E35","v":0},{"$f":"①データ貼付け!F35","v":0},{"$f":"①データ貼付け!G35","v":0}]
[{"$f":"①データ貼付け!D36","v":0},{"$f":"①データ貼付け!A36","v":0},{"$f":"①データ貼付け!B36","v":0},"",{"$f":"ASC(①データ貼付け!D36)","v":""},{"$f":"①データ貼付け!E36","v":0},{"$f":"①データ貼付け!F36","v":0},{"$f":"①データ貼付け!G36","v":0}]
[{"$f":"①データ貼付け!D37","v":0},{"$f":"①データ貼付け!A37","v":0},{"$f":"①データ貼付け!B37","v":0},"",{"$f":"ASC(①データ貼付け!D37)","v":""},{"$f":"①データ貼付け!E37","v":0},{"$f":"①データ貼付け!F37","v":0},{"$f":"①データ貼付け!G37","v":0}]
[{"$f":"①データ貼付け!D38","v":0},{"$f":"①データ貼付け!A38","v":0},{"$f":"①データ貼付け!B38","v":0},"",{"$f":"ASC(①データ貼付け!D38)","v":""},{"$f":"①データ貼付け!E38","v":0},{"$f":"①データ貼付け!F38","v":0},{"$f":"①データ貼付け!G38","v":0}]
[{"$f":"①データ貼付け!D39","v":0},{"$f":"①データ貼付け!A39","v":0},{"$f":"①データ貼付け!B39","v":0},"",{"$f":"ASC(①データ貼付け!D39)","v":""},{"$f":"①データ貼付け!E39","v":0},{"$f":"①データ貼付け!F39","v":0},{"$f":"①データ貼付け!G39","v":0}]
[{"$f":"①データ貼付け!D40","v":0},{"$f":"①データ貼付け!A40","v":0},{"$f":"①データ貼付け!B40","v":0},"",{"$f":"ASC(①データ貼付け!D40)","v":""},{"$f":"①データ貼付け!E40","v":0},{"$f":"①データ貼付け!F40","v":0},{"$f":"①データ貼付け!G40","v":0}]
[{"$f":"①データ貼付け!D41","v":0},{"$f":"①データ貼付け!A41","v":0},{"$f":"①データ貼付け!B41","v":0},"",{"$f":"ASC(①データ貼付け!D41)","v":""},{"$f":"①データ貼付け!E41","v":0},{"$f":"①データ貼付け!F41","v":0},{"$f":"①データ貼付け!G41","v":0}]
[{"$f":"①データ貼付け!D42","v":0},{"$f":"①データ貼付け!A42","v":0},{"$f":"①データ貼付け!B42","v":0},"",{"$f":"ASC(①データ貼付け!D42)","v":""},{"$f":"①データ貼付け!E42","v":0},{"$f":"①データ貼付け!F42","v":0},{"$f":"①データ貼付け!G42","v":0}]
[{"$f":"①データ貼付け!D43","v":0},{"$f":"①データ貼付け!A43","v":0},{"$f":"①データ貼付け!B43","v":0},"",{"$f":"ASC(①データ貼付け!D43)","v":""},{"$f":"①データ貼付け!E43","v":0},{"$f":"①データ貼付け!F43","v":0},{"$f":"①データ貼付け!G43","v":0}]
[{"$f":"①データ貼付け!D44","v":0},{"$f":"①データ貼付け!A44","v":0},{"$f":"①データ貼付け!B44","v":0},"",{"$f":"ASC(①データ貼付け!D44)","v":""},{"$f":"①データ貼付け!E44","v":0},{"$f":"①データ貼付け!F44","v":0},{"$f":"①データ貼付け!G44","v":0}]
[{"$f":"①データ貼付け!D45","v":0},{"$f":"①データ貼付け!A45","v":0},{"$f":"①データ貼付け!B45","v":0},"",{"$f":"ASC(①データ貼付け!D45)","v":""},{"$f":"①データ貼付け!E45","v":0},{"$f":"①データ貼付け!F45","v":0},{"$f":"①データ貼付け!G45","v":0}]
[{"$f":"①データ貼付け!D46","v":0},{"$f":"①データ貼付け!A46","v":0},{"$f":"①データ貼付け!B46","v":0},"",{"$f":"ASC(①データ貼付け!D46)","v":""},{"$f":"①データ貼付け!E46","v":0},{"$f":"①データ貼付け!F46","v":0},{"$f":"①データ貼付け!G46","v":0}]
[{"$f":"①データ貼付け!D47","v":0},{"$f":"①データ貼付け!A47","v":0},{"$f":"①データ貼付け!B47","v":0},"",{"$f":"ASC(①データ貼付け!D47)","v":""},{"$f":"①データ貼付け!E47","v":0},{"$f":"①データ貼付け!F47","v":0},{"$f":"①データ貼付け!G47","v":0}]
[{"$f":"①データ貼付け!D48","v":0},{"$f":"①データ貼付け!A48","v":0},{"$f":"①データ貼付け!B48","v":0},"",{"$f":"ASC(①データ貼付け!D48)","v":""},{"$f":"①データ貼付け!E48","v":0},{"$f":"①データ貼付け!F48","v":0},{"$f":"①データ貼付け!G48","v":0}]
[{"$f":"①データ貼付け!D49","v":0},{"$f":"①データ貼付け!A49","v":0},{"$f":"①データ貼付け!B49","v":0},"",{"$f":"ASC(①データ貼付け!D49)","v":""},{"$f":"①データ貼付け!E49","v":0},{"$f":"①データ貼付け!F49","v":0},{"$f":"①データ貼付け!G49","v":0}]
[{"$f":"①データ貼付け!D50","v":0},{"$f":"①データ貼付け!A50","v":0},{"$f":"①データ貼付け!B50","v":0},"",{"$f":"ASC(①データ貼付け!D50)","v":""},{"$f":"①データ貼付け!E50","v":0},{"$f":"①データ貼付け!F50","v":0},{"$f":"①データ貼付け!G50","v":0}]
[{"$f":"①データ貼付け!D51","v":0},{"$f":"①データ貼付け!A51","v":0},{"$f":"①データ貼付け!B51","v":0},"",{"$f":"ASC(①データ貼付け!D51)","v":""},{"$f":"①データ貼付け!E51","v":0},{"$f":"①データ貼付け!F51","v":0},{"$f":"①データ貼付け!G51","v":0}]
[{"$f":"①データ貼付け!D52","v":0},{"$f":"①データ貼付け!A52","v":0},{"$f":"①データ貼付け!B52","v":0},"",{"$f":"ASC(①データ貼付け!D52)","v":""},{"$f":"①データ貼付け!E52","v":0},{"$f":"①データ貼付け!F52","v":0},{"$f":"①データ貼付け!G52","v":0}]
[{"$f":"①データ貼付け!D53","v":0},{"$f":"①データ貼付け!A53","v":0},{"$f":"①データ貼付け!B53","v":0},"",{"$f":"ASC(①データ貼付け!D53)","v":""},{"$f":"①データ貼付け!E53","v":0},{"$f":"①データ貼付け!F53","v":0},{"$f":"①データ貼付け!G53","v":0}]
[{"$f":"①データ貼付け!D54","v":0},{"$f":"①データ貼付け!A54","v":0},{"$f":"①データ貼付け!B54","v":0},"",{"$f":"ASC(①データ貼付け!D54)","v":""},{"$f":"①データ貼付け!E54","v":0},{"$f":"①データ貼付け!F54","v":0},{"$f":"①データ貼付け!G54","v":0}]
[{"$f":"①データ貼付け!D55","v":0},{"$f":"①データ貼付け!A55","v":0},{"$f":"①データ貼付け!B55","v":0},"",{"$f":"ASC(①データ貼付け!D55)","v":""},{"$f":"①データ貼付け!E55","v":0},{"$f":"①データ貼付け!F55","v":0},{"$f":"①データ貼付け!G55","v":0}]
[{"$f":"①データ貼付け!D56","v":0},{"$f":"①データ貼付け!A56","v":0},{"$f":"①データ貼付け!B56","v":0},"",{"$f":"ASC(①データ貼付け!D56)","v":""},{"$f":"①データ貼付け!E56","v":0},{"$f":"①データ貼付け!F56","v":0},{"$f":"①データ貼付け!G56","v":0}]
[{"$f":"①データ貼付け!D57","v":0},{"$f":"①データ貼付け!A57","v":0},{"$f":"①データ貼付け!B57","v":0},"",{"$f":"ASC(①データ貼付け!D57)","v":""},{"$f":"①データ貼付け!E57","v":0},{"$f":"①データ貼付け!F57","v":0},{"$f":"①データ貼付け!G57","v":0}]
[{"$f":"①データ貼付け!D58","v":0},{"$f":"①データ貼付け!A58","v":0},{"$f":"①データ貼付け!B58","v":0},"",{"$f":"ASC(①データ貼付け!D58)","v":""},{"$f":"①データ貼付け!E58","v":0},{"$f":"①データ貼付け!F58","v":0},{"$f":"①データ貼付け!G58","v":0}]
[{"$f":"①データ貼付け!D59","v":0},{"$f":"①データ貼付け!A59","v":0},{"$f":"①データ貼付け!B59","v":0},"",{"$f":"ASC(①データ貼付け!D59)","v":""},{"$f":"①データ貼付け!E59","v":0},{"$f":"①データ貼付け!F59","v":0},{"$f":"①データ貼付け!G59","v":0}]
[{"$f":"①データ貼付け!D60","v":0},{"$f":"①データ貼付け!A60","v":0},{"$f":"①データ貼付け!B60","v":0},"",{"$f":"ASC(①データ貼付け!D60)","v":""},{"$f":"①データ貼付け!E60","v":0},{"$f":"①データ貼付け!F60","v":0},{"$f":"①データ貼付け!G60","v":0}]
[{"$f":"①データ貼付け!D61","v":0},{"$f":"①データ貼付け!A61","v":0},{"$f":"①データ貼付け!B61","v":0},"",{"$f":"ASC(①データ貼付け!D61)","v":""},{"$f":"①データ貼付け!E61","v":0},{"$f":"①データ貼付け!F61","v":0},{"$f":"①データ貼付け!G61","v":0}]
[{"$f":"①データ貼付け!D62","v":0},{"$f":"①データ貼付け!A62","v":0},{"$f":"①データ貼付け!B62","v":0},"",{"$f":"ASC(①データ貼付け!D62)","v":""},{"$f":"①データ貼付け!E62","v":0},{"$f":"①データ貼付け!F62","v":0},{"$f":"①データ貼付け!G62","v":0}]
[{"$f":"①データ貼付け!D63","v":0},{"$f":"①データ貼付け!A63","v":0},{"$f":"①データ貼付け!B63","v":0},"",{"$f":"ASC(①データ貼付け!D63)","v":""},{"$f":"①データ貼付け!E63","v":0},{"$f":"①データ貼付け!F63","v":0},{"$f":"①データ貼付け!G63","v":0}]
[{"$f":"①データ貼付け!D64","v":0},{"$f":"①データ貼付け!A64","v":0},{"$f":"①データ貼付け!B64","v":0},"",{"$f":"ASC(①データ貼付け!D64)","v":""},{"$f":"①データ貼付け!E64","v":0},{"$f":"①データ貼付け!F64","v":0},{"$f":"①データ貼付け!G64","v":0}]
[{"$f":"①データ貼付け!D65","v":0},{"$f":"①データ貼付け!A65","v":0},{"$f":"①データ貼付け!B65","v":0},"",{"$f":"ASC(①データ貼付け!D65)","v":""},{"$f":"①データ貼付け!E65","v":0},{"$f":"①データ貼付け!F65","v":0},{"$f":"①データ貼付け!G65","v":0}]
[{"$f":"①データ貼付け!D66","v":0},{"$f":"①データ貼付け!A66","v":0},{"$f":"①データ貼付け!B66","v":0},"",{"$f":"ASC(①データ貼付け!D66)","v":""},{"$f":"①データ貼付け!E66","v":0},{"$f":"①データ貼付け!F66","v":0},{"$f":"①データ貼付け!G66","v":0}]
[{"$f":"①データ貼付け!D67","v":0},{"$f":"①データ貼付け!A67","v":0},{"$f":"①データ貼付け!B67","v":0},{"$f":"REPLACE(B67,1,1,\"\")","v":""},{"$f":"ASC(①データ貼付け!D67)","v":""},{"$f":"①データ貼付け!E67","v":0},{"$f":"①データ貼付け!F67","v":0},{"$f":"①データ貼付け!G67","v":0}]
[{"$f":"①データ貼付け!D68","v":0},{"$f":"①データ貼付け!A68","v":0},{"$f":"①データ貼付け!B68","v":0},"",{"$f":"ASC(①データ貼付け!D68)","v":""},{"$f":"①データ貼付け!E68","v":0},{"$f":"①データ貼付け!F68","v":0},{"$f":"①データ貼付け!G68","v":0}]
[{"$f":"①データ貼付け!D69","v":0},{"$f":"①データ貼付け!A69","v":0},{"$f":"①データ貼付け!B69","v":0},"",{"$f":"ASC(①データ貼付け!D69)","v":""},{"$f":"①データ貼付け!E69","v":0},{"$f":"①データ貼付け!F69","v":0},{"$f":"①データ貼付け!G69","v":0}]
[{"$f":"①データ貼付け!D70","v":0},{"$f":"①データ貼付け!A70","v":0},{"$f":"①データ貼付け!B70","v":0},"",{"$f":"ASC(①データ貼付け!D70)","v":""},{"$f":"①データ貼付け!E70","v":0},{"$f":"①データ貼付け!F70","v":0},{"$f":"①データ貼付け!G70","v":0}]
[{"$f":"①データ貼付け!D71","v":0},{"$f":"①データ貼付け!A71","v":0},{"$f":"①データ貼付け!B71","v":0},"",{"$f":"ASC(①データ貼付け!D71)","v":""},{"$f":"①データ貼付け!E71","v":0},{"$f":"①データ貼付け!F71","v":0},{"$f":"①データ貼付け!G71","v":0}]
[{"$f":"①データ貼付け!D72","v":0},{"$f":"①データ貼付け!A72","v":0},{"$f":"①データ貼付け!B72","v":0},"",{"$f":"ASC(①データ貼付け!D72)","v":""},{"$f":"①データ貼付け!E72","v":0},{"$f":"①データ貼付け!F72","v":0},{"$f":"①データ貼付け!G72","v":0}]
[{"$f":"①データ貼付け!D73","v":0},{"$f":"①データ貼付け!A73","v":0},{"$f":"①データ貼付け!B73","v":0},"",{"$f":"ASC(①データ貼付け!D73)","v":""},{"$f":"①データ貼付け!E73","v":0},{"$f":"①データ貼付け!F73","v":0},{"$f":"①データ貼付け!G73","v":0}]
[{"$f":"①データ貼付け!D74","v":0},{"$f":"①データ貼付け!A74","v":0},{"$f":"①データ貼付け!B74","v":0},"",{"$f":"ASC(①データ貼付け!D74)","v":""},{"$f":"①データ貼付け!E74","v":0},{"$f":"①データ貼付け!F74","v":0},{"$f":"①データ貼付け!G74","v":0}]
[{"$f":"①データ貼付け!D75","v":0},{"$f":"①データ貼付け!A75","v":0},{"$f":"①データ貼付け!B75","v":0},"",{"$f":"ASC(①データ貼付け!D75)","v":""},{"$f":"①データ貼付け!E75","v":0},{"$f":"①データ貼付け!F75","v":0},{"$f":"①データ貼付け!G75","v":0}]
[{"$f":"①データ貼付け!D76","v":0},{"$f":"①データ貼付け!A76","v":0},{"$f":"①データ貼付け!B76","v":0},"",{"$f":"ASC(①データ貼付け!D76)","v":""},{"$f":"①データ貼付け!E76","v":0},{"$f":"①データ貼付け!F76","v":0},{"$f":"①データ貼付け!G76","v":0}]
[{"$f":"①データ貼付け!D77","v":0},{"$f":"①データ貼付け!A77","v":0},{"$f":"①データ貼付け!B77","v":0},"",{"$f":"ASC(①データ貼付け!D77)","v":""},{"$f":"①データ貼付け!E77","v":0},{"$f":"①データ貼付け!F77","v":0},{"$f":"①データ貼付け!G77","v":0}]
[{"$f":"①データ貼付け!D78","v":0},{"$f":"①データ貼付け!A78","v":0},{"$f":"①データ貼付け!B78","v":0},"",{"$f":"ASC(①データ貼付け!D78)","v":""},{"$f":"①データ貼付け!E78","v":0},{"$f":"①データ貼付け!F78","v":0},{"$f":"①データ貼付け!G78","v":0}]
[{"$f":"①データ貼付け!D79","v":0},{"$f":"①データ貼付け!A79","v":0},{"$f":"①データ貼付け!B79","v":0},"",{"$f":"ASC(①データ貼付け!D79)","v":""},{"$f":"①データ貼付け!E79","v":0},{"$f":"①データ貼付け!F79","v":0},{"$f":"①データ貼付け!G79","v":0}]
[{"$f":"①データ貼付け!D80","v":0},{"$f":"①データ貼付け!A80","v":0},{"$f":"①データ貼付け!B80","v":0},"",{"$f":"ASC(①データ貼付け!D80)","v":""},{"$f":"①データ貼付け!E80","v":0},{"$f":"①データ貼付け!F80","v":0},{"$f":"①データ貼付け!G80","v":0}]
[{"$f":"①データ貼付け!D81","v":0},{"$f":"①データ貼付け!A81","v":0},{"$f":"①データ貼付け!B81","v":0},"",{"$f":"ASC(①データ貼付け!D81)","v":""},{"$f":"①データ貼付け!E81","v":0},{"$f":"①データ貼付け!F81","v":0},{"$f":"①データ貼付け!G81","v":0}]
[{"$f":"①データ貼付け!D82","v":0},{"$f":"①データ貼付け!A82","v":0},{"$f":"①データ貼付け!B82","v":0},"",{"$f":"ASC(①データ貼付け!D82)","v":""},{"$f":"①データ貼付け!E82","v":0},{"$f":"①データ貼付け!F82","v":0},{"$f":"①データ貼付け!G82","v":0}]
[{"$f":"①データ貼付け!D83","v":0},{"$f":"①データ貼付け!A83","v":0},{"$f":"①データ貼付け!B83","v":0},"",{"$f":"ASC(①データ貼付け!D83)","v":""},{"$f":"①データ貼付け!E83","v":0},{"$f":"①データ貼付け!F83","v":0},{"$f":"①データ貼付け!G83","v":0}]
[{"$f":"①データ貼付け!D84","v":0},{"$f":"①データ貼付け!A84","v":0},{"$f":"①データ貼付け!B84","v":0},"",{"$f":"ASC(①データ貼付け!D84)","v":""},{"$f":"①データ貼付け!E84","v":0},{"$f":"①データ貼付け!F84","v":0},{"$f":"①データ貼付け!G84","v":0}]
[{"$f":"①データ貼付け!D85","v":0},{"$f":"①データ貼付け!A85","v":0},{"$f":"①データ貼付け!B85","v":0},"",{"$f":"ASC(①データ貼付け!D85)","v":""},{"$f":"①データ貼付け!E85","v":0},{"$f":"①データ貼付け!F85","v":0},{"$f":"①データ貼付け!G85","v":0}]
[{"$f":"①データ貼付け!D86","v":0},{"$f":"①データ貼付け!A86","v":0},{"$f":"①データ貼付け!B86","v":0},"",{"$f":"ASC(①データ貼付け!D86)","v":""},{"$f":"①データ貼付け!E86","v":0},{"$f":"①データ貼付け!F86","v":0},{"$f":"①データ貼付け!G86","v":0}]
[{"$f":"①データ貼付け!D87","v":0},{"$f":"①データ貼付け!A87","v":0},{"$f":"①データ貼付け!B87","v":0},"",{"$f":"ASC(①データ貼付け!D87)","v":""},{"$f":"①データ貼付け!E87","v":0},{"$f":"①データ貼付け!F87","v":0},{"$f":"①データ貼付け!G87","v":0}]
[{"$f":"①データ貼付け!D88","v":0},{"$f":"①データ貼付け!A88","v":0},{"$f":"①データ貼付け!B88","v":0},"",{"$f":"ASC(①データ貼付け!D88)","v":""},{"$f":"①データ貼付け!E88","v":0},{"$f":"①データ貼付け!F88","v":0},{"$f":"①データ貼付け!G88","v":0}]
[{"$f":"①データ貼付け!D89","v":0},{"$f":"①データ貼付け!A89","v":0},{"$f":"①データ貼付け!B89","v":0},"",{"$f":"ASC(①データ貼付け!D89)","v":""},{"$f":"①データ貼付け!E89","v":0},{"$f":"①データ貼付け!F89","v":0},{"$f":"①データ貼付け!G89","v":0}]
[{"$f":"①データ貼付け!D90","v":0},{"$f":"①データ貼付け!A90","v":0},{"$f":"①データ貼付け!B90","v":0},"",{"$f":"ASC(①データ貼付け!D90)","v":""},{"$f":"①データ貼付け!E90","v":0},{"$f":"①データ貼付け!F90","v":0},{"$f":"①データ貼付け!G90","v":0}]
[{"$f":"①データ貼付け!D91","v":0},{"$f":"①データ貼付け!A91","v":0},{"$f":"①データ貼付け!B91","v":0},"",{"$f":"ASC(①データ貼付け!D91)","v":""},{"$f":"①データ貼付け!E91","v":0},{"$f":"①データ貼付け!F91","v":0},{"$f":"①データ貼付け!G91","v":0}]

{"sheet":"Sheet1","index":12,"n_rows":1191,"n_cols":6,"rows_kept":1191,"cut":false,"hidden":true,"merged":[]}
[490001,"ﾎｯｶｲﾄﾞｳ ﾀﾞｲ","北海道大学","北海道大",49,"学  連"]
[490002,"ﾎｯｶｲﾄﾞｳ ｷｮｳｲｸﾀﾞｲ","北海道教育大学","北海道教育大",49,"学  連"]
[490003,"ﾑﾛﾗﾝ ｺｳｷﾞｮｳ ﾀﾞｲ","室蘭工業大学","室蘭工大",49,"学  連"]
[490004,"ｵﾀﾙ ｼｮｳｶ ﾀﾞｲ","小樽商科大学","小樽商大",49,"学  連"]
[490005,"ｵﾋﾞﾋﾛ ﾁｸｻﾝ ﾀﾞｲ","帯広畜産大学","帯広畜産大",49,"学  連"]
[490006,"ｱｻﾋｶﾜ ｲｶ ﾀﾞｲ","旭川医科大学","旭川医科大",49,"学  連"]
[490007,"ｷﾀﾐ ｺｳｷﾞｮｳ ﾀﾞｲ","北見工業大学","北見工業大",49,"学  連"]
[490008,"ﾋﾛｻｷ ﾀﾞｲ","弘前大学","弘前大",49,"学  連"]
[490009,"ｲﾜﾃ ﾀﾞｲ","岩手大学","岩手大",49,"学  連"]
[490010,"ﾄｳﾎｸ ﾀﾞｲ","東北大学","東北大",49,"学  連"]
[490011,"ﾐﾔｷﾞｷｮｳｲｸ ﾀﾞｲ","宮城教育大学","宮城教育大",49,"学  連"]
[490012,"ｱｷﾀ ﾀﾞｲ","秋田大学","秋田大",49,"学  連"]
[490013,"ﾔﾏｶﾞﾀ ﾀﾞｲ","山形大学","山形大",49,"学  連"]
[490014,"ﾌｸｼﾏ ﾀﾞｲ","福島大学","福島大",49,"学  連"]
[490015,"ｲﾊﾞﾗｷ ﾀﾞｲ","茨城大学","茨城大",49,"学  連"]
[490016,"ﾂｸﾊﾞ ﾀﾞｲ","筑波大学","筑波大",49,"学  連"]
[490017,"ｳﾂﾉﾐﾔ ﾀﾞｲ","宇都宮大学","宇都宮大",49,"学  連"]
[490018,"ｸﾞﾝﾏ ﾀﾞｲ","群馬大学","群馬大",49,"学  連"]
[490019,"ｻｲﾀﾏ ﾀﾞｲ","埼玉大学","埼玉大",49,"学  連"]
[490020,"ﾁﾊﾞ ﾀﾞｲ","千葉大学","千葉大",49,"学  連"]
[490021,"ﾄｳｷｮｳ ﾀﾞｲ","東京大学","東京大",49,"学  連"]
[490022,"ﾄｳｷｮｳｲｶｼｶﾀﾞｲ","東京医科歯科大学","東京医科歯科大",49,"学  連"]
[490023,"ﾄｳｷｮｳ ｶﾞｲｺｸｺﾞ ﾀﾞｲ","東京外国語大学","東京外語大",49,"学  連"]
[490024,"ﾄｳｷｮｳ ｶﾞｸｹﾞｲ ﾀﾞｲ","東京学芸大学","東学大",49,"学  連"]
[490025,"ﾄｳｷｮｳ ﾉｳｺｳ ﾀﾞｲ","東京農工大学","東農工大",49,"学  連"]
[490026,"ﾋﾛｼﾏﾀﾞｲ","広島大学","広島大",49,"学  連"]
[490028,"ﾄｳｷｮｳ ｺｳｷﾞｮｳ ﾀﾞｲ","東京工業大学","東工大",49,"学  連"]
[490029,"ﾄｳｷｮｳ ｼｮｳｾﾝ ﾀﾞｲ","東京商船大学","東京商船大",49,"学  連"]
[490030,"ﾄｳｷｮｳｽｲｻﾝ ﾀﾞｲ","東京水産大学","東京水産大",49,"学  連"]
[490031,"ｵﾁｬﾉﾐｽﾞｼﾞｮｼ ﾀﾞｲ","お茶の水女子大学","お茶の水女子大",49,"学  連"]
[490032,"ﾃﾞﾝｷﾂｳｼﾝ ﾀﾞｲ","電気通信大学","電気通信大",49,"学  連"]
[490033,"ﾋﾄﾂﾊﾞｼ ﾀﾞｲ","一橋大学","一橋大",49,"学  連"]
[490034,"ﾖｺﾊﾏ ｺｸﾘﾂ ﾀﾞｲ","横浜国立大学","横浜国大",49,"学  連"]
[490035,"ﾆｲｶﾞﾀ ﾀﾞｲ","新潟大学","新潟大",49,"学  連"]
[490036,"ﾄﾔﾏ ﾀﾞｲ","富山大学","富山大",49,"学  連"]
[490037,"ｶﾅｻﾞﾜ ﾀﾞｲ","金沢大学","金沢大",49,"学  連"]
[490038,"ﾌｸｲ ﾀﾞｲ","福井大学","福井大",49,"学  連"]
[490039,"ﾔﾏﾅｼ ﾀﾞｲ","山梨大学","山梨大",49,"学  連"]
[490040,"ｼﾝｼｭｳﾀﾞｲ","信州大学","信州大",49,"学  連"]
[490041,"ｷﾞﾌ ﾀﾞｲ","岐阜大学","岐阜大",49,"学  連"]
[490042,"ｼｽﾞｵｶ ﾀﾞｲ","静岡大学","静岡大",49,"学  連"]
[490043,"ﾅｺﾞﾔ ﾀﾞｲ","名古屋大学","名古屋大",49,"学  連"]
[490044,"ｱｲﾁ ｷｮｳｲｸ ﾀﾞｲ","愛知教育大学","愛知教育大",49,"学  連"]
[490045,"ﾅｺﾞﾔ ｺｳｷﾞｮｳ ﾀﾞｲ","名古屋工業大学","名古屋工業大",49,"学  連"]
[490046,"ﾐｴ ﾀﾞｲ","三重大学","三重大",49,"学  連"]
[490047,"ｼｶﾞ ﾀﾞｲ","滋賀大学","滋賀大",49,"学  連"]
[490048,"ｷｮｳﾄ ﾀﾞｲ","京都大学","京都大",49,"学  連"]
[490049,"ｷｮｳﾄ ｷｮｳｲｸ ﾀﾞｲ","京都教育大学","京都教大",49,"学  連"]
[490050,"ｷｮｳﾄ ｺｳｹﾞｲｾﾝｲ ﾀﾞｲ","京都工芸繊維大学","京都工芸繊維大",49,"学  連"]
[490051,"ｵｵｻｶ ﾀﾞｲ","大阪大学","大阪大",49,"学  連"]
[490052,"ｵｵｻｶ ｶﾞｲｺｸｺﾞ ﾀﾞｲ","大阪外国語大学","大阪外語大",49,"学  連"]
[490053,"ｵｵｻｶｷｮｳｲｸﾀﾞｲ","大阪教育大学","大阪教育大",49,"学  連"]
[490054,"ｺｳﾍﾞ ﾀﾞｲ","神戸大学","神戸大",49,"学  連"]
[490055,"ｺｳﾍﾞ ｼｮｳｾﾝ ﾀﾞｲ","神戸商船大学","神戸商船大",49,"学  連"]
[490056,"ﾅﾗ ｷｮｳｲｸ ﾀﾞｲ","奈良教育大学","奈良教育大",49,"学  連"]
[490057,"ﾅﾗｼﾞｮｼ ﾀﾞｲ","奈良女子大学","奈良女大",49,"学  連"]
[490058,"ﾜｶﾔﾏ ﾀﾞｲ","和歌山大学","和歌山大",49,"学  連"]
[490059,"ﾄｯﾄﾘ ﾀﾞｲ","鳥取大学","鳥取大",49,"学  連"]
[490060,"ｼﾏﾈ ﾀﾞｲ","島根大学","島根大",49,"学  連"]
[490061,"ｵｶﾔﾏ ﾀﾞｲ","岡山大学","岡山大",49,"学  連"]
[490062,"ﾋﾛｼﾏ ﾀﾞｲ","広島大学","広島大",49,"学  連"]
[490063,"ﾔﾏｸﾞﾁ ﾀﾞｲ","山口大学","山口大",49,"学  連"]
[490064,"ﾄｸｼﾏ ﾀﾞｲ","徳島大学","徳島大",49,"学  連"]
[490065,"ｶｶﾞﾜ ﾀﾞｲ","香川大学","香川大",49,"学  連"]
[490066,"ｴﾋﾒ ﾀﾞｲ","愛媛大学","愛媛大",49,"学  連"]
[490067,"ｺｳﾁ ﾀﾞｲ","高知大学","高知大",49,"学  連"]
[490068,"ﾌｸｵｶ ｷｮｳｲｸ ﾀﾞｲ","福岡教育大学","福岡教育大",49,"学  連"]
[490069,"ｷｭｳｼｭｳ ﾀﾞｲ","九州大学","九州大",49,"学  連"]
[490070,"ｷﾕｳｼｭｳ ｹﾞｲｼﾞｭﾂ ｺｳｶ ﾀﾞｲ","九州芸術工科大学","九州芸術工科大",49,"学  連"]
[490071,"ｷｭｳｼｭｳｺｳｷﾞｮｳ ﾀﾞｲ","九州工業大学","九州工大",49,"学  連"]
[490072,"ｻｶﾞ ﾀﾞｲ","佐賀大学","佐賀大",49,"学  連"]
[490073,"ﾅｶﾞｻｷ ﾀﾞｲ","長崎大学","長崎大",49,"学  連"]
[490074,"ｸﾏﾓﾄ ﾀﾞｲ","熊本大学","熊大",49,"学  連"]
[490075,"ｵｵｲﾀ ﾀﾞｲ","大分大学","大分大",49,"学  連"]
[490076,"ﾐﾔｻﾞｷ ﾀﾞｲ","宮崎大学","宮崎大",49,"学  連"]
[490077,"ｶｺﾞｼﾏ ﾀﾞｲ","鹿児島大学","鹿児島大",49,"学  連"]
[490078,"ﾘｭｳｷｭｳ ﾀﾞｲ","琉球大学","琉球大",49,"学  連"]
[490079,"ﾊﾏﾏﾂ ｲｶ ﾀﾞｲ","浜松医科大学","浜松医科大",49,"学  連"]
[490080,"ｼｶﾞ ｲｶ ﾀﾞｲ","滋賀医科大学","滋賀医科大",49,"学  連"]
[490081,"ﾐﾔｻﾞｷ ｲｶ ﾔｯｶ ﾀﾞｲ","宮崎医科大学","宮崎医科大",49,"学  連"]
[490082,"ﾄﾔﾏ ｲｶ ﾔｸｶ ﾀﾞｲ","富山医科薬科大学","富山医科薬科大",49,"学  連"]
[490083,"ｼﾏﾈ ｲｶ ﾀﾞｲ","島根医科大学","島根医大",49,"学  連"]
[490084,"ﾅｶﾞｵｶ ｷﾞｭｼﾞｭﾂ ｶｶﾞｸ ﾀﾞｲ","長岡技術科学大学","長岡技術科学大",49,"学  連"]
[490085,"ﾄﾖﾊｼ ｷﾞｼﾞｭﾂﾀﾞｲ","豊橋技術大","豊橋技術大",49,"学  連"]
[490086,"ｺｳﾁ ｲｶ ﾀﾞｲ","高知医科大学","高知医科大",49,"学  連"]
[490087,"ｻｶﾞ ｲｶ ﾀﾞｲ","佐賀医科大学","佐賀医科大",49,"学  連"]
[490088,"ｵｵｲﾀ ｲｶ ﾀﾞｲ","大分医科大学","大分医科大",49,"学  連"]
[490089,"ｼﾞｮｳｴﾂ ｷｮｳｲｸ ﾀﾞｲ","上越教育大学","上越教育大",49,"学  連"]
[490090,"ﾌｸｲｲｶ ﾀﾞｲ","福井医科大学","福井医科大",49,"学  連"]
[490091,"ﾄｳﾎｳｶﾞｸｴﾝ ﾀﾞｲ","東邦学園大学","東邦学園大",49,"学  連"]
[490092,"ﾋｮｳｺﾞ ｷｮｳｲｸ ﾀﾞｲ","兵庫教育大学","兵庫教育大",49,"学  連"]
[490093,"ｶｶﾞﾜ ｲｶ ﾀﾞｲ","香川医科大学","香川医科大",49,"学  連"]
[490094,"ﾄｼｮｶﾝ ｼﾞﾖｳﾎｳ ﾀﾞｲ","図書館情報大学","図書館情報大",49,"学  連"]
[490095,"ﾅﾙﾄ ｷｮｳｲｸ ﾀﾞｲ","鳴門教育大学","鳴門教育大",49,"学  連"]
[490096,"ｶﾉﾔﾀｲｲｸ ﾀﾞｲ","鹿屋体育大学","鹿屋体大",49,"学  連"]
[490105,"ﾊﾏﾏﾂﾀﾞｲ","浜松大学","浜松大学",49,"学  連"]
[490110,"ﾄｳﾖｳ ﾀﾞｲ","東洋大学","東洋大学",49,"学  連"]
[490991,"ﾎｳｿｳﾀﾞｲ","放送大学","放送大",49,"学  連"]
[491001,"ｻｯﾎﾟﾛ ｲｶ ﾀﾞｲ","札幌医科大学","札幌医科大",49,"学  連"]
[491002,"ﾌｸｼﾏｹﾝﾘﾂｲｶ ﾀﾞｲ","福島県立医科大学","福島県立医科大",49,"学  連"]
[491003,"ﾀｶｻｷｹｲｻﾞｲ ﾀﾞｲ","高崎経済大学","高崎経済大",49,"学  連"]
[491004,"ﾄｳｷｮｳﾄﾘﾂ ﾀﾞｲ","東京都立大学","東京都立大",49,"学  連"]
[491005,"ﾖｺﾊﾏｼﾘﾂ ﾀﾞｲ","横浜市立大学","横浜市立大",49,"学  連"]
[491006,"ｶﾅｻﾞﾜ ﾋﾞｼﾞｭﾂ ｺｳｹﾞｲ ﾀﾞｲ","金沢美術工芸大学","金沢美術工芸大",49,"学  連"]
[491007,"ﾂﾙﾌﾞﾝｶ ﾀﾞｲ","都留文科大学","都留文科大",49,"学  連"]
[491008,"ｷﾞﾌﾔｯｶ ﾀﾞｲ","岐阜薬科大学","岐阜薬科大",49,"学  連"]
[491009,"ｼｽﾞｵｶ ｼﾞｮｼ ﾀﾞｲ","静岡女子大学","静岡女子大",49,"学  連"]
[491010,"ｼｽﾞｵｶ ﾔｸｶ ﾀﾞｲ","静岡薬科大学","静岡薬科大",49,"学  連"]
[491011,"ｱｲﾁ ｹﾝﾘﾂ ﾀﾞｲ","愛知県立大学","愛知県立大",49,"学  連"]
[491012,"ｱｲﾁ ｹﾝﾘﾂ ｹﾞｲｼﾞｭﾂ ﾀﾞｲ","愛知県立芸術大学","愛知県立芸術大",49,"学  連"]
[491013,"ﾅｺﾞﾔｼﾘﾂ ﾀﾞｲ","名古屋市立大学","名古屋市立大",49,"学  連"]
[491014,"ｷｮｳﾄ ｼﾘﾂ ｹﾞｲｼﾞﾕﾂ ﾀﾞｲ","京都市立芸術大学","京都市立芸術大",49,"学  連"]
[491015,"ｷｮｳﾄ ﾌﾘﾂ ﾀﾞｲ","京都府立大学","京都府立大",49,"学  連"]
[491016,"ｷﾖｳﾄ ﾌﾘﾂ ｲｶ ﾀﾞｲ","京都府立医科大学","京都府立医科大",49,"学  連"]
[491017,"ｵｵｻｶ ｼﾞｮｼ ﾀﾞｲ","大阪女子大学","大阪女子大",49,"学  連"]
[491018,"ｵｵｻｶｼﾘﾂ ﾀﾞｲ","大阪市立大学","大阪市立大",49,"学  連"]
[491019,"ｵｵｻｶﾌﾘﾂ ﾀﾞｲ","大阪府立大学","大阪府立大",49,"学  連"]
[491020,"ｺｳﾍﾞｼｶﾞｲｺｸｺﾞ ﾀﾞｲ","神戸市外国語大学","神戸市外語大",49,"学  連"]
[491021,"ｺｳﾍﾞｼｮｳｶ ﾀﾞｲ","神戸商科大学","神戸商科大",49,"学  連"]
[491022,"ﾋﾒｼﾞ ｺｳｷﾞｮｳ ﾀﾞｲ","姫路工業大学","姫路工業大",49,"学  連"]
[491023,"ﾅﾗ ｹﾝﾘﾂ ｲｶ ﾀﾞｲ","奈良県立医科大学","奈良県立医科大",49,"学  連"]
[491024,"ﾜｶﾔﾏ ｹﾝﾘﾂ ｲｶ ﾀﾞｲ","和歌山県立医科大学","和歌山県立医科",49,"学  連"]
[491025,"ﾋﾛｼﾏ ｼﾞﾖｼ  ﾀﾞｲ","広島女子大学","広島女子大",49,"学  連"]
[491026,"ｼﾓﾉｾｷｲﾁﾘﾂ ﾀﾞｲ","下関市立大学","下関市立大",49,"学  連"]
[491027,"ｺｳﾁｼﾞｮｼ ﾀﾞｲ","高知女子大学","高知女大",49,"学  連"]
[491028,"ｷﾀｷｭｳｼｭｳ ﾀﾞｲ","北九州大学","北九州大",49,"学  連"]
[491029,"ｷｭｳｼｭｳｲｶﾀﾞｲ","九州歯科大学","九州歯科大学",49,"学  連"]
[491030,"ﾌｸｵｶ ｼﾞｮｼ ﾀﾞｲ","福岡女子大学","福岡女子大",49,"学  連"]
[491031,"ﾅｶﾞｻｷｹﾝﾘﾂ ﾀﾞｲ","長崎県立大学","長崎県立大",49,"学  連"]
[491032,"ｸﾏﾓﾄ ｼﾞｮｼ ﾀﾞｲ","熊本女子大学","熊本女子大",49,"学  連"]
[491033,"ﾔﾏｸﾞﾁ ｼﾞﾖｼ ﾀﾞｲ","山口女子大学","山口女子大",49,"学  連"]
[491034,"ｸﾞﾝﾏ ｹﾝﾘﾂ ｼﾞｮｼ ﾀﾞｲ","群馬県立女子大学","群馬県立女子大",49,"学  連"]
[491035,"ﾄｳｷｮｳﾄﾘﾂｶｶﾞｸｷﾞｼﾞｭﾂﾀﾞｲ","東京都立科学技術大学","東京都立科学技",49,"学  連"]
[491036,"ｵｷﾅﾜｹﾝﾘﾂｹﾞｲｼﾞｭﾂ ﾀﾞｲ","沖縄県立芸術大学","沖縄県立芸術大",49,"学  連"]
[491037,"ｼｽﾞｵｶｹﾝﾘﾂﾀﾞｲ","静岡県立大学","静岡県立大",49,"学  連"]
[491038,"ｸｼﾛｺｳﾘﾂ ﾀﾞｲ","釧路公立大学","釧路公立大",49,"学  連"]
[491039,"ﾋﾛｼﾏｹﾝﾘﾂ ﾀﾞｲ","広島県立大学","広島県立大",49,"学  連"]
[491234,"ｾｲｼﾞｮｳﾀﾞｲ","星城大学","星城大学",49,"学  連"]
[492001,"ｱｻﾋｶﾜ ﾀﾞｲ","旭川大学","旭川大",49,"学  連"]
[492002,"ｻｯﾎﾟﾛ ﾀﾞｲ","札幌大学","札幌大",49,"学  連"]
[492003,"ｻｯﾎﾟﾛｶﾞｸｲﾝ ﾀﾞｲ","札幌学院大学","札幌学院大",49,"学  連"]
[492004,"ﾊｺﾀﾞﾃ ﾀﾞｲ","函館大学","函館大",49,"学  連"]
[492005,"ﾋｶﾞｼﾆﾎﾝｶﾞｸｴﾝ ﾀﾞｲ","東日本学園大学","東日本学園大",49,"学  連"]
[492006,"ﾌｼﾞ ｼﾞｮｼ ﾀﾞｲ","藤女子大学","藤女子大",49,"学  連"]
[492007,"ﾎｸｾｲ ｶﾞｸｴﾝ ﾀﾞｲ","北星学園大学","北星学園大",49,"学  連"]
[492008,"ﾎｯｶｲ ｶﾞｸｴﾝ ﾀﾞｲ","北海学園大学","北海学園大",49,"学  連"]
[492009,"ﾎｯｶｲﾄﾞｳ ｺｳｷﾞｮｳ ﾀﾞｲ","北海道工業大学","北海道工大",49,"学  連"]
[492010,"ﾎｯｶｲﾄﾞｳ ﾔｯｶ ﾀﾞｲ","北海道薬科大学","北海道薬科大",49,"学  連"]
[492011,"ﾗｸﾉｳ ｶﾞｸｴﾝ ﾀﾞｲ","酪農学園大学","酪農学園大",49,"学  連"]
[492012,"ｱｵﾓﾘ ﾀﾞｲ","青森大学","青森大",49,"学  連"]
[492013,"ﾄｳﾎｸｼﾞｮｼ ﾀﾞｲ","東北女子大学","東北女大",49,"学  連"]
[492014,"ﾊﾁﾉﾍｺｳｷﾞｮｳ ﾀﾞｲ","八戸工業大学","八戸工大",49,"学  連"]
[492015,"ﾋﾛｻｷｶﾞｸｲﾝ ﾀﾞｲ","弘前学院大学","弘前学院大",49,"学  連"]
[492016,"ｲﾜﾃ ｲｶ ﾀﾞｲ","岩手医科大学","岩手医科大",49,"学  連"]
[492017,"ﾌｼﾞ ﾀﾞｲ","富士大学","富士大",49,"学  連"]
[492018,"ｾﾝﾀﾞｲ ﾀﾞｲ","仙台大学","仙台大",49,"学  連"]
[492019,"ﾄｳﾎｸｶﾞｸｲﾝ ﾀﾞｲ","東北学院大学","東北学院大",49,"学  連"]
[492020,"ﾄｳﾎｸｺｳｷﾞｮｳ ﾀﾞｲ","東北工業大学","東北工大",49,"学  連"]
[492021,"ﾄｳﾎｸﾌｸｼ ﾀﾞｲ","東北福祉大学","東北福祉大",49,"学  連"]
[492022,"ﾄｳﾎｸﾔｯｶ ﾀﾞｲ","東北薬科大学","東北薬科大",49,"学  連"]
[492023,"ﾄｳﾎｸｾｲｶﾂﾌﾞﾝｶﾀﾞｲ","東北生活文化大学","東北生活文化大",49,"学  連"]
[492024,"ﾐﾔｷﾞｶﾞｸｲﾝ ｼﾞｮｼ ﾀﾞｲ","宮城学院女子大学","宮城学院女子大",49,"学  連"]
[492025,"ｱｷﾀｹｲｻﾞｲﾎｳｶ ﾀﾞｲ","秋田経済法科大学","秋田経法大",49,"学  連"]
[492026,"ｺｵﾘﾔﾏ ｼﾞｮｼ ﾀﾞｲ","郡山女子大学","郡山女子大",49,"学  連"]
[492027,"ｵｵｳ ﾀﾞｲ","奥羽大学","奥羽大学",49,"学  連"]
[492028,"ｲﾊﾞﾗｷﾞ ｷﾘｽﾄｷｮｳ ﾀﾞｲ","茨城ｷﾘｽﾄ教大学","茨城ｷﾘｽﾄ教大",49,"学  連"]
[492029,"ﾘｭｳﾂｳｹｲｻﾞｲ ﾀﾞｲ","流通経済大学","流通経済大",49,"学  連"]
[492030,"ｱｼｶｶﾞｺｳｷﾞｮｳ ﾀﾞｲ","足利工業大学","足利工大",49,"学  連"]
[492031,"ｼﾞﾁ ｲｶ ﾀﾞｲ","自治医科大学","自治医科大",49,"学  連"]
[492032,"ﾄﾞｯｷｮｳ ｲｶ ﾀﾞｲ","獨協医科大学","獨協医科大",49,"学  連"]
[492033,"ｼﾞｮｳﾌﾞ ﾀﾞｲ","上武大学","上武大",49,"学  連"]
[492034,"ｱﾄﾐｶﾞｸｴﾝ ｼﾞｮｼ ﾀﾞｲ","跡見学園女子大学","跡見学園女子大",49,"学  連"]
[492035,"ﾄｳｷｮｳ ｺｸｻｲ ﾀﾞｲ","東京国際大学","東京国際大",49,"学  連"]
[492036,"ｻｲﾀﾏ ｲｶ ﾀﾞｲ","埼玉医科大学","埼玉医科大",49,"学  連"]
[492037,"ｼﾞｮｳｻｲ ﾀﾞｲ","城西大学","城西大",49,"学  連"]
[492038,"ﾒｲｶｲ ﾀﾞｲ","明海大学","明海大",49,"学  連"]
[492039,"ﾄｳﾎｳ ｵﾝｶﾞｸ ﾀﾞｲ","東邦音楽大学","東邦音楽大",49,"学  連"]
[492040,"ﾄﾞｯｷｮｳ ﾀﾞｲ","獨協大学","獨協大",49,"学  連"]
[492041,"ﾆｯﾎﾟﾝｺｳｷﾞｮｳ ﾀﾞｲ","日本工業大学","日本工大",49,"学  連"]
[492042,"ﾌﾞﾝｷｮｳ ﾀﾞｲ","文教大学","文教大",49,"学  連"]
[492043,"ｼｭｸﾄｸ ﾀﾞｲ","淑徳大学","淑徳大",49,"学  連"]
[492044,"ｹｲｱｲ ﾀﾞｲ","敬愛大学","敬愛大",49,"学  連"]
[492045,"ﾁﾊﾞｺｳｷﾞｮｳ ﾀﾞｲ","千葉工業大学","千葉工大",49,"学  連"]
[492046,"ﾁﾊﾞｼｮｳｶ ﾀﾞｲ","千葉商科大学","千葉商科大",49,"学  連"]
[492047,"ﾁｭｳｵｳｶﾞｸｲﾝ ﾀﾞｲ","中央学院大学","中央学院大",49,"学  連"]
[492049,"ﾚｲﾀｸ ﾀﾞｲ","麗澤大学","麗澤大",49,"学  連"]
[492050,null,"和洋女子大学","和洋女子大",49,"学  連"]
[492051,"ｱｵﾔﾏｶﾞｸｲﾝ ﾀﾞｲ","青山学院大学","青山学院大",49,"学  連"]
[492052,"ｱｼﾞｱ ﾀﾞｲ","亜細亜大学","亜細亜大",49,"学  連"]
[492053,"ｳｴﾉｶﾞｸｴﾝ ﾀﾞｲ","上野学園大学","上野学園大",49,"学  連"]
[492054,"ｵｵﾂﾏ ｼﾞｮｼ ﾀﾞｲ","大妻女子大学","大妻女子大",49,"学  連"]
[492055,"ｵｳﾋﾞﾘﾝ ﾀﾞｲ","桜美林大学","桜美林大",49,"学  連"]
[492056,"ｶﾞｸｼｭｳｲﾝ ﾀﾞｲ","学習院大学","学習院大",49,"学  連"]
[492057,"ｷﾀｻﾄ ﾀﾞｲ","北里大学","北里大",49,"学  連"]
[492058,"ｷｮｳﾘﾂ ｼﾞｮｼ ﾀﾞｲ","共立女子大学","共立女子大",49,"学  連"]
[492059,"ｷｮｳﾘﾂ ﾔｸｶ ﾀﾞｲ","共立薬科大学","共立薬科大",49,"学  連"]
[492060,"ｷｮｳﾘﾝ ﾀﾞｲ","杏林大学","杏林大",49,"学  連"]
[492061,"ｸﾆﾀﾁ ｵﾝｶﾞｸ ﾀﾞｲ","国立音楽大学","国立音楽大",49,"学  連"]
[492062,"ｹｲｵｳｷﾞｼﾞｭｸ ﾀﾞｲ","慶應義塾大学","慶應大",49,"学  連"]
[492063,"ｺｳｶﾞｸｲﾝ ﾀﾞｲ","工学院大学","工学院大",49,"学  連"]
[492064,"ｺｸｶﾞｸｲﾝ ﾀﾞｲ","国學院大學","国學院大",49,"学  連"]
[492065,"ｺｸｻｲｷﾘｽﾄｷｮｳ ﾀﾞｲ","国際基督教大学","国際基督教大",49,"学  連"]
[492066,"ｺｸｼｶﾝ ﾀﾞｲ","国士舘大学","国士舘大",49,"学  連"]
[492067,"ｺﾏｻﾞﾜ ﾀﾞｲ","駒澤大学","駒澤大",49,"学  連"]
[492068,"ｼﾞｯｾﾝ ｼﾞｮｼ ﾀﾞｲ","実践女子大学","実践女子大",49,"学  連"]
[492069,"ｼﾊﾞｳﾗ ｺｳｷﾞｮｳ ﾀﾞｲ","芝浦工業大学","芝浦工大",49,"学  連"]
[492070,"ｼﾞｭﾝﾃﾝﾄﾞｳ ﾀﾞｲ","順天堂大学","順天大",49,"学  連"]
[492071,"ｼﾞｮｳﾁ ﾀﾞｲ","上智大学","上智大",49,"学  連"]
[492072,"ｼｮｳﾜ ﾀﾞｲ","昭和大学","昭和大",49,"学  連"]
[492073,"ｼｮｳﾜ ｼﾞﾖｼ ﾀﾞｲ","昭和女子大学","昭和女子大",49,"学  連"]
[492074,"ｼｮｳﾜ ﾔｸｶ ﾀﾞｲ","昭和薬科大学","昭和薬科大",49,"学  連"]
[492075,"ｼﾞﾖｼ ｴｲﾖｳ ﾀﾞｲ","女子栄養大学","女子栄養大",49,"学  連"]
[492076,"ｼﾞｮｼ ﾋﾞｼﾞｭﾂ ﾀﾞｲ","女子美術大学","女子美術大",49,"学  連"]
[492077,"ｼﾗﾕﾘ ｼﾞｮｼ ﾀﾞｲ","白百合女子大学","白百合女子大",49,"学  連"]
[492078,"ｽｷﾞﾉ ｼﾞﾖｼ ﾀﾞｲ","杉野女子大学","杉野女子大",49,"学  連"]
[492079,"ｾｲｹｲ ﾀﾞｲ","成蹊大学","成蹊大",49,"学  連"]
[492080,"ｾｲｼﾞｮｳ ﾀﾞｲ","成城大学","成城大",49,"学  連"]
[492081,"ｾｲｼﾝ ｼﾞｮｼ ﾀﾞｲ","聖心女子大学","聖心女子大",49,"学  連"]
[492082,"ｾｲｾﾝ ｼﾞｮｼ ﾀﾞｲ","清泉女子大学","清泉女子大",49,"学  連"]
[492083,"ｾｲﾛｶ ｶﾝｺﾞ ﾀﾞｲ","聖路加看護大学","聖路加看護大",49,"学  連"]
[492084,"ｾﾝｼｭｳ ﾀﾞｲ","専修大学","専修大",49,"学  連"]
[492085,"ｿｳｶ ﾀﾞｲ","創価大学","創価大",49,"学  連"]
[492086,"ﾀｲｼｮｳ ﾀﾞｲ","大正大学","大正大",49,"学  連"]
[492087,"ﾀﾞｲﾄｳﾌﾞﾝｶ ﾀﾞｲ","大東文化大学","大東大",49,"学  連"]
[492088,"ﾀｶﾁﾎ ｼｮｳｶ ﾀﾞｲ","高千穂商科大学","高千穂商科大",49,"学  連"]
[492089,"ﾀｸｼｮｸ ﾀﾞｲ","拓殖大学","拓殖大",49,"学  連"]
[492090,"ﾀﾏｶﾞﾜ ﾀﾞｲ","玉川大学","玉川大",49,"学  連"]
[492091,"ﾀﾏ ﾋﾞｼﾞｭﾂ ﾀﾞｲ","多摩美術大学","多摩美術大",49,"学  連"]
[492092,"ﾁｭｳｵｳ ﾀﾞｲ","中央大学","中央大",49,"学  連"]
[492093,"ﾂﾀﾞｼﾞｭｸ ﾀﾞｲ","津田塾大学","津田塾大",49,"学  連"]
[492094,"ﾃｲｷｮｳ ﾀﾞｲ","帝京大学","帝京大",49,"学  連"]
[492095,"ﾄｳｶｲ ﾀﾞｲ","東海大学","東海大",49,"学  連"]
[492096,"ﾄｳｷｮｳ ｲｶ ﾀﾞｲ","東京医科大学","東京医科大",49,"学  連"]
[492097,"ﾄｳｷｮｳ  ｵﾝｶﾞｸ ﾀﾞｲ","東京音楽大学","東京音楽大",49,"学  連"]
[492098,"ﾄｳｷｮｳ ｶｾｲ ﾀﾞｲ","東京家政大学","東京家政大",49,"学  連"]
[492099,"ﾄｳｷｮｳ ｶｾｲ ｶﾞｸｲﾝ ﾀﾞｲ","東京家政学院大学","東京家政学院大",49,"学  連"]
[492100,"ﾄｳｷｮｳｹｲｻﾞｲ ﾀﾞｲ","東京経済大学","東京経済大",49,"学  連"]
[492101,"ﾄｳｷｮｳ ｼｶ ﾀﾞｲ","東京歯科大学","東京歯科大",49,"学  連"]
[492102,"ﾄｳｷｮｳ ｼﾞｹｲｶｲ ｲｶ ﾀﾞｲ","東京慈恵会医科大学","東京慈恵会医科",49,"学  連"]
[492103,"ﾄｳｷｮｳ   ｼﾞｮｼ ﾀﾞｲ","東京女子大学","東京女子大",49,"学  連"]
[492104,"ﾄｳｷｮｳｼﾞｮｼｲｶ ﾀﾞｲ","東京女子医科大学","東京女医科大",49,"学  連"]
[492105,"ﾄｳｷｮｳｼﾞｮｼﾀｲｲｸ ﾀﾞｲ","東京女子体育大学","東女体大",49,"学  連"]
[492106,"ﾄｳｷｮｳ ｼﾝｶﾞｸ ﾀﾞｲ","東京神学大学","東京神学大",49,"学  連"]
[492107,"ﾄﾅｷｮｳ ｿﾞｳｹｲ ﾀﾞｲ","東京造形大学","東京造形大",49,"学  連"]
[492108,"ﾄｳｷｮｳﾃﾞﾝｷ ﾀﾞｲ","東京電機大学","東電大",49,"学  連"]
[492109,"ﾄｳｷｮｳﾉｳｷﾞｮｳ ﾀﾞｲ","東京農業大学","東京農大",49,"学  連"]
[492110,"ﾄｳｷｮｳﾔｯｶ ﾀﾞｲ","東京薬科大学","東京薬科大",49,"学  連"]
[492111,"ﾄｳｷｮｳﾘｶ ﾀﾞｲ","東京理科大学","東京理科大",49,"学  連"]
[492112,"ﾄｳﾎｳ ﾀﾞｲ","愛知東邦大学","愛知東邦大",49,"学  連"]
[492113,"ﾄｳﾎｳｶﾞｸｴﾝ ﾀﾞｲ","桐朋学園大学","桐朋学園大",49,"学  連"]
[492114,"ﾄｳﾖｳ ﾀﾞｲ","東洋大学","東洋大",49,"学  連"]
[492115,"ﾆｼｮｳｶﾞｸｼｬ ﾀﾞｲ","二松学舎大学","二松学舎大",49,"学  連"]
[492116,"ﾆﾎﾝ ﾀﾞｲ","日本大学","日本大",49,"学  連"]
[492117,"ﾆﾎﾝ ｲｶ ﾀﾞｲ","日本医科大学","日本医科大",49,"学  連"]
[492118,"ﾆｯﾎﾟﾝｼｶ ﾀﾞｲ","日本歯科大学","日本歯科大",49,"学  連"]
[492119,"ﾆﾎﾝ ｼｬﾝｲ ｼﾞｷﾞｮｳ ﾀﾞｲ","日本社会事業大学","日本社会事業大",49,"学  連"]
[492120,"ﾆﾎﾝ ｼﾞｭｳｲ ﾁｸｻﾝ ﾀﾞｲ","日本獣医畜産大学","日本獣医畜産大",49,"学  連"]
[492121,"ﾆﾎﾝ ｼﾞﾖｼ ﾀﾞｲ","日本女子大学","日本女子大",49,"学  連"]
[492122,"ﾆﾎﾝｼﾞｮｼﾀｲｲｸ ﾀﾞｲ","日本女子体育大学","日女体大",49,"学  連"]
[492123,"ﾆｯﾎﾟﾝﾀｲｲｸ ﾀﾞｲ","日本体育大学","日本体育大",49,"学  連"]
[492124,"ﾆﾎﾝﾙｰﾃﾙｼﾝｶﾞｸ ﾀﾞｲ","日本ルーテル神学大学","日本ルーテル大",49,"学  連"]
[492125,"ﾌﾞﾝｶ ｼﾞｮｼ ﾀﾞｲ","文化女子大学","文化女子大",49,"学  連"]
[492126,"ﾎｳｾｲ ﾀﾞｲ","法政大学","法政大",49,"学  連"]
[492127,"ﾎｼﾔｯｶ ﾀﾞｲ","星薬科大学","星薬科大",49,"学  連"]
[492128,"ﾑｻｼ ﾀﾞｲ","武蔵大学","武蔵大",49,"学  連"]
[492129,"ﾑｻｼｺｳｷﾞｮｳ ﾀﾞｲ","武蔵工業大学","武蔵工大",49,"学  連"]
[492130,"ﾑｻｼﾉ ｵﾝｶﾞｸ ﾀﾞｲ","武蔵野音楽大学","武蔵野音楽大",49,"学  連"]
[492131,"ﾑｻｼﾉ ｼﾞｮｼ ﾀﾞｲﾞｶﾞｸ","武蔵野女子大学","武蔵野女子大",49,"学  連"]
[492132,"ﾑｻｼﾉ ﾋﾞｼﾞｭﾂ   ﾀﾞｲ","武蔵野美術大学","武蔵野美術大",49,"学  連"]
[492133,"ﾒｲｼﾞ ﾀﾞｲ","明治大学","明治大",49,"学  連"]
[492134,"ﾒｲｼﾞｶﾞｸｲﾝ ﾀﾞｲ","明治学院大学","明治学院大",49,"学  連"]
[492135,"ﾒｲｼﾞ ﾔｸｶ ﾀﾞｲ","明治薬科大学","明治薬科大",49,"学  連"]
[492136,"ﾒｲｾｲ ﾀﾞｲ","明星大学","明星大",49,"学  連"]
[492137,"ﾘｯｷｮｳ ﾀﾞｲ","立教大学","立教大",49,"学  連"]
[492138,"ﾘｯｼｮｳ ﾀﾞｲ","立正大学","立正大",49,"学  連"]
[492139,"ﾜｺｳ ﾀﾞｲ","和光大学","和光大",49,"学  連"]
[492140,"ﾜｾﾀﾞ ﾀﾞｲ","早稲田大学","早稲田大",49,"学  連"]
[492141,"ｱｻﾞﾌﾞ ﾀﾞｲ","麻布大学","麻布大",49,"学  連"]
[492142,"ｶﾅｶﾞﾜ ﾀﾞｲ","神奈川大学","神奈川大",49,"学  連"]
[492143,"ｶﾅｶﾞﾜ ｼｶ ﾀﾞｲ","神奈川歯科大学","神奈川歯科大",49,"学  連"]
[492144,"ｶﾝﾄｳｶﾞｸｲﾝ ﾀﾞｲ","関東学院大学","関東学院大",49,"学  連"]
[492145,"ｹｲﾋﾝ ｼﾞﾖｼ ﾀﾞｲ","京浜女子大学","京浜女子大",49,"学  連"]
[492146,"ｻｶﾞﾐ ｺｳｷﾞｮｳ ﾀﾞｲ","相模工業大学","相模工大",49,"学  連"]
[492147,"ｻｶﾞﾐ ｼﾞﾖｼ ﾀﾞｲ","相模女子大学","相模女子大",49,"学  連"]
[492148,"ｾｲ ﾏﾘｱﾝﾅ ｲｶ ﾀﾞｲ","聖マリアンナ医科大学","聖マリアンナ医",49,"学  連"]
[492149,"ｾﾝｿﾞｸ ｶﾞｸｴﾝ ﾀﾞｲ","洗足学園大学","洗足学園大",49,"学  連"]
[492150,"ﾂﾙﾐ ﾀﾞｲ","鶴見大学","鶴見大",49,"学  連"]
[492151,"ﾄｳｷｮｳ ｺｳｹﾞｲ ﾀﾞｲ","東京工芸大学","東京工芸大",49,"学  連"]
[492152,"ﾌｪﾘｽ ｼﾞｮｶﾞｸｲﾝ ﾀﾞｲ","フェリス女学院大学","フェリス女学院",49,"学  連"]
[492153,"ﾖｺﾊﾏ ｼｮｳｶ ﾀﾞｲ","横浜商科大学","横浜商科大",49,"学  連"]
[492154,"ｶﾅｻﾞﾜ ｲｶ ﾀﾞｲ","金沢医科大学","金沢医科大",49,"学  連"]
[492155,"ｶﾅｻﾞﾜ ｹｲｻﾞｲ ﾀﾞｲ","金沢経済大学","金沢経済大",49,"学  連"]
[492156,"ｶﾅｻﾞﾜ ｺｳｷﾞｮｳ ﾀﾞｲ","金沢工業大学","金沢工大",49,"学  連"]
[492157,"ﾌｸｲ ｺｳｷﾞｮｳ ﾀﾞｲ","福井工業大学","福井工大",49,"学  連"]
[492158,"ﾔﾏﾅｼｶﾞｸｲﾝ ﾀﾞｲ","山梨学院大学","山梨学院大",49,"学  連"]
[492159,"ﾅｶﾞﾉ ﾀﾞｲ","長野大学","長野大",49,"学  連"]
[492160,"ﾏﾂﾓﾄ ｼｶ ﾀﾞｲ","松本歯科大学","松本歯科大",49,"学  連"]
[492161,"ｷﾞﾌｹｲｻﾞｲ ﾀﾞｲ","岐阜経済大学","岐阜経済大",49,"学  連"]
[492162,"ｱｻﾋ ﾀﾞｲ","朝日大学","朝日大",49,"学  連"]
[492163,"ｷﾞﾌ ｼﾞｮｼ ﾀﾞｲ","岐阜女子大学","岐阜女子大",49,"学  連"]
[492164,"ｷﾞﾌｷｮｳｲｸ ﾀﾞｲ","岐阜教育大学","岐阜教大",49,"学  連"]
[492165,"ｱｲﾁ ﾀﾞｲ","愛知大学","愛知大",49,"学  連"]
[492166,"ｱｲﾁ ｲｶ ﾀﾞｲ","愛知医科大学","愛知医科大",49,"学  連"]
[492167,"ｱｲﾁｶﾞｸｲﾝ ﾀﾞｲ","愛知学院大学","愛知学院大",49,"学  連"]
[492168,"ｱｲﾁｺｳｷﾞｮｳ ﾀﾞｲ","愛知工業大学","愛知工大",49,"学  連"]
[492169,"ｱｲﾁ ｶﾞｸｾﾝ ﾀﾞｲ","愛知学泉大学","愛知学泉大",49,"学  連"]
[492170,"ｷﾝｼﾞｮｳｶﾞｸｲﾝ ﾀﾞｲ","金城学院大学","金城学院大",49,"学  連"]
[492171,"ｽｷﾞﾔﾏ ｼﾞｮｶﾞｸｴﾝ ﾀﾞｲ","椙山女学園大学","椙山女学園大",49,"学  連"]
[492172,"ﾀﾞｲﾄﾞｳ ｺｳｷﾞｮｳ ﾀﾞｲ","大同大学","大同大",49,"学  連"]
[492173,"ﾁｭｳｷｮｳ ﾀﾞｲ","中京大学","中京大",49,"学  連"]
[492174,"ｼｶﾞｯｶﾝ ﾀﾞｲ","至学館大学","至学館大",49,"学  連"]
[492175,"ﾁｭｳﾌﾞﾀﾞｲ","中部大学","中部大",49,"学  連"]
[492176,"ﾄﾞｳﾎｳ ﾀﾞｲ","同朋大学","同朋大",49,"学  連"]
[492177,"ﾅｺﾞﾔｶﾞｸｲﾝ ﾀﾞｲ","名古屋学院大学","名古屋学院大",49,"学  連"]
[492178,"ﾅｺﾞﾔ ｹﾞｲｼﾞｭﾂ ﾀﾞｲ","名古屋芸術大学","名古屋芸術大",49,"学  連"]
[492179,"ﾅｺﾞﾔｼｮｳｶ ﾀﾞｲ","名古屋商科大学","名古屋商科大",49,"学  連"]
[492180,"ﾅｺﾞﾔｼﾞｮｼ ﾀﾞｲ","名古屋女子大学","名古屋女大",49,"学  連"]
[492181,"ﾌｼﾞﾀ ｶﾞｸｴﾝ ﾎｹﾝｴｲｾｲ ﾀﾞｲ","藤田学園保健衛生大学","藤田学園保健衛",49,"学  連"]
[492182,"ﾅﾝｻﾞﾝ ﾀﾞｲ","南山大学","南山大",49,"学  連"]
[492183,"ﾆﾎﾝﾌｸｼ ﾀﾞｲ","日本福祉大学","日本福祉大",49,"学  連"]
[492184,"ﾒｲｼﾞｮｳ ﾀﾞｲ","名城大学","名城大",49,"学  連"]
[492185,"ｺｳｶﾞｯｶﾝ ﾀﾞｲ","皇學館大学","皇學館大",49,"学  連"]
[492186,"ｵｵﾀﾆ ﾀﾞｲ","大谷大学","大谷大",49,"学  連"]
[492187,"ｷｮｳﾄｶﾞｲｺｸｺﾞ ﾀﾞｲ","京都外国語大学","京都外語大",49,"学  連"]
[492188,"ｷｮｳﾄ ｶﾞｸｴﾝ ﾀﾞｲ","京都学園大学","京都学園大",49,"学  連"]
[492189,"ｷｮｳﾄ ｻﾝｷﾞｮｳ ﾀﾞｲ","京都産業大学","京産大",49,"学  連"]
[492190,"ｷｮｳﾄ ｼﾞｮｼ ﾀﾞｲ","京都女子大学","京都女子大",49,"学  連"]
[492191,"ｷｮｳﾄﾔｯｶ ﾀﾞｲ","京都薬科大学","京都薬科大",49,"学  連"]
[492192,"ｺｳｶｼﾞｮｼ ﾀﾞｲ","光華女子大学","光華女大",49,"学  連"]
[492193,"ｼｭﾁｲﾝ ﾀﾞｲ","種智院大学","種智院大",49,"学  連"]
[492194,"ｷｮｳﾄﾀﾁﾊﾞﾅｼﾞｮｼ ﾀﾞｲ","京都橘女子大学","京都橘女子大",49,"学  連"]
[492195,"ﾄﾞｳｼｼｬ ﾀﾞｲ","同志社大学","同志社大",49,"学  連"]
[492196,"ﾄﾞｳｼｼｬｼﾞｮｼ ﾀﾞｲ","同志社女子大学","同志社女大",49,"学  連"]
[492197,"ﾉ-ﾄﾙﾀﾞﾑ ｼﾞｮｼ ﾀﾞｲ","ノ－トルダム女子大学","ノ－トルダム女",49,"学  連"]
[492198,"ﾊﾅｿﾞﾉ ﾀﾞｲ","花園大学","花園大",49,"学  連"]
[492199,"ﾌﾞｯｷｮｳ ﾀﾞｲ","佛教大学","佛教大",49,"学  連"]
[492200,"ﾘﾂﾒｲｶﾝ ﾀﾞｲ","立命館大学","立命館大",49,"学  連"]
[492201,"ﾘｭｳｺｸ ﾀﾞｲ","龍谷大学","龍谷大",49,"学  連"]
[492202,"ｵｵｻｶ ｲｶ ﾀﾞｲ","大阪医科大学","大阪医科大",49,"学  連"]
[492203,"ｵｵｻｶ ｵﾝｶﾞｸ ﾀﾞｲ","大阪音楽大学","大阪音楽大",49,"学  連"]
[492204,"ｵｵｻｶ ｶﾞｸｲﾝ ﾀﾞｲ","大阪学院大学","大阪学院大",49,"学  連"]
[492205,"ｵｵｻｶｹｲｻﾞｲ ﾀﾞｲ","大阪経済大学","大経大",49,"学  連"]
[492206,"ｵｵｻｶ ｹｲｻﾞｲﾎｳｶ ﾀﾞｲ","大阪経済法科大学","大阪経済法科大",49,"学  連"]
[492207,"ｵｵｻｶ ｹﾞｲｼﾞｭﾂ ﾀﾞｲ","大阪芸術大学","大阪芸術大",49,"学  連"]
[492208,"ｵｵｻｶ ｺｳｷﾞｮｳ ﾀﾞｲ","大阪工業大学","大阪工大",49,"学  連"]
[492209,"ｵｵｻｶ ｻﾝｷﾞｮｳ ﾀﾞｲ","大阪産業大学","大阪産業大",49,"学  連"]
[492210,"ｵｵｻｶ ｼｶ ﾀﾞｲ","大阪歯科大学","大阪歯科大",49,"学  連"]
[492211,"ｵｵｻｶ ｼｮｳｲﾝ ｼﾞｮｼ ﾀﾞｲ","大阪樟蔭女子大学","大阪樟蔭女子大",49,"学  連"]
[492212,"ｵｵｻｶ ｼｮｳｷﾞｮｳ ﾀﾞｲ","大阪商業大学","大阪商業大",49,"学  連"]
[492213,"ｵｵｻｶ ﾀｲｲｸ ﾀﾞｲ","大阪体育大学","大体大",49,"学  連"]
[492214,"ｵｵｻｶ ﾃﾞﾝｷ ﾂｳｼﾝ ﾀﾞｲ","大阪電気通信大学","大阪電気通信大",49,"学  連"]
[492215,"ｵｵｻｶ ﾔｸｶ ﾀﾞｲ","大阪薬科大学","大阪薬科大",49,"学  連"]
[492216,"ｵｵﾀﾆｼﾞｮｼ ﾀﾞｲ","大谷女子大学","大谷女大",49,"学  連"]
[492217,"ｵｳﾃﾓﾝｶﾞｸｲﾝ ﾀﾞｲ","追手門学院大学","追手門学院大",49,"学  連"]
[492218,"ｶﾝｻｲ ﾀﾞｲ","関西大学","関西大",49,"学  連"]
[492219,"ｶﾝｻｲｲｶ ﾀﾞｲ","関西医科大学","関西医科大",49,"学  連"]
[492220,"ｶﾝｻｲｶﾞｲｺｸｺﾞ ﾀﾞｲ","関西外国語大学","関西外語大",49,"学  連"]
[492221,"ｷﾝｷ ﾀﾞｲ","近畿大学","近　大",49,"学  連"]
[492222,"ｼﾃﾝﾉｳｼﾞ ｺｸｻｲﾌﾞｯｷｮｳ ﾀﾞｲ","四天王寺国際仏教大学","四天王寺国際仏",49,"学  連"]
[492223,"ｿｳｱｲ ﾀﾞｲ","相愛大学","相愛大",49,"学  連"]
[492224,"ｵｵｻｶｺｸｻｲｼﾞｮｼ ﾀﾞｲ","大阪国際女子大学","大阪国際女大",49,"学  連"]
[492225,"ﾃﾂﾞｶﾔﾏ ｶﾞｸｲﾝ ﾀﾞｲ","帝塚山学院大学","帝塚山学院大",49,"学  連"]
[492226,"ﾊﾞｲｶ ｼﾞｮｼ ﾀﾞｲ","梅花女子大学","梅花女子大",49,"学  連"]
[492227,"ﾊﾝﾅﾝ ﾀﾞｲ","阪南大学","阪南大",49,"学  連"]
[492228,"ﾓﾓﾔﾏｶﾞｸｲﾝ ﾀﾞｲ","桃山学院大学","桃山学院大",49,"学  連"]
[492229,"ｱｼﾔ ﾀﾞｲ","芦屋大学","芦屋大",49,"学  連"]
[492230,"ｴｲﾁ ﾀﾞｲ","英知大学","英知大",49,"学  連"]
[492231,"ｵｵﾃﾏｴ ｼﾞｮｼ ﾀﾞｲ","大手前女子大学","大手前女子大",49,"学  連"]
[492232,"ｶﾝｾｲｶﾞｸｲﾝ ﾀﾞｲ","関西学院大学","関西学院大",49,"学  連"]
[492233,"ｺｳｼｴﾝ ﾀﾞｲ","甲子園大学","甲子園大",49,"学  連"]
[492234,"ｺｳﾅﾝ ﾀﾞｲ","甲南大学","甲南大",49,"学  連"]
[492235,"ｺｳﾅﾝｼﾞｮｼ ﾀﾞｲ","甲南女子大学","甲南女子大",49,"学  連"]
[492236,"ｺｳﾍﾞｶｲｾｲ ｼﾞﾖｼ ｶﾞｸｲﾝ ﾀﾞｲ","神戸海星女子学院大学","神戸海星女子学",49,"学  連"]
[492237,"ｺｳﾍﾞｶﾞｸｲﾝ ﾀﾞｲ","神戸学院大学","神戸学院大",49,"学  連"]
[492238,"ｺｳﾍﾞ ｼﾞｮｶﾞｸｲﾝ ﾀﾞｲ","神戸女学院大学","神戸女学院大",49,"学  連"]
[492239,"ｺｳﾍﾞｼﾞｮｼ ﾀﾞｲ","神戸女子大学","神戸女子大",49,"学  連"]
[492240,"ｺｳﾍﾞ ｼﾞｮｼ ﾔｸｶ ﾀﾞｲ","神戸女子薬科大学","神戸女子薬科大",49,"学  連"]
[492241,"ｼｮｳｲﾝ ｼﾞｮｼ ｶﾞｸｲﾝ ﾀﾞｲ","松蔭女子学院大学","松蔭女子学院大",49,"学  連"]
[492242,"ｼﾝﾜ ｼﾞﾖｼ ﾀﾞｲ","親和女子大学","親和女子大",49,"学  連"]
[492243,"ｾｲﾜ ﾀﾞｲ","聖和大学","聖和大",49,"学  連"]
[492244,"ｿﾉﾀﾞ ｶﾞｸｴﾝ ｼﾞｮｼ ﾀﾞｲ","園田学園女子大学","園田学園女子大",49,"学  連"]
[492245,"ﾋｮｳｺﾞ ｲｶ ﾀﾞｲ","兵庫医科大学","兵庫医科大",49,"学  連"]
[492246,"ﾑｺｶﾞﾜｼﾞｮｼ ﾀﾞｲ","武庫川女子大学","武庫女大",49,"学  連"]
[492247,"ｺｳﾍﾞｺｸｻｲﾀﾞｲ","神戸国際大学","神戸国際大",49,"学  連"]
[492248,"ﾃﾂﾞｶﾔﾏ ﾀﾞｲ","帝塚山大学","帝塚山大",49,"学  連"]
[492249,"ﾃﾝﾘ ﾀﾞｲ","天理大学","天理大",49,"学  連"]
[492250,"ﾅﾗ ﾀﾞｲ","奈良大学","奈良大",49,"学  連"]
[492251,"ｺｳﾔｻﾝ ﾀﾞｲ","高野山大学","高野山大",49,"学  連"]
[492252,"ｵｶﾔﾏｼｮｳｶ ﾀﾞｲ","岡山商科大学","岡山商科大",49,"学  連"]
[492253,"ｵｶﾔﾏﾘｶ ﾀﾞｲ","岡山理科大学","岡山理科大",49,"学  連"]
[492254,"ｶﾜｻｷｲｶﾀﾞｲ","川崎医科大学","川崎医大",49,"学  連"]
[492255,"ｻｸﾖｳ ｵﾝｶﾞｸ ﾀﾞｲ","作陽音楽大学","作陽音楽大",49,"学  連"]
[492256,"ﾉｰﾄﾙﾀﾞﾑｾｲｼﾝｼﾞｮｼ ﾀﾞｲ","ノートルダム清心女子大学","ﾉｰﾄﾙﾀﾞﾑ 清心女",49,"学  連"]
[492257,"ﾐﾏｻｶｼﾞｮｼ ﾀﾞｲ","美作女子大学","美作女大",49,"学  連"]
[492258,"ｴﾘｻﾞﾍﾞﾄ ｵﾝｶﾞｸ ﾀﾞｲ","エリザベト音楽大学","エリザベト音楽",49,"学  連"]
[492259,"ﾋﾛｼﾏｹｲｻﾞｲ ﾀﾞｲ","広島経済大学","広島経済大",49,"学  連"]
[492260,"ﾋﾛｼﾏｺｳｷﾞｮｳ ﾀﾞｲ","広島工業大学","広島工大",49,"学  連"]
[492261,"ﾋﾛｼﾏｼｭｳﾄﾞｳ ﾀﾞｲ","広島修道大学","広島修道大",49,"学  連"]
[492262,"ﾋﾛｼﾏ ｼﾞｮｶﾞｸｲﾝ ﾀﾞｲ","広島女学院大学","広島女学院大",49,"学  連"]
[492263,"ﾋﾛｼﾏﾃﾞﾝｷﾀﾞｲ","広島電機大学","広島電機大",49,"学  連"]
[492264,"ﾋﾛｼﾏ ﾌﾞﾝｷｮｳ ｼﾞｮｼ ﾀﾞｲ","広島文教女子大学","広島文教女子大",49,"学  連"]
[492265,"ﾔｽﾀﾞ ｼﾞｮﾄﾆ ﾀﾞｲ","安田女子大学","安田女子大",49,"学  連"]
[492266,"ﾄｸﾔﾏﾀﾞｲ","徳山大学","徳山大",49,"学  連"]
[492267,"ﾄｳｱ ﾀﾞｲ","東亜大学","東亜大",49,"学  連"]
[492268,"ﾊﾞｲｺｳ ｼﾞｮｶﾞｸｲﾝ ﾀﾞｲ","梅光女学院大学","梅光女学院大",49,"学  連"]
[492269,"ｼｺｸｼﾞｮｼ ﾀﾞｲ","四国女子大学","四国女大",49,"学  連"]
[492270,"ﾄｸｼﾏ ﾌﾞﾝﾘ ﾀﾞｲ","徳島文理大学","徳島文理大",49,"学  連"]
[492271,"ｼｺｸｶﾞｸｲﾝ ﾀﾞｲ","四国学院大学","四国学院大",49,"学  連"]
[492272,"ﾏﾂﾔﾏ ﾀﾞｲ","松山大学","松山大",49,"学  連"]
[492273,"ｷｭｳｼｭｳｷｮｳﾘﾂ ﾀﾞｲ","九州共立大学","九州共立大",49,"学  連"]
[492274,"ｷｭｳｼｭｳｻﾝｷﾞｮｳ ﾀﾞｲ","九州産業大学","九州産業大",49,"学  連"]
[492275,"ｷｮｳｼｭｳ ｼﾞﾖ ｼ ﾀﾞｲ","九州女子大学","九州女子大",49,"学  連"]
[492276,"ｸﾙﾒ ﾀﾞｲ","久留米大学","久留米大",49,"学  連"]
[492277,"ｾｲﾅﾝｶﾞｸｲﾝ ﾀﾞｲ","西南学院大学","西南学院大",49,"学  連"]
[492278,"ﾀﾞｲｲﾁｹｲｻﾞｲﾀﾞｲ","第一経済大学","第一経済大学",49,"学  連"]
[492279,"ﾀﾞｲｲﾁﾔｯｶ ﾀﾞｲ","第一薬科大学","第一薬科大",49,"学  連"]
[492280,"ﾄｳﾜ ﾀﾞｲ","東和大学","東和大",49,"学  連"]
[492281,"ﾅｶﾑﾗ ｶﾞｸｴﾝ ﾀﾞｲ","中村学園大学","中村学園大",49,"学  連"]
[492282,"ﾆｼﾆﾎﾝ ｺｳｷﾞｮｳ ﾀﾞｲ","西日本工業大学","西日本工大",49,"学  連"]
[492283,"ﾌｸｵｶ ﾀﾞｲ","福岡大学","福岡大",49,"学  連"]
[492284,"ﾀﾞｲｷﾞｮｳﾀﾞｲ","福岡工業大学","福岡工業大学",49,"学  連"]
[492285,"ﾌｸｵｶｼｶ ﾀﾞｲ","福岡歯科大学","福岡歯大",49,"学  連"]
[492286,"ｷｭｳｼｭｳｺｸｻｲﾀﾞｲ","九州国際大学","九州国際大",49,"学  連"]
[492287,"ﾆｼｷｭｳｼｭｳ ﾀﾞｲ","西九州大学","西九州大",49,"学  連"]
[492288,"ﾅｶﾞｻｷ ｿｳｺﾞｳｶｶﾞｸ ﾀﾞｲ","長崎総合科学大学","長崎総合科学大",49,"学  連"]
[492289,"ｷｭｳｼｭｳﾄｳｶｲ ﾀﾞｲ","九州東海大学","九州東海大",49,"学  連"]
[492290,"ｸﾏﾓﾄ ｺｳｷﾞｮｳ ﾀﾞｲ","熊本工業大学","熊本工大",49,"学  連"]
[492291,"ｸﾏﾓﾄ ｼｮｳｶ ﾀﾞｲ","熊本商科大学","熊本商大",49,"学  連"]
[492292,"ﾆﾎﾝﾌﾞﾝﾘ ﾀﾞｲ","日本文理大学","日本文理大",49,"学  連"]
[492293,"ﾍﾞｯﾌﾟﾀﾞｲ","別府大学","別府大学",49,"学  連"]
[492294,"ﾐﾅﾐｷｭｳｼｭｳ ﾀﾞｲ","南九州大学","南九州大",49,"学  連"]
[492295,"ｶｺﾞｼﾏｹｲｻﾞｲ ﾀﾞｲ","鹿児島経済大学","鹿児島経済大",49,"学  連"]
[492296,"ﾀﾞｲｲﾁｺｳｷﾞｮｳ ﾀﾞｲ","第一工業大学","第一工大",49,"学  連"]
[492297,"ｵｷﾅﾜﾀﾞｲ","沖縄大学","沖縄大学",49,"学  連"]
[492298,"ｵｷﾅﾜｺｸｻｲ ﾀﾞｲ","沖縄国際大学","沖縄国際大",49,"学  連"]
[492299,"ｶﾅｶﾞﾜ ｺｳｶ ﾀﾞｲ","神奈川工科大学","神奈川工科大",49,"学  連"]
[492300,"ﾎｸﾘｸ ﾀﾞｲ","北陸大学","北陸大",49,"学  連"]
[492301,"ｱｲﾁｼｭｸﾄｸ ﾀﾞｲ","愛知淑徳大学","愛知淑徳大",49,"学  連"]
[492302,"ｾﾂﾅﾝ ﾀﾞｲ","摂南大学","摂南大",49,"学  連"]
[492303,"ﾌｸﾔﾏ ﾀﾞｲ","福山大学","福山大",49,"学  連"]
[492304,"ｼｮｳｹｲ ﾀﾞｲ","尚絅大学","尚絅大",49,"学  連"]
[492305,"ｶﾝﾄｳｶﾞｸｴﾝ ﾀﾞｲ","関東学園大学","関東学園大",49,"学  連"]
[492306,"ｻｲﾀﾏ ｺｳｷﾞﾖｳ ﾀﾞｲ","埼玉工業大学","埼玉工大",49,"学  連"]
[492307,"ﾅｺﾞﾔ ｵﾝｶﾞｸ ﾀﾞｲ","名古屋音楽大学","名古屋音楽大",49,"学  連"]
[492308,"ｸﾙﾒ ｺｳｷﾞｮｳ ﾀﾞｲ","久留米工業大学","久留米工大",49,"学  連"]
[492309,"ﾎｯｶｲｶﾞｸｴﾝ ｷﾀﾐ ﾀﾞｲ","北海学園北見大学","北海学園北見大",49,"学  連"]
[492310,"ﾆｲｶﾞﾀ ﾔｸｶ ﾀﾞｲ","新潟薬科大学","新潟薬科大",49,"学  連"]
[492311,"ﾎｯｶｲﾄﾞｳ ﾄｳｶｲ ﾀﾞｲ","北海道東海大学","北海道東海大",49,"学  連"]
[492312,"ﾄﾞｳﾄ ﾀﾞｲ","道都大学","道都大",49,"学  連"]
[492313,"ﾆﾎﾝ ﾌﾞﾝｶ ﾀﾞｲ","日本文化大学","日本文化大",49,"学  連"]
[492314,"ｻﾝｷﾞｮｳｲｶﾀﾞｲ","産業医科大学","産業医科大学",49,"学  連"]
[492315,"ｻﾝｷﾞｮｳ ﾉｳﾘﾂ ﾀﾞｲ","産業能率大学","産業能率大",49,"学  連"]
[492316,"ﾅｺﾞﾔ ｹｲｻﾞｲﾀﾞｲ","名古屋経済大学","名古屋経済大",49,"学  連"]
[492317,"ｷｮｳﾄ ｾｲｶ ﾀﾞｲ","京都精華大学","京都精華大",49,"学  連"]
[492318,"ｶｺﾞｼﾏｼﾞｮｼﾀﾞｲ","鹿児島女子大学","鹿児島女子大",49,"学  連"]
[492319,"ｼｭｳｼﾞｯ ｼﾞｮｼ ﾀﾞｲ","就実女子大学","就実女子大",49,"学  連"]
[492320,"ﾄｺﾊｶﾞｸｴﾝ ﾀﾞｲ","常葉学園大学","常葉学園大",49,"学  連"]
[492321,"ﾊﾁﾉﾍ ﾀﾞｲ","八戸大学","八戸大",49,"学  連"]
[492322,"ﾓﾘｵｶ ﾀﾞｲ","盛岡大学","盛岡大",49,"学  連"]
[492323,"ﾄｳｶｲ ｼﾞﾖｼﾀﾞｲ","東海女子大学","東海女子大",49,"学  連"]
[492324,"ﾄﾖﾀ ｺｳｷﾞｮｳ ﾀﾞｲ","豊田工業大学","豊田工大",49,"学  連"]
[492325,"ｶｯｽｲ ｼﾞﾖｼ ﾀﾞｲ","活水女子大学","活水女子大",49,"学  連"]
[492326,"ｺｸｻｲ ﾀﾞｲ","国際大学","国際大",49,"学  連"]
[492327,"ﾏﾂｻﾞｶ ﾀﾞｲ","松阪大学","松阪大",49,"学  連"]
[492328,"ﾄｷﾜ ﾀﾞｲ","常磐大学","常磐大",49,"学  連"]
[492329,"ﾒｲｼﾞ ｼﾝｷｭｳﾀﾞｲ","明治鍼灸大学","明治鍼灸大",49,"学  連"]
[492330,"ｺｸｻｲ ﾌﾞﾄﾞｳ ﾀﾞｲ","国際武道大学","国際武道大",49,"学  連"]
[492331,"ｼｮｳﾜ ｵﾝｶﾞｸ ﾀﾞｲ","昭和音楽大学","昭和音楽大",49,"学  連"]
[492332,"ﾅﾗ ｻﾝｷﾞｮｳ ﾀﾞｲ","奈良産業大学","奈良産業大",49,"学  連"]
[492333,"ﾊｸｵｳﾀﾞｲ","白鴎大学","白鴎大学",49,"学  連"]
[492334,"ﾄｳｷｮｳｺｳｶ ﾀﾞｲ","東京工科大学","東京工科大",49,"学  連"]
[492335,"ﾆﾎﾝｾｷｼﾞｭｳｼﾞｶﾝｺﾞ ﾀﾞｲ","日本赤十字看護大学","日本赤十字大",49,"学  連"]
[492336,"ｲﾜｷﾒｲｾｲ ﾀﾞｲ","いわき明星大学","いわき明星大学",49,"学  連"]
[492337,"ｽﾙｶﾞﾀﾞｲ ﾀﾞｲ","駿河台大学","駿河台大",49,"学  連"]
[492338,"ｶﾝﾀﾞｶﾞｲｺﾞ ﾀﾞｲ","神田外語大学","神田外語大",49,"学  連"]
[492339,"ﾃｲｷｮｳｷﾞｼﾞｭﾂｶｶﾞｸﾀﾞｲ","帝京技術科学大学","帝京技術科学大",49,"学  連"]
[492340,"ｶﾅｻﾞﾜｼﾞｮｼﾀﾞｲ","金沢女子大学","金沢女子大",49,"学  連"]
[492341,"ﾀｶﾗｽﾞｶｿﾞｳｹｲｹﾞｲｼﾞｭﾂ ﾀﾞｲ","宝塚造形芸術大学","宝塚造形芸術大",49,"学  連"]
[492342,"ﾋﾒｼﾞﾄﾞｯｷｮｳﾀﾞｲ","姫路獨協大学","姫路獨協大",49,"学  連"]
[492343,"ﾐﾔｻﾞｷ ｻﾝｷﾞｮｳ ｹｲｴｲ ﾀﾞｲ","宮崎産業経営大学","宮崎産業経営大",49,"学  連"]
[492344,"ｾｲｶﾞｸｲﾝﾀﾞｲ","聖学院大学","聖学院大",49,"学  連"]
[492345,"ﾁﾊﾞｹｲｻﾞｲﾀﾞｲ","千葉経済大学","千葉経済大",49,"学  連"]
[492346,"ﾔﾁﾖｺｸｻｲ ﾀﾞｲ","八千代国際大学","八千代国際大",49,"学  連"]
[492347,"ｶﾜﾑﾗｶﾞｸｴﾝｼﾞｮｼﾀﾞｲ","川村学園女子大学","川村学園女子大",49,"学  連"]
[492348,"ﾄｳｷｮｳｼﾞｮｳﾎｳ ﾀﾞｲ","東京情報大学","東京情報大学",49,"学  連"]
[492349,"ｹｲｾﾝｼﾞｮｶﾞｸｴﾝ ﾀﾞｲ","恵泉女学園大学","恵泉女学園大",49,"学  連"]
[492350,"ﾄｳｲﾝｶﾞｸｴﾝﾖｺﾊﾏ ﾀﾞｲ","桐陰学園横浜大学","桐陰学園横浜大",49,"学  連"]
[492351,"ﾆｲｶﾞﾀｻﾝｷﾞｮｳﾀﾞｲ","新潟産業大学","新潟産業大学",49,"学  連"]
[492352,"ﾊﾏﾏﾂ ﾀﾞｲ","浜松大学","浜松大",49,"学  連"]
[492353,"ﾅｺﾞﾔｶﾞｲｺｸｺﾞ ﾀﾞｲ","名古屋外国語大学","名古屋外国語大",49,"学  連"]
[492354,"ﾖｯｶｲﾁﾀﾞｲ","四日市大学","四日市大",49,"学  連"]
[492355,"ｵｵｻｶｺｸｻｲ ﾀﾞｲ","大阪国際大学","大阪国際大",49,"学  連"]
[492356,"ﾘｭｳﾂｳｶｶﾞｸﾀﾞｲ","流通科学大学","流通科学大",49,"学  連"]
[492357,"ｾｲ ｶﾀﾘﾅ ｼﾞｮｼﾀﾞｲ","聖カタリナ女子大学","聖カタリナ女子",49,"学  連"]
[492358,"ﾂｸｼｼﾞｮｶﾞｸｴﾝ ﾀﾞｲ","築紫女学園大学","築紫女学園大",49,"学  連"]
[492359,"ﾎｯｶｲﾄﾞｳｼﾞｮｳﾎｳ ﾀﾞｲ","北海道情報大学","北海道情報大",49,"学  連"]
[492360,"ｲｼﾉﾏｷｾﾝｼｭｳﾀﾞｲ","石巻専修大学","石巻専修大",49,"学  連"]
[492361,"ｻｸｼﾝｶﾞｸｲﾝ ﾀﾞｲ","作新学院大学","作新学院大",49,"学  連"]
[492362,"ﾀﾏ ﾀﾞｲ","多摩大学","多摩大",49,"学  連"]
[492363,"ﾄｳﾖｳｴｲﾜｼﾞｮｶﾞｸｲﾝ ﾀﾞｲ","東洋英和女学院大学","東洋英和女学院",49,"学  連"]
[492364,"ﾀｶｵｶﾎｳｶ ﾀﾞｲ","高岡法科大学","高岡法科大",49,"学  連"]
[492365,"ｺｳﾍﾞｹﾞｲｼﾞｭﾂｺｳｶ ﾀﾞｲ","神戸芸術工科大学","神戸芸術工科大",49,"学  連"]
[492400,"ｵｵｻｶﾆﾝｹﾞﾝｶｶﾞｸﾀﾞｲ","大阪人間科学大学","大阪人間科学大",49,"学  連"]
[493001,"ｵﾀﾙｼｮｳｶﾀﾞｲﾀﾝｷﾀﾞｲﾌﾞ","小樽商科大学短期大学部","小樽商科大短大",49,"学  連"]
[493002,"ﾄｳﾎｸﾀﾞｲｲﾘｮｳｷﾞｼﾞｭﾂﾀﾝﾀﾞｲﾌﾞ","東北大学医療技術短期大学部","東北大医療技術",49,"学  連"]
[493003,"ﾔﾏｶﾞﾀﾀﾞｲｺｳｷﾞｮｳﾀﾝｷﾀﾞｲﾌﾞ","山形大学工業短期大学部","山形大工業短大",49,"学  連"]
[493005,"ｲﾊﾞﾗｷﾞﾀﾞｲｺｳｷﾞｮｳﾀﾝｷﾀﾞｲﾌﾞ","茨城大学工業短期大学部","茨城大工業短大",49,"学  連"]
[493006,"ｸﾞﾝﾏﾀﾞｲｺｳｷﾞｮｳﾀﾝｷﾀﾞｲﾌﾞ","群馬大学工業短期大学部","群馬大工業短大",49,"学  連"]
[493007,"ｻｲﾀﾏﾀﾞｲｹｲｻﾞｲﾀﾝｷﾀﾞｲﾌ","埼玉大学経済短期大学部","埼玉大経済短大",49,"学  連"]
[493010,"ﾃﾞﾝｷﾂｳｼﾝﾀﾞｲﾀﾝｷﾀﾞｲﾌﾞ","電気通信大学短期大学部","電気通信大短大",49,"学  連"]
[493011,"ﾆｲｶﾞﾀﾀﾞｲｼｮｳｷﾞｮｳﾀﾝｷﾀﾞｲﾌﾞ","新潟大学商業短期大学部","新潟大商業短大",49,"学  連"]
[493012,"ﾄﾔﾏﾀﾞｲｹｲｴｲﾀﾝｷﾀﾞｲﾌﾞ","富山大学経営短期大学部","富山大経営短大",49,"学  連"]
[493013,"ｶﾅｻﾞﾜﾀﾞｲｲﾘｮｳｷﾞｼﾞｭﾂﾀﾝﾀﾞｲﾌﾞ","金沢大学医療技術短期大学部","金沢大医療技術",49,"学  連"]
[493014,"ｷﾞﾌﾀﾞｲｺｳｷﾞｮｳﾀﾝｷﾀﾞｲﾌﾞ","岐阜大学工業短期大学部","岐阜大工業短大",49,"学  連"]
[493015,"ｼｽﾞｵｶﾀﾞｲｺｳｷﾞｮｳﾀﾝｷﾀﾞｲﾌﾞ","静岡大学工業短期大学部","静岡大工業短大",49,"学  連"]
[493016,"ｼｽﾞｵｶﾀﾞｲﾎｳｹｲﾀﾝｷﾀﾞｲﾌﾞ","静岡大学法経短期大学部","静岡大法経短大",49,"学  連"]
[493017,"ｼｶﾞﾀﾞｲｹｲｻﾞｲﾀﾝｷﾀﾞｲﾌﾞ","滋賀大学経済短期大学部","滋賀大経済短大",49,"学  連"]
[493018,"ｷｮｳﾄｺｳｹﾞｲｾﾝｲﾀﾞｲｺｳｷﾞｮｳﾀﾝｷﾀﾞｲ","京都工芸繊維大学工業短期大部","京都工芸繊維大",49,"学  連"]
[493019,"ｵｵｻｶﾀﾞｲｲﾘｮｳｷﾞｼﾞｭﾂﾀﾝﾀﾞｲﾌﾞ","大阪大学医療技術短期大学部","大阪大医療技術",49,"学  連"]
[493020,"ﾜｶﾔﾏﾀﾞｲｹｲｻﾞｲﾀﾝｷﾀﾞｲﾌﾞ","和歌山大学経済短期大学部","和歌山大経済短",49,"学  連"]
[493021,"ﾔﾏｸﾞﾁﾀﾞｲｺｳｷﾞｮｳﾀﾝｷﾀﾞｲﾌﾞ","山口大学工業短期大学部","山口大工業短大",49,"学  連"]
[493022,"ﾄｸｼﾏﾀﾞｲｺｳｷﾞｮｳﾀﾝｷﾀﾞｲﾌﾞ","徳島大学工業短期大学部","徳島大工業短大",49,"学  連"]
[493023,"ｶｶﾞﾜﾀﾞｲｼｮｳｷﾞｮｳﾀﾝｷﾀﾞｲﾌﾞ","香川大学商業短期大学部","香川大商業短大",49,"学  連"]
[493024,"ｷｭｳｼｭｳﾀﾞｲｲﾘｮｳｷﾞｼﾞｭﾂﾀﾝﾀﾞｲﾌﾞ","九州大学医療技術短期大学部","九州大医療技術",49,"学  連"]
[493025,"ﾅｶﾞｻｷﾀﾞｲｼｮｳｶﾀﾝｷﾀﾞｲﾌﾞ","長崎大学商科短期大学部","長崎大商科短大",49,"学  連"]
[493026,"ﾘｭｳｷｭｳﾀﾞｲﾀﾝｷﾀﾞｲﾌﾞ","琉球大学短期大学部","琉球大短大部",49,"学  連"]
[493027,"ﾆｲｶﾞﾀﾀﾞｲｲﾘｮｳｷﾞｼﾞｭﾂﾀﾝﾀﾞｲﾌﾞ","新潟大学医療技術短期大学部","新潟大医療技術",49,"学  連"]
[493028,"ｼﾝｼｭｳﾀﾞｲｲﾘｮｳｷﾞｼﾞｭﾂﾀﾝﾀﾞｲﾌﾞ","信州大学医療技術短期大学部","信州大医療技術",49,"学  連"]
[493029,"ﾋﾛｻｷﾀﾞｲｲﾘｮｳｷﾞｼﾞｭﾂﾀﾝﾀﾞｲﾌﾞ","弘前大学医療技術短期大学部","弘前大医療技術",49,"学  連"]
[493030,"ｷｮｳﾄﾀﾞｲｲﾘｮｳｷﾞｼﾞｭﾂﾀﾝﾀﾞｲﾌﾞ","京都大学医療技術短期大学部","京都大医療技術",49,"学  連"]
[493031,"ﾄｯﾄﾘﾀﾞｲｲﾘｮｳｷﾞｼﾞｭﾂﾀﾝﾀﾞｲﾌﾞ","鳥取大学医療技術短期大学部","鳥取大医療技術",49,"学  連"]
[493032,"ｸﾏﾓﾄﾀﾞｲｲﾘｮｳｷﾞｼﾞｭﾂﾀﾝﾀﾞｲﾌﾞ","熊本大学医療技術短期大学部","熊本大医療技術",49,"学  連"]
[493033,"ｸﾞﾝﾏﾀﾞｲｲﾘｮｳｷﾞｼﾞｭﾂﾀﾝﾀﾞｲﾌﾞ","群馬大学医療技術短期大学部","群馬大医療技術",49,"学  連"]
[493034,"ﾅｺﾞﾔﾀﾞｲｲﾘｮｳｷﾞｼﾞｭﾂﾀﾝﾀﾞｲﾌﾞ","名古屋大学医療技術短期大学部","名古屋大医療技",49,"学  連"]
[493035,"ﾂｸﾊﾞﾀﾞｲｲﾘｮｳｷﾞｼﾞｭﾂﾀﾝﾀﾞｲﾌﾞ","筑波大学医療技術短期大学部","筑波大医療技術",49,"学  連"]
[493036,"ﾔﾏｸﾞﾁﾀﾞｲｲﾘｮｳｷﾞｼﾞｭﾂﾀﾝﾀﾞｲﾌﾞ","山口大学医療技術短期大学部","山口大医療技術",49,"学  連"]
[493037,"ﾎｯｶｲﾄﾞｳﾀﾞｲｲﾘｮｳｷﾞｼﾞｭﾂﾀﾝﾀﾞｲﾌﾞ","北海道大学医療技術短期大学部","北海道大医療技",49,"学  連"]
[493038,"ｺｳﾍﾞﾀﾞｲｲﾘｮｳｷﾞｼﾞｭﾂﾀﾝﾀﾞｲﾌﾞ","神戸大学医療技術短期大学部","神戸大医療技術",49,"学  連"]
[493039,"ﾀｶｵｶﾀﾝｷﾀﾞｲ","高岡短期大学","高岡短大",49,"学  連"]
[493040,"ﾅｶﾞｻｷﾀﾞｲｲﾘﾖｳｷﾞｼﾞｭﾂﾀﾝﾀﾞｲﾌﾞ","長崎大学医療技術短期大学部","長崎大医療技術",49,"学  連"]
[493041,"ｶｺﾞｼﾏﾀﾞｲｲﾘｮｳｷﾞｼﾞｭﾂﾀﾝｷﾀﾞｲ","鹿児島大学医療技術短期大学","鹿児島大医療技",49,"学  連"]
[493042,"ｵｶﾔﾏﾀﾞｲｲﾘｮｳｷﾞｼﾞｭﾂﾀﾝｷﾀﾞｲ","岡山大学医療技術短期大学部","岡山大医療技術",49,"学  連"]
[493043,"ﾂｸﾊﾞｷﾞｼﾞｭﾂﾀﾝｷﾀﾞｲﾌﾞ","筑波技術短期大学部","筑波技術短期大",49,"学  連"]
[493044,"ﾄｸｼﾏﾀﾞｲｲﾘｮｳｷﾞｼﾞｭﾂﾀﾝｷﾀﾞｲ","徳島大学医療技術短期大学部","徳島大医療技術",49,"学  連"]
[493045,"ﾐｴﾀﾞｲｲﾘｮｳｷﾞｼﾞｭﾂﾀﾝｷﾀﾞｲﾌﾞ","三重大学医療技術短期大学部","三重大医療技術",49,"学  連"]
[494001,"ﾅﾖﾛｼﾞｮｼﾀﾝｷﾀﾞｲ","名寄女子短期大学","名寄女子短大",49,"学  連"]
[494002,"ｲﾜﾃｹﾝﾘﾂﾓﾘｵｶﾀﾝｷﾀﾞｲ","岩手県立盛岡短期大学","岩手県立盛岡短",49,"学  連"]
[494003,"ﾐﾔｷﾞｹﾝ ﾉｳｷﾞｮｳ ﾀﾝｷﾀﾞｲ","宮城県農業短期大学","宮城農業短大",49,"学  連"]
[494004,"ｱｷﾀｹﾝﾘﾂﾉｳｷﾞｮｳﾀﾝｷﾀﾞｲ","秋田県立農業短期大学","秋田農業短大",49,"学  連"]
[494005,"ﾔﾏｶﾞﾀｹﾝﾘﾂﾖﾈｻﾞﾜｼﾞｮｼﾀﾝｷﾀﾞｲ","山形県立米沢女子短期大学","山形米沢女子短",49,"学  連"]
[494006,"ﾌｸｼﾏｹﾝﾘﾂｱｲﾂﾞﾀﾝｷﾀﾞｲ","福島県立会津短期大学","福島会津短大",49,"学  連"]
[494007,"ﾏｴﾊﾞｼｼﾘﾂｺｳｷﾞｮｳﾀﾝｷﾀﾞｲ","前橋市立工業短期大学","前橋工業短大",49,"学  連"]
[494008,"ﾄｳｷｮｳﾄﾘﾂﾀﾁｶﾜﾀﾝｷﾀﾞｲ","東京都立立川短期大学","東京立川短大",49,"学  連"]
[494009,"ﾄｳｷｮｳﾄﾘﾂｺｳｶﾀﾝｷﾀﾞｲ","東京都立工科短期大学","東京都立工科短",49,"学  連"]
[494012,"ﾄｳｷｮｳﾄﾘﾂｼｮｳｶﾀﾝｷﾀﾞｲ","東京都立商科短期大学","東京商科短大",49,"学  連"]
[494013,"ｶﾅｶﾞﾜｹﾝﾘﾂｴｲｾｲﾀﾝｷﾀﾞｲ","神奈川県立衛生短期大学","神奈川衛生短大",49,"学  連"]
[494014,"ｶﾅｶﾞﾜｹﾝﾘﾂｴｲﾖｳﾀﾝｷﾀﾞｲ","神奈川県立栄養短期大学","神奈川栄養短大",49,"学  連"]
[494015,"ｶﾅｶﾞﾜｹﾝﾘﾂｶﾞｲｺﾞﾀﾝｷﾀﾞｲ","神奈川県立外語短期大学","神奈川外語短大",49,"学  連"]
[494016,"ｹﾝﾘﾂﾆｲｶﾞﾀｼﾞｮｼﾀﾝｷﾀﾞｲ","県立新潟女子短期大学","新潟女子短大",49,"学  連"]
[494017,"ﾄﾔﾏｹﾝﾘﾂｷﾞｼﾞｭﾂﾀﾝｷﾀﾞｲ","富山県立技術短期大学","富山技術短大",49,"学  連"]
[494018,"ｲｼｶﾜｹﾝﾉｳｷﾞｮｳﾀﾝｷﾀﾞｲ","石川県農業短期大学","石川農業短大",49,"学  連"]
[494019,"ﾔﾏﾅｼｹﾝﾘﾂｼﾞｮｼﾀﾝｷﾀﾞｲ","山梨県立女子短期大学","山梨女子短大",49,"学  連"]
[494020,"ｵｵﾂｷﾀﾝｷﾀﾞｲ","大月短期大学","大月短大",49,"学  連"]
[494021,"ﾅｶﾞﾉｹﾝﾀﾝｷﾀﾞｲ","長野県短期大学","長野短大",49,"学  連"]
[494022,"ｷﾞﾌｼﾞｮｼﾀﾝｷﾀﾞｲ","岐阜市立女子短期大学","岐阜女子短大",49,"学  連"]
[494023,"ｼｽﾞｵｶｼﾞｮｼﾀﾝｷﾀﾞｲ","静岡女子短期大学","静岡女子短大",49,"学  連"]
[494024,"ｱｲﾁｹﾝﾘﾂｶﾝｺﾞﾀﾝｷﾀﾞｲ","愛知県立看護短期大学","愛知看護短大",49,"学  連"]
[494025,"ｱｲﾁｹﾝﾘﾂｼﾞｮｼﾀﾝｷﾀﾞｲ","愛知県立女子短期大学","愛知女子短大",49,"学  連"]
[494026,"ﾅｺﾞﾔｼﾘﾂﾎｲｸﾀﾝｷﾀﾞｲ","名古屋市立保育短期大学","名古屋保育短大",49,"学  連"]
[494027,"ﾅｺﾞﾔｼﾘﾂｼﾞｮｼﾀﾝｷﾀﾞｲ","名古屋市立女子短期大学","名古屋女子短大",49,"学  連"]
[494028,"ﾐｴﾀﾝｷﾀﾞｲ","三重短期大学","三重短大",49,"学  連"]
[494029,"ｼｶﾞｹﾝﾘﾂﾀﾝｷﾀﾞｲ","滋賀県立短期大学","滋賀短大",49,"学  連"]
[494030,"ｷｮｳﾄﾌﾘﾂﾀﾞｲｼﾞｮｼﾀﾝｷﾀﾞｲﾌﾞ","京都府立大学女子短期大学部","京都大女子短大",49,"学  連"]
[494031,"ｷｮｳﾄｼﾘﾂｶﾝｺﾞﾀﾝｷﾀﾞｲ","京都市立看護短期大学","京都看護短大",49,"学  連"]
[494034,"ﾋﾒｼﾞﾀﾝｷﾀﾞｲ","姫路短期大学","姫路短大",49,"学  連"]
[494035,"ﾅﾗｹﾝﾘﾂﾀﾝｷﾀﾞｲ","奈良県立短期大学","奈良短大",49,"学  連"]
[494036,"ｼﾏﾈｹﾝﾘﾂｼﾏﾈｼﾞｮｼﾀﾝｷﾀﾞｲ","島根県立島根女子短期大学","島根女子短大",49,"学  連"]
[494037,"ｵｶﾔﾏｹﾝﾘﾂ ﾀﾝｷ ﾀﾞｲ","岡山県立短期大学","岡山短大",49,"学  連"]
[494038,"ｸﾗｼｷｼﾘﾂﾀﾝｷﾀﾞｲ","倉敷市立短期大学","倉敷短大",49,"学  連"]
[494039,"ｵﾉﾐﾁﾀﾝｷﾀﾞｲ","尾道短期大学","尾道短大",49,"学  連"]
[494040,"ﾋﾛｼﾏﾉｳｷﾞｮｳﾀﾝｷﾀﾞｲ","広島農業短期大学","広島農短大",49,"学  連"]
[494042,"ｺｳﾁﾀﾝｷﾀﾞｲ","高知短期大学","高知短大",49,"学  連"]
[494043,"ﾌｸｵｶﾝｼｬｶｲﾎｲｸﾀﾝｷﾀﾞｲ","福岡県社会保育短期大学","福岡社会保育短",49,"学  連"]
[494044,"ﾅｶﾞｻｷｹﾝﾘﾂｼﾞｮｼﾀﾝｷﾀﾞｲ","長崎県立女子短期大学","長崎女子短大",49,"学  連"]
[494045,"ｵｵｲﾀｹﾝﾘﾂｹﾞｲｼﾞｭﾂﾀﾝｷﾀﾞｲ","大分県立芸術短期大学","大分芸術短大",49,"学  連"]
[494046,"ｶｺﾞｼﾏｹﾝﾘﾂﾀﾝｷﾀﾞｲ","鹿児島県立短期大学","鹿児島短大",49,"学  連"]
[494047,"ﾌｸﾔﾏｼﾘﾂｼﾞｮｼﾀﾝｷﾀﾞｲ","福山市立女子短期大学","福山女子短大",49,"学  連"]
[494048,"ｻｲﾀﾏｹﾝﾘﾂｴｲｾｲﾀﾝｷﾀﾞｲ","埼玉県立衛生短期大学","埼玉衛生短大",49,"学  連"]
[494049,"ﾌｸｲｹﾝﾘﾂﾀﾝｷﾀﾞｲ","福井県立短期大学","福井短大",49,"学  連"]
[494050,"ｺｳﾁｼﾞｮｼﾀﾞｲﾎｲｸﾀﾝｷﾀﾞｲﾌﾞ","高知女子大学保育短期大学部","高知女大保育短",49,"学  連"]
[494051,"ﾐｴｹﾝﾘﾂｶﾝｺﾞﾀﾝｷﾀﾞｲ","三重県立看護短期大学","三重看護短大",49,"学  連"]
[494052,"ｵｵｻﾀﾌﾘﾂｶﾝｺﾞﾀﾝｷﾀﾞｲ","大阪府立看護短期大学","大阪看護短大",49,"学  連"]
[494053,"ﾆｲﾐｼﾞｮｼﾀﾝｷﾀﾞｲ","新見女子短期大学","新見女子短大",49,"学  連"]
[494054,"ﾁﾊﾞｹﾝﾘﾂｴｲｾｲﾀﾝｷﾀﾞｲ","千葉県立衛生短期大学","千葉衛生短大",49,"学  連"]
[494055,"ｺｳﾍﾞｼﾘﾂｶﾝｺﾞﾀﾝｷﾀﾞｲ","神戸市立看護短期大学","神戸看護短大",49,"学  連"]
[494056,"ｻｯﾎﾟﾛｲｶﾀﾞｲｴｲｾｲﾀﾝｷﾀﾞｲﾌﾞ","札幌医科大学衛生短期大学部","札幌医大衛生短",49,"学  連"]
[494057,"ﾄｳｷｮｳﾄﾘﾂ ｲﾘｮｳｷﾞｼﾞｭﾂﾀﾝｷﾀﾞｲ","東京都立医療技術短期大学","都立医療技術短",49,"学  連"]
[494058,"ｼｽﾞｵｶｹﾝﾘﾂﾀﾞｲ ﾀﾝｷﾀﾞｲﾌﾞ","静岡県立大学短期大学部","静岡県立短期大",49,"学  連"]
[494059,"ﾅｺﾞﾔｼﾘﾂﾀﾞｲ ｶﾝｺﾞﾀﾝｷﾀﾞｲﾌﾞ","名古屋市立大学看護短期大学部","名古屋市大看護",49,"学  連"]
[494060,"ｴﾋﾒｹﾝﾘﾂｲﾘｮｳｷﾞｼﾞｭﾂ ﾀﾝｷﾀﾞｲ","愛媛県立医療技術短期大学","愛媛県医療技術",49,"学  連"]
[495001,"ｱｻﾋｶﾜﾀﾞｲｼﾞｮｼﾀﾝｷﾀﾞｲﾌﾞ","旭川大学女子短期大学部","旭川大女子短大",49,"学  連"]
[495002,"ｲﾜﾐｻﾞﾜｺﾏｻﾞﾜﾀﾝｷﾀﾞｲ","岩見沢駒沢短期大学","岩見沢駒沢短大",49,"学  連"]
[495003,"ｵﾀﾙｼﾞｮｼﾀﾝｷﾀﾞｲ","小樽女子短期大学","小樽女子短期大",49,"学  連"]
[495004,"ｵﾋﾞﾋﾛ ｵｵﾀﾆ ﾀﾝｷ ﾀﾞｲ","帯広大谷短期大学","帯広大谷短期大",49,"学  連"]
[495005,"ｸｼﾛﾀﾝｷﾀﾞｲ","釧路短期大学","釧路短期大",49,"学  連"]
[495006,"ｺｳｴﾝｶﾞｸｴﾝｼﾞｮｼﾀﾝｷﾀﾞｲ","光塩学園女子短期大学","光塩学園女子短",49,"学  連"]
[495007,"ｻｯﾎﾟﾛｵｵﾀﾆﾀﾝｷﾀﾞｲ","札幌大谷短期大学","札幌大谷短期大",49,"学  連"]
[495008,"ｾｲｼｭｳﾀﾝｷﾀﾞｲ","静修短期大学","静修短期大",49,"学  連"]
[495009,"ｻｯﾎﾟﾛﾀﾞｲｼﾞｮｼﾀﾝｷ ﾀﾞｲﾌﾞ","札幌大学女子短期大学部","札幌大女子短期",49,"学  連"]
[495011,"ｾﾝｼｭｳﾀﾞｲ ﾎｯｶｲﾄﾞｳ ﾀﾝｷ ﾀﾞｲ","専修大学北海道短期大学","専修大北海道短",49,"学  連"]
[495012,"ﾃﾝｼｼﾞｮｼﾀﾝｷﾀﾞｲ","天使女子短期大学","天使女子短期大",49,"学  連"]
[495014,"ﾄﾏｺﾏｲｺﾏｻﾞﾜﾀﾝｷﾀﾞｲ","苫小牧駒沢短期大学","苫小牧駒沢短期",49,"学  連"]
[495015,"ﾊｺﾀﾞﾃｵｵﾀﾆｼﾞｮｼﾀﾝｷﾀﾞｲ","函館大谷女子短期大学","函館大谷女子短",49,"学  連"]
[495016,"ﾊｺﾀﾞﾃﾀﾝｷﾀﾞｲ","函館短期大学","函館短期大",49,"学  連"]
[495017,"ﾌｼﾞｼﾞｮｼﾀﾝｷﾀﾞｲ","藤女子短期大学","藤女子短期大",49,"学  連"]
[495018,"ﾌﾞﾝｶｼﾞｮｼﾀﾞｲﾑﾛﾗﾝﾀﾝｷﾀﾞｲ","文化女子大学室蘭短期大学","文化女子大室蘭",49,"学  連"]
[495019,"ﾎｸｾｲｶﾞｸｴﾝｼﾞｮｼﾀﾝｷﾀﾞｲ","北星学園女子短期大学","北星学園女子短",49,"学  連"]
[495020,"ﾎｯｶｲﾄﾞｳｴｲﾖｳﾀﾝｷﾀﾞｲ","北海道栄養短期大学","北海道栄養短期",49,"学  連"]
[495021,"ﾄﾞｳﾄﾀﾝｷﾀﾞｲ","道都短期大学","道都短大",49,"学  連"]
[495022,"ﾎｯｶｲﾄﾞｳｼﾞﾄﾞｳｼｬﾀﾝｷﾀﾞｲ","北海道自動車短期大学","北海道自動車短",49,"学  連"]
[495023,"ﾎｯｶｲﾄﾞｳ ｼﾞｮｼ ﾀﾝｷ ﾀﾞｲ","北海道女子短期大学","北海道女子短期",49,"学  連"]
[495024,"ﾎｯｶｲﾄﾞｳﾀｸｼｮｸﾀﾝｷﾀﾞｲ","北海道拓殖短期大学","北海道拓殖短期",49,"学  連"]
[495025,"ﾎｯｶｲﾄﾞｳﾑｻｼｼﾞｮｼﾀﾝｷﾀﾞｲ","北海道武蔵女子短期大学","北海道武蔵女子",49,"学  連"]
[495026,"ﾎｯｶｲﾄﾞｳﾌﾞﾝﾘｶﾀﾝｷﾀﾞｲ","北海道文理科短期大学","北海道文理科短",49,"学  連"]
[495027,"ｱｵﾓﾘｱｹﾉﾎｼﾀﾝｷﾀﾞｲ","青森明の星短期大学","青森明の星短期",49,"学  連"]
[495028,"ｱｵﾓﾘﾀﾝｷﾀﾞｲ","青森短期大学","青森短期大",49,"学  連"]
[495029,"ｱｵﾓﾘﾁｭｳｵｳﾀﾝｷﾀﾞｲ","青森中央短期大学","青森中央短期大",49,"学  連"]
[495030,"ｺｳｾｲｶﾞｸｲﾝﾊﾁﾉﾍﾀﾝｷﾀﾞｲ","光星学院八戸短期大学","光星学院八戸短",49,"学  連"]
[495031,"ﾄｳﾎｸｼﾞｮｼﾀﾝｷﾀﾞｲ","東北女子短期大学","東北女短期大",49,"学  連"]
[495032,"ﾋﾛｻｷｶﾞｸｲﾝﾀﾝｷﾀﾞｲ","弘前学院短期大学","弘前学院短期大",49,"学  連"]
[495033,"ｱﾚﾝﾀﾝｷﾀﾞｲ","アレン短期大学","アレン短期大",49,"学  連"]
[495034,"ｱｿｳﾄｳﾎｸﾀﾝｷﾀﾞｲ","麻生東北短期大学","麻生東北短期大",49,"学  連"]
[495035,"ｾｲｶﾂｶﾞｸｴﾝﾀﾝｷﾀﾞｲ","生活学園短期大学","生活学園短期大",49,"学  連"]
[495036,"ｷﾞｵﾝｼﾞｶﾞｸｴﾝﾀﾝｷﾀﾞｲ","祇園寺学園短期大学","祇園寺学園短期",49,"学  連"]
[495037,"ｼｮｳｹｲｼﾞｮｶﾞｸｲﾝﾀﾝｷﾀﾞｲ","尚絅女学院短期大学","尚絅女学院短期",49,"学  連"]
[495038,"ｾｲﾜｶﾞｸｴﾝﾀﾝｷﾀﾞｲ","聖和学園短期大学","聖和学園短期大",49,"学  連"]
[495039,"ｾﾝﾀﾞｲｼﾗﾕﾘﾀﾝｷﾀﾞｲ","仙台白百合短期大学","仙台白百合短期",49,"学  連"]
[495040,"ﾐｼﾏｶﾞｸｴﾝｼﾞｮｼﾀﾝｷﾀﾞｲ","三島学園女子短期大学","三島学園女子短",49,"学  連"]
[495041,"ﾐﾔｷﾞｶﾞｸｲﾝｼﾞｮｼﾀﾝｷﾀﾞｲ","宮城学院女子短期大学","宮城学院女子短",49,"学  連"]
[495042,"ｱｷﾀﾀﾝｷﾀﾞｲ","秋田短期大学","秋田短期大",49,"学  連"]
[495043,"ｾｲﾚｲｼﾞｮｼﾀﾝｷﾀﾞｲ","聖霊女子短期大学","聖霊女子短期大",49,"学  連"]
[495044,"ﾐｿﾉｶﾞｸｴﾝﾀﾝｷﾀﾞｲ","聖園学園短期大学","聖園学園短期大",49,"学  連"]
[495045,"ｻｶﾀﾀﾝｷﾀﾞｲ","酒田短期大学","酒田短期大",49,"学  連"]
[495046,"ﾔﾏｶﾞﾀ ｼﾞｮｼ ﾀﾝｷﾀﾞｲ","山形女子短期大学","山形女子短期大",49,"学  連"]
[495047,"ｲﾜｷﾀﾝｷﾀﾞｲ","いわき短期大学","いわき短期大",49,"学  連"]
[495048,"ｺｵﾘﾔﾏ ｼﾞｮｼﾀﾞｲ ﾀﾝｷﾀﾞｲﾌﾞ","郡山女子大学短期大学部","郡山女大短期大",49,"学  連"]
[495049,"ｻｸﾗﾉｾｲﾎﾞﾀﾝｷﾀﾞｲ","桜の聖母短期大学","桜の聖母短期大",49,"学  連"]
[495050,"ﾌｸｼﾏｼﾞｮｼﾀﾝｷﾀﾞｲ","福島女子短期大学","福島女子短期大",49,"学  連"]
[495051,"ｲﾊﾞﾗｷﾞｷﾘｽﾄｷｮｳﾀﾝｷﾀﾞｲ","茨城キリスト教短期大学","茨城キリスト教",49,"学  連"]
[495052,"ｲﾊﾞﾗｷﾞｼﾞｮｼﾀﾝｷﾀﾞｲ","茨城女子短期大学","茨城女子短期大",49,"学  連"]
[495053,"ﾂﾁｳﾗﾀﾝｷﾀﾞｲ","土浦短期大学","土浦短期大",49,"学  連"]
[495054,"ﾄｷﾜｶﾞｸｴﾝﾀﾝｷﾀﾞｲ","常磐学園短期大学","常磐学園短期大",49,"学  連"]
[495055,"ﾐﾄﾀﾝｷﾀﾞｲ","水戸短期大学","水戸短期大",49,"学  連"]
[495056,"ｳﾂﾉﾐﾔﾀﾝｷﾀﾞｲ","宇都宮短期大学","宇都宮短期大",49,"学  連"]
[495057,"ｺｸｶﾞｸｲﾝﾀﾞｲﾄﾁｷﾞﾀﾝｷﾀﾞｲ","国学院大学栃木短期大学","国学院大栃木短",49,"学  連"]
[495058,"ｻｸｼﾝｶﾞｸｲﾝｼﾞｮｼﾀﾝｷﾀﾞｲ","作新学院女子短期大学","作新学院女子短",49,"学  連"]
[495059,"ﾊｸｵｳｼﾞｮｼﾀﾝｷﾀﾞｲ","白鴎女子短期大学","白鴎女子短期大",49,"学  連"]
[495060,"ｶﾝﾄｳﾀﾝｷﾀﾞｲ","関東短期大学","関東短期大",49,"学  連"]
[495061,"ｷﾘｶﾞｵｶﾀﾝｷﾀﾞｲ","桐丘短期大学","桐丘短期大",49,"学  連"]
[495062,"ｸﾞﾝﾏｼﾞｮｼﾀﾝｷﾀﾞｲ","群馬女子短期大学","群馬女子短期大",49,"学  連"]
[495063,"ﾒｲﾜｼﾞｮｼﾀﾝｷ ﾀﾞｲ","明和女子短期大学","明和女子短期大",49,"学  連"]
[495064,"ｱｹﾉﾎｼｼﾞｮｼﾀﾝｷﾀﾞｲ","明の星女子短期大学","明の星女子短期",49,"学  連"]
[495065,"ｼﾞｭｳﾓﾝｼﾞｶﾞｸｴﾝｼﾞｮｼﾀﾝｷﾀﾞｲ","十文字学園女子短期大学","十文字学園女子",49,"学  連"]
[495066,"ｼﾞｮｼｾｲｶﾞｸｲﾝﾀﾝｷﾀﾞｲ","女子聖学院短期大学","女子聖学院短期",49,"学  連"]
[495067,"ﾘｯｼｮｳﾀﾞｲﾀﾝｷﾀﾞｲﾌﾞ","立正大学短期大学部","立正大短大部",49,"学  連"]
[495068,"ｼｮｳﾜｶﾞｸｲﾝﾀﾝｷﾀﾞｲ","昭和学院短期大学","昭和学院短期大",49,"学  連"]
[495069,"ｻﾝｲｸｶﾞｸｲﾝﾀﾝｷﾀﾞｲ","三育学院短期大学","三育学院短期大",49,"学  連"]
[495070,"ｾｲﾄｸｶﾞｸｴﾝﾀﾝｷﾀﾞｲ","聖徳学園短期大学","聖徳学園短期大",49,"学  連"]
[495071,"ｾｲﾜｼﾞｮｼﾀﾝｷﾀﾞｲ","清和女子短期大学","清和女子短期大",49,"学  連"]
[495072,"ﾁﾊﾞｹｲｱｲﾀﾝｷﾀﾞｲ","千葉敬愛短期大学","千葉敬愛短期大",49,"学  連"]
[495073,"ﾁﾊﾞ ｹｲｻﾞｲ ﾀﾝｷﾀﾞｲ","千葉経済短期大学","千葉経済短期大",49,"学  連"]
[495074,"ﾁﾊﾞﾀﾝｷﾀﾞｲ","千葉短期大学","千葉短期大",49,"学  連"]
[495075,"ﾁﾊﾞﾒｲﾄｸﾀﾝｷﾀﾞｲ","千葉明徳短期大学","千葉明徳短期大",49,"学  連"]
[495076,"ﾆﾎﾝｷﾘｽﾄｷｮｳﾀﾝｷﾀﾞｲ","日本基督教短期大学","日本基督教短期",49,"学  連"]
[495077,"ﾜﾖｳｼﾞｮｼﾀﾝｷﾀﾞｲ","和洋女子短期大学","和洋女子短期大",49,"学  連"]
[495078,"ｱｲｺｸｶﾞｸｴﾝﾀﾝｷﾀﾞｲ","愛国学園短期大学","愛国学園短期大",49,"学  連"]
[495079,"ｱｵﾊﾞｶﾞｸｴﾝﾀﾝｷﾀﾞｲ","青葉学園短期大学","青葉学園短期大",49,"学  連"]
[495080,"ｱｵﾔﾏｶﾞｸｲﾝｼﾞｮｼﾀﾝｷﾀﾞｲ","青山学院女子短期大学","青山学院女子短",49,"学  連"]
[495081,"ｱﾄﾐｶﾞｸｴﾝﾀﾝｷﾀﾞｲ","跡見学園短期大学","跡見学園短期大",49,"学  連"]
[495082,"ｲｽﾞﾐﾀﾝｷﾀﾞｲ","和泉短期大学","和泉短期大",49,"学  連"]
[495083,"ｳｴﾉｶﾞｸｴﾝﾀﾞｲﾀﾝｷﾀﾞｲﾌﾞ","上野学園大学短期大学部","上野学園大短大",49,"学  連"]
[495084,"ｵｵﾂﾏｼﾞｮｼﾀﾞｲﾀﾝｷﾀﾞｲﾌﾞ","大妻女子大学短期大学部","大妻女子大短期",49,"学  連"]
[495085,"ｵｳﾋﾞﾘﾝﾀﾝｷﾀﾞｲ","桜美林短期大学","桜美林短期大",49,"学  連"]
[495086,"ｶﾞｸｼｭｳｲﾝｼﾞｮｼﾀﾝｷﾀﾞｲ","学習院女子短期大学","学習院女子短期",49,"学  連"]
[495087,"ｶﾜﾑﾗﾀﾝｷﾀﾞｲ","川村短期大学","川村短期大",49,"学  連"]
[495089,"ｷｮｳﾘﾂｼﾞｮｼﾀﾝｷﾀﾞｲ","共立女子短期大学","共立女子短期大",49,"学  連"]
[495091,"ｹｲｾﾝｼﾞｮｶﾞｸｲﾝﾀﾝｷﾀﾞｲ","恵泉女学園短期大学","恵泉女学園短期",49,"学  連"]
[495092,"ｺｳｷﾞｮｸｼｬﾀﾝｷﾀﾞｲ","攻玉社短期大学","攻玉社短期大",49,"学  連"]
[495093,"ｺｸｻｲﾀﾝｷﾀﾞｲ","国際短期大学","国際短期大",49,"学  連"]
[495094,"ｺｸｼｶﾝﾀﾝｷﾀﾞｲ","国士館短期大学","国士館短期大",49,"学  連"]
[495095,"ｺﾏｻﾞﾜｼﾞｮｼﾀﾝｷﾀﾞｲ","駒沢女子短期大学","駒沢女子短期大",49,"学  連"]
[495096,"ｺﾏｻﾞﾜﾀﾝｷﾀﾞｲ","駒沢短期大学","駒沢短期大",49,"学  連"]
[495097,"ｻﾝｷﾞｮｳﾉｳﾘﾂﾀﾝｷﾀﾞｲ","産業能率短期大学","産業能率短期大",49,"学  連"]
[495098,"ｼﾞｯｾﾝｼﾞｮｼﾀﾝｷﾀﾞｲ","実践女子短期大学","実践女子短期大",49,"学  連"]
[495100,"ｼｭｸﾄｸﾀﾝｷﾀﾞｲ","淑徳短期大学","淑徳短期大",49,"学  連"]
[495101,"ｼｮｳﾜｼﾞｮｼﾀﾞｲﾀﾝｷﾀﾞｲﾌﾞ","昭和女子大学短期大学部","昭和女子大短大",49,"学  連"]
[495102,"ｼﾞｮｼｴｲﾖｳﾀﾝｷﾀﾞｲ","女子栄養短期大学","女子栄養短期大",49,"学  連"]
[495103,"ｼﾞｮｼﾋﾞｼﾞｭﾂﾀﾝｷﾀﾞｲ","女子美術短期大学","女子美術短期大",49,"学  連"]
[495104,"ｼﾗｳﾒｶﾞｸｴﾝﾀﾝｷﾀﾞｲ","白梅学園短期大学","白梅学園短期大",49,"学  連"]
[495105,"ｽｷﾞﾉｼﾞｮｼﾀﾞｲﾀﾝｷﾀﾞｲﾌﾞ","杉野女子大学短期大学部","杉野女子大短大",49,"学  連"]
[495106,"ｾｲｼﾞｮｳﾀﾝｷﾀﾞｲ","成城短期大学","成城短期大",49,"学  連"]
[495107,"ｾｲﾄｸｴｲﾖｳﾀﾝｷﾀﾞｲ","聖徳栄養短期大学","聖徳栄養短期大",49,"学  連"]
[495108,"ｾｲﾋﾞｶﾞｸｴﾝﾀﾝｷﾀﾞｲ","星美学園短期大学","星美学園短期大",49,"学  連"]
[495109,"ｾｲﾎﾞｼﾞｮｼﾀﾝｷﾀﾞｲ","聖母女子短期大学","聖母女子短期大",49,"学  連"]
[495110,"ﾀｸｼｮｸﾀﾝｷﾀﾞｲ","拓殖短期大学","拓殖短期大",49,"学  連"]
[495111,"ﾀﾅｶﾁﾖｶﾞｸｴﾝﾀﾝｷﾀﾞｲ","田中千代学園短期大学","田中千代学園短",49,"学  連"]
[495112,"ﾀﾏｶﾞﾜｶﾞｸｴﾝｼﾞｮｼﾀﾝｷﾀﾞｲ","玉川学園女子短期大学","玉川学園女子短",49,"学  連"]
[495113,"ﾁｭｳｵｳｼｮｳｶﾀﾝｷﾀﾞｲ","中央商科短期大学","中央商科短期大",49,"学  連"]
[495114,"ﾂﾙｶﾜｼﾞｮｼﾀﾝｷﾀﾞｲ","鶴川女子短期大学","鶴川女子短期大",49,"学  連"]
[495115,"ﾃｲｷｮｳｼﾞｮｼﾀﾝｷﾀﾞｲ","帝京女子短期大学","帝京女子短期大",49,"学  連"]
[495116,"ﾃｲｷｮｳﾀﾝｷﾀﾞｲ","帝京短期大学","帝京短期大",49,"学  連"]
[495117,"ﾄｲﾀｼﾞｮｼﾀﾝｷﾀﾞｲ","戸板女子短期大学","戸板女子短期大",49,"学  連"]
[495118,"ﾄｳｶｲﾀﾞｲﾀﾝｷﾀﾞｲﾌﾞ","東海大学短期大学部","東海大学短大部",49,"学  連"]
[495119,"ﾄｳｷｮｳｶｾｲｶﾞｸｲﾝﾀﾝｷﾀﾞｲ","東京家政学院短期大学","東京家政学院短",49,"学  連"]
[495120,"ﾄｳｷｮｳｶｾｲﾀﾞｲﾀﾝｷﾀﾞｲﾌﾞ","東京家政大学短期大学部","東京家政大学短",49,"学  連"]
[495121,"ﾄｳｷｮｳｷﾘｽﾄｷｮｳﾀﾝｷﾀﾞｲ","東京基督教短期大学","東京基督教短期",49,"学  連"]
[495122,"ﾄｳｷｮｳｹｲｻﾞｲﾀﾞｲﾀﾝｷﾀﾞｲﾌﾞ","東京経済大学短期大学部","東京経済大短大",49,"学  連"]
[495123,"ﾄｳｷｮｳｺｳﾂｳﾀﾝｷﾀﾞｲ","東京交通短期大学","東京交通短期大",49,"学  連"]
[495124,"ﾄｳｷｮｳｺｳｹﾞｲﾀﾞｲﾀﾝｷﾀﾞｲﾌﾞ","東京工芸大学短期大学部","東京工芸大短大",49,"学  連"]
[495125,"ﾄｳｷｮｳｼﾞｭﾝｼﾝｼﾞｮｼﾀﾝｷﾀﾞｲ","東京純心女子短期大学","東京純心女子短",49,"学  連"]
[495126,"ﾄｳｷｮｳｼﾞｮｶﾞｸｶﾝﾀﾝｷﾀﾞｲ","東京女学館短期大学","東京女学館短期",49,"学  連"]
[495127,"ﾄｳｷｮｳｼﾞｮｼｲｶﾀﾞｲｶﾝｺﾞﾀﾝｷﾀﾞｲ","東京女子医科大学看護短期大学","東京女医大看護",49,"学  連"]
[495128,"ﾄｳｷｮｳｼﾞｮｼﾀｲｲｸﾀﾝｷﾀﾞｲ","東京女子体育短期大学","東京女子体育短",49,"学  連"]
[495129,"ﾄｳｷｮｳｼﾞｮｼﾀﾞｲﾀﾝｷﾀﾞｲﾌﾞ","東京女子大学短期大学部","東京女子大学短",49,"学  連"]
[495130,"ﾄｳｷｮｳｾｲﾄｸﾀﾝｷﾀﾞｲ","東京成徳短期大学","東京成徳短期大",49,"学  連"]
[495131,"ﾄｳｷｮｳﾃﾞﾝｷﾀﾞｲﾀﾝｷﾀﾞｲ","東京電機大学短期大学","東京電機大短期",49,"学  連"]
[495132,"ﾄｳｷｮｳﾉｳｷﾞｮｳﾀﾞｲﾀﾝｷﾀﾞｲ","東京農業大学短期大学","東京農業大短期",49,"学  連"]
[495133,"ﾄｳｷｮｳﾌﾞﾝｶﾀﾝｷﾀﾞｲ","東京文化短期大学","東京文化短期大",49,"学  連"]
[495134,"ﾄｳｷｮｳﾘｯｼｮｳｼﾞｮｼﾀﾝｷﾀﾞｲ","東京立正女子短期大学","東京立正女子短",49,"学  連"]
[495135,"ﾄｳﾎｳｵﾝｶﾞｸﾀﾝｷﾀﾞｲ","東邦音楽短期大学","東邦音楽短期大",49,"学  連"]
[495136,"ﾄｳﾎｳｶﾞｸｴﾝﾀﾞｲﾀﾝｷﾀﾞｲﾌﾞ","桐朋学園大学短期大学部","桐朋学園大短大",49,"学  連"]
[495137,"ﾄｳﾖｳｴｲﾜｼﾞｮｶﾞｸｲﾝﾀﾝｷﾀﾞｲ","東洋英和女学院短期大学","東洋英和女学院",49,"学  連"]
[495138,"ﾄｳﾖｳｼﾞｮｼﾀﾝｷﾀﾞｲ","東洋女子短期大学","東洋女子短期大",49,"学  連"]
[495139,"ﾄｳﾖｳﾀﾞｲﾀﾝｷﾀﾞｲ","東洋大学短期大学","東洋大短期大",49,"学  連"]
[495140,"ﾄｳﾖｺｶﾞｸｴﾝｼﾞｮｼﾀﾝｷﾀﾞｲ","東横学園女子短期大学","東横学園女子短",49,"学  連"]
[495141,"ﾆﾎﾝｹｲｻﾞｲﾀﾝｷﾀﾞｲ","日本経済短期大学","日本経済短期大",49,"学  連"]
[495142,"ｶｴﾂｼﾞｮｼﾀﾝｷﾀﾞｲ","嘉悦女子短期大学","嘉悦女子短期大",49,"学  連"]
[495143,"ﾆﾎﾝｼﾞｮｼﾀｲｲｸﾀﾝｷﾀﾞｲ","日本女子体育短期大学","日本女子体育短",49,"学  連"]
[495144,"ﾆﾎﾝｾｷｼﾞｭｳｼﾞﾁｭｳｵｳｼﾞｮｼﾀﾝｷﾀﾞｲ","日本赤十字中央女子短期大学","日本赤十字中央",49,"学  連"]
[495145,"ﾆﾎﾝｾｷｼﾞｭｳｼﾞﾑｻｼﾉｼﾞｮｼﾀﾝｷﾀﾞｲ","日本赤十字武蔵野女子短期大学","日本赤十字武蔵",49,"学  連"]
[495146,"ﾆﾎﾝﾀｲｲｸﾀﾞｲｼﾞｮｼﾀﾝｷﾀﾞｲ","日本体育大学女子短期大学","日本体育大女子",49,"学  連"]
[495147,"ﾆﾎﾝﾀﾞｲﾀﾝｷﾀﾞｲﾌﾞ","日本大学短期大学部","日本大学短大部",49,"学  連"]
[495148,"ﾌｼﾞﾀﾝｷﾀﾞｲ","富士短期大学","富士短期大",49,"学  連"]
[495149,"ﾌﾞﾝｶｼﾞｮｼﾀﾞｲﾀﾝｷﾀﾞｲﾌﾞ","文化女子大学短期大学部","文化女子大短大",49,"学  連"]
[495150,"ﾌﾞﾝｷｮｳｼﾞｮｼﾀﾝｷﾀﾞｲ","文京女子短期大学","文京女子短期大",49,"学  連"]
[495151,"ﾎｳｾﾝｶﾞｸｴﾝﾀﾝｷﾀﾞｲ","宝仙学園短期大学","宝仙学園短期大",49,"学  連"]
[495152,"ﾑｻｼﾉｵﾝｶﾞｸﾀﾞｲﾀﾝｷﾀﾞｲﾌﾞ","武蔵野音楽大学短期大学部","武蔵野音楽大短",49,"学  連"]
[495153,"ﾑｻｼﾉｼﾞｮｼﾀﾞｲﾀﾝｷﾀﾞｲﾌﾞ","武蔵野女子大学短期大学部","武蔵野女子大短",49,"学  連"]
[495154,"ﾑｻｼﾉﾋﾞｼﾞｭﾂﾀﾞｲﾀﾝｷﾀﾞｲﾌﾞ","武蔵野美術大学短期大学部","武蔵野美術大短",49,"学  連"]
[495155,"ﾒｲｼﾞﾀﾞｲﾀﾝｷﾀﾞｲ","明治大学短期大学","明治大短期大",49,"学  連"]
[495156,"ﾒｼﾞﾛｶﾞｸｴﾝｼﾞｮｼﾀﾝｷﾀﾞｲ","目白学園女子短期大学","目白学園女子短",49,"学  連"]
[495157,"ﾔﾏﾜｷｶﾞｸｴﾝﾀﾝｷﾀﾞｲ","山脇学園短期大学","山脇学園短期大",49,"学  連"]
[495158,"ﾘｯｷｮｳｼﾞｮｶﾞｸｲﾝﾀﾝｷﾀﾞｲ","立教女学院短期大学","立教女学院短期",49,"学  連"]
[495159,"ﾌﾞﾝｷｮｳﾀﾞｲｼﾞｮｼﾀﾝｷﾀﾞｲﾌﾞ","文教大学女子短期大学部","文教大女子短大",49,"学  連"]
[495161,"ｵﾀﾞﾜﾗｼﾞｮｼﾀﾝｷﾀﾞｲ","小田原女子短期大学","小田原女子短期",49,"学  連"]
[495162,"ｶﾅｶﾞﾜﾀﾞｲﾀﾝｷﾀﾞｲﾌﾞ","神奈川大学短期大学部","神奈川大短期大",49,"学  連"]
[495163,"ｶﾘﾀｽｼﾞｮｼﾀﾝｷﾀﾞｲ","カリタス女子短期大学","カリタス女子短",49,"学  連"]
[495164,"ｶﾝﾄｳｶﾞｸｲﾝｼﾞｮｼﾀﾝｷﾀﾞｲ","関東学院女子短期大学","関東学院女子短",49,"学  連"]
[495165,"ｹｲﾋﾝｼﾞｮｼﾀﾞｲﾀﾝｷﾀﾞｲﾌﾞ","京浜女子大学短期大学部","京浜女子大短期",49,"学  連"]
[495166,"ｻｶﾞﾐｼﾞｮｼﾀﾞｲﾀﾝｷﾀﾞｲﾌﾞ","相模女子大学短期大学部","相模女子大短期",49,"学  連"]
[495167,"ｼｮｳﾎｸﾀﾝｷﾀﾞｲ","湘北短期大学","湘北短期大",49,"学  連"]
[495168,"ｼｮｳﾜｵﾝｶﾞｸﾀﾞｲﾀﾝｷﾀﾞｲﾌﾞ","昭和音楽大学短期大学部","昭和音楽大短期",49,"学  連"]
[495169,"ｼﾞｮｳﾁﾀﾝｷ ﾀﾞｲ","上智短期大学","上智短期大",49,"学  連"]
[495170,"ｾﾝｿﾞｸｶﾞｸｴﾝﾀﾝｷﾀﾞｲ","洗足学園短期大学","洗足学園短期大",49,"学  連"]
[495171,"ﾁｮｳﾌｶﾞｸｴﾝｼﾞｮｼﾀﾝｷﾀﾞｲ","調布学園女子短期大学","調布学園女子短",49,"学  連"]
[495172,"ﾂﾙﾐﾀﾞｲｼﾞｮｼﾀﾝｷﾀﾞｲﾌﾞ","鶴見大学女子短期大学部","鶴見大女子短大",49,"学  連"]
[495173,"ﾄｳｶｲﾀﾞｲｲﾘｮｳｷﾞｼﾞｭﾂﾀﾝｷﾀﾞｲ","東海大学医療技術短期大学","東海大医療技術",49,"学  連"]
[495174,"ﾄｷﾜﾏﾂｶﾞｸｴﾝｼﾞｮｼﾀﾝｷﾀﾞｲ","トキワ松学園女子短期大学","トキワ松学園女",49,"学  連"]
[495175,"ﾆﾎﾝｼﾞｮｼｴｲｾｲﾀﾝｷﾀﾞｲ","日本女子衛生短期大学","日本女子衛生短",49,"学  連"]
[495176,"ﾌｴﾘｽｼﾞｮｶﾞｸｲﾝﾀﾝｷﾀﾞｲ","フエリス女学院短期大学","フエリス女学院",49,"学  連"]
[495178,"ﾔﾏﾄｶﾞｸｴﾝｾｲｾｼﾘｱｼﾞｮｼﾀﾝｷﾀﾞｲ","大和学園聖セシリア女子短期大","聖セシリア女子",49,"学  連"]
[495179,"ﾖｺﾊﾏｼﾞｮｼﾀﾝｷﾀﾞｲ","横浜女子短期大学","横浜女子短期大",49,"学  連"]
[495180,"ｶﾓｷﾞｮｳｾｲﾀﾝｷﾀﾞｲ","加茂暁星短期大学","加茂暁星短期大",49,"学  連"]
[495181,"ﾅｶﾞｵｶﾀﾝｷﾀﾞｲ","長岡短期大学","長岡短期大",49,"学  連"]
[495182,"ﾆｲｶﾞﾀｾｲﾘｮｳｼﾞｮｼﾀﾝｷﾀﾞｲ","新潟青陵女子短期大学","新潟青陵女子短",49,"学  連"]
[495183,"ﾆｲｶﾞﾀﾀﾝｷﾀﾞｲ","新潟短期大学","新潟短期大",49,"学  連"]
[495184,"ﾆｲｶﾞﾀｺｳｷﾞｮｳﾀﾝｷﾀﾞｲ","新潟工業短期大学","新潟工業短期大",49,"学  連"]
[495185,"ﾄﾔﾏｼﾞｮｼﾀﾝｷﾀﾞｲ","富山女子短期大学","富山女子短期大",49,"学  連"]
[495186,"ｶﾅｻﾞﾜｼﾞｮｼﾀﾝｷﾀﾞｲ","金沢女子短期大学","金沢女子短期大",49,"学  連"]
[495187,"ﾎｸﾘｸｶﾞｸｲﾝﾀﾝｷﾀﾞｲ","北陸学院短期大学","北陸学院短期大",49,"学  連"]
[495188,"ｼﾞﾝｱｲｼﾞｮｼﾀﾝｷﾀﾞｲ","仁愛女子短期大学","仁愛女子短期大",49,"学  連"]
[495190,"ﾐﾉﾌﾞｻﾝﾀﾝｷﾀﾞｲ","身延山短期大学","身延山短期大",49,"学  連"]
[495191,"ﾔﾏﾅｼ ｴｲﾜ ﾀﾝｷﾀﾞｲ","山梨英和短期大学","山梨英和短期大",49,"学  連"]
[495192,"ﾔﾏﾅｼｶﾞｸｲﾝﾀﾝｷﾀﾞｲ","山梨学院短期大学","山梨学院短期大",49,"学  連"]
[495193,"ﾔﾏﾅｼﾃｲｷｮｳﾀﾝｷﾀﾞｲ","山梨帝京短期大学","山梨帝京短期大",49,"学  連"]
[495194,"ｲｲﾀﾞｼﾞｮｼﾀﾝｷﾀﾞｲ","飯田女子短期大学","飯田女子短期大",49,"学  連"]
[495195,"ｳｴﾀﾞｼﾞｮｼﾀﾝｷﾀﾞｲ","上田女子短期大学","上田女子短期大",49,"学  連"]
[495196,"ﾅｶﾞﾉｹｲｻﾞｲﾀﾝｷﾀﾞｲ","長野経済短期大学","長野経済短期大",49,"学  連"]
[495197,"ﾅｶﾞﾉｼﾞｮｼﾀﾝｷﾀﾞｲ","長野女子短期大学","長野女子短期大",49,"学  連"]
[495198,"ﾏﾂｼｮｳｶﾞｸｴﾝﾀﾝｷﾀﾞｲ","松商学園短期大学","松商学園短期大",49,"学  連"]
[495199,"ﾏﾂﾓﾄﾀﾝｷﾀﾞｲ","松本短期大学","松本短期大",49,"学  連"]
[495200,"ｵｵｶﾞｷｼﾞｮｼﾀﾝｷﾀﾞｲ","大垣女子短期大学","大垣女子短期大",49,"学  連"]
[495201,"ｼｶﾞﾌﾞﾝｷｮｳﾀﾝｷﾀﾞｲ","滋賀文教短期大学","滋賀文教短期大",49,"学  連"]
[495202,"ｼｮｳﾄｸｶﾞｸｴﾝｼﾞｮｼﾀﾝｷﾀﾞｲ","聖徳学園女子短期大学","聖徳学園女子短",49,"学  連"]
[495203,"ｼｮｳｹﾞﾝﾀﾝｷﾀﾞｲ","正眼短期大学","正眼短期大",49,"学  連"]
[495204,"ﾁｭｳｷｮｳﾀﾝｷﾀﾞｲ","中京短期大学","中京短期大",49,"学  連"]
[495205,"ﾁｭｳﾌﾞｼﾞｮｼﾀﾝｷﾀﾞｲ","中部女子短期大学","中部女子短期大",49,"学  連"]
[495206,"ﾄｳｶｲｼﾞｮｼﾀﾝｷﾀﾞｲ","東海女子短期大学","東海女子短期大",49,"学  連"]
[495207,"ﾅｶﾆﾎﾝｼﾞﾄﾞｳｼｬﾀﾝｷﾀﾞｲ","中日本自動車短期大学","中日本自動車短",49,"学  連"]
[495208,"ｼｽﾞｵｶｴｲﾜｼﾞｮｶﾞｸｲﾝﾀﾝｷﾀﾞｲ","静岡英和女学院短期大学","静岡英和女学院",49,"学  連"]
[495209,"ｾｲﾚｲｶﾞｸｴﾝﾊﾏﾏﾂｴｲｾｲﾀﾝｷﾀﾞｲ","聖隷学園浜松衛生短期大学","聖隷学園浜松衛",49,"学  連"]
[495210,"ﾄｺﾊｶﾞｸｴﾝﾀﾝｷﾀﾞｲ","常葉学園短期大学","常葉学園短期大",49,"学  連"]
[495211,"ﾊﾏﾏﾂﾀﾝｷﾀﾞｲ","浜松短期大学","浜松短期大",49,"学  連"]
[495212,"ﾌｼﾞﾐｶﾞｵｶｼﾞｮｼﾀﾝｷﾀﾞｲ","富士見丘女子短期大学","富士見丘女子短",49,"学  連"]
[495213,"ｱｲﾁｶﾞｸｲﾝﾀﾝｷﾀﾞｲ","愛知学院短期大学","愛知学院短期大",49,"学  連"]
[495214,"ｱｲﾁｼｭｸﾄｸﾀﾝｷﾀﾞｲ","愛知淑徳短期大学","愛知淑徳短期大",49,"学  連"]
[495216,"ｱｲﾁﾀﾞｲﾀﾝｷﾀﾞｲﾌﾞ","愛知大学短期大学部","愛知大短大部",49,"学  連"]
[495217,"ｱｲﾁｶﾞｸｾﾝｼﾞｮｼﾀﾝｷﾀﾞｲ","愛知学泉女子短期大学","愛知学泉女子短",49,"学  連"]
[495219,"ｲﾁﾉﾐﾔｼﾞｮｼﾀﾝｷﾀﾞｲ","一宮女子短期大学","一宮女子短大",49,"学  連"]
[495220,"ｲﾁﾑﾗｶﾞｸｴﾝﾀﾝｷﾀﾞｲ","市邨学園短期大学","市邨学園短期大",49,"学  連"]
[495221,"ｲﾅｻﾞﾜｼﾞｮｼﾀﾝｷﾀﾞｲ","稲沢女子短期大学","稲沢女子短期大",49,"学  連"]
[495222,"ｵｶｻﾞｷｼﾞｮｼﾀﾝｷﾀﾞｲ","岡崎女子短期大学","岡崎女子短期大",49,"学  連"]
[495223,"ｷﾝｼﾞｮｳｶﾞｸｲﾝﾀﾞｲﾀﾝｷﾀﾞｲﾌﾞ","金城学院大学短期大学部","金城学院大学短",49,"学  連"]
[495224,"ｽｷﾞﾔﾏｼﾞｮｶﾞｸｴﾝﾀﾞｲﾀﾝｷﾀﾞｲﾌﾞ","椙山女学園大学短期大学部","椙山女学園大短",49,"学  連"]
[495225,"ｱｲﾁｼﾞｮｼﾀﾝｷﾀﾞｲ","愛知女子短期大学","愛知女子短期大",49,"学  連"]
[495226,"ﾁｭｳｷｮｳｼﾞｮｼﾀﾞｲﾀﾝｷﾀﾞｲﾌﾞ","中京女子大学短期大学部","中京女子大短期",49,"学  連"]
[495227,"ﾄｳｶｲｶﾞｸｴﾝｼﾞｮｼ ﾀﾝｷﾀﾞｲ","東海学園大学","東海学園大",49,"学  連"]
[495228,"ﾄｳﾎｳｶﾞｸｴﾝﾀﾝｷﾀﾞｲ","東邦学園短期大学","東邦学園短大",49,"学  連"]
[495229,"ﾌｼﾞﾀｶﾞｸｴﾝｴｲｾｲｷﾞｼﾞｭﾂﾀﾝｷﾀﾞｲ","藤田学園衛生技術短期大学","藤田学園衛生技",49,"学  連"]
[495230,"ﾅｺﾞﾔｴｲﾖｳﾀﾝｷﾀﾞｲ","名古屋文理短期大学","名古屋文理短大",49,"学  連"]
[495232,"ﾅｺﾞﾔｼﾞﾕｳｶﾞｸｲﾝﾀﾝｷﾀﾞｲ","名古屋自由学院短期大学","名古屋自由学院",49,"学  連"]
[495233,"ﾅｺﾞﾔｼﾞｮｼｼｮｳｶﾀﾝｷﾀﾞｲ","名古屋女子商科短期大学","名古屋女子商科",49,"学  連"]
[495234,"ﾅｺﾞﾔｼﾞｮｼﾀﾞｲﾀﾝｷﾀﾞｲﾌﾞ","名古屋女子大学短期大学部","名古屋女子大短",49,"学  連"]
[495235,"ﾅｺﾞﾔｾｲﾚｲﾀﾝｷﾀﾞｲ","名古屋聖霊短期大学","名古屋聖霊短大",49,"学  連"]
[495236,"ﾅｺﾞﾔｿﾞｳｹｲｹﾞｲｼﾞｭﾂﾀﾝｷﾀﾞｲ","名古屋造形芸術短期大学","名古屋造形芸術",49,"学  連"]
[495237,"ﾅｺﾞﾔﾀﾝｷﾀﾞｲ","名古屋短期大学","名古屋短大",49,"学  連"]
[495238,"ﾅﾝｻﾞﾝﾀﾝｷﾀﾞｲ","南山短期大学","南山短大",49,"学  連"]
[495239,"ﾆﾎﾝﾌｸｼﾀﾞｲｼﾞｮｼﾀﾝｷﾀﾞｲﾌﾞ","日本福祉大学女子短期大学部","日本福祉大女短",49,"学  連"]
[495240,"ｺｳﾅﾝｼﾞｮｼﾀﾝｷﾀﾞｲ","江南女子短期大学","江南女子短大",49,"学  連"]
[495241,"ﾐｽﾞﾎﾀﾝｷﾀﾞｲ","瑞穂短期大学","瑞穂短大",49,"学  連"]
[495242,"ﾒｲｼﾞｮｳﾀﾞｲﾀﾝｷﾀﾞｲﾌﾞ","名城大学短期大学部","名城大学短大部",49,"学  連"]
[495243,"ﾘｭｳｼﾞｮｳｼﾞｮｼﾀﾝｷﾀﾞｲ","柳城女子短期大学","柳城女子短大",49,"学  連"]
[495244,"ﾅｺﾞﾔｼﾞｮｼﾌﾞﾝｶﾀﾝｷﾀﾞｲ","名古屋女子文化短期大学","名古屋女子文化",49,"学  連"]
[495245,"ｱｶﾂｷｶﾞｸｴﾝﾀﾝｷﾀﾞｲ","暁学園短期大学","暁学園短大",49,"学  連"]
[495247,"ｽｽﾞｶﾀﾝｷﾀﾞｲ","鈴鹿短期大学","鈴鹿短大",49,"学  連"]
[495248,"ﾀｶﾀﾞﾀﾝｷﾀﾞｲ","高田短期大学","高田短大",49,"学  連"]
[495249,"ﾏﾂｻﾞｶｼﾞｮｼﾀﾝｷﾀﾞｲ","松阪女子短期大学","松阪女子短大",49,"学  連"]
[495250,"ｼｶﾞｼﾞｮｼﾀﾝｷﾀﾞｲ","滋賀女子短期大学","滋賀女子短大",49,"学  連"]
[495251,"ｲｹﾉﾎﾞｳﾀﾝｷﾀﾞｲ","池坊短期大学","池坊短大",49,"学  連"]
[495252,"ｵｵﾀﾆﾀﾞｲﾀﾝｷﾀﾞｲﾌﾞ","大谷大学短期大学部","大谷大学短大部",49,"学  連"]
[495253,"ｶﾁｮｳﾀﾝｷﾀﾞｲ","華頂短期大学","華頂短大",49,"学  連"]
[495254,"ｷｮｳﾄﾌﾞﾝｷｮｳﾀﾝｷﾀﾞｲ","京都文教短期大学","京都文教短大",49,"学  連"]
[495255,"ｷｮｳﾄｶﾞｲｺｸｺﾞﾀﾝｷﾀﾞｲ","京都外国語短期大学","京都外国語短大",49,"学  連"]
[495256,"ｷｮｳﾄｼﾞｮｼﾀﾞｲﾀﾝｷﾀﾞｲﾌﾞ","京都女子大学短期大学部","京都女子大学短",49,"学  連"]
[495257,"ｷｮｳﾄｾｲｶﾀﾞｲﾀﾝｷﾀﾞｲﾌﾞ","京都精華大学短期大学部","京都精華大学短",49,"学  連"]
[495258,"ｷｮｳﾄﾀﾝｷﾀﾞｲ","京都短期大学","京都短大",49,"学  連"]
[495259,"ｺｳｶｼﾞｮｼﾀﾝｷﾀﾞｲ","光華女子短期大学","光華女子短大",49,"学  連"]
[495260,"ｻｶﾞﾋﾞｼﾞｭﾂﾀﾝｷﾀﾞｲ","嵯峨美術短期大学","嵯峨美術短大",49,"学  連"]
[495261,"ｾｲｱﾝｼﾞｮｼﾀﾝｷﾀﾞｲ","成安女子短期大学","成安女子短大",49,"学  連"]
[495262,"ｾｲｻﾞﾝﾀﾝｷﾀﾞｲ","西山短期大学","西山短大",49,"学  連"]
[495263,"ﾍｲｱﾝｼﾞｮｶﾞｸｲﾝﾀﾝｷﾀﾞｲ","平安女学院短期大学","平安女学院短大",49,"学  連"]
[495264,"ﾘｭｳｺｸﾀﾞｲﾀﾝｷﾀﾞｲﾌﾞ","龍谷大学短期大学部","龍谷大学短大部",49,"学  連"]
[495265,"ｻｶｲｼﾞｮｼﾀﾝｷﾀﾞｲ","堺女子短期大学","堺女子短大",49,"学  連"]
[495266,"ｵｵｻｶｱｵﾔﾏﾀﾝｷﾀﾞｲ","大阪青山短期大学","大阪青山短大",49,"学  連"]
[495267,"ｵｵｻｶｵﾝｶﾞｸﾀﾞｲﾀﾝｷﾀﾞｲﾌﾞ","大阪音楽大学短期大学部","大阪音楽大短大",49,"学  連"]
[495268,"ｵｵｻｶｶﾞｸｲﾝﾀﾝｷﾀﾞｲ","大阪学院短期大学","大阪学院短大",49,"学  連"]
[495269,"ｵｵｻｶｷﾘｽﾄｷｮｳﾀﾝｷﾀﾞｲ","大阪キリスト教短期大学","大阪キリスト教",49,"学  連"]
[495270,"ｵｵｻｶｸﾝｴｲｼﾞｮｼﾀﾝｷﾀﾞｲ","大阪薫英女子短期大学","大阪薫英女子短",49,"学  連"]
[495271,"ｵｵｻｶｺｳｷﾞｮｳﾀﾞｲﾀﾝｷﾀﾞｲﾌﾞ","大阪工業大学短期大学部","大阪工業大学短",49,"学  連"]
[495272,"ｵｵｻｶｻﾝｷﾞｮｳﾀﾞｲﾀﾝｷﾀﾞｲﾌﾞ","大阪産業大学短期大学部","大阪産業大学短",49,"学  連"]
[495273,"ｵｵｻｶ ｼﾞｮｳﾅﾝｼﾞｮｼ ﾀﾝｷﾀﾞｲ","大阪城南女子短期大学","大阪城南女短大",49,"学  連"]
[495274,"ｵｵｻｶｼﾞｮｶﾞｸｲﾝﾀﾝｷﾀﾞｲ","大阪女学院短期大学","大阪女学院短大",49,"学  連"]
[495275,"ｵｵｻｶｼﾞｮｼｶﾞｸｴﾝﾀﾝｷﾀﾞｲ","大阪女子学園短期大学","大阪女子学園短",49,"学  連"]
[495277,"ｵｵｻｶｼﾝｱｲｼﾞｮｶﾞｸｲﾝﾀﾝｷﾀﾞｲ","大阪信愛女学院短期大学","大阪信愛女学院",49,"学  連"]
[495278,"ｵｵｻｶｾｲｹｲｼﾞｮｼﾀﾝｷﾀﾞｲ","大阪成蹊女子短期大学","大阪成蹊女子短",49,"学  連"]
[495279,"ｵｵｻｶﾁﾖﾀﾞﾀﾝｷﾀﾞｲ","大阪千代田短期大学","大阪千代田短大",49,"学  連"]
[495280,"ｵｵｻｶﾃﾞﾝｷﾂｳｼﾝﾀﾞｲﾀﾝｷﾀﾞｲﾌﾞ","大阪電気通信大学短期大学部","大阪電通大短大",49,"学  連"]
[495281,"ｵｵﾀﾆｼﾞｮｼﾀﾝｷﾀﾞｲ","大谷女子短期大学","大谷女子短大",49,"学  連"]
[495282,"ｵｵﾃﾏｴｼﾞｮｼﾀﾝｷﾀﾞｲ","大手前女子短期大学","大手前女子短大",49,"学  連"]
[495283,"ｶﾝｻｲｶﾞｲｺｸｺﾞﾀﾝｷﾀﾞｲ","関西外国語短期大学","関西外国語短大",49,"学  連"]
[495284,"ｶﾝｻｲｼﾞｮｼﾋﾞｼﾞｭﾂﾀﾝｷﾀﾞｲ","関西女子美術短期大学","関西女子美術短",49,"学  連"]
[495285,"ｶﾝｻｲｼﾞｮｼﾀﾝｷﾀﾞｲ","関西女子短期大学","関西女子短大",49,"学  連"]
[495286,"ｷﾝｷﾀﾞｲﾀﾝｷﾀﾞｲﾌﾞ","近畿大学短期大学部","近畿大学短大部",49,"学  連"]
[495287,"ｷﾝﾗﾝﾀﾝｷﾀﾞｲ","金蘭短期大学","金蘭短大",49,"学  連"]
[495288,"ｼｼﾞｮｳﾅﾜﾃｶﾞｸｴﾝｼﾞｮｼﾀﾝｷﾀﾞｲ","四条畷学園女子短期大学","四条畷学園女子",49,"学  連"]
[495289,"ｼﾃﾝﾉｳｼﾞｺｸｻｲﾌﾞｯｷｮｳﾀﾞｲﾀﾝﾀﾞｲﾌﾞ","四天王寺国際仏教大学短大部","四天王寺仏大短",49,"学  連"]
[495290,"ｼｮｳｲﾝﾋｶﾞｼｼﾞｮｼﾀﾝｷﾀﾞｲ","樟蔭東女子短期大学","樟蔭東女子短大",49,"学  連"]
[495291,"ｾｲﾎﾞｼﾞｮｶﾞｸｲﾝﾀﾝｷﾀﾞｲ","聖母女学院短期大学","聖母女学院短大",49,"学  連"]
[495292,"ｿｳｱｲｼﾞｮｼﾀﾝｷﾀﾞｲ","相愛女子短期大学","相愛女子短大",49,"学  連"]
[495293,"ﾃｲｺｸｼﾞｮｼﾀﾝｷﾀﾞｲ","帝国女子短期大学","帝国女子短大",49,"学  連"]
[495294,"ﾃﾂﾞｶﾔﾏｶﾞｸｲﾝﾀﾝｷﾀﾞｲ","帝塚山学院短期大学","帝塚山学院短大",49,"学  連"]
[495295,"ﾄｷﾜｶｲﾀﾝｷﾀﾞｲ","常磐会短期大学","常磐会短大",49,"学  連"]
[495296,"ﾅﾆﾜﾀﾝｷﾀﾞｲ","浪速短期大学","浪速短大",49,"学  連"]
[495297,"ﾊﾞｲｶﾀﾝｷﾀﾞｲ","梅花短期大学","梅花短大",49,"学  連"]
[495298,"ﾊｺﾞﾛﾓｶﾞｸｴﾝﾀﾝｷﾀﾞｲ","羽衣学園短期大学","羽衣学園短大",49,"学  連"]
[495299,"ﾋｶﾞｼｵｵｻｶ ﾀﾝｷﾀﾞｲ","東大阪短期大学","東大阪短大",49,"学  連"]
[495300,"ｾｲﾎﾞﾋｼｮｳﾃﾝｶﾞｸｲﾝｼﾞｮｼﾀﾝｷﾀﾞｲ","聖母被昇天学院女子短期大学","聖母被昇天女短",49,"学  連"]
[495301,"ﾋﾟｰｴﾙｶﾞｸｴﾝｼﾞｮｼﾀﾝｷﾀﾞｲ","ピーエル学園女子短期大学","ピーエル学園女",49,"学  連"]
[495302,"ﾌﾟｰﾙｶﾞｸｲﾝﾀﾝｷﾀﾞｲ","プール学院短期大学","プール学院短大",49,"学  連"]
[495303,"ｱｶｼﾀﾝｷﾀﾞｲ","明石短期大学","明石短大",49,"学  連"]
[495304,"ｱｼﾔｼﾞｮｼﾀﾝｷﾀﾞｲ","芦屋女子短期大学","芦屋女子短大",49,"学  連"]
[495306,"ｷﾝｷﾀﾞｲﾄﾖｵｶｼﾞｮｼﾀﾝｷﾀﾞｲ","近畿大学豊岡女子短期大学","近畿大学豊岡女",49,"学  連"]
[495307,"ｹﾝﾒｲｼﾞｮｼｶﾞｸｲﾝﾀﾝｷﾀﾞｲ","賢明女子学院短期大学","賢明女子学院短",49,"学  連"]
[495308,"ｺｳｼｴﾝﾀﾝｷﾀﾞｲ","甲子園短期大学","甲子園短大",49,"学  連"]
[495309,"ｺｳﾅﾝｼﾞｮｼﾀﾞｲﾀﾝｷﾀﾞｲﾌﾞ","甲南女子大学短期大学部","甲南女子大学短",49,"学  連"]
[495310,"ｺｳﾍﾞｶｲｾｲｼﾞｮｼｶﾞｸｲﾝﾀﾝｷﾀﾞｲ","神戸海星女子学院短期大学","神戸海星女学院",49,"学  連"]
[495311,"ｺｳﾍﾞｶﾞｸｲﾝｼﾞｮｼﾀﾝｷﾀﾞｲ","神戸学院女子短期大学","神戸学院女子短",49,"学  連"]
[495312,"ｺｳﾍﾞｼﾞｮｼﾀﾝｷﾀﾞｲ","神戸女子短期大学","神戸女子短大",49,"学  連"]
[495313,"ｺｳﾍﾞﾄｷﾜﾀﾝｷﾀﾞｲ","神戸常盤短期大学","神戸常盤短大",49,"学  連"]
[495314,"ｺｳﾍﾞﾔﾏﾃｼﾞｮｼﾀﾝｷﾀﾞｲ","神戸山手女子短期大学","神戸山手女子短",49,"学  連"]
[495315,"ｼｭｸｶﾞﾜｶﾞｸｲﾝﾀﾝｷﾀﾞｲ","夙川学院短期大学","夙川学院短大",49,"学  連"]
[495316,"ｼｮｳｲﾝｼﾞｮｼｶﾞｸｲﾝﾀﾝｷﾀﾞｲ","松蔭女子学院短期大学","松蔭女子学院短",49,"学  連"]
[495317,"ｼｮｳｴｲﾀﾝｷﾀﾞｲ","頌栄短期大学","頌栄短大",49,"学  連"]
[495318,"ｾｲﾜﾀﾞｲﾀﾝｷﾀﾞｲﾌﾞ","聖和大学短期大学部","聖和大短期大学",49,"学  連"]
[495319,"ｿﾉﾀﾞｶﾞｸｴﾝｼﾞｮｼﾀﾝｷﾀﾞｲ","園田学園女子短期大学","園田学園女子短",49,"学  連"]
[495320,"ﾃｯｺｳﾀﾝｷﾀﾞｲ","産業技術短期大学","産業技術短大",49,"学  連"]
[495321,"ﾄｳﾖｳｼｮｸﾋﾝｺｳｷﾞｮｳﾀﾝｷﾀﾞｲ","東洋食品工業短期大学","東洋食品工業短",49,"学  連"]
[495322,"ﾋﾉﾓﾄｶﾞｸｴﾝﾀﾝｷﾀﾞｲ","日ノ本学園短期大学","日ノ本学園短大",49,"学  連"]
[495323,"ﾋﾒｼﾞｶﾞｸｲﾝｼﾞｮｼﾀﾝｷﾀﾞｲ","姫路学院女子短期大学","姫路学院女子短",49,"学  連"]
[495324,"ﾋｮｳｺﾞｼﾞｮｼﾀﾝｷﾀﾞｲ","兵庫女子短期大学","兵庫女子短大",49,"学  連"]
[495325,"ﾐﾅﾄｶﾞﾜｼﾞｮｼﾀﾝｷﾀﾞｲ","湊川女子短期大学","湊川女子短大",49,"学  連"]
[495326,"ﾑｺｶﾞﾜｼﾞｮｼﾀﾞｲﾀﾝｷﾀﾞｲﾌﾞ","武庫川女子大学短期大学部","武庫川女子大短",49,"学  連"]
[495327,"ｻｸﾗｲｼﾞｮｼﾀﾝｷﾀﾞｲ","桜井女子短期大学","桜井女子短大",49,"学  連"]
[495328,"ﾃﾂﾞｶﾔﾏﾀﾝｷﾀﾞｲ","帝塚山短期大学","帝塚山短大",49,"学  連"]
[495329,"ﾅﾗｹﾞｲｼﾞｭﾂﾀﾝｷﾀﾞｲ","奈良芸術短期大学","奈良芸術短大",49,"学  連"]
[495330,"ﾅﾗｻﾎｼﾞｮｶﾞｸｲﾝﾀﾝｷﾀﾞｲ","奈良佐保女学院短期大学","奈良佐保女学院",49,"学  連"]
[495331,"ﾅﾗﾌﾞﾝｶｼﾞｮｼﾀﾝｷﾀﾞｲ","奈良文化女子短期大学","奈良文化女子短",49,"学  連"]
[495332,"ｷﾝｷﾀﾞｲｾｲﾄｳｼﾞｮｼﾀﾝｷﾀﾞｲ","近畿大学青踏女子短期大学","近畿大学青踏女",49,"学  連"]
[495333,"ﾜｶﾔﾏｼﾝｱｲｼﾞｮｼﾀﾝｷﾀﾞｲ","和歌山信愛女子短期大学","和歌山信愛女子",49,"学  連"]
[495335,"ﾄｯﾄﾘｼﾞｮｼﾀﾝｷﾀﾞｲ","鳥取女子短期大学","鳥取女子短大",49,"学  連"]
[495336,"ｼﾏﾈﾁｭｳｵｳｼﾞｮｼﾀﾝｷﾀﾞｲ","島根中央女子短期大学","島根中央女子短",49,"学  連"]
[495337,"ｼｭｳｼﾞﾂﾀﾝｷﾀﾞｲ","就実短期大学","就実短大",49,"学  連"]
[495338,"ｵｶﾔﾏｼﾞｮｼﾀﾝｷﾀﾞｲ","岡山女子短期大学","岡山女子短大",49,"学  連"]
[495339,"ｶﾜｻｷｲﾘｮｳﾀﾝｷﾀﾞｲ","川崎医療短期大学","川崎医療短大",49,"学  連"]
[495340,"ｻｸﾖｳﾀﾝｷﾀﾞｲ","作陽短期大学","作陽短大",49,"学  連"]
[495341,"ｻﾝﾖｳｶﾞｸｴﾝﾀﾝｷﾀﾞｲ","山陽学園短期大学","山陽学園短大",49,"学  連"]
[495342,"ｼﾞｭﾝｾｲﾀﾝｷﾀﾞｲ","順正短期大学","順正短大",49,"学  連"]
[495343,"ﾁｭｳｺﾞｸﾀﾝｷﾀﾞｲ","中国短期大学","中国短大",49,"学  連"]
[495344,"ﾐﾏｻｶｼﾞｮｼﾀﾞｲﾀﾝｷﾀﾞｲﾌﾞ","美作女子大学短期大学部","美作女子大学短",49,"学  連"]
[495345,"ｵｵｼﾓｶﾞｸｴﾝｼﾞｮｼﾀﾝｷﾀﾞｲ","大下学園女子短期大学","大下学園女子短",49,"学  連"]
[495346,"ｻﾝﾖｳｼﾞｮｼﾀﾝｷﾀﾞｲ","山陽女子短期大学","山陽女子短大",49,"学  連"]
[495347,"ｽｽﾞｶﾞﾐﾈｼﾞｮｼﾀﾝｷﾀﾞｲ","鈴峯女子短期大学","鈴峯女子短大",49,"学  連"]
[495348,"ﾉｰﾄﾙﾀﾞﾑｾｲｼﾝｼﾞｮｼﾀﾝｷﾀﾞｲ","ノートルタ゛ム清心女子短大","ノートルダム女",49,"学  連"]
[495349,"ﾋｼﾞﾔﾏｼﾞｮｼﾀﾝｷﾀﾞｲ","比治山女子短期大学","比治山女子短大",49,"学  連"]
[495350,"ﾋﾛｼﾏｼﾞﾄﾞｳｼｬｺｳｷﾞｮｳﾀﾝｷﾀﾞｲ","広島自動車工業短期大学","広島自動車工業",49,"学  連"]
[495351,"ﾋﾛｼﾏｼｭｳﾄﾞｳﾀﾞｲﾀﾝｷﾀﾞｲﾌﾞ","広島修道大学短期大学部","広島修道大学短",49,"学  連"]
[495352,"ﾋﾛｼﾏｼﾞｮｶﾞｸｲﾝﾀﾞｲﾀﾝｷﾀﾞｲﾌﾞ","広島女学院大学短期大学部","広島女学院大短",49,"学  連"]
[495353,"ﾋﾛｼﾏﾌﾞﾝｶｼﾞｮｼﾀﾝｷﾀﾞｲ","広島文化女子短期大学","広島文化女子短",49,"学  連"]
[495354,"ﾋﾛｼﾏﾌﾞﾝｷｮｳｼﾞｮｼﾀﾞｲﾀﾝﾀﾞｲﾌﾞ","広島文教女子大学短期大学部","広島文教女大短",49,"学  連"]
[495356,"ﾔｽﾀﾞｼﾞｮｼﾀﾝｷﾀﾞｲ","安田女子短期大学","安田女子短大",49,"学  連"]
[495357,"ｲﾜｸﾆﾀﾝｷﾀﾞｲ","岩国短期大学","岩国短大",49,"学  連"]
[495358,"ｳﾍﾞﾀﾝｷﾀﾞｲ","宇部短期大学","宇部短大",49,"学  連"]
[495359,"ｼﾓﾉｾｷｼﾞｮｼﾀﾝｷﾀﾞｲ","下関女子短期大学","下関女子短大",49,"学  連"]
[495360,"ﾊﾞｲｺｳｼﾞｮｶﾞｸｲﾝﾀﾞｲﾀﾝｷﾀﾞｲﾌﾞ","梅光女学院大学短期大学部","梅光女学院大短",49,"学  連"]
[495361,"ﾊｷﾞｼﾞｮｼﾀﾝｷﾀﾞｲ","萩女子短期大学","萩女子短大",49,"学  連"]
[495362,"ﾔﾏｸﾞﾁｹﾞｲｼﾞｭﾂﾀﾝｷﾀﾞｲ","山口芸術短期大学","山口芸術短大",49,"学  連"]
[495363,"ﾔﾏｸﾞﾁﾀﾝｷﾀﾞｲ","山口短期大学","山口短大",49,"学  連"]
[495364,"ｼｺｸｼﾞｮｼﾀﾞｲﾀﾝｷﾀﾞｲﾌﾞ","四国女子大学短期大学部","四国女子短大部",49,"学  連"]
[495365,"ﾄｸｼﾏｺｳｷﾞｮｳﾀﾝｷﾀﾞｲ","徳島工業短期大学","徳島工業短大",49,"学  連"]
[495366,"ﾄｸｼﾏﾌﾞﾝｶｼﾞｮｼﾀﾝｷﾀﾞｲ","徳島文化女子短期大学","徳島文化女子短",49,"学  連"]
[495367,"ﾄｸｼﾏﾌﾞﾝﾘﾀﾞｲﾀﾝｷﾀﾞｲﾌﾞ","徳島文理大学短期大学部","徳島文理大学短",49,"学  連"]
[495368,"ｶｶﾞﾜｹﾝﾐｮｳｾﾞﾝﾀﾝｷﾀﾞｲ","香川県明善短期大学","香川県明善短大",49,"学  連"]
[495369,"ｶｶﾞﾜﾀﾝｷﾀﾞｲ","香川短期大学","香川短大",49,"学  連"]
[495370,"ｼｺｸｶﾞｸｲﾝﾀﾝｷﾀﾞｲ","四国学院短期大学","四国学院短大",49,"学  連"]
[495371,"ｾﾄｳﾁﾀﾝｷﾀﾞｲ","瀬戸内短期大学","瀬戸内短期大学",49,"学  連"]
[495372,"ﾀｶﾏﾂﾀﾝｷﾀﾞｲ","高松短期大学","高松短大",49,"学  連"]
[495373,"ｲﾏﾊﾞﾘ ﾒｲﾄｸ ﾀﾝｷﾀﾞｲ","今治明徳短期大学","今治明徳短大",49,"学  連"]
[495374,"ｴﾋﾒｼﾞｮｼﾀﾝｷﾀﾞｲ","愛媛女子短期大学","愛媛女子短大",49,"学  連"]
[495375,"ｾｲｶﾀﾘﾅｼﾞｮｼﾀﾝｷﾀﾞｲ","聖カタリナ女子短期大学","聖カタリナ女子",49,"学  連"]
[495376,"ﾏﾂﾔﾏｼﾉﾉﾒﾀﾝｷﾀﾞｲ","松山東雲短期大学","松山東雲短大",49,"学  連"]
[495377,"ﾏﾂﾔﾏｼｮｳｶﾀﾞｲﾀﾝｷﾀﾞｲﾌﾞ","松山商科大学短期大学部","松山商科大学短",49,"学  連"]
[495378,"ﾓﾓﾔﾏｶﾞｸｲﾝﾀﾞｲ","桃山学院短期大学","桃山学院短大",49,"学  連"]
[495379,"ｺｳﾁｶﾞｸｴﾝﾀﾝｷﾀﾞｲ","高知学園短期大学","高知学園短大",49,"学  連"]
[495380,"ｵﾘｵｼﾞｮｼｹｲｻﾞｲﾀﾝｷﾀﾞｲ","折尾女子経済短期大学","折尾女子経済短",49,"学  連"]
[495382,"ｷﾀｷｭｳｼｭｳﾀﾝｷﾀﾞｲ","北九州短期大学","北九州短大",49,"学  連"]
[495383,"ｷｭｳｼｭｳｵｵﾀﾆﾀﾝｷﾀﾞｲ","九州大谷短期大学","九州大谷短大",49,"学  連"]
[495384,"ｷﾕｳｼｭｳｼﾞｮｼﾀﾝｷﾀﾞｲ","九州女子短期大学","九州女子短大",49,"学  連"]
[495385,"ｷｭｳｼｭｳｿﾞｳｹｲﾀﾝｷﾀﾞｲ","九州造形短期大学","九州造形短大",49,"学  連"]
[495386,"ｷｭｳｼｭｳﾃﾞﾝｷﾀﾝｷﾀﾞｲ","九州電機短期大学","九州電機短大",49,"学  連"]
[495387,"ｷﾝｷﾀﾞｲｷｭｳｼｭｳﾀﾝｷﾀﾞｲ","近畿大学九州短期大学","近畿大学九州短",49,"学  連"]
[495388,"ｸﾙﾒｼﾝｱｲｼﾞｮｶﾞｸｲﾝﾀﾝｷﾀﾞｲ","久留米信愛女学院短期大学","久留米信愛女短",49,"学  連"]
[495390,"ｺｳﾗﾝｼﾞｮｼﾀﾝｷﾀﾞｲ","香蘭女子短期大学","香蘭女子短大",49,"学  連"]
[495391,"ｼﾞｭﾝｼﾝｼﾞｮｼﾀﾝｷﾀﾞｲ","純真女子短期大学","純真女子短大",49,"学  連"]
[495392,"ｾｲｶｼﾞｮｼﾀﾝｷﾀﾞｲ","精華女子短期大学","精華女子短大",49,"学  連"]
[495394,"ｾｲﾅﾝｼﾞｮｶﾞｸｲﾝﾀﾝｷﾀﾞｲ","西南女学院短期大学","西南女学院短大",49,"学  連"]
[495395,"ﾁｸｼｼﾞｮｶﾞｸｴﾝﾀﾝｷﾀﾞｲ","筑紫女学園短期大学","筑紫女学園短大",49,"学  連"]
[495396,"ﾅｶﾑﾗｶﾞｸｴﾝﾀﾝｷﾀﾞｲ","中村学園短期大学","中村学園短大",49,"学  連"]
[495397,"ﾆｼﾆﾎﾝﾀﾝｷﾀﾞｲ","西日本短期大学","西日本短大",49,"学  連"]
[495398,"ﾋｶﾞｼﾁｸｼﾀﾝｷﾀﾞｲ","東筑紫短期大学","東筑紫短大",49,"学  連"]
[495399,"ﾌｸｵｶｺｳｷﾞｮｳﾀﾝｷﾀﾞｲ","福岡工業短期大学","福岡工業短大",49,"学  連"]
[495400,"ﾌｸｵｶｼﾞｮｶﾞｸｲﾝﾀﾝｷﾀﾞｲ","福岡女学院短期大学","福岡女学院短大",49,"学  連"]
[495401,"ﾌｸｵｶｼﾞｮｼﾀﾝｷﾀﾞｲ","福岡女子短期大学","福岡女子短大",49,"学  連"]
[495402,"ｻｶﾞｼﾞｮｼﾀﾝｷﾀﾞｲ","佐賀女子短期大学","佐賀女子短大",49,"学  連"]
[495403,"ｻｶﾞﾀﾝｷﾀﾞｲ","佐賀短期大学","佐賀短大",49,"学  連"]
[495404,"ｷｭｳｼｭｳﾘｭｳｺｸﾀﾝｷﾀﾞｲ","九州龍谷短期大学","九州龍谷短大",49,"学  連"]
[495405,"ｶｯｽｲｼﾞｮｼﾀﾝｷﾀﾞｲ","活水女子短期大学","活水女子短大",49,"学  連"]
[495406,"ﾅｶﾞｻｷﾀﾝｷﾀﾞｲ","長崎短期大学","長崎短大",49,"学  連"]
[495407,"ｼﾞｭﾝｼﾝｼﾞｮｼﾀﾝｷﾀﾞｲ","純心女子短期大学","純心女子短大",49,"学  連"]
[495408,"ﾀﾏｷｼﾞｮｼﾀﾝｷﾀﾞｲ","玉木女子短期大学","玉木女子短大",49,"学  連"]
[495409,"ﾅｶﾞｻｷｳｴｽﾚﾔﾝﾀﾝｷﾀﾞｲ","長崎ウエスレヤン短期大学","長崎ウエスレヤ",49,"学  連"]
[495410,"ﾅｶﾞｻｷｶﾞｲｺｸｺﾞﾀﾝｷﾀﾞｲ","長崎外国語短期大学","長崎外国語短大",49,"学  連"]
[495411,"ﾅｶﾞｻｷｼﾞｮｼﾀﾝｷﾀﾞｲ","長崎女子短期大学","長崎女子短大",49,"学  連"]
[495412,"ｷﾞﾝｷｮｳｶﾞｸｴﾝﾀﾝｷﾀﾞｲ","銀杏学園短期大学","銀杏学園短大",49,"学  連"]
[495413,"ｸﾏﾓﾄｵﾝｶﾞｸﾀﾝｷﾀﾞｲ","熊本音楽短期大学","熊本音楽短大",49,"学  連"]
[495414,"ｼｮｳｹｲﾀﾝｷﾀﾞｲ","尚絅短期大学","尚絅短大",49,"学  連"]
[495415,"ｸﾏﾓﾄﾀﾝｷﾀﾞｲ","熊本短期大学","熊本短大",49,"学  連"]
[495416,"ﾅｶｷｭｳｼｭｳﾀﾝｷﾀﾞｲ","中九州短期大学","中九州短大",49,"学  連"]
[495417,"ｵｵｲﾀﾀﾝｷﾀﾞｲ","大分短期大学","大分短大",49,"学  連"]
[495418,"ｵｵｲﾀｼﾞｮｼ ﾀﾝｷﾀﾞｲ","大分女子短期大学","大分女子短期大",49,"学  連"]
[495419,"ｾﾝｼﾞｮｳｶﾞｸｴﾝﾅｶﾂｼﾞｮｼﾀﾝｷﾀﾞｲ","扇城学園中津女子短期大学","扇城学園中津女",49,"学  連"]
[495420,"ﾍﾞｯﾌﾟｼﾞｮｼﾀﾝｷﾀﾞｲ","別府女子短期大学","別府女子短大",49,"学  連"]
[495421,"ﾍﾞｯﾌﾟﾀﾞｲﾀﾝｷﾀﾞｲﾌﾞ","別府大学短期大学部","別府大学短大部",49,"学  連"]
[495422,"ﾋｭｳｶﾞｶﾞｸｲﾝﾀﾝｷﾀﾞｲ","日向学院短期大学","日向学院短大",49,"学  連"]
[495423,"ﾐﾄﾞﾘｶﾞｵｶｶﾞｸｴﾝﾉﾍﾞｵｶﾀﾝｷﾀﾞｲ","緑ケ丘学園延岡短期大学","緑ケ丘学園延岡",49,"学  連"]
[495424,"ﾐﾅﾐｷｭｳｼｭｳﾀﾝｷﾀﾞｲ","南九州短期大学","南九州短大",49,"学  連"]
[495425,"ﾐﾔｻﾞｷｼﾞｮｼﾀﾝｷﾀﾞｲ","宮崎女子短期大学","宮崎女子短大",49,"学  連"]
[495426,"ｶｺﾞｼﾏｼﾞｭﾝｼﾝｼﾞｮｼﾀﾝｷﾀﾞｲ","鹿児島純心女子短期大学","鹿児島純心女子",49,"学  連"]
[495427,"ｶｺﾞｼﾏｼﾞｮｼﾀﾝｷﾀﾞｲ","鹿児島女子短期大学","鹿児島女子短大",49,"学  連"]
[495428,"ｶｺﾞｼﾏﾀﾝｷﾀﾞｲ","鹿児島短期大学","鹿児島短大",49,"学  連"]
[495429,"ﾀﾞｲｲﾁﾖｳｼﾞｷｮｳｲｸﾀﾝｷﾀﾞｲ","第一幼児教育短期大学","第一幼児教育短",49,"学  連"]
[495432,"ｵｷﾅﾜｷﾘｽﾄｷｮｳ ﾀﾝｷﾀﾞｲ","沖縄キリスト教短期大学","沖縄キリスト教",49,"学  連"]
[495433,"ｵｷﾅﾜｺｸｻｲﾀﾞｲﾀﾝｷﾀﾞｲﾌﾞ","沖縄国際大学短期大学部","沖縄国際大学短",49,"学  連"]
[495434,"ｵｷﾅﾜｼﾞｮｼﾀﾝｷﾀﾞｲ","沖縄女子短期大学","沖縄女子短大",49,"学  連"]
[495435,"ｵｷﾅﾜﾀﾞｲﾀﾝｷﾀﾞｲﾌﾞ","沖縄大学短期大学部","沖縄大学短大部",49,"学  連"]
[495436,"ﾀｶﾔﾏﾀﾝｷﾀﾞｲ","高山短期大学","高山短大",49,"学  連"]
[495437,"ﾀﾞｲｲﾁﾎｲｸﾀﾝｷﾀﾞｲ","第一保育短期大学","第一保育短大",49,"学  連"]
[495438,"ｷｭｳｼｭｳｼﾞｮｶﾞｸｲﾝﾀﾝｷﾀﾞｲ","九州女学院短期大学","九州女学院短大",49,"学  連"]
[495439,"ｷﾝｼﾞｮｳﾀﾝｷﾀﾞｲ","金城短期大学","金城短大",49,"学  連"]
[495440,"ｲｸｴｲ ﾀﾝｷﾀﾞｲ","育英短期大学","育英短期大",49,"学  連"]
[495441,"ｷｮｳﾄｹﾞｲｼﾞｭﾂﾀﾝｷﾀﾞｲ","京都芸術短期大学","京都芸術短大",49,"学  連"]
[495443,"ｱｼｶｶﾞﾀﾝｷﾀﾞｲ","足利短期大学","足利短大",49,"学  連"]
[495444,"ｱｷｸｻｶﾞｸｴﾝﾀﾝｷﾀﾞｲ","秋草学園短期大学","秋草学園短大",49,"学  連"]
[495445,"ｻﾝｷﾞｮｳｲｶﾀﾞｲｲﾘｮｳｷﾞｼﾞｭﾂﾀﾝﾀﾞｲ","産業医科大学医療技術短期大学","産業医大医療技",49,"学  連"]
[495446,"ｾｲﾘｮｳｼﾞｮｼﾀﾝｷﾀﾞｲ","星稜女子短期大学","星稜女子短大",49,"学  連"]
[495447,"ｾﾝｿﾞｸｶﾞｸｴﾝｳｵﾂﾀﾝｷﾀﾞｲ","洗足学園魚津短期大学","洗足学園魚津短",49,"学  連"]
[495448,"ﾀｶｻｷｹﾞｲｼﾞｭﾂﾀﾝｷﾀﾞｲ","高崎芸術短期大学","高崎芸術短大",49,"学  連"]
[495449,"ｼｮｳﾋﾞｶﾞｸｴﾝ ﾀﾝｷﾀﾞｲ","尚美学園短期大学","尚美学園短期大",49,"学  連"]
[495450,"ﾑｻｼﾉﾀﾝｷﾀﾞｲ","武蔵野短期大学","武蔵野短大",49,"学  連"]
[495451,"ｾｲｾﾝｼﾞｮｶﾞｸｲﾝﾀﾝｷﾀﾞｲ","清泉女学院短期大学","清泉女学院短大",49,"学  連"]
[495452,"ｺｸｶﾞｸｲﾝｼﾞｮｼﾀﾝｷﾀﾞｲ","国学院女子短期大学","国学院女子短大",49,"学  連"]
[495453,"ｳﾖｳｶﾞｸｴﾝﾀﾝｷﾀﾞｲ","羽陽学園短期大学","羽陽学園短大",49,"学  連"]
[495454,"ﾄｳｷｮｳｺｳｹﾞｲﾀﾞｲｼﾞｮｼﾀﾝﾀﾞｲﾌﾞ","東京工芸大学女子短期大学部","東京工芸大女短",49,"学  連"]
[495455,"ｺｳﾘｮｳｼﾞｮｼﾀﾝｷﾀﾞｲ","光陵女子短期大学","光陵女子短大",49,"学  連"]
[495456,"ﾆｲｼﾞﾏｶﾞｸｴﾝｼﾞｮｼ ﾀﾝｷﾀﾞｲ","新島学園女子短期大学","新島学園女子短",49,"学  連"]
[495457,"ｻｲﾀﾏｼﾞｭﾝｼﾝｼﾞｮｼﾀﾝｷﾀﾞｲ","埼玉純真女子短期大学","埼玉純真女子短",49,"学  連"]
[495458,"ｼﾞｮｳｻｲﾀﾞｲｼﾞｮｼﾀﾝｷﾀﾞｲﾌﾞ","城西大学女子短期大学部","城西大学女子短",49,"学  連"]
[495459,"ｺｸｻｲｶﾞｸｲﾝｻｲﾀﾏﾀﾝｷﾀﾞｲ","国際学院埼玉短期大学","国際学院埼玉短",49,"学  連"]
[495460,"ｼﾝｼｮｳﾎｳﾅﾝｼﾞｮｼﾀﾝｷﾀﾞｲ","信州豊南女子短期大学","信州豊南女子短",49,"学  連"]
[495461,"ｷﾞﾌｲﾘｮｳｷﾞｼﾞｭﾂﾀﾝｷﾀﾞｲ","岐阜医療技術短期大学","岐阜医療技術短",49,"学  連"]
[495462,"ﾄﾖﾊｼﾀﾝｷﾀﾞｲ","豊橋短期大学","豊橋短大",49,"学  連"]
[495463,"ｷｮｳﾄﾌﾞﾝｶﾀﾝｷﾀﾞｲ","京都文化短期大学","京都文化短大",49,"学  連"]
[495464,"ﾎｯｶｲｶﾞｸｴﾝｷﾀﾐｼﾞｮｼﾀﾝｷﾀﾞｲ","北海学園北見女子短期大学","北海学園北見女",49,"学  連"]
[495465,"ｾｲｼﾝｶﾞｸｴﾝｼﾞｮｼﾀﾝｷﾀﾞｲ","清真学園女子短期大学","清真学園女子短",49,"学  連"]
[495466,"ｷｮｳｴｲｶﾞｸｴﾝ ﾀﾝｷﾀﾞｲ","共栄学園短期大学","共栄学園短期大",49,"学  連"]
[495467,"ｴﾄﾞｶﾞﾜｼﾞｮｼﾀﾝｷﾀﾞｲ","江戸川女子短期大学","江戸川女子短大",49,"学  連"]
[495468,"ｿｳｶｼﾞｮｼﾀﾝｷﾀﾞｲ","創価女子短期大学","創価女子短大",49,"学  連"]
[495469,"ﾄｳﾎｳﾀﾞｲｲﾘｮｳﾀﾝｷﾀﾞｲ","東邦大学医療短期大学","東邦大学医療短",49,"学  連"]
[495470,"ｼｮｳｲﾝｼﾞｮｼ ﾀﾝｷﾀﾞｲ","松蔭女子短期大学","松蔭女子短期大",49,"学  連"]
[495471,"ｾｲﾚｲｶﾞｸｴﾝｾｲｾﾝﾀﾝｷﾀﾞｲ","聖隷学園聖泉短期大学","聖隷学園聖泉短",49,"学  連"]
[495472,"ｱｲﾉｶﾞｸｲﾝﾀﾝｷﾀﾞｲ","藍野学院短期大学","藍野学院短大",49,"学  連"]
[495473,"ｵｵｻｶﾒｲｼﾞｮｳｼﾞｮｼﾀﾝｷﾀﾞｲ","大阪明浄女子短期大学","大阪明浄女子短",49,"学  連"]
[495474,"ｶﾝｻｲｼﾝｷｭｳﾀﾝｷﾀﾞｲ","関西鍼灸短期大学","関西鍼灸短大",49,"学  連"]
[495475,"ﾂﾙｶﾞｼﾞｮｼﾀﾝｷﾀﾞｲ","敦賀女子短期大学","敦賀女子短大",49,"学  連"]
[495476,"ﾄｳｶｲｻﾝｷﾞｮｳﾀﾝｷﾀﾞｲ","東海産業短期大学","東海産業短期大",49,"学  連"]
[495477,"ﾄﾞｳｼｼｬｼﾞｼｮｼ ﾀﾝｷﾀﾞｲ","同志社女子大学短期大学部","同志社女子短期",49,"学  連"]
[495478,"ｸﾚｼﾞｮｼ ﾀﾝｷﾀﾞｲｶﾞｸﾞ","呉女子短期大学","呉女子短期大",49,"学  連"]
[495479,"ｾｲﾏﾘｱｶﾞｸｲﾝ ﾀﾝｷﾀﾞｲ","聖マリア学院短期大学","聖マリア学院短",49,"学  連"]
[495480,"ｼﾞﾁｲｶﾀﾞｲｶﾝｺﾞ ﾀﾝｷﾀﾞｲ","自治医科大学看護短期大学","自治医科大看護",49,"学  連"]
[495481,"ｳﾗﾜ ﾀﾝｷﾀﾞｲ","浦和短期大学","浦和短期大",49,"学  連"]
[495482,"ｶﾜｸﾞﾁ ﾀﾝｷﾀﾞｲ","川口短期大学","川口短期大",49,"学  連"]
[495483,"ﾆﾎﾝﾊﾞｼｼﾞｮｶﾞｸｶﾝ ﾀﾝｷﾀﾞｲ","日本橋女学館短期大学","日本橋女学館短",49,"学  連"]
[495484,"ﾆﾎﾝｼｶﾀﾞｲﾆｲｶﾞﾀ ﾀﾝｷﾀﾞｲ","日本歯科大学新潟短期大学","日本歯科大新潟",49,"学  連"]
[495485,"ｱｲﾁｷﾞｼﾞｭﾂ ﾀﾝｷﾀﾞｲ","愛知技術短期大学","愛知技術短期大",49,"学  連"]
[495486,"ｵｵｻｶﾀﾝｷﾀﾞｲ","大阪短期大学","大阪短期大",49,"学  連"]
[495487,"ｶﾝｻｲｼﾞｮｶﾞｸｲﾝ ﾀﾝｷﾀﾞｲ","関西女学院短期大学","関西女学院短期",49,"学  連"]
[495488,"ｼｮｳｲﾝｼﾞｮｼ ﾀﾝｷﾀﾞｲ","樟蔭女子短期大学","樟蔭女子短期大",49,"学  連"]
[495489,"ﾄｳｷｮｳﾘｶﾀﾞｲﾔﾏｸﾞﾁﾀﾝｷﾀﾞｲ","東京理科大学山口短期大学","東京理科大山口",49,"学  連"]
[495490,"ﾄｸﾔﾏ ｼﾞｮｼ ﾀﾝｷﾀﾞｲ","徳山女子短期大学","徳山女子短大",49,"学  連"]
[495491,"ﾜｯｶﾅｲﾎｸｾｲｶﾞｸｴﾝ ﾀﾝｷﾀﾞｲ","稚内北星学園短期大学","稚内北星学園短",49,"学  連"]
[495492,"ｷｭｳｼｭｳﾃｲｷｮｳﾀﾝｷﾀﾞｲ","九州帝京短期大学","九州帝京短大",49,"学  連"]
[495493,"ﾀｶｻｷｼｮｳｶ ﾀﾝｷﾀﾞｲ","高崎商科短期大学","高崎商科短期大",49,"学  連"]
[495494,"ﾌﾞﾝﾘｼﾞｮｳﾎｳ ﾀﾝｷﾀﾞｲ","文理情報短期大学","文理情報短期大",49,"学  連"]
[495495,"ｷｮｳｱｲｶﾞｸｴﾝ ﾀﾝｷﾀﾞｲ","共愛学園短期大学","共愛学園短期大",49,"学  連"]
[495496,"ｹｲｵｳｷﾞｼﾞｭｸｶﾝｺﾞ ﾀﾝｷﾀﾞｲ","慶応義塾看護短期大学","慶応義塾看護短",49,"学  連"]
[495497,"ｼﾝｼｭｳ ﾀﾝｷﾀﾞｲ","信州短期大学","信州短期大",49,"学  連"]
[495498,"ｺﾏﾂ ﾀﾝｷﾀﾞｲ","小松短期大学","小松短期大",49,"学  連"]
[495499,"ﾅﾅｵ ﾀﾝｷﾀﾞｲ","七尾短期大学","七尾短期大",49,"学  連"]
[495500,"ｼｽﾞｵｶｶﾞｸｴﾝ ﾀﾝｷﾀﾞｲ","静岡学園短期大学","静岡学園短期大",49,"学  連"]
[495501,"ｳﾂﾉﾐﾔﾌﾞﾝｾｲ ﾀﾝｷﾀﾞｲ","宇都宮文星短期大学","宇都宮文星短期",49,"学  連"]
[495502,"ｻｲﾀﾏ ﾀﾝｷﾀﾞｲ","埼玉短期大学","埼玉短期大",49,"学  連"]
[495503,"ｻｲﾀﾏｲｶ ﾀﾝｷﾀﾞｲ","埼玉医科短期大学","埼玉医科短期大",49,"学  連"]
[495504,"ｻｲﾀﾏｼﾞｮｼ ﾀﾝｷﾀﾞｲ","埼玉女子短期大学","埼玉女子短期大",49,"学  連"]
[495505,"ﾔﾏﾑﾗｼﾞｮｼ ﾀﾝｷﾀﾞｲ","山村女子短期大学","山村女子短期大",49,"学  連"]
[495506,"ｼﾞｭﾝﾃﾝﾄﾞｳｲﾘｮｳ ﾀﾝｷﾀﾞｲ","順天堂医療短期大学","順天堂医療短期",49,"学  連"]
[495507,"ﾖｺﾊﾏｿｳｴｲ ﾀﾝｷﾀﾞｲ","横浜創英短期大学","横浜創英短期大",49,"学  連"]
[495508,"ﾅｺﾞﾔﾒｲﾄｸ ﾀﾝｷﾀﾞｲ","名古屋明徳短期大学","名古屋明徳短期",49,"学  連"]
[495509,"ﾆﾎﾝｾｷｼﾞｭｳｼﾞｱｲﾁ ﾀﾝｷﾀﾞｲ","日本赤十字愛知短期大学","日本赤十字愛知",49,"学  連"]
[495510,"ﾁｭｳﾌﾞﾀﾞｲｼﾞｮｼ ﾀﾝｷﾀﾞｲ","中部大学女子短期大学","中部大学女子短",49,"学  連"]
[495511,"ｷｮｳﾄｲﾘｮｳｷﾞｼﾞｭﾂ ﾀﾝｷﾀﾞｲ","京都医療技術短期大学","京都医療技術短",49,"学  連"]
[495512,"ｺｳﾍﾞｼﾞｮｼﾀﾞｲｼﾞｮｼｾﾄ ﾀﾝｷﾀﾞｲ","神戸女子大学瀬戸短期大学","神戸女子大瀬戸",49,"学  連"]
[495513,"ﾋﾛｼﾏｼﾞｮｼｼｮｳ ﾀﾝｷﾀﾞｲ","広島女子商短期大学","広島女子商短期",49,"学  連"]
[495514,"ｱｿｳﾌｸｵｶ ﾀﾝｷﾀﾞｲ","麻生福岡短期大学","麻生福岡短期大",49,"学  連"]
[495515,"ﾓﾘｵｶ ﾀﾞｲ ﾀﾝｷﾀﾞｲﾌﾞ","盛岡大学短期大学部","盛岡大学短期大",49,"学  連"]
[495520,"ﾌｸｲｹﾝﾘﾂﾀﾞｲ","福井県立大学","福井県立大学",49,"学  連"]
[496001,"ﾊｺﾀﾞﾃｺｳｷﾞｮｳｺｳﾄｳｾﾝﾓﾝｶﾞｯｺｳ","函館工業高等専門学","函館工高専",49,"学  連"]
[496002,"ﾄﾏｺﾏｲｺｳｷﾞｮｳｺｳﾄｳｾﾝﾓﾝｶﾞｯｺｳ","苫小牧工業高等専門学","苫小牧工高専",49,"学  連"]
[496003,"ｸｼﾛｺｳｷﾞｮｳｺｳﾄｳｾﾝﾓﾝｶﾞｯｺｳ","釧路工業高等専門学","釧路工高専",49,"学  連"]
[496004,"ｱｻﾋｶﾜｺｳｷﾞｮｳｺｳﾄｳｾﾝﾓﾝｶﾞｯｺｳ","旭川工業高等専門学","旭川工高専",49,"学  連"]
[496005,"ﾊﾁﾉﾍｺｳｷﾞｮｳｺｳﾄｳｾﾝﾓﾝｶﾞｯｺｳ","八戸工業高等専門学","八戸工高専",49,"学  連"]
[496006,"ｲﾁﾉｾｷｺｳｷﾞｮｳｺｳﾄｳｾﾝﾓﾝｶﾞｯｺｳ","一関工業高等専門学","一関工高専",49,"学  連"]
[496007,"ﾐﾔｷﾞｺｳｷﾞｮｳｺｳﾄｳｾﾝﾓﾝｶﾞｯｺｳ","宮城工業高等専門学","宮城工高専",49,"学  連"]
[496008,"ｾﾝﾀﾞｲﾃﾞﾝﾊﾟｺｳｷﾞｮｳｺｳﾄｳｾﾝﾓﾝｶﾞｯｺｳ","仙台電波工業高等専門学","仙台電波工高専",49,"学  連"]
[496009,null,"秋田工業高等専門学","秋田工高専",49,"学  連"]
[496010,"ﾂﾙｵｶｺｳｷﾞｮｳｺｳﾄｳｾﾝﾓﾝｶﾞｯｺｳ","鶴岡工業高等専門学","鶴岡工高専",49,"学  連"]
[496011,"ﾌｸｼﾏｺｳｷﾞｮｳｺｳﾄｳｾﾝﾓﾝｶﾞｯｺｳ","福島工業高等専門学","福島工高専",49,"学  連"]
[496012,"ｲﾊﾞﾗｷﾞｺｳｷﾞｮｳｺｳﾄｳｾﾝﾓﾝｶﾞｯｺｳ","茨城工業高等専門学","茨城工高専",49,"学  連"]
[496013,"ｵﾔﾏｺｳｷﾞｮｳｺｳﾄｳｾﾝﾓﾝｶﾞｯｺｳ","小山工業高等専門学","小山工高専",49,"学  連"]
[496014,"ｸﾞﾝﾏｺｳｷﾞｮｳｺｳﾄｳｾﾝﾓﾝｶﾞｯｺｳ","群馬工業高等専門学","群馬工高専",49,"学  連"]
[496015,"ｷｻﾗﾂﾞｺｳｷﾞｮｳｺｳﾄｳｾﾝﾓﾝｶﾞｯｺｳ","木更津工業高等専門学","木更津工高専",49,"学  連"]
[496016,"ﾄｳｷｮｳｺｳｷﾞｮｳｺｳﾄｳｾﾝﾓﾝｶﾞｯｺｳ","東京工業高等専門学","東京工高専",49,"学  連"]
[496017,"ﾅｶﾞｵｶｺｳｷﾞｮｳｺｳﾄｳｾﾝﾓﾝｶﾞｯｺｳ","長岡工業高等専門学","長岡工高専",49,"学  連"]
[496018,"ﾄﾔﾏｺｳｷﾞｮｳｺｳﾄｳｾﾝﾓﾝｶﾞｯｺｳ","富山工業高等専門学","富山工高専",49,"学  連"]
[496019,"ﾄﾔﾏｼｮｳｾﾝｺｳﾄｳｾﾝﾓﾝｶﾞｯｺｳ","富山商船高等専門学","富山商船高専",49,"学  連"]
[496020,"ｲｼｶﾜｺｳｷﾞｮｳｺｳﾄｳｾﾝﾓﾝｶﾞｯｺｳ","石川工業高等専門学","石川工高専",49,"学  連"]
[496021,"ﾌｸｲｺｳｷﾞｮｳｺｳﾄｳｾﾝﾓﾝｶﾞｯｺｳ","福井工業高等専門学","福井工高専",49,"学  連"]
[496022,"ﾅｶﾞﾉｺｳｷﾞｮｳｺｳﾄｳｾﾝﾓﾝｶﾞｯｺｳ","長野工業高等専門学","長野工高専",49,"学  連"]
[496023,"ｷﾞﾌｺｳｷﾞｮｳｺｳﾄｳｾﾝﾓﾝｶﾞｯｺｳ","岐阜工業高等専門学","岐阜工高専",49,"学  連"]
[496024,"ﾇﾏﾂﾞｺｳｷﾞｮｳｺｳﾄｳｾﾝﾓﾝｶﾞｯｺｳ","沼津工業高等専門学","沼津工高専",49,"学  連"]
[496025,"ﾄﾖﾀｺｳｷﾞｮｳｺｳﾄｳｾﾝﾓﾝｶﾞｯｺｳ","豊田工業高等専門学","豊田工高専",49,"学  連"]
[496026,"ｽｽﾞｶｺｳｷﾞｮｳｺｳﾄｳｾﾝﾓﾝｶﾞｯｺｳ","鈴鹿工業高等専門学","鈴鹿工高専",49,"学  連"]
[496027,"ﾄﾊﾞｼｮｳｾﾝｺｳﾄｳｾﾝﾓﾝｶﾞｯｺｳ","鳥羽商船高等専門学","鳥羽商船高専",49,"学  連"]
[496028,"ﾏｲﾂﾞﾙｺｳｷﾞｮｳｺｳﾄｳｾﾝﾓﾝｶﾞｯｺｳ","舞鶴工業高等専門学","舞鶴工高専",49,"学  連"]
[496029,"ｱｶｼｺｳｷﾞｮｳｺｳﾄｳｾﾝﾓﾝｶﾞｯｺｳ","明石工業高等専門学","明石工高専",49,"学  連"]
[496030,"ﾅﾗｺｳｷﾞｮｳｺｳﾄｳｾﾝﾓﾝｶﾞｯｺｳ","奈良工業高等専門学","奈良工高専",49,"学  連"]
[496031,"ﾜｶﾔﾏｺｳｷﾞｮｳｺｳﾄｳｾﾝﾓﾝｶﾞｯｺｳ","和歌山工業高等専門学","和歌山工高専",49,"学  連"]
[496032,"ﾖﾅｺﾞｺｳｷﾞｮｳｺｳﾄｳｾﾝﾓﾝｶﾞｯｺｳ","米子工業高等専門学","米子工高専",49,"学  連"]
[496033,"ﾏﾂｴｺｳｷﾞｮｳｺｳﾄｳｾﾝﾓﾝｶﾞｯｺｳ","松江工業高等専門学","松江工高専",49,"学  連"]
[496034,"ﾂﾔﾏｺｳｷﾞｮｳｺｳﾄｳｾﾝﾓﾝｶﾞｯｺｳ","津山工業高等専門学","津山工高専",49,"学  連"]
[496035,"ｸﾚｺｳｷﾞｮｳｺｳﾄｳｾﾝﾓﾝｶﾞｯｺｳ","呉工業高等専門学","呉工高専",49,"学  連"]
[496036,"ﾋﾛｼﾏｼｮｳｾﾝｺｳﾄｳｾﾝﾓﾝｶﾞｯｺｳ","広島商船高等専門学","広島商船高専",49,"学  連"]
[496037,"ｳﾍﾞｺｳｷﾞｮｳｺｳﾄｳｾﾝﾓﾝｶﾞｯｺｳ","宇部工業高等専門学","宇部工高専",49,"学  連"]
[496038,"ｵｵｼﾏｼｮｳｾﾝｺｳﾄｳｾﾝﾓﾝｶﾞｯｺｳ","大島商船高等専門学","大島商船高専",49,"学  連"]
[496039,"ｱﾅﾝｺｳｷﾞｮｳｺｳﾄｳｾﾝﾓﾝｶﾞｯｺｳ","阿南工業高等専門学","阿南工高専",49,"学  連"]
[496040,"ﾀｶﾏﾂｺｳｷﾞｮｳｺｳﾄｳｾﾝﾓﾝｶﾞｯｺｳ","高松工業高等専門学","高松工高専",49,"学  連"]
[496041,"ﾀｸﾏﾃﾞﾝﾊﾟｺｳｷﾞｮｳｺｳﾄｳｾﾝﾓﾝｶﾞｯｺｳ","詫間電波工業高等専門学","詫間電波工高専",49,"学  連"]
[496042,"ﾆｲﾊﾏｺｳｷﾞｮｳｺｳﾄｳｾﾝﾓﾝｶﾞｯｺｳ","新居浜工業高等専門学","新居浜工高専",49,"学  連"]
[496043,"ﾕｹﾞｼｮｳｾﾝｺｳﾄｳｾﾝﾓﾝｶﾞｯｺｳ","弓削商船高等専門学","弓削商船高専",49,"学  連"]
[496044,"ｺｳﾁｺｳｷﾞｮｳｺｳﾄｳｾﾝﾓﾝｶﾞｯｺｳ","高知工業高等専門学","高知工高専",49,"学  連"]
[496045,"ｸﾙﾒｺｳｷﾞｮｳｺｳﾄｳｾﾝﾓﾝｶﾞｯｺｳ","久留米工業高等専門学","久留米工高専",49,"学  連"]
[496046,"ｱﾘｱｹｺｳｷﾞｮｳｺｳﾄｳｾﾝﾓﾝｶﾞｯｺｳ","有明工業高等専門学","有明工高専",49,"学  連"]
[496047,"ｷﾀｷｭｳｼｭｳｺｳｷﾞｮｳｺｳﾄｳｾﾝﾓﾝｶﾞｯｺｳ","北九州工業高等専門学","北九州工高専",49,"学  連"]
[496048,"ｻｾﾎﾞｺｳｷﾞｮｳｺｳﾄｳｾﾝﾓﾝｶﾞｯｺｳ","佐世保工業高等専門学","佐世保工高専",49,"学  連"]
[496049,"ｸﾏﾓﾄﾃﾞﾝﾊﾟｺｳｷﾞｮｳｺｳﾄｳｾﾝﾓﾝｶﾞｯｺｳ","熊本電波工業高等専門学","熊本電波工高専",49,"学  連"]
[496050,"ｵｵｲﾀｺｳｷﾞｮｳｺｳﾄｳｾﾝﾓﾝｶﾞｯｺｳ","大分工業高等専門学","大分工高専",49,"学  連"]
[496051,"ﾐﾔｺﾉｼﾞｮｳｺｳｷﾞｮｳｺｳﾄｳｾﾝﾓﾝｶﾞｯｺｳ","都城工業高等専門学","都城工高専",49,"学  連"]
[496052,"ｶｺﾞｼﾏｺｳｷﾞｮｳｺｳﾄｳｾﾝﾓﾝｶﾞｯｺｳ","鹿児島工業高等専門学","鹿児島工高専",49,"学  連"]
[496053,"ﾄｸﾔﾏｺｳｷﾞｮｳｺｳﾄｳｾﾝﾓﾝｶﾞｯｺｳ","徳山工業高等専門学","徳山工高専",49,"学  連"]
[496054,"ﾔﾂｼﾛｺｳｷﾞｮｳｺｳﾄｳｾﾝﾓﾝｶﾞｯｺｳ","八代工業高等専門学","八代工高専",49,"学  連"]
[497001,"ﾄｳｷｮｳﾄﾘﾂｺｳｸｳｺｳｷﾞｮｳｺｳｾﾝ","東京都立航空工業高等専門学","東京都立航空工",49,"学  連"]
[497002,"ﾄｳｷｮｳﾄﾘﾂｺｳｷﾞｮｳｺｳﾄｳｾﾝﾓﾝｶﾞｯｺｳ","東京都立工業高等専門学","東京都立工高専",49,"学  連"]
[497003,"ｵｵｻｶﾌﾘﾂｺｳｷﾞｮｳｺｳﾄｳｾﾝﾓﾝｶﾞｯｺｳ","大阪府立工業高等専門学","大阪府立工高専",49,"学  連"]
[497004,"ｺﾅﾍﾞｼﾘﾂｺｳｷﾞﾖｳｺｳﾄｳｾﾝﾓﾝｶﾞｯｺｳ","神戸市立工業高等専門学","神戸市立工高専",49,"学  連"]
[498002,"ｲｸｴｲｺｳｷﾞｮｳｺｳﾄｳｾﾝﾓﾝｶﾞｯｺｳ","育英工業高等専門学","育英工高専",49,"学  連"]
[498004,"ﾄｳｲﾝｶﾞｸｴﾝｺｳｷﾞｮｳｺｳﾄｳｾﾝﾓﾝｶﾞｯｺｳ","桐蔭学園工業高等専門学","桐蔭学園工高専",49,"学  連"]
[498005,"ｶﾅｻﾞﾜｺｳｷﾞｮｳｺｳﾄｳｾﾝﾓﾝｶﾞｯｺｳ","金沢工業高等専門学","金沢工高専",49,"学  連"]
[498006,"ｸﾏﾉｺｳｷﾞｮｳｺｳﾄｳｾﾝﾓﾝｶﾞｯｺｳ","熊野工業高等専門学","熊野工高専",49,"学  連"]
[499001,"ｷﾀｻﾞﾄ ﾀﾞｲ","北里大学","北里大学",49,"学  連"]
[499002,"ﾆﾎﾝﾀﾞｲｺｳｶﾞｸﾌﾞ","日本大学工学部","日大工学部",49,"学  連"]
[499003,"ｷﾝｷﾀﾞｲ ｲｶﾞｸﾌﾞ","近畿大学医学部","近大医学部",49,"学  連"]
[499004,"ﾄｳｶｲﾀﾞｲ ｶｲﾖｳｶﾞｸﾌﾞ","東海大学海洋学部","東海大海洋学部",49,"学  連"]
[499005,"ｷﾝｷﾀﾞｲ ｺｳｶﾞｸﾌﾞ","近畿大学工学部","近大工学部",49,"学  連"]
[499007,"ｵｵｻｶﾀﾝｷﾀﾞｲ","大阪短期大学","大阪短期大学",49,"学  連"]
[499008,"ｷﾝｷﾀﾞｲ ｷｭｳｼｭｳｺｳｶﾞｸﾌﾞ","近畿大学九州工学部","近大九州工学部",49,"学  連"]
[499009,"ﾘｭｳﾂｳ ｶｶﾞｸ ﾀﾞｲ","流通科学大学","流通科学大",49,"学  連"]
[499010,"ﾆﾎﾝﾀﾞｲ ｺｸｻｲｶﾝｹｲｶﾞｸﾌﾞ","日本大学国際関係学部","日大国際関係学",49,"学  連"]
[499011,"ｷｭｳｼｭｳﾃｲｷｮｳﾀﾝｷﾀﾞｲ","九州帝京短期大学","九州帝京短大",49,"学  連"]
[499012,"ﾋﾒｼﾞﾄﾞｯｷｮｳﾀﾞｲ","姫路獨協大学","姫路獨協大",49,"学  連"]
[499013,"ｺﾏｻﾞﾜﾀﾞｲ","駒沢大学北海道","駒沢大北海道",49,"学  連"]
[499015,"ﾋﾛｼﾏﾀﾞｲｲｶﾞｸﾌﾞ","広島大学医学部","広島大医学部",49,"学  連"]
[499017,"ﾄｳｷｮｳﾄﾘﾂ ｶｶﾞｸｷﾞｼﾞｭﾂﾀﾞｲ","東京都立科学技術大学","科学技術大学",49,"学  連"]
[499018,"ﾃｲｷｮｳｷﾞｼﾞｭﾂｶｶﾞｸﾀﾞｲ","帝京技術科学大学","帝京技術科学大",49,"学  連"]
[499019,"ｶﾅｻﾞﾜｼﾞｮｼﾀﾞｲ","金沢女子大学","金沢女子大学",49,"学  連"]
[499020,"ﾆｲｶﾞﾀﾀﾞｲｲｶﾞｸﾌﾞ","新潟大学医学部","新潟大学医学部",49,"学  連"]
[499021,"ﾆｼﾄｳｷｮｳ ｶｶﾞｸ ﾀﾞｲ","西東京科学大学","西東京科学大",49,"学  連"]
[499022,"ｼﾓﾉｾｷ ｽｲｻﾝ ﾀﾞｲ","下関水産大学","下関水産大",49,"学  連"]
[499023,"ﾄﾔﾏｺｸｻｲﾀﾞｲ","富山国際大学","富山国際大",49,"学  連"]
[499024,"ｼｶﾞﾌﾞﾝｶﾀﾝｷﾀﾞｲ","滋賀文化短期大学","滋賀文化短期大",49,"学  連"]
[499025,"ｷﾋﾞｺｸｻｲﾀﾞｲ","吉備国際大学","吉備国際大学",49,"学  連"]
[499026,"ﾁｮｳｾﾝ ﾀﾞｲｶﾞｯｺｳ","朝鮮大学","朝鮮大学校",49,"学  連"]
[499027,"ﾄｳｶｲﾀﾞｲﾌｸｵｶﾀﾝｷﾀﾞｲ","東海大学福岡短期大学","東海大学福岡短",49,"学  連"]
[499028,"ｶﾜｻｷｲﾘｮｳﾌｸｼ ﾀﾞｲ","川崎医療福祉大学","川崎医療福祉大",49,"学  連"]
[499046,"ｱｲﾁﾐｽﾞﾎﾀﾞｲ","愛知みずほ大学","愛知みずほ大",49,"学  連"]
[499047,"ﾄｳｶｲｶﾞｸｴﾝﾀﾞｲ","東海学園大学","東海学園大",49,"学  連"]
[499048,"ﾁｭｳｷｮｳｶﾞｸｲﾝﾀﾞｲ","中京学院大学","中京学院大",49,"学  連"]
[499066,"ﾄｳｷｮｳﾀﾞｲ","東大大学院","東大大学院",49,"学  連"]
[499096,"ｼﾞｮｳｻｲｺｸｻ ﾀﾞｲ","城西国際大学","城西国際大",49,"学  連"]
[499099,"ﾄﾖﾊｼｿｳｿﾞｳ ﾀﾞｲ","豊橋創造大学","豊橋創造大",49,"学  連"]
[499113,"ｱｲﾁｹﾝﾘﾂﾀﾞｲ","愛知県立大学","愛知県立大学",49,"学  連"]
[499995,"ｶｲｼﾞｮｳ ﾎｱﾝ ﾀﾞｲｶﾞｯｺｳ","海上保安大学","海上保安大",49,"学  連"]
[499996,"ｺｸﾘﾂ ﾎﾞｳｴｲ ﾀﾞｲｶﾞｯｺｳ","国立防衛大学","防衛大",49,"学  連"]
[499999,"ﾎﾝﾈﾝﾄﾞ ﾐﾄｳﾛｸ","本年度未登録","本年度未登録",49,"学  連"]