{"text_format":"1","workbook":"xlsx","n_sheets":11,"sheets":["注意事項","①陸連データ貼り付け","①選手情報入力","②団体情報入力","③リレー情報確認","③種目別人数","④申込一覧表","⑤個人種目個票","　　　　　","種目情報","data_kyogisha"],"not_rendered":{"charts":0,"images":1,"macros":1,"external_links":2,"defined_names":12,"comments":3,"pivot_tables":0},"unopened":[],"bounds":{"document_bytes":16777216,"sheet_cells":100000,"rows_first":2000,"rows_last":500,"rows_between":2000,"halvings":0,"cell_chars":16384,"cell_head_chars":4096},"cells_cut":0,"cells_raw":0,"read":"whole","date_system":"1900"}

{"sheet":"注意事項","index":0,"n_rows":85,"n_cols":12,"rows_kept":85,"cut":false,"hidden":false,"merged":[[84,3,84,7],[11,1,11,13],[63,3,63,5],[63,6,63,10],[63,11,63,15],[76,2,78,9],[0,0,0,13],[7,1,7,7],[3,2,3,7],[4,2,4,7],[8,1,8,2],[8,3,8,5],[6,2,6,7],[2,2,2,10],[3,9,6,13],[10,1,10,3],[10,4,10,8],[10,9,10,13]]}
["　★データ入力前にこのページの内容を必ずお読みください。"]
[]
[null,"大会名","第76回愛知陸上競技選手権大会"]
[null,"期　日","平成28年7月16日(土)・17日（日）",null,null,null,null,null,null,"大学生用"]
[null,"会　場","パロマ瑞穂スタジアム・パロマ瑞穂北陸上競技場"]
[]
[null,"申込期間","平成２８年６月１３日（月）～２１日（火）"]
[null,"※メール送信・書類郵送・振込を完了してください！"]
[]
["　＜注意事項等＞"]
[null,"申込みメールアドレス→　",null,null,"aichi.kensen@gmail.com",null,null,null,null,"←要覧と異なっています。ご注意ください"]
[null,"最近、メールアドレスを間違える方が多くお見えです。上記のセルには保護をかけていませんので、コピーしてお使いください。"]
["１ ","この大会は、資格審査があります。資格取得記録を入力してください。"]
[null,"シーズンベストが資格記録を上回る場合のみ、シーズンベストの欄に記録を記入してください。"]
[null,"シーズンベストが資格記録の場合には、シーズンベストの欄は未記入にしてください。"]
[null,"送信時に、パスワード保護をしないでください。メールにパスワードを記載したら無意味です。"]
["２ ","大会要項（出場制限等）をよく読んで入力してください。"]
["３ ","このファイルは申込人数40名まで入力できます。40名を超える場合は、ファイルを追加してください。"]
["４ ","大会要項（出場制限等）をよく読んで入力してください。"]
["５ ","ナンバー・氏名・種目等、入力間違いのないようにお願いします。"]
["６ ","コピーしたデータを貼り付ける場合は、「形式を選択して貼り付け」から「値」を選択して貼り付けてください。"]
["７ ","入力したデータを削除・修正する場合は、必ず「Delete」キーで処理してください。※行削除はしないでください！"]
["８ ","申込は、メール送信と書類提出の両方が必要になりますので、お忘れのないようにお願いします。"]
["９ ","このファイルの内容は、プログラム編成及び作成、記録処理、その他競技会運営の目的で使用します。"]
["１０","このファイルには、印刷ボタンにマクロを使用しています。エクセルの設定をマクロ有効にしてください。"]
["　★作業の流れは次のとおりです。"]
["　　①５月末現在の登録データがあります。"]
["↓","①選手情報入力の１行目にナンバーを入力すると、②団体入力の１～４に必要な情報が入力されます。"]
["↓","　データがない場合には、必要事項を入力してください。"]
["↓"]
["　　②団体情報の入力"]
["↓","　・団体情報入力の５～７を入力してください。"]
["↓"]
["　　③選手情報の入力"]
["↓","　・登録データがあれば、ナンバーを入力すれば、氏名、フリガナ、性別、学年は自動で入力されます。データが無い場合には、直接入力してください。"]
["↓","　・３種目以上出場の場合は、２行使用してどちらにもナンバーを入力してください。"]
["↓","　　入力を確認して、申込種目、記録を入力してください。"]
["↓","　　※今シーズンのナンバーを半角で入力してください。アルファベットは大文字で入力してください。"]
["↓","　　※入力は、男子を先に入力し、続けて女子を入力してください。"]
["↓","　　※氏名については、姓と名の間に全角スペースを１つ入れてください。"]
["↓","　　※ﾌﾘｶﾞﾅについては、姓と名の間に半角スペースを１つ入れてください。"]
["↓","　　※記録は、次のとおり入力してください。"]
["↓",null,"◎トラック種目・・・・分秒をドット「．」で区切り、100分の1秒まで入力"]
["↓",null,"例１",null,"54秒23","⇒",54.23]
["↓",null,"例２",null,"4分07秒00","⇒","4.07.00"]
["↓",null,null,"　 ※記録が１分未満で、10分の1以下が「00」"]
["↓",null,null,"　　 のときは整数で表示されます。"]
["↓",null,null,"例","12秒00","⇒",12]
["↓",null,"◎フィールド種目・・・メートルを「m」で区切り、cm単位まで入力（「cm」の文字は入れない）"]
["↓",null,"例３",null,"20m","⇒","20m00"]
["↓",null,"★記録がない場合は空欄にしてください。"]
["　　④種目別人数の確認"]
["↓","　・種目ごとの申込人数と申込金額を確認してください。"]
["↓","　・プログラム購入部数を入力後、合計金額を確認してください。"]
["↓"]
["　　⑤申込一覧表と⑥個人種目個票の確認"]
["↓","　・個人種目個票に必要事項を入力してください。プリントアウト後に手書きしても構いません。"]
["↓","　・入力漏れや入力間違い等がないかを確認してください。"]
["　　⑥種目別人数表・申込一覧表・個人種目個票の印刷"]
["↓","　・「④種目別人数表」にある、帳票印刷ボタンをクリックして印刷を行ってください。"]
["　　⑦ファイルの保存"]
["↓","　・ファイル名を団体名（例：○○○）に変更し保存してください。メールに添付するときは、ファイル名が団体名に"]
["↓","　　なっていることを確認してください。"]
["　　⑧メール送信",null,null,"申込みメールアドレス→　",null,null,"aichi.kensen@gmail.com",null,null,null,null,"←要覧と異なっています。ご注意ください"]
["↓","　・入力したファイルを送信してください。"]
["↓","　・メールの件名に「大会名」と「団体名」を入力してください。"]
["↓","　・正しく送信されれば、受信した旨の返信が届きます。"]
["↓"]
["　　⑨参加料の振込"]
["↓","　・参加料を振り込み、明細書のコピーを「種目別人数一覧」の裏面に添付してください。"]
["　　⑨郵送"]
["↓"]
["↓","　・「③種目別一覧表」「④申込一覧表」「⑤個人種目個票」を郵送してください。"]
["↓","　・「種目別人数一覧」の裏面には振込明細書のコピーを添付してください。"]
["↓"]
["↓",null,"送付先"]
["↓",null,"〒460-0012　名古屋市中区千代田２－19－16　千代田ビル７Ｆ\n         （財）愛知陸上競技協会　「愛知選手権大会」宛"]
["↓"]
["↓"]
["　　⑩申込完了"]
[]
[]
[null,"　★問い合わせ先"]
[]
[null,null,"mail：","toiawase.aichi@gmail.com"]

{"sheet":"①陸連データ貼り付け","index":1,"n_rows":1019,"n_cols":36,"rows_kept":1019,"cut":false,"hidden":true,"merged":[]}
["コード入ナンバー","JAAF ID","会員名","会員名カナ","性別","学年","登録都道府県名","旧団体コード","団体名","団体名カナ","団体名略称","生年月日","コード入ナンバー","MC","備考","学年","団体区分","地域学連名","支部名","郵便番号","住所(都道府県)","住所(市区町村以下)","住所(建物名)","審判資格","E-mail","E-mail配信希望","連絡先電話番号","出身高校都道府県","出身高校名","出身中学校都道府県","出身中学校名","勤務先名","勤務先郵便番号","勤務先住所","勤務先電話番号","学部"]
["1-426",103193118,"植村　渉","ウエムラ　ワタル","男",1,"愛知県",490007,"北見工業大学","キタミコウギョウダイガク","北見工業大",19661203,"1-426",499998,"審判のみ",null,"一般",null,"名古屋","453-0837","愛知県","名古屋市中村区二瀬町154","松栄ビル３F","なし",null,"希望しない",null,null,null,null,null,null,"-"]
["1-692",39071525,"近藤　寿恵","コンドウ　ヒサエ","女",4,null,491001,"札幌医科大学","サッポロイカダイガク","札幌医科大",null,"1-692",492166]
["1-186",39067732,"相武　大輝","アイム　ダイキ","男",2,null,490001,"北海道大学","ホッカイドウダイガク","北海道大",null,"1-186",492166]
["1-167",39078936,"小堀　裕輝","コボリ　ユウキ","男",3,null,490001,"北海道大学","ホッカイドウダイガク","北海道大",null,"1-167",492166]
["1-492",39847334,"白石　将","シライシ　ショウ","男",1,null,490001,"北海道大学","ホッカイドウダイガク","北海道大",null,"1-492",492166]
["1-182",39232726,"山野　将明","ヤマノ　マサアキ","男",3,null,490001,"北海道大学","ホッカイドウダイガク","北海道大",null,"1-182",492166]
["2-208",39265530,"関　俊樹","セキ　トシキ","男",3,null,490010,"東北大学","トウホクダイガク","東北大",null,"2-208",492166]
["2-184",39175025,"本田　雄生","ホンダ　ユウキ","男",4,null,490010,"東北大学","トウホクダイガク","東北大",null,"2-184",492166]
["2-130",39138125,"原　菜月","ハラ　ナツキ","女",4,null,490014,"福島大学","フクシマダイガク","福島大",null,"2-130",492166]
["3-1346",48327327,"浅井　良","アサイ　リョウ","男",2,null,490016,"筑波大学","ツクバダイガク","筑波大",null,"3-1346",492166]
["3-5466",39888945,"岩田　知大","イワタ　トモヒロ","男",1,null,490016,"筑波大学","ツクバダイガク","筑波大",null,"3-5466",492166]
["3-1271",39267128,"川瀬　宙夢","カワセ　ヒロム","男",2,null,490016,"筑波大学","ツクバダイガク","筑波大",null,"3-1271",492166]
["3-1262",39621930,"河室　裕貴","カワムロ　ユウキ","男",4,null,490016,"筑波大学","ツクバダイガク","筑波大",null,"3-1262",492166]
["3-7393",39685637,"杉浦　澄美","スギウラ　キヨミ","女",3,null,490016,"筑波大学","ツクバダイガク","筑波大",null,"3-7393",492166]
["3-7413",46997237,"高野　莉万","タカノ　リマ","女",2,null,490016,"筑波大学","ツクバダイガク","筑波大",null,"3-7413",492166]
["3-1248",39312220,"柵木　健","マセギ　タケシ","男",3,null,490016,"筑波大学","ツクバダイガク","筑波大",null,"3-1248",492166]
["3-7428",40168726,"松井　紗希","マツイ　サキ","女",2,null,490016,"筑波大学","ツクバダイガク","筑波大",null,"3-7428",492166]
["3-7362",39995439,"渡邉　友紀子","ワタナベ　ユキコ","女",2,null,490016,"筑波大学","ツクバダイガク","筑波大",null,"3-7362",492166]
["3-6277",105349123,"山中　龍徳","ヤナマカ　タツノリ","男",1,null,491003,"高崎経済大学","タカサキケイザイダイガク","高崎経済大",null,"3-6277",492166]
["3-287",39418025,"大村　将照","オオムラ　マサテル","男",3,null,492037,"城西大学","ジョウサイダイガク","城西大",null,"3-287",492166]
["3-7107",16862225,"佐光　菜々子","サコウ　ナナコ","女",1,null,492037,"城西大学","ジョウサイダイガク","城西大",null,"3-7107",492166]
["3-265",39991738,"西嶋　雄伸","ニシジマ　ユウシン","男",1,null,492037,"城西大学","ジョウサイダイガク","城西大",null,"3-265",492166]
["3-250",39903933,"服部　潤哉","ハットリ　ジュンヤ","男",2,null,492037,"城西大学","ジョウサイダイガク","城西大",null,"3-250",492166]
["3-5799",39699036,"中川　滋貴","ナカガワ　シゲキ","男",3,null,492337,"駿河台大学","スルガダイダイガク","駿河台大",null,"3-5799",492166]
["3-8646",40285221,"中野　真琴","ナカノ　マコト","女",1,null,492337,"駿河台大学","スルガダイダイガク","駿河台大",null,"3-8646",492166]
["3-4485",21850824,"藤ノ木　祥真","フジノキ　ショウマ","男",2,null,492337,"駿河台大学","スルガダイダイガク","駿河台大",null,"3-4485",492166]
["3-1930",39365632,"鈴木　太基","スズキ　タイキ","男",4,null,492087,"大東文化大学","ダイトウブンカダイガク","大東文化大",null,"3-1930",492166]
["3-1943",18355729,"谷川　貴俊","タニガワ　タカトシ","男",2,null,492087,"大東文化大学","ダイトウブンカダイガク","大東文化大",null,"3-1943",492166]
["3-2558",39696538,"高柳　佳央","タカヤナギ　ヨシオ","男",4,null,492035,"東京国際大学","トウキョウコクサイダイガク","東京国際大",null,"3-2558",492167]
["3-2591",39744229,"堤　完一","ツツミ　カンイチ","男",2,null,492035,"東京国際大学","トウキョウコクサイダイガク","東京国際大",null,"3-2591",492167]
["3-2571",29308022,"新田　裕貴","ニッタ　ユウキ","男",3,null,492035,"東京国際大学","トウキョウコクサイダイガク","東京国際大",null,"3-2571",492167]
["3-2586",45712827,"深澤　心","フカサワ　シン","男",2,null,492035,"東京国際大学","トウキョウコクサイダイガク","東京国際大",null,"3-2586",492167]
["3-903",39559435,"相羽　祐輝","アイバ　ユウキ","男",3,null,492114,"東洋大学","トウヨウダイガク","東洋大",null,"3-903",492167]
["3-864",39572531,"及川　文隆","オイカワ　フミタカ","男",3,null,492114,"東洋大学","トウヨウダイガク","東洋大",null,"3-864",492167]
["3-837",39365733,"成瀬　雅俊","ナルセ　マサトシ","男",4,null,492114,"東洋大学","トウヨウダイガク","東洋大",null,"3-837",492167]
["3-4209",39679034,"斉藤　凱","サイトウ　ガイ","男",4,null,492420,"平成国際大学","ヘイセイコクサイダイガク","平成国際大",null,"3-4209",492167]
["3-1195",48970331,"井上　翔太","イノウエ　ショウタ","男",2,null,492140,"早稲田大学","ワセダダイガク","早稲田大",null,"3-1195",492167]
["3-1163",39069128,"江口　卓弥","エグチ　タクヤ","男",4,null,492140,"早稲田大学","ワセダダイガク","早稲田大",null,"3-1163",492167]
["3-1185",39371932,"河合　祐哉","カワイ　ユウヤ","男",3,null,492140,"早稲田大学","ワセダダイガク","早稲田大",null,"3-1185",492167]
["3-1167",39070221,"佐藤　淳","サトウ　ジュン","男",4,null,492140,"早稲田大学","ワセダダイガク","早稲田大",null,"3-1167",492167]
["3-1186",39372024,"鈴木　皐平","スズキ　コウヘイ","男",3,null,492140,"早稲田大学","ワセダダイガク","早稲田大",null,"3-1186",492167]
["3-1170",39366027,"平　和真","タイラ　カズマ","男",4,null,492140,"早稲田大学","ワセダダイガク","早稲田大",null,"3-1170",492167]
["3-1180",39381428,"廣出　和樹","ヒロデ　カズキ","男",4,null,492140,"早稲田大学","ワセダダイガク","早稲田大",null,"3-1180",492167]
["3-357",39642832,"川浪　駿","カワナミ　シュン","男",4,null,492330,"国際武道大学","コクサイブドウダイガク","国際武道大",null,"3-357",492167]
["3-434",31760320,"中村　流行","ナカムラ　リュウコウ","男",3,null,492330,"国際武道大学","コクサイブドウダイガク","国際武道大",null,"3-434",492167]
["3-378",39716329,"野中　裕太","ノナカ　ユウタ","男",4,null,492330,"国際武道大学","コクサイブドウダイガク","国際武道大",null,"3-378",492167]
["3-113",39597740,"川合　健太","カワイ　ケンタ","男",3,null,492070,"順天堂大学","ジュンテンドウダイガク","順天堂大",null,"3-113",492167]
["3-74",39571530,"聞谷　賢人","キクタニ　ケント","男",4,null,492070,"順天堂大学","ジュンテンドウダイガク","順天堂大",null,"3-74",492167]
["3-8444",40313112,"田中　美帆","タナカ　ミホ","女",1,null,492070,"順天堂大学","ジュンテンドウダイガク","順天堂大",null,"3-8444",492167]
["3-99",72180220,"野本　健太郎","ノモト　ケンタロウ","男",4,null,492070,"順天堂大学","ジュンテンドウダイガク","順天堂大",null,"3-99",492167]
["3-108",39572228,"山田　康太","ヤマダ　コウタ","男",4,null,492070,"順天堂大学","ジュンテンドウダイガク","順天堂大",null,"3-108",492167]
["3-4652",39072223,"杉本　侑真","スギモト　ユウマ","男",3,null,490020,"千葉大学","チバダイガク","千葉大",null,"3-4652",492167]
["3-2693",39629837,"村瀬　俊哉","ムラセ　トシヤ","男",3,null,492047,"中央学院大学","チュウオウガクインダイガク","中央学院大",null,"3-2693",492167]
["3-4849",62449227,"鬼頭　直己","キトウ　ナオキ","男",1,null,492049,"麗澤大学","レイタクダイガク","麗澤大",null,"3-4849",492167]
["3-4836",39089029,"木下　晋治","キノシタ　シンジ","男",3,null,492049,"麗澤大学","レイタクダイガク","麗澤大",null,"3-4836",492167]
["3-4839",39717734,"五島　一生","ゴトウ　カズキ","男",3,null,492049,"麗澤大学","レイタクダイガク","麗澤大",null,"3-4839",492167]
["3-4853",40252619,"鶸田　拓巳","ヒワダ　タクミ","男",1,null,492049,"麗澤大学","レイタクダイガク","麗澤大",null,"3-4853",492167]
["3-4846",40317823,"村瀬　佳樹","ムラセ　ヨシキ","男",2,null,492049,"麗澤大学","レイタクダイガク","麗澤大",null,"3-4846",492167]
["3-4856",58272630,"吉田　蓮","ヨシダ　レン","男",1,null,492049,"麗澤大学","レイタクダイガク","麗澤大",null,"3-4856",492167]
["3-2072",39365228,"安藤　悠哉","アンドウ　ユウヤ","男",4,null,492051,"青山学院大学","アオヤマガクインダイガク","青山学院大",null,"3-2072",492167]
["3-2081",29307526,"石川　優作","イシカワ　ユウサク","男",3,null,492051,"青山学院大学","アオヤマガクインダイガク","青山学院大",null,"3-2081",492167]
["3-2074",45712625,"一色　恭志","イッシキ　タダシ","男",4,null,492051,"青山学院大学","アオヤマガクインダイガク","青山学院大",null,"3-2074",492167]
["3-2091",40278627,"小野田　勇次","オノダ　ユウジ","男",2,null,492051,"青山学院大学","アオヤマガクインダイガク","青山学院大",null,"3-2091",492167]
["3-2077",39696235,"鈴木　悠日","スズキ　ハルカ","男",4,null,492051,"青山学院大学","アオヤマガクインダイガク","青山学院大",null,"3-2077",492167]
["3-2059",39696740,"冨田　恭兵","トミタ　キョウヘイ","男",4,null,492051,"青山学院大学","アオヤマガクインダイガク","青山学院大",null,"3-2059",492167]
["3-7774",73642325,"萩原　加奈子","ハギハラ　カナコ","女",3,null,492051,"青山学院大学","アオヤマガクインダイガク","青山学院大",null,"3-7774",492167]
["3-2513",39940732,"鹿居　二郎","シカイ　ジロウ","男",1,null,492052,"亜細亜大学","アジアダイガク","亜細亜大",null,"3-2513",492167]
["3-2517",40183622,"服部　雅也","ハットリ　マサヤ","男",1,null,492052,"亜細亜大学","アジアダイガク","亜細亜大",null,"3-2517",492167]
["3-2835",39686234,"石川　純平","イシカワ　ジュンペイ","男",3,null,492055,"桜美林大学","オウビリンダイガク","桜美林大",null,"3-2835",492167]
["3-2839",39576636,"高橋　啓","タカハシ　ヒロム","男",3,null,492055,"桜美林大学","オウビリンダイガク","桜美林大",null,"3-2839",492167]
["3-8771",39902730,"小林　薫子","コバヤシ　カオルコ","女",1,null,490031,"お茶の水女子大学","オチャノミズジョシダイガク","お茶の水女子大",null,"3-8771",492167]
["3-2951",40142314,"青木　祐人","アオキ　ユウト","男",1,null,492064,"國學院大學","コクガクインダイガク","國學院大",null,"3-2951",492167]
["3-2912",39503929,"市川　創史","イチカワ　ソウシ","男",4,null,492064,"國學院大學","コクガクインダイガク","國學院大",null,"3-2912",492167]
["3-2954",40310412,"稲田　崚大","イナダ　シュンタ","男",1,null,492064,"國學院大學","コクガクインダイガク","國學院大",null,"3-2954",492167]
["3-1861",45528832,"大川　隼平","オオカワ　シュンペイ","男",2,null,492066,"国士舘大学","コクシカンダイガク","国士舘大",null,"3-1861",492167]
["3-1863",2331716,"亀山　雄一","カメヤマ　ユウイチ","男",2,null,492066,"国士舘大学","コクシカンダイガク","国士舘大",null,"3-1863",492167]
["3-8551",40164419,"北川　瑠菜","キタガワ　ルナ","女",1,null,492066,"国士舘大学","コクシカンダイガク","国士舘大",null,"3-8551",492167]
["3-5516",45825226,"木部　俊介","キベ　シュンスケ","男",1,null,492066,"国士舘大学","コクシカンダイガク","国士舘大",null,"3-5516",492167]
["3-4115",39365531,"金尾　圭祐","カナオ　ケイスケ","男",4,null,492067,"駒澤大学","コマザワダイガク","駒澤大",null,"3-4115",492167]
["3-4139",46030114,"白頭　徹也","ハクトウ　テツヤ","男",2,null,492067,"駒澤大学","コマザワダイガク","駒澤大",null,"3-4139",490044]
["3-4151",61203921,"原嶋　渓","ハラシマ　ケイ","男",1,null,492067,"駒澤大学","コマザワダイガク","駒澤大",null,"3-4151",490044]
["3-4152",40347321,"平松　亮介","ヒラマツ　リョウスケ","男",1,null,492067,"駒澤大学","コマザワダイガク","駒澤大",null,"3-4152",490044]
["3-4307",49111117,"岡本　直之","オカモト　ナオユキ","男",2,null,491085,"首都大学東京","シュトダイガクトウキョウ","首都大東京",null,"3-4307",490044]
["3-3351",39662127,"川本　新","カワモト　アラタ","男",3,null,492071,"上智大学","ジョウチダイガク","上智大",null,"3-3351",490044]
["3-2054",92201923,"山根　康太","ヤマネ　コウタ","男",2,null,492079,"成蹊大学","セイケイダイガク","成蹊大",null,"3-2054",490044]
["3-4061",39481934,"柴田　拓人","シバタ　タクト","男",4,null,492085,"創価大学","ソウカダイガク","創価大",null,"3-4061",490044]
["3-4064",39697135,"彦坂　一成","ヒコサカ　カズナリ","男",4,null,492085,"創価大学","ソウカダイガク","創価大",null,"3-4064",490044]
["3-4103",39714630,"丸山　祐輔","マルヤマ　ユウスケ","男",4,null,492085,"創価大学","ソウカダイガク","創価大",null,"3-4103",490044]
["3-3214",39918232,"石黒　太郎","イシグロ　タロウ","男",2,null,492090,"玉川大学","タマガワダイガク","玉川大",null,"3-3214",490044]
["3-8018",39700322,"大嶽　菜月","オオタケ　ナツキ","女",3,null,492090,"玉川大学","タマガワダイガク","玉川大",null,"3-8018",490044]
["3-8023",40312414,"森島　司惠","モリシマ　シホ","女",2,null,492090,"玉川大学","タマガワダイガク","玉川大",null,"3-8023",490044]
["3-3452",40339827,"飯島　康介","イイジマ　コウスケ","男",1,null,492092,"中央大学","チュウオウダイガク","中央大",null,"3-3452",490044]
["3-3429",45713525,"石黒　和寿","イシグロ　カズヒサ","男",2,null,492092,"中央大学","チュウオウダイガク","中央大",null,"3-3429",490044]
["3-3411",39597942,"竹内　大地","タケウチ　ダイチ","男",3,null,492092,"中央大学","チュウオウダイガク","中央大",null,"3-3411",490044]
["3-3407",39623831,"古元　翼","フルモト　ツバサ","男",3,null,492092,"中央大学","チュウオウダイガク","中央大",null,"3-3407",490044]
["3-8788",58954839,"浅井　美帆","アサイ　ミホ","女",1,null,492093,"津田塾大学","ツダジュクダイガク","津田塾大",null,"3-8788",490044]
["3-3708",45568331,"横井　裕仁","ヨコイ　ヒロヒト","男",2,null,492094,"帝京大学","テイキョウダイガク","帝京大",null,"3-3708",490044]
["3-5068",49111319,"福井　啓太","フクイ　ケイタ","男",2,null,490032,"電気通信大学","デンキツウシンダイガク","電気通信大",null,"3-5068",490044]
["3-8732",61736831,"土井　絵令奈","ドイ　エレナ","女",1,null,490023,"東京外国語大学","トウキョウガイコクゴダイガク","東京外国語大",null,"3-8732",490044]
["3-28",39246327,"秋野　光哉","アキノ　ミツヤ","男",3,null,490024,"東京学芸大学","トウキョウガクゲイダイガク","東京学芸大",null,"3-28",490044]
["3-8452",3095522,"阿部　夏子","アベ　ナツコ","女",1,null,490024,"東京学芸大学","トウキョウガクゲイダイガク","東京学芸大",null,"3-8452",490044]
["3-7046",40270013,"近藤　咲希","コンドウ　サキ","女",2,null,490024,"東京学芸大学","トウキョウガクゲイダイガク","東京学芸大",null,"3-7046",490044]
["3-7045",40032099,"諸富　愛奈","モロトミ　アイナ","女",2,null,490024,"東京学芸大学","トウキョウガクゲイダイガク","東京学芸大",null,"3-7045",490044]
["3-3273",40010712,"石原　大雅","イシハラ　タイガ","男",1,null,492100,"東京経済大学","トウキョウケイザイダイガク","東京経済大",null,"3-3273",490044]
["3-3598",48964940,"井上　暁人","イノウエ　アキヒト","男",2,null,490028,"東京工業大学","トウキョウコウギョウダイガク","東京工業大",null,"3-3598",490044]
["3-3621",71848634,"清水　大輔","シミズ　ダイスケ","男","M1",null,490028,"東京工業大学","トウキョウコウギョウダイガク","東京工業大",null,"3-3621",490044]
["3-7530",40157522,"能登　美幸","ノト　ミユキ","女",2,null,492105,"東京女子体育大学","トウキョウジョシタイイクダイガク","東京女子体育大",null,"3-7530",490044]
["3-7489",45541221,"宮脇　玲菜","ミヤワキ　レイナ","女",2,null,492105,"東京女子体育大学","トウキョウジョシタイイクダイガク","東京女子体育大",null,"3-7489",490044]
["3-2233",71756531,"渥美　祐次郎","アツミ　ユウジロウ","男","M1",null,490021,"東京大学","トウキョウダイガク","東京大",null,"3-2233",490044]
["3-2199",40232314,"伊藤　龍一郎","イトウ　リュウイチロウ","男",2,null,490021,"東京大学","トウキョウダイガク","東京大",null,"3-2199",490044]
["3-2131",39308528,"岡田　尚","オカダ　ショウ","男",4,null,490021,"東京大学","トウキョウダイガク","東京大",null,"3-2131",490044]
["3-2142",39174327,"櫻井　悠也","サクライ　ユウヤ","男",4,null,490021,"東京大学","トウキョウダイガク","東京大",null,"3-2142",490044]
["3-2178",39084125,"寳田　雅治","タカラダ　マサハル","男",3,null,490021,"東京大学","トウキョウダイガク","東京大",null,"3-2178",490044]
["3-2145",39081728,"原　耕資","ハラ　コウスケ","男",4,null,490021,"東京大学","トウキョウダイガク","東京大",null,"3-2145",490044]
["3-2255",71755631,"原　知明","ハラ　トモアキ","男","M2",null,490021,"東京大学","トウキョウダイガク","東京大",null,"3-2255",490044]
["3-2152",77755738,"森本　淳基","モリモト　ジュンキ","男",4,null,490021,"東京大学","トウキョウダイガク","東京大",null,"3-2152",490044]
["3-6258",39619028,"大久保　直輝","オオクボ　ナオキ","男",1,null,492129,"東京都市大学","トウキョウトシダイガク","東京都市大",null,"3-6258",490044]
["3-5173",39650326,"武島　正佳","タケシマ　マサヨシ","男",3,null,492129,"東京都市大学","トウキョウトシダイガク","東京都市大",null,"3-5173",490044]
["3-3122",47552427,"伊藤　聖弥","イトウ　セイヤ","男",2,null,492109,"東京農業大学","トウキョウノウギョウダイガク","東京農業大",null,"3-3122",490044]
["3-4753",82432322,"古田　文哉","フルタ　フミヤ","男",3,null,492111,"東京理科大学","トウキョウリカダイガク","東京理科大",null,"3-4753",490044]
["3-4805",39438431,"本多　啓祐","ホンダ　ケイスケ","男",3,null,492111,"東京理科大学","トウキョウリカダイガク","東京理科大",null,"3-4805",490044]
["3-7148",39488234,"貝原　有紀","カイハラ　ユキ","女",3,null,492122,"日本女子体育大学","ニホンジョシタイイクダイガク","日本女子体育大",null,"3-7148",490044]
["3-8493",46073727,"兼川　乃衣","カネカワ　ノイ","女",1,null,492122,"日本女子体育大学","ニホンジョシタイイクダイガク","日本女子体育大",null,"3-8493",490044]
["3-8500",58305728,"中西　美早","ナカニシ　ミサキ","女",1,null,492122,"日本女子体育大学","ニホンジョシタイイクダイガク","日本女子体育大",null,"3-8500",490044]
["3-7155",39626733,"西出　あゆみ","ニシデ　アユミ","女",3,null,492122,"日本女子体育大学","ニホンジョシタイイクダイガク","日本女子体育大",null,"3-7155",490044]
["3-7140",39714933,"古谷　友里絵","フルヤ　ユリエ","女",4,null,492122,"日本女子体育大学","ニホンジョシタイイクダイガク","日本女子体育大",null,"3-7140",490044]
["3-2407",39607227,"江﨑　亮人","エサキ　カツト","男",3,null,492116,"日本大学","ニホンダイガク","日本大",null,"3-2407",490044]
["3-5240",66909737,"小川　桂史","オガワ　ケイシ","男",1,null,492116,"日本大学","ニホンダイガク","日本大",null,"3-5240",490044]
["3-7822",40215012,"金子　貴絵","カネコ　キエ","女",1,null,492116,"日本大学","ニホンダイガク","日本大",null,"3-7822",490044]
["3-4513",39607732,"岩崎　友春","イワサキ　トモハル","男",3,null,490033,"一橋大学","ヒトツバシダイガク","一橋大",null,"3-4513",490044]
["3-4508",92201418,"松井　智弘","マツイ　トモヒロ","男",2,null,490033,"一橋大学","ヒトツバシダイガク","一橋大",null,"3-4508",490044]
["3-5362",40251719,"加藤　準也","カトウ　ジュンヤ","男",1,null,492126,"法政大学","ホウセイダイガク","法政大",null,"3-5362",490044]
["3-1024",39636330,"後藤　大輝","ゴトウ　ダイキ","男",3,null,492126,"法政大学","ホウセイダイガク","法政大",null,"3-1024",490044]
["3-5370",39889340,"佐藤　敏也","サトウ　トシヤ","男",1,null,492126,"法政大学","ホウセイダイガク","法政大",null,"3-5370",490044]
["3-971",39697034,"長田　拓也","ナガタ　タクヤ","男",4,null,492126,"法政大学","ホウセイダイガク","法政大",null,"3-971",490044]
["3-1033",39731225,"村瀬　翔太","ムラセ　ショウタ","男",2,null,492126,"法政大学","ホウセイダイガク","法政大",null,"3-1033",490044]
["3-2027",40242517,"中山　陽平","ナカヤマ　ヨウヘイ","男",1,null,492133,"明治大学","メイジダイガク","明治大",null,"3-2027",490044]
["3-1988",39699743,"皆浦　巧","ミナウラ　タクミ","男",3,null,492133,"明治大学","メイジダイガク","明治大",null,"3-1988",490044]
["3-2029",39805328,"三輪　軌道","ミワ　ノリミチ","男",1,null,492133,"明治大学","メイジダイガク","明治大",null,"3-2029",490044]
["3-3810",39366431,"大野　日暉","オオノ　ハルキ","男",3,null,492142,"神奈川大学","カナガワダイガク","神奈川大",null,"3-3810",490044]
["3-3846",45712928,"加藤　光一郎","カトウ　コウイチロウ","男",2,null,492142,"神奈川大学","カナガワダイガク","神奈川大",null,"3-3846",490044]
["3-3838",39695840,"楠　創志","クスノキ　ソウシ","男",4,null,492142,"神奈川大学","カナガワダイガク","神奈川大",null,"3-3838",490044]
["3-3807",39572632,"鈴木　祐希","スズキ　ユウキ","男",3,null,492142,"神奈川大学","カナガワダイガク","神奈川大",null,"3-3807",490044]
["3-3819",45526527,"多和田　涼介","タワダ　リョウスケ","男",2,null,492142,"神奈川大学","カナガワダイガク","神奈川大",null,"3-3819",490044]
["3-3795",39572026,"東　瑞基","ヒガシ　ミズキ","男",4,null,492142,"神奈川大学","カナガワダイガク","神奈川大",null,"3-3795",490044]
["3-3833",59539839,"藤村　共広","フジムラ　トモヒロ","男",1,null,492142,"神奈川大学","カナガワダイガク","神奈川大",null,"3-3833",490044]
["3-3801",39572127,"松浦　大志","マツウラ　タイシ","男",4,null,492142,"神奈川大学","カナガワダイガク","神奈川大",null,"3-3801",490044]
["3-3821",21974831,"山藤　篤司","ヤマトウ　アツシ","男",2,null,492142,"神奈川大学","カナガワダイガク","神奈川大",null,"3-3821",490044]
["3-5784",58271932,"桑山　敏哉","クワヤマ　トシヤ","男",1,null,492144,"関東学院大学","カントウガクインダイガク","関東学院大",null,"3-5784",490044]
["3-1120",39177330,"水野　敬介","ミズノ　ケイスケ","男",3,null,492062,"慶應義塾大学","ケイオウギジュクダイガク","慶應義塾大",null,"3-1120",490044]
["3-7334",45540523,"森　凪紗","モリ　ナギサ","女",2,null,492062,"慶應義塾大学","ケイオウギジュクダイガク","慶應義塾大",null,"3-7334",490044]
["3-5703",45613827,"稲垣　晃隆","イナガキ　アキタカ","男",1,null,492095,"東海大学","トウカイダイガク","東海大",null,"3-5703",490044]
["3-5668",40044012,"下畑　圭右","シモハタ　ケイスケ","男",1,null,492095,"東海大学","トウカイダイガク","東海大",null,"3-5668",490044]
["3-7218",39085328,"菅原　美里","スガワラ　ミサト","女",4,null,492095,"東海大学","トウカイダイガク","東海大",null,"3-7218",490044]
["3-666",39622830,"杉山　裕之介","スギヤマ　ユウノスケ","男",3,null,492095,"東海大学","トウカイダイガク","東海大",null,"3-666",490044]
["3-802",39572834,"長谷川　佳弘","ハセガワ　ヨシヒロ","男",3,null,492095,"東海大学","トウカイダイガク","東海大",null,"3-802",490044]
["3-5673",45579636,"羽田　智哉","ハダ　トモヤ","男",1,null,492095,"東海大学","トウカイダイガク","東海大",null,"3-5673",490044]
["3-826",40084723,"三上　崇斗","ミカミ　シュウト","男",2,null,492095,"東海大学","トウカイダイガク","東海大",null,"3-826",490044]
["3-8559",60429223,"井上　さくら","イノウエ　サクラ","女",1,null,492123,"日本体育大学","ニッポンタイイクダイガク","日本体育大",null,"3-8559",490044]
["3-1726",91523424,"小圷　龍成","コアクツ　リュウセイ","男",4,null,492123,"日本体育大学","ニッポンタイイクダイガク","日本体育大",null,"3-1726",490044]
["3-8580",58289335,"立石　麻奈","タテイシ　マナ","女",1,null,492123,"日本体育大学","ニッポンタイイクダイガク","日本体育大",null,"3-8580",490044]
["3-1646",39366936,"富安　央","トミヤス　アキラ","男",3,null,492123,"日本体育大学","ニッポンタイイクダイガク","日本体育大",null,"3-1646",490044]
["3-1536",39417428,"成田　侑生","ナリタ　ユウキ","男",4,null,492123,"日本体育大学","ニッポンタイイクダイガク","日本体育大",null,"3-1536",490044]
["3-5631",39901628,"丹羽　雄太","ニワ　ユウタ","男",1,null,492123,"日本体育大学","ニッポンタイイクダイガク","日本体育大",null,"3-5631",490044]
["3-1595",40279224,"彦坂　祥吾","ヒコサカ　ショウゴ","男",2,null,492123,"日本体育大学","ニッポンタイイクダイガク","日本体育大",null,"3-1595",490044]
["3-1539",39462226,"深見　彼方","フカミ　カナタ","男",4,null,492123,"日本体育大学","ニッポンタイイクダイガク","日本体育大",null,"3-1539",490044]
["3-1620",46900221,"牧野　瑞輝","マキノ　ミズキ","男",2,null,492123,"日本体育大学","ニッポンタイイクダイガク","日本体育大",null,"3-1620",491011]
["3-1570",77754232,"松宮　大樹","マツミヤ　ダイキ","男",3,null,492123,"日本体育大学","ニッポンタイイクダイガク","日本体育大",null,"3-1570",491011]
["3-4626",39473228,"山口　泰輝","ヤマグチ　タイキ","男",3,null,491005,"横浜市立大学","ヨコハマイチリツダイガク","横浜市立大",null,"3-4626",491011]
["3-6016",48971635,"梅村　一輝","ウメムラ　カズキ","男",1,null,490034,"横浜国立大学","ヨコハマコクリツダイガク","横浜国立大",null,"3-6016",491011]
["3-6013",39243021,"皿井　泰光","サライ　ヤスミツ","男","M1",null,490034,"横浜国立大学","ヨコハマコクリツダイガク","横浜国立大",null,"3-6013",491011]
["3-8684",40151920,"樋口　円華","ヒグチ　マドカ","女",1,null,490034,"横浜国立大学","ヨコハマコクリツダイガク","横浜国立大",null,"3-8684",492168]
["4-646",40096827,"森　将太","モリ　ショウタ","男",1,null,490036,"富山大学","トヤマダイガク","富山大",null,"4-646",492168]
["4-292",39517833,"小島　佑介","コジマ　ユウスケ","男",4,null,490038,"福井大学","フクイダイガク","福井大",null,"4-292",492168]
["3-8665",60260418,"池山　知佳","イケヤマ　チカ","女",1,null,491007,"都留文科大学","ツルブンカダイガク","都留文科大",null,"3-8665",492168]
["3-5111",39315627,"二宮　聡史","ニノミヤ　サトシ","男",4,null,491007,"都留文科大学","ツルブンカダイガク","都留文科大",null,"3-5111",492168]
["3-8357",39599338,"森　佑紀那","モリ　ユキナ","女",4,null,491007,"都留文科大学","ツルブンカダイガク","都留文科大",null,"3-8357",492168]
["3-8480",103151516,"川合　早紀","カワイ　サキ","女",1,null,492158,"山梨学院大学","ヤマナシガクインダイガク","山梨学院大",null,"3-8480",492168]
["3-518",39635228,"小林　久人","コバヤシ　ヒサト","男",4,null,492158,"山梨学院大学","ヤマナシガクインダイガク","山梨学院大",null,"3-518",492168]
["5-1222",64286834,"青山　大輝","アオヤマ　マサキ","男",1,null,492161,"岐阜経済大学","ギフケイザイダイガク","岐阜経済大",null,"5-1222",492168]
["5-501",39650932,"淺野　友亮","アサノ　ユウスケ","男",3,null,492161,"岐阜経済大学","ギフケイザイダイガク","岐阜経済大",null,"5-501",492168]
["5-553",50641521,"石野　竜成","イシノ　リュウセイ","男",2,null,492161,"岐阜経済大学","ギフケイザイダイガク","岐阜経済大",null,"5-553",492168]
["5-560",85474533,"大栗　光源","オオグリ　テルモト","男",2,null,492161,"岐阜経済大学","ギフケイザイダイガク","岐阜経済大",null,"5-560",492168]
["5-471",39585131,"川野　直哉","カワノ　ナオヤ","男",4,null,492161,"岐阜経済大学","ギフケイザイダイガク","岐阜経済大",null,"5-471",492168]
["5-518",10349724,"喜多　文弥","キタ　フミヤ","男",3,null,492161,"岐阜経済大学","ギフケイザイダイガク","岐阜経済大",null,"5-518",492168]
["5-1223",61788737,"鬼頭　宏明","キトウ　ヒロアキ","男",1,null,492161,"岐阜経済大学","ギフケイザイダイガク","岐阜経済大",null,"5-1223",492168]
["5-570",39459636,"久禮　惇哉","クレ　ジュンヤ","男",2,null,492161,"岐阜経済大学","ギフケイザイダイガク","岐阜経済大",null,"5-570",492168]
["5-571",72804223,"黒谷　優宇","クロヤ　ユウ","男",2,null,492161,"岐阜経済大学","ギフケイザイダイガク","岐阜経済大",null,"5-571",492168]
["5-483",39585636,"遠山　雄耶","トオヤマ　ユウヤ","男",4,null,492161,"岐阜経済大学","ギフケイザイダイガク","岐阜経済大",null,"5-483",492168]
["5-534",39716632,"永井　宏典","ナガイ　コウスケ","男",3,null,492161,"岐阜経済大学","ギフケイザイダイガク","岐阜経済大",null,"5-534",492168]
["5-582",40066622,"永尾　直哉","ナガオ　ナオヤ","男",2,null,492161,"岐阜経済大学","ギフケイザイダイガク","岐阜経済大",null,"5-582",492168]
["5-585",49035930,"西尾　篤史","ニシオ　アツシ","男",2,null,492161,"岐阜経済大学","ギフケイザイダイガク","岐阜経済大",null,"5-585",492168]
["5-536",85227832,"藤本　辰仁","フジモト　タツヒト","男",3,null,492161,"岐阜経済大学","ギフケイザイダイガク","岐阜経済大",null,"5-536",492168]
["5-490",39605326,"二村　大輝","フタムラ　ダイキ","男",4,null,492161,"岐阜経済大学","ギフケイザイダイガク","岐阜経済大",null,"5-490",492168]
["5-590",50840320,"水谷　友治","ミズタニ　ユウジ","男",2,null,492161,"岐阜経済大学","ギフケイザイダイガク","岐阜経済大",null,"5-590",492168]
["5-541",39581632,"武藤　祐介","ムトウ　ユウスケ","男",3,null,492161,"岐阜経済大学","ギフケイザイダイガク","岐阜経済大",null,"5-541",492301]
["5-542",39651630,"村上　僚","ムラカミ　リョウ","男",3,null,492161,"岐阜経済大学","ギフケイザイダイガク","岐阜経済大",null,"5-542",492301]
["5-592",3091114,"森下　堅太","モリシタ　ケンタ","男",2,null,492161,"岐阜経済大学","ギフケイザイダイガク","岐阜経済大",null,"5-592",492301]
["5-2473",105365121,"大橋　茉由","オオハシ　マユ","女",1,null,492166,"愛知医科大学","アイチイカダイガク","愛知医科大",null,"5-2473",492301]
["5-1311",105354624,"大原　俊樹","オオハラ　トシキ","男",1,null,492166,"愛知医科大学","アイチイカダイガク","愛知医科大",null,"5-1311",492301]
["5-1310",105354523,"大藪　久純","オオヤブ　ヒサズミ","男",2,null,492166,"愛知医科大学","アイチイカダイガク","愛知医科大",null,"5-1310",492301]
["5-2472",105365020,"奥村　亞弓","オクムラ　アユミ","女",1,null,492166,"愛知医科大学","アイチイカダイガク","愛知医科大",null,"5-2472",492301]
["5-789",39608228,"高橋　周治","タカハシ　シュウジ","男",3,null,492166,"愛知医科大学","アイチイカダイガク","愛知医科大",null,"5-789",492301]
["5-372",39109729,"青山　洸気","アオヤマ　コウキ","男",3,null,492167,"愛知学院大学","アイチガクインダイガク","愛知学院大",null,"5-372",492301]
["5-381",39636128,"浅野　翔太","アサノ　ショウタ","男",4,null,492167,"愛知学院大学","アイチガクインダイガク","愛知学院大",null,"5-381",492301]
["5-386",39481833,"伊藤　輝","イトウ　ヒカル","男",4,null,492167,"愛知学院大学","アイチガクインダイガク","愛知学院大",null,"5-386",492301]
["5-382",39584938,"伊藤　竜聖","イトウ　リュウセイ","男",4,null,492167,"愛知学院大学","アイチガクインダイガク","愛知学院大",null,"5-382",492301]
["5-399",39960027,"伊藤　諒","イトウ　リョウ","男",2,null,492167,"愛知学院大学","アイチガクインダイガク","愛知学院大",null,"5-399",492301]
["5-2442",60784732,"井上　香穂","イノウエ　カホ","女",1,null,492167,"愛知学院大学","アイチガクインダイガク","愛知学院大",null,"5-2442",492301]
["5-2441",59783638,"今碇　真未","イマイカリ　マミ","女",1,null,492167,"愛知学院大学","アイチガクインダイガク","愛知学院大",null,"5-2441",492301]
["5-389",40042717,"牛垣　翔太","ウシガキ　ショウタ","男",2,null,492167,"愛知学院大学","アイチガクインダイガク","愛知学院大",null,"5-389",492301]
["5-390",47574633,"太田　敦","オオタ　アツシ","男",2,null,492167,"愛知学院大学","アイチガクインダイガク","愛知学院大",null,"5-390",492301]
["5-2474",6180722,"大津　雪菜","オオツ　ユキナ","女",1,null,492167,"愛知学院大学","アイチガクインダイガク","愛知学院大",null,"5-2474",492301]
["5-2166",39514729,"大山　葵","オオヤマ　アオイ","女",4,null,492167,"愛知学院大学","アイチガクインダイガク","愛知学院大",null,"5-2166",492301]
["5-368",39586233,"金宮　圭佑","カネミヤ　ケイスケ","男",3,null,492167,"愛知学院大学","アイチガクインダイガク","愛知学院大",null,"5-368",492301]
["5-370",39284935,"神谷　健","カミヤ　ケン","男",3,null,492167,"愛知学院大学","アイチガクインダイガク","愛知学院大",null,"5-370",492301]
["5-2475",61955935,"岸野　志歩","キシノ　シホ","女",1,null,492167,"愛知学院大学","アイチガクインダイガク","愛知学院大",null,"5-2475",492301]
["5-2170",47771834,"北出　美穂","キタデ　ミホ","女",2,null,492167,"愛知学院大学","アイチガクインダイガク","愛知学院大",null,"5-2170",492301]
["5-396",49075833,"北村　弘晃","キタムラ　ヒロアキ","男",2,null,492167,"愛知学院大学","アイチガクインダイガク","愛知学院大",null,"5-396",492301]
["5-391",50643523,"黒田　敏之","クロダ　トシユキ","男",2,null,492167,"愛知学院大学","アイチガクインダイガク","愛知学院大",null,"5-391",492165]
["5-401",58148329,"後藤　夏輝","ゴトウ　ナツキ","男",1,null,492167,"愛知学院大学","アイチガクインダイガク","愛知学院大",null,"5-401",492165]
["5-383",39621829,"近藤　啓太","コンドウ　ケイタ","男",4,null,492167,"愛知学院大学","アイチガクインダイガク","愛知学院大",null,"5-383",492165]
["5-379",39269433,"鷺森　勇誠","サギモリ　ハヤセ","男",4,null,492167,"愛知学院大学","アイチガクインダイガク","愛知学院大",null,"5-379",492165]
["5-402",58205525,"櫻本　貴己","サクラモト　タカキ","男",1,null,492167,"愛知学院大学","アイチガクインダイガク","愛知学院大",null,"5-402",492165]
["5-2171",58196029,"佐藤　圭那子","サトウ　カナコ","女",1,null,492167,"愛知学院大学","アイチガクインダイガク","愛知学院大",null,"5-2171",492165]
["5-373",39681431,"澤田　将伍","サワダ　ショウゴ","男",3,null,492167,"愛知学院大学","アイチガクインダイガク","愛知学院大",null,"5-373",492165]
["5-400",40133314,"鈴木　健太郎","スズキ　ケンタロウ","男",2,null,492167,"愛知学院大学","アイチガクインダイガク","愛知学院大",null,"5-400",492165]
["5-2169",39516630,"鈴木　萌","スズキ　モエ","女",3,null,492167,"愛知学院大学","アイチガクインダイガク","愛知学院大",null,"5-2169",492165]
["5-1204",58694436,"髙田　滉平","タカダ　コウヘイ","男",1,null,492167,"愛知学院大学","アイチガクインダイガク","愛知学院大",null,"5-1204",492165]
["5-387",39678942,"竹内　郁登","タケウチ　イクト","男",4,null,492167,"愛知学院大学","アイチガクインダイガク","愛知学院大",null,"5-387",492165]
["5-380",39399134,"竹内　洸貴","タケウチ　コウキ","男",4,null,492167,"愛知学院大学","アイチガクインダイガク","愛知学院大",null,"5-380",492165]
["5-2476",40119217,"竹下　悠香","タケシタ　ハルカ","女",1,null,492167,"愛知学院大学","アイチガクインダイガク","愛知学院大",null,"5-2476",492165]
["5-397",39778438,"多田　和也","タダ　カズヤ","男",2,null,492167,"愛知学院大学","アイチガクインダイガク","愛知学院大",null,"5-397",492165]
["5-371",39577334,"外山　雄大","トヤマ　ユウタ","男",3,null,492167,"愛知学院大学","アイチガクインダイガク","愛知学院大",null,"5-371",492165]
["5-392",40163418,"中島　豪","ナカシマ　ツヨシ","男",2,null,492167,"愛知学院大学","アイチガクインダイガク","愛知学院大",null,"5-392",492165]
["5-384",12117214,"中田　一旗","ナカタ　イッキ","男",4,null,492167,"愛知学院大学","アイチガクインダイガク","愛知学院大",null,"5-384",492165]
["5-398",40340516,"浪崎　駿","ナミザキ　シュン","男",2,null,492167,"愛知学院大学","アイチガクインダイガク","愛知学院大",null,"5-398",492165]
["5-1199",60690324,"西尾　勇祐","ニシオ　ユウスケ","男",1,null,492167,"愛知学院大学","アイチガクインダイガク","愛知学院大",null,"5-1199",492165]
["5-393",39790937,"野原　颯人","ノハラ　ハヤト","男",2,null,492167,"愛知学院大学","アイチガクインダイガク","愛知学院大",null,"5-393",492165]
["5-2167",39208628,"橋本　彩香","ハシモト　アヤカ","女",4,null,492167,"愛知学院大学","アイチガクインダイガク","愛知学院大",null,"5-2167",492165]
["5-385",72280726,"早川　智基","ハヤカワ　トモキ","男",4,null,492167,"愛知学院大学","アイチガクインダイガク","愛知学院大",null,"5-385",492165]
["5-403",39833733,"深谷　隼斗","フカヤ　ハヤト","男",1,null,492167,"愛知学院大学","アイチガクインダイガク","愛知学院大",null,"5-403",492165]
["5-1201",61211819,"福嶋　佑太","フクシマ　ユウタ","男",1,null,492167,"愛知学院大学","アイチガクインダイガク","愛知学院大",null,"5-1201",492165]
["5-1198",101921115,"古田　久尚","フルタ　ヒサナオ","男",1,null,492167,"愛知学院大学","アイチガクインダイガク","愛知学院大",null,"5-1198",492165]
["5-374",39213624,"堀田　茂","ホッタ　シゲル","男",3,null,492167,"愛知学院大学","アイチガクインダイガク","愛知学院大",null,"5-374",492165]
["5-367",45576633,"松岡　亮汰","マツオカ　リョウタ","男",3,null,492167,"愛知学院大学","アイチガクインダイガク","愛知学院大",null,"5-367",492165]
["5-1203",17382526,"松下　慧五","マツシタ　ケイゴ","男",1,null,492167,"愛知学院大学","アイチガクインダイガク","愛知学院大",null,"5-1203",492165]
["5-404",97066533,"三浦　亘暉","ミウラ　コウキ","男",1,null,492167,"愛知学院大学","アイチガクインダイガク","愛知学院大",null,"5-404",492165]
["5-369",39586435,"實　大地","ミノル　ダイチ","男",3,null,492167,"愛知学院大学","アイチガクインダイガク","愛知学院大",null,"5-369",492165]
["5-388",12105615,"宮薗　飛鳥","ミヤゾノ　アスカ","男",4,null,492167,"愛知学院大学","アイチガクインダイガク","愛知学院大",null,"5-388",492165]
["5-394",39948437,"森田　泰亘","モリタ　ヤスノブ","男",2,null,492167,"愛知学院大学","アイチガクインダイガク","愛知学院大",null,"5-394",492165]
["5-1205",60667530,"森本　辰徳","モリモト　タツノリ","男",1,null,492167,"愛知学院大学","アイチガクインダイガク","愛知学院大",null,"5-1205",492165]
["5-1206",61532320,"湯浅　友貴","ユアサ　トモタカ","男",1,null,492167,"愛知学院大学","アイチガクインダイガク","愛知学院大",null,"5-1206",492165]
["5-395",48099535,"吉田　遥樹","ヨシダ　ハルキ","男",2,null,492167,"愛知学院大学","アイチガクインダイガク","愛知学院大",null,"5-395",492165]
["5-2168",39645734,"吉田　真樹","ヨシダ　マキ","女",4,null,492167,"愛知学院大学","アイチガクインダイガク","愛知学院大",null,"5-2168",492165]
["5-193",72224421,"秋山　侑","アキヤマ　ユウ","男",4,null,490044,"愛知教育大学","アイチキョウイクダイガク","愛知教育大",null,"5-193",492165]
["5-2095",39079937,"浅井　茅子","アサイ　カヤコ","女",3,null,490044,"愛知教育大学","アイチキョウイクダイガク","愛知教育大",null,"5-2095",492165]
["5-224",47344325,"浅野　真弥","アサノ　マサヤ","男",2,null,490044,"愛知教育大学","アイチキョウイクダイガク","愛知教育大",null,"5-224",492165]
["5-227",47782331,"跡見　俊明","アトミ　トシアキ","男",2,null,490044,"愛知教育大学","アイチキョウイクダイガク","愛知教育大",null,"5-227",492165]
["5-1210",40014817,"天野　知哉","アマノ　トモヤ","男",1,null,490044,"愛知教育大学","アイチキョウイクダイガク","愛知教育大",null,"5-1210",492112]
["5-221",40014110,"安藤　大成","アンドウ　タイセイ","男",2,null,490044,"愛知教育大学","アイチキョウイクダイガク","愛知教育大",null,"5-221",492112]
["5-200",39181931,"五十嵐　大智","イガラシ　ダイチ","男",3,null,490044,"愛知教育大学","アイチキョウイクダイガク","愛知教育大",null,"5-200",492232]
["5-2479",40339221,"石川　楓","イシカワ　カエデ","女",1,null,490044,"愛知教育大学","アイチキョウイクダイガク","愛知教育大",null,"5-2479",492232]
["5-2094",39600018,"石川　加奈子","イシカワ　カナコ","女",3,null,490044,"愛知教育大学","アイチキョウイクダイガク","愛知教育大",null,"5-2094",492232]
["5-188",39314525,"石川　涼","イシカワ　リョウ","男",4,null,490044,"愛知教育大学","アイチキョウイクダイガク","愛知教育大",null,"5-188",492232]
["5-186",39312927,"伊藤　拓哉","イトウ　タクヤ","男",4,null,490044,"愛知教育大学","アイチキョウイクダイガク","愛知教育大",null,"5-186",492232]
["5-189",39291226,"犬塚　貴久","イヌヅカ　タカヒサ","男",4,null,490044,"愛知教育大学","アイチキョウイクダイガク","愛知教育大",null,"5-189",492232]
["5-194",39425831,"鵜飼　恭平","ウカイ　キョウヘイ","男",4,null,490044,"愛知教育大学","アイチキョウイクダイガク","愛知教育大",null,"5-194",492232]
["5-199",39563935,"江口　京弥","エグチ　キョウヤ","男",4,null,490044,"愛知教育大学","アイチキョウイクダイガク","愛知教育大",null,"5-199",492232]
["5-187",39545430,"大井　拓也","オオイ　タクヤ","男","M1",null,490044,"愛知教育大学","アイチキョウイクダイガク","愛知教育大",null,"5-187",492232]
["5-197",72243725,"大橋　宏平","オオハシ　コウヘイ","男",4,null,490044,"愛知教育大学","アイチキョウイクダイガク","愛知教育大",null,"5-197",492161]
["5-2086",39310016,"小栗　麻帆","オグリ　マホ","女",4,null,490044,"愛知教育大学","アイチキョウイクダイガク","愛知教育大",null,"5-2086",492161]
["5-202",39205928,"小野　侑介","オノ　ユウスケ","男",3,null,490044,"愛知教育大学","アイチキョウイクダイガク","愛知教育大",null,"5-202",492161]
["5-182",39619937,"掛村　将之","カケムラ　マサユキ","男",4,null,490044,"愛知教育大学","アイチキョウイクダイガク","愛知教育大",null,"5-182",492161]
["5-183",39594939,"糟谷　隆明","カスヤ　タカアキ","男","M1",null,490044,"愛知教育大学","アイチキョウイクダイガク","愛知教育大",null,"5-183",492161]
["5-179",72066021,"加藤　光司","カトウ　コウジ","男","M2",null,490044,"愛知教育大学","アイチキョウイクダイガク","愛知教育大",null,"5-179",492161]
["5-2111",39894639,"神谷　もも","カミヤ　モモ","女",1,null,490044,"愛知教育大学","アイチキョウイクダイガク","愛知教育大",null,"5-2111",492161]
["5-191",39494231,"川崎　裕介","カワサキ　ユウスケ","男",4,null,490044,"愛知教育大学","アイチキョウイクダイガク","愛知教育大",null,"5-191",492161]
["5-2096",39577738,"北野　有紀","キタノ　ユウキ","女",3,null,490044,"愛知教育大学","アイチキョウイクダイガク","愛知教育大",null,"5-2096",492161]
["5-190",39269534,"木俣　伸一","キマタ　シンイチ","男",4,null,490044,"愛知教育大学","アイチキョウイクダイガク","愛知教育大",null,"5-190",492161]
["5-226",40014099,"木村　颯","キムラ　ハヤテ","男",2,null,490044,"愛知教育大学","アイチキョウイクダイガク","愛知教育大",null,"5-226",492161]
["5-215",54592934,"桑原　元","クワハラ　ハジメ","男",2,null,490044,"愛知教育大学","アイチキョウイクダイガク","愛知教育大",null,"5-215",492161]
["5-2103",40167725,"小林　紗矢香","コバヤシ　サヤカ","女",2,null,490044,"愛知教育大学","アイチキョウイクダイガク","愛知教育大",null,"5-2103",492161]
["5-218",46996236,"近藤　拓真","コンドウ　タクマ","男",2,null,490044,"愛知教育大学","アイチキョウイクダイガク","愛知教育大",null,"5-218",492161]
["5-222",40013412,"近藤　雅哉","コンドウ　マサヤ","男",2,null,490044,"愛知教育大学","アイチキョウイクダイガク","愛知教育大",null,"5-222",492161]
["5-2093",39684333,"酒井　瞳味","サカイ　ヒトミ","女",4,null,490044,"愛知教育大学","アイチキョウイクダイガク","愛知教育大",null,"5-2093",492161]
["5-1208",48758840,"坂入　慶一","サカイリ　ケイイチ","男",1,null,490044,"愛知教育大学","アイチキョウイクダイガク","愛知教育大",null,"5-1208",492161]
["5-192",39507731,"榊原　慎","サカキバラ　シン","男",4,null,490044,"愛知教育大学","アイチキョウイクダイガク","愛知教育大",null,"5-192",492161]
["5-2089",39316527,"坂田　実佳","サカタ　ミカ","女",4,null,490044,"愛知教育大学","アイチキョウイクダイガク","愛知教育大",null,"5-2089",492161]
["5-210",39377736,"清水　颯人","シミズ　ハヤト","男",3,null,490044,"愛知教育大学","アイチキョウイクダイガク","愛知教育大",null,"5-210",492161]
["5-220",48240523,"下地　健介","シモジ　ケンスケ","男",2,null,490044,"愛知教育大学","アイチキョウイクダイガク","愛知教育大",null,"5-220",492161]
["5-184",7827933,"新林　智典","シンバヤシ　トモノリ","男","M1",null,490044,"愛知教育大学","アイチキョウイクダイガク","愛知教育大",null,"5-184",492161]
["5-2084",39316426,"杉浦　貴恵","スギウラ　キエ","女",4,null,490044,"愛知教育大学","アイチキョウイクダイガク","愛知教育大",null,"5-2084",490049]
["5-2477",40280418,"鋤柄　友香","スキガラ　ユカ","女",1,null,490044,"愛知教育大学","アイチキョウイクダイガク","愛知教育大",null,"5-2477",492192]
["5-205",27295126,"鈴木　幹人","スズキ　ミキト","男",3,null,490044,"愛知教育大学","アイチキョウイクダイガク","愛知教育大",null,"5-205",492221]
["5-2083",6789636,"鈴木　佑佳","スズキ　ユウカ","女","M1",null,490044,"愛知教育大学","アイチキョウイクダイガク","愛知教育大",null,"5-2083",492221]
["5-2100",45583126,"鷲見　咲江","スミ　サキエ","女",3,null,490044,"愛知教育大学","アイチキョウイクダイガク","愛知教育大",null,"5-2100",492170]
["5-198",39370729,"曽我　直崇","ソガ　ナオタカ","男",4,null,490044,"愛知教育大学","アイチキョウイクダイガク","愛知教育大",null,"5-198",492170]
["5-206",39529129,"高木　翔太","タカギ　ショウタ","男",3,null,490044,"愛知教育大学","アイチキョウイクダイガク","愛知教育大",null,"5-206",492170]
["5-1314",40156824,"高須　翔生","タカス　ショウイ","男",1,null,490044,"愛知教育大学","アイチキョウイクダイガク","愛知教育大",null,"5-1314",492170]
["5-207",39318024,"津田　耕平","ツダ　コウヘイ","男",3,null,490044,"愛知教育大学","アイチキョウイクダイガク","愛知教育大",null,"5-207",492062]
["5-219",45582832,"出口　裕希","デグチ　ユウキ","男",2,null,490044,"愛知教育大学","アイチキョウイクダイガク","愛知教育大",null,"5-219",492062]
["5-185",39179130,"戸松　弘成","トマツ　ヒロナリ","男","M1",null,490044,"愛知教育大学","アイチキョウイクダイガク","愛知教育大",null,"5-185",490026]
["5-2099",39474936,"冨澤　優希","トミザワ　ユウキ","女",3,null,490044,"愛知教育大学","アイチキョウイクダイガク","愛知教育大",null,"5-2099",492234]
["5-217",39968035,"冨山　洸二郎","トミヤマ　コウジロウ","男",2,null,490044,"愛知教育大学","アイチキョウイクダイガク","愛知教育大",null,"5-217",492234]
["5-213",39472833,"長坂　顕澄","ナガサカ　アキスミ","男",2,null,490044,"愛知教育大学","アイチキョウイクダイガク","愛知教育大",null,"5-213",492234]
["5-2107",47171424,"中村　麻美","ナカムラ　アサミ","女",2,null,490044,"愛知教育大学","アイチキョウイクダイガク","愛知教育大",null,"5-2107",492185]
["5-2105",40226721,"中村　彩花","ナカムラ　アヤカ","女",2,null,490044,"愛知教育大学","アイチキョウイクダイガク","愛知教育大",null,"5-2105",492185]
["5-1212",39945434,"中村　壮志","ナカムラ　ソウシ","男",1,null,490044,"愛知教育大学","アイチキョウイクダイガク","愛知教育大",null,"5-1212",492174]
["5-209",39206323,"中山　聖","ナカヤマ　ヒジリ","男",3,null,490044,"愛知教育大学","アイチキョウイクダイガク","愛知教育大",null,"5-209",492174]
["5-204",39382631,"名倉　望","ナグラ　ノゾミ","男",2,null,490044,"愛知教育大学","アイチキョウイクダイガク","愛知教育大",null,"5-204",492174]
["5-2478",40084117,"成田　瑠菜","ナリタ　ルナ","女",1,null,490044,"愛知教育大学","アイチキョウイクダイガク","愛知教育大",null,"5-2478",492174]
["5-2088",39601019,"西川　かりん","ニシカワ　カリン","女",4,null,490044,"愛知教育大学","アイチキョウイクダイガク","愛知教育大",null,"5-2088",492174]
["5-2092",72515424,"服部　千秋","ハットリ　チアキ","女",4,null,490044,"愛知教育大学","アイチキョウイクダイガク","愛知教育大",null,"5-2092",492174]
["5-2104",39791635,"早瀬　名那","ハヤセ　ナナ","女",2,null,490044,"愛知教育大学","アイチキョウイクダイガク","愛知教育大",null,"5-2104",492174]
["5-225",48206323,"坂野　公亮","バンノ　コウスケ","男",2,null,490044,"愛知教育大学","アイチキョウイクダイガク","愛知教育大",null,"5-225",492174]
["5-1209",39736230,"樋口　智一","ヒグチ　トモカズ","男",1,null,490044,"愛知教育大学","アイチキョウイクダイガク","愛知教育大",null,"5-1209",492174]
["5-195",39174933,"平松　俊太郎","ヒラマツ　シュンタロウ","男",4,null,490044,"愛知教育大学","アイチキョウイクダイガク","愛知教育大",null,"5-195",492174]
["5-223",46359229,"平松　幹広","ヒラマツ　ミキヒロ","男",2,null,490044,"愛知教育大学","アイチキョウイクダイガク","愛知教育大",null,"5-223",492174]
["5-1317",60555526,"福西　恵大","フクニシ　ケイタ","男",1,null,490044,"愛知教育大学","アイチキョウイクダイガク","愛知教育大",null,"5-1317",492174]
["5-2085",39085631,"藤戸　初","フジト　ウイ","女",4,null,490044,"愛知教育大学","アイチキョウイクダイガク","愛知教育大",null,"5-2085",492174]
["5-203",39501321,"舟橋　?哉","フナハシ　ユウヤ","男",2,null,490044,"愛知教育大学","アイチキョウイクダイガク","愛知教育大",null,"5-203",492174]
["5-1213",39881534,"堀口　景祐","ホリグチ　ケイスケ","男",1,null,490044,"愛知教育大学","アイチキョウイクダイガク","愛知教育大",null,"5-1213",492174]
["5-1211",40183824,"牧　幹也","マキ　ミキヤ","男",1,null,490044,"愛知教育大学","アイチキョウイクダイガク","愛知教育大",null,"5-1211",492174]
["5-181",39081930,"松尾　卓郎","マツオ　タクロウ","男","M1",null,490044,"愛知教育大学","アイチキョウイクダイガク","愛知教育大",null,"5-181",492174]
["5-2108",58304929,"松本　扶弥","マツモト　フミ","女",1,null,490044,"愛知教育大学","アイチキョウイクダイガク","愛知教育大",null,"5-2108",492174]
["5-201",39383531,"丸山　晃碩","マルヤマ　コウセキ","男",3,null,490044,"愛知教育大学","アイチキョウイクダイガク","愛知教育大",null,"5-201",492174]
["5-196",39562833,"三輪　崇伸","ミワ　タカノブ","男",3,null,490044,"愛知教育大学","アイチキョウイクダイガク","愛知教育大",null,"5-196",492174]
["5-2080",72457328,"向井　香瑛","ムカイ　カエ","女","M2",null,490044,"愛知教育大学","アイチキョウイクダイガク","愛知教育大",null,"5-2080",492174]
["5-216",48201217,"村瀬　勇斗","ムラセ　ハヤト","男",2,null,490044,"愛知教育大学","アイチキョウイクダイガク","愛知教育大",null,"5-216",492174]
["5-2098",39372226,"村田　茉由","ムラタ　マユ","女",3,null,490044,"愛知教育大学","アイチキョウイクダイガク","愛知教育大",null,"5-2098",492174]
["5-1214",60214922,"森下　諒","モリシタ　リョウ","男",1,null,490044,"愛知教育大学","アイチキョウイクダイガク","愛知教育大",null,"5-1214",492174]
["5-2101",39074730,"森田　琴乃","モリタ　コトノ","女",3,null,490044,"愛知教育大学","アイチキョウイクダイガク","愛知教育大",null,"5-2101",492174]
["5-212",39423021,"矢嶋　大輝","ヤシマ　ダイキ","男",3,null,490044,"愛知教育大学","アイチキョウイクダイガク","愛知教育大",null,"5-212",492174]
["5-1313",39136931,"藪崎　椋太","ヤブサキ　リョウタ","男",4,null,490044,"愛知教育大学","アイチキョウイクダイガク","愛知教育大",null,"5-1313",492174]
["5-2109",40027619,"山神　銘鈴","ヤマガミ　メイリン","女",1,null,490044,"愛知教育大学","アイチキョウイクダイガク","愛知教育大",null,"5-2109",492174]
["5-1315",60697230,"山田　崇義","ヤマダ　タカヨシ","男",1,null,490044,"愛知教育大学","アイチキョウイクダイガク","愛知教育大",null,"5-1315",492174]
["5-180",85227529,"山本　銀兵","ヤマモト　ギンペイ","男","M2",null,490044,"愛知教育大学","アイチキョウイクダイガク","愛知教育大",null,"5-180",492174]
["5-211",39246933,"山本　雄大","ヤマモト　ユウタ","男",2,null,490044,"愛知教育大学","アイチキョウイクダイガク","愛知教育大",null,"5-211",492174]
["5-2090",39599540,"吉川　侑希","ヨシカワ　ユウキ","女",4,null,490044,"愛知教育大学","アイチキョウイクダイガク","愛知教育大",null,"5-2090",492174]
["5-1321",39895135,"鬼頭　侑希","キトウ　ユウキ","男",1,null,492168,"愛知工業大学","アイチコウギョウダイガク","愛知工業大",null,"5-1321",492174]
["5-1322",40113099,"黒沢　公貴","クロサワ　コウキ","男",1,null,492168,"愛知工業大学","アイチコウギョウダイガク","愛知工業大",null,"5-1322",492174]
["5-1323",6175221,"齋木　涼","サイキ　リョウ","男",1,null,492168,"愛知工業大学","アイチコウギョウダイガク","愛知工業大",null,"5-1323",492174]
["5-1324",17556327,"鈴木　智也","スズキ　トモヤ","男",1,null,492168,"愛知工業大学","アイチコウギョウダイガク","愛知工業大",null,"5-1324",492174]
["5-1320",39839941,"鈴木　雄大","スズキ　ユウダイ","男",2,null,492168,"愛知工業大学","アイチコウギョウダイガク","愛知工業大",null,"5-1320",492174]
["5-1319",39637331,"田口　和樹","タグチ　カズキ","男",3,null,492168,"愛知工業大学","アイチコウギョウダイガク","愛知工業大",null,"5-1319",492174]
["5-1325",39847536,"水崎　圭","ミズサキ　ケイ","男",1,null,492168,"愛知工業大学","アイチコウギョウダイガク","愛知工業大",null,"5-1325",492174]
["5-1318",59268131,"水野　賢作","ミズノ　ケンサク","男",1,null,492168,"愛知工業大学","アイチコウギョウダイガク","愛知工業大",null,"5-1318",492174]
["5-1327",39774131,"村瀨　諒亮","ムラセ　リョウスケ","男",1,null,492168,"愛知工業大学","アイチコウギョウダイガク","愛知工業大",null,"5-1327",492174]
["5-2482",49045527,"浦野　由奈","ウラノ　ユナ","女",2,null,492301,"愛知淑徳大学","アイチショウトクダイガク","愛知淑徳大",null,"5-2482",492174]
["5-1216",39974234,"榎本　渉","エノモト　ワタル","男",2,null,492301,"愛知淑徳大学","アイチショウトクダイガク","愛知淑徳大",null,"5-1216",492174]
["5-1215",28597334,"大橋　侑征","オオハシ　ユウセイ","男",3,null,492301,"愛知淑徳大学","アイチショウトクダイガク","愛知淑徳大",null,"5-1215",492174]
["5-405",26038524,"奥田　諒","オクダ　リョウ","男",3,null,492301,"愛知淑徳大学","アイチショウトクダイガク","愛知淑徳大",null,"5-405",492174]
["5-2444",40179728,"桐木　文咲","キリキ　アヤサ","女",1,null,492301,"愛知淑徳大学","アイチショウトクダイガク","愛知淑徳大",null,"5-2444",492174]
["5-407",39139530,"坂　勇輝","サカ　ユウキ","男","M1",null,492301,"愛知淑徳大学","アイチショウトクダイガク","愛知淑徳大",null,"5-407",492174]
["5-408",39893133,"佐治　啓亮","サジ　ケイスケ","男",2,null,492301,"愛知淑徳大学","アイチショウトクダイガク","愛知淑徳大",null,"5-408",492174]
["5-2424",85229127,"佐野　栞那","サノ　カンナ","女",3,null,492301,"愛知淑徳大学","アイチショウトクダイガク","愛知淑徳大",null,"5-2424",492174]
["5-2481",39997643,"澤田　萌乃","サワダ　モエノ","女",1,null,492301,"愛知淑徳大学","アイチショウトクダイガク","愛知淑徳大",null,"5-2481",492174]
["5-1328",94910831,"鈴木　峻也","スズキ　タカヤ","男",2,null,492301,"愛知淑徳大学","アイチショウトクダイガク","愛知淑徳大",null,"5-1328",492174]
["5-2174",31758327,"髙野　文菜","タカノ　フミナ","女",3,null,492301,"愛知淑徳大学","アイチショウトクダイガク","愛知淑徳大",null,"5-2174",492174]
["5-2425",39178634,"寺澤　彩夏","テラサワ　アヤカ","女",3,null,492301,"愛知淑徳大学","アイチショウトクダイガク","愛知淑徳大",null,"5-2425",492174]
["5-1217",47350019,"中島　寬康","ナカシマ　ヒロヤス","男",1,null,492301,"愛知淑徳大学","アイチショウトクダイガク","愛知淑徳大",null,"5-1217",492174]
["5-2176",39964031,"中野　花菜","ナカノ　ハナ","女",2,null,492301,"愛知淑徳大学","アイチショウトクダイガク","愛知淑徳大",null,"5-2176",492174]
["5-2173",19665027,"長谷川　真帆","ハセガワ　マホ","女",2,null,492301,"愛知淑徳大学","アイチショウトクダイガク","愛知淑徳大",null,"5-2173",492174]
["5-2177",84696538,"藤川　遥","フジカワ　ハルカ","女",3,null,492301,"愛知淑徳大学","アイチショウトクダイガク","愛知淑徳大",null,"5-2177",492174]
["5-406",34324117,"古蔵　圭祐","フルクラ　ケイスケ","男",2,null,492301,"愛知淑徳大学","アイチショウトクダイガク","愛知淑徳大",null,"5-406",492174]
["5-2175",49070929,"前田　璃奈","マエダ　リナ","女",2,null,492301,"愛知淑徳大学","アイチショウトクダイガク","愛知淑徳大",null,"5-2175",492174]
["5-1329",47109627,"山口　淳","ヤマグチ　ジュン","男",1,null,492301,"愛知淑徳大学","アイチショウトクダイガク","愛知淑徳大",null,"5-1329",492174]
["5-2443",58973537,"山下　南帆","ヤマシタ　ナホ","女",1,null,492301,"愛知淑徳大学","アイチショウトクダイガク","愛知淑徳大",null,"5-2443",492174]
["5-2172",39500522,"吉田　梢","ヨシダ　コズエ","女",4,null,492301,"愛知淑徳大学","アイチショウトクダイガク","愛知淑徳大",null,"5-2172",492174]
["5-1218",76011318,"鷲野　祐一","ワシノ　ユウイチ","男",1,null,492301,"愛知淑徳大学","アイチショウトクダイガク","愛知淑徳大",null,"5-1218",492174]
["5-460",82036928,"浅井　良介","アサイ　リョウスケ","男",3,null,492165,"愛知大学","アイチダイガク","愛知大",null,"5-460",492174]
["5-1433",39956537,"井賀　輝仁","イガ　テルヒト","男",1,null,492165,"愛知大学","アイチダイガク","愛知大",null,"5-1433",492174]
["5-429",49284431,"稲澤　智輝","イナザワ　トモキ","男",2,null,492165,"愛知大学","アイチダイガク","愛知大",null,"5-429",492174]
["5-459",39494635,"大澤　俊介","オオザワ　シュンスケ","男",4,null,492165,"愛知大学","アイチダイガク","愛知大",null,"5-459",492174]
["5-1431",60154319,"大杉　享平","オオスギ　キョウヘイ","男",1,null,492165,"愛知大学","アイチダイガク","愛知大",null,"5-1431",492174]
["5-461",47651932,"大羽　潤","オオバ　ジュン","男",2,null,492165,"愛知大学","アイチダイガク","愛知大",null,"5-461",492174]
["5-1430",105357829,"岡田　将旭","オカダ　マサアキ","男",1,null,492165,"愛知大学","アイチダイガク","愛知大",null,"5-1430",492174]
["5-454",49075227,"尾嶋　匠海","オジマ　タクミ","男",2,null,492165,"愛知大学","アイチダイガク","愛知大",null,"5-454",492174]
["5-438",39269837,"笠島　哲","カサジマ　テツ","男",4,null,492165,"愛知大学","アイチダイガク","愛知大",null,"5-438",492174]
["5-2189",47116625,"片岡　麻弥","カタオカ　マヤ","女",2,null,492165,"愛知大学","アイチダイガク","愛知大",null,"5-2189",492174]
["5-1423",39679842,"河合　慶弥","カワイ　ヨシヤ","男",4,null,492165,"愛知大学","アイチダイガク","愛知大",null,"5-1423",492174]
["5-425",49705025,"川藤　汰貴","カワフジ　タイキ","男",2,null,492165,"愛知大学","アイチダイガク","愛知大",null,"5-425",492174]
["5-1435",17459935,"久野　眞弥","クノ　シンヤ","男",1,null,492165,"愛知大学","アイチダイガク","愛知大",null,"5-1435",492174]
["5-2193",27819936,"久保　眞る美","クボ　マルミ","女",3,null,492165,"愛知大学","アイチダイガク","愛知大",null,"5-2193",492174]
["5-436",39621526,"小出　拓実","コイデ　タクミ","男",4,null,492165,"愛知大学","アイチダイガク","愛知大",null,"5-436",492174]
["5-2192",10137214,"小関　桃子","コセキ　モモコ","女",2,null,492165,"愛知大学","アイチダイガク","愛知大",null,"5-2192",492174]
["5-451",92200316,"小林　弘樹","コバヤシ　ヒロキ","男",2,null,492165,"愛知大学","アイチダイガク","愛知大",null,"5-451",492174]
["5-2191",39075933,"才記　知夏","サイキ　チナツ","女",3,null,492165,"愛知大学","アイチダイガク","愛知大",null,"5-2191",492174]
["5-433",58184430,"坂本　悠","サカモト　ユウ","男",3,null,492165,"愛知大学","アイチダイガク","愛知大",null,"5-433",492174]
["5-452",39273327,"坂本　侑太","サカモト　ユウタ","男",3,null,492165,"愛知大学","アイチダイガク","愛知大",null,"5-452",492174]
["5-1428",60656023,"佐村　香橘","サムラ　カキツ","男",1,null,492165,"愛知大学","アイチダイガク","愛知大",null,"5-1428",492174]
["5-1436",39757334,"志治　嘉崇","シジ　ヨシタカ","男",1,null,492165,"愛知大学","アイチダイガク","愛知大",null,"5-1436",492174]
["5-449",45862126,"清水　悠佑","シミズ　ユウスケ","男",3,null,492165,"愛知大学","アイチダイガク","愛知大",null,"5-449",492337]
["5-445",92200215,"瀬川　駿","セガワ　シュン","男",2,null,492165,"愛知大学","アイチダイガク","愛知大",null,"5-445",492337]
["5-456",10197523,"髙橋　直希","タカハシ　ナオキ","男",2,null,492165,"愛知大学","アイチダイガク","愛知大",null,"5-456",490054]
["5-1432",40332416,"田中　康介","タナカ　コウスケ","男",1,null,492165,"愛知大学","アイチダイガク","愛知大",null,"5-1432",492171]
["5-2190",39361830,"田中　優梨亜","タナカ　ユリア","女",3,null,492165,"愛知大学","アイチダイガク","愛知大",null,"5-2190",492171]
["5-2187",92202722,"棚瀬　茜音","タナセ　アカネ","女",2,null,492165,"愛知大学","アイチダイガク","愛知大",null,"5-2187",492171]
["5-443",72244120,"谷口　智大","タニグチ　チヒロ","男",4,null,492165,"愛知大学","アイチダイガク","愛知大",null,"5-443",492171]
["5-430",45862328,"丹下　晃輔","タンゲ　コウスケ","男",3,null,492165,"愛知大学","アイチダイガク","愛知大",null,"5-430",492171]
["5-1434",60332418,"塚本　陵太","ツカモト　リョウタ","男",1,null,492165,"愛知大学","アイチダイガク","愛知大",null,"5-1434",492171]
["5-447",40286323,"都竹　将史","ツヅク　マサフミ","男",2,null,492165,"愛知大学","アイチダイガク","愛知大",null,"5-447",492171]
["5-458",12421919,"寺主　駿","テラジ　シュン","男",4,null,492165,"愛知大学","アイチダイガク","愛知大",null,"5-458",492171]
["5-427",47367734,"中根　雅弘","ナカネ　マサヒロ","男",2,null,492165,"愛知大学","アイチダイガク","愛知大",null,"5-427",492171]
["5-431",39459535,"野間　悠磨","ノマ　ユウマ","男",3,null,492165,"愛知大学","アイチダイガク","愛知大",null,"5-431",492171]
["5-1427",60694227,"萩野　智久","ハギノ　トモヒサ","男",1,null,492165,"愛知大学","アイチダイガク","愛知大",null,"5-1427",492171]
["5-444",31697329,"服部　貴一","ハットリ　キイチ","男",3,null,492165,"愛知大学","アイチダイガク","愛知大",null,"5-444",492171]
["5-2445",39685940,"原　朋子","ハラ　トモコ","女",3,null,492165,"愛知大学","アイチダイガク","愛知大",null,"5-2445",492051]
["5-457",39239531,"坂野　邦晃","バンノ　クニアキ","男",2,null,492165,"愛知大学","アイチダイガク","愛知大",null,"5-457",492051]
["5-437",39107121,"平井　康太","ヒライ　コウタ","男",4,null,492165,"愛知大学","アイチダイガク","愛知大",null,"5-437",492140]
["5-446",39678639,"深谷　亮介","フカヤ　リョウスケ","男",4,null,492165,"愛知大学","アイチダイガク","愛知大",null,"5-446",492140]
["5-1438",61666732,"藤井　慧輔","フジイ　ケイスケ","男",1,null,492165,"愛知大学","アイチダイガク","愛知大",null,"5-1438",492140]
["5-1425",10127718,"堀内　雄介","ホリウチ　ユウスケ","男",2,null,492165,"愛知大学","アイチダイガク","愛知大",null,"5-1425",492140]
["5-462",49705732,"堀川　貴哉","ホリカワ　タカヤ","男",2,null,492165,"愛知大学","アイチダイガク","愛知大",null,"5-462",492140]
["5-432",82036726,"三木　洋介","ミキ　ヨウスケ","男",3,null,492165,"愛知大学","アイチダイガク","愛知大",null,"5-432",492140]
["5-448",47652529,"宮﨑　楓","ミヤザキ　カエデ","男",2,null,492165,"愛知大学","アイチダイガク","愛知大",null,"5-448",492140]
["5-1422",12330413,"森　天真","モリ　テンマ","男",4,null,492165,"愛知大学","アイチダイガク","愛知大",null,"5-1422",495278]
["5-434",39214019,"矢野　巧巳","ヤノ　タクミ","男",3,null,492165,"愛知大学","アイチダイガク","愛知大",null,"5-434",495278]
["5-1424",39269938,"山下　徹","ヤマシタ　トオル","男",4,null,492165,"愛知大学","アイチダイガク","愛知大",null,"5-1424",490016]
["5-2188",47419126,"山下　舞香","ヤマシタ　マイカ","女",2,null,492165,"愛知大学","アイチダイガク","愛知大",null,"5-2188",490016]
["5-1429",61318322,"山田　貴璃斗","ヤマダ　キリト","男",1,null,492165,"愛知大学","アイチダイガク","愛知大",null,"5-1429",490016]
["5-450",39566534,"山田　聖治","ヤマダ　セイジ","男",3,null,492165,"愛知大学","アイチダイガク","愛知大",null,"5-450",490016]
["5-455",31697430,"山田　将史","ヤマダ　マサシ","男",3,null,492165,"愛知大学","アイチダイガク","愛知大",null,"5-455",490016]
["5-453",31713924,"渡邉　晴哉","ワタナベ　セイヤ","男",3,null,492165,"愛知大学","アイチダイガク","愛知大",null,"5-453",490016]
["5-2194",39653228,"荒井　美穂","アライ　ミホ","女",4,null,492491,"愛知東邦大学","アイチトウホウダイガク","愛知東邦大",null,"5-2194",490016]
["5-2446",60688634,"浅野　奈穂","アサノ　ナホ","女",1,null,492170,"金城学院大学","キンジョウガクインダイガク","金城学院大",null,"5-2446",490016]
["5-2212",92202823,"片山　智草","カタヤマ　チグサ","女",3,null,492170,"金城学院大学","キンジョウガクインダイガク","金城学院大",null,"5-2212",492092]
["5-2447",46050116,"熊田　真由","クマダ　マユ","女",1,null,492170,"金城学院大学","キンジョウガクインダイガク","金城学院大",null,"5-2447",492092]
["5-2213",94943938,"豊田　文音","トヨダ　アヤネ","女",2,null,492170,"金城学院大学","キンジョウガクインダイガク","金城学院大",null,"5-2213",492092]
["5-2211",84125121,"山崎　恵里佳","ヤマザキ　エリカ","女",3,null,492170,"金城学院大学","キンジョウガクインダイガク","金城学院大",null,"5-2211",492173]
["5-325",39484331,"浅井　駿","アサイ　シュン","男",3,null,492174,"至学館大学","シガッカンダイガク","至学館大",null,"5-325",492173]
["5-1235",60604622,"有川　雄人","アリカワ　ユウト","男",1,null,492174,"至学館大学","シガッカンダイガク","至学館大",null,"5-1235",492173]
["5-326",39227427,"安藤　佑馬","アンドウ　ユウマ","男",3,null,492174,"至学館大学","シガッカンダイガク","至学館大",null,"5-326",492173]
["5-346",34958029,"池田　悠城","イケダ　ユウキ","男",2,null,492174,"至学館大学","シガッカンダイガク","至学館大",null,"5-346",492173]
["5-347",49181225,"石川　憲幸","イシカワ　ノリユキ","男",2,null,492174,"至学館大学","シガッカンダイガク","至学館大",null,"5-347",492173]
["5-327",85227428,"石子　紳之介","イシコ　シンノスケ","男",3,null,492174,"至学館大学","シガッカンダイガク","至学館大",null,"5-327",492173]
["5-2433",61765631,"磯村　江里","イソムラ　エリ","女",1,null,492174,"至学館大学","シガッカンダイガク","至学館大",null,"5-2433",492173]
["5-2148",39606024,"伊藤　麻子","イトウ　アサコ","女",1,null,492174,"至学館大学","シガッカンダイガク","至学館大",null,"5-2148",492173]
["5-311",39145729,"伊藤　優","イトウ　ユウ","男",4,null,492174,"至学館大学","シガッカンダイガク","至学館大",null,"5-311",492173]
["5-328",39088937,"伊藤　優汰","イトウ　ユウタ","男",3,null,492174,"至学館大学","シガッカンダイガク","至学館大",null,"5-328",492173]
["5-329",39715227,"井上　脩吾","イノウエ　シュウゴ","男",3,null,492174,"至学館大学","シガッカンダイガク","至学館大",null,"5-329",492173]
["5-2150",45540624,"今井　理香子","イマイ　リカコ","女",2,null,492174,"至学館大学","シガッカンダイガク","至学館大",null,"5-2150",492173]
["5-313",39482531,"今村　裕希","イマムラ　ヒロキ","男",4,null,492174,"至学館大学","シガッカンダイガク","至学館大",null,"5-313",492173]
["5-348",49034222,"岩野　祐希","イワノ　ユウキ","男",2,null,492174,"至学館大学","シガッカンダイガク","至学館大",null,"5-348",492173]
["5-2151",40256522,"内山　はるな","ウチヤマ　ハルナ","女",2,null,492174,"至学館大学","シガッカンダイガク","至学館大",null,"5-2151",492173]
["5-314",39152424,"宇野　佑輝","ウノ　ユウキ","男",4,null,492174,"至学館大学","シガッカンダイガク","至学館大",null,"5-314",492173]
["5-2139",39233222,"梅田　順子","ウメダ　ジュンコ","女",3,null,492174,"至学館大学","シガッカンダイガク","至学館大",null,"5-2139",492173]
["5-349",45711927,"及川　優輝","オイカワ　ユウキ","男",2,null,492174,"至学館大学","シガッカンダイガク","至学館大",null,"5-349",492173]
["5-2152",45539228,"大藏　伊織","オオクラ　イオリ","女",2,null,492174,"至学館大学","シガッカンダイガク","至学館大",null,"5-2152",492173]
["5-1183",53803120,"長内　祐樹","オサナイ　ユウキ","男",1,null,492174,"至学館大学","シガッカンダイガク","至学館大",null,"5-1183",492173]
["5-2131",39205726,"樫山　楓","カシヤマ　カエデ","女",4,null,492174,"至学館大学","シガッカンダイガク","至学館大",null,"5-2131",492173]
["5-330",39509632,"桂川　晃一","カツラガワ　コウイチ","男",3,null,492174,"至学館大学","シガッカンダイガク","至学館大",null,"5-330",492173]
["5-2434",40174521,"桂山　李湖","カツラヤマ　リコ","女",1,null,492174,"至学館大学","シガッカンダイガク","至学館大",null,"5-2434",492173]
["5-2451",39891939,"加藤　晶","カトウ　アキラ","女",1,null,492174,"至学館大学","シガッカンダイガク","至学館大",null,"5-2451",492173]
["5-331",39389335,"加藤　駿","カトウ　シュン","男",3,null,492174,"至学館大学","シガッカンダイガク","至学館大",null,"5-331",492173]
["5-332",77775134,"加藤　駿汰","カトウ　シュンタ","男",3,null,492174,"至学館大学","シガッカンダイガク","至学館大",null,"5-332",492173]
["5-2141",73645429,"加藤　桃佳","カトウ　モモカ","女",3,null,492174,"至学館大学","シガッカンダイガク","至学館大",null,"5-2141",492173]
["5-2132",39114018,"鴨川　友美","カモガワ　ユミ","女",4,null,492174,"至学館大学","シガッカンダイガク","至学館大",null,"5-2132",492173]
["5-1236",101922318,"川端　大貴","カワバタ　ダイキ","男",1,null,492174,"至学館大学","シガッカンダイガク","至学館大",null,"5-1236",492173]
["5-350",85474836,"木寺　尊行","キデラ　タカユキ","男",2,null,492174,"至学館大学","シガッカンダイガク","至学館大",null,"5-350",492173]
["5-2129",50215114,"熊谷　可乃子","クマガイ　カノコ","女",2,null,492174,"至学館大学","シガッカンダイガク","至学館大",null,"5-2129",492173]
["5-2126",39682937,"古賀上　麻里","コガウエ　マリ","女",4,null,492174,"至学館大学","シガッカンダイガク","至学館大",null,"5-2126",492173]
["5-2142",28424626,"後藤　舞子","ゴトウ　マイコ","女",3,null,492174,"至学館大学","シガッカンダイガク","至学館大",null,"5-2142",492173]
["5-352",47618430,"是永　達哉","コレナガ　タツヤ","男",2,null,492174,"至学館大学","シガッカンダイガク","至学館大",null,"5-352",492173]
["5-336",39673432,"坂本　翔太","サカモト　ショウタ","男",3,null,492174,"至学館大学","シガッカンダイガク","至学館大",null,"5-336",492173]
["5-337",39559637,"佐藤　佑","サトウ　ユウ","男",3,null,492174,"至学館大学","シガッカンダイガク","至学館大",null,"5-337",492173]
["5-317",72081119,"重田　智則","シゲタ　トモノリ","男",4,null,492174,"至学館大学","シガッカンダイガク","至学館大",null,"5-317",492173]
["5-1184",39835432,"白澤　克徳","シラサワ　カツノリ","男",1,null,492174,"至学館大学","シガッカンダイガク","至学館大",null,"5-1184",492173]
["5-318",39593029,"新海　哲","シンカイ　テツ","男",4,null,492174,"至学館大学","シガッカンダイガク","至学館大",null,"5-318",492173]
["5-338",39089130,"神野　航汰","ジンノ　コウタ","男",3,null,492174,"至学館大学","シガッカンダイガク","至学館大",null,"5-338",492173]
["5-1185",62103416,"鈴木　航樹","スズキ　コウキ","男",1,null,492174,"至学館大学","シガッカンダイガク","至学館大",null,"5-1185",492173]
["5-339",45571426,"鈴木　伶","スズキ　レイ","男",3,null,492174,"至学館大学","シガッカンダイガク","至学館大",null,"5-339",492173]
["5-2155",40086422,"竹内　朱里","タケウチ　アカリ","女",2,null,492174,"至学館大学","シガッカンダイガク","至学館大",null,"5-2155",492173]
["5-2156",39755635,"舘林　都美","タテバヤシ　イクミ","女",2,null,492174,"至学館大学","シガッカンダイガク","至学館大",null,"5-2156",492173]
["5-356",47076125,"立山　雄大","タテヤマ　ユウタ","男",2,null,492174,"至学館大学","シガッカンダイガク","至学館大",null,"5-356",492173]
["5-358",49448534,"恒川　翔","ツネカワ　ショウ","男",2,null,492174,"至学館大学","シガッカンダイガク","至学館大",null,"5-358",492173]
["5-359",40156420,"土岐　優太","トキ　ユウタ","男",2,null,492174,"至学館大学","シガッカンダイガク","至学館大",null,"5-359",492173]
["5-2144",39701121,"中嶋　友里彩","ナカジマ　ユリア","女",3,null,492174,"至学館大学","シガッカンダイガク","至学館大",null,"5-2144",492173]
["5-1237",40156925,"長濱　朋哉","ナガハマ　トモヤ","男",1,null,492174,"至学館大学","シガッカンダイガク","至学館大",null,"5-1237",492173]
["5-361",58345025,"中村　駿介","ナカムラ　シュンスケ","男",2,null,492174,"至学館大学","シガッカンダイガク","至学館大",null,"5-361",492173]
["5-2145",39685132,"中山　怜佳","ナカヤマ　レイカ","女",3,null,492174,"至学館大学","シガッカンダイガク","至学館大",null,"5-2145",492173]
["5-321",39189939,"百鬼　達哉","ナキリ　タツヤ","男",4,null,492174,"至学館大学","シガッカンダイガク","至学館大",null,"5-321",492173]
["5-2157",48048125,"夏目　沙奈","ナツメ　サナ","女",2,null,492174,"至学館大学","シガッカンダイガク","至学館大",null,"5-2157",492173]
["5-2436",59585638,"丹羽　菜々子","ニワ　ナナコ","女",1,null,492174,"至学館大学","シガッカンダイガク","至学館大",null,"5-2436",492173]
["5-2146",39605528,"野村　真由","ノムラ　マユ","女",3,null,492174,"至学館大学","シガッカンダイガク","至学館大",null,"5-2146",492173]
["5-363",46651527,"樋口　慎治","ヒグチ　シンジ","男",2,null,492174,"至学館大学","シガッカンダイガク","至学館大",null,"5-363",492173]
["5-2435",40102411,"平下　美波","ヒラシタ　ミナミ","女",1,null,492174,"至学館大学","シガッカンダイガク","至学館大",null,"5-2435",492173]
["5-2158",85229430,"深水　梨保","フカミズ　リホ","女",2,null,492174,"至学館大学","シガッカンダイガク","至学館大",null,"5-2158",492173]
["5-2159",40108215,"藤井　琴","フジイ　コト","女",2,null,492174,"至学館大学","シガッカンダイガク","至学館大",null,"5-2159",492173]
["5-340",39158733,"藤垣　諒","フジガキ　リョウ","男",3,null,492174,"至学館大学","シガッカンダイガク","至学館大",null,"5-340",492173]
["5-2160",40179324,"藤原　涼花","フジワラ　スズカ","女",2,null,492174,"至学館大学","シガッカンダイガク","至学館大",null,"5-2160",492173]
["5-2136",39604325,"松原　可依","マツバラ　カエ","女",4,null,492174,"至学館大学","シガッカンダイガク","至学館大",null,"5-2136",492173]
["5-2128",39260525,"丸山　夏美","マルヤマ　ナツミ","女",3,null,492174,"至学館大学","シガッカンダイガク","至学館大",null,"5-2128",492173]
["5-2437",39749840,"水野　瑛梨","ミズノ　エリ","女",1,null,492174,"至学館大学","シガッカンダイガク","至学館大",null,"5-2437",492173]
["5-2453",58703124,"水野　可菜","ミズノ　カナ","女",1,null,492174,"至学館大学","シガッカンダイガク","至学館大",null,"5-2453",492173]
["5-2163",49634733,"水野　杏香","ミズノ　キョウカ","女",2,null,492174,"至学館大学","シガッカンダイガク","至学館大",null,"5-2163",492173]
["5-1188",58303726,"百﨑　真己人","モモザキ　マコト","男",1,null,492174,"至学館大学","シガッカンダイガク","至学館大",null,"5-1188",492173]
["5-2164",40323618,"山口　綾加","ヤマグチ　アヤカ","女",2,null,492174,"至学館大学","シガッカンダイガク","至学館大",null,"5-2164",492173]
["5-364",46695636,"山﨑　優太","ヤマザキ　ユウタ","男",2,null,492174,"至学館大学","シガッカンダイガク","至学館大",null,"5-364",492173]
["5-2438",61574730,"山田　真維","ヤマダ　マイ","女",1,null,492174,"至学館大学","シガッカンダイガク","至学館大",null,"5-2438",492173]
["5-2127",39483532,"山本　沙季","ヤマモト　サキ","女",4,null,492174,"至学館大学","シガッカンダイガク","至学館大",null,"5-2127",492173]
["5-365",48406426,"山本　将平","ヤマモト　ショウヘイ","男",2,null,492174,"至学館大学","シガッカンダイガク","至学館大",null,"5-365",492173]
["5-345",39667334,"吉田　裕也","ヨシダ　ユウヤ","男",3,null,492174,"至学館大学","シガッカンダイガク","至学館大",null,"5-345",492173]
["5-2231",39814429,"稲葉　水保","イナバ　ミホ","女",2,null,492171,"椙山女学園大学","スギヤマジョガクエンダイガク","椙山女学園大",null,"5-2231",492173]
["5-2238",39804832,"金尾　南実","カナオ　ミナミ","女",2,null,492171,"椙山女学園大学","スギヤマジョガクエンダイガク","椙山女学園大",null,"5-2238",492173]
["5-2229",39423324,"河邊　真知子","カワベ　マチコ","女",3,null,492171,"椙山女学園大学","スギヤマジョガクエンダイガク","椙山女学園大",null,"5-2229",492173]
["5-2237",84125222,"國立　有希","クニタテ　ユキ","女",3,null,492171,"椙山女学園大学","スギヤマジョガクエンダイガク","椙山女学園大",null,"5-2237",492173]
["5-2232",84125323,"杉山　真由","スギヤマ　マユ","女",3,null,492171,"椙山女学園大学","スギヤマジョガクエンダイガク","椙山女学園大",null,"5-2232",492173]
["5-2228",72515222,"西川原　穂乃花","ニシカワラ　ホノカ","女",4,null,492171,"椙山女学園大学","スギヤマジョガクエンダイガク","椙山女学園大",null,"5-2228",492173]
["5-2230",45678939,"水野　萌果","ミズノ　モカ","女",2,null,492171,"椙山女学園大学","スギヤマジョガクエンダイガク","椙山女学園大",null,"5-2230",492173]
["5-2239",46545630,"宮崎　玲菜","ミヤザキ　レイナ","女",2,null,492171,"椙山女学園大学","スギヤマジョガクエンダイガク","椙山女学園大",null,"5-2239",492173]
["5-2234",39501523,"三輪　奈津美","ミワ　ナツミ","女",3,null,492171,"椙山女学園大学","スギヤマジョガクエンダイガク","椙山女学園大",null,"5-2234",492173]
["5-2233",39632629,"山下　紋奈","ヤマシタ　アヤナ","女",3,null,492171,"椙山女学園大学","スギヤマジョガクエンダイガク","椙山女学園大",null,"5-2233",492173]
["5-2236",39732226,"山中　今日香","ヤマナカ　キョウカ","女",1,null,492171,"椙山女学園大学","スギヤマジョガクエンダイガク","椙山女学園大",null,"5-2236",492173]
["5-2235",39108021,"山中　聖菜","ヤマナカ　セイナ","女",4,null,492171,"椙山女学園大学","スギヤマジョガクエンダイガク","椙山女学園大",null,"5-2235",492173]
["5-152",72244827,"赤羽　誠人","アカハネ　マサト","男",4,null,492173,"中京大学","チュウキョウダイガク","中京大",null,"5-152",492173]
["5-2006",39706025,"浅井　真子","アサイ　マコ","女",4,null,492173,"中京大学","チュウキョウダイガク","中京大",null,"5-2006",492173]
["5-149",47782129,"浅岡　駿佑","アサオカ　シュンスケ","男",2,null,492173,"中京大学","チュウキョウダイガク","中京大",null,"5-149",492173]
["5-158",40276423,"天野　広大","アマノ　コウダイ","男",1,null,492173,"中京大学","チュウキョウダイガク","中京大",null,"5-158",492173]
["5-83",69390027,"飯田　哲大","イイダ　アキヒロ","男",3,null,492173,"中京大学","チュウキョウダイガク","中京大",null,"5-83",492173]
["5-106",56870026,"池田　樹生","イケダ　ミキオ","男",2,null,492173,"中京大学","チュウキョウダイガク","中京大",null,"5-106",492173]
[42517,39628129,"石川　数馬","イシカワ　カズマ","男",4,null,492173,"中京大学","チュウキョウダイガク","中京大",null,"2016-05-27",492173]
["5-160",58304525,"石川　拓磨","イシカワ　タクマ","男",1,null,492173,"中京大学","チュウキョウダイガク","中京大",null,"5-160",492173]
["5-2036",39685334,"石原　薫子","イシハラ　カオルコ","女",3,null,492173,"中京大学","チュウキョウダイガク","中京大",null,"5-2036",492173]
[42494,39126526,"石原　康平","イシハラ　コウヘイ","男",4,null,492173,"中京大学","チュウキョウダイガク","中京大",null,"2016-05-04",492173]
["5-52",39597033,"井添　晶文","イゾエ　アキノリ","男",3,null,492173,"中京大学","チュウキョウダイガク","中京大",null,"5-52",492173]
["5-1245",101922621,"伊藤　大輝","イトウ　ダイキ","男",1,null,492173,"中京大学","チュウキョウダイガク","中京大",null,"5-1245",492173]
["5-2050",48254831,"伊藤　妃芽香","イトウ　ヒメカ","女",2,null,492173,"中京大学","チュウキョウダイガク","中京大",null,"5-2050",492173]
["5-53",39377130,"井面　拓也","イノモ　タクヤ","男",3,null,492173,"中京大学","チュウキョウダイガク","中京大",null,"5-53",492173]
["5-2055",40118216,"今泉　友里","イマイズミ　ユリ","女",2,null,492173,"中京大学","チュウキョウダイガク","中京大",null,"5-2055",492173]
["5-1246",40139017,"植山　剛裕","ウエヤマ　タケヒロ","男",1,null,492173,"中京大学","チュウキョウダイガク","中京大",null,"5-1246",492173]
["5-33",39678033,"榎　将太","エノキ　ショウタ","男","M1",null,492173,"中京大学","チュウキョウダイガク","中京大",null,"5-33",492173]
["5-34",39595637,"江森　敢汰","エモリ　カンタ","男",4,null,492173,"中京大学","チュウキョウダイガク","中京大",null,"5-34",492175]
["5-110",40163317,"遠藤　侑汰","エンドウ　ユウタ","男",2,null,492173,"中京大学","チュウキョウダイガク","中京大",null,"5-110",492175]
["5-162",40073620,"大浦　優汰","オオウラ　ユウタ","男",1,null,492173,"中京大学","チュウキョウダイガク","中京大",null,"5-162",492175]
["5-2061",47979036,"大久保　祥子","オオクボ　ショウコ","女",2,null,492173,"中京大学","チュウキョウダイガク","中京大",null,"5-2061",492175]
["5-54",39673331,"大久保　直哉","オオクボ　ナオヤ","男",3,null,492173,"中京大学","チュウキョウダイガク","中京大",null,"5-54",492175]
["5-112",39803427,"岡田　直也","オカダ　ナオヤ","男",2,null,492173,"中京大学","チュウキョウダイガク","中京大",null,"5-112",492175]
[42519,39365430,"於久　幸大","オク　コウダイ","男",4,null,492173,"中京大学","チュウキョウダイガク","中京大",null,"2016-05-29",492175]
[42495,39166227,"奥田　裕也","オクダ　ユウヤ","男",4,null,492173,"中京大学","チュウキョウダイガク","中京大",null,"2016-05-05",492175]
["5-49",39596133,"神谷　光彦","カミヤ　ミツヒコ","男",4,null,492173,"中京大学","チュウキョウダイガク","中京大",null,"5-49",492175]
["5-56",39387636,"木下　昇也","キノシタ　ショウヤ","男",3,null,492173,"中京大学","チュウキョウダイガク","中京大",null,"5-56",492175]
["5-115",58212523,"木村　遼太","キムラ　リョウタ","男",2,null,492173,"中京大学","チュウキョウダイガク","中京大",null,"5-115",492175]
["5-2028",39700726,"久保　百合香","クボ　ユリカ","女",3,null,492173,"中京大学","チュウキョウダイガク","中京大",null,"5-2028",492175]
["5-118",45712120,"黒木　省悟","クロギ　ショウゴ","男",2,null,492173,"中京大学","チュウキョウダイガク","中京大",null,"5-118",492175]
["5-2071",40350820,"光部　凪沙","コウベ　ナギサ","女",1,null,492173,"中京大学","チュウキョウダイガク","中京大",null,"5-2071",492175]
["5-1189",58148026,"小木曽　光","コギソ　コウ","男",1,null,492173,"中京大学","チュウキョウダイガク","中京大",null,"5-1189",492175]
["5-36",39595839,"小木曽　優作","コギソ　ユウサク","男",4,null,492173,"中京大学","チュウキョウダイガク","中京大",null,"5-36",492175]
["5-58",39496637,"児島　大樹","コジマ　ヒロキ","男",3,null,492173,"中京大学","チュウキョウダイガク","中京大",null,"5-58",492175]
["5-144",50644221,"古旗　崇裕","コバタ　タカヒロ","男",2,null,492173,"中京大学","チュウキョウダイガク","中京大",null,"5-144",492175]
["5-2457",60260014,"近藤　彩加","コンドウ　アヤカ","女",1,null,492173,"中京大学","チュウキョウダイガク","中京大",null,"5-2457",492175]
["5-1356",60323822,"酒井　悟至","サカイ　サトシ","男",1,null,492173,"中京大学","チュウキョウダイガク","中京大",null,"5-1356",492175]
["5-2051",40185624,"榊原　海紗","サカキバラ　ミサ","女",2,null,492173,"中京大学","チュウキョウダイガク","中京大",null,"5-2051",492175]
["5-2058",39749335,"佐藤　愛","サトウ　アイ","女",2,null,492173,"中京大学","チュウキョウダイガク","中京大",null,"5-2058",492175]
["5-2458",102964123,"佐藤　百花","サトウ　モモカ","女",1,null,492173,"中京大学","チュウキョウダイガク","中京大",null,"5-2458",492175]
["5-1248",16852628,"佐藤　亘","サトウ　ワタル","男",1,null,492173,"中京大学","チュウキョウダイガク","中京大",null,"5-1248",492175]
[42497,39100114,"柴山　達央","シバヤマ　タツオ","男",4,null,492173,"中京大学","チュウキョウダイガク","中京大",null,"2016-05-07",492175]
["5-1249",45687434,"清水　翔太","シミズ　ショウタ","男",1,null,492173,"中京大学","チュウキョウダイガク","中京大",null,"5-1249",492175]
[42498,39635733,"下里　功大","シモサト　コウダイ","男",4,null,492173,"中京大学","チュウキョウダイガク","中京大",null,"2016-05-08",492175]
["5-2073",97067231,"菅嶋　悠乃","スガシマ　ハルノ","女",1,null,492173,"中京大学","チュウキョウダイガク","中京大",null,"5-2073",492175]
["5-2074",39953837,"杉浦　穂乃加","スギウラ　ホノカ","女",1,null,492173,"中京大学","チュウキョウダイガク","中京大",null,"5-2074",492175]
["5-2023",39599843,"杉山　美貴","スギヤマ　ミキ","女",3,null,492173,"中京大学","チュウキョウダイガク","中京大",null,"5-2023",492175]
["5-90",39681229,"鈴木　康太","スズキ　コウタ","男",3,null,492173,"中京大学","チュウキョウダイガク","中京大",null,"5-90",492175]
["5-37",39403827,"鈴木　舜也","スズキ　シュンヤ","男",4,null,492173,"中京大学","チュウキョウダイガク","中京大",null,"5-37",491007]
[42499,39696336,"鈴木　祐太","スズキ　ユウタ","男",4,null,492173,"中京大学","チュウキョウダイガク","中京大",null,"2016-05-09",491007]
["5-1036",39195027,"墨　訓熙","スミ　クニヒロ","男","M1",null,492173,"中京大学","チュウキョウダイガク","中京大",null,"5-1036",491007]
["5-166",39949640,"祖父江　巧","ソフエ　タクミ","男",1,null,492173,"中京大学","チュウキョウダイガク","中京大",null,"5-166",495227]
["5-72",39597841,"髙岡　弘光","タカオカ　ヒロミツ","男",3,null,492173,"中京大学","チュウキョウダイガク","中京大",null,"5-72",495227]
["5-39",39680632,"高田　凌","タカダ　リョウ","男",4,null,492173,"中京大学","チュウキョウダイガク","中京大",null,"5-39",495227]
["5-2490",60656629,"高橋　郁乃","タカハシ　イクノ","女",1,null,492173,"中京大学","チュウキョウダイガク","中京大",null,"5-2490",495227]
["5-138",39810829,"髙橋　幸大","タカハシ　コウダイ","男",2,null,492173,"中京大学","チュウキョウダイガク","中京大",null,"5-138",495227]
["5-73",39388940,"高柳　佳怜","タカヤナギ　カレン","男",3,null,492173,"中京大学","チュウキョウダイガク","中京大",null,"5-73",495227]
["5-2041",39186330,"田口　優","タグチ　ユウ","女",3,null,492173,"中京大学","チュウキョウダイガク","中京大",null,"5-2041",495227]
["5-2030",39216425,"竹嶋　央后","タケシマ　エミ","女",3,null,492173,"中京大学","チュウキョウダイガク","中京大",null,"5-2030",495227]
["5-74",39598034,"竹田　大晃","タケダ　ヒロアキ","男",3,null,492173,"中京大学","チュウキョウダイガク","中京大",null,"5-74",495227]
["5-2007",39644935,"谷　優奈","タニ　ユウナ","女",4,null,492173,"中京大学","チュウキョウダイガク","中京大",null,"5-2007",495227]
["5-91",39596638,"谷口　裕哉","タニグチ　ユウヤ","男",3,null,492173,"中京大学","チュウキョウダイガク","中京大",null,"5-91",495227]
[42521,39145931,"築舘　健太","ツキダテ　ケンタ","男",4,null,492173,"中京大学","チュウキョウダイガク","中京大",null,"2016-05-31",495227]
[42501,39595233,"角田　涼一","ツノダ　リョウイチ","男",4,null,492173,"中京大学","チュウキョウダイガク","中京大",null,"2016-05-11",495227]
["5-2025",39707531,"手嶋　風理","テシマ　フワリ","女",3,null,492173,"中京大学","チュウキョウダイガク","中京大",null,"5-2025",495227]
["5-1251",64015824,"寺澤　怜央","テラサワ　レオ","男",1,null,492173,"中京大学","チュウキョウダイガク","中京大",null,"5-1251",495227]
["5-124",39756535,"寺島　航汰","テラシマ　コウタ","男",2,null,492173,"中京大学","チュウキョウダイガク","中京大",null,"5-124",495227]
["5-2060",39734935,"所　杏子","トコロ　キョウコ","女",2,null,492173,"中京大学","チュウキョウダイガク","中京大",null,"5-2060",495227]
["5-167",55954230,"戸澤　廣哉","トザワ　コウヤ","男",1,null,492173,"中京大学","チュウキョウダイガク","中京大",null,"5-167",495227]
["5-2002",84696437,"戸松　美緒","トマツ　ミオ","女",3,null,492173,"中京大学","チュウキョウダイガク","中京大",null,"5-2002",495227]
[42493,39832429,"冨田　繁","トミタ　シゲル","男",2,null,492173,"中京大学","チュウキョウダイガク","中京大",null,"2016-05-03",495227]
["5-2031",39707329,"冨松　侑乃","トミマツ　ユノ","女",3,null,492173,"中京大学","チュウキョウダイガク","中京大",null,"5-2031",495227]
["5-1252",53937027,"戸村　将","トムラ　ショウ","男",1,null,492173,"中京大学","チュウキョウダイガク","中京大",null,"5-1252",495227]
["5-76",39598236,"内藤　?輝","ナイトウ　ユウキ","男",3,null,492173,"中京大学","チュウキョウダイガク","中京大",null,"5-76",495227]
["5-2067",72467430,"長尾　茉珠","ナガオ　マミ","女","M2",null,492173,"中京大学","チュウキョウダイガク","中京大",null,"5-2067",495227]
[42491,39597538,"中山　結人","ナカヤマ　ユイト","男",4,null,492173,"中京大学","チュウキョウダイガク","中京大",null,"2016-05-01",495227]
["5-2026",39639636,"丹羽　愛利彩","ニワ　アリサ","女",3,null,492173,"中京大学","チュウキョウダイガク","中京大",null,"5-2026",495227]
[42503,39549939,"丹羽　勇揮","ニワ　ユウキ","男",4,null,492173,"中京大学","チュウキョウダイガク","中京大",null,"2016-05-13",495227]
[42504,39385331,"丹羽　良太","ニワ　リョウタ","男",4,null,492173,"中京大学","チュウキョウダイガク","中京大",null,"2016-05-14",495227]
[42506,39563531,"野々村　一輝","ノノムラ　カズキ","男",4,null,492173,"中京大学","チュウキョウダイガク","中京大",null,"2016-05-16",495227]
["5-92",39596840,"野村　大成","ノムラ　タイセイ","男",3,null,492173,"中京大学","チュウキョウダイガク","中京大",null,"5-92",495227]
["5-1255",61667733,"畑野　佑太","ハタノ　ユウタ","男",1,null,492173,"中京大学","チュウキョウダイガク","中京大",null,"5-1255",495227]
[42507,39562732,"服部　雅之","ハットリ　マサユキ","男",4,null,492173,"中京大学","チュウキョウダイガク","中京大",null,"2016-05-17",495227]
["5-2033",39630122,"林　綾香","ハヤシ　アヤカ","女",3,null,492173,"中京大学","チュウキョウダイガク","中京大",null,"5-2033",495227]
["5-2021",39644834,"平手　佑佳","ヒラテ　ユカ","女",4,null,492173,"中京大学","チュウキョウダイガク","中京大",null,"5-2021",495227]
["5-104",39646028,"平林　卓磨","ヒラバヤシ　タクマ","男",3,null,492173,"中京大学","チュウキョウダイガク","中京大",null,"5-104",495227]
["5-63",39596436,"福島　知樹","フクシマ　トモキ","男",3,null,492173,"中京大学","チュウキョウダイガク","中京大",null,"5-63",495227]
["5-64",39596335,"福島　英樹","フクシマ　ヒデキ","男",3,null,492173,"中京大学","チュウキョウダイガク","中京大",null,"5-64",492095]
["5-43",39349028,"藤城　昇太","フジシロ　ショウタ","男",4,null,492173,"中京大学","チュウキョウダイガク","中京大",null,"5-43",492035]
["5-148",46590630,"藤原　俊也","フジワラ　シュンヤ","男",2,null,492173,"中京大学","チュウキョウダイガク","中京大",null,"5-148",492035]
["5-2049",39859135,"古澤　彩果","フルザワ　アヤカ","女",2,null,492173,"中京大学","チュウキョウダイガク","中京大",null,"5-2049",492035]
[42512,45575935,"堀江　勇人","ホリエ　ユウト","男",4,null,492173,"中京大学","チュウキョウダイガク","中京大",null,"2016-05-22",492035]
["5-2064",39746433,"牧　亜香里","マキ　アカリ","女",2,null,492173,"中京大学","チュウキョウダイガク","中京大",null,"5-2064",492105]
["5-32",39572329,"松井　綾人","マツイ　アヤト","男",4,null,492173,"中京大学","チュウキョウダイガク","中京大",null,"5-32",492105]
["5-140",40117821,"水谷　來","ミズタニ　ライ","男",2,null,492173,"中京大学","チュウキョウダイガク","中京大",null,"5-140",490021]
["5-126",39811325,"水野　照太","ミズノ　ショウタ","男",2,null,492173,"中京大学","チュウキョウダイガク","中京大",null,"5-126",490021]
[42514,39269231,"宮崎　滉太","ミヤザキ　コウタ","男",4,null,492173,"中京大学","チュウキョウダイガク","中京大",null,"2016-05-24",490021]
["5-153",39337025,"宗平　壮一郎","ムネヒラ　ソウイチロウ","男",3,null,492173,"中京大学","チュウキョウダイガク","中京大",null,"5-153",490021]
["5-65",39127527,"森　捷将","モリ　カツマサ","男",3,null,492173,"中京大学","チュウキョウダイガク","中京大",null,"5-65",490021]
["5-66",39596234,"矢野　智大","ヤノ　トモヒロ","男",3,null,492173,"中京大学","チュウキョウダイガク","中京大",null,"5-66",490021]
["5-142",40310088,"山添　?郎","ヤマゾエ　タクロウ","男",2,null,492173,"中京大学","チュウキョウダイガク","中京大",null,"5-142",490021]
["5-80",39500825,"山田　祥吾","ヤマダ　ショウゴ","男",3,null,492173,"中京大学","チュウキョウダイガク","中京大",null,"5-80",490021]
["5-68",39483027,"山本　健太","ヤマモト　ケンタ","男",3,null,492173,"中京大学","チュウキョウダイガク","中京大",null,"5-68",492195]
["5-81",39428026,"山本　成晃","ヤマモト　ナリアキ","男",3,null,492173,"中京大学","チュウキョウダイガク","中京大",null,"5-81",492195]
["5-2044",39674029,"山本　麻湖","ヤマモト　マコ","女",3,null,492173,"中京大学","チュウキョウダイガク","中京大",null,"5-2044",492195]
["5-69",39596739,"横地　秀春","ヨコチ　ヒデハル","男",3,null,492173,"中京大学","チュウキョウダイガク","中京大",null,"5-69",492195]
["5-176",45792229,"若杉　俊佑","ワカスギ　シュンスケ","男",1,null,492173,"中京大学","チュウキョウダイガク","中京大",null,"5-176",492195]
["5-130",39948639,"渡邊　麻仁","ワタナベ　アサト","男",2,null,492173,"中京大学","チュウキョウダイガク","中京大",null,"5-130",492195]
["5-154",39281831,"渡辺　新大","ワタナベ　アラタ","男",3,null,492173,"中京大学","チュウキョウダイガク","中京大",null,"5-154",492195]
["5-1258",60607322,"渡邉　嵩貴","ワタナベ　タカキ","男",1,null,492173,"中京大学","チュウキョウダイガク","中京大",null,"5-1258",492195]
["5-1268",69589744,"伊藤　大河","イトウ　タイガ","男",1,null,492175,"中部大学","チュウブダイガク","中部大",null,"5-1268",492195]
["5-1265",39984134,"岡戸　祐太","オカド　ユウタ","男",1,null,492175,"中部大学","チュウブダイガク","中部大",null,"5-1265",492195]
["5-1267",101923521,"篭橋　治樹","カゴバシ　ハルキ","男",1,null,492175,"中部大学","チュウブダイガク","中部大",null,"5-1267",492195]
["5-1266",21817423,"佐々木　健太","ササキ　ケンタ","男",1,null,492175,"中部大学","チュウブダイガク","中部大",null,"5-1266",492195]
["5-1263",59806331,"佐藤　良樹","サトウ　ヨシキ","男",1,null,492175,"中部大学","チュウブダイガク","中部大",null,"5-1263",492182]
["5-2463",19542930,"志村　和香奈","シムラ　ワカナ","女",1,null,492175,"中部大学","チュウブダイガク","中部大",null,"5-2463",492182]
["5-2461",10271819,"名波　早百合","ナナミ　サユリ","女",2,null,492175,"中部大学","チュウブダイガク","中部大",null,"5-2461",492182]
["5-1439",40178828,"長谷川　文哉","ハセガワ　フミヤ","男",1,null,492175,"中部大学","チュウブダイガク","中部大",null,"5-1439",492182]
["5-2464",50193826,"長谷川　美波","ハセガワ　ミナミ","女",1,null,492175,"中部大学","チュウブダイガク","中部大",null,"5-2464",492182]
["5-1262",47967033,"船橋　健汰","フナハシ　ケンタ","男",3,null,492175,"中部大学","チュウブダイガク","中部大",null,"5-1262",492182]
["5-1264",63289735,"松岡　架偉","マツオカ　カイ","男",1,null,492175,"中部大学","チュウブダイガク","中部大",null,"5-1264",492182]
["5-2462",59889847,"宮田　早記","ミヤタ　サキ","女",1,null,492175,"中部大学","チュウブダイガク","中部大",null,"5-2462",492182]
["5-2497",59185937,"浅井　瑞貴","アサイ　ミズキ","女",1,null,492412,"東海学園大学","トウカイガクエンダイガク","東海学園大",null,"5-2497",492182]
["5-1364",40157017,"遠藤　光","エンドウ　ヒカル","男",1,null,492412,"東海学園大学","トウカイガクエンダイガク","東海学園大",null,"5-1364",492182]
["5-1370",39764231,"佐藤　広幸","サトウ　ヒロユキ","男",1,null,492412,"東海学園大学","トウカイガクエンダイガク","東海学園大",null,"5-1370",492182]
["5-1365",53192525,"鈴木　航大","スズキ　コウダイ","男",1,null,492412,"東海学園大学","トウカイガクエンダイガク","東海学園大",null,"5-1365",492182]
["5-1358",40059826,"鈴木　悠太","スズキ　ユウタ","男",1,null,492412,"東海学園大学","トウカイガクエンダイガク","東海学園大",null,"5-1358",492182]
["5-2496",10969429,"高橋　未来","タカハシ　ミク","女",1,null,492412,"東海学園大学","トウカイガクエンダイガク","東海学園大",null,"5-2496",492182]
["5-2495",40146116,"髙橋　未奈","タカハシ　ミナ","女",1,null,492412,"東海学園大学","トウカイガクエンダイガク","東海学園大",null,"5-2495",492182]
["5-1369",59181125,"田中　雄也","タナカ　ユウヤ","男",1,null,492412,"東海学園大学","トウカイガクエンダイガク","東海学園大",null,"5-1369",492182]
["5-1374",39928334,"谷口　跳馬","タニグチ　シュウマ","男",2,null,492412,"東海学園大学","トウカイガクエンダイガク","東海学園大",null,"5-1374",492182]
["5-1363",72792229,"塚本　大利","ツカモト　ヒロト","男",1,null,492412,"東海学園大学","トウカイガクエンダイガク","東海学園大",null,"5-1363",492182]
["5-1372",61673629,"土屋　智仁","ツチヤ　トモヒト","男",1,null,492412,"東海学園大学","トウカイガクエンダイガク","東海学園大",null,"5-1372",492182]
["5-1361",60586328,"中村　圭佑","ナカムラ　ケイスケ","男",1,null,492412,"東海学園大学","トウカイガクエンダイガク","東海学園大",null,"5-1361",492182]
["5-2493",64017220,"成田　夏海","ナリタ　ナツミ","女",1,null,492412,"東海学園大学","トウカイガクエンダイガク","東海学園大",null,"5-2493",492182]
["5-1367",60423217,"林　佑哉","ハヤシ　ユウヤ","男",1,null,492412,"東海学園大学","トウカイガクエンダイガク","東海学園大",null,"5-1367",492182]
["5-1357",39908332,"平野　成","ヒラノ　ナル","男",1,null,492412,"東海学園大学","トウカイガクエンダイガク","東海学園大",null,"5-1357",492182]
["5-1359",39902023,"松久　裕稀","マツヒサ　ユウキ","男",1,null,492412,"東海学園大学","トウカイガクエンダイガク","東海学園大",null,"5-1359",492182]
["5-1366",59793437,"水谷　俊貴","ミズタニ　ヨシタカ","男",1,null,492412,"東海学園大学","トウカイガクエンダイガク","東海学園大",null,"5-1366",492182]
["5-1373",52531622,"村松　悠斗","ムラマツ　ユウト","男",1,null,492412,"東海学園大学","トウカイガクエンダイガク","東海学園大",null,"5-1373",492182]
["5-1362",73877638,"山下　徹","ヤマシタ　トオル","男",1,null,492412,"東海学園大学","トウカイガクエンダイガク","東海学園大",null,"5-1362",492182]
["5-1368",40152618,"横山　皓己","ヨコヤマ　コウキ","男",1,null,492412,"東海学園大学","トウカイガクエンダイガク","東海学園大",null,"5-1368",492182]
["5-1360",64016118,"吉川　祐汰","ヨシカワ　ユウタ","男",1,null,492412,"東海学園大学","トウカイガクエンダイガク","東海学園大",null,"5-1360",492182]
["5-1282",72216220,"出原　俊介","イズハラ　シュンスケ","男",4,null,490085,"豊橋技術科学大学","トヨハシギジュツカガクダイガク","豊橋技術科学大",null,"5-1282",492182]
["5-1281",101923824,"磯野　大樹","イソノ　ダイキ","男",2,null,490085,"豊橋技術科学大学","トヨハシギジュツカガクダイガク","豊橋技術科学大",null,"5-1281",492182]
["5-1284",14368325,"板橋　悠人","イタバシ　ユウト","男",3,null,490085,"豊橋技術科学大学","トヨハシギジュツカガクダイガク","豊橋技術科学大",null,"5-1284",492182]
["5-1286",101924320,"中本　一成","ナカモト　イッセイ","男",3,null,490085,"豊橋技術科学大学","トヨハシギジュツカガクダイガク","豊橋技術科学大",null,"5-1286",492182]
["5-1283",27736530,"藤原　慎二郎","フジワラ　シンジロウ","男",3,null,490085,"豊橋技術科学大学","トヨハシギジュツカガクダイガク","豊橋技術科学大",null,"5-1283",492182]
["5-1285",45607830,"山下　達也","ヤマシタ　タツヤ","男",2,null,490085,"豊橋技術科学大学","トヨハシギジュツカガクダイガク","豊橋技術科学大",null,"5-1285",492182]
["5-650",39139732,"浅野　裕貴","アサノ　ユウキ","男",4,null,492177,"名古屋学院大学","ナゴヤガクインダイガク","名古屋学院大",null,"5-650",492182]
["5-653",49048732,"安西　高志","アンザイ　タカシ","男",2,null,492177,"名古屋学院大学","ナゴヤガクインダイガク","名古屋学院大",null,"5-653",492182]
["5-649",73634124,"池田　翔一","イケダ　ショウイチ","男",4,null,492177,"名古屋学院大学","ナゴヤガクインダイガク","名古屋学院大",null,"5-649",492182]
["5-646",39256025,"池田　侑也","イケダ　ユウヤ","男",4,null,492177,"名古屋学院大学","ナゴヤガクインダイガク","名古屋学院大",null,"5-646",492182]
["5-642",45544527,"小川　浩平","オガワ　コウヘイ","男",3,null,492177,"名古屋学院大学","ナゴヤガクインダイガク","名古屋学院大",null,"5-642",492182]
["5-655",39695638,"及部　勝也","オヨベ　カツヤ","男",4,null,492177,"名古屋学院大学","ナゴヤガクインダイガク","名古屋学院大",null,"5-655",492182]
["5-2242",94944232,"葛谷　恵利","クズヤ　エリ","女",2,null,492177,"名古屋学院大学","ナゴヤガクインダイガク","名古屋学院大",null,"5-2242",492182]
["5-2240",39893537,"久保田　千尋","クボタ　チヒロ","女",2,null,492177,"名古屋学院大学","ナゴヤガクインダイガク","名古屋学院大",null,"5-2240",492182]
["5-644",39151221,"竹内　優翔","タケウチ　ユウト","男",3,null,492177,"名古屋学院大学","ナゴヤガクインダイガク","名古屋学院大",null,"5-644",492182]
["5-643",39680935,"中定　慎","ナカサダ　シン","男",3,null,492177,"名古屋学院大学","ナゴヤガクインダイガク","名古屋学院大",null,"5-643",492182]
["5-2243",94944333,"中野　瑞穂","ナカノ　ミズホ","女",2,null,492177,"名古屋学院大学","ナゴヤガクインダイガク","名古屋学院大",null,"5-2243",492182]
["5-647",39445227,"中村　勇太","ナカムラ　ユウタ","男",3,null,492177,"名古屋学院大学","ナゴヤガクインダイガク","名古屋学院大",null,"5-647",492182]
["5-652",92264831,"那須　広基","ナス　ヒロキ","男",2,null,492177,"名古屋学院大学","ナゴヤガクインダイガク","名古屋学院大",null,"5-652",492182]
["5-648",39211824,"長谷川　大和","ハセガワ　ヒロカズ","男",4,null,492177,"名古屋学院大学","ナゴヤガクインダイガク","名古屋学院大",null,"5-648",492122]
["5-2244",94944434,"林　祐子","ハヤシ　ユウコ","女",2,null,492177,"名古屋学院大学","ナゴヤガクインダイガク","名古屋学院大",null,"5-2244",492122]
["5-654",46695232,"保浦　一仁","ホボ　カズヒト","男",2,null,492177,"名古屋学院大学","ナゴヤガクインダイガク","名古屋学院大",null,"5-654",492122]
["5-2241",94944131,"村井　佑花里","ムライ　ユカリ","女",2,null,492177,"名古屋学院大学","ナゴヤガクインダイガク","名古屋学院大",null,"5-2241",492183]
["5-651",39057226,"湧川　寿希哉","ワクガワ　ジュキヤ","男",4,null,492177,"名古屋学院大学","ナゴヤガクインダイガク","名古屋学院大",null,"5-651",492183]
["5-1397",61177123,"安齋　隼","アンザイ　シュン","男",1,null,490045,"名古屋工業大学","ナゴヤコウギョウダイガク","名古屋工業大",null,"5-1397",492183]
["5-658",21025616,"井上　茂乗","イノウエ　シゲノリ","男",4,null,490045,"名古屋工業大学","ナゴヤコウギョウダイガク","名古屋工業大",null,"5-658",492183]
["5-1399",105357223,"入船　僚太","イリフネ　リョウタ","男",1,null,490045,"名古屋工業大学","ナゴヤコウギョウダイガク","名古屋工業大",null,"5-1399",492183]
["5-2246",39437531,"岩田　夏織","イワタ　カオリ","女",4,null,490045,"名古屋工業大学","ナゴヤコウギョウダイガク","名古屋工業大",null,"5-2246",492183]
["5-659",72245323,"大藪　匡記","オオヤブ　マサキ","男",4,null,490045,"名古屋工業大学","ナゴヤコウギョウダイガク","名古屋工業大",null,"5-659",492183]
["5-673",39897036,"大脇　将史","オオワキ　マサシ","男",2,null,490045,"名古屋工業大学","ナゴヤコウギョウダイガク","名古屋工業大",null,"5-673",492183]
["5-660",39083528,"小川　卓也","オガワ　タクヤ","男",4,null,490045,"名古屋工業大学","ナゴヤコウギョウダイガク","名古屋工業大",null,"5-660",492183]
["5-1287",17574731,"笠井　謙一朗","カサイ　ケンイチロウ","男",1,null,490045,"名古屋工業大学","ナゴヤコウギョウダイガク","名古屋工業大",null,"5-1287",492183]
["5-656",72104014,"加藤　良祐","カトウ　リョウスケ","男","M2",null,490045,"名古屋工業大学","ナゴヤコウギョウダイガク","名古屋工業大",null,"5-656",492183]
["5-666",39273428,"川村　誠土","カワムラ　マコト","男",3,null,490045,"名古屋工業大学","ナゴヤコウギョウダイガク","名古屋工業大",null,"5-666",492183]
["5-674",28106623,"郷　健太郎","ゴウ　ケンタロウ","男",2,null,490045,"名古屋工業大学","ナゴヤコウギョウダイガク","名古屋工業大",null,"5-674",492183]
["5-1291",40310917,"後藤　敦哉","ゴトウ　アツヤ","男",1,null,490045,"名古屋工業大学","ナゴヤコウギョウダイガク","名古屋工業大",null,"5-1291",492126]
["5-667",28455529,"五嶋　優詞","ゴトウ　ユウシ","男",3,null,490045,"名古屋工業大学","ナゴヤコウギョウダイガク","名古屋工業大",null,"5-667",492126]
["5-675",40322516,"斎藤　弘樹","サイトウ　ヒロキ","男",2,null,490045,"名古屋工業大学","ナゴヤコウギョウダイガク","名古屋工業大",null,"5-675",492126]
["5-676",46516527,"斉藤　好輝","サイトウ　ヨシテル","男",2,null,490045,"名古屋工業大学","ナゴヤコウギョウダイガク","名古屋工業大",null,"5-676",492126]
["5-1292",60298732,"柴山　昌之","シバヤマ　マサユキ","男",1,null,490045,"名古屋工業大学","ナゴヤコウギョウダイガク","名古屋工業大",null,"5-1292",492126]
["5-1288",49169534,"新宮　良啓","シングウ　ヨシヒロ","男",1,null,490045,"名古屋工業大学","ナゴヤコウギョウダイガク","名古屋工業大",null,"5-1288",490085]
["5-668",39336731,"鈴木　康太","スズキ　コウタ","男",3,null,490045,"名古屋工業大学","ナゴヤコウギョウダイガク","名古屋工業大",null,"5-668",490085]
["5-669",29659132,"高橋　宏介","タカハシ　コウスケ","男",3,null,490045,"名古屋工業大学","ナゴヤコウギョウダイガク","名古屋工業大",null,"5-669",490085]
["5-670",31724118,"棚橋　亮太","タナハシ　リョウタ","男",3,null,490045,"名古屋工業大学","ナゴヤコウギョウダイガク","名古屋工業大",null,"5-670",490085]
["5-657",15357829,"玉置　学","タマキ　マナブ","男","M1",null,490045,"名古屋工業大学","ナゴヤコウギョウダイガク","名古屋工業大",null,"5-657",490085]
["5-671",39174630,"時田　知典","トキダ　カズノリ","男",3,null,490045,"名古屋工業大学","ナゴヤコウギョウダイガク","名古屋工業大",null,"5-671",490085]
["5-2247",39126829,"富田　紗穂子","トミダ　サホコ","女",4,null,490045,"名古屋工業大学","ナゴヤコウギョウダイガク","名古屋工業大",null,"5-2247",490001]
["5-661",39269736,"富田　崇史","トミダ　タカシ","男",4,null,490045,"名古屋工業大学","ナゴヤコウギョウダイガク","名古屋工業大",null,"5-661",492177]
["5-662",39490833,"中村　瑛","ナカムラ　アキラ","男",4,null,490045,"名古屋工業大学","ナゴヤコウギョウダイガク","名古屋工業大",null,"5-662",492177]
["5-663",39502827,"西山　和輝","ニシヤマ　カズキ","男",4,null,490045,"名古屋工業大学","ナゴヤコウギョウダイガク","名古屋工業大",null,"5-663",492177]
["5-1400",8021617,"萩原　誠","ハギワラ　マコト","男",2,null,490045,"名古屋工業大学","ナゴヤコウギョウダイガク","名古屋工業大",null,"5-1400",492177]
["5-677",34541623,"長谷川　孝輔","ハセガワ　コウスケ","男",2,null,490045,"名古屋工業大学","ナゴヤコウギョウダイガク","名古屋工業大",null,"5-677",492177]
["5-1289",39681633,"服部　洋明","ハットリ　ヒロアキ","男",3,null,490045,"名古屋工業大学","ナゴヤコウギョウダイガク","名古屋工業大",null,"5-1289",492177]
["5-1290",61668734,"林　和弥","ハヤシ　カズヤ","男",1,null,490045,"名古屋工業大学","ナゴヤコウギョウダイガク","名古屋工業大",null,"5-1290",492177]
["5-1398",47256327,"藤井　駿","フジイ　シュン","男",1,null,490045,"名古屋工業大学","ナゴヤコウギョウダイガク","名古屋工業大",null,"5-1398",492177]
["5-665",15078425,"藤木　智巳","フジキ　トモミ","男",4,null,490045,"名古屋工業大学","ナゴヤコウギョウダイガク","名古屋工業大",null,"5-665",492177]
["5-2248",97067736,"ホール　アシュレイ桜","ホール　アシュレイサクラ","女",2,null,490045,"名古屋工業大学","ナゴヤコウギョウダイガク","名古屋工業大",null,"5-2248",492177]
["5-1396",92262930,"堀尾　卓矢","ホリオ　タクヤ","男","M2",null,490045,"名古屋工業大学","ナゴヤコウギョウダイガク","名古屋工業大",null,"5-1396",492177]
["5-2468",58348634,"堀部　真代","ホリベ　マヨ","女",1,null,490045,"名古屋工業大学","ナゴヤコウギョウダイガク","名古屋工業大",null,"5-2468",492177]
["5-678",39437935,"山口　裕太","ヤマグチ　ユウタ","男",2,null,490045,"名古屋工業大学","ナゴヤコウギョウダイガク","名古屋工業大",null,"5-678",492177]
["5-2469",40158018,"吉田　美菜子","ヨシダ　ミナコ","女",1,null,490045,"名古屋工業大学","ナゴヤコウギョウダイガク","名古屋工業大",null,"5-2469",492177]
["5-672",39474027,"渡　雅仁","ワタリ　マサヒト","男",3,null,490045,"名古屋工業大学","ナゴヤコウギョウダイガク","名古屋工業大",null,"5-672",492177]
["5-680",39558838,"伊藤　圭貴","イトウ　ケイキ","男",4,null,491013,"名古屋市立大学","ナゴヤシリツダイガク","名古屋市立大",null,"5-680",492177]
["5-681",72245424,"稲津　学","イナヅ　マナブ","男",4,null,491013,"名古屋市立大学","ナゴヤシリツダイガク","名古屋市立大",null,"5-681",492177]
["5-2251",26292324,"小笠原　香苗","オガサワラ　カナエ","女",3,null,491013,"名古屋市立大学","ナゴヤシリツダイガク","名古屋市立大",null,"5-2251",492177]
["5-679",72101617,"木全　茂利","キマタ　モトシ","男",5,null,491013,"名古屋市立大学","ナゴヤシリツダイガク","名古屋市立大",null,"5-679",491013]
["5-2252",39097230,"熊谷　エミリ","クマガイ　エミリ","女",3,null,491013,"名古屋市立大学","ナゴヤシリツダイガク","名古屋市立大",null,"5-2252",491013]
["5-682",39360021,"佐野　公紀","サノ　コウキ","男",4,null,491013,"名古屋市立大学","ナゴヤシリツダイガク","名古屋市立大",null,"5-682",491013]
["5-686",15160114,"清水　康仁","シミズ　ヤスヒト","男",3,null,491013,"名古屋市立大学","ナゴヤシリツダイガク","名古屋市立大",null,"5-686",491013]
["5-683",39558131,"田口　惇嗣","タグチ　アツシ","男",4,null,491013,"名古屋市立大学","ナゴヤシリツダイガク","名古屋市立大",null,"5-683",491013]
["5-684",15092421,"刀根　拓未","トネ　タクミ","男",4,null,491013,"名古屋市立大学","ナゴヤシリツダイガク","名古屋市立大",null,"5-684",491013]
["5-2250",39066428,"長田　環奈","ナガタ　カンナ","女",4,null,491013,"名古屋市立大学","ナゴヤシリツダイガク","名古屋市立大",null,"5-2250",491013]
["5-685",39243728,"前田　悠貴","マエダ　ユウキ","男",4,null,491013,"名古屋市立大学","ナゴヤシリツダイガク","名古屋市立大",null,"5-685",491013]
["5-2249",39071121,"松本　華澄","マツモト　カスミ","女",5,null,491013,"名古屋市立大学","ナゴヤシリツダイガク","名古屋市立大",null,"5-2249",491013]
["5-1293",61913020,"山田　剛大","ヤマダ　タケヒロ","男",1,null,491013,"名古屋市立大学","ナゴヤシリツダイガク","名古屋市立大",null,"5-1293",491013]
["5-257",39176935,"愛葉　和憲","アイバ　カズノリ","男",3,null,490043,"名古屋大学","ナゴヤダイガク","名古屋大",null,"5-257",491013]
["5-297",6126924,"飯田　康平","イイダ　コウヘイ","男",2,null,490043,"名古屋大学","ナゴヤダイガク","名古屋大",null,"5-297",491013]
["5-1295",17379330,"伊ヶ﨑　一哉","イガサキ　カズヤ","男",1,null,490043,"名古屋大学","ナゴヤダイガク","名古屋大",null,"5-1295",490043]
["5-252",39177128,"伊神　汰一","イガミ　タイチ","男",3,null,490043,"名古屋大学","ナゴヤダイガク","名古屋大",null,"5-252",490043]
["5-1196",40292118,"幾田　勇希","イクタ　ユウキ","男",1,null,490043,"名古屋大学","ナゴヤダイガク","名古屋大",null,"5-1196",490043]
["5-235",72058325,"池亀　透","イケガメ　トオル","男","D1",null,490043,"名古屋大学","ナゴヤダイガク","名古屋大",null,"5-235",490043]
["5-2505",66131926,"磯貝　萌々子","イソガイ　モモコ","女",1,null,490043,"名古屋大学","ナゴヤダイガク","名古屋大",null,"5-2505",490043]
["5-299",80913930,"一林　諒","イチバヤシ　リョウ","男",2,null,490043,"名古屋大学","ナゴヤダイガク","名古屋大",null,"5-299",490043]
["5-1401",49111723,"伊藤　公太","イトウ　コウタ","男",1,null,490043,"名古屋大学","ナゴヤダイガク","名古屋大",null,"5-1401",490043]
["5-1402",45699538,"伊藤　駿一郎","イトウ　シュンイチロウ","男",1,null,490043,"名古屋大学","ナゴヤダイガク","名古屋大",null,"5-1402",490043]
["5-231",39081021,"伊藤　無限","イトウ　ムゲン","男","M1",null,490043,"名古屋大学","ナゴヤダイガク","名古屋大",null,"5-231",490043]
["5-284",40309319,"伊藤　裕也","イトウ　ユウヤ","男",2,null,490043,"名古屋大学","ナゴヤダイガク","名古屋大",null,"5-284",490043]
["5-288",40364320,"稲見　英和","イナミ　ヒデカズ","男",2,null,490043,"名古屋大学","ナゴヤダイガク","名古屋大",null,"5-288",490043]
["5-298",92200821,"岩井　宏樹","イワイ　ヒロキ","男",2,null,490043,"名古屋大学","ナゴヤダイガク","名古屋大",null,"5-298",490043]
["5-251",39310622,"岩瀬　累","イワセ　ルイ","男",3,null,490043,"名古屋大学","ナゴヤダイガク","名古屋大",null,"5-251",490043]
["5-303",10438319,"浮津　照也","ウキツ　テルヤ","男",2,null,490043,"名古屋大学","ナゴヤダイガク","名古屋大",null,"5-303",490043]
["5-255",39336529,"遠藤　暢","エンドウ　トオル","男",3,null,490043,"名古屋大学","ナゴヤダイガク","名古屋大",null,"5-255",490043]
["5-266",28775029,"大越　拓実","オオコシ　タクミ","男",3,null,490043,"名古屋大学","ナゴヤダイガク","名古屋大",null,"5-266",490043]
["5-254",39174125,"大藪　悠登","オオヤブ　ユウト","男",3,null,490043,"名古屋大学","ナゴヤダイガク","名古屋大",null,"5-254",490043]
["5-1403",61750221,"小川　瑞貴","オガワ　ミズキ","男",1,null,490043,"名古屋大学","ナゴヤダイガク","名古屋大",null,"5-1403",490043]
["5-2112",72453627,"尾崎　理穂","オザキ　リホ","女","M2",null,490043,"名古屋大学","ナゴヤダイガク","名古屋大",null,"5-2112",490043]
["5-260",39658637,"小田　将矢","オダ　マサヤ","男",3,null,490043,"名古屋大学","ナゴヤダイガク","名古屋大",null,"5-260",490043]
["5-289",62228323,"加藤　幹也","カトウ　ミキヤ","男",2,null,490043,"名古屋大学","ナゴヤダイガク","名古屋大",null,"5-289",490043]
["5-229",72060116,"金山　晃大","カナヤマ　アキヒロ","男","M2",null,490043,"名古屋大学","ナゴヤダイガク","名古屋大",null,"5-229",490043]
["5-230",72060217,"金田　陽佑","カネダ　ヨウスケ","男","M2",null,490043,"名古屋大学","ナゴヤダイガク","名古屋大",null,"5-230",490043]
["5-290",47214321,"河上　匠","カワカミ　タクミ","男",2,null,490043,"名古屋大学","ナゴヤダイガク","名古屋大",null,"5-290",490043]
["5-2116",82042925,"河内　慶子","カワチ　ケイコ","女",3,null,490043,"名古屋大学","ナゴヤダイガク","名古屋大",null,"5-2116",490043]
["5-237",72246021,"河辺　悦太郎","カワベ　エツタロウ","男",4,null,490043,"名古屋大学","ナゴヤダイガク","名古屋大",null,"5-237",490043]
["5-1404",61668633,"紀藤　大樹","キトウ　タイキ","男",1,null,490043,"名古屋大学","ナゴヤダイガク","名古屋大",null,"5-1404",490043]
["5-281",40278122,"木下　裕也","キノシタ　ユウヤ","男",2,null,490043,"名古屋大学","ナゴヤダイガク","名古屋大",null,"5-281",490043]
["5-279",39310723,"木村　健太郎","キムラ　ケンタロウ","男",2,null,490043,"名古屋大学","ナゴヤダイガク","名古屋大",null,"5-279",490043]
["5-283",39560124,"黒木　洸志","クロギ　コウシ","男",2,null,490043,"名古屋大学","ナゴヤダイガク","名古屋大",null,"5-283",490043]
["5-1405",39311421,"黒野　嵩矢","クロノ　シュウヤ","男",2,null,490043,"名古屋大学","ナゴヤダイガク","名古屋大",null,"5-1405",490043]
["5-250",84122522,"小島　佑稀","コジマ　ユウキ","男",3,null,490043,"名古屋大学","ナゴヤダイガク","名古屋大",null,"5-250",490043]
["5-1406",61179125,"小山　航","コヤマ　ワタル","男",1,null,490043,"名古屋大学","ナゴヤダイガク","名古屋大",null,"5-1406",490043]
["5-1407",40157320,"近藤　利哉","コンドウ　トシヤ","男",1,null,490043,"名古屋大学","ナゴヤダイガク","名古屋大",null,"5-1407",490043]
["5-1408",33329929,"酒寄　直哉","サカヨリ　ナオヤ","男",1,null,490043,"名古屋大学","ナゴヤダイガク","名古屋大",null,"5-1408",490043]
["5-292",40345218,"柴田　雄斗","シバタ　ユウト","男",2,null,490043,"名古屋大学","ナゴヤダイガク","名古屋大",null,"5-292",490043]
["5-262",39431525,"嶋田　健太郎","シマダ　ケンタロウ","男",3,null,490043,"名古屋大学","ナゴヤダイガク","名古屋大",null,"5-262",490043]
["5-1409",26201213,"清水　貴也","シミズ　タカヤ","男",1,null,490043,"名古屋大学","ナゴヤダイガク","名古屋大",null,"5-1409",490043]
["5-236",39436328,"下村　遼","シモムラ　ハルカ","男",4,null,490043,"名古屋大学","ナゴヤダイガク","名古屋大",null,"5-236",490043]
["5-286",39078128,"鈴木　健弘","スズキ　タケヒロ","男",2,null,490043,"名古屋大学","ナゴヤダイガク","名古屋大",null,"5-286",490043]
["5-291",48665231,"鈴木　日向","スズキ　ヒュウガ","男",2,null,490043,"名古屋大学","ナゴヤダイガク","名古屋大",null,"5-291",490043]
["5-232",12245418,"鈴木　雅斗","スズキ　マサト","男","M1",null,490043,"名古屋大学","ナゴヤダイガク","名古屋大",null,"5-232",490043]
["5-270",26548732,"砂原　健汰","スナハラ　ケンタ","男",3,null,490043,"名古屋大学","ナゴヤダイガク","名古屋大",null,"5-270",490043]
["5-293",39267936,"角屋　喜基","スミヤ　ヨシキ","男",2,null,490043,"名古屋大学","ナゴヤダイガク","名古屋大",null,"5-293",490043]
["5-301",26323420,"竹原　佑亮","タケハラ　ユウスケ","男",2,null,490043,"名古屋大学","ナゴヤダイガク","名古屋大",null,"5-301",490043]
["5-261",39473834,"千葉　俊季","チバ　トシキ","男",3,null,490043,"名古屋大学","ナゴヤダイガク","名古屋大",null,"5-261",490043]
["5-1410",29965738,"陳　哲斐","チン　テツヒ","男",2,null,490043,"名古屋大学","ナゴヤダイガク","名古屋大",null,"5-1410",490043]
["5-1197",46408729,"塚本　亮司","ツカモト　リョウジ","男",1,null,490043,"名古屋大学","ナゴヤダイガク","名古屋大",null,"5-1197",490043]
["5-268",8214217,"手石　雅人","テイシ　マサト","男",3,null,490043,"名古屋大学","ナゴヤダイガク","名古屋大",null,"5-268",490043]
["5-2123",48969137,"戸松　里帆","トマツ　リホ","女",2,null,490043,"名古屋大学","ナゴヤダイガク","名古屋大",null,"5-2123",490043]
["5-295",48959944,"野田　和也","ノダ　カズヤ","男",2,null,490043,"名古屋大学","ナゴヤダイガク","名古屋大",null,"5-295",490043]
["5-302",28106825,"野村　直人","ノムラ　ナオト","男",2,null,490043,"名古屋大学","ナゴヤダイガク","名古屋大",null,"5-302",490043]
["5-296",47232321,"萩原　諒","ハギワラ　リョウ","男",2,null,490043,"名古屋大学","ナゴヤダイガク","名古屋大",null,"5-296",490043]
["5-2440",18141015,"長谷川　詩歩","ハセガワ　シホ","女",1,null,490043,"名古屋大学","ナゴヤダイガク","名古屋大",null,"5-2440",490043]
["5-285",48964334,"長谷川　奨","ハセガワ　ショウ","男",2,null,490043,"名古屋大学","ナゴヤダイガク","名古屋大",null,"5-285",490043]
["5-263",39336933,"長谷川　有希","ハセガワ　ユキ","男",3,null,490043,"名古屋大学","ナゴヤダイガク","名古屋大",null,"5-263",490043]
["5-2113",72456428,"服部　綾実","ハットリ　アヤミ","女","D1",null,490043,"名古屋大学","ナゴヤダイガク","名古屋大",null,"5-2113",490043]
["5-280",50351721,"浜島　裕亮","ハマジマ　ユウスケ","男",2,null,490043,"名古屋大学","ナゴヤダイガク","名古屋大",null,"5-280",490043]
["5-1294",57967034,"原　和久","ハラ　カズヒサ","男","M2",null,490043,"名古屋大学","ナゴヤダイガク","名古屋大",null,"5-1294",490043]
["5-240",8388330,"春田　晋作","ハルタ　シンサク","男",4,null,490043,"名古屋大学","ナゴヤダイガク","名古屋大",null,"5-240",490043]
["5-239",85228429,"肥後　隼大","ヒゴ　ハヤタ","男",4,null,490043,"名古屋大学","ナゴヤダイガク","名古屋大",null,"5-239",490043]
["5-253",39472934,"廣瀬　達也","ヒロセ　タツヤ","男",3,null,490043,"名古屋大学","ナゴヤダイガク","名古屋大",null,"5-253",490043]
["5-282",47368836,"深谷　侑生","フカヤ　ユウキ","男",2,null,490043,"名古屋大学","ナゴヤダイガク","名古屋大",null,"5-282",490043]
["5-242",7959636,"福田　拓弥","フクダ　タクミ","男",4,null,490043,"名古屋大学","ナゴヤダイガク","名古屋大",null,"5-242",490043]
["5-241",7712219,"藤原　昌平","フジワラ　ショウヘイ","男",4,null,490043,"名古屋大学","ナゴヤダイガク","名古屋大",null,"5-241",490043]
["5-256",82038324,"藤原　聡一郎","フジワラ　ソウイチロウ","男",3,null,490043,"名古屋大学","ナゴヤダイガク","名古屋大",null,"5-256",490043]
["5-1411",47270929,"藤原　雄太","フジワラ　ユウタ","男",1,null,490043,"名古屋大学","ナゴヤダイガク","名古屋大",null,"5-1411",490043]
["5-2506",105365929,"政本　彩帆","マサモト　アヤホ","女",1,null,490043,"名古屋大学","ナゴヤダイガク","名古屋大",null,"5-2506",490043]
["5-269",12472016,"松井　佑輔","マツイ　ユウスケ","男",3,null,490043,"名古屋大学","ナゴヤダイガク","名古屋大",null,"5-269",490043]
["5-1412",105357526,"松田　克洋","マツダ　ヨシヒロ","男",1,null,490043,"名古屋大学","ナゴヤダイガク","名古屋大",null,"5-1412",490043]
["5-259",39176632,"松永　幸大","マツナガ　ユキヒロ","男",3,null,490043,"名古屋大学","ナゴヤダイガク","名古屋大",null,"5-259",490043]
["5-287",40364118,"真野　悠太郎","マノ　ユウタロウ","男",2,null,490043,"名古屋大学","ナゴヤダイガク","名古屋大",null,"5-287",490043]
["5-1413",40278223,"丸地　正人","マルチ　マサト","男",1,null,490043,"名古屋大学","ナゴヤダイガク","名古屋大",null,"5-1413",490043]
["5-267",64316727,"水元　洋文","ミズモト　ヒロフミ","男",3,null,490043,"名古屋大学","ナゴヤダイガク","名古屋大",null,"5-267",490043]
["5-2122",33094221,"南　芽留萌","ミナミ　メルモ","女",2,null,490043,"名古屋大学","ナゴヤダイガク","名古屋大",null,"5-2122",492184]
["5-2114",85229228,"宮川　祥子","ミヤガワ　ショウコ","女",4,null,490043,"名古屋大学","ナゴヤダイガク","名古屋大",null,"5-2114",492184]
["5-1414",40201815,"茂田　孝弘","モダ　タカヒロ","男",1,null,490043,"名古屋大学","ナゴヤダイガク","名古屋大",null,"5-1414",492184]
["5-2115",39640931,"森田　侑実重","モリタ　ユミエ","女",4,null,490043,"名古屋大学","ナゴヤダイガク","名古屋大",null,"5-2115",492184]
["5-265",39379031,"森長　真言","モリナガ　マコト","男",3,null,490043,"名古屋大学","ナゴヤダイガク","名古屋大",null,"5-265",492184]
["5-264",39317932,"山岡　和樹","ヤマオカ　カズキ","男",3,null,490043,"名古屋大学","ナゴヤダイガク","名古屋大",null,"5-264",492184]
["5-300",17646630,"山﨑　大輝","ヤマザキ　ダイキ","男",2,null,490043,"名古屋大学","ナゴヤダイガク","名古屋大",null,"5-300",492184]
["5-258",39084630,"山下　拓也","ヤマシタ　タクヤ","男",3,null,490043,"名古屋大学","ナゴヤダイガク","名古屋大",null,"5-258",492184]
["5-238",39360425,"山田　純貴","ヤマダ　スミタカ","男",4,null,490043,"名古屋大学","ナゴヤダイガク","名古屋大",null,"5-238",492184]
["5-2117",39178230,"山田　みのり","ヤマダ　ミノリ","女",3,null,490043,"名古屋大学","ナゴヤダイガク","名古屋大",null,"5-2117",492184]
["5-294",46214118,"山中　魁人","ヤマナカ　カイト","男",2,null,490043,"名古屋大学","ナゴヤダイガク","名古屋大",null,"5-294",492184]
["5-2470",40365725,"吉田　有美香","ヨシダ　ユミカ","女",1,null,490043,"名古屋大学","ナゴヤダイガク","名古屋大",null,"5-2470",492184]
["5-1384",60296730,"青木　穂高","アオキ　ホダカ","男",1,null,492182,"南山大学","ナンザンダイガク","南山大",null,"5-1384",492184]
["5-1385",58159937,"石黒　泰成","イシグロ　タイセイ","男",1,null,492182,"南山大学","ナンザンダイガク","南山大",null,"5-1385",492184]
["5-1383",39138428,"伊藤　主真","イトウ　カズマ","男",2,null,492182,"南山大学","ナンザンダイガク","南山大",null,"5-1383",492184]
["5-689",39573229,"稲垣　建吾","イナガキ　ケンゴ","男",4,null,492182,"南山大学","ナンザンダイガク","南山大",null,"5-689",492184]
["5-1386",60213012,"稲福　天馬","イナフク　テンマ","男",1,null,492182,"南山大学","ナンザンダイガク","南山大",null,"5-1386",492184]
["5-2260",47535226,"岩渕　史奈","イワブチ　フミナ","女",2,null,492182,"南山大学","ナンザンダイガク","南山大",null,"5-2260",492184]
["5-710",39967640,"上田　拓哉","ウエダ　タクヤ","男",2,null,492182,"南山大学","ナンザンダイガク","南山大",null,"5-710",492184]
["5-2254",39181325,"尾嵜　志帆","オザキ　シホ","女",4,null,492182,"南山大学","ナンザンダイガク","南山大",null,"5-2254",492184]
["5-1387",39864737,"梶川　凌平","カジカワ　リョウヘイ","男",1,null,492182,"南山大学","ナンザンダイガク","南山大",null,"5-1387",492184]
["5-709",39176329,"片山　陽介","カタヤマ　ヨウスケ","男",2,null,492182,"南山大学","ナンザンダイガク","南山大",null,"5-709",492184]
["5-693",39623023,"可知　憲明","カチ　ノリアキ","男",4,null,492182,"南山大学","ナンザンダイガク","南山大",null,"5-693",492184]
["5-2503",40035517,"加藤　亜季","カトウ　アキ","女",1,null,492182,"南山大学","ナンザンダイガク","南山大",null,"5-2503",492184]
["5-704",40363824,"加藤　恒","カトウ　コウ","男",2,null,492182,"南山大学","ナンザンダイガク","南山大",null,"5-704",492184]
["5-703",48459636,"加藤　寛隆","カトウ　ヒロタカ","男",2,null,492182,"南山大学","ナンザンダイガク","南山大",null,"5-703",492184]
["5-2262",97067837,"加藤　崚","カトウ　リョウ","女",3,null,492182,"南山大学","ナンザンダイガク","南山大",null,"5-2262",492184]
["5-2261",94944535,"金田　弥子","カナダ　ヤコ","女",2,null,492182,"南山大学","ナンザンダイガク","南山大",null,"5-2261",492184]
["5-697",39295533,"神谷　雅貴","カミヤ　マサキ","男",3,null,492182,"南山大学","ナンザンダイガク","南山大",null,"5-697",492184]
["5-707",49124525,"越野　将志","コシノ　マサシ","男",2,null,492182,"南山大学","ナンザンダイガク","南山大",null,"5-707",492184]
["5-700",39501018,"佐野　智春","サノ　トモハル","男",3,null,492182,"南山大学","ナンザンダイガク","南山大",null,"5-700",492184]
["5-2500",46242220,"柴田　寛子","シバタ　ヒロコ","女",1,null,492182,"南山大学","ナンザンダイガク","南山大",null,"5-2500",492184]
["5-711",47367633,"白石　涼太","シライシ　リョウタ","男",2,null,492182,"南山大学","ナンザンダイガク","南山大",null,"5-711",492184]
["5-1390",40114818,"鈴木　皓翔","スズキ　ヒロト","男",1,null,492182,"南山大学","ナンザンダイガク","南山大",null,"5-1390",492184]
["5-706",48241019,"仙田　拓摩","センダ　タクマ","男",2,null,492182,"南山大学","ナンザンダイガク","南山大",null,"5-706",492184]
["5-2501",105365626,"髙石　真央","タカイシ　マオ","女",1,null,492182,"南山大学","ナンザンダイガク","南山大",null,"5-2501",492184]
["5-712",92200720,"髙橋　克成","タカハシ　カツナリ","男",2,null,492182,"南山大学","ナンザンダイガク","南山大",null,"5-712",492184]
["5-713",72096529,"土川　亮太","ツチカワ　リョウタ","男",4,null,492182,"南山大学","ナンザンダイガク","南山大",null,"5-713",492184]
["5-701",84122219,"東岡　和也","トウオカ　カズヤ","男",3,null,492182,"南山大学","ナンザンダイガク","南山大",null,"5-701",492184]
["5-1388",39752632,"鳥井　量平","トリイ　リョウヘイ","男",1,null,492182,"南山大学","ナンザンダイガク","南山大",null,"5-1388",492184]
["5-692",39571934,"中野　裕貴","ナカノ　ユウキ","男",4,null,492182,"南山大学","ナンザンダイガク","南山大",null,"5-692",492184]
["5-2255",39645633,"中村　理沙","ナカムラ　リサ","女",4,null,492182,"南山大学","ナンザンダイガク","南山大",null,"5-2255",492184]
["5-695",15229423,"西部　優斗","ニシブ　ユウト","男",4,null,492182,"南山大学","ナンザンダイガク","南山大",null,"5-695",492184]
["5-2504",39072021,"貫井　茜","ヌキイ　アカネ","女",2,null,492182,"南山大学","ナンザンダイガク","南山大",null,"5-2504",492184]
["5-705",10215514,"野末　佳成","ノズエ　ヨシナリ","男",2,null,492182,"南山大学","ナンザンダイガク","南山大",null,"5-705",492184]
["5-690",39230522,"蜂谷　悠海","ハチヤ　ユウ","男",4,null,492182,"南山大学","ナンザンダイガク","南山大",null,"5-690",492200]
["5-702",11238318,"濱本　典堂","ハマモト　テンドウ","男",3,null,492182,"南山大学","ナンザンダイガク","南山大",null,"5-702",492200]
["5-699",39574028,"針谷　和希","ハリタニ　カズキ","男",3,null,492182,"南山大学","ナンザンダイガク","南山大",null,"5-699",492200]
["5-2256",39685435,"彦坂　優佳里","ヒコサカ　ユカリ","女",3,null,492182,"南山大学","ナンザンダイガク","南山大",null,"5-2256",492200]
["5-694",72245020,"廣瀬　史明","ヒロセ　フミアキ","男",4,null,492182,"南山大学","ナンザンダイガク","南山大",null,"5-694",492200]
["5-2502",61620116,"福田　衣舞季","フクダ　イブキ","女",1,null,492182,"南山大学","ナンザンダイガク","南山大",null,"5-2502",492200]
["5-2257",48361527,"福永　夏澄","フクナガ　カスミ","女",2,null,492182,"南山大学","ナンザンダイガク","南山大",null,"5-2257",492200]
["5-688",15280521,"堀江　岐和","ホリエ　ミチカズ","男",4,null,492182,"南山大学","ナンザンダイガク","南山大",null,"5-688"]
["5-698",84199536,"森　光輝","モリ　ミツキ","男",3,null,492182,"南山大学","ナンザンダイガク","南山大",null,"5-698"]
["5-691",39490530,"安田　凌","ヤスダ　リョウ","男",4,null,492182,"南山大学","ナンザンダイガク","南山大",null,"5-691"]
["5-2259",92203016,"山﨑　幸音","ヤマサキ　ユキネ","女",2,null,492182,"南山大学","ナンザンダイガク","南山大",null,"5-2259"]
["5-1389",61790528,"山本　晃暉","ヤマモト　コウキ","男",1,null,492182,"南山大学","ナンザンダイガク","南山大",null,"5-1389"]
["5-2258",92202924,"横井　美恵","ヨコイ　ヨシエ","女",2,null,492182,"南山大学","ナンザンダイガク","南山大",null,"5-2258"]
["5-708",39818837,"吉田　悠人","ヨシダ　ユウト","男",2,null,492182,"南山大学","ナンザンダイガク","南山大",null,"5-708"]
["5-696",39622022,"渡辺　貴哉","ワタナベ　タカヤ","男",3,null,492182,"南山大学","ナンザンダイガク","南山大",null,"5-696"]
["5-718",85228126,"乾　勝悟","イヌイ　ショウゴ","男",2,null,492183,"日本福祉大学","ニホンフクシダイガク","日本福祉大",null,"5-718"]
["5-2263",8238829,"奥山　遥","オクヤマ　ハルカ","女",3,null,492183,"日本福祉大学","ニホンフクシダイガク","日本福祉大",null,"5-2263"]
["5-716",82037828,"桑原　宏祐","クワバラ　コウスケ","男",3,null,492183,"日本福祉大学","ニホンフクシダイガク","日本福祉大",null,"5-716"]
["5-1394",39978440,"小林　高紀","コバヤシ　コウキ","男",1,null,492183,"日本福祉大学","ニホンフクシダイガク","日本福祉大",null,"5-1394"]
["5-1391",105356929,"清水　悠平","シミズ　ユウヘイ","男",1,null,492183,"日本福祉大学","ニホンフクシダイガク","日本福祉大",null,"5-1391"]
["5-714",25349427,"下沢　岬太郎","シモザワ　コウタロウ","男",3,null,492183,"日本福祉大学","ニホンフクシダイガク","日本福祉大",null,"5-714"]
["5-715",39399033,"鈴木　暁之","スズキ　アキユキ","男",4,null,492183,"日本福祉大学","ニホンフクシダイガク","日本福祉大",null,"5-715"]
["5-2264",39334224,"竹下　和澄実","タケシタ　カスミ","女",4,null,492183,"日本福祉大学","ニホンフクシダイガク","日本福祉大",null,"5-2264"]
["5-1393",59965539,"中島　瑶樹","ナカジマ　ハルキ","男",1,null,492183,"日本福祉大学","ニホンフクシダイガク","日本福祉大",null,"5-1393"]
["5-717",39635026,"水谷　太一","ミズタニ　タイチ","男",4,null,492183,"日本福祉大学","ニホンフクシダイガク","日本福祉大",null,"5-717"]
["5-1395",60341115,"森重　一真","モリシゲ　カズマ","男",1,null,492183,"日本福祉大学","ニホンフクシダイガク","日本福祉大",null,"5-1395"]
["5-1392",40342215,"山田　章平","ヤマダ　ショウヘイ","男",1,null,492183,"日本福祉大学","ニホンフクシダイガク","日本福祉大",null,"5-1392"]
["5-719",39898340,"依田　明大","ヨリタ　アキヒロ","男",2,null,492183,"日本福祉大学","ニホンフクシダイガク","日本福祉大",null,"5-719"]
["5-1271",92262627,"東　浩之","アズマ　ヒロユキ","男",3,null,492181,"藤田保健衛生大学","フジタホケンエイセイダイガク","藤田保健衛生大",null,"5-1271"]
["5-2465",92260625,"金子　碧","カネコ　ミドリ","女",3,null,492181,"藤田保健衛生大学","フジタホケンエイセイダイガク","藤田保健衛生大",null,"5-2465"]
["5-1375",105355726,"鐘森　栄作","カネモリ　エイサク","男",1,null,492181,"藤田保健衛生大学","フジタホケンエイセイダイガク","藤田保健衛生大",null,"5-1375"]
["5-1269",92262425,"嘉山　裕介","カヤマ　ユウスケ","男",4,null,492181,"藤田保健衛生大学","フジタホケンエイセイダイガク","藤田保健衛生大",null,"5-1269"]
["5-1272",92200922,"川崎　元基","カワサキ　モトキ","男",3,null,492181,"藤田保健衛生大学","フジタホケンエイセイダイガク","藤田保健衛生大",null,"5-1272"]
["5-1274",51068323,"木村　竜誠","キムラ　リュウセイ","男",2,null,492181,"藤田保健衛生大学","フジタホケンエイセイダイガク","藤田保健衛生大",null,"5-1274"]
["5-1275",101923723,"後藤　光基","ゴトウ　コウキ","男",2,null,492181,"藤田保健衛生大学","フジタホケンエイセイダイガク","藤田保健衛生大",null,"5-1275"]
["5-1376",6156220,"小林　篤弥","コバヤシ　アツヤ","男",1,null,492181,"藤田保健衛生大学","フジタホケンエイセイダイガク","藤田保健衛生大",null,"5-1376"]
["5-1377",105355928,"小林　郁矢","コバヤシ　フミヤ","男",1,null,492181,"藤田保健衛生大学","フジタホケンエイセイダイガク","藤田保健衛生大",null,"5-1377"]
["5-1378",40364017,"佐藤　悠太郎","サトウ　ユウタロウ","男",1,null,492181,"藤田保健衛生大学","フジタホケンエイセイダイガク","藤田保健衛生大",null,"5-1378"]
["5-2498",69322123,"髙田　佳奈","タカタ　カナ","女",1,null,492181,"藤田保健衛生大学","フジタホケンエイセイダイガク","藤田保健衛生大",null,"5-2498"]
["5-1276",46991837,"田口　雄太","タグチ　ユウタ","男",2,null,492181,"藤田保健衛生大学","フジタホケンエイセイダイガク","藤田保健衛生大",null,"5-1276"]
["5-2466",92260524,"竹内　優真","タケウチ　ユマ","女",3,null,492181,"藤田保健衛生大学","フジタホケンエイセイダイガク","藤田保健衛生大",null,"5-2466"]
["5-1277",9384327,"附田　航大","ツクダ　コウダイ","男",2,null,492181,"藤田保健衛生大学","フジタホケンエイセイダイガク","藤田保健衛生大",null,"5-1277"]
["5-2467",47219528,"辻　小春","ツジ　コハル","女",2,null,492181,"藤田保健衛生大学","フジタホケンエイセイダイガク","藤田保健衛生大",null,"5-2467"]
["5-1278",92201014,"露木　真大","ツユキ　マサヒロ","男",2,null,492181,"藤田保健衛生大学","フジタホケンエイセイダイガク","藤田保健衛生大",null,"5-1278"]
["5-1279",47079431,"内藤　大貴","ナイトウ　ダイキ","男",2,null,492181,"藤田保健衛生大学","フジタホケンエイセイダイガク","藤田保健衛生大",null,"5-1279"]
["5-1273",92262526,"中谷　泉貴","ナカダニ　ミズキ","男",3,null,492181,"藤田保健衛生大学","フジタホケンエイセイダイガク","藤田保健衛生大",null,"5-1273"]
["5-1379",40335823,"中村　哲也","ナカムラ　テツヤ","男",1,null,492181,"藤田保健衛生大学","フジタホケンエイセイダイガク","藤田保健衛生大",null,"5-1379"]
["5-1380",59454027,"長谷川　眞也","ハセガワ　マサヤ","男",1,null,492181,"藤田保健衛生大学","フジタホケンエイセイダイガク","藤田保健衛生大",null,"5-1380"]
["5-2499",40234114,"三浦　真莉奈","ミウラ　マリナ","女",1,null,492181,"藤田保健衛生大学","フジタホケンエイセイダイガク","藤田保健衛生大",null,"5-2499"]
["5-1280",15755427,"本村　旬","モトムラ　ジュン","男",1,null,492181,"藤田保健衛生大学","フジタホケンエイセイダイガク","藤田保健衛生大",null,"5-1280"]
["5-1381",105356323,"森本　諒","モリモト　リョウ","男",1,null,492181,"藤田保健衛生大学","フジタホケンエイセイダイガク","藤田保健衛生大",null,"5-1381"]
["5-1382",105356424,"??戸　大悟","ヨシト　ダイゴ","男",1,null,492181,"藤田保健衛生大学","フジタホケンエイセイダイガク","藤田保健衛生大",null,"5-1382"]
["5-1270",92262728,"若子　照平","ワカコ　ショウヘイ","男",4,null,492181,"藤田保健衛生大学","フジタホケンエイセイダイガク","藤田保健衛生大",null,"5-1270"]
["5-728",39505123,"青木　拓磨","アオキ　タクマ","男",3,null,492184,"名城大学","メイジョウダイガク","名城大",null,"5-728"]
["5-734",92263022,"秋月　隼斗","アキヅキ　ハヤト","男",2,null,492184,"名城大学","メイジョウダイガク","名城大",null,"5-734"]
["5-723",39558737,"生田　卓哉","イクタ　タカヤ","男",4,null,492184,"名城大学","メイジョウダイガク","名城大",null,"5-723"]
["5-1420",60425522,"石黒　亘","イシグロ　ワタル","男",1,null,492184,"名城大学","メイジョウダイガク","名城大",null,"5-1420"]
["5-1296",59111825,"石原　弘樹","イシハラ　ヒロキ","男",1,null,492184,"名城大学","メイジョウダイガク","名城大",null,"5-1296"]
["5-736",39093529,"伊藤　優希","イトウ　ユウキ","男",2,null,492184,"名城大学","メイジョウダイガク","名城大",null,"5-736"]
["5-737",45538429,"稲垣　孝祐","イナガキ　コウスケ","男",2,null,492184,"名城大学","メイジョウダイガク","名城大",null,"5-737"]
["5-738",49821630,"今枝　慎一郎","イマエダ　シンイチロウ","男",2,null,492184,"名城大学","メイジョウダイガク","名城大",null,"5-738"]
["5-739",29591127,"鵜飼　浩大","ウカイ　コウダイ","男",2,null,492184,"名城大学","メイジョウダイガク","名城大",null,"5-739"]
["5-1297",39978642,"大市　啓矢","オオイチ　ケイヤ","男",1,null,492184,"名城大学","メイジョウダイガク","名城大",null,"5-1297"]
["5-1298",60331316,"太田　海","オオタ　カイ","男",1,null,492184,"名城大学","メイジョウダイガク","名城大",null,"5-1298"]
["5-722",39541325,"大津　啓輔","オオツ　ケイスケ","男",4,null,492184,"名城大学","メイジョウダイガク","名城大",null,"5-722"]
["5-1418",50992227,"奥田　周治","オクダ　シュウジ","男",1,null,492184,"名城大学","メイジョウダイガク","名城大",null,"5-1418"]
["5-726",39476433,"加藤　寛也","カトウ　ヒロヤ","男",4,null,492184,"名城大学","メイジョウダイガク","名城大",null,"5-726"]
["5-2267",15049726,"加藤　まい","カトウ　マイ","女",4,null,492184,"名城大学","メイジョウダイガク","名城大",null,"5-2267"]
["5-729",39098231,"神谷　幸佑","カミヤ　コウスケ","男",3,null,492184,"名城大学","メイジョウダイガク","名城大",null,"5-729"]
["5-2268",39075125,"北本　可奈子","キタモト　カナコ","女",4,null,492184,"名城大学","メイジョウダイガク","名城大",null,"5-2268"]
["5-742",45569736,"北本　隼","キタモト　ハヤト","男",2,null,492184,"名城大学","メイジョウダイガク","名城大",null,"5-742"]
["5-724",39678841,"桐生　亘","キリウ　コウ","男",4,null,492184,"名城大学","メイジョウダイガク","名城大",null,"5-724"]
["5-743",46540423,"熊崎　文紀","クマザキ　フミノリ","男",2,null,492184,"名城大学","メイジョウダイガク","名城大",null,"5-743"]
["5-730",39214726,"小嶋　将史","コジマ　マサフミ","男",3,null,492184,"名城大学","メイジョウダイガク","名城大",null,"5-730"]
["5-744",97066836,"後藤　祐貴","ゴトウ　ユウキ","男",2,null,492184,"名城大学","メイジョウダイガク","名城大",null,"5-744"]
["5-745",47845836,"佐々木　海斗","ササキ　カイト","男",2,null,492184,"名城大学","メイジョウダイガク","名城大",null,"5-745"]
["5-746",48240826,"芝野　宏","シバノ　ヒロシ","男",2,null,492184,"名城大学","メイジョウダイガク","名城大",null,"5-746"]
["5-2287",39959237,"鈴木　智子","スズキ　トモコ","女",1,null,492184,"名城大学","メイジョウダイガク","名城大",null,"5-2287"]
["5-747",40233012,"曽我　晃久","ソガ　アキヒサ","男",2,null,492184,"名城大学","メイジョウダイガク","名城大",null,"5-747"]
["5-748",39778539,"高瀬　光太","タカセ　コウタ","男",2,null,492184,"名城大学","メイジョウダイガク","名城大",null,"5-748"]
["5-2274",31432619,"髙田　真由香","タカダ　マユカ","女",3,null,492184,"名城大学","メイジョウダイガク","名城大",null,"5-2274"]
["5-731",39445126,"竹内　恭平","タケウチ　キョウヘイ","男",3,null,492184,"名城大学","メイジョウダイガク","名城大",null,"5-731"]
["5-1417",47217930,"長江　圭徒","ナガエ　ケイト","男",2,null,492184,"名城大学","メイジョウダイガク","名城大",null,"5-1417"]
["5-2281",49825129,"中島　亜衣","ナカシマ　アイ","女",2,null,492184,"名城大学","メイジョウダイガク","名城大",null,"5-2281"]
["5-725",39679741,"中野　慎哉","ナカノ　シンヤ","男",4,null,492184,"名城大学","メイジョウダイガク","名城大",null,"5-725"]
["5-2277",39080323,"成瀬　真希","ナルセ　マキ","女",3,null,492184,"名城大学","メイジョウダイガク","名城大",null,"5-2277"]
["5-721",72103821,"服部　泰揮","ハットリ　タイキ","男",5,null,492184,"名城大学","メイジョウダイガク","名城大",null,"5-721"]
["5-733",39221724,"林　大智","ハヤシ　ダイチ","男",3,null,492184,"名城大学","メイジョウダイガク","名城大",null,"5-733"]
["5-749",49559638,"藤井　直希","フジイ　ナオキ","男",2,null,492184,"名城大学","メイジョウダイガク","名城大",null,"5-749"]
["5-727",12139218,"松森　映","マツモリ　アキ","男",4,null,492184,"名城大学","メイジョウダイガク","名城大",null,"5-727"]
["5-2289",39875133,"向井　智香","ムカイ　チカ","女",1,null,492184,"名城大学","メイジョウダイガク","名城大",null,"5-2289"]
["5-1300",25545425,"元尾　海渡","モトオ　カイト","男",1,null,492184,"名城大学","メイジョウダイガク","名城大",null,"5-1300"]
["5-1419",63369229,"森　賢太郎","モリ　ケンタロウ","男",1,null,492184,"名城大学","メイジョウダイガク","名城大",null,"5-1419"]
["5-1301",61791226,"山守　拓巳","ヤマモリ　タクミ","男",1,null,492184,"名城大学","メイジョウダイガク","名城大",null,"5-1301"]
["5-754",85475736,"山守　瑠星","ヤマモリ　リュウセイ","男",2,null,492184,"名城大学","メイジョウダイガク","名城大",null,"5-754"]
["5-2272",39574634,"横山　友里乃","ヨコヤマ　ユリノ","女",4,null,492184,"名城大学","メイジョウダイガク","名城大",null,"5-2272"]
["5-1231",58356936,"金谷　智顕","カナヤ　トモアキ","男",1,null,492185,"皇學館大学","コウガッカンダイガク","皇學館大",null,"5-1231"]
["5-611",39573027,"山崎　寿彦","ヤマザキ　トシヒコ","男",3,null,492185,"皇學館大学","コウガッカンダイガク","皇學館大",null,"5-611"]
["5-1234",58158532,"山下　慧士","ヤマシタ　ケイシ","男",1,null,492185,"皇學館大学","コウガッカンダイガク","皇學館大",null,"5-1234"]
["5-638",46572933,"山下　大地","ヤマシタ　ダイチ","男",2,null,492185,"皇學館大学","コウガッカンダイガク","皇學館大",null,"5-638"]
["6-251",39705327,"太田　奈穂","オオタ　ナオ","女",4,null,492522,"びわこ成蹊スポーツ大学","ビワコセイケイスポーツダイガク","びわこｽﾎﾟｰﾂ大",null,"6-251"]
["6-953",39273529,"長澤　涼介","ナガサワ　リョウスケ","男",3,null,490049,"京都教育大学","キョウトキョウイクダイガク","京都教育大",null,"6-953"]
["6-395",39683534,"岡村　若葉","オカムラ　ワカバ","女",4,null,492192,"京都光華女子大学","キョウトコウカジョシダイガク","京都光華女子大",null,"6-395"]
["6-456",39138630,"金子　渓人","カネコ　ケイト","男",3,null,490048,"京都大学","キョウトダイガク","京都大",null,"6-456"]
["6-428",39069633,"高石　雅貴","タカイシ　マサキ","男",4,null,490048,"京都大学","キョウトダイガク","京都大",null,"6-428"]
["6-459",39182730,"永岡　源太郎","ナガオカ　ゲンタロウ","男",3,null,490048,"京都大学","キョウトダイガク","京都大",null,"6-459"]
["6-430",39431929,"福島　快","フクシマ　カイ","男",4,null,490048,"京都大学","キョウトダイガク","京都大",null,"6-430"]
["6-397",24848935,"山本　裕太","ヤマモト　ユウタ","男","M1",null,490048,"京都大学","キョウトダイガク","京都大",null,"6-397"]
["6-401",39064426,"若園　直樹","ワカゾノ　ナオキ","男",5,null,490048,"京都大学","キョウトダイガク","京都大",null,"6-401"]
["6-2152",61619023,"石竹　大祐","イシタケ　ダイスケ","男",1,null,492195,"同志社大学","ドウシシャダイガク","同志社大",null,"6-2152"]
["6-779",45698638,"市川　雄太","イチカワ　ユウタ","男",2,null,492195,"同志社大学","ドウシシャダイガク","同志社大",null,"6-779"]
["6-2421",40354016,"岩崎　聖","イワサキ　サトル","男",1,null,492195,"同志社大学","ドウシシャダイガク","同志社大",null,"6-2421"]
["6-740",39075630,"尾関　允崇","オゼキ　マサタカ","男",3,null,492195,"同志社大学","ドウシシャダイガク","同志社大",null,"6-740"]
["6-725",39623629,"金森　怜也","カナモリ　レイヤ","男",3,null,492195,"同志社大学","ドウシシャダイガク","同志社大",null,"6-725"]
["6-718",39623124,"川中　雅雄","カワナカ　マサオ","男",4,null,492195,"同志社大学","ドウシシャダイガク","同志社大",null,"6-718"]
["6-738",39079129,"桜川　皓市","サクラガワ　コウイチ","男",3,null,492195,"同志社大学","ドウシシャダイガク","同志社大",null,"6-738"]
["6-765",47365631,"佐々　遥平","サッサ　ヨウヘイ","男",2,null,492195,"同志社大学","ドウシシャダイガク","同志社大",null,"6-765"]
["6-761",39952533,"長尾　祐樹","ナガオ　ユウキ","男",2,null,492195,"同志社大学","ドウシシャダイガク","同志社大",null,"6-761"]
["6-2068",62306421,"増田　翔太","マスダ　ショウタ","男",1,null,492195,"同志社大学","ドウシシャダイガク","同志社大",null,"6-2068"]
["6-781",58266229,"持田　顕人","モチダ　アキト","男",1,null,492195,"同志社大学","ドウシシャダイガク","同志社大",null,"6-781"]
["6-751",40345622,"渡会　元貴","ワタライ　モトキ","男",2,null,492195,"同志社大学","ドウシシャダイガク","同志社大",null,"6-751"]
["6-538",39238934,"青木　徹","アオキ　トオル","男",3,null,492200,"立命館大学","リツメイカンダイガク","立命館大",null,"6-538"]
["6-482",39584837,"青山　耕也","アオヤマ　コウヤ","男",4,null,492200,"立命館大学","リツメイカンダイガク","立命館大",null,"6-482"]
["6-152",82040620,"岡本　実菜","オカモト　ミナ","女",3,null,492200,"立命館大学","リツメイカンダイガク","立命館大",null,"6-152"]
["6-154",39896338,"梶浦　みずき","カジウラ　ミズキ","女",2,null,492200,"立命館大学","リツメイカンダイガク","立命館大",null,"6-154"]
["6-518",39427934,"近藤　剛史","コンドウ　ツヨシ","男",3,null,492200,"立命館大学","リツメイカンダイガク","立命館大",null,"6-518"]
["6-569",39182629,"戸松　功祐","トマツ　コウスケ","男",2,null,492200,"立命館大学","リツメイカンダイガク","立命館大",null,"6-569"]
["6-511",39077632,"本堂　翔太","ホンドウ　ショウタ","男",4,null,492200,"立命館大学","リツメイカンダイガク","立命館大",null,"6-511"]
["6-175",3089727,"吉田　紗弓","ヨシダ　サユミ","女",1,null,492200,"立命館大学","リツメイカンダイガク","立命館大",null,"6-175"]
["6-721",40170012,"岡本　奈々依","オカモト　ナナヨ","女",1,null,492204,"大阪学院大学","オオサカガクインダイガク","大阪学院大",null,"6-721"]
["6-714",40017315,"河合　咲季","カワイ　サキ","女",2,null,492204,"大阪学院大学","オオサカガクインダイガク","大阪学院大",null,"6-714"]
["6-2201",40311514,"千藤　瑛司","センドウ　エイジ","男",1,null,490053,"大阪教育大学","オオサカキョウイクダイガク","大阪教育大",null,"6-2201"]
["6-681",39601625,"堀　舞花","ホリ　マイカ","女",3,null,492207,"大阪芸術大学","オオサカゲイジュツダイガク","大阪芸術大",null,"6-681"]
["6-1639",39607328,"松岡　勇希","マツオカ　ユウキ","男",3,null,492209,"大阪産業大学","オオサカサンギョウダイガク","大阪産業大",null,"6-1639"]
["6-857",16850828,"伊藤　里帆","イトウ　リホ","女",2,null,492523,"大阪成蹊大学","オオサカセイケイダイガク","大阪成蹊大",null,"6-857"]
["6-865",97430023,"柴山　沙也香","シバヤマ　サカヤ","女",1,null,492523,"大阪成蹊大学","オオサカセイケイダイガク","大阪成蹊大",null,"6-865"]
["6-228",49644532,"坂本　達哉","サカモト　タツヤ","男",2,null,492213,"大阪体育大学","オオサカタイイクダイガク","大阪体育大",null,"6-228"]
["6-55",40032211,"中内　真悠","ナカウチ　マユ","女",2,null,492213,"大阪体育大学","オオサカタイイクダイガク","大阪体育大",null,"6-55"]
["6-2180",61183221,"平松　力","ヒラマツ　リキ","男",1,null,490051,"大阪大学","オオサカダイガク","大阪大",null,"6-2180"]
["6-812",40350719,"伊藤　早紀","イトウ　サキ","女",1,null,492220,"関西外国語大学","カンサイガイコクゴダイガク","関西外国語大",null,"6-812"]
["6-926",16848936,"加藤　遥香","カトウ　ハルカ","女",1,null,492220,"関西外国語大学","カンサイガイコクゴダイガク","関西外国語大",null,"6-926"]
["6-808",39074528,"永山　周輝","ナガヤマ　シュウキ","男",3,null,492221,"近畿大学","キンキダイガク","近畿大",null,"6-808"]
["6-826",46010415,"宮本　拓也","ミヤモト　タクヤ","男",2,null,492221,"近畿大学","キンキダイガク","近畿大",null,"6-826"]
["6-116",97424026,"伊理　洋海","イリエ　ヒロミ","男",1,null,492232,"関西学院大学","カンセイガクインダイガク","関西学院大",null,"6-116"]
["6-46",39623932,"杁本　裕貴","イリモト　ヒロタカ","男",3,null,492232,"関西学院大学","カンセイガクインダイガク","関西学院大",null,"6-46"]
["6-114",39759740,"小川　太郎","オガワ　タロウ","男",1,null,492232,"関西学院大学","カンセイガクインダイガク","関西学院大",null,"6-114"]
["6-64",39624125,"掛川　真","カケガワ　マコト","男",3,null,492232,"関西学院大学","カンセイガクインダイガク","関西学院大",null,"6-64"]
["6-42",39338733,"片山　寛稀","カタヤマ　ヒロキ","男",4,null,492232,"関西学院大学","カンセイガクインダイガク","関西学院大",null,"6-42"]
["6-2304",67171325,"小西　信孝","コニシ　ミチタカ","男",1,null,492232,"関西学院大学","カンセイガクインダイガク","関西学院大",null,"6-2304"]
["6-83",45529126,"近藤　晃","コンドウ　ヒカル","男",2,null,492232,"関西学院大学","カンセイガクインダイガク","関西学院大",null,"6-83"]
[42534,40182419,"浜田　奈子","ハマダ　ナコ","女",1,null,492232,"関西学院大学","カンセイガクインダイガク","関西学院大",null,"2016-06-13"]
["6-47",39623730,"三浦　成皓","ミウラ　ヨシアキ","男",3,null,492232,"関西学院大学","カンセイガクインダイガク","関西学院大",null,"6-47"]
["6-554",39967135,"佐々木　悠里","ササキ　ユリ","女",1,null,492234,"甲南大学","コウナンダイガク","甲南大",null,"6-554"]
["6-556",58305122,"杉浦　七海","スギウラ　ナナミ","女",1,null,492234,"甲南大学","コウナンダイガク","甲南大",null,"6-556"]
["6-557",58304828,"武山　さくら","タケヤマ　サクラ","女",1,null,492234,"甲南大学","コウナンダイガク","甲南大",null,"6-557"]
["6-1320",39815329,"太田　康介","オオタ　コウスケ","男",2,null,490054,"神戸大学","コウベダイガク","神戸大",null,"6-1320"]
["6-435",39371629,"高阪　朱里","コウサカ　アカリ","女",4,null,490054,"神戸大学","コウベダイガク","神戸大",null,"6-435"]
["6-586",40026719,"永見　優衣","ナガミ　ユイ","女",2,null,490092,"兵庫教育大学","ヒョウゴキョウイクダイガク","兵庫教育大",null,"6-586"]
["7-1641",39853028,"白田　雅治","シラタ　マサハル","男",2,null,490061,"岡山大学","オカヤマダイガク","岡山大",null,"7-1641"]
["7-1060",39772937,"鈴木　慶彦","スズキ　ヨシヒコ","男",2,null,490062,"広島大学","ヒロシマダイガク","広島大",null,"7-1060"]
["8-50",51067928,"岸　剛史","キシ　タケシ","男",2,null,490069,"九州大学","キュウシュウダイガク","九州大",null,"8-50"]
["8-852",73763531,"井上　雅皓","イノウエ　マサヒロ","男",3,null,492314,"産業医科大学","サンギョウイカダイガク","産業医科大",null,"8-852"]
["8-1042",39426327,"坂崎　雅哉","サカザキ　マサヤ","男",4,null,490096,"鹿屋体育大学","カノヤタイイクダイガク","鹿屋体育大",null,"8-1042"]

{"sheet":"①選手情報入力","index":2,"n_rows":52,"n_cols":20,"rows_kept":52,"cut":false,"hidden":false,"merged":[]}
["②選手情報入力",null,null,null,null,{"$f":"IF(②団体情報入力!D5=\"\",\"\",②団体情報入力!D5)","v":{"$error":"#N/A"}}]
["※必要事項を全て入力してください。"]
[]
[]
["※コピーしたデータを貼り付ける場合は、「形式を選択して貼り付け」から「値」で貼り付けてください。"]
["※データを修正する場合は、必ず「Delete」キーを使用してください。"]
[]
[null,"地域学連番号","ナンバー",null,"氏　名\n姓と名の間に\n全角ｽﾍﾟｰｽ1つ","ﾌﾘｶﾞﾅ\n姓と名の間に\n半角ｽﾍﾟｰｽ1つ",null,"性別","学年","種目１","参加資格\n取得記録１","シーズン\nベスト１","種目２","参加資格\n取得記録２","シーズン\nベスト２","備考：該当する出場制限を選んで下さい"]
["例","5-",1,null,"西三　太郎","ｾｲｻﾝ ﾀﾛｳ",null,"男",2,"男10000m","28.12.53","27.35.00","男5000m","13.45.67","13.30.00","県高校総体8位"]
[1,null,null,{"$f":"CONCATENATE(B10,C10)","v":""},{"$f":"IF(B10=\"\",\"\",VLOOKUP(D10,①陸連データ貼り付け!A:C,3,0))","v":""},{"$f":"IF(B10=\"\",\"\",VLOOKUP(D10,①陸連データ貼り付け!A:D,4,0))","v":""},null,{"$f":"IF(B10=\"\",\"\",VLOOKUP(D10,①陸連データ貼り付け!A:E,5,0))","v":""},{"$f":"IF(B10=\"\",\"\",VLOOKUP(①選手情報入力!D10,①陸連データ貼り付け!A:F,6,0))","v":""},null,null,null,null,null,null,null,null,"男",{"$f":"種目情報!N4","v":"男100m"},"前年度選手権者"]
[2,null,null,{"$f":"CONCATENATE(B11,C11)","v":""},{"$f":"IF(B11=\"\",\"\",VLOOKUP(D11,①陸連データ貼り付け!A:C,3,0))","v":""},{"$f":"IF(B11=\"\",\"\",VLOOKUP(D11,①陸連データ貼り付け!A:D,4,0))","v":""},null,{"$f":"IF(B11=\"\",\"\",VLOOKUP(D11,①陸連データ貼り付け!A:E,5,0))","v":""},{"$f":"IF(B11=\"\",\"\",VLOOKUP(①選手情報入力!D11,①陸連データ貼り付け!A:F,6,0))","v":""},null,null,null,null,null,null,null,null,"女",{"$f":"種目情報!N5","v":"男200m"},"各陸協予選会決勝6位"]
[3,null,null,"",{"$f":"IF(B12=\"\",\"\",VLOOKUP(D12,①陸連データ貼り付け!A:C,3,0))","v":""},{"$f":"IF(B12=\"\",\"\",VLOOKUP(D12,①陸連データ貼り付け!A:D,4,0))","v":""},null,{"$f":"IF(B12=\"\",\"\",VLOOKUP(D12,①陸連データ貼り付け!A:E,5,0))","v":""},{"$f":"IF(B12=\"\",\"\",VLOOKUP(①選手情報入力!D12,①陸連データ貼り付け!A:F,6,0))","v":""},null,null,null,null,null,null,null,null,null,{"$f":"種目情報!N6","v":"男400m"},"県高校総体8位"]
[4,null,null,"",{"$f":"IF(B13=\"\",\"\",VLOOKUP(D13,①陸連データ貼り付け!A:C,3,0))","v":""},{"$f":"IF(B13=\"\",\"\",VLOOKUP(D13,①陸連データ貼り付け!A:D,4,0))","v":""},null,{"$f":"IF(B13=\"\",\"\",VLOOKUP(D13,①陸連データ貼り付け!A:E,5,0))","v":""},{"$f":"IF(B13=\"\",\"\",VLOOKUP(①選手情報入力!D13,①陸連データ貼り付け!A:F,6,0))","v":""},null,null,null,null,null,null,null,null,null,{"$f":"種目情報!N7","v":"男800m"},"東海学生選手権8位"]
[5,null,null,"",{"$f":"IF(B14=\"\",\"\",VLOOKUP(D14,①陸連データ貼り付け!A:C,3,0))","v":""},{"$f":"IF(B14=\"\",\"\",VLOOKUP(D14,①陸連データ貼り付け!A:D,4,0))","v":""},null,{"$f":"IF(B14=\"\",\"\",VLOOKUP(D14,①陸連データ貼り付け!A:E,5,0))","v":""},{"$f":"IF(B14=\"\",\"\",VLOOKUP(①選手情報入力!D14,①陸連データ貼り付け!A:F,6,0))","v":""},null,null,null,null,null,null,null,null,null,{"$f":"種目情報!N8","v":"男1500m"},"中部実業団選手権8位"]
[6,null,null,"",{"$f":"IF(B15=\"\",\"\",VLOOKUP(D15,①陸連データ貼り付け!A:C,3,0))","v":""},{"$f":"IF(B15=\"\",\"\",VLOOKUP(D15,①陸連データ貼り付け!A:D,4,0))","v":""},null,{"$f":"IF(B15=\"\",\"\",VLOOKUP(D15,①陸連データ貼り付け!A:E,5,0))","v":""},{"$f":"IF(B15=\"\",\"\",VLOOKUP(①選手情報入力!D15,①陸連データ貼り付け!A:F,6,0))","v":""},null,null,null,null,null,null,null,null,null,{"$f":"種目情報!N9","v":"男110mH"},"H27一般１０傑"]
[7,null,null,"",{"$f":"IF(B16=\"\",\"\",VLOOKUP(D16,①陸連データ貼り付け!A:C,3,0))","v":""},{"$f":"IF(B16=\"\",\"\",VLOOKUP(D16,①陸連データ貼り付け!A:D,4,0))","v":""},null,{"$f":"IF(B16=\"\",\"\",VLOOKUP(D16,①陸連データ貼り付け!A:E,5,0))","v":""},{"$f":"IF(B16=\"\",\"\",VLOOKUP(①選手情報入力!D16,①陸連データ貼り付け!A:F,6,0))","v":""},null,null,null,null,null,null,null,null,null,{"$f":"種目情報!N10","v":"男400mH"},"標準記録突破"]
[8,null,null,"",{"$f":"IF(B17=\"\",\"\",VLOOKUP(D17,①陸連データ貼り付け!A:C,3,0))","v":""},{"$f":"IF(B17=\"\",\"\",VLOOKUP(D17,①陸連データ貼り付け!A:D,4,0))","v":""},null,{"$f":"IF(B17=\"\",\"\",VLOOKUP(D17,①陸連データ貼り付け!A:E,5,0))","v":""},{"$f":"IF(B17=\"\",\"\",VLOOKUP(①選手情報入力!D17,①陸連データ貼り付け!A:F,6,0))","v":""},null,null,null,null,null,null,null,null,null,{"$f":"種目情報!N11","v":"男3000mSC"}]
[9,null,null,"",{"$f":"IF(B18=\"\",\"\",VLOOKUP(D18,①陸連データ貼り付け!A:C,3,0))","v":""},{"$f":"IF(B18=\"\",\"\",VLOOKUP(D18,①陸連データ貼り付け!A:D,4,0))","v":""},null,{"$f":"IF(B18=\"\",\"\",VLOOKUP(D18,①陸連データ貼り付け!A:E,5,0))","v":""},{"$f":"IF(B18=\"\",\"\",VLOOKUP(①選手情報入力!D18,①陸連データ貼り付け!A:F,6,0))","v":""},null,null,null,null,null,null,null,null,null,{"$f":"種目情報!N12","v":"男5000mW"}]
[10,null,null,"",{"$f":"IF(B19=\"\",\"\",VLOOKUP(D19,①陸連データ貼り付け!A:C,3,0))","v":""},{"$f":"IF(B19=\"\",\"\",VLOOKUP(D19,①陸連データ貼り付け!A:D,4,0))","v":""},null,{"$f":"IF(B19=\"\",\"\",VLOOKUP(D19,①陸連データ貼り付け!A:E,5,0))","v":""},{"$f":"IF(B19=\"\",\"\",VLOOKUP(①選手情報入力!D19,①陸連データ貼り付け!A:F,6,0))","v":""},null,null,null,null,null,null,null,null,null,{"$f":"種目情報!N13","v":"男走高跳"}]
[11,null,null,"",{"$f":"IF(B20=\"\",\"\",VLOOKUP(D20,①陸連データ貼り付け!A:C,3,0))","v":""},{"$f":"IF(B20=\"\",\"\",VLOOKUP(D20,①陸連データ貼り付け!A:D,4,0))","v":""},null,{"$f":"IF(B20=\"\",\"\",VLOOKUP(D20,①陸連データ貼り付け!A:E,5,0))","v":""},{"$f":"IF(B20=\"\",\"\",VLOOKUP(①選手情報入力!D20,①陸連データ貼り付け!A:F,6,0))","v":""},null,null,null,null,null,null,null,null,null,{"$f":"種目情報!N14","v":"男棒高跳"}]
[12,null,null,"",{"$f":"IF(B21=\"\",\"\",VLOOKUP(D21,①陸連データ貼り付け!A:C,3,0))","v":""},{"$f":"IF(B21=\"\",\"\",VLOOKUP(D21,①陸連データ貼り付け!A:D,4,0))","v":""},null,{"$f":"IF(B21=\"\",\"\",VLOOKUP(D21,①陸連データ貼り付け!A:E,5,0))","v":""},{"$f":"IF(B21=\"\",\"\",VLOOKUP(①選手情報入力!D21,①陸連データ貼り付け!A:F,6,0))","v":""},null,null,null,null,null,null,null,null,null,{"$f":"種目情報!N15","v":"男走幅跳"}]
[13,null,null,"",{"$f":"IF(B22=\"\",\"\",VLOOKUP(D22,①陸連データ貼り付け!A:C,3,0))","v":""},{"$f":"IF(B22=\"\",\"\",VLOOKUP(D22,①陸連データ貼り付け!A:D,4,0))","v":""},null,{"$f":"IF(B22=\"\",\"\",VLOOKUP(D22,①陸連データ貼り付け!A:E,5,0))","v":""},{"$f":"IF(B22=\"\",\"\",VLOOKUP(①選手情報入力!D22,①陸連データ貼り付け!A:F,6,0))","v":""},null,null,null,null,null,null,null,null,null,{"$f":"種目情報!N16","v":"男三段跳"}]
[14,null,null,"",{"$f":"IF(B23=\"\",\"\",VLOOKUP(D23,①陸連データ貼り付け!A:C,3,0))","v":""},{"$f":"IF(B23=\"\",\"\",VLOOKUP(D23,①陸連データ貼り付け!A:D,4,0))","v":""},null,{"$f":"IF(B23=\"\",\"\",VLOOKUP(D23,①陸連データ貼り付け!A:E,5,0))","v":""},{"$f":"IF(B23=\"\",\"\",VLOOKUP(①選手情報入力!D23,①陸連データ貼り付け!A:F,6,0))","v":""},null,null,null,null,null,null,null,null,null,{"$f":"種目情報!N17","v":"男砲丸投"}]
[15,null,null,"",{"$f":"IF(B24=\"\",\"\",VLOOKUP(D24,①陸連データ貼り付け!A:C,3,0))","v":""},{"$f":"IF(B24=\"\",\"\",VLOOKUP(D24,①陸連データ貼り付け!A:D,4,0))","v":""},null,{"$f":"IF(B24=\"\",\"\",VLOOKUP(D24,①陸連データ貼り付け!A:E,5,0))","v":""},{"$f":"IF(B24=\"\",\"\",VLOOKUP(①選手情報入力!D24,①陸連データ貼り付け!A:F,6,0))","v":""},null,null,null,null,null,null,null,null,null,{"$f":"種目情報!N18","v":"男円盤投"}]
[16,null,null,"",{"$f":"IF(B25=\"\",\"\",VLOOKUP(D25,①陸連データ貼り付け!A:C,3,0))","v":""},{"$f":"IF(B25=\"\",\"\",VLOOKUP(D25,①陸連データ貼り付け!A:D,4,0))","v":""},null,{"$f":"IF(B25=\"\",\"\",VLOOKUP(D25,①陸連データ貼り付け!A:E,5,0))","v":""},{"$f":"IF(B25=\"\",\"\",VLOOKUP(①選手情報入力!D25,①陸連データ貼り付け!A:F,6,0))","v":""},null,null,null,null,null,null,null,null,null,{"$f":"種目情報!N19","v":"男ハンマー投"}]
[17,null,null,"",{"$f":"IF(B26=\"\",\"\",VLOOKUP(D26,①陸連データ貼り付け!A:C,3,0))","v":""},{"$f":"IF(B26=\"\",\"\",VLOOKUP(D26,①陸連データ貼り付け!A:D,4,0))","v":""},null,{"$f":"IF(B26=\"\",\"\",VLOOKUP(D26,①陸連データ貼り付け!A:E,5,0))","v":""},{"$f":"IF(B26=\"\",\"\",VLOOKUP(①選手情報入力!D26,①陸連データ貼り付け!A:F,6,0))","v":""},null,null,null,null,null,null,null,null,null,{"$f":"種目情報!N20","v":"男やり投"}]
[18,null,null,"",{"$f":"IF(B27=\"\",\"\",VLOOKUP(D27,①陸連データ貼り付け!A:C,3,0))","v":""},{"$f":"IF(B27=\"\",\"\",VLOOKUP(D27,①陸連データ貼り付け!A:D,4,0))","v":""},null,{"$f":"IF(B27=\"\",\"\",VLOOKUP(D27,①陸連データ貼り付け!A:E,5,0))","v":""},{"$f":"IF(B27=\"\",\"\",VLOOKUP(①選手情報入力!D27,①陸連データ貼り付け!A:F,6,0))","v":""}]
[19,null,null,"",{"$f":"IF(B28=\"\",\"\",VLOOKUP(D28,①陸連データ貼り付け!A:C,3,0))","v":""},{"$f":"IF(B28=\"\",\"\",VLOOKUP(D28,①陸連データ貼り付け!A:D,4,0))","v":""},null,{"$f":"IF(B28=\"\",\"\",VLOOKUP(D28,①陸連データ貼り付け!A:E,5,0))","v":""},{"$f":"IF(B28=\"\",\"\",VLOOKUP(①選手情報入力!D28,①陸連データ貼り付け!A:F,6,0))","v":""},null,null,null,null,null,null,null,null,null,{"$f":"種目情報!N31","v":"女100m"}]
[20,null,null,"",{"$f":"IF(B29=\"\",\"\",VLOOKUP(D29,①陸連データ貼り付け!A:C,3,0))","v":""},{"$f":"IF(B29=\"\",\"\",VLOOKUP(D29,①陸連データ貼り付け!A:D,4,0))","v":""},null,{"$f":"IF(B29=\"\",\"\",VLOOKUP(D29,①陸連データ貼り付け!A:E,5,0))","v":""},{"$f":"IF(B29=\"\",\"\",VLOOKUP(①選手情報入力!D29,①陸連データ貼り付け!A:F,6,0))","v":""},null,null,null,null,null,null,null,null,null,{"$f":"種目情報!N32","v":"女200m"}]
[21,null,null,"",{"$f":"IF(B30=\"\",\"\",VLOOKUP(D30,①陸連データ貼り付け!A:C,3,0))","v":""},{"$f":"IF(B30=\"\",\"\",VLOOKUP(D30,①陸連データ貼り付け!A:D,4,0))","v":""},null,{"$f":"IF(B30=\"\",\"\",VLOOKUP(D30,①陸連データ貼り付け!A:E,5,0))","v":""},{"$f":"IF(B30=\"\",\"\",VLOOKUP(①選手情報入力!D30,①陸連データ貼り付け!A:F,6,0))","v":""},null,null,null,null,null,null,null,null,null,{"$f":"種目情報!N33","v":"女400m"}]
[22,null,null,"",{"$f":"IF(B31=\"\",\"\",VLOOKUP(D31,①陸連データ貼り付け!A:C,3,0))","v":""},{"$f":"IF(B31=\"\",\"\",VLOOKUP(D31,①陸連データ貼り付け!A:D,4,0))","v":""},null,{"$f":"IF(B31=\"\",\"\",VLOOKUP(D31,①陸連データ貼り付け!A:E,5,0))","v":""},{"$f":"IF(B31=\"\",\"\",VLOOKUP(①選手情報入力!D31,①陸連データ貼り付け!A:F,6,0))","v":""},null,null,null,null,null,null,null,null,null,{"$f":"種目情報!N34","v":"女800m"}]
[23,null,null,"",{"$f":"IF(B32=\"\",\"\",VLOOKUP(D32,①陸連データ貼り付け!A:C,3,0))","v":""},{"$f":"IF(B32=\"\",\"\",VLOOKUP(D32,①陸連データ貼り付け!A:D,4,0))","v":""},null,{"$f":"IF(B32=\"\",\"\",VLOOKUP(D32,①陸連データ貼り付け!A:E,5,0))","v":""},{"$f":"IF(B32=\"\",\"\",VLOOKUP(①選手情報入力!D32,①陸連データ貼り付け!A:F,6,0))","v":""},null,null,null,null,null,null,null,null,null,{"$f":"種目情報!N35","v":"女1500m"}]
[24,null,null,"",{"$f":"IF(B33=\"\",\"\",VLOOKUP(D33,①陸連データ貼り付け!A:C,3,0))","v":""},{"$f":"IF(B33=\"\",\"\",VLOOKUP(D33,①陸連データ貼り付け!A:D,4,0))","v":""},null,{"$f":"IF(B33=\"\",\"\",VLOOKUP(D33,①陸連データ貼り付け!A:E,5,0))","v":""},{"$f":"IF(B33=\"\",\"\",VLOOKUP(①選手情報入力!D33,①陸連データ貼り付け!A:F,6,0))","v":""},null,null,null,null,null,null,null,null,null,{"$f":"種目情報!N36","v":"女100mH"}]
[25,null,null,"",{"$f":"IF(B34=\"\",\"\",VLOOKUP(D34,①陸連データ貼り付け!A:C,3,0))","v":""},{"$f":"IF(B34=\"\",\"\",VLOOKUP(D34,①陸連データ貼り付け!A:D,4,0))","v":""},null,{"$f":"IF(B34=\"\",\"\",VLOOKUP(D34,①陸連データ貼り付け!A:E,5,0))","v":""},{"$f":"IF(B34=\"\",\"\",VLOOKUP(①選手情報入力!D34,①陸連データ貼り付け!A:F,6,0))","v":""},null,null,null,null,null,null,null,null,null,{"$f":"種目情報!N37","v":"女400mH"}]
[26,null,null,"",{"$f":"IF(B35=\"\",\"\",VLOOKUP(D35,①陸連データ貼り付け!A:C,3,0))","v":""},{"$f":"IF(B35=\"\",\"\",VLOOKUP(D35,①陸連データ貼り付け!A:D,4,0))","v":""},null,{"$f":"IF(B35=\"\",\"\",VLOOKUP(D35,①陸連データ貼り付け!A:E,5,0))","v":""},{"$f":"IF(B35=\"\",\"\",VLOOKUP(①選手情報入力!D35,①陸連データ貼り付け!A:F,6,0))","v":""},null,null,null,null,null,null,null,null,null,{"$f":"種目情報!N38","v":"女3000mSC"}]
[27,null,null,"",{"$f":"IF(B36=\"\",\"\",VLOOKUP(D36,①陸連データ貼り付け!A:C,3,0))","v":""},{"$f":"IF(B36=\"\",\"\",VLOOKUP(D36,①陸連データ貼り付け!A:D,4,0))","v":""},null,{"$f":"IF(B36=\"\",\"\",VLOOKUP(D36,①陸連データ貼り付け!A:E,5,0))","v":""},{"$f":"IF(B36=\"\",\"\",VLOOKUP(①選手情報入力!D36,①陸連データ貼り付け!A:F,6,0))","v":""},null,null,null,null,null,null,null,null,null,{"$f":"種目情報!N39","v":"女5000mW"}]
[28,null,null,"",{"$f":"IF(B37=\"\",\"\",VLOOKUP(D37,①陸連データ貼り付け!A:C,3,0))","v":""},{"$f":"IF(B37=\"\",\"\",VLOOKUP(D37,①陸連データ貼り付け!A:D,4,0))","v":""},null,{"$f":"IF(B37=\"\",\"\",VLOOKUP(D37,①陸連データ貼り付け!A:E,5,0))","v":""},{"$f":"IF(B37=\"\",\"\",VLOOKUP(①選手情報入力!D37,①陸連データ貼り付け!A:F,6,0))","v":""},null,null,null,null,null,null,null,null,null,{"$f":"種目情報!N40","v":"女走高跳"}]
[29,null,null,"",{"$f":"IF(B38=\"\",\"\",VLOOKUP(D38,①陸連データ貼り付け!A:C,3,0))","v":""},{"$f":"IF(B38=\"\",\"\",VLOOKUP(D38,①陸連データ貼り付け!A:D,4,0))","v":""},null,{"$f":"IF(B38=\"\",\"\",VLOOKUP(D38,①陸連データ貼り付け!A:E,5,0))","v":""},{"$f":"IF(B38=\"\",\"\",VLOOKUP(①選手情報入力!D38,①陸連データ貼り付け!A:F,6,0))","v":""},null,null,null,null,null,null,null,null,null,{"$f":"種目情報!N41","v":"女棒高跳"}]
[30,null,null,"",{"$f":"IF(B39=\"\",\"\",VLOOKUP(D39,①陸連データ貼り付け!A:C,3,0))","v":""},{"$f":"IF(B39=\"\",\"\",VLOOKUP(D39,①陸連データ貼り付け!A:D,4,0))","v":""},null,{"$f":"IF(B39=\"\",\"\",VLOOKUP(D39,①陸連データ貼り付け!A:E,5,0))","v":""},{"$f":"IF(B39=\"\",\"\",VLOOKUP(①選手情報入力!D39,①陸連データ貼り付け!A:F,6,0))","v":""},null,null,null,null,null,null,null,null,null,{"$f":"種目情報!N42","v":"女走幅跳"}]
[31,null,null,"",{"$f":"IF(B40=\"\",\"\",VLOOKUP(D40,①陸連データ貼り付け!A:C,3,0))","v":""},{"$f":"IF(B40=\"\",\"\",VLOOKUP(D40,①陸連データ貼り付け!A:D,4,0))","v":""},null,{"$f":"IF(B40=\"\",\"\",VLOOKUP(D40,①陸連データ貼り付け!A:E,5,0))","v":""},{"$f":"IF(B40=\"\",\"\",VLOOKUP(①選手情報入力!D40,①陸連データ貼り付け!A:F,6,0))","v":""},null,null,null,null,null,null,null,null,null,{"$f":"種目情報!N43","v":"女三段跳"}]
[32,null,null,"",{"$f":"IF(B41=\"\",\"\",VLOOKUP(D41,①陸連データ貼り付け!A:C,3,0))","v":""},{"$f":"IF(B41=\"\",\"\",VLOOKUP(D41,①陸連データ貼り付け!A:D,4,0))","v":""},null,{"$f":"IF(B41=\"\",\"\",VLOOKUP(D41,①陸連データ貼り付け!A:E,5,0))","v":""},{"$f":"IF(B41=\"\",\"\",VLOOKUP(①選手情報入力!D41,①陸連データ貼り付け!A:F,6,0))","v":""},null,null,null,null,null,null,null,null,null,{"$f":"種目情報!N44","v":"女砲丸投"}]
[33,null,null,"",{"$f":"IF(B42=\"\",\"\",VLOOKUP(D42,①陸連データ貼り付け!A:C,3,0))","v":""},{"$f":"IF(B42=\"\",\"\",VLOOKUP(D42,①陸連データ貼り付け!A:D,4,0))","v":""},null,{"$f":"IF(B42=\"\",\"\",VLOOKUP(D42,①陸連データ貼り付け!A:E,5,0))","v":""},{"$f":"IF(B42=\"\",\"\",VLOOKUP(①選手情報入力!D42,①陸連データ貼り付け!A:F,6,0))","v":""},null,null,null,null,null,null,null,null,null,{"$f":"種目情報!N45","v":"女円盤投"}]
[34,null,null,"",{"$f":"IF(B43=\"\",\"\",VLOOKUP(D43,①陸連データ貼り付け!A:C,3,0))","v":""},{"$f":"IF(B43=\"\",\"\",VLOOKUP(D43,①陸連データ貼り付け!A:D,4,0))","v":""},null,{"$f":"IF(B43=\"\",\"\",VLOOKUP(D43,①陸連データ貼り付け!A:E,5,0))","v":""},{"$f":"IF(B43=\"\",\"\",VLOOKUP(①選手情報入力!D43,①陸連データ貼り付け!A:F,6,0))","v":""},null,null,null,null,null,null,null,null,null,{"$f":"種目情報!N46","v":"女ハンマー投"}]
[35,null,null,"",{"$f":"IF(B44=\"\",\"\",VLOOKUP(D44,①陸連データ貼り付け!A:C,3,0))","v":""},{"$f":"IF(B44=\"\",\"\",VLOOKUP(D44,①陸連データ貼り付け!A:D,4,0))","v":""},null,{"$f":"IF(B44=\"\",\"\",VLOOKUP(D44,①陸連データ貼り付け!A:E,5,0))","v":""},{"$f":"IF(B44=\"\",\"\",VLOOKUP(①選手情報入力!D44,①陸連データ貼り付け!A:F,6,0))","v":""},null,null,null,null,null,null,null,null,null,{"$f":"種目情報!N47","v":"女やり投"}]
[36,null,null,"",{"$f":"IF(B45=\"\",\"\",VLOOKUP(D45,①陸連データ貼り付け!A:C,3,0))","v":""},{"$f":"IF(B45=\"\",\"\",VLOOKUP(D45,①陸連データ貼り付け!A:D,4,0))","v":""},null,{"$f":"IF(B45=\"\",\"\",VLOOKUP(D45,①陸連データ貼り付け!A:E,5,0))","v":""},{"$f":"IF(B45=\"\",\"\",VLOOKUP(①選手情報入力!D45,①陸連データ貼り付け!A:F,6,0))","v":""}]
[37,null,null,"",{"$f":"IF(B46=\"\",\"\",VLOOKUP(D46,①陸連データ貼り付け!A:C,3,0))","v":""},{"$f":"IF(B46=\"\",\"\",VLOOKUP(D46,①陸連データ貼り付け!A:D,4,0))","v":""},null,{"$f":"IF(B46=\"\",\"\",VLOOKUP(D46,①陸連データ貼り付け!A:E,5,0))","v":""},{"$f":"IF(B46=\"\",\"\",VLOOKUP(①選手情報入力!D46,①陸連データ貼り付け!A:F,6,0))","v":""}]
[38,null,null,"",{"$f":"IF(B47=\"\",\"\",VLOOKUP(D47,①陸連データ貼り付け!A:C,3,0))","v":""},{"$f":"IF(B47=\"\",\"\",VLOOKUP(D47,①陸連データ貼り付け!A:D,4,0))","v":""},null,{"$f":"IF(B47=\"\",\"\",VLOOKUP(D47,①陸連データ貼り付け!A:E,5,0))","v":""},{"$f":"IF(B47=\"\",\"\",VLOOKUP(①選手情報入力!D47,①陸連データ貼り付け!A:F,6,0))","v":""}]
[39,null,null,"",{"$f":"IF(B48=\"\",\"\",VLOOKUP(D48,①陸連データ貼り付け!A:C,3,0))","v":""},{"$f":"IF(B48=\"\",\"\",VLOOKUP(D48,①陸連データ貼り付け!A:D,4,0))","v":""},null,{"$f":"IF(B48=\"\",\"\",VLOOKUP(D48,①陸連データ貼り付け!A:E,5,0))","v":""},{"$f":"IF(B48=\"\",\"\",VLOOKUP(①選手情報入力!D48,①陸連データ貼り付け!A:F,6,0))","v":""}]
[40,null,null,"",{"$f":"IF(B49=\"\",\"\",VLOOKUP(D49,①陸連データ貼り付け!A:C,3,0))","v":""},{"$f":"IF(B49=\"\",\"\",VLOOKUP(D49,①陸連データ貼り付け!A:D,4,0))","v":""},null,{"$f":"IF(B49=\"\",\"\",VLOOKUP(D49,①陸連データ貼り付け!A:E,5,0))","v":""},{"$f":"IF(B49=\"\",\"\",VLOOKUP(①選手情報入力!D49,①陸連データ貼り付け!A:F,6,0))","v":""}]
[null,null,null,null,null,null,"種目計",{"$f":"SUM(J50:N50)","v":0},null,{"$f":"COUNTA(J10:J49)","v":0},null,null,{"$f":"COUNTA(M10:M49)","v":0},null,{"$f":"COUNTA(O10:O49)","v":0}]
[null,null,null,null,null,null,"男",{"$f":"COUNTIF(H10:H49,\"男\")","v":0}]
[null,null,null,null,null,null,"女",{"$f":"COUNTIF(H10:H49,\"女\")","v":0}]

{"sheet":"②団体情報入力","index":3,"n_rows":10,"n_cols":18,"rows_kept":10,"cut":false,"hidden":false,"merged":[[9,1,9,2],[8,3,8,5],[2,3,2,5],[4,1,4,2],[3,3,3,5],[5,3,5,5],[7,3,7,5],[5,1,5,2],[7,1,7,2],[8,1,8,2],[2,1,2,2],[3,1,3,2],[4,3,4,5],[6,1,6,2],[6,3,6,5]]}
["①団体情報入力"]
[]
[1,"団体コード",null,{"$f":"VLOOKUP(①選手情報入力!D10,①陸連データ貼り付け!A:N,14,0)","v":{"$error":"#N/A"}},null,null,"←陸連登録データあれば入力不要です。無い場合は、陸連登録データを入力してください。"]
[2,"団体名",null,{"$f":"VLOOKUP(①選手情報入力!D10,①陸連データ貼り付け!A:K,11,0)","v":{"$error":"#N/A"}},null,null,"←陸連登録データあれば入力不要です。無い場合は、陸連登録データを入力してください。"]
[3,"略称団体名",null,{"$f":"IF(D4=\"\",\"\",D4)","v":{"$error":"#N/A"}},null,null,"←入力(全角６文字以内です。\"高\"を入れて６文字以内です。)"]
[4,"略称ヨミガナ",null,{"$f":"VLOOKUP(①選手情報入力!D10,①陸連データ貼り付け!A:J,10,0)","v":{"$error":"#N/A"}},null,null,"←略称の読みを半角カタカナで入力してください。"]
[null,"団体区分"]
[5,"申込責任者",null,null,null,null,"←入力",null,null,null,null,null,null,null,null,null,null,"中学"]
[6,"連絡先電話番号",null,null,null,null,"←入力(ハイフンを入れる)　※緊急時に連絡がとれる番号",null,null,null,null,null,null,null,null,null,null,"高校"]
[7,"プログラム購入部数",null,null,"部"]

{"sheet":"③リレー情報確認","index":4,"n_rows":16,"n_cols":24,"rows_kept":16,"cut":false,"hidden":true,"merged":[[0,9,0,11],[7,17,14,17],[7,5,14,5],[5,1,5,5],[7,23,14,23],[5,13,5,17],[5,19,5,23],[5,7,5,11],[7,11,14,11],[0,15,0,17]]}
["③リレー情報確認",null,null,null,null,null,null,null,"チーム名 ",{"$f":"IF(②団体情報入力!D5=\"\",\"\",②団体情報入力!D5)","v":{"$error":"#N/A"}},null,null,null,null,"ｶﾅ",{"$f":"IF(②団体情報入力!D6=\"\",\"\",②団体情報入力!D6)","v":{"$error":"#N/A"}}]
[]
[null,null,"※リレーにエントリーをする選手とチームの記録を確認してください。"]
[null,null,"※修正をする場合は「②選手情報入力」で修正してください。"]
[]
[null,"男4X100mR",null,null,null,null,null,"男4X400mR",null,null,null,null,null,"女4X100mR",null,null,null,null,null,"女4X400mR"]
[null,"Ord","ﾅﾝﾊﾞｰ","氏　名","競技者NO","記録",null,"Ord","ﾅﾝﾊﾞｰ","氏　名","競技者NO","記録",null,"Ord","ﾅﾝﾊﾞｰ","氏　名","競技者NO","記録",null,"Ord","ﾅﾝﾊﾞｰ","氏　名","競技者NO","記録"]
[null,1,{"$f":"IF(①選手情報入力!#REF!<1,\"\",VLOOKUP(B8,①選手情報入力!#REF!,2,FALSE))","v":{"$error":"#REF!"}},{"$f":"IF(C8=\"\",\"\",VLOOKUP(C8,①選手情報入力!#REF!,2,FALSE))","v":{"$error":"#REF!"}},{"$f":"IF(C8=\"\",\"\",VLOOKUP(C8,①選手情報入力!#REF!,6,FALSE))","v":{"$error":"#REF!"}},{"$f":"IF(①選手情報入力!O5=\"\",\"\",IF(①選手情報入力!O5<①選手情報入力!#REF!,①選手情報入力!O5,①選手情報入力!#REF!))","v":""},null,1,{"$f":"IF(①選手情報入力!#REF!<1,\"\",VLOOKUP(H8,①選手情報入力!#REF!,2,FALSE))","v":{"$error":"#REF!"}},{"$f":"IF(I8=\"\",\"\",VLOOKUP(I8,①選手情報入力!#REF!,2,FALSE))","v":{"$error":"#REF!"}},{"$f":"IF(I8=\"\",\"\",VLOOKUP(I8,①選手情報入力!#REF!,6,FALSE))","v":{"$error":"#REF!"}},{"$f":"IF(①選手情報入力!#REF!=\"\",\"\",IF(①選手情報入力!#REF!>①選手情報入力!#REF!,①選手情報入力!#REF!,①選手情報入力!#REF!))","v":{"$error":"#REF!"}},null,1,{"$f":"IF(①選手情報入力!#REF!<1,\"\",VLOOKUP(N8,①選手情報入力!#REF!,2,FALSE))","v":{"$error":"#REF!"}},{"$f":"IF(O8=\"\",\"\",VLOOKUP(O8,①選手情報入力!#REF!,2,FALSE))","v":{"$error":"#REF!"}},{"$f":"IF(O8=\"\",\"\",VLOOKUP(O8,①選手情報入力!#REF!,6,FALSE))","v":{"$error":"#REF!"}},{"$f":"IF(①選手情報入力!O6=\"\",\"\",IF(①選手情報入力!O6>①選手情報入力!#REF!,①選手情報入力!#REF!,①選手情報入力!O6))","v":""},null,1,{"$f":"IF(①選手情報入力!#REF!<1,\"\",VLOOKUP(T8,①選手情報入力!#REF!,2,FALSE))","v":{"$error":"#REF!"}},{"$f":"IF(U8=\"\",\"\",VLOOKUP(U8,①選手情報入力!#REF!,2,FALSE))","v":{"$error":"#REF!"}},{"$f":"IF(U8=\"\",\"\",VLOOKUP(U8,①選手情報入力!#REF!,6,FALSE))","v":{"$error":"#REF!"}},{"$f":"IF(①選手情報入力!#REF!=\"\",\"\",IF(①選手情報入力!#REF!>①選手情報入力!#REF!,①選手情報入力!#REF!,①選手情報入力!#REF!))","v":{"$error":"#REF!"}}]
[null,2,{"$f":"IF(①選手情報入力!#REF!<1,\"\",VLOOKUP(B9,①選手情報入力!#REF!,2,FALSE))","v":{"$error":"#REF!"}},{"$f":"IF(C9=\"\",\"\",VLOOKUP(C9,①選手情報入力!#REF!,2,FALSE))","v":{"$error":"#REF!"}},{"$f":"IF(C9=\"\",\"\",VLOOKUP(C9,①選手情報入力!#REF!,6,FALSE))","v":{"$error":"#REF!"}},null,null,2,{"$f":"IF(①選手情報入力!#REF!<1,\"\",VLOOKUP(H9,①選手情報入力!#REF!,2,FALSE))","v":{"$error":"#REF!"}},{"$f":"IF(I9=\"\",\"\",VLOOKUP(I9,①選手情報入力!#REF!,2,FALSE))","v":{"$error":"#REF!"}},{"$f":"IF(I9=\"\",\"\",VLOOKUP(I9,①選手情報入力!#REF!,6,FALSE))","v":{"$error":"#REF!"}},null,null,2,{"$f":"IF(①選手情報入力!#REF!<1,\"\",VLOOKUP(N9,①選手情報入力!#REF!,2,FALSE))","v":{"$error":"#REF!"}},{"$f":"IF(O9=\"\",\"\",VLOOKUP(O9,①選手情報入力!#REF!,2,FALSE))","v":{"$error":"#REF!"}},{"$f":"IF(O9=\"\",\"\",VLOOKUP(O9,①選手情報入力!#REF!,6,FALSE))","v":{"$error":"#REF!"}},null,null,2,{"$f":"IF(①選手情報入力!#REF!<1,\"\",VLOOKUP(T9,①選手情報入力!#REF!,2,FALSE))","v":{"$error":"#REF!"}},{"$f":"IF(U9=\"\",\"\",VLOOKUP(U9,①選手情報入力!#REF!,2,FALSE))","v":{"$error":"#REF!"}},{"$f":"IF(U9=\"\",\"\",VLOOKUP(U9,①選手情報入力!#REF!,6,FALSE))","v":{"$error":"#REF!"}}]
[null,3,{"$f":"IF(①選手情報入力!#REF!<1,\"\",VLOOKUP(B10,①選手情報入力!#REF!,2,FALSE))","v":{"$error":"#REF!"}},{"$f":"IF(C10=\"\",\"\",VLOOKUP(C10,①選手情報入力!#REF!,2,FALSE))","v":{"$error":"#REF!"}},{"$f":"IF(C10=\"\",\"\",VLOOKUP(C10,①選手情報入力!#REF!,6,FALSE))","v":{"$error":"#REF!"}},null,null,3,{"$f":"IF(①選手情報入力!#REF!<1,\"\",VLOOKUP(H10,①選手情報入力!#REF!,2,FALSE))","v":{"$error":"#REF!"}},{"$f":"IF(I10=\"\",\"\",VLOOKUP(I10,①選手情報入力!#REF!,2,FALSE))","v":{"$error":"#REF!"}},{"$f":"IF(I10=\"\",\"\",VLOOKUP(I10,①選手情報入力!#REF!,6,FALSE))","v":{"$error":"#REF!"}},null,null,3,{"$f":"IF(①選手情報入力!#REF!<1,\"\",VLOOKUP(N10,①選手情報入力!#REF!,2,FALSE))","v":{"$error":"#REF!"}},{"$f":"IF(O10=\"\",\"\",VLOOKUP(O10,①選手情報入力!#REF!,2,FALSE))","v":{"$error":"#REF!"}},{"$f":"IF(O10=\"\",\"\",VLOOKUP(O10,①選手情報入力!#REF!,6,FALSE))","v":{"$error":"#REF!"}},null,null,3,{"$f":"IF(①選手情報入力!#REF!<1,\"\",VLOOKUP(T10,①選手情報入力!#REF!,2,FALSE))","v":{"$error":"#REF!"}},{"$f":"IF(U10=\"\",\"\",VLOOKUP(U10,①選手情報入力!#REF!,2,FALSE))","v":{"$error":"#REF!"}},{"$f":"IF(U10=\"\",\"\",VLOOKUP(U10,①選手情報入力!#REF!,6,FALSE))","v":{"$error":"#REF!"}}]
[null,4,{"$f":"IF(①選手情報入力!#REF!<1,\"\",VLOOKUP(B11,①選手情報入力!#REF!,2,FALSE))","v":{"$error":"#REF!"}},{"$f":"IF(C11=\"\",\"\",VLOOKUP(C11,①選手情報入力!#REF!,2,FALSE))","v":{"$error":"#REF!"}},{"$f":"IF(C11=\"\",\"\",VLOOKUP(C11,①選手情報入力!#REF!,6,FALSE))","v":{"$error":"#REF!"}},null,null,4,{"$f":"IF(①選手情報入力!#REF!<1,\"\",VLOOKUP(H11,①選手情報入力!#REF!,2,FALSE))","v":{"$error":"#REF!"}},{"$f":"IF(I11=\"\",\"\",VLOOKUP(I11,①選手情報入力!#REF!,2,FALSE))","v":{"$error":"#REF!"}},{"$f":"IF(I11=\"\",\"\",VLOOKUP(I11,①選手情報入力!#REF!,6,FALSE))","v":{"$error":"#REF!"}},null,null,4,{"$f":"IF(①選手情報入力!#REF!<1,\"\",VLOOKUP(N11,①選手情報入力!#REF!,2,FALSE))","v":{"$error":"#REF!"}},{"$f":"IF(O11=\"\",\"\",VLOOKUP(O11,①選手情報入力!#REF!,2,FALSE))","v":{"$error":"#REF!"}},{"$f":"IF(O11=\"\",\"\",VLOOKUP(O11,①選手情報入力!#REF!,6,FALSE))","v":{"$error":"#REF!"}},null,null,4,{"$f":"IF(①選手情報入力!#REF!<1,\"\",VLOOKUP(T11,①選手情報入力!#REF!,2,FALSE))","v":{"$error":"#REF!"}},{"$f":"IF(U11=\"\",\"\",VLOOKUP(U11,①選手情報入力!#REF!,2,FALSE))","v":{"$error":"#REF!"}},{"$f":"IF(U11=\"\",\"\",VLOOKUP(U11,①選手情報入力!#REF!,6,FALSE))","v":{"$error":"#REF!"}}]
[null,5,{"$f":"IF(①選手情報入力!#REF!<1,\"\",VLOOKUP(B12,①選手情報入力!#REF!,2,FALSE))","v":{"$error":"#REF!"}},{"$f":"IF(C12=\"\",\"\",VLOOKUP(C12,①選手情報入力!#REF!,2,FALSE))","v":{"$error":"#REF!"}},{"$f":"IF(C12=\"\",\"\",VLOOKUP(C12,①選手情報入力!#REF!,6,FALSE))","v":{"$error":"#REF!"}},null,null,5,{"$f":"IF(①選手情報入力!#REF!<1,\"\",VLOOKUP(H12,①選手情報入力!#REF!,2,FALSE))","v":{"$error":"#REF!"}},{"$f":"IF(I12=\"\",\"\",VLOOKUP(I12,①選手情報入力!#REF!,2,FALSE))","v":{"$error":"#REF!"}},{"$f":"IF(I12=\"\",\"\",VLOOKUP(I12,①選手情報入力!#REF!,6,FALSE))","v":{"$error":"#REF!"}},null,null,5,{"$f":"IF(①選手情報入力!#REF!<1,\"\",VLOOKUP(N12,①選手情報入力!#REF!,2,FALSE))","v":{"$error":"#REF!"}},{"$f":"IF(O12=\"\",\"\",VLOOKUP(O12,①選手情報入力!#REF!,2,FALSE))","v":{"$error":"#REF!"}},{"$f":"IF(O12=\"\",\"\",VLOOKUP(O12,①選手情報入力!#REF!,6,FALSE))","v":{"$error":"#REF!"}},null,null,5,{"$f":"IF(①選手情報入力!#REF!<1,\"\",VLOOKUP(T12,①選手情報入力!#REF!,2,FALSE))","v":{"$error":"#REF!"}},{"$f":"IF(U12=\"\",\"\",VLOOKUP(U12,①選手情報入力!#REF!,2,FALSE))","v":{"$error":"#REF!"}},{"$f":"IF(U12=\"\",\"\",VLOOKUP(U12,①選手情報入力!#REF!,6,FALSE))","v":{"$error":"#REF!"}}]
[null,6,{"$f":"IF(①選手情報入力!#REF!<1,\"\",VLOOKUP(B13,①選手情報入力!#REF!,2,FALSE))","v":{"$error":"#REF!"}},{"$f":"IF(C13=\"\",\"\",VLOOKUP(C13,①選手情報入力!#REF!,2,FALSE))","v":{"$error":"#REF!"}},{"$f":"IF(C13=\"\",\"\",VLOOKUP(C13,①選手情報入力!#REF!,6,FALSE))","v":{"$error":"#REF!"}},null,null,6,{"$f":"IF(①選手情報入力!#REF!<1,\"\",VLOOKUP(H13,①選手情報入力!#REF!,2,FALSE))","v":{"$error":"#REF!"}},{"$f":"IF(I13=\"\",\"\",VLOOKUP(I13,①選手情報入力!#REF!,2,FALSE))","v":{"$error":"#REF!"}},{"$f":"IF(I13=\"\",\"\",VLOOKUP(I13,①選手情報入力!#REF!,6,FALSE))","v":{"$error":"#REF!"}},null,null,6,{"$f":"IF(①選手情報入力!#REF!<1,\"\",VLOOKUP(N13,①選手情報入力!#REF!,2,FALSE))","v":{"$error":"#REF!"}},{"$f":"IF(O13=\"\",\"\",VLOOKUP(O13,①選手情報入力!#REF!,2,FALSE))","v":{"$error":"#REF!"}},{"$f":"IF(O13=\"\",\"\",VLOOKUP(O13,①選手情報入力!#REF!,6,FALSE))","v":{"$error":"#REF!"}},null,null,6,{"$f":"IF(①選手情報入力!#REF!<1,\"\",VLOOKUP(T13,①選手情報入力!#REF!,2,FALSE))","v":{"$error":"#REF!"}},{"$f":"IF(U13=\"\",\"\",VLOOKUP(U13,①選手情報入力!#REF!,2,FALSE))","v":{"$error":"#REF!"}},{"$f":"IF(U13=\"\",\"\",VLOOKUP(U13,①選手情報入力!#REF!,6,FALSE))","v":{"$error":"#REF!"}}]
[null,7,{"$f":"IF(①選手情報入力!#REF!<1,\"\",VLOOKUP(B14,①選手情報入力!#REF!,2,FALSE))","v":{"$error":"#REF!"}},{"$f":"IF(C14=\"\",\"\",VLOOKUP(C14,①選手情報入力!#REF!,2,FALSE))","v":{"$error":"#REF!"}},{"$f":"IF(C14=\"\",\"\",VLOOKUP(C14,①選手情報入力!#REF!,6,FALSE))","v":{"$error":"#REF!"}},null,null,7,{"$f":"IF(①選手情報入力!#REF!<1,\"\",VLOOKUP(H14,①選手情報入力!#REF!,2,FALSE))","v":{"$error":"#REF!"}},{"$f":"IF(I14=\"\",\"\",VLOOKUP(I14,①選手情報入力!#REF!,2,FALSE))","v":{"$error":"#REF!"}},{"$f":"IF(I14=\"\",\"\",VLOOKUP(I14,①選手情報入力!#REF!,6,FALSE))","v":{"$error":"#REF!"}},null,null,7,{"$f":"IF(①選手情報入力!#REF!<1,\"\",VLOOKUP(N14,①選手情報入力!#REF!,2,FALSE))","v":{"$error":"#REF!"}},{"$f":"IF(O14=\"\",\"\",VLOOKUP(O14,①選手情報入力!#REF!,2,FALSE))","v":{"$error":"#REF!"}},{"$f":"IF(O14=\"\",\"\",VLOOKUP(O14,①選手情報入力!#REF!,6,FALSE))","v":{"$error":"#REF!"}},null,null,7,{"$f":"IF(①選手情報入力!#REF!<1,\"\",VLOOKUP(T14,①選手情報入力!#REF!,2,FALSE))","v":{"$error":"#REF!"}},{"$f":"IF(U14=\"\",\"\",VLOOKUP(U14,①選手情報入力!#REF!,2,FALSE))","v":{"$error":"#REF!"}},{"$f":"IF(U14=\"\",\"\",VLOOKUP(U14,①選手情報入力!#REF!,6,FALSE))","v":{"$error":"#REF!"}}]
[null,8,{"$f":"IF(①選手情報入力!#REF!<1,\"\",VLOOKUP(B15,①選手情報入力!#REF!,2,FALSE))","v":{"$error":"#REF!"}},{"$f":"IF(C15=\"\",\"\",VLOOKUP(C15,①選手情報入力!#REF!,2,FALSE))","v":{"$error":"#REF!"}},{"$f":"IF(C15=\"\",\"\",VLOOKUP(C15,①選手情報入力!#REF!,6,FALSE))","v":{"$error":"#REF!"}},null,null,8,{"$f":"IF(①選手情報入力!#REF!<1,\"\",VLOOKUP(H15,①選手情報入力!#REF!,2,FALSE))","v":{"$error":"#REF!"}},{"$f":"IF(I15=\"\",\"\",VLOOKUP(I15,①選手情報入力!#REF!,2,FALSE))","v":{"$error":"#REF!"}},{"$f":"IF(I15=\"\",\"\",VLOOKUP(I15,①選手情報入力!#REF!,6,FALSE))","v":{"$error":"#REF!"}},null,null,8,{"$f":"IF(①選手情報入力!#REF!<1,\"\",VLOOKUP(N15,①選手情報入力!#REF!,2,FALSE))","v":{"$error":"#REF!"}},{"$f":"IF(O15=\"\",\"\",VLOOKUP(O15,①選手情報入力!#REF!,2,FALSE))","v":{"$error":"#REF!"}},{"$f":"IF(O15=\"\",\"\",VLOOKUP(O15,①選手情報入力!#REF!,6,FALSE))","v":{"$error":"#REF!"}},null,null,8,{"$f":"IF(①選手情報入力!#REF!<1,\"\",VLOOKUP(T15,①選手情報入力!#REF!,2,FALSE))","v":{"$error":"#REF!"}},{"$f":"IF(U15=\"\",\"\",VLOOKUP(U15,①選手情報入力!#REF!,2,FALSE))","v":{"$error":"#REF!"}},{"$f":"IF(U15=\"\",\"\",VLOOKUP(U15,①選手情報入力!#REF!,6,FALSE))","v":{"$error":"#REF!"}}]
[null,null,null,"申込チーム数",null,{"$f":"IF(①選手情報入力!#REF!>=4,1,0)","v":{"$error":"#REF!"}},null,null,null,"申込チーム数",null,{"$f":"IF(①選手情報入力!#REF!>=4,1,0)","v":{"$error":"#REF!"}},null,null,null,"申込チーム数",null,{"$f":"IF(①選手情報入力!#REF!>=4,1,0)","v":{"$error":"#REF!"}},null,null,null,"申込チーム数",null,{"$f":"IF(①選手情報入力!#REF!>=4,1,0)","v":{"$error":"#REF!"}}]

{"sheet":"③種目別人数","index":5,"n_rows":31,"n_cols":14,"rows_kept":31,"cut":false,"hidden":false,"merged":[[29,1,29,2],[27,2,27,3],[12,2,12,3],[11,2,11,3],[13,2,13,3],[14,2,14,3],[15,2,15,3],[16,2,16,3],[17,2,17,3],[18,2,18,3],[19,2,19,3],[20,2,20,3],[21,2,21,3],[22,2,22,3],[1,0,1,7],[3,0,3,7],[6,1,6,2],[6,5,6,6],[2,0,2,4],[5,3,5,6],[4,2,4,5],[16,6,16,7],[7,2,7,3],[8,2,8,3],[9,2,9,3],[10,2,10,3],[12,6,12,7],[7,6,7,7],[8,6,8,7],[9,6,9,7],[30,0,30,7],[24,6,24,7],[23,2,23,3],[24,2,24,3],[10,6,10,7],[11,6,11,7],[21,6,21,7],[22,6,22,7],[23,6,23,7],[17,6,17,7],[18,6,18,7],[19,6,19,7],[20,6,20,7],[13,6,13,7],[14,6,14,7],[15,6,15,7]]}
["④種目別人数一覧表",null,"※種目数・参加料等を確認してから印刷をしてください。"]
["　　　帳票印刷ボタンをクリックして印刷を行ってください。↓　　"]
[{"$f":"注意事項!C3","v":"第76回愛知陸上競技選手権大会"},null,null,null,null,null,{"$f":"IF(②団体情報入力!D3=\"\",\"\",②団体情報入力!D3)","v":{"$error":"#N/A"}}]
["種目別申込人数一覧表"]
[null,"申込責任者",{"$f":"IF(②団体情報入力!D9=\"\",\"\",②団体情報入力!D9)","v":""},null,null,null,"A4サイズ"]
[null,{"$f":"IF(②団体情報入力!D8=\"\",\"\",②団体情報入力!D8)","v":""},"学校名",{"$f":"IF(②団体情報入力!D5=\"\",\"\",②団体情報入力!D5)","v":{"$error":"#N/A"}}]
[null,"男　　　子",null,null,null,"女　　　子",null,null,null,null,null,"男種目",null,"女種目"]
[null,"種　　目","申込数",null,null,"種　　目","申込数",null,null,null,"男100m",{"$f":"COUNTIF(①選手情報入力!$J$10:$O$49,K8)","v":0},"女100m",{"$f":"COUNTIF(①選手情報入力!$J$10:$O$49,M8)","v":0}]
[null,"100m",{"$f":"IF(L8=0,\"\",L8)","v":""},null,null,"100m",{"$f":"IF(N8=0,\"\",N8)","v":""},null,null,null,"男200m",{"$f":"COUNTIF(①選手情報入力!$J$10:$O$49,K9)","v":0},"女200m",{"$f":"COUNTIF(①選手情報入力!$J$10:$O$49,M9)","v":0}]
[null,"200m",{"$f":"IF(L9=0,\"\",L9)","v":""},null,null,"200m",{"$f":"IF(N9=0,\"\",N9)","v":""},null,null,null,"男400m",{"$f":"COUNTIF(①選手情報入力!$J$10:$O$49,K10)","v":0},"女400m",{"$f":"COUNTIF(①選手情報入力!$J$10:$O$49,M10)","v":0}]
[null,"400m","",null,null,"400m","",null,null,null,"男800m",{"$f":"COUNTIF(①選手情報入力!$J$10:$O$49,K11)","v":0},"女800m",{"$f":"COUNTIF(①選手情報入力!$J$10:$O$49,M11)","v":0}]
[null,"800m","",null,null,"800m","",null,null,null,"男1500m",{"$f":"COUNTIF(①選手情報入力!$J$10:$O$49,K12)","v":0},"女1500m",{"$f":"COUNTIF(①選手情報入力!$J$10:$O$49,M12)","v":0}]
[null,"1500m","",null,null,"1500m","",null,null,null,"男110mH",{"$f":"COUNTIF(①選手情報入力!$J$10:$O$49,K13)","v":0},"女100mH",{"$f":"COUNTIF(①選手情報入力!$J$10:$O$49,M13)","v":0}]
[null,"110mH","",null,null,"100mH","",null,null,null,"男400mH",{"$f":"COUNTIF(①選手情報入力!$J$10:$O$49,K14)","v":0},"女400mH",{"$f":"COUNTIF(①選手情報入力!$J$10:$O$49,M14)","v":0}]
[null,"400mH","",null,null,"400mH","",null,null,null,"男3000mSC",{"$f":"COUNTIF(①選手情報入力!$J$10:$O$49,K15)","v":0},"女3000mSC",{"$f":"COUNTIF(①選手情報入力!$J$10:$O$49,M15)","v":0}]
[null,"3000mSC","",null,null,"3000mSC","",null,null,null,"男5000mW",{"$f":"COUNTIF(①選手情報入力!$J$10:$O$49,K16)","v":0},"女5000mW",{"$f":"COUNTIF(①選手情報入力!$J$10:$O$49,M16)","v":0}]
[null,"5000mW","",null,null,"5000mW","",null,null,null,"男走高跳",{"$f":"COUNTIF(①選手情報入力!$J$10:$O$49,K17)","v":0},"女走高跳",{"$f":"COUNTIF(①選手情報入力!$J$10:$O$49,M17)","v":0}]
[null,"走高跳","",null,null,"走高跳","",null,null,null,"男棒高跳",{"$f":"COUNTIF(①選手情報入力!$J$10:$O$49,K18)","v":0},"女棒高跳",{"$f":"COUNTIF(①選手情報入力!$J$10:$O$49,M18)","v":0}]
[null,"棒高跳","",null,null,"棒高跳","",null,null,null,"男走幅跳",{"$f":"COUNTIF(①選手情報入力!$J$10:$O$49,K19)","v":0},"女走幅跳",{"$f":"COUNTIF(①選手情報入力!$J$10:$O$49,M19)","v":0}]
[null,"走幅跳","",null,null,"走幅跳","",null,null,null,"男三段跳",{"$f":"COUNTIF(①選手情報入力!$J$10:$O$49,K20)","v":0},"女三段跳",{"$f":"COUNTIF(①選手情報入力!$J$10:$O$49,M20)","v":0}]
[null,"三段跳","",null,null,"三段跳","",null,null,null,"男砲丸投",{"$f":"COUNTIF(①選手情報入力!$J$10:$O$49,K21)","v":0},"女砲丸投",{"$f":"COUNTIF(①選手情報入力!$J$10:$O$49,M21)","v":0}]
[null,"砲丸投","",null,null,"砲丸投","",null,null,null,"男円盤投",{"$f":"COUNTIF(①選手情報入力!$J$10:$O$49,K22)","v":0},"女円盤投",{"$f":"COUNTIF(①選手情報入力!$J$10:$O$49,M22)","v":0}]
[null,"円盤投","",null,null,"円盤投","",null,null,null,"男ハンマー投",{"$f":"COUNTIF(①選手情報入力!$J$10:$O$49,K23)","v":0},"女ハンマー投",{"$f":"COUNTIF(①選手情報入力!$J$10:$O$49,M23)","v":0}]
[null,"ハンマー投","",null,null,"ハンマー投","",null,null,null,"男やり投",{"$f":"COUNTIF(①選手情報入力!$J$10:$O$49,K24)","v":0},"女やり投",{"$f":"COUNTIF(①選手情報入力!$J$10:$O$49,M24)","v":0}]
[null,"やり投","",null,null,"やり投","",null,null,null,null,{"$f":"SUM(L8:L24)","v":0},null,{"$f":"SUM(N8:N24)","v":0}]
[]
[null,"種　目　数",null,null,null,"参　　加　　料"]
[null,"個人種目数",{"$f":"L25+N25","v":0},null,null,"種目数✕1,000円",{"$f":"C28*1000","v":0}]
[null,"プログラム購入部数",{"$f":"IF(②団体情報入力!D10=\"\",0,②団体情報入力!D10)","v":0},"部",null,"プログラム部数✕1000円",{"$f":"C29*1000","v":0}]
[null,{"$f":"TODAY()","v":"2016-06-09"},null,null,null,"支払金額",{"$f":"SUM(G28:G29)","v":0}]
["振込明細書のコピーを裏面に添付してください"]

{"sheet":"④申込一覧表","index":6,"n_rows":47,"n_cols":9,"rows_kept":47,"cut":false,"hidden":false,"merged":[[1,2,1,7],[3,1,4,1],[3,3,3,4],[4,3,4,4]]}
["⑤申込一覧表"]
[null,"大会名",{"$f":"注意事項!C3&注意事項!F3","v":"第76回愛知陸上競技選手権大会"}]
[null,null,null,null,null,null,"学校名",{"$f":"IF(②団体情報入力!D5=\"\",\"\",②団体情報入力!D5)","v":{"$error":"#N/A"}},{"$f":"IF(②団体情報入力!D3=\"\",\"\",②団体情報入力!D3)","v":{"$error":"#N/A"}}]
[null,"人数","男　　子",{"$f":"①選手情報入力!H51","v":0}]
[null,null,"女　　子",{"$f":"①選手情報入力!H52","v":0}]
[]
[null,"ﾅﾝﾊﾞｰ","氏　名","性","年","種目１","記録１","種目２","記録２"]
[1,{"$f":"IF(①選手情報入力!B10=\"\",\"\",①選手情報入力!B10)","v":""},{"$f":"IF(①選手情報入力!E10=\"\",\"\",①選手情報入力!E10)","v":""},{"$f":"IF(①選手情報入力!H10=\"\",\"\",①選手情報入力!H10)","v":""},{"$f":"IF(①選手情報入力!I10=\"\",\"\",①選手情報入力!I10)","v":""},{"$f":"IF(①選手情報入力!J10=\"\",\"\",①選手情報入力!J10)","v":""},{"$f":"IF(①選手情報入力!K10=\"\",\"\",①選手情報入力!K10)","v":""},{"$f":"IF(①選手情報入力!M10=\"\",\"\",①選手情報入力!M10)","v":""},{"$f":"IF(①選手情報入力!N10=\"\",\"\",①選手情報入力!N10)","v":""}]
[2,{"$f":"IF(①選手情報入力!B11=\"\",\"\",①選手情報入力!B11)","v":""},{"$f":"IF(①選手情報入力!E11=\"\",\"\",①選手情報入力!E11)","v":""},{"$f":"IF(①選手情報入力!H11=\"\",\"\",①選手情報入力!H11)","v":""},{"$f":"IF(①選手情報入力!I11=\"\",\"\",①選手情報入力!I11)","v":""},{"$f":"IF(①選手情報入力!J11=\"\",\"\",①選手情報入力!J11)","v":""},{"$f":"IF(①選手情報入力!K11=\"\",\"\",①選手情報入力!K11)","v":""},{"$f":"IF(①選手情報入力!M11=\"\",\"\",①選手情報入力!M11)","v":""},{"$f":"IF(①選手情報入力!N11=\"\",\"\",①選手情報入力!N11)","v":""}]
[3,{"$f":"IF(①選手情報入力!B12=\"\",\"\",①選手情報入力!B12)","v":""},{"$f":"IF(①選手情報入力!E12=\"\",\"\",①選手情報入力!E12)","v":""},{"$f":"IF(①選手情報入力!H12=\"\",\"\",①選手情報入力!H12)","v":""},{"$f":"IF(①選手情報入力!I12=\"\",\"\",①選手情報入力!I12)","v":""},{"$f":"IF(①選手情報入力!J12=\"\",\"\",①選手情報入力!J12)","v":""},{"$f":"IF(①選手情報入力!K12=\"\",\"\",①選手情報入力!K12)","v":""},{"$f":"IF(①選手情報入力!M12=\"\",\"\",①選手情報入力!M12)","v":""},{"$f":"IF(①選手情報入力!N12=\"\",\"\",①選手情報入力!N12)","v":""}]
[4,{"$f":"IF(①選手情報入力!B13=\"\",\"\",①選手情報入力!B13)","v":""},{"$f":"IF(①選手情報入力!E13=\"\",\"\",①選手情報入力!E13)","v":""},{"$f":"IF(①選手情報入力!H13=\"\",\"\",①選手情報入力!H13)","v":""},{"$f":"IF(①選手情報入力!I13=\"\",\"\",①選手情報入力!I13)","v":""},{"$f":"IF(①選手情報入力!J13=\"\",\"\",①選手情報入力!J13)","v":""},{"$f":"IF(①選手情報入力!K13=\"\",\"\",①選手情報入力!K13)","v":""},{"$f":"IF(①選手情報入力!M13=\"\",\"\",①選手情報入力!M13)","v":""},{"$f":"IF(①選手情報入力!N13=\"\",\"\",①選手情報入力!N13)","v":""}]
[5,{"$f":"IF(①選手情報入力!B14=\"\",\"\",①選手情報入力!B14)","v":""},{"$f":"IF(①選手情報入力!E14=\"\",\"\",①選手情報入力!E14)","v":""},{"$f":"IF(①選手情報入力!H14=\"\",\"\",①選手情報入力!H14)","v":""},{"$f":"IF(①選手情報入力!I14=\"\",\"\",①選手情報入力!I14)","v":""},{"$f":"IF(①選手情報入力!J14=\"\",\"\",①選手情報入力!J14)","v":""},{"$f":"IF(①選手情報入力!K14=\"\",\"\",①選手情報入力!K14)","v":""},{"$f":"IF(①選手情報入力!M14=\"\",\"\",①選手情報入力!M14)","v":""},{"$f":"IF(①選手情報入力!N14=\"\",\"\",①選手情報入力!N14)","v":""}]
[6,{"$f":"IF(①選手情報入力!B15=\"\",\"\",①選手情報入力!B15)","v":""},{"$f":"IF(①選手情報入力!E15=\"\",\"\",①選手情報入力!E15)","v":""},{"$f":"IF(①選手情報入力!H15=\"\",\"\",①選手情報入力!H15)","v":""},{"$f":"IF(①選手情報入力!I15=\"\",\"\",①選手情報入力!I15)","v":""},{"$f":"IF(①選手情報入力!J15=\"\",\"\",①選手情報入力!J15)","v":""},{"$f":"IF(①選手情報入力!K15=\"\",\"\",①選手情報入力!K15)","v":""},{"$f":"IF(①選手情報入力!M15=\"\",\"\",①選手情報入力!M15)","v":""},{"$f":"IF(①選手情報入力!N15=\"\",\"\",①選手情報入力!N15)","v":""}]
[7,{"$f":"IF(①選手情報入力!B16=\"\",\"\",①選手情報入力!B16)","v":""},{"$f":"IF(①選手情報入力!E16=\"\",\"\",①選手情報入力!E16)","v":""},{"$f":"IF(①選手情報入力!H16=\"\",\"\",①選手情報入力!H16)","v":""},{"$f":"IF(①選手情報入力!I16=\"\",\"\",①選手情報入力!I16)","v":""},{"$f":"IF(①選手情報入力!J16=\"\",\"\",①選手情報入力!J16)","v":""},{"$f":"IF(①選手情報入力!K16=\"\",\"\",①選手情報入力!K16)","v":""},{"$f":"IF(①選手情報入力!M16=\"\",\"\",①選手情報入力!M16)","v":""},{"$f":"IF(①選手情報入力!N16=\"\",\"\",①選手情報入力!N16)","v":""}]
[8,{"$f":"IF(①選手情報入力!B17=\"\",\"\",①選手情報入力!B17)","v":""},{"$f":"IF(①選手情報入力!E17=\"\",\"\",①選手情報入力!E17)","v":""},{"$f":"IF(①選手情報入力!H17=\"\",\"\",①選手情報入力!H17)","v":""},{"$f":"IF(①選手情報入力!I17=\"\",\"\",①選手情報入力!I17)","v":""},{"$f":"IF(①選手情報入力!J17=\"\",\"\",①選手情報入力!J17)","v":""},{"$f":"IF(①選手情報入力!K17=\"\",\"\",①選手情報入力!K17)","v":""},{"$f":"IF(①選手情報入力!M17=\"\",\"\",①選手情報入力!M17)","v":""},{"$f":"IF(①選手情報入力!N17=\"\",\"\",①選手情報入力!N17)","v":""}]
[9,{"$f":"IF(①選手情報入力!B18=\"\",\"\",①選手情報入力!B18)","v":""},{"$f":"IF(①選手情報入力!E18=\"\",\"\",①選手情報入力!E18)","v":""},{"$f":"IF(①選手情報入力!H18=\"\",\"\",①選手情報入力!H18)","v":""},{"$f":"IF(①選手情報入力!I18=\"\",\"\",①選手情報入力!I18)","v":""},{"$f":"IF(①選手情報入力!J18=\"\",\"\",①選手情報入力!J18)","v":""},{"$f":"IF(①選手情報入力!K18=\"\",\"\",①選手情報入力!K18)","v":""},{"$f":"IF(①選手情報入力!M18=\"\",\"\",①選手情報入力!M18)","v":""},{"$f":"IF(①選手情報入力!N18=\"\",\"\",①選手情報入力!N18)","v":""}]
[10,{"$f":"IF(①選手情報入力!B19=\"\",\"\",①選手情報入力!B19)","v":""},{"$f":"IF(①選手情報入力!E19=\"\",\"\",①選手情報入力!E19)","v":""},{"$f":"IF(①選手情報入力!H19=\"\",\"\",①選手情報入力!H19)","v":""},{"$f":"IF(①選手情報入力!I19=\"\",\"\",①選手情報入力!I19)","v":""},{"$f":"IF(①選手情報入力!J19=\"\",\"\",①選手情報入力!J19)","v":""},{"$f":"IF(①選手情報入力!K19=\"\",\"\",①選手情報入力!K19)","v":""},{"$f":"IF(①選手情報入力!M19=\"\",\"\",①選手情報入力!M19)","v":""},{"$f":"IF(①選手情報入力!N19=\"\",\"\",①選手情報入力!N19)","v":""}]
[11,{"$f":"IF(①選手情報入力!B20=\"\",\"\",①選手情報入力!B20)","v":""},{"$f":"IF(①選手情報入力!E20=\"\",\"\",①選手情報入力!E20)","v":""},{"$f":"IF(①選手情報入力!H20=\"\",\"\",①選手情報入力!H20)","v":""},{"$f":"IF(①選手情報入力!I20=\"\",\"\",①選手情報入力!I20)","v":""},{"$f":"IF(①選手情報入力!J20=\"\",\"\",①選手情報入力!J20)","v":""},{"$f":"IF(①選手情報入力!K20=\"\",\"\",①選手情報入力!K20)","v":""},{"$f":"IF(①選手情報入力!M20=\"\",\"\",①選手情報入力!M20)","v":""},{"$f":"IF(①選手情報入力!N20=\"\",\"\",①選手情報入力!N20)","v":""}]
[12,{"$f":"IF(①選手情報入力!B21=\"\",\"\",①選手情報入力!B21)","v":""},{"$f":"IF(①選手情報入力!E21=\"\",\"\",①選手情報入力!E21)","v":""},{"$f":"IF(①選手情報入力!H21=\"\",\"\",①選手情報入力!H21)","v":""},{"$f":"IF(①選手情報入力!I21=\"\",\"\",①選手情報入力!I21)","v":""},{"$f":"IF(①選手情報入力!J21=\"\",\"\",①選手情報入力!J21)","v":""},{"$f":"IF(①選手情報入力!K21=\"\",\"\",①選手情報入力!K21)","v":""},{"$f":"IF(①選手情報入力!M21=\"\",\"\",①選手情報入力!M21)","v":""},{"$f":"IF(①選手情報入力!N21=\"\",\"\",①選手情報入力!N21)","v":""}]
[13,{"$f":"IF(①選手情報入力!B22=\"\",\"\",①選手情報入力!B22)","v":""},{"$f":"IF(①選手情報入力!E22=\"\",\"\",①選手情報入力!E22)","v":""},{"$f":"IF(①選手情報入力!H22=\"\",\"\",①選手情報入力!H22)","v":""},{"$f":"IF(①選手情報入力!I22=\"\",\"\",①選手情報入力!I22)","v":""},{"$f":"IF(①選手情報入力!J22=\"\",\"\",①選手情報入力!J22)","v":""},{"$f":"IF(①選手情報入力!K22=\"\",\"\",①選手情報入力!K22)","v":""},{"$f":"IF(①選手情報入力!M22=\"\",\"\",①選手情報入力!M22)","v":""},{"$f":"IF(①選手情報入力!N22=\"\",\"\",①選手情報入力!N22)","v":""}]
[14,{"$f":"IF(①選手情報入力!B23=\"\",\"\",①選手情報入力!B23)","v":""},{"$f":"IF(①選手情報入力!E23=\"\",\"\",①選手情報入力!E23)","v":""},{"$f":"IF(①選手情報入力!H23=\"\",\"\",①選手情報入力!H23)","v":""},{"$f":"IF(①選手情報入力!I23=\"\",\"\",①選手情報入力!I23)","v":""},{"$f":"IF(①選手情報入力!J23=\"\",\"\",①選手情報入力!J23)","v":""},{"$f":"IF(①選手情報入力!K23=\"\",\"\",①選手情報入力!K23)","v":""},{"$f":"IF(①選手情報入力!M23=\"\",\"\",①選手情報入力!M23)","v":""},{"$f":"IF(①選手情報入力!N23=\"\",\"\",①選手情報入力!N23)","v":""}]
[15,{"$f":"IF(①選手情報入力!B24=\"\",\"\",①選手情報入力!B24)","v":""},{"$f":"IF(①選手情報入力!E24=\"\",\"\",①選手情報入力!E24)","v":""},{"$f":"IF(①選手情報入力!H24=\"\",\"\",①選手情報入力!H24)","v":""},{"$f":"IF(①選手情報入力!I24=\"\",\"\",①選手情報入力!I24)","v":""},{"$f":"IF(①選手情報入力!J24=\"\",\"\",①選手情報入力!J24)","v":""},{"$f":"IF(①選手情報入力!K24=\"\",\"\",①選手情報入力!K24)","v":""},{"$f":"IF(①選手情報入力!M24=\"\",\"\",①選手情報入力!M24)","v":""},{"$f":"IF(①選手情報入力!N24=\"\",\"\",①選手情報入力!N24)","v":""}]
[16,{"$f":"IF(①選手情報入力!B25=\"\",\"\",①選手情報入力!B25)","v":""},{"$f":"IF(①選手情報入力!E25=\"\",\"\",①選手情報入力!E25)","v":""},{"$f":"IF(①選手情報入力!H25=\"\",\"\",①選手情報入力!H25)","v":""},{"$f":"IF(①選手情報入力!I25=\"\",\"\",①選手情報入力!I25)","v":""},{"$f":"IF(①選手情報入力!J25=\"\",\"\",①選手情報入力!J25)","v":""},{"$f":"IF(①選手情報入力!K25=\"\",\"\",①選手情報入力!K25)","v":""},{"$f":"IF(①選手情報入力!M25=\"\",\"\",①選手情報入力!M25)","v":""},{"$f":"IF(①選手情報入力!N25=\"\",\"\",①選手情報入力!N25)","v":""}]
[17,{"$f":"IF(①選手情報入力!B26=\"\",\"\",①選手情報入力!B26)","v":""},{"$f":"IF(①選手情報入力!E26=\"\",\"\",①選手情報入力!E26)","v":""},{"$f":"IF(①選手情報入力!H26=\"\",\"\",①選手情報入力!H26)","v":""},{"$f":"IF(①選手情報入力!I26=\"\",\"\",①選手情報入力!I26)","v":""},{"$f":"IF(①選手情報入力!J26=\"\",\"\",①選手情報入力!J26)","v":""},{"$f":"IF(①選手情報入力!K26=\"\",\"\",①選手情報入力!K26)","v":""},{"$f":"IF(①選手情報入力!M26=\"\",\"\",①選手情報入力!M26)","v":""},{"$f":"IF(①選手情報入力!N26=\"\",\"\",①選手情報入力!N26)","v":""}]
[18,{"$f":"IF(①選手情報入力!B27=\"\",\"\",①選手情報入力!B27)","v":""},{"$f":"IF(①選手情報入力!E27=\"\",\"\",①選手情報入力!E27)","v":""},{"$f":"IF(①選手情報入力!H27=\"\",\"\",①選手情報入力!H27)","v":""},{"$f":"IF(①選手情報入力!I27=\"\",\"\",①選手情報入力!I27)","v":""},{"$f":"IF(①選手情報入力!J27=\"\",\"\",①選手情報入力!J27)","v":""},{"$f":"IF(①選手情報入力!K27=\"\",\"\",①選手情報入力!K27)","v":""},{"$f":"IF(①選手情報入力!M27=\"\",\"\",①選手情報入力!M27)","v":""},{"$f":"IF(①選手情報入力!N27=\"\",\"\",①選手情報入力!N27)","v":""}]
[19,{"$f":"IF(①選手情報入力!B28=\"\",\"\",①選手情報入力!B28)","v":""},{"$f":"IF(①選手情報入力!E28=\"\",\"\",①選手情報入力!E28)","v":""},{"$f":"IF(①選手情報入力!H28=\"\",\"\",①選手情報入力!H28)","v":""},{"$f":"IF(①選手情報入力!I28=\"\",\"\",①選手情報入力!I28)","v":""},{"$f":"IF(①選手情報入力!J28=\"\",\"\",①選手情報入力!J28)","v":""},{"$f":"IF(①選手情報入力!K28=\"\",\"\",①選手情報入力!K28)","v":""},{"$f":"IF(①選手情報入力!M28=\"\",\"\",①選手情報入力!M28)","v":""},{"$f":"IF(①選手情報入力!N28=\"\",\"\",①選手情報入力!N28)","v":""}]
[20,{"$f":"IF(①選手情報入力!B29=\"\",\"\",①選手情報入力!B29)","v":""},{"$f":"IF(①選手情報入力!E29=\"\",\"\",①選手情報入力!E29)","v":""},{"$f":"IF(①選手情報入力!H29=\"\",\"\",①選手情報入力!H29)","v":""},{"$f":"IF(①選手情報入力!I29=\"\",\"\",①選手情報入力!I29)","v":""},{"$f":"IF(①選手情報入力!J29=\"\",\"\",①選手情報入力!J29)","v":""},{"$f":"IF(①選手情報入力!K29=\"\",\"\",①選手情報入力!K29)","v":""},{"$f":"IF(①選手情報入力!M29=\"\",\"\",①選手情報入力!M29)","v":""},{"$f":"IF(①選手情報入力!N29=\"\",\"\",①選手情報入力!N29)","v":""}]
[21,{"$f":"IF(①選手情報入力!B30=\"\",\"\",①選手情報入力!B30)","v":""},{"$f":"IF(①選手情報入力!E30=\"\",\"\",①選手情報入力!E30)","v":""},{"$f":"IF(①選手情報入力!H30=\"\",\"\",①選手情報入力!H30)","v":""},{"$f":"IF(①選手情報入力!I30=\"\",\"\",①選手情報入力!I30)","v":""},{"$f":"IF(①選手情報入力!J30=\"\",\"\",①選手情報入力!J30)","v":""},{"$f":"IF(①選手情報入力!K30=\"\",\"\",①選手情報入力!K30)","v":""},{"$f":"IF(①選手情報入力!M30=\"\",\"\",①選手情報入力!M30)","v":""},{"$f":"IF(①選手情報入力!N30=\"\",\"\",①選手情報入力!N30)","v":""}]
[22,{"$f":"IF(①選手情報入力!B31=\"\",\"\",①選手情報入力!B31)","v":""},{"$f":"IF(①選手情報入力!E31=\"\",\"\",①選手情報入力!E31)","v":""},{"$f":"IF(①選手情報入力!H31=\"\",\"\",①選手情報入力!H31)","v":""},{"$f":"IF(①選手情報入力!I31=\"\",\"\",①選手情報入力!I31)","v":""},{"$f":"IF(①選手情報入力!J31=\"\",\"\",①選手情報入力!J31)","v":""},{"$f":"IF(①選手情報入力!K31=\"\",\"\",①選手情報入力!K31)","v":""},{"$f":"IF(①選手情報入力!M31=\"\",\"\",①選手情報入力!M31)","v":""},{"$f":"IF(①選手情報入力!N31=\"\",\"\",①選手情報入力!N31)","v":""}]
[23,{"$f":"IF(①選手情報入力!B32=\"\",\"\",①選手情報入力!B32)","v":""},{"$f":"IF(①選手情報入力!E32=\"\",\"\",①選手情報入力!E32)","v":""},{"$f":"IF(①選手情報入力!H32=\"\",\"\",①選手情報入力!H32)","v":""},{"$f":"IF(①選手情報入力!I32=\"\",\"\",①選手情報入力!I32)","v":""},{"$f":"IF(①選手情報入力!J32=\"\",\"\",①選手情報入力!J32)","v":""},{"$f":"IF(①選手情報入力!K32=\"\",\"\",①選手情報入力!K32)","v":""},{"$f":"IF(①選手情報入力!M32=\"\",\"\",①選手情報入力!M32)","v":""},{"$f":"IF(①選手情報入力!N32=\"\",\"\",①選手情報入力!N32)","v":""}]
[24,{"$f":"IF(①選手情報入力!B33=\"\",\"\",①選手情報入力!B33)","v":""},{"$f":"IF(①選手情報入力!E33=\"\",\"\",①選手情報入力!E33)","v":""},{"$f":"IF(①選手情報入力!H33=\"\",\"\",①選手情報入力!H33)","v":""},{"$f":"IF(①選手情報入力!I33=\"\",\"\",①選手情報入力!I33)","v":""},{"$f":"IF(①選手情報入力!J33=\"\",\"\",①選手情報入力!J33)","v":""},{"$f":"IF(①選手情報入力!K33=\"\",\"\",①選手情報入力!K33)","v":""},{"$f":"IF(①選手情報入力!M33=\"\",\"\",①選手情報入力!M33)","v":""},{"$f":"IF(①選手情報入力!N33=\"\",\"\",①選手情報入力!N33)","v":""}]
[25,{"$f":"IF(①選手情報入力!B34=\"\",\"\",①選手情報入力!B34)","v":""},{"$f":"IF(①選手情報入力!E34=\"\",\"\",①選手情報入力!E34)","v":""},{"$f":"IF(①選手情報入力!H34=\"\",\"\",①選手情報入力!H34)","v":""},{"$f":"IF(①選手情報入力!I34=\"\",\"\",①選手情報入力!I34)","v":""},{"$f":"IF(①選手情報入力!J34=\"\",\"\",①選手情報入力!J34)","v":""},{"$f":"IF(①選手情報入力!K34=\"\",\"\",①選手情報入力!K34)","v":""},{"$f":"IF(①選手情報入力!M34=\"\",\"\",①選手情報入力!M34)","v":""},{"$f":"IF(①選手情報入力!N34=\"\",\"\",①選手情報入力!N34)","v":""}]
[26,{"$f":"IF(①選手情報入力!B35=\"\",\"\",①選手情報入力!B35)","v":""},{"$f":"IF(①選手情報入力!E35=\"\",\"\",①選手情報入力!E35)","v":""},{"$f":"IF(①選手情報入力!H35=\"\",\"\",①選手情報入力!H35)","v":""},{"$f":"IF(①選手情報入力!I35=\"\",\"\",①選手情報入力!I35)","v":""},{"$f":"IF(①選手情報入力!J35=\"\",\"\",①選手情報入力!J35)","v":""},{"$f":"IF(①選手情報入力!K35=\"\",\"\",①選手情報入力!K35)","v":""},{"$f":"IF(①選手情報入力!M35=\"\",\"\",①選手情報入力!M35)","v":""},{"$f":"IF(①選手情報入力!N35=\"\",\"\",①選手情報入力!N35)","v":""}]
[27,{"$f":"IF(①選手情報入力!B36=\"\",\"\",①選手情報入力!B36)","v":""},{"$f":"IF(①選手情報入力!E36=\"\",\"\",①選手情報入力!E36)","v":""},{"$f":"IF(①選手情報入力!H36=\"\",\"\",①選手情報入力!H36)","v":""},{"$f":"IF(①選手情報入力!I36=\"\",\"\",①選手情報入力!I36)","v":""},{"$f":"IF(①選手情報入力!J36=\"\",\"\",①選手情報入力!J36)","v":""},{"$f":"IF(①選手情報入力!K36=\"\",\"\",①選手情報入力!K36)","v":""},{"$f":"IF(①選手情報入力!M36=\"\",\"\",①選手情報入力!M36)","v":""},{"$f":"IF(①選手情報入力!N36=\"\",\"\",①選手情報入力!N36)","v":""}]
[28,{"$f":"IF(①選手情報入力!B37=\"\",\"\",①選手情報入力!B37)","v":""},{"$f":"IF(①選手情報入力!E37=\"\",\"\",①選手情報入力!E37)","v":""},{"$f":"IF(①選手情報入力!H37=\"\",\"\",①選手情報入力!H37)","v":""},{"$f":"IF(①選手情報入力!I37=\"\",\"\",①選手情報入力!I37)","v":""},{"$f":"IF(①選手情報入力!J37=\"\",\"\",①選手情報入力!J37)","v":""},{"$f":"IF(①選手情報入力!K37=\"\",\"\",①選手情報入力!K37)","v":""},{"$f":"IF(①選手情報入力!M37=\"\",\"\",①選手情報入力!M37)","v":""},{"$f":"IF(①選手情報入力!N37=\"\",\"\",①選手情報入力!N37)","v":""}]
[29,{"$f":"IF(①選手情報入力!B38=\"\",\"\",①選手情報入力!B38)","v":""},{"$f":"IF(①選手情報入力!E38=\"\",\"\",①選手情報入力!E38)","v":""},{"$f":"IF(①選手情報入力!H38=\"\",\"\",①選手情報入力!H38)","v":""},{"$f":"IF(①選手情報入力!I38=\"\",\"\",①選手情報入力!I38)","v":""},{"$f":"IF(①選手情報入力!J38=\"\",\"\",①選手情報入力!J38)","v":""},{"$f":"IF(①選手情報入力!K38=\"\",\"\",①選手情報入力!K38)","v":""},{"$f":"IF(①選手情報入力!M38=\"\",\"\",①選手情報入力!M38)","v":""},{"$f":"IF(①選手情報入力!N38=\"\",\"\",①選手情報入力!N38)","v":""}]
[30,{"$f":"IF(①選手情報入力!B39=\"\",\"\",①選手情報入力!B39)","v":""},{"$f":"IF(①選手情報入力!E39=\"\",\"\",①選手情報入力!E39)","v":""},{"$f":"IF(①選手情報入力!H39=\"\",\"\",①選手情報入力!H39)","v":""},{"$f":"IF(①選手情報入力!I39=\"\",\"\",①選手情報入力!I39)","v":""},{"$f":"IF(①選手情報入力!J39=\"\",\"\",①選手情報入力!J39)","v":""},{"$f":"IF(①選手情報入力!K39=\"\",\"\",①選手情報入力!K39)","v":""},{"$f":"IF(①選手情報入力!M39=\"\",\"\",①選手情報入力!M39)","v":""},{"$f":"IF(①選手情報入力!N39=\"\",\"\",①選手情報入力!N39)","v":""}]
[31,{"$f":"IF(①選手情報入力!B40=\"\",\"\",①選手情報入力!B40)","v":""},{"$f":"IF(①選手情報入力!E40=\"\",\"\",①選手情報入力!E40)","v":""},{"$f":"IF(①選手情報入力!H40=\"\",\"\",①選手情報入力!H40)","v":""},{"$f":"IF(①選手情報入力!I40=\"\",\"\",①選手情報入力!I40)","v":""},{"$f":"IF(①選手情報入力!J40=\"\",\"\",①選手情報入力!J40)","v":""},{"$f":"IF(①選手情報入力!K40=\"\",\"\",①選手情報入力!K40)","v":""},{"$f":"IF(①選手情報入力!M40=\"\",\"\",①選手情報入力!M40)","v":""},{"$f":"IF(①選手情報入力!N40=\"\",\"\",①選手情報入力!N40)","v":""}]
[32,{"$f":"IF(①選手情報入力!B41=\"\",\"\",①選手情報入力!B41)","v":""},{"$f":"IF(①選手情報入力!E41=\"\",\"\",①選手情報入力!E41)","v":""},{"$f":"IF(①選手情報入力!H41=\"\",\"\",①選手情報入力!H41)","v":""},{"$f":"IF(①選手情報入力!I41=\"\",\"\",①選手情報入力!I41)","v":""},{"$f":"IF(①選手情報入力!J41=\"\",\"\",①選手情報入力!J41)","v":""},{"$f":"IF(①選手情報入力!K41=\"\",\"\",①選手情報入力!K41)","v":""},{"$f":"IF(①選手情報入力!M41=\"\",\"\",①選手情報入力!M41)","v":""},{"$f":"IF(①選手情報入力!N41=\"\",\"\",①選手情報入力!N41)","v":""}]
[33,{"$f":"IF(①選手情報入力!B42=\"\",\"\",①選手情報入力!B42)","v":""},{"$f":"IF(①選手情報入力!E42=\"\",\"\",①選手情報入力!E42)","v":""},{"$f":"IF(①選手情報入力!H42=\"\",\"\",①選手情報入力!H42)","v":""},{"$f":"IF(①選手情報入力!I42=\"\",\"\",①選手情報入力!I42)","v":""},{"$f":"IF(①選手情報入力!J42=\"\",\"\",①選手情報入力!J42)","v":""},{"$f":"IF(①選手情報入力!K42=\"\",\"\",①選手情報入力!K42)","v":""},{"$f":"IF(①選手情報入力!M42=\"\",\"\",①選手情報入力!M42)","v":""},{"$f":"IF(①選手情報入力!N42=\"\",\"\",①選手情報入力!N42)","v":""}]
[34,{"$f":"IF(①選手情報入力!B43=\"\",\"\",①選手情報入力!B43)","v":""},{"$f":"IF(①選手情報入力!E43=\"\",\"\",①選手情報入力!E43)","v":""},{"$f":"IF(①選手情報入力!H43=\"\",\"\",①選手情報入力!H43)","v":""},{"$f":"IF(①選手情報入力!I43=\"\",\"\",①選手情報入力!I43)","v":""},{"$f":"IF(①選手情報入力!J43=\"\",\"\",①選手情報入力!J43)","v":""},{"$f":"IF(①選手情報入力!K43=\"\",\"\",①選手情報入力!K43)","v":""},{"$f":"IF(①選手情報入力!M43=\"\",\"\",①選手情報入力!M43)","v":""},{"$f":"IF(①選手情報入力!N43=\"\",\"\",①選手情報入力!N43)","v":""}]
[35,{"$f":"IF(①選手情報入力!B44=\"\",\"\",①選手情報入力!B44)","v":""},{"$f":"IF(①選手情報入力!E44=\"\",\"\",①選手情報入力!E44)","v":""},{"$f":"IF(①選手情報入力!H44=\"\",\"\",①選手情報入力!H44)","v":""},{"$f":"IF(①選手情報入力!I44=\"\",\"\",①選手情報入力!I44)","v":""},{"$f":"IF(①選手情報入力!J44=\"\",\"\",①選手情報入力!J44)","v":""},{"$f":"IF(①選手情報入力!K44=\"\",\"\",①選手情報入力!K44)","v":""},{"$f":"IF(①選手情報入力!M44=\"\",\"\",①選手情報入力!M44)","v":""},{"$f":"IF(①選手情報入力!N44=\"\",\"\",①選手情報入力!N44)","v":""}]
[36,{"$f":"IF(①選手情報入力!B45=\"\",\"\",①選手情報入力!B45)","v":""},{"$f":"IF(①選手情報入力!E45=\"\",\"\",①選手情報入力!E45)","v":""},{"$f":"IF(①選手情報入力!H45=\"\",\"\",①選手情報入力!H45)","v":""},{"$f":"IF(①選手情報入力!I45=\"\",\"\",①選手情報入力!I45)","v":""},{"$f":"IF(①選手情報入力!J45=\"\",\"\",①選手情報入力!J45)","v":""},{"$f":"IF(①選手情報入力!K45=\"\",\"\",①選手情報入力!K45)","v":""},{"$f":"IF(①選手情報入力!M45=\"\",\"\",①選手情報入力!M45)","v":""},{"$f":"IF(①選手情報入力!N45=\"\",\"\",①選手情報入力!N45)","v":""}]
[37,{"$f":"IF(①選手情報入力!B46=\"\",\"\",①選手情報入力!B46)","v":""},{"$f":"IF(①選手情報入力!E46=\"\",\"\",①選手情報入力!E46)","v":""},{"$f":"IF(①選手情報入力!H46=\"\",\"\",①選手情報入力!H46)","v":""},{"$f":"IF(①選手情報入力!I46=\"\",\"\",①選手情報入力!I46)","v":""},{"$f":"IF(①選手情報入力!J46=\"\",\"\",①選手情報入力!J46)","v":""},{"$f":"IF(①選手情報入力!K46=\"\",\"\",①選手情報入力!K46)","v":""},{"$f":"IF(①選手情報入力!M46=\"\",\"\",①選手情報入力!M46)","v":""},{"$f":"IF(①選手情報入力!N46=\"\",\"\",①選手情報入力!N46)","v":""}]
[38,{"$f":"IF(①選手情報入力!B47=\"\",\"\",①選手情報入力!B47)","v":""},{"$f":"IF(①選手情報入力!E47=\"\",\"\",①選手情報入力!E47)","v":""},{"$f":"IF(①選手情報入力!H47=\"\",\"\",①選手情報入力!H47)","v":""},{"$f":"IF(①選手情報入力!I47=\"\",\"\",①選手情報入力!I47)","v":""},{"$f":"IF(①選手情報入力!J47=\"\",\"\",①選手情報入力!J47)","v":""},{"$f":"IF(①選手情報入力!K47=\"\",\"\",①選手情報入力!K47)","v":""},{"$f":"IF(①選手情報入力!M47=\"\",\"\",①選手情報入力!M47)","v":""},{"$f":"IF(①選手情報入力!N47=\"\",\"\",①選手情報入力!N47)","v":""}]
[39,{"$f":"IF(①選手情報入力!B48=\"\",\"\",①選手情報入力!B48)","v":""},{"$f":"IF(①選手情報入力!E48=\"\",\"\",①選手情報入力!E48)","v":""},{"$f":"IF(①選手情報入力!H48=\"\",\"\",①選手情報入力!H48)","v":""},{"$f":"IF(①選手情報入力!I48=\"\",\"\",①選手情報入力!I48)","v":""},{"$f":"IF(①選手情報入力!J48=\"\",\"\",①選手情報入力!J48)","v":""},{"$f":"IF(①選手情報入力!K48=\"\",\"\",①選手情報入力!K48)","v":""},{"$f":"IF(①選手情報入力!M48=\"\",\"\",①選手情報入力!M48)","v":""},{"$f":"IF(①選手情報入力!N48=\"\",\"\",①選手情報入力!N48)","v":""}]
[40,{"$f":"IF(①選手情報入力!B49=\"\",\"\",①選手情報入力!B49)","v":""},{"$f":"IF(①選手情報入力!E49=\"\",\"\",①選手情報入力!E49)","v":""},{"$f":"IF(①選手情報入力!H49=\"\",\"\",①選手情報入力!H49)","v":""},{"$f":"IF(①選手情報入力!I49=\"\",\"\",①選手情報入力!I49)","v":""},{"$f":"IF(①選手情報入力!J49=\"\",\"\",①選手情報入力!J49)","v":""},{"$f":"IF(①選手情報入力!K49=\"\",\"\",①選手情報入力!K49)","v":""},{"$f":"IF(①選手情報入力!M49=\"\",\"\",①選手情報入力!M49)","v":""},{"$f":"IF(①選手情報入力!N49=\"\",\"\",①選手情報入力!N49)","v":""}]

{"sheet":"⑤個人種目個票","index":7,"n_rows":838,"n_cols":25,"rows_kept":838,"cut":false,"hidden":false,"merged":[[831,23,832,23],[835,10,835,11],[835,23,835,24],[836,10,836,11],[836,23,836,24],[837,10,837,11],[837,23,837,24],[831,1,832,4],[831,5,832,5],[831,6,832,7],[831,8,832,9],[831,10,832,10],[831,14,832,17],[831,18,832,18],[831,19,832,20],[831,21,832,22],[827,0,830,0],[827,1,827,4],[827,5,827,6],[827,7,827,10],[827,13,830,13],[827,14,827,17],[827,18,827,19],[827,20,827,23],[828,1,830,4],[828,14,830,17],[829,5,830,5],[829,6,830,7],[829,8,830,9],[829,10,830,10],[829,18,830,18],[829,19,830,20],[829,21,830,22],[829,23,830,23],[821,1,821,2],[821,3,823,6],[821,7,826,10],[821,14,821,15],[821,16,823,19],[821,20,826,23],[822,1,823,2],[822,14,823,15],[824,3,824,6],[824,16,824,19],[825,0,826,1],[825,2,826,2],[825,3,826,6],[825,13,826,14],[825,15,826,15],[825,16,826,19],[810,23,811,23],[814,10,814,11],[814,23,814,24],[815,10,815,11],[815,23,815,24],[816,10,816,11],[816,23,816,24],[819,0,819,10],[819,13,819,23],[810,1,811,4],[810,5,811,5],[810,6,811,7],[810,8,811,9],[810,10,811,10],[810,14,811,17],[810,18,811,18],[810,19,811,20],[810,21,811,22],[806,0,809,0],[806,1,806,4],[806,5,806,6],[806,7,806,10],[806,13,809,13],[806,14,806,17],[806,18,806,19],[806,20,806,23],[807,1,809,4],[807,14,809,17],[808,5,809,5],[808,6,809,7],[808,8,809,9],[808,10,809,10],[808,18,809,18],[808,19,809,20],[808,21,809,22],[808,23,809,23],[800,1,800,2],[800,3,802,6],[800,7,805,10],[800,14,800,15],[800,16,802,19],[800,20,805,23],[801,1,802,2],[801,14,802,15],[803,3,803,6],[803,16,803,19],[804,0,805,1],[804,2,805,2],[804,3,805,6],[804,13,805,14],[804,15,805,15],[804,16,805,19],[789,23,790,23],[793,10,793,11],[793,23,793,24],[794,10,794,11],[794,23,794,24],[795,10,795,11],[795,23,795,24],[798,0,798,10],[798,13,798,23],[789,1,790,4],[789,5,790,5],[789,6,790,7],[789,8,790,9],[789,10,790,10],[789,14,790,17],[789,18,790,18],[789,19,790,20],[789,21,790,22],[785,0,788,0],[785,1,785,4],[785,5,785,6],[785,7,785,10],[785,13,788,13],[785,14,785,17],[785,18,785,19],[785,20,785,23],[786,1,788,4],[786,14,788,17],[787,5,788,5],[787,6,788,7],[787,8,788,9],[787,10,788,10],[787,18,788,18],[787,19,788,20],[787,21,788,22],[787,23,788,23],[779,1,779,2],[779,3,781,6],[779,7,784,10],[779,14,779,15],[779,16,781,19],[779,20,784,23],[780,1,781,2],[780,14,781,15],[782,3,782,6],[782,16,782,19],[783,0,784,1],[783,2,784,2],[783,3,784,6],[783,13,784,14],[783,15,784,15],[783,16,784,19],[768,23,769,23],[772,10,772,11],[772,23,772,24],[773,10,773,11],[773,23,773,24],[774,10,774,11],[774,23,774,24],[777,0,777,10],[777,13,777,23],[768,1,769,4],[768,5,769,5],[768,6,769,7],[768,8,769,9],[768,10,769,10],[768,14,769,17],[768,18,769,18],[768,19,769,20],[768,21,769,22],[764,0,767,0],[764,1,764,4],[764,5,764,6],[764,7,764,10],[764,13,767,13],[764,14,764,17],[764,18,764,19],[764,20,764,23],[765,1,767,4],[765,14,767,17],[766,5,767,5],[766,6,767,7],[766,8,767,9],[766,10,767,10],[766,18,767,18],[766,19,767,20],[766,21,767,22],[766,23,767,23],[758,1,758,2],[758,3,760,6],[758,7,763,10],[758,14,758,15],[758,16,760,19],[758,20,763,23],[759,1,760,2],[759,14,760,15],[761,3,761,6],[761,16,761,19],[762,0,763,1],[762,2,763,2],[762,3,763,6],[762,13,763,14],[762,15,763,15],[762,16,763,19],[747,23,748,23],[751,10,751,11],[751,23,751,24],[752,10,752,11],[752,23,752,24],[753,10,753,11],[753,23,753,24],[756,0,756,10],[756,13,756,23],[747,1,748,4],[747,5,748,5],[747,6,748,7],[747,8,748,9],[747,10,748,10],[747,14,748,17],[747,18,748,18],[747,19,748,20],[747,21,748,22],[743,0,746,0],[743,1,743,4],[743,5,743,6],[743,7,743,10],[743,13,746,13],[743,14,743,17],[743,18,743,19],[743,20,743,23],[744,1,746,4],[744,14,746,17],[745,5,746,5],[745,6,746,7],[745,8,746,9],[745,10,746,10],[745,18,746,18],[745,19,746,20],[745,21,746,22],[745,23,746,23],[737,1,737,2],[737,3,739,6],[737,7,742,10],[737,14,737,15],[737,16,739,19],[737,20,742,23],[738,1,739,2],[738,14,739,15],[740,3,740,6],[740,16,740,19],[741,0,742,1],[741,2,742,2],[741,3,742,6],[741,13,742,14],[741,15,742,15],[741,16,742,19],[726,23,727,23],[730,10,730,11],[730,23,730,24],[731,10,731,11],[731,23,731,24],[732,10,732,11],[732,23,732,24],[735,0,735,10],[735,13,735,23],[726,1,727,4],[726,5,727,5],[726,6,727,7],[726,8,727,9],[726,10,727,10],[726,14,727,17],[726,18,727,18],[726,19,727,20],[726,21,727,22],[722,0,725,0],[722,1,722,4],[722,5,722,6],[722,7,722,10],[722,13,725,13],[722,14,722,17],[722,18,722,19],[722,20,722,23],[723,1,725,4],[723,14,725,17],[724,5,725,5],[724,6,725,7],[724,8,725,9],[724,10,725,10],[724,18,725,18],[724,19,725,20],[724,21,725,22],[724,23,725,23],[716,1,716,2],[716,3,718,6],[716,7,721,10],[716,14,716,15],[716,16,718,19],[716,20,721,23],[717,1,718,2],[717,14,718,15],[719,3,719,6],[719,16,719,19],[720,0,721,1],[720,2,721,2],[720,3,721,6],[720,13,721,14],[720,15,721,15],[720,16,721,19],[705,23,706,23],[709,10,709,11],[709,23,709,24],[710,10,710,11],[710,23,710,24],[711,10,711,11],[711,23,711,24],[714,0,714,10],[714,13,714,23],[705,1,706,4],[705,5,706,5],[705,6,706,7],[705,8,706,9],[705,10,706,10],[705,14,706,17],[705,18,706,18],[705,19,706,20],[705,21,706,22],[701,0,704,0],[701,1,701,4],[701,5,701,6],[701,7,701,10],[701,13,704,13],[701,14,701,17],[701,18,701,19],[701,20,701,23],[702,1,704,4],[702,14,704,17],[703,5,704,5],[703,6,704,7],[703,8,704,9],[703,10,704,10],[703,18,704,18],[703,19,704,20],[703,21,704,22],[703,23,704,23],[695,1,695,2],[695,3,697,6],[695,7,700,10],[695,14,695,15],[695,16,697,19],[695,20,700,23],[696,1,697,2],[696,14,697,15],[698,3,698,6],[698,16,698,19],[699,0,700,1],[699,2,700,2],[699,3,700,6],[699,13,700,14],[699,15,700,15],[699,16,700,19],[684,23,685,23],[688,10,688,11],[688,23,688,24],[689,10,689,11],[689,23,689,24],[690,10,690,11],[690,23,690,24],[693,0,693,10],[693,13,693,23],[684,1,685,4],[684,5,685,5],[684,6,685,7],[684,8,685,9],[684,10,685,10],[684,14,685,17],[684,18,685,18],[684,19,685,20],[684,21,685,22],[680,0,683,0],[680,1,680,4],[680,5,680,6],[680,7,680,10],[680,13,683,13],[680,14,680,17],[680,18,680,19],[680,20,680,23],[681,1,683,4],[681,14,683,17],[682,5,683,5],[682,6,683,7],[682,8,683,9],[682,10,683,10],[682,18,683,18],[682,19,683,20],[682,21,683,22],[682,23,683,23],[674,1,674,2],[674,3,676,6],[674,7,679,10],[674,14,674,15],[674,16,676,19],[674,20,679,23],[675,1,676,2],[675,14,676,15],[677,3,677,6],[677,16,677,19],[678,0,679,1],[678,2,679,2],[678,3,679,6],[678,13,679,14],[678,15,679,15],[678,16,679,19],[663,23,664,23],[667,10,667,11],[667,23,667,24],[668,10,668,11],[668,23,668,24],[669,10,669,11],[669,23,669,24],[672,0,672,10],[672,13,672,23],[663,1,664,4],[663,5,664,5],[663,6,664,7],[663,8,664,9],[663,10,664,10],[663,14,664,17],[663,18,664,18],[663,19,664,20],[663,21,664,22],[659,0,662,0],[659,1,659,4],[659,5,659,6],[659,7,659,10],[659,13,662,13],[659,14,659,17],[659,18,659,19],[659,20,659,23],[660,1,662,4],[660,14,662,17],[661,5,662,5],[661,6,662,7],[661,8,662,9],[661,10,662,10],[661,18,662,18],[661,19,662,20],[661,21,662,22],[661,23,662,23],[653,1,653,2],[653,3,655,6],[653,7,658,10],[653,14,653,15],[653,16,655,19],[653,20,658,23],[654,1,655,2],[654,14,655,15],[656,3,656,6],[656,16,656,19],[657,0,658,1],[657,2,658,2],[657,3,658,6],[657,13,658,14],[657,15,658,15],[657,16,658,19],[642,23,643,23],[646,10,646,11],[646,23,646,24],[647,10,647,11],[647,23,647,24],[648,10,648,11],[648,23,648,24],[651,0,651,10],[651,13,651,23],[642,1,643,4],[642,5,643,5],[642,6,643,7],[642,8,643,9],[642,10,643,10],[642,14,643,17],[642,18,643,18],[642,19,643,20],[642,21,643,22],[638,0,641,0],[638,1,638,4],[638,5,638,6],[638,7,638,10],[638,13,641,13],[638,14,638,17],[638,18,638,19],[638,20,638,23],[639,1,641,4],[639,14,641,17],[640,5,641,5],[640,6,641,7],[640,8,641,9],[640,10,641,10],[640,18,641,18],[640,19,641,20],[640,21,641,22],[640,23,641,23],[632,1,632,2],[632,3,634,6],[632,7,637,10],[632,14,632,15],[632,16,634,19],[632,20,637,23],[633,1,634,2],[633,14,634,15],[635,3,635,6],[635,16,635,19],[636,0,637,1],[636,2,637,2],[636,3,637,6],[636,13,637,14],[636,15,637,15],[636,16,637,19],[621,23,622,23],[625,10,625,11],[625,23,625,24],[626,10,626,11],[626,23,626,24],[627,10,627,11],[627,23,627,24],[630,0,630,10],[630,13,630,23],[621,1,622,4],[621,5,622,5],[621,6,622,7],[621,8,622,9],[621,10,622,10],[621,14,622,17],[621,18,622,18],[621,19,622,20],[621,21,622,22],[617,0,620,0],[617,1,617,4],[617,5,617,6],[617,7,617,10],[617,13,620,13],[617,14,617,17],[617,18,617,19],[617,20,617,23],[618,1,620,4],[618,14,620,17],[619,5,620,5],[619,6,620,7],[619,8,620,9],[619,10,620,10],[619,18,620,18],[619,19,620,20],[619,21,620,22],[619,23,620,23],[611,1,611,2],[611,3,613,6],[611,7,616,10],[611,14,611,15],[611,16,613,19],[611,20,616,23],[612,1,613,2],[612,14,613,15],[614,3,614,6],[614,16,614,19],[615,0,616,1],[615,2,616,2],[615,3,616,6],[615,13,616,14],[615,15,616,15],[615,16,616,19],[600,23,601,23],[604,10,604,11],[604,23,604,24],[605,10,605,11],[605,23,605,24],[606,10,606,11],[606,23,606,24],[609,0,609,10],[609,13,609,23],[600,1,601,4],[600,5,601,5],[600,6,601,7],[600,8,601,9],[600,10,601,10],[600,14,601,17],[600,18,601,18],[600,19,601,20],[600,21,601,22],[596,0,599,0],[596,1,596,4],[596,5,596,6],[596,7,596,10],[596,13,599,13],[596,14,596,17],[596,18,596,19],[596,20,596,23],[597,1,599,4],[597,14,599,17],[598,5,599,5],[598,6,599,7],[598,8,599,9],[598,10,599,10],[598,18,599,18],[598,19,599,20],[598,21,599,22],[598,23,599,23],[590,1,590,2],[590,3,592,6],[590,7,595,10],[590,14,590,15],[590,16,592,19],[590,20,595,23],[591,1,592,2],[591,14,592,15],[593,3,593,6],[593,16,593,19],[594,0,595,1],[594,2,595,2],[594,3,595,6],[594,13,595,14],[594,15,595,15],[594,16,595,19],[579,23,580,23],[583,10,583,11],[583,23,583,24],[584,10,584,11],[584,23,584,24],[585,10,585,11],[585,23,585,24],[588,0,588,10],[588,13,588,23],[579,1,580,4],[579,5,580,5],[579,6,580,7],[579,8,580,9],[579,10,580,10],[579,14,580,17],[579,18,580,18],[579,19,580,20],[579,21,580,22],[575,0,578,0],[575,1,575,4],[575,5,575,6],[575,7,575,10],[575,13,578,13],[575,14,575,17],[575,18,575,19],[575,20,575,23],[576,1,578,4],[576,14,578,17],[577,5,578,5],[577,6,578,7],[577,8,578,9],[577,10,578,10],[577,18,578,18],[577,19,578,20],[577,21,578,22],[577,23,578,23],[569,1,569,2],[569,3,571,6],[569,7,574,10],[569,14,569,15],[569,16,571,19],[569,20,574,23],[570,1,571,2],[570,14,571,15],[572,3,572,6],[572,16,572,19],[573,0,574,1],[573,2,574,2],[573,3,574,6],[573,13,574,14],[573,15,574,15],[573,16,574,19],[558,23,559,23],[562,10,562,11],[562,23,562,24],[563,10,563,11],[563,23,563,24],[564,10,564,11],[564,23,564,24],[567,0,567,10],[567,13,567,23],[558,1,559,4],[558,5,559,5],[558,6,559,7],[558,8,559,9],[558,10,559,10],[558,14,559,17],[558,18,559,18],[558,19,559,20],[558,21,559,22],[554,0,557,0],[554,1,554,4],[554,5,554,6],[554,7,554,10],[554,13,557,13],[554,14,554,17],[554,18,554,19],[554,20,554,23],[555,1,557,4],[555,14,557,17],[556,5,557,5],[556,6,557,7],[556,8,557,9],[556,10,557,10],[556,18,557,18],[556,19,557,20],[556,21,557,22],[556,23,557,23],[548,1,548,2],[548,3,550,6],[548,7,553,10],[548,14,548,15],[548,16,550,19],[548,20,553,23],[549,1,550,2],[549,14,550,15],[551,3,551,6],[551,16,551,19],[552,0,553,1],[552,2,553,2],[552,3,553,6],[552,13,553,14],[552,15,553,15],[552,16,553,19],[537,23,538,23],[541,10,541,11],[541,23,541,24],[542,10,542,11],[542,23,542,24],[543,10,543,11],[543,23,543,24],[546,0,546,10],[546,13,546,23],[537,1,538,4],[537,5,538,5],[537,6,538,7],[537,8,538,9],[537,10,538,10],[537,14,538,17],[537,18,538,18],[537,19,538,20],[537,21,538,22],[533,0,536,0],[533,1,533,4],[533,5,533,6],[533,7,533,10],[533,13,536,13],[533,14,533,17],[533,18,533,19],[533,20,533,23],[534,1,536,4],[534,14,536,17],[535,5,536,5],[535,6,536,7],[535,8,536,9],[535,10,536,10],[535,18,536,18],[535,19,536,20],[535,21,536,22],[535,23,536,23],[527,1,527,2],[527,3,529,6],[527,7,532,10],[527,14,527,15],[527,16,529,19],[527,20,532,23],[528,1,529,2],[528,14,529,15],[530,3,530,6],[530,16,530,19],[531,0,532,1],[531,2,532,2],[531,3,532,6],[531,13,532,14],[531,15,532,15],[531,16,532,19],[516,23,517,23],[520,10,520,11],[520,23,520,24],[521,10,521,11],[521,23,521,24],[522,10,522,11],[522,23,522,24],[525,0,525,10],[525,13,525,23],[516,1,517,4],[516,5,517,5],[516,6,517,7],[516,8,517,9],[516,10,517,10],[516,14,517,17],[516,18,517,18],[516,19,517,20],[516,21,517,22],[512,0,515,0],[512,1,512,4],[512,5,512,6],[512,7,512,10],[512,13,515,13],[512,14,512,17],[512,18,512,19],[512,20,512,23],[513,1,515,4],[513,14,515,17],[514,5,515,5],[514,6,515,7],[514,8,515,9],[514,10,515,10],[514,18,515,18],[514,19,515,20],[514,21,515,22],[514,23,515,23],[506,1,506,2],[506,3,508,6],[506,7,511,10],[506,14,506,15],[506,16,508,19],[506,20,511,23],[507,1,508,2],[507,14,508,15],[509,3,509,6],[509,16,509,19],[510,0,511,1],[510,2,511,2],[510,3,511,6],[510,13,511,14],[510,15,511,15],[510,16,511,19],[495,23,496,23],[499,10,499,11],[499,23,499,24],[500,10,500,11],[500,23,500,24],[501,10,501,11],[501,23,501,24],[504,0,504,10],[504,13,504,23],[495,1,496,4],[495,5,496,5],[495,6,496,7],[495,8,496,9],[495,10,496,10],[495,14,496,17],[495,18,496,18],[495,19,496,20],[495,21,496,22],[491,0,494,0],[491,1,491,4],[491,5,491,6],[491,7,491,10],[491,13,494,13],[491,14,491,17],[491,18,491,19],[491,20,491,23],[492,1,494,4],[492,14,494,17],[493,5,494,5],[493,6,494,7],[493,8,494,9],[493,10,494,10],[493,18,494,18],[493,19,494,20],[493,21,494,22],[493,23,494,23],[485,1,485,2],[485,3,487,6],[485,7,490,10],[485,14,485,15],[485,16,487,19],[485,20,490,23],[486,1,487,2],[486,14,487,15],[488,3,488,6],[488,16,488,19],[489,0,490,1],[489,2,490,2],[489,3,490,6],[489,13,490,14],[489,15,490,15],[489,16,490,19],[474,23,475,23],[478,10,478,11],[478,23,478,24],[479,10,479,11],[479,23,479,24],[480,10,480,11],[480,23,480,24],[483,0,483,10],[483,13,483,23],[474,1,475,4],[474,5,475,5],[474,6,475,7],[474,8,475,9],[474,10,475,10],[474,14,475,17],[474,18,475,18],[474,19,475,20],[474,21,475,22],[470,0,473,0],[470,1,470,4],[470,5,470,6],[470,7,470,10],[470,13,473,13],[470,14,470,17],[470,18,470,19],[470,20,470,23],[471,1,473,4],[471,14,473,17],[472,5,473,5],[472,6,473,7],[472,8,473,9],[472,10,473,10],[472,18,473,18],[472,19,473,20],[472,21,473,22],[472,23,473,23],[464,1,464,2],[464,3,466,6],[464,7,469,10],[464,14,464,15],[464,16,466,19],[464,20,469,23],[465,1,466,2],[465,14,466,15],[467,3,467,6],[467,16,467,19],[468,0,469,1],[468,2,469,2],[468,3,469,6],[468,13,469,14],[468,15,469,15],[468,16,469,19],[453,23,454,23],[457,10,457,11],[457,23,457,24],[458,10,458,11],[458,23,458,24],[459,10,459,11],[459,23,459,24],[462,0,462,10],[462,13,462,23],[453,1,454,4],[453,5,454,5],[453,6,454,7],[453,8,454,9],[453,10,454,10],[453,14,454,17],[453,18,454,18],[453,19,454,20],[453,21,454,22],[449,0,452,0],[449,1,449,4],[449,5,449,6],[449,7,449,10],[449,13,452,13],[449,14,449,17],[449,18,449,19],[449,20,449,23],[450,1,452,4],[450,14,452,17],[451,5,452,5],[451,6,452,7],[451,8,452,9],[451,10,452,10],[451,18,452,18],[451,19,452,20],[451,21,452,22],[451,23,452,23],[443,1,443,2],[443,3,445,6],[443,7,448,10],[443,14,443,15],[443,16,445,19],[443,20,448,23],[444,1,445,2],[444,14,445,15],[446,3,446,6],[446,16,446,19],[447,0,448,1],[447,2,448,2],[447,3,448,6],[447,13,448,14],[447,15,448,15],[447,16,448,19],[432,23,433,23],[436,10,436,11],[436,23,436,24],[437,10,437,11],[437,23,437,24],[438,10,438,11],[438,23,438,24],[441,0,441,10],[441,13,441,23],[432,1,433,4],[432,5,433,5],[432,6,433,7],[432,8,433,9],[432,10,433,10]],"merged_total":2080,"flags":["merged_cut"]}
["第76回愛知陸上競技選手権大会　個人申込票",null,null,null,null,null,null,null,null,null,null,1,null,"第76回愛知陸上競技選手権大会　個人申込票",null,null,null,null,null,null,null,null,null,null,1]
[null,null,null,"",null,null,null,null,null,"資格審査用",null,null,null,null,null,null,"",null,null,null,null,null,"資格審査用"]
[null,"性　　別",null,{"$f":"IF(①選手情報入力!J10=\"\",\"\",①選手情報入力!J10)","v":""},null,null,null,{"$f":"IF(①選手情報入力!P10=\"\",\"\",①選手情報入力!P10)","v":""},null,null,null,null,null,null,"性　　別",null,{"$f":"IF(①選手情報入力!M10=\"\",\"\",①選手情報入力!M10)","v":""},null,null,null,{"$f":"IF(①選手情報入力!P10=\"\",\"\",①選手情報入力!P10)","v":""}]
["種  目",{"$f":"IF(①選手情報入力!$H$10=\"\",\"\",①選手情報入力!$H$10)","v":""},null,null,null,null,null,null,null,null,null,null,null,"種  目",{"$f":"IF(①選手情報入力!$H$10=\"\",\"\",①選手情報入力!$H$10)","v":""}]
[]
["ナンバー",null,"ﾌ ﾘ ｶﾞﾅ",{"$f":"IF(①選手情報入力!$F$10=\"\",\"\",①選手情報入力!$F$10)","v":""},null,null,null,null,null,null,null,null,null,"ナンバー",null,"ﾌ ﾘ ｶﾞﾅ",{"$f":"IF(①選手情報入力!$F$10=\"\",\"\",①選手情報入力!$F$10)","v":""}]
[{"$f":"IF(①選手情報入力!$B$10=\"\",\"\",①選手情報入力!$B$10)","v":""},null,"氏 名",{"$f":"IF(①選手情報入力!$E$10=\"\",\"\",①選手情報入力!$E$10)","v":""},null,null,null,null,null,null,null,null,null,{"$f":"IF(①選手情報入力!$B$10=\"\",\"\",①選手情報入力!$B$10)","v":""},null,"氏 名",{"$f":"IF(①選手情報入力!$E$10=\"\",\"\",①選手情報入力!$E$10)","v":""}]
[]
["出場資格\n取得大会","大　会　名",null,null,null,"加入団体名",null,{"$f":"②団体情報入力!$D$5","v":{"$error":"#N/A"}},null,null,null,null,null,"出場資格\n取得大会","大　会　名",null,null,null,"加入団体名",null,{"$f":"②団体情報入力!$D$5","v":{"$error":"#N/A"}}]
[null,null,null,null,null,"年.月.日","順 位",null,"記　録",null,"場  所",null,null,null,null,null,null,null,"年.月.日","順 位",null,"記　録",null,"場  所"]
[null,null,null,null,null,null,null,null,{"$f":"IF(①選手情報入力!K10=\"\",\"\",①選手情報入力!K10)","v":""},null,null,null,null,null,null,null,null,null,null,null,null,{"$f":"IF(①選手情報入力!N10=\"\",\"\",①選手情報入力!N10)","v":""}]
[]
["本 年 度",null,null,null,null,null,null,null,{"$f":"IF(①選手情報入力!L10=\"\",\"同上\",①選手情報入力!L10)","v":"同上"},null,null,null,null,"本 年 度",null,null,null,null,null,null,null,{"$f":"IF(①選手情報入力!O10=\"\",\"同上\",①選手情報入力!O10)","v":"同上"}]
["最高記録",null,null,null,null,null,null,null,null,null,null,null,null,"最高記録"]
["備　  考","※記入不要",null,null,null,null,null,null,null,null,null,null,null,"備　  考","※記入不要"]
[]
["※標準記録突破大会は、公認大会で、記録会は正式名称を記入。",null,null,null,null,null,null,null,null,null,"女子は",null,null,"※標準記録突破大会は、公認大会で、記録会は正式名称を記入。",null,null,null,null,null,null,null,null,null,"女子は"]
["※参加資格・記録等記入不備の場合、審査の対象としない。",null,null,null,null,null,null,null,null,null,"ここを",null,null,"※参加資格・記録等記入不備の場合、審査の対象としない。",null,null,null,null,null,null,null,null,null,"ここを"]
["※申込締切期日厳守。",null,null,null,null,null,null,null,null,null,"切り取る",null,null,"※申込締切期日厳守。",null,null,null,null,null,null,null,null,null,"切り取る"]
[]
[]
["第76回愛知陸上競技選手権大会　個人申込票",null,null,null,null,null,null,null,null,null,null,2,null,"第76回愛知陸上競技選手権大会　個人申込票",null,null,null,null,null,null,null,null,null,null,2]
[null,null,null,"",null,null,null,null,null,"資格審査用",null,null,null,null,null,null,"",null,null,null,null,null,"資格審査用"]
[null,"性　　別",null,{"$f":"IF(①選手情報入力!J11=\"\",\"\",①選手情報入力!J11)","v":""},null,null,null,{"$f":"IF(①選手情報入力!P11=\"\",\"\",①選手情報入力!P11)","v":""},null,null,null,null,null,null,"性　　別",null,{"$f":"IF(①選手情報入力!M11=\"\",\"\",①選手情報入力!M11)","v":""},null,null,null,{"$f":"IF(①選手情報入力!P11=\"\",\"\",①選手情報入力!P11)","v":""}]
["種  目",{"$f":"IF(①選手情報入力!$H$10=\"\",\"\",①選手情報入力!$H$10)","v":""},null,null,null,null,null,null,null,null,null,null,null,"種  目",{"$f":"IF(①選手情報入力!$H$10=\"\",\"\",①選手情報入力!$H$10)","v":""}]
[]
["ナンバー",null,"ﾌ ﾘ ｶﾞﾅ",{"$f":"IF(①選手情報入力!$F$11=\"\",\"\",①選手情報入力!$F$11)","v":""},null,null,null,null,null,null,null,null,null,"ナンバー",null,"ﾌ ﾘ ｶﾞﾅ",{"$f":"IF(①選手情報入力!$F$11=\"\",\"\",①選手情報入力!$F$11)","v":""}]
[{"$f":"IF(①選手情報入力!$B$10=\"\",\"\",①選手情報入力!$B$10)","v":""},null,"氏 名",{"$f":"IF(①選手情報入力!$E$11=\"\",\"\",①選手情報入力!$E$11)","v":""},null,null,null,null,null,null,null,null,null,{"$f":"IF(①選手情報入力!$B$10=\"\",\"\",①選手情報入力!$B$10)","v":""},null,"氏 名",{"$f":"IF(①選手情報入力!$E$11=\"\",\"\",①選手情報入力!$E$11)","v":""}]
[]
["出場資格\n取得大会","大　会　名",null,null,null,"加入団体名",null,{"$f":"②団体情報入力!$D$5","v":{"$error":"#N/A"}},null,null,null,null,null,"出場資格\n取得大会","大　会　名",null,null,null,"加入団体名",null,{"$f":"②団体情報入力!$D$5","v":{"$error":"#N/A"}}]
[null,null,null,null,null,"年.月.日","順 位",null,"記　録",null,"場  所",null,null,null,null,null,null,null,"年.月.日","順 位",null,"記　録",null,"場  所"]
[null,null,null,null,null,null,null,null,{"$f":"IF(①選手情報入力!K11=\"\",\"\",①選手情報入力!K11)","v":""},null,null,null,null,null,null,null,null,null,null,null,null,{"$f":"IF(①選手情報入力!N11=\"\",\"\",①選手情報入力!N11)","v":""}]
[]
["本 年 度",null,null,null,null,null,null,null,{"$f":"IF(①選手情報入力!L11=\"\",\"同上\",①選手情報入力!L11)","v":"同上"},null,null,null,null,"本 年 度",null,null,null,null,null,null,null,{"$f":"IF(①選手情報入力!O11=\"\",\"同上\",①選手情報入力!O11)","v":"同上"}]
["最高記録",null,null,null,null,null,null,null,null,null,null,null,null,"最高記録"]
["備　  考","※記入不要",null,null,null,null,null,null,null,null,null,null,null,"備　  考","※記入不要"]
[]
["※標準記録突破大会は、公認大会で、記録会は正式名称を記入。",null,null,null,null,null,null,null,null,null,"女子は",null,null,"※標準記録突破大会は、公認大会で、記録会は正式名称を記入。",null,null,null,null,null,null,null,null,null,"女子は"]
["※参加資格・記録等記入不備の場合、審査の対象としない。",null,null,null,null,null,null,null,null,null,"ここを",null,null,"※参加資格・記録等記入不備の場合、審査の対象としない。",null,null,null,null,null,null,null,null,null,"ここを"]
["※申込締切期日厳守。",null,null,null,null,null,null,null,null,null,"切り取る",null,null,"※申込締切期日厳守。",null,null,null,null,null,null,null,null,null,"切り取る"]
[]
[]
["第76回愛知陸上競技選手権大会　個人申込票",null,null,null,null,null,null,null,null,null,null,3,null,"第76回愛知陸上競技選手権大会　個人申込票",null,null,null,null,null,null,null,null,null,null,3]
[null,null,null,"",null,null,null,null,null,"資格審査用",null,null,null,null,null,null,"",null,null,null,null,null,"資格審査用"]
[null,"性　　別",null,{"$f":"IF(①選手情報入力!J12=\"\",\"\",①選手情報入力!J12)","v":""},null,null,null,{"$f":"IF(①選手情報入力!P12=\"\",\"\",①選手情報入力!P12)","v":""},null,null,null,null,null,null,"性　　別",null,{"$f":"IF(①選手情報入力!M12=\"\",\"\",①選手情報入力!M12)","v":""},null,null,null,{"$f":"IF(①選手情報入力!P12=\"\",\"\",①選手情報入力!P12)","v":""}]
["種  目",{"$f":"IF(①選手情報入力!$H$12=\"\",\"\",①選手情報入力!$H$12)","v":""},null,null,null,null,null,null,null,null,null,null,null,"種  目",{"$f":"IF(①選手情報入力!$H$12=\"\",\"\",①選手情報入力!$H$12)","v":""}]
[]
["ナンバー",null,"ﾌ ﾘ ｶﾞﾅ",{"$f":"IF(①選手情報入力!$F$12=\"\",\"\",①選手情報入力!$F$12)","v":""},null,null,null,null,null,null,null,null,null,"ナンバー",null,"ﾌ ﾘ ｶﾞﾅ",{"$f":"IF(①選手情報入力!$F$12=\"\",\"\",①選手情報入力!$F$12)","v":""}]
[{"$f":"IF(①選手情報入力!$B$12=\"\",\"\",①選手情報入力!$B$12)","v":""},null,"氏 名",{"$f":"IF(①選手情報入力!$E$12=\"\",\"\",①選手情報入力!$E$12)","v":""},null,null,null,null,null,null,null,null,null,{"$f":"IF(①選手情報入力!$B$12=\"\",\"\",①選手情報入力!$B$12)","v":""},null,"氏 名",{"$f":"IF(①選手情報入力!$E$12=\"\",\"\",①選手情報入力!$E$12)","v":""}]
[]
["出場資格\n取得大会","大　会　名",null,null,null,"加入団体名",null,{"$f":"②団体情報入力!$D$5","v":{"$error":"#N/A"}},null,null,null,null,null,"出場資格\n取得大会","大　会　名",null,null,null,"加入団体名",null,{"$f":"②団体情報入力!$D$5","v":{"$error":"#N/A"}}]
[null,null,null,null,null,"年.月.日","順 位",null,"記　録",null,"場  所",null,null,null,null,null,null,null,"年.月.日","順 位",null,"記　録",null,"場  所"]
[null,null,null,null,null,null,null,null,{"$f":"IF(①選手情報入力!K12=\"\",\"\",①選手情報入力!K12)","v":""},null,null,null,null,null,null,null,null,null,null,null,null,{"$f":"IF(①選手情報入力!N12=\"\",\"\",①選手情報入力!N12)","v":""}]
[]
["本 年 度",null,null,null,null,null,null,null,{"$f":"IF(①選手情報入力!L12=\"\",\"同上\",①選手情報入力!L12)","v":"同上"},null,null,null,null,"本 年 度",null,null,null,null,null,null,null,{"$f":"IF(①選手情報入力!O12=\"\",\"同上\",①選手情報入力!O12)","v":"同上"}]
["最高記録",null,null,null,null,null,null,null,null,null,null,null,null,"最高記録"]
["備　  考","※記入不要",null,null,null,null,null,null,null,null,null,null,null,"備　  考","※記入不要"]
[]
["※標準記録突破大会は、公認大会で、記録会は正式名称を記入。",null,null,null,null,null,null,null,null,null,"女子は",null,null,"※標準記録突破大会は、公認大会で、記録会は正式名称を記入。",null,null,null,null,null,null,null,null,null,"女子は"]
["※参加資格・記録等記入不備の場合、審査の対象としない。",null,null,null,null,null,null,null,null,null,"ここを",null,null,"※参加資格・記録等記入不備の場合、審査の対象としない。",null,null,null,null,null,null,null,null,null,"ここを"]
["※申込締切期日厳守。",null,null,null,null,null,null,null,null,null,"切り取る",null,null,"※申込締切期日厳守。",null,null,null,null,null,null,null,null,null,"切り取る"]
[]
[]
["第76回愛知陸上競技選手権大会　個人申込票",null,null,null,null,null,null,null,null,null,null,4,null,"第76回愛知陸上競技選手権大会　個人申込票",null,null,null,null,null,null,null,null,null,null,4]
[null,null,null,"",null,null,null,null,null,"資格審査用",null,null,null,null,null,null,"",null,null,null,null,null,"資格審査用"]
[null,"性　　別",null,{"$f":"IF(①選手情報入力!J13=\"\",\"\",①選手情報入力!J13)","v":""},null,null,null,{"$f":"IF(①選手情報入力!P13=\"\",\"\",①選手情報入力!P13)","v":""},null,null,null,null,null,null,"性　　別",null,{"$f":"IF(①選手情報入力!M13=\"\",\"\",①選手情報入力!M13)","v":""},null,null,null,{"$f":"IF(①選手情報入力!P13=\"\",\"\",①選手情報入力!P13)","v":""}]
["種  目",{"$f":"IF(①選手情報入力!$H$13=\"\",\"\",①選手情報入力!$H$13)","v":""},null,null,null,null,null,null,null,null,null,null,null,"種  目",{"$f":"IF(①選手情報入力!$H$13=\"\",\"\",①選手情報入力!$H$13)","v":""}]
[]
["ナンバー",null,"ﾌ ﾘ ｶﾞﾅ",{"$f":"IF(①選手情報入力!$F$13=\"\",\"\",①選手情報入力!$F$13)","v":""},null,null,null,null,null,null,null,null,null,"ナンバー",null,"ﾌ ﾘ ｶﾞﾅ",{"$f":"IF(①選手情報入力!$F$13=\"\",\"\",①選手情報入力!$F$13)","v":""}]
[{"$f":"IF(①選手情報入力!$B$13=\"\",\"\",①選手情報入力!$B$13)","v":""},null,"氏 名",{"$f":"IF(①選手情報入力!$E$13=\"\",\"\",①選手情報入力!$E$13)","v":""},null,null,null,null,null,null,null,null,null,{"$f":"IF(①選手情報入力!$B$13=\"\",\"\",①選手情報入力!$B$13)","v":""},null,"氏 名",{"$f":"IF(①選手情報入力!$E$13=\"\",\"\",①選手情報入力!$E$13)","v":""}]
[]
["出場資格\n取得大会","大　会　名",null,null,null,"加入団体名",null,{"$f":"②団体情報入力!$D$5","v":{"$error":"#N/A"}},null,null,null,null,null,"出場資格\n取得大会","大　会　名",null,null,null,"加入団体名",null,{"$f":"②団体情報入力!$D$5","v":{"$error":"#N/A"}}]
[null,null,null,null,null,"年.月.日","順 位",null,"記　録",null,"場  所",null,null,null,null,null,null,null,"年.月.日","順 位",null,"記　録",null,"場  所"]
[null,null,null,null,null,null,null,null,{"$f":"IF(①選手情報入力!K13=\"\",\"\",①選手情報入力!K13)","v":""},null,null,null,null,null,null,null,null,null,null,null,null,{"$f":"IF(①選手情報入力!N13=\"\",\"\",①選手情報入力!N13)","v":""}]
[]
["本 年 度",null,null,null,null,null,null,null,{"$f":"IF(①選手情報入力!L13=\"\",\"同上\",①選手情報入力!L13)","v":"同上"},null,null,null,null,"本 年 度",null,null,null,null,null,null,null,{"$f":"IF(①選手情報入力!O13=\"\",\"同上\",①選手情報入力!O13)","v":"同上"}]
["最高記録",null,null,null,null,null,null,null,null,null,null,null,null,"最高記録"]
["備　  考","※記入不要",null,null,null,null,null,null,null,null,null,null,null,"備　  考","※記入不要"]
[]
["※標準記録突破大会は、公認大会で、記録会は正式名称を記入。",null,null,null,null,null,null,null,null,null,"女子は",null,null,"※標準記録突破大会は、公認大会で、記録会は正式名称を記入。",null,null,null,null,null,null,null,null,null,"女子は"]
["※参加資格・記録等記入不備の場合、審査の対象としない。",null,null,null,null,null,null,null,null,null,"ここを",null,null,"※参加資格・記録等記入不備の場合、審査の対象としない。",null,null,null,null,null,null,null,null,null,"ここを"]
["※申込締切期日厳守。",null,null,null,null,null,null,null,null,null,"切り取る",null,null,"※申込締切期日厳守。",null,null,null,null,null,null,null,null,null,"切り取る"]
[]
[]
["第76回愛知陸上競技選手権大会　個人申込票",null,null,null,null,null,null,null,null,null,null,5,null,"第76回愛知陸上競技選手権大会　個人申込票",null,null,null,null,null,null,null,null,null,null,5]
[null,null,null,"",null,null,null,null,null,"資格審査用",null,null,null,null,null,null,"",null,null,null,null,null,"資格審査用"]
[null,"性　　別",null,{"$f":"IF(①選手情報入力!J14=\"\",\"\",①選手情報入力!J14)","v":""},null,null,null,{"$f":"IF(①選手情報入力!P14=\"\",\"\",①選手情報入力!P14)","v":""},null,null,null,null,null,null,"性　　別",null,{"$f":"IF(①選手情報入力!M14=\"\",\"\",①選手情報入力!M14)","v":""},null,null,null,{"$f":"IF(①選手情報入力!P14=\"\",\"\",①選手情報入力!P14)","v":""}]
["種  目",{"$f":"IF(①選手情報入力!$H$14=\"\",\"\",①選手情報入力!$H$14)","v":""},null,null,null,null,null,null,null,null,null,null,null,"種  目",{"$f":"IF(①選手情報入力!$H$14=\"\",\"\",①選手情報入力!$H$14)","v":""}]
[]
["ナンバー",null,"ﾌ ﾘ ｶﾞﾅ",{"$f":"IF(①選手情報入力!$F$14=\"\",\"\",①選手情報入力!$F$14)","v":""},null,null,null,null,null,null,null,null,null,"ナンバー",null,"ﾌ ﾘ ｶﾞﾅ",{"$f":"IF(①選手情報入力!$F$14=\"\",\"\",①選手情報入力!$F$14)","v":""}]
[{"$f":"IF(①選手情報入力!$B$14=\"\",\"\",①選手情報入力!$B$14)","v":""},null,"氏 名",{"$f":"IF(①選手情報入力!$E$14=\"\",\"\",①選手情報入力!$E$14)","v":""},null,null,null,null,null,null,null,null,null,{"$f":"IF(①選手情報入力!$B$14=\"\",\"\",①選手情報入力!$B$14)","v":""},null,"氏 名",{"$f":"IF(①選手情報入力!$E$14=\"\",\"\",①選手情報入力!$E$14)","v":""}]
[]
["出場資格\n取得大会","大　会　名",null,null,null,"加入団体名",null,{"$f":"②団体情報入力!$D$5","v":{"$error":"#N/A"}},null,null,null,null,null,"出場資格\n取得大会","大　会　名",null,null,null,"加入団体名",null,{"$f":"②団体情報入力!$D$5","v":{"$error":"#N/A"}}]
[null,null,null,null,null,"年.月.日","順 位",null,"記　録",null,"場  所",null,null,null,null,null,null,null,"年.月.日","順 位",null,"記　録",null,"場  所"]
[null,null,null,null,null,null,null,null,{"$f":"IF(①選手情報入力!K14=\"\",\"\",①選手情報入力!K14)","v":""},null,null,null,null,null,null,null,null,null,null,null,null,{"$f":"IF(①選手情報入力!N14=\"\",\"\",①選手情報入力!N14)","v":""}]
[]
["本 年 度",null,null,null,null,null,null,null,{"$f":"IF(①選手情報入力!L14=\"\",\"同上\",①選手情報入力!L14)","v":"同上"},null,null,null,null,"本 年 度",null,null,null,null,null,null,null,{"$f":"IF(①選手情報入力!O14=\"\",\"同上\",①選手情報入力!O14)","v":"同上"}]
["最高記録",null,null,null,null,null,null,null,null,null,null,null,null,"最高記録"]
["備　  考","※記入不要",null,null,null,null,null,null,null,null,null,null,null,"備　  考","※記入不要"]
[]
["※標準記録突破大会は、公認大会で、記録会は正式名称を記入。",null,null,null,null,null,null,null,null,null,"女子は",null,null,"※標準記録突破大会は、公認大会で、記録会は正式名称を記入。",null,null,null,null,null,null,null,null,null,"女子は"]
["※参加資格・記録等記入不備の場合、審査の対象としない。",null,null,null,null,null,null,null,null,null,"ここを",null,null,"※参加資格・記録等記入不備の場合、審査の対象としない。",null,null,null,null,null,null,null,null,null,"ここを"]
["※申込締切期日厳守。",null,null,null,null,null,null,null,null,null,"切り取る",null,null,"※申込締切期日厳守。",null,null,null,null,null,null,null,null,null,"切り取る"]
[]
[]
["第76回愛知陸上競技選手権大会　個人申込票",null,null,null,null,null,null,null,null,null,null,6,null,"第76回愛知陸上競技選手権大会　個人申込票",null,null,null,null,null,null,null,null,null,null,6]
[null,null,null,"",null,null,null,null,null,"資格審査用",null,null,null,null,null,null,"",null,null,null,null,null,"資格審査用"]
[null,"性　　別",null,{"$f":"IF(①選手情報入力!J15=\"\",\"\",①選手情報入力!J15)","v":""},null,null,null,{"$f":"IF(①選手情報入力!P15=\"\",\"\",①選手情報入力!P15)","v":""},null,null,null,null,null,null,"性　　別",null,{"$f":"IF(①選手情報入力!M15=\"\",\"\",①選手情報入力!M15)","v":""},null,null,null,{"$f":"IF(①選手情報入力!P15=\"\",\"\",①選手情報入力!P15)","v":""}]
["種  目",{"$f":"IF(①選手情報入力!$H$15=\"\",\"\",①選手情報入力!$H$15)","v":""},null,null,null,null,null,null,null,null,null,null,null,"種  目",{"$f":"IF(①選手情報入力!$H$15=\"\",\"\",①選手情報入力!$H$15)","v":""}]
[]
["ナンバー",null,"ﾌ ﾘ ｶﾞﾅ",{"$f":"IF(①選手情報入力!$F$15=\"\",\"\",①選手情報入力!$F$15)","v":""},null,null,null,null,null,null,null,null,null,"ナンバー",null,"ﾌ ﾘ ｶﾞﾅ",{"$f":"IF(①選手情報入力!$F$15=\"\",\"\",①選手情報入力!$F$15)","v":""}]
[{"$f":"IF(①選手情報入力!$B$15=\"\",\"\",①選手情報入力!$B$15)","v":""},null,"氏 名",{"$f":"IF(①選手情報入力!$E$15=\"\",\"\",①選手情報入力!$E$15)","v":""},null,null,null,null,null,null,null,null,null,{"$f":"IF(①選手情報入力!$B$15=\"\",\"\",①選手情報入力!$B$15)","v":""},null,"氏 名",{"$f":"IF(①選手情報入力!$E$15=\"\",\"\",①選手情報入力!$E$15)","v":""}]
[]
["出場資格\n取得大会","大　会　名",null,null,null,"加入団体名",null,{"$f":"②団体情報入力!$D$5","v":{"$error":"#N/A"}},null,null,null,null,null,"出場資格\n取得大会","大　会　名",null,null,null,"加入団体名",null,{"$f":"②団体情報入力!$D$5","v":{"$error":"#N/A"}}]
[null,null,null,null,null,"年.月.日","順 位",null,"記　録",null,"場  所",null,null,null,null,null,null,null,"年.月.日","順 位",null,"記　録",null,"場  所"]
[null,null,null,null,null,null,null,null,{"$f":"IF(①選手情報入力!K15=\"\",\"\",①選手情報入力!K15)","v":""},null,null,null,null,null,null,null,null,null,null,null,null,{"$f":"IF(①選手情報入力!N15=\"\",\"\",①選手情報入力!N15)","v":""}]
[]
["本 年 度",null,null,null,null,null,null,null,{"$f":"IF(①選手情報入力!L15=\"\",\"同上\",①選手情報入力!L15)","v":"同上"},null,null,null,null,"本 年 度",null,null,null,null,null,null,null,{"$f":"IF(①選手情報入力!O15=\"\",\"同上\",①選手情報入力!O15)","v":"同上"}]
["最高記録",null,null,null,null,null,null,null,null,null,null,null,null,"最高記録"]
["備　  考","※記入不要",null,null,null,null,null,null,null,null,null,null,null,"備　  考","※記入不要"]
[]
["※標準記録突破大会は、公認大会で、記録会は正式名称を記入。",null,null,null,null,null,null,null,null,null,"女子は",null,null,"※標準記録突破大会は、公認大会で、記録会は正式名称を記入。",null,null,null,null,null,null,null,null,null,"女子は"]
["※参加資格・記録等記入不備の場合、審査の対象としない。",null,null,null,null,null,null,null,null,null,"ここを",null,null,"※参加資格・記録等記入不備の場合、審査の対象としない。",null,null,null,null,null,null,null,null,null,"ここを"]
["※申込締切期日厳守。",null,null,null,null,null,null,null,null,null,"切り取る",null,null,"※申込締切期日厳守。",null,null,null,null,null,null,null,null,null,"切り取る"]
[]
[]
["第76回愛知陸上競技選手権大会　個人申込票",null,null,null,null,null,null,null,null,null,null,7,null,"第76回愛知陸上競技選手権大会　個人申込票",null,null,null,null,null,null,null,null,null,null,7]
[null,null,null,"",null,null,null,null,null,"資格審査用",null,null,null,null,null,null,"",null,null,null,null,null,"資格審査用"]
[null,"性　　別",null,{"$f":"IF(①選手情報入力!J16=\"\",\"\",①選手情報入力!J16)","v":""},null,null,null,{"$f":"IF(①選手情報入力!P16=\"\",\"\",①選手情報入力!P16)","v":""},null,null,null,null,null,null,"性　　別",null,{"$f":"IF(①選手情報入力!M16=\"\",\"\",①選手情報入力!M16)","v":""},null,null,null,{"$f":"IF(①選手情報入力!P16=\"\",\"\",①選手情報入力!P16)","v":""}]
["種  目",{"$f":"IF(①選手情報入力!$H$16=\"\",\"\",①選手情報入力!$H$16)","v":""},null,null,null,null,null,null,null,null,null,null,null,"種  目",{"$f":"IF(①選手情報入力!$H$16=\"\",\"\",①選手情報入力!$H$16)","v":""}]
[]
["ナンバー",null,"ﾌ ﾘ ｶﾞﾅ",{"$f":"IF(①選手情報入力!$F$16=\"\",\"\",①選手情報入力!$F$16)","v":""},null,null,null,null,null,null,null,null,null,"ナンバー",null,"ﾌ ﾘ ｶﾞﾅ",{"$f":"IF(①選手情報入力!$F$16=\"\",\"\",①選手情報入力!$F$16)","v":""}]
[{"$f":"IF(①選手情報入力!$B$16=\"\",\"\",①選手情報入力!$B$16)","v":""},null,"氏 名",{"$f":"IF(①選手情報入力!$E$16=\"\",\"\",①選手情報入力!$E$16)","v":""},null,null,null,null,null,null,null,null,null,{"$f":"IF(①選手情報入力!$B$16=\"\",\"\",①選手情報入力!$B$16)","v":""},null,"氏 名",{"$f":"IF(①選手情報入力!$E$16=\"\",\"\",①選手情報入力!$E$16)","v":""}]
[]
["出場資格\n取得大会","大　会　名",null,null,null,"加入団体名",null,{"$f":"②団体情報入力!$D$5","v":{"$error":"#N/A"}},null,null,null,null,null,"出場資格\n取得大会","大　会　名",null,null,null,"加入団体名",null,{"$f":"②団体情報入力!$D$5","v":{"$error":"#N/A"}}]
[null,null,null,null,null,"年.月.日","順 位",null,"記　録",null,"場  所",null,null,null,null,null,null,null,"年.月.日","順 位",null,"記　録",null,"場  所"]
[null,null,null,null,null,null,null,null,{"$f":"IF(①選手情報入力!K16=\"\",\"\",①選手情報入力!K16)","v":""},null,null,null,null,null,null,null,null,null,null,null,null,{"$f":"IF(①選手情報入力!N16=\"\",\"\",①選手情報入力!N16)","v":""}]
[]
["本 年 度",null,null,null,null,null,null,null,{"$f":"IF(①選手情報入力!L16=\"\",\"同上\",①選手情報入力!L16)","v":"同上"},null,null,null,null,"本 年 度",null,null,null,null,null,null,null,{"$f":"IF(①選手情報入力!O16=\"\",\"同上\",①選手情報入力!O16)","v":"同上"}]
["最高記録",null,null,null,null,null,null,null,null,null,null,null,null,"最高記録"]
["備　  考","※記入不要",null,null,null,null,null,null,null,null,null,null,null,"備　  考","※記入不要"]
[]
["※標準記録突破大会は、公認大会で、記録会は正式名称を記入。",null,null,null,null,null,null,null,null,null,"女子は",null,null,"※標準記録突破大会は、公認大会で、記録会は正式名称を記入。",null,null,null,null,null,null,null,null,null,"女子は"]
["※参加資格・記録等記入不備の場合、審査の対象としない。",null,null,null,null,null,null,null,null,null,"ここを",null,null,"※参加資格・記録等記入不備の場合、審査の対象としない。",null,null,null,null,null,null,null,null,null,"ここを"]
["※申込締切期日厳守。",null,null,null,null,null,null,null,null,null,"切り取る",null,null,"※申込締切期日厳守。",null,null,null,null,null,null,null,null,null,"切り取る"]
[]
[]
["第76回愛知陸上競技選手権大会　個人申込票",null,null,null,null,null,null,null,null,null,null,8,null,"第76回愛知陸上競技選手権大会　個人申込票",null,null,null,null,null,null,null,null,null,null,8]
[null,null,null,"",null,null,null,null,null,"資格審査用",null,null,null,null,null,null,"",null,null,null,null,null,"資格審査用"]
[null,"性　　別",null,{"$f":"IF(①選手情報入力!J17=\"\",\"\",①選手情報入力!J17)","v":""},null,null,null,{"$f":"IF(①選手情報入力!P17=\"\",\"\",①選手情報入力!P17)","v":""},null,null,null,null,null,null,"性　　別",null,{"$f":"IF(①選手情報入力!M17=\"\",\"\",①選手情報入力!M17)","v":""},null,null,null,{"$f":"IF(①選手情報入力!P17=\"\",\"\",①選手情報入力!P17)","v":""}]
["種  目",{"$f":"IF(①選手情報入力!$H$17=\"\",\"\",①選手情報入力!$H$17)","v":""},null,null,null,null,null,null,null,null,null,null,null,"種  目",{"$f":"IF(①選手情報入力!$H$17=\"\",\"\",①選手情報入力!$H$17)","v":""}]
[]
["ナンバー",null,"ﾌ ﾘ ｶﾞﾅ",{"$f":"IF(①選手情報入力!$F$17=\"\",\"\",①選手情報入力!$F$17)","v":""},null,null,null,null,null,null,null,null,null,"ナンバー",null,"ﾌ ﾘ ｶﾞﾅ",{"$f":"IF(①選手情報入力!$F$17=\"\",\"\",①選手情報入力!$F$17)","v":""}]
[{"$f":"IF(①選手情報入力!$B$17=\"\",\"\",①選手情報入力!$B$17)","v":""},null,"氏 名",{"$f":"IF(①選手情報入力!$E$17=\"\",\"\",①選手情報入力!$E$17)","v":""},null,null,null,null,null,null,null,null,null,{"$f":"IF(①選手情報入力!$B$17=\"\",\"\",①選手情報入力!$B$17)","v":""},null,"氏 名",{"$f":"IF(①選手情報入力!$E$17=\"\",\"\",①選手情報入力!$E$17)","v":""}]
[]
["出場資格\n取得大会","大　会　名",null,null,null,"加入団体名",null,{"$f":"②団体情報入力!$D$5","v":{"$error":"#N/A"}},null,null,null,null,null,"出場資格\n取得大会","大　会　名",null,null,null,"加入団体名",null,{"$f":"②団体情報入力!$D$5","v":{"$error":"#N/A"}}]
[null,null,null,null,null,"年.月.日","順 位",null,"記　録",null,"場  所",null,null,null,null,null,null,null,"年.月.日","順 位",null,"記　録",null,"場  所"]
[null,null,null,null,null,null,null,null,{"$f":"IF(①選手情報入力!K17=\"\",\"\",①選手情報入力!K17)","v":""},null,null,null,null,null,null,null,null,null,null,null,null,{"$f":"IF(①選手情報入力!N17=\"\",\"\",①選手情報入力!N17)","v":""}]
[]
["本 年 度",null,null,null,null,null,null,null,{"$f":"IF(①選手情報入力!L17=\"\",\"同上\",①選手情報入力!L17)","v":"同上"},null,null,null,null,"本 年 度",null,null,null,null,null,null,null,{"$f":"IF(①選手情報入力!O17=\"\",\"同上\",①選手情報入力!O17)","v":"同上"}]
["最高記録",null,null,null,null,null,null,null,null,null,null,null,null,"最高記録"]
["備　  考","※記入不要",null,null,null,null,null,null,null,null,null,null,null,"備　  考","※記入不要"]
[]
["※標準記録突破大会は、公認大会で、記録会は正式名称を記入。",null,null,null,null,null,null,null,null,null,"女子は",null,null,"※標準記録突破大会は、公認大会で、記録会は正式名称を記入。",null,null,null,null,null,null,null,null,null,"女子は"]
["※参加資格・記録等記入不備の場合、審査の対象としない。",null,null,null,null,null,null,null,null,null,"ここを",null,null,"※参加資格・記録等記入不備の場合、審査の対象としない。",null,null,null,null,null,null,null,null,null,"ここを"]
["※申込締切期日厳守。",null,null,null,null,null,null,null,null,null,"切り取る",null,null,"※申込締切期日厳守。",null,null,null,null,null,null,null,null,null,"切り取る"]
[]
[]
["第76回愛知陸上競技選手権大会　個人申込票",null,null,null,null,null,null,null,null,null,null,9,null,"第76回愛知陸上競技選手権大会　個人申込票",null,null,null,null,null,null,null,null,null,null,9]
[null,null,null,"",null,null,null,null,null,"資格審査用",null,null,null,null,null,null,"",null,null,null,null,null,"資格審査用"]
[null,"性　　別",null,{"$f":"IF(①選手情報入力!J18=\"\",\"\",①選手情報入力!J18)","v":""},null,null,null,{"$f":"IF(①選手情報入力!P18=\"\",\"\",①選手情報入力!P18)","v":""},null,null,null,null,null,null,"性　　別",null,{"$f":"IF(①選手情報入力!M18=\"\",\"\",①選手情報入力!M18)","v":""},null,null,null,{"$f":"IF(①選手情報入力!P18=\"\",\"\",①選手情報入力!P18)","v":""}]
["種  目",{"$f":"IF(①選手情報入力!$H$18=\"\",\"\",①選手情報入力!$H$18)","v":""},null,null,null,null,null,null,null,null,null,null,null,"種  目",{"$f":"IF(①選手情報入力!$H$18=\"\",\"\",①選手情報入力!$H$18)","v":""}]
[]
["ナンバー",null,"ﾌ ﾘ ｶﾞﾅ",{"$f":"IF(①選手情報入力!$F$18=\"\",\"\",①選手情報入力!$F$18)","v":""},null,null,null,null,null,null,null,null,null,"ナンバー",null,"ﾌ ﾘ ｶﾞﾅ",{"$f":"IF(①選手情報入力!$F$18=\"\",\"\",①選手情報入力!$F$18)","v":""}]
[{"$f":"IF(①選手情報入力!$B$18=\"\",\"\",①選手情報入力!$B$18)","v":""},null,"氏 名",{"$f":"IF(①選手情報入力!$E$18=\"\",\"\",①選手情報入力!$E$18)","v":""},null,null,null,null,null,null,null,null,null,{"$f":"IF(①選手情報入力!$B$18=\"\",\"\",①選手情報入力!$B$18)","v":""},null,"氏 名",{"$f":"IF(①選手情報入力!$E$18=\"\",\"\",①選手情報入力!$E$18)","v":""}]
[]
["出場資格\n取得大会","大　会　名",null,null,null,"加入団体名",null,{"$f":"②団体情報入力!$D$5","v":{"$error":"#N/A"}},null,null,null,null,null,"出場資格\n取得大会","大　会　名",null,null,null,"加入団体名",null,{"$f":"②団体情報入力!$D$5","v":{"$error":"#N/A"}}]
[null,null,null,null,null,"年.月.日","順 位",null,"記　録",null,"場  所",null,null,null,null,null,null,null,"年.月.日","順 位",null,"記　録",null,"場  所"]
[null,null,null,null,null,null,null,null,{"$f":"IF(①選手情報入力!K18=\"\",\"\",①選手情報入力!K18)","v":""},null,null,null,null,null,null,null,null,null,null,null,null,{"$f":"IF(①選手情報入力!N18=\"\",\"\",①選手情報入力!N18)","v":""}]
[]
["本 年 度",null,null,null,null,null,null,null,{"$f":"IF(①選手情報入力!L18=\"\",\"同上\",①選手情報入力!L18)","v":"同上"},null,null,null,null,"本 年 度",null,null,null,null,null,null,null,{"$f":"IF(①選手情報入力!O18=\"\",\"同上\",①選手情報入力!O18)","v":"同上"}]
["最高記録",null,null,null,null,null,null,null,null,null,null,null,null,"最高記録"]
["備　  考","※記入不要",null,null,null,null,null,null,null,null,null,null,null,"備　  考","※記入不要"]
[]
["※標準記録突破大会は、公認大会で、記録会は正式名称を記入。",null,null,null,null,null,null,null,null,null,"女子は",null,null,"※標準記録突破大会は、公認大会で、記録会は正式名称を記入。",null,null,null,null,null,null,null,null,null,"女子は"]
["※参加資格・記録等記入不備の場合、審査の対象としない。",null,null,null,null,null,null,null,null,null,"ここを",null,null,"※参加資格・記録等記入不備の場合、審査の対象としない。",null,null,null,null,null,null,null,null,null,"ここを"]
["※申込締切期日厳守。",null,null,null,null,null,null,null,null,null,"切り取る",null,null,"※申込締切期日厳守。",null,null,null,null,null,null,null,null,null,"切り取る"]
[]
[]
["第76回愛知陸上競技選手権大会　個人申込票",null,null,null,null,null,null,null,null,null,null,10,null,"第76回愛知陸上競技選手権大会　個人申込票",null,null,null,null,null,null,null,null,null,null,10]
[null,null,null,"",null,null,null,null,null,"資格審査用",null,null,null,null,null,null,"",null,null,null,null,null,"資格審査用"]
[null,"性　　別",null,{"$f":"IF(①選手情報入力!J19=\"\",\"\",①選手情報入力!J19)","v":""},null,null,null,{"$f":"IF(①選手情報入力!P19=\"\",\"\",①選手情報入力!P19)","v":""},null,null,null,null,null,null,"性　　別",null,{"$f":"IF(①選手情報入力!M19=\"\",\"\",①選手情報入力!M19)","v":""},null,null,null,{"$f":"IF(①選手情報入力!P19=\"\",\"\",①選手情報入力!P19)","v":""}]
["種  目",{"$f":"IF(①選手情報入力!$H$19=\"\",\"\",①選手情報入力!$H$19)","v":""},null,null,null,null,null,null,null,null,null,null,null,"種  目",{"$f":"IF(①選手情報入力!$H$19=\"\",\"\",①選手情報入力!$H$19)","v":""}]
[]
["ナンバー",null,"ﾌ ﾘ ｶﾞﾅ",{"$f":"IF(①選手情報入力!$F$19=\"\",\"\",①選手情報入力!$F$19)","v":""},null,null,null,null,null,null,null,null,null,"ナンバー",null,"ﾌ ﾘ ｶﾞﾅ",{"$f":"IF(①選手情報入力!$F$19=\"\",\"\",①選手情報入力!$F$19)","v":""}]
[{"$f":"IF(①選手情報入力!$B$19=\"\",\"\",①選手情報入力!$B$19)","v":""},null,"氏 名",{"$f":"IF(①選手情報入力!$E$19=\"\",\"\",①選手情報入力!$E$19)","v":""},null,null,null,null,null,null,null,null,null,{"$f":"IF(①選手情報入力!$B$19=\"\",\"\",①選手情報入力!$B$19)","v":""},null,"氏 名",{"$f":"IF(①選手情報入力!$E$19=\"\",\"\",①選手情報入力!$E$19)","v":""}]
[]
["出場資格\n取得大会","大　会　名",null,null,null,"加入団体名",null,{"$f":"②団体情報入力!$D$5","v":{"$error":"#N/A"}},null,null,null,null,null,"出場資格\n取得大会","大　会　名",null,null,null,"加入団体名",null,{"$f":"②団体情報入力!$D$5","v":{"$error":"#N/A"}}]
[null,null,null,null,null,"年.月.日","順 位",null,"記　録",null,"場  所",null,null,null,null,null,null,null,"年.月.日","順 位",null,"記　録",null,"場  所"]
[null,null,null,null,null,null,null,null,{"$f":"IF(①選手情報入力!K19=\"\",\"\",①選手情報入力!K19)","v":""},null,null,null,null,null,null,null,null,null,null,null,null,{"$f":"IF(①選手情報入力!N19=\"\",\"\",①選手情報入力!N19)","v":""}]
[]
["本 年 度",null,null,null,null,null,null,null,{"$f":"IF(①選手情報入力!L19=\"\",\"同上\",①選手情報入力!L19)","v":"同上"},null,null,null,null,"本 年 度",null,null,null,null,null,null,null,{"$f":"IF(①選手情報入力!O19=\"\",\"同上\",①選手情報入力!O19)","v":"同上"}]
["最高記録",null,null,null,null,null,null,null,null,null,null,null,null,"最高記録"]
["備　  考","※記入不要",null,null,null,null,null,null,null,null,null,null,null,"備　  考","※記入不要"]
[]
["※標準記録突破大会は、公認大会で、記録会は正式名称を記入。",null,null,null,null,null,null,null,null,null,"女子は",null,null,"※標準記録突破大会は、公認大会で、記録会は正式名称を記入。",null,null,null,null,null,null,null,null,null,"女子は"]
["※参加資格・記録等記入不備の場合、審査の対象としない。",null,null,null,null,null,null,null,null,null,"ここを",null,null,"※参加資格・記録等記入不備の場合、審査の対象としない。",null,null,null,null,null,null,null,null,null,"ここを"]
["※申込締切期日厳守。",null,null,null,null,null,null,null,null,null,"切り取る",null,null,"※申込締切期日厳守。",null,null,null,null,null,null,null,null,null,"切り取る"]
[]
[]
["第76回愛知陸上競技選手権大会　個人申込票",null,null,null,null,null,null,null,null,null,null,11,null,"第76回愛知陸上競技選手権大会　個人申込票",null,null,null,null,null,null,null,null,null,null,11]
[null,null,null,"",null,null,null,null,null,"資格審査用",null,null,null,null,null,null,"",null,null,null,null,null,"資格審査用"]
[null,"性　　別",null,{"$f":"IF(①選手情報入力!J20=\"\",\"\",①選手情報入力!J20)","v":""},null,null,null,{"$f":"IF(①選手情報入力!P20=\"\",\"\",①選手情報入力!P20)","v":""},null,null,null,null,null,null,"性　　別",null,{"$f":"IF(①選手情報入力!M20=\"\",\"\",①選手情報入力!M20)","v":""},null,null,null,{"$f":"IF(①選手情報入力!P20=\"\",\"\",①選手情報入力!P20)","v":""}]
["種  目",{"$f":"IF(①選手情報入力!$H$20=\"\",\"\",①選手情報入力!$H$20)","v":""},null,null,null,null,null,null,null,null,null,null,null,"種  目",{"$f":"IF(①選手情報入力!$H$20=\"\",\"\",①選手情報入力!$H$20)","v":""}]
[]
["ナンバー",null,"ﾌ ﾘ ｶﾞﾅ",{"$f":"IF(①選手情報入力!$F$20=\"\",\"\",①選手情報入力!$F$20)","v":""},null,null,null,null,null,null,null,null,null,"ナンバー",null,"ﾌ ﾘ ｶﾞﾅ",{"$f":"IF(①選手情報入力!$F$20=\"\",\"\",①選手情報入力!$F$20)","v":""}]
[{"$f":"IF(①選手情報入力!$B$20=\"\",\"\",①選手情報入力!$B$20)","v":""},null,"氏 名",{"$f":"IF(①選手情報入力!$E$20=\"\",\"\",①選手情報入力!$E$20)","v":""},null,null,null,null,null,null,null,null,null,{"$f":"IF(①選手情報入力!$B$20=\"\",\"\",①選手情報入力!$B$20)","v":""},null,"氏 名",{"$f":"IF(①選手情報入力!$E$20=\"\",\"\",①選手情報入力!$E$20)","v":""}]
[]
["出場資格\n取得大会","大　会　名",null,null,null,"加入団体名",null,{"$f":"②団体情報入力!$D$5","v":{"$error":"#N/A"}},null,null,null,null,null,"出場資格\n取得大会","大　会　名",null,null,null,"加入団体名",null,{"$f":"②団体情報入力!$D$5","v":{"$error":"#N/A"}}]
[null,null,null,null,null,"年.月.日","順 位",null,"記　録",null,"場  所",null,null,null,null,null,null,null,"年.月.日","順 位",null,"記　録",null,"場  所"]
[null,null,null,null,null,null,null,null,{"$f":"IF(①選手情報入力!K20=\"\",\"\",①選手情報入力!K20)","v":""},null,null,null,null,null,null,null,null,null,null,null,null,{"$f":"IF(①選手情報入力!N20=\"\",\"\",①選手情報入力!N20)","v":""}]
[]
["本 年 度",null,null,null,null,null,null,null,{"$f":"IF(①選手情報入力!L20=\"\",\"同上\",①選手情報入力!L20)","v":"同上"},null,null,null,null,"本 年 度",null,null,null,null,null,null,null,{"$f":"IF(①選手情報入力!O20=\"\",\"同上\",①選手情報入力!O20)","v":"同上"}]
["最高記録",null,null,null,null,null,null,null,null,null,null,null,null,"最高記録"]
["備　  考","※記入不要",null,null,null,null,null,null,null,null,null,null,null,"備　  考","※記入不要"]
[]
["※標準記録突破大会は、公認大会で、記録会は正式名称を記入。",null,null,null,null,null,null,null,null,null,"女子は",null,null,"※標準記録突破大会は、公認大会で、記録会は正式名称を記入。",null,null,null,null,null,null,null,null,null,"女子は"]
["※参加資格・記録等記入不備の場合、審査の対象としない。",null,null,null,null,null,null,null,null,null,"ここを",null,null,"※参加資格・記録等記入不備の場合、審査の対象としない。",null,null,null,null,null,null,null,null,null,"ここを"]
["※申込締切期日厳守。",null,null,null,null,null,null,null,null,null,"切り取る",null,null,"※申込締切期日厳守。",null,null,null,null,null,null,null,null,null,"切り取る"]
[]
[]
["第76回愛知陸上競技選手権大会　個人申込票",null,null,null,null,null,null,null,null,null,null,12,null,"第76回愛知陸上競技選手権大会　個人申込票",null,null,null,null,null,null,null,null,null,null,12]
[null,null,null,"",null,null,null,null,null,"資格審査用",null,null,null,null,null,null,"",null,null,null,null,null,"資格審査用"]
[null,"性　　別",null,{"$f":"IF(①選手情報入力!J21=\"\",\"\",①選手情報入力!J21)","v":""},null,null,null,{"$f":"IF(①選手情報入力!P21=\"\",\"\",①選手情報入力!P21)","v":""},null,null,null,null,null,null,"性　　別",null,{"$f":"IF(①選手情報入力!M21=\"\",\"\",①選手情報入力!M21)","v":""},null,null,null,{"$f":"IF(①選手情報入力!P21=\"\",\"\",①選手情報入力!P21)","v":""}]
["種  目",{"$f":"IF(①選手情報入力!$H$21=\"\",\"\",①選手情報入力!$H$21)","v":""},null,null,null,null,null,null,null,null,null,null,null,"種  目",{"$f":"IF(①選手情報入力!$H$21=\"\",\"\",①選手情報入力!$H$21)","v":""}]
[]
["ナンバー",null,"ﾌ ﾘ ｶﾞﾅ",{"$f":"IF(①選手情報入力!$F$21=\"\",\"\",①選手情報入力!$F$21)","v":""},null,null,null,null,null,null,null,null,null,"ナンバー",null,"ﾌ ﾘ ｶﾞﾅ",{"$f":"IF(①選手情報入力!$F$21=\"\",\"\",①選手情報入力!$F$21)","v":""}]
[{"$f":"IF(①選手情報入力!$B$21=\"\",\"\",①選手情報入力!$B$21)","v":""},null,"氏 名",{"$f":"IF(①選手情報入力!$E$21=\"\",\"\",①選手情報入力!$E$21)","v":""},null,null,null,null,null,null,null,null,null,{"$f":"IF(①選手情報入力!$B$21=\"\",\"\",①選手情報入力!$B$21)","v":""},null,"氏 名",{"$f":"IF(①選手情報入力!$E$21=\"\",\"\",①選手情報入力!$E$21)","v":""}]
[]
["出場資格\n取得大会","大　会　名",null,null,null,"加入団体名",null,{"$f":"②団体情報入力!$D$5","v":{"$error":"#N/A"}},null,null,null,null,null,"出場資格\n取得大会","大　会　名",null,null,null,"加入団体名",null,{"$f":"②団体情報入力!$D$5","v":{"$error":"#N/A"}}]
[null,null,null,null,null,"年.月.日","順 位",null,"記　録",null,"場  所",null,null,null,null,null,null,null,"年.月.日","順 位",null,"記　録",null,"場  所"]
[null,null,null,null,null,null,null,null,{"$f":"IF(①選手情報入力!K21=\"\",\"\",①選手情報入力!K21)","v":""},null,null,null,null,null,null,null,null,null,null,null,null,{"$f":"IF(①選手情報入力!N21=\"\",\"\",①選手情報入力!N21)","v":""}]
[]
["本 年 度",null,null,null,null,null,null,null,{"$f":"IF(①選手情報入力!L21=\"\",\"同上\",①選手情報入力!L21)","v":"同上"},null,null,null,null,"本 年 度",null,null,null,null,null,null,null,{"$f":"IF(①選手情報入力!O21=\"\",\"同上\",①選手情報入力!O21)","v":"同上"}]
["最高記録",null,null,null,null,null,null,null,null,null,null,null,null,"最高記録"]
["備　  考","※記入不要",null,null,null,null,null,null,null,null,null,null,null,"備　  考","※記入不要"]
[]
["※標準記録突破大会は、公認大会で、記録会は正式名称を記入。",null,null,null,null,null,null,null,null,null,"女子は",null,null,"※標準記録突破大会は、公認大会で、記録会は正式名称を記入。",null,null,null,null,null,null,null,null,null,"女子は"]
["※参加資格・記録等記入不備の場合、審査の対象としない。",null,null,null,null,null,null,null,null,null,"ここを",null,null,"※参加資格・記録等記入不備の場合、審査の対象としない。",null,null,null,null,null,null,null,null,null,"ここを"]
["※申込締切期日厳守。",null,null,null,null,null,null,null,null,null,"切り取る",null,null,"※申込締切期日厳守。",null,null,null,null,null,null,null,null,null,"切り取る"]
[]
[]
["第76回愛知陸上競技選手権大会　個人申込票",null,null,null,null,null,null,null,null,null,null,13,null,"第76回愛知陸上競技選手権大会　個人申込票",null,null,null,null,null,null,null,null,null,null,13]
[null,null,null,"",null,null,null,null,null,"資格審査用",null,null,null,null,null,null,"",null,null,null,null,null,"資格審査用"]
[null,"性　　別",null,{"$f":"IF(①選手情報入力!J22=\"\",\"\",①選手情報入力!J22)","v":""},null,null,null,{"$f":"IF(①選手情報入力!P22=\"\",\"\",①選手情報入力!P22)","v":""},null,null,null,null,null,null,"性　　別",null,{"$f":"IF(①選手情報入力!M22=\"\",\"\",①選手情報入力!M22)","v":""},null,null,null,{"$f":"IF(①選手情報入力!P22=\"\",\"\",①選手情報入力!P22)","v":""}]
["種  目",{"$f":"IF(①選手情報入力!$H$22=\"\",\"\",①選手情報入力!$H$22)","v":""},null,null,null,null,null,null,null,null,null,null,null,"種  目",{"$f":"IF(①選手情報入力!$H$22=\"\",\"\",①選手情報入力!$H$22)","v":""}]
[]
["ナンバー",null,"ﾌ ﾘ ｶﾞﾅ",{"$f":"IF(①選手情報入力!$F$22=\"\",\"\",①選手情報入力!$F$22)","v":""},null,null,null,null,null,null,null,null,null,"ナンバー",null,"ﾌ ﾘ ｶﾞﾅ",{"$f":"IF(①選手情報入力!$F$22=\"\",\"\",①選手情報入力!$F$22)","v":""}]
[{"$f":"IF(①選手情報入力!$B$22=\"\",\"\",①選手情報入力!$B$22)","v":""},null,"氏 名",{"$f":"IF(①選手情報入力!$E$22=\"\",\"\",①選手情報入力!$E$22)","v":""},null,null,null,null,null,null,null,null,null,{"$f":"IF(①選手情報入力!$B$22=\"\",\"\",①選手情報入力!$B$22)","v":""},null,"氏 名",{"$f":"IF(①選手情報入力!$E$22=\"\",\"\",①選手情報入力!$E$22)","v":""}]
[]
["出場資格\n取得大会","大　会　名",null,null,null,"加入団体名",null,{"$f":"②団体情報入力!$D$5","v":{"$error":"#N/A"}},null,null,null,null,null,"出場資格\n取得大会","大　会　名",null,null,null,"加入団体名",null,{"$f":"②団体情報入力!$D$5","v":{"$error":"#N/A"}}]
[null,null,null,null,null,"年.月.日","順 位",null,"記　録",null,"場  所",null,null,null,null,null,null,null,"年.月.日","順 位",null,"記　録",null,"場  所"]
[null,null,null,null,null,null,null,null,{"$f":"IF(①選手情報入力!K22=\"\",\"\",①選手情報入力!K22)","v":""},null,null,null,null,null,null,null,null,null,null,null,null,{"$f":"IF(①選手情報入力!N22=\"\",\"\",①選手情報入力!N22)","v":""}]
[]
["本 年 度",null,null,null,null,null,null,null,{"$f":"IF(①選手情報入力!L22=\"\",\"同上\",①選手情報入力!L22)","v":"同上"},null,null,null,null,"本 年 度",null,null,null,null,null,null,null,{"$f":"IF(①選手情報入力!O22=\"\",\"同上\",①選手情報入力!O22)","v":"同上"}]
["最高記録",null,null,null,null,null,null,null,null,null,null,null,null,"最高記録"]
["備　  考","※記入不要",null,null,null,null,null,null,null,null,null,null,null,"備　  考","※記入不要"]
[]
["※標準記録突破大会は、公認大会で、記録会は正式名称を記入。",null,null,null,null,null,null,null,null,null,"女子は",null,null,"※標準記録突破大会は、公認大会で、記録会は正式名称を記入。",null,null,null,null,null,null,null,null,null,"女子は"]
["※参加資格・記録等記入不備の場合、審査の対象としない。",null,null,null,null,null,null,null,null,null,"ここを",null,null,"※参加資格・記録等記入不備の場合、審査の対象としない。",null,null,null,null,null,null,null,null,null,"ここを"]
["※申込締切期日厳守。",null,null,null,null,null,null,null,null,null,"切り取る",null,null,"※申込締切期日厳守。",null,null,null,null,null,null,null,null,null,"切り取る"]
[]
[]
["第76回愛知陸上競技選手権大会　個人申込票",null,null,null,null,null,null,null,null,null,null,14,null,"第76回愛知陸上競技選手権大会　個人申込票",null,null,null,null,null,null,null,null,null,null,14]
[null,null,null,"",null,null,null,null,null,"資格審査用",null,null,null,null,null,null,"",null,null,null,null,null,"資格審査用"]
[null,"性　　別",null,{"$f":"IF(①選手情報入力!J23=\"\",\"\",①選手情報入力!J23)","v":""},null,null,null,{"$f":"IF(①選手情報入力!P23=\"\",\"\",①選手情報入力!P23)","v":""},null,null,null,null,null,null,"性　　別",null,{"$f":"IF(①選手情報入力!M23=\"\",\"\",①選手情報入力!M23)","v":""},null,null,null,{"$f":"IF(①選手情報入力!P23=\"\",\"\",①選手情報入力!P23)","v":""}]
["種  目",{"$f":"IF(①選手情報入力!$H$23=\"\",\"\",①選手情報入力!$H$23)","v":""},null,null,null,null,null,null,null,null,null,null,null,"種  目",{"$f":"IF(①選手情報入力!$H$23=\"\",\"\",①選手情報入力!$H$23)","v":""}]
[]
["ナンバー",null,"ﾌ ﾘ ｶﾞﾅ",{"$f":"IF(①選手情報入力!$F$23=\"\",\"\",①選手情報入力!$F$23)","v":""},null,null,null,null,null,null,null,null,null,"ナンバー",null,"ﾌ ﾘ ｶﾞﾅ",{"$f":"IF(①選手情報入力!$F$23=\"\",\"\",①選手情報入力!$F$23)","v":""}]
[{"$f":"IF(①選手情報入力!$B$23=\"\",\"\",①選手情報入力!$B$23)","v":""},null,"氏 名",{"$f":"IF(①選手情報入力!$E$23=\"\",\"\",①選手情報入力!$E$23)","v":""},null,null,null,null,null,null,null,null,null,{"$f":"IF(①選手情報入力!$B$23=\"\",\"\",①選手情報入力!$B$23)","v":""},null,"氏 名",{"$f":"IF(①選手情報入力!$E$23=\"\",\"\",①選手情報入力!$E$23)","v":""}]
[]
["出場資格\n取得大会","大　会　名",null,null,null,"加入団体名",null,{"$f":"②団体情報入力!$D$5","v":{"$error":"#N/A"}},null,null,null,null,null,"出場資格\n取得大会","大　会　名",null,null,null,"加入団体名",null,{"$f":"②団体情報入力!$D$5","v":{"$error":"#N/A"}}]
[null,null,null,null,null,"年.月.日","順 位",null,"記　録",null,"場  所",null,null,null,null,null,null,null,"年.月.日","順 位",null,"記　録",null,"場  所"]
[null,null,null,null,null,null,null,null,{"$f":"IF(①選手情報入力!K23=\"\",\"\",①選手情報入力!K23)","v":""},null,null,null,null,null,null,null,null,null,null,null,null,{"$f":"IF(①選手情報入力!N23=\"\",\"\",①選手情報入力!N23)","v":""}]
[]
["本 年 度",null,null,null,null,null,null,null,{"$f":"IF(①選手情報入力!L23=\"\",\"同上\",①選手情報入力!L23)","v":"同上"},null,null,null,null,"本 年 度",null,null,null,null,null,null,null,{"$f":"IF(①選手情報入力!O23=\"\",\"同上\",①選手情報入力!O23)","v":"同上"}]
["最高記録",null,null,null,null,null,null,null,null,null,null,null,null,"最高記録"]
["備　  考","※記入不要",null,null,null,null,null,null,null,null,null,null,null,"備　  考","※記入不要"]
[]
["※標準記録突破大会は、公認大会で、記録会は正式名称を記入。",null,null,null,null,null,null,null,null,null,"女子は",null,null,"※標準記録突破大会は、公認大会で、記録会は正式名称を記入。",null,null,null,null,null,null,null,null,null,"女子は"]
["※参加資格・記録等記入不備の場合、審査の対象としない。",null,null,null,null,null,null,null,null,null,"ここを",null,null,"※参加資格・記録等記入不備の場合、審査の対象としない。",null,null,null,null,null,null,null,null,null,"ここを"]
["※申込締切期日厳守。",null,null,null,null,null,null,null,null,null,"切り取る",null,null,"※申込締切期日厳守。",null,null,null,null,null,null,null,null,null,"切り取る"]
[]
[]
["第76回愛知陸上競技選手権大会　個人申込票",null,null,null,null,null,null,null,null,null,null,15,null,"第76回愛知陸上競技選手権大会　個人申込票",null,null,null,null,null,null,null,null,null,null,15]
[null,null,null,"",null,null,null,null,null,"資格審査用",null,null,null,null,null,null,"",null,null,null,null,null,"資格審査用"]
[null,"性　　別",null,{"$f":"IF(①選手情報入力!J24=\"\",\"\",①選手情報入力!J24)","v":""},null,null,null,{"$f":"IF(①選手情報入力!P24=\"\",\"\",①選手情報入力!P24)","v":""},null,null,null,null,null,null,"性　　別",null,{"$f":"IF(①選手情報入力!M24=\"\",\"\",①選手情報入力!M24)","v":""},null,null,null,{"$f":"IF(①選手情報入力!P24=\"\",\"\",①選手情報入力!P24)","v":""}]
["種  目",{"$f":"IF(①選手情報入力!$H$24=\"\",\"\",①選手情報入力!$H$24)","v":""},null,null,null,null,null,null,null,null,null,null,null,"種  目",{"$f":"IF(①選手情報入力!$H$24=\"\",\"\",①選手情報入力!$H$24)","v":""}]
[]
["ナンバー",null,"ﾌ ﾘ ｶﾞﾅ",{"$f":"IF(①選手情報入力!$F$24=\"\",\"\",①選手情報入力!$F$24)","v":""},null,null,null,null,null,null,null,null,null,"ナンバー",null,"ﾌ ﾘ ｶﾞﾅ",{"$f":"IF(①選手情報入力!$F$24=\"\",\"\",①選手情報入力!$F$24)","v":""}]
[{"$f":"IF(①選手情報入力!$B$24=\"\",\"\",①選手情報入力!$B$24)","v":""},null,"氏 名",{"$f":"IF(①選手情報入力!$E$24=\"\",\"\",①選手情報入力!$E$24)","v":""},null,null,null,null,null,null,null,null,null,{"$f":"IF(①選手情報入力!$B$24=\"\",\"\",①選手情報入力!$B$24)","v":""},null,"氏 名",{"$f":"IF(①選手情報入力!$E$24=\"\",\"\",①選手情報入力!$E$24)","v":""}]
[]
["出場資格\n取得大会","大　会　名",null,null,null,"加入団体名",null,{"$f":"②団体情報入力!$D$5","v":{"$error":"#N/A"}},null,null,null,null,null,"出場資格\n取得大会","大　会　名",null,null,null,"加入団体名",null,{"$f":"②団体情報入力!$D$5","v":{"$error":"#N/A"}}]
[null,null,null,null,null,"年.月.日","順 位",null,"記　録",null,"場  所",null,null,null,null,null,null,null,"年.月.日","順 位",null,"記　録",null,"場  所"]
[null,null,null,null,null,null,null,null,{"$f":"IF(①選手情報入力!K24=\"\",\"\",①選手情報入力!K24)","v":""},null,null,null,null,null,null,null,null,null,null,null,null,{"$f":"IF(①選手情報入力!N24=\"\",\"\",①選手情報入力!N24)","v":""}]
[]
["本 年 度",null,null,null,null,null,null,null,{"$f":"IF(①選手情報入力!L24=\"\",\"同上\",①選手情報入力!L24)","v":"同上"},null,null,null,null,"本 年 度",null,null,null,null,null,null,null,{"$f":"IF(①選手情報入力!O24=\"\",\"同上\",①選手情報入力!O24)","v":"同上"}]
["最高記録",null,null,null,null,null,null,null,null,null,null,null,null,"最高記録"]
["備　  考","※記入不要",null,null,null,null,null,null,null,null,null,null,null,"備　  考","※記入不要"]
[]
["※標準記録突破大会は、公認大会で、記録会は正式名称を記入。",null,null,null,null,null,null,null,null,null,"女子は",null,null,"※標準記録突破大会は、公認大会で、記録会は正式名称を記入。",null,null,null,null,null,null,null,null,null,"女子は"]
["※参加資格・記録等記入不備の場合、審査の対象としない。",null,null,null,null,null,null,null,null,null,"ここを",null,null,"※参加資格・記録等記入不備の場合、審査の対象としない。",null,null,null,null,null,null,null,null,null,"ここを"]
["※申込締切期日厳守。",null,null,null,null,null,null,null,null,null,"切り取る",null,null,"※申込締切期日厳守。",null,null,null,null,null,null,null,null,null,"切り取る"]
[]
[]
["第76回愛知陸上競技選手権大会　個人申込票",null,null,null,null,null,null,null,null,null,null,16,null,"第76回愛知陸上競技選手権大会　個人申込票",null,null,null,null,null,null,null,null,null,null,16]
[null,null,null,"",null,null,null,null,null,"資格審査用",null,null,null,null,null,null,"",null,null,null,null,null,"資格審査用"]
[null,"性　　別",null,{"$f":"IF(①選手情報入力!J25=\"\",\"\",①選手情報入力!J25)","v":""},null,null,null,{"$f":"IF(①選手情報入力!P25=\"\",\"\",①選手情報入力!P25)","v":""},null,null,null,null,null,null,"性　　別",null,{"$f":"IF(①選手情報入力!M25=\"\",\"\",①選手情報入力!M25)","v":""},null,null,null,{"$f":"IF(①選手情報入力!P25=\"\",\"\",①選手情報入力!P25)","v":""}]
["種  目",{"$f":"IF(①選手情報入力!$H$25=\"\",\"\",①選手情報入力!$H$25)","v":""},null,null,null,null,null,null,null,null,null,null,null,"種  目",{"$f":"IF(①選手情報入力!$H$25=\"\",\"\",①選手情報入力!$H$25)","v":""}]
[]
["ナンバー",null,"ﾌ ﾘ ｶﾞﾅ",{"$f":"IF(①選手情報入力!$F$25=\"\",\"\",①選手情報入力!$F$25)","v":""},null,null,null,null,null,null,null,null,null,"ナンバー",null,"ﾌ ﾘ ｶﾞﾅ",{"$f":"IF(①選手情報入力!$F$25=\"\",\"\",①選手情報入力!$F$25)","v":""}]
[{"$f":"IF(①選手情報入力!$B$25=\"\",\"\",①選手情報入力!$B$25)","v":""},null,"氏 名",{"$f":"IF(①選手情報入力!$E$25=\"\",\"\",①選手情報入力!$E$25)","v":""},null,null,null,null,null,null,null,null,null,{"$f":"IF(①選手情報入力!$B$25=\"\",\"\",①選手情報入力!$B$25)","v":""},null,"氏 名",{"$f":"IF(①選手情報入力!$E$25=\"\",\"\",①選手情報入力!$E$25)","v":""}]
[]
["出場資格\n取得大会","大　会　名",null,null,null,"加入団体名",null,{"$f":"②団体情報入力!$D$5","v":{"$error":"#N/A"}},null,null,null,null,null,"出場資格\n取得大会","大　会　名",null,null,null,"加入団体名",null,{"$f":"②団体情報入力!$D$5","v":{"$error":"#N/A"}}]
[null,null,null,null,null,"年.月.日","順 位",null,"記　録",null,"場  所",null,null,null,null,null,null,null,"年.月.日","順 位",null,"記　録",null,"場  所"]
[null,null,null,null,null,null,null,null,{"$f":"IF(①選手情報入力!K25=\"\",\"\",①選手情報入力!K25)","v":""},null,null,null,null,null,null,null,null,null,null,null,null,{"$f":"IF(①選手情報入力!N25=\"\",\"\",①選手情報入力!N25)","v":""}]
[]
["本 年 度",null,null,null,null,null,null,null,{"$f":"IF(①選手情報入力!L25=\"\",\"同上\",①選手情報入力!L25)","v":"同上"},null,null,null,null,"本 年 度",null,null,null,null,null,null,null,{"$f":"IF(①選手情報入力!O25=\"\",\"同上\",①選手情報入力!O25)","v":"同上"}]
["最高記録",null,null,null,null,null,null,null,null,null,null,null,null,"最高記録"]
["備　  考","※記入不要",null,null,null,null,null,null,null,null,null,null,null,"備　  考","※記入不要"]
[]
["※標準記録突破大会は、公認大会で、記録会は正式名称を記入。",null,null,null,null,null,null,null,null,null,"女子は",null,null,"※標準記録突破大会は、公認大会で、記録会は正式名称を記入。",null,null,null,null,null,null,null,null,null,"女子は"]
["※参加資格・記録等記入不備の場合、審査の対象としない。",null,null,null,null,null,null,null,null,null,"ここを",null,null,"※参加資格・記録等記入不備の場合、審査の対象としない。",null,null,null,null,null,null,null,null,null,"ここを"]
["※申込締切期日厳守。",null,null,null,null,null,null,null,null,null,"切り取る",null,null,"※申込締切期日厳守。",null,null,null,null,null,null,null,null,null,"切り取る"]
[]
[]
["第76回愛知陸上競技選手権大会　個人申込票",null,null,null,null,null,null,null,null,null,null,17,null,"第76回愛知陸上競技選手権大会　個人申込票",null,null,null,null,null,null,null,null,null,null,17]
[null,null,null,"",null,null,null,null,null,"資格審査用",null,null,null,null,null,null,"",null,null,null,null,null,"資格審査用"]
[null,"性　　別",null,{"$f":"IF(①選手情報入力!J26=\"\",\"\",①選手情報入力!J26)","v":""},null,null,null,{"$f":"IF(①選手情報入力!P26=\"\",\"\",①選手情報入力!P26)","v":""},null,null,null,null,null,null,"性　　別",null,{"$f":"IF(①選手情報入力!M26=\"\",\"\",①選手情報入力!M26)","v":""},null,null,null,{"$f":"IF(①選手情報入力!P26=\"\",\"\",①選手情報入力!P26)","v":""}]
["種  目",{"$f":"IF(①選手情報入力!$H$26=\"\",\"\",①選手情報入力!$H$26)","v":""},null,null,null,null,null,null,null,null,null,null,null,"種  目",{"$f":"IF(①選手情報入力!$H$26=\"\",\"\",①選手情報入力!$H$26)","v":""}]
[]
["ナンバー",null,"ﾌ ﾘ ｶﾞﾅ",{"$f":"IF(①選手情報入力!$F$26=\"\",\"\",①選手情報入力!$F$26)","v":""},null,null,null,null,null,null,null,null,null,"ナンバー",null,"ﾌ ﾘ ｶﾞﾅ",{"$f":"IF(①選手情報入力!$F$26=\"\",\"\",①選手情報入力!$F$26)","v":""}]
[{"$f":"IF(①選手情報入力!$B$26=\"\",\"\",①選手情報入力!$B$26)","v":""},null,"氏 名",{"$f":"IF(①選手情報入力!$E$26=\"\",\"\",①選手情報入力!$E$26)","v":""},null,null,null,null,null,null,null,null,null,{"$f":"IF(①選手情報入力!$B$26=\"\",\"\",①選手情報入力!$B$26)","v":""},null,"氏 名",{"$f":"IF(①選手情報入力!$E$26=\"\",\"\",①選手情報入力!$E$26)","v":""}]
[]
["出場資格\n取得大会","大　会　名",null,null,null,"加入団体名",null,{"$f":"②団体情報入力!$D$5","v":{"$error":"#N/A"}},null,null,null,null,null,"出場資格\n取得大会","大　会　名",null,null,null,"加入団体名",null,{"$f":"②団体情報入力!$D$5","v":{"$error":"#N/A"}}]
[null,null,null,null,null,"年.月.日","順 位",null,"記　録",null,"場  所",null,null,null,null,null,null,null,"年.月.日","順 位",null,"記　録",null,"場  所"]
[null,null,null,null,null,null,null,null,{"$f":"IF(①選手情報入力!K26=\"\",\"\",①選手情報入力!K26)","v":""},null,null,null,null,null,null,null,null,null,null,null,null,{"$f":"IF(①選手情報入力!N26=\"\",\"\",①選手情報入力!N26)","v":""}]
[]
["本 年 度",null,null,null,null,null,null,null,{"$f":"IF(①選手情報入力!L26=\"\",\"同上\",①選手情報入力!L26)","v":"同上"},null,null,null,null,"本 年 度",null,null,null,null,null,null,null,{"$f":"IF(①選手情報入力!O26=\"\",\"同上\",①選手情報入力!O26)","v":"同上"}]
["最高記録",null,null,null,null,null,null,null,null,null,null,null,null,"最高記録"]
["備　  考","※記入不要",null,null,null,null,null,null,null,null,null,null,null,"備　  考","※記入不要"]
[]
["※標準記録突破大会は、公認大会で、記録会は正式名称を記入。",null,null,null,null,null,null,null,null,null,"女子は",null,null,"※標準記録突破大会は、公認大会で、記録会は正式名称を記入。",null,null,null,null,null,null,null,null,null,"女子は"]
["※参加資格・記録等記入不備の場合、審査の対象としない。",null,null,null,null,null,null,null,null,null,"ここを",null,null,"※参加資格・記録等記入不備の場合、審査の対象としない。",null,null,null,null,null,null,null,null,null,"ここを"]
["※申込締切期日厳守。",null,null,null,null,null,null,null,null,null,"切り取る",null,null,"※申込締切期日厳守。",null,null,null,null,null,null,null,null,null,"切り取る"]
[]
[]
["第76回愛知陸上競技選手権大会　個人申込票",null,null,null,null,null,null,null,null,null,null,18,null,"第76回愛知陸上競技選手権大会　個人申込票",null,null,null,null,null,null,null,null,null,null,18]
[null,null,null,"",null,null,null,null,null,"資格審査用",null,null,null,null,null,null,"",null,null,null,null,null,"資格審査用"]
[null,"性　　別",null,{"$f":"IF(①選手情報入力!J27=\"\",\"\",①選手情報入力!J27)","v":""},null,null,null,{"$f":"IF(①選手情報入力!P27=\"\",\"\",①選手情報入力!P27)","v":""},null,null,null,null,null,null,"性　　別",null,{"$f":"IF(①選手情報入力!M27=\"\",\"\",①選手情報入力!M27)","v":""},null,null,null,{"$f":"IF(①選手情報入力!P27=\"\",\"\",①選手情報入力!P27)","v":""}]
["種  目",{"$f":"IF(①選手情報入力!$H$27=\"\",\"\",①選手情報入力!$H$27)","v":""},null,null,null,null,null,null,null,null,null,null,null,"種  目",{"$f":"IF(①選手情報入力!$H$27=\"\",\"\",①選手情報入力!$H$27)","v":""}]
[]
["ナンバー",null,"ﾌ ﾘ ｶﾞﾅ",{"$f":"IF(①選手情報入力!$F$27=\"\",\"\",①選手情報入力!$F$27)","v":""},null,null,null,null,null,null,null,null,null,"ナンバー",null,"ﾌ ﾘ ｶﾞﾅ",{"$f":"IF(①選手情報入力!$F$27=\"\",\"\",①選手情報入力!$F$27)","v":""}]
[{"$f":"IF(①選手情報入力!$B$27=\"\",\"\",①選手情報入力!$B$27)","v":""},null,"氏 名",{"$f":"IF(①選手情報入力!$E$27=\"\",\"\",①選手情報入力!$E$27)","v":""},null,null,null,null,null,null,null,null,null,{"$f":"IF(①選手情報入力!$B$27=\"\",\"\",①選手情報入力!$B$27)","v":""},null,"氏 名",{"$f":"IF(①選手情報入力!$E$27=\"\",\"\",①選手情報入力!$E$27)","v":""}]
[]
["出場資格\n取得大会","大　会　名",null,null,null,"加入団体名",null,{"$f":"②団体情報入力!$D$5","v":{"$error":"#N/A"}},null,null,null,null,null,"出場資格\n取得大会","大　会　名",null,null,null,"加入団体名",null,{"$f":"②団体情報入力!$D$5","v":{"$error":"#N/A"}}]
[null,null,null,null,null,"年.月.日","順 位",null,"記　録",null,"場  所",null,null,null,null,null,null,null,"年.月.日","順 位",null,"記　録",null,"場  所"]
[null,null,null,null,null,null,null,null,{"$f":"IF(①選手情報入力!K27=\"\",\"\",①選手情報入力!K27)","v":""},null,null,null,null,null,null,null,null,null,null,null,null,{"$f":"IF(①選手情報入力!N27=\"\",\"\",①選手情報入力!N27)","v":""}]
[]
["本 年 度",null,null,null,null,null,null,null,{"$f":"IF(①選手情報入力!L27=\"\",\"同上\",①選手情報入力!L27)","v":"同上"},null,null,null,null,"本 年 度",null,null,null,null,null,null,null,{"$f":"IF(①選手情報入力!O27=\"\",\"同上\",①選手情報入力!O27)","v":"同上"}]
["最高記録",null,null,null,null,null,null,null,null,null,null,null,null,"最高記録"]
["備　  考","※記入不要",null,null,null,null,null,null,null,null,null,null,null,"備　  考","※記入不要"]
[]
["※標準記録突破大会は、公認大会で、記録会は正式名称を記入。",null,null,null,null,null,null,null,null,null,"女子は",null,null,"※標準記録突破大会は、公認大会で、記録会は正式名称を記入。",null,null,null,null,null,null,null,null,null,"女子は"]
["※参加資格・記録等記入不備の場合、審査の対象としない。",null,null,null,null,null,null,null,null,null,"ここを",null,null,"※参加資格・記録等記入不備の場合、審査の対象としない。",null,null,null,null,null,null,null,null,null,"ここを"]
["※申込締切期日厳守。",null,null,null,null,null,null,null,null,null,"切り取る",null,null,"※申込締切期日厳守。",null,null,null,null,null,null,null,null,null,"切り取る"]
[]
[]
["第76回愛知陸上競技選手権大会　個人申込票",null,null,null,null,null,null,null,null,null,null,19,null,"第76回愛知陸上競技選手権大会　個人申込票",null,null,null,null,null,null,null,null,null,null,19]
[null,null,null,"",null,null,null,null,null,"資格審査用",null,null,null,null,null,null,"",null,null,null,null,null,"資格審査用"]
[null,"性　　別",null,{"$f":"IF(①選手情報入力!J28=\"\",\"\",①選手情報入力!J28)","v":""},null,null,null,{"$f":"IF(①選手情報入力!P28=\"\",\"\",①選手情報入力!P28)","v":""},null,null,null,null,null,null,"性　　別",null,{"$f":"IF(①選手情報入力!M28=\"\",\"\",①選手情報入力!M28)","v":""},null,null,null,{"$f":"IF(①選手情報入力!P28=\"\",\"\",①選手情報入力!P28)","v":""}]
["種  目",{"$f":"IF(①選手情報入力!$H$28=\"\",\"\",①選手情報入力!$H$28)","v":""},null,null,null,null,null,null,null,null,null,null,null,"種  目",{"$f":"IF(①選手情報入力!$H$28=\"\",\"\",①選手情報入力!$H$28)","v":""}]
[]
["ナンバー",null,"ﾌ ﾘ ｶﾞﾅ",{"$f":"IF(①選手情報入力!$F$28=\"\",\"\",①選手情報入力!$F$28)","v":""},null,null,null,null,null,null,null,null,null,"ナンバー",null,"ﾌ ﾘ ｶﾞﾅ",{"$f":"IF(①選手情報入力!$F$28=\"\",\"\",①選手情報入力!$F$28)","v":""}]
[{"$f":"IF(①選手情報入力!$B$28=\"\",\"\",①選手情報入力!$B$28)","v":""},null,"氏 名",{"$f":"IF(①選手情報入力!$E$28=\"\",\"\",①選手情報入力!$E$28)","v":""},null,null,null,null,null,null,null,null,null,{"$f":"IF(①選手情報入力!$B$28=\"\",\"\",①選手情報入力!$B$28)","v":""},null,"氏 名",{"$f":"IF(①選手情報入力!$E$28=\"\",\"\",①選手情報入力!$E$28)","v":""}]
[]
["出場資格\n取得大会","大　会　名",null,null,null,"加入団体名",null,{"$f":"②団体情報入力!$D$5","v":{"$error":"#N/A"}},null,null,null,null,null,"出場資格\n取得大会","大　会　名",null,null,null,"加入団体名",null,{"$f":"②団体情報入力!$D$5","v":{"$error":"#N/A"}}]
[null,null,null,null,null,"年.月.日","順 位",null,"記　録",null,"場  所",null,null,null,null,null,null,null,"年.月.日","順 位",null,"記　録",null,"場  所"]
[null,null,null,null,null,null,null,null,{"$f":"IF(①選手情報入力!K28=\"\",\"\",①選手情報入力!K28)","v":""},null,null,null,null,null,null,null,null,null,null,null,null,{"$f":"IF(①選手情報入力!N28=\"\",\"\",①選手情報入力!N28)","v":""}]
[]
["本 年 度",null,null,null,null,null,null,null,{"$f":"IF(①選手情報入力!L28=\"\",\"同上\",①選手情報入力!L28)","v":"同上"},null,null,null,null,"本 年 度",null,null,null,null,null,null,null,{"$f":"IF(①選手情報入力!O28=\"\",\"同上\",①選手情報入力!O28)","v":"同上"}]
["最高記録",null,null,null,null,null,null,null,null,null,null,null,null,"最高記録"]
["備　  考","※記入不要",null,null,null,null,null,null,null,null,null,null,null,"備　  考","※記入不要"]
[]
["※標準記録突破大会は、公認大会で、記録会は正式名称を記入。",null,null,null,null,null,null,null,null,null,"女子は",null,null,"※標準記録突破大会は、公認大会で、記録会は正式名称を記入。",null,null,null,null,null,null,null,null,null,"女子は"]
["※参加資格・記録等記入不備の場合、審査の対象としない。",null,null,null,null,null,null,null,null,null,"ここを",null,null,"※参加資格・記録等記入不備の場合、審査の対象としない。",null,null,null,null,null,null,null,null,null,"ここを"]
["※申込締切期日厳守。",null,null,null,null,null,null,null,null,null,"切り取る",null,null,"※申込締切期日厳守。",null,null,null,null,null,null,null,null,null,"切り取る"]
[]
[]
["第76回愛知陸上競技選手権大会　個人申込票",null,null,null,null,null,null,null,null,null,null,20,null,"第76回愛知陸上競技選手権大会　個人申込票",null,null,null,null,null,null,null,null,null,null,20]
[null,null,null,"",null,null,null,null,null,"資格審査用",null,null,null,null,null,null,"",null,null,null,null,null,"資格審査用"]
[null,"性　　別",null,{"$f":"IF(①選手情報入力!J29=\"\",\"\",①選手情報入力!J29)","v":""},null,null,null,{"$f":"IF(①選手情報入力!P29=\"\",\"\",①選手情報入力!P29)","v":""},null,null,null,null,null,null,"性　　別",null,{"$f":"IF(①選手情報入力!M29=\"\",\"\",①選手情報入力!M29)","v":""},null,null,null,{"$f":"IF(①選手情報入力!P29=\"\",\"\",①選手情報入力!P29)","v":""}]
["種  目",{"$f":"IF(①選手情報入力!$H$29=\"\",\"\",①選手情報入力!$H$29)","v":""},null,null,null,null,null,null,null,null,null,null,null,"種  目",{"$f":"IF(①選手情報入力!$H$29=\"\",\"\",①選手情報入力!$H$29)","v":""}]
[]
["ナンバー",null,"ﾌ ﾘ ｶﾞﾅ",{"$f":"IF(①選手情報入力!$F$29=\"\",\"\",①選手情報入力!$F$29)","v":""},null,null,null,null,null,null,null,null,null,"ナンバー",null,"ﾌ ﾘ ｶﾞﾅ",{"$f":"IF(①選手情報入力!$F$29=\"\",\"\",①選手情報入力!$F$29)","v":""}]
[{"$f":"IF(①選手情報入力!$B$29=\"\",\"\",①選手情報入力!$B$29)","v":""},null,"氏 名",{"$f":"IF(①選手情報入力!$E$29=\"\",\"\",①選手情報入力!$E$29)","v":""},null,null,null,null,null,null,null,null,null,{"$f":"IF(①選手情報入力!$B$29=\"\",\"\",①選手情報入力!$B$29)","v":""},null,"氏 名",{"$f":"IF(①選手情報入力!$E$29=\"\",\"\",①選手情報入力!$E$29)","v":""}]
[]
["出場資格\n取得大会","大　会　名",null,null,null,"加入団体名",null,{"$f":"②団体情報入力!$D$5","v":{"$error":"#N/A"}},null,null,null,null,null,"出場資格\n取得大会","大　会　名",null,null,null,"加入団体名",null,{"$f":"②団体情報入力!$D$5","v":{"$error":"#N/A"}}]
[null,null,null,null,null,"年.月.日","順 位",null,"記　録",null,"場  所",null,null,null,null,null,null,null,"年.月.日","順 位",null,"記　録",null,"場  所"]
[null,null,null,null,null,null,null,null,{"$f":"IF(①選手情報入力!K29=\"\",\"\",①選手情報入力!K29)","v":""},null,null,null,null,null,null,null,null,null,null,null,null,{"$f":"IF(①選手情報入力!N29=\"\",\"\",①選手情報入力!N29)","v":""}]
[]
["本 年 度",null,null,null,null,null,null,null,{"$f":"IF(①選手情報入力!L29=\"\",\"同上\",①選手情報入力!L29)","v":"同上"},null,null,null,null,"本 年 度",null,null,null,null,null,null,null,{"$f":"IF(①選手情報入力!O29=\"\",\"同上\",①選手情報入力!O29)","v":"同上"}]
["最高記録",null,null,null,null,null,null,null,null,null,null,null,null,"最高記録"]
["備　  考","※記入不要",null,null,null,null,null,null,null,null,null,null,null,"備　  考","※記入不要"]
[]
["※標準記録突破大会は、公認大会で、記録会は正式名称を記入。",null,null,null,null,null,null,null,null,null,"女子は",null,null,"※標準記録突破大会は、公認大会で、記録会は正式名称を記入。",null,null,null,null,null,null,null,null,null,"女子は"]
["※参加資格・記録等記入不備の場合、審査の対象としない。",null,null,null,null,null,null,null,null,null,"ここを",null,null,"※参加資格・記録等記入不備の場合、審査の対象としない。",null,null,null,null,null,null,null,null,null,"ここを"]
["※申込締切期日厳守。",null,null,null,null,null,null,null,null,null,"切り取る",null,null,"※申込締切期日厳守。",null,null,null,null,null,null,null,null,null,"切り取る"]
[]
[]
["第76回愛知陸上競技選手権大会　個人申込票",null,null,null,null,null,null,null,null,null,null,21,null,"第76回愛知陸上競技選手権大会　個人申込票",null,null,null,null,null,null,null,null,null,null,21]
[null,null,null,"",null,null,null,null,null,"資格審査用",null,null,null,null,null,null,"",null,null,null,null,null,"資格審査用"]
[null,"性　　別",null,{"$f":"IF(①選手情報入力!J30=\"\",\"\",①選手情報入力!J30)","v":""},null,null,null,{"$f":"IF(①選手情報入力!P30=\"\",\"\",①選手情報入力!P30)","v":""},null,null,null,null,null,null,"性　　別",null,{"$f":"IF(①選手情報入力!M30=\"\",\"\",①選手情報入力!M30)","v":""},null,null,null,{"$f":"IF(①選手情報入力!P30=\"\",\"\",①選手情報入力!P30)","v":""}]
["種  目",{"$f":"IF(①選手情報入力!$H$30=\"\",\"\",①選手情報入力!$H$30)","v":""},null,null,null,null,null,null,null,null,null,null,null,"種  目",{"$f":"IF(①選手情報入力!$H$30=\"\",\"\",①選手情報入力!$H$30)","v":""}]
[]
["ナンバー",null,"ﾌ ﾘ ｶﾞﾅ",{"$f":"IF(①選手情報入力!$F$30=\"\",\"\",①選手情報入力!$F$30)","v":""},null,null,null,null,null,null,null,null,null,"ナンバー",null,"ﾌ ﾘ ｶﾞﾅ",{"$f":"IF(①選手情報入力!$F$30=\"\",\"\",①選手情報入力!$F$30)","v":""}]
[{"$f":"IF(①選手情報入力!$B$30=\"\",\"\",①選手情報入力!$B$30)","v":""},null,"氏 名",{"$f":"IF(①選手情報入力!$E$30=\"\",\"\",①選手情報入力!$E$30)","v":""},null,null,null,null,null,null,null,null,null,{"$f":"IF(①選手情報入力!$B$30=\"\",\"\",①選手情報入力!$B$30)","v":""},null,"氏 名",{"$f":"IF(①選手情報入力!$E$30=\"\",\"\",①選手情報入力!$E$30)","v":""}]
[]
["出場資格\n取得大会","大　会　名",null,null,null,"加入団体名",null,{"$f":"②団体情報入力!$D$5","v":{"$error":"#N/A"}},null,null,null,null,null,"出場資格\n取得大会","大　会　名",null,null,null,"加入団体名",null,{"$f":"②団体情報入力!$D$5","v":{"$error":"#N/A"}}]
[null,null,null,null,null,"年.月.日","順 位",null,"記　録",null,"場  所",null,null,null,null,null,null,null,"年.月.日","順 位",null,"記　録",null,"場  所"]
[null,null,null,null,null,null,null,null,{"$f":"IF(①選手情報入力!K30=\"\",\"\",①選手情報入力!K30)","v":""},null,null,null,null,null,null,null,null,null,null,null,null,{"$f":"IF(①選手情報入力!N30=\"\",\"\",①選手情報入力!N30)","v":""}]
[]
["本 年 度",null,null,null,null,null,null,null,{"$f":"IF(①選手情報入力!L30=\"\",\"同上\",①選手情報入力!L30)","v":"同上"},null,null,null,null,"本 年 度",null,null,null,null,null,null,null,{"$f":"IF(①選手情報入力!O30=\"\",\"同上\",①選手情報入力!O30)","v":"同上"}]
["最高記録",null,null,null,null,null,null,null,null,null,null,null,null,"最高記録"]
["備　  考","※記入不要",null,null,null,null,null,null,null,null,null,null,null,"備　  考","※記入不要"]
[]
["※標準記録突破大会は、公認大会で、記録会は正式名称を記入。",null,null,null,null,null,null,null,null,null,"女子は",null,null,"※標準記録突破大会は、公認大会で、記録会は正式名称を記入。",null,null,null,null,null,null,null,null,null,"女子は"]
["※参加資格・記録等記入不備の場合、審査の対象としない。",null,null,null,null,null,null,null,null,null,"ここを",null,null,"※参加資格・記録等記入不備の場合、審査の対象としない。",null,null,null,null,null,null,null,null,null,"ここを"]
["※申込締切期日厳守。",null,null,null,null,null,null,null,null,null,"切り取る",null,null,"※申込締切期日厳守。",null,null,null,null,null,null,null,null,null,"切り取る"]
[]
[]
["第76回愛知陸上競技選手権大会　個人申込票",null,null,null,null,null,null,null,null,null,null,22,null,"第76回愛知陸上競技選手権大会　個人申込票",null,null,null,null,null,null,null,null,null,null,22]
[null,null,null,"",null,null,null,null,null,"資格審査用",null,null,null,null,null,null,"",null,null,null,null,null,"資格審査用"]
[null,"性　　別",null,{"$f":"IF(①選手情報入力!J31=\"\",\"\",①選手情報入力!J31)","v":""},null,null,null,{"$f":"IF(①選手情報入力!P31=\"\",\"\",①選手情報入力!P31)","v":""},null,null,null,null,null,null,"性　　別",null,{"$f":"IF(①選手情報入力!M31=\"\",\"\",①選手情報入力!M31)","v":""},null,null,null,{"$f":"IF(①選手情報入力!P31=\"\",\"\",①選手情報入力!P31)","v":""}]
["種  目",{"$f":"IF(①選手情報入力!$H$31=\"\",\"\",①選手情報入力!$H$31)","v":""},null,null,null,null,null,null,null,null,null,null,null,"種  目",{"$f":"IF(①選手情報入力!$H$31=\"\",\"\",①選手情報入力!$H$31)","v":""}]
[]
["ナンバー",null,"ﾌ ﾘ ｶﾞﾅ",{"$f":"IF(①選手情報入力!$F$31=\"\",\"\",①選手情報入力!$F$31)","v":""},null,null,null,null,null,null,null,null,null,"ナンバー",null,"ﾌ ﾘ ｶﾞﾅ",{"$f":"IF(①選手情報入力!$F$31=\"\",\"\",①選手情報入力!$F$31)","v":""}]
[{"$f":"IF(①選手情報入力!$B$31=\"\",\"\",①選手情報入力!$B$31)","v":""},null,"氏 名",{"$f":"IF(①選手情報入力!$E$31=\"\",\"\",①選手情報入力!$E$31)","v":""},null,null,null,null,null,null,null,null,null,{"$f":"IF(①選手情報入力!$B$31=\"\",\"\",①選手情報入力!$B$31)","v":""},null,"氏 名",{"$f":"IF(①選手情報入力!$E$31=\"\",\"\",①選手情報入力!$E$31)","v":""}]
[]
["出場資格\n取得大会","大　会　名",null,null,null,"加入団体名",null,{"$f":"②団体情報入力!$D$5","v":{"$error":"#N/A"}},null,null,null,null,null,"出場資格\n取得大会","大　会　名",null,null,null,"加入団体名",null,{"$f":"②団体情報入力!$D$5","v":{"$error":"#N/A"}}]
[null,null,null,null,null,"年.月.日","順 位",null,"記　録",null,"場  所",null,null,null,null,null,null,null,"年.月.日","順 位",null,"記　録",null,"場  所"]
[null,null,null,null,null,null,null,null,{"$f":"IF(①選手情報入力!K31=\"\",\"\",①選手情報入力!K31)","v":""},null,null,null,null,null,null,null,null,null,null,null,null,{"$f":"IF(①選手情報入力!N31=\"\",\"\",①選手情報入力!N31)","v":""}]
[]
["本 年 度",null,null,null,null,null,null,null,{"$f":"IF(①選手情報入力!L31=\"\",\"同上\",①選手情報入力!L31)","v":"同上"},null,null,null,null,"本 年 度",null,null,null,null,null,null,null,{"$f":"IF(①選手情報入力!O31=\"\",\"同上\",①選手情報入力!O31)","v":"同上"}]
["最高記録",null,null,null,null,null,null,null,null,null,null,null,null,"最高記録"]
["備　  考","※記入不要",null,null,null,null,null,null,null,null,null,null,null,"備　  考","※記入不要"]
[]
["※標準記録突破大会は、公認大会で、記録会は正式名称を記入。",null,null,null,null,null,null,null,null,null,"女子は",null,null,"※標準記録突破大会は、公認大会で、記録会は正式名称を記入。",null,null,null,null,null,null,null,null,null,"女子は"]
["※参加資格・記録等記入不備の場合、審査の対象としない。",null,null,null,null,null,null,null,null,null,"ここを",null,null,"※参加資格・記録等記入不備の場合、審査の対象としない。",null,null,null,null,null,null,null,null,null,"ここを"]
["※申込締切期日厳守。",null,null,null,null,null,null,null,null,null,"切り取る",null,null,"※申込締切期日厳守。",null,null,null,null,null,null,null,null,null,"切り取る"]
[]
[]
["第76回愛知陸上競技選手権大会　個人申込票",null,null,null,null,null,null,null,null,null,null,23,null,"第76回愛知陸上競技選手権大会　個人申込票",null,null,null,null,null,null,null,null,null,null,23]
[null,null,null,"",null,null,null,null,null,"資格審査用",null,null,null,null,null,null,"",null,null,null,null,null,"資格審査用"]
[null,"性　　別",null,{"$f":"IF(①選手情報入力!J32=\"\",\"\",①選手情報入力!J32)","v":""},null,null,null,{"$f":"IF(①選手情報入力!P32=\"\",\"\",①選手情報入力!P32)","v":""},null,null,null,null,null,null,"性　　別",null,{"$f":"IF(①選手情報入力!M32=\"\",\"\",①選手情報入力!M32)","v":""},null,null,null,{"$f":"IF(①選手情報入力!P32=\"\",\"\",①選手情報入力!P32)","v":""}]
["種  目",{"$f":"IF(①選手情報入力!$H$32=\"\",\"\",①選手情報入力!$H$32)","v":""},null,null,null,null,null,null,null,null,null,null,null,"種  目",{"$f":"IF(①選手情報入力!$H$32=\"\",\"\",①選手情報入力!$H$32)","v":""}]
[]
["ナンバー",null,"ﾌ ﾘ ｶﾞﾅ",{"$f":"IF(①選手情報入力!$F$32=\"\",\"\",①選手情報入力!$F$32)","v":""},null,null,null,null,null,null,null,null,null,"ナンバー",null,"ﾌ ﾘ ｶﾞﾅ",{"$f":"IF(①選手情報入力!$F$32=\"\",\"\",①選手情報入力!$F$32)","v":""}]
[{"$f":"IF(①選手情報入力!$B$32=\"\",\"\",①選手情報入力!$B$32)","v":""},null,"氏 名",{"$f":"IF(①選手情報入力!$E$32=\"\",\"\",①選手情報入力!$E$32)","v":""},null,null,null,null,null,null,null,null,null,{"$f":"IF(①選手情報入力!$B$32=\"\",\"\",①選手情報入力!$B$32)","v":""},null,"氏 名",{"$f":"IF(①選手情報入力!$E$32=\"\",\"\",①選手情報入力!$E$32)","v":""}]
[]
["出場資格\n取得大会","大　会　名",null,null,null,"加入団体名",null,{"$f":"②団体情報入力!$D$5","v":{"$error":"#N/A"}},null,null,null,null,null,"出場資格\n取得大会","大　会　名",null,null,null,"加入団体名",null,{"$f":"②団体情報入力!$D$5","v":{"$error":"#N/A"}}]
[null,null,null,null,null,"年.月.日","順 位",null,"記　録",null,"場  所",null,null,null,null,null,null,null,"年.月.日","順 位",null,"記　録",null,"場  所"]
[null,null,null,null,null,null,null,null,{"$f":"IF(①選手情報入力!K32=\"\",\"\",①選手情報入力!K32)","v":""},null,null,null,null,null,null,null,null,null,null,null,null,{"$f":"IF(①選手情報入力!N32=\"\",\"\",①選手情報入力!N32)","v":""}]
[]
["本 年 度",null,null,null,null,null,null,null,{"$f":"IF(①選手情報入力!L32=\"\",\"同上\",①選手情報入力!L32)","v":"同上"},null,null,null,null,"本 年 度",null,null,null,null,null,null,null,{"$f":"IF(①選手情報入力!O32=\"\",\"同上\",①選手情報入力!O32)","v":"同上"}]
["最高記録",null,null,null,null,null,null,null,null,null,null,null,null,"最高記録"]
["備　  考","※記入不要",null,null,null,null,null,null,null,null,null,null,null,"備　  考","※記入不要"]
[]
["※標準記録突破大会は、公認大会で、記録会は正式名称を記入。",null,null,null,null,null,null,null,null,null,"女子は",null,null,"※標準記録突破大会は、公認大会で、記録会は正式名称を記入。",null,null,null,null,null,null,null,null,null,"女子は"]
["※参加資格・記録等記入不備の場合、審査の対象としない。",null,null,null,null,null,null,null,null,null,"ここを",null,null,"※参加資格・記録等記入不備の場合、審査の対象としない。",null,null,null,null,null,null,null,null,null,"ここを"]
["※申込締切期日厳守。",null,null,null,null,null,null,null,null,null,"切り取る",null,null,"※申込締切期日厳守。",null,null,null,null,null,null,null,null,null,"切り取る"]
[]
[]
["第76回愛知陸上競技選手権大会　個人申込票",null,null,null,null,null,null,null,null,null,null,24,null,"第76回愛知陸上競技選手権大会　個人申込票",null,null,null,null,null,null,null,null,null,null,24]
[null,null,null,"",null,null,null,null,null,"資格審査用",null,null,null,null,null,null,"",null,null,null,null,null,"資格審査用"]
[null,"性　　別",null,{"$f":"IF(①選手情報入力!J33=\"\",\"\",①選手情報入力!J33)","v":""},null,null,null,{"$f":"IF(①選手情報入力!P33=\"\",\"\",①選手情報入力!P33)","v":""},null,null,null,null,null,null,"性　　別",null,{"$f":"IF(①選手情報入力!M33=\"\",\"\",①選手情報入力!M33)","v":""},null,null,null,{"$f":"IF(①選手情報入力!P33=\"\",\"\",①選手情報入力!P33)","v":""}]
["種  目",{"$f":"IF(①選手情報入力!$H$33=\"\",\"\",①選手情報入力!$H$33)","v":""},null,null,null,null,null,null,null,null,null,null,null,"種  目",{"$f":"IF(①選手情報入力!$H$33=\"\",\"\",①選手情報入力!$H$33)","v":""}]
[]
["ナンバー",null,"ﾌ ﾘ ｶﾞﾅ",{"$f":"IF(①選手情報入力!$F$33=\"\",\"\",①選手情報入力!$F$33)","v":""},null,null,null,null,null,null,null,null,null,"ナンバー",null,"ﾌ ﾘ ｶﾞﾅ",{"$f":"IF(①選手情報入力!$F$33=\"\",\"\",①選手情報入力!$F$33)","v":""}]
[{"$f":"IF(①選手情報入力!$B$33=\"\",\"\",①選手情報入力!$B$33)","v":""},null,"氏 名",{"$f":"IF(①選手情報入力!$E$33=\"\",\"\",①選手情報入力!$E$33)","v":""},null,null,null,null,null,null,null,null,null,{"$f":"IF(①選手情報入力!$B$33=\"\",\"\",①選手情報入力!$B$33)","v":""},null,"氏 名",{"$f":"IF(①選手情報入力!$E$33=\"\",\"\",①選手情報入力!$E$33)","v":""}]
[]
["出場資格\n取得大会","大　会　名",null,null,null,"加入団体名",null,{"$f":"②団体情報入力!$D$5","v":{"$error":"#N/A"}},null,null,null,null,null,"出場資格\n取得大会","大　会　名",null,null,null,"加入団体名",null,{"$f":"②団体情報入力!$D$5","v":{"$error":"#N/A"}}]
[null,null,null,null,null,"年.月.日","順 位",null,"記　録",null,"場  所",null,null,null,null,null,null,null,"年.月.日","順 位",null,"記　録",null,"場  所"]
[null,null,null,null,null,null,null,null,{"$f":"IF(①選手情報入力!K33=\"\",\"\",①選手情報入力!K33)","v":""},null,null,null,null,null,null,null,null,null,null,null,null,{"$f":"IF(①選手情報入力!N33=\"\",\"\",①選手情報入力!N33)","v":""}]
[]
["本 年 度",null,null,null,null,null,null,null,{"$f":"IF(①選手情報入力!L33=\"\",\"同上\",①選手情報入力!L33)","v":"同上"},null,null,null,null,"本 年 度",null,null,null,null,null,null,null,{"$f":"IF(①選手情報入力!O33=\"\",\"同上\",①選手情報入力!O33)","v":"同上"}]
["最高記録",null,null,null,null,null,null,null,null,null,null,null,null,"最高記録"]
["備　  考","※記入不要",null,null,null,null,null,null,null,null,null,null,null,"備　  考","※記入不要"]
[]
["※標準記録突破大会は、公認大会で、記録会は正式名称を記入。",null,null,null,null,null,null,null,null,null,"女子は",null,null,"※標準記録突破大会は、公認大会で、記録会は正式名称を記入。",null,null,null,null,null,null,null,null,null,"女子は"]
["※参加資格・記録等記入不備の場合、審査の対象としない。",null,null,null,null,null,null,null,null,null,"ここを",null,null,"※参加資格・記録等記入不備の場合、審査の対象としない。",null,null,null,null,null,null,null,null,null,"ここを"]
["※申込締切期日厳守。",null,null,null,null,null,null,null,null,null,"切り取る",null,null,"※申込締切期日厳守。",null,null,null,null,null,null,null,null,null,"切り取る"]
[]
[]
["第76回愛知陸上競技選手権大会　個人申込票",null,null,null,null,null,null,null,null,null,null,25,null,"第76回愛知陸上競技選手権大会　個人申込票",null,null,null,null,null,null,null,null,null,null,25]
[null,null,null,"",null,null,null,null,null,"資格審査用",null,null,null,null,null,null,"",null,null,null,null,null,"資格審査用"]
[null,"性　　別",null,{"$f":"IF(①選手情報入力!J34=\"\",\"\",①選手情報入力!J34)","v":""},null,null,null,{"$f":"IF(①選手情報入力!P34=\"\",\"\",①選手情報入力!P34)","v":""},null,null,null,null,null,null,"性　　別",null,{"$f":"IF(①選手情報入力!M34=\"\",\"\",①選手情報入力!M34)","v":""},null,null,null,{"$f":"IF(①選手情報入力!P34=\"\",\"\",①選手情報入力!P34)","v":""}]
["種  目",{"$f":"IF(①選手情報入力!$H$34=\"\",\"\",①選手情報入力!$H$34)","v":""},null,null,null,null,null,null,null,null,null,null,null,"種  目",{"$f":"IF(①選手情報入力!$H$34=\"\",\"\",①選手情報入力!$H$34)","v":""}]
[]
["ナンバー",null,"ﾌ ﾘ ｶﾞﾅ",{"$f":"IF(①選手情報入力!$F$34=\"\",\"\",①選手情報入力!$F$34)","v":""},null,null,null,null,null,null,null,null,null,"ナンバー",null,"ﾌ ﾘ ｶﾞﾅ",{"$f":"IF(①選手情報入力!$F$34=\"\",\"\",①選手情報入力!$F$34)","v":""}]
[{"$f":"IF(①選手情報入力!$B$34=\"\",\"\",①選手情報入力!$B$34)","v":""},null,"氏 名",{"$f":"IF(①選手情報入力!$E$34=\"\",\"\",①選手情報入力!$E$34)","v":""},null,null,null,null,null,null,null,null,null,{"$f":"IF(①選手情報入力!$B$34=\"\",\"\",①選手情報入力!$B$34)","v":""},null,"氏 名",{"$f":"IF(①選手情報入力!$E$34=\"\",\"\",①選手情報入力!$E$34)","v":""}]
[]
["出場資格\n取得大会","大　会　名",null,null,null,"加入団体名",null,{"$f":"②団体情報入力!$D$5","v":{"$error":"#N/A"}},null,null,null,null,null,"出場資格\n取得大会","大　会　名",null,null,null,"加入団体名",null,{"$f":"②団体情報入力!$D$5","v":{"$error":"#N/A"}}]
[null,null,null,null,null,"年.月.日","順 位",null,"記　録",null,"場  所",null,null,null,null,null,null,null,"年.月.日","順 位",null,"記　録",null,"場  所"]
[null,null,null,null,null,null,null,null,{"$f":"IF(①選手情報入力!K34=\"\",\"\",①選手情報入力!K34)","v":""},null,null,null,null,null,null,null,null,null,null,null,null,{"$f":"IF(①選手情報入力!N34=\"\",\"\",①選手情報入力!N34)","v":""}]
[]
["本 年 度",null,null,null,null,null,null,null,{"$f":"IF(①選手情報入力!L34=\"\",\"同上\",①選手情報入力!L34)","v":"同上"},null,null,null,null,"本 年 度",null,null,null,null,null,null,null,{"$f":"IF(①選手情報入力!O34=\"\",\"同上\",①選手情報入力!O34)","v":"同上"}]
["最高記録",null,null,null,null,null,null,null,null,null,null,null,null,"最高記録"]
["備　  考","※記入不要",null,null,null,null,null,null,null,null,null,null,null,"備　  考","※記入不要"]
[]
["※標準記録突破大会は、公認大会で、記録会は正式名称を記入。",null,null,null,null,null,null,null,null,null,"女子は",null,null,"※標準記録突破大会は、公認大会で、記録会は正式名称を記入。",null,null,null,null,null,null,null,null,null,"女子は"]
["※参加資格・記録等記入不備の場合、審査の対象としない。",null,null,null,null,null,null,null,null,null,"ここを",null,null,"※参加資格・記録等記入不備の場合、審査の対象としない。",null,null,null,null,null,null,null,null,null,"ここを"]
["※申込締切期日厳守。",null,null,null,null,null,null,null,null,null,"切り取る",null,null,"※申込締切期日厳守。",null,null,null,null,null,null,null,null,null,"切り取る"]
[]
[]
["第76回愛知陸上競技選手権大会　個人申込票",null,null,null,null,null,null,null,null,null,null,26,null,"第76回愛知陸上競技選手権大会　個人申込票",null,null,null,null,null,null,null,null,null,null,26]
[null,null,null,"",null,null,null,null,null,"資格審査用",null,null,null,null,null,null,"",null,null,null,null,null,"資格審査用"]
[null,"性　　別",null,{"$f":"IF(①選手情報入力!J35=\"\",\"\",①選手情報入力!J35)","v":""},null,null,null,{"$f":"IF(①選手情報入力!P35=\"\",\"\",①選手情報入力!P35)","v":""},null,null,null,null,null,null,"性　　別",null,{"$f":"IF(①選手情報入力!M35=\"\",\"\",①選手情報入力!M35)","v":""},null,null,null,{"$f":"IF(①選手情報入力!P35=\"\",\"\",①選手情報入力!P35)","v":""}]
["種  目",{"$f":"IF(①選手情報入力!$H$35=\"\",\"\",①選手情報入力!$H$35)","v":""},null,null,null,null,null,null,null,null,null,null,null,"種  目",{"$f":"IF(①選手情報入力!$H$35=\"\",\"\",①選手情報入力!$H$35)","v":""}]
[]
["ナンバー",null,"ﾌ ﾘ ｶﾞﾅ",{"$f":"IF(①選手情報入力!$F$35=\"\",\"\",①選手情報入力!$F$35)","v":""},null,null,null,null,null,null,null,null,null,"ナンバー",null,"ﾌ ﾘ ｶﾞﾅ",{"$f":"IF(①選手情報入力!$F$35=\"\",\"\",①選手情報入力!$F$35)","v":""}]
[{"$f":"IF(①選手情報入力!$B$35=\"\",\"\",①選手情報入力!$B$35)","v":""},null,"氏 名",{"$f":"IF(①選手情報入力!$E$35=\"\",\"\",①選手情報入力!$E$35)","v":""},null,null,null,null,null,null,null,null,null,{"$f":"IF(①選手情報入力!$B$35=\"\",\"\",①選手情報入力!$B$35)","v":""},null,"氏 名",{"$f":"IF(①選手情報入力!$E$35=\"\",\"\",①選手情報入力!$E$35)","v":""}]
[]
["出場資格\n取得大会","大　会　名",null,null,null,"加入団体名",null,{"$f":"②団体情報入力!$D$5","v":{"$error":"#N/A"}},null,null,null,null,null,"出場資格\n取得大会","大　会　名",null,null,null,"加入団体名",null,{"$f":"②団体情報入力!$D$5","v":{"$error":"#N/A"}}]
[null,null,null,null,null,"年.月.日","順 位",null,"記　録",null,"場  所",null,null,null,null,null,null,null,"年.月.日","順 位",null,"記　録",null,"場  所"]
[null,null,null,null,null,null,null,null,{"$f":"IF(①選手情報入力!K35=\"\",\"\",①選手情報入力!K35)","v":""},null,null,null,null,null,null,null,null,null,null,null,null,{"$f":"IF(①選手情報入力!N35=\"\",\"\",①選手情報入力!N35)","v":""}]
[]
["本 年 度",null,null,null,null,null,null,null,{"$f":"IF(①選手情報入力!L35=\"\",\"同上\",①選手情報入力!L35)","v":"同上"},null,null,null,null,"本 年 度",null,null,null,null,null,null,null,{"$f":"IF(①選手情報入力!O35=\"\",\"同上\",①選手情報入力!O35)","v":"同上"}]
["最高記録",null,null,null,null,null,null,null,null,null,null,null,null,"最高記録"]
["備　  考","※記入不要",null,null,null,null,null,null,null,null,null,null,null,"備　  考","※記入不要"]
[]
["※標準記録突破大会は、公認大会で、記録会は正式名称を記入。",null,null,null,null,null,null,null,null,null,"女子は",null,null,"※標準記録突破大会は、公認大会で、記録会は正式名称を記入。",null,null,null,null,null,null,null,null,null,"女子は"]
["※参加資格・記録等記入不備の場合、審査の対象としない。",null,null,null,null,null,null,null,null,null,"ここを",null,null,"※参加資格・記録等記入不備の場合、審査の対象としない。",null,null,null,null,null,null,null,null,null,"ここを"]
["※申込締切期日厳守。",null,null,null,null,null,null,null,null,null,"切り取る",null,null,"※申込締切期日厳守。",null,null,null,null,null,null,null,null,null,"切り取る"]
[]
[]
["第76回愛知陸上競技選手権大会　個人申込票",null,null,null,null,null,null,null,null,null,null,27,null,"第76回愛知陸上競技選手権大会　個人申込票",null,null,null,null,null,null,null,null,null,null,27]
[null,null,null,"",null,null,null,null,null,"資格審査用",null,null,null,null,null,null,"",null,null,null,null,null,"資格審査用"]
[null,"性　　別",null,{"$f":"IF(①選手情報入力!J36=\"\",\"\",①選手情報入力!J36)","v":""},null,null,null,{"$f":"IF(①選手情報入力!P36=\"\",\"\",①選手情報入力!P36)","v":""},null,null,null,null,null,null,"性　　別",null,{"$f":"IF(①選手情報入力!M36=\"\",\"\",①選手情報入力!M36)","v":""},null,null,null,{"$f":"IF(①選手情報入力!P36=\"\",\"\",①選手情報入力!P36)","v":""}]
["種  目",{"$f":"IF(①選手情報入力!$H$36=\"\",\"\",①選手情報入力!$H$36)","v":""},null,null,null,null,null,null,null,null,null,null,null,"種  目",{"$f":"IF(①選手情報入力!$H$36=\"\",\"\",①選手情報入力!$H$36)","v":""}]
[]
["ナンバー",null,"ﾌ ﾘ ｶﾞﾅ",{"$f":"IF(①選手情報入力!$F$36=\"\",\"\",①選手情報入力!$F$36)","v":""},null,null,null,null,null,null,null,null,null,"ナンバー",null,"ﾌ ﾘ ｶﾞﾅ",{"$f":"IF(①選手情報入力!$F$36=\"\",\"\",①選手情報入力!$F$36)","v":""}]
[{"$f":"IF(①選手情報入力!$B$36=\"\",\"\",①選手情報入力!$B$36)","v":""},null,"氏 名",{"$f":"IF(①選手情報入力!$E$36=\"\",\"\",①選手情報入力!$E$36)","v":""},null,null,null,null,null,null,null,null,null,{"$f":"IF(①選手情報入力!$B$36=\"\",\"\",①選手情報入力!$B$36)","v":""},null,"氏 名",{"$f":"IF(①選手情報入力!$E$36=\"\",\"\",①選手情報入力!$E$36)","v":""}]
[]
["出場資格\n取得大会","大　会　名",null,null,null,"加入団体名",null,{"$f":"②団体情報入力!$D$5","v":{"$error":"#N/A"}},null,null,null,null,null,"出場資格\n取得大会","大　会　名",null,null,null,"加入団体名",null,{"$f":"②団体情報入力!$D$5","v":{"$error":"#N/A"}}]
[null,null,null,null,null,"年.月.日","順 位",null,"記　録",null,"場  所",null,null,null,null,null,null,null,"年.月.日","順 位",null,"記　録",null,"場  所"]
[null,null,null,null,null,null,null,null,{"$f":"IF(①選手情報入力!K36=\"\",\"\",①選手情報入力!K36)","v":""},null,null,null,null,null,null,null,null,null,null,null,null,{"$f":"IF(①選手情報入力!N36=\"\",\"\",①選手情報入力!N36)","v":""}]
[]
["本 年 度",null,null,null,null,null,null,null,{"$f":"IF(①選手情報入力!L36=\"\",\"同上\",①選手情報入力!L36)","v":"同上"},null,null,null,null,"本 年 度",null,null,null,null,null,null,null,{"$f":"IF(①選手情報入力!O36=\"\",\"同上\",①選手情報入力!O36)","v":"同上"}]
["最高記録",null,null,null,null,null,null,null,null,null,null,null,null,"最高記録"]
["備　  考","※記入不要",null,null,null,null,null,null,null,null,null,null,null,"備　  考","※記入不要"]
[]
["※標準記録突破大会は、公認大会で、記録会は正式名称を記入。",null,null,null,null,null,null,null,null,null,"女子は",null,null,"※標準記録突破大会は、公認大会で、記録会は正式名称を記入。",null,null,null,null,null,null,null,null,null,"女子は"]
["※参加資格・記録等記入不備の場合、審査の対象としない。",null,null,null,null,null,null,null,null,null,"ここを",null,null,"※参加資格・記録等記入不備の場合、審査の対象としない。",null,null,null,null,null,null,null,null,null,"ここを"]
["※申込締切期日厳守。",null,null,null,null,null,null,null,null,null,"切り取る",null,null,"※申込締切期日厳守。",null,null,null,null,null,null,null,null,null,"切り取る"]
[]
[]
["第76回愛知陸上競技選手権大会　個人申込票",null,null,null,null,null,null,null,null,null,null,28,null,"第76回愛知陸上競技選手権大会　個人申込票",null,null,null,null,null,null,null,null,null,null,28]
[null,null,null,"",null,null,null,null,null,"資格審査用",null,null,null,null,null,null,"",null,null,null,null,null,"資格審査用"]
[null,"性　　別",null,{"$f":"IF(①選手情報入力!J37=\"\",\"\",①選手情報入力!J37)","v":""},null,null,null,{"$f":"IF(①選手情報入力!P37=\"\",\"\",①選手情報入力!P37)","v":""},null,null,null,null,null,null,"性　　別",null,{"$f":"IF(①選手情報入力!M37=\"\",\"\",①選手情報入力!M37)","v":""},null,null,null,{"$f":"IF(①選手情報入力!P37=\"\",\"\",①選手情報入力!P37)","v":""}]
["種  目",{"$f":"IF(①選手情報入力!$H$37=\"\",\"\",①選手情報入力!$H$37)","v":""},null,null,null,null,null,null,null,null,null,null,null,"種  目",{"$f":"IF(①選手情報入力!$H$37=\"\",\"\",①選手情報入力!$H$37)","v":""}]
[]
["ナンバー",null,"ﾌ ﾘ ｶﾞﾅ",{"$f":"IF(①選手情報入力!$F$37=\"\",\"\",①選手情報入力!$F$37)","v":""},null,null,null,null,null,null,null,null,null,"ナンバー",null,"ﾌ ﾘ ｶﾞﾅ",{"$f":"IF(①選手情報入力!$F$37=\"\",\"\",①選手情報入力!$F$37)","v":""}]
[{"$f":"IF(①選手情報入力!$B$37=\"\",\"\",①選手情報入力!$B$37)","v":""},null,"氏 名",{"$f":"IF(①選手情報入力!$E$37=\"\",\"\",①選手情報入力!$E$37)","v":""},null,null,null,null,null,null,null,null,null,{"$f":"IF(①選手情報入力!$B$37=\"\",\"\",①選手情報入力!$B$37)","v":""},null,"氏 名",{"$f":"IF(①選手情報入力!$E$37=\"\",\"\",①選手情報入力!$E$37)","v":""}]
[]
["出場資格\n取得大会","大　会　名",null,null,null,"加入団体名",null,{"$f":"②団体情報入力!$D$5","v":{"$error":"#N/A"}},null,null,null,null,null,"出場資格\n取得大会","大　会　名",null,null,null,"加入団体名",null,{"$f":"②団体情報入力!$D$5","v":{"$error":"#N/A"}}]
[null,null,null,null,null,"年.月.日","順 位",null,"記　録",null,"場  所",null,null,null,null,null,null,null,"年.月.日","順 位",null,"記　録",null,"場  所"]
[null,null,null,null,null,null,null,null,{"$f":"IF(①選手情報入力!K37=\"\",\"\",①選手情報入力!K37)","v":""},null,null,null,null,null,null,null,null,null,null,null,null,{"$f":"IF(①選手情報入力!N37=\"\",\"\",①選手情報入力!N37)","v":""}]
[]
["本 年 度",null,null,null,null,null,null,null,{"$f":"IF(①選手情報入力!L37=\"\",\"同上\",①選手情報入力!L37)","v":"同上"},null,null,null,null,"本 年 度",null,null,null,null,null,null,null,{"$f":"IF(①選手情報入力!O37=\"\",\"同上\",①選手情報入力!O37)","v":"同上"}]
["最高記録",null,null,null,null,null,null,null,null,null,null,null,null,"最高記録"]
["備　  考","※記入不要",null,null,null,null,null,null,null,null,null,null,null,"備　  考","※記入不要"]
[]
["※標準記録突破大会は、公認大会で、記録会は正式名称を記入。",null,null,null,null,null,null,null,null,null,"女子は",null,null,"※標準記録突破大会は、公認大会で、記録会は正式名称を記入。",null,null,null,null,null,null,null,null,null,"女子は"]
["※参加資格・記録等記入不備の場合、審査の対象としない。",null,null,null,null,null,null,null,null,null,"ここを",null,null,"※参加資格・記録等記入不備の場合、審査の対象としない。",null,null,null,null,null,null,null,null,null,"ここを"]
["※申込締切期日厳守。",null,null,null,null,null,null,null,null,null,"切り取る",null,null,"※申込締切期日厳守。",null,null,null,null,null,null,null,null,null,"切り取る"]
[]
[]
["第76回愛知陸上競技選手権大会　個人申込票",null,null,null,null,null,null,null,null,null,null,29,null,"第76回愛知陸上競技選手権大会　個人申込票",null,null,null,null,null,null,null,null,null,null,29]
[null,null,null,"",null,null,null,null,null,"資格審査用",null,null,null,null,null,null,"",null,null,null,null,null,"資格審査用"]
[null,"性　　別",null,{"$f":"IF(①選手情報入力!J38=\"\",\"\",①選手情報入力!J38)","v":""},null,null,null,{"$f":"IF(①選手情報入力!P38=\"\",\"\",①選手情報入力!P38)","v":""},null,null,null,null,null,null,"性　　別",null,{"$f":"IF(①選手情報入力!M38=\"\",\"\",①選手情報入力!M38)","v":""},null,null,null,{"$f":"IF(①選手情報入力!P38=\"\",\"\",①選手情報入力!P38)","v":""}]
["種  目",{"$f":"IF(①選手情報入力!$H$38=\"\",\"\",①選手情報入力!$H$38)","v":""},null,null,null,null,null,null,null,null,null,null,null,"種  目",{"$f":"IF(①選手情報入力!$H$38=\"\",\"\",①選手情報入力!$H$38)","v":""}]
[]
["ナンバー",null,"ﾌ ﾘ ｶﾞﾅ",{"$f":"IF(①選手情報入力!$F$38=\"\",\"\",①選手情報入力!$F$38)","v":""},null,null,null,null,null,null,null,null,null,"ナンバー",null,"ﾌ ﾘ ｶﾞﾅ",{"$f":"IF(①選手情報入力!$F$38=\"\",\"\",①選手情報入力!$F$38)","v":""}]
[{"$f":"IF(①選手情報入力!$B$38=\"\",\"\",①選手情報入力!$B$38)","v":""},null,"氏 名",{"$f":"IF(①選手情報入力!$E$38=\"\",\"\",①選手情報入力!$E$38)","v":""},null,null,null,null,null,null,null,null,null,{"$f":"IF(①選手情報入力!$B$38=\"\",\"\",①選手情報入力!$B$38)","v":""},null,"氏 名",{"$f":"IF(①選手情報入力!$E$38=\"\",\"\",①選手情報入力!$E$38)","v":""}]
[]
["出場資格\n取得大会","大　会　名",null,null,null,"加入団体名",null,{"$f":"②団体情報入力!$D$5","v":{"$error":"#N/A"}},null,null,null,null,null,"出場資格\n取得大会","大　会　名",null,null,null,"加入団体名",null,{"$f":"②団体情報入力!$D$5","v":{"$error":"#N/A"}}]
[null,null,null,null,null,"年.月.日","順 位",null,"記　録",null,"場  所",null,null,null,null,null,null,null,"年.月.日","順 位",null,"記　録",null,"場  所"]
[null,null,null,null,null,null,null,null,{"$f":"IF(①選手情報入力!K38=\"\",\"\",①選手情報入力!K38)","v":""},null,null,null,null,null,null,null,null,null,null,null,null,{"$f":"IF(①選手情報入力!N38=\"\",\"\",①選手情報入力!N38)","v":""}]
[]
["本 年 度",null,null,null,null,null,null,null,{"$f":"IF(①選手情報入力!L38=\"\",\"同上\",①選手情報入力!L38)","v":"同上"},null,null,null,null,"本 年 度",null,null,null,null,null,null,null,{"$f":"IF(①選手情報入力!O38=\"\",\"同上\",①選手情報入力!O38)","v":"同上"}]
["最高記録",null,null,null,null,null,null,null,null,null,null,null,null,"最高記録"]
["備　  考","※記入不要",null,null,null,null,null,null,null,null,null,null,null,"備　  考","※記入不要"]
[]
["※標準記録突破大会は、公認大会で、記録会は正式名称を記入。",null,null,null,null,null,null,null,null,null,"女子は",null,null,"※標準記録突破大会は、公認大会で、記録会は正式名称を記入。",null,null,null,null,null,null,null,null,null,"女子は"]
["※参加資格・記録等記入不備の場合、審査の対象としない。",null,null,null,null,null,null,null,null,null,"ここを",null,null,"※参加資格・記録等記入不備の場合、審査の対象としない。",null,null,null,null,null,null,null,null,null,"ここを"]
["※申込締切期日厳守。",null,null,null,null,null,null,null,null,null,"切り取る",null,null,"※申込締切期日厳守。",null,null,null,null,null,null,null,null,null,"切り取る"]
[]
[]
["第76回愛知陸上競技選手権大会　個人申込票",null,null,null,null,null,null,null,null,null,null,30,null,"第76回愛知陸上競技選手権大会　個人申込票",null,null,null,null,null,null,null,null,null,null,30]
[null,null,null,"",null,null,null,null,null,"資格審査用",null,null,null,null,null,null,"",null,null,null,null,null,"資格審査用"]
[null,"性　　別",null,{"$f":"IF(①選手情報入力!J39=\"\",\"\",①選手情報入力!J39)","v":""},null,null,null,{"$f":"IF(①選手情報入力!P39=\"\",\"\",①選手情報入力!P39)","v":""},null,null,null,null,null,null,"性　　別",null,{"$f":"IF(①選手情報入力!M39=\"\",\"\",①選手情報入力!M39)","v":""},null,null,null,{"$f":"IF(①選手情報入力!P39=\"\",\"\",①選手情報入力!P39)","v":""}]
["種  目",{"$f":"IF(①選手情報入力!$H$39=\"\",\"\",①選手情報入力!$H$39)","v":""},null,null,null,null,null,null,null,null,null,null,null,"種  目",{"$f":"IF(①選手情報入力!$H$39=\"\",\"\",①選手情報入力!$H$39)","v":""}]
[]
["ナンバー",null,"ﾌ ﾘ ｶﾞﾅ",{"$f":"IF(①選手情報入力!$F$39=\"\",\"\",①選手情報入力!$F$39)","v":""},null,null,null,null,null,null,null,null,null,"ナンバー",null,"ﾌ ﾘ ｶﾞﾅ",{"$f":"IF(①選手情報入力!$F$39=\"\",\"\",①選手情報入力!$F$39)","v":""}]
[{"$f":"IF(①選手情報入力!$B$39=\"\",\"\",①選手情報入力!$B$39)","v":""},null,"氏 名",{"$f":"IF(①選手情報入力!$E$39=\"\",\"\",①選手情報入力!$E$39)","v":""},null,null,null,null,null,null,null,null,null,{"$f":"IF(①選手情報入力!$B$39=\"\",\"\",①選手情報入力!$B$39)","v":""},null,"氏 名",{"$f":"IF(①選手情報入力!$E$39=\"\",\"\",①選手情報入力!$E$39)","v":""}]
[]
["出場資格\n取得大会","大　会　名",null,null,null,"加入団体名",null,{"$f":"②団体情報入力!$D$5","v":{"$error":"#N/A"}},null,null,null,null,null,"出場資格\n取得大会","大　会　名",null,null,null,"加入団体名",null,{"$f":"②団体情報入力!$D$5","v":{"$error":"#N/A"}}]
[null,null,null,null,null,"年.月.日","順 位",null,"記　録",null,"場  所",null,null,null,null,null,null,null,"年.月.日","順 位",null,"記　録",null,"場  所"]
[null,null,null,null,null,null,null,null,{"$f":"IF(①選手情報入力!K39=\"\",\"\",①選手情報入力!K39)","v":""},null,null,null,null,null,null,null,null,null,null,null,null,{"$f":"IF(①選手情報入力!N39=\"\",\"\",①選手情報入力!N39)","v":""}]
[]
["本 年 度",null,null,null,null,null,null,null,{"$f":"IF(①選手情報入力!L39=\"\",\"同上\",①選手情報入力!L39)","v":"同上"},null,null,null,null,"本 年 度",null,null,null,null,null,null,null,{"$f":"IF(①選手情報入力!O39=\"\",\"同上\",①選手情報入力!O39)","v":"同上"}]
["最高記録",null,null,null,null,null,null,null,null,null,null,null,null,"最高記録"]
["備　  考","※記入不要",null,null,null,null,null,null,null,null,null,null,null,"備　  考","※記入不要"]
[]
["※標準記録突破大会は、公認大会で、記録会は正式名称を記入。",null,null,null,null,null,null,null,null,null,"女子は",null,null,"※標準記録突破大会は、公認大会で、記録会は正式名称を記入。",null,null,null,null,null,null,null,null,null,"女子は"]
["※参加資格・記録等記入不備の場合、審査の対象としない。",null,null,null,null,null,null,null,null,null,"ここを",null,null,"※参加資格・記録等記入不備の場合、審査の対象としない。",null,null,null,null,null,null,null,null,null,"ここを"]
["※申込締切期日厳守。",null,null,null,null,null,null,null,null,null,"切り取る",null,null,"※申込締切期日厳守。",null,null,null,null,null,null,null,null,null,"切り取る"]
[]
[]
["第76回愛知陸上競技選手権大会　個人申込票",null,null,null,null,null,null,null,null,null,null,31,null,"第76回愛知陸上競技選手権大会　個人申込票",null,null,null,null,null,null,null,null,null,null,31]
[null,null,null,"",null,null,null,null,null,"資格審査用",null,null,null,null,null,null,"",null,null,null,null,null,"資格審査用"]
[null,"性　　別",null,{"$f":"IF(①選手情報入力!J40=\"\",\"\",①選手情報入力!J40)","v":""},null,null,null,{"$f":"IF(①選手情報入力!P40=\"\",\"\",①選手情報入力!P40)","v":""},null,null,null,null,null,null,"性　　別",null,{"$f":"IF(①選手情報入力!M40=\"\",\"\",①選手情報入力!M40)","v":""},null,null,null,{"$f":"IF(①選手情報入力!P40=\"\",\"\",①選手情報入力!P40)","v":""}]
["種  目",{"$f":"IF(①選手情報入力!$H$40=\"\",\"\",①選手情報入力!$H$40)","v":""},null,null,null,null,null,null,null,null,null,null,null,"種  目",{"$f":"IF(①選手情報入力!$H$40=\"\",\"\",①選手情報入力!$H$40)","v":""}]
[]
["ナンバー",null,"ﾌ ﾘ ｶﾞﾅ",{"$f":"IF(①選手情報入力!$F$40=\"\",\"\",①選手情報入力!$F$40)","v":""},null,null,null,null,null,null,null,null,null,"ナンバー",null,"ﾌ ﾘ ｶﾞﾅ",{"$f":"IF(①選手情報入力!$F$40=\"\",\"\",①選手情報入力!$F$40)","v":""}]
[{"$f":"IF(①選手情報入力!$B$40=\"\",\"\",①選手情報入力!$B$40)","v":""},null,"氏 名",{"$f":"IF(①選手情報入力!$E$40=\"\",\"\",①選手情報入力!$E$40)","v":""},null,null,null,null,null,null,null,null,null,{"$f":"IF(①選手情報入力!$B$40=\"\",\"\",①選手情報入力!$B$40)","v":""},null,"氏 名",{"$f":"IF(①選手情報入力!$E$40=\"\",\"\",①選手情報入力!$E$40)","v":""}]
[]
["出場資格\n取得大会","大　会　名",null,null,null,"加入団体名",null,{"$f":"②団体情報入力!$D$5","v":{"$error":"#N/A"}},null,null,null,null,null,"出場資格\n取得大会","大　会　名",null,null,null,"加入団体名",null,{"$f":"②団体情報入力!$D$5","v":{"$error":"#N/A"}}]
[null,null,null,null,null,"年.月.日","順 位",null,"記　録",null,"場  所",null,null,null,null,null,null,null,"年.月.日","順 位",null,"記　録",null,"場  所"]
[null,null,null,null,null,null,null,null,{"$f":"IF(①選手情報入力!K40=\"\",\"\",①選手情報入力!K40)","v":""},null,null,null,null,null,null,null,null,null,null,null,null,{"$f":"IF(①選手情報入力!N40=\"\",\"\",①選手情報入力!N40)","v":""}]
[]
["本 年 度",null,null,null,null,null,null,null,{"$f":"IF(①選手情報入力!L40=\"\",\"同上\",①選手情報入力!L40)","v":"同上"},null,null,null,null,"本 年 度",null,null,null,null,null,null,null,{"$f":"IF(①選手情報入力!O40=\"\",\"同上\",①選手情報入力!O40)","v":"同上"}]
["最高記録",null,null,null,null,null,null,null,null,null,null,null,null,"最高記録"]
["備　  考","※記入不要",null,null,null,null,null,null,null,null,null,null,null,"備　  考","※記入不要"]
[]
["※標準記録突破大会は、公認大会で、記録会は正式名称を記入。",null,null,null,null,null,null,null,null,null,"女子は",null,null,"※標準記録突破大会は、公認大会で、記録会は正式名称を記入。",null,null,null,null,null,null,null,null,null,"女子は"]
["※参加資格・記録等記入不備の場合、審査の対象としない。",null,null,null,null,null,null,null,null,null,"ここを",null,null,"※参加資格・記録等記入不備の場合、審査の対象としない。",null,null,null,null,null,null,null,null,null,"ここを"]
["※申込締切期日厳守。",null,null,null,null,null,null,null,null,null,"切り取る",null,null,"※申込締切期日厳守。",null,null,null,null,null,null,null,null,null,"切り取る"]
[]
[]
["第76回愛知陸上競技選手権大会　個人申込票",null,null,null,null,null,null,null,null,null,null,32,null,"第76回愛知陸上競技選手権大会　個人申込票",null,null,null,null,null,null,null,null,null,null,32]
[null,null,null,"",null,null,null,null,null,"資格審査用",null,null,null,null,null,null,"",null,null,null,null,null,"資格審査用"]
[null,"性　　別",null,{"$f":"IF(①選手情報入力!J41=\"\",\"\",①選手情報入力!J41)","v":""},null,null,null,{"$f":"IF(①選手情報入力!P41=\"\",\"\",①選手情報入力!P41)","v":""},null,null,null,null,null,null,"性　　別",null,{"$f":"IF(①選手情報入力!M41=\"\",\"\",①選手情報入力!M41)","v":""},null,null,null,{"$f":"IF(①選手情報入力!P41=\"\",\"\",①選手情報入力!P41)","v":""}]
["種  目",{"$f":"IF(①選手情報入力!$H$41=\"\",\"\",①選手情報入力!$H$41)","v":""},null,null,null,null,null,null,null,null,null,null,null,"種  目",{"$f":"IF(①選手情報入力!$H$41=\"\",\"\",①選手情報入力!$H$41)","v":""}]
[]
["ナンバー",null,"ﾌ ﾘ ｶﾞﾅ",{"$f":"IF(①選手情報入力!$F$41=\"\",\"\",①選手情報入力!$F$41)","v":""},null,null,null,null,null,null,null,null,null,"ナンバー",null,"ﾌ ﾘ ｶﾞﾅ",{"$f":"IF(①選手情報入力!$F$41=\"\",\"\",①選手情報入力!$F$41)","v":""}]
[{"$f":"IF(①選手情報入力!$B$41=\"\",\"\",①選手情報入力!$B$41)","v":""},null,"氏 名",{"$f":"IF(①選手情報入力!$E$41=\"\",\"\",①選手情報入力!$E$41)","v":""},null,null,null,null,null,null,null,null,null,{"$f":"IF(①選手情報入力!$B$41=\"\",\"\",①選手情報入力!$B$41)","v":""},null,"氏 名",{"$f":"IF(①選手情報入力!$E$41=\"\",\"\",①選手情報入力!$E$41)","v":""}]
[]
["出場資格\n取得大会","大　会　名",null,null,null,"加入団体名",null,{"$f":"②団体情報入力!$D$5","v":{"$error":"#N/A"}},null,null,null,null,null,"出場資格\n取得大会","大　会　名",null,null,null,"加入団体名",null,{"$f":"②団体情報入力!$D$5","v":{"$error":"#N/A"}}]
[null,null,null,null,null,"年.月.日","順 位",null,"記　録",null,"場  所",null,null,null,null,null,null,null,"年.月.日","順 位",null,"記　録",null,"場  所"]
[null,null,null,null,null,null,null,null,{"$f":"IF(①選手情報入力!K41=\"\",\"\",①選手情報入力!K41)","v":""},null,null,null,null,null,null,null,null,null,null,null,null,{"$f":"IF(①選手情報入力!N41=\"\",\"\",①選手情報入力!N41)","v":""}]
[]
["本 年 度",null,null,null,null,null,null,null,{"$f":"IF(①選手情報入力!L41=\"\",\"同上\",①選手情報入力!L41)","v":"同上"},null,null,null,null,"本 年 度",null,null,null,null,null,null,null,{"$f":"IF(①選手情報入力!O41=\"\",\"同上\",①選手情報入力!O41)","v":"同上"}]
["最高記録",null,null,null,null,null,null,null,null,null,null,null,null,"最高記録"]
["備　  考","※記入不要",null,null,null,null,null,null,null,null,null,null,null,"備　  考","※記入不要"]
[]
["※標準記録突破大会は、公認大会で、記録会は正式名称を記入。",null,null,null,null,null,null,null,null,null,"女子は",null,null,"※標準記録突破大会は、公認大会で、記録会は正式名称を記入。",null,null,null,null,null,null,null,null,null,"女子は"]
["※参加資格・記録等記入不備の場合、審査の対象としない。",null,null,null,null,null,null,null,null,null,"ここを",null,null,"※参加資格・記録等記入不備の場合、審査の対象としない。",null,null,null,null,null,null,null,null,null,"ここを"]
["※申込締切期日厳守。",null,null,null,null,null,null,null,null,null,"切り取る",null,null,"※申込締切期日厳守。",null,null,null,null,null,null,null,null,null,"切り取る"]
[]
[]
["第76回愛知陸上競技選手権大会　個人申込票",null,null,null,null,null,null,null,null,null,null,33,null,"第76回愛知陸上競技選手権大会　個人申込票",null,null,null,null,null,null,null,null,null,null,33]
[null,null,null,"",null,null,null,null,null,"資格審査用",null,null,null,null,null,null,"",null,null,null,null,null,"資格審査用"]
[null,"性　　別",null,{"$f":"IF(①選手情報入力!J42=\"\",\"\",①選手情報入力!J42)","v":""},null,null,null,{"$f":"IF(①選手情報入力!P42=\"\",\"\",①選手情報入力!P42)","v":""},null,null,null,null,null,null,"性　　別",null,{"$f":"IF(①選手情報入力!M42=\"\",\"\",①選手情報入力!M42)","v":""},null,null,null,{"$f":"IF(①選手情報入力!P42=\"\",\"\",①選手情報入力!P42)","v":""}]
["種  目",{"$f":"IF(①選手情報入力!$H$42=\"\",\"\",①選手情報入力!$H$42)","v":""},null,null,null,null,null,null,null,null,null,null,null,"種  目",{"$f":"IF(①選手情報入力!$H$42=\"\",\"\",①選手情報入力!$H$42)","v":""}]
[]
["ナンバー",null,"ﾌ ﾘ ｶﾞﾅ",{"$f":"IF(①選手情報入力!$F$42=\"\",\"\",①選手情報入力!$F$42)","v":""},null,null,null,null,null,null,null,null,null,"ナンバー",null,"ﾌ ﾘ ｶﾞﾅ",{"$f":"IF(①選手情報入力!$F$42=\"\",\"\",①選手情報入力!$F$42)","v":""}]
[{"$f":"IF(①選手情報入力!$B$42=\"\",\"\",①選手情報入力!$B$42)","v":""},null,"氏 名",{"$f":"IF(①選手情報入力!$E$42=\"\",\"\",①選手情報入力!$E$42)","v":""},null,null,null,null,null,null,null,null,null,{"$f":"IF(①選手情報入力!$B$42=\"\",\"\",①選手情報入力!$B$42)","v":""},null,"氏 名",{"$f":"IF(①選手情報入力!$E$42=\"\",\"\",①選手情報入力!$E$42)","v":""}]
[]
["出場資格\n取得大会","大　会　名",null,null,null,"加入団体名",null,{"$f":"②団体情報入力!$D$5","v":{"$error":"#N/A"}},null,null,null,null,null,"出場資格\n取得大会","大　会　名",null,null,null,"加入団体名",null,{"$f":"②団体情報入力!$D$5","v":{"$error":"#N/A"}}]
[null,null,null,null,null,"年.月.日","順 位",null,"記　録",null,"場  所",null,null,null,null,null,null,null,"年.月.日","順 位",null,"記　録",null,"場  所"]
[null,null,null,null,null,null,null,null,{"$f":"IF(①選手情報入力!K42=\"\",\"\",①選手情報入力!K42)","v":""},null,null,null,null,null,null,null,null,null,null,null,null,{"$f":"IF(①選手情報入力!N42=\"\",\"\",①選手情報入力!N42)","v":""}]
[]
["本 年 度",null,null,null,null,null,null,null,{"$f":"IF(①選手情報入力!L42=\"\",\"同上\",①選手情報入力!L42)","v":"同上"},null,null,null,null,"本 年 度",null,null,null,null,null,null,null,{"$f":"IF(①選手情報入力!O42=\"\",\"同上\",①選手情報入力!O42)","v":"同上"}]
["最高記録",null,null,null,null,null,null,null,null,null,null,null,null,"最高記録"]
["備　  考","※記入不要",null,null,null,null,null,null,null,null,null,null,null,"備　  考","※記入不要"]
[]
["※標準記録突破大会は、公認大会で、記録会は正式名称を記入。",null,null,null,null,null,null,null,null,null,"女子は",null,null,"※標準記録突破大会は、公認大会で、記録会は正式名称を記入。",null,null,null,null,null,null,null,null,null,"女子は"]
["※参加資格・記録等記入不備の場合、審査の対象としない。",null,null,null,null,null,null,null,null,null,"ここを",null,null,"※参加資格・記録等記入不備の場合、審査の対象としない。",null,null,null,null,null,null,null,null,null,"ここを"]
["※申込締切期日厳守。",null,null,null,null,null,null,null,null,null,"切り取る",null,null,"※申込締切期日厳守。",null,null,null,null,null,null,null,null,null,"切り取る"]
[]
[]
["第76回愛知陸上競技選手権大会　個人申込票",null,null,null,null,null,null,null,null,null,null,34,null,"第76回愛知陸上競技選手権大会　個人申込票",null,null,null,null,null,null,null,null,null,null,34]
[null,null,null,"",null,null,null,null,null,"資格審査用",null,null,null,null,null,null,"",null,null,null,null,null,"資格審査用"]
[null,"性　　別",null,{"$f":"IF(①選手情報入力!J43=\"\",\"\",①選手情報入力!J43)","v":""},null,null,null,{"$f":"IF(①選手情報入力!P43=\"\",\"\",①選手情報入力!P43)","v":""},null,null,null,null,null,null,"性　　別",null,{"$f":"IF(①選手情報入力!M43=\"\",\"\",①選手情報入力!M43)","v":""},null,null,null,{"$f":"IF(①選手情報入力!P43=\"\",\"\",①選手情報入力!P43)","v":""}]
["種  目",{"$f":"IF(①選手情報入力!$H$43=\"\",\"\",①選手情報入力!$H$43)","v":""},null,null,null,null,null,null,null,null,null,null,null,"種  目",{"$f":"IF(①選手情報入力!$H$43=\"\",\"\",①選手情報入力!$H$43)","v":""}]
[]
["ナンバー",null,"ﾌ ﾘ ｶﾞﾅ",{"$f":"IF(①選手情報入力!$F$43=\"\",\"\",①選手情報入力!$F$43)","v":""},null,null,null,null,null,null,null,null,null,"ナンバー",null,"ﾌ ﾘ ｶﾞﾅ",{"$f":"IF(①選手情報入力!$F$43=\"\",\"\",①選手情報入力!$F$43)","v":""}]
[{"$f":"IF(①選手情報入力!$B$43=\"\",\"\",①選手情報入力!$B$43)","v":""},null,"氏 名",{"$f":"IF(①選手情報入力!$E$43=\"\",\"\",①選手情報入力!$E$43)","v":""},null,null,null,null,null,null,null,null,null,{"$f":"IF(①選手情報入力!$B$43=\"\",\"\",①選手情報入力!$B$43)","v":""},null,"氏 名",{"$f":"IF(①選手情報入力!$E$43=\"\",\"\",①選手情報入力!$E$43)","v":""}]
[]
["出場資格\n取得大会","大　会　名",null,null,null,"加入団体名",null,{"$f":"②団体情報入力!$D$5","v":{"$error":"#N/A"}},null,null,null,null,null,"出場資格\n取得大会","大　会　名",null,null,null,"加入団体名",null,{"$f":"②団体情報入力!$D$5","v":{"$error":"#N/A"}}]
[null,null,null,null,null,"年.月.日","順 位",null,"記　録",null,"場  所",null,null,null,null,null,null,null,"年.月.日","順 位",null,"記　録",null,"場  所"]
[null,null,null,null,null,null,null,null,{"$f":"IF(①選手情報入力!K43=\"\",\"\",①選手情報入力!K43)","v":""},null,null,null,null,null,null,null,null,null,null,null,null,{"$f":"IF(①選手情報入力!N43=\"\",\"\",①選手情報入力!N43)","v":""}]
[]
["本 年 度",null,null,null,null,null,null,null,{"$f":"IF(①選手情報入力!L43=\"\",\"同上\",①選手情報入力!L43)","v":"同上"},null,null,null,null,"本 年 度",null,null,null,null,null,null,null,{"$f":"IF(①選手情報入力!O43=\"\",\"同上\",①選手情報入力!O43)","v":"同上"}]
["最高記録",null,null,null,null,null,null,null,null,null,null,null,null,"最高記録"]
["備　  考","※記入不要",null,null,null,null,null,null,null,null,null,null,null,"備　  考","※記入不要"]
[]
["※標準記録突破大会は、公認大会で、記録会は正式名称を記入。",null,null,null,null,null,null,null,null,null,"女子は",null,null,"※標準記録突破大会は、公認大会で、記録会は正式名称を記入。",null,null,null,null,null,null,null,null,null,"女子は"]
["※参加資格・記録等記入不備の場合、審査の対象としない。",null,null,null,null,null,null,null,null,null,"ここを",null,null,"※参加資格・記録等記入不備の場合、審査の対象としない。",null,null,null,null,null,null,null,null,null,"ここを"]
["※申込締切期日厳守。",null,null,null,null,null,null,null,null,null,"切り取る",null,null,"※申込締切期日厳守。",null,null,null,null,null,null,null,null,null,"切り取る"]
[]
[]
["第76回愛知陸上競技選手権大会　個人申込票",null,null,null,null,null,null,null,null,null,null,35,null,"第76回愛知陸上競技選手権大会　個人申込票",null,null,null,null,null,null,null,null,null,null,35]
[null,null,null,"",null,null,null,null,null,"資格審査用",null,null,null,null,null,null,"",null,null,null,null,null,"資格審査用"]
[null,"性　　別",null,{"$f":"IF(①選手情報入力!J44=\"\",\"\",①選手情報入力!J44)","v":""},null,null,null,{"$f":"IF(①選手情報入力!P44=\"\",\"\",①選手情報入力!P44)","v":""},null,null,null,null,null,null,"性　　別",null,{"$f":"IF(①選手情報入力!M44=\"\",\"\",①選手情報入力!M44)","v":""},null,null,null,{"$f":"IF(①選手情報入力!P44=\"\",\"\",①選手情報入力!P44)","v":""}]
["種  目",{"$f":"IF(①選手情報入力!$H$44=\"\",\"\",①選手情報入力!$H$44)","v":""},null,null,null,null,null,null,null,null,null,null,null,"種  目",{"$f":"IF(①選手情報入力!$H$44=\"\",\"\",①選手情報入力!$H$44)","v":""}]
[]
["ナンバー",null,"ﾌ ﾘ ｶﾞﾅ",{"$f":"IF(①選手情報入力!$F$44=\"\",\"\",①選手情報入力!$F$44)","v":""},null,null,null,null,null,null,null,null,null,"ナンバー",null,"ﾌ ﾘ ｶﾞﾅ",{"$f":"IF(①選手情報入力!$F$44=\"\",\"\",①選手情報入力!$F$44)","v":""}]
[{"$f":"IF(①選手情報入力!$B$44=\"\",\"\",①選手情報入力!$B$44)","v":""},null,"氏 名",{"$f":"IF(①選手情報入力!$E$44=\"\",\"\",①選手情報入力!$E$44)","v":""},null,null,null,null,null,null,null,null,null,{"$f":"IF(①選手情報入力!$B$44=\"\",\"\",①選手情報入力!$B$44)","v":""},null,"氏 名",{"$f":"IF(①選手情報入力!$E$44=\"\",\"\",①選手情報入力!$E$44)","v":""}]
[]
["出場資格\n取得大会","大　会　名",null,null,null,"加入団体名",null,{"$f":"②団体情報入力!$D$5","v":{"$error":"#N/A"}},null,null,null,null,null,"出場資格\n取得大会","大　会　名",null,null,null,"加入団体名",null,{"$f":"②団体情報入力!$D$5","v":{"$error":"#N/A"}}]
[null,null,null,null,null,"年.月.日","順 位",null,"記　録",null,"場  所",null,null,null,null,null,null,null,"年.月.日","順 位",null,"記　録",null,"場  所"]
[null,null,null,null,null,null,null,null,{"$f":"IF(①選手情報入力!K44=\"\",\"\",①選手情報入力!K44)","v":""},null,null,null,null,null,null,null,null,null,null,null,null,{"$f":"IF(①選手情報入力!N44=\"\",\"\",①選手情報入力!N44)","v":""}]
[]
["本 年 度",null,null,null,null,null,null,null,{"$f":"IF(①選手情報入力!L44=\"\",\"同上\",①選手情報入力!L44)","v":"同上"},null,null,null,null,"本 年 度",null,null,null,null,null,null,null,{"$f":"IF(①選手情報入力!O44=\"\",\"同上\",①選手情報入力!O44)","v":"同上"}]
["最高記録",null,null,null,null,null,null,null,null,null,null,null,null,"最高記録"]
["備　  考","※記入不要",null,null,null,null,null,null,null,null,null,null,null,"備　  考","※記入不要"]
[]
["※標準記録突破大会は、公認大会で、記録会は正式名称を記入。",null,null,null,null,null,null,null,null,null,"女子は",null,null,"※標準記録突破大会は、公認大会で、記録会は正式名称を記入。",null,null,null,null,null,null,null,null,null,"女子は"]
["※参加資格・記録等記入不備の場合、審査の対象としない。",null,null,null,null,null,null,null,null,null,"ここを",null,null,"※参加資格・記録等記入不備の場合、審査の対象としない。",null,null,null,null,null,null,null,null,null,"ここを"]
["※申込締切期日厳守。",null,null,null,null,null,null,null,null,null,"切り取る",null,null,"※申込締切期日厳守。",null,null,null,null,null,null,null,null,null,"切り取る"]
[]
[]
["第76回愛知陸上競技選手権大会　個人申込票",null,null,null,null,null,null,null,null,null,null,36,null,"第76回愛知陸上競技選手権大会　個人申込票",null,null,null,null,null,null,null,null,null,null,36]
[null,null,null,"",null,null,null,null,null,"資格審査用",null,null,null,null,null,null,"",null,null,null,null,null,"資格審査用"]
[null,"性　　別",null,{"$f":"IF(①選手情報入力!J45=\"\",\"\",①選手情報入力!J45)","v":""},null,null,null,{"$f":"IF(①選手情報入力!P45=\"\",\"\",①選手情報入力!P45)","v":""},null,null,null,null,null,null,"性　　別",null,{"$f":"IF(①選手情報入力!M45=\"\",\"\",①選手情報入力!M45)","v":""},null,null,null,{"$f":"IF(①選手情報入力!P45=\"\",\"\",①選手情報入力!P45)","v":""}]
["種  目",{"$f":"IF(①選手情報入力!$H$45=\"\",\"\",①選手情報入力!$H$45)","v":""},null,null,null,null,null,null,null,null,null,null,null,"種  目",{"$f":"IF(①選手情報入力!$H$45=\"\",\"\",①選手情報入力!$H$45)","v":""}]
[]
["ナンバー",null,"ﾌ ﾘ ｶﾞﾅ",{"$f":"IF(①選手情報入力!$F$45=\"\",\"\",①選手情報入力!$F$45)","v":""},null,null,null,null,null,null,null,null,null,"ナンバー",null,"ﾌ ﾘ ｶﾞﾅ",{"$f":"IF(①選手情報入力!$F$45=\"\",\"\",①選手情報入力!$F$45)","v":""}]
[{"$f":"IF(①選手情報入力!$B$45=\"\",\"\",①選手情報入力!$B$45)","v":""},null,"氏 名",{"$f":"IF(①選手情報入力!$E$45=\"\",\"\",①選手情報入力!$E$45)","v":""},null,null,null,null,null,null,null,null,null,{"$f":"IF(①選手情報入力!$B$45=\"\",\"\",①選手情報入力!$B$45)","v":""},null,"氏 名",{"$f":"IF(①選手情報入力!$E$45=\"\",\"\",①選手情報入力!$E$45)","v":""}]
[]
["出場資格\n取得大会","大　会　名",null,null,null,"加入団体名",null,{"$f":"②団体情報入力!$D$5","v":{"$error":"#N/A"}},null,null,null,null,null,"出場資格\n取得大会","大　会　名",null,null,null,"加入団体名",null,{"$f":"②団体情報入力!$D$5","v":{"$error":"#N/A"}}]
[null,null,null,null,null,"年.月.日","順 位",null,"記　録",null,"場  所",null,null,null,null,null,null,null,"年.月.日","順 位",null,"記　録",null,"場  所"]
[null,null,null,null,null,null,null,null,{"$f":"IF(①選手情報入力!K45=\"\",\"\",①選手情報入力!K45)","v":""},null,null,null,null,null,null,null,null,null,null,null,null,{"$f":"IF(①選手情報入力!N45=\"\",\"\",①選手情報入力!N45)","v":""}]
[]
["本 年 度",null,null,null,null,null,null,null,{"$f":"IF(①選手情報入力!L45=\"\",\"同上\",①選手情報入力!L45)","v":"同上"},null,null,null,null,"本 年 度",null,null,null,null,null,null,null,{"$f":"IF(①選手情報入力!O45=\"\",\"同上\",①選手情報入力!O45)","v":"同上"}]
["最高記録",null,null,null,null,null,null,null,null,null,null,null,null,"最高記録"]
["備　  考","※記入不要",null,null,null,null,null,null,null,null,null,null,null,"備　  考","※記入不要"]
[]
["※標準記録突破大会は、公認大会で、記録会は正式名称を記入。",null,null,null,null,null,null,null,null,null,"女子は",null,null,"※標準記録突破大会は、公認大会で、記録会は正式名称を記入。",null,null,null,null,null,null,null,null,null,"女子は"]
["※参加資格・記録等記入不備の場合、審査の対象としない。",null,null,null,null,null,null,null,null,null,"ここを",null,null,"※参加資格・記録等記入不備の場合、審査の対象としない。",null,null,null,null,null,null,null,null,null,"ここを"]
["※申込締切期日厳守。",null,null,null,null,null,null,null,null,null,"切り取る",null,null,"※申込締切期日厳守。",null,null,null,null,null,null,null,null,null,"切り取る"]
[]
[]
["第76回愛知陸上競技選手権大会　個人申込票",null,null,null,null,null,null,null,null,null,null,37,null,"第76回愛知陸上競技選手権大会　個人申込票",null,null,null,null,null,null,null,null,null,null,37]
[null,null,null,"",null,null,null,null,null,"資格審査用",null,null,null,null,null,null,"",null,null,null,null,null,"資格審査用"]
[null,"性　　別",null,{"$f":"IF(①選手情報入力!J46=\"\",\"\",①選手情報入力!J46)","v":""},null,null,null,{"$f":"IF(①選手情報入力!P46=\"\",\"\",①選手情報入力!P46)","v":""},null,null,null,null,null,null,"性　　別",null,{"$f":"IF(①選手情報入力!M46=\"\",\"\",①選手情報入力!M46)","v":""},null,null,null,{"$f":"IF(①選手情報入力!P46=\"\",\"\",①選手情報入力!P46)","v":""}]
["種  目",{"$f":"IF(①選手情報入力!$H$46=\"\",\"\",①選手情報入力!$H$46)","v":""},null,null,null,null,null,null,null,null,null,null,null,"種  目",{"$f":"IF(①選手情報入力!$H$46=\"\",\"\",①選手情報入力!$H$46)","v":""}]
[]
["ナンバー",null,"ﾌ ﾘ ｶﾞﾅ",{"$f":"IF(①選手情報入力!$F$46=\"\",\"\",①選手情報入力!$F$46)","v":""},null,null,null,null,null,null,null,null,null,"ナンバー",null,"ﾌ ﾘ ｶﾞﾅ",{"$f":"IF(①選手情報入力!$F$46=\"\",\"\",①選手情報入力!$F$46)","v":""}]
[{"$f":"IF(①選手情報入力!$B$46=\"\",\"\",①選手情報入力!$B$46)","v":""},null,"氏 名",{"$f":"IF(①選手情報入力!$E$46=\"\",\"\",①選手情報入力!$E$46)","v":""},null,null,null,null,null,null,null,null,null,{"$f":"IF(①選手情報入力!$B$46=\"\",\"\",①選手情報入力!$B$46)","v":""},null,"氏 名",{"$f":"IF(①選手情報入力!$E$46=\"\",\"\",①選手情報入力!$E$46)","v":""}]
[]
["出場資格\n取得大会","大　会　名",null,null,null,"加入団体名",null,{"$f":"②団体情報入力!$D$5","v":{"$error":"#N/A"}},null,null,null,null,null,"出場資格\n取得大会","大　会　名",null,null,null,"加入団体名",null,{"$f":"②団体情報入力!$D$5","v":{"$error":"#N/A"}}]
[null,null,null,null,null,"年.月.日","順 位",null,"記　録",null,"場  所",null,null,null,null,null,null,null,"年.月.日","順 位",null,"記　録",null,"場  所"]
[null,null,null,null,null,null,null,null,{"$f":"IF(①選手情報入力!K46=\"\",\"\",①選手情報入力!K46)","v":""},null,null,null,null,null,null,null,null,null,null,null,null,{"$f":"IF(①選手情報入力!N46=\"\",\"\",①選手情報入力!N46)","v":""}]
[]
["本 年 度",null,null,null,null,null,null,null,{"$f":"IF(①選手情報入力!L46=\"\",\"同上\",①選手情報入力!L46)","v":"同上"},null,null,null,null,"本 年 度",null,null,null,null,null,null,null,{"$f":"IF(①選手情報入力!O46=\"\",\"同上\",①選手情報入力!O46)","v":"同上"}]
["最高記録",null,null,null,null,null,null,null,null,null,null,null,null,"最高記録"]
["備　  考","※記入不要",null,null,null,null,null,null,null,null,null,null,null,"備　  考","※記入不要"]
[]
["※標準記録突破大会は、公認大会で、記録会は正式名称を記入。",null,null,null,null,null,null,null,null,null,"女子は",null,null,"※標準記録突破大会は、公認大会で、記録会は正式名称を記入。",null,null,null,null,null,null,null,null,null,"女子は"]
["※参加資格・記録等記入不備の場合、審査の対象としない。",null,null,null,null,null,null,null,null,null,"ここを",null,null,"※参加資格・記録等記入不備の場合、審査の対象としない。",null,null,null,null,null,null,null,null,null,"ここを"]
["※申込締切期日厳守。",null,null,null,null,null,null,null,null,null,"切り取る",null,null,"※申込締切期日厳守。",null,null,null,null,null,null,null,null,null,"切り取る"]
[]
[]
["第76回愛知陸上競技選手権大会　個人申込票",null,null,null,null,null,null,null,null,null,null,38,null,"第76回愛知陸上競技選手権大会　個人申込票",null,null,null,null,null,null,null,null,null,null,38]
[null,null,null,"",null,null,null,null,null,"資格審査用",null,null,null,null,null,null,"",null,null,null,null,null,"資格審査用"]
[null,"性　　別",null,{"$f":"IF(①選手情報入力!J47=\"\",\"\",①選手情報入力!J47)","v":""},null,null,null,{"$f":"IF(①選手情報入力!P47=\"\",\"\",①選手情報入力!P47)","v":""},null,null,null,null,null,null,"性　　別",null,{"$f":"IF(①選手情報入力!M47=\"\",\"\",①選手情報入力!M47)","v":""},null,null,null,{"$f":"IF(①選手情報入力!P47=\"\",\"\",①選手情報入力!P47)","v":""}]
["種  目",{"$f":"IF(①選手情報入力!$H$47=\"\",\"\",①選手情報入力!$H$47)","v":""},null,null,null,null,null,null,null,null,null,null,null,"種  目",{"$f":"IF(①選手情報入力!$H$47=\"\",\"\",①選手情報入力!$H$47)","v":""}]
[]
["ナンバー",null,"ﾌ ﾘ ｶﾞﾅ",{"$f":"IF(①選手情報入力!$F$47=\"\",\"\",①選手情報入力!$F$47)","v":""},null,null,null,null,null,null,null,null,null,"ナンバー",null,"ﾌ ﾘ ｶﾞﾅ",{"$f":"IF(①選手情報入力!$F$47=\"\",\"\",①選手情報入力!$F$47)","v":""}]
[{"$f":"IF(①選手情報入力!$B$47=\"\",\"\",①選手情報入力!$B$47)","v":""},null,"氏 名",{"$f":"IF(①選手情報入力!$E$47=\"\",\"\",①選手情報入力!$E$47)","v":""},null,null,null,null,null,null,null,null,null,{"$f":"IF(①選手情報入力!$B$47=\"\",\"\",①選手情報入力!$B$47)","v":""},null,"氏 名",{"$f":"IF(①選手情報入力!$E$47=\"\",\"\",①選手情報入力!$E$47)","v":""}]
[]
["出場資格\n取得大会","大　会　名",null,null,null,"加入団体名",null,{"$f":"②団体情報入力!$D$5","v":{"$error":"#N/A"}},null,null,null,null,null,"出場資格\n取得大会","大　会　名",null,null,null,"加入団体名",null,{"$f":"②団体情報入力!$D$5","v":{"$error":"#N/A"}}]
[null,null,null,null,null,"年.月.日","順 位",null,"記　録",null,"場  所",null,null,null,null,null,null,null,"年.月.日","順 位",null,"記　録",null,"場  所"]
[null,null,null,null,null,null,null,null,{"$f":"IF(①選手情報入力!K47=\"\",\"\",①選手情報入力!K47)","v":""},null,null,null,null,null,null,null,null,null,null,null,null,{"$f":"IF(①選手情報入力!N47=\"\",\"\",①選手情報入力!N47)","v":""}]
[]
["本 年 度",null,null,null,null,null,null,null,{"$f":"IF(①選手情報入力!L47=\"\",\"同上\",①選手情報入力!L47)","v":"同上"},null,null,null,null,"本 年 度",null,null,null,null,null,null,null,{"$f":"IF(①選手情報入力!O47=\"\",\"同上\",①選手情報入力!O47)","v":"同上"}]
["最高記録",null,null,null,null,null,null,null,null,null,null,null,null,"最高記録"]
["備　  考","※記入不要",null,null,null,null,null,null,null,null,null,null,null,"備　  考","※記入不要"]
[]
["※標準記録突破大会は、公認大会で、記録会は正式名称を記入。",null,null,null,null,null,null,null,null,null,"女子は",null,null,"※標準記録突破大会は、公認大会で、記録会は正式名称を記入。",null,null,null,null,null,null,null,null,null,"女子は"]
["※参加資格・記録等記入不備の場合、審査の対象としない。",null,null,null,null,null,null,null,null,null,"ここを",null,null,"※参加資格・記録等記入不備の場合、審査の対象としない。",null,null,null,null,null,null,null,null,null,"ここを"]
["※申込締切期日厳守。",null,null,null,null,null,null,null,null,null,"切り取る",null,null,"※申込締切期日厳守。",null,null,null,null,null,null,null,null,null,"切り取る"]
[]
[]
["第76回愛知陸上競技選手権大会　個人申込票",null,null,null,null,null,null,null,null,null,null,39,null,"第76回愛知陸上競技選手権大会　個人申込票",null,null,null,null,null,null,null,null,null,null,39]
[null,null,null,"",null,null,null,null,null,"資格審査用",null,null,null,null,null,null,"",null,null,null,null,null,"資格審査用"]
[null,"性　　別",null,{"$f":"IF(①選手情報入力!J48=\"\",\"\",①選手情報入力!J48)","v":""},null,null,null,{"$f":"IF(①選手情報入力!P48=\"\",\"\",①選手情報入力!P48)","v":""},null,null,null,null,null,null,"性　　別",null,{"$f":"IF(①選手情報入力!M48=\"\",\"\",①選手情報入力!M48)","v":""},null,null,null,{"$f":"IF(①選手情報入力!P48=\"\",\"\",①選手情報入力!P48)","v":""}]
["種  目",{"$f":"IF(①選手情報入力!$H$48=\"\",\"\",①選手情報入力!$H$48)","v":""},null,null,null,null,null,null,null,null,null,null,null,"種  目",{"$f":"IF(①選手情報入力!$H$48=\"\",\"\",①選手情報入力!$H$48)","v":""}]
[]
["ナンバー",null,"ﾌ ﾘ ｶﾞﾅ",{"$f":"IF(①選手情報入力!$F$48=\"\",\"\",①選手情報入力!$F$48)","v":""},null,null,null,null,null,null,null,null,null,"ナンバー",null,"ﾌ ﾘ ｶﾞﾅ",{"$f":"IF(①選手情報入力!$F$48=\"\",\"\",①選手情報入力!$F$48)","v":""}]
[{"$f":"IF(①選手情報入力!$B$48=\"\",\"\",①選手情報入力!$B$48)","v":""},null,"氏 名",{"$f":"IF(①選手情報入力!$E$48=\"\",\"\",①選手情報入力!$E$48)","v":""},null,null,null,null,null,null,null,null,null,{"$f":"IF(①選手情報入力!$B$48=\"\",\"\",①選手情報入力!$B$48)","v":""},null,"氏 名",{"$f":"IF(①選手情報入力!$E$48=\"\",\"\",①選手情報入力!$E$48)","v":""}]
[]
["出場資格\n取得大会","大　会　名",null,null,null,"加入団体名",null,{"$f":"②団体情報入力!$D$5","v":{"$error":"#N/A"}},null,null,null,null,null,"出場資格\n取得大会","大　会　名",null,null,null,"加入団体名",null,{"$f":"②団体情報入力!$D$5","v":{"$error":"#N/A"}}]
[null,null,null,null,null,"年.月.日","順 位",null,"記　録",null,"場  所",null,null,null,null,null,null,null,"年.月.日","順 位",null,"記　録",null,"場  所"]
[null,null,null,null,null,null,null,null,{"$f":"IF(①選手情報入力!K48=\"\",\"\",①選手情報入力!K48)","v":""},null,null,null,null,null,null,null,null,null,null,null,null,{"$f":"IF(①選手情報入力!N48=\"\",\"\",①選手情報入力!N48)","v":""}]
[]
["本 年 度",null,null,null,null,null,null,null,{"$f":"IF(①選手情報入力!L48=\"\",\"同上\",①選手情報入力!L48)","v":"同上"},null,null,null,null,"本 年 度",null,null,null,null,null,null,null,{"$f":"IF(①選手情報入力!O48=\"\",\"同上\",①選手情報入力!O48)","v":"同上"}]
["最高記録",null,null,null,null,null,null,null,null,null,null,null,null,"最高記録"]
["備　  考","※記入不要",null,null,null,null,null,null,null,null,null,null,null,"備　  考","※記入不要"]
[]
["※標準記録突破大会は、公認大会で、記録会は正式名称を記入。",null,null,null,null,null,null,null,null,null,"女子は",null,null,"※標準記録突破大会は、公認大会で、記録会は正式名称を記入。",null,null,null,null,null,null,null,null,null,"女子は"]
["※参加資格・記録等記入不備の場合、審査の対象としない。",null,null,null,null,null,null,null,null,null,"ここを",null,null,"※参加資格・記録等記入不備の場合、審査の対象としない。",null,null,null,null,null,null,null,null,null,"ここを"]
["※申込締切期日厳守。",null,null,null,null,null,null,null,null,null,"切り取る",null,null,"※申込締切期日厳守。",null,null,null,null,null,null,null,null,null,"切り取る"]
[]
[]
["第76回愛知陸上競技選手権大会　個人申込票",null,null,null,null,null,null,null,null,null,null,40,null,"第76回愛知陸上競技選手権大会　個人申込票",null,null,null,null,null,null,null,null,null,null,40]
[null,null,null,"",null,null,null,null,null,"資格審査用",null,null,null,null,null,null,"",null,null,null,null,null,"資格審査用"]
[null,"性　　別",null,{"$f":"IF(①選手情報入力!J49=\"\",\"\",①選手情報入力!J49)","v":""},null,null,null,{"$f":"IF(①選手情報入力!P49=\"\",\"\",①選手情報入力!P49)","v":""},null,null,null,null,null,null,"性　　別",null,{"$f":"IF(①選手情報入力!M49=\"\",\"\",①選手情報入力!M49)","v":""},null,null,null,{"$f":"IF(①選手情報入力!P49=\"\",\"\",①選手情報入力!P49)","v":""}]
["種  目",{"$f":"IF(①選手情報入力!$H$49=\"\",\"\",①選手情報入力!$H$49)","v":""},null,null,null,null,null,null,null,null,null,null,null,"種  目",{"$f":"IF(①選手情報入力!$H$49=\"\",\"\",①選手情報入力!$H$49)","v":""}]
[]
["ナンバー",null,"ﾌ ﾘ ｶﾞﾅ",{"$f":"IF(①選手情報入力!$F$49=\"\",\"\",①選手情報入力!$F$49)","v":""},null,null,null,null,null,null,null,null,null,"ナンバー",null,"ﾌ ﾘ ｶﾞﾅ",{"$f":"IF(①選手情報入力!$F$49=\"\",\"\",①選手情報入力!$F$49)","v":""}]
[{"$f":"IF(①選手情報入力!$B$49=\"\",\"\",①選手情報入力!$B$49)","v":""},null,"氏 名",{"$f":"IF(①選手情報入力!$E$49=\"\",\"\",①選手情報入力!$E$49)","v":""},null,null,null,null,null,null,null,null,null,{"$f":"IF(①選手情報入力!$B$49=\"\",\"\",①選手情報入力!$B$49)","v":""},null,"氏 名",{"$f":"IF(①選手情報入力!$E$49=\"\",\"\",①選手情報入力!$E$49)","v":""}]
[]
["出場資格\n取得大会","大　会　名",null,null,null,"加入団体名",null,{"$f":"②団体情報入力!$D$5","v":{"$error":"#N/A"}},null,null,null,null,null,"出場資格\n取得大会","大　会　名",null,null,null,"加入団体名",null,{"$f":"②団体情報入力!$D$5","v":{"$error":"#N/A"}}]
[null,null,null,null,null,"年.月.日","順 位",null,"記　録",null,"場  所",null,null,null,null,null,null,null,"年.月.日","順 位",null,"記　録",null,"場  所"]
[null,null,null,null,null,null,null,null,{"$f":"IF(①選手情報入力!K49=\"\",\"\",①選手情報入力!K49)","v":""},null,null,null,null,null,null,null,null,null,null,null,null,{"$f":"IF(①選手情報入力!N49=\"\",\"\",①選手情報入力!N49)","v":""}]
[]
["本 年 度",null,null,null,null,null,null,null,{"$f":"IF(①選手情報入力!L49=\"\",\"同上\",①選手情報入力!L49)","v":"同上"},null,null,null,null,"本 年 度",null,null,null,null,null,null,null,{"$f":"IF(①選手情報入力!O49=\"\",\"同上\",①選手情報入力!O49)","v":"同上"}]
["最高記録",null,null,null,null,null,null,null,null,null,null,null,null,"最高記録"]
["備　  考","※記入不要",null,null,null,null,null,null,null,null,null,null,null,"備　  考","※記入不要"]
[]
["※標準記録突破大会は、公認大会で、記録会は正式名称を記入。",null,null,null,null,null,null,null,null,null,"女子は",null,null,"※標準記録突破大会は、公認大会で、記録会は正式名称を記入。",null,null,null,null,null,null,null,null,null,"女子は"]
["※参加資格・記録等記入不備の場合、審査の対象としない。",null,null,null,null,null,null,null,null,null,"ここを",null,null,"※参加資格・記録等記入不備の場合、審査の対象としない。",null,null,null,null,null,null,null,null,null,"ここを"]
["※申込締切期日厳守。",null,null,null,null,null,null,null,null,null,"切り取る",null,null,"※申込締切期日厳守。",null,null,null,null,null,null,null,null,null,"切り取る"]

{"sheet":"　　　　　","index":8,"n_rows":0,"n_cols":0,"rows_kept":0,"cut":false,"hidden":false,"merged":[]}

{"sheet":"種目情報","index":9,"n_rows":47,"n_cols":15,"rows_kept":47,"cut":false,"hidden":false,"merged":[[3,12,28,12],[30,12,50,12],[1,13,1,14],[0,0,0,2],[0,4,0,6],[1,0,2,0],[1,4,2,4]]}
["男子",null,null,null,"女子"]
["種目","種目","記録",null,"種目","種目","記録",null,null,null,null,null,null,"一覧表用　種目名"]
[null,"No","FLAG",null,null,"No","FLAG"]
["男100m",1,null,null,"女100m",18,0,null,null,null,null,null,"男　　　子","男100m","男100m"]
["男200m",2,null,null,"女200m",19,0,null,null,null,null,null,null,"男200m","男200m"]
["男400m",3,null,null,"女400m",20,0,null,null,null,null,null,null,"男400m","男400m"]
["男800m",4,null,null,"女800m",21,0,null,null,null,null,null,null,"男800m","男800m"]
["男1500m",5,null,null,"女1500m",22,0,null,null,null,null,null,null,"男1500m","男1500m"]
["男110mH",6,null,null,"女100mH",23,0,null,null,null,null,null,null,"男110mH","男110mH"]
["男400mH",7,null,null,"女400mH",24,0,null,null,null,null,null,null,"男400mH","男400mH"]
["男3000mSC",8,null,null,"女3000mSC",25,0,null,null,null,null,null,null,"男3000mSC","男3000mSC"]
["男5000mW",9,null,null,"女5000mW",26,0,null,null,null,null,null,null,"男5000mW","男5000mW"]
["男走高跳",10,null,null,"女走高跳",27,0,null,null,null,null,null,null,"男走高跳","男走高跳"]
["男棒高跳",11,null,null,"女棒高跳",28,0,null,null,null,null,null,null,"男棒高跳","男棒高跳"]
["男走幅跳",12,null,null,"女走幅跳",29,0,null,null,null,null,null,null,"男走幅跳","男走幅跳"]
["男三段跳",13,null,null,"女三段跳",30,0,null,null,null,null,null,null,"男三段跳","男三段跳"]
["男砲丸投",14,null,null,"女砲丸投",31,0,null,null,null,null,null,null,"男砲丸投","男砲丸投"]
["男円盤投",15,null,null,"女円盤投",32,0,null,null,null,null,null,null,"男円盤投","男円盤投"]
["男ハンマー投",16,null,null,"女ハンマー投",33,0,null,null,null,null,null,null,"男ハンマー投","男ハンマー投"]
["男やり投",17,null,null,"女やり投",34,0,null,null,null,null,null,null,"男やり投","男やり投"]
[]
[]
[]
[]
[]
[]
[]
[]
[]
[]
[null,null,null,null,null,null,null,null,null,null,null,null,"女　　　子","女100m","女100m"]
[null,null,null,null,null,null,null,null,null,null,null,null,null,"女200m","女200m"]
[null,null,null,null,null,null,null,null,null,null,null,null,null,"女400m","女400m"]
[null,null,null,null,null,null,null,null,null,null,null,null,null,"女800m","女800m"]
[null,null,null,null,null,null,null,null,null,null,null,null,null,"女1500m","女1500m"]
[null,null,null,null,null,null,null,null,null,null,null,null,null,"女100mH","女100mH"]
[null,null,null,null,null,null,null,null,null,null,null,null,null,"女400mH","女400mH"]
[null,null,null,null,null,null,null,null,null,null,null,null,null,"女3000mSC","女3000mSC"]
[null,null,null,null,null,null,null,null,null,null,null,null,null,"女5000mW","女5000mW"]
[null,null,null,null,null,null,null,null,null,null,null,null,null,"女走高跳","女走高跳"]
[null,null,null,null,null,null,null,null,null,null,null,null,null,"女棒高跳","女棒高跳"]
[null,null,null,null,null,null,null,null,null,null,null,null,null,"女走幅跳","女走幅跳"]
[null,null,null,null,null,null,null,null,null,null,null,null,null,"女三段跳","女三段跳"]
[null,null,null,null,null,null,null,null,null,null,null,null,null,"女砲丸投","女砲丸投"]
[null,null,null,null,null,null,null,null,null,null,null,null,null,"女円盤投","女円盤投"]
[null,null,null,null,null,null,null,null,null,null,null,null,null,"女ハンマー投","女ハンマー投"]
[null,null,null,null,null,null,null,null,null,null,null,null,null,"女やり投","女やり投"]

{"sheet":"data_kyogisha","index":10,"n_rows":41,"n_cols":34,"rows_kept":41,"cut":false,"hidden":false,"merged":[]}
["競技者NO","所属コード1","所属コード2","ナンバー","ナンバー2","競技者名","競技者名カナ","競技者名略称","性別","学年","生年","月日","個人所属地名","陸連コード","参加競技-競技コード1","参加競技-自己記録1","参加競技-オープン参加FLG1","参加競技-記録FLG1","参加競技-競技コード2","参加競技-自己記録2","参加競技-オープン参加FLG2","参加競技-記録FLG2","参加競技-競技コード3","参加競技-自己記録3","参加競技-オープン参加FLG3","参加競技-記録FLG3","参加競技-競技コード4","参加競技-自己記録4","参加競技-オープン参加FLG4","参加競技-記録FLG4","参加競技-競技コード5","参加競技-自己記録5","参加競技-オープン参加FLG5","参加競技-記録FLG5"]
[{"$f":"IF(E2=\"\",\"\",VLOOKUP(①選手情報入力!D10,①陸連データ貼り付け!A:B,2,0))","v":""},{"$f":"IF(E2=\"\",\"\",②団体情報入力!$D$3)","v":""},null,{"$f":"IF(①選手情報入力!B10=\"\",\"\",①選手情報入力!B10)","v":""},{"$f":"IF(①選手情報入力!C10=\"\",\"\",①選手情報入力!C10)","v":""},{"$f":"IF(E2=\"\",\"\",①選手情報入力!E10)","v":""},{"$f":"IF(E2=\"\",\"\",①選手情報入力!F10)","v":""},{"$f":"IF(E2=\"\",\"\",F2)","v":""},{"$f":"IF(E2=\"\",\"\",IF(①選手情報入力!H10=\"男\",1,2))","v":""},{"$f":"IF(E2=\"\",\"\",IF(①選手情報入力!I10=0,\"\",①選手情報入力!I10))","v":""},null,{"$f":"IF(E2=\"\",\"\",0)","v":""},{"$f":"IF(E2=\"\",\"\",\"愛知\")","v":""},null,{"$f":"IF(E2=\"\",\"\",IF(①選手情報入力!J10=\"\",\"\",IF(I2=1,VLOOKUP(①選手情報入力!J10,種目情報!$A$4:$B$232,2,FALSE),VLOOKUP(①選手情報入力!J10,種目情報!$E$4:$F$81,2,FALSE))))","v":""},{"$f":"IF(E2=\"\",\"\",IF(①選手情報入力!L10>①選手情報入力!K10,①選手情報入力!L10,①選手情報入力!K10))","v":""},{"$f":"IF(E2=\"\",\"\",IF(①選手情報入力!J10=\"\",\"\",0))","v":""},{"$f":"IF(E2=\"\",\"\",IF(①選手情報入力!J10=\"\",\"\",IF(I2=1,VLOOKUP(①選手情報入力!J10,種目情報!$A$4:$C$22,3,FALSE),VLOOKUP(①選手情報入力!J10,種目情報!$E$4:$G$22,3,FALSE))))","v":""},{"$f":"IF(E2=\"\",\"\",IF(①選手情報入力!M10=\"\",\"\",IF(I2=1,VLOOKUP(①選手情報入力!M10,種目情報!$A$3:$B$242,2,FALSE),VLOOKUP(①選手情報入力!M10,種目情報!$E$3:$F$241,2,FALSE))))","v":""},{"$f":"IF(E2=\"\",\"\",IF(①選手情報入力!O10>①選手情報入力!N10,①選手情報入力!O10,①選手情報入力!N10))","v":""},{"$f":"IF(E2=\"\",\"\",IF(①選手情報入力!M10=\"\",\"\",0))","v":""},{"$f":"IF(E2=\"\",\"\",IF(①選手情報入力!M10=\"\",\"\",IF(I2=1,VLOOKUP(①選手情報入力!M10,種目情報!$A$5:$C$22,3,FALSE),VLOOKUP(①選手情報入力!M10,種目情報!$E$5:$G$22,3,FALSE))))","v":""}]
[{"$f":"IF(E3=\"\",\"\",VLOOKUP(①選手情報入力!D11,①陸連データ貼り付け!A:B,2,0))","v":""},{"$f":"IF(E3=\"\",\"\",②団体情報入力!$D$3)","v":""},null,{"$f":"IF(①選手情報入力!B11=\"\",\"\",①選手情報入力!B11)","v":""},{"$f":"IF(①選手情報入力!C11=\"\",\"\",①選手情報入力!C11)","v":""},{"$f":"IF(E3=\"\",\"\",①選手情報入力!E11)","v":""},{"$f":"IF(E3=\"\",\"\",①選手情報入力!F11)","v":""},{"$f":"IF(E3=\"\",\"\",F3)","v":""},{"$f":"IF(E3=\"\",\"\",IF(①選手情報入力!H11=\"男\",1,2))","v":""},{"$f":"IF(E3=\"\",\"\",IF(①選手情報入力!I11=0,\"\",①選手情報入力!I11))","v":""},null,{"$f":"IF(E3=\"\",\"\",0)","v":""},{"$f":"IF(E3=\"\",\"\",\"愛知\")","v":""},null,{"$f":"IF(E3=\"\",\"\",IF(①選手情報入力!J11=\"\",\"\",IF(I3=1,VLOOKUP(①選手情報入力!J11,種目情報!$A$4:$B$232,2,FALSE),VLOOKUP(①選手情報入力!J11,種目情報!$E$4:$F$81,2,FALSE))))","v":""},{"$f":"IF(E3=\"\",\"\",IF(①選手情報入力!L11>①選手情報入力!K11,①選手情報入力!L11,①選手情報入力!K11))","v":""},{"$f":"IF(E3=\"\",\"\",IF(①選手情報入力!J11=\"\",\"\",0))","v":""},{"$f":"IF(E3=\"\",\"\",IF(①選手情報入力!J11=\"\",\"\",IF(I3=1,VLOOKUP(①選手情報入力!J11,種目情報!$A$4:$C$22,3,FALSE),VLOOKUP(①選手情報入力!J11,種目情報!$E$4:$G$22,3,FALSE))))","v":""},{"$f":"IF(E3=\"\",\"\",IF(①選手情報入力!M11=\"\",\"\",IF(I3=1,VLOOKUP(①選手情報入力!M11,種目情報!$A$3:$B$242,2,FALSE),VLOOKUP(①選手情報入力!M11,種目情報!$E$3:$F$241,2,FALSE))))","v":""},{"$f":"IF(E3=\"\",\"\",IF(①選手情報入力!O11>①選手情報入力!N11,①選手情報入力!O11,①選手情報入力!N11))","v":""},{"$f":"IF(E3=\"\",\"\",IF(①選手情報入力!M11=\"\",\"\",0))","v":""},{"$f":"IF(E3=\"\",\"\",IF(①選手情報入力!M11=\"\",\"\",IF(I3=1,VLOOKUP(①選手情報入力!M11,種目情報!$A$5:$C$22,3,FALSE),VLOOKUP(①選手情報入力!M11,種目情報!$E$5:$G$22,3,FALSE))))","v":""}]
[{"$f":"IF(E4=\"\",\"\",VLOOKUP(①選手情報入力!D12,①陸連データ貼り付け!A:B,2,0))","v":""},{"$f":"IF(E4=\"\",\"\",②団体情報入力!$D$3)","v":""},null,{"$f":"IF(①選手情報入力!B12=\"\",\"\",①選手情報入力!B12)","v":""},{"$f":"IF(①選手情報入力!C12=\"\",\"\",①選手情報入力!C12)","v":""},{"$f":"IF(E4=\"\",\"\",①選手情報入力!E12)","v":""},{"$f":"IF(E4=\"\",\"\",①選手情報入力!F12)","v":""},{"$f":"IF(E4=\"\",\"\",F4)","v":""},{"$f":"IF(E4=\"\",\"\",IF(①選手情報入力!H12=\"男\",1,2))","v":""},{"$f":"IF(E4=\"\",\"\",IF(①選手情報入力!I12=0,\"\",①選手情報入力!I12))","v":""},null,{"$f":"IF(E4=\"\",\"\",0)","v":""},{"$f":"IF(E4=\"\",\"\",\"愛知\")","v":""},null,{"$f":"IF(E4=\"\",\"\",IF(①選手情報入力!J12=\"\",\"\",IF(I4=1,VLOOKUP(①選手情報入力!J12,種目情報!$A$4:$B$232,2,FALSE),VLOOKUP(①選手情報入力!J12,種目情報!$E$4:$F$81,2,FALSE))))","v":""},{"$f":"IF(E4=\"\",\"\",IF(①選手情報入力!L12>①選手情報入力!K12,①選手情報入力!L12,①選手情報入力!K12))","v":""},{"$f":"IF(E4=\"\",\"\",IF(①選手情報入力!J12=\"\",\"\",0))","v":""},{"$f":"IF(E4=\"\",\"\",IF(①選手情報入力!J12=\"\",\"\",IF(I4=1,VLOOKUP(①選手情報入力!J12,種目情報!$A$4:$C$22,3,FALSE),VLOOKUP(①選手情報入力!J12,種目情報!$E$4:$G$22,3,FALSE))))","v":""},{"$f":"IF(E4=\"\",\"\",IF(①選手情報入力!M12=\"\",\"\",IF(I4=1,VLOOKUP(①選手情報入力!M12,種目情報!$A$3:$B$242,2,FALSE),VLOOKUP(①選手情報入力!M12,種目情報!$E$3:$F$241,2,FALSE))))","v":""},{"$f":"IF(E4=\"\",\"\",IF(①選手情報入力!O12>①選手情報入力!N12,①選手情報入力!O12,①選手情報入力!N12))","v":""},{"$f":"IF(E4=\"\",\"\",IF(①選手情報入力!M12=\"\",\"\",0))","v":""},{"$f":"IF(E4=\"\",\"\",IF(①選手情報入力!M12=\"\",\"\",IF(I4=1,VLOOKUP(①選手情報入力!M12,種目情報!$A$5:$C$22,3,FALSE),VLOOKUP(①選手情報入力!M12,種目情報!$E$5:$G$22,3,FALSE))))","v":""}]
[{"$f":"IF(E5=\"\",\"\",VLOOKUP(①選手情報入力!D13,①陸連データ貼り付け!A:B,2,0))","v":""},{"$f":"IF(E5=\"\",\"\",②団体情報入力!$D$3)","v":""},null,{"$f":"IF(①選手情報入力!B13=\"\",\"\",①選手情報入力!B13)","v":""},{"$f":"IF(①選手情報入力!C13=\"\",\"\",①選手情報入力!C13)","v":""},{"$f":"IF(E5=\"\",\"\",①選手情報入力!E13)","v":""},{"$f":"IF(E5=\"\",\"\",①選手情報入力!F13)","v":""},"",{"$f":"IF(E5=\"\",\"\",IF(①選手情報入力!H13=\"男\",1,2))","v":""},{"$f":"IF(E5=\"\",\"\",IF(①選手情報入力!I13=0,\"\",①選手情報入力!I13))","v":""},null,"","",null,{"$f":"IF(E5=\"\",\"\",IF(①選手情報入力!J13=\"\",\"\",IF(I5=1,VLOOKUP(①選手情報入力!J13,種目情報!$A$4:$B$232,2,FALSE),VLOOKUP(①選手情報入力!J13,種目情報!$E$4:$F$81,2,FALSE))))","v":""},{"$f":"IF(E5=\"\",\"\",IF(①選手情報入力!L13>①選手情報入力!K13,①選手情報入力!L13,①選手情報入力!K13))","v":""},{"$f":"IF(E5=\"\",\"\",IF(①選手情報入力!J13=\"\",\"\",0))","v":""},{"$f":"IF(E5=\"\",\"\",IF(①選手情報入力!J13=\"\",\"\",IF(I5=1,VLOOKUP(①選手情報入力!J13,種目情報!$A$4:$C$22,3,FALSE),VLOOKUP(①選手情報入力!J13,種目情報!$E$4:$G$22,3,FALSE))))","v":""},{"$f":"IF(E5=\"\",\"\",IF(①選手情報入力!M13=\"\",\"\",IF(I5=1,VLOOKUP(①選手情報入力!M13,種目情報!$A$3:$B$242,2,FALSE),VLOOKUP(①選手情報入力!M13,種目情報!$E$3:$F$241,2,FALSE))))","v":""},{"$f":"IF(E5=\"\",\"\",IF(①選手情報入力!O13>①選手情報入力!N13,①選手情報入力!O13,①選手情報入力!N13))","v":""},{"$f":"IF(E5=\"\",\"\",IF(①選手情報入力!M13=\"\",\"\",0))","v":""},{"$f":"IF(E5=\"\",\"\",IF(①選手情報入力!M13=\"\",\"\",IF(I5=1,VLOOKUP(①選手情報入力!M13,種目情報!$A$5:$C$22,3,FALSE),VLOOKUP(①選手情報入力!M13,種目情報!$E$5:$G$22,3,FALSE))))","v":""}]
[{"$f":"IF(E6=\"\",\"\",VLOOKUP(①選手情報入力!D14,①陸連データ貼り付け!A:B,2,0))","v":""},{"$f":"IF(E6=\"\",\"\",②団体情報入力!$D$3)","v":""},null,{"$f":"IF(①選手情報入力!B14=\"\",\"\",①選手情報入力!B14)","v":""},{"$f":"IF(①選手情報入力!C14=\"\",\"\",①選手情報入力!C14)","v":""},{"$f":"IF(E6=\"\",\"\",①選手情報入力!E14)","v":""},{"$f":"IF(E6=\"\",\"\",①選手情報入力!F14)","v":""},"",{"$f":"IF(E6=\"\",\"\",IF(①選手情報入力!H14=\"男\",1,2))","v":""},{"$f":"IF(E6=\"\",\"\",IF(①選手情報入力!I14=0,\"\",①選手情報入力!I14))","v":""},null,"","",null,{"$f":"IF(E6=\"\",\"\",IF(①選手情報入力!J14=\"\",\"\",IF(I6=1,VLOOKUP(①選手情報入力!J14,種目情報!$A$4:$B$232,2,FALSE),VLOOKUP(①選手情報入力!J14,種目情報!$E$4:$F$81,2,FALSE))))","v":""},{"$f":"IF(E6=\"\",\"\",IF(①選手情報入力!L14>①選手情報入力!K14,①選手情報入力!L14,①選手情報入力!K14))","v":""},{"$f":"IF(E6=\"\",\"\",IF(①選手情報入力!J14=\"\",\"\",0))","v":""},{"$f":"IF(E6=\"\",\"\",IF(①選手情報入力!J14=\"\",\"\",IF(I6=1,VLOOKUP(①選手情報入力!J14,種目情報!$A$4:$C$22,3,FALSE),VLOOKUP(①選手情報入力!J14,種目情報!$E$4:$G$22,3,FALSE))))","v":""},{"$f":"IF(E6=\"\",\"\",IF(①選手情報入力!M14=\"\",\"\",IF(I6=1,VLOOKUP(①選手情報入力!M14,種目情報!$A$3:$B$242,2,FALSE),VLOOKUP(①選手情報入力!M14,種目情報!$E$3:$F$241,2,FALSE))))","v":""},{"$f":"IF(E6=\"\",\"\",IF(①選手情報入力!O14>①選手情報入力!N14,①選手情報入力!O14,①選手情報入力!N14))","v":""},{"$f":"IF(E6=\"\",\"\",IF(①選手情報入力!M14=\"\",\"\",0))","v":""},{"$f":"IF(E6=\"\",\"\",IF(①選手情報入力!M14=\"\",\"\",IF(I6=1,VLOOKUP(①選手情報入力!M14,種目情報!$A$5:$C$22,3,FALSE),VLOOKUP(①選手情報入力!M14,種目情報!$E$5:$G$22,3,FALSE))))","v":""}]
[{"$f":"IF(E7=\"\",\"\",VLOOKUP(①選手情報入力!D15,①陸連データ貼り付け!A:B,2,0))","v":""},{"$f":"IF(E7=\"\",\"\",②団体情報入力!$D$3)","v":""},null,{"$f":"IF(①選手情報入力!B15=\"\",\"\",①選手情報入力!B15)","v":""},{"$f":"IF(①選手情報入力!C15=\"\",\"\",①選手情報入力!C15)","v":""},{"$f":"IF(E7=\"\",\"\",①選手情報入力!E15)","v":""},{"$f":"IF(E7=\"\",\"\",①選手情報入力!F15)","v":""},"",{"$f":"IF(E7=\"\",\"\",IF(①選手情報入力!H15=\"男\",1,2))","v":""},{"$f":"IF(E7=\"\",\"\",IF(①選手情報入力!I15=0,\"\",①選手情報入力!I15))","v":""},null,"","",null,{"$f":"IF(E7=\"\",\"\",IF(①選手情報入力!J15=\"\",\"\",IF(I7=1,VLOOKUP(①選手情報入力!J15,種目情報!$A$4:$B$232,2,FALSE),VLOOKUP(①選手情報入力!J15,種目情報!$E$4:$F$81,2,FALSE))))","v":""},{"$f":"IF(E7=\"\",\"\",IF(①選手情報入力!L15>①選手情報入力!K15,①選手情報入力!L15,①選手情報入力!K15))","v":""},{"$f":"IF(E7=\"\",\"\",IF(①選手情報入力!J15=\"\",\"\",0))","v":""},{"$f":"IF(E7=\"\",\"\",IF(①選手情報入力!J15=\"\",\"\",IF(I7=1,VLOOKUP(①選手情報入力!J15,種目情報!$A$4:$C$22,3,FALSE),VLOOKUP(①選手情報入力!J15,種目情報!$E$4:$G$22,3,FALSE))))","v":""},{"$f":"IF(E7=\"\",\"\",IF(①選手情報入力!M15=\"\",\"\",IF(I7=1,VLOOKUP(①選手情報入力!M15,種目情報!$A$3:$B$242,2,FALSE),VLOOKUP(①選手情報入力!M15,種目情報!$E$3:$F$241,2,FALSE))))","v":""},{"$f":"IF(E7=\"\",\"\",IF(①選手情報入力!O15>①選手情報入力!N15,①選手情報入力!O15,①選手情報入力!N15))","v":""},{"$f":"IF(E7=\"\",\"\",IF(①選手情報入力!M15=\"\",\"\",0))","v":""},{"$f":"IF(E7=\"\",\"\",IF(①選手情報入力!M15=\"\",\"\",IF(I7=1,VLOOKUP(①選手情報入力!M15,種目情報!$A$5:$C$22,3,FALSE),VLOOKUP(①選手情報入力!M15,種目情報!$E$5:$G$22,3,FALSE))))","v":""}]
[{"$f":"IF(E8=\"\",\"\",VLOOKUP(①選手情報入力!D16,①陸連データ貼り付け!A:B,2,0))","v":""},{"$f":"IF(E8=\"\",\"\",②団体情報入力!$D$3)","v":""},null,{"$f":"IF(①選手情報入力!B16=\"\",\"\",①選手情報入力!B16)","v":""},{"$f":"IF(①選手情報入力!C16=\"\",\"\",①選手情報入力!C16)","v":""},{"$f":"IF(E8=\"\",\"\",①選手情報入力!E16)","v":""},{"$f":"IF(E8=\"\",\"\",①選手情報入力!F16)","v":""},"",{"$f":"IF(E8=\"\",\"\",IF(①選手情報入力!H16=\"男\",1,2))","v":""},{"$f":"IF(E8=\"\",\"\",IF(①選手情報入力!I16=0,\"\",①選手情報入力!I16))","v":""},null,"","",null,{"$f":"IF(E8=\"\",\"\",IF(①選手情報入力!J16=\"\",\"\",IF(I8=1,VLOOKUP(①選手情報入力!J16,種目情報!$A$4:$B$232,2,FALSE),VLOOKUP(①選手情報入力!J16,種目情報!$E$4:$F$81,2,FALSE))))","v":""},{"$f":"IF(E8=\"\",\"\",IF(①選手情報入力!L16>①選手情報入力!K16,①選手情報入力!L16,①選手情報入力!K16))","v":""},{"$f":"IF(E8=\"\",\"\",IF(①選手情報入力!J16=\"\",\"\",0))","v":""},{"$f":"IF(E8=\"\",\"\",IF(①選手情報入力!J16=\"\",\"\",IF(I8=1,VLOOKUP(①選手情報入力!J16,種目情報!$A$4:$C$22,3,FALSE),VLOOKUP(①選手情報入力!J16,種目情報!$E$4:$G$22,3,FALSE))))","v":""},{"$f":"IF(E8=\"\",\"\",IF(①選手情報入力!M16=\"\",\"\",IF(I8=1,VLOOKUP(①選手情報入力!M16,種目情報!$A$3:$B$242,2,FALSE),VLOOKUP(①選手情報入力!M16,種目情報!$E$3:$F$241,2,FALSE))))","v":""},{"$f":"IF(E8=\"\",\"\",IF(①選手情報入力!O16>①選手情報入力!N16,①選手情報入力!O16,①選手情報入力!N16))","v":""},{"$f":"IF(E8=\"\",\"\",IF(①選手情報入力!M16=\"\",\"\",0))","v":""},{"$f":"IF(E8=\"\",\"\",IF(①選手情報入力!M16=\"\",\"\",IF(I8=1,VLOOKUP(①選手情報入力!M16,種目情報!$A$5:$C$22,3,FALSE),VLOOKUP(①選手情報入力!M16,種目情報!$E$5:$G$22,3,FALSE))))","v":""}]
[{"$f":"IF(E9=\"\",\"\",VLOOKUP(①選手情報入力!D17,①陸連データ貼り付け!A:B,2,0))","v":""},{"$f":"IF(E9=\"\",\"\",②団体情報入力!$D$3)","v":""},null,{"$f":"IF(①選手情報入力!B17=\"\",\"\",①選手情報入力!B17)","v":""},{"$f":"IF(①選手情報入力!C17=\"\",\"\",①選手情報入力!C17)","v":""},{"$f":"IF(E9=\"\",\"\",①選手情報入力!E17)","v":""},{"$f":"IF(E9=\"\",\"\",①選手情報入力!F17)","v":""},"",{"$f":"IF(E9=\"\",\"\",IF(①選手情報入力!H17=\"男\",1,2))","v":""},{"$f":"IF(E9=\"\",\"\",IF(①選手情報入力!I17=0,\"\",①選手情報入力!I17))","v":""},null,"","",null,{"$f":"IF(E9=\"\",\"\",IF(①選手情報入力!J17=\"\",\"\",IF(I9=1,VLOOKUP(①選手情報入力!J17,種目情報!$A$4:$B$232,2,FALSE),VLOOKUP(①選手情報入力!J17,種目情報!$E$4:$F$81,2,FALSE))))","v":""},{"$f":"IF(E9=\"\",\"\",IF(①選手情報入力!L17>①選手情報入力!K17,①選手情報入力!L17,①選手情報入力!K17))","v":""},{"$f":"IF(E9=\"\",\"\",IF(①選手情報入力!J17=\"\",\"\",0))","v":""},{"$f":"IF(E9=\"\",\"\",IF(①選手情報入力!J17=\"\",\"\",IF(I9=1,VLOOKUP(①選手情報入力!J17,種目情報!$A$4:$C$22,3,FALSE),VLOOKUP(①選手情報入力!J17,種目情報!$E$4:$G$22,3,FALSE))))","v":""},{"$f":"IF(E9=\"\",\"\",IF(①選手情報入力!M17=\"\",\"\",IF(I9=1,VLOOKUP(①選手情報入力!M17,種目情報!$A$3:$B$242,2,FALSE),VLOOKUP(①選手情報入力!M17,種目情報!$E$3:$F$241,2,FALSE))))","v":""},{"$f":"IF(E9=\"\",\"\",IF(①選手情報入力!O17>①選手情報入力!N17,①選手情報入力!O17,①選手情報入力!N17))","v":""},{"$f":"IF(E9=\"\",\"\",IF(①選手情報入力!M17=\"\",\"\",0))","v":""},{"$f":"IF(E9=\"\",\"\",IF(①選手情報入力!M17=\"\",\"\",IF(I9=1,VLOOKUP(①選手情報入力!M17,種目情報!$A$5:$C$22,3,FALSE),VLOOKUP(①選手情報入力!M17,種目情報!$E$5:$G$22,3,FALSE))))","v":""}]
[{"$f":"IF(E10=\"\",\"\",VLOOKUP(①選手情報入力!D18,①陸連データ貼り付け!A:B,2,0))","v":""},{"$f":"IF(E10=\"\",\"\",②団体情報入力!$D$3)","v":""},null,{"$f":"IF(①選手情報入力!B18=\"\",\"\",①選手情報入力!B18)","v":""},{"$f":"IF(①選手情報入力!C18=\"\",\"\",①選手情報入力!C18)","v":""},{"$f":"IF(E10=\"\",\"\",①選手情報入力!E18)","v":""},{"$f":"IF(E10=\"\",\"\",①選手情報入力!F18)","v":""},"",{"$f":"IF(E10=\"\",\"\",IF(①選手情報入力!H18=\"男\",1,2))","v":""},{"$f":"IF(E10=\"\",\"\",IF(①選手情報入力!I18=0,\"\",①選手情報入力!I18))","v":""},null,"","",null,{"$f":"IF(E10=\"\",\"\",IF(①選手情報入力!J18=\"\",\"\",IF(I10=1,VLOOKUP(①選手情報入力!J18,種目情報!$A$4:$B$232,2,FALSE),VLOOKUP(①選手情報入力!J18,種目情報!$E$4:$F$81,2,FALSE))))","v":""},{"$f":"IF(E10=\"\",\"\",IF(①選手情報入力!L18>①選手情報入力!K18,①選手情報入力!L18,①選手情報入力!K18))","v":""},{"$f":"IF(E10=\"\",\"\",IF(①選手情報入力!J18=\"\",\"\",0))","v":""},{"$f":"IF(E10=\"\",\"\",IF(①選手情報入力!J18=\"\",\"\",IF(I10=1,VLOOKUP(①選手情報入力!J18,種目情報!$A$4:$C$22,3,FALSE),VLOOKUP(①選手情報入力!J18,種目情報!$E$4:$G$22,3,FALSE))))","v":""},{"$f":"IF(E10=\"\",\"\",IF(①選手情報入力!M18=\"\",\"\",IF(I10=1,VLOOKUP(①選手情報入力!M18,種目情報!$A$3:$B$242,2,FALSE),VLOOKUP(①選手情報入力!M18,種目情報!$E$3:$F$241,2,FALSE))))","v":""},{"$f":"IF(E10=\"\",\"\",IF(①選手情報入力!O18>①選手情報入力!N18,①選手情報入力!O18,①選手情報入力!N18))","v":""},{"$f":"IF(E10=\"\",\"\",IF(①選手情報入力!M18=\"\",\"\",0))","v":""},{"$f":"IF(E10=\"\",\"\",IF(①選手情報入力!M18=\"\",\"\",IF(I10=1,VLOOKUP(①選手情報入力!M18,種目情報!$A$5:$C$22,3,FALSE),VLOOKUP(①選手情報入力!M18,種目情報!$E$5:$G$22,3,FALSE))))","v":""}]
[{"$f":"IF(E11=\"\",\"\",VLOOKUP(①選手情報入力!D19,①陸連データ貼り付け!A:B,2,0))","v":""},{"$f":"IF(E11=\"\",\"\",②団体情報入力!$D$3)","v":""},null,{"$f":"IF(①選手情報入力!B19=\"\",\"\",①選手情報入力!B19)","v":""},{"$f":"IF(①選手情報入力!C19=\"\",\"\",①選手情報入力!C19)","v":""},{"$f":"IF(E11=\"\",\"\",①選手情報入力!E19)","v":""},{"$f":"IF(E11=\"\",\"\",①選手情報入力!F19)","v":""},"",{"$f":"IF(E11=\"\",\"\",IF(①選手情報入力!H19=\"男\",1,2))","v":""},{"$f":"IF(E11=\"\",\"\",IF(①選手情報入力!I19=0,\"\",①選手情報入力!I19))","v":""},null,"","",null,{"$f":"IF(E11=\"\",\"\",IF(①選手情報入力!J19=\"\",\"\",IF(I11=1,VLOOKUP(①選手情報入力!J19,種目情報!$A$4:$B$232,2,FALSE),VLOOKUP(①選手情報入力!J19,種目情報!$E$4:$F$81,2,FALSE))))","v":""},{"$f":"IF(E11=\"\",\"\",IF(①選手情報入力!L19>①選手情報入力!K19,①選手情報入力!L19,①選手情報入力!K19))","v":""},{"$f":"IF(E11=\"\",\"\",IF(①選手情報入力!J19=\"\",\"\",0))","v":""},{"$f":"IF(E11=\"\",\"\",IF(①選手情報入力!J19=\"\",\"\",IF(I11=1,VLOOKUP(①選手情報入力!J19,種目情報!$A$4:$C$22,3,FALSE),VLOOKUP(①選手情報入力!J19,種目情報!$E$4:$G$22,3,FALSE))))","v":""},{"$f":"IF(E11=\"\",\"\",IF(①選手情報入力!M19=\"\",\"\",IF(I11=1,VLOOKUP(①選手情報入力!M19,種目情報!$A$3:$B$242,2,FALSE),VLOOKUP(①選手情報入力!M19,種目情報!$E$3:$F$241,2,FALSE))))","v":""},{"$f":"IF(E11=\"\",\"\",IF(①選手情報入力!O19>①選手情報入力!N19,①選手情報入力!O19,①選手情報入力!N19))","v":""},{"$f":"IF(E11=\"\",\"\",IF(①選手情報入力!M19=\"\",\"\",0))","v":""},{"$f":"IF(E11=\"\",\"\",IF(①選手情報入力!M19=\"\",\"\",IF(I11=1,VLOOKUP(①選手情報入力!M19,種目情報!$A$5:$C$22,3,FALSE),VLOOKUP(①選手情報入力!M19,種目情報!$E$5:$G$22,3,FALSE))))","v":""}]
[{"$f":"IF(E12=\"\",\"\",VLOOKUP(①選手情報入力!D20,①陸連データ貼り付け!A:B,2,0))","v":""},{"$f":"IF(E12=\"\",\"\",②団体情報入力!$D$3)","v":""},null,{"$f":"IF(①選手情報入力!B20=\"\",\"\",①選手情報入力!B20)","v":""},{"$f":"IF(①選手情報入力!C20=\"\",\"\",①選手情報入力!C20)","v":""},{"$f":"IF(E12=\"\",\"\",①選手情報入力!E20)","v":""},{"$f":"IF(E12=\"\",\"\",①選手情報入力!F20)","v":""},"",{"$f":"IF(E12=\"\",\"\",IF(①選手情報入力!H20=\"男\",1,2))","v":""},{"$f":"IF(E12=\"\",\"\",IF(①選手情報入力!I20=0,\"\",①選手情報入力!I20))","v":""},null,"","",null,{"$f":"IF(E12=\"\",\"\",IF(①選手情報入力!J20=\"\",\"\",IF(I12=1,VLOOKUP(①選手情報入力!J20,種目情報!$A$4:$B$232,2,FALSE),VLOOKUP(①選手情報入力!J20,種目情報!$E$4:$F$81,2,FALSE))))","v":""},{"$f":"IF(E12=\"\",\"\",IF(①選手情報入力!L20>①選手情報入力!K20,①選手情報入力!L20,①選手情報入力!K20))","v":""},{"$f":"IF(E12=\"\",\"\",IF(①選手情報入力!J20=\"\",\"\",0))","v":""},{"$f":"IF(E12=\"\",\"\",IF(①選手情報入力!J20=\"\",\"\",IF(I12=1,VLOOKUP(①選手情報入力!J20,種目情報!$A$4:$C$22,3,FALSE),VLOOKUP(①選手情報入力!J20,種目情報!$E$4:$G$22,3,FALSE))))","v":""},{"$f":"IF(E12=\"\",\"\",IF(①選手情報入力!M20=\"\",\"\",IF(I12=1,VLOOKUP(①選手情報入力!M20,種目情報!$A$3:$B$242,2,FALSE),VLOOKUP(①選手情報入力!M20,種目情報!$E$3:$F$241,2,FALSE))))","v":""},{"$f":"IF(E12=\"\",\"\",IF(①選手情報入力!O20>①選手情報入力!N20,①選手情報入力!O20,①選手情報入力!N20))","v":""},{"$f":"IF(E12=\"\",\"\",IF(①選手情報入力!M20=\"\",\"\",0))","v":""},{"$f":"IF(E12=\"\",\"\",IF(①選手情報入力!M20=\"\",\"\",IF(I12=1,VLOOKUP(①選手情報入力!M20,種目情報!$A$5:$C$22,3,FALSE),VLOOKUP(①選手情報入力!M20,種目情報!$E$5:$G$22,3,FALSE))))","v":""}]
[{"$f":"IF(E13=\"\",\"\",VLOOKUP(①選手情報入力!D21,①陸連データ貼り付け!A:B,2,0))","v":""},{"$f":"IF(E13=\"\",\"\",②団体情報入力!$D$3)","v":""},null,{"$f":"IF(①選手情報入力!B21=\"\",\"\",①選手情報入力!B21)","v":""},{"$f":"IF(①選手情報入力!C21=\"\",\"\",①選手情報入力!C21)","v":""},{"$f":"IF(E13=\"\",\"\",①選手情報入力!E21)","v":""},{"$f":"IF(E13=\"\",\"\",①選手情報入力!F21)","v":""},"",{"$f":"IF(E13=\"\",\"\",IF(①選手情報入力!H21=\"男\",1,2))","v":""},{"$f":"IF(E13=\"\",\"\",IF(①選手情報入力!I21=0,\"\",①選手情報入力!I21))","v":""},null,"","",null,{"$f":"IF(E13=\"\",\"\",IF(①選手情報入力!J21=\"\",\"\",IF(I13=1,VLOOKUP(①選手情報入力!J21,種目情報!$A$4:$B$232,2,FALSE),VLOOKUP(①選手情報入力!J21,種目情報!$E$4:$F$81,2,FALSE))))","v":""},{"$f":"IF(E13=\"\",\"\",IF(①選手情報入力!L21>①選手情報入力!K21,①選手情報入力!L21,①選手情報入力!K21))","v":""},{"$f":"IF(E13=\"\",\"\",IF(①選手情報入力!J21=\"\",\"\",0))","v":""},{"$f":"IF(E13=\"\",\"\",IF(①選手情報入力!J21=\"\",\"\",IF(I13=1,VLOOKUP(①選手情報入力!J21,種目情報!$A$4:$C$22,3,FALSE),VLOOKUP(①選手情報入力!J21,種目情報!$E$4:$G$22,3,FALSE))))","v":""},{"$f":"IF(E13=\"\",\"\",IF(①選手情報入力!M21=\"\",\"\",IF(I13=1,VLOOKUP(①選手情報入力!M21,種目情報!$A$3:$B$242,2,FALSE),VLOOKUP(①選手情報入力!M21,種目情報!$E$3:$F$241,2,FALSE))))","v":""},{"$f":"IF(E13=\"\",\"\",IF(①選手情報入力!O21>①選手情報入力!N21,①選手情報入力!O21,①選手情報入力!N21))","v":""},{"$f":"IF(E13=\"\",\"\",IF(①選手情報入力!M21=\"\",\"\",0))","v":""},{"$f":"IF(E13=\"\",\"\",IF(①選手情報入力!M21=\"\",\"\",IF(I13=1,VLOOKUP(①選手情報入力!M21,種目情報!$A$5:$C$22,3,FALSE),VLOOKUP(①選手情報入力!M21,種目情報!$E$5:$G$22,3,FALSE))))","v":""}]
[{"$f":"IF(E14=\"\",\"\",VLOOKUP(①選手情報入力!D22,①陸連データ貼り付け!A:B,2,0))","v":""},{"$f":"IF(E14=\"\",\"\",②団体情報入力!$D$3)","v":""},null,{"$f":"IF(①選手情報入力!B22=\"\",\"\",①選手情報入力!B22)","v":""},{"$f":"IF(①選手情報入力!C22=\"\",\"\",①選手情報入力!C22)","v":""},{"$f":"IF(E14=\"\",\"\",①選手情報入力!E22)","v":""},{"$f":"IF(E14=\"\",\"\",①選手情報入力!F22)","v":""},"",{"$f":"IF(E14=\"\",\"\",IF(①選手情報入力!H22=\"男\",1,2))","v":""},{"$f":"IF(E14=\"\",\"\",IF(①選手情報入力!I22=0,\"\",①選手情報入力!I22))","v":""},null,"","",null,{"$f":"IF(E14=\"\",\"\",IF(①選手情報入力!J22=\"\",\"\",IF(I14=1,VLOOKUP(①選手情報入力!J22,種目情報!$A$4:$B$232,2,FALSE),VLOOKUP(①選手情報入力!J22,種目情報!$E$4:$F$81,2,FALSE))))","v":""},{"$f":"IF(E14=\"\",\"\",IF(①選手情報入力!L22>①選手情報入力!K22,①選手情報入力!L22,①選手情報入力!K22))","v":""},{"$f":"IF(E14=\"\",\"\",IF(①選手情報入力!J22=\"\",\"\",0))","v":""},{"$f":"IF(E14=\"\",\"\",IF(①選手情報入力!J22=\"\",\"\",IF(I14=1,VLOOKUP(①選手情報入力!J22,種目情報!$A$4:$C$22,3,FALSE),VLOOKUP(①選手情報入力!J22,種目情報!$E$4:$G$22,3,FALSE))))","v":""},{"$f":"IF(E14=\"\",\"\",IF(①選手情報入力!M22=\"\",\"\",IF(I14=1,VLOOKUP(①選手情報入力!M22,種目情報!$A$3:$B$242,2,FALSE),VLOOKUP(①選手情報入力!M22,種目情報!$E$3:$F$241,2,FALSE))))","v":""},{"$f":"IF(E14=\"\",\"\",IF(①選手情報入力!O22>①選手情報入力!N22,①選手情報入力!O22,①選手情報入力!N22))","v":""},{"$f":"IF(E14=\"\",\"\",IF(①選手情報入力!M22=\"\",\"\",0))","v":""},{"$f":"IF(E14=\"\",\"\",IF(①選手情報入力!M22=\"\",\"\",IF(I14=1,VLOOKUP(①選手情報入力!M22,種目情報!$A$5:$C$22,3,FALSE),VLOOKUP(①選手情報入力!M22,種目情報!$E$5:$G$22,3,FALSE))))","v":""}]
[{"$f":"IF(E15=\"\",\"\",VLOOKUP(①選手情報入力!D23,①陸連データ貼り付け!A:B,2,0))","v":""},{"$f":"IF(E15=\"\",\"\",②団体情報入力!$D$3)","v":""},null,{"$f":"IF(①選手情報入力!B23=\"\",\"\",①選手情報入力!B23)","v":""},{"$f":"IF(①選手情報入力!C23=\"\",\"\",①選手情報入力!C23)","v":""},{"$f":"IF(E15=\"\",\"\",①選手情報入力!E23)","v":""},{"$f":"IF(E15=\"\",\"\",①選手情報入力!F23)","v":""},"",{"$f":"IF(E15=\"\",\"\",IF(①選手情報入力!H23=\"男\",1,2))","v":""},{"$f":"IF(E15=\"\",\"\",IF(①選手情報入力!I23=0,\"\",①選手情報入力!I23))","v":""},null,"","",null,{"$f":"IF(E15=\"\",\"\",IF(①選手情報入力!J23=\"\",\"\",IF(I15=1,VLOOKUP(①選手情報入力!J23,種目情報!$A$4:$B$232,2,FALSE),VLOOKUP(①選手情報入力!J23,種目情報!$E$4:$F$81,2,FALSE))))","v":""},{"$f":"IF(E15=\"\",\"\",IF(①選手情報入力!L23>①選手情報入力!K23,①選手情報入力!L23,①選手情報入力!K23))","v":""},{"$f":"IF(E15=\"\",\"\",IF(①選手情報入力!J23=\"\",\"\",0))","v":""},{"$f":"IF(E15=\"\",\"\",IF(①選手情報入力!J23=\"\",\"\",IF(I15=1,VLOOKUP(①選手情報入力!J23,種目情報!$A$4:$C$22,3,FALSE),VLOOKUP(①選手情報入力!J23,種目情報!$E$4:$G$22,3,FALSE))))","v":""},{"$f":"IF(E15=\"\",\"\",IF(①選手情報入力!M23=\"\",\"\",IF(I15=1,VLOOKUP(①選手情報入力!M23,種目情報!$A$3:$B$242,2,FALSE),VLOOKUP(①選手情報入力!M23,種目情報!$E$3:$F$241,2,FALSE))))","v":""},{"$f":"IF(E15=\"\",\"\",IF(①選手情報入力!O23>①選手情報入力!N23,①選手情報入力!O23,①選手情報入力!N23))","v":""},{"$f":"IF(E15=\"\",\"\",IF(①選手情報入力!M23=\"\",\"\",0))","v":""},{"$f":"IF(E15=\"\",\"\",IF(①選手情報入力!M23=\"\",\"\",IF(I15=1,VLOOKUP(①選手情報入力!M23,種目情報!$A$5:$C$22,3,FALSE),VLOOKUP(①選手情報入力!M23,種目情報!$E$5:$G$22,3,FALSE))))","v":""}]
[{"$f":"IF(E16=\"\",\"\",VLOOKUP(①選手情報入力!D24,①陸連データ貼り付け!A:B,2,0))","v":""},{"$f":"IF(E16=\"\",\"\",②団体情報入力!$D$3)","v":""},null,{"$f":"IF(①選手情報入力!B24=\"\",\"\",①選手情報入力!B24)","v":""},{"$f":"IF(①選手情報入力!C24=\"\",\"\",①選手情報入力!C24)","v":""},{"$f":"IF(E16=\"\",\"\",①選手情報入力!E24)","v":""},{"$f":"IF(E16=\"\",\"\",①選手情報入力!F24)","v":""},"",{"$f":"IF(E16=\"\",\"\",IF(①選手情報入力!H24=\"男\",1,2))","v":""},{"$f":"IF(E16=\"\",\"\",IF(①選手情報入力!I24=0,\"\",①選手情報入力!I24))","v":""},null,"","",null,{"$f":"IF(E16=\"\",\"\",IF(①選手情報入力!J24=\"\",\"\",IF(I16=1,VLOOKUP(①選手情報入力!J24,種目情報!$A$4:$B$232,2,FALSE),VLOOKUP(①選手情報入力!J24,種目情報!$E$4:$F$81,2,FALSE))))","v":""},{"$f":"IF(E16=\"\",\"\",IF(①選手情報入力!L24>①選手情報入力!K24,①選手情報入力!L24,①選手情報入力!K24))","v":""},{"$f":"IF(E16=\"\",\"\",IF(①選手情報入力!J24=\"\",\"\",0))","v":""},{"$f":"IF(E16=\"\",\"\",IF(①選手情報入力!J24=\"\",\"\",IF(I16=1,VLOOKUP(①選手情報入力!J24,種目情報!$A$4:$C$22,3,FALSE),VLOOKUP(①選手情報入力!J24,種目情報!$E$4:$G$22,3,FALSE))))","v":""},{"$f":"IF(E16=\"\",\"\",IF(①選手情報入力!M24=\"\",\"\",IF(I16=1,VLOOKUP(①選手情報入力!M24,種目情報!$A$3:$B$242,2,FALSE),VLOOKUP(①選手情報入力!M24,種目情報!$E$3:$F$241,2,FALSE))))","v":""},{"$f":"IF(E16=\"\",\"\",IF(①選手情報入力!O24>①選手情報入力!N24,①選手情報入力!O24,①選手情報入力!N24))","v":""},{"$f":"IF(E16=\"\",\"\",IF(①選手情報入力!M24=\"\",\"\",0))","v":""},{"$f":"IF(E16=\"\",\"\",IF(①選手情報入力!M24=\"\",\"\",IF(I16=1,VLOOKUP(①選手情報入力!M24,種目情報!$A$5:$C$22,3,FALSE),VLOOKUP(①選手情報入力!M24,種目情報!$E$5:$G$22,3,FALSE))))","v":""}]
[{"$f":"IF(E17=\"\",\"\",VLOOKUP(①選手情報入力!D25,①陸連データ貼り付け!A:B,2,0))","v":""},{"$f":"IF(E17=\"\",\"\",②団体情報入力!$D$3)","v":""},null,{"$f":"IF(①選手情報入力!B25=\"\",\"\",①選手情報入力!B25)","v":""},{"$f":"IF(①選手情報入力!C25=\"\",\"\",①選手情報入力!C25)","v":""},{"$f":"IF(E17=\"\",\"\",①選手情報入力!E25)","v":""},{"$f":"IF(E17=\"\",\"\",①選手情報入力!F25)","v":""},"",{"$f":"IF(E17=\"\",\"\",IF(①選手情報入力!H25=\"男\",1,2))","v":""},{"$f":"IF(E17=\"\",\"\",IF(①選手情報入力!I25=0,\"\",①選手情報入力!I25))","v":""},null,"","",null,{"$f":"IF(E17=\"\",\"\",IF(①選手情報入力!J25=\"\",\"\",IF(I17=1,VLOOKUP(①選手情報入力!J25,種目情報!$A$4:$B$232,2,FALSE),VLOOKUP(①選手情報入力!J25,種目情報!$E$4:$F$81,2,FALSE))))","v":""},{"$f":"IF(E17=\"\",\"\",IF(①選手情報入力!L25>①選手情報入力!K25,①選手情報入力!L25,①選手情報入力!K25))","v":""},{"$f":"IF(E17=\"\",\"\",IF(①選手情報入力!J25=\"\",\"\",0))","v":""},{"$f":"IF(E17=\"\",\"\",IF(①選手情報入力!J25=\"\",\"\",IF(I17=1,VLOOKUP(①選手情報入力!J25,種目情報!$A$4:$C$22,3,FALSE),VLOOKUP(①選手情報入力!J25,種目情報!$E$4:$G$22,3,FALSE))))","v":""},{"$f":"IF(E17=\"\",\"\",IF(①選手情報入力!M25=\"\",\"\",IF(I17=1,VLOOKUP(①選手情報入力!M25,種目情報!$A$3:$B$242,2,FALSE),VLOOKUP(①選手情報入力!M25,種目情報!$E$3:$F$241,2,FALSE))))","v":""},{"$f":"IF(E17=\"\",\"\",IF(①選手情報入力!O25>①選手情報入力!N25,①選手情報入力!O25,①選手情報入力!N25))","v":""},{"$f":"IF(E17=\"\",\"\",IF(①選手情報入力!M25=\"\",\"\",0))","v":""},{"$f":"IF(E17=\"\",\"\",IF(①選手情報入力!M25=\"\",\"\",IF(I17=1,VLOOKUP(①選手情報入力!M25,種目情報!$A$5:$C$22,3,FALSE),VLOOKUP(①選手情報入力!M25,種目情報!$E$5:$G$22,3,FALSE))))","v":""}]
[{"$f":"IF(E18=\"\",\"\",VLOOKUP(①選手情報入力!D26,①陸連データ貼り付け!A:B,2,0))","v":""},{"$f":"IF(E18=\"\",\"\",②団体情報入力!$D$3)","v":""},null,{"$f":"IF(①選手情報入力!B26=\"\",\"\",①選手情報入力!B26)","v":""},{"$f":"IF(①選手情報入力!C26=\"\",\"\",①選手情報入力!C26)","v":""},{"$f":"IF(E18=\"\",\"\",①選手情報入力!E26)","v":""},{"$f":"IF(E18=\"\",\"\",①選手情報入力!F26)","v":""},"",{"$f":"IF(E18=\"\",\"\",IF(①選手情報入力!H26=\"男\",1,2))","v":""},{"$f":"IF(E18=\"\",\"\",IF(①選手情報入力!I26=0,\"\",①選手情報入力!I26))","v":""},null,"","",null,{"$f":"IF(E18=\"\",\"\",IF(①選手情報入力!J26=\"\",\"\",IF(I18=1,VLOOKUP(①選手情報入力!J26,種目情報!$A$4:$B$232,2,FALSE),VLOOKUP(①選手情報入力!J26,種目情報!$E$4:$F$81,2,FALSE))))","v":""},{"$f":"IF(E18=\"\",\"\",IF(①選手情報入力!L26>①選手情報入力!K26,①選手情報入力!L26,①選手情報入力!K26))","v":""},{"$f":"IF(E18=\"\",\"\",IF(①選手情報入力!J26=\"\",\"\",0))","v":""},{"$f":"IF(E18=\"\",\"\",IF(①選手情報入力!J26=\"\",\"\",IF(I18=1,VLOOKUP(①選手情報入力!J26,種目情報!$A$4:$C$22,3,FALSE),VLOOKUP(①選手情報入力!J26,種目情報!$E$4:$G$22,3,FALSE))))","v":""},{"$f":"IF(E18=\"\",\"\",IF(①選手情報入力!M26=\"\",\"\",IF(I18=1,VLOOKUP(①選手情報入力!M26,種目情報!$A$3:$B$242,2,FALSE),VLOOKUP(①選手情報入力!M26,種目情報!$E$3:$F$241,2,FALSE))))","v":""},{"$f":"IF(E18=\"\",\"\",IF(①選手情報入力!O26>①選手情報入力!N26,①選手情報入力!O26,①選手情報入力!N26))","v":""},{"$f":"IF(E18=\"\",\"\",IF(①選手情報入力!M26=\"\",\"\",0))","v":""},{"$f":"IF(E18=\"\",\"\",IF(①選手情報入力!M26=\"\",\"\",IF(I18=1,VLOOKUP(①選手情報入力!M26,種目情報!$A$5:$C$22,3,FALSE),VLOOKUP(①選手情報入力!M26,種目情報!$E$5:$G$22,3,FALSE))))","v":""}]
[{"$f":"IF(E19=\"\",\"\",VLOOKUP(①選手情報入力!D27,①陸連データ貼り付け!A:B,2,0))","v":""},{"$f":"IF(E19=\"\",\"\",②団体情報入力!$D$3)","v":""},null,{"$f":"IF(①選手情報入力!B27=\"\",\"\",①選手情報入力!B27)","v":""},{"$f":"IF(①選手情報入力!C27=\"\",\"\",①選手情報入力!C27)","v":""},{"$f":"IF(E19=\"\",\"\",①選手情報入力!E27)","v":""},{"$f":"IF(E19=\"\",\"\",①選手情報入力!F27)","v":""},"",{"$f":"IF(E19=\"\",\"\",IF(①選手情報入力!H27=\"男\",1,2))","v":""},{"$f":"IF(E19=\"\",\"\",IF(①選手情報入力!I27=0,\"\",①選手情報入力!I27))","v":""},null,"","",null,{"$f":"IF(E19=\"\",\"\",IF(①選手情報入力!J27=\"\",\"\",IF(I19=1,VLOOKUP(①選手情報入力!J27,種目情報!$A$4:$B$232,2,FALSE),VLOOKUP(①選手情報入力!J27,種目情報!$E$4:$F$81,2,FALSE))))","v":""},{"$f":"IF(E19=\"\",\"\",IF(①選手情報入力!L27>①選手情報入力!K27,①選手情報入力!L27,①選手情報入力!K27))","v":""},{"$f":"IF(E19=\"\",\"\",IF(①選手情報入力!J27=\"\",\"\",0))","v":""},{"$f":"IF(E19=\"\",\"\",IF(①選手情報入力!J27=\"\",\"\",IF(I19=1,VLOOKUP(①選手情報入力!J27,種目情報!$A$4:$C$22,3,FALSE),VLOOKUP(①選手情報入力!J27,種目情報!$E$4:$G$22,3,FALSE))))","v":""},{"$f":"IF(E19=\"\",\"\",IF(①選手情報入力!M27=\"\",\"\",IF(I19=1,VLOOKUP(①選手情報入力!M27,種目情報!$A$3:$B$242,2,FALSE),VLOOKUP(①選手情報入力!M27,種目情報!$E$3:$F$241,2,FALSE))))","v":""},{"$f":"IF(E19=\"\",\"\",IF(①選手情報入力!O27>①選手情報入力!N27,①選手情報入力!O27,①選手情報入力!N27))","v":""},{"$f":"IF(E19=\"\",\"\",IF(①選手情報入力!M27=\"\",\"\",0))","v":""},{"$f":"IF(E19=\"\",\"\",IF(①選手情報入力!M27=\"\",\"\",IF(I19=1,VLOOKUP(①選手情報入力!M27,種目情報!$A$5:$C$22,3,FALSE),VLOOKUP(①選手情報入力!M27,種目情報!$E$5:$G$22,3,FALSE))))","v":""}]
[{"$f":"IF(E20=\"\",\"\",VLOOKUP(①選手情報入力!D28,①陸連データ貼り付け!A:B,2,0))","v":""},{"$f":"IF(E20=\"\",\"\",②団体情報入力!$D$3)","v":""},null,{"$f":"IF(①選手情報入力!B28=\"\",\"\",①選手情報入力!B28)","v":""},{"$f":"IF(①選手情報入力!C28=\"\",\"\",①選手情報入力!C28)","v":""},{"$f":"IF(E20=\"\",\"\",①選手情報入力!E28)","v":""},{"$f":"IF(E20=\"\",\"\",①選手情報入力!F28)","v":""},"",{"$f":"IF(E20=\"\",\"\",IF(①選手情報入力!H28=\"男\",1,2))","v":""},{"$f":"IF(E20=\"\",\"\",IF(①選手情報入力!I28=0,\"\",①選手情報入力!I28))","v":""},null,"","",null,{"$f":"IF(E20=\"\",\"\",IF(①選手情報入力!J28=\"\",\"\",IF(I20=1,VLOOKUP(①選手情報入力!J28,種目情報!$A$4:$B$232,2,FALSE),VLOOKUP(①選手情報入力!J28,種目情報!$E$4:$F$81,2,FALSE))))","v":""},{"$f":"IF(E20=\"\",\"\",IF(①選手情報入力!L28>①選手情報入力!K28,①選手情報入力!L28,①選手情報入力!K28))","v":""},{"$f":"IF(E20=\"\",\"\",IF(①選手情報入力!J28=\"\",\"\",0))","v":""},{"$f":"IF(E20=\"\",\"\",IF(①選手情報入力!J28=\"\",\"\",IF(I20=1,VLOOKUP(①選手情報入力!J28,種目情報!$A$4:$C$22,3,FALSE),VLOOKUP(①選手情報入力!J28,種目情報!$E$4:$G$22,3,FALSE))))","v":""},{"$f":"IF(E20=\"\",\"\",IF(①選手情報入力!M28=\"\",\"\",IF(I20=1,VLOOKUP(①選手情報入力!M28,種目情報!$A$3:$B$242,2,FALSE),VLOOKUP(①選手情報入力!M28,種目情報!$E$3:$F$241,2,FALSE))))","v":""},{"$f":"IF(E20=\"\",\"\",IF(①選手情報入力!O28>①選手情報入力!N28,①選手情報入力!O28,①選手情報入力!N28))","v":""},{"$f":"IF(E20=\"\",\"\",IF(①選手情報入力!M28=\"\",\"\",0))","v":""},{"$f":"IF(E20=\"\",\"\",IF(①選手情報入力!M28=\"\",\"\",IF(I20=1,VLOOKUP(①選手情報入力!M28,種目情報!$A$5:$C$22,3,FALSE),VLOOKUP(①選手情報入力!M28,種目情報!$E$5:$G$22,3,FALSE))))","v":""}]
[{"$f":"IF(E21=\"\",\"\",VLOOKUP(①選手情報入力!D29,①陸連データ貼り付け!A:B,2,0))","v":""},{"$f":"IF(E21=\"\",\"\",②団体情報入力!$D$3)","v":""},null,{"$f":"IF(①選手情報入力!B29=\"\",\"\",①選手情報入力!B29)","v":""},{"$f":"IF(①選手情報入力!C29=\"\",\"\",①選手情報入力!C29)","v":""},{"$f":"IF(E21=\"\",\"\",①選手情報入力!E29)","v":""},{"$f":"IF(E21=\"\",\"\",①選手情報入力!F29)","v":""},"",{"$f":"IF(E21=\"\",\"\",IF(①選手情報入力!H29=\"男\",1,2))","v":""},{"$f":"IF(E21=\"\",\"\",IF(①選手情報入力!I29=0,\"\",①選手情報入力!I29))","v":""},null,"","",null,{"$f":"IF(E21=\"\",\"\",IF(①選手情報入力!J29=\"\",\"\",IF(I21=1,VLOOKUP(①選手情報入力!J29,種目情報!$A$4:$B$232,2,FALSE),VLOOKUP(①選手情報入力!J29,種目情報!$E$4:$F$81,2,FALSE))))","v":""},{"$f":"IF(E21=\"\",\"\",IF(①選手情報入力!L29>①選手情報入力!K29,①選手情報入力!L29,①選手情報入力!K29))","v":""},{"$f":"IF(E21=\"\",\"\",IF(①選手情報入力!J29=\"\",\"\",0))","v":""},{"$f":"IF(E21=\"\",\"\",IF(①選手情報入力!J29=\"\",\"\",IF(I21=1,VLOOKUP(①選手情報入力!J29,種目情報!$A$4:$C$22,3,FALSE),VLOOKUP(①選手情報入力!J29,種目情報!$E$4:$G$22,3,FALSE))))","v":""},{"$f":"IF(E21=\"\",\"\",IF(①選手情報入力!M29=\"\",\"\",IF(I21=1,VLOOKUP(①選手情報入力!M29,種目情報!$A$3:$B$242,2,FALSE),VLOOKUP(①選手情報入力!M29,種目情報!$E$3:$F$241,2,FALSE))))","v":""},{"$f":"IF(E21=\"\",\"\",IF(①選手情報入力!O29>①選手情報入力!N29,①選手情報入力!O29,①選手情報入力!N29))","v":""},{"$f":"IF(E21=\"\",\"\",IF(①選手情報入力!M29=\"\",\"\",0))","v":""},{"$f":"IF(E21=\"\",\"\",IF(①選手情報入力!M29=\"\",\"\",IF(I21=1,VLOOKUP(①選手情報入力!M29,種目情報!$A$5:$C$22,3,FALSE),VLOOKUP(①選手情報入力!M29,種目情報!$E$5:$G$22,3,FALSE))))","v":""}]
[{"$f":"IF(E22=\"\",\"\",VLOOKUP(①選手情報入力!D30,①陸連データ貼り付け!A:B,2,0))","v":""},{"$f":"IF(E22=\"\",\"\",②団体情報入力!$D$3)","v":""},null,{"$f":"IF(①選手情報入力!B30=\"\",\"\",①選手情報入力!B30)","v":""},{"$f":"IF(①選手情報入力!C30=\"\",\"\",①選手情報入力!C30)","v":""},{"$f":"IF(E22=\"\",\"\",①選手情報入力!E30)","v":""},{"$f":"IF(E22=\"\",\"\",①選手情報入力!F30)","v":""},"",{"$f":"IF(E22=\"\",\"\",IF(①選手情報入力!H30=\"男\",1,2))","v":""},{"$f":"IF(E22=\"\",\"\",IF(①選手情報入力!I30=0,\"\",①選手情報入力!I30))","v":""},null,"","",null,{"$f":"IF(E22=\"\",\"\",IF(①選手情報入力!J30=\"\",\"\",IF(I22=1,VLOOKUP(①選手情報入力!J30,種目情報!$A$4:$B$232,2,FALSE),VLOOKUP(①選手情報入力!J30,種目情報!$E$4:$F$81,2,FALSE))))","v":""},{"$f":"IF(E22=\"\",\"\",IF(①選手情報入力!L30>①選手情報入力!K30,①選手情報入力!L30,①選手情報入力!K30))","v":""},{"$f":"IF(E22=\"\",\"\",IF(①選手情報入力!J30=\"\",\"\",0))","v":""},{"$f":"IF(E22=\"\",\"\",IF(①選手情報入力!J30=\"\",\"\",IF(I22=1,VLOOKUP(①選手情報入力!J30,種目情報!$A$4:$C$22,3,FALSE),VLOOKUP(①選手情報入力!J30,種目情報!$E$4:$G$22,3,FALSE))))","v":""},{"$f":"IF(E22=\"\",\"\",IF(①選手情報入力!M30=\"\",\"\",IF(I22=1,VLOOKUP(①選手情報入力!M30,種目情報!$A$3:$B$242,2,FALSE),VLOOKUP(①選手情報入力!M30,種目情報!$E$3:$F$241,2,FALSE))))","v":""},{"$f":"IF(E22=\"\",\"\",IF(①選手情報入力!O30>①選手情報入力!N30,①選手情報入力!O30,①選手情報入力!N30))","v":""},{"$f":"IF(E22=\"\",\"\",IF(①選手情報入力!M30=\"\",\"\",0))","v":""},{"$f":"IF(E22=\"\",\"\",IF(①選手情報入力!M30=\"\",\"\",IF(I22=1,VLOOKUP(①選手情報入力!M30,種目情報!$A$5:$C$22,3,FALSE),VLOOKUP(①選手情報入力!M30,種目情報!$E$5:$G$22,3,FALSE))))","v":""}]
[{"$f":"IF(E23=\"\",\"\",VLOOKUP(①選手情報入力!D31,①陸連データ貼り付け!A:B,2,0))","v":""},{"$f":"IF(E23=\"\",\"\",②団体情報入力!$D$3)","v":""},null,{"$f":"IF(①選手情報入力!B31=\"\",\"\",①選手情報入力!B31)","v":""},{"$f":"IF(①選手情報入力!C31=\"\",\"\",①選手情報入力!C31)","v":""},{"$f":"IF(E23=\"\",\"\",①選手情報入力!E31)","v":""},{"$f":"IF(E23=\"\",\"\",①選手情報入力!F31)","v":""},"",{"$f":"IF(E23=\"\",\"\",IF(①選手情報入力!H31=\"男\",1,2))","v":""},{"$f":"IF(E23=\"\",\"\",IF(①選手情報入力!I31=0,\"\",①選手情報入力!I31))","v":""},null,"","",null,{"$f":"IF(E23=\"\",\"\",IF(①選手情報入力!J31=\"\",\"\",IF(I23=1,VLOOKUP(①選手情報入力!J31,種目情報!$A$4:$B$232,2,FALSE),VLOOKUP(①選手情報入力!J31,種目情報!$E$4:$F$81,2,FALSE))))","v":""},{"$f":"IF(E23=\"\",\"\",IF(①選手情報入力!L31>①選手情報入力!K31,①選手情報入力!L31,①選手情報入力!K31))","v":""},{"$f":"IF(E23=\"\",\"\",IF(①選手情報入力!J31=\"\",\"\",0))","v":""},{"$f":"IF(E23=\"\",\"\",IF(①選手情報入力!J31=\"\",\"\",IF(I23=1,VLOOKUP(①選手情報入力!J31,種目情報!$A$4:$C$22,3,FALSE),VLOOKUP(①選手情報入力!J31,種目情報!$E$4:$G$22,3,FALSE))))","v":""},{"$f":"IF(E23=\"\",\"\",IF(①選手情報入力!M31=\"\",\"\",IF(I23=1,VLOOKUP(①選手情報入力!M31,種目情報!$A$3:$B$242,2,FALSE),VLOOKUP(①選手情報入力!M31,種目情報!$E$3:$F$241,2,FALSE))))","v":""},{"$f":"IF(E23=\"\",\"\",IF(①選手情報入力!O31>①選手情報入力!N31,①選手情報入力!O31,①選手情報入力!N31))","v":""},{"$f":"IF(E23=\"\",\"\",IF(①選手情報入力!M31=\"\",\"\",0))","v":""},{"$f":"IF(E23=\"\",\"\",IF(①選手情報入力!M31=\"\",\"\",IF(I23=1,VLOOKUP(①選手情報入力!M31,種目情報!$A$5:$C$22,3,FALSE),VLOOKUP(①選手情報入力!M31,種目情報!$E$5:$G$22,3,FALSE))))","v":""}]
[{"$f":"IF(E24=\"\",\"\",VLOOKUP(①選手情報入力!D32,①陸連データ貼り付け!A:B,2,0))","v":""},{"$f":"IF(E24=\"\",\"\",②団体情報入力!$D$3)","v":""},null,{"$f":"IF(①選手情報入力!B32=\"\",\"\",①選手情報入力!B32)","v":""},{"$f":"IF(①選手情報入力!C32=\"\",\"\",①選手情報入力!C32)","v":""},{"$f":"IF(E24=\"\",\"\",①選手情報入力!E32)","v":""},{"$f":"IF(E24=\"\",\"\",①選手情報入力!F32)","v":""},"",{"$f":"IF(E24=\"\",\"\",IF(①選手情報入力!H32=\"男\",1,2))","v":""},{"$f":"IF(E24=\"\",\"\",IF(①選手情報入力!I32=0,\"\",①選手情報入力!I32))","v":""},null,"","",null,{"$f":"IF(E24=\"\",\"\",IF(①選手情報入力!J32=\"\",\"\",IF(I24=1,VLOOKUP(①選手情報入力!J32,種目情報!$A$4:$B$232,2,FALSE),VLOOKUP(①選手情報入力!J32,種目情報!$E$4:$F$81,2,FALSE))))","v":""},{"$f":"IF(E24=\"\",\"\",IF(①選手情報入力!L32>①選手情報入力!K32,①選手情報入力!L32,①選手情報入力!K32))","v":""},{"$f":"IF(E24=\"\",\"\",IF(①選手情報入力!J32=\"\",\"\",0))","v":""},{"$f":"IF(E24=\"\",\"\",IF(①選手情報入力!J32=\"\",\"\",IF(I24=1,VLOOKUP(①選手情報入力!J32,種目情報!$A$4:$C$22,3,FALSE),VLOOKUP(①選手情報入力!J32,種目情報!$E$4:$G$22,3,FALSE))))","v":""},{"$f":"IF(E24=\"\",\"\",IF(①選手情報入力!M32=\"\",\"\",IF(I24=1,VLOOKUP(①選手情報入力!M32,種目情報!$A$3:$B$242,2,FALSE),VLOOKUP(①選手情報入力!M32,種目情報!$E$3:$F$241,2,FALSE))))","v":""},{"$f":"IF(E24=\"\",\"\",IF(①選手情報入力!O32>①選手情報入力!N32,①選手情報入力!O32,①選手情報入力!N32))","v":""},{"$f":"IF(E24=\"\",\"\",IF(①選手情報入力!M32=\"\",\"\",0))","v":""},{"$f":"IF(E24=\"\",\"\",IF(①選手情報入力!M32=\"\",\"\",IF(I24=1,VLOOKUP(①選手情報入力!M32,種目情報!$A$5:$C$22,3,FALSE),VLOOKUP(①選手情報入力!M32,種目情報!$E$5:$G$22,3,FALSE))))","v":""}]
[{"$f":"IF(E25=\"\",\"\",VLOOKUP(①選手情報入力!D33,①陸連データ貼り付け!A:B,2,0))","v":""},{"$f":"IF(E25=\"\",\"\",②団体情報入力!$D$3)","v":""},null,{"$f":"IF(①選手情報入力!B33=\"\",\"\",①選手情報入力!B33)","v":""},{"$f":"IF(①選手情報入力!C33=\"\",\"\",①選手情報入力!C33)","v":""},{"$f":"IF(E25=\"\",\"\",①選手情報入力!E33)","v":""},{"$f":"IF(E25=\"\",\"\",①選手情報入力!F33)","v":""},"",{"$f":"IF(E25=\"\",\"\",IF(①選手情報入力!H33=\"男\",1,2))","v":""},{"$f":"IF(E25=\"\",\"\",IF(①選手情報入力!I33=0,\"\",①選手情報入力!I33))","v":""},null,"","",null,{"$f":"IF(E25=\"\",\"\",IF(①選手情報入力!J33=\"\",\"\",IF(I25=1,VLOOKUP(①選手情報入力!J33,種目情報!$A$4:$B$232,2,FALSE),VLOOKUP(①選手情報入力!J33,種目情報!$E$4:$F$81,2,FALSE))))","v":""},{"$f":"IF(E25=\"\",\"\",IF(①選手情報入力!L33>①選手情報入力!K33,①選手情報入力!L33,①選手情報入力!K33))","v":""},{"$f":"IF(E25=\"\",\"\",IF(①選手情報入力!J33=\"\",\"\",0))","v":""},{"$f":"IF(E25=\"\",\"\",IF(①選手情報入力!J33=\"\",\"\",IF(I25=1,VLOOKUP(①選手情報入力!J33,種目情報!$A$4:$C$22,3,FALSE),VLOOKUP(①選手情報入力!J33,種目情報!$E$4:$G$22,3,FALSE))))","v":""},{"$f":"IF(E25=\"\",\"\",IF(①選手情報入力!M33=\"\",\"\",IF(I25=1,VLOOKUP(①選手情報入力!M33,種目情報!$A$3:$B$242,2,FALSE),VLOOKUP(①選手情報入力!M33,種目情報!$E$3:$F$241,2,FALSE))))","v":""},{"$f":"IF(E25=\"\",\"\",IF(①選手情報入力!O33>①選手情報入力!N33,①選手情報入力!O33,①選手情報入力!N33))","v":""},{"$f":"IF(E25=\"\",\"\",IF(①選手情報入力!M33=\"\",\"\",0))","v":""},{"$f":"IF(E25=\"\",\"\",IF(①選手情報入力!M33=\"\",\"\",IF(I25=1,VLOOKUP(①選手情報入力!M33,種目情報!$A$5:$C$22,3,FALSE),VLOOKUP(①選手情報入力!M33,種目情報!$E$5:$G$22,3,FALSE))))","v":""}]
[{"$f":"IF(E26=\"\",\"\",VLOOKUP(①選手情報入力!D34,①陸連データ貼り付け!A:B,2,0))","v":""},{"$f":"IF(E26=\"\",\"\",②団体情報入力!$D$3)","v":""},null,{"$f":"IF(①選手情報入力!B34=\"\",\"\",①選手情報入力!B34)","v":""},{"$f":"IF(①選手情報入力!C34=\"\",\"\",①選手情報入力!C34)","v":""},{"$f":"IF(E26=\"\",\"\",①選手情報入力!E34)","v":""},{"$f":"IF(E26=\"\",\"\",①選手情報入力!F34)","v":""},"",{"$f":"IF(E26=\"\",\"\",IF(①選手情報入力!H34=\"男\",1,2))","v":""},{"$f":"IF(E26=\"\",\"\",IF(①選手情報入力!I34=0,\"\",①選手情報入力!I34))","v":""},null,"","",null,{"$f":"IF(E26=\"\",\"\",IF(①選手情報入力!J34=\"\",\"\",IF(I26=1,VLOOKUP(①選手情報入力!J34,種目情報!$A$4:$B$232,2,FALSE),VLOOKUP(①選手情報入力!J34,種目情報!$E$4:$F$81,2,FALSE))))","v":""},{"$f":"IF(E26=\"\",\"\",IF(①選手情報入力!L34>①選手情報入力!K34,①選手情報入力!L34,①選手情報入力!K34))","v":""},{"$f":"IF(E26=\"\",\"\",IF(①選手情報入力!J34=\"\",\"\",0))","v":""},{"$f":"IF(E26=\"\",\"\",IF(①選手情報入力!J34=\"\",\"\",IF(I26=1,VLOOKUP(①選手情報入力!J34,種目情報!$A$4:$C$22,3,FALSE),VLOOKUP(①選手情報入力!J34,種目情報!$E$4:$G$22,3,FALSE))))","v":""},{"$f":"IF(E26=\"\",\"\",IF(①選手情報入力!M34=\"\",\"\",IF(I26=1,VLOOKUP(①選手情報入力!M34,種目情報!$A$3:$B$242,2,FALSE),VLOOKUP(①選手情報入力!M34,種目情報!$E$3:$F$241,2,FALSE))))","v":""},{"$f":"IF(E26=\"\",\"\",IF(①選手情報入力!O34>①選手情報入力!N34,①選手情報入力!O34,①選手情報入力!N34))","v":""},{"$f":"IF(E26=\"\",\"\",IF(①選手情報入力!M34=\"\",\"\",0))","v":""},{"$f":"IF(E26=\"\",\"\",IF(①選手情報入力!M34=\"\",\"\",IF(I26=1,VLOOKUP(①選手情報入力!M34,種目情報!$A$5:$C$22,3,FALSE),VLOOKUP(①選手情報入力!M34,種目情報!$E$5:$G$22,3,FALSE))))","v":""}]
[{"$f":"IF(E27=\"\",\"\",VLOOKUP(①選手情報入力!D35,①陸連データ貼り付け!A:B,2,0))","v":""},{"$f":"IF(E27=\"\",\"\",②団体情報入力!$D$3)","v":""},null,{"$f":"IF(①選手情報入力!B35=\"\",\"\",①選手情報入力!B35)","v":""},{"$f":"IF(①選手情報入力!C35=\"\",\"\",①選手情報入力!C35)","v":""},{"$f":"IF(E27=\"\",\"\",①選手情報入力!E35)","v":""},{"$f":"IF(E27=\"\",\"\",①選手情報入力!F35)","v":""},"",{"$f":"IF(E27=\"\",\"\",IF(①選手情報入力!H35=\"男\",1,2))","v":""},{"$f":"IF(E27=\"\",\"\",IF(①選手情報入力!I35=0,\"\",①選手情報入力!I35))","v":""},null,"","",null,{"$f":"IF(E27=\"\",\"\",IF(①選手情報入力!J35=\"\",\"\",IF(I27=1,VLOOKUP(①選手情報入力!J35,種目情報!$A$4:$B$232,2,FALSE),VLOOKUP(①選手情報入力!J35,種目情報!$E$4:$F$81,2,FALSE))))","v":""},{"$f":"IF(E27=\"\",\"\",IF(①選手情報入力!L35>①選手情報入力!K35,①選手情報入力!L35,①選手情報入力!K35))","v":""},{"$f":"IF(E27=\"\",\"\",IF(①選手情報入力!J35=\"\",\"\",0))","v":""},{"$f":"IF(E27=\"\",\"\",IF(①選手情報入力!J35=\"\",\"\",IF(I27=1,VLOOKUP(①選手情報入力!J35,種目情報!$A$4:$C$22,3,FALSE),VLOOKUP(①選手情報入力!J35,種目情報!$E$4:$G$22,3,FALSE))))","v":""},{"$f":"IF(E27=\"\",\"\",IF(①選手情報入力!M35=\"\",\"\",IF(I27=1,VLOOKUP(①選手情報入力!M35,種目情報!$A$3:$B$242,2,FALSE),VLOOKUP(①選手情報入力!M35,種目情報!$E$3:$F$241,2,FALSE))))","v":""},{"$f":"IF(E27=\"\",\"\",IF(①選手情報入力!O35>①選手情報入力!N35,①選手情報入力!O35,①選手情報入力!N35))","v":""},{"$f":"IF(E27=\"\",\"\",IF(①選手情報入力!M35=\"\",\"\",0))","v":""},{"$f":"IF(E27=\"\",\"\",IF(①選手情報入力!M35=\"\",\"\",IF(I27=1,VLOOKUP(①選手情報入力!M35,種目情報!$A$5:$C$22,3,FALSE),VLOOKUP(①選手情報入力!M35,種目情報!$E$5:$G$22,3,FALSE))))","v":""}]
[{"$f":"IF(E28=\"\",\"\",VLOOKUP(①選手情報入力!D36,①陸連データ貼り付け!A:B,2,0))","v":""},{"$f":"IF(E28=\"\",\"\",②団体情報入力!$D$3)","v":""},null,{"$f":"IF(①選手情報入力!B36=\"\",\"\",①選手情報入力!B36)","v":""},{"$f":"IF(①選手情報入力!C36=\"\",\"\",①選手情報入力!C36)","v":""},{"$f":"IF(E28=\"\",\"\",①選手情報入力!E36)","v":""},{"$f":"IF(E28=\"\",\"\",①選手情報入力!F36)","v":""},"",{"$f":"IF(E28=\"\",\"\",IF(①選手情報入力!H36=\"男\",1,2))","v":""},{"$f":"IF(E28=\"\",\"\",IF(①選手情報入力!I36=0,\"\",①選手情報入力!I36))","v":""},null,"","",null,{"$f":"IF(E28=\"\",\"\",IF(①選手情報入力!J36=\"\",\"\",IF(I28=1,VLOOKUP(①選手情報入力!J36,種目情報!$A$4:$B$232,2,FALSE),VLOOKUP(①選手情報入力!J36,種目情報!$E$4:$F$81,2,FALSE))))","v":""},{"$f":"IF(E28=\"\",\"\",IF(①選手情報入力!L36>①選手情報入力!K36,①選手情報入力!L36,①選手情報入力!K36))","v":""},{"$f":"IF(E28=\"\",\"\",IF(①選手情報入力!J36=\"\",\"\",0))","v":""},{"$f":"IF(E28=\"\",\"\",IF(①選手情報入力!J36=\"\",\"\",IF(I28=1,VLOOKUP(①選手情報入力!J36,種目情報!$A$4:$C$22,3,FALSE),VLOOKUP(①選手情報入力!J36,種目情報!$E$4:$G$22,3,FALSE))))","v":""},{"$f":"IF(E28=\"\",\"\",IF(①選手情報入力!M36=\"\",\"\",IF(I28=1,VLOOKUP(①選手情報入力!M36,種目情報!$A$3:$B$242,2,FALSE),VLOOKUP(①選手情報入力!M36,種目情報!$E$3:$F$241,2,FALSE))))","v":""},{"$f":"IF(E28=\"\",\"\",IF(①選手情報入力!O36>①選手情報入力!N36,①選手情報入力!O36,①選手情報入力!N36))","v":""},{"$f":"IF(E28=\"\",\"\",IF(①選手情報入力!M36=\"\",\"\",0))","v":""},{"$f":"IF(E28=\"\",\"\",IF(①選手情報入力!M36=\"\",\"\",IF(I28=1,VLOOKUP(①選手情報入力!M36,種目情報!$A$5:$C$22,3,FALSE),VLOOKUP(①選手情報入力!M36,種目情報!$E$5:$G$22,3,FALSE))))","v":""}]
[{"$f":"IF(E29=\"\",\"\",VLOOKUP(①選手情報入力!D37,①陸連データ貼り付け!A:B,2,0))","v":""},{"$f":"IF(E29=\"\",\"\",②団体情報入力!$D$3)","v":""},null,{"$f":"IF(①選手情報入力!B37=\"\",\"\",①選手情報入力!B37)","v":""},{"$f":"IF(①選手情報入力!C37=\"\",\"\",①選手情報入力!C37)","v":""},{"$f":"IF(E29=\"\",\"\",①選手情報入力!E37)","v":""},{"$f":"IF(E29=\"\",\"\",①選手情報入力!F37)","v":""},"",{"$f":"IF(E29=\"\",\"\",IF(①選手情報入力!H37=\"男\",1,2))","v":""},{"$f":"IF(E29=\"\",\"\",IF(①選手情報入力!I37=0,\"\",①選手情報入力!I37))","v":""},null,"","",null,{"$f":"IF(E29=\"\",\"\",IF(①選手情報入力!J37=\"\",\"\",IF(I29=1,VLOOKUP(①選手情報入力!J37,種目情報!$A$4:$B$232,2,FALSE),VLOOKUP(①選手情報入力!J37,種目情報!$E$4:$F$81,2,FALSE))))","v":""},{"$f":"IF(E29=\"\",\"\",IF(①選手情報入力!L37>①選手情報入力!K37,①選手情報入力!L37,①選手情報入力!K37))","v":""},{"$f":"IF(E29=\"\",\"\",IF(①選手情報入力!J37=\"\",\"\",0))","v":""},{"$f":"IF(E29=\"\",\"\",IF(①選手情報入力!J37=\"\",\"\",IF(I29=1,VLOOKUP(①選手情報入力!J37,種目情報!$A$4:$C$22,3,FALSE),VLOOKUP(①選手情報入力!J37,種目情報!$E$4:$G$22,3,FALSE))))","v":""},{"$f":"IF(E29=\"\",\"\",IF(①選手情報入力!M37=\"\",\"\",IF(I29=1,VLOOKUP(①選手情報入力!M37,種目情報!$A$3:$B$242,2,FALSE),VLOOKUP(①選手情報入力!M37,種目情報!$E$3:$F$241,2,FALSE))))","v":""},{"$f":"IF(E29=\"\",\"\",IF(①選手情報入力!O37>①選手情報入力!N37,①選手情報入力!O37,①選手情報入力!N37))","v":""},{"$f":"IF(E29=\"\",\"\",IF(①選手情報入力!M37=\"\",\"\",0))","v":""},{"$f":"IF(E29=\"\",\"\",IF(①選手情報入力!M37=\"\",\"\",IF(I29=1,VLOOKUP(①選手情報入力!M37,種目情報!$A$5:$C$22,3,FALSE),VLOOKUP(①選手情報入力!M37,種目情報!$E$5:$G$22,3,FALSE))))","v":""}]
[{"$f":"IF(E30=\"\",\"\",VLOOKUP(①選手情報入力!D38,①陸連データ貼り付け!A:B,2,0))","v":""},{"$f":"IF(E30=\"\",\"\",②団体情報入力!$D$3)","v":""},null,{"$f":"IF(①選手情報入力!B38=\"\",\"\",①選手情報入力!B38)","v":""},{"$f":"IF(①選手情報入力!C38=\"\",\"\",①選手情報入力!C38)","v":""},{"$f":"IF(E30=\"\",\"\",①選手情報入力!E38)","v":""},{"$f":"IF(E30=\"\",\"\",①選手情報入力!F38)","v":""},"",{"$f":"IF(E30=\"\",\"\",IF(①選手情報入力!H38=\"男\",1,2))","v":""},{"$f":"IF(E30=\"\",\"\",IF(①選手情報入力!I38=0,\"\",①選手情報入力!I38))","v":""},null,"","",null,{"$f":"IF(E30=\"\",\"\",IF(①選手情報入力!J38=\"\",\"\",IF(I30=1,VLOOKUP(①選手情報入力!J38,種目情報!$A$4:$B$232,2,FALSE),VLOOKUP(①選手情報入力!J38,種目情報!$E$4:$F$81,2,FALSE))))","v":""},{"$f":"IF(E30=\"\",\"\",IF(①選手情報入力!L38>①選手情報入力!K38,①選手情報入力!L38,①選手情報入力!K38))","v":""},{"$f":"IF(E30=\"\",\"\",IF(①選手情報入力!J38=\"\",\"\",0))","v":""},{"$f":"IF(E30=\"\",\"\",IF(①選手情報入力!J38=\"\",\"\",IF(I30=1,VLOOKUP(①選手情報入力!J38,種目情報!$A$4:$C$22,3,FALSE),VLOOKUP(①選手情報入力!J38,種目情報!$E$4:$G$22,3,FALSE))))","v":""},{"$f":"IF(E30=\"\",\"\",IF(①選手情報入力!M38=\"\",\"\",IF(I30=1,VLOOKUP(①選手情報入力!M38,種目情報!$A$3:$B$242,2,FALSE),VLOOKUP(①選手情報入力!M38,種目情報!$E$3:$F$241,2,FALSE))))","v":""},{"$f":"IF(E30=\"\",\"\",IF(①選手情報入力!O38>①選手情報入力!N38,①選手情報入力!O38,①選手情報入力!N38))","v":""},{"$f":"IF(E30=\"\",\"\",IF(①選手情報入力!M38=\"\",\"\",0))","v":""},{"$f":"IF(E30=\"\",\"\",IF(①選手情報入力!M38=\"\",\"\",IF(I30=1,VLOOKUP(①選手情報入力!M38,種目情報!$A$5:$C$22,3,FALSE),VLOOKUP(①選手情報入力!M38,種目情報!$E$5:$G$22,3,FALSE))))","v":""}]
[{"$f":"IF(E31=\"\",\"\",VLOOKUP(①選手情報入力!D39,①陸連データ貼り付け!A:B,2,0))","v":""},{"$f":"IF(E31=\"\",\"\",②団体情報入力!$D$3)","v":""},null,{"$f":"IF(①選手情報入力!B39=\"\",\"\",①選手情報入力!B39)","v":""},{"$f":"IF(①選手情報入力!C39=\"\",\"\",①選手情報入力!C39)","v":""},{"$f":"IF(E31=\"\",\"\",①選手情報入力!E39)","v":""},{"$f":"IF(E31=\"\",\"\",①選手情報入力!F39)","v":""},"",{"$f":"IF(E31=\"\",\"\",IF(①選手情報入力!H39=\"男\",1,2))","v":""},{"$f":"IF(E31=\"\",\"\",IF(①選手情報入力!I39=0,\"\",①選手情報入力!I39))","v":""},null,"","",null,{"$f":"IF(E31=\"\",\"\",IF(①選手情報入力!J39=\"\",\"\",IF(I31=1,VLOOKUP(①選手情報入力!J39,種目情報!$A$4:$B$232,2,FALSE),VLOOKUP(①選手情報入力!J39,種目情報!$E$4:$F$81,2,FALSE))))","v":""},{"$f":"IF(E31=\"\",\"\",IF(①選手情報入力!L39>①選手情報入力!K39,①選手情報入力!L39,①選手情報入力!K39))","v":""},{"$f":"IF(E31=\"\",\"\",IF(①選手情報入力!J39=\"\",\"\",0))","v":""},{"$f":"IF(E31=\"\",\"\",IF(①選手情報入力!J39=\"\",\"\",IF(I31=1,VLOOKUP(①選手情報入力!J39,種目情報!$A$4:$C$22,3,FALSE),VLOOKUP(①選手情報入力!J39,種目情報!$E$4:$G$22,3,FALSE))))","v":""},{"$f":"IF(E31=\"\",\"\",IF(①選手情報入力!M39=\"\",\"\",IF(I31=1,VLOOKUP(①選手情報入力!M39,種目情報!$A$3:$B$242,2,FALSE),VLOOKUP(①選手情報入力!M39,種目情報!$E$3:$F$241,2,FALSE))))","v":""},{"$f":"IF(E31=\"\",\"\",IF(①選手情報入力!O39>①選手情報入力!N39,①選手情報入力!O39,①選手情報入力!N39))","v":""},{"$f":"IF(E31=\"\",\"\",IF(①選手情報入力!M39=\"\",\"\",0))","v":""},{"$f":"IF(E31=\"\",\"\",IF(①選手情報入力!M39=\"\",\"\",IF(I31=1,VLOOKUP(①選手情報入力!M39,種目情報!$A$5:$C$22,3,FALSE),VLOOKUP(①選手情報入力!M39,種目情報!$E$5:$G$22,3,FALSE))))","v":""}]
[{"$f":"IF(E32=\"\",\"\",VLOOKUP(①選手情報入力!D40,①陸連データ貼り付け!A:B,2,0))","v":""},{"$f":"IF(E32=\"\",\"\",②団体情報入力!$D$3)","v":""},null,{"$f":"IF(①選手情報入力!B40=\"\",\"\",①選手情報入力!B40)","v":""},{"$f":"IF(①選手情報入力!C40=\"\",\"\",①選手情報入力!C40)","v":""},{"$f":"IF(E32=\"\",\"\",①選手情報入力!E40)","v":""},{"$f":"IF(E32=\"\",\"\",①選手情報入力!F40)","v":""},"",{"$f":"IF(E32=\"\",\"\",IF(①選手情報入力!H40=\"男\",1,2))","v":""},{"$f":"IF(E32=\"\",\"\",IF(①選手情報入力!I40=0,\"\",①選手情報入力!I40))","v":""},null,"","",null,{"$f":"IF(E32=\"\",\"\",IF(①選手情報入力!J40=\"\",\"\",IF(I32=1,VLOOKUP(①選手情報入力!J40,種目情報!$A$4:$B$232,2,FALSE),VLOOKUP(①選手情報入力!J40,種目情報!$E$4:$F$81,2,FALSE))))","v":""},{"$f":"IF(E32=\"\",\"\",IF(①選手情報入力!L40>①選手情報入力!K40,①選手情報入力!L40,①選手情報入力!K40))","v":""},{"$f":"IF(E32=\"\",\"\",IF(①選手情報入力!J40=\"\",\"\",0))","v":""},{"$f":"IF(E32=\"\",\"\",IF(①選手情報入力!J40=\"\",\"\",IF(I32=1,VLOOKUP(①選手情報入力!J40,種目情報!$A$4:$C$22,3,FALSE),VLOOKUP(①選手情報入力!J40,種目情報!$E$4:$G$22,3,FALSE))))","v":""},{"$f":"IF(E32=\"\",\"\",IF(①選手情報入力!M40=\"\",\"\",IF(I32=1,VLOOKUP(①選手情報入力!M40,種目情報!$A$3:$B$242,2,FALSE),VLOOKUP(①選手情報入力!M40,種目情報!$E$3:$F$241,2,FALSE))))","v":""},{"$f":"IF(E32=\"\",\"\",IF(①選手情報入力!O40>①選手情報入力!N40,①選手情報入力!O40,①選手情報入力!N40))","v":""},{"$f":"IF(E32=\"\",\"\",IF(①選手情報入力!M40=\"\",\"\",0))","v":""},{"$f":"IF(E32=\"\",\"\",IF(①選手情報入力!M40=\"\",\"\",IF(I32=1,VLOOKUP(①選手情報入力!M40,種目情報!$A$5:$C$22,3,FALSE),VLOOKUP(①選手情報入力!M40,種目情報!$E$5:$G$22,3,FALSE))))","v":""}]
[{"$f":"IF(E33=\"\",\"\",VLOOKUP(①選手情報入力!D41,①陸連データ貼り付け!A:B,2,0))","v":""},{"$f":"IF(E33=\"\",\"\",②団体情報入力!$D$3)","v":""},null,{"$f":"IF(①選手情報入力!B41=\"\",\"\",①選手情報入力!B41)","v":""},{"$f":"IF(①選手情報入力!C41=\"\",\"\",①選手情報入力!C41)","v":""},{"$f":"IF(E33=\"\",\"\",①選手情報入力!E41)","v":""},{"$f":"IF(E33=\"\",\"\",①選手情報入力!F41)","v":""},"",{"$f":"IF(E33=\"\",\"\",IF(①選手情報入力!H41=\"男\",1,2))","v":""},{"$f":"IF(E33=\"\",\"\",IF(①選手情報入力!I41=0,\"\",①選手情報入力!I41))","v":""},null,"","",null,{"$f":"IF(E33=\"\",\"\",IF(①選手情報入力!J41=\"\",\"\",IF(I33=1,VLOOKUP(①選手情報入力!J41,種目情報!$A$4:$B$232,2,FALSE),VLOOKUP(①選手情報入力!J41,種目情報!$E$4:$F$81,2,FALSE))))","v":""},{"$f":"IF(E33=\"\",\"\",IF(①選手情報入力!L41>①選手情報入力!K41,①選手情報入力!L41,①選手情報入力!K41))","v":""},{"$f":"IF(E33=\"\",\"\",IF(①選手情報入力!J41=\"\",\"\",0))","v":""},{"$f":"IF(E33=\"\",\"\",IF(①選手情報入力!J41=\"\",\"\",IF(I33=1,VLOOKUP(①選手情報入力!J41,種目情報!$A$4:$C$22,3,FALSE),VLOOKUP(①選手情報入力!J41,種目情報!$E$4:$G$22,3,FALSE))))","v":""},{"$f":"IF(E33=\"\",\"\",IF(①選手情報入力!M41=\"\",\"\",IF(I33=1,VLOOKUP(①選手情報入力!M41,種目情報!$A$3:$B$242,2,FALSE),VLOOKUP(①選手情報入力!M41,種目情報!$E$3:$F$241,2,FALSE))))","v":""},{"$f":"IF(E33=\"\",\"\",IF(①選手情報入力!O41>①選手情報入力!N41,①選手情報入力!O41,①選手情報入力!N41))","v":""},{"$f":"IF(E33=\"\",\"\",IF(①選手情報入力!M41=\"\",\"\",0))","v":""},{"$f":"IF(E33=\"\",\"\",IF(①選手情報入力!M41=\"\",\"\",IF(I33=1,VLOOKUP(①選手情報入力!M41,種目情報!$A$5:$C$22,3,FALSE),VLOOKUP(①選手情報入力!M41,種目情報!$E$5:$G$22,3,FALSE))))","v":""}]
[{"$f":"IF(E34=\"\",\"\",VLOOKUP(①選手情報入力!D42,①陸連データ貼り付け!A:B,2,0))","v":""},{"$f":"IF(E34=\"\",\"\",②団体情報入力!$D$3)","v":""},null,{"$f":"IF(①選手情報入力!B42=\"\",\"\",①選手情報入力!B42)","v":""},{"$f":"IF(①選手情報入力!C42=\"\",\"\",①選手情報入力!C42)","v":""},{"$f":"IF(E34=\"\",\"\",①選手情報入力!E42)","v":""},{"$f":"IF(E34=\"\",\"\",①選手情報入力!F42)","v":""},"",{"$f":"IF(E34=\"\",\"\",IF(①選手情報入力!H42=\"男\",1,2))","v":""},{"$f":"IF(E34=\"\",\"\",IF(①選手情報入力!I42=0,\"\",①選手情報入力!I42))","v":""},null,"","",null,{"$f":"IF(E34=\"\",\"\",IF(①選手情報入力!J42=\"\",\"\",IF(I34=1,VLOOKUP(①選手情報入力!J42,種目情報!$A$4:$B$232,2,FALSE),VLOOKUP(①選手情報入力!J42,種目情報!$E$4:$F$81,2,FALSE))))","v":""},{"$f":"IF(E34=\"\",\"\",IF(①選手情報入力!L42>①選手情報入力!K42,①選手情報入力!L42,①選手情報入力!K42))","v":""},{"$f":"IF(E34=\"\",\"\",IF(①選手情報入力!J42=\"\",\"\",0))","v":""},{"$f":"IF(E34=\"\",\"\",IF(①選手情報入力!J42=\"\",\"\",IF(I34=1,VLOOKUP(①選手情報入力!J42,種目情報!$A$4:$C$22,3,FALSE),VLOOKUP(①選手情報入力!J42,種目情報!$E$4:$G$22,3,FALSE))))","v":""},{"$f":"IF(E34=\"\",\"\",IF(①選手情報入力!M42=\"\",\"\",IF(I34=1,VLOOKUP(①選手情報入力!M42,種目情報!$A$3:$B$242,2,FALSE),VLOOKUP(①選手情報入力!M42,種目情報!$E$3:$F$241,2,FALSE))))","v":""},{"$f":"IF(E34=\"\",\"\",IF(①選手情報入力!O42>①選手情報入力!N42,①選手情報入力!O42,①選手情報入力!N42))","v":""},{"$f":"IF(E34=\"\",\"\",IF(①選手情報入力!M42=\"\",\"\",0))","v":""},{"$f":"IF(E34=\"\",\"\",IF(①選手情報入力!M42=\"\",\"\",IF(I34=1,VLOOKUP(①選手情報入力!M42,種目情報!$A$5:$C$22,3,FALSE),VLOOKUP(①選手情報入力!M42,種目情報!$E$5:$G$22,3,FALSE))))","v":""}]
[{"$f":"IF(E35=\"\",\"\",VLOOKUP(①選手情報入力!D43,①陸連データ貼り付け!A:B,2,0))","v":""},{"$f":"IF(E35=\"\",\"\",②団体情報入力!$D$3)","v":""},null,{"$f":"IF(①選手情報入力!B43=\"\",\"\",①選手情報入力!B43)","v":""},{"$f":"IF(①選手情報入力!C43=\"\",\"\",①選手情報入力!C43)","v":""},{"$f":"IF(E35=\"\",\"\",①選手情報入力!E43)","v":""},{"$f":"IF(E35=\"\",\"\",①選手情報入力!F43)","v":""},"",{"$f":"IF(E35=\"\",\"\",IF(①選手情報入力!H43=\"男\",1,2))","v":""},{"$f":"IF(E35=\"\",\"\",IF(①選手情報入力!I43=0,\"\",①選手情報入力!I43))","v":""},null,"","",null,{"$f":"IF(E35=\"\",\"\",IF(①選手情報入力!J43=\"\",\"\",IF(I35=1,VLOOKUP(①選手情報入力!J43,種目情報!$A$4:$B$232,2,FALSE),VLOOKUP(①選手情報入力!J43,種目情報!$E$4:$F$81,2,FALSE))))","v":""},{"$f":"IF(E35=\"\",\"\",IF(①選手情報入力!L43>①選手情報入力!K43,①選手情報入力!L43,①選手情報入力!K43))","v":""},{"$f":"IF(E35=\"\",\"\",IF(①選手情報入力!J43=\"\",\"\",0))","v":""},{"$f":"IF(E35=\"\",\"\",IF(①選手情報入力!J43=\"\",\"\",IF(I35=1,VLOOKUP(①選手情報入力!J43,種目情報!$A$4:$C$22,3,FALSE),VLOOKUP(①選手情報入力!J43,種目情報!$E$4:$G$22,3,FALSE))))","v":""},{"$f":"IF(E35=\"\",\"\",IF(①選手情報入力!M43=\"\",\"\",IF(I35=1,VLOOKUP(①選手情報入力!M43,種目情報!$A$3:$B$242,2,FALSE),VLOOKUP(①選手情報入力!M43,種目情報!$E$3:$F$241,2,FALSE))))","v":""},{"$f":"IF(E35=\"\",\"\",IF(①選手情報入力!O43>①選手情報入力!N43,①選手情報入力!O43,①選手情報入力!N43))","v":""},{"$f":"IF(E35=\"\",\"\",IF(①選手情報入力!M43=\"\",\"\",0))","v":""},{"$f":"IF(E35=\"\",\"\",IF(①選手情報入力!M43=\"\",\"\",IF(I35=1,VLOOKUP(①選手情報入力!M43,種目情報!$A$5:$C$22,3,FALSE),VLOOKUP(①選手情報入力!M43,種目情報!$E$5:$G$22,3,FALSE))))","v":""}]
[{"$f":"IF(E36=\"\",\"\",VLOOKUP(①選手情報入力!D44,①陸連データ貼り付け!A:B,2,0))","v":""},{"$f":"IF(E36=\"\",\"\",②団体情報入力!$D$3)","v":""},null,{"$f":"IF(①選手情報入力!B44=\"\",\"\",①選手情報入力!B44)","v":""},{"$f":"IF(①選手情報入力!C44=\"\",\"\",①選手情報入力!C44)","v":""},{"$f":"IF(E36=\"\",\"\",①選手情報入力!E44)","v":""},{"$f":"IF(E36=\"\",\"\",①選手情報入力!F44)","v":""},"",{"$f":"IF(E36=\"\",\"\",IF(①選手情報入力!H44=\"男\",1,2))","v":""},{"$f":"IF(E36=\"\",\"\",IF(①選手情報入力!I44=0,\"\",①選手情報入力!I44))","v":""},null,"","",null,{"$f":"IF(E36=\"\",\"\",IF(①選手情報入力!J44=\"\",\"\",IF(I36=1,VLOOKUP(①選手情報入力!J44,種目情報!$A$4:$B$232,2,FALSE),VLOOKUP(①選手情報入力!J44,種目情報!$E$4:$F$81,2,FALSE))))","v":""},{"$f":"IF(E36=\"\",\"\",IF(①選手情報入力!L44>①選手情報入力!K44,①選手情報入力!L44,①選手情報入力!K44))","v":""},{"$f":"IF(E36=\"\",\"\",IF(①選手情報入力!J44=\"\",\"\",0))","v":""},{"$f":"IF(E36=\"\",\"\",IF(①選手情報入力!J44=\"\",\"\",IF(I36=1,VLOOKUP(①選手情報入力!J44,種目情報!$A$4:$C$22,3,FALSE),VLOOKUP(①選手情報入力!J44,種目情報!$E$4:$G$22,3,FALSE))))","v":""},{"$f":"IF(E36=\"\",\"\",IF(①選手情報入力!M44=\"\",\"\",IF(I36=1,VLOOKUP(①選手情報入力!M44,種目情報!$A$3:$B$242,2,FALSE),VLOOKUP(①選手情報入力!M44,種目情報!$E$3:$F$241,2,FALSE))))","v":""},{"$f":"IF(E36=\"\",\"\",IF(①選手情報入力!O44>①選手情報入力!N44,①選手情報入力!O44,①選手情報入力!N44))","v":""},{"$f":"IF(E36=\"\",\"\",IF(①選手情報入力!M44=\"\",\"\",0))","v":""},{"$f":"IF(E36=\"\",\"\",IF(①選手情報入力!M44=\"\",\"\",IF(I36=1,VLOOKUP(①選手情報入力!M44,種目情報!$A$5:$C$22,3,FALSE),VLOOKUP(①選手情報入力!M44,種目情報!$E$5:$G$22,3,FALSE))))","v":""}]
[{"$f":"IF(E37=\"\",\"\",VLOOKUP(①選手情報入力!D45,①陸連データ貼り付け!A:B,2,0))","v":""},{"$f":"IF(E37=\"\",\"\",②団体情報入力!$D$3)","v":""},null,{"$f":"IF(①選手情報入力!B45=\"\",\"\",①選手情報入力!B45)","v":""},{"$f":"IF(①選手情報入力!C45=\"\",\"\",①選手情報入力!C45)","v":""},{"$f":"IF(E37=\"\",\"\",①選手情報入力!E45)","v":""},{"$f":"IF(E37=\"\",\"\",①選手情報入力!F45)","v":""},"",{"$f":"IF(E37=\"\",\"\",IF(①選手情報入力!H45=\"男\",1,2))","v":""},{"$f":"IF(E37=\"\",\"\",IF(①選手情報入力!I45=0,\"\",①選手情報入力!I45))","v":""},null,"","",null,{"$f":"IF(E37=\"\",\"\",IF(①選手情報入力!J45=\"\",\"\",IF(I37=1,VLOOKUP(①選手情報入力!J45,種目情報!$A$4:$B$232,2,FALSE),VLOOKUP(①選手情報入力!J45,種目情報!$E$4:$F$81,2,FALSE))))","v":""},{"$f":"IF(E37=\"\",\"\",IF(①選手情報入力!L45>①選手情報入力!K45,①選手情報入力!L45,①選手情報入力!K45))","v":""},{"$f":"IF(E37=\"\",\"\",IF(①選手情報入力!J45=\"\",\"\",0))","v":""},{"$f":"IF(E37=\"\",\"\",IF(①選手情報入力!J45=\"\",\"\",IF(I37=1,VLOOKUP(①選手情報入力!J45,種目情報!$A$4:$C$22,3,FALSE),VLOOKUP(①選手情報入力!J45,種目情報!$E$4:$G$22,3,FALSE))))","v":""},{"$f":"IF(E37=\"\",\"\",IF(①選手情報入力!M45=\"\",\"\",IF(I37=1,VLOOKUP(①選手情報入力!M45,種目情報!$A$3:$B$242,2,FALSE),VLOOKUP(①選手情報入力!M45,種目情報!$E$3:$F$241,2,FALSE))))","v":""},{"$f":"IF(E37=\"\",\"\",IF(①選手情報入力!O45>①選手情報入力!N45,①選手情報入力!O45,①選手情報入力!N45))","v":""},{"$f":"IF(E37=\"\",\"\",IF(①選手情報入力!M45=\"\",\"\",0))","v":""},{"$f":"IF(E37=\"\",\"\",IF(①選手情報入力!M45=\"\",\"\",IF(I37=1,VLOOKUP(①選手情報入力!M45,種目情報!$A$5:$C$22,3,FALSE),VLOOKUP(①選手情報入力!M45,種目情報!$E$5:$G$22,3,FALSE))))","v":""}]
[{"$f":"IF(E38=\"\",\"\",VLOOKUP(①選手情報入力!D46,①陸連データ貼り付け!A:B,2,0))","v":""},{"$f":"IF(E38=\"\",\"\",②団体情報入力!$D$3)","v":""},null,{"$f":"IF(①選手情報入力!B46=\"\",\"\",①選手情報入力!B46)","v":""},{"$f":"IF(①選手情報入力!C46=\"\",\"\",①選手情報入力!C46)","v":""},{"$f":"IF(E38=\"\",\"\",①選手情報入力!E46)","v":""},{"$f":"IF(E38=\"\",\"\",①選手情報入力!F46)","v":""},"",{"$f":"IF(E38=\"\",\"\",IF(①選手情報入力!H46=\"男\",1,2))","v":""},{"$f":"IF(E38=\"\",\"\",IF(①選手情報入力!I46=0,\"\",①選手情報入力!I46))","v":""},null,"","",null,{"$f":"IF(E38=\"\",\"\",IF(①選手情報入力!J46=\"\",\"\",IF(I38=1,VLOOKUP(①選手情報入力!J46,種目情報!$A$4:$B$232,2,FALSE),VLOOKUP(①選手情報入力!J46,種目情報!$E$4:$F$81,2,FALSE))))","v":""},{"$f":"IF(E38=\"\",\"\",IF(①選手情報入力!L46>①選手情報入力!K46,①選手情報入力!L46,①選手情報入力!K46))","v":""},{"$f":"IF(E38=\"\",\"\",IF(①選手情報入力!J46=\"\",\"\",0))","v":""},{"$f":"IF(E38=\"\",\"\",IF(①選手情報入力!J46=\"\",\"\",IF(I38=1,VLOOKUP(①選手情報入力!J46,種目情報!$A$4:$C$22,3,FALSE),VLOOKUP(①選手情報入力!J46,種目情報!$E$4:$G$22,3,FALSE))))","v":""},{"$f":"IF(E38=\"\",\"\",IF(①選手情報入力!M46=\"\",\"\",IF(I38=1,VLOOKUP(①選手情報入力!M46,種目情報!$A$3:$B$242,2,FALSE),VLOOKUP(①選手情報入力!M46,種目情報!$E$3:$F$241,2,FALSE))))","v":""},{"$f":"IF(E38=\"\",\"\",IF(①選手情報入力!O46>①選手情報入力!N46,①選手情報入力!O46,①選手情報入力!N46))","v":""},{"$f":"IF(E38=\"\",\"\",IF(①選手情報入力!M46=\"\",\"\",0))","v":""},{"$f":"IF(E38=\"\",\"\",IF(①選手情報入力!M46=\"\",\"\",IF(I38=1,VLOOKUP(①選手情報入力!M46,種目情報!$A$5:$C$22,3,FALSE),VLOOKUP(①選手情報入力!M46,種目情報!$E$5:$G$22,3,FALSE))))","v":""}]
[{"$f":"IF(E39=\"\",\"\",VLOOKUP(①選手情報入力!D47,①陸連データ貼り付け!A:B,2,0))","v":""},{"$f":"IF(E39=\"\",\"\",②団体情報入力!$D$3)","v":""},null,{"$f":"IF(①選手情報入力!B47=\"\",\"\",①選手情報入力!B47)","v":""},{"$f":"IF(①選手情報入力!C47=\"\",\"\",①選手情報入力!C47)","v":""},{"$f":"IF(E39=\"\",\"\",①選手情報入力!E47)","v":""},{"$f":"IF(E39=\"\",\"\",①選手情報入力!F47)","v":""},"",{"$f":"IF(E39=\"\",\"\",IF(①選手情報入力!H47=\"男\",1,2))","v":""},{"$f":"IF(E39=\"\",\"\",IF(①選手情報入力!I47=0,\"\",①選手情報入力!I47))","v":""},null,"","",null,{"$f":"IF(E39=\"\",\"\",IF(①選手情報入力!J47=\"\",\"\",IF(I39=1,VLOOKUP(①選手情報入力!J47,種目情報!$A$4:$B$232,2,FALSE),VLOOKUP(①選手情報入力!J47,種目情報!$E$4:$F$81,2,FALSE))))","v":""},{"$f":"IF(E39=\"\",\"\",IF(①選手情報入力!L47>①選手情報入力!K47,①選手情報入力!L47,①選手情報入力!K47))","v":""},{"$f":"IF(E39=\"\",\"\",IF(①選手情報入力!J47=\"\",\"\",0))","v":""},{"$f":"IF(E39=\"\",\"\",IF(①選手情報入力!J47=\"\",\"\",IF(I39=1,VLOOKUP(①選手情報入力!J47,種目情報!$A$4:$C$22,3,FALSE),VLOOKUP(①選手情報入力!J47,種目情報!$E$4:$G$22,3,FALSE))))","v":""},{"$f":"IF(E39=\"\",\"\",IF(①選手情報入力!M47=\"\",\"\",IF(I39=1,VLOOKUP(①選手情報入力!M47,種目情報!$A$3:$B$242,2,FALSE),VLOOKUP(①選手情報入力!M47,種目情報!$E$3:$F$241,2,FALSE))))","v":""},{"$f":"IF(E39=\"\",\"\",IF(①選手情報入力!O47>①選手情報入力!N47,①選手情報入力!O47,①選手情報入力!N47))","v":""},{"$f":"IF(E39=\"\",\"\",IF(①選手情報入力!M47=\"\",\"\",0))","v":""},{"$f":"IF(E39=\"\",\"\",IF(①選手情報入力!M47=\"\",\"\",IF(I39=1,VLOOKUP(①選手情報入力!M47,種目情報!$A$5:$C$22,3,FALSE),VLOOKUP(①選手情報入力!M47,種目情報!$E$5:$G$22,3,FALSE))))","v":""}]
[{"$f":"IF(E40=\"\",\"\",VLOOKUP(①選手情報入力!D48,①陸連データ貼り付け!A:B,2,0))","v":""},{"$f":"IF(E40=\"\",\"\",②団体情報入力!$D$3)","v":""},null,{"$f":"IF(①選手情報入力!B48=\"\",\"\",①選手情報入力!B48)","v":""},{"$f":"IF(①選手情報入力!C48=\"\",\"\",①選手情報入力!C48)","v":""},{"$f":"IF(E40=\"\",\"\",①選手情報入力!E48)","v":""},{"$f":"IF(E40=\"\",\"\",①選手情報入力!F48)","v":""},"",{"$f":"IF(E40=\"\",\"\",IF(①選手情報入力!H48=\"男\",1,2))","v":""},{"$f":"IF(E40=\"\",\"\",IF(①選手情報入力!I48=0,\"\",①選手情報入力!I48))","v":""},null,"","",null,{"$f":"IF(E40=\"\",\"\",IF(①選手情報入力!J48=\"\",\"\",IF(I40=1,VLOOKUP(①選手情報入力!J48,種目情報!$A$4:$B$232,2,FALSE),VLOOKUP(①選手情報入力!J48,種目情報!$E$4:$F$81,2,FALSE))))","v":""},{"$f":"IF(E40=\"\",\"\",IF(①選手情報入力!L48>①選手情報入力!K48,①選手情報入力!L48,①選手情報入力!K48))","v":""},{"$f":"IF(E40=\"\",\"\",IF(①選手情報入力!J48=\"\",\"\",0))","v":""},{"$f":"IF(E40=\"\",\"\",IF(①選手情報入力!J48=\"\",\"\",IF(I40=1,VLOOKUP(①選手情報入力!J48,種目情報!$A$4:$C$22,3,FALSE),VLOOKUP(①選手情報入力!J48,種目情報!$E$4:$G$22,3,FALSE))))","v":""},{"$f":"IF(E40=\"\",\"\",IF(①選手情報入力!M48=\"\",\"\",IF(I40=1,VLOOKUP(①選手情報入力!M48,種目情報!$A$3:$B$242,2,FALSE),VLOOKUP(①選手情報入力!M48,種目情報!$E$3:$F$241,2,FALSE))))","v":""},{"$f":"IF(E40=\"\",\"\",IF(①選手情報入力!O48>①選手情報入力!N48,①選手情報入力!O48,①選手情報入力!N48))","v":""},{"$f":"IF(E40=\"\",\"\",IF(①選手情報入力!M48=\"\",\"\",0))","v":""},{"$f":"IF(E40=\"\",\"\",IF(①選手情報入力!M48=\"\",\"\",IF(I40=1,VLOOKUP(①選手情報入力!M48,種目情報!$A$5:$C$22,3,FALSE),VLOOKUP(①選手情報入力!M48,種目情報!$E$5:$G$22,3,FALSE))))","v":""}]
[{"$f":"IF(E41=\"\",\"\",VLOOKUP(①選手情報入力!D49,①陸連データ貼り付け!A:B,2,0))","v":""},{"$f":"IF(E41=\"\",\"\",②団体情報入力!$D$3)","v":""},null,{"$f":"IF(①選手情報入力!B49=\"\",\"\",①選手情報入力!B49)","v":""},{"$f":"IF(①選手情報入力!C49=\"\",\"\",①選手情報入力!C49)","v":""},{"$f":"IF(E41=\"\",\"\",①選手情報入力!E49)","v":""},{"$f":"IF(E41=\"\",\"\",①選手情報入力!F49)","v":""},"",{"$f":"IF(E41=\"\",\"\",IF(①選手情報入力!H49=\"男\",1,2))","v":""},{"$f":"IF(E41=\"\",\"\",IF(①選手情報入力!I49=0,\"\",①選手情報入力!I49))","v":""},null,"","",null,{"$f":"IF(E41=\"\",\"\",IF(①選手情報入力!J49=\"\",\"\",IF(I41=1,VLOOKUP(①選手情報入力!J49,種目情報!$A$4:$B$232,2,FALSE),VLOOKUP(①選手情報入力!J49,種目情報!$E$4:$F$81,2,FALSE))))","v":""},{"$f":"IF(E41=\"\",\"\",IF(①選手情報入力!L49>①選手情報入力!K49,①選手情報入力!L49,①選手情報入力!K49))","v":""},{"$f":"IF(E41=\"\",\"\",IF(①選手情報入力!J49=\"\",\"\",0))","v":""},{"$f":"IF(E41=\"\",\"\",IF(①選手情報入力!J49=\"\",\"\",IF(I41=1,VLOOKUP(①選手情報入力!J49,種目情報!$A$4:$C$22,3,FALSE),VLOOKUP(①選手情報入力!J49,種目情報!$E$4:$G$22,3,FALSE))))","v":""},{"$f":"IF(E41=\"\",\"\",IF(①選手情報入力!M49=\"\",\"\",IF(I41=1,VLOOKUP(①選手情報入力!M49,種目情報!$A$3:$B$242,2,FALSE),VLOOKUP(①選手情報入力!M49,種目情報!$E$3:$F$241,2,FALSE))))","v":""},{"$f":"IF(E41=\"\",\"\",IF(①選手情報入力!O49>①選手情報入力!N49,①選手情報入力!O49,①選手情報入力!N49))","v":""},{"$f":"IF(E41=\"\",\"\",IF(①選手情報入力!M49=\"\",\"\",0))","v":""},{"$f":"IF(E41=\"\",\"\",IF(①選手情報入力!M49=\"\",\"\",IF(I41=1,VLOOKUP(①選手情報入力!M49,種目情報!$A$5:$C$22,3,FALSE),VLOOKUP(①選手情報入力!M49,種目情報!$E$5:$G$22,3,FALSE))))","v":""}]